{"text_format":"1","workbook":"xlsx","n_sheets":18,"sheets":["注意","説明","メニュー","大会申込","前年度登録","名簿","Ｒカー二バル","クラブ対抗","選手権","全国ｸﾛｶﾝ予選","所属コード","タスキリレー","振込票貼付用紙1","振込票貼付用紙","ｵｰﾀﾞｰ用紙","1","男子種目コード","女子種目コード"],"not_rendered":{"charts":0,"images":4,"macros":1,"external_links":0,"defined_names":22,"comments":2,"pivot_tables":0},"unopened":[],"bounds":{"document_bytes":16777216,"sheet_cells":100000,"rows_first":2000,"rows_last":500,"rows_between":2000,"halvings":0,"cell_chars":16384,"cell_head_chars":4096},"cells_cut":0,"cells_raw":0,"read":"whole","date_system":"1900"}

{"sheet":"注意","index":0,"n_rows":69,"n_cols":1,"rows_kept":69,"cut":false,"hidden":false,"merged":[]}
["マクロが無効になっています。"]
["最新バージョンのエクセル(2007）使用の場合は、シートの上部にセキュリティの警告が出ますので"]
["右側のオプションをクリックし、「このコンテンツを有効にする」にチェックを入れて下さい。"]
["それ以前のエクセルは下記に従って下さい。"]
["入力を行うには，マクロを有効にする必要があります。(2003以前のOFFICE)"]
["マクロを有効にしてファイルを開いてください。"]
["エクセル2002以前のバージョンでは動作しません。エクセル2002以降のパソコンで作業して下さい"]
["マクロを有効にするには，"]
["１）上部メニューを「ツール(T)→マクロ(M)→セキュリティ(S)」の順に開きます。"]
[]
[]
[]
[]
[]
[]
[]
[]
[]
[]
[]
[]
[]
[]
[]
[]
[]
[]
[]
[]
[]
[]
[]
[]
[]
[]
["２）「セキュリティレベル」を「中」に設定してください。"]
[]
[]
[]
[]
[]
[]
[]
[]
[]
[]
[]
[]
[]
[]
[]
[]
[]
[]
[]
["３）EXCELをいったん終了（ファイルを保存しない）し，再度ファイルを開きます。"]
["４）マクロを有効にするかどうか聞いてきます。ここで「マクロを有効にする」を選択します。"]
[]
[]
[]
[]
[]
[]
[]
[]
[]
[]
[]
["何らかの原因でマクロが停止した場合は，いったんファイルを保存し，再度開き直してください。"]

{"sheet":"説明","index":1,"n_rows":69,"n_cols":6,"rows_kept":69,"cut":false,"hidden":false,"merged":[]}
["小学生大会申込概要"]
[]
["すべての大会をメール申込とする。"]
[null,null,"エクセル２００２以前のバージョンでは正常に作動しない"]
["注意事項",null,"①振込証明（振込票の写し）を様式⑨に貼付の上の郵送のこと。、"]
[null,null,"　 期日までの振込みがない場合は出場を認めない。"]
[null,null,"②申込後の選手変更・種目変更は一切受付けないので、よく確認の上申し込むこと。"]
[null,null,"③振込人の名称は所属名とし、個人名使用しないこと。"]
[null,null,"④極端に早い振込みも間違いのもとになるので、注意のこと。"]
[null,null,"⑤リレーカーニバルは前年の登録NOとするので、新部員がいる場合はNOを空欄で申し込むこと。"]
[null,null,"　 NOは通知しないので当日マジックと布を用意すること。"]
[]
[null,null,"⑥振込先","　　百五銀行　生桑(ｲｸﾜ)支店　普通預金　口座番号　４４０２６６　口座名　一般財団法人三重陸上競技協会"]
[]
[null,null,"競技時間等は大会1週間前にホームページに掲載する。"]
[null,null,"大会参加費は、一覧表上に記載されるので、間違わずに振込むこと。"]
[]
["入力順序"]
[]
[null,"初期入力で白枠内を入力願います。"]
[null,"NOを全部エントリーしていただきます。（空白は空白で構いません。出場しない選手も申し込む）"]
[null,"出場する選手のみ、種目を選んでいただき、記録を記入していただくだけです。"]
[]
["順序①","入力方法"]
[null,1,"選手入力のボタンを押して下さい。（Noのわからない時は空白で）"]
[]
[null,null,null,null,null,"空き番号は空きのままで構いません。"]
[null,null,null,null,null,"氏名は全て全角"]
[null,null,null,null,null,"ﾌﾘｶﾞﾅの姓と名のスペースは不要。"]
[null,null,null,null,null,"所属はセレクトで選んで下さい。"]
[]
[null,null,null,null,null,"新部員はNOのみを空欄にしておいて下さい"]
[]
[]
[null,null,null,null,null,"やめた部員のあとに新部員を記入しないで下さい"]
[null,null,null,null,null,"（年度末10傑集計に支障がでます）"]
[]
[null,"個人の公認記録を入力しておくと、大会申込みは非常に楽です。"]
[]
[null,"入力が終わればメニューへ戻り、上書きボタンを押して下さい。"]
[]
["順序②","大会申込ボタンを押すと大会申込画面が出ますので、、申込む大会名ボタンを押して下さい。"]
[null,"ここでは、選手の追加入力はできません。追加の場合は選手入力へ戻って下さい。"]
[]
[null,"記録がわかっていれば、必ず入力して下さい。記録がないとシードの対象となりません。"]
[null,"リレーの欄にも記録は記入願います。"]
[]
[]
["順序③","参加する選手の種目、記録の入力が終われば、上部にある　　　　　　　　　　　　　　　　　　　　　　　　　を押して下さい"]
[]
[]
["順序④","添付ファイルがこのエクセルファイルと同じ場所に保存されます。"]
[]
["順序⑤","新しく作成されたファイルをメールに添付してお送り下さい。"]
[]
[null,"このファイル全部を送ることはやめて下さい。"]
[]
["申込み送付時の注意点"]
[null,1,"宛先","mousikomi★mierk.jp"]
[]
[]
[null,null,"ご質問は下記メールアドレスまでお願いいたします。"]
[null,null,null,"info★mierk.jp"]
[]
["　　　　　　　　　　　　　　　メール上記アドレスの★を＠に変えてお送り下さい"]
[]
["注意事項",null,"①夏の県大会地区予選にて配布するNOが今年度の登録NOとなります。"]
[null,null,"　 次年度のリレーカーニバルまで使用しますので紛失しないように。"]
[null,null,"　 紛失の場合は、各自作成して下さい。新しいNOは配布いたしません。"]

{"sheet":"メニュー","index":2,"n_rows":6,"n_cols":8,"rows_kept":6,"cut":false,"hidden":false,"merged":[[3,2,3,6],[22,1,22,8],[5,4,5,5],[5,7,5,8]]}
[]
[]
[]
[]
[]
[null,null,null,null,"選手入力(ﾘﾚｰｶｰﾆﾊﾞﾙ)",null,null,"選手入力(新ﾅﾝﾊﾞｰ)"]

{"sheet":"大会申込","index":3,"n_rows":16,"n_cols":7,"rows_kept":16,"cut":false,"hidden":false,"merged":[[3,1,3,7]]}
[]
[]
[]
[]
[]
[]
[null,null,null,null,null,null,"県大会は地区よりの一括申込"]
[]
[]
[]
[]
[]
[]
[]
[]
[null,null,null,"インターネットに接続できれば申込できます"]

{"sheet":"前年度登録","index":4,"n_rows":320,"n_cols":63,"rows_kept":320,"cut":false,"hidden":false,"merged":[[0,1,0,4],[1,1,1,4],[2,10,2,12]]}
["所属名",null,null,null,null,"所属ｺｰﾄﾞ",{"$f":"IF(B1=\"\",\"\",VLOOKUP(B1,$A$200:$F$320,3,0))","v":""}]
["代表者",null,null,null,null,"連絡先"]
["通しＮＯ","登録","所属",null,"登録ＮＯ","登録の","名前","ﾌﾘｶﾞﾅ","学年","性別","生年月日",null,null,"所属","学校番号","所属地",null,null,null,null,"性別",null,"公認記録記載欄・全ての申し込みに反映されます。"]
["★","日時","コード","地区",3333,"種類","三重　太郎","ﾐｴﾀﾛｳ",3,"男・女","生年","月","日","三重",250129,"三重",null,null,null,null,null,null,60,100,1000,800,"80H","走高跳","走幅跳","ボール投","6年100","5･6年800","5･6年80H","5･6年走幅跳","5･6年ボール投","5年100","5･6年走高跳","4年60","3年60","6年1000","6年走幅跳","5･6年800","5年走幅跳","1年60","2年60","6年800","5年800","4年100",null,"TRIM","数","空","名","姓","名"]
[1,null,null,null,null,null,null,null,null,null,null,null,null,{"$f":"IF(B1=\"\",\"\",B1)","v":""},{"$f":"IF(N5=\"\",\"\",VLOOKUP(N5,所属コード!$A$2:$F$187,2,FALSE))","v":""},{"$f":"G1","v":""},"男",null,null,null,{"$f":"IF(J5=\"\",\"\",IF(J5=\"男\",1,2))","v":""},{"$f":"ASC(H5)","v":""},null,null,null,null,null,null,null,null,{"$f":"X5","v":0},{"$f":"Y5","v":0},{"$f":"AA5","v":0},{"$f":"AC5","v":0},{"$f":"AD5","v":0},{"$f":"X5","v":0},{"$f":"AB5","v":0},{"$f":"W5","v":0},{"$f":"W5","v":0},{"$f":"Y5","v":0},{"$f":"AC5","v":0},{"$f":"Y5","v":0},{"$f":"AC5","v":0},{"$f":"W5","v":0},{"$f":"W5","v":0},{"$f":"Z5","v":0},{"$f":"Z5","v":0},{"$f":"X5","v":0},null,{"$f":"TRIM(G5)","v":""},{"$f":"IF(AX5=\"\",\"\",LEN(AX5))","v":""},{"$f":"IF(AX5=\"\",\"\",FIND(\"　\",AX5,1))","v":""},{"$f":"IF(AX5=\"\",\"\",AY5-AZ5)","v":""},{"$f":"IF(AX5=\"\",\"\",LEFT(AX5,AZ5-1))","v":""},{"$f":"IF(AX5=\"\",\"\",RIGHT(AX5,BA5))","v":""},{"$f":"IF(AX5=\"\",\"\",IF(AY5=4,CONCATENATE(BB5,\"　\",\"　\",BC5),IF(AY5>5,CONCATENATE(BB5,BC5),AX5)))","v":""},null,null,null,null,{"$f":"IF(L5=1,\"01\",IF(L5=2,\"02\",IF(L5=3,\"03\",IF(L5=4,\"04\",IF(L5=5,\"05\",IF(L5=6,\"06\",IF(L5=7,\"07\",IF(L5=8,\"08\",IF(L5=9,\"09\",L5)))))))))","v":0},{"$f":"IF(M5=1,\"01\",IF(M5=2,\"02\",IF(M5=3,\"03\",IF(M5=4,\"04\",IF(M5=5,\"05\",IF(M5=6,\"06\",IF(M5=7,\"07\",IF(M5=8,\"08\",IF(M5=9,\"09\",M5)))))))))","v":0},{"$f":"CONCATENATE(BI5,BJ5)","v":"00"}]
[2,null,null,null,null,null,null,null,null,null,null,null,null,{"$f":"IF(G6=\"\",\"\",$N$5)","v":""},{"$f":"IF(G6=\"\",\"\",$O$5)","v":""},{"$f":"IF(G6=\"\",\"\",$P$5)","v":""},"女",null,null,null,"",{"$f":"ASC(H6)","v":""},null,null,null,null,null,null,null,null,{"$f":"X6","v":0},0,{"$f":"AA6","v":0},{"$f":"AC6","v":0},0,{"$f":"X6","v":0},{"$f":"AB6","v":0},{"$f":"W6","v":0},{"$f":"W6","v":0},{"$f":"Y6","v":0},{"$f":"AC6","v":0},{"$f":"Y6","v":0},{"$f":"AC6","v":0},{"$f":"W6","v":0},{"$f":"W6","v":0},{"$f":"Z6","v":0},{"$f":"Z6","v":0},{"$f":"X6","v":0},null,{"$f":"TRIM(G6)","v":""},{"$f":"IF(AX6=\"\",\"\",LEN(AX6))","v":""},{"$f":"IF(AX6=\"\",\"\",FIND(\"　\",AX6,1))","v":""},{"$f":"IF(AX6=\"\",\"\",AY6-AZ6)","v":""},{"$f":"IF(AX6=\"\",\"\",LEFT(AX6,AZ6-1))","v":""},{"$f":"IF(AX6=\"\",\"\",RIGHT(AX6,BA6))","v":""},{"$f":"IF(AX6=\"\",\"\",IF(AY6=4,CONCATENATE(BB6,\"　\",\"　\",BC6),IF(AY6>5,CONCATENATE(BB6,BC6),AX6)))","v":""},null,null,null,null,{"$f":"IF(L6=1,\"01\",IF(L6=2,\"02\",IF(L6=3,\"03\",IF(L6=4,\"04\",IF(L6=5,\"05\",IF(L6=6,\"06\",IF(L6=7,\"07\",IF(L6=8,\"08\",IF(L6=9,\"09\",L6)))))))))","v":0},{"$f":"IF(M6=1,\"01\",IF(M6=2,\"02\",IF(M6=3,\"03\",IF(M6=4,\"04\",IF(M6=5,\"05\",IF(M6=6,\"06\",IF(M6=7,\"07\",IF(M6=8,\"08\",IF(M6=9,\"09\",M6)))))))))","v":0},{"$f":"CONCATENATE(BI6,BJ6)","v":"00"}]
[3,null,null,null,null,null,null,null,null,null,null,null,null,{"$f":"IF(G7=\"\",\"\",$N$5)","v":""},"",{"$f":"IF(G7=\"\",\"\",$P$5)","v":""},23,null,null,null,"","",null,null,null,null,null,null,null,null,0,0,0,0,0,0,0,0,0,0,0,0,0,0,0,0,0,0,null,"","","","","","","",null,null,null,null,0,0,"00"]
[4,null,null,null,null,null,null,null,null,null,null,null,null,"","","",null,null,null,null,"","",null,null,null,null,null,null,null,null,0,0,0,0,0,0,0,0,0,0,0,0,0,0,0,0,0,0,null,"","","","","","","",null,null,null,null,0,0,"00"]
[5,null,null,null,null,null,null,null,null,null,null,null,null,"","","",null,null,null,null,"","",null,null,null,null,null,null,null,null,0,0,0,0,0,0,0,0,0,0,0,0,0,0,0,0,0,0,null,"","","","","","","",null,null,null,null,0,0,"00"]
[6,null,null,null,null,null,null,null,null,null,null,null,null,"","","",null,null,null,null,"","",null,null,null,null,null,null,null,null,0,0,0,0,0,0,0,0,0,0,0,0,0,0,0,0,0,0,null,"","","","","","","",null,null,null,null,0,0,"00"]
[7,null,null,null,null,null,null,null,null,null,null,null,null,"","","",null,null,null,null,"","",null,null,null,null,null,null,null,null,0,0,0,0,0,0,0,0,0,0,0,0,0,0,0,0,0,0,null,"","","","","","","",null,null,null,null,0,0,"00"]
[8,null,null,null,null,null,null,null,null,null,null,null,null,"","","",null,null,null,null,"","",null,null,null,null,null,null,null,null,0,0,0,0,0,0,0,0,0,0,0,0,0,0,0,0,0,0,null,"","","","","","","",null,null,null,null,0,0,"00"]
[9,null,null,null,null,null,null,null,null,null,null,null,null,"","","",null,null,null,null,"","",null,null,null,null,null,null,null,null,0,0,0,0,0,0,0,0,0,0,0,0,0,0,0,0,0,0,null,"","","","","","","",null,null,null,null,0,0,"00"]
[10,null,null,null,null,null,null,null,null,null,null,null,null,"","","",null,null,null,null,"","",null,null,null,null,null,null,null,null,0,0,0,0,0,0,0,0,0,0,0,0,0,0,0,0,0,0,null,"","","","","","","",null,null,null,null,0,0,"00"]
[11,null,null,null,null,null,null,null,null,null,null,null,null,"","","",null,null,null,null,"","",null,null,null,null,null,null,null,null,0,0,0,0,0,0,0,0,0,0,0,0,0,0,0,0,0,0,null,"","","","","","","",null,null,null,null,0,0,"00"]
[12,null,null,null,null,null,null,null,null,null,null,null,null,"","","",null,null,null,null,"","",null,null,null,null,null,null,null,null,0,0,0,0,0,0,0,0,0,0,0,0,0,0,0,0,0,0,null,"","","","","","","",null,null,null,null,0,0,"00"]
[13,null,null,null,null,null,null,null,null,null,null,null,null,"","","",null,null,null,null,"","",null,null,null,null,null,null,null,null,0,0,0,0,0,0,0,0,0,0,0,0,0,0,0,0,0,0,null,"","","","","","","",null,null,null,null,0,0,"00"]
[14,null,null,null,null,null,null,null,null,null,null,null,null,"","","",null,null,null,null,"","",null,null,null,null,null,null,null,null,0,0,0,0,0,0,0,0,0,0,0,0,0,0,0,0,0,0,null,"","","","","","","",null,null,null,null,0,0,"00"]
[15,null,null,null,null,null,null,null,null,null,null,null,null,"","","",null,null,null,null,"","",null,null,null,null,null,null,null,null,0,0,0,0,0,0,0,0,0,0,0,0,0,0,0,0,0,0,null,"","","","","","","",null,null,null,null,0,0,"00"]
[16,null,null,null,null,null,null,null,null,null,null,null,null,"","","",null,null,null,null,"","",null,null,null,null,null,null,null,null,0,0,0,0,0,0,0,0,0,0,0,0,0,0,0,0,0,0,null,"","","","","","","",null,null,null,null,0,0,"00"]
[17,null,null,null,null,null,null,null,null,null,null,null,null,"","","",null,null,null,null,"","",null,null,null,null,null,null,null,null,0,0,0,0,0,0,0,0,0,0,0,0,0,0,0,0,0,0,null,"","","","","","","",null,null,null,null,0,0,"00"]
[18,null,null,null,null,null,null,null,null,null,null,null,null,"","","",null,null,null,null,"","",null,null,null,null,null,null,null,null,0,0,0,0,0,0,0,0,0,0,0,0,0,0,0,0,0,0,null,"","","","","","","",null,null,null,null,0,0,"00"]
[19,null,null,null,null,null,null,null,null,null,null,null,null,"","","",null,null,null,null,"","",null,null,null,null,null,null,null,null,0,0,0,0,0,0,0,0,0,0,0,0,0,0,0,0,0,0,null,"","","","","","","",null,null,null,null,0,0,"00"]
[20,null,null,null,null,null,null,null,null,null,null,null,null,"","","",null,null,null,null,"","",null,null,null,null,null,null,null,null,0,0,0,0,0,0,0,0,0,0,0,0,0,0,0,0,0,0,null,"","","","","","","",null,null,null,null,0,0,"00"]
[21,null,null,null,null,null,null,null,null,null,null,null,null,"","","",null,null,null,null,"","",null,null,null,null,null,null,null,null,0,0,0,0,0,0,0,0,0,0,0,0,0,0,0,0,0,0,null,"","","","","","","",null,null,null,null,0,0,"00"]
[22,null,null,null,null,null,null,null,null,null,null,null,null,"","","",null,null,null,null,"","",null,null,null,null,null,null,null,null,0,0,0,0,0,0,0,0,0,0,0,0,0,0,0,0,0,0,null,"","","","","","","",null,null,null,null,0,0,"00"]
[23,null,null,null,null,null,null,null,null,null,null,null,null,"","","",null,null,null,null,"","",null,null,null,null,null,null,null,null,0,0,0,0,0,0,0,0,0,0,0,0,0,0,0,0,0,0,null,"","","","","","","",null,null,null,null,0,0,"00"]
[24,null,null,null,null,null,null,null,null,null,null,null,null,"","","",null,null,null,null,"","",null,null,null,null,null,null,null,null,0,0,0,0,0,0,0,0,0,0,0,0,0,0,0,0,0,0,null,"","","","","","","",null,null,null,null,0,0,"00"]
[25,null,null,null,null,null,null,null,null,null,null,null,null,"","","",null,null,null,null,"","",null,null,null,null,null,null,null,null,0,0,0,0,0,0,0,0,0,0,0,0,0,0,0,0,0,0,null,"","","","","","","",null,null,null,null,0,0,"00"]
[26,null,null,null,null,null,null,null,null,null,null,null,null,"","","",null,null,null,null,"","",null,null,null,null,null,null,null,null,0,0,0,0,0,0,0,0,0,0,0,0,0,0,0,0,0,0,null,"","","","","","","",null,null,null,null,0,0,"00"]
[27,null,null,null,null,null,null,null,null,null,null,null,null,"","","",null,null,null,null,"","",null,null,null,null,null,null,null,null,0,0,0,0,0,0,0,0,0,0,0,0,0,0,0,0,0,0,null,"","","","","","","",null,null,null,null,0,0,"00"]
[28,null,null,null,null,null,null,null,null,null,null,null,null,"","","",null,null,null,null,"","",null,null,null,null,null,null,null,null,0,0,0,0,0,0,0,0,0,0,0,0,0,0,0,0,0,0,null,"","","","","","","",null,null,null,null,0,0,"00"]
[29,null,null,null,null,null,null,null,null,null,null,null,null,"","","",null,null,null,null,"","",null,null,null,null,null,null,null,null,0,0,0,0,0,0,0,0,0,0,0,0,0,0,0,0,0,0,null,"","","","","","","",null,null,null,null,0,0,"00"]
[30,null,null,null,null,null,null,null,null,null,null,null,null,"","","",null,null,null,null,"","",null,null,null,null,null,null,null,null,0,0,0,0,0,0,0,0,0,0,0,0,0,0,0,0,0,0,null,"","","","","","","",null,null,null,null,0,0,"00"]
[31,null,null,null,null,null,null,null,null,null,null,null,null,"","","",null,null,null,null,"","",null,null,null,null,null,null,null,null,0,0,0,0,0,0,0,0,0,0,0,0,0,0,0,0,0,0,null,"","","","","","","",null,null,null,null,0,0,"00"]
[32,null,null,null,null,null,null,null,null,null,null,null,null,"","","",null,null,null,null,"","",null,null,null,null,null,null,null,null,0,0,0,0,0,0,0,0,0,0,0,0,0,0,0,0,0,0,null,"","","","","","","",null,null,null,null,0,0,"00"]
[33,null,null,null,null,null,null,null,null,null,null,null,null,"","","",null,null,null,null,"","",null,null,null,null,null,null,null,null,0,0,0,0,0,0,0,0,0,0,0,0,0,0,0,0,0,0,null,"","","","","","","",null,null,null,null,0,0,"00"]
[34,null,null,null,null,null,null,null,null,null,null,null,null,"","","",null,null,null,null,"","",null,null,null,null,null,null,null,null,0,0,0,0,0,0,0,0,0,0,0,0,0,0,0,0,0,0,null,"","","","","","","",null,null,null,null,0,0,"00"]
[35,null,null,null,null,null,null,null,null,null,null,null,null,"","","",null,null,null,null,"","",null,null,null,null,null,null,null,null,0,0,0,0,0,0,0,0,0,0,0,0,0,0,0,0,0,0,null,"","","","","","","",null,null,null,null,0,0,"00"]
[36,null,null,null,null,null,null,null,null,null,null,null,null,"","","",null,null,null,null,"","",null,null,null,null,null,null,null,null,0,0,0,0,0,0,0,0,0,0,0,0,0,0,0,0,0,0,null,"","","","","","","",null,null,null,null,0,0,"00"]
[37,null,null,null,null,null,null,null,null,null,null,null,null,"","","",null,null,null,null,"","",null,null,null,null,null,null,null,null,0,0,0,0,0,0,0,0,0,0,0,0,0,0,0,0,0,0,null,"","","","","","","",null,null,null,null,0,0,"00"]
[38,null,null,null,null,null,null,null,null,null,null,null,null,"","","",null,null,null,null,"","",null,null,null,null,null,null,null,null,0,0,0,0,0,0,0,0,0,0,0,0,0,0,0,0,0,0,null,"","","","","","","",null,null,null,null,0,0,"00"]
[39,null,null,null,null,null,null,null,null,null,null,null,null,"","","",null,null,null,null,"","",null,null,null,null,null,null,null,null,0,0,0,0,0,0,0,0,0,0,0,0,0,0,0,0,0,0,null,"","","","","","","",null,null,null,null,0,0,"00"]
[40,null,null,null,null,null,null,null,null,null,null,null,null,"","","",null,null,null,null,"","",null,null,null,null,null,null,null,null,0,0,0,0,0,0,0,0,0,0,0,0,0,0,0,0,0,0,null,"","","","","","","",null,null,null,null,0,0,"00"]
[41,null,null,null,null,null,null,null,null,null,null,null,null,"","","",null,null,null,null,"","",null,null,null,null,null,null,null,null,0,0,0,0,0,0,0,0,0,0,0,0,0,0,0,0,0,0,null,"","","","","","","",null,null,null,null,0,0,"00"]
[42,null,null,null,null,null,null,null,null,null,null,null,null,"","","",null,null,null,null,"","",null,null,null,null,null,null,null,null,0,0,0,0,0,0,0,0,0,0,0,0,0,0,0,0,0,0,null,"","","","","","","",null,null,null,null,0,0,"00"]
[43,null,null,null,null,null,null,null,null,null,null,null,null,"","","",null,null,null,null,"","",null,null,null,null,null,null,null,null,0,0,0,0,0,0,0,0,0,0,0,0,0,0,0,0,0,0,null,"","","","","","","",null,null,null,null,0,0,"00"]
[44,null,null,null,null,null,null,null,null,null,null,null,null,"","","",null,null,null,null,"","",null,null,null,null,null,null,null,null,0,0,0,0,0,0,0,0,0,0,0,0,0,0,0,0,0,0,null,"","","","","","","",null,null,null,null,0,0,"00"]
[45,null,null,null,null,null,null,null,null,null,null,null,null,"","","",null,null,null,null,"","",null,null,null,null,null,null,null,null,0,0,0,0,0,0,0,0,0,0,0,0,0,0,0,0,0,0,null,"","","","","","","",null,null,null,null,0,0,"00"]
[46,null,null,null,null,null,null,null,null,null,null,null,null,"","","",null,null,null,null,"","",null,null,null,null,null,null,null,null,0,0,0,0,0,0,0,0,0,0,0,0,0,0,0,0,0,0,null,"","","","","","","",null,null,null,null,0,0,"00"]
[47,null,null,null,null,null,null,null,null,null,null,null,null,"","","",null,null,null,null,"","",null,null,null,null,null,null,null,null,0,0,0,0,0,0,0,0,0,0,0,0,0,0,0,0,0,0,null,"","","","","","","",null,null,null,null,0,0,"00"]
[48,null,null,null,null,null,null,null,null,null,null,null,null,"","","",null,null,null,null,"","",null,null,null,null,null,null,null,null,0,0,0,0,0,0,0,0,0,0,0,0,0,0,0,0,0,0,null,"","","","","","","",null,null,null,null,0,0,"00"]
[49,null,null,null,null,null,null,null,null,null,null,null,null,"","","",null,null,null,null,"","",null,null,null,null,null,null,null,null,0,0,0,0,0,0,0,0,0,0,0,0,0,0,0,0,0,0,null,"","","","","","","",null,null,null,null,0,0,"00"]
[50,null,null,null,null,null,null,null,null,null,null,null,null,"","","",null,null,null,null,"","",null,null,null,null,null,null,null,null,0,0,0,0,0,0,0,0,0,0,0,0,0,0,0,0,0,0,null,"","","","","","","",null,null,null,null,0,0,"00"]
[51,null,null,null,null,null,null,null,null,null,null,null,null,"","","",null,null,null,null,"","",null,null,null,null,null,null,null,null,0,0,0,0,0,0,0,0,0,0,0,0,0,0,0,0,0,0,null,"","","","","","","",null,null,null,null,0,0,"00"]
[52,null,null,null,null,null,null,null,null,null,null,null,null,"","","",null,null,null,null,"","",null,null,null,null,null,null,null,null,0,0,0,0,0,0,0,0,0,0,0,0,0,0,0,0,0,0,null,"","","","","","","",null,null,null,null,0,0,"00"]
[53,null,null,null,null,null,null,null,null,null,null,null,null,"","","",null,null,null,null,"","",null,null,null,null,null,null,null,null,0,0,0,0,0,0,0,0,0,0,0,0,0,0,0,0,0,0,null,"","","","","","","",null,null,null,null,0,0,"00"]
[54,null,null,null,null,null,null,null,null,null,null,null,null,"","","",null,null,null,null,"","",null,null,null,null,null,null,null,null,0,0,0,0,0,0,0,0,0,0,0,0,0,0,0,0,0,0,null,"","","","","","","",null,null,null,null,0,0,"00"]
[55,null,null,null,null,null,null,null,null,null,null,null,null,"","","",null,null,null,null,"","",null,null,null,null,null,null,null,null,0,0,0,0,0,0,0,0,0,0,0,0,0,0,0,0,0,0,null,"","","","","","","",null,null,null,null,0,0,"00"]
[56,null,null,null,null,null,null,null,null,null,null,null,null,"","","",null,null,null,null,"","",null,null,null,null,null,null,null,null,0,0,0,0,0,0,0,0,0,0,0,0,0,0,0,0,0,0,null,"","","","","","","",null,null,null,null,0,0,"00"]
[57,null,null,null,null,null,null,null,null,null,null,null,null,"","","",null,null,null,null,"","",null,null,null,null,null,null,null,null,0,0,0,0,0,0,0,0,0,0,0,0,0,0,0,0,0,0,null,"","","","","","","",null,null,null,null,0,0,"00"]
[58,null,null,null,null,null,null,null,null,null,null,null,null,"","","",null,null,null,null,"","",null,null,null,null,null,null,null,null,0,0,0,0,0,0,0,0,0,0,0,0,0,0,0,0,0,0,null,"","","","","","","",null,null,null,null,0,0,"00"]
[59,null,null,null,null,null,null,null,null,null,null,null,null,"","","",null,null,null,null,"","",null,null,null,null,null,null,null,null,0,0,0,0,0,0,0,0,0,0,0,0,0,0,0,0,0,0,null,"","","","","","","",null,null,null,null,0,0,"00"]
[60,null,null,null,null,null,null,null,null,null,null,null,null,"","","",null,null,null,null,"","",null,null,null,null,null,null,null,null,0,0,0,0,0,0,0,0,0,0,0,0,0,0,0,0,0,0,null,"","","","","","","",null,null,null,null,0,0,"00"]
[61,null,null,null,null,null,null,null,null,null,null,null,null,"","","",null,null,null,null,"","",null,null,null,null,null,null,null,null,0,0,0,0,0,0,0,0,0,0,0,0,0,0,0,0,0,0,null,"","","","","","","",null,null,null,null,0,0,"00"]
[62,null,null,null,null,null,null,null,null,null,null,null,null,"","","",null,null,null,null,"","",null,null,null,null,null,null,null,null,0,0,0,0,0,0,0,0,0,0,0,0,0,0,0,0,0,0,null,"","","","","","","",null,null,null,null,0,0,"00"]
[63,null,null,null,null,null,null,null,null,null,null,null,null,"","","",null,null,null,null,"","",null,null,null,null,null,null,null,null,0,0,0,0,0,0,0,0,0,0,0,0,0,0,0,0,0,0,null,"","","","","","","",null,null,null,null,0,0,"00"]
[64,null,null,null,null,null,null,null,null,null,null,null,null,"","","",null,null,null,null,"","",null,null,null,null,null,null,null,null,0,0,0,0,0,0,0,0,0,0,0,0,0,0,0,0,0,0,null,"","","","","","","",null,null,null,null,0,0,"00"]
[65,null,null,null,null,null,null,null,null,null,null,null,null,"","","",null,null,null,null,{"$f":"IF(J69=\"\",\"\",IF(J69=\"男\",1,2))","v":""},"",null,null,null,null,null,null,null,null,0,0,0,0,0,0,0,0,0,0,0,0,0,0,0,0,0,0,null,"","","","","","","",null,null,null,null,0,0,"00"]
[66,null,null,null,null,null,null,null,null,null,null,null,null,"","","",null,null,null,null,"",{"$f":"ASC(H70)","v":""},null,null,null,null,null,null,null,null,{"$f":"X70","v":0},0,{"$f":"AA70","v":0},{"$f":"AC70","v":0},0,{"$f":"X70","v":0},{"$f":"AB70","v":0},{"$f":"W70","v":0},{"$f":"W70","v":0},{"$f":"Y70","v":0},{"$f":"AC70","v":0},{"$f":"Y70","v":0},{"$f":"AC70","v":0},{"$f":"W70","v":0},{"$f":"W70","v":0},{"$f":"Z70","v":0},{"$f":"Z70","v":0},{"$f":"X70","v":0},null,{"$f":"TRIM(G70)","v":""},{"$f":"IF(AX70=\"\",\"\",LEN(AX70))","v":""},{"$f":"IF(AX70=\"\",\"\",FIND(\"　\",AX70,1))","v":""},{"$f":"IF(AX70=\"\",\"\",AY70-AZ70)","v":""},{"$f":"IF(AX70=\"\",\"\",LEFT(AX70,AZ70-1))","v":""},{"$f":"IF(AX70=\"\",\"\",RIGHT(AX70,BA70))","v":""},{"$f":"IF(AX70=\"\",\"\",IF(AY70=4,CONCATENATE(BB70,\"　\",\"　\",BC70),IF(AY70>5,CONCATENATE(BB70,BC70),AX70)))","v":""},null,null,null,null,{"$f":"IF(L70=1,\"01\",IF(L70=2,\"02\",IF(L70=3,\"03\",IF(L70=4,\"04\",IF(L70=5,\"05\",IF(L70=6,\"06\",IF(L70=7,\"07\",IF(L70=8,\"08\",IF(L70=9,\"09\",L70)))))))))","v":0},{"$f":"IF(M70=1,\"01\",IF(M70=2,\"02\",IF(M70=3,\"03\",IF(M70=4,\"04\",IF(M70=5,\"05\",IF(M70=6,\"06\",IF(M70=7,\"07\",IF(M70=8,\"08\",IF(M70=9,\"09\",M70)))))))))","v":0},{"$f":"CONCATENATE(BI70,BJ70)","v":"00"}]
[67,null,null,null,null,null,null,null,null,null,null,null,null,{"$f":"IF(G71=\"\",\"\",$N$5)","v":""},{"$f":"IF(G71=\"\",\"\",$O$5)","v":""},{"$f":"IF(G71=\"\",\"\",$P$5)","v":""},null,null,null,null,"","",null,null,null,null,null,null,null,null,0,0,0,0,0,0,0,0,0,0,0,0,0,0,0,0,0,0,null,"","","","","","","",null,null,null,null,0,0,"00"]
[68,null,null,null,null,null,null,null,null,null,null,null,null,"","","",null,null,null,null,"","",null,null,null,null,null,null,null,null,0,0,0,0,0,0,0,0,0,0,0,0,0,0,0,0,0,0,null,"","","","","","","",null,null,null,null,0,0,"00"]
[69,null,null,null,null,null,null,null,null,null,null,null,null,"","","",null,null,null,null,"","",null,null,null,null,null,null,null,null,0,0,0,0,0,0,0,0,0,0,0,0,0,0,0,0,0,0,null,"","","","","","","",null,null,null,null,0,0,"00"]
[70,null,null,null,null,null,null,null,null,null,null,null,null,"","","",null,null,null,null,"","",null,null,null,null,null,null,null,null,0,0,0,0,0,0,0,0,0,0,0,0,0,0,0,0,0,0,null,"","","","","","","",null,null,null,null,0,0,"00"]
[71,null,null,null,null,null,null,null,null,null,null,null,null,"","","",null,null,null,null,"","",null,null,null,null,null,null,null,null,0,0,0,0,0,0,0,0,0,0,0,0,0,0,0,0,0,0,null,"","","","","","","",null,null,null,null,0,0,"00"]
[72,null,null,null,null,null,null,null,null,null,null,null,null,"","","",null,null,null,null,"","",null,null,null,null,null,null,null,null,0,0,0,0,0,0,0,0,0,0,0,0,0,0,0,0,0,0,null,"","","","","","","",null,null,null,null,0,0,"00"]
[73,null,null,null,null,null,null,null,null,null,null,null,null,"","","",null,null,null,null,"","",null,null,null,null,null,null,null,null,0,0,0,0,0,0,0,0,0,0,0,0,0,0,0,0,0,0,null,"","","","","","","",null,null,null,null,0,0,"00"]
[74,null,null,null,null,null,null,null,null,null,null,null,null,"","","",null,null,null,null,"","",null,null,null,null,null,null,null,null,0,0,0,0,0,0,0,0,0,0,0,0,0,0,0,0,0,0,null,"","","","","","","",null,null,null,null,0,0,"00"]
[75,null,null,null,null,null,null,null,null,null,null,null,null,"","","",null,null,null,null,"","",null,null,null,null,null,null,null,null,0,0,0,0,0,0,0,0,0,0,0,0,0,0,0,0,0,0,null,"","","","","","","",null,null,null,null,0,0,"00"]
[76,null,null,null,null,null,null,null,null,null,null,null,null,"","","",null,null,null,null,"","",null,null,null,null,null,null,null,null,0,0,0,0,0,0,0,0,0,0,0,0,0,0,0,0,0,0,null,"","","","","","","",null,null,null,null,0,0,"00"]
[77,null,null,null,null,null,null,null,null,null,null,null,null,"","","",null,null,null,null,"","",null,null,null,null,null,null,null,null,0,0,0,0,0,0,0,0,0,0,0,0,0,0,0,0,0,0,null,"","","","","","","",null,null,null,null,0,0,"00"]
[78,null,null,null,null,null,null,null,null,null,null,null,null,"","","",null,null,null,null,"","",null,null,null,null,null,null,null,null,0,0,0,0,0,0,0,0,0,0,0,0,0,0,0,0,0,0,null,"","","","","","","",null,null,null,null,0,0,"00"]
[79,null,null,null,null,null,null,null,null,null,null,null,null,"","","",null,null,null,null,"","",null,null,null,null,null,null,null,null,0,0,0,0,0,0,0,0,0,0,0,0,0,0,0,0,0,0,null,"","","","","","","",null,null,null,null,0,0,"00"]
[80,null,null,null,null,null,null,null,null,null,null,null,null,"","","",null,null,null,null,"","",null,null,null,null,null,null,null,null,0,0,0,0,0,0,0,0,0,0,0,0,0,0,0,0,0,0,null,"","","","","","","",null,null,null,null,0,0,"00"]
[81,null,null,null,null,null,null,null,null,null,null,null,null,"","","",null,null,null,null,"","",null,null,null,null,null,null,null,null,0,0,0,0,0,0,0,0,0,0,0,0,0,0,0,0,0,0,null,"","","","","","","",null,null,null,null,0,0,"00"]
[82,null,null,null,null,null,null,null,null,null,null,null,null,"","","",null,null,null,null,"","",null,null,null,null,null,null,null,null,0,0,0,0,0,0,0,0,0,0,0,0,0,0,0,0,0,0,null,"","","","","","","",null,null,null,null,0,0,"00"]
[83,null,null,null,null,null,null,null,null,null,null,null,null,"","","",null,null,null,null,"","",null,null,null,null,null,null,null,null,0,0,0,0,0,0,0,0,0,0,0,0,0,0,0,0,0,0,null,"","","","","","","",null,null,null,null,0,0,"00"]
[84,null,null,null,null,null,null,null,null,null,null,null,null,"","","",null,null,null,null,"","",null,null,null,null,null,null,null,null,0,0,0,0,0,0,0,0,0,0,0,0,0,0,0,0,0,0,null,"","","","","","","",null,null,null,null,0,0,"00"]
[85,null,null,null,null,null,null,null,null,null,null,null,null,"","","",null,null,null,null,"","",null,null,null,null,null,null,null,null,0,0,0,0,0,0,0,0,0,0,0,0,0,0,0,0,0,0,null,"","","","","","","",null,null,null,null,0,0,"00"]
[86,null,null,null,null,null,null,null,null,null,null,null,null,"","","",null,null,null,null,"","",null,null,null,null,null,null,null,null,0,0,0,0,0,0,0,0,0,0,0,0,0,0,0,0,0,0,null,"","","","","","","",null,null,null,null,0,0,"00"]
[87,null,null,null,null,null,null,null,null,null,null,null,null,"","","",null,null,null,null,"","",null,null,null,null,null,null,null,null,0,0,0,0,0,0,0,0,0,0,0,0,0,0,0,0,0,0,null,"","","","","","","",null,null,null,null,0,0,"00"]
[88,null,null,null,null,null,null,null,null,null,null,null,null,"","","",null,null,null,null,"","",null,null,null,null,null,null,null,null,0,0,0,0,0,0,0,0,0,0,0,0,0,0,0,0,0,0,null,"","","","","","","",null,null,null,null,0,0,"00"]
[89,null,null,null,null,null,null,null,null,null,null,null,null,"","","",null,null,null,null,"","",null,null,null,null,null,null,null,null,0,0,0,0,0,0,0,0,0,0,0,0,0,0,0,0,0,0,null,"","","","","","","",null,null,null,null,0,0,"00"]
[90,null,null,null,null,null,null,null,null,null,null,null,null,"","","",null,null,null,null,"","",null,null,null,null,null,null,null,null,0,0,0,0,0,0,0,0,0,0,0,0,0,0,0,0,0,0,null,"","","","","","","",null,null,null,null,0,0,"00"]
[91,null,null,null,null,null,null,null,null,null,null,null,null,"","","",null,null,null,null,"","",null,null,null,null,null,null,null,null,0,0,0,0,0,0,0,0,0,0,0,0,0,0,0,0,0,0,null,"","","","","","","",null,null,null,null,0,0,"00"]
[92,null,null,null,null,null,null,null,null,null,null,null,null,"","","",null,null,null,null,"","",null,null,null,null,null,null,null,null,0,0,0,0,0,0,0,0,0,0,0,0,0,0,0,0,0,0,null,"","","","","","","",null,null,null,null,0,0,"00"]
[93,null,null,null,null,null,null,null,null,null,null,null,null,"","","",null,null,null,null,"","",null,null,null,null,null,null,null,null,0,0,0,0,0,0,0,0,0,0,0,0,0,0,0,0,0,0,null,"","","","","","","",null,null,null,null,0,0,"00"]
[94,null,null,null,null,null,null,null,null,null,null,null,null,"","","",null,null,null,null,"","",null,null,null,null,null,null,null,null,0,0,0,0,0,0,0,0,0,0,0,0,0,0,0,0,0,0,null,"","","","","","","",null,null,null,null,0,0,"00"]
[95,null,null,null,null,null,null,null,null,null,null,null,null,"","","",null,null,null,null,"","",null,null,null,null,null,null,null,null,0,0,0,0,0,0,0,0,0,0,0,0,0,0,0,0,0,0,null,"","","","","","","",null,null,null,null,0,0,"00"]
[96,null,null,null,null,null,null,null,null,null,null,null,null,"","","",null,null,null,null,"","",null,null,null,null,null,null,null,null,0,0,0,0,0,0,0,0,0,0,0,0,0,0,0,0,0,0,null,"","","","","","","",null,null,null,null,0,0,"00"]
[97,null,null,null,null,null,null,null,null,null,null,null,null,"","","",null,null,null,null,"","",null,null,null,null,null,null,null,null,0,0,0,0,0,0,0,0,0,0,0,0,0,0,0,0,0,0,null,"","","","","","","",null,null,null,null,0,0,"00"]
[98,null,null,null,null,null,null,null,null,null,null,null,null,"","","",null,null,null,null,"","",null,null,null,null,null,null,null,null,0,0,0,0,0,0,0,0,0,0,0,0,0,0,0,0,0,0,null,"","","","","","","",null,null,null,null,0,0,"00"]
[99,null,null,null,null,null,null,null,null,null,null,null,null,"","","",null,null,null,null,"","",null,null,null,null,null,null,null,null,0,0,0,0,0,0,0,0,0,0,0,0,0,0,0,0,0,0,null,"","","","","","","",null,null,null,null,0,0,"00"]
[100,null,null,null,null,null,null,null,null,null,null,null,null,"","","",null,null,null,null,"","",null,null,null,null,null,null,null,null,0,0,0,0,0,0,0,0,0,0,0,0,0,0,0,0,0,0,null,"","","","","","","",null,null,null,null,0,0,"00"]
[101,null,null,null,null,null,null,null,null,null,null,null,null,"","","",null,null,null,null,"","",null,null,null,null,null,null,null,null,0,0,0,0,0,0,0,0,0,0,0,0,0,0,0,0,0,0,null,"","","","","","","",null,null,null,null,0,0,"00"]
[102,null,null,null,null,null,null,null,null,null,null,null,null,"","","",null,null,null,null,"","",null,null,null,null,null,null,null,null,0,0,0,0,0,0,0,0,0,0,0,0,0,0,0,0,0,0,null,"","","","","","","",null,null,null,null,0,0,"00"]
[103,null,null,null,null,null,null,null,null,null,null,null,null,"","","",null,null,null,null,"","",null,null,null,null,null,null,null,null,0,0,0,0,0,0,0,0,0,0,0,0,0,0,0,0,0,0,null,"","","","","","","",null,null,null,null,0,0,"00"]
[104,null,null,null,null,null,null,null,null,null,null,null,null,"","","",null,null,null,null,"","",null,null,null,null,null,null,null,null,0,0,0,0,0,0,0,0,0,0,0,0,0,0,0,0,0,0,null,"","","","","","","",null,null,null,null,0,0,"00"]
[105,null,null,null,null,null,null,null,null,null,null,null,null,"","","",null,null,null,null,"","",null,null,null,null,null,null,null,null,0,0,0,0,0,0,0,0,0,0,0,0,0,0,0,0,0,0,null,"","","","","","","",null,null,null,null,0,0,"00"]
[106,null,null,null,null,null,null,null,null,null,null,null,null,"","","",null,null,null,null,"","",null,null,null,null,null,null,null,null,0,0,0,0,0,0,0,0,0,0,0,0,0,0,0,0,0,0,null,"","","","","","","",null,null,null,null,0,0,"00"]
[107,null,null,null,null,null,null,null,null,null,null,null,null,"","","",null,null,null,null,"","",null,null,null,null,null,null,null,null,0,0,0,0,0,0,0,0,0,0,0,0,0,0,0,0,0,0,null,"","","","","","","",null,null,null,null,0,0,"00"]
[108,null,null,null,null,null,null,null,null,null,null,null,null,"","","",null,null,null,null,"","",null,null,null,null,null,null,null,null,0,0,0,0,0,0,0,0,0,0,0,0,0,0,0,0,0,0,null,"","","","","","","",null,null,null,null,0,0,"00"]
[109,null,null,null,null,null,null,null,null,null,null,null,null,"","","",null,null,null,null,"","",null,null,null,null,null,null,null,null,0,0,0,0,0,0,0,0,0,0,0,0,0,0,0,0,0,0,null,"","","","","","","",null,null,null,null,0,0,"00"]
[110,null,null,null,null,null,null,null,null,null,null,null,null,"","","",null,null,null,null,"","",null,null,null,null,null,null,null,null,0,0,0,0,0,0,0,0,0,0,0,0,0,0,0,0,0,0,null,"","","","","","","",null,null,null,null,0,0,"00"]
[111,null,null,null,null,null,null,null,null,null,null,null,null,"","","",null,null,null,null,"","",null,null,null,null,null,null,null,null,0,0,0,0,0,0,0,0,0,0,0,0,0,0,0,0,0,0,null,"","","","","","","",null,null,null,null,0,0,"00"]
[112,null,null,null,null,null,null,null,null,null,null,null,null,"","","",null,null,null,null,"","",null,null,null,null,null,null,null,null,0,0,0,0,0,0,0,0,0,0,0,0,0,0,0,0,0,0,null,"","","","","","","",null,null,null,null,0,0,"00"]
[113,null,null,null,null,null,null,null,null,null,null,null,null,"","","",null,null,null,null,"","",null,null,null,null,null,null,null,null,0,0,0,0,0,0,0,0,0,0,0,0,0,0,0,0,0,0,null,"","","","","","","",null,null,null,null,0,0,"00"]
[114,null,null,null,null,null,null,null,null,null,null,null,null,"","","",null,null,null,null,"","",null,null,null,null,null,null,null,null,0,0,0,0,0,0,0,0,0,0,0,0,0,0,0,0,0,0,null,"","","","","","","",null,null,null,null,0,0,"00"]
[115,null,null,null,null,null,null,null,null,null,null,null,null,"","","",null,null,null,null,"","",null,null,null,null,null,null,null,null,0,0,0,0,0,0,0,0,0,0,0,0,0,0,0,0,0,0,null,"","","","","","","",null,null,null,null,0,0,"00"]
[116,null,null,null,null,null,null,null,null,null,null,null,null,"","","",null,null,null,null,"","",null,null,null,null,null,null,null,null,0,0,0,0,0,0,0,0,0,0,0,0,0,0,0,0,0,0,null,"","","","","","","",null,null,null,null,0,0,"00"]
[117,null,null,null,null,null,null,null,null,null,null,null,null,"","","",null,null,null,null,"","",null,null,null,null,null,null,null,null,0,0,0,0,0,0,0,0,0,0,0,0,0,0,0,0,0,0,null,"","","","","","","",null,null,null,null,0,0,"00"]
[118,null,null,null,null,null,null,null,null,null,null,null,null,"","","",null,null,null,null,"","",null,null,null,null,null,null,null,null,0,0,0,0,0,0,0,0,0,0,0,0,0,0,0,0,0,0,null,"","","","","","","",null,null,null,null,0,0,"00"]
[119,null,null,null,null,null,null,null,null,null,null,null,null,"","","",null,null,null,null,"","",null,null,null,null,null,null,null,null,0,0,0,0,0,0,0,0,0,0,0,0,0,0,0,0,0,0,null,"","","","","","","",null,null,null,null,0,0,"00"]
[120,null,null,null,null,null,null,null,null,null,null,null,null,"","","",null,null,null,null,"","",null,null,null,null,null,null,null,null,0,0,0,0,0,0,0,0,0,0,0,0,0,0,0,0,0,0,null,"","","","","","","",null,null,null,null,0,0,"00"]
[121,null,null,null,null,null,null,null,null,null,null,null,null,"","","",null,null,null,null,"","",null,null,null,null,null,null,null,null,0,0,0,0,0,0,0,0,0,0,0,0,0,0,0,0,0,0,null,"","","","","","","",null,null,null,null,0,0,"00"]
[122,null,null,null,null,null,null,null,null,null,null,null,null,"","","",null,null,null,null,"","",null,null,null,null,null,null,null,null,0,0,0,0,0,0,0,0,0,0,0,0,0,0,0,0,0,0,null,"","","","","","","",null,null,null,null,0,0,"00"]
[123,null,null,null,null,null,null,null,null,null,null,null,null,"","","",null,null,null,null,"","",null,null,null,null,null,null,null,null,0,0,0,0,0,0,0,0,0,0,0,0,0,0,0,0,0,0,null,"","","","","","","",null,null,null,null,0,0,"00"]
[124,null,null,null,null,null,null,null,null,null,null,null,null,"","","",null,null,null,null,"","",null,null,null,null,null,null,null,null,0,0,0,0,0,0,0,0,0,0,0,0,0,0,0,0,0,0,null,"","","","","","","",null,null,null,null,0,0,"00"]
[125,null,null,null,null,null,null,null,null,null,null,null,null,"","","",null,null,null,null,"","",null,null,null,null,null,null,null,null,0,0,0,0,0,0,0,0,0,0,0,0,0,0,0,0,0,0,null,"","","","","","","",null,null,null,null,0,0,"00"]
[126,null,null,null,null,null,null,null,null,null,null,null,null,"","","",null,null,null,null,"","",null,null,null,null,null,null,null,null,0,0,0,0,0,0,0,0,0,0,0,0,0,0,0,0,0,0,null,"","","","","","","",null,null,null,null,0,0,"00"]
[127,null,null,null,null,null,null,null,null,null,null,null,null,"","","",null,null,null,null,"","",null,null,null,null,null,null,null,null,0,0,0,0,0,0,0,0,0,0,0,0,0,0,0,0,0,0,null,"","","","","","","",null,null,null,null,0,0,"00"]
[128,null,null,null,null,null,null,null,null,null,null,null,null,"","","",null,null,null,null,"","",null,null,null,null,null,null,null,null,0,0,0,0,0,0,0,0,0,0,0,0,0,0,0,0,0,0,null,"","","","","","","",null,null,null,null,0,0,"00"]
[129,null,null,null,null,null,null,null,null,null,null,null,null,"","","",null,null,null,null,{"$f":"IF(J133=\"\",\"\",IF(J133=\"男\",1,2))","v":""},"",null,null,null,null,null,null,null,null,0,0,0,0,0,0,0,0,0,0,0,0,0,0,0,0,0,0,null,"","","","","","","",null,null,null,null,0,0,"00"]
[130,null,null,null,null,null,null,null,null,null,null,null,null,"","","",null,null,null,null,"",{"$f":"ASC(H134)","v":""},null,null,null,null,null,null,null,null,{"$f":"X134","v":0},0,{"$f":"AA134","v":0},{"$f":"AC134","v":0},0,{"$f":"X134","v":0},{"$f":"AB134","v":0},{"$f":"W134","v":0},{"$f":"W134","v":0},{"$f":"Y134","v":0},{"$f":"AC134","v":0},{"$f":"Y134","v":0},{"$f":"AC134","v":0},{"$f":"W134","v":0},{"$f":"W134","v":0},{"$f":"Z134","v":0},{"$f":"Z134","v":0},{"$f":"X134","v":0},null,{"$f":"TRIM(G134)","v":""},{"$f":"IF(AX134=\"\",\"\",LEN(AX134))","v":""},{"$f":"IF(AX134=\"\",\"\",FIND(\"　\",AX134,1))","v":""},{"$f":"IF(AX134=\"\",\"\",AY134-AZ134)","v":""},{"$f":"IF(AX134=\"\",\"\",LEFT(AX134,AZ134-1))","v":""},{"$f":"IF(AX134=\"\",\"\",RIGHT(AX134,BA134))","v":""},{"$f":"IF(AX134=\"\",\"\",IF(AY134=4,CONCATENATE(BB134,\"　\",\"　\",BC134),IF(AY134>5,CONCATENATE(BB134,BC134),AX134)))","v":""},null,null,null,null,{"$f":"IF(L134=1,\"01\",IF(L134=2,\"02\",IF(L134=3,\"03\",IF(L134=4,\"04\",IF(L134=5,\"05\",IF(L134=6,\"06\",IF(L134=7,\"07\",IF(L134=8,\"08\",IF(L134=9,\"09\",L134)))))))))","v":0},{"$f":"IF(M134=1,\"01\",IF(M134=2,\"02\",IF(M134=3,\"03\",IF(M134=4,\"04\",IF(M134=5,\"05\",IF(M134=6,\"06\",IF(M134=7,\"07\",IF(M134=8,\"08\",IF(M134=9,\"09\",M134)))))))))","v":0},{"$f":"CONCATENATE(BI134,BJ134)","v":"00"}]
[131,null,null,null,null,null,null,null,null,null,null,null,null,{"$f":"IF(G135=\"\",\"\",$N$5)","v":""},{"$f":"IF(G135=\"\",\"\",$O$5)","v":""},{"$f":"IF(G135=\"\",\"\",$P$5)","v":""},null,null,null,null,"","",null,null,null,null,null,null,null,null,0,0,0,0,0,0,0,0,0,0,0,0,0,0,0,0,0,0,null,"","","","","","","",null,null,null,null,0,0,"00"]
[132,null,null,null,null,null,null,null,null,null,null,null,null,"","","",null,null,null,null,"","",null,null,null,null,null,null,null,null,0,0,0,0,0,0,0,0,0,0,0,0,0,0,0,0,0,0,null,"","","","","","","",null,null,null,null,0,0,"00"]
[133,null,null,null,null,null,null,null,null,null,null,null,null,"","","",null,null,null,null,"","",null,null,null,null,null,null,null,null,0,0,0,0,0,0,0,0,0,0,0,0,0,0,0,0,0,0,null,"","","","","","","",null,null,null,null,0,0,"00"]
[134,null,null,null,null,null,null,null,null,null,null,null,null,"","","",null,null,null,null,"","",null,null,null,null,null,null,null,null,0,0,0,0,0,0,0,0,0,0,0,0,0,0,0,0,0,0,null,"","","","","","","",null,null,null,null,0,0,"00"]
[135,null,null,null,null,null,null,null,null,null,null,null,null,"","","",null,null,null,null,"","",null,null,null,null,null,null,null,null,0,0,0,0,0,0,0,0,0,0,0,0,0,0,0,0,0,0,null,"","","","","","","",null,null,null,null,0,0,"00"]
[136,null,null,null,null,null,null,null,null,null,null,null,null,"","","",null,null,null,null,"","",null,null,null,null,null,null,null,null,0,0,0,0,0,0,0,0,0,0,0,0,0,0,0,0,0,0,null,"","","","","","","",null,null,null,null,0,0,"00"]
[137,null,null,null,null,null,null,null,null,null,null,null,null,"","","",null,null,null,null,"","",null,null,null,null,null,null,null,null,0,0,0,0,0,0,0,0,0,0,0,0,0,0,0,0,0,0,null,"","","","","","","",null,null,null,null,0,0,"00"]
[138,null,null,null,null,null,null,null,null,null,null,null,null,"","","",null,null,null,null,"","",null,null,null,null,null,null,null,null,0,0,0,0,0,0,0,0,0,0,0,0,0,0,0,0,0,0,null,"","","","","","","",null,null,null,null,0,0,"00"]
[139,null,null,null,null,null,null,null,null,null,null,null,null,"","","",null,null,null,null,"","",null,null,null,null,null,null,null,null,0,0,0,0,0,0,0,0,0,0,0,0,0,0,0,0,0,0,null,"","","","","","","",null,null,null,null,0,0,"00"]
[140,null,null,null,null,null,null,null,null,null,null,null,null,"","","",null,null,null,null,"","",null,null,null,null,null,null,null,null,0,0,0,0,0,0,0,0,0,0,0,0,0,0,0,0,0,0,null,"","","","","","","",null,null,null,null,0,0,"00"]
[141,null,null,null,null,null,null,null,null,null,null,null,null,"","","",null,null,null,null,"","",null,null,null,null,null,null,null,null,0,0,0,0,0,0,0,0,0,0,0,0,0,0,0,0,0,0,null,"","","","","","","",null,null,null,null,0,0,"00"]
[142,null,null,null,null,null,null,null,null,null,null,null,null,"","","",null,null,null,null,"","",null,null,null,null,null,null,null,null,0,0,0,0,0,0,0,0,0,0,0,0,0,0,0,0,0,0,null,"","","","","","","",null,null,null,null,0,0,"00"]
[143,null,null,null,null,null,null,null,null,null,null,null,null,"","","",null,null,null,null,"","",null,null,null,null,null,null,null,null,0,0,0,0,0,0,0,0,0,0,0,0,0,0,0,0,0,0,null,"","","","","","","",null,null,null,null,0,0,"00"]
[144,null,null,null,null,null,null,null,null,null,null,null,null,"","","",null,null,null,null,"","",null,null,null,null,null,null,null,null,0,0,0,0,0,0,0,0,0,0,0,0,0,0,0,0,0,0,null,"","","","","","","",null,null,null,null,0,0,"00"]
[145,null,null,null,null,null,null,null,null,null,null,null,null,"","","",null,null,null,null,"","",null,null,null,null,null,null,null,null,0,0,0,0,0,0,0,0,0,0,0,0,0,0,0,0,0,0,null,"","","","","","","",null,null,null,null,0,0,"00"]
[146,null,null,null,null,null,null,null,null,null,null,null,null,"","","",null,null,null,null,"","",null,null,null,null,null,null,null,null,0,0,0,0,0,0,0,0,0,0,0,0,0,0,0,0,0,0,null,"","","","","","","",null,null,null,null,0,0,"00"]
[147,null,null,null,null,null,null,null,null,null,null,null,null,"","","",null,null,null,null,"","",null,null,null,null,null,null,null,null,0,0,0,0,0,0,0,0,0,0,0,0,0,0,0,0,0,0,null,"","","","","","","",null,null,null,null,0,0,"00"]
[148,null,null,null,null,null,null,null,null,null,null,null,null,"","","",null,null,null,null,"","",null,null,null,null,null,null,null,null,0,0,0,0,0,0,0,0,0,0,0,0,0,0,0,0,0,0,null,"","","","","","","",null,null,null,null,0,0,"00"]
[149,null,null,null,null,null,null,null,null,null,null,null,null,"","","",null,null,null,null,"","",null,null,null,null,null,null,null,null,0,0,0,0,0,0,0,0,0,0,0,0,0,0,0,0,0,0,null,"","","","","","","",null,null,null,null,0,0,"00"]
[150,null,null,null,null,null,null,null,null,null,null,null,null,"","","",null,null,null,null,"","",null,null,null,null,null,null,null,null,0,0,0,0,0,0,0,0,0,0,0,0,0,0,0,0,0,0,null,"","","","","","","",null,null,null,null,0,0,"00"]
[151,null,null,null,null,null,null,null,null,null,null,null,null,"","","",null,null,null,null,"","",null,null,null,null,null,null,null,null,0,0,0,0,0,0,0,0,0,0,0,0,0,0,0,0,0,0,null,"","","","","","","",null,null,null,null,0,0,"00"]
[152,null,null,null,null,null,null,null,null,null,null,null,null,"","","",null,null,null,null,"","",null,null,null,null,null,null,null,null,0,0,0,0,0,0,0,0,0,0,0,0,0,0,0,0,0,0,null,"","","","","","","",null,null,null,null,0,0,"00"]
[153,null,null,null,null,null,null,null,null,null,null,null,null,"","","",null,null,null,null,"","",null,null,null,null,null,null,null,null,0,0,0,0,0,0,0,0,0,0,0,0,0,0,0,0,0,0,null,"","","","","","","",null,null,null,null,0,0,"00"]
[154,null,null,null,null,null,null,null,null,null,null,null,null,"","","",null,null,null,null,"","",null,null,null,null,null,null,null,null,0,0,0,0,0,0,0,0,0,0,0,0,0,0,0,0,0,0,null,"","","","","","","",null,null,null,null,0,0,"00"]
[155,null,null,null,null,null,null,null,null,null,null,null,null,"","","",null,null,null,null,"","",null,null,null,null,null,null,null,null,0,0,0,0,0,0,0,0,0,0,0,0,0,0,0,0,0,0,null,"","","","","","","",null,null,null,null,0,0,"00"]
[156,null,null,null,null,null,null,null,null,null,null,null,null,"","","",null,null,null,null,"","",null,null,null,null,null,null,null,null,0,0,0,0,0,0,0,0,0,0,0,0,0,0,0,0,0,0,null,"","","","","","","",null,null,null,null,0,0,"00"]
[157,null,null,null,null,null,null,null,null,null,null,null,null,"","","",null,null,null,null,"","",null,null,null,null,null,null,null,null,0,0,0,0,0,0,0,0,0,0,0,0,0,0,0,0,0,0,null,"","","","","","","",null,null,null,null,0,0,"00"]
[158,null,null,null,null,null,null,null,null,null,null,null,null,"","","",null,null,null,null,"","",null,null,null,null,null,null,null,null,0,0,0,0,0,0,0,0,0,0,0,0,0,0,0,0,0,0,null,"","","","","","","",null,null,null,null,0,0,"00"]
[159,null,null,null,null,null,null,null,null,null,null,null,null,"","","",null,null,null,null,"","",null,null,null,null,null,null,null,null,0,0,0,0,0,0,0,0,0,0,0,0,0,0,0,0,0,0,null,"","","","","","","",null,null,null,null,0,0,"00"]
[160,null,null,null,null,null,null,null,null,null,null,null,null,"","","",null,null,null,null,"","",null,null,null,null,null,null,null,null,0,0,0,0,0,0,0,0,0,0,0,0,0,0,0,0,0,0,null,"","","","","","","",null,null,null,null,0,0,"00"]
[161,null,null,null,null,null,null,null,null,null,null,null,null,"","","",null,null,null,null,"","",null,null,null,null,null,null,null,null,0,0,0,0,0,0,0,0,0,0,0,0,0,0,0,0,0,0,null,"","","","","","","",null,null,null,null,0,0,"00"]
[162,null,null,null,null,null,null,null,null,null,null,null,null,"","","",null,null,null,null,"","",null,null,null,null,null,null,null,null,0,0,0,0,0,0,0,0,0,0,0,0,0,0,0,0,0,0,null,"","","","","","","",null,null,null,null,0,0,"00"]
[163,null,null,null,null,null,null,null,null,null,null,null,null,"","","",null,null,null,null,"","",null,null,null,null,null,null,null,null,0,0,0,0,0,0,0,0,0,0,0,0,0,0,0,0,0,0,null,"","","","","","","",null,null,null,null,0,0,"00"]
[164,null,null,null,null,null,null,null,null,null,null,null,null,"","","",null,null,null,null,"","",null,null,null,null,null,null,null,null,0,0,0,0,0,0,0,0,0,0,0,0,0,0,0,0,0,0,null,"","","","","","","",null,null,null,null,0,0,"00"]
[165,null,null,null,null,null,null,null,null,null,null,null,null,"","","",null,null,null,null,"","",null,null,null,null,null,null,null,null,0,0,0,0,0,0,0,0,0,0,0,0,0,0,0,0,0,0,null,"","","","","","","",null,null,null,null,0,0,"00"]
[166,null,null,null,null,null,null,null,null,null,null,null,null,"","","",null,null,null,null,"","",null,null,null,null,null,null,null,null,0,0,0,0,0,0,0,0,0,0,0,0,0,0,0,0,0,0,null,"","","","","","","",null,null,null,null,0,0,"00"]
[167,null,null,null,null,null,null,null,null,null,null,null,null,"","","",null,null,null,null,"","",null,null,null,null,null,null,null,null,0,0,0,0,0,0,0,0,0,0,0,0,0,0,0,0,0,0,null,"","","","","","","",null,null,null,null,0,0,"00"]
[168,null,null,null,null,null,null,null,null,null,null,null,null,"","","",null,null,null,null,"","",null,null,null,null,null,null,null,null,0,0,0,0,0,0,0,0,0,0,0,0,0,0,0,0,0,0,null,"","","","","","","",null,null,null,null,0,0,"00"]
[169,null,null,null,null,null,null,null,null,null,null,null,null,"","","",null,null,null,null,"","",null,null,null,null,null,null,null,null,0,0,0,0,0,0,0,0,0,0,0,0,0,0,0,0,0,0,null,"","","","","","","",null,null,null,null,0,0,"00"]
[170,null,null,null,null,null,null,null,null,null,null,null,null,"","","",null,null,null,null,"","",null,null,null,null,null,null,null,null,0,0,0,0,0,0,0,0,0,0,0,0,0,0,0,0,0,0,null,"","","","","","","",null,null,null,null,0,0,"00"]
[171,null,null,null,null,null,null,null,null,null,null,null,null,"","","",null,null,null,null,"","",null,null,null,null,null,null,null,null,0,0,0,0,0,0,0,0,0,0,0,0,0,0,0,0,0,0,null,"","","","","","","",null,null,null,null,0,0,"00"]
[172,null,null,null,null,null,null,null,null,null,null,null,null,"","","",null,null,null,null,"","",null,null,null,null,null,null,null,null,0,0,0,0,0,0,0,0,0,0,0,0,0,0,0,0,0,0,null,"","","","","","","",null,null,null,null,0,0,"00"]
[173,null,null,null,null,null,null,null,null,null,null,null,null,"","","",null,null,null,null,"","",null,null,null,null,null,null,null,null,0,0,0,0,0,0,0,0,0,0,0,0,0,0,0,0,0,0,null,"","","","","","","",null,null,null,null,0,0,"00"]
[174,null,null,null,null,null,null,null,null,null,null,null,null,"","","",null,null,null,null,"","",null,null,null,null,null,null,null,null,0,0,0,0,0,0,0,0,0,0,0,0,0,0,0,0,0,0,null,"","","","","","","",null,null,null,null,0,0,"00"]
[175,null,null,null,null,null,null,null,null,null,null,null,null,"","","",null,null,null,null,"","",null,null,null,null,null,null,null,null,0,0,0,0,0,0,0,0,0,0,0,0,0,0,0,0,0,0,null,"","","","","","","",null,null,null,null,0,0,"00"]
[176,null,null,null,null,null,null,null,null,null,null,null,null,"","","",null,null,null,null,"","",null,null,null,null,null,null,null,null,0,0,0,0,0,0,0,0,0,0,0,0,0,0,0,0,0,0,null,"","","","","","","",null,null,null,null,0,0,"00"]
[177,null,null,null,null,null,null,null,null,null,null,null,null,"","","",null,null,null,null,"","",null,null,null,null,null,null,null,null,0,0,0,0,0,0,0,0,0,0,0,0,0,0,0,0,0,0,null,"","","","","","","",null,null,null,null,0,0,"00"]
[178,null,null,null,null,null,null,null,null,null,null,null,null,"","","",null,null,null,null,"","",null,null,null,null,null,null,null,null,0,0,0,0,0,0,0,0,0,0,0,0,0,0,0,0,0,0,null,"","","","","","","",null,null,null,null,0,0,"00"]
[179,null,null,null,null,null,null,null,null,null,null,null,null,"","","",null,null,null,null,"","",null,null,null,null,null,null,null,null,0,0,0,0,0,0,0,0,0,0,0,0,0,0,0,0,0,0,null,"","","","","","","",null,null,null,null,0,0,"00"]
[180,null,null,null,null,null,null,null,null,null,null,null,null,"","","",null,null,null,null,"","",null,null,null,null,null,null,null,null,0,0,0,0,0,0,0,0,0,0,0,0,0,0,0,0,0,0,null,"","","","","","","",null,null,null,null,0,0,"00"]
[]
[]
[]
[]
[]
[]
[]
[]
[]
[]
[]
[]
[]
[]
[]
["員弁ＲＣ",null,400,null,null,"桑員"]
["いなべTFC",null,401,null,null,"桑員"]
["七和ＲＣ",null,402,null,null,"桑員"]
["大山田ＡＣ",null,403,null,null,"桑員"]
["笹尾ＡＣ",null,404,null,null,"桑員"]
["藤原陸上ク",null,405,null,null,"桑員"]
["多度陸上少",null,406,null,null,"桑員"]
["北勢ＲＣ",null,407,null,null,"桑員"]
["神田クラブ",null,541,null,null,"桑員"]
["三浜陸上",null,408,null,null,"三泗"]
["内部陸上少",null,409,null,null,"三泗"]
["保々ＲＣ",null,410,null,null,"三泗"]
["Y.W.C",null,411,null,null,"三泗"]
["楠陸上Jｒ",null,412,null,null,"三泗"]
["朝日陸上少",null,413,null,null,"三泗"]
["川越陸上少",null,414,null,null,"三泗"]
["菰野ＳＣ",null,415,null,null,"三泗"]
["三重",null,676,null,null,"三泗"]
["KUSUPO",null,451,null,null,"三泗"]
["ｱｽﾘｰﾄY",null,468,null,null,"三泗"]
["石薬師RC",null,416,null,null,"鈴鹿"]
["ASSA-TC",null,418,null,null,"鈴鹿"]
["一ノ宮",null,454,null,null,"鈴鹿"]
["イムラＡＡ",null,455,null,null,"鈴鹿"]
["旭が丘",null,467,null,null,"鈴鹿"]
["JAC亀山",null,419,null,null,"亀山"]
["一志Beast",null,420,null,null,"津　"]
["津陸上ク",null,421,null,null,"津　"]
["橋南スポク",null,422,null,null,"津　"]
["美杉陸上ク",null,424,null,null,"津　"]
["J＆E久居",null,466,null,null,"津　"]
["ﾁｰﾑG松陸",null,425,null,null,"松阪"]
["ＵＲＣ",null,452,null,null,"松阪"]
["多気ＲＣ",null,427,null,null,"多気"]
["多気陸上教室",null,540,null,null,"多気"]
["北浜陸上ク",null,429,null,null,"伊勢"]
["厚生ＡＣ",null,430,null,null,"伊勢"]
["宮川Jr陸上",null,431,null,null,"伊勢"]
["南勢陸上ク",null,432,null,null,"伊勢"]
["SMAC陸上ク",null,434,null,null,"伊勢"]
["SunTFC",null,435,null,null,"伊勢"]
["ﾌﾘｰｽﾀｲﾙ",null,436,null,null,"伊勢"]
["南勢陸上J",null,451,null,null,"伊勢"]
["内城田ＳＣ",null,437,null,null,"度会"]
["南勢ＡＣ",null,438,null,null,"度会"]
["玉城陸上ク",null,439,null,null,"度会"]
["志摩陸上ク",null,442,null,null,"志摩"]
["国府ＡＴ",null,443,null,null,"志摩"]
["ClubEggs",null,444,null,null,"志摩"]
["ゆめが丘RC",null,447,null,null,"伊賀"]
["伊賀ＴＣ",null,448,null,null,"伊賀"]
["名張クラブ",null,446,null,null,"名張"]
["尾鷲陸上少",null,449,null,null,"尾鷲"]
["熊野ＲＣ",null,450,null,null,"熊野"]
["川島",null,679,null,null,"三泗"]
["加佐登",null,603,null,null,"鈴鹿"]
["鈴西",null,604,null,null,"鈴鹿"]
["稲生",null,605,null,null,"鈴鹿"]
["栄",null,611,null,null,"鈴鹿"]
["鈴鹿ＡＣ",null,662,null,null,"鈴鹿"]
["上野ＡＣ",null,445,null,null,"伊賀"]
["青山",null,638,null,null,"伊賀"]
["上野西",null,639,null,null,"伊賀"]
["上野東",null,642,null,null,"伊賀"]
["大山田",null,643,null,null,"伊賀"]
["神戸",null,644,null,null,"伊賀"]
["島ヶ原",null,645,null,null,"伊賀"]
["玉滝",null,646,null,null,"伊賀"]
["中瀬",null,648,null,null,"伊賀"]
["新居",null,649,null,null,"伊賀"]
["西柘植",null,650,null,null,"伊賀"]
["三田",null,653,null,null,"伊賀"]
["壬生野",null,654,null,null,"伊賀"]
["川崎ﾌﾚﾝｽﾞ",null,659,null,null,"亀山"]
["阿坂",null,614,null,null,"松阪"]
["第一",null,615,null,null,"松阪"]
["第二",null,616,null,null,"松阪"]
["第五",null,617,null,null,"松阪"]
["漕代",null,621,null,null,"松阪"]
["幸",null,622,null,null,"松阪"]
["西黒部",null,625,null,null,"松阪"]
["松尾",null,626,null,null,"松阪"]
["南",null,627,null,null,"松阪"]
["山室山",null,628,null,null,"松阪"]
["飯南ＲＣ",null,664,null,null,"松阪"]
["ＭＡＸ",null,667,null,null,"松阪"]
["東黒部",null,680,null,null,"松阪"]
["上御糸",null,630,null,null,"多気"]
["斎宮",null,631,null,null,"多気"]
["下御糸",null,633,null,null,"多気"]
["日進",null,635,null,null,"多気"]
["宮川",null,636,null,null,"多気"]
["進修",null,501,null,null,"伊勢"]
["修道",null,502,null,null,"伊勢"]
["有緝",null,503,null,null,"伊勢"]
["中島",null,505,null,null,"伊勢"]
["明倫",null,506,null,null,"伊勢"]
["神社",null,508,null,null,"伊勢"]
["浜郷",null,512,null,null,"伊勢"]
["四郷",null,513,null,null,"伊勢"]
["豊浜東",null,514,null,null,"伊勢"]
["城田",null,518,null,null,"伊勢"]
["明野",null,523,null,null,"伊勢"]
["御薗",null,524,null,null,"伊勢"]
["南島西",null,535,null,null,"度会"]
["南島東",null,536,null,null,"度会"]
["大紀",null,537,null,null,"度会"]
["度会ｴﾝﾍﾟﾗｰｽﾞ",null,541,null,null,"度会"]
["いすずＵＫ",null,543,null,null,"伊勢"]
["外城田",null,671,null,null,"度会"]
["桃取",null,574,null,null,"鳥羽"]
["安楽島",null,575,null,null,"鳥羽"]
["加茂",null,576,null,null,"鳥羽"]
["鏡浦",null,577,null,null,"鳥羽"]
["神島",null,581,null,null,"鳥羽"]
["菅島",null,582,null,null,"鳥羽"]
["鳥羽",null,583,null,null,"鳥羽"]
["答志",null,584,null,null,"鳥羽"]
["浜島",null,590,null,null,"志摩"]
["布施田",null,592,null,null,"志摩"]
["和具",null,595,null,null,"志摩"]

{"sheet":"名簿","index":5,"n_rows":320,"n_cols":63,"rows_kept":320,"cut":false,"hidden":false,"merged":[[2,10,2,12],[0,1,0,4],[1,1,1,4]]}
["所属名",null,null,null,null,"所属ｺｰﾄﾞ",{"$f":"前年度登録!G1","v":""}]
["代表者",{"$f":"前年度登録!B2","v":0},null,null,null,"連絡先",{"$f":"前年度登録!G2","v":0}]
["通しＮＯ","登録","所属",null,"登録ＮＯ","登録の","名前","ﾌﾘｶﾞﾅ","学年","性別","生年月日",null,null,"所属","学校番号","所属地",null,null,null,null,"性別",null,"公認記録記載欄・全ての申し込みに反映されます。"]
["★","日時","コード","地区",3333,"種類","三重　太郎","ﾐｴﾀﾛｳ",3,"男・女","生年","月","日","三重",250129,"三重",null,null,null,null,null,null,60,100,1000,800,"80H","走高跳","走幅跳","ボール投","6年100","5･6年800","5･6年80H","5･6年走幅跳","5･6年ボール投","5年100","5･6年走高跳","4年60","3年60","6年1000","6年走幅跳","5･6年800","5年走幅跳","1年60","2年60","6年800","5年800","4年100",null,"TRIM","数","空","名","姓","名"]
[1,null,null,null,null,null,null,null,null,null,null,null,null,{"$f":"IF(B1=\"\",\"\",B1)","v":""},{"$f":"IF(N5=\"\",\"\",VLOOKUP(N5,所属コード!$A$2:$F$187,2,FALSE))","v":""},{"$f":"G1","v":""},"男",null,null,null,{"$f":"IF(J5=\"\",\"\",IF(J5=\"男\",1,2))","v":""},{"$f":"ASC(H5)","v":""},null,null,null,null,null,null,null,null,{"$f":"X5","v":0},{"$f":"Y5","v":0},{"$f":"AA5","v":0},{"$f":"AC5","v":0},{"$f":"AD5","v":0},{"$f":"X5","v":0},{"$f":"AB5","v":0},{"$f":"W5","v":0},{"$f":"W5","v":0},{"$f":"Y5","v":0},{"$f":"AC5","v":0},{"$f":"Y5","v":0},{"$f":"AC5","v":0},{"$f":"W5","v":0},{"$f":"W5","v":0},{"$f":"Z5","v":0},{"$f":"Z5","v":0},{"$f":"X5","v":0},null,{"$f":"TRIM(G5)","v":""},{"$f":"IF(AX5=\"\",\"\",LEN(AX5))","v":""},{"$f":"IF(AX5=\"\",\"\",FIND(\"　\",AX5,1))","v":""},{"$f":"IF(AX5=\"\",\"\",AY5-AZ5)","v":""},{"$f":"IF(AX5=\"\",\"\",LEFT(AX5,AZ5-1))","v":""},{"$f":"IF(AX5=\"\",\"\",RIGHT(AX5,BA5))","v":""},{"$f":"IF(AX5=\"\",\"\",IF(AY5=4,CONCATENATE(BB5,\"　\",\"　\",BC5),IF(AY5=6,CONCATENATE(BB5,BC5),AX5)))","v":""},null,null,null,null,{"$f":"IF(L5=1,\"01\",IF(L5=2,\"02\",IF(L5=3,\"03\",IF(L5=4,\"04\",IF(L5=5,\"05\",IF(L5=6,\"06\",IF(L5=7,\"07\",IF(L5=8,\"08\",IF(L5=9,\"09\",L5)))))))))","v":0},{"$f":"IF(M5=1,\"01\",IF(M5=2,\"02\",IF(M5=3,\"03\",IF(M5=4,\"04\",IF(M5=5,\"05\",IF(M5=6,\"06\",IF(M5=7,\"07\",IF(M5=8,\"08\",IF(M5=9,\"09\",M5)))))))))","v":0},{"$f":"CONCATENATE(BI5,BJ5)","v":"00"}]
[2,null,null,null,null,null,null,null,null,null,null,null,null,{"$f":"IF(G6=\"\",\"\",$N$5)","v":""},{"$f":"IF(G6=\"\",\"\",$O$5)","v":""},{"$f":"IF(G6=\"\",\"\",$P$5)","v":""},"女",null,null,null,"",{"$f":"ASC(H6)","v":""},null,null,null,null,null,null,null,null,{"$f":"X6","v":0},{"$f":"Y6","v":0},{"$f":"AA6","v":0},{"$f":"AC6","v":0},{"$f":"AD6","v":0},{"$f":"X6","v":0},{"$f":"AB6","v":0},{"$f":"W6","v":0},{"$f":"W6","v":0},{"$f":"Y6","v":0},{"$f":"AC6","v":0},{"$f":"Y6","v":0},{"$f":"AC6","v":0},{"$f":"W6","v":0},{"$f":"W6","v":0},{"$f":"Z6","v":0},{"$f":"Z6","v":0},{"$f":"X6","v":0},null,{"$f":"TRIM(G6)","v":""},{"$f":"IF(AX6=\"\",\"\",LEN(AX6))","v":""},{"$f":"IF(AX6=\"\",\"\",FIND(\"　\",AX6,1))","v":""},{"$f":"IF(AX6=\"\",\"\",AY6-AZ6)","v":""},{"$f":"IF(AX6=\"\",\"\",LEFT(AX6,AZ6-1))","v":""},{"$f":"IF(AX6=\"\",\"\",RIGHT(AX6,BA6))","v":""},{"$f":"IF(AX6=\"\",\"\",IF(AY6=4,CONCATENATE(BB6,\"　\",\"　\",BC6),IF(AY6=6,CONCATENATE(BB6,BC6),AX6)))","v":""},null,null,null,null,{"$f":"IF(L6=1,\"01\",IF(L6=2,\"02\",IF(L6=3,\"03\",IF(L6=4,\"04\",IF(L6=5,\"05\",IF(L6=6,\"06\",IF(L6=7,\"07\",IF(L6=8,\"08\",IF(L6=9,\"09\",L6)))))))))","v":0},{"$f":"IF(M6=1,\"01\",IF(M6=2,\"02\",IF(M6=3,\"03\",IF(M6=4,\"04\",IF(M6=5,\"05\",IF(M6=6,\"06\",IF(M6=7,\"07\",IF(M6=8,\"08\",IF(M6=9,\"09\",M6)))))))))","v":0},{"$f":"CONCATENATE(BI6,BJ6)","v":"00"}]
[3,null,null,null,null,null,null,null,null,null,null,null,null,{"$f":"IF(G7=\"\",\"\",$N$5)","v":""},"",{"$f":"IF(G7=\"\",\"\",$P$5)","v":""},23,null,null,null,"","",null,null,null,null,null,null,null,null,0,0,0,0,0,0,0,0,0,0,0,0,0,0,0,0,0,0,null,"","","","","","","",null,null,null,null,0,0,"00"]
[4,null,null,null,null,null,null,null,null,null,null,null,null,"","","",null,null,null,null,"","",null,null,null,null,null,null,null,null,0,0,0,0,0,0,0,0,0,0,0,0,0,0,0,0,0,0,null,"","","","","","","",null,null,null,null,0,0,"00"]
[5,null,null,null,null,null,null,null,null,null,null,null,null,"","","",null,null,null,null,"","",null,null,null,null,null,null,null,null,0,0,0,0,0,0,0,0,0,0,0,0,0,0,0,0,0,0,null,"","","","","","","",null,null,null,null,0,0,"00"]
[6,null,null,null,null,null,null,null,null,null,null,null,null,"","","",null,null,null,null,"","",null,null,null,null,null,null,null,null,0,0,0,0,0,0,0,0,0,0,0,0,0,0,0,0,0,0,null,"","","","","","","",null,null,null,null,0,0,"00"]
[7,null,null,null,null,null,null,null,null,null,null,null,null,"","","",null,null,null,null,"","",null,null,null,null,null,null,null,null,0,0,0,0,0,0,0,0,0,0,0,0,0,0,0,0,0,0,null,"","","","","","","",null,null,null,null,0,0,"00"]
[8,null,null,null,null,null,null,null,null,null,null,null,null,"","","",null,null,null,null,"","",null,null,null,null,null,null,null,null,0,0,0,0,0,0,0,0,0,0,0,0,0,0,0,0,0,0,null,"","","","","","","",null,null,null,null,0,0,"00"]
[9,null,null,null,null,null,null,null,null,null,null,null,null,"","","",null,null,null,null,"","",null,null,null,null,null,null,null,null,0,0,0,0,0,0,0,0,0,0,0,0,0,0,0,0,0,0,null,"","","","","","","",null,null,null,null,0,0,"00"]
[10,null,null,null,null,null,null,null,null,null,null,null,null,"","","",null,null,null,null,"","",null,null,null,null,null,null,null,null,0,0,0,0,0,0,0,0,0,0,0,0,0,0,0,0,0,0,null,"","","","","","","",null,null,null,null,0,0,"00"]
[11,null,null,null,null,null,null,null,null,null,null,null,null,"","","",null,null,null,null,"","",null,null,null,null,null,null,null,null,0,0,0,0,0,0,0,0,0,0,0,0,0,0,0,0,0,0,null,"","","","","","","",null,null,null,null,0,0,"00"]
[12,null,null,null,null,null,null,null,null,null,null,null,null,"","","",null,null,null,null,"","",null,null,null,null,null,null,null,null,0,0,0,0,0,0,0,0,0,0,0,0,0,0,0,0,0,0,null,"","","","","","","",null,null,null,null,0,0,"00"]
[13,null,null,null,null,null,null,null,null,null,null,null,null,"","","",null,null,null,null,"","",null,null,null,null,null,null,null,null,0,0,0,0,0,0,0,0,0,0,0,0,0,0,0,0,0,0,null,"","","","","","","",null,null,null,null,0,0,"00"]
[14,null,null,null,null,null,null,null,null,null,null,null,null,"","","",null,null,null,null,"","",null,null,null,null,null,null,null,null,0,0,0,0,0,0,0,0,0,0,0,0,0,0,0,0,0,0,null,"","","","","","","",null,null,null,null,0,0,"00"]
[15,null,null,null,null,null,null,null,null,null,null,null,null,"","","",null,null,null,null,"","",null,null,null,null,null,null,null,null,0,0,0,0,0,0,0,0,0,0,0,0,0,0,0,0,0,0,null,"","","","","","","",null,null,null,null,0,0,"00"]
[16,null,null,null,null,null,null,null,null,null,null,null,null,"","","",null,null,null,null,"","",null,null,null,null,null,null,null,null,0,0,0,0,0,0,0,0,0,0,0,0,0,0,0,0,0,0,null,"","","","","","","",null,null,null,null,0,0,"00"]
[17,null,null,null,null,null,null,null,null,null,null,null,null,"","","",null,null,null,null,"","",null,null,null,null,null,null,null,null,0,0,0,0,0,0,0,0,0,0,0,0,0,0,0,0,0,0,null,"","","","","","","",null,null,null,null,0,0,"00"]
[18,null,null,null,null,null,null,null,null,null,null,null,null,"","","",null,null,null,null,"","",null,null,null,null,null,null,null,null,0,0,0,0,0,0,0,0,0,0,0,0,0,0,0,0,0,0,null,"","","","","","","",null,null,null,null,0,0,"00"]
[19,null,null,null,null,null,null,null,null,null,null,null,null,"","","",null,null,null,null,"","",null,null,null,null,null,null,null,null,0,0,0,0,0,0,0,0,0,0,0,0,0,0,0,0,0,0,null,"","","","","","","",null,null,null,null,0,0,"00"]
[20,null,null,null,null,null,null,null,null,null,null,null,null,"","","",null,null,null,null,"","",null,null,null,null,null,null,null,null,0,0,0,0,0,0,0,0,0,0,0,0,0,0,0,0,0,0,null,"","","","","","","",null,null,null,null,0,0,"00"]
[21,null,null,null,null,null,null,null,null,null,null,null,null,"","","",null,null,null,null,"","",null,null,null,null,null,null,null,null,0,0,0,0,0,0,0,0,0,0,0,0,0,0,0,0,0,0,null,"","","","","","","",null,null,null,null,0,0,"00"]
[22,null,null,null,null,null,null,null,null,null,null,null,null,"","","",null,null,null,null,"","",null,null,null,null,null,null,null,null,0,0,0,0,0,0,0,0,0,0,0,0,0,0,0,0,0,0,null,"","","","","","","",null,null,null,null,0,0,"00"]
[23,null,null,null,null,null,null,null,null,null,null,null,null,"","","",null,null,null,null,"","",null,null,null,null,null,null,null,null,0,0,0,0,0,0,0,0,0,0,0,0,0,0,0,0,0,0,null,"","","","","","","",null,null,null,null,0,0,"00"]
[24,null,null,null,null,null,null,null,null,null,null,null,null,"","","",null,null,null,null,"","",null,null,null,null,null,null,null,null,0,0,0,0,0,0,0,0,0,0,0,0,0,0,0,0,0,0,null,"","","","","","","",null,null,null,null,0,0,"00"]
[25,null,null,null,null,null,null,null,null,null,null,null,null,"","","",null,null,null,null,"","",null,null,null,null,null,null,null,null,0,0,0,0,0,0,0,0,0,0,0,0,0,0,0,0,0,0,null,"","","","","","","",null,null,null,null,0,0,"00"]
[26,null,null,null,null,null,null,null,null,null,null,null,null,"","","",null,null,null,null,"","",null,null,null,null,null,null,null,null,0,0,0,0,0,0,0,0,0,0,0,0,0,0,0,0,0,0,null,"","","","","","","",null,null,null,null,0,0,"00"]
[27,null,null,null,null,null,null,null,null,null,null,null,null,"","","",null,null,null,null,"","",null,null,null,null,null,null,null,null,0,0,0,0,0,0,0,0,0,0,0,0,0,0,0,0,0,0,null,"","","","","","","",null,null,null,null,0,0,"00"]
[28,null,null,null,null,null,null,null,null,null,null,null,null,"","","",null,null,null,null,"","",null,null,null,null,null,null,null,null,0,0,0,0,0,0,0,0,0,0,0,0,0,0,0,0,0,0,null,"","","","","","","",null,null,null,null,0,0,"00"]
[29,null,null,null,null,null,null,null,null,null,null,null,null,"","","",null,null,null,null,"","",null,null,null,null,null,null,null,null,0,0,0,0,0,0,0,0,0,0,0,0,0,0,0,0,0,0,null,"","","","","","","",null,null,null,null,0,0,"00"]
[30,null,null,null,null,null,null,null,null,null,null,null,null,"","","",null,null,null,null,"","",null,null,null,null,null,null,null,null,0,0,0,0,0,0,0,0,0,0,0,0,0,0,0,0,0,0,null,"","","","","","","",null,null,null,null,0,0,"00"]
[31,null,null,null,null,null,null,null,null,null,null,null,null,"","","",null,null,null,null,"","",null,null,null,null,null,null,null,null,0,0,0,0,0,0,0,0,0,0,0,0,0,0,0,0,0,0,null,"","","","","","","",null,null,null,null,0,0,"00"]
[32,null,null,null,null,null,null,null,null,null,null,null,null,"","","",null,null,null,null,"","",null,null,null,null,null,null,null,null,0,0,0,0,0,0,0,0,0,0,0,0,0,0,0,0,0,0,null,"","","","","","","",null,null,null,null,0,0,"00"]
[33,null,null,null,null,null,null,null,null,null,null,null,null,"","","",null,null,null,null,{"$f":"IF(J37=\"\",\"\",IF(J37=\"男\",1,2))","v":""},"",null,null,null,null,null,null,null,null,0,0,0,0,0,0,0,0,0,0,0,0,0,0,0,0,0,0,null,"","","","","","","",null,null,null,null,0,0,"00"]
[34,null,null,null,null,null,null,null,null,null,null,null,null,"","","",null,null,null,null,"","",null,null,null,null,null,null,null,null,0,0,0,0,0,0,0,0,0,0,0,0,0,0,0,0,0,0,null,"","","","","","","",null,null,null,null,0,0,"00"]
[35,null,null,null,null,null,null,null,null,null,null,null,null,"","","",null,null,null,null,"","",null,null,null,null,null,null,null,null,0,0,0,0,0,0,0,0,0,0,0,0,0,0,0,0,0,0,null,"","","","","","","",null,null,null,null,0,0,"00"]
[36,null,null,null,null,null,null,null,null,null,null,null,null,"","","",null,null,null,null,"","",null,null,null,null,null,null,null,null,0,0,0,0,0,0,0,0,0,0,0,0,0,0,0,0,0,0,null,"","","","","","","",null,null,null,null,0,0,"00"]
[37,null,null,null,null,null,null,null,null,null,null,null,null,"","","",null,null,null,null,"","",null,null,null,null,null,null,null,null,0,0,0,0,0,0,0,0,0,0,0,0,0,0,0,0,0,0,null,"","","","","","","",null,null,null,null,0,0,"00"]
[38,null,null,null,null,null,null,null,null,null,null,null,null,"","","",null,null,null,null,"","",null,null,null,null,null,null,null,null,0,0,0,0,0,0,0,0,0,0,0,0,0,0,0,0,0,0,null,"","","","","","","",null,null,null,null,0,0,"00"]
[39,null,null,null,null,null,null,null,null,null,null,null,null,"","","",null,null,null,null,"","",null,null,null,null,null,null,null,null,0,0,0,0,0,0,0,0,0,0,0,0,0,0,0,0,0,0,null,"","","","","","","",null,null,null,null,0,0,"00"]
[40,null,null,null,null,null,null,null,null,null,null,null,null,"","","",null,null,null,null,"","",null,null,null,null,null,null,null,null,0,0,0,0,0,0,0,0,0,0,0,0,0,0,0,0,0,0,null,"","","","","","","",null,null,null,null,0,0,"00"]
[41,null,null,null,null,null,null,null,null,null,null,null,null,"","","",null,null,null,null,"","",null,null,null,null,null,null,null,null,0,0,0,0,0,0,0,0,0,0,0,0,0,0,0,0,0,0,null,"","","","","","","",null,null,null,null,0,0,"00"]
[42,null,null,null,null,null,null,null,null,null,null,null,null,"","","",null,null,null,null,"","",null,null,null,null,null,null,null,null,0,0,0,0,0,0,0,0,0,0,0,0,0,0,0,0,0,0,null,"","","","","","","",null,null,null,null,0,0,"00"]
[43,null,null,null,null,null,null,null,null,null,null,null,null,"","","",null,null,null,null,"","",null,null,null,null,null,null,null,null,0,0,0,0,0,0,0,0,0,0,0,0,0,0,0,0,0,0,null,"","","","","","","",null,null,null,null,0,0,"00"]
[44,null,null,null,null,null,null,null,null,null,null,null,null,"","","",null,null,null,null,"","",null,null,null,null,null,null,null,null,0,0,0,0,0,0,0,0,0,0,0,0,0,{"$f":"W48","v":0},{"$f":"W48","v":0},0,0,{"$f":"X48","v":0},null,"","","","","","","",null,null,null,null,0,0,"00"]
[45,null,null,null,null,null,null,null,null,null,null,null,null,"","","",null,null,null,null,"","",null,null,null,null,null,null,null,null,0,0,0,0,0,0,0,0,0,0,0,0,0,0,0,0,0,0,null,"","","","","","","",null,null,null,null,0,0,"00"]
[46,null,null,null,null,null,null,null,null,null,null,null,null,"","","",null,null,null,null,"","",null,null,null,null,null,null,null,null,0,0,0,0,0,0,0,0,0,0,0,0,0,0,0,0,0,0,null,"","","","","","","",null,null,null,null,0,0,"00"]
[47,null,null,null,null,null,null,null,null,null,null,null,null,"","","",null,null,null,null,"","",null,null,null,null,null,null,null,null,0,0,0,0,0,0,0,0,0,0,0,0,0,0,0,0,0,0,null,"","","","","","","",null,null,null,null,0,0,"00"]
[48,null,null,null,null,null,null,null,null,null,null,null,null,"","","",null,null,null,null,"","",null,null,null,null,null,null,null,null,0,0,0,0,0,0,0,0,0,0,0,0,0,0,0,0,0,0,null,"","","","","","","",null,null,null,null,0,0,"00"]
[49,null,null,null,null,null,null,null,null,null,null,null,null,"","","",null,null,null,null,"","",null,null,null,null,null,null,null,null,0,0,0,0,0,0,0,0,0,0,0,0,0,0,0,0,0,0,null,"","","","","","","",null,null,null,null,0,0,"00"]
[50,null,null,null,null,null,null,null,null,null,null,null,null,"","","",null,null,null,null,"","",null,null,null,null,null,null,null,null,0,0,0,0,0,0,0,0,0,0,0,0,0,0,0,0,0,0,null,"","","","","","","",null,null,null,null,0,0,"00"]
[51,null,null,null,null,null,null,null,null,null,null,null,null,"","","",null,null,null,null,"","",null,null,null,null,null,null,null,null,0,0,0,0,0,0,0,0,0,0,0,0,0,0,0,0,0,0,null,"","","","","","","",null,null,null,null,0,0,"00"]
[52,null,null,null,null,null,null,null,null,null,null,null,null,"","","",null,null,null,null,"","",null,null,null,null,null,null,null,null,0,0,0,0,0,0,0,0,0,0,0,0,0,0,0,0,0,0,null,"","","","","","","",null,null,null,null,0,0,"00"]
[53,null,null,null,null,null,null,null,null,null,null,null,null,"","","",null,null,null,null,"","",null,null,null,null,null,null,null,null,0,0,0,0,0,0,0,0,0,0,0,0,0,0,0,0,0,0,null,"","","","","","","",null,null,null,null,0,0,"00"]
[54,null,null,null,null,null,null,null,null,null,null,null,null,"","","",null,null,null,null,"","",null,null,null,null,null,null,null,null,0,0,0,0,0,0,0,0,0,0,0,0,0,0,0,0,0,0,null,"","","","","","","",null,null,null,null,0,0,"00"]
[55,null,null,null,null,null,null,null,null,null,null,null,null,"","","",null,null,null,null,"","",null,null,null,null,null,null,null,null,0,0,0,0,0,0,0,0,0,0,0,0,0,0,0,0,0,0,null,"","","","","","","",null,null,null,null,0,0,"00"]
[56,null,null,null,null,null,null,null,null,null,null,null,null,"","","",null,null,null,null,"","",null,null,null,null,null,null,null,null,0,0,0,0,0,0,0,0,0,0,0,0,0,0,0,0,0,0,null,"","","","","","","",null,null,null,null,0,0,"00"]
[57,null,null,null,null,null,null,null,null,null,null,null,null,"","","",null,null,null,null,"","",null,null,null,null,null,null,null,null,0,0,0,0,0,0,0,0,0,0,0,0,0,0,0,0,0,0,null,"","","","","","","",null,null,null,null,0,0,"00"]
[58,null,null,null,null,null,null,null,null,null,null,null,null,"","","",null,null,null,null,"","",null,null,null,null,null,null,null,null,0,0,0,0,0,0,0,0,0,0,0,0,0,0,0,0,0,0,null,"","","","","","","",null,null,null,null,0,0,"00"]
[59,null,null,null,null,null,null,null,null,null,null,null,null,"","","",null,null,null,null,"","",null,null,null,null,null,null,null,null,0,0,0,0,0,0,0,0,0,0,0,0,0,0,0,0,0,0,null,"","","","","","","",null,null,null,null,0,0,"00"]
[60,null,null,null,null,null,null,null,null,null,null,null,null,"","","",null,null,null,null,"","",null,null,null,null,null,null,null,null,0,0,0,0,0,0,0,0,0,0,0,0,0,0,0,0,0,0,null,"","","","","","","",null,null,null,null,0,0,"00"]
[61,null,null,null,null,null,null,null,null,null,null,null,null,"","","",null,null,null,null,"","",null,null,null,null,null,null,null,null,0,0,0,0,0,0,0,0,0,0,0,0,0,0,0,0,0,0,null,"","","","","","","",null,null,null,null,0,0,"00"]
[62,null,null,null,null,null,null,null,null,null,null,null,null,"","","",null,null,null,null,"","",null,null,null,null,null,null,null,null,0,0,0,0,0,0,0,0,0,0,0,0,0,0,0,0,0,0,null,"","","","","","","",null,null,null,null,0,0,"00"]
[63,null,null,null,null,null,null,null,null,null,null,null,null,"","","",null,null,null,null,"","",null,null,null,null,null,null,null,null,0,0,0,0,0,0,0,0,0,0,0,0,0,0,0,0,0,0,null,"","","","","","","",null,null,null,null,0,0,"00"]
[64,null,null,null,null,null,null,null,null,null,null,null,null,"","","",null,null,null,null,"","",null,null,null,null,null,null,null,null,0,0,0,0,0,0,0,0,0,0,0,0,0,0,0,0,0,0,null,"","","","","","","",null,null,null,null,0,0,"00"]
[65,null,null,null,null,null,null,null,null,null,null,null,null,"","","",null,null,null,null,{"$f":"IF(J69=\"\",\"\",IF(J69=\"男\",1,2))","v":""},"",null,null,null,null,null,null,null,null,0,0,0,0,0,0,0,0,0,0,0,0,0,0,0,0,0,0,null,"","","","","","","",null,null,null,null,0,0,"00"]
[66,null,null,null,null,null,null,null,null,null,null,null,null,"","","",null,null,null,null,"",{"$f":"ASC(H70)","v":""},null,null,null,null,null,null,null,null,{"$f":"X70","v":0},{"$f":"Y70","v":0},{"$f":"AA70","v":0},{"$f":"AC70","v":0},{"$f":"AD70","v":0},{"$f":"X70","v":0},{"$f":"AB70","v":0},{"$f":"W70","v":0},{"$f":"W70","v":0},{"$f":"Y70","v":0},{"$f":"AC70","v":0},{"$f":"Y70","v":0},{"$f":"AC70","v":0},0,0,{"$f":"Z70","v":0},{"$f":"Z70","v":0},0,null,{"$f":"TRIM(G70)","v":""},{"$f":"IF(AX70=\"\",\"\",LEN(AX70))","v":""},{"$f":"IF(AX70=\"\",\"\",FIND(\"　\",AX70,1))","v":""},{"$f":"IF(AX70=\"\",\"\",AY70-AZ70)","v":""},{"$f":"IF(AX70=\"\",\"\",LEFT(AX70,AZ70-1))","v":""},{"$f":"IF(AX70=\"\",\"\",RIGHT(AX70,BA70))","v":""},{"$f":"IF(AX70=\"\",\"\",IF(AY70=4,CONCATENATE(BB70,\"　\",\"　\",BC70),IF(AY70=6,CONCATENATE(BB70,BC70),AX70)))","v":""},null,null,null,null,{"$f":"IF(L70=1,\"01\",IF(L70=2,\"02\",IF(L70=3,\"03\",IF(L70=4,\"04\",IF(L70=5,\"05\",IF(L70=6,\"06\",IF(L70=7,\"07\",IF(L70=8,\"08\",IF(L70=9,\"09\",L70)))))))))","v":0},{"$f":"IF(M70=1,\"01\",IF(M70=2,\"02\",IF(M70=3,\"03\",IF(M70=4,\"04\",IF(M70=5,\"05\",IF(M70=6,\"06\",IF(M70=7,\"07\",IF(M70=8,\"08\",IF(M70=9,\"09\",M70)))))))))","v":0},{"$f":"CONCATENATE(BI70,BJ70)","v":"00"}]
[67,null,null,null,null,null,null,null,null,null,null,null,null,{"$f":"IF(G71=\"\",\"\",$N$5)","v":""},{"$f":"IF(G71=\"\",\"\",$O$5)","v":""},{"$f":"IF(G71=\"\",\"\",$P$5)","v":""},null,null,null,null,"","",null,null,null,null,null,null,null,null,0,0,0,0,0,0,0,0,0,0,0,0,0,0,0,0,0,0,null,"","","","","","","",null,null,null,null,0,0,"00"]
[68,null,null,null,null,null,null,null,null,null,null,null,null,"","","",null,null,null,null,"","",null,null,null,null,null,null,null,null,0,0,0,0,0,0,0,0,0,0,0,0,0,0,0,0,0,0,null,"","","","","","","",null,null,null,null,0,0,"00"]
[69,null,null,null,null,null,null,null,null,null,null,null,null,"","","",null,null,null,null,"","",null,null,null,null,null,null,null,null,0,0,0,0,0,0,0,0,0,0,0,0,0,0,0,0,0,0,null,"","","","","","","",null,null,null,null,0,0,"00"]
[70,null,null,null,null,null,null,null,null,null,null,null,null,"","","",null,null,null,null,"","",null,null,null,null,null,null,null,null,0,0,0,0,0,0,0,0,0,0,0,0,0,0,0,0,0,0,null,"","","","","","","",null,null,null,null,0,0,"00"]
[71,null,null,null,null,null,null,null,null,null,null,null,null,"","","",null,null,null,null,"","",null,null,null,null,null,null,null,null,0,0,0,0,0,0,0,0,0,0,0,0,0,0,0,0,0,0,null,"","","","","","","",null,null,null,null,0,0,"00"]
[72,null,null,null,null,null,null,null,null,null,null,null,null,"","","",null,null,null,null,"","",null,null,null,null,null,null,null,null,0,0,0,0,0,0,0,0,0,0,0,0,0,0,0,0,0,0,null,"","","","","","","",null,null,null,null,0,0,"00"]
[73,null,null,null,null,null,null,null,null,null,null,null,null,"","","",null,null,null,null,"","",null,null,null,null,null,null,null,null,0,0,0,0,0,0,0,0,0,0,0,0,0,0,0,0,0,0,null,"","","","","","","",null,null,null,null,0,0,"00"]
[74,null,null,null,null,null,null,null,null,null,null,null,null,"","","",null,null,null,null,"","",null,null,null,null,null,null,null,null,0,0,0,0,0,0,0,0,0,0,0,0,0,0,0,0,0,0,null,"","","","","","","",null,null,null,null,0,0,"00"]
[75,null,null,null,null,null,null,null,null,null,null,null,null,"","","",null,null,null,null,"","",null,null,null,null,null,null,null,null,0,0,0,0,0,0,0,0,0,0,0,0,0,0,0,0,0,0,null,"","","","","","","",null,null,null,null,0,0,"00"]
[76,null,null,null,null,null,null,null,null,null,null,null,null,"","","",null,null,null,null,"","",null,null,null,null,null,null,null,null,0,0,0,0,0,0,0,0,0,0,0,0,0,0,0,0,0,0,null,"","","","","","","",null,null,null,null,0,0,"00"]
[77,null,null,null,null,null,null,null,null,null,null,null,null,"","","",null,null,null,null,"","",null,null,null,null,null,null,null,null,0,0,0,0,0,0,0,0,0,0,0,0,0,0,0,0,0,0,null,"","","","","","","",null,null,null,null,0,0,"00"]
[78,null,null,null,null,null,null,null,null,null,null,null,null,"","","",null,null,null,null,"","",null,null,null,null,null,null,null,null,0,0,0,0,0,0,0,0,0,0,0,0,0,0,0,0,0,0,null,"","","","","","","",null,null,null,null,0,0,"00"]
[79,null,null,null,null,null,null,null,null,null,null,null,null,"","","",null,null,null,null,"","",null,null,null,null,null,null,null,null,0,0,0,0,0,0,0,0,0,0,0,0,0,0,0,0,0,0,null,"","","","","","","",null,null,null,null,0,0,"00"]
[80,null,null,null,null,null,null,null,null,null,null,null,null,"","","",null,null,null,null,"","",null,null,null,null,null,null,null,null,0,0,0,0,0,0,0,0,0,0,0,0,0,0,0,0,0,0,null,"","","","","","","",null,null,null,null,0,0,"00"]
[81,null,null,null,null,null,null,null,null,null,null,null,null,"","","",null,null,null,null,"","",null,null,null,null,null,null,null,null,0,0,0,0,0,0,0,0,0,0,0,0,0,0,0,0,0,0,null,"","","","","","","",null,null,null,null,0,0,"00"]
[82,null,null,null,null,null,null,null,null,null,null,null,null,"","","",null,null,null,null,"","",null,null,null,null,null,null,null,null,0,0,0,0,0,0,0,0,0,0,0,0,0,0,0,0,0,0,null,"","","","","","","",null,null,null,null,0,0,"00"]
[83,null,null,null,null,null,null,null,null,null,null,null,null,"","","",null,null,null,null,"","",null,null,null,null,null,null,null,null,0,0,0,0,0,0,0,0,0,0,0,0,0,0,0,0,0,0,null,"","","","","","","",null,null,null,null,0,0,"00"]
[84,null,null,null,null,null,null,null,null,null,null,null,null,"","","",null,null,null,null,"","",null,null,null,null,null,null,null,null,0,0,0,0,0,0,0,0,0,0,0,0,0,0,0,0,0,0,null,"","","","","","","",null,null,null,null,0,0,"00"]
[85,null,null,null,null,null,null,null,null,null,null,null,null,"","","",null,null,null,null,"","",null,null,null,null,null,null,null,null,0,0,0,0,0,0,0,0,0,0,0,0,0,0,0,0,0,0,null,"","","","","","","",null,null,null,null,0,0,"00"]
[86,null,null,null,null,null,null,null,null,null,null,null,null,"","","",null,null,null,null,"","",null,null,null,null,null,null,null,null,0,0,0,0,0,0,0,0,0,0,0,0,0,0,0,0,0,0,null,"","","","","","","",null,null,null,null,0,0,"00"]
[87,null,null,null,null,null,null,null,null,null,null,null,null,"","","",null,null,null,null,"","",null,null,null,null,null,null,null,null,0,0,0,0,0,0,0,0,0,0,0,0,0,0,0,0,0,0,null,"","","","","","","",null,null,null,null,0,0,"00"]
[88,null,null,null,null,null,null,null,null,null,null,null,null,"","","",null,null,null,null,"","",null,null,null,null,null,null,null,null,0,0,0,0,0,0,0,0,0,0,0,0,0,0,0,0,0,0,null,"","","","","","","",null,null,null,null,0,0,"00"]
[89,null,null,null,null,null,null,null,null,null,null,null,null,"","","",null,null,null,null,"","",null,null,null,null,null,null,null,null,0,0,0,0,0,0,0,0,0,0,0,0,0,0,0,0,0,0,null,"","","","","","","",null,null,null,null,0,0,"00"]
[90,null,null,null,null,null,null,null,null,null,null,null,null,"","","",null,null,null,null,"","",null,null,null,null,null,null,null,null,0,0,0,0,0,0,0,0,0,0,0,0,0,0,0,0,0,0,null,"","","","","","","",null,null,null,null,0,0,"00"]
[91,null,null,null,null,null,null,null,null,null,null,null,null,"","","",null,null,null,null,"","",null,null,null,null,null,null,null,null,0,0,0,0,0,0,0,0,0,0,0,0,0,0,0,0,0,0,null,"","","","","","","",null,null,null,null,0,0,"00"]
[92,null,null,null,null,null,null,null,null,null,null,null,null,"","","",null,null,null,null,"","",null,null,null,null,null,null,null,null,0,0,0,0,0,0,0,0,0,0,0,0,0,0,0,0,0,0,null,"","","","","","","",null,null,null,null,0,0,"00"]
[93,null,null,null,null,null,null,null,null,null,null,null,null,"","","",null,null,null,null,"","",null,null,null,null,null,null,null,null,0,0,0,0,0,0,0,0,0,0,0,0,0,0,0,0,0,0,null,"","","","","","","",null,null,null,null,0,0,"00"]
[94,null,null,null,null,null,null,null,null,null,null,null,null,"","","",null,null,null,null,"","",null,null,null,null,null,null,null,null,0,0,0,0,0,0,0,0,0,0,0,0,0,0,0,0,0,0,null,"","","","","","","",null,null,null,null,0,0,"00"]
[95,null,null,null,null,null,null,null,null,null,null,null,null,"","","",null,null,null,null,"","",null,null,null,null,null,null,null,null,0,0,0,0,0,0,0,0,0,0,0,0,0,0,0,0,0,0,null,"","","","","","","",null,null,null,null,0,0,"00"]
[96,null,null,null,null,null,null,null,null,null,null,null,null,"","","",null,null,null,null,"","",null,null,null,null,null,null,null,null,0,0,0,0,0,0,0,0,0,0,0,0,0,{"$f":"W100","v":0},{"$f":"W100","v":0},0,0,{"$f":"X100","v":0},null,"","","","","","","",null,null,null,null,0,0,"00"]
[97,null,null,null,null,null,null,null,null,null,null,null,null,"","","",null,null,null,null,{"$f":"IF(J101=\"\",\"\",IF(J101=\"男\",1,2))","v":""},"",null,null,null,null,null,null,null,null,0,0,0,0,0,0,0,0,0,0,0,0,0,0,0,0,0,0,null,"","","","","","","",null,null,null,null,0,0,"00"]
[98,null,null,null,null,null,null,null,null,null,null,null,null,"","","",null,null,null,null,"","",null,null,null,null,null,null,null,null,0,0,0,0,0,0,0,0,0,0,0,0,0,0,0,0,0,0,null,"","","","","","","",null,null,null,null,0,0,"00"]
[99,null,null,null,null,null,null,null,null,null,null,null,null,"","","",null,null,null,null,"","",null,null,null,null,null,null,null,null,0,0,0,0,0,0,0,0,0,0,0,0,0,0,0,0,0,0,null,"","","","","","","",null,null,null,null,0,0,"00"]
[100,null,null,null,null,null,null,null,null,null,null,null,null,{"$f":"IF(G104=\"\",\"\",$N$5)","v":""},{"$f":"IF(G104=\"\",\"\",$O$5)","v":""},{"$f":"IF(G104=\"\",\"\",$P$5)","v":""},null,null,null,null,"","",null,null,null,null,null,null,null,null,0,0,0,0,0,0,0,0,0,0,0,0,0,0,0,0,0,0,null,"","","","","","","",null,null,null,null,0,0,"00"]
[101,null,null,null,null,null,null,null,null,null,null,null,null,"","","",null,null,null,null,"","",null,null,null,null,null,null,null,null,0,0,0,0,0,0,0,0,0,0,0,0,0,0,0,0,0,0,null,"","","","","","","",null,null,null,null,0,0,"00"]
[102,null,null,null,null,null,null,null,null,null,null,null,null,"","","",null,null,null,null,"","",null,null,null,null,null,null,null,null,0,0,0,0,0,0,0,0,0,0,0,0,0,0,0,0,0,0,null,"","","","","","","",null,null,null,null,0,0,"00"]
[103,null,null,null,null,null,null,null,null,null,null,null,null,"","","",null,null,null,null,"","",null,null,null,null,null,null,null,null,0,0,0,0,0,0,0,0,0,0,0,0,0,0,0,0,0,0,null,"","","","","","","",null,null,null,null,0,0,"00"]
[104,null,null,null,null,null,null,null,null,null,null,null,null,"","","",null,null,null,null,"","",null,null,null,null,null,null,null,null,0,0,0,0,0,0,0,0,0,0,0,0,0,0,0,0,0,0,null,"","","","","","","",null,null,null,null,0,0,"00"]
[105,null,null,null,null,null,null,null,null,null,null,null,null,"","","",null,null,null,null,"","",null,null,null,null,null,null,null,null,0,0,0,0,0,0,0,0,0,0,0,0,0,0,0,0,0,0,null,"","","","","","","",null,null,null,null,0,0,"00"]
[106,null,null,null,null,null,null,null,null,null,null,null,null,"","","",null,null,null,null,"","",null,null,null,null,null,null,null,null,0,0,0,0,0,0,0,0,0,0,0,0,0,0,0,0,0,0,null,"","","","","","","",null,null,null,null,0,0,"00"]
[107,null,null,null,null,null,null,null,null,null,null,null,null,"","","",null,null,null,null,"","",null,null,null,null,null,null,null,null,0,0,0,0,0,0,0,0,0,0,0,0,0,0,0,0,0,0,null,"","","","","","","",null,null,null,null,0,0,"00"]
[108,null,null,null,null,null,null,null,null,null,null,null,null,"","","",null,null,null,null,"","",null,null,null,null,null,null,null,null,0,0,0,0,0,0,0,0,0,0,0,0,0,0,0,0,0,0,null,"","","","","","","",null,null,null,null,0,0,"00"]
[109,null,null,null,null,null,null,null,null,null,null,null,null,"","","",null,null,null,null,"","",null,null,null,null,null,null,null,null,0,0,0,0,0,0,0,0,0,0,0,0,0,0,0,0,0,0,null,"","","","","","","",null,null,null,null,0,0,"00"]
[110,null,null,null,null,null,null,null,null,null,null,null,null,"","","",null,null,null,null,"","",null,null,null,null,null,null,null,null,0,0,0,0,0,0,0,0,0,0,0,0,0,0,0,0,0,0,null,"","","","","","","",null,null,null,null,0,0,"00"]
[111,null,null,null,null,null,null,null,null,null,null,null,null,"","","",null,null,null,null,"","",null,null,null,null,null,null,null,null,0,0,0,0,0,0,0,0,0,0,0,0,0,0,0,0,0,0,null,"","","","","","","",null,null,null,null,0,0,"00"]
[112,null,null,null,null,null,null,null,null,null,null,null,null,"","","",null,null,null,null,"","",null,null,null,null,null,null,null,null,0,0,0,0,0,0,0,0,0,0,0,0,0,0,0,0,0,0,null,"","","","","","","",null,null,null,null,0,0,"00"]
[113,null,null,null,null,null,null,null,null,null,null,null,null,"","","",null,null,null,null,"","",null,null,null,null,null,null,null,null,0,0,0,0,0,0,0,0,0,0,0,0,0,0,0,0,0,0,null,"","","","","","","",null,null,null,null,0,0,"00"]
[114,null,null,null,null,null,null,null,null,null,null,null,null,"","","",null,null,null,null,"","",null,null,null,null,null,null,null,null,0,0,0,0,0,0,0,0,0,0,0,0,0,0,0,0,0,0,null,"","","","","","","",null,null,null,null,0,0,"00"]
[115,null,null,null,null,null,null,null,null,null,null,null,null,"","","",null,null,null,null,"","",null,null,null,null,null,null,null,null,0,0,0,0,0,0,0,0,0,0,0,0,0,0,0,0,0,0,null,"","","","","","","",null,null,null,null,0,0,"00"]
[116,null,null,null,null,null,null,null,null,null,null,null,null,"","","",null,null,null,null,"","",null,null,null,null,null,null,null,null,0,0,0,0,0,0,0,0,0,0,0,0,0,0,0,0,0,0,null,"","","","","","","",null,null,null,null,0,0,"00"]
[117,null,null,null,null,null,null,null,null,null,null,null,null,"","","",null,null,null,null,"","",null,null,null,null,null,null,null,null,0,0,0,0,0,0,0,0,0,0,0,0,0,0,0,0,0,0,null,"","","","","","","",null,null,null,null,0,0,"00"]
[118,null,null,null,null,null,null,null,null,null,null,null,null,"","","",null,null,null,null,"","",null,null,null,null,null,null,null,null,0,0,0,0,0,0,0,0,0,0,0,0,0,0,0,0,0,0,null,"","","","","","","",null,null,null,null,0,0,"00"]
[119,null,null,null,null,null,null,null,null,null,null,null,null,"","","",null,null,null,null,"","",null,null,null,null,null,null,null,null,0,0,0,0,0,0,0,0,0,0,0,0,0,0,0,0,0,0,null,"","","","","","","",null,null,null,null,0,0,"00"]
[120,null,null,null,null,null,null,null,null,null,null,null,null,"","","",null,null,null,null,"","",null,null,null,null,null,null,null,null,0,0,0,0,0,0,0,0,0,0,0,0,0,0,0,0,0,0,null,"","","","","","","",null,null,null,null,0,0,"00"]
[121,null,null,null,null,null,null,null,null,null,null,null,null,"","","",null,null,null,null,"","",null,null,null,null,null,null,null,null,0,0,0,0,0,0,0,0,0,0,0,0,0,0,0,0,0,0,null,"","","","","","","",null,null,null,null,0,0,"00"]
[122,null,null,null,null,null,null,null,null,null,null,null,null,"","","",null,null,null,null,"","",null,null,null,null,null,null,null,null,0,0,0,0,0,0,0,0,0,0,0,0,0,0,0,0,0,0,null,"","","","","","","",null,null,null,null,0,0,"00"]
[123,null,null,null,null,null,null,null,null,null,null,null,null,"","","",null,null,null,null,"","",null,null,null,null,null,null,null,null,0,0,0,0,0,0,0,0,0,0,0,0,0,0,0,0,0,0,null,"","","","","","","",null,null,null,null,0,0,"00"]
[124,null,null,null,null,null,null,null,null,null,null,null,null,"","","",null,null,null,null,"","",null,null,null,null,null,null,null,null,0,0,0,0,0,0,0,0,0,0,0,0,0,0,0,0,0,0,null,"","","","","","","",null,null,null,null,0,0,"00"]
[125,null,null,null,null,null,null,null,null,null,null,null,null,"","","",null,null,null,null,"","",null,null,null,null,null,null,null,null,0,0,0,0,0,0,0,0,0,0,0,0,0,0,0,0,0,0,null,"","","","","","","",null,null,null,null,0,0,"00"]
[126,null,null,null,null,null,null,null,null,null,null,null,null,"","","",null,null,null,null,"","",null,null,null,null,null,null,null,null,0,0,0,0,0,0,0,0,0,0,0,0,0,0,0,0,0,0,null,"","","","","","","",null,null,null,null,0,0,"00"]
[127,null,null,null,null,null,null,null,null,null,null,null,null,"","","",null,null,null,null,"","",null,null,null,null,null,null,null,null,0,0,0,0,0,0,0,0,0,0,0,0,0,0,0,0,0,0,null,"","","","","","","",null,null,null,null,0,0,"00"]
[128,null,null,null,null,null,null,null,null,null,null,null,null,"","","",null,null,null,null,"","",null,null,null,null,null,null,null,null,0,0,0,0,0,0,0,0,0,0,0,0,0,0,0,0,0,0,null,"","","","","","","",null,null,null,null,0,0,"00"]
[129,null,null,null,null,null,null,null,null,null,null,null,null,"","","",null,null,null,null,{"$f":"IF(J133=\"\",\"\",IF(J133=\"男\",1,2))","v":""},"",null,null,null,null,null,null,null,null,0,0,0,0,0,0,0,0,0,0,0,0,0,0,0,0,0,0,null,"","","","","","","",null,null,null,null,0,0,"00"]
[130,null,null,null,null,null,null,null,null,null,null,null,null,"","","",null,null,null,null,"",{"$f":"ASC(H134)","v":""},null,null,null,null,null,null,null,null,{"$f":"X134","v":0},{"$f":"Y134","v":0},{"$f":"AA134","v":0},{"$f":"AC134","v":0},{"$f":"AD134","v":0},{"$f":"X134","v":0},{"$f":"AB134","v":0},{"$f":"W134","v":0},{"$f":"W134","v":0},{"$f":"Y134","v":0},{"$f":"AC134","v":0},{"$f":"Y134","v":0},{"$f":"AC134","v":0},0,0,{"$f":"Z134","v":0},{"$f":"Z134","v":0},0,null,{"$f":"TRIM(G134)","v":""},{"$f":"IF(AX134=\"\",\"\",LEN(AX134))","v":""},{"$f":"IF(AX134=\"\",\"\",FIND(\"　\",AX134,1))","v":""},{"$f":"IF(AX134=\"\",\"\",AY134-AZ134)","v":""},{"$f":"IF(AX134=\"\",\"\",LEFT(AX134,AZ134-1))","v":""},{"$f":"IF(AX134=\"\",\"\",RIGHT(AX134,BA134))","v":""},{"$f":"IF(AX134=\"\",\"\",IF(AY134=4,CONCATENATE(BB134,\"　\",\"　\",BC134),IF(AY134=6,CONCATENATE(BB134,BC134),AX134)))","v":""},null,null,null,null,{"$f":"IF(L134=1,\"01\",IF(L134=2,\"02\",IF(L134=3,\"03\",IF(L134=4,\"04\",IF(L134=5,\"05\",IF(L134=6,\"06\",IF(L134=7,\"07\",IF(L134=8,\"08\",IF(L134=9,\"09\",L134)))))))))","v":0},{"$f":"IF(M134=1,\"01\",IF(M134=2,\"02\",IF(M134=3,\"03\",IF(M134=4,\"04\",IF(M134=5,\"05\",IF(M134=6,\"06\",IF(M134=7,\"07\",IF(M134=8,\"08\",IF(M134=9,\"09\",M134)))))))))","v":0},{"$f":"CONCATENATE(BI134,BJ134)","v":"00"}]
[131,null,null,null,null,null,null,null,null,null,null,null,null,"","","",null,null,null,null,"","",null,null,null,null,null,null,null,null,0,0,0,0,0,0,0,0,0,0,0,0,0,0,0,0,0,0,null,"","","","","","","",null,null,null,null,0,0,"00"]
[132,null,null,null,null,null,null,null,null,null,null,null,null,"","","",null,null,null,null,"","",null,null,null,null,null,null,null,null,0,0,0,0,0,0,0,0,0,0,0,0,0,0,0,0,0,0,null,"","","","","","","",null,null,null,null,0,0,"00"]
[133,null,null,null,null,null,null,null,null,null,null,null,null,"","","",null,null,null,null,"","",null,null,null,null,null,null,null,null,0,0,0,0,0,0,0,0,0,0,0,0,0,0,0,0,0,0,null,"","","","","","","",null,null,null,null,0,0,"00"]
[134,null,null,null,null,null,null,null,null,null,null,null,null,"","","",null,null,null,null,"","",null,null,null,null,null,null,null,null,0,0,0,0,0,0,0,0,0,0,0,0,0,0,0,0,0,0,null,"","","","","","","",null,null,null,null,0,0,"00"]
[135,null,null,null,null,null,null,null,null,null,null,null,null,"","","",null,null,null,null,"","",null,null,null,null,null,null,null,null,0,0,0,0,0,0,0,0,0,0,0,0,0,0,0,0,0,0,null,"","","","","","","",null,null,null,null,0,0,"00"]
[136,null,null,null,null,null,null,null,null,null,null,null,null,"","","",null,null,null,null,"","",null,null,null,null,null,null,null,null,0,0,0,0,0,0,0,0,0,0,0,0,0,0,0,0,0,0,null,"","","","","","","",null,null,null,null,0,0,"00"]
[137,null,null,null,null,null,null,null,null,null,null,null,null,"","","",null,null,null,null,"","",null,null,null,null,null,null,null,null,0,0,0,0,0,0,0,0,0,0,0,0,0,0,0,0,0,0,null,"","","","","","","",null,null,null,null,0,0,"00"]
[138,null,null,null,null,null,null,null,null,null,null,null,null,"","","",null,null,null,null,"","",null,null,null,null,null,null,null,null,0,0,0,0,0,0,0,0,0,0,0,0,0,0,0,0,0,0,null,"","","","","","","",null,null,null,null,0,0,"00"]
[139,null,null,null,null,null,null,null,null,null,null,null,null,"","","",null,null,null,null,"","",null,null,null,null,null,null,null,null,0,0,0,0,0,0,0,0,0,0,0,0,0,0,0,0,0,0,null,"","","","","","","",null,null,null,null,0,0,"00"]
[140,null,null,null,null,null,null,null,null,null,null,null,null,"","","",null,null,null,null,"","",null,null,null,null,null,null,null,null,0,0,0,0,0,0,0,0,0,0,0,0,0,0,0,0,0,0,null,"","","","","","","",null,null,null,null,0,0,"00"]
[141,null,null,null,null,null,null,null,null,null,null,null,null,"","","",null,null,null,null,"","",null,null,null,null,null,null,null,null,0,0,0,0,0,0,0,0,0,0,0,0,0,0,0,0,0,0,null,"","","","","","","",null,null,null,null,0,0,"00"]
[142,null,null,null,null,null,null,null,null,null,null,null,null,"","","",null,null,null,null,"","",null,null,null,null,null,null,null,null,0,0,0,0,0,0,0,0,0,0,0,0,0,0,0,0,0,0,null,"","","","","","","",null,null,null,null,0,0,"00"]
[143,null,null,null,null,null,null,null,null,null,null,null,null,"","","",null,null,null,null,"","",null,null,null,null,null,null,null,null,0,0,0,0,0,0,0,0,0,0,0,0,0,0,0,0,0,0,null,"","","","","","","",null,null,null,null,0,0,"00"]
[144,null,null,null,null,null,null,null,null,null,null,null,null,"","","",null,null,null,null,"","",null,null,null,null,null,null,null,null,0,0,0,0,0,0,0,0,0,0,0,0,0,0,0,0,0,0,null,"","","","","","","",null,null,null,null,0,0,"00"]
[145,null,null,null,null,null,null,null,null,null,null,null,null,"","","",null,null,null,null,"","",null,null,null,null,null,null,null,null,0,0,0,0,0,0,0,0,0,0,0,0,0,0,0,0,0,0,null,"","","","","","","",null,null,null,null,0,0,"00"]
[146,null,null,null,null,null,null,null,null,null,null,null,null,"","","",null,null,null,null,"","",null,null,null,null,null,null,null,null,0,0,0,0,0,0,0,0,0,0,0,0,0,0,0,0,0,0,null,"","","","","","","",null,null,null,null,0,0,"00"]
[147,null,null,null,null,null,null,null,null,null,null,null,null,"","","",null,null,null,null,"","",null,null,null,null,null,null,null,null,0,0,0,0,0,0,0,0,0,0,0,0,0,0,0,0,0,0,null,"","","","","","","",null,null,null,null,0,0,"00"]
[148,null,null,null,null,null,null,null,null,null,null,null,null,"","","",null,null,null,null,"","",null,null,null,null,null,null,null,null,0,0,0,0,0,0,0,0,0,0,0,0,0,0,0,0,0,0,null,"","","","","","","",null,null,null,null,0,0,"00"]
[149,null,null,null,null,null,null,null,null,null,null,null,null,"","","",null,null,null,null,"","",null,null,null,null,null,null,null,null,0,0,0,0,0,0,0,0,0,0,0,0,0,0,0,0,0,0,null,"","","","","","","",null,null,null,null,0,0,"00"]
[150,null,null,null,null,null,null,null,null,null,null,null,null,"","","",null,null,null,null,"","",null,null,null,null,null,null,null,null,0,0,0,0,0,0,0,0,0,0,0,0,0,0,0,0,0,0,null,"","","","","","","",null,null,null,null,0,0,"00"]
[151,null,null,null,null,null,null,null,null,null,null,null,null,"","","",null,null,null,null,"","",null,null,null,null,null,null,null,null,0,0,0,0,0,0,0,0,0,0,0,0,0,0,0,0,0,0,null,"","","","","","","",null,null,null,null,0,0,"00"]
[152,null,null,null,null,null,null,null,null,null,null,null,null,"","","",null,null,null,null,"","",null,null,null,null,null,null,null,null,0,0,0,0,0,0,0,0,0,0,0,0,0,0,0,0,0,0,null,"","","","","","","",null,null,null,null,0,0,"00"]
[153,null,null,null,null,null,null,null,null,null,null,null,null,"","","",null,null,null,null,"","",null,null,null,null,null,null,null,null,0,0,0,0,0,0,0,0,0,0,0,0,0,0,0,0,0,0,null,"","","","","","","",null,null,null,null,0,0,"00"]
[154,null,null,null,null,null,null,null,null,null,null,null,null,"","","",null,null,null,null,"","",null,null,null,null,null,null,null,null,0,0,0,0,0,0,0,0,0,0,0,0,0,0,0,0,0,0,null,"","","","","","","",null,null,null,null,0,0,"00"]
[155,null,null,null,null,null,null,null,null,null,null,null,null,"","","",null,null,null,null,"","",null,null,null,null,null,null,null,null,0,0,0,0,0,0,0,0,0,0,0,0,0,0,0,0,0,0,null,"","","","","","","",null,null,null,null,0,0,"00"]
[156,null,null,null,null,null,null,null,null,null,null,null,null,"","","",null,null,null,null,"","",null,null,null,null,null,null,null,null,0,0,0,0,0,0,0,0,0,0,0,0,0,0,0,0,0,0,null,"","","","","","","",null,null,null,null,0,0,"00"]
[157,null,null,null,null,null,null,null,null,null,null,null,null,"","","",null,null,null,null,"","",null,null,null,null,null,null,null,null,0,0,0,0,0,0,0,0,0,0,0,0,0,0,0,0,0,0,null,"","","","","","","",null,null,null,null,0,0,"00"]
[158,null,null,null,null,null,null,null,null,null,null,null,null,"","","",null,null,null,null,"","",null,null,null,null,null,null,null,null,0,0,0,0,0,0,0,0,0,0,0,0,0,0,0,0,0,0,null,"","","","","","","",null,null,null,null,0,0,"00"]
[159,null,null,null,null,null,null,null,null,null,null,null,null,"","","",null,null,null,null,"","",null,null,null,null,null,null,null,null,0,0,0,0,0,0,0,0,0,0,0,0,0,0,0,0,0,0,null,"","","","","","","",null,null,null,null,0,0,"00"]
[160,null,null,null,null,null,null,null,null,null,null,null,null,"","","",null,null,null,null,"","",null,null,null,null,null,null,null,null,0,0,0,0,0,0,0,0,0,0,0,0,0,{"$f":"W164","v":0},{"$f":"W164","v":0},0,0,{"$f":"X164","v":0},null,"","","","","","","",null,null,null,null,0,0,"00"]
[161,null,null,null,null,null,null,null,null,null,null,null,null,"","","",null,null,null,null,{"$f":"IF(J165=\"\",\"\",IF(J165=\"男\",1,2))","v":""},"",null,null,null,null,null,null,null,null,0,0,0,0,0,0,0,0,0,0,0,0,0,0,0,0,0,0,null,"","","","","","","",null,null,null,null,0,0,"00"]
[162,null,null,null,null,null,null,null,null,null,null,null,null,"","","",null,null,null,null,"","",null,null,null,null,null,null,null,null,0,0,0,0,0,0,0,0,0,0,0,0,0,0,0,0,0,0,null,"","","","","","","",null,null,null,null,0,0,"00"]
[163,null,null,null,null,null,null,null,null,null,null,null,null,"","","",null,null,null,null,"","",null,null,null,null,null,null,null,null,0,0,0,0,0,0,0,0,0,0,0,0,0,0,0,0,0,0,null,"","","","","","","",null,null,null,null,0,0,"00"]
[164,null,null,null,null,null,null,null,null,null,null,null,null,{"$f":"IF(G168=\"\",\"\",$N$5)","v":""},{"$f":"IF(G168=\"\",\"\",$O$5)","v":""},{"$f":"IF(G168=\"\",\"\",$P$5)","v":""},null,null,null,null,"","",null,null,null,null,null,null,null,null,0,0,0,0,0,0,0,0,0,0,0,0,0,0,0,0,0,0,null,"","","","","","","",null,null,null,null,0,0,"00"]
[165,null,null,null,null,null,null,null,null,null,null,null,null,"","","",null,null,null,null,"","",null,null,null,null,null,null,null,null,0,0,0,0,0,0,0,0,0,0,0,0,0,0,0,0,0,0,null,"","","","","","","",null,null,null,null,0,0,"00"]
[166,null,null,null,null,null,null,null,null,null,null,null,null,"","","",null,null,null,null,"","",null,null,null,null,null,null,null,null,0,0,0,0,0,0,0,0,0,0,0,0,0,0,0,0,0,0,null,"","","","","","","",null,null,null,null,0,0,"00"]
[167,null,null,null,null,null,null,null,null,null,null,null,null,"","","",null,null,null,null,"","",null,null,null,null,null,null,null,null,0,0,0,0,0,0,0,0,0,0,0,0,0,0,0,0,0,0,null,"","","","","","","",null,null,null,null,0,0,"00"]
[168,null,null,null,null,null,null,null,null,null,null,null,null,"","","",null,null,null,null,"","",null,null,null,null,null,null,null,null,0,0,0,0,0,0,0,0,0,0,0,0,0,0,0,0,0,0,null,"","","","","","","",null,null,null,null,0,0,"00"]
[169,null,null,null,null,null,null,null,null,null,null,null,null,"","","",null,null,null,null,"","",null,null,null,null,null,null,null,null,0,0,0,0,0,0,0,0,0,0,0,0,0,0,0,0,0,0,null,"","","","","","","",null,null,null,null,0,0,"00"]
[170,null,null,null,null,null,null,null,null,null,null,null,null,"","","",null,null,null,null,"","",null,null,null,null,null,null,null,null,0,0,0,0,0,0,0,0,0,0,0,0,0,0,0,0,0,0,null,"","","","","","","",null,null,null,null,0,0,"00"]
[171,null,null,null,null,null,null,null,null,null,null,null,null,"","","",null,null,null,null,"","",null,null,null,null,null,null,null,null,0,0,0,0,0,0,0,0,0,0,0,0,0,0,0,0,0,0,null,"","","","","","","",null,null,null,null,0,0,"00"]
[172,null,null,null,null,null,null,null,null,null,null,null,null,"","","",null,null,null,null,"","",null,null,null,null,null,null,null,null,0,0,0,0,0,0,0,0,0,0,0,0,0,0,0,0,0,0,null,"","","","","","","",null,null,null,null,0,0,"00"]
[173,null,null,null,null,null,null,null,null,null,null,null,null,"","","",null,null,null,null,"","",null,null,null,null,null,null,null,null,0,0,0,0,0,0,0,0,0,0,0,0,0,0,0,0,0,0,null,"","","","","","","",null,null,null,null,0,0,"00"]
[174,null,null,null,null,null,null,null,null,null,null,null,null,"","","",null,null,null,null,"","",null,null,null,null,null,null,null,null,0,0,0,0,0,0,0,0,0,0,0,0,0,0,0,0,0,0,null,"","","","","","","",null,null,null,null,0,0,"00"]
[175,null,null,null,null,null,null,null,null,null,null,null,null,"","","",null,null,null,null,"","",null,null,null,null,null,null,null,null,0,0,0,0,0,0,0,0,0,0,0,0,0,0,0,0,0,0,null,"","","","","","","",null,null,null,null,0,0,"00"]
[176,null,null,null,null,null,null,null,null,null,null,null,null,"","","",null,null,null,null,"","",null,null,null,null,null,null,null,null,0,0,0,0,0,0,0,0,0,0,0,0,0,0,0,0,0,0,null,"","","","","","","",null,null,null,null,0,0,"00"]
[177,null,null,null,null,null,null,null,null,null,null,null,null,"","","",null,null,null,null,"","",null,null,null,null,null,null,null,null,0,0,0,0,0,0,0,0,0,0,0,0,0,0,0,0,0,0,null,"","","","","","","",null,null,null,null,0,0,"00"]
[178,null,null,null,null,null,null,null,null,null,null,null,null,"","","",null,null,null,null,"","",null,null,null,null,null,null,null,null,0,0,0,0,0,0,0,0,0,0,0,0,0,0,0,0,0,0,null,"","","","","","","",null,null,null,null,0,0,"00"]
[179,null,null,null,null,null,null,null,null,null,null,null,null,"","","",null,null,null,null,"","",null,null,null,null,null,null,null,null,0,0,0,0,0,0,0,0,0,0,0,0,0,0,0,0,0,0,null,"","","","","","","",null,null,null,null,0,0,"00"]
[180,null,null,null,null,null,null,null,null,null,null,null,null,"","","",null,null,null,null,"","",null,null,null,null,null,null,null,null,0,0,0,0,0,0,0,0,0,0,0,0,0,0,0,0,0,0,null,"","","","","","","",null,null,null,null,0,0,"00"]
[]
[]
[]
[]
[]
[]
[]
[]
[]
[]
[]
[]
[]
[]
[]
["員弁ＲＣ",null,400,null,null,"桑員"]
["いなべTFC",null,401,null,null,"桑員"]
["七和ＲＣ",null,402,null,null,"桑員"]
["大山田ＡＣ",null,403,null,null,"桑員"]
["笹尾ＡＣ",null,404,null,null,"桑員"]
["藤原陸上ク",null,405,null,null,"桑員"]
["多度陸上少",null,406,null,null,"桑員"]
["北勢ＲＣ",null,407,null,null,"桑員"]
["神田クラブ",null,541,null,null,"桑員"]
["三浜陸上",null,408,null,null,"三泗"]
["内部陸上少",null,409,null,null,"三泗"]
["保々ＲＣ",null,410,null,null,"三泗"]
["Y.W.C",null,411,null,null,"三泗"]
["楠陸上Jｒ",null,412,null,null,"三泗"]
["朝日陸上少",null,413,null,null,"三泗"]
["川越陸上少",null,414,null,null,"三泗"]
["菰野ＳＣ",null,415,null,null,"三泗"]
["三重",null,676,null,null,"三泗"]
["KUSUPO",null,451,null,null,"三泗"]
["ｱｽﾘｰﾄY",null,468,null,null,"三泗"]
["石薬師RC",null,416,null,null,"鈴鹿"]
["ASSA-TC",null,418,null,null,"鈴鹿"]
["一ノ宮",null,454,null,null,"鈴鹿"]
["イムラＡＡ",null,455,null,null,"鈴鹿"]
["旭が丘",null,467,null,null,"鈴鹿"]
["JAC亀山",null,419,null,null,"亀山"]
["一志Beast",null,420,null,null,"津　"]
["津陸上ク",null,421,null,null,"津　"]
["橋南スポク",null,422,null,null,"津　"]
["美杉陸上ク",null,424,null,null,"津　"]
["J＆E久居",null,466,null,null,"津　"]
["ﾁｰﾑG松陸",null,425,null,null,"松阪"]
["ＵＲＣ",null,452,null,null,"松阪"]
["多気ＲＣ",null,427,null,null,"多気"]
["多気陸上教室",null,540,null,null,"多気"]
["北浜陸上ク",null,429,null,null,"伊勢"]
["厚生ＡＣ",null,430,null,null,"伊勢"]
["宮川Jr陸上",null,431,null,null,"伊勢"]
["南勢陸上ク",null,432,null,null,"伊勢"]
["SMAC陸上ク",null,434,null,null,"伊勢"]
["SunTFC",null,435,null,null,"伊勢"]
["ﾌﾘｰｽﾀｲﾙ",null,436,null,null,"伊勢"]
["南勢陸上J",null,451,null,null,"伊勢"]
["内城田ＳＣ",null,437,null,null,"度会"]
["南勢ＡＣ",null,438,null,null,"度会"]
["玉城陸上ク",null,439,null,null,"度会"]
["志摩陸上ク",null,442,null,null,"志摩"]
["国府ＡＴ",null,443,null,null,"志摩"]
["ClubEggs",null,444,null,null,"志摩"]
["ゆめが丘RC",null,447,null,null,"伊賀"]
["伊賀ＴＣ",null,448,null,null,"伊賀"]
["名張クラブ",null,446,null,null,"名張"]
["尾鷲陸上少",null,449,null,null,"尾鷲"]
["熊野ＲＣ",null,450,null,null,"熊野"]
["川島",null,679,null,null,"三泗"]
["加佐登",null,603,null,null,"鈴鹿"]
["鈴西",null,604,null,null,"鈴鹿"]
["稲生",null,605,null,null,"鈴鹿"]
["栄",null,611,null,null,"鈴鹿"]
["鈴鹿ＡＣ",null,662,null,null,"鈴鹿"]
["上野ＡＣ",null,445,null,null,"伊賀"]
["青山",null,638,null,null,"伊賀"]
["上野西",null,639,null,null,"伊賀"]
["上野東",null,642,null,null,"伊賀"]
["大山田",null,643,null,null,"伊賀"]
["神戸",null,644,null,null,"伊賀"]
["島ヶ原",null,645,null,null,"伊賀"]
["玉滝",null,646,null,null,"伊賀"]
["中瀬",null,648,null,null,"伊賀"]
["新居",null,649,null,null,"伊賀"]
["西柘植",null,650,null,null,"伊賀"]
["三田",null,653,null,null,"伊賀"]
["壬生野",null,654,null,null,"伊賀"]
["川崎ﾌﾚﾝｽﾞ",null,659,null,null,"亀山"]
["阿坂",null,614,null,null,"松阪"]
["第一",null,615,null,null,"松阪"]
["第二",null,616,null,null,"松阪"]
["第五",null,617,null,null,"松阪"]
["漕代",null,621,null,null,"松阪"]
["幸",null,622,null,null,"松阪"]
["西黒部",null,625,null,null,"松阪"]
["松尾",null,626,null,null,"松阪"]
["南",null,627,null,null,"松阪"]
["山室山",null,628,null,null,"松阪"]
["飯南ＲＣ",null,664,null,null,"松阪"]
["ＭＡＸ",null,667,null,null,"松阪"]
["東黒部",null,680,null,null,"松阪"]
["上御糸",null,630,null,null,"多気"]
["斎宮",null,631,null,null,"多気"]
["下御糸",null,633,null,null,"多気"]
["日進",null,635,null,null,"多気"]
["宮川",null,636,null,null,"多気"]
["進修",null,501,null,null,"伊勢"]
["修道",null,502,null,null,"伊勢"]
["有緝",null,503,null,null,"伊勢"]
["中島",null,505,null,null,"伊勢"]
["明倫",null,506,null,null,"伊勢"]
["神社",null,508,null,null,"伊勢"]
["浜郷",null,512,null,null,"伊勢"]
["四郷",null,513,null,null,"伊勢"]
["豊浜東",null,514,null,null,"伊勢"]
["城田",null,518,null,null,"伊勢"]
["明野",null,523,null,null,"伊勢"]
["御薗",null,524,null,null,"伊勢"]
["南島西",null,535,null,null,"度会"]
["南島東",null,536,null,null,"度会"]
["大紀",null,537,null,null,"度会"]
["度会ｴﾝﾍﾟﾗｰｽﾞ",null,541,null,null,"度会"]
["いすずＵＫ",null,543,null,null,"伊勢"]
["外城田",null,671,null,null,"度会"]
["桃取",null,574,null,null,"鳥羽"]
["安楽島",null,575,null,null,"鳥羽"]
["加茂",null,576,null,null,"鳥羽"]
["鏡浦",null,577,null,null,"鳥羽"]
["神島",null,581,null,null,"鳥羽"]
["菅島",null,582,null,null,"鳥羽"]
["鳥羽",null,583,null,null,"鳥羽"]
["答志",null,584,null,null,"鳥羽"]
["浜島",null,590,null,null,"志摩"]
["布施田",null,592,null,null,"志摩"]
["和具",null,595,null,null,"志摩"]

{"sheet":"Ｒカー二バル","index":6,"n_rows":188,"n_cols":62,"rows_kept":188,"cut":false,"hidden":false,"merged":[[1,15,1,30],[29,39,29,40],[29,41,29,42],[29,43,29,44],[5,39,5,40],[5,41,5,42],[5,43,5,44],[13,43,13,44],[21,43,21,44],[13,39,13,40],[13,41,13,42],[21,39,21,40],[21,41,21,42],[53,43,53,44],[45,39,45,40],[45,41,45,42],[45,43,45,44],[37,39,37,40],[37,41,37,42],[37,43,37,44]]}
[null,null,null,null,"所属名",{"$f":"IF(前年度登録!B1=\"\",\"\",前年度登録!B1)","v":""},null,null,"三重リレーカーニバル"]
[null,null,null,null,"所属コード",{"$f":"IF(前年度登録!O5=\"\",\"\",前年度登録!O5)","v":""},"男子参加数",null,null,null,null,null,null,null,{"$f":"COUNTIF($I$7:$I$186,1)-COUNTIF($AY$7:$AY$186,0)","v":0}]
[null,null,null,null,"監督名",{"$f":"IF(前年度登録!B2=\"\",\"\",前年度登録!B2)","v":""},"女子参加数",null,null,null,null,null,null,{"$f":"L2+L3","v":0},{"$f":"COUNTIF($I$7:$I$186,2)-COUNTIF($AZ$7:$AZ$186,0)","v":0}]
[null,null,null,null,"連絡先",{"$f":"IF(前年度登録!G2=\"\",\"\",前年度登録!G2)","v":""},"大会参加費",null,null,null,null,null,null,null,{"$f":"$AC$187*1000+$BJ$62*2000+AP4*800","v":0},null,null,null,null,null,null,null,null,null,null,null,null,null,null,null,null,null,null,null,null,null,null,null,null,null,"プログラム必要冊数",null,"冊"]
[null,null,null,null,null,"去年の登録番号でお願いします",null,null,null,null,null,null,null,null,null,null,null,null,null,null,null,null,null,null,null,null,null,null,null,null,null,null,null,null,"*"]
["競技者コード","所属コード",null,null,"ナンバー","名前","カナ名","略","性別","学年","生年","月日","所属地コード","陸連NO","種目","コード","記録",null,null,"リレー","コード","記録",null,null,"種目3","コード","自己記録3","種目4","コード","自己記録4","種目5","コード",null,null,"*",null,null,"種目別人数",null,"男子4×100mR-A",null,"女子4×100mR-A",null,"混成4×100mR-A",null,null,"5･6年800",null,null,"種目","男子","女子"]
[{"$f":"T7","v":0},{"$f":"前年度登録!O5","v":""},null,null,{"$f":"前年度登録!E5","v":0},{"$f":"前年度登録!BD5","v":""},{"$f":"前年度登録!V5","v":""},{"$f":"前年度登録!BD5","v":""},{"$f":"前年度登録!U5","v":""},{"$f":"前年度登録!I5","v":0},{"$f":"前年度登録!K5","v":0},{"$f":"前年度登録!BK5","v":"00"},{"$f":"前年度登録!P5","v":""},{"$f":"前年度登録!$Q$7","v":23},null,{"$f":"IF(O7=\"\",\"\",IF(I7=1,VLOOKUP(O7,男子種目コード!$A$2:$B$35,2,FALSE),IF(I7=2,VLOOKUP(O7,女子種目コード!$A$2:$B$35,2,FALSE))))","v":""},{"$f":"IF(O7=\"\",\"\",HLOOKUP(O7,前年度登録!$W$4:$AV$184,2,FALSE))","v":""},{"$f":"IF(O7=\"\",\"\",0)","v":""},{"$f":"IF(O7=\"\",\"\",2)","v":""},null,{"$f":"IF(T7=\"\",\"\",IF(I7=1,VLOOKUP(T7,男子種目コード!$A$19:$B$31,2,FALSE),IF(I7=2,VLOOKUP(T7,女子種目コード!$A$19:$B$31,2,FALSE))))","v":""},null,{"$f":"IF(T7=\"\",\"\",0)","v":""},{"$f":"IF(T7=\"\",\"\",2)","v":""},null,{"$f":"IF(Y7=\"\",\"\",IF(I7=1,VLOOKUP(Y7,男子種目コード!#REF!,2,FALSE),IF(I7=2,VLOOKUP(Y7,女子種目コード!#REF!,2,FALSE))))","v":""},null,null,{"$f":"IF(AB7=\"\",\"\",IF(I7=1,VLOOKUP(AB7,男子種目コード!#REF!,2,FALSE),IF(I7=2,VLOOKUP(AB7,女子種目コード!#REF!,2,FALSE))))","v":""},null,null,{"$f":"IF(AE7=\"\",\"\",IF(E7=1,VLOOKUP(AE7,男子種目コード!#REF!,2,FALSE),IF(E7=2,VLOOKUP(AE7,女子種目コード!#REF!,2,FALSE))))","v":""},null,null,null,{"$f":"IF(O7=\"\",\"\",1)","v":""},{"$f":"IF(OR(AJ7=1,T7=\"\"),0,1)","v":0},"男子",null,"記録",null,"記録",null,"記録",null,null,null,null,null,{"$f":"COUNT(P7,U7)","v":0},{"$f":"IF(I7=1,AX7,\"\")","v":""},{"$f":"IF(I7=2,AX7,\"\")","v":""}]
[{"$f":"T8","v":0},{"$f":"前年度登録!O6","v":""},null,null,{"$f":"前年度登録!E6","v":0},{"$f":"前年度登録!BD6","v":""},{"$f":"前年度登録!V6","v":""},{"$f":"前年度登録!BD6","v":""},{"$f":"前年度登録!U6","v":""},{"$f":"前年度登録!I6","v":0},{"$f":"前年度登録!K6","v":0},{"$f":"前年度登録!BK6","v":"00"},{"$f":"前年度登録!P6","v":""},{"$f":"前年度登録!$Q$7","v":23},null,{"$f":"IF(O8=\"\",\"\",IF(I8=1,VLOOKUP(O8,男子種目コード!$A$2:$B$35,2,FALSE),IF(I8=2,VLOOKUP(O8,女子種目コード!$A$2:$B$35,2,FALSE))))","v":""},{"$f":"IF(O8=\"\",\"\",HLOOKUP(O8,前年度登録!$W$4:$AV$184,3,FALSE))","v":""},{"$f":"IF(O8=\"\",\"\",0)","v":""},{"$f":"IF(O8=\"\",\"\",2)","v":""},null,{"$f":"IF(T8=\"\",\"\",IF(I8=1,VLOOKUP(T8,男子種目コード!$A$19:$B$31,2,FALSE),IF(I8=2,VLOOKUP(T8,女子種目コード!$A$19:$B$31,2,FALSE))))","v":""},null,{"$f":"IF(T8=\"\",\"\",0)","v":""},{"$f":"IF(T8=\"\",\"\",2)","v":""},null,{"$f":"IF(Y8=\"\",\"\",IF(I8=1,VLOOKUP(Y8,男子種目コード!#REF!,2,FALSE),IF(I8=2,VLOOKUP(Y8,女子種目コード!#REF!,2,FALSE))))","v":""},null,null,{"$f":"IF(AB8=\"\",\"\",IF(I8=1,VLOOKUP(AB8,男子種目コード!#REF!,2,FALSE),IF(I8=2,VLOOKUP(AB8,女子種目コード!#REF!,2,FALSE))))","v":""},null,null,{"$f":"IF(AE8=\"\",\"\",IF(E8=1,VLOOKUP(AE8,男子種目コード!#REF!,2,FALSE),IF(E8=2,VLOOKUP(AE8,女子種目コード!#REF!,2,FALSE))))","v":""},null,null,"5･6年800",{"$f":"IF(O8=\"\",\"\",1)","v":""},0,"5年100",{"$f":"COUNTIF($P$7:$P$186,5)","v":0},{"$f":"IF(ISERROR(BA8),\"\",BA8)","v":""},"","","","","",null,"5･6年走幅跳",null,null,0,"","",{"$f":"VLookUpX(\"男子A\",$A$7:$F$186,1,5)","v":{"$error":"#N/A"}},{"$f":"VLookUpX(\"男子A\",$A$7:$F$186,1,6)","v":{"$error":"#N/A"}},{"$f":"VLookUpX(\"女子A\",$A$7:$F$186,1,5)","v":{"$error":"#N/A"}},{"$f":"VLookUpX(\"女子A\",$A$7:$F$186,1,6)","v":{"$error":"#N/A"}},{"$f":"VLookUpX(\"混成A\",$A$7:$F$186,1,5)","v":{"$error":"#N/A"}},{"$f":"VLookUpX(\"混成A\",$A$7:$F$186,1,6)","v":{"$error":"#N/A"}},{"$f":"IF(AN8=\"\",\"\",1)","v":""},{"$f":"IF(AP8=\"\",\"\",1)","v":""},{"$f":"IF(AR8=\"\",\"\",1)","v":""}]
[0,{"$f":"前年度登録!O7","v":""},null,null,{"$f":"前年度登録!E7","v":0},{"$f":"前年度登録!BD7","v":""},{"$f":"前年度登録!V7","v":""},{"$f":"前年度登録!BD7","v":""},{"$f":"前年度登録!U7","v":""},{"$f":"前年度登録!I7","v":0},{"$f":"前年度登録!K7","v":0},{"$f":"前年度登録!BK7","v":"00"},{"$f":"前年度登録!P7","v":""},{"$f":"前年度登録!$Q$7","v":23},null,{"$f":"IF(O9=\"\",\"\",IF(I9=1,VLOOKUP(O9,男子種目コード!$A$2:$B$35,2,FALSE),IF(I9=2,VLOOKUP(O9,女子種目コード!$A$2:$B$35,2,FALSE))))","v":""},{"$f":"IF(O9=\"\",\"\",HLOOKUP(O9,前年度登録!$W$4:$AV$184,4,FALSE))","v":""},"","",null,{"$f":"IF(T9=\"\",\"\",IF(I9=1,VLOOKUP(T9,男子種目コード!$A$19:$B$31,2,FALSE),IF(I9=2,VLOOKUP(T9,女子種目コード!$A$19:$B$31,2,FALSE))))","v":""},null,"","",null,{"$f":"IF(Y9=\"\",\"\",IF(I9=1,VLOOKUP(Y9,男子種目コード!#REF!,2,FALSE),IF(I9=2,VLOOKUP(Y9,女子種目コード!#REF!,2,FALSE))))","v":""},null,null,{"$f":"IF(AB9=\"\",\"\",IF(I9=1,VLOOKUP(AB9,男子種目コード!#REF!,2,FALSE),IF(I9=2,VLOOKUP(AB9,女子種目コード!#REF!,2,FALSE))))","v":""},null,null,{"$f":"IF(AE9=\"\",\"\",IF(E9=1,VLOOKUP(AE9,男子種目コード!#REF!,2,FALSE),IF(E9=2,VLOOKUP(AE9,女子種目コード!#REF!,2,FALSE))))","v":""},null,null,"*","",0,"6年100",{"$f":"COUNTIF($P$7:$P$186,6)","v":0},"","","","","","",{"$f":"IF(AS27>0,1,0)","v":1},"5･6年ｼﾞｬﾍﾞﾘｯｸ",null,null,0,"","",{"$f":"VLookUpX(\"男子A\",$A$7:$F$186,2,5)","v":{"$error":"#N/A"}},{"$f":"VLookUpX(\"男子A\",$A$7:$F$186,2,6)","v":{"$error":"#N/A"}},{"$f":"VLookUpX(\"女子A\",$A$7:$F$186,2,5)","v":{"$error":"#N/A"}},{"$f":"VLookUpX(\"女子A\",$A$7:$F$186,2,6)","v":{"$error":"#N/A"}},{"$f":"VLookUpX(\"混成A\",$A$7:$F$186,2,5)","v":{"$error":"#N/A"}},{"$f":"VLookUpX(\"混成A\",$A$7:$F$186,2,6)","v":{"$error":"#N/A"}}]
[0,{"$f":"前年度登録!O8","v":""},null,null,{"$f":"前年度登録!E8","v":0},{"$f":"前年度登録!BD8","v":""},{"$f":"前年度登録!V8","v":""},{"$f":"前年度登録!BD8","v":""},{"$f":"前年度登録!U8","v":""},{"$f":"前年度登録!I8","v":0},{"$f":"前年度登録!K8","v":0},{"$f":"前年度登録!BK8","v":"00"},{"$f":"前年度登録!P8","v":""},{"$f":"前年度登録!$Q$7","v":23},null,{"$f":"IF(O10=\"\",\"\",IF(I10=1,VLOOKUP(O10,男子種目コード!$A$2:$B$35,2,FALSE),IF(I10=2,VLOOKUP(O10,女子種目コード!$A$2:$B$35,2,FALSE))))","v":""},{"$f":"IF(O10=\"\",\"\",HLOOKUP(O10,前年度登録!$W$4:$AV$184,5,FALSE))","v":""},"","",null,{"$f":"IF(T10=\"\",\"\",IF(I10=1,VLOOKUP(T10,男子種目コード!$A$19:$B$31,2,FALSE),IF(I10=2,VLOOKUP(T10,女子種目コード!$A$19:$B$31,2,FALSE))))","v":""},null,"","",null,{"$f":"IF(Y10=\"\",\"\",IF(I10=1,VLOOKUP(Y10,男子種目コード!#REF!,2,FALSE),IF(I10=2,VLOOKUP(Y10,女子種目コード!#REF!,2,FALSE))))","v":""},null,null,{"$f":"IF(AB10=\"\",\"\",IF(I10=1,VLOOKUP(AB10,男子種目コード!#REF!,2,FALSE),IF(I10=2,VLOOKUP(AB10,女子種目コード!#REF!,2,FALSE))))","v":""},null,null,{"$f":"IF(AE10=\"\",\"\",IF(E10=1,VLOOKUP(AE10,男子種目コード!#REF!,2,FALSE),IF(E10=2,VLOOKUP(AE10,女子種目コード!#REF!,2,FALSE))))","v":""},null,null,"5･6年走幅跳","",0,"5･6年800",{"$f":"COUNTIF($P$7:$P$186,9)","v":0},"","","","","","",{"$f":"IF(AS28>0,1,0)","v":1},"6年100",null,null,0,"","",{"$f":"VLookUpX(\"男子A\",$A$7:$F$186,3,5)","v":{"$error":"#N/A"}},{"$f":"VLookUpX(\"男子A\",$A$7:$F$186,3,6)","v":{"$error":"#N/A"}},{"$f":"VLookUpX(\"女子A\",$A$7:$F$186,3,5)","v":{"$error":"#N/A"}},{"$f":"VLookUpX(\"女子A\",$A$7:$F$186,3,6)","v":{"$error":"#N/A"}},{"$f":"VLookUpX(\"混成A\",$A$7:$F$186,3,5)","v":{"$error":"#N/A"}},{"$f":"VLookUpX(\"混成A\",$A$7:$F$186,3,6)","v":{"$error":"#N/A"}}]
[0,{"$f":"前年度登録!O9","v":""},null,null,{"$f":"前年度登録!E9","v":0},{"$f":"前年度登録!BD9","v":""},{"$f":"前年度登録!V9","v":""},{"$f":"前年度登録!BD9","v":""},{"$f":"前年度登録!U9","v":""},{"$f":"前年度登録!I9","v":0},{"$f":"前年度登録!K9","v":0},{"$f":"前年度登録!BK9","v":"00"},{"$f":"前年度登録!P9","v":""},{"$f":"前年度登録!$Q$7","v":23},null,{"$f":"IF(O11=\"\",\"\",IF(I11=1,VLOOKUP(O11,男子種目コード!$A$2:$B$35,2,FALSE),IF(I11=2,VLOOKUP(O11,女子種目コード!$A$2:$B$35,2,FALSE))))","v":""},{"$f":"IF(O11=\"\",\"\",HLOOKUP(O11,前年度登録!$W$4:$AV$184,6,FALSE))","v":""},"","",null,{"$f":"IF(T11=\"\",\"\",IF(I11=1,VLOOKUP(T11,男子種目コード!$A$19:$B$31,2,FALSE),IF(I11=2,VLOOKUP(T11,女子種目コード!$A$19:$B$31,2,FALSE))))","v":""},null,"","",null,{"$f":"IF(Y11=\"\",\"\",IF(I11=1,VLOOKUP(Y11,男子種目コード!#REF!,2,FALSE),IF(I11=2,VLOOKUP(Y11,女子種目コード!#REF!,2,FALSE))))","v":""},null,null,{"$f":"IF(AB11=\"\",\"\",IF(I11=1,VLOOKUP(AB11,男子種目コード!#REF!,2,FALSE),IF(I11=2,VLOOKUP(AB11,女子種目コード!#REF!,2,FALSE))))","v":""},null,null,{"$f":"IF(AE11=\"\",\"\",IF(E11=1,VLOOKUP(AE11,男子種目コード!#REF!,2,FALSE),IF(E11=2,VLOOKUP(AE11,女子種目コード!#REF!,2,FALSE))))","v":""},null,null,"5･6年ｼﾞｬﾍﾞﾘｯｸ","",0,"*",{"$f":"COUNTIF($P$7:$P$186,10)","v":0},"","","","","","",1,"5･6年800",null,null,0,"","",{"$f":"VLookUpX(\"男子A\",$A$7:$F$186,4,5)","v":{"$error":"#N/A"}},{"$f":"VLookUpX(\"男子A\",$A$7:$F$186,4,6)","v":{"$error":"#N/A"}},{"$f":"VLookUpX(\"女子A\",$A$7:$F$186,4,5)","v":{"$error":"#N/A"}},{"$f":"VLookUpX(\"女子A\",$A$7:$F$186,4,6)","v":{"$error":"#N/A"}},{"$f":"VLookUpX(\"混成A\",$A$7:$F$186,4,5)","v":{"$error":"#N/A"}},{"$f":"VLookUpX(\"混成A\",$A$7:$F$186,4,6)","v":{"$error":"#N/A"}}]
[0,{"$f":"前年度登録!O10","v":""},null,null,{"$f":"前年度登録!E10","v":0},{"$f":"前年度登録!BD10","v":""},{"$f":"前年度登録!V10","v":""},{"$f":"前年度登録!BD10","v":""},{"$f":"前年度登録!U10","v":""},{"$f":"前年度登録!I10","v":0},{"$f":"前年度登録!K10","v":0},{"$f":"前年度登録!BK10","v":"00"},{"$f":"前年度登録!P10","v":""},{"$f":"前年度登録!$Q$7","v":23},null,{"$f":"IF(O12=\"\",\"\",IF(I12=1,VLOOKUP(O12,男子種目コード!$A$2:$B$35,2,FALSE),IF(I12=2,VLOOKUP(O12,女子種目コード!$A$2:$B$35,2,FALSE))))","v":""},{"$f":"IF(O12=\"\",\"\",HLOOKUP(O12,前年度登録!$W$4:$AV$184,7,FALSE))","v":""},"","",null,{"$f":"IF(T12=\"\",\"\",IF(I12=1,VLOOKUP(T12,男子種目コード!$A$19:$B$31,2,FALSE),IF(I12=2,VLOOKUP(T12,女子種目コード!$A$19:$B$31,2,FALSE))))","v":""},null,"","",null,{"$f":"IF(Y12=\"\",\"\",IF(I12=1,VLOOKUP(Y12,男子種目コード!#REF!,2,FALSE),IF(I12=2,VLOOKUP(Y12,女子種目コード!#REF!,2,FALSE))))","v":""},null,null,{"$f":"IF(AB12=\"\",\"\",IF(I12=1,VLOOKUP(AB12,男子種目コード!#REF!,2,FALSE),IF(I12=2,VLOOKUP(AB12,女子種目コード!#REF!,2,FALSE))))","v":""},null,null,{"$f":"IF(AE12=\"\",\"\",IF(E12=1,VLOOKUP(AE12,男子種目コード!#REF!,2,FALSE),IF(E12=2,VLOOKUP(AE12,女子種目コード!#REF!,2,FALSE))))","v":""},null,null,"男子A","",0,"5･6年走幅跳",{"$f":"COUNTIF($P$7:$P$186,16)","v":0},"","","","","","",0,null,null,null,0,"","",{"$f":"VLookUpX(\"男子A\",$A$7:$F$186,5,5)","v":{"$error":"#N/A"}},{"$f":"VLookUpX(\"男子A\",$A$7:$F$186,5,6)","v":{"$error":"#N/A"}},{"$f":"VLookUpX(\"女子A\",$A$7:$F$186,5,5)","v":{"$error":"#N/A"}},{"$f":"VLookUpX(\"女子A\",$A$7:$F$186,5,6)","v":{"$error":"#N/A"}},{"$f":"VLookUpX(\"混成A\",$A$7:$F$186,5,5)","v":{"$error":"#N/A"}},{"$f":"VLookUpX(\"混成A\",$A$7:$F$186,5,6)","v":{"$error":"#N/A"}}]
[0,{"$f":"前年度登録!O11","v":""},null,null,{"$f":"前年度登録!E11","v":0},{"$f":"前年度登録!BD11","v":""},{"$f":"前年度登録!V11","v":""},{"$f":"前年度登録!BD11","v":""},{"$f":"前年度登録!U11","v":""},{"$f":"前年度登録!I11","v":0},{"$f":"前年度登録!K11","v":0},{"$f":"前年度登録!BK11","v":"00"},{"$f":"前年度登録!P11","v":""},{"$f":"前年度登録!$Q$7","v":23},null,{"$f":"IF(O13=\"\",\"\",IF(I13=1,VLOOKUP(O13,男子種目コード!$A$2:$B$35,2,FALSE),IF(I13=2,VLOOKUP(O13,女子種目コード!$A$2:$B$35,2,FALSE))))","v":""},{"$f":"IF(O13=\"\",\"\",HLOOKUP(O13,前年度登録!$W$4:$AV$184,8,FALSE))","v":""},"","",null,{"$f":"IF(T13=\"\",\"\",IF(I13=1,VLOOKUP(T13,男子種目コード!$A$19:$B$31,2,FALSE),IF(I13=2,VLOOKUP(T13,女子種目コード!$A$19:$B$31,2,FALSE))))","v":""},null,"","",null,{"$f":"IF(Y13=\"\",\"\",IF(I13=1,VLOOKUP(Y13,男子種目コード!#REF!,2,FALSE),IF(I13=2,VLOOKUP(Y13,女子種目コード!#REF!,2,FALSE))))","v":""},null,null,{"$f":"IF(AB13=\"\",\"\",IF(I13=1,VLOOKUP(AB13,男子種目コード!#REF!,2,FALSE),IF(I13=2,VLOOKUP(AB13,女子種目コード!#REF!,2,FALSE))))","v":""},null,null,{"$f":"IF(AE13=\"\",\"\",IF(E13=1,VLOOKUP(AE13,男子種目コード!#REF!,2,FALSE),IF(E13=2,VLOOKUP(AE13,女子種目コード!#REF!,2,FALSE))))","v":""},null,null,"男子B","",0,"5･6年ｼﾞｬﾍﾞﾘｯｸ",{"$f":"COUNTIF($P$7:$P$186,17)","v":0},"","","","","","",0,"5･6年走幅跳",null,null,0,"","",{"$f":"VLookUpX(\"男子A\",$A$7:$F$186,6,5)","v":{"$error":"#N/A"}},{"$f":"VLookUpX(\"男子A\",$A$7:$F$186,6,6)","v":{"$error":"#N/A"}},{"$f":"VLookUpX(\"女子A\",$A$7:$F$186,6,5)","v":{"$error":"#N/A"}},{"$f":"VLookUpX(\"女子A\",$A$7:$F$186,6,6)","v":{"$error":"#N/A"}},{"$f":"VLookUpX(\"混成A\",$A$7:$F$186,6,5)","v":{"$error":"#N/A"}},{"$f":"VLookUpX(\"混成A\",$A$7:$F$186,6,6)","v":{"$error":"#N/A"}}]
[0,{"$f":"前年度登録!O12","v":""},null,null,{"$f":"前年度登録!E12","v":0},{"$f":"前年度登録!BD12","v":""},{"$f":"前年度登録!V12","v":""},{"$f":"前年度登録!BD12","v":""},{"$f":"前年度登録!U12","v":""},{"$f":"前年度登録!I12","v":0},{"$f":"前年度登録!K12","v":0},{"$f":"前年度登録!BK12","v":"00"},{"$f":"前年度登録!P12","v":""},{"$f":"前年度登録!$Q$7","v":23},null,{"$f":"IF(O14=\"\",\"\",IF(I14=1,VLOOKUP(O14,男子種目コード!$A$2:$B$35,2,FALSE),IF(I14=2,VLOOKUP(O14,女子種目コード!$A$2:$B$35,2,FALSE))))","v":""},{"$f":"IF(O14=\"\",\"\",HLOOKUP(O14,前年度登録!$W$4:$AV$184,9,FALSE))","v":""},"","",null,{"$f":"IF(T14=\"\",\"\",IF(I14=1,VLOOKUP(T14,男子種目コード!$A$19:$B$31,2,FALSE),IF(I14=2,VLOOKUP(T14,女子種目コード!$A$19:$B$31,2,FALSE))))","v":""},null,"","",null,{"$f":"IF(Y14=\"\",\"\",IF(I14=1,VLOOKUP(Y14,男子種目コード!#REF!,2,FALSE),IF(I14=2,VLOOKUP(Y14,女子種目コード!#REF!,2,FALSE))))","v":""},null,null,{"$f":"IF(AB14=\"\",\"\",IF(I14=1,VLOOKUP(AB14,男子種目コード!#REF!,2,FALSE),IF(I14=2,VLOOKUP(AB14,女子種目コード!#REF!,2,FALSE))))","v":""},null,null,{"$f":"IF(AE14=\"\",\"\",IF(E14=1,VLOOKUP(AE14,男子種目コード!#REF!,2,FALSE),IF(E14=2,VLOOKUP(AE14,女子種目コード!#REF!,2,FALSE))))","v":""},null,null,"男子C","",0,"計",{"$f":"SUM(AM8:AM13)","v":0},"男子4×100mR-B",null,"女子4×100mR-B",null,"混成4×100mR-B",null,1,"5･6年ｼﾞｬﾍﾞﾘｯｸ",null,null,0,"",""]
[0,{"$f":"前年度登録!O13","v":""},null,null,{"$f":"前年度登録!E13","v":0},{"$f":"前年度登録!BD13","v":""},{"$f":"前年度登録!V13","v":""},{"$f":"前年度登録!BD13","v":""},{"$f":"前年度登録!U13","v":""},{"$f":"前年度登録!I13","v":0},{"$f":"前年度登録!K13","v":0},{"$f":"前年度登録!BK13","v":"00"},{"$f":"前年度登録!P13","v":""},{"$f":"前年度登録!$Q$7","v":23},null,{"$f":"IF(O15=\"\",\"\",IF(I15=1,VLOOKUP(O15,男子種目コード!$A$2:$B$35,2,FALSE),IF(I15=2,VLOOKUP(O15,女子種目コード!$A$2:$B$35,2,FALSE))))","v":""},{"$f":"IF(O15=\"\",\"\",HLOOKUP(O15,前年度登録!$W$4:$AV$184,10,FALSE))","v":""},"","",null,{"$f":"IF(T15=\"\",\"\",IF(I15=1,VLOOKUP(T15,男子種目コード!$A$19:$B$31,2,FALSE),IF(I15=2,VLOOKUP(T15,女子種目コード!$A$19:$B$31,2,FALSE))))","v":""},null,"","",null,{"$f":"IF(Y15=\"\",\"\",IF(I15=1,VLOOKUP(Y15,男子種目コード!#REF!,2,FALSE),IF(I15=2,VLOOKUP(Y15,女子種目コード!#REF!,2,FALSE))))","v":""},null,null,{"$f":"IF(AB15=\"\",\"\",IF(I15=1,VLOOKUP(AB15,男子種目コード!#REF!,2,FALSE),IF(I15=2,VLOOKUP(AB15,女子種目コード!#REF!,2,FALSE))))","v":""},null,null,{"$f":"IF(AE15=\"\",\"\",IF(E15=1,VLOOKUP(AE15,男子種目コード!#REF!,2,FALSE),IF(E15=2,VLOOKUP(AE15,女子種目コード!#REF!,2,FALSE))))","v":""},null,null,"男子D","",0,"女子",null,"記録",null,"記録",null,"記録",null,null,"混成A",null,null,0,"",""]
[0,{"$f":"前年度登録!O14","v":""},null,null,{"$f":"前年度登録!E14","v":0},{"$f":"前年度登録!BD14","v":""},{"$f":"前年度登録!V14","v":""},{"$f":"前年度登録!BD14","v":""},{"$f":"前年度登録!U14","v":""},{"$f":"前年度登録!I14","v":0},{"$f":"前年度登録!K14","v":0},{"$f":"前年度登録!BK14","v":"00"},{"$f":"前年度登録!P14","v":""},{"$f":"前年度登録!$Q$7","v":23},null,{"$f":"IF(O16=\"\",\"\",IF(I16=1,VLOOKUP(O16,男子種目コード!$A$2:$B$35,2,FALSE),IF(I16=2,VLOOKUP(O16,女子種目コード!$A$2:$B$35,2,FALSE))))","v":""},{"$f":"IF(O16=\"\",\"\",HLOOKUP(O16,前年度登録!$W$4:$AV$184,11,FALSE))","v":""},"","",null,{"$f":"IF(T16=\"\",\"\",IF(I16=1,VLOOKUP(T16,男子種目コード!$A$19:$B$31,2,FALSE),IF(I16=2,VLOOKUP(T16,女子種目コード!$A$19:$B$31,2,FALSE))))","v":""},null,"","",null,{"$f":"IF(Y16=\"\",\"\",IF(I16=1,VLOOKUP(Y16,男子種目コード!#REF!,2,FALSE),IF(I16=2,VLOOKUP(Y16,女子種目コード!#REF!,2,FALSE))))","v":""},null,null,{"$f":"IF(AB16=\"\",\"\",IF(I16=1,VLOOKUP(AB16,男子種目コード!#REF!,2,FALSE),IF(I16=2,VLOOKUP(AB16,女子種目コード!#REF!,2,FALSE))))","v":""},null,null,{"$f":"IF(AE16=\"\",\"\",IF(E16=1,VLOOKUP(AE16,男子種目コード!#REF!,2,FALSE),IF(E16=2,VLOOKUP(AE16,女子種目コード!#REF!,2,FALSE))))","v":""},null,null,"男子E","",0,"5年100",{"$f":"COUNTIF($P$7:$P$186,25)","v":0},{"$f":"IF(ISERROR(BA16),\"\",BA16)","v":""},"","","","","",null,"混成B",null,null,0,"","",{"$f":"VLookUpX(\"男子B\",$A$7:$F$186,1,5)","v":{"$error":"#N/A"}},{"$f":"VLookUpX(\"男子B\",$A$7:$F$186,1,6)","v":{"$error":"#N/A"}},{"$f":"VLookUpX(\"女子B\",$A$7:$F$186,1,5)","v":{"$error":"#N/A"}},{"$f":"VLookUpX(\"女子B\",$A$7:$F$186,1,6)","v":{"$error":"#N/A"}},{"$f":"VLookUpX(\"混成B\",$A$7:$F$186,1,5)","v":{"$error":"#N/A"}},{"$f":"VLookUpX(\"混成B\",$A$7:$F$186,1,6)","v":{"$error":"#N/A"}},{"$f":"IF(AN16=\"\",\"\",1)","v":""},{"$f":"IF(AP16=\"\",\"\",1)","v":""},{"$f":"IF(AR16=\"\",\"\",1)","v":""}]
[0,{"$f":"前年度登録!O15","v":""},null,null,{"$f":"前年度登録!E15","v":0},{"$f":"前年度登録!BD15","v":""},{"$f":"前年度登録!V15","v":""},{"$f":"前年度登録!BD15","v":""},{"$f":"前年度登録!U15","v":""},{"$f":"前年度登録!I15","v":0},{"$f":"前年度登録!K15","v":0},{"$f":"前年度登録!BK15","v":"00"},{"$f":"前年度登録!P15","v":""},{"$f":"前年度登録!$Q$7","v":23},null,{"$f":"IF(O17=\"\",\"\",IF(I17=1,VLOOKUP(O17,男子種目コード!$A$2:$B$35,2,FALSE),IF(I17=2,VLOOKUP(O17,女子種目コード!$A$2:$B$35,2,FALSE))))","v":""},{"$f":"IF(O17=\"\",\"\",HLOOKUP(O17,前年度登録!$W$4:$AV$184,12,FALSE))","v":""},"","",null,{"$f":"IF(T17=\"\",\"\",IF(I17=1,VLOOKUP(T17,男子種目コード!$A$19:$B$31,2,FALSE),IF(I17=2,VLOOKUP(T17,女子種目コード!$A$19:$B$31,2,FALSE))))","v":""},null,"","",null,{"$f":"IF(Y17=\"\",\"\",IF(I17=1,VLOOKUP(Y17,男子種目コード!#REF!,2,FALSE),IF(I17=2,VLOOKUP(Y17,女子種目コード!#REF!,2,FALSE))))","v":""},null,null,{"$f":"IF(AB17=\"\",\"\",IF(I17=1,VLOOKUP(AB17,男子種目コード!#REF!,2,FALSE),IF(I17=2,VLOOKUP(AB17,女子種目コード!#REF!,2,FALSE))))","v":""},null,null,{"$f":"IF(AE17=\"\",\"\",IF(E17=1,VLOOKUP(AE17,男子種目コード!#REF!,2,FALSE),IF(E17=2,VLOOKUP(AE17,女子種目コード!#REF!,2,FALSE))))","v":""},null,null,"男子F","",0,"6年100",{"$f":"COUNTIF($P$7:$P$186,26)","v":0},"","","","","","",1,"混成C",null,null,0,"","",{"$f":"VLookUpX(\"男子B\",$A$7:$F$186,2,5)","v":{"$error":"#N/A"}},{"$f":"VLookUpX(\"男子B\",$A$7:$F$186,2,6)","v":{"$error":"#N/A"}},{"$f":"VLookUpX(\"女子B\",$A$7:$F$186,2,5)","v":{"$error":"#N/A"}},{"$f":"VLookUpX(\"女子B\",$A$7:$F$186,2,6)","v":{"$error":"#N/A"}},{"$f":"VLookUpX(\"混成B\",$A$7:$F$186,2,5)","v":{"$error":"#N/A"}},{"$f":"VLookUpX(\"混成B\",$A$7:$F$186,2,6)","v":{"$error":"#N/A"}}]
[0,{"$f":"前年度登録!O16","v":""},null,null,{"$f":"前年度登録!E16","v":0},{"$f":"前年度登録!BD16","v":""},{"$f":"前年度登録!V16","v":""},{"$f":"前年度登録!BD16","v":""},{"$f":"前年度登録!U16","v":""},{"$f":"前年度登録!I16","v":0},{"$f":"前年度登録!K16","v":0},{"$f":"前年度登録!BK16","v":"00"},{"$f":"前年度登録!P16","v":""},{"$f":"前年度登録!$Q$7","v":23},null,{"$f":"IF(O18=\"\",\"\",IF(I18=1,VLOOKUP(O18,男子種目コード!$A$2:$B$35,2,FALSE),IF(I18=2,VLOOKUP(O18,女子種目コード!$A$2:$B$35,2,FALSE))))","v":""},{"$f":"IF(O18=\"\",\"\",HLOOKUP(O18,前年度登録!$W$4:$AV$184,13,FALSE))","v":""},"","",null,{"$f":"IF(T18=\"\",\"\",IF(I18=1,VLOOKUP(T18,男子種目コード!$A$19:$B$31,2,FALSE),IF(I18=2,VLOOKUP(T18,女子種目コード!$A$19:$B$31,2,FALSE))))","v":""},null,"","",null,{"$f":"IF(Y18=\"\",\"\",IF(I18=1,VLOOKUP(Y18,男子種目コード!#REF!,2,FALSE),IF(I18=2,VLOOKUP(Y18,女子種目コード!#REF!,2,FALSE))))","v":""},null,null,{"$f":"IF(AB18=\"\",\"\",IF(I18=1,VLOOKUP(AB18,男子種目コード!#REF!,2,FALSE),IF(I18=2,VLOOKUP(AB18,女子種目コード!#REF!,2,FALSE))))","v":""},null,null,{"$f":"IF(AE18=\"\",\"\",IF(E18=1,VLOOKUP(AE18,男子種目コード!#REF!,2,FALSE),IF(E18=2,VLOOKUP(AE18,女子種目コード!#REF!,2,FALSE))))","v":""},null,null,"女子A","",0,"5･6年800",{"$f":"COUNTIF($P$7:$P$186,29)","v":0},"","","","","","",1,"混成D",null,null,0,"","",{"$f":"VLookUpX(\"男子B\",$A$7:$F$186,3,5)","v":{"$error":"#N/A"}},{"$f":"VLookUpX(\"男子B\",$A$7:$F$186,3,6)","v":{"$error":"#N/A"}},{"$f":"VLookUpX(\"女子B\",$A$7:$F$186,3,5)","v":{"$error":"#N/A"}},{"$f":"VLookUpX(\"女子B\",$A$7:$F$186,3,6)","v":{"$error":"#N/A"}},{"$f":"VLookUpX(\"混成B\",$A$7:$F$186,3,5)","v":{"$error":"#N/A"}},{"$f":"VLookUpX(\"混成B\",$A$7:$F$186,3,6)","v":{"$error":"#N/A"}}]
[0,{"$f":"前年度登録!O17","v":""},null,null,{"$f":"前年度登録!E17","v":0},{"$f":"前年度登録!BD17","v":""},{"$f":"前年度登録!V17","v":""},{"$f":"前年度登録!BD17","v":""},{"$f":"前年度登録!U17","v":""},{"$f":"前年度登録!I17","v":0},{"$f":"前年度登録!K17","v":0},{"$f":"前年度登録!BK17","v":"00"},{"$f":"前年度登録!P17","v":""},{"$f":"前年度登録!$Q$7","v":23},null,{"$f":"IF(O19=\"\",\"\",IF(I19=1,VLOOKUP(O19,男子種目コード!$A$2:$B$35,2,FALSE),IF(I19=2,VLOOKUP(O19,女子種目コード!$A$2:$B$35,2,FALSE))))","v":""},{"$f":"IF(O19=\"\",\"\",HLOOKUP(O19,前年度登録!$W$4:$AV$184,14,FALSE))","v":""},"","",null,{"$f":"IF(T19=\"\",\"\",IF(I19=1,VLOOKUP(T19,男子種目コード!$A$19:$B$31,2,FALSE),IF(I19=2,VLOOKUP(T19,女子種目コード!$A$19:$B$31,2,FALSE))))","v":""},null,"","",null,{"$f":"IF(Y19=\"\",\"\",IF(I19=1,VLOOKUP(Y19,男子種目コード!#REF!,2,FALSE),IF(I19=2,VLOOKUP(Y19,女子種目コード!#REF!,2,FALSE))))","v":""},null,null,{"$f":"IF(AB19=\"\",\"\",IF(I19=1,VLOOKUP(AB19,男子種目コード!#REF!,2,FALSE),IF(I19=2,VLOOKUP(AB19,女子種目コード!#REF!,2,FALSE))))","v":""},null,null,{"$f":"IF(AE19=\"\",\"\",IF(E19=1,VLOOKUP(AE19,男子種目コード!#REF!,2,FALSE),IF(E19=2,VLOOKUP(AE19,女子種目コード!#REF!,2,FALSE))))","v":""},null,null,"女子B","",0,"*",{"$f":"COUNTIF($P$7:$P$186,30)","v":0},"","","","","","",1,"混成E",null,null,0,"","",{"$f":"VLookUpX(\"男子B\",$A$7:$F$186,4,5)","v":{"$error":"#N/A"}},{"$f":"VLookUpX(\"男子B\",$A$7:$F$186,4,6)","v":{"$error":"#N/A"}},{"$f":"VLookUpX(\"女子B\",$A$7:$F$186,4,5)","v":{"$error":"#N/A"}},{"$f":"VLookUpX(\"女子B\",$A$7:$F$186,4,6)","v":{"$error":"#N/A"}},{"$f":"VLookUpX(\"混成B\",$A$7:$F$186,4,5)","v":{"$error":"#N/A"}},{"$f":"VLookUpX(\"混成B\",$A$7:$F$186,4,6)","v":{"$error":"#N/A"}}]
[0,{"$f":"前年度登録!O18","v":""},null,null,{"$f":"前年度登録!E18","v":0},{"$f":"前年度登録!BD18","v":""},{"$f":"前年度登録!V18","v":""},{"$f":"前年度登録!BD18","v":""},{"$f":"前年度登録!U18","v":""},{"$f":"前年度登録!I18","v":0},{"$f":"前年度登録!K18","v":0},{"$f":"前年度登録!BK18","v":"00"},{"$f":"前年度登録!P18","v":""},{"$f":"前年度登録!$Q$7","v":23},null,{"$f":"IF(O20=\"\",\"\",IF(I20=1,VLOOKUP(O20,男子種目コード!$A$2:$B$35,2,FALSE),IF(I20=2,VLOOKUP(O20,女子種目コード!$A$2:$B$35,2,FALSE))))","v":""},{"$f":"IF(O20=\"\",\"\",HLOOKUP(O20,前年度登録!$W$4:$AV$184,15,FALSE))","v":""},"","",null,{"$f":"IF(T20=\"\",\"\",IF(I20=1,VLOOKUP(T20,男子種目コード!$A$19:$B$31,2,FALSE),IF(I20=2,VLOOKUP(T20,女子種目コード!$A$19:$B$31,2,FALSE))))","v":""},null,"","",null,{"$f":"IF(Y20=\"\",\"\",IF(I20=1,VLOOKUP(Y20,男子種目コード!#REF!,2,FALSE),IF(I20=2,VLOOKUP(Y20,女子種目コード!#REF!,2,FALSE))))","v":""},null,null,{"$f":"IF(AB20=\"\",\"\",IF(I20=1,VLOOKUP(AB20,男子種目コード!#REF!,2,FALSE),IF(I20=2,VLOOKUP(AB20,女子種目コード!#REF!,2,FALSE))))","v":""},null,null,{"$f":"IF(AE20=\"\",\"\",IF(E20=1,VLOOKUP(AE20,男子種目コード!#REF!,2,FALSE),IF(E20=2,VLOOKUP(AE20,女子種目コード!#REF!,2,FALSE))))","v":""},null,null,"女子C","",0,"5･6年走幅跳",{"$f":"COUNTIF($P$7:$P$186,36)","v":0},"","","","","","",0,"混成F",null,null,0,"","",{"$f":"VLookUpX(\"男子B\",$A$7:$F$186,5,5)","v":{"$error":"#N/A"}},{"$f":"VLookUpX(\"男子B\",$A$7:$F$186,5,6)","v":{"$error":"#N/A"}},{"$f":"VLookUpX(\"女子B\",$A$7:$F$186,5,5)","v":{"$error":"#N/A"}},{"$f":"VLookUpX(\"女子B\",$A$7:$F$186,5,6)","v":{"$error":"#N/A"}},{"$f":"VLookUpX(\"混成B\",$A$7:$F$186,5,5)","v":{"$error":"#N/A"}},{"$f":"VLookUpX(\"混成B\",$A$7:$F$186,5,6)","v":{"$error":"#N/A"}}]
[0,{"$f":"前年度登録!O19","v":""},null,null,{"$f":"前年度登録!E19","v":0},{"$f":"前年度登録!BD19","v":""},{"$f":"前年度登録!V19","v":""},{"$f":"前年度登録!BD19","v":""},{"$f":"前年度登録!U19","v":""},{"$f":"前年度登録!I19","v":0},{"$f":"前年度登録!K19","v":0},{"$f":"前年度登録!BK19","v":"00"},{"$f":"前年度登録!P19","v":""},{"$f":"前年度登録!$Q$7","v":23},null,{"$f":"IF(O21=\"\",\"\",IF(I21=1,VLOOKUP(O21,男子種目コード!$A$2:$B$35,2,FALSE),IF(I21=2,VLOOKUP(O21,女子種目コード!$A$2:$B$35,2,FALSE))))","v":""},{"$f":"IF(O21=\"\",\"\",HLOOKUP(O21,前年度登録!$W$4:$AV$184,16,FALSE))","v":""},"","",null,{"$f":"IF(T21=\"\",\"\",IF(I21=1,VLOOKUP(T21,男子種目コード!$A$19:$B$31,2,FALSE),IF(I21=2,VLOOKUP(T21,女子種目コード!$A$19:$B$31,2,FALSE))))","v":""},null,"","",null,{"$f":"IF(Y21=\"\",\"\",IF(I21=1,VLOOKUP(Y21,男子種目コード!#REF!,2,FALSE),IF(I21=2,VLOOKUP(Y21,女子種目コード!#REF!,2,FALSE))))","v":""},null,null,{"$f":"IF(AB21=\"\",\"\",IF(I21=1,VLOOKUP(AB21,男子種目コード!#REF!,2,FALSE),IF(I21=2,VLOOKUP(AB21,女子種目コード!#REF!,2,FALSE))))","v":""},null,null,{"$f":"IF(AE21=\"\",\"\",IF(E21=1,VLOOKUP(AE21,男子種目コード!#REF!,2,FALSE),IF(E21=2,VLOOKUP(AE21,女子種目コード!#REF!,2,FALSE))))","v":""},null,null,"女子D","",0,"5･6年ｼﾞｬﾍﾞﾘｯｸ",{"$f":"COUNTIF($P$7:$P$186,37)","v":0},"","","","","","",0,"混成G",null,null,0,"","",{"$f":"VLookUpX(\"男子B\",$A$7:$F$186,6,5)","v":{"$error":"#N/A"}},{"$f":"VLookUpX(\"男子B\",$A$7:$F$186,6,6)","v":{"$error":"#N/A"}},{"$f":"VLookUpX(\"女子B\",$A$7:$F$186,6,5)","v":{"$error":"#N/A"}},{"$f":"VLookUpX(\"女子B\",$A$7:$F$186,6,6)","v":{"$error":"#N/A"}},{"$f":"VLookUpX(\"混成B\",$A$7:$F$186,6,5)","v":{"$error":"#N/A"}},{"$f":"VLookUpX(\"混成B\",$A$7:$F$186,6,6)","v":{"$error":"#N/A"}}]
[0,{"$f":"前年度登録!O20","v":""},null,null,{"$f":"前年度登録!E20","v":0},{"$f":"前年度登録!BD20","v":""},{"$f":"前年度登録!V20","v":""},{"$f":"前年度登録!BD20","v":""},{"$f":"前年度登録!U20","v":""},{"$f":"前年度登録!I20","v":0},{"$f":"前年度登録!K20","v":0},{"$f":"前年度登録!BK20","v":"00"},{"$f":"前年度登録!P20","v":""},{"$f":"前年度登録!$Q$7","v":23},null,{"$f":"IF(O22=\"\",\"\",IF(I22=1,VLOOKUP(O22,男子種目コード!$A$2:$B$35,2,FALSE),IF(I22=2,VLOOKUP(O22,女子種目コード!$A$2:$B$35,2,FALSE))))","v":""},{"$f":"IF(O22=\"\",\"\",HLOOKUP(O22,前年度登録!$W$4:$AV$184,17,FALSE))","v":""},"","",null,{"$f":"IF(T22=\"\",\"\",IF(I22=1,VLOOKUP(T22,男子種目コード!$A$19:$B$31,2,FALSE),IF(I22=2,VLOOKUP(T22,女子種目コード!$A$19:$B$31,2,FALSE))))","v":""},null,"","",null,{"$f":"IF(Y22=\"\",\"\",IF(I22=1,VLOOKUP(Y22,男子種目コード!#REF!,2,FALSE),IF(I22=2,VLOOKUP(Y22,女子種目コード!#REF!,2,FALSE))))","v":""},null,null,{"$f":"IF(AB22=\"\",\"\",IF(I22=1,VLOOKUP(AB22,男子種目コード!#REF!,2,FALSE),IF(I22=2,VLOOKUP(AB22,女子種目コード!#REF!,2,FALSE))))","v":""},null,null,{"$f":"IF(AE22=\"\",\"\",IF(E22=1,VLOOKUP(AE22,男子種目コード!#REF!,2,FALSE),IF(E22=2,VLOOKUP(AE22,女子種目コード!#REF!,2,FALSE))))","v":""},null,null,"女子E","",0,"計",{"$f":"SUM(AM16:AM21)","v":0},"男子4×100mR-C",null,"女子4×100mR-C",null,"混成4×100mR-C",null,1,"男子A",null,null,0,"",""]
[0,{"$f":"前年度登録!O21","v":""},null,null,{"$f":"前年度登録!E21","v":0},{"$f":"前年度登録!BD21","v":""},{"$f":"前年度登録!V21","v":""},{"$f":"前年度登録!BD21","v":""},{"$f":"前年度登録!U21","v":""},{"$f":"前年度登録!I21","v":0},{"$f":"前年度登録!K21","v":0},{"$f":"前年度登録!BK21","v":"00"},{"$f":"前年度登録!P21","v":""},{"$f":"前年度登録!$Q$7","v":23},null,{"$f":"IF(O23=\"\",\"\",IF(I23=1,VLOOKUP(O23,男子種目コード!$A$2:$B$35,2,FALSE),IF(I23=2,VLOOKUP(O23,女子種目コード!$A$2:$B$35,2,FALSE))))","v":""},{"$f":"IF(O23=\"\",\"\",HLOOKUP(O23,前年度登録!$W$4:$AV$184,18,FALSE))","v":""},"","",null,{"$f":"IF(T23=\"\",\"\",IF(I23=1,VLOOKUP(T23,男子種目コード!$A$19:$B$31,2,FALSE),IF(I23=2,VLOOKUP(T23,女子種目コード!$A$19:$B$31,2,FALSE))))","v":""},null,"","",null,{"$f":"IF(Y23=\"\",\"\",IF(I23=1,VLOOKUP(Y23,男子種目コード!#REF!,2,FALSE),IF(I23=2,VLOOKUP(Y23,女子種目コード!#REF!,2,FALSE))))","v":""},null,null,{"$f":"IF(AB23=\"\",\"\",IF(I23=1,VLOOKUP(AB23,男子種目コード!#REF!,2,FALSE),IF(I23=2,VLOOKUP(AB23,女子種目コード!#REF!,2,FALSE))))","v":""},null,null,{"$f":"IF(AE23=\"\",\"\",IF(E23=1,VLOOKUP(AE23,男子種目コード!#REF!,2,FALSE),IF(E23=2,VLOOKUP(AE23,女子種目コード!#REF!,2,FALSE))))","v":""},null,null,"女子F","",0,"総　計",{"$f":"AM14+AM22","v":0},"記録",null,"記録",null,"記録",null,null,"男子B",null,null,0,"",""]
[0,{"$f":"前年度登録!O22","v":""},null,null,{"$f":"前年度登録!E22","v":0},{"$f":"前年度登録!BD22","v":""},{"$f":"前年度登録!V22","v":""},{"$f":"前年度登録!BD22","v":""},{"$f":"前年度登録!U22","v":""},{"$f":"前年度登録!I22","v":0},{"$f":"前年度登録!K22","v":0},{"$f":"前年度登録!BK22","v":"00"},{"$f":"前年度登録!P22","v":""},{"$f":"前年度登録!$Q$7","v":23},null,{"$f":"IF(O24=\"\",\"\",IF(I24=1,VLOOKUP(O24,男子種目コード!$A$2:$B$35,2,FALSE),IF(I24=2,VLOOKUP(O24,女子種目コード!$A$2:$B$35,2,FALSE))))","v":""},{"$f":"IF(O24=\"\",\"\",HLOOKUP(O24,前年度登録!$W$4:$AV$184,19,FALSE))","v":""},"","",null,{"$f":"IF(T24=\"\",\"\",IF(I24=1,VLOOKUP(T24,男子種目コード!$A$19:$B$31,2,FALSE),IF(I24=2,VLOOKUP(T24,女子種目コード!$A$19:$B$31,2,FALSE))))","v":""},null,"","",null,{"$f":"IF(Y24=\"\",\"\",IF(I24=1,VLOOKUP(Y24,男子種目コード!#REF!,2,FALSE),IF(I24=2,VLOOKUP(Y24,女子種目コード!#REF!,2,FALSE))))","v":""},null,null,{"$f":"IF(AB24=\"\",\"\",IF(I24=1,VLOOKUP(AB24,男子種目コード!#REF!,2,FALSE),IF(I24=2,VLOOKUP(AB24,女子種目コード!#REF!,2,FALSE))))","v":""},null,null,{"$f":"IF(AE24=\"\",\"\",IF(E24=1,VLOOKUP(AE24,男子種目コード!#REF!,2,FALSE),IF(E24=2,VLOOKUP(AE24,女子種目コード!#REF!,2,FALSE))))","v":""},null,null,"混成A","",0,null,null,{"$f":"IF(ISERROR(BA24),\"\",BA24)","v":""},"","","","","",null,"男子C",null,null,0,"","",{"$f":"VLookUpX(\"男子C\",$A$7:$F$186,1,5)","v":{"$error":"#N/A"}},{"$f":"VLookUpX(\"男子C\",$A$7:$F$186,1,6)","v":{"$error":"#N/A"}},{"$f":"VLookUpX(\"女子C\",$A$7:$F$186,1,5)","v":{"$error":"#N/A"}},{"$f":"VLookUpX(\"女子C\",$A$7:$F$186,1,6)","v":{"$error":"#N/A"}},{"$f":"VLookUpX(\"混成C\",$A$7:$F$186,1,5)","v":{"$error":"#N/A"}},{"$f":"VLookUpX(\"混成C\",$A$7:$F$186,1,6)","v":{"$error":"#N/A"}},{"$f":"IF(AN24=\"\",\"\",1)","v":""},{"$f":"IF(AP24=\"\",\"\",1)","v":""},{"$f":"IF(AR24=\"\",\"\",1)","v":""}]
[0,{"$f":"前年度登録!O23","v":""},null,null,{"$f":"前年度登録!E23","v":0},{"$f":"前年度登録!BD23","v":""},{"$f":"前年度登録!V23","v":""},{"$f":"前年度登録!BD23","v":""},{"$f":"前年度登録!U23","v":""},{"$f":"前年度登録!I23","v":0},{"$f":"前年度登録!K23","v":0},{"$f":"前年度登録!BK23","v":"00"},{"$f":"前年度登録!P23","v":""},{"$f":"前年度登録!$Q$7","v":23},null,{"$f":"IF(O25=\"\",\"\",IF(I25=1,VLOOKUP(O25,男子種目コード!$A$2:$B$35,2,FALSE),IF(I25=2,VLOOKUP(O25,女子種目コード!$A$2:$B$35,2,FALSE))))","v":""},{"$f":"IF(O25=\"\",\"\",HLOOKUP(O25,前年度登録!$W$4:$AV$184,20,FALSE))","v":""},"","",null,{"$f":"IF(T25=\"\",\"\",IF(I25=1,VLOOKUP(T25,男子種目コード!$A$19:$B$31,2,FALSE),IF(I25=2,VLOOKUP(T25,女子種目コード!$A$19:$B$31,2,FALSE))))","v":""},null,"","",null,{"$f":"IF(Y25=\"\",\"\",IF(I25=1,VLOOKUP(Y25,男子種目コード!#REF!,2,FALSE),IF(I25=2,VLOOKUP(Y25,女子種目コード!#REF!,2,FALSE))))","v":""},null,null,{"$f":"IF(AB25=\"\",\"\",IF(I25=1,VLOOKUP(AB25,男子種目コード!#REF!,2,FALSE),IF(I25=2,VLOOKUP(AB25,女子種目コード!#REF!,2,FALSE))))","v":""},null,null,{"$f":"IF(AE25=\"\",\"\",IF(E25=1,VLOOKUP(AE25,男子種目コード!#REF!,2,FALSE),IF(E25=2,VLOOKUP(AE25,女子種目コード!#REF!,2,FALSE))))","v":""},null,null,"混成B","",0,null,null,"","","","","","",1,"男子D",null,null,0,"","",{"$f":"VLookUpX(\"男子C\",$A$7:$F$186,2,5)","v":{"$error":"#N/A"}},{"$f":"VLookUpX(\"男子C\",$A$7:$F$186,2,6)","v":{"$error":"#N/A"}},{"$f":"VLookUpX(\"女子C\",$A$7:$F$186,2,5)","v":{"$error":"#N/A"}},{"$f":"VLookUpX(\"女子C\",$A$7:$F$186,2,6)","v":{"$error":"#N/A"}},{"$f":"VLookUpX(\"混成C\",$A$7:$F$186,2,5)","v":{"$error":"#N/A"}},{"$f":"VLookUpX(\"混成C\",$A$7:$F$186,2,6)","v":{"$error":"#N/A"}}]
[0,{"$f":"前年度登録!O24","v":""},null,null,{"$f":"前年度登録!E24","v":0},{"$f":"前年度登録!BD24","v":""},{"$f":"前年度登録!V24","v":""},{"$f":"前年度登録!BD24","v":""},{"$f":"前年度登録!U24","v":""},{"$f":"前年度登録!I24","v":0},{"$f":"前年度登録!K24","v":0},{"$f":"前年度登録!BK24","v":"00"},{"$f":"前年度登録!P24","v":""},{"$f":"前年度登録!$Q$7","v":23},null,{"$f":"IF(O26=\"\",\"\",IF(I26=1,VLOOKUP(O26,男子種目コード!$A$2:$B$35,2,FALSE),IF(I26=2,VLOOKUP(O26,女子種目コード!$A$2:$B$35,2,FALSE))))","v":""},{"$f":"IF(O26=\"\",\"\",HLOOKUP(O26,前年度登録!$W$4:$AV$184,21,FALSE))","v":""},"","",null,{"$f":"IF(T26=\"\",\"\",IF(I26=1,VLOOKUP(T26,男子種目コード!$A$19:$B$31,2,FALSE),IF(I26=2,VLOOKUP(T26,女子種目コード!$A$19:$B$31,2,FALSE))))","v":""},null,"","",null,{"$f":"IF(Y26=\"\",\"\",IF(I26=1,VLOOKUP(Y26,男子種目コード!#REF!,2,FALSE),IF(I26=2,VLOOKUP(Y26,女子種目コード!#REF!,2,FALSE))))","v":""},null,null,{"$f":"IF(AB26=\"\",\"\",IF(I26=1,VLOOKUP(AB26,男子種目コード!#REF!,2,FALSE),IF(I26=2,VLOOKUP(AB26,女子種目コード!#REF!,2,FALSE))))","v":""},null,null,{"$f":"IF(AE26=\"\",\"\",IF(E26=1,VLOOKUP(AE26,男子種目コード!#REF!,2,FALSE),IF(E26=2,VLOOKUP(AE26,女子種目コード!#REF!,2,FALSE))))","v":""},null,null,"混成C","",0,null,null,"","","","","","",1,"男子E",null,null,0,"","",{"$f":"VLookUpX(\"男子C\",$A$7:$F$186,3,5)","v":{"$error":"#N/A"}},{"$f":"VLookUpX(\"男子C\",$A$7:$F$186,3,6)","v":{"$error":"#N/A"}},{"$f":"VLookUpX(\"女子C\",$A$7:$F$186,3,5)","v":{"$error":"#N/A"}},{"$f":"VLookUpX(\"女子C\",$A$7:$F$186,3,6)","v":{"$error":"#N/A"}},{"$f":"VLookUpX(\"混成C\",$A$7:$F$186,3,5)","v":{"$error":"#N/A"}},{"$f":"VLookUpX(\"混成C\",$A$7:$F$186,3,6)","v":{"$error":"#N/A"}}]
[0,{"$f":"前年度登録!O25","v":""},null,null,{"$f":"前年度登録!E25","v":0},{"$f":"前年度登録!BD25","v":""},{"$f":"前年度登録!V25","v":""},{"$f":"前年度登録!BD25","v":""},{"$f":"前年度登録!U25","v":""},{"$f":"前年度登録!I25","v":0},{"$f":"前年度登録!K25","v":0},{"$f":"前年度登録!BK25","v":"00"},{"$f":"前年度登録!P25","v":""},{"$f":"前年度登録!$Q$7","v":23},null,{"$f":"IF(O27=\"\",\"\",IF(I27=1,VLOOKUP(O27,男子種目コード!$A$2:$B$35,2,FALSE),IF(I27=2,VLOOKUP(O27,女子種目コード!$A$2:$B$35,2,FALSE))))","v":""},{"$f":"IF(O27=\"\",\"\",HLOOKUP(O27,前年度登録!$W$4:$AV$184,22,FALSE))","v":""},"","",null,{"$f":"IF(T27=\"\",\"\",IF(I27=1,VLOOKUP(T27,男子種目コード!$A$19:$B$31,2,FALSE),IF(I27=2,VLOOKUP(T27,女子種目コード!$A$19:$B$31,2,FALSE))))","v":""},null,"","",null,{"$f":"IF(Y27=\"\",\"\",IF(I27=1,VLOOKUP(Y27,男子種目コード!#REF!,2,FALSE),IF(I27=2,VLOOKUP(Y27,女子種目コード!#REF!,2,FALSE))))","v":""},null,null,{"$f":"IF(AB27=\"\",\"\",IF(I27=1,VLOOKUP(AB27,男子種目コード!#REF!,2,FALSE),IF(I27=2,VLOOKUP(AB27,女子種目コード!#REF!,2,FALSE))))","v":""},null,null,{"$f":"IF(AE27=\"\",\"\",IF(E27=1,VLOOKUP(AE27,男子種目コード!#REF!,2,FALSE),IF(E27=2,VLOOKUP(AE27,女子種目コード!#REF!,2,FALSE))))","v":""},null,null,"混成D","",0,null,null,"","","","","","",1,"男子F",null,null,0,"","",{"$f":"VLookUpX(\"男子C\",$A$7:$F$186,4,5)","v":{"$error":"#N/A"}},{"$f":"VLookUpX(\"男子C\",$A$7:$F$186,4,6)","v":{"$error":"#N/A"}},{"$f":"VLookUpX(\"女子C\",$A$7:$F$186,4,5)","v":{"$error":"#N/A"}},{"$f":"VLookUpX(\"女子C\",$A$7:$F$186,4,6)","v":{"$error":"#N/A"}},{"$f":"VLookUpX(\"混成C\",$A$7:$F$186,4,5)","v":{"$error":"#N/A"}},{"$f":"VLookUpX(\"混成C\",$A$7:$F$186,4,6)","v":{"$error":"#N/A"}}]
[0,{"$f":"前年度登録!O26","v":""},null,null,{"$f":"前年度登録!E26","v":0},{"$f":"前年度登録!BD26","v":""},{"$f":"前年度登録!V26","v":""},{"$f":"前年度登録!BD26","v":""},{"$f":"前年度登録!U26","v":""},{"$f":"前年度登録!I26","v":0},{"$f":"前年度登録!K26","v":0},{"$f":"前年度登録!BK26","v":"00"},{"$f":"前年度登録!P26","v":""},{"$f":"前年度登録!$Q$7","v":23},null,{"$f":"IF(O28=\"\",\"\",IF(I28=1,VLOOKUP(O28,男子種目コード!$A$2:$B$35,2,FALSE),IF(I28=2,VLOOKUP(O28,女子種目コード!$A$2:$B$35,2,FALSE))))","v":""},{"$f":"IF(O28=\"\",\"\",HLOOKUP(O28,前年度登録!$W$4:$AV$184,23,FALSE))","v":""},"","",null,{"$f":"IF(T28=\"\",\"\",IF(I28=1,VLOOKUP(T28,男子種目コード!$A$19:$B$31,2,FALSE),IF(I28=2,VLOOKUP(T28,女子種目コード!$A$19:$B$31,2,FALSE))))","v":""},null,"","",null,{"$f":"IF(Y28=\"\",\"\",IF(I28=1,VLOOKUP(Y28,男子種目コード!#REF!,2,FALSE),IF(I28=2,VLOOKUP(Y28,女子種目コード!#REF!,2,FALSE))))","v":""},null,null,{"$f":"IF(AB28=\"\",\"\",IF(I28=1,VLOOKUP(AB28,男子種目コード!#REF!,2,FALSE),IF(I28=2,VLOOKUP(AB28,女子種目コード!#REF!,2,FALSE))))","v":""},null,null,{"$f":"IF(AE28=\"\",\"\",IF(E28=1,VLOOKUP(AE28,男子種目コード!#REF!,2,FALSE),IF(E28=2,VLOOKUP(AE28,女子種目コード!#REF!,2,FALSE))))","v":""},null,null,"混成E","",0,null,null,"","","","","","",0,"混成A",null,null,0,"","",{"$f":"VLookUpX(\"男子C\",$A$7:$F$186,5,5)","v":{"$error":"#N/A"}},{"$f":"VLookUpX(\"男子C\",$A$7:$F$186,5,6)","v":{"$error":"#N/A"}},{"$f":"VLookUpX(\"女子C\",$A$7:$F$186,5,5)","v":{"$error":"#N/A"}},{"$f":"VLookUpX(\"女子C\",$A$7:$F$186,5,6)","v":{"$error":"#N/A"}},{"$f":"VLookUpX(\"混成C\",$A$7:$F$186,5,5)","v":{"$error":"#N/A"}},{"$f":"VLookUpX(\"混成C\",$A$7:$F$186,5,6)","v":{"$error":"#N/A"}}]
[0,{"$f":"前年度登録!O27","v":""},null,null,{"$f":"前年度登録!E27","v":0},{"$f":"前年度登録!BD27","v":""},{"$f":"前年度登録!V27","v":""},{"$f":"前年度登録!BD27","v":""},{"$f":"前年度登録!U27","v":""},{"$f":"前年度登録!I27","v":0},{"$f":"前年度登録!K27","v":0},{"$f":"前年度登録!BK27","v":"00"},{"$f":"前年度登録!P27","v":""},{"$f":"前年度登録!$Q$7","v":23},null,{"$f":"IF(O29=\"\",\"\",IF(I29=1,VLOOKUP(O29,男子種目コード!$A$2:$B$35,2,FALSE),IF(I29=2,VLOOKUP(O29,女子種目コード!$A$2:$B$35,2,FALSE))))","v":""},{"$f":"IF(O29=\"\",\"\",HLOOKUP(O29,前年度登録!$W$4:$AV$184,24,FALSE))","v":""},"","",null,{"$f":"IF(T29=\"\",\"\",IF(I29=1,VLOOKUP(T29,男子種目コード!$A$19:$B$31,2,FALSE),IF(I29=2,VLOOKUP(T29,女子種目コード!$A$19:$B$31,2,FALSE))))","v":""},null,"","",null,{"$f":"IF(Y29=\"\",\"\",IF(I29=1,VLOOKUP(Y29,男子種目コード!#REF!,2,FALSE),IF(I29=2,VLOOKUP(Y29,女子種目コード!#REF!,2,FALSE))))","v":""},null,null,{"$f":"IF(AB29=\"\",\"\",IF(I29=1,VLOOKUP(AB29,男子種目コード!#REF!,2,FALSE),IF(I29=2,VLOOKUP(AB29,女子種目コード!#REF!,2,FALSE))))","v":""},null,null,{"$f":"IF(AE29=\"\",\"\",IF(E29=1,VLOOKUP(AE29,男子種目コード!#REF!,2,FALSE),IF(E29=2,VLOOKUP(AE29,女子種目コード!#REF!,2,FALSE))))","v":""},null,null,"混成F","",0,null,null,"","","","","","",0,"混成B",null,null,0,"","",{"$f":"VLookUpX(\"男子C\",$A$7:$F$186,6,5)","v":{"$error":"#N/A"}},{"$f":"VLookUpX(\"男子C\",$A$7:$F$186,6,6)","v":{"$error":"#N/A"}},{"$f":"VLookUpX(\"女子C\",$A$7:$F$186,6,5)","v":{"$error":"#N/A"}},{"$f":"VLookUpX(\"女子C\",$A$7:$F$186,6,6)","v":{"$error":"#N/A"}},{"$f":"VLookUpX(\"混成C\",$A$7:$F$186,6,5)","v":{"$error":"#N/A"}},{"$f":"VLookUpX(\"混成C\",$A$7:$F$186,6,6)","v":{"$error":"#N/A"}}]
[0,{"$f":"前年度登録!O28","v":""},null,null,{"$f":"前年度登録!E28","v":0},{"$f":"前年度登録!BD28","v":""},{"$f":"前年度登録!V28","v":""},{"$f":"前年度登録!BD28","v":""},{"$f":"前年度登録!U28","v":""},{"$f":"前年度登録!I28","v":0},{"$f":"前年度登録!K28","v":0},{"$f":"前年度登録!BK28","v":"00"},{"$f":"前年度登録!P28","v":""},{"$f":"前年度登録!$Q$7","v":23},null,{"$f":"IF(O30=\"\",\"\",IF(I30=1,VLOOKUP(O30,男子種目コード!$A$2:$B$35,2,FALSE),IF(I30=2,VLOOKUP(O30,女子種目コード!$A$2:$B$35,2,FALSE))))","v":""},{"$f":"IF(O30=\"\",\"\",HLOOKUP(O30,前年度登録!$W$4:$AV$184,25,FALSE))","v":""},"","",null,{"$f":"IF(T30=\"\",\"\",IF(I30=1,VLOOKUP(T30,男子種目コード!$A$19:$B$31,2,FALSE),IF(I30=2,VLOOKUP(T30,女子種目コード!$A$19:$B$31,2,FALSE))))","v":""},null,"","",null,{"$f":"IF(Y30=\"\",\"\",IF(I30=1,VLOOKUP(Y30,男子種目コード!#REF!,2,FALSE),IF(I30=2,VLOOKUP(Y30,女子種目コード!#REF!,2,FALSE))))","v":""},null,null,{"$f":"IF(AB30=\"\",\"\",IF(I30=1,VLOOKUP(AB30,男子種目コード!#REF!,2,FALSE),IF(I30=2,VLOOKUP(AB30,女子種目コード!#REF!,2,FALSE))))","v":""},null,null,{"$f":"IF(AE30=\"\",\"\",IF(E30=1,VLOOKUP(AE30,男子種目コード!#REF!,2,FALSE),IF(E30=2,VLOOKUP(AE30,女子種目コード!#REF!,2,FALSE))))","v":""},null,null,"混成G","",0,null,null,"男子4×100mR-D",null,"女子4×100mR-D",null,"混成4×100mR-D",null,{"$f":"IF(AS48>0,1,0)","v":1},"混成C",null,null,{"$f":"COUNT(P30,U30)","v":0},{"$f":"IF(I30=1,AX30,\"\")","v":""},{"$f":"IF(I30=2,AX30,\"\")","v":""}]
[0,{"$f":"前年度登録!O29","v":""},null,null,{"$f":"前年度登録!E29","v":0},{"$f":"前年度登録!BD29","v":""},{"$f":"前年度登録!V29","v":""},{"$f":"前年度登録!BD29","v":""},{"$f":"前年度登録!U29","v":""},{"$f":"前年度登録!I29","v":0},{"$f":"前年度登録!K29","v":0},{"$f":"前年度登録!BK29","v":"00"},{"$f":"前年度登録!P29","v":""},{"$f":"前年度登録!$Q$7","v":23},null,{"$f":"IF(O31=\"\",\"\",IF(I31=1,VLOOKUP(O31,男子種目コード!$A$2:$B$35,2,FALSE),IF(I31=2,VLOOKUP(O31,女子種目コード!$A$2:$B$35,2,FALSE))))","v":""},{"$f":"IF(O31=\"\",\"\",HLOOKUP(O31,前年度登録!$W$4:$AV$184,26,FALSE))","v":""},"","",null,{"$f":"IF(T31=\"\",\"\",IF(I31=1,VLOOKUP(T31,男子種目コード!$A$19:$B$31,2,FALSE),IF(I31=2,VLOOKUP(T31,女子種目コード!$A$19:$B$31,2,FALSE))))","v":""},null,"","",null,{"$f":"IF(Y31=\"\",\"\",IF(I31=1,VLOOKUP(Y31,男子種目コード!#REF!,2,FALSE),IF(I31=2,VLOOKUP(Y31,女子種目コード!#REF!,2,FALSE))))","v":""},null,null,{"$f":"IF(AB31=\"\",\"\",IF(I31=1,VLOOKUP(AB31,男子種目コード!#REF!,2,FALSE),IF(I31=2,VLOOKUP(AB31,女子種目コード!#REF!,2,FALSE))))","v":""},null,null,{"$f":"IF(AE31=\"\",\"\",IF(E31=1,VLOOKUP(AE31,男子種目コード!#REF!,2,FALSE),IF(E31=2,VLOOKUP(AE31,女子種目コード!#REF!,2,FALSE))))","v":""},null,null,null,"",0,null,null,"記録",null,"記録",null,"記録",null,null,"混成D",null,null,0,"",""]
[0,{"$f":"前年度登録!O30","v":""},null,null,{"$f":"前年度登録!E30","v":0},{"$f":"前年度登録!BD30","v":""},{"$f":"前年度登録!V30","v":""},{"$f":"前年度登録!BD30","v":""},{"$f":"前年度登録!U30","v":""},{"$f":"前年度登録!I30","v":0},{"$f":"前年度登録!K30","v":0},{"$f":"前年度登録!BK30","v":"00"},{"$f":"前年度登録!P30","v":""},{"$f":"前年度登録!$Q$7","v":23},null,{"$f":"IF(O32=\"\",\"\",IF(I32=1,VLOOKUP(O32,男子種目コード!$A$2:$B$35,2,FALSE),IF(I32=2,VLOOKUP(O32,女子種目コード!$A$2:$B$35,2,FALSE))))","v":""},{"$f":"IF(O32=\"\",\"\",HLOOKUP(O32,前年度登録!$W$4:$AV$184,27,FALSE))","v":""},"","",null,{"$f":"IF(T32=\"\",\"\",IF(I32=1,VLOOKUP(T32,男子種目コード!$A$19:$B$31,2,FALSE),IF(I32=2,VLOOKUP(T32,女子種目コード!$A$19:$B$31,2,FALSE))))","v":""},null,"","",null,{"$f":"IF(Y32=\"\",\"\",IF(I32=1,VLOOKUP(Y32,男子種目コード!#REF!,2,FALSE),IF(I32=2,VLOOKUP(Y32,女子種目コード!#REF!,2,FALSE))))","v":""},null,null,{"$f":"IF(AB32=\"\",\"\",IF(I32=1,VLOOKUP(AB32,男子種目コード!#REF!,2,FALSE),IF(I32=2,VLOOKUP(AB32,女子種目コード!#REF!,2,FALSE))))","v":""},null,null,{"$f":"IF(AE32=\"\",\"\",IF(E32=1,VLOOKUP(AE32,男子種目コード!#REF!,2,FALSE),IF(E32=2,VLOOKUP(AE32,女子種目コード!#REF!,2,FALSE))))","v":""},null,null,null,"",0,null,null,{"$f":"IF(ISERROR(BA32),\"\",BA32)","v":""},"","","","","",null,"混成E",null,null,0,"","",{"$f":"VLookUpX(\"男子D\",$A$7:$F$186,1,5)","v":{"$error":"#N/A"}},{"$f":"VLookUpX(\"男子D\",$A$7:$F$186,1,6)","v":{"$error":"#N/A"}},{"$f":"VLookUpX(\"女子D\",$A$7:$F$186,1,5)","v":{"$error":"#N/A"}},{"$f":"VLookUpX(\"女子D\",$A$7:$F$186,1,6)","v":{"$error":"#N/A"}},{"$f":"VLookUpX(\"混成D\",$A$7:$F$186,1,5)","v":{"$error":"#N/A"}},{"$f":"VLookUpX(\"混成D\",$A$7:$F$186,1,6)","v":{"$error":"#N/A"}},{"$f":"IF(AN32=\"\",\"\",1)","v":""},{"$f":"IF(AP32=\"\",\"\",1)","v":""},{"$f":"IF(AR32=\"\",\"\",1)","v":""}]
[0,{"$f":"前年度登録!O31","v":""},null,null,{"$f":"前年度登録!E31","v":0},{"$f":"前年度登録!BD31","v":""},{"$f":"前年度登録!V31","v":""},{"$f":"前年度登録!BD31","v":""},{"$f":"前年度登録!U31","v":""},{"$f":"前年度登録!I31","v":0},{"$f":"前年度登録!K31","v":0},{"$f":"前年度登録!BK31","v":"00"},{"$f":"前年度登録!P31","v":""},{"$f":"前年度登録!$Q$7","v":23},null,{"$f":"IF(O33=\"\",\"\",IF(I33=1,VLOOKUP(O33,男子種目コード!$A$2:$B$35,2,FALSE),IF(I33=2,VLOOKUP(O33,女子種目コード!$A$2:$B$35,2,FALSE))))","v":""},{"$f":"IF(O33=\"\",\"\",HLOOKUP(O33,前年度登録!$W$4:$AV$184,28,FALSE))","v":""},"","",null,{"$f":"IF(T33=\"\",\"\",IF(I33=1,VLOOKUP(T33,男子種目コード!$A$19:$B$31,2,FALSE),IF(I33=2,VLOOKUP(T33,女子種目コード!$A$19:$B$31,2,FALSE))))","v":""},null,"","",null,{"$f":"IF(Y33=\"\",\"\",IF(I33=1,VLOOKUP(Y33,男子種目コード!#REF!,2,FALSE),IF(I33=2,VLOOKUP(Y33,女子種目コード!#REF!,2,FALSE))))","v":""},null,null,{"$f":"IF(AB33=\"\",\"\",IF(I33=1,VLOOKUP(AB33,男子種目コード!#REF!,2,FALSE),IF(I33=2,VLOOKUP(AB33,女子種目コード!#REF!,2,FALSE))))","v":""},null,null,{"$f":"IF(AE33=\"\",\"\",IF(E33=1,VLOOKUP(AE33,男子種目コード!#REF!,2,FALSE),IF(E33=2,VLOOKUP(AE33,女子種目コード!#REF!,2,FALSE))))","v":""},null,null,"5年100","",0,null,null,"","","","","","",{"$f":"IF(AS51>0,1,0)","v":1},"混成F",null,null,0,"","",{"$f":"VLookUpX(\"男子D\",$A$7:$F$186,2,5)","v":{"$error":"#N/A"}},{"$f":"VLookUpX(\"男子D\",$A$7:$F$186,2,6)","v":{"$error":"#N/A"}},{"$f":"VLookUpX(\"女子D\",$A$7:$F$186,2,5)","v":{"$error":"#N/A"}},{"$f":"VLookUpX(\"女子D\",$A$7:$F$186,2,6)","v":{"$error":"#N/A"}},{"$f":"VLookUpX(\"混成D\",$A$7:$F$186,2,5)","v":{"$error":"#N/A"}},{"$f":"VLookUpX(\"混成D\",$A$7:$F$186,2,6)","v":{"$error":"#N/A"}}]
[0,{"$f":"前年度登録!O32","v":""},null,null,{"$f":"前年度登録!E32","v":0},{"$f":"前年度登録!BD32","v":""},{"$f":"前年度登録!V32","v":""},{"$f":"前年度登録!BD32","v":""},{"$f":"前年度登録!U32","v":""},{"$f":"前年度登録!I32","v":0},{"$f":"前年度登録!K32","v":0},{"$f":"前年度登録!BK32","v":"00"},{"$f":"前年度登録!P32","v":""},{"$f":"前年度登録!$Q$7","v":23},null,{"$f":"IF(O34=\"\",\"\",IF(I34=1,VLOOKUP(O34,男子種目コード!$A$2:$B$35,2,FALSE),IF(I34=2,VLOOKUP(O34,女子種目コード!$A$2:$B$35,2,FALSE))))","v":""},{"$f":"IF(O34=\"\",\"\",HLOOKUP(O34,前年度登録!$W$4:$AV$184,29,FALSE))","v":""},"","",null,{"$f":"IF(T34=\"\",\"\",IF(I34=1,VLOOKUP(T34,男子種目コード!$A$19:$B$31,2,FALSE),IF(I34=2,VLOOKUP(T34,女子種目コード!$A$19:$B$31,2,FALSE))))","v":""},null,"","",null,{"$f":"IF(Y34=\"\",\"\",IF(I34=1,VLOOKUP(Y34,男子種目コード!#REF!,2,FALSE),IF(I34=2,VLOOKUP(Y34,女子種目コード!#REF!,2,FALSE))))","v":""},null,null,{"$f":"IF(AB34=\"\",\"\",IF(I34=1,VLOOKUP(AB34,男子種目コード!#REF!,2,FALSE),IF(I34=2,VLOOKUP(AB34,女子種目コード!#REF!,2,FALSE))))","v":""},null,null,{"$f":"IF(AE34=\"\",\"\",IF(E34=1,VLOOKUP(AE34,男子種目コード!#REF!,2,FALSE),IF(E34=2,VLOOKUP(AE34,女子種目コード!#REF!,2,FALSE))))","v":""},null,null,"5･6年800","",0,null,null,"","","","","","",1,"混成G",null,null,0,"","",{"$f":"VLookUpX(\"男子D\",$A$7:$F$186,3,5)","v":{"$error":"#N/A"}},{"$f":"VLookUpX(\"男子D\",$A$7:$F$186,3,6)","v":{"$error":"#N/A"}},{"$f":"VLookUpX(\"女子D\",$A$7:$F$186,3,5)","v":{"$error":"#N/A"}},{"$f":"VLookUpX(\"女子D\",$A$7:$F$186,3,6)","v":{"$error":"#N/A"}},{"$f":"VLookUpX(\"混成D\",$A$7:$F$186,3,5)","v":{"$error":"#N/A"}},{"$f":"VLookUpX(\"混成D\",$A$7:$F$186,3,6)","v":{"$error":"#N/A"}}]
[0,{"$f":"前年度登録!O33","v":""},null,null,{"$f":"前年度登録!E33","v":0},{"$f":"前年度登録!BD33","v":""},{"$f":"前年度登録!V33","v":""},{"$f":"前年度登録!BD33","v":""},{"$f":"前年度登録!U33","v":""},{"$f":"前年度登録!I33","v":0},{"$f":"前年度登録!K33","v":0},{"$f":"前年度登録!BK33","v":"00"},{"$f":"前年度登録!P33","v":""},{"$f":"前年度登録!$Q$7","v":23},null,{"$f":"IF(O35=\"\",\"\",IF(I35=1,VLOOKUP(O35,男子種目コード!$A$2:$B$35,2,FALSE),IF(I35=2,VLOOKUP(O35,女子種目コード!$A$2:$B$35,2,FALSE))))","v":""},{"$f":"IF(O35=\"\",\"\",HLOOKUP(O35,前年度登録!$W$4:$AV$184,30,FALSE))","v":""},"","",null,{"$f":"IF(T35=\"\",\"\",IF(I35=1,VLOOKUP(T35,男子種目コード!$A$19:$B$31,2,FALSE),IF(I35=2,VLOOKUP(T35,女子種目コード!$A$19:$B$31,2,FALSE))))","v":""},null,"","",null,{"$f":"IF(Y35=\"\",\"\",IF(I35=1,VLOOKUP(Y35,男子種目コード!#REF!,2,FALSE),IF(I35=2,VLOOKUP(Y35,女子種目コード!#REF!,2,FALSE))))","v":""},null,null,{"$f":"IF(AB35=\"\",\"\",IF(I35=1,VLOOKUP(AB35,男子種目コード!#REF!,2,FALSE),IF(I35=2,VLOOKUP(AB35,女子種目コード!#REF!,2,FALSE))))","v":""},null,null,{"$f":"IF(AE35=\"\",\"\",IF(E35=1,VLOOKUP(AE35,男子種目コード!#REF!,2,FALSE),IF(E35=2,VLOOKUP(AE35,女子種目コード!#REF!,2,FALSE))))","v":""},null,null,"*","",0,null,null,"","","","","","",1,"女子A",null,null,0,"","",{"$f":"VLookUpX(\"男子D\",$A$7:$F$186,4,5)","v":{"$error":"#N/A"}},{"$f":"VLookUpX(\"男子D\",$A$7:$F$186,4,6)","v":{"$error":"#N/A"}},{"$f":"VLookUpX(\"女子D\",$A$7:$F$186,4,5)","v":{"$error":"#N/A"}},{"$f":"VLookUpX(\"女子D\",$A$7:$F$186,4,6)","v":{"$error":"#N/A"}},{"$f":"VLookUpX(\"混成D\",$A$7:$F$186,4,5)","v":{"$error":"#N/A"}},{"$f":"VLookUpX(\"混成D\",$A$7:$F$186,4,6)","v":{"$error":"#N/A"}}]
[0,{"$f":"前年度登録!O34","v":""},null,null,{"$f":"前年度登録!E34","v":0},{"$f":"前年度登録!BD34","v":""},{"$f":"前年度登録!V34","v":""},{"$f":"前年度登録!BD34","v":""},{"$f":"前年度登録!U34","v":""},{"$f":"前年度登録!I34","v":0},{"$f":"前年度登録!K34","v":0},{"$f":"前年度登録!BK34","v":"00"},{"$f":"前年度登録!P34","v":""},{"$f":"前年度登録!$Q$7","v":23},null,{"$f":"IF(O36=\"\",\"\",IF(I36=1,VLOOKUP(O36,男子種目コード!$A$2:$B$35,2,FALSE),IF(I36=2,VLOOKUP(O36,女子種目コード!$A$2:$B$35,2,FALSE))))","v":""},{"$f":"IF(O36=\"\",\"\",HLOOKUP(O36,前年度登録!$W$4:$AV$184,31,FALSE))","v":""},"","",null,{"$f":"IF(T36=\"\",\"\",IF(I36=1,VLOOKUP(T36,男子種目コード!$A$19:$B$31,2,FALSE),IF(I36=2,VLOOKUP(T36,女子種目コード!$A$19:$B$31,2,FALSE))))","v":""},null,"","",null,{"$f":"IF(Y36=\"\",\"\",IF(I36=1,VLOOKUP(Y36,男子種目コード!#REF!,2,FALSE),IF(I36=2,VLOOKUP(Y36,女子種目コード!#REF!,2,FALSE))))","v":""},null,null,{"$f":"IF(AB36=\"\",\"\",IF(I36=1,VLOOKUP(AB36,男子種目コード!#REF!,2,FALSE),IF(I36=2,VLOOKUP(AB36,女子種目コード!#REF!,2,FALSE))))","v":""},null,null,{"$f":"IF(AE36=\"\",\"\",IF(E36=1,VLOOKUP(AE36,男子種目コード!#REF!,2,FALSE),IF(E36=2,VLOOKUP(AE36,女子種目コード!#REF!,2,FALSE))))","v":""},null,null,"5･6年走幅跳","",0,null,null,"","","","","","",0,"女子B",null,null,0,"","",{"$f":"VLookUpX(\"男子D\",$A$7:$F$186,5,5)","v":{"$error":"#N/A"}},{"$f":"VLookUpX(\"男子D\",$A$7:$F$186,5,6)","v":{"$error":"#N/A"}},{"$f":"VLookUpX(\"女子D\",$A$7:$F$186,5,5)","v":{"$error":"#N/A"}},{"$f":"VLookUpX(\"女子D\",$A$7:$F$186,5,6)","v":{"$error":"#N/A"}},{"$f":"VLookUpX(\"混成D\",$A$7:$F$186,5,5)","v":{"$error":"#N/A"}},{"$f":"VLookUpX(\"混成D\",$A$7:$F$186,5,6)","v":{"$error":"#N/A"}}]
[0,{"$f":"前年度登録!O35","v":""},null,null,{"$f":"前年度登録!E35","v":0},{"$f":"前年度登録!BD35","v":""},{"$f":"前年度登録!V35","v":""},{"$f":"前年度登録!BD35","v":""},{"$f":"前年度登録!U35","v":""},{"$f":"前年度登録!I35","v":0},{"$f":"前年度登録!K35","v":0},{"$f":"前年度登録!BK35","v":"00"},{"$f":"前年度登録!P35","v":""},{"$f":"前年度登録!$Q$7","v":23},null,{"$f":"IF(O37=\"\",\"\",IF(I37=1,VLOOKUP(O37,男子種目コード!$A$2:$B$35,2,FALSE),IF(I37=2,VLOOKUP(O37,女子種目コード!$A$2:$B$35,2,FALSE))))","v":""},{"$f":"IF(O37=\"\",\"\",HLOOKUP(O37,前年度登録!$W$4:$AV$184,32,FALSE))","v":""},"","",null,{"$f":"IF(T37=\"\",\"\",IF(I37=1,VLOOKUP(T37,男子種目コード!$A$19:$B$31,2,FALSE),IF(I37=2,VLOOKUP(T37,女子種目コード!$A$19:$B$31,2,FALSE))))","v":""},null,"","",null,{"$f":"IF(Y37=\"\",\"\",IF(I37=1,VLOOKUP(Y37,男子種目コード!#REF!,2,FALSE),IF(I37=2,VLOOKUP(Y37,女子種目コード!#REF!,2,FALSE))))","v":""},null,null,{"$f":"IF(AB37=\"\",\"\",IF(I37=1,VLOOKUP(AB37,男子種目コード!#REF!,2,FALSE),IF(I37=2,VLOOKUP(AB37,女子種目コード!#REF!,2,FALSE))))","v":""},null,null,{"$f":"IF(AE37=\"\",\"\",IF(E37=1,VLOOKUP(AE37,男子種目コード!#REF!,2,FALSE),IF(E37=2,VLOOKUP(AE37,女子種目コード!#REF!,2,FALSE))))","v":""},null,null,"5･6年ｼﾞｬﾍﾞﾘｯｸ","",0,null,null,"","","","","","",0,"女子C",null,null,0,"","",{"$f":"VLookUpX(\"男子D\",$A$7:$F$186,6,5)","v":{"$error":"#N/A"}},{"$f":"VLookUpX(\"男子D\",$A$7:$F$186,6,6)","v":{"$error":"#N/A"}},{"$f":"VLookUpX(\"女子D\",$A$7:$F$186,6,5)","v":{"$error":"#N/A"}},{"$f":"VLookUpX(\"女子D\",$A$7:$F$186,6,6)","v":{"$error":"#N/A"}},{"$f":"VLookUpX(\"混成D\",$A$7:$F$186,6,5)","v":{"$error":"#N/A"}},{"$f":"VLookUpX(\"混成D\",$A$7:$F$186,6,6)","v":{"$error":"#N/A"}}]
[0,{"$f":"前年度登録!O36","v":""},null,null,{"$f":"前年度登録!E36","v":0},{"$f":"前年度登録!BD36","v":""},{"$f":"前年度登録!V36","v":""},{"$f":"前年度登録!BD36","v":""},{"$f":"前年度登録!U36","v":""},{"$f":"前年度登録!I36","v":0},{"$f":"前年度登録!K36","v":0},{"$f":"前年度登録!BK36","v":"00"},{"$f":"前年度登録!P36","v":""},{"$f":"前年度登録!$Q$7","v":23},null,{"$f":"IF(O38=\"\",\"\",IF(I38=1,VLOOKUP(O38,男子種目コード!$A$2:$B$35,2,FALSE),IF(I38=2,VLOOKUP(O38,女子種目コード!$A$2:$B$35,2,FALSE))))","v":""},{"$f":"IF(O38=\"\",\"\",HLOOKUP(O38,前年度登録!$W$4:$AV$184,33,FALSE))","v":""},"","",null,{"$f":"IF(T38=\"\",\"\",IF(I38=1,VLOOKUP(T38,男子種目コード!$A$19:$B$31,2,FALSE),IF(I38=2,VLOOKUP(T38,女子種目コード!$A$19:$B$31,2,FALSE))))","v":""},null,"","",null,{"$f":"IF(Y38=\"\",\"\",IF(I38=1,VLOOKUP(Y38,男子種目コード!#REF!,2,FALSE),IF(I38=2,VLOOKUP(Y38,女子種目コード!#REF!,2,FALSE))))","v":""},null,null,{"$f":"IF(AB38=\"\",\"\",IF(I38=1,VLOOKUP(AB38,男子種目コード!#REF!,2,FALSE),IF(I38=2,VLOOKUP(AB38,女子種目コード!#REF!,2,FALSE))))","v":""},null,null,{"$f":"IF(AE38=\"\",\"\",IF(E38=1,VLOOKUP(AE38,男子種目コード!#REF!,2,FALSE),IF(E38=2,VLOOKUP(AE38,女子種目コード!#REF!,2,FALSE))))","v":""},null,null,null,"",0,null,null,"男子4×100mR-E",null,"女子4×100mR-E",null,"混成4×100mR-E",null,1,"女子D",null,null,0,"",""]
[0,{"$f":"前年度登録!O37","v":""},null,null,{"$f":"前年度登録!E37","v":0},{"$f":"前年度登録!BD37","v":""},{"$f":"前年度登録!V37","v":""},{"$f":"前年度登録!BD37","v":""},{"$f":"前年度登録!U37","v":""},{"$f":"前年度登録!I37","v":0},{"$f":"前年度登録!K37","v":0},{"$f":"前年度登録!BK37","v":"00"},{"$f":"前年度登録!P37","v":""},{"$f":"前年度登録!$Q$7","v":23},null,{"$f":"IF(O39=\"\",\"\",IF(I39=1,VLOOKUP(O39,男子種目コード!$A$2:$B$35,2,FALSE),IF(I39=2,VLOOKUP(O39,女子種目コード!$A$2:$B$35,2,FALSE))))","v":""},{"$f":"IF(O39=\"\",\"\",HLOOKUP(O39,前年度登録!$W$4:$AV$184,34,FALSE))","v":""},"","",null,{"$f":"IF(T39=\"\",\"\",IF(I39=1,VLOOKUP(T39,男子種目コード!$A$19:$B$31,2,FALSE),IF(I39=2,VLOOKUP(T39,女子種目コード!$A$19:$B$31,2,FALSE))))","v":""},null,"","",null,{"$f":"IF(Y39=\"\",\"\",IF(I39=1,VLOOKUP(Y39,男子種目コード!#REF!,2,FALSE),IF(I39=2,VLOOKUP(Y39,女子種目コード!#REF!,2,FALSE))))","v":""},null,null,{"$f":"IF(AB39=\"\",\"\",IF(I39=1,VLOOKUP(AB39,男子種目コード!#REF!,2,FALSE),IF(I39=2,VLOOKUP(AB39,女子種目コード!#REF!,2,FALSE))))","v":""},null,null,{"$f":"IF(AE39=\"\",\"\",IF(E39=1,VLOOKUP(AE39,男子種目コード!#REF!,2,FALSE),IF(E39=2,VLOOKUP(AE39,女子種目コード!#REF!,2,FALSE))))","v":""},null,null,null,"",{"$f":"IF(OR(AJ39=1,T39=\"\"),0,1)","v":0},null,null,"記録",null,"記録",null,"記録",null,null,"女子E",null,null,0,"",""]
[0,{"$f":"前年度登録!O38","v":""},null,null,{"$f":"前年度登録!E38","v":0},{"$f":"前年度登録!BD38","v":""},{"$f":"前年度登録!V38","v":""},{"$f":"前年度登録!BD38","v":""},{"$f":"前年度登録!U38","v":""},{"$f":"前年度登録!I38","v":0},{"$f":"前年度登録!K38","v":0},{"$f":"前年度登録!BK38","v":"00"},{"$f":"前年度登録!P38","v":""},{"$f":"前年度登録!$Q$7","v":23},null,{"$f":"IF(O40=\"\",\"\",IF(I40=1,VLOOKUP(O40,男子種目コード!$A$2:$B$35,2,FALSE),IF(I40=2,VLOOKUP(O40,女子種目コード!$A$2:$B$35,2,FALSE))))","v":""},{"$f":"IF(O40=\"\",\"\",HLOOKUP(O40,前年度登録!$W$4:$AV$184,35,FALSE))","v":""},"","",null,{"$f":"IF(T40=\"\",\"\",IF(I40=1,VLOOKUP(T40,男子種目コード!$A$19:$B$31,2,FALSE),IF(I40=2,VLOOKUP(T40,女子種目コード!$A$19:$B$31,2,FALSE))))","v":""},null,"","",null,{"$f":"IF(Y40=\"\",\"\",IF(I40=1,VLOOKUP(Y40,男子種目コード!#REF!,2,FALSE),IF(I40=2,VLOOKUP(Y40,女子種目コード!#REF!,2,FALSE))))","v":""},null,null,{"$f":"IF(AB40=\"\",\"\",IF(I40=1,VLOOKUP(AB40,男子種目コード!#REF!,2,FALSE),IF(I40=2,VLOOKUP(AB40,女子種目コード!#REF!,2,FALSE))))","v":""},null,null,{"$f":"IF(AE40=\"\",\"\",IF(E40=1,VLOOKUP(AE40,男子種目コード!#REF!,2,FALSE),IF(E40=2,VLOOKUP(AE40,女子種目コード!#REF!,2,FALSE))))","v":""},null,null,null,"",0,null,null,{"$f":"IF(ISERROR(BA40),\"\",BA40)","v":""},"","","","","",null,"女子F",null,null,0,"","",{"$f":"VLookUpX(\"男子E\",$A$7:$F$186,1,5)","v":{"$error":"#N/A"}},{"$f":"VLookUpX(\"男子E\",$A$7:$F$186,1,6)","v":{"$error":"#N/A"}},{"$f":"VLookUpX(\"女子E\",$A$7:$F$186,1,5)","v":{"$error":"#N/A"}},{"$f":"VLookUpX(\"女子E\",$A$7:$F$186,1,6)","v":{"$error":"#N/A"}},{"$f":"VLookUpX(\"混成E\",$A$7:$F$186,1,5)","v":{"$error":"#N/A"}},{"$f":"VLookUpX(\"混成E\",$A$7:$F$186,1,6)","v":{"$error":"#N/A"}},{"$f":"IF(AN40=\"\",\"\",1)","v":""},{"$f":"IF(AP40=\"\",\"\",1)","v":""},{"$f":"IF(AR40=\"\",\"\",1)","v":""}]
[0,{"$f":"前年度登録!O39","v":""},null,null,{"$f":"前年度登録!E39","v":0},{"$f":"前年度登録!BD39","v":""},{"$f":"前年度登録!V39","v":""},{"$f":"前年度登録!BD39","v":""},{"$f":"前年度登録!U39","v":""},{"$f":"前年度登録!I39","v":0},{"$f":"前年度登録!K39","v":0},{"$f":"前年度登録!BK39","v":"00"},{"$f":"前年度登録!P39","v":""},{"$f":"前年度登録!$Q$7","v":23},null,{"$f":"IF(O41=\"\",\"\",IF(I41=1,VLOOKUP(O41,男子種目コード!$A$2:$B$35,2,FALSE),IF(I41=2,VLOOKUP(O41,女子種目コード!$A$2:$B$35,2,FALSE))))","v":""},{"$f":"IF(O41=\"\",\"\",HLOOKUP(O41,前年度登録!$W$4:$AV$184,36,FALSE))","v":""},"","",null,{"$f":"IF(T41=\"\",\"\",IF(I41=1,VLOOKUP(T41,男子種目コード!$A$19:$B$31,2,FALSE),IF(I41=2,VLOOKUP(T41,女子種目コード!$A$19:$B$31,2,FALSE))))","v":""},null,"","",null,{"$f":"IF(Y41=\"\",\"\",IF(I41=1,VLOOKUP(Y41,男子種目コード!#REF!,2,FALSE),IF(I41=2,VLOOKUP(Y41,女子種目コード!#REF!,2,FALSE))))","v":""},null,null,{"$f":"IF(AB41=\"\",\"\",IF(I41=1,VLOOKUP(AB41,男子種目コード!#REF!,2,FALSE),IF(I41=2,VLOOKUP(AB41,女子種目コード!#REF!,2,FALSE))))","v":""},null,null,{"$f":"IF(AE41=\"\",\"\",IF(E41=1,VLOOKUP(AE41,男子種目コード!#REF!,2,FALSE),IF(E41=2,VLOOKUP(AE41,女子種目コード!#REF!,2,FALSE))))","v":""},null,null,null,"",0,null,null,"","","","","","",{"$f":"IF(AS59>0,1,0)","v":1},null,null,null,0,"","",{"$f":"VLookUpX(\"男子E\",$A$7:$F$186,2,5)","v":{"$error":"#N/A"}},{"$f":"VLookUpX(\"男子E\",$A$7:$F$186,2,6)","v":{"$error":"#N/A"}},{"$f":"VLookUpX(\"女子E\",$A$7:$F$186,2,5)","v":{"$error":"#N/A"}},{"$f":"VLookUpX(\"女子E\",$A$7:$F$186,2,6)","v":{"$error":"#N/A"}},{"$f":"VLookUpX(\"混成E\",$A$7:$F$186,2,5)","v":{"$error":"#N/A"}},{"$f":"VLookUpX(\"混成E\",$A$7:$F$186,2,6)","v":{"$error":"#N/A"}}]
[0,{"$f":"前年度登録!O40","v":""},null,null,{"$f":"前年度登録!E40","v":0},{"$f":"前年度登録!BD40","v":""},{"$f":"前年度登録!V40","v":""},{"$f":"前年度登録!BD40","v":""},{"$f":"前年度登録!U40","v":""},{"$f":"前年度登録!I40","v":0},{"$f":"前年度登録!K40","v":0},{"$f":"前年度登録!BK40","v":"00"},{"$f":"前年度登録!P40","v":""},{"$f":"前年度登録!$Q$7","v":23},null,{"$f":"IF(O42=\"\",\"\",IF(I42=1,VLOOKUP(O42,男子種目コード!$A$2:$B$35,2,FALSE),IF(I42=2,VLOOKUP(O42,女子種目コード!$A$2:$B$35,2,FALSE))))","v":""},{"$f":"IF(O42=\"\",\"\",HLOOKUP(O42,前年度登録!$W$4:$AV$184,37,FALSE))","v":""},"","",null,{"$f":"IF(T42=\"\",\"\",IF(I42=1,VLOOKUP(T42,男子種目コード!$A$19:$B$31,2,FALSE),IF(I42=2,VLOOKUP(T42,女子種目コード!$A$19:$B$31,2,FALSE))))","v":""},null,"","",null,{"$f":"IF(Y42=\"\",\"\",IF(I42=1,VLOOKUP(Y42,男子種目コード!#REF!,2,FALSE),IF(I42=2,VLOOKUP(Y42,女子種目コード!#REF!,2,FALSE))))","v":""},null,null,{"$f":"IF(AB42=\"\",\"\",IF(I42=1,VLOOKUP(AB42,男子種目コード!#REF!,2,FALSE),IF(I42=2,VLOOKUP(AB42,女子種目コード!#REF!,2,FALSE))))","v":""},null,null,{"$f":"IF(AE42=\"\",\"\",IF(E42=1,VLOOKUP(AE42,男子種目コード!#REF!,2,FALSE),IF(E42=2,VLOOKUP(AE42,女子種目コード!#REF!,2,FALSE))))","v":""},null,null,null,"",0,null,null,"","","","","","",{"$f":"IF(AS60>0,1,0)","v":1},null,null,null,0,"","",{"$f":"VLookUpX(\"男子E\",$A$7:$F$186,3,5)","v":{"$error":"#N/A"}},{"$f":"VLookUpX(\"男子E\",$A$7:$F$186,3,6)","v":{"$error":"#N/A"}},{"$f":"VLookUpX(\"女子E\",$A$7:$F$186,3,5)","v":{"$error":"#N/A"}},{"$f":"VLookUpX(\"女子E\",$A$7:$F$186,3,6)","v":{"$error":"#N/A"}},{"$f":"VLookUpX(\"混成E\",$A$7:$F$186,3,5)","v":{"$error":"#N/A"}},{"$f":"VLookUpX(\"混成E\",$A$7:$F$186,3,6)","v":{"$error":"#N/A"}}]
[0,{"$f":"前年度登録!O41","v":""},null,null,{"$f":"前年度登録!E41","v":0},{"$f":"前年度登録!BD41","v":""},{"$f":"前年度登録!V41","v":""},{"$f":"前年度登録!BD41","v":""},{"$f":"前年度登録!U41","v":""},{"$f":"前年度登録!I41","v":0},{"$f":"前年度登録!K41","v":0},{"$f":"前年度登録!BK41","v":"00"},{"$f":"前年度登録!P41","v":""},{"$f":"前年度登録!$Q$7","v":23},null,{"$f":"IF(O43=\"\",\"\",IF(I43=1,VLOOKUP(O43,男子種目コード!$A$2:$B$35,2,FALSE),IF(I43=2,VLOOKUP(O43,女子種目コード!$A$2:$B$35,2,FALSE))))","v":""},{"$f":"IF(O43=\"\",\"\",HLOOKUP(O43,前年度登録!$W$4:$AV$184,38,FALSE))","v":""},"","",null,{"$f":"IF(T43=\"\",\"\",IF(I43=1,VLOOKUP(T43,男子種目コード!$A$19:$B$31,2,FALSE),IF(I43=2,VLOOKUP(T43,女子種目コード!$A$19:$B$31,2,FALSE))))","v":""},null,"","",null,{"$f":"IF(Y43=\"\",\"\",IF(I43=1,VLOOKUP(Y43,男子種目コード!#REF!,2,FALSE),IF(I43=2,VLOOKUP(Y43,女子種目コード!#REF!,2,FALSE))))","v":""},null,null,{"$f":"IF(AB43=\"\",\"\",IF(I43=1,VLOOKUP(AB43,男子種目コード!#REF!,2,FALSE),IF(I43=2,VLOOKUP(AB43,女子種目コード!#REF!,2,FALSE))))","v":""},null,null,{"$f":"IF(AE43=\"\",\"\",IF(E43=1,VLOOKUP(AE43,男子種目コード!#REF!,2,FALSE),IF(E43=2,VLOOKUP(AE43,女子種目コード!#REF!,2,FALSE))))","v":""},null,null,null,"",0,null,null,"","","","","","",{"$f":"IF(AS61>0,1,0)","v":1},null,null,null,0,"","",{"$f":"VLookUpX(\"男子E\",$A$7:$F$186,4,5)","v":{"$error":"#N/A"}},{"$f":"VLookUpX(\"男子E\",$A$7:$F$186,4,6)","v":{"$error":"#N/A"}},{"$f":"VLookUpX(\"女子E\",$A$7:$F$186,4,5)","v":{"$error":"#N/A"}},{"$f":"VLookUpX(\"女子E\",$A$7:$F$186,4,6)","v":{"$error":"#N/A"}},{"$f":"VLookUpX(\"混成E\",$A$7:$F$186,4,5)","v":{"$error":"#N/A"}},{"$f":"VLookUpX(\"混成E\",$A$7:$F$186,4,6)","v":{"$error":"#N/A"}}]
[0,{"$f":"前年度登録!O42","v":""},null,null,{"$f":"前年度登録!E42","v":0},{"$f":"前年度登録!BD42","v":""},{"$f":"前年度登録!V42","v":""},{"$f":"前年度登録!BD42","v":""},{"$f":"前年度登録!U42","v":""},{"$f":"前年度登録!I42","v":0},{"$f":"前年度登録!K42","v":0},{"$f":"前年度登録!BK42","v":"00"},{"$f":"前年度登録!P42","v":""},{"$f":"前年度登録!$Q$7","v":23},null,{"$f":"IF(O44=\"\",\"\",IF(I44=1,VLOOKUP(O44,男子種目コード!$A$2:$B$35,2,FALSE),IF(I44=2,VLOOKUP(O44,女子種目コード!$A$2:$B$35,2,FALSE))))","v":""},{"$f":"IF(O44=\"\",\"\",HLOOKUP(O44,前年度登録!$W$4:$AV$184,39,FALSE))","v":""},"","",null,{"$f":"IF(T44=\"\",\"\",IF(I44=1,VLOOKUP(T44,男子種目コード!$A$19:$B$31,2,FALSE),IF(I44=2,VLOOKUP(T44,女子種目コード!$A$19:$B$31,2,FALSE))))","v":""},null,"","",null,{"$f":"IF(Y44=\"\",\"\",IF(I44=1,VLOOKUP(Y44,男子種目コード!#REF!,2,FALSE),IF(I44=2,VLOOKUP(Y44,女子種目コード!#REF!,2,FALSE))))","v":""},null,null,{"$f":"IF(AB44=\"\",\"\",IF(I44=1,VLOOKUP(AB44,男子種目コード!#REF!,2,FALSE),IF(I44=2,VLOOKUP(AB44,女子種目コード!#REF!,2,FALSE))))","v":""},null,null,{"$f":"IF(AE44=\"\",\"\",IF(E44=1,VLOOKUP(AE44,男子種目コード!#REF!,2,FALSE),IF(E44=2,VLOOKUP(AE44,女子種目コード!#REF!,2,FALSE))))","v":""},null,null,null,"",0,null,null,"","","","","","",{"$f":"IF(AS62>0,1,0)","v":0},null,null,null,0,"","",{"$f":"VLookUpX(\"男子E\",$A$7:$F$186,5,5)","v":{"$error":"#N/A"}},{"$f":"VLookUpX(\"男子E\",$A$7:$F$186,5,6)","v":{"$error":"#N/A"}},{"$f":"VLookUpX(\"女子E\",$A$7:$F$186,5,5)","v":{"$error":"#N/A"}},{"$f":"VLookUpX(\"女子E\",$A$7:$F$186,5,6)","v":{"$error":"#N/A"}},{"$f":"VLookUpX(\"混成E\",$A$7:$F$186,5,5)","v":{"$error":"#N/A"}},{"$f":"VLookUpX(\"混成E\",$A$7:$F$186,5,6)","v":{"$error":"#N/A"}}]
[0,{"$f":"前年度登録!O43","v":""},null,null,{"$f":"前年度登録!E43","v":0},{"$f":"前年度登録!BD43","v":""},{"$f":"前年度登録!V43","v":""},{"$f":"前年度登録!BD43","v":""},{"$f":"前年度登録!U43","v":""},{"$f":"前年度登録!I43","v":0},{"$f":"前年度登録!K43","v":0},{"$f":"前年度登録!BK43","v":"00"},{"$f":"前年度登録!P43","v":""},{"$f":"前年度登録!$Q$7","v":23},null,{"$f":"IF(O45=\"\",\"\",IF(I45=1,VLOOKUP(O45,男子種目コード!$A$2:$B$35,2,FALSE),IF(I45=2,VLOOKUP(O45,女子種目コード!$A$2:$B$35,2,FALSE))))","v":""},{"$f":"IF(O45=\"\",\"\",HLOOKUP(O45,前年度登録!$W$4:$AV$184,40,FALSE))","v":""},"","",null,{"$f":"IF(T45=\"\",\"\",IF(I45=1,VLOOKUP(T45,男子種目コード!$A$19:$B$31,2,FALSE),IF(I45=2,VLOOKUP(T45,女子種目コード!$A$19:$B$31,2,FALSE))))","v":""},null,"","",null,{"$f":"IF(Y45=\"\",\"\",IF(I45=1,VLOOKUP(Y45,男子種目コード!#REF!,2,FALSE),IF(I45=2,VLOOKUP(Y45,女子種目コード!#REF!,2,FALSE))))","v":""},null,null,{"$f":"IF(AB45=\"\",\"\",IF(I45=1,VLOOKUP(AB45,男子種目コード!#REF!,2,FALSE),IF(I45=2,VLOOKUP(AB45,女子種目コード!#REF!,2,FALSE))))","v":""},null,null,{"$f":"IF(AE45=\"\",\"\",IF(E45=1,VLOOKUP(AE45,男子種目コード!#REF!,2,FALSE),IF(E45=2,VLOOKUP(AE45,女子種目コード!#REF!,2,FALSE))))","v":""},null,null,null,"",0,null,null,"","","","","","",{"$f":"IF(AS63>0,1,0)","v":0},null,null,null,0,"","",{"$f":"VLookUpX(\"男子E\",$A$7:$F$186,6,5)","v":{"$error":"#N/A"}},{"$f":"VLookUpX(\"男子E\",$A$7:$F$186,6,6)","v":{"$error":"#N/A"}},{"$f":"VLookUpX(\"女子E\",$A$7:$F$186,6,5)","v":{"$error":"#N/A"}},{"$f":"VLookUpX(\"女子E\",$A$7:$F$186,6,6)","v":{"$error":"#N/A"}},{"$f":"VLookUpX(\"混成E\",$A$7:$F$186,6,5)","v":{"$error":"#N/A"}},{"$f":"VLookUpX(\"混成E\",$A$7:$F$186,6,6)","v":{"$error":"#N/A"}}]
[0,{"$f":"前年度登録!O44","v":""},null,null,{"$f":"前年度登録!E44","v":0},{"$f":"前年度登録!BD44","v":""},{"$f":"前年度登録!V44","v":""},{"$f":"前年度登録!BD44","v":""},{"$f":"前年度登録!U44","v":""},{"$f":"前年度登録!I44","v":0},{"$f":"前年度登録!K44","v":0},{"$f":"前年度登録!BK44","v":"00"},{"$f":"前年度登録!P44","v":""},{"$f":"前年度登録!$Q$7","v":23},null,{"$f":"IF(O46=\"\",\"\",IF(I46=1,VLOOKUP(O46,男子種目コード!$A$2:$B$35,2,FALSE),IF(I46=2,VLOOKUP(O46,女子種目コード!$A$2:$B$35,2,FALSE))))","v":""},{"$f":"IF(O46=\"\",\"\",HLOOKUP(O46,前年度登録!$W$4:$AV$184,41,FALSE))","v":""},"","",null,{"$f":"IF(T46=\"\",\"\",IF(I46=1,VLOOKUP(T46,男子種目コード!$A$19:$B$31,2,FALSE),IF(I46=2,VLOOKUP(T46,女子種目コード!$A$19:$B$31,2,FALSE))))","v":""},null,"","",null,{"$f":"IF(Y46=\"\",\"\",IF(I46=1,VLOOKUP(Y46,男子種目コード!#REF!,2,FALSE),IF(I46=2,VLOOKUP(Y46,女子種目コード!#REF!,2,FALSE))))","v":""},null,null,{"$f":"IF(AB46=\"\",\"\",IF(I46=1,VLOOKUP(AB46,男子種目コード!#REF!,2,FALSE),IF(I46=2,VLOOKUP(AB46,女子種目コード!#REF!,2,FALSE))))","v":""},null,null,{"$f":"IF(AE46=\"\",\"\",IF(E46=1,VLOOKUP(AE46,男子種目コード!#REF!,2,FALSE),IF(E46=2,VLOOKUP(AE46,女子種目コード!#REF!,2,FALSE))))","v":""},null,null,null,"",0,null,null,"男子4×100mR-F",null,"女子4×100mR-F",null,"混成4×100mR-F",null,null,null,null,null,{"$f":"COUNT(P46,U46)","v":0},{"$f":"IF(I46=1,AX46,\"\")","v":""},{"$f":"IF(I46=2,AX46,\"\")","v":""}]
[0,{"$f":"前年度登録!O45","v":""},null,null,{"$f":"前年度登録!E45","v":0},{"$f":"前年度登録!BD45","v":""},{"$f":"前年度登録!V45","v":""},{"$f":"前年度登録!BD45","v":""},{"$f":"前年度登録!U45","v":""},{"$f":"前年度登録!I45","v":0},{"$f":"前年度登録!K45","v":0},{"$f":"前年度登録!BK45","v":"00"},{"$f":"前年度登録!P45","v":""},{"$f":"前年度登録!$Q$7","v":23},null,{"$f":"IF(O47=\"\",\"\",IF(I47=1,VLOOKUP(O47,男子種目コード!$A$2:$B$35,2,FALSE),IF(I47=2,VLOOKUP(O47,女子種目コード!$A$2:$B$35,2,FALSE))))","v":""},{"$f":"IF(O47=\"\",\"\",HLOOKUP(O47,前年度登録!$W$4:$AV$184,42,FALSE))","v":""},"","",null,{"$f":"IF(T47=\"\",\"\",IF(I47=1,VLOOKUP(T47,男子種目コード!$A$19:$B$31,2,FALSE),IF(I47=2,VLOOKUP(T47,女子種目コード!$A$19:$B$31,2,FALSE))))","v":""},null,"","",null,{"$f":"IF(Y47=\"\",\"\",IF(I47=1,VLOOKUP(Y47,男子種目コード!#REF!,2,FALSE),IF(I47=2,VLOOKUP(Y47,女子種目コード!#REF!,2,FALSE))))","v":""},null,null,{"$f":"IF(AB47=\"\",\"\",IF(I47=1,VLOOKUP(AB47,男子種目コード!#REF!,2,FALSE),IF(I47=2,VLOOKUP(AB47,女子種目コード!#REF!,2,FALSE))))","v":""},null,null,{"$f":"IF(AE47=\"\",\"\",IF(E47=1,VLOOKUP(AE47,男子種目コード!#REF!,2,FALSE),IF(E47=2,VLOOKUP(AE47,女子種目コード!#REF!,2,FALSE))))","v":""},null,null,null,"",0,null,null,"記録",null,"記録",null,"記録",null,null,null,null,null,0,"",""]
[0,{"$f":"前年度登録!O46","v":""},null,null,{"$f":"前年度登録!E46","v":0},{"$f":"前年度登録!BD46","v":""},{"$f":"前年度登録!V46","v":""},{"$f":"前年度登録!BD46","v":""},{"$f":"前年度登録!U46","v":""},{"$f":"前年度登録!I46","v":0},{"$f":"前年度登録!K46","v":0},{"$f":"前年度登録!BK46","v":"00"},{"$f":"前年度登録!P46","v":""},{"$f":"前年度登録!$Q$7","v":23},null,{"$f":"IF(O48=\"\",\"\",IF(I48=1,VLOOKUP(O48,男子種目コード!$A$2:$B$35,2,FALSE),IF(I48=2,VLOOKUP(O48,女子種目コード!$A$2:$B$35,2,FALSE))))","v":""},{"$f":"IF(O48=\"\",\"\",HLOOKUP(O48,前年度登録!$W$4:$AV$184,43,FALSE))","v":""},"","",null,{"$f":"IF(T48=\"\",\"\",IF(I48=1,VLOOKUP(T48,男子種目コード!$A$19:$B$31,2,FALSE),IF(I48=2,VLOOKUP(T48,女子種目コード!$A$19:$B$31,2,FALSE))))","v":""},null,"","",null,{"$f":"IF(Y48=\"\",\"\",IF(I48=1,VLOOKUP(Y48,男子種目コード!#REF!,2,FALSE),IF(I48=2,VLOOKUP(Y48,女子種目コード!#REF!,2,FALSE))))","v":""},null,null,{"$f":"IF(AB48=\"\",\"\",IF(I48=1,VLOOKUP(AB48,男子種目コード!#REF!,2,FALSE),IF(I48=2,VLOOKUP(AB48,女子種目コード!#REF!,2,FALSE))))","v":""},null,null,{"$f":"IF(AE48=\"\",\"\",IF(E48=1,VLOOKUP(AE48,男子種目コード!#REF!,2,FALSE),IF(E48=2,VLOOKUP(AE48,女子種目コード!#REF!,2,FALSE))))","v":""},null,null,null,"",0,null,null,{"$f":"IF(ISERROR(BA48),\"\",BA48)","v":""},{"$f":"IF(ISERROR(BB48),\"\",BB48)","v":""},{"$f":"IF(ISERROR(BC48),\"\",BC48)","v":""},{"$f":"IF(ISERROR(BD48),\"\",BD48)","v":""},{"$f":"IF(ISERROR(BE48),\"\",BE48)","v":""},{"$f":"IF(ISERROR(BF48),\"\",BF48)","v":""},null,null,null,null,0,"","",{"$f":"VLookUpX(\"男子F\",$A$7:$F$186,1,5)","v":{"$error":"#N/A"}},{"$f":"VLookUpX(\"男子F\",$A$7:$F$186,1,6)","v":{"$error":"#N/A"}},{"$f":"VLookUpX(\"女子F\",$A$7:$F$186,1,5)","v":{"$error":"#N/A"}},{"$f":"VLookUpX(\"女子F\",$A$7:$F$186,1,6)","v":{"$error":"#N/A"}},{"$f":"VLookUpX(\"混成F\",$A$7:$F$186,1,5)","v":{"$error":"#N/A"}},{"$f":"VLookUpX(\"混成F\",$A$7:$F$186,1,6)","v":{"$error":"#N/A"}},{"$f":"IF(AN48=\"\",\"\",1)","v":""},{"$f":"IF(AP48=\"\",\"\",1)","v":""},{"$f":"IF(AR48=\"\",\"\",1)","v":""}]
[0,{"$f":"前年度登録!O47","v":""},null,null,{"$f":"前年度登録!E47","v":0},{"$f":"前年度登録!BD47","v":""},{"$f":"前年度登録!V47","v":""},{"$f":"前年度登録!BD47","v":""},{"$f":"前年度登録!U47","v":""},{"$f":"前年度登録!I47","v":0},{"$f":"前年度登録!K47","v":0},{"$f":"前年度登録!BK47","v":"00"},{"$f":"前年度登録!P47","v":""},{"$f":"前年度登録!$Q$7","v":23},null,{"$f":"IF(O49=\"\",\"\",IF(I49=1,VLOOKUP(O49,男子種目コード!$A$2:$B$35,2,FALSE),IF(I49=2,VLOOKUP(O49,女子種目コード!$A$2:$B$35,2,FALSE))))","v":""},{"$f":"IF(O49=\"\",\"\",HLOOKUP(O49,前年度登録!$W$4:$AV$184,44,FALSE))","v":""},"","",null,{"$f":"IF(T49=\"\",\"\",IF(I49=1,VLOOKUP(T49,男子種目コード!$A$19:$B$31,2,FALSE),IF(I49=2,VLOOKUP(T49,女子種目コード!$A$19:$B$31,2,FALSE))))","v":""},null,"","",null,{"$f":"IF(Y49=\"\",\"\",IF(I49=1,VLOOKUP(Y49,男子種目コード!#REF!,2,FALSE),IF(I49=2,VLOOKUP(Y49,女子種目コード!#REF!,2,FALSE))))","v":""},null,null,{"$f":"IF(AB49=\"\",\"\",IF(I49=1,VLOOKUP(AB49,男子種目コード!#REF!,2,FALSE),IF(I49=2,VLOOKUP(AB49,女子種目コード!#REF!,2,FALSE))))","v":""},null,null,{"$f":"IF(AE49=\"\",\"\",IF(E49=1,VLOOKUP(AE49,男子種目コード!#REF!,2,FALSE),IF(E49=2,VLOOKUP(AE49,女子種目コード!#REF!,2,FALSE))))","v":""},null,null,null,"",0,null,null,"","","","","","",null,null,null,null,0,"","",{"$f":"VLookUpX(\"男子F\",$A$7:$F$186,2,5)","v":{"$error":"#N/A"}},{"$f":"VLookUpX(\"男子F\",$A$7:$F$186,2,6)","v":{"$error":"#N/A"}},{"$f":"VLookUpX(\"女子F\",$A$7:$F$186,2,5)","v":{"$error":"#N/A"}},{"$f":"VLookUpX(\"女子F\",$A$7:$F$186,2,6)","v":{"$error":"#N/A"}},{"$f":"VLookUpX(\"混成F\",$A$7:$F$186,2,5)","v":{"$error":"#N/A"}},{"$f":"VLookUpX(\"混成F\",$A$7:$F$186,2,6)","v":{"$error":"#N/A"}}]
[0,{"$f":"前年度登録!O48","v":""},null,null,{"$f":"前年度登録!E48","v":0},{"$f":"前年度登録!BD48","v":""},{"$f":"前年度登録!V48","v":""},{"$f":"前年度登録!BD48","v":""},{"$f":"前年度登録!U48","v":""},{"$f":"前年度登録!I48","v":0},{"$f":"前年度登録!K48","v":0},{"$f":"前年度登録!BK48","v":"00"},{"$f":"前年度登録!P48","v":""},{"$f":"前年度登録!$Q$7","v":23},null,{"$f":"IF(O50=\"\",\"\",IF(I50=1,VLOOKUP(O50,男子種目コード!$A$2:$B$35,2,FALSE),IF(I50=2,VLOOKUP(O50,女子種目コード!$A$2:$B$35,2,FALSE))))","v":""},{"$f":"IF(O50=\"\",\"\",HLOOKUP(O50,前年度登録!$W$4:$AV$184,45,FALSE))","v":""},"","",null,{"$f":"IF(T50=\"\",\"\",IF(I50=1,VLOOKUP(T50,男子種目コード!$A$19:$B$31,2,FALSE),IF(I50=2,VLOOKUP(T50,女子種目コード!$A$19:$B$31,2,FALSE))))","v":""},null,"","",null,{"$f":"IF(Y50=\"\",\"\",IF(I50=1,VLOOKUP(Y50,男子種目コード!#REF!,2,FALSE),IF(I50=2,VLOOKUP(Y50,女子種目コード!#REF!,2,FALSE))))","v":""},null,null,{"$f":"IF(AB50=\"\",\"\",IF(I50=1,VLOOKUP(AB50,男子種目コード!#REF!,2,FALSE),IF(I50=2,VLOOKUP(AB50,女子種目コード!#REF!,2,FALSE))))","v":""},null,null,{"$f":"IF(AE50=\"\",\"\",IF(E50=1,VLOOKUP(AE50,男子種目コード!#REF!,2,FALSE),IF(E50=2,VLOOKUP(AE50,女子種目コード!#REF!,2,FALSE))))","v":""},null,null,null,"",0,null,null,"","","","","","",null,null,null,null,0,"","",{"$f":"VLookUpX(\"男子F\",$A$7:$F$186,3,5)","v":{"$error":"#N/A"}},{"$f":"VLookUpX(\"男子F\",$A$7:$F$186,3,6)","v":{"$error":"#N/A"}},{"$f":"VLookUpX(\"女子F\",$A$7:$F$186,3,5)","v":{"$error":"#N/A"}},{"$f":"VLookUpX(\"女子F\",$A$7:$F$186,3,6)","v":{"$error":"#N/A"}},{"$f":"VLookUpX(\"混成F\",$A$7:$F$186,3,5)","v":{"$error":"#N/A"}},{"$f":"VLookUpX(\"混成F\",$A$7:$F$186,3,6)","v":{"$error":"#N/A"}}]
[0,{"$f":"前年度登録!O49","v":""},null,null,{"$f":"前年度登録!E49","v":0},{"$f":"前年度登録!BD49","v":""},{"$f":"前年度登録!V49","v":""},{"$f":"前年度登録!BD49","v":""},{"$f":"前年度登録!U49","v":""},{"$f":"前年度登録!I49","v":0},{"$f":"前年度登録!K49","v":0},{"$f":"前年度登録!BK49","v":"00"},{"$f":"前年度登録!P49","v":""},{"$f":"前年度登録!$Q$7","v":23},null,{"$f":"IF(O51=\"\",\"\",IF(I51=1,VLOOKUP(O51,男子種目コード!$A$2:$B$35,2,FALSE),IF(I51=2,VLOOKUP(O51,女子種目コード!$A$2:$B$35,2,FALSE))))","v":""},{"$f":"IF(O51=\"\",\"\",HLOOKUP(O51,前年度登録!$W$4:$AV$184,46,FALSE))","v":""},"","",null,{"$f":"IF(T51=\"\",\"\",IF(I51=1,VLOOKUP(T51,男子種目コード!$A$19:$B$31,2,FALSE),IF(I51=2,VLOOKUP(T51,女子種目コード!$A$19:$B$31,2,FALSE))))","v":""},null,"","",null,{"$f":"IF(Y51=\"\",\"\",IF(I51=1,VLOOKUP(Y51,男子種目コード!#REF!,2,FALSE),IF(I51=2,VLOOKUP(Y51,女子種目コード!#REF!,2,FALSE))))","v":""},null,null,{"$f":"IF(AB51=\"\",\"\",IF(I51=1,VLOOKUP(AB51,男子種目コード!#REF!,2,FALSE),IF(I51=2,VLOOKUP(AB51,女子種目コード!#REF!,2,FALSE))))","v":""},null,null,{"$f":"IF(AE51=\"\",\"\",IF(E51=1,VLOOKUP(AE51,男子種目コード!#REF!,2,FALSE),IF(E51=2,VLOOKUP(AE51,女子種目コード!#REF!,2,FALSE))))","v":""},null,null,null,"",0,null,null,"","","","","","",null,null,null,null,0,"","",{"$f":"VLookUpX(\"男子F\",$A$7:$F$186,4,5)","v":{"$error":"#N/A"}},{"$f":"VLookUpX(\"男子F\",$A$7:$F$186,4,6)","v":{"$error":"#N/A"}},{"$f":"VLookUpX(\"女子F\",$A$7:$F$186,4,5)","v":{"$error":"#N/A"}},{"$f":"VLookUpX(\"女子F\",$A$7:$F$186,4,6)","v":{"$error":"#N/A"}},{"$f":"VLookUpX(\"混成F\",$A$7:$F$186,4,5)","v":{"$error":"#N/A"}},{"$f":"VLookUpX(\"混成F\",$A$7:$F$186,4,6)","v":{"$error":"#N/A"}}]
[0,{"$f":"前年度登録!O50","v":""},null,null,{"$f":"前年度登録!E50","v":0},{"$f":"前年度登録!BD50","v":""},{"$f":"前年度登録!V50","v":""},{"$f":"前年度登録!BD50","v":""},{"$f":"前年度登録!U50","v":""},{"$f":"前年度登録!I50","v":0},{"$f":"前年度登録!K50","v":0},{"$f":"前年度登録!BK50","v":"00"},{"$f":"前年度登録!P50","v":""},{"$f":"前年度登録!$Q$7","v":23},null,{"$f":"IF(O52=\"\",\"\",IF(I52=1,VLOOKUP(O52,男子種目コード!$A$2:$B$35,2,FALSE),IF(I52=2,VLOOKUP(O52,女子種目コード!$A$2:$B$35,2,FALSE))))","v":""},{"$f":"IF(O52=\"\",\"\",HLOOKUP(O52,前年度登録!$W$4:$AV$184,47,FALSE))","v":""},"","",null,{"$f":"IF(T52=\"\",\"\",IF(I52=1,VLOOKUP(T52,男子種目コード!$A$19:$B$31,2,FALSE),IF(I52=2,VLOOKUP(T52,女子種目コード!$A$19:$B$31,2,FALSE))))","v":""},null,"","",null,{"$f":"IF(Y52=\"\",\"\",IF(I52=1,VLOOKUP(Y52,男子種目コード!#REF!,2,FALSE),IF(I52=2,VLOOKUP(Y52,女子種目コード!#REF!,2,FALSE))))","v":""},null,null,{"$f":"IF(AB52=\"\",\"\",IF(I52=1,VLOOKUP(AB52,男子種目コード!#REF!,2,FALSE),IF(I52=2,VLOOKUP(AB52,女子種目コード!#REF!,2,FALSE))))","v":""},null,null,{"$f":"IF(AE52=\"\",\"\",IF(E52=1,VLOOKUP(AE52,男子種目コード!#REF!,2,FALSE),IF(E52=2,VLOOKUP(AE52,女子種目コード!#REF!,2,FALSE))))","v":""},null,null,null,"",0,null,null,"","","","","","",null,null,null,null,0,"","",{"$f":"VLookUpX(\"男子F\",$A$7:$F$186,5,5)","v":{"$error":"#N/A"}},{"$f":"VLookUpX(\"男子F\",$A$7:$F$186,5,6)","v":{"$error":"#N/A"}},{"$f":"VLookUpX(\"女子F\",$A$7:$F$186,5,5)","v":{"$error":"#N/A"}},{"$f":"VLookUpX(\"女子F\",$A$7:$F$186,5,6)","v":{"$error":"#N/A"}},{"$f":"VLookUpX(\"混成F\",$A$7:$F$186,5,5)","v":{"$error":"#N/A"}},{"$f":"VLookUpX(\"混成F\",$A$7:$F$186,5,6)","v":{"$error":"#N/A"}}]
[0,{"$f":"前年度登録!O51","v":""},null,null,{"$f":"前年度登録!E51","v":0},{"$f":"前年度登録!BD51","v":""},{"$f":"前年度登録!V51","v":""},{"$f":"前年度登録!BD51","v":""},{"$f":"前年度登録!U51","v":""},{"$f":"前年度登録!I51","v":0},{"$f":"前年度登録!K51","v":0},{"$f":"前年度登録!BK51","v":"00"},{"$f":"前年度登録!P51","v":""},{"$f":"前年度登録!$Q$7","v":23},null,{"$f":"IF(O53=\"\",\"\",IF(I53=1,VLOOKUP(O53,男子種目コード!$A$2:$B$35,2,FALSE),IF(I53=2,VLOOKUP(O53,女子種目コード!$A$2:$B$35,2,FALSE))))","v":""},{"$f":"IF(O53=\"\",\"\",HLOOKUP(O53,前年度登録!$W$4:$AV$184,48,FALSE))","v":""},"","",null,{"$f":"IF(T53=\"\",\"\",IF(I53=1,VLOOKUP(T53,男子種目コード!$A$19:$B$31,2,FALSE),IF(I53=2,VLOOKUP(T53,女子種目コード!$A$19:$B$31,2,FALSE))))","v":""},null,"","",null,{"$f":"IF(Y53=\"\",\"\",IF(I53=1,VLOOKUP(Y53,男子種目コード!#REF!,2,FALSE),IF(I53=2,VLOOKUP(Y53,女子種目コード!#REF!,2,FALSE))))","v":""},null,null,{"$f":"IF(AB53=\"\",\"\",IF(I53=1,VLOOKUP(AB53,男子種目コード!#REF!,2,FALSE),IF(I53=2,VLOOKUP(AB53,女子種目コード!#REF!,2,FALSE))))","v":""},null,null,{"$f":"IF(AE53=\"\",\"\",IF(E53=1,VLOOKUP(AE53,男子種目コード!#REF!,2,FALSE),IF(E53=2,VLOOKUP(AE53,女子種目コード!#REF!,2,FALSE))))","v":""},null,null,null,"",0,null,null,"","","","","","",null,null,null,null,0,"","",{"$f":"VLookUpX(\"男子F\",$A$7:$F$186,6,5)","v":{"$error":"#N/A"}},{"$f":"VLookUpX(\"男子F\",$A$7:$F$186,6,6)","v":{"$error":"#N/A"}},{"$f":"VLookUpX(\"女子F\",$A$7:$F$186,6,5)","v":{"$error":"#N/A"}},{"$f":"VLookUpX(\"女子F\",$A$7:$F$186,6,6)","v":{"$error":"#N/A"}},{"$f":"VLookUpX(\"混成F\",$A$7:$F$186,6,5)","v":{"$error":"#N/A"}},{"$f":"VLookUpX(\"混成F\",$A$7:$F$186,6,6)","v":{"$error":"#N/A"}}]
[0,{"$f":"前年度登録!O52","v":""},null,null,{"$f":"前年度登録!E52","v":0},{"$f":"前年度登録!BD52","v":""},{"$f":"前年度登録!V52","v":""},{"$f":"前年度登録!BD52","v":""},{"$f":"前年度登録!U52","v":""},{"$f":"前年度登録!I52","v":0},{"$f":"前年度登録!K52","v":0},{"$f":"前年度登録!BK52","v":"00"},{"$f":"前年度登録!P52","v":""},{"$f":"前年度登録!$Q$7","v":23},null,{"$f":"IF(O54=\"\",\"\",IF(I54=1,VLOOKUP(O54,男子種目コード!$A$2:$B$35,2,FALSE),IF(I54=2,VLOOKUP(O54,女子種目コード!$A$2:$B$35,2,FALSE))))","v":""},{"$f":"IF(O54=\"\",\"\",HLOOKUP(O54,前年度登録!$W$4:$AV$184,49,FALSE))","v":""},"","",null,{"$f":"IF(T54=\"\",\"\",IF(I54=1,VLOOKUP(T54,男子種目コード!$A$19:$B$31,2,FALSE),IF(I54=2,VLOOKUP(T54,女子種目コード!$A$19:$B$31,2,FALSE))))","v":""},null,"","",null,{"$f":"IF(Y54=\"\",\"\",IF(I54=1,VLOOKUP(Y54,男子種目コード!#REF!,2,FALSE),IF(I54=2,VLOOKUP(Y54,女子種目コード!#REF!,2,FALSE))))","v":""},null,null,{"$f":"IF(AB54=\"\",\"\",IF(I54=1,VLOOKUP(AB54,男子種目コード!#REF!,2,FALSE),IF(I54=2,VLOOKUP(AB54,女子種目コード!#REF!,2,FALSE))))","v":""},null,null,{"$f":"IF(AE54=\"\",\"\",IF(E54=1,VLOOKUP(AE54,男子種目コード!#REF!,2,FALSE),IF(E54=2,VLOOKUP(AE54,女子種目コード!#REF!,2,FALSE))))","v":""},null,null,null,"",0,null,null,null,null,null,null,"混成4×100mR-G",null,null,null,null,null,0,"",""]
[0,{"$f":"前年度登録!O53","v":""},null,null,{"$f":"前年度登録!E53","v":0},{"$f":"前年度登録!BD53","v":""},{"$f":"前年度登録!V53","v":""},{"$f":"前年度登録!BD53","v":""},{"$f":"前年度登録!U53","v":""},{"$f":"前年度登録!I53","v":0},{"$f":"前年度登録!K53","v":0},{"$f":"前年度登録!BK53","v":"00"},{"$f":"前年度登録!P53","v":""},{"$f":"前年度登録!$Q$7","v":23},null,{"$f":"IF(O55=\"\",\"\",IF(I55=1,VLOOKUP(O55,男子種目コード!$A$2:$B$35,2,FALSE),IF(I55=2,VLOOKUP(O55,女子種目コード!$A$2:$B$35,2,FALSE))))","v":""},{"$f":"IF(O55=\"\",\"\",HLOOKUP(O55,前年度登録!$W$4:$AV$184,50,FALSE))","v":""},"","",null,{"$f":"IF(T55=\"\",\"\",IF(I55=1,VLOOKUP(T55,男子種目コード!$A$19:$B$31,2,FALSE),IF(I55=2,VLOOKUP(T55,女子種目コード!$A$19:$B$31,2,FALSE))))","v":""},null,"","",null,{"$f":"IF(Y55=\"\",\"\",IF(I55=1,VLOOKUP(Y55,男子種目コード!#REF!,2,FALSE),IF(I55=2,VLOOKUP(Y55,女子種目コード!#REF!,2,FALSE))))","v":""},null,null,{"$f":"IF(AB55=\"\",\"\",IF(I55=1,VLOOKUP(AB55,男子種目コード!#REF!,2,FALSE),IF(I55=2,VLOOKUP(AB55,女子種目コード!#REF!,2,FALSE))))","v":""},null,null,{"$f":"IF(AE55=\"\",\"\",IF(E55=1,VLOOKUP(AE55,男子種目コード!#REF!,2,FALSE),IF(E55=2,VLOOKUP(AE55,女子種目コード!#REF!,2,FALSE))))","v":""},null,null,null,"",0,null,null,null,null,null,null,"記録",null,null,null,null,null,0,"",""]
[0,{"$f":"前年度登録!O54","v":""},null,null,{"$f":"前年度登録!E54","v":0},{"$f":"前年度登録!BD54","v":""},{"$f":"前年度登録!V54","v":""},{"$f":"前年度登録!BD54","v":""},{"$f":"前年度登録!U54","v":""},{"$f":"前年度登録!I54","v":0},{"$f":"前年度登録!K54","v":0},{"$f":"前年度登録!BK54","v":"00"},{"$f":"前年度登録!P54","v":""},{"$f":"前年度登録!$Q$7","v":23},null,{"$f":"IF(O56=\"\",\"\",IF(I56=1,VLOOKUP(O56,男子種目コード!$A$2:$B$35,2,FALSE),IF(I56=2,VLOOKUP(O56,女子種目コード!$A$2:$B$35,2,FALSE))))","v":""},{"$f":"IF(O56=\"\",\"\",HLOOKUP(O56,前年度登録!$W$4:$AV$184,51,FALSE))","v":""},"","",null,{"$f":"IF(T56=\"\",\"\",IF(I56=1,VLOOKUP(T56,男子種目コード!$A$19:$B$31,2,FALSE),IF(I56=2,VLOOKUP(T56,女子種目コード!$A$19:$B$31,2,FALSE))))","v":""},null,"","",null,{"$f":"IF(Y56=\"\",\"\",IF(I56=1,VLOOKUP(Y56,男子種目コード!#REF!,2,FALSE),IF(I56=2,VLOOKUP(Y56,女子種目コード!#REF!,2,FALSE))))","v":""},null,null,{"$f":"IF(AB56=\"\",\"\",IF(I56=1,VLOOKUP(AB56,男子種目コード!#REF!,2,FALSE),IF(I56=2,VLOOKUP(AB56,女子種目コード!#REF!,2,FALSE))))","v":""},null,null,{"$f":"IF(AE56=\"\",\"\",IF(E56=1,VLOOKUP(AE56,男子種目コード!#REF!,2,FALSE),IF(E56=2,VLOOKUP(AE56,女子種目コード!#REF!,2,FALSE))))","v":""},null,null,null,"",0,null,null,null,null,null,null,{"$f":"IF(ISERROR(BE56),\"\",BE56)","v":""},"",null,null,null,null,0,"","",null,null,null,null,{"$f":"VLookUpX(\"混成G\",$A$7:$F$186,1,5)","v":{"$error":"#N/A"}},{"$f":"VLookUpX(\"混成G\",$A$7:$F$186,1,6)","v":{"$error":"#N/A"}},{"$f":"IF(AN56=\"\",\"\",1)","v":""},{"$f":"IF(AP56=\"\",\"\",1)","v":""},{"$f":"IF(AR56=\"\",\"\",1)","v":""}]
[0,{"$f":"前年度登録!O55","v":""},null,null,{"$f":"前年度登録!E55","v":0},{"$f":"前年度登録!BD55","v":""},{"$f":"前年度登録!V55","v":""},{"$f":"前年度登録!BD55","v":""},{"$f":"前年度登録!U55","v":""},{"$f":"前年度登録!I55","v":0},{"$f":"前年度登録!K55","v":0},{"$f":"前年度登録!BK55","v":"00"},{"$f":"前年度登録!P55","v":""},{"$f":"前年度登録!$Q$7","v":23},null,{"$f":"IF(O57=\"\",\"\",IF(I57=1,VLOOKUP(O57,男子種目コード!$A$2:$B$35,2,FALSE),IF(I57=2,VLOOKUP(O57,女子種目コード!$A$2:$B$35,2,FALSE))))","v":""},{"$f":"IF(O57=\"\",\"\",HLOOKUP(O57,前年度登録!$W$4:$AV$184,52,FALSE))","v":""},"","",null,{"$f":"IF(T57=\"\",\"\",IF(I57=1,VLOOKUP(T57,男子種目コード!$A$19:$B$31,2,FALSE),IF(I57=2,VLOOKUP(T57,女子種目コード!$A$19:$B$31,2,FALSE))))","v":""},null,"","",null,{"$f":"IF(Y57=\"\",\"\",IF(I57=1,VLOOKUP(Y57,男子種目コード!#REF!,2,FALSE),IF(I57=2,VLOOKUP(Y57,女子種目コード!#REF!,2,FALSE))))","v":""},null,null,{"$f":"IF(AB57=\"\",\"\",IF(I57=1,VLOOKUP(AB57,男子種目コード!#REF!,2,FALSE),IF(I57=2,VLOOKUP(AB57,女子種目コード!#REF!,2,FALSE))))","v":""},null,null,{"$f":"IF(AE57=\"\",\"\",IF(E57=1,VLOOKUP(AE57,男子種目コード!#REF!,2,FALSE),IF(E57=2,VLOOKUP(AE57,女子種目コード!#REF!,2,FALSE))))","v":""},null,null,null,"",0,null,null,null,null,null,null,"","",null,null,null,null,0,"","",null,null,null,null,{"$f":"VLookUpX(\"混成G\",$A$7:$F$186,2,5)","v":{"$error":"#N/A"}},{"$f":"VLookUpX(\"混成G\",$A$7:$F$186,2,6)","v":{"$error":"#N/A"}}]
[0,{"$f":"前年度登録!O56","v":""},null,null,{"$f":"前年度登録!E56","v":0},{"$f":"前年度登録!BD56","v":""},{"$f":"前年度登録!V56","v":""},{"$f":"前年度登録!BD56","v":""},{"$f":"前年度登録!U56","v":""},{"$f":"前年度登録!I56","v":0},{"$f":"前年度登録!K56","v":0},{"$f":"前年度登録!BK56","v":"00"},{"$f":"前年度登録!P56","v":""},{"$f":"前年度登録!$Q$7","v":23},null,{"$f":"IF(O58=\"\",\"\",IF(I58=1,VLOOKUP(O58,男子種目コード!$A$2:$B$35,2,FALSE),IF(I58=2,VLOOKUP(O58,女子種目コード!$A$2:$B$35,2,FALSE))))","v":""},{"$f":"IF(O58=\"\",\"\",HLOOKUP(O58,前年度登録!$W$4:$AV$184,53,FALSE))","v":""},"","",null,{"$f":"IF(T58=\"\",\"\",IF(I58=1,VLOOKUP(T58,男子種目コード!$A$19:$B$31,2,FALSE),IF(I58=2,VLOOKUP(T58,女子種目コード!$A$19:$B$31,2,FALSE))))","v":""},null,"","",null,{"$f":"IF(Y58=\"\",\"\",IF(I58=1,VLOOKUP(Y58,男子種目コード!#REF!,2,FALSE),IF(I58=2,VLOOKUP(Y58,女子種目コード!#REF!,2,FALSE))))","v":""},null,null,{"$f":"IF(AB58=\"\",\"\",IF(I58=1,VLOOKUP(AB58,男子種目コード!#REF!,2,FALSE),IF(I58=2,VLOOKUP(AB58,女子種目コード!#REF!,2,FALSE))))","v":""},null,null,{"$f":"IF(AE58=\"\",\"\",IF(E58=1,VLOOKUP(AE58,男子種目コード!#REF!,2,FALSE),IF(E58=2,VLOOKUP(AE58,女子種目コード!#REF!,2,FALSE))))","v":""},null,null,null,"",0,null,null,null,null,null,null,"","",null,null,null,null,0,"","",null,null,null,null,{"$f":"VLookUpX(\"混成G\",$A$7:$F$186,3,5)","v":{"$error":"#N/A"}},{"$f":"VLookUpX(\"混成G\",$A$7:$F$186,3,6)","v":{"$error":"#N/A"}}]
[0,{"$f":"前年度登録!O57","v":""},null,null,{"$f":"前年度登録!E57","v":0},{"$f":"前年度登録!BD57","v":""},{"$f":"前年度登録!V57","v":""},{"$f":"前年度登録!BD57","v":""},{"$f":"前年度登録!U57","v":""},{"$f":"前年度登録!I57","v":0},{"$f":"前年度登録!K57","v":0},{"$f":"前年度登録!BK57","v":"00"},{"$f":"前年度登録!P57","v":""},{"$f":"前年度登録!$Q$7","v":23},null,{"$f":"IF(O59=\"\",\"\",IF(I59=1,VLOOKUP(O59,男子種目コード!$A$2:$B$35,2,FALSE),IF(I59=2,VLOOKUP(O59,女子種目コード!$A$2:$B$35,2,FALSE))))","v":""},{"$f":"IF(O59=\"\",\"\",HLOOKUP(O59,前年度登録!$W$4:$AV$184,54,FALSE))","v":""},"","",null,{"$f":"IF(T59=\"\",\"\",IF(I59=1,VLOOKUP(T59,男子種目コード!$A$19:$B$31,2,FALSE),IF(I59=2,VLOOKUP(T59,女子種目コード!$A$19:$B$31,2,FALSE))))","v":""},null,"","",null,{"$f":"IF(Y59=\"\",\"\",IF(I59=1,VLOOKUP(Y59,男子種目コード!#REF!,2,FALSE),IF(I59=2,VLOOKUP(Y59,女子種目コード!#REF!,2,FALSE))))","v":""},null,null,{"$f":"IF(AB59=\"\",\"\",IF(I59=1,VLOOKUP(AB59,男子種目コード!#REF!,2,FALSE),IF(I59=2,VLOOKUP(AB59,女子種目コード!#REF!,2,FALSE))))","v":""},null,null,{"$f":"IF(AE59=\"\",\"\",IF(E59=1,VLOOKUP(AE59,男子種目コード!#REF!,2,FALSE),IF(E59=2,VLOOKUP(AE59,女子種目コード!#REF!,2,FALSE))))","v":""},null,null,null,"",0,null,null,null,null,null,null,"","",null,null,null,null,0,"","",null,null,null,null,{"$f":"VLookUpX(\"混成G\",$A$7:$F$186,4,5)","v":{"$error":"#N/A"}},{"$f":"VLookUpX(\"混成G\",$A$7:$F$186,4,6)","v":{"$error":"#N/A"}}]
[0,{"$f":"前年度登録!O58","v":""},null,null,{"$f":"前年度登録!E58","v":0},{"$f":"前年度登録!BD58","v":""},{"$f":"前年度登録!V58","v":""},{"$f":"前年度登録!BD58","v":""},{"$f":"前年度登録!U58","v":""},{"$f":"前年度登録!I58","v":0},{"$f":"前年度登録!K58","v":0},{"$f":"前年度登録!BK58","v":"00"},{"$f":"前年度登録!P58","v":""},{"$f":"前年度登録!$Q$7","v":23},null,{"$f":"IF(O60=\"\",\"\",IF(I60=1,VLOOKUP(O60,男子種目コード!$A$2:$B$35,2,FALSE),IF(I60=2,VLOOKUP(O60,女子種目コード!$A$2:$B$35,2,FALSE))))","v":""},{"$f":"IF(O60=\"\",\"\",HLOOKUP(O60,前年度登録!$W$4:$AV$184,55,FALSE))","v":""},"","",null,{"$f":"IF(T60=\"\",\"\",IF(I60=1,VLOOKUP(T60,男子種目コード!$A$19:$B$31,2,FALSE),IF(I60=2,VLOOKUP(T60,女子種目コード!$A$19:$B$31,2,FALSE))))","v":""},null,"","",null,{"$f":"IF(Y60=\"\",\"\",IF(I60=1,VLOOKUP(Y60,男子種目コード!#REF!,2,FALSE),IF(I60=2,VLOOKUP(Y60,女子種目コード!#REF!,2,FALSE))))","v":""},null,null,{"$f":"IF(AB60=\"\",\"\",IF(I60=1,VLOOKUP(AB60,男子種目コード!#REF!,2,FALSE),IF(I60=2,VLOOKUP(AB60,女子種目コード!#REF!,2,FALSE))))","v":""},null,null,{"$f":"IF(AE60=\"\",\"\",IF(E60=1,VLOOKUP(AE60,男子種目コード!#REF!,2,FALSE),IF(E60=2,VLOOKUP(AE60,女子種目コード!#REF!,2,FALSE))))","v":""},null,null,null,"",0,null,null,null,null,null,null,"","",null,null,null,null,0,"","",null,null,null,null,{"$f":"VLookUpX(\"混成G\",$A$7:$F$186,5,5)","v":{"$error":"#N/A"}},{"$f":"VLookUpX(\"混成G\",$A$7:$F$186,5,6)","v":{"$error":"#N/A"}}]
[0,{"$f":"前年度登録!O59","v":""},null,null,{"$f":"前年度登録!E59","v":0},{"$f":"前年度登録!BD59","v":""},{"$f":"前年度登録!V59","v":""},{"$f":"前年度登録!BD59","v":""},{"$f":"前年度登録!U59","v":""},{"$f":"前年度登録!I59","v":0},{"$f":"前年度登録!K59","v":0},{"$f":"前年度登録!BK59","v":"00"},{"$f":"前年度登録!P59","v":""},{"$f":"前年度登録!$Q$7","v":23},null,{"$f":"IF(O61=\"\",\"\",IF(I61=1,VLOOKUP(O61,男子種目コード!$A$2:$B$35,2,FALSE),IF(I61=2,VLOOKUP(O61,女子種目コード!$A$2:$B$35,2,FALSE))))","v":""},{"$f":"IF(O61=\"\",\"\",HLOOKUP(O61,前年度登録!$W$4:$AV$184,56,FALSE))","v":""},"","",null,{"$f":"IF(T61=\"\",\"\",IF(I61=1,VLOOKUP(T61,男子種目コード!$A$19:$B$31,2,FALSE),IF(I61=2,VLOOKUP(T61,女子種目コード!$A$19:$B$31,2,FALSE))))","v":""},null,"","",null,{"$f":"IF(Y61=\"\",\"\",IF(I61=1,VLOOKUP(Y61,男子種目コード!#REF!,2,FALSE),IF(I61=2,VLOOKUP(Y61,女子種目コード!#REF!,2,FALSE))))","v":""},null,null,{"$f":"IF(AB61=\"\",\"\",IF(I61=1,VLOOKUP(AB61,男子種目コード!#REF!,2,FALSE),IF(I61=2,VLOOKUP(AB61,女子種目コード!#REF!,2,FALSE))))","v":""},null,null,{"$f":"IF(AE61=\"\",\"\",IF(E61=1,VLOOKUP(AE61,男子種目コード!#REF!,2,FALSE),IF(E61=2,VLOOKUP(AE61,女子種目コード!#REF!,2,FALSE))))","v":""},null,null,null,"",0,null,null,null,null,null,null,"","",null,null,null,null,0,"","",null,null,null,null,{"$f":"VLookUpX(\"混成G\",$A$7:$F$186,6,5)","v":{"$error":"#N/A"}},{"$f":"VLookUpX(\"混成G\",$A$7:$F$186,6,6)","v":{"$error":"#N/A"}}]
[0,{"$f":"前年度登録!O60","v":""},null,null,{"$f":"前年度登録!E60","v":0},{"$f":"前年度登録!BD60","v":""},{"$f":"前年度登録!V60","v":""},{"$f":"前年度登録!BD60","v":""},{"$f":"前年度登録!U60","v":""},{"$f":"前年度登録!I60","v":0},{"$f":"前年度登録!K60","v":0},{"$f":"前年度登録!BK60","v":"00"},{"$f":"前年度登録!P60","v":""},{"$f":"前年度登録!$Q$7","v":23},null,{"$f":"IF(O62=\"\",\"\",IF(I62=1,VLOOKUP(O62,男子種目コード!$A$2:$B$35,2,FALSE),IF(I62=2,VLOOKUP(O62,女子種目コード!$A$2:$B$35,2,FALSE))))","v":""},{"$f":"IF(O62=\"\",\"\",HLOOKUP(O62,前年度登録!$W$4:$AV$184,57,FALSE))","v":""},"","",null,{"$f":"IF(T62=\"\",\"\",IF(I62=1,VLOOKUP(T62,男子種目コード!$A$19:$B$31,2,FALSE),IF(I62=2,VLOOKUP(T62,女子種目コード!$A$19:$B$31,2,FALSE))))","v":""},null,"","",null,{"$f":"IF(Y62=\"\",\"\",IF(I62=1,VLOOKUP(Y62,男子種目コード!#REF!,2,FALSE),IF(I62=2,VLOOKUP(Y62,女子種目コード!#REF!,2,FALSE))))","v":""},null,null,{"$f":"IF(AB62=\"\",\"\",IF(I62=1,VLOOKUP(AB62,男子種目コード!#REF!,2,FALSE),IF(I62=2,VLOOKUP(AB62,女子種目コード!#REF!,2,FALSE))))","v":""},null,null,{"$f":"IF(AE62=\"\",\"\",IF(E62=1,VLOOKUP(AE62,男子種目コード!#REF!,2,FALSE),IF(E62=2,VLOOKUP(AE62,女子種目コード!#REF!,2,FALSE))))","v":""},null,null,null,"",0,null,null,null,null,null,null,null,null,null,null,null,null,0,"","",null,null,null,null,null,null,{"$f":"SUM(BG8:BG61)","v":0},{"$f":"SUM(BH8:BH61)","v":0},{"$f":"SUM(BI8:BI61)","v":0},{"$f":"SUM(BG62:BI62)","v":0}]
[0,{"$f":"前年度登録!O61","v":""},null,null,{"$f":"前年度登録!E61","v":0},{"$f":"前年度登録!BD61","v":""},{"$f":"前年度登録!V61","v":""},{"$f":"前年度登録!BD61","v":""},{"$f":"前年度登録!U61","v":""},{"$f":"前年度登録!I61","v":0},{"$f":"前年度登録!K61","v":0},{"$f":"前年度登録!BK61","v":"00"},{"$f":"前年度登録!P61","v":""},{"$f":"前年度登録!$Q$7","v":23},null,{"$f":"IF(O63=\"\",\"\",IF(I63=1,VLOOKUP(O63,男子種目コード!$A$2:$B$35,2,FALSE),IF(I63=2,VLOOKUP(O63,女子種目コード!$A$2:$B$35,2,FALSE))))","v":""},{"$f":"IF(O63=\"\",\"\",HLOOKUP(O63,前年度登録!$W$4:$AV$184,58,FALSE))","v":""},"","",null,{"$f":"IF(T63=\"\",\"\",IF(I63=1,VLOOKUP(T63,男子種目コード!$A$19:$B$31,2,FALSE),IF(I63=2,VLOOKUP(T63,女子種目コード!$A$19:$B$31,2,FALSE))))","v":""},null,"","",null,{"$f":"IF(Y63=\"\",\"\",IF(I63=1,VLOOKUP(Y63,男子種目コード!#REF!,2,FALSE),IF(I63=2,VLOOKUP(Y63,女子種目コード!#REF!,2,FALSE))))","v":""},null,null,{"$f":"IF(AB63=\"\",\"\",IF(I63=1,VLOOKUP(AB63,男子種目コード!#REF!,2,FALSE),IF(I63=2,VLOOKUP(AB63,女子種目コード!#REF!,2,FALSE))))","v":""},null,null,{"$f":"IF(AE63=\"\",\"\",IF(E63=1,VLOOKUP(AE63,男子種目コード!#REF!,2,FALSE),IF(E63=2,VLOOKUP(AE63,女子種目コード!#REF!,2,FALSE))))","v":""},null,null,null,"",0,null,null,null,null,null,null,null,null,null,null,null,null,0,"",""]
[0,{"$f":"前年度登録!O62","v":""},null,null,{"$f":"前年度登録!E62","v":0},{"$f":"前年度登録!BD62","v":""},{"$f":"前年度登録!V62","v":""},{"$f":"前年度登録!BD62","v":""},{"$f":"前年度登録!U62","v":""},{"$f":"前年度登録!I62","v":0},{"$f":"前年度登録!K62","v":0},{"$f":"前年度登録!BK62","v":"00"},{"$f":"前年度登録!P62","v":""},{"$f":"前年度登録!$Q$7","v":23},null,{"$f":"IF(O64=\"\",\"\",IF(I64=1,VLOOKUP(O64,男子種目コード!$A$2:$B$35,2,FALSE),IF(I64=2,VLOOKUP(O64,女子種目コード!$A$2:$B$35,2,FALSE))))","v":""},{"$f":"IF(O64=\"\",\"\",HLOOKUP(O64,前年度登録!$W$4:$AV$184,59,FALSE))","v":""},"","",null,{"$f":"IF(T64=\"\",\"\",IF(I64=1,VLOOKUP(T64,男子種目コード!$A$19:$B$31,2,FALSE),IF(I64=2,VLOOKUP(T64,女子種目コード!$A$19:$B$31,2,FALSE))))","v":""},null,"","",null,{"$f":"IF(Y64=\"\",\"\",IF(I64=1,VLOOKUP(Y64,男子種目コード!#REF!,2,FALSE),IF(I64=2,VLOOKUP(Y64,女子種目コード!#REF!,2,FALSE))))","v":""},null,null,{"$f":"IF(AB64=\"\",\"\",IF(I64=1,VLOOKUP(AB64,男子種目コード!#REF!,2,FALSE),IF(I64=2,VLOOKUP(AB64,女子種目コード!#REF!,2,FALSE))))","v":""},null,null,{"$f":"IF(AE64=\"\",\"\",IF(E64=1,VLOOKUP(AE64,男子種目コード!#REF!,2,FALSE),IF(E64=2,VLOOKUP(AE64,女子種目コード!#REF!,2,FALSE))))","v":""},null,null,null,"",0,null,null,null,null,null,null,null,null,null,null,null,null,0,"",""]
[0,{"$f":"前年度登録!O63","v":""},null,null,{"$f":"前年度登録!E63","v":0},{"$f":"前年度登録!BD63","v":""},{"$f":"前年度登録!V63","v":""},{"$f":"前年度登録!BD63","v":""},{"$f":"前年度登録!U63","v":""},{"$f":"前年度登録!I63","v":0},{"$f":"前年度登録!K63","v":0},{"$f":"前年度登録!BK63","v":"00"},{"$f":"前年度登録!P63","v":""},{"$f":"前年度登録!$Q$7","v":23},null,{"$f":"IF(O65=\"\",\"\",IF(I65=1,VLOOKUP(O65,男子種目コード!$A$2:$B$35,2,FALSE),IF(I65=2,VLOOKUP(O65,女子種目コード!$A$2:$B$35,2,FALSE))))","v":""},{"$f":"IF(O65=\"\",\"\",HLOOKUP(O65,前年度登録!$W$4:$AV$184,60,FALSE))","v":""},"","",null,{"$f":"IF(T65=\"\",\"\",IF(I65=1,VLOOKUP(T65,男子種目コード!$A$19:$B$31,2,FALSE),IF(I65=2,VLOOKUP(T65,女子種目コード!$A$19:$B$31,2,FALSE))))","v":""},null,"","",null,{"$f":"IF(Y65=\"\",\"\",IF(I65=1,VLOOKUP(Y65,男子種目コード!#REF!,2,FALSE),IF(I65=2,VLOOKUP(Y65,女子種目コード!#REF!,2,FALSE))))","v":""},null,null,{"$f":"IF(AB65=\"\",\"\",IF(I65=1,VLOOKUP(AB65,男子種目コード!#REF!,2,FALSE),IF(I65=2,VLOOKUP(AB65,女子種目コード!#REF!,2,FALSE))))","v":""},null,null,{"$f":"IF(AE65=\"\",\"\",IF(E65=1,VLOOKUP(AE65,男子種目コード!#REF!,2,FALSE),IF(E65=2,VLOOKUP(AE65,女子種目コード!#REF!,2,FALSE))))","v":""},null,null,null,"",0,null,null,null,null,null,null,null,null,null,null,null,null,0,"",""]
[0,{"$f":"前年度登録!O64","v":""},null,null,{"$f":"前年度登録!E64","v":0},{"$f":"前年度登録!BD64","v":""},{"$f":"前年度登録!V64","v":""},{"$f":"前年度登録!BD64","v":""},{"$f":"前年度登録!U64","v":""},{"$f":"前年度登録!I64","v":0},{"$f":"前年度登録!K64","v":0},{"$f":"前年度登録!BK64","v":"00"},{"$f":"前年度登録!P64","v":""},{"$f":"前年度登録!$Q$7","v":23},null,{"$f":"IF(O66=\"\",\"\",IF(I66=1,VLOOKUP(O66,男子種目コード!$A$2:$B$35,2,FALSE),IF(I66=2,VLOOKUP(O66,女子種目コード!$A$2:$B$35,2,FALSE))))","v":""},{"$f":"IF(O66=\"\",\"\",HLOOKUP(O66,前年度登録!$W$4:$AV$184,61,FALSE))","v":""},"","",null,{"$f":"IF(T66=\"\",\"\",IF(I66=1,VLOOKUP(T66,男子種目コード!$A$19:$B$31,2,FALSE),IF(I66=2,VLOOKUP(T66,女子種目コード!$A$19:$B$31,2,FALSE))))","v":""},null,"","",null,{"$f":"IF(Y66=\"\",\"\",IF(I66=1,VLOOKUP(Y66,男子種目コード!#REF!,2,FALSE),IF(I66=2,VLOOKUP(Y66,女子種目コード!#REF!,2,FALSE))))","v":""},null,null,{"$f":"IF(AB66=\"\",\"\",IF(I66=1,VLOOKUP(AB66,男子種目コード!#REF!,2,FALSE),IF(I66=2,VLOOKUP(AB66,女子種目コード!#REF!,2,FALSE))))","v":""},null,null,{"$f":"IF(AE66=\"\",\"\",IF(E66=1,VLOOKUP(AE66,男子種目コード!#REF!,2,FALSE),IF(E66=2,VLOOKUP(AE66,女子種目コード!#REF!,2,FALSE))))","v":""},null,null,null,"",0,null,null,null,null,null,null,null,null,null,null,null,null,0,"",""]
[0,{"$f":"前年度登録!O65","v":""},null,null,{"$f":"前年度登録!E65","v":0},{"$f":"前年度登録!BD65","v":""},{"$f":"前年度登録!V65","v":""},{"$f":"前年度登録!BD65","v":""},{"$f":"前年度登録!U65","v":""},{"$f":"前年度登録!I65","v":0},{"$f":"前年度登録!K65","v":0},{"$f":"前年度登録!BK65","v":"00"},{"$f":"前年度登録!P65","v":""},{"$f":"前年度登録!$Q$7","v":23},null,{"$f":"IF(O67=\"\",\"\",IF(I67=1,VLOOKUP(O67,男子種目コード!$A$2:$B$35,2,FALSE),IF(I67=2,VLOOKUP(O67,女子種目コード!$A$2:$B$35,2,FALSE))))","v":""},{"$f":"IF(O67=\"\",\"\",HLOOKUP(O67,前年度登録!$W$4:$AV$184,62,FALSE))","v":""},"","",null,{"$f":"IF(T67=\"\",\"\",IF(I67=1,VLOOKUP(T67,男子種目コード!$A$19:$B$31,2,FALSE),IF(I67=2,VLOOKUP(T67,女子種目コード!$A$19:$B$31,2,FALSE))))","v":""},null,"","",null,{"$f":"IF(Y67=\"\",\"\",IF(I67=1,VLOOKUP(Y67,男子種目コード!#REF!,2,FALSE),IF(I67=2,VLOOKUP(Y67,女子種目コード!#REF!,2,FALSE))))","v":""},null,null,{"$f":"IF(AB67=\"\",\"\",IF(I67=1,VLOOKUP(AB67,男子種目コード!#REF!,2,FALSE),IF(I67=2,VLOOKUP(AB67,女子種目コード!#REF!,2,FALSE))))","v":""},null,null,{"$f":"IF(AE67=\"\",\"\",IF(E67=1,VLOOKUP(AE67,男子種目コード!#REF!,2,FALSE),IF(E67=2,VLOOKUP(AE67,女子種目コード!#REF!,2,FALSE))))","v":""},null,null,null,"",0,null,null,null,null,null,null,null,null,null,null,null,null,0,"",""]
[0,{"$f":"前年度登録!O66","v":""},null,null,{"$f":"前年度登録!E66","v":0},{"$f":"前年度登録!BD66","v":""},{"$f":"前年度登録!V66","v":""},{"$f":"前年度登録!BD66","v":""},{"$f":"前年度登録!U66","v":""},{"$f":"前年度登録!I66","v":0},{"$f":"前年度登録!K66","v":0},{"$f":"前年度登録!BK66","v":"00"},{"$f":"前年度登録!P66","v":""},{"$f":"前年度登録!$Q$7","v":23},null,{"$f":"IF(O68=\"\",\"\",IF(I68=1,VLOOKUP(O68,男子種目コード!$A$2:$B$35,2,FALSE),IF(I68=2,VLOOKUP(O68,女子種目コード!$A$2:$B$35,2,FALSE))))","v":""},{"$f":"IF(O68=\"\",\"\",HLOOKUP(O68,前年度登録!$W$4:$AV$184,63,FALSE))","v":""},"","",null,{"$f":"IF(T68=\"\",\"\",IF(I68=1,VLOOKUP(T68,男子種目コード!$A$19:$B$31,2,FALSE),IF(I68=2,VLOOKUP(T68,女子種目コード!$A$19:$B$31,2,FALSE))))","v":""},null,"","",null,{"$f":"IF(Y68=\"\",\"\",IF(I68=1,VLOOKUP(Y68,男子種目コード!#REF!,2,FALSE),IF(I68=2,VLOOKUP(Y68,女子種目コード!#REF!,2,FALSE))))","v":""},null,null,{"$f":"IF(AB68=\"\",\"\",IF(I68=1,VLOOKUP(AB68,男子種目コード!#REF!,2,FALSE),IF(I68=2,VLOOKUP(AB68,女子種目コード!#REF!,2,FALSE))))","v":""},null,null,{"$f":"IF(AE68=\"\",\"\",IF(E68=1,VLOOKUP(AE68,男子種目コード!#REF!,2,FALSE),IF(E68=2,VLOOKUP(AE68,女子種目コード!#REF!,2,FALSE))))","v":""},null,null,null,"",0,null,null,null,null,null,null,null,null,null,null,null,null,0,"",""]
[0,{"$f":"前年度登録!O67","v":""},null,null,{"$f":"前年度登録!E67","v":0},{"$f":"前年度登録!BD67","v":""},{"$f":"前年度登録!V67","v":""},{"$f":"前年度登録!BD67","v":""},{"$f":"前年度登録!U67","v":""},{"$f":"前年度登録!I67","v":0},{"$f":"前年度登録!K67","v":0},{"$f":"前年度登録!BK67","v":"00"},{"$f":"前年度登録!P67","v":""},{"$f":"前年度登録!$Q$7","v":23},null,{"$f":"IF(O69=\"\",\"\",IF(I69=1,VLOOKUP(O69,男子種目コード!$A$2:$B$35,2,FALSE),IF(I69=2,VLOOKUP(O69,女子種目コード!$A$2:$B$35,2,FALSE))))","v":""},{"$f":"IF(O69=\"\",\"\",HLOOKUP(O69,前年度登録!$W$4:$AV$184,64,FALSE))","v":""},"","",null,{"$f":"IF(T69=\"\",\"\",IF(I69=1,VLOOKUP(T69,男子種目コード!$A$19:$B$31,2,FALSE),IF(I69=2,VLOOKUP(T69,女子種目コード!$A$19:$B$31,2,FALSE))))","v":""},null,"","",null,{"$f":"IF(Y69=\"\",\"\",IF(I69=1,VLOOKUP(Y69,男子種目コード!#REF!,2,FALSE),IF(I69=2,VLOOKUP(Y69,女子種目コード!#REF!,2,FALSE))))","v":""},null,null,{"$f":"IF(AB69=\"\",\"\",IF(I69=1,VLOOKUP(AB69,男子種目コード!#REF!,2,FALSE),IF(I69=2,VLOOKUP(AB69,女子種目コード!#REF!,2,FALSE))))","v":""},null,null,{"$f":"IF(AE69=\"\",\"\",IF(E69=1,VLOOKUP(AE69,男子種目コード!#REF!,2,FALSE),IF(E69=2,VLOOKUP(AE69,女子種目コード!#REF!,2,FALSE))))","v":""},null,null,null,"",0,null,null,null,null,null,null,null,null,null,null,null,null,0,"",""]
[0,{"$f":"前年度登録!O68","v":""},null,null,{"$f":"前年度登録!E68","v":0},{"$f":"前年度登録!BD68","v":""},{"$f":"前年度登録!V68","v":""},{"$f":"前年度登録!BD68","v":""},{"$f":"前年度登録!U68","v":""},{"$f":"前年度登録!I68","v":0},{"$f":"前年度登録!K68","v":0},{"$f":"前年度登録!BK68","v":"00"},{"$f":"前年度登録!P68","v":""},{"$f":"前年度登録!$Q$7","v":23},null,{"$f":"IF(O70=\"\",\"\",IF(I70=1,VLOOKUP(O70,男子種目コード!$A$2:$B$35,2,FALSE),IF(I70=2,VLOOKUP(O70,女子種目コード!$A$2:$B$35,2,FALSE))))","v":""},{"$f":"IF(O70=\"\",\"\",HLOOKUP(O70,前年度登録!$W$4:$AV$184,65,FALSE))","v":""},"","",null,{"$f":"IF(T70=\"\",\"\",IF(I70=1,VLOOKUP(T70,男子種目コード!$A$19:$B$31,2,FALSE),IF(I70=2,VLOOKUP(T70,女子種目コード!$A$19:$B$31,2,FALSE))))","v":""},null,"","",null,{"$f":"IF(Y70=\"\",\"\",IF(I70=1,VLOOKUP(Y70,男子種目コード!#REF!,2,FALSE),IF(I70=2,VLOOKUP(Y70,女子種目コード!#REF!,2,FALSE))))","v":""},null,null,{"$f":"IF(AB70=\"\",\"\",IF(I70=1,VLOOKUP(AB70,男子種目コード!#REF!,2,FALSE),IF(I70=2,VLOOKUP(AB70,女子種目コード!#REF!,2,FALSE))))","v":""},null,null,{"$f":"IF(AE70=\"\",\"\",IF(E70=1,VLOOKUP(AE70,男子種目コード!#REF!,2,FALSE),IF(E70=2,VLOOKUP(AE70,女子種目コード!#REF!,2,FALSE))))","v":""},null,null,null,"",0,null,null,null,null,null,null,null,null,null,null,null,null,0,"",""]
[0,{"$f":"前年度登録!O69","v":""},null,null,{"$f":"前年度登録!E69","v":0},{"$f":"前年度登録!BD69","v":""},{"$f":"前年度登録!V69","v":""},{"$f":"前年度登録!BD69","v":""},{"$f":"前年度登録!U69","v":""},{"$f":"前年度登録!I69","v":0},{"$f":"前年度登録!K69","v":0},{"$f":"前年度登録!BK69","v":"00"},{"$f":"前年度登録!P69","v":""},{"$f":"前年度登録!$Q$7","v":23},null,{"$f":"IF(O71=\"\",\"\",IF(I71=1,VLOOKUP(O71,男子種目コード!$A$2:$B$35,2,FALSE),IF(I71=2,VLOOKUP(O71,女子種目コード!$A$2:$B$35,2,FALSE))))","v":""},{"$f":"IF(O71=\"\",\"\",HLOOKUP(O71,前年度登録!$W$4:$AV$184,66,FALSE))","v":""},"","",null,{"$f":"IF(T71=\"\",\"\",IF(I71=1,VLOOKUP(T71,男子種目コード!$A$19:$B$31,2,FALSE),IF(I71=2,VLOOKUP(T71,女子種目コード!$A$19:$B$31,2,FALSE))))","v":""},null,"","",null,{"$f":"IF(Y71=\"\",\"\",IF(I71=1,VLOOKUP(Y71,男子種目コード!#REF!,2,FALSE),IF(I71=2,VLOOKUP(Y71,女子種目コード!#REF!,2,FALSE))))","v":""},null,null,{"$f":"IF(AB71=\"\",\"\",IF(I71=1,VLOOKUP(AB71,男子種目コード!#REF!,2,FALSE),IF(I71=2,VLOOKUP(AB71,女子種目コード!#REF!,2,FALSE))))","v":""},null,null,{"$f":"IF(AE71=\"\",\"\",IF(E71=1,VLOOKUP(AE71,男子種目コード!#REF!,2,FALSE),IF(E71=2,VLOOKUP(AE71,女子種目コード!#REF!,2,FALSE))))","v":""},null,null,null,"",{"$f":"IF(OR(AJ71=1,T71=\"\"),0,1)","v":0},null,null,null,null,null,null,null,null,null,null,null,null,{"$f":"COUNT(P71,U71)","v":0},{"$f":"IF(I71=1,AX71,\"\")","v":""},{"$f":"IF(I71=2,AX71,\"\")","v":""}]
[{"$f":"T72","v":0},{"$f":"前年度登録!O70","v":""},null,null,{"$f":"前年度登録!E70","v":0},{"$f":"前年度登録!BD70","v":""},{"$f":"前年度登録!V70","v":""},{"$f":"前年度登録!BD70","v":""},{"$f":"前年度登録!U70","v":""},{"$f":"前年度登録!I70","v":0},{"$f":"前年度登録!K70","v":0},{"$f":"前年度登録!BK70","v":"00"},{"$f":"前年度登録!P70","v":""},{"$f":"前年度登録!$Q$7","v":23},null,{"$f":"IF(O72=\"\",\"\",IF(I72=1,VLOOKUP(O72,男子種目コード!$A$2:$B$35,2,FALSE),IF(I72=2,VLOOKUP(O72,女子種目コード!$A$2:$B$35,2,FALSE))))","v":""},{"$f":"IF(O72=\"\",\"\",HLOOKUP(O72,前年度登録!$W$4:$AV$184,67,FALSE))","v":""},{"$f":"IF(O72=\"\",\"\",0)","v":""},{"$f":"IF(O72=\"\",\"\",2)","v":""},null,{"$f":"IF(T72=\"\",\"\",IF(I72=1,VLOOKUP(T72,男子種目コード!$A$19:$B$31,2,FALSE),IF(I72=2,VLOOKUP(T72,女子種目コード!$A$19:$B$31,2,FALSE))))","v":""},null,{"$f":"IF(T72=\"\",\"\",0)","v":""},{"$f":"IF(T72=\"\",\"\",2)","v":""},null,{"$f":"IF(Y72=\"\",\"\",IF(I72=1,VLOOKUP(Y72,男子種目コード!#REF!,2,FALSE),IF(I72=2,VLOOKUP(Y72,女子種目コード!#REF!,2,FALSE))))","v":""},null,null,{"$f":"IF(AB72=\"\",\"\",IF(I72=1,VLOOKUP(AB72,男子種目コード!#REF!,2,FALSE),IF(I72=2,VLOOKUP(AB72,女子種目コード!#REF!,2,FALSE))))","v":""},null,null,{"$f":"IF(AE72=\"\",\"\",IF(E72=1,VLOOKUP(AE72,男子種目コード!#REF!,2,FALSE),IF(E72=2,VLOOKUP(AE72,女子種目コード!#REF!,2,FALSE))))","v":""},null,null,null,{"$f":"IF(O72=\"\",\"\",1)","v":""},0,null,null,null,null,null,null,null,null,null,null,null,null,0,"",""]
[0,{"$f":"前年度登録!O71","v":""},null,null,{"$f":"前年度登録!E71","v":0},{"$f":"前年度登録!BD71","v":""},{"$f":"前年度登録!V71","v":""},{"$f":"前年度登録!BD71","v":""},{"$f":"前年度登録!U71","v":""},{"$f":"前年度登録!I71","v":0},{"$f":"前年度登録!K71","v":0},{"$f":"前年度登録!BK71","v":"00"},{"$f":"前年度登録!P71","v":""},{"$f":"前年度登録!$Q$7","v":23},null,{"$f":"IF(O73=\"\",\"\",IF(I73=1,VLOOKUP(O73,男子種目コード!$A$2:$B$35,2,FALSE),IF(I73=2,VLOOKUP(O73,女子種目コード!$A$2:$B$35,2,FALSE))))","v":""},{"$f":"IF(O73=\"\",\"\",HLOOKUP(O73,前年度登録!$W$4:$AV$184,68,FALSE))","v":""},"","",null,{"$f":"IF(T73=\"\",\"\",IF(I73=1,VLOOKUP(T73,男子種目コード!$A$19:$B$31,2,FALSE),IF(I73=2,VLOOKUP(T73,女子種目コード!$A$19:$B$31,2,FALSE))))","v":""},null,"","",null,{"$f":"IF(Y73=\"\",\"\",IF(I73=1,VLOOKUP(Y73,男子種目コード!#REF!,2,FALSE),IF(I73=2,VLOOKUP(Y73,女子種目コード!#REF!,2,FALSE))))","v":""},null,null,{"$f":"IF(AB73=\"\",\"\",IF(I73=1,VLOOKUP(AB73,男子種目コード!#REF!,2,FALSE),IF(I73=2,VLOOKUP(AB73,女子種目コード!#REF!,2,FALSE))))","v":""},null,null,{"$f":"IF(AE73=\"\",\"\",IF(E73=1,VLOOKUP(AE73,男子種目コード!#REF!,2,FALSE),IF(E73=2,VLOOKUP(AE73,女子種目コード!#REF!,2,FALSE))))","v":""},null,null,null,"",0,null,null,null,null,null,null,null,null,null,null,null,null,0,"",""]
[0,{"$f":"前年度登録!O72","v":""},null,null,{"$f":"前年度登録!E72","v":0},{"$f":"前年度登録!BD72","v":""},{"$f":"前年度登録!V72","v":""},{"$f":"前年度登録!BD72","v":""},{"$f":"前年度登録!U72","v":""},{"$f":"前年度登録!I72","v":0},{"$f":"前年度登録!K72","v":0},{"$f":"前年度登録!BK72","v":"00"},{"$f":"前年度登録!P72","v":""},{"$f":"前年度登録!$Q$7","v":23},null,{"$f":"IF(O74=\"\",\"\",IF(I74=1,VLOOKUP(O74,男子種目コード!$A$2:$B$35,2,FALSE),IF(I74=2,VLOOKUP(O74,女子種目コード!$A$2:$B$35,2,FALSE))))","v":""},{"$f":"IF(O74=\"\",\"\",HLOOKUP(O74,前年度登録!$W$4:$AV$184,69,FALSE))","v":""},"","",null,{"$f":"IF(T74=\"\",\"\",IF(I74=1,VLOOKUP(T74,男子種目コード!$A$19:$B$31,2,FALSE),IF(I74=2,VLOOKUP(T74,女子種目コード!$A$19:$B$31,2,FALSE))))","v":""},null,"","",null,{"$f":"IF(Y74=\"\",\"\",IF(I74=1,VLOOKUP(Y74,男子種目コード!#REF!,2,FALSE),IF(I74=2,VLOOKUP(Y74,女子種目コード!#REF!,2,FALSE))))","v":""},null,null,{"$f":"IF(AB74=\"\",\"\",IF(I74=1,VLOOKUP(AB74,男子種目コード!#REF!,2,FALSE),IF(I74=2,VLOOKUP(AB74,女子種目コード!#REF!,2,FALSE))))","v":""},null,null,{"$f":"IF(AE74=\"\",\"\",IF(E74=1,VLOOKUP(AE74,男子種目コード!#REF!,2,FALSE),IF(E74=2,VLOOKUP(AE74,女子種目コード!#REF!,2,FALSE))))","v":""},null,null,null,"",0,null,null,null,null,null,null,null,null,null,null,null,null,0,"",""]
[0,{"$f":"前年度登録!O73","v":""},null,null,{"$f":"前年度登録!E73","v":0},{"$f":"前年度登録!BD73","v":""},{"$f":"前年度登録!V73","v":""},{"$f":"前年度登録!BD73","v":""},{"$f":"前年度登録!U73","v":""},{"$f":"前年度登録!I73","v":0},{"$f":"前年度登録!K73","v":0},{"$f":"前年度登録!BK73","v":"00"},{"$f":"前年度登録!P73","v":""},{"$f":"前年度登録!$Q$7","v":23},null,{"$f":"IF(O75=\"\",\"\",IF(I75=1,VLOOKUP(O75,男子種目コード!$A$2:$B$35,2,FALSE),IF(I75=2,VLOOKUP(O75,女子種目コード!$A$2:$B$35,2,FALSE))))","v":""},{"$f":"IF(O75=\"\",\"\",HLOOKUP(O75,前年度登録!$W$4:$AV$184,70,FALSE))","v":""},"","",null,{"$f":"IF(T75=\"\",\"\",IF(I75=1,VLOOKUP(T75,男子種目コード!$A$19:$B$31,2,FALSE),IF(I75=2,VLOOKUP(T75,女子種目コード!$A$19:$B$31,2,FALSE))))","v":""},null,"","",null,{"$f":"IF(Y75=\"\",\"\",IF(I75=1,VLOOKUP(Y75,男子種目コード!#REF!,2,FALSE),IF(I75=2,VLOOKUP(Y75,女子種目コード!#REF!,2,FALSE))))","v":""},null,null,{"$f":"IF(AB75=\"\",\"\",IF(I75=1,VLOOKUP(AB75,男子種目コード!#REF!,2,FALSE),IF(I75=2,VLOOKUP(AB75,女子種目コード!#REF!,2,FALSE))))","v":""},null,null,{"$f":"IF(AE75=\"\",\"\",IF(E75=1,VLOOKUP(AE75,男子種目コード!#REF!,2,FALSE),IF(E75=2,VLOOKUP(AE75,女子種目コード!#REF!,2,FALSE))))","v":""},null,null,null,"",0,null,null,null,null,null,null,null,null,null,null,null,null,0,"",""]
[0,{"$f":"前年度登録!O74","v":""},null,null,{"$f":"前年度登録!E74","v":0},{"$f":"前年度登録!BD74","v":""},{"$f":"前年度登録!V74","v":""},{"$f":"前年度登録!BD74","v":""},{"$f":"前年度登録!U74","v":""},{"$f":"前年度登録!I74","v":0},{"$f":"前年度登録!K74","v":0},{"$f":"前年度登録!BK74","v":"00"},{"$f":"前年度登録!P74","v":""},{"$f":"前年度登録!$Q$7","v":23},null,{"$f":"IF(O76=\"\",\"\",IF(I76=1,VLOOKUP(O76,男子種目コード!$A$2:$B$35,2,FALSE),IF(I76=2,VLOOKUP(O76,女子種目コード!$A$2:$B$35,2,FALSE))))","v":""},{"$f":"IF(O76=\"\",\"\",HLOOKUP(O76,前年度登録!$W$4:$AV$184,71,FALSE))","v":""},"","",null,{"$f":"IF(T76=\"\",\"\",IF(I76=1,VLOOKUP(T76,男子種目コード!$A$19:$B$31,2,FALSE),IF(I76=2,VLOOKUP(T76,女子種目コード!$A$19:$B$31,2,FALSE))))","v":""},null,"","",null,{"$f":"IF(Y76=\"\",\"\",IF(I76=1,VLOOKUP(Y76,男子種目コード!#REF!,2,FALSE),IF(I76=2,VLOOKUP(Y76,女子種目コード!#REF!,2,FALSE))))","v":""},null,null,{"$f":"IF(AB76=\"\",\"\",IF(I76=1,VLOOKUP(AB76,男子種目コード!#REF!,2,FALSE),IF(I76=2,VLOOKUP(AB76,女子種目コード!#REF!,2,FALSE))))","v":""},null,null,{"$f":"IF(AE76=\"\",\"\",IF(E76=1,VLOOKUP(AE76,男子種目コード!#REF!,2,FALSE),IF(E76=2,VLOOKUP(AE76,女子種目コード!#REF!,2,FALSE))))","v":""},null,null,null,"",0,null,null,null,null,null,null,null,null,null,null,null,null,0,"",""]
[0,{"$f":"前年度登録!O75","v":""},null,null,{"$f":"前年度登録!E75","v":0},{"$f":"前年度登録!BD75","v":""},{"$f":"前年度登録!V75","v":""},{"$f":"前年度登録!BD75","v":""},{"$f":"前年度登録!U75","v":""},{"$f":"前年度登録!I75","v":0},{"$f":"前年度登録!K75","v":0},{"$f":"前年度登録!BK75","v":"00"},{"$f":"前年度登録!P75","v":""},{"$f":"前年度登録!$Q$7","v":23},null,{"$f":"IF(O77=\"\",\"\",IF(I77=1,VLOOKUP(O77,男子種目コード!$A$2:$B$35,2,FALSE),IF(I77=2,VLOOKUP(O77,女子種目コード!$A$2:$B$35,2,FALSE))))","v":""},{"$f":"IF(O77=\"\",\"\",HLOOKUP(O77,前年度登録!$W$4:$AV$184,72,FALSE))","v":""},"","",null,{"$f":"IF(T77=\"\",\"\",IF(I77=1,VLOOKUP(T77,男子種目コード!$A$19:$B$31,2,FALSE),IF(I77=2,VLOOKUP(T77,女子種目コード!$A$19:$B$31,2,FALSE))))","v":""},null,"","",null,{"$f":"IF(Y77=\"\",\"\",IF(I77=1,VLOOKUP(Y77,男子種目コード!#REF!,2,FALSE),IF(I77=2,VLOOKUP(Y77,女子種目コード!#REF!,2,FALSE))))","v":""},null,null,{"$f":"IF(AB77=\"\",\"\",IF(I77=1,VLOOKUP(AB77,男子種目コード!#REF!,2,FALSE),IF(I77=2,VLOOKUP(AB77,女子種目コード!#REF!,2,FALSE))))","v":""},null,null,{"$f":"IF(AE77=\"\",\"\",IF(E77=1,VLOOKUP(AE77,男子種目コード!#REF!,2,FALSE),IF(E77=2,VLOOKUP(AE77,女子種目コード!#REF!,2,FALSE))))","v":""},null,null,null,"",0,null,null,null,null,null,null,null,null,null,null,null,null,0,"",""]
[0,{"$f":"前年度登録!O76","v":""},null,null,{"$f":"前年度登録!E76","v":0},{"$f":"前年度登録!BD76","v":""},{"$f":"前年度登録!V76","v":""},{"$f":"前年度登録!BD76","v":""},{"$f":"前年度登録!U76","v":""},{"$f":"前年度登録!I76","v":0},{"$f":"前年度登録!K76","v":0},{"$f":"前年度登録!BK76","v":"00"},{"$f":"前年度登録!P76","v":""},{"$f":"前年度登録!$Q$7","v":23},null,{"$f":"IF(O78=\"\",\"\",IF(I78=1,VLOOKUP(O78,男子種目コード!$A$2:$B$35,2,FALSE),IF(I78=2,VLOOKUP(O78,女子種目コード!$A$2:$B$35,2,FALSE))))","v":""},{"$f":"IF(O78=\"\",\"\",HLOOKUP(O78,前年度登録!$W$4:$AV$184,73,FALSE))","v":""},"","",null,{"$f":"IF(T78=\"\",\"\",IF(I78=1,VLOOKUP(T78,男子種目コード!$A$19:$B$31,2,FALSE),IF(I78=2,VLOOKUP(T78,女子種目コード!$A$19:$B$31,2,FALSE))))","v":""},null,"","",null,{"$f":"IF(Y78=\"\",\"\",IF(I78=1,VLOOKUP(Y78,男子種目コード!#REF!,2,FALSE),IF(I78=2,VLOOKUP(Y78,女子種目コード!#REF!,2,FALSE))))","v":""},null,null,{"$f":"IF(AB78=\"\",\"\",IF(I78=1,VLOOKUP(AB78,男子種目コード!#REF!,2,FALSE),IF(I78=2,VLOOKUP(AB78,女子種目コード!#REF!,2,FALSE))))","v":""},null,null,{"$f":"IF(AE78=\"\",\"\",IF(E78=1,VLOOKUP(AE78,男子種目コード!#REF!,2,FALSE),IF(E78=2,VLOOKUP(AE78,女子種目コード!#REF!,2,FALSE))))","v":""},null,null,null,"",0,null,null,null,null,null,null,null,null,null,null,null,null,0,"",""]
[0,{"$f":"前年度登録!O77","v":""},null,null,{"$f":"前年度登録!E77","v":0},{"$f":"前年度登録!BD77","v":""},{"$f":"前年度登録!V77","v":""},{"$f":"前年度登録!BD77","v":""},{"$f":"前年度登録!U77","v":""},{"$f":"前年度登録!I77","v":0},{"$f":"前年度登録!K77","v":0},{"$f":"前年度登録!BK77","v":"00"},{"$f":"前年度登録!P77","v":""},{"$f":"前年度登録!$Q$7","v":23},null,{"$f":"IF(O79=\"\",\"\",IF(I79=1,VLOOKUP(O79,男子種目コード!$A$2:$B$35,2,FALSE),IF(I79=2,VLOOKUP(O79,女子種目コード!$A$2:$B$35,2,FALSE))))","v":""},{"$f":"IF(O79=\"\",\"\",HLOOKUP(O79,前年度登録!$W$4:$AV$184,74,FALSE))","v":""},"","",null,{"$f":"IF(T79=\"\",\"\",IF(I79=1,VLOOKUP(T79,男子種目コード!$A$19:$B$31,2,FALSE),IF(I79=2,VLOOKUP(T79,女子種目コード!$A$19:$B$31,2,FALSE))))","v":""},null,"","",null,{"$f":"IF(Y79=\"\",\"\",IF(I79=1,VLOOKUP(Y79,男子種目コード!#REF!,2,FALSE),IF(I79=2,VLOOKUP(Y79,女子種目コード!#REF!,2,FALSE))))","v":""},null,null,{"$f":"IF(AB79=\"\",\"\",IF(I79=1,VLOOKUP(AB79,男子種目コード!#REF!,2,FALSE),IF(I79=2,VLOOKUP(AB79,女子種目コード!#REF!,2,FALSE))))","v":""},null,null,{"$f":"IF(AE79=\"\",\"\",IF(E79=1,VLOOKUP(AE79,男子種目コード!#REF!,2,FALSE),IF(E79=2,VLOOKUP(AE79,女子種目コード!#REF!,2,FALSE))))","v":""},null,null,null,"",0,null,null,null,null,null,null,null,null,null,null,null,null,0,"",""]
[0,{"$f":"前年度登録!O78","v":""},null,null,{"$f":"前年度登録!E78","v":0},{"$f":"前年度登録!BD78","v":""},{"$f":"前年度登録!V78","v":""},{"$f":"前年度登録!BD78","v":""},{"$f":"前年度登録!U78","v":""},{"$f":"前年度登録!I78","v":0},{"$f":"前年度登録!K78","v":0},{"$f":"前年度登録!BK78","v":"00"},{"$f":"前年度登録!P78","v":""},{"$f":"前年度登録!$Q$7","v":23},null,{"$f":"IF(O80=\"\",\"\",IF(I80=1,VLOOKUP(O80,男子種目コード!$A$2:$B$35,2,FALSE),IF(I80=2,VLOOKUP(O80,女子種目コード!$A$2:$B$35,2,FALSE))))","v":""},{"$f":"IF(O80=\"\",\"\",HLOOKUP(O80,前年度登録!$W$4:$AV$184,75,FALSE))","v":""},"","",null,{"$f":"IF(T80=\"\",\"\",IF(I80=1,VLOOKUP(T80,男子種目コード!$A$19:$B$31,2,FALSE),IF(I80=2,VLOOKUP(T80,女子種目コード!$A$19:$B$31,2,FALSE))))","v":""},null,"","",null,{"$f":"IF(Y80=\"\",\"\",IF(I80=1,VLOOKUP(Y80,男子種目コード!#REF!,2,FALSE),IF(I80=2,VLOOKUP(Y80,女子種目コード!#REF!,2,FALSE))))","v":""},null,null,{"$f":"IF(AB80=\"\",\"\",IF(I80=1,VLOOKUP(AB80,男子種目コード!#REF!,2,FALSE),IF(I80=2,VLOOKUP(AB80,女子種目コード!#REF!,2,FALSE))))","v":""},null,null,{"$f":"IF(AE80=\"\",\"\",IF(E80=1,VLOOKUP(AE80,男子種目コード!#REF!,2,FALSE),IF(E80=2,VLOOKUP(AE80,女子種目コード!#REF!,2,FALSE))))","v":""},null,null,null,"",0,null,null,null,null,null,null,null,null,null,null,null,null,0,"",""]
[0,{"$f":"前年度登録!O79","v":""},null,null,{"$f":"前年度登録!E79","v":0},{"$f":"前年度登録!BD79","v":""},{"$f":"前年度登録!V79","v":""},{"$f":"前年度登録!BD79","v":""},{"$f":"前年度登録!U79","v":""},{"$f":"前年度登録!I79","v":0},{"$f":"前年度登録!K79","v":0},{"$f":"前年度登録!BK79","v":"00"},{"$f":"前年度登録!P79","v":""},{"$f":"前年度登録!$Q$7","v":23},null,{"$f":"IF(O81=\"\",\"\",IF(I81=1,VLOOKUP(O81,男子種目コード!$A$2:$B$35,2,FALSE),IF(I81=2,VLOOKUP(O81,女子種目コード!$A$2:$B$35,2,FALSE))))","v":""},{"$f":"IF(O81=\"\",\"\",HLOOKUP(O81,前年度登録!$W$4:$AV$184,76,FALSE))","v":""},"","",null,{"$f":"IF(T81=\"\",\"\",IF(I81=1,VLOOKUP(T81,男子種目コード!$A$19:$B$31,2,FALSE),IF(I81=2,VLOOKUP(T81,女子種目コード!$A$19:$B$31,2,FALSE))))","v":""},null,"","",null,{"$f":"IF(Y81=\"\",\"\",IF(I81=1,VLOOKUP(Y81,男子種目コード!#REF!,2,FALSE),IF(I81=2,VLOOKUP(Y81,女子種目コード!#REF!,2,FALSE))))","v":""},null,null,{"$f":"IF(AB81=\"\",\"\",IF(I81=1,VLOOKUP(AB81,男子種目コード!#REF!,2,FALSE),IF(I81=2,VLOOKUP(AB81,女子種目コード!#REF!,2,FALSE))))","v":""},null,null,{"$f":"IF(AE81=\"\",\"\",IF(E81=1,VLOOKUP(AE81,男子種目コード!#REF!,2,FALSE),IF(E81=2,VLOOKUP(AE81,女子種目コード!#REF!,2,FALSE))))","v":""},null,null,null,"",0,null,null,null,null,null,null,null,null,null,null,null,null,0,"",""]
[0,{"$f":"前年度登録!O80","v":""},null,null,{"$f":"前年度登録!E80","v":0},{"$f":"前年度登録!BD80","v":""},{"$f":"前年度登録!V80","v":""},{"$f":"前年度登録!BD80","v":""},{"$f":"前年度登録!U80","v":""},{"$f":"前年度登録!I80","v":0},{"$f":"前年度登録!K80","v":0},{"$f":"前年度登録!BK80","v":"00"},{"$f":"前年度登録!P80","v":""},{"$f":"前年度登録!$Q$7","v":23},null,{"$f":"IF(O82=\"\",\"\",IF(I82=1,VLOOKUP(O82,男子種目コード!$A$2:$B$35,2,FALSE),IF(I82=2,VLOOKUP(O82,女子種目コード!$A$2:$B$35,2,FALSE))))","v":""},{"$f":"IF(O82=\"\",\"\",HLOOKUP(O82,前年度登録!$W$4:$AV$184,77,FALSE))","v":""},"","",null,{"$f":"IF(T82=\"\",\"\",IF(I82=1,VLOOKUP(T82,男子種目コード!$A$19:$B$31,2,FALSE),IF(I82=2,VLOOKUP(T82,女子種目コード!$A$19:$B$31,2,FALSE))))","v":""},null,"","",null,{"$f":"IF(Y82=\"\",\"\",IF(I82=1,VLOOKUP(Y82,男子種目コード!#REF!,2,FALSE),IF(I82=2,VLOOKUP(Y82,女子種目コード!#REF!,2,FALSE))))","v":""},null,null,{"$f":"IF(AB82=\"\",\"\",IF(I82=1,VLOOKUP(AB82,男子種目コード!#REF!,2,FALSE),IF(I82=2,VLOOKUP(AB82,女子種目コード!#REF!,2,FALSE))))","v":""},null,null,{"$f":"IF(AE82=\"\",\"\",IF(E82=1,VLOOKUP(AE82,男子種目コード!#REF!,2,FALSE),IF(E82=2,VLOOKUP(AE82,女子種目コード!#REF!,2,FALSE))))","v":""},null,null,null,"",0,null,null,null,null,null,null,null,null,null,null,null,null,0,"",""]
[0,{"$f":"前年度登録!O81","v":""},null,null,{"$f":"前年度登録!E81","v":0},{"$f":"前年度登録!BD81","v":""},{"$f":"前年度登録!V81","v":""},{"$f":"前年度登録!BD81","v":""},{"$f":"前年度登録!U81","v":""},{"$f":"前年度登録!I81","v":0},{"$f":"前年度登録!K81","v":0},{"$f":"前年度登録!BK81","v":"00"},{"$f":"前年度登録!P81","v":""},{"$f":"前年度登録!$Q$7","v":23},null,{"$f":"IF(O83=\"\",\"\",IF(I83=1,VLOOKUP(O83,男子種目コード!$A$2:$B$35,2,FALSE),IF(I83=2,VLOOKUP(O83,女子種目コード!$A$2:$B$35,2,FALSE))))","v":""},{"$f":"IF(O83=\"\",\"\",HLOOKUP(O83,前年度登録!$W$4:$AV$184,78,FALSE))","v":""},"","",null,{"$f":"IF(T83=\"\",\"\",IF(I83=1,VLOOKUP(T83,男子種目コード!$A$19:$B$31,2,FALSE),IF(I83=2,VLOOKUP(T83,女子種目コード!$A$19:$B$31,2,FALSE))))","v":""},null,"","",null,{"$f":"IF(Y83=\"\",\"\",IF(I83=1,VLOOKUP(Y83,男子種目コード!#REF!,2,FALSE),IF(I83=2,VLOOKUP(Y83,女子種目コード!#REF!,2,FALSE))))","v":""},null,null,{"$f":"IF(AB83=\"\",\"\",IF(I83=1,VLOOKUP(AB83,男子種目コード!#REF!,2,FALSE),IF(I83=2,VLOOKUP(AB83,女子種目コード!#REF!,2,FALSE))))","v":""},null,null,{"$f":"IF(AE83=\"\",\"\",IF(E83=1,VLOOKUP(AE83,男子種目コード!#REF!,2,FALSE),IF(E83=2,VLOOKUP(AE83,女子種目コード!#REF!,2,FALSE))))","v":""},null,null,null,"",0,null,null,null,null,null,null,null,null,null,null,null,null,0,"",""]
[0,{"$f":"前年度登録!O82","v":""},null,null,{"$f":"前年度登録!E82","v":0},{"$f":"前年度登録!BD82","v":""},{"$f":"前年度登録!V82","v":""},{"$f":"前年度登録!BD82","v":""},{"$f":"前年度登録!U82","v":""},{"$f":"前年度登録!I82","v":0},{"$f":"前年度登録!K82","v":0},{"$f":"前年度登録!BK82","v":"00"},{"$f":"前年度登録!P82","v":""},{"$f":"前年度登録!$Q$7","v":23},null,{"$f":"IF(O84=\"\",\"\",IF(I84=1,VLOOKUP(O84,男子種目コード!$A$2:$B$35,2,FALSE),IF(I84=2,VLOOKUP(O84,女子種目コード!$A$2:$B$35,2,FALSE))))","v":""},{"$f":"IF(O84=\"\",\"\",HLOOKUP(O84,前年度登録!$W$4:$AV$184,79,FALSE))","v":""},"","",null,{"$f":"IF(T84=\"\",\"\",IF(I84=1,VLOOKUP(T84,男子種目コード!$A$19:$B$31,2,FALSE),IF(I84=2,VLOOKUP(T84,女子種目コード!$A$19:$B$31,2,FALSE))))","v":""},null,"","",null,{"$f":"IF(Y84=\"\",\"\",IF(I84=1,VLOOKUP(Y84,男子種目コード!#REF!,2,FALSE),IF(I84=2,VLOOKUP(Y84,女子種目コード!#REF!,2,FALSE))))","v":""},null,null,{"$f":"IF(AB84=\"\",\"\",IF(I84=1,VLOOKUP(AB84,男子種目コード!#REF!,2,FALSE),IF(I84=2,VLOOKUP(AB84,女子種目コード!#REF!,2,FALSE))))","v":""},null,null,{"$f":"IF(AE84=\"\",\"\",IF(E84=1,VLOOKUP(AE84,男子種目コード!#REF!,2,FALSE),IF(E84=2,VLOOKUP(AE84,女子種目コード!#REF!,2,FALSE))))","v":""},null,null,null,"",0,null,null,null,null,null,null,null,null,null,null,null,null,0,"",""]
[0,{"$f":"前年度登録!O83","v":""},null,null,{"$f":"前年度登録!E83","v":0},{"$f":"前年度登録!BD83","v":""},{"$f":"前年度登録!V83","v":""},{"$f":"前年度登録!BD83","v":""},{"$f":"前年度登録!U83","v":""},{"$f":"前年度登録!I83","v":0},{"$f":"前年度登録!K83","v":0},{"$f":"前年度登録!BK83","v":"00"},{"$f":"前年度登録!P83","v":""},{"$f":"前年度登録!$Q$7","v":23},null,{"$f":"IF(O85=\"\",\"\",IF(I85=1,VLOOKUP(O85,男子種目コード!$A$2:$B$35,2,FALSE),IF(I85=2,VLOOKUP(O85,女子種目コード!$A$2:$B$35,2,FALSE))))","v":""},{"$f":"IF(O85=\"\",\"\",HLOOKUP(O85,前年度登録!$W$4:$AV$184,80,FALSE))","v":""},"","",null,{"$f":"IF(T85=\"\",\"\",IF(I85=1,VLOOKUP(T85,男子種目コード!$A$19:$B$31,2,FALSE),IF(I85=2,VLOOKUP(T85,女子種目コード!$A$19:$B$31,2,FALSE))))","v":""},null,"","",null,{"$f":"IF(Y85=\"\",\"\",IF(I85=1,VLOOKUP(Y85,男子種目コード!#REF!,2,FALSE),IF(I85=2,VLOOKUP(Y85,女子種目コード!#REF!,2,FALSE))))","v":""},null,null,{"$f":"IF(AB85=\"\",\"\",IF(I85=1,VLOOKUP(AB85,男子種目コード!#REF!,2,FALSE),IF(I85=2,VLOOKUP(AB85,女子種目コード!#REF!,2,FALSE))))","v":""},null,null,{"$f":"IF(AE85=\"\",\"\",IF(E85=1,VLOOKUP(AE85,男子種目コード!#REF!,2,FALSE),IF(E85=2,VLOOKUP(AE85,女子種目コード!#REF!,2,FALSE))))","v":""},null,null,null,"",0,null,null,null,null,null,null,null,null,null,null,null,null,0,"",""]
[0,{"$f":"前年度登録!O84","v":""},null,null,{"$f":"前年度登録!E84","v":0},{"$f":"前年度登録!BD84","v":""},{"$f":"前年度登録!V84","v":""},{"$f":"前年度登録!BD84","v":""},{"$f":"前年度登録!U84","v":""},{"$f":"前年度登録!I84","v":0},{"$f":"前年度登録!K84","v":0},{"$f":"前年度登録!BK84","v":"00"},{"$f":"前年度登録!P84","v":""},{"$f":"前年度登録!$Q$7","v":23},null,{"$f":"IF(O86=\"\",\"\",IF(I86=1,VLOOKUP(O86,男子種目コード!$A$2:$B$35,2,FALSE),IF(I86=2,VLOOKUP(O86,女子種目コード!$A$2:$B$35,2,FALSE))))","v":""},{"$f":"IF(O86=\"\",\"\",HLOOKUP(O86,前年度登録!$W$4:$AV$184,81,FALSE))","v":""},"","",null,{"$f":"IF(T86=\"\",\"\",IF(I86=1,VLOOKUP(T86,男子種目コード!$A$19:$B$31,2,FALSE),IF(I86=2,VLOOKUP(T86,女子種目コード!$A$19:$B$31,2,FALSE))))","v":""},null,"","",null,{"$f":"IF(Y86=\"\",\"\",IF(I86=1,VLOOKUP(Y86,男子種目コード!#REF!,2,FALSE),IF(I86=2,VLOOKUP(Y86,女子種目コード!#REF!,2,FALSE))))","v":""},null,null,{"$f":"IF(AB86=\"\",\"\",IF(I86=1,VLOOKUP(AB86,男子種目コード!#REF!,2,FALSE),IF(I86=2,VLOOKUP(AB86,女子種目コード!#REF!,2,FALSE))))","v":""},null,null,{"$f":"IF(AE86=\"\",\"\",IF(E86=1,VLOOKUP(AE86,男子種目コード!#REF!,2,FALSE),IF(E86=2,VLOOKUP(AE86,女子種目コード!#REF!,2,FALSE))))","v":""},null,null,null,"",0,null,null,null,null,null,null,null,null,null,null,null,null,0,"",""]
[0,{"$f":"前年度登録!O85","v":""},null,null,{"$f":"前年度登録!E85","v":0},{"$f":"前年度登録!BD85","v":""},{"$f":"前年度登録!V85","v":""},{"$f":"前年度登録!BD85","v":""},{"$f":"前年度登録!U85","v":""},{"$f":"前年度登録!I85","v":0},{"$f":"前年度登録!K85","v":0},{"$f":"前年度登録!BK85","v":"00"},{"$f":"前年度登録!P85","v":""},{"$f":"前年度登録!$Q$7","v":23},null,{"$f":"IF(O87=\"\",\"\",IF(I87=1,VLOOKUP(O87,男子種目コード!$A$2:$B$35,2,FALSE),IF(I87=2,VLOOKUP(O87,女子種目コード!$A$2:$B$35,2,FALSE))))","v":""},{"$f":"IF(O87=\"\",\"\",HLOOKUP(O87,前年度登録!$W$4:$AV$184,82,FALSE))","v":""},"","",null,{"$f":"IF(T87=\"\",\"\",IF(I87=1,VLOOKUP(T87,男子種目コード!$A$19:$B$31,2,FALSE),IF(I87=2,VLOOKUP(T87,女子種目コード!$A$19:$B$31,2,FALSE))))","v":""},null,"","",null,{"$f":"IF(Y87=\"\",\"\",IF(I87=1,VLOOKUP(Y87,男子種目コード!#REF!,2,FALSE),IF(I87=2,VLOOKUP(Y87,女子種目コード!#REF!,2,FALSE))))","v":""},null,null,{"$f":"IF(AB87=\"\",\"\",IF(I87=1,VLOOKUP(AB87,男子種目コード!#REF!,2,FALSE),IF(I87=2,VLOOKUP(AB87,女子種目コード!#REF!,2,FALSE))))","v":""},null,null,{"$f":"IF(AE87=\"\",\"\",IF(E87=1,VLOOKUP(AE87,男子種目コード!#REF!,2,FALSE),IF(E87=2,VLOOKUP(AE87,女子種目コード!#REF!,2,FALSE))))","v":""},null,null,null,"",0,null,null,null,null,null,null,null,null,null,null,null,null,0,"",""]
[0,{"$f":"前年度登録!O86","v":""},null,null,{"$f":"前年度登録!E86","v":0},{"$f":"前年度登録!BD86","v":""},{"$f":"前年度登録!V86","v":""},{"$f":"前年度登録!BD86","v":""},{"$f":"前年度登録!U86","v":""},{"$f":"前年度登録!I86","v":0},{"$f":"前年度登録!K86","v":0},{"$f":"前年度登録!BK86","v":"00"},{"$f":"前年度登録!P86","v":""},{"$f":"前年度登録!$Q$7","v":23},null,{"$f":"IF(O88=\"\",\"\",IF(I88=1,VLOOKUP(O88,男子種目コード!$A$2:$B$35,2,FALSE),IF(I88=2,VLOOKUP(O88,女子種目コード!$A$2:$B$35,2,FALSE))))","v":""},{"$f":"IF(O88=\"\",\"\",HLOOKUP(O88,前年度登録!$W$4:$AV$184,83,FALSE))","v":""},"","",null,{"$f":"IF(T88=\"\",\"\",IF(I88=1,VLOOKUP(T88,男子種目コード!$A$19:$B$31,2,FALSE),IF(I88=2,VLOOKUP(T88,女子種目コード!$A$19:$B$31,2,FALSE))))","v":""},null,"","",null,{"$f":"IF(Y88=\"\",\"\",IF(I88=1,VLOOKUP(Y88,男子種目コード!#REF!,2,FALSE),IF(I88=2,VLOOKUP(Y88,女子種目コード!#REF!,2,FALSE))))","v":""},null,null,{"$f":"IF(AB88=\"\",\"\",IF(I88=1,VLOOKUP(AB88,男子種目コード!#REF!,2,FALSE),IF(I88=2,VLOOKUP(AB88,女子種目コード!#REF!,2,FALSE))))","v":""},null,null,{"$f":"IF(AE88=\"\",\"\",IF(E88=1,VLOOKUP(AE88,男子種目コード!#REF!,2,FALSE),IF(E88=2,VLOOKUP(AE88,女子種目コード!#REF!,2,FALSE))))","v":""},null,null,null,"",0,null,null,null,null,null,null,null,null,null,null,null,null,0,"",""]
[0,{"$f":"前年度登録!O87","v":""},null,null,{"$f":"前年度登録!E87","v":0},{"$f":"前年度登録!BD87","v":""},{"$f":"前年度登録!V87","v":""},{"$f":"前年度登録!BD87","v":""},{"$f":"前年度登録!U87","v":""},{"$f":"前年度登録!I87","v":0},{"$f":"前年度登録!K87","v":0},{"$f":"前年度登録!BK87","v":"00"},{"$f":"前年度登録!P87","v":""},{"$f":"前年度登録!$Q$7","v":23},null,{"$f":"IF(O89=\"\",\"\",IF(I89=1,VLOOKUP(O89,男子種目コード!$A$2:$B$35,2,FALSE),IF(I89=2,VLOOKUP(O89,女子種目コード!$A$2:$B$35,2,FALSE))))","v":""},{"$f":"IF(O89=\"\",\"\",HLOOKUP(O89,前年度登録!$W$4:$AV$184,84,FALSE))","v":""},"","",null,{"$f":"IF(T89=\"\",\"\",IF(I89=1,VLOOKUP(T89,男子種目コード!$A$19:$B$31,2,FALSE),IF(I89=2,VLOOKUP(T89,女子種目コード!$A$19:$B$31,2,FALSE))))","v":""},null,"","",null,{"$f":"IF(Y89=\"\",\"\",IF(I89=1,VLOOKUP(Y89,男子種目コード!#REF!,2,FALSE),IF(I89=2,VLOOKUP(Y89,女子種目コード!#REF!,2,FALSE))))","v":""},null,null,{"$f":"IF(AB89=\"\",\"\",IF(I89=1,VLOOKUP(AB89,男子種目コード!#REF!,2,FALSE),IF(I89=2,VLOOKUP(AB89,女子種目コード!#REF!,2,FALSE))))","v":""},null,null,{"$f":"IF(AE89=\"\",\"\",IF(E89=1,VLOOKUP(AE89,男子種目コード!#REF!,2,FALSE),IF(E89=2,VLOOKUP(AE89,女子種目コード!#REF!,2,FALSE))))","v":""},null,null,null,"",0,null,null,null,null,null,null,null,null,null,null,null,null,0,"",""]
[0,{"$f":"前年度登録!O88","v":""},null,null,{"$f":"前年度登録!E88","v":0},{"$f":"前年度登録!BD88","v":""},{"$f":"前年度登録!V88","v":""},{"$f":"前年度登録!BD88","v":""},{"$f":"前年度登録!U88","v":""},{"$f":"前年度登録!I88","v":0},{"$f":"前年度登録!K88","v":0},{"$f":"前年度登録!BK88","v":"00"},{"$f":"前年度登録!P88","v":""},{"$f":"前年度登録!$Q$7","v":23},null,{"$f":"IF(O90=\"\",\"\",IF(I90=1,VLOOKUP(O90,男子種目コード!$A$2:$B$35,2,FALSE),IF(I90=2,VLOOKUP(O90,女子種目コード!$A$2:$B$35,2,FALSE))))","v":""},{"$f":"IF(O90=\"\",\"\",HLOOKUP(O90,前年度登録!$W$4:$AV$184,85,FALSE))","v":""},"","",null,{"$f":"IF(T90=\"\",\"\",IF(I90=1,VLOOKUP(T90,男子種目コード!$A$19:$B$31,2,FALSE),IF(I90=2,VLOOKUP(T90,女子種目コード!$A$19:$B$31,2,FALSE))))","v":""},null,"","",null,{"$f":"IF(Y90=\"\",\"\",IF(I90=1,VLOOKUP(Y90,男子種目コード!#REF!,2,FALSE),IF(I90=2,VLOOKUP(Y90,女子種目コード!#REF!,2,FALSE))))","v":""},null,null,{"$f":"IF(AB90=\"\",\"\",IF(I90=1,VLOOKUP(AB90,男子種目コード!#REF!,2,FALSE),IF(I90=2,VLOOKUP(AB90,女子種目コード!#REF!,2,FALSE))))","v":""},null,null,{"$f":"IF(AE90=\"\",\"\",IF(E90=1,VLOOKUP(AE90,男子種目コード!#REF!,2,FALSE),IF(E90=2,VLOOKUP(AE90,女子種目コード!#REF!,2,FALSE))))","v":""},null,null,null,"",0,null,null,null,null,null,null,null,null,null,null,null,null,0,"",""]
[0,{"$f":"前年度登録!O89","v":""},null,null,{"$f":"前年度登録!E89","v":0},{"$f":"前年度登録!BD89","v":""},{"$f":"前年度登録!V89","v":""},{"$f":"前年度登録!BD89","v":""},{"$f":"前年度登録!U89","v":""},{"$f":"前年度登録!I89","v":0},{"$f":"前年度登録!K89","v":0},{"$f":"前年度登録!BK89","v":"00"},{"$f":"前年度登録!P89","v":""},{"$f":"前年度登録!$Q$7","v":23},null,{"$f":"IF(O91=\"\",\"\",IF(I91=1,VLOOKUP(O91,男子種目コード!$A$2:$B$35,2,FALSE),IF(I91=2,VLOOKUP(O91,女子種目コード!$A$2:$B$35,2,FALSE))))","v":""},{"$f":"IF(O91=\"\",\"\",HLOOKUP(O91,前年度登録!$W$4:$AV$184,86,FALSE))","v":""},"","",null,{"$f":"IF(T91=\"\",\"\",IF(I91=1,VLOOKUP(T91,男子種目コード!$A$19:$B$31,2,FALSE),IF(I91=2,VLOOKUP(T91,女子種目コード!$A$19:$B$31,2,FALSE))))","v":""},null,"","",null,{"$f":"IF(Y91=\"\",\"\",IF(I91=1,VLOOKUP(Y91,男子種目コード!#REF!,2,FALSE),IF(I91=2,VLOOKUP(Y91,女子種目コード!#REF!,2,FALSE))))","v":""},null,null,{"$f":"IF(AB91=\"\",\"\",IF(I91=1,VLOOKUP(AB91,男子種目コード!#REF!,2,FALSE),IF(I91=2,VLOOKUP(AB91,女子種目コード!#REF!,2,FALSE))))","v":""},null,null,{"$f":"IF(AE91=\"\",\"\",IF(E91=1,VLOOKUP(AE91,男子種目コード!#REF!,2,FALSE),IF(E91=2,VLOOKUP(AE91,女子種目コード!#REF!,2,FALSE))))","v":""},null,null,null,"",0,null,null,null,null,null,null,null,null,null,null,null,null,0,"",""]
[0,{"$f":"前年度登録!O90","v":""},null,null,{"$f":"前年度登録!E90","v":0},{"$f":"前年度登録!BD90","v":""},{"$f":"前年度登録!V90","v":""},{"$f":"前年度登録!BD90","v":""},{"$f":"前年度登録!U90","v":""},{"$f":"前年度登録!I90","v":0},{"$f":"前年度登録!K90","v":0},{"$f":"前年度登録!BK90","v":"00"},{"$f":"前年度登録!P90","v":""},{"$f":"前年度登録!$Q$7","v":23},null,{"$f":"IF(O92=\"\",\"\",IF(I92=1,VLOOKUP(O92,男子種目コード!$A$2:$B$35,2,FALSE),IF(I92=2,VLOOKUP(O92,女子種目コード!$A$2:$B$35,2,FALSE))))","v":""},{"$f":"IF(O92=\"\",\"\",HLOOKUP(O92,前年度登録!$W$4:$AV$184,87,FALSE))","v":""},"","",null,{"$f":"IF(T92=\"\",\"\",IF(I92=1,VLOOKUP(T92,男子種目コード!$A$19:$B$31,2,FALSE),IF(I92=2,VLOOKUP(T92,女子種目コード!$A$19:$B$31,2,FALSE))))","v":""},null,"","",null,{"$f":"IF(Y92=\"\",\"\",IF(I92=1,VLOOKUP(Y92,男子種目コード!#REF!,2,FALSE),IF(I92=2,VLOOKUP(Y92,女子種目コード!#REF!,2,FALSE))))","v":""},null,null,{"$f":"IF(AB92=\"\",\"\",IF(I92=1,VLOOKUP(AB92,男子種目コード!#REF!,2,FALSE),IF(I92=2,VLOOKUP(AB92,女子種目コード!#REF!,2,FALSE))))","v":""},null,null,{"$f":"IF(AE92=\"\",\"\",IF(E92=1,VLOOKUP(AE92,男子種目コード!#REF!,2,FALSE),IF(E92=2,VLOOKUP(AE92,女子種目コード!#REF!,2,FALSE))))","v":""},null,null,null,"",0,null,null,null,null,null,null,null,null,null,null,null,null,0,"",""]
[0,{"$f":"前年度登録!O91","v":""},null,null,{"$f":"前年度登録!E91","v":0},{"$f":"前年度登録!BD91","v":""},{"$f":"前年度登録!V91","v":""},{"$f":"前年度登録!BD91","v":""},{"$f":"前年度登録!U91","v":""},{"$f":"前年度登録!I91","v":0},{"$f":"前年度登録!K91","v":0},{"$f":"前年度登録!BK91","v":"00"},{"$f":"前年度登録!P91","v":""},{"$f":"前年度登録!$Q$7","v":23},null,{"$f":"IF(O93=\"\",\"\",IF(I93=1,VLOOKUP(O93,男子種目コード!$A$2:$B$35,2,FALSE),IF(I93=2,VLOOKUP(O93,女子種目コード!$A$2:$B$35,2,FALSE))))","v":""},{"$f":"IF(O93=\"\",\"\",HLOOKUP(O93,前年度登録!$W$4:$AV$184,88,FALSE))","v":""},"","",null,{"$f":"IF(T93=\"\",\"\",IF(I93=1,VLOOKUP(T93,男子種目コード!$A$19:$B$31,2,FALSE),IF(I93=2,VLOOKUP(T93,女子種目コード!$A$19:$B$31,2,FALSE))))","v":""},null,"","",null,{"$f":"IF(Y93=\"\",\"\",IF(I93=1,VLOOKUP(Y93,男子種目コード!#REF!,2,FALSE),IF(I93=2,VLOOKUP(Y93,女子種目コード!#REF!,2,FALSE))))","v":""},null,null,{"$f":"IF(AB93=\"\",\"\",IF(I93=1,VLOOKUP(AB93,男子種目コード!#REF!,2,FALSE),IF(I93=2,VLOOKUP(AB93,女子種目コード!#REF!,2,FALSE))))","v":""},null,null,{"$f":"IF(AE93=\"\",\"\",IF(E93=1,VLOOKUP(AE93,男子種目コード!#REF!,2,FALSE),IF(E93=2,VLOOKUP(AE93,女子種目コード!#REF!,2,FALSE))))","v":""},null,null,null,"",0,null,null,null,null,null,null,null,null,null,null,null,null,0,"",""]
[0,{"$f":"前年度登録!O92","v":""},null,null,{"$f":"前年度登録!E92","v":0},{"$f":"前年度登録!BD92","v":""},{"$f":"前年度登録!V92","v":""},{"$f":"前年度登録!BD92","v":""},{"$f":"前年度登録!U92","v":""},{"$f":"前年度登録!I92","v":0},{"$f":"前年度登録!K92","v":0},{"$f":"前年度登録!BK92","v":"00"},{"$f":"前年度登録!P92","v":""},{"$f":"前年度登録!$Q$7","v":23},null,{"$f":"IF(O94=\"\",\"\",IF(I94=1,VLOOKUP(O94,男子種目コード!$A$2:$B$35,2,FALSE),IF(I94=2,VLOOKUP(O94,女子種目コード!$A$2:$B$35,2,FALSE))))","v":""},{"$f":"IF(O94=\"\",\"\",HLOOKUP(O94,前年度登録!$W$4:$AV$184,89,FALSE))","v":""},"","",null,{"$f":"IF(T94=\"\",\"\",IF(I94=1,VLOOKUP(T94,男子種目コード!$A$19:$B$31,2,FALSE),IF(I94=2,VLOOKUP(T94,女子種目コード!$A$19:$B$31,2,FALSE))))","v":""},null,"","",null,{"$f":"IF(Y94=\"\",\"\",IF(I94=1,VLOOKUP(Y94,男子種目コード!#REF!,2,FALSE),IF(I94=2,VLOOKUP(Y94,女子種目コード!#REF!,2,FALSE))))","v":""},null,null,{"$f":"IF(AB94=\"\",\"\",IF(I94=1,VLOOKUP(AB94,男子種目コード!#REF!,2,FALSE),IF(I94=2,VLOOKUP(AB94,女子種目コード!#REF!,2,FALSE))))","v":""},null,null,{"$f":"IF(AE94=\"\",\"\",IF(E94=1,VLOOKUP(AE94,男子種目コード!#REF!,2,FALSE),IF(E94=2,VLOOKUP(AE94,女子種目コード!#REF!,2,FALSE))))","v":""},null,null,null,"",0,null,null,null,null,null,null,null,null,null,null,null,null,0,"",""]
[0,{"$f":"前年度登録!O93","v":""},null,null,{"$f":"前年度登録!E93","v":0},{"$f":"前年度登録!BD93","v":""},{"$f":"前年度登録!V93","v":""},{"$f":"前年度登録!BD93","v":""},{"$f":"前年度登録!U93","v":""},{"$f":"前年度登録!I93","v":0},{"$f":"前年度登録!K93","v":0},{"$f":"前年度登録!BK93","v":"00"},{"$f":"前年度登録!P93","v":""},{"$f":"前年度登録!$Q$7","v":23},null,{"$f":"IF(O95=\"\",\"\",IF(I95=1,VLOOKUP(O95,男子種目コード!$A$2:$B$35,2,FALSE),IF(I95=2,VLOOKUP(O95,女子種目コード!$A$2:$B$35,2,FALSE))))","v":""},{"$f":"IF(O95=\"\",\"\",HLOOKUP(O95,前年度登録!$W$4:$AV$184,90,FALSE))","v":""},"","",null,{"$f":"IF(T95=\"\",\"\",IF(I95=1,VLOOKUP(T95,男子種目コード!$A$19:$B$31,2,FALSE),IF(I95=2,VLOOKUP(T95,女子種目コード!$A$19:$B$31,2,FALSE))))","v":""},null,"","",null,{"$f":"IF(Y95=\"\",\"\",IF(I95=1,VLOOKUP(Y95,男子種目コード!#REF!,2,FALSE),IF(I95=2,VLOOKUP(Y95,女子種目コード!#REF!,2,FALSE))))","v":""},null,null,{"$f":"IF(AB95=\"\",\"\",IF(I95=1,VLOOKUP(AB95,男子種目コード!#REF!,2,FALSE),IF(I95=2,VLOOKUP(AB95,女子種目コード!#REF!,2,FALSE))))","v":""},null,null,{"$f":"IF(AE95=\"\",\"\",IF(E95=1,VLOOKUP(AE95,男子種目コード!#REF!,2,FALSE),IF(E95=2,VLOOKUP(AE95,女子種目コード!#REF!,2,FALSE))))","v":""},null,null,null,"",0,null,null,null,null,null,null,null,null,null,null,null,null,0,"",""]
[0,{"$f":"前年度登録!O94","v":""},null,null,{"$f":"前年度登録!E94","v":0},{"$f":"前年度登録!BD94","v":""},{"$f":"前年度登録!V94","v":""},{"$f":"前年度登録!BD94","v":""},{"$f":"前年度登録!U94","v":""},{"$f":"前年度登録!I94","v":0},{"$f":"前年度登録!K94","v":0},{"$f":"前年度登録!BK94","v":"00"},{"$f":"前年度登録!P94","v":""},{"$f":"前年度登録!$Q$7","v":23},null,{"$f":"IF(O96=\"\",\"\",IF(I96=1,VLOOKUP(O96,男子種目コード!$A$2:$B$35,2,FALSE),IF(I96=2,VLOOKUP(O96,女子種目コード!$A$2:$B$35,2,FALSE))))","v":""},{"$f":"IF(O96=\"\",\"\",HLOOKUP(O96,前年度登録!$W$4:$AV$184,91,FALSE))","v":""},"","",null,{"$f":"IF(T96=\"\",\"\",IF(I96=1,VLOOKUP(T96,男子種目コード!$A$19:$B$31,2,FALSE),IF(I96=2,VLOOKUP(T96,女子種目コード!$A$19:$B$31,2,FALSE))))","v":""},null,"","",null,{"$f":"IF(Y96=\"\",\"\",IF(I96=1,VLOOKUP(Y96,男子種目コード!#REF!,2,FALSE),IF(I96=2,VLOOKUP(Y96,女子種目コード!#REF!,2,FALSE))))","v":""},null,null,{"$f":"IF(AB96=\"\",\"\",IF(I96=1,VLOOKUP(AB96,男子種目コード!#REF!,2,FALSE),IF(I96=2,VLOOKUP(AB96,女子種目コード!#REF!,2,FALSE))))","v":""},null,null,{"$f":"IF(AE96=\"\",\"\",IF(E96=1,VLOOKUP(AE96,男子種目コード!#REF!,2,FALSE),IF(E96=2,VLOOKUP(AE96,女子種目コード!#REF!,2,FALSE))))","v":""},null,null,null,"",0,null,null,null,null,null,null,null,null,null,null,null,null,0,"",""]
[0,{"$f":"前年度登録!O95","v":""},null,null,{"$f":"前年度登録!E95","v":0},{"$f":"前年度登録!BD95","v":""},{"$f":"前年度登録!V95","v":""},{"$f":"前年度登録!BD95","v":""},{"$f":"前年度登録!U95","v":""},{"$f":"前年度登録!I95","v":0},{"$f":"前年度登録!K95","v":0},{"$f":"前年度登録!BK95","v":"00"},{"$f":"前年度登録!P95","v":""},{"$f":"前年度登録!$Q$7","v":23},null,{"$f":"IF(O97=\"\",\"\",IF(I97=1,VLOOKUP(O97,男子種目コード!$A$2:$B$35,2,FALSE),IF(I97=2,VLOOKUP(O97,女子種目コード!$A$2:$B$35,2,FALSE))))","v":""},{"$f":"IF(O97=\"\",\"\",HLOOKUP(O97,前年度登録!$W$4:$AV$184,92,FALSE))","v":""},"","",null,{"$f":"IF(T97=\"\",\"\",IF(I97=1,VLOOKUP(T97,男子種目コード!$A$19:$B$31,2,FALSE),IF(I97=2,VLOOKUP(T97,女子種目コード!$A$19:$B$31,2,FALSE))))","v":""},null,"","",null,{"$f":"IF(Y97=\"\",\"\",IF(I97=1,VLOOKUP(Y97,男子種目コード!#REF!,2,FALSE),IF(I97=2,VLOOKUP(Y97,女子種目コード!#REF!,2,FALSE))))","v":""},null,null,{"$f":"IF(AB97=\"\",\"\",IF(I97=1,VLOOKUP(AB97,男子種目コード!#REF!,2,FALSE),IF(I97=2,VLOOKUP(AB97,女子種目コード!#REF!,2,FALSE))))","v":""},null,null,{"$f":"IF(AE97=\"\",\"\",IF(E97=1,VLOOKUP(AE97,男子種目コード!#REF!,2,FALSE),IF(E97=2,VLOOKUP(AE97,女子種目コード!#REF!,2,FALSE))))","v":""},null,null,null,"",0,null,null,null,null,null,null,null,null,null,null,null,null,0,"",""]
[0,{"$f":"前年度登録!O96","v":""},null,null,{"$f":"前年度登録!E96","v":0},{"$f":"前年度登録!BD96","v":""},{"$f":"前年度登録!V96","v":""},{"$f":"前年度登録!BD96","v":""},{"$f":"前年度登録!U96","v":""},{"$f":"前年度登録!I96","v":0},{"$f":"前年度登録!K96","v":0},{"$f":"前年度登録!BK96","v":"00"},{"$f":"前年度登録!P96","v":""},{"$f":"前年度登録!$Q$7","v":23},null,{"$f":"IF(O98=\"\",\"\",IF(I98=1,VLOOKUP(O98,男子種目コード!$A$2:$B$35,2,FALSE),IF(I98=2,VLOOKUP(O98,女子種目コード!$A$2:$B$35,2,FALSE))))","v":""},{"$f":"IF(O98=\"\",\"\",HLOOKUP(O98,前年度登録!$W$4:$AV$184,93,FALSE))","v":""},"","",null,{"$f":"IF(T98=\"\",\"\",IF(I98=1,VLOOKUP(T98,男子種目コード!$A$19:$B$31,2,FALSE),IF(I98=2,VLOOKUP(T98,女子種目コード!$A$19:$B$31,2,FALSE))))","v":""},null,"","",null,{"$f":"IF(Y98=\"\",\"\",IF(I98=1,VLOOKUP(Y98,男子種目コード!#REF!,2,FALSE),IF(I98=2,VLOOKUP(Y98,女子種目コード!#REF!,2,FALSE))))","v":""},null,null,{"$f":"IF(AB98=\"\",\"\",IF(I98=1,VLOOKUP(AB98,男子種目コード!#REF!,2,FALSE),IF(I98=2,VLOOKUP(AB98,女子種目コード!#REF!,2,FALSE))))","v":""},null,null,{"$f":"IF(AE98=\"\",\"\",IF(E98=1,VLOOKUP(AE98,男子種目コード!#REF!,2,FALSE),IF(E98=2,VLOOKUP(AE98,女子種目コード!#REF!,2,FALSE))))","v":""},null,null,null,"",0,null,null,null,null,null,null,null,null,null,null,null,null,0,"",""]
[0,{"$f":"前年度登録!O97","v":""},null,null,{"$f":"前年度登録!E97","v":0},{"$f":"前年度登録!BD97","v":""},{"$f":"前年度登録!V97","v":""},{"$f":"前年度登録!BD97","v":""},{"$f":"前年度登録!U97","v":""},{"$f":"前年度登録!I97","v":0},{"$f":"前年度登録!K97","v":0},{"$f":"前年度登録!BK97","v":"00"},{"$f":"前年度登録!P97","v":""},{"$f":"前年度登録!$Q$7","v":23},null,{"$f":"IF(O99=\"\",\"\",IF(I99=1,VLOOKUP(O99,男子種目コード!$A$2:$B$35,2,FALSE),IF(I99=2,VLOOKUP(O99,女子種目コード!$A$2:$B$35,2,FALSE))))","v":""},{"$f":"IF(O99=\"\",\"\",HLOOKUP(O99,前年度登録!$W$4:$AV$184,94,FALSE))","v":""},"","",null,{"$f":"IF(T99=\"\",\"\",IF(I99=1,VLOOKUP(T99,男子種目コード!$A$19:$B$31,2,FALSE),IF(I99=2,VLOOKUP(T99,女子種目コード!$A$19:$B$31,2,FALSE))))","v":""},null,"","",null,{"$f":"IF(Y99=\"\",\"\",IF(I99=1,VLOOKUP(Y99,男子種目コード!#REF!,2,FALSE),IF(I99=2,VLOOKUP(Y99,女子種目コード!#REF!,2,FALSE))))","v":""},null,null,{"$f":"IF(AB99=\"\",\"\",IF(I99=1,VLOOKUP(AB99,男子種目コード!#REF!,2,FALSE),IF(I99=2,VLOOKUP(AB99,女子種目コード!#REF!,2,FALSE))))","v":""},null,null,{"$f":"IF(AE99=\"\",\"\",IF(E99=1,VLOOKUP(AE99,男子種目コード!#REF!,2,FALSE),IF(E99=2,VLOOKUP(AE99,女子種目コード!#REF!,2,FALSE))))","v":""},null,null,null,"",0,null,null,null,null,null,null,null,null,null,null,null,null,0,"",""]
[0,{"$f":"前年度登録!O98","v":""},null,null,{"$f":"前年度登録!E98","v":0},{"$f":"前年度登録!BD98","v":""},{"$f":"前年度登録!V98","v":""},{"$f":"前年度登録!BD98","v":""},{"$f":"前年度登録!U98","v":""},{"$f":"前年度登録!I98","v":0},{"$f":"前年度登録!K98","v":0},{"$f":"前年度登録!BK98","v":"00"},{"$f":"前年度登録!P98","v":""},{"$f":"前年度登録!$Q$7","v":23},null,{"$f":"IF(O100=\"\",\"\",IF(I100=1,VLOOKUP(O100,男子種目コード!$A$2:$B$35,2,FALSE),IF(I100=2,VLOOKUP(O100,女子種目コード!$A$2:$B$35,2,FALSE))))","v":""},{"$f":"IF(O100=\"\",\"\",HLOOKUP(O100,前年度登録!$W$4:$AV$184,95,FALSE))","v":""},"","",null,{"$f":"IF(T100=\"\",\"\",IF(I100=1,VLOOKUP(T100,男子種目コード!$A$19:$B$31,2,FALSE),IF(I100=2,VLOOKUP(T100,女子種目コード!$A$19:$B$31,2,FALSE))))","v":""},null,"","",null,{"$f":"IF(Y100=\"\",\"\",IF(I100=1,VLOOKUP(Y100,男子種目コード!#REF!,2,FALSE),IF(I100=2,VLOOKUP(Y100,女子種目コード!#REF!,2,FALSE))))","v":""},null,null,{"$f":"IF(AB100=\"\",\"\",IF(I100=1,VLOOKUP(AB100,男子種目コード!#REF!,2,FALSE),IF(I100=2,VLOOKUP(AB100,女子種目コード!#REF!,2,FALSE))))","v":""},null,null,{"$f":"IF(AE100=\"\",\"\",IF(E100=1,VLOOKUP(AE100,男子種目コード!#REF!,2,FALSE),IF(E100=2,VLOOKUP(AE100,女子種目コード!#REF!,2,FALSE))))","v":""},null,null,null,"",0,null,null,null,null,null,null,null,null,null,null,null,null,0,"",""]
[0,{"$f":"前年度登録!O99","v":""},null,null,{"$f":"前年度登録!E99","v":0},{"$f":"前年度登録!BD99","v":""},{"$f":"前年度登録!V99","v":""},{"$f":"前年度登録!BD99","v":""},{"$f":"前年度登録!U99","v":""},{"$f":"前年度登録!I99","v":0},{"$f":"前年度登録!K99","v":0},{"$f":"前年度登録!BK99","v":"00"},{"$f":"前年度登録!P99","v":""},{"$f":"前年度登録!$Q$7","v":23},null,{"$f":"IF(O101=\"\",\"\",IF(I101=1,VLOOKUP(O101,男子種目コード!$A$2:$B$35,2,FALSE),IF(I101=2,VLOOKUP(O101,女子種目コード!$A$2:$B$35,2,FALSE))))","v":""},{"$f":"IF(O101=\"\",\"\",HLOOKUP(O101,前年度登録!$W$4:$AV$184,96,FALSE))","v":""},"","",null,{"$f":"IF(T101=\"\",\"\",IF(I101=1,VLOOKUP(T101,男子種目コード!$A$19:$B$31,2,FALSE),IF(I101=2,VLOOKUP(T101,女子種目コード!$A$19:$B$31,2,FALSE))))","v":""},null,"","",null,{"$f":"IF(Y101=\"\",\"\",IF(I101=1,VLOOKUP(Y101,男子種目コード!#REF!,2,FALSE),IF(I101=2,VLOOKUP(Y101,女子種目コード!#REF!,2,FALSE))))","v":""},null,null,{"$f":"IF(AB101=\"\",\"\",IF(I101=1,VLOOKUP(AB101,男子種目コード!#REF!,2,FALSE),IF(I101=2,VLOOKUP(AB101,女子種目コード!#REF!,2,FALSE))))","v":""},null,null,{"$f":"IF(AE101=\"\",\"\",IF(E101=1,VLOOKUP(AE101,男子種目コード!#REF!,2,FALSE),IF(E101=2,VLOOKUP(AE101,女子種目コード!#REF!,2,FALSE))))","v":""},null,null,null,"",0,null,null,null,null,null,null,null,null,null,null,null,null,0,"",""]
[0,{"$f":"前年度登録!O100","v":""},null,null,{"$f":"前年度登録!E100","v":0},{"$f":"前年度登録!BD100","v":""},{"$f":"前年度登録!V100","v":""},{"$f":"前年度登録!BD100","v":""},{"$f":"前年度登録!U100","v":""},{"$f":"前年度登録!I100","v":0},{"$f":"前年度登録!K100","v":0},{"$f":"前年度登録!BK100","v":"00"},{"$f":"前年度登録!P100","v":""},{"$f":"前年度登録!$Q$7","v":23},null,{"$f":"IF(O102=\"\",\"\",IF(I102=1,VLOOKUP(O102,男子種目コード!$A$2:$B$35,2,FALSE),IF(I102=2,VLOOKUP(O102,女子種目コード!$A$2:$B$35,2,FALSE))))","v":""},{"$f":"IF(O102=\"\",\"\",HLOOKUP(O102,前年度登録!$W$4:$AV$184,97,FALSE))","v":""},"","",null,{"$f":"IF(T102=\"\",\"\",IF(I102=1,VLOOKUP(T102,男子種目コード!$A$19:$B$31,2,FALSE),IF(I102=2,VLOOKUP(T102,女子種目コード!$A$19:$B$31,2,FALSE))))","v":""},null,"","",null,{"$f":"IF(Y102=\"\",\"\",IF(I102=1,VLOOKUP(Y102,男子種目コード!#REF!,2,FALSE),IF(I102=2,VLOOKUP(Y102,女子種目コード!#REF!,2,FALSE))))","v":""},null,null,{"$f":"IF(AB102=\"\",\"\",IF(I102=1,VLOOKUP(AB102,男子種目コード!#REF!,2,FALSE),IF(I102=2,VLOOKUP(AB102,女子種目コード!#REF!,2,FALSE))))","v":""},null,null,{"$f":"IF(AE102=\"\",\"\",IF(E102=1,VLOOKUP(AE102,男子種目コード!#REF!,2,FALSE),IF(E102=2,VLOOKUP(AE102,女子種目コード!#REF!,2,FALSE))))","v":""},null,null,null,"",0,null,null,null,null,null,null,null,null,null,null,null,null,0,"",""]
[0,{"$f":"前年度登録!O101","v":""},null,null,{"$f":"前年度登録!E101","v":0},{"$f":"前年度登録!BD101","v":""},{"$f":"前年度登録!V101","v":""},{"$f":"前年度登録!BD101","v":""},{"$f":"前年度登録!U101","v":""},{"$f":"前年度登録!I101","v":0},{"$f":"前年度登録!K101","v":0},{"$f":"前年度登録!BK101","v":"00"},{"$f":"前年度登録!P101","v":""},{"$f":"前年度登録!$Q$7","v":23},null,{"$f":"IF(O103=\"\",\"\",IF(I103=1,VLOOKUP(O103,男子種目コード!$A$2:$B$35,2,FALSE),IF(I103=2,VLOOKUP(O103,女子種目コード!$A$2:$B$35,2,FALSE))))","v":""},{"$f":"IF(O103=\"\",\"\",HLOOKUP(O103,前年度登録!$W$4:$AV$184,98,FALSE))","v":""},"","",null,{"$f":"IF(T103=\"\",\"\",IF(I103=1,VLOOKUP(T103,男子種目コード!$A$19:$B$31,2,FALSE),IF(I103=2,VLOOKUP(T103,女子種目コード!$A$19:$B$31,2,FALSE))))","v":""},null,"","",null,{"$f":"IF(Y103=\"\",\"\",IF(I103=1,VLOOKUP(Y103,男子種目コード!#REF!,2,FALSE),IF(I103=2,VLOOKUP(Y103,女子種目コード!#REF!,2,FALSE))))","v":""},null,null,{"$f":"IF(AB103=\"\",\"\",IF(I103=1,VLOOKUP(AB103,男子種目コード!#REF!,2,FALSE),IF(I103=2,VLOOKUP(AB103,女子種目コード!#REF!,2,FALSE))))","v":""},null,null,{"$f":"IF(AE103=\"\",\"\",IF(E103=1,VLOOKUP(AE103,男子種目コード!#REF!,2,FALSE),IF(E103=2,VLOOKUP(AE103,女子種目コード!#REF!,2,FALSE))))","v":""},null,null,null,"",{"$f":"IF(OR(AJ103=1,T103=\"\"),0,1)","v":0},null,null,null,null,null,null,null,null,null,null,null,null,{"$f":"COUNT(P103,U103)","v":0},{"$f":"IF(I103=1,AX103,\"\")","v":""},{"$f":"IF(I103=2,AX103,\"\")","v":""}]
[0,{"$f":"前年度登録!O102","v":""},null,null,{"$f":"前年度登録!E102","v":0},{"$f":"前年度登録!BD102","v":""},{"$f":"前年度登録!V102","v":""},{"$f":"前年度登録!BD102","v":""},{"$f":"前年度登録!U102","v":""},{"$f":"前年度登録!I102","v":0},{"$f":"前年度登録!K102","v":0},{"$f":"前年度登録!BK102","v":"00"},{"$f":"前年度登録!P102","v":""},{"$f":"前年度登録!$Q$7","v":23},null,{"$f":"IF(O104=\"\",\"\",IF(I104=1,VLOOKUP(O104,男子種目コード!$A$2:$B$35,2,FALSE),IF(I104=2,VLOOKUP(O104,女子種目コード!$A$2:$B$35,2,FALSE))))","v":""},{"$f":"IF(O104=\"\",\"\",HLOOKUP(O104,前年度登録!$W$4:$AV$184,99,FALSE))","v":""},"","",null,{"$f":"IF(T104=\"\",\"\",IF(I104=1,VLOOKUP(T104,男子種目コード!$A$19:$B$31,2,FALSE),IF(I104=2,VLOOKUP(T104,女子種目コード!$A$19:$B$31,2,FALSE))))","v":""},null,"","",null,{"$f":"IF(Y104=\"\",\"\",IF(I104=1,VLOOKUP(Y104,男子種目コード!#REF!,2,FALSE),IF(I104=2,VLOOKUP(Y104,女子種目コード!#REF!,2,FALSE))))","v":""},null,null,{"$f":"IF(AB104=\"\",\"\",IF(I104=1,VLOOKUP(AB104,男子種目コード!#REF!,2,FALSE),IF(I104=2,VLOOKUP(AB104,女子種目コード!#REF!,2,FALSE))))","v":""},null,null,{"$f":"IF(AE104=\"\",\"\",IF(E104=1,VLOOKUP(AE104,男子種目コード!#REF!,2,FALSE),IF(E104=2,VLOOKUP(AE104,女子種目コード!#REF!,2,FALSE))))","v":""},null,null,null,"",0,null,null,null,null,null,null,null,null,null,null,null,null,0,"",""]
[0,{"$f":"前年度登録!O103","v":""},null,null,{"$f":"前年度登録!E103","v":0},{"$f":"前年度登録!BD103","v":""},{"$f":"前年度登録!V103","v":""},{"$f":"前年度登録!BD103","v":""},{"$f":"前年度登録!U103","v":""},{"$f":"前年度登録!I103","v":0},{"$f":"前年度登録!K103","v":0},{"$f":"前年度登録!BK103","v":"00"},{"$f":"前年度登録!P103","v":""},{"$f":"前年度登録!$Q$7","v":23},null,{"$f":"IF(O105=\"\",\"\",IF(I105=1,VLOOKUP(O105,男子種目コード!$A$2:$B$35,2,FALSE),IF(I105=2,VLOOKUP(O105,女子種目コード!$A$2:$B$35,2,FALSE))))","v":""},{"$f":"IF(O105=\"\",\"\",HLOOKUP(O105,前年度登録!$W$4:$AV$184,100,FALSE))","v":""},"","",null,{"$f":"IF(T105=\"\",\"\",IF(I105=1,VLOOKUP(T105,男子種目コード!$A$19:$B$31,2,FALSE),IF(I105=2,VLOOKUP(T105,女子種目コード!$A$19:$B$31,2,FALSE))))","v":""},null,"","",null,{"$f":"IF(Y105=\"\",\"\",IF(I105=1,VLOOKUP(Y105,男子種目コード!#REF!,2,FALSE),IF(I105=2,VLOOKUP(Y105,女子種目コード!#REF!,2,FALSE))))","v":""},null,null,{"$f":"IF(AB105=\"\",\"\",IF(I105=1,VLOOKUP(AB105,男子種目コード!#REF!,2,FALSE),IF(I105=2,VLOOKUP(AB105,女子種目コード!#REF!,2,FALSE))))","v":""},null,null,{"$f":"IF(AE105=\"\",\"\",IF(E105=1,VLOOKUP(AE105,男子種目コード!#REF!,2,FALSE),IF(E105=2,VLOOKUP(AE105,女子種目コード!#REF!,2,FALSE))))","v":""},null,null,null,"",0,null,null,null,null,null,null,null,null,null,null,null,null,0,"",""]
[0,{"$f":"前年度登録!O104","v":""},null,null,{"$f":"前年度登録!E104","v":0},{"$f":"前年度登録!BD104","v":""},{"$f":"前年度登録!V104","v":""},{"$f":"前年度登録!BD104","v":""},{"$f":"前年度登録!U104","v":""},{"$f":"前年度登録!I104","v":0},{"$f":"前年度登録!K104","v":0},{"$f":"前年度登録!BK104","v":"00"},{"$f":"前年度登録!P104","v":""},{"$f":"前年度登録!$Q$7","v":23},null,{"$f":"IF(O106=\"\",\"\",IF(I106=1,VLOOKUP(O106,男子種目コード!$A$2:$B$35,2,FALSE),IF(I106=2,VLOOKUP(O106,女子種目コード!$A$2:$B$35,2,FALSE))))","v":""},{"$f":"IF(O106=\"\",\"\",HLOOKUP(O106,前年度登録!$W$4:$AV$184,101,FALSE))","v":""},"","",null,{"$f":"IF(T106=\"\",\"\",IF(I106=1,VLOOKUP(T106,男子種目コード!$A$19:$B$31,2,FALSE),IF(I106=2,VLOOKUP(T106,女子種目コード!$A$19:$B$31,2,FALSE))))","v":""},null,"","",null,{"$f":"IF(Y106=\"\",\"\",IF(I106=1,VLOOKUP(Y106,男子種目コード!#REF!,2,FALSE),IF(I106=2,VLOOKUP(Y106,女子種目コード!#REF!,2,FALSE))))","v":""},null,null,{"$f":"IF(AB106=\"\",\"\",IF(I106=1,VLOOKUP(AB106,男子種目コード!#REF!,2,FALSE),IF(I106=2,VLOOKUP(AB106,女子種目コード!#REF!,2,FALSE))))","v":""},null,null,{"$f":"IF(AE106=\"\",\"\",IF(E106=1,VLOOKUP(AE106,男子種目コード!#REF!,2,FALSE),IF(E106=2,VLOOKUP(AE106,女子種目コード!#REF!,2,FALSE))))","v":""},null,null,null,{"$f":"IF(O106=\"\",\"\",1)","v":""},0,null,null,null,null,null,null,null,null,null,null,null,null,0,"",""]
[0,{"$f":"前年度登録!O105","v":""},null,null,{"$f":"前年度登録!E105","v":0},{"$f":"前年度登録!BD105","v":""},{"$f":"前年度登録!V105","v":""},{"$f":"前年度登録!BD105","v":""},{"$f":"前年度登録!U105","v":""},{"$f":"前年度登録!I105","v":0},{"$f":"前年度登録!K105","v":0},{"$f":"前年度登録!BK105","v":"00"},{"$f":"前年度登録!P105","v":""},{"$f":"前年度登録!$Q$7","v":23},null,{"$f":"IF(O107=\"\",\"\",IF(I107=1,VLOOKUP(O107,男子種目コード!$A$2:$B$35,2,FALSE),IF(I107=2,VLOOKUP(O107,女子種目コード!$A$2:$B$35,2,FALSE))))","v":""},{"$f":"IF(O107=\"\",\"\",HLOOKUP(O107,前年度登録!$W$4:$AV$184,102,FALSE))","v":""},"","",null,{"$f":"IF(T107=\"\",\"\",IF(I107=1,VLOOKUP(T107,男子種目コード!$A$19:$B$31,2,FALSE),IF(I107=2,VLOOKUP(T107,女子種目コード!$A$19:$B$31,2,FALSE))))","v":""},null,"","",null,{"$f":"IF(Y107=\"\",\"\",IF(I107=1,VLOOKUP(Y107,男子種目コード!#REF!,2,FALSE),IF(I107=2,VLOOKUP(Y107,女子種目コード!#REF!,2,FALSE))))","v":""},null,null,{"$f":"IF(AB107=\"\",\"\",IF(I107=1,VLOOKUP(AB107,男子種目コード!#REF!,2,FALSE),IF(I107=2,VLOOKUP(AB107,女子種目コード!#REF!,2,FALSE))))","v":""},null,null,{"$f":"IF(AE107=\"\",\"\",IF(E107=1,VLOOKUP(AE107,男子種目コード!#REF!,2,FALSE),IF(E107=2,VLOOKUP(AE107,女子種目コード!#REF!,2,FALSE))))","v":""},null,null,null,"",0,null,null,null,null,null,null,null,null,null,null,null,null,0,"",""]
[0,{"$f":"前年度登録!O106","v":""},null,null,{"$f":"前年度登録!E106","v":0},{"$f":"前年度登録!BD106","v":""},{"$f":"前年度登録!V106","v":""},{"$f":"前年度登録!BD106","v":""},{"$f":"前年度登録!U106","v":""},{"$f":"前年度登録!I106","v":0},{"$f":"前年度登録!K106","v":0},{"$f":"前年度登録!BK106","v":"00"},{"$f":"前年度登録!P106","v":""},{"$f":"前年度登録!$Q$7","v":23},null,{"$f":"IF(O108=\"\",\"\",IF(I108=1,VLOOKUP(O108,男子種目コード!$A$2:$B$35,2,FALSE),IF(I108=2,VLOOKUP(O108,女子種目コード!$A$2:$B$35,2,FALSE))))","v":""},{"$f":"IF(O108=\"\",\"\",HLOOKUP(O108,前年度登録!$W$4:$AV$184,103,FALSE))","v":""},"","",null,{"$f":"IF(T108=\"\",\"\",IF(I108=1,VLOOKUP(T108,男子種目コード!$A$19:$B$31,2,FALSE),IF(I108=2,VLOOKUP(T108,女子種目コード!$A$19:$B$31,2,FALSE))))","v":""},null,"","",null,{"$f":"IF(Y108=\"\",\"\",IF(I108=1,VLOOKUP(Y108,男子種目コード!#REF!,2,FALSE),IF(I108=2,VLOOKUP(Y108,女子種目コード!#REF!,2,FALSE))))","v":""},null,null,{"$f":"IF(AB108=\"\",\"\",IF(I108=1,VLOOKUP(AB108,男子種目コード!#REF!,2,FALSE),IF(I108=2,VLOOKUP(AB108,女子種目コード!#REF!,2,FALSE))))","v":""},null,null,{"$f":"IF(AE108=\"\",\"\",IF(E108=1,VLOOKUP(AE108,男子種目コード!#REF!,2,FALSE),IF(E108=2,VLOOKUP(AE108,女子種目コード!#REF!,2,FALSE))))","v":""},null,null,null,"",0,null,null,null,null,null,null,null,null,null,null,null,null,0,"",""]
[0,{"$f":"前年度登録!O107","v":""},null,null,{"$f":"前年度登録!E107","v":0},{"$f":"前年度登録!BD107","v":""},{"$f":"前年度登録!V107","v":""},{"$f":"前年度登録!BD107","v":""},{"$f":"前年度登録!U107","v":""},{"$f":"前年度登録!I107","v":0},{"$f":"前年度登録!K107","v":0},{"$f":"前年度登録!BK107","v":"00"},{"$f":"前年度登録!P107","v":""},{"$f":"前年度登録!$Q$7","v":23},null,{"$f":"IF(O109=\"\",\"\",IF(I109=1,VLOOKUP(O109,男子種目コード!$A$2:$B$35,2,FALSE),IF(I109=2,VLOOKUP(O109,女子種目コード!$A$2:$B$35,2,FALSE))))","v":""},{"$f":"IF(O109=\"\",\"\",HLOOKUP(O109,前年度登録!$W$4:$AV$184,104,FALSE))","v":""},"","",null,{"$f":"IF(T109=\"\",\"\",IF(I109=1,VLOOKUP(T109,男子種目コード!$A$19:$B$31,2,FALSE),IF(I109=2,VLOOKUP(T109,女子種目コード!$A$19:$B$31,2,FALSE))))","v":""},null,"","",null,{"$f":"IF(Y109=\"\",\"\",IF(I109=1,VLOOKUP(Y109,男子種目コード!#REF!,2,FALSE),IF(I109=2,VLOOKUP(Y109,女子種目コード!#REF!,2,FALSE))))","v":""},null,null,{"$f":"IF(AB109=\"\",\"\",IF(I109=1,VLOOKUP(AB109,男子種目コード!#REF!,2,FALSE),IF(I109=2,VLOOKUP(AB109,女子種目コード!#REF!,2,FALSE))))","v":""},null,null,{"$f":"IF(AE109=\"\",\"\",IF(E109=1,VLOOKUP(AE109,男子種目コード!#REF!,2,FALSE),IF(E109=2,VLOOKUP(AE109,女子種目コード!#REF!,2,FALSE))))","v":""},null,null,null,"",0,null,null,null,null,null,null,null,null,null,null,null,null,0,"",""]
[0,{"$f":"前年度登録!O108","v":""},null,null,{"$f":"前年度登録!E108","v":0},{"$f":"前年度登録!BD108","v":""},{"$f":"前年度登録!V108","v":""},{"$f":"前年度登録!BD108","v":""},{"$f":"前年度登録!U108","v":""},{"$f":"前年度登録!I108","v":0},{"$f":"前年度登録!K108","v":0},{"$f":"前年度登録!BK108","v":"00"},{"$f":"前年度登録!P108","v":""},{"$f":"前年度登録!$Q$7","v":23},null,{"$f":"IF(O110=\"\",\"\",IF(I110=1,VLOOKUP(O110,男子種目コード!$A$2:$B$35,2,FALSE),IF(I110=2,VLOOKUP(O110,女子種目コード!$A$2:$B$35,2,FALSE))))","v":""},{"$f":"IF(O110=\"\",\"\",HLOOKUP(O110,前年度登録!$W$4:$AV$184,105,FALSE))","v":""},"","",null,{"$f":"IF(T110=\"\",\"\",IF(I110=1,VLOOKUP(T110,男子種目コード!$A$19:$B$31,2,FALSE),IF(I110=2,VLOOKUP(T110,女子種目コード!$A$19:$B$31,2,FALSE))))","v":""},null,"","",null,{"$f":"IF(Y110=\"\",\"\",IF(I110=1,VLOOKUP(Y110,男子種目コード!#REF!,2,FALSE),IF(I110=2,VLOOKUP(Y110,女子種目コード!#REF!,2,FALSE))))","v":""},null,null,{"$f":"IF(AB110=\"\",\"\",IF(I110=1,VLOOKUP(AB110,男子種目コード!#REF!,2,FALSE),IF(I110=2,VLOOKUP(AB110,女子種目コード!#REF!,2,FALSE))))","v":""},null,null,{"$f":"IF(AE110=\"\",\"\",IF(E110=1,VLOOKUP(AE110,男子種目コード!#REF!,2,FALSE),IF(E110=2,VLOOKUP(AE110,女子種目コード!#REF!,2,FALSE))))","v":""},null,null,null,"",0,null,null,null,null,null,null,null,null,null,null,null,null,0,"",""]
[0,{"$f":"前年度登録!O109","v":""},null,null,{"$f":"前年度登録!E109","v":0},{"$f":"前年度登録!BD109","v":""},{"$f":"前年度登録!V109","v":""},{"$f":"前年度登録!BD109","v":""},{"$f":"前年度登録!U109","v":""},{"$f":"前年度登録!I109","v":0},{"$f":"前年度登録!K109","v":0},{"$f":"前年度登録!BK109","v":"00"},{"$f":"前年度登録!P109","v":""},{"$f":"前年度登録!$Q$7","v":23},null,{"$f":"IF(O111=\"\",\"\",IF(I111=1,VLOOKUP(O111,男子種目コード!$A$2:$B$35,2,FALSE),IF(I111=2,VLOOKUP(O111,女子種目コード!$A$2:$B$35,2,FALSE))))","v":""},{"$f":"IF(O111=\"\",\"\",HLOOKUP(O111,前年度登録!$W$4:$AV$184,106,FALSE))","v":""},"","",null,{"$f":"IF(T111=\"\",\"\",IF(I111=1,VLOOKUP(T111,男子種目コード!$A$19:$B$31,2,FALSE),IF(I111=2,VLOOKUP(T111,女子種目コード!$A$19:$B$31,2,FALSE))))","v":""},null,"","",null,{"$f":"IF(Y111=\"\",\"\",IF(I111=1,VLOOKUP(Y111,男子種目コード!#REF!,2,FALSE),IF(I111=2,VLOOKUP(Y111,女子種目コード!#REF!,2,FALSE))))","v":""},null,null,{"$f":"IF(AB111=\"\",\"\",IF(I111=1,VLOOKUP(AB111,男子種目コード!#REF!,2,FALSE),IF(I111=2,VLOOKUP(AB111,女子種目コード!#REF!,2,FALSE))))","v":""},null,null,{"$f":"IF(AE111=\"\",\"\",IF(E111=1,VLOOKUP(AE111,男子種目コード!#REF!,2,FALSE),IF(E111=2,VLOOKUP(AE111,女子種目コード!#REF!,2,FALSE))))","v":""},null,null,null,"",0,null,null,null,null,null,null,null,null,null,null,null,null,0,"",""]
[0,{"$f":"前年度登録!O110","v":""},null,null,{"$f":"前年度登録!E110","v":0},{"$f":"前年度登録!BD110","v":""},{"$f":"前年度登録!V110","v":""},{"$f":"前年度登録!BD110","v":""},{"$f":"前年度登録!U110","v":""},{"$f":"前年度登録!I110","v":0},{"$f":"前年度登録!K110","v":0},{"$f":"前年度登録!BK110","v":"00"},{"$f":"前年度登録!P110","v":""},{"$f":"前年度登録!$Q$7","v":23},null,{"$f":"IF(O112=\"\",\"\",IF(I112=1,VLOOKUP(O112,男子種目コード!$A$2:$B$35,2,FALSE),IF(I112=2,VLOOKUP(O112,女子種目コード!$A$2:$B$35,2,FALSE))))","v":""},{"$f":"IF(O112=\"\",\"\",HLOOKUP(O112,前年度登録!$W$4:$AV$184,107,FALSE))","v":""},"","",null,{"$f":"IF(T112=\"\",\"\",IF(I112=1,VLOOKUP(T112,男子種目コード!$A$19:$B$31,2,FALSE),IF(I112=2,VLOOKUP(T112,女子種目コード!$A$19:$B$31,2,FALSE))))","v":""},null,"","",null,{"$f":"IF(Y112=\"\",\"\",IF(I112=1,VLOOKUP(Y112,男子種目コード!#REF!,2,FALSE),IF(I112=2,VLOOKUP(Y112,女子種目コード!#REF!,2,FALSE))))","v":""},null,null,{"$f":"IF(AB112=\"\",\"\",IF(I112=1,VLOOKUP(AB112,男子種目コード!#REF!,2,FALSE),IF(I112=2,VLOOKUP(AB112,女子種目コード!#REF!,2,FALSE))))","v":""},null,null,{"$f":"IF(AE112=\"\",\"\",IF(E112=1,VLOOKUP(AE112,男子種目コード!#REF!,2,FALSE),IF(E112=2,VLOOKUP(AE112,女子種目コード!#REF!,2,FALSE))))","v":""},null,null,null,"",0,null,null,null,null,null,null,null,null,null,null,null,null,0,"",""]
[0,{"$f":"前年度登録!O111","v":""},null,null,{"$f":"前年度登録!E111","v":0},{"$f":"前年度登録!BD111","v":""},{"$f":"前年度登録!V111","v":""},{"$f":"前年度登録!BD111","v":""},{"$f":"前年度登録!U111","v":""},{"$f":"前年度登録!I111","v":0},{"$f":"前年度登録!K111","v":0},{"$f":"前年度登録!BK111","v":"00"},{"$f":"前年度登録!P111","v":""},{"$f":"前年度登録!$Q$7","v":23},null,{"$f":"IF(O113=\"\",\"\",IF(I113=1,VLOOKUP(O113,男子種目コード!$A$2:$B$35,2,FALSE),IF(I113=2,VLOOKUP(O113,女子種目コード!$A$2:$B$35,2,FALSE))))","v":""},{"$f":"IF(O113=\"\",\"\",HLOOKUP(O113,前年度登録!$W$4:$AV$184,108,FALSE))","v":""},"","",null,{"$f":"IF(T113=\"\",\"\",IF(I113=1,VLOOKUP(T113,男子種目コード!$A$19:$B$31,2,FALSE),IF(I113=2,VLOOKUP(T113,女子種目コード!$A$19:$B$31,2,FALSE))))","v":""},null,"","",null,{"$f":"IF(Y113=\"\",\"\",IF(I113=1,VLOOKUP(Y113,男子種目コード!#REF!,2,FALSE),IF(I113=2,VLOOKUP(Y113,女子種目コード!#REF!,2,FALSE))))","v":""},null,null,{"$f":"IF(AB113=\"\",\"\",IF(I113=1,VLOOKUP(AB113,男子種目コード!#REF!,2,FALSE),IF(I113=2,VLOOKUP(AB113,女子種目コード!#REF!,2,FALSE))))","v":""},null,null,{"$f":"IF(AE113=\"\",\"\",IF(E113=1,VLOOKUP(AE113,男子種目コード!#REF!,2,FALSE),IF(E113=2,VLOOKUP(AE113,女子種目コード!#REF!,2,FALSE))))","v":""},null,null,null,"",0,null,null,null,null,null,null,null,null,null,null,null,null,0,"",""]
[0,{"$f":"前年度登録!O112","v":""},null,null,{"$f":"前年度登録!E112","v":0},{"$f":"前年度登録!BD112","v":""},{"$f":"前年度登録!V112","v":""},{"$f":"前年度登録!BD112","v":""},{"$f":"前年度登録!U112","v":""},{"$f":"前年度登録!I112","v":0},{"$f":"前年度登録!K112","v":0},{"$f":"前年度登録!BK112","v":"00"},{"$f":"前年度登録!P112","v":""},{"$f":"前年度登録!$Q$7","v":23},null,{"$f":"IF(O114=\"\",\"\",IF(I114=1,VLOOKUP(O114,男子種目コード!$A$2:$B$35,2,FALSE),IF(I114=2,VLOOKUP(O114,女子種目コード!$A$2:$B$35,2,FALSE))))","v":""},{"$f":"IF(O114=\"\",\"\",HLOOKUP(O114,前年度登録!$W$4:$AV$184,109,FALSE))","v":""},"","",null,{"$f":"IF(T114=\"\",\"\",IF(I114=1,VLOOKUP(T114,男子種目コード!$A$19:$B$31,2,FALSE),IF(I114=2,VLOOKUP(T114,女子種目コード!$A$19:$B$31,2,FALSE))))","v":""},null,"","",null,{"$f":"IF(Y114=\"\",\"\",IF(I114=1,VLOOKUP(Y114,男子種目コード!#REF!,2,FALSE),IF(I114=2,VLOOKUP(Y114,女子種目コード!#REF!,2,FALSE))))","v":""},null,null,{"$f":"IF(AB114=\"\",\"\",IF(I114=1,VLOOKUP(AB114,男子種目コード!#REF!,2,FALSE),IF(I114=2,VLOOKUP(AB114,女子種目コード!#REF!,2,FALSE))))","v":""},null,null,{"$f":"IF(AE114=\"\",\"\",IF(E114=1,VLOOKUP(AE114,男子種目コード!#REF!,2,FALSE),IF(E114=2,VLOOKUP(AE114,女子種目コード!#REF!,2,FALSE))))","v":""},null,null,null,"",0,null,null,null,null,null,null,null,null,null,null,null,null,0,"",""]
[0,{"$f":"前年度登録!O113","v":""},null,null,{"$f":"前年度登録!E113","v":0},{"$f":"前年度登録!BD113","v":""},{"$f":"前年度登録!V113","v":""},{"$f":"前年度登録!BD113","v":""},{"$f":"前年度登録!U113","v":""},{"$f":"前年度登録!I113","v":0},{"$f":"前年度登録!K113","v":0},{"$f":"前年度登録!BK113","v":"00"},{"$f":"前年度登録!P113","v":""},{"$f":"前年度登録!$Q$7","v":23},null,{"$f":"IF(O115=\"\",\"\",IF(I115=1,VLOOKUP(O115,男子種目コード!$A$2:$B$35,2,FALSE),IF(I115=2,VLOOKUP(O115,女子種目コード!$A$2:$B$35,2,FALSE))))","v":""},{"$f":"IF(O115=\"\",\"\",HLOOKUP(O115,前年度登録!$W$4:$AV$184,110,FALSE))","v":""},"","",null,{"$f":"IF(T115=\"\",\"\",IF(I115=1,VLOOKUP(T115,男子種目コード!$A$19:$B$31,2,FALSE),IF(I115=2,VLOOKUP(T115,女子種目コード!$A$19:$B$31,2,FALSE))))","v":""},null,"","",null,{"$f":"IF(Y115=\"\",\"\",IF(I115=1,VLOOKUP(Y115,男子種目コード!#REF!,2,FALSE),IF(I115=2,VLOOKUP(Y115,女子種目コード!#REF!,2,FALSE))))","v":""},null,null,{"$f":"IF(AB115=\"\",\"\",IF(I115=1,VLOOKUP(AB115,男子種目コード!#REF!,2,FALSE),IF(I115=2,VLOOKUP(AB115,女子種目コード!#REF!,2,FALSE))))","v":""},null,null,{"$f":"IF(AE115=\"\",\"\",IF(E115=1,VLOOKUP(AE115,男子種目コード!#REF!,2,FALSE),IF(E115=2,VLOOKUP(AE115,女子種目コード!#REF!,2,FALSE))))","v":""},null,null,null,"",0,null,null,null,null,null,null,null,null,null,null,null,null,0,"",""]
[0,{"$f":"前年度登録!O114","v":""},null,null,{"$f":"前年度登録!E114","v":0},{"$f":"前年度登録!BD114","v":""},{"$f":"前年度登録!V114","v":""},{"$f":"前年度登録!BD114","v":""},{"$f":"前年度登録!U114","v":""},{"$f":"前年度登録!I114","v":0},{"$f":"前年度登録!K114","v":0},{"$f":"前年度登録!BK114","v":"00"},{"$f":"前年度登録!P114","v":""},{"$f":"前年度登録!$Q$7","v":23},null,{"$f":"IF(O116=\"\",\"\",IF(I116=1,VLOOKUP(O116,男子種目コード!$A$2:$B$35,2,FALSE),IF(I116=2,VLOOKUP(O116,女子種目コード!$A$2:$B$35,2,FALSE))))","v":""},{"$f":"IF(O116=\"\",\"\",HLOOKUP(O116,前年度登録!$W$4:$AV$184,111,FALSE))","v":""},"","",null,{"$f":"IF(T116=\"\",\"\",IF(I116=1,VLOOKUP(T116,男子種目コード!$A$19:$B$31,2,FALSE),IF(I116=2,VLOOKUP(T116,女子種目コード!$A$19:$B$31,2,FALSE))))","v":""},null,"","",null,{"$f":"IF(Y116=\"\",\"\",IF(I116=1,VLOOKUP(Y116,男子種目コード!#REF!,2,FALSE),IF(I116=2,VLOOKUP(Y116,女子種目コード!#REF!,2,FALSE))))","v":""},null,null,{"$f":"IF(AB116=\"\",\"\",IF(I116=1,VLOOKUP(AB116,男子種目コード!#REF!,2,FALSE),IF(I116=2,VLOOKUP(AB116,女子種目コード!#REF!,2,FALSE))))","v":""},null,null,{"$f":"IF(AE116=\"\",\"\",IF(E116=1,VLOOKUP(AE116,男子種目コード!#REF!,2,FALSE),IF(E116=2,VLOOKUP(AE116,女子種目コード!#REF!,2,FALSE))))","v":""},null,null,null,"",0,null,null,null,null,null,null,null,null,null,null,null,null,0,"",""]
[0,{"$f":"前年度登録!O115","v":""},null,null,{"$f":"前年度登録!E115","v":0},{"$f":"前年度登録!BD115","v":""},{"$f":"前年度登録!V115","v":""},{"$f":"前年度登録!BD115","v":""},{"$f":"前年度登録!U115","v":""},{"$f":"前年度登録!I115","v":0},{"$f":"前年度登録!K115","v":0},{"$f":"前年度登録!BK115","v":"00"},{"$f":"前年度登録!P115","v":""},{"$f":"前年度登録!$Q$7","v":23},null,{"$f":"IF(O117=\"\",\"\",IF(I117=1,VLOOKUP(O117,男子種目コード!$A$2:$B$35,2,FALSE),IF(I117=2,VLOOKUP(O117,女子種目コード!$A$2:$B$35,2,FALSE))))","v":""},{"$f":"IF(O117=\"\",\"\",HLOOKUP(O117,前年度登録!$W$4:$AV$184,112,FALSE))","v":""},"","",null,{"$f":"IF(T117=\"\",\"\",IF(I117=1,VLOOKUP(T117,男子種目コード!$A$19:$B$31,2,FALSE),IF(I117=2,VLOOKUP(T117,女子種目コード!$A$19:$B$31,2,FALSE))))","v":""},null,"","",null,{"$f":"IF(Y117=\"\",\"\",IF(I117=1,VLOOKUP(Y117,男子種目コード!#REF!,2,FALSE),IF(I117=2,VLOOKUP(Y117,女子種目コード!#REF!,2,FALSE))))","v":""},null,null,{"$f":"IF(AB117=\"\",\"\",IF(I117=1,VLOOKUP(AB117,男子種目コード!#REF!,2,FALSE),IF(I117=2,VLOOKUP(AB117,女子種目コード!#REF!,2,FALSE))))","v":""},null,null,{"$f":"IF(AE117=\"\",\"\",IF(E117=1,VLOOKUP(AE117,男子種目コード!#REF!,2,FALSE),IF(E117=2,VLOOKUP(AE117,女子種目コード!#REF!,2,FALSE))))","v":""},null,null,null,"",0,null,null,null,null,null,null,null,null,null,null,null,null,0,"",""]
[0,{"$f":"前年度登録!O116","v":""},null,null,{"$f":"前年度登録!E116","v":0},{"$f":"前年度登録!BD116","v":""},{"$f":"前年度登録!V116","v":""},{"$f":"前年度登録!BD116","v":""},{"$f":"前年度登録!U116","v":""},{"$f":"前年度登録!I116","v":0},{"$f":"前年度登録!K116","v":0},{"$f":"前年度登録!BK116","v":"00"},{"$f":"前年度登録!P116","v":""},{"$f":"前年度登録!$Q$7","v":23},null,{"$f":"IF(O118=\"\",\"\",IF(I118=1,VLOOKUP(O118,男子種目コード!$A$2:$B$35,2,FALSE),IF(I118=2,VLOOKUP(O118,女子種目コード!$A$2:$B$35,2,FALSE))))","v":""},{"$f":"IF(O118=\"\",\"\",HLOOKUP(O118,前年度登録!$W$4:$AV$184,113,FALSE))","v":""},"","",null,{"$f":"IF(T118=\"\",\"\",IF(I118=1,VLOOKUP(T118,男子種目コード!$A$19:$B$31,2,FALSE),IF(I118=2,VLOOKUP(T118,女子種目コード!$A$19:$B$31,2,FALSE))))","v":""},null,"","",null,{"$f":"IF(Y118=\"\",\"\",IF(I118=1,VLOOKUP(Y118,男子種目コード!#REF!,2,FALSE),IF(I118=2,VLOOKUP(Y118,女子種目コード!#REF!,2,FALSE))))","v":""},null,null,{"$f":"IF(AB118=\"\",\"\",IF(I118=1,VLOOKUP(AB118,男子種目コード!#REF!,2,FALSE),IF(I118=2,VLOOKUP(AB118,女子種目コード!#REF!,2,FALSE))))","v":""},null,null,{"$f":"IF(AE118=\"\",\"\",IF(E118=1,VLOOKUP(AE118,男子種目コード!#REF!,2,FALSE),IF(E118=2,VLOOKUP(AE118,女子種目コード!#REF!,2,FALSE))))","v":""},null,null,null,"",0,null,null,null,null,null,null,null,null,null,null,null,null,0,"",""]
[0,{"$f":"前年度登録!O117","v":""},null,null,{"$f":"前年度登録!E117","v":0},{"$f":"前年度登録!BD117","v":""},{"$f":"前年度登録!V117","v":""},{"$f":"前年度登録!BD117","v":""},{"$f":"前年度登録!U117","v":""},{"$f":"前年度登録!I117","v":0},{"$f":"前年度登録!K117","v":0},{"$f":"前年度登録!BK117","v":"00"},{"$f":"前年度登録!P117","v":""},{"$f":"前年度登録!$Q$7","v":23},null,{"$f":"IF(O119=\"\",\"\",IF(I119=1,VLOOKUP(O119,男子種目コード!$A$2:$B$35,2,FALSE),IF(I119=2,VLOOKUP(O119,女子種目コード!$A$2:$B$35,2,FALSE))))","v":""},{"$f":"IF(O119=\"\",\"\",HLOOKUP(O119,前年度登録!$W$4:$AV$184,114,FALSE))","v":""},"","",null,{"$f":"IF(T119=\"\",\"\",IF(I119=1,VLOOKUP(T119,男子種目コード!$A$19:$B$31,2,FALSE),IF(I119=2,VLOOKUP(T119,女子種目コード!$A$19:$B$31,2,FALSE))))","v":""},null,"","",null,{"$f":"IF(Y119=\"\",\"\",IF(I119=1,VLOOKUP(Y119,男子種目コード!#REF!,2,FALSE),IF(I119=2,VLOOKUP(Y119,女子種目コード!#REF!,2,FALSE))))","v":""},null,null,{"$f":"IF(AB119=\"\",\"\",IF(I119=1,VLOOKUP(AB119,男子種目コード!#REF!,2,FALSE),IF(I119=2,VLOOKUP(AB119,女子種目コード!#REF!,2,FALSE))))","v":""},null,null,{"$f":"IF(AE119=\"\",\"\",IF(E119=1,VLOOKUP(AE119,男子種目コード!#REF!,2,FALSE),IF(E119=2,VLOOKUP(AE119,女子種目コード!#REF!,2,FALSE))))","v":""},null,null,null,"",0,null,null,null,null,null,null,null,null,null,null,null,null,0,"",""]
[0,{"$f":"前年度登録!O118","v":""},null,null,{"$f":"前年度登録!E118","v":0},{"$f":"前年度登録!BD118","v":""},{"$f":"前年度登録!V118","v":""},{"$f":"前年度登録!BD118","v":""},{"$f":"前年度登録!U118","v":""},{"$f":"前年度登録!I118","v":0},{"$f":"前年度登録!K118","v":0},{"$f":"前年度登録!BK118","v":"00"},{"$f":"前年度登録!P118","v":""},{"$f":"前年度登録!$Q$7","v":23},null,{"$f":"IF(O120=\"\",\"\",IF(I120=1,VLOOKUP(O120,男子種目コード!$A$2:$B$35,2,FALSE),IF(I120=2,VLOOKUP(O120,女子種目コード!$A$2:$B$35,2,FALSE))))","v":""},{"$f":"IF(O120=\"\",\"\",HLOOKUP(O120,前年度登録!$W$4:$AV$184,115,FALSE))","v":""},"","",null,{"$f":"IF(T120=\"\",\"\",IF(I120=1,VLOOKUP(T120,男子種目コード!$A$19:$B$31,2,FALSE),IF(I120=2,VLOOKUP(T120,女子種目コード!$A$19:$B$31,2,FALSE))))","v":""},null,"","",null,{"$f":"IF(Y120=\"\",\"\",IF(I120=1,VLOOKUP(Y120,男子種目コード!#REF!,2,FALSE),IF(I120=2,VLOOKUP(Y120,女子種目コード!#REF!,2,FALSE))))","v":""},null,null,{"$f":"IF(AB120=\"\",\"\",IF(I120=1,VLOOKUP(AB120,男子種目コード!#REF!,2,FALSE),IF(I120=2,VLOOKUP(AB120,女子種目コード!#REF!,2,FALSE))))","v":""},null,null,{"$f":"IF(AE120=\"\",\"\",IF(E120=1,VLOOKUP(AE120,男子種目コード!#REF!,2,FALSE),IF(E120=2,VLOOKUP(AE120,女子種目コード!#REF!,2,FALSE))))","v":""},null,null,null,"",0,null,null,null,null,null,null,null,null,null,null,null,null,0,"",""]
[0,{"$f":"前年度登録!O119","v":""},null,null,{"$f":"前年度登録!E119","v":0},{"$f":"前年度登録!BD119","v":""},{"$f":"前年度登録!V119","v":""},{"$f":"前年度登録!BD119","v":""},{"$f":"前年度登録!U119","v":""},{"$f":"前年度登録!I119","v":0},{"$f":"前年度登録!K119","v":0},{"$f":"前年度登録!BK119","v":"00"},{"$f":"前年度登録!P119","v":""},{"$f":"前年度登録!$Q$7","v":23},null,{"$f":"IF(O121=\"\",\"\",IF(I121=1,VLOOKUP(O121,男子種目コード!$A$2:$B$35,2,FALSE),IF(I121=2,VLOOKUP(O121,女子種目コード!$A$2:$B$35,2,FALSE))))","v":""},{"$f":"IF(O121=\"\",\"\",HLOOKUP(O121,前年度登録!$W$4:$AV$184,116,FALSE))","v":""},"","",null,{"$f":"IF(T121=\"\",\"\",IF(I121=1,VLOOKUP(T121,男子種目コード!$A$19:$B$31,2,FALSE),IF(I121=2,VLOOKUP(T121,女子種目コード!$A$19:$B$31,2,FALSE))))","v":""},null,"","",null,{"$f":"IF(Y121=\"\",\"\",IF(I121=1,VLOOKUP(Y121,男子種目コード!#REF!,2,FALSE),IF(I121=2,VLOOKUP(Y121,女子種目コード!#REF!,2,FALSE))))","v":""},null,null,{"$f":"IF(AB121=\"\",\"\",IF(I121=1,VLOOKUP(AB121,男子種目コード!#REF!,2,FALSE),IF(I121=2,VLOOKUP(AB121,女子種目コード!#REF!,2,FALSE))))","v":""},null,null,{"$f":"IF(AE121=\"\",\"\",IF(E121=1,VLOOKUP(AE121,男子種目コード!#REF!,2,FALSE),IF(E121=2,VLOOKUP(AE121,女子種目コード!#REF!,2,FALSE))))","v":""},null,null,null,"",0,null,null,null,null,null,null,null,null,null,null,null,null,0,"",""]
[0,{"$f":"前年度登録!O120","v":""},null,null,{"$f":"前年度登録!E120","v":0},{"$f":"前年度登録!BD120","v":""},{"$f":"前年度登録!V120","v":""},{"$f":"前年度登録!BD120","v":""},{"$f":"前年度登録!U120","v":""},{"$f":"前年度登録!I120","v":0},{"$f":"前年度登録!K120","v":0},{"$f":"前年度登録!BK120","v":"00"},{"$f":"前年度登録!P120","v":""},{"$f":"前年度登録!$Q$7","v":23},null,{"$f":"IF(O122=\"\",\"\",IF(I122=1,VLOOKUP(O122,男子種目コード!$A$2:$B$35,2,FALSE),IF(I122=2,VLOOKUP(O122,女子種目コード!$A$2:$B$35,2,FALSE))))","v":""},{"$f":"IF(O122=\"\",\"\",HLOOKUP(O122,前年度登録!$W$4:$AV$184,117,FALSE))","v":""},"","",null,{"$f":"IF(T122=\"\",\"\",IF(I122=1,VLOOKUP(T122,男子種目コード!$A$19:$B$31,2,FALSE),IF(I122=2,VLOOKUP(T122,女子種目コード!$A$19:$B$31,2,FALSE))))","v":""},null,"","",null,{"$f":"IF(Y122=\"\",\"\",IF(I122=1,VLOOKUP(Y122,男子種目コード!#REF!,2,FALSE),IF(I122=2,VLOOKUP(Y122,女子種目コード!#REF!,2,FALSE))))","v":""},null,null,{"$f":"IF(AB122=\"\",\"\",IF(I122=1,VLOOKUP(AB122,男子種目コード!#REF!,2,FALSE),IF(I122=2,VLOOKUP(AB122,女子種目コード!#REF!,2,FALSE))))","v":""},null,null,{"$f":"IF(AE122=\"\",\"\",IF(E122=1,VLOOKUP(AE122,男子種目コード!#REF!,2,FALSE),IF(E122=2,VLOOKUP(AE122,女子種目コード!#REF!,2,FALSE))))","v":""},null,null,null,"",0,null,null,null,null,null,null,null,null,null,null,null,null,0,"",""]
[0,{"$f":"前年度登録!O121","v":""},null,null,{"$f":"前年度登録!E121","v":0},{"$f":"前年度登録!BD121","v":""},{"$f":"前年度登録!V121","v":""},{"$f":"前年度登録!BD121","v":""},{"$f":"前年度登録!U121","v":""},{"$f":"前年度登録!I121","v":0},{"$f":"前年度登録!K121","v":0},{"$f":"前年度登録!BK121","v":"00"},{"$f":"前年度登録!P121","v":""},{"$f":"前年度登録!$Q$7","v":23},null,{"$f":"IF(O123=\"\",\"\",IF(I123=1,VLOOKUP(O123,男子種目コード!$A$2:$B$35,2,FALSE),IF(I123=2,VLOOKUP(O123,女子種目コード!$A$2:$B$35,2,FALSE))))","v":""},{"$f":"IF(O123=\"\",\"\",HLOOKUP(O123,前年度登録!$W$4:$AV$184,118,FALSE))","v":""},"","",null,{"$f":"IF(T123=\"\",\"\",IF(I123=1,VLOOKUP(T123,男子種目コード!$A$19:$B$31,2,FALSE),IF(I123=2,VLOOKUP(T123,女子種目コード!$A$19:$B$31,2,FALSE))))","v":""},null,"","",null,{"$f":"IF(Y123=\"\",\"\",IF(I123=1,VLOOKUP(Y123,男子種目コード!#REF!,2,FALSE),IF(I123=2,VLOOKUP(Y123,女子種目コード!#REF!,2,FALSE))))","v":""},null,null,{"$f":"IF(AB123=\"\",\"\",IF(I123=1,VLOOKUP(AB123,男子種目コード!#REF!,2,FALSE),IF(I123=2,VLOOKUP(AB123,女子種目コード!#REF!,2,FALSE))))","v":""},null,null,{"$f":"IF(AE123=\"\",\"\",IF(E123=1,VLOOKUP(AE123,男子種目コード!#REF!,2,FALSE),IF(E123=2,VLOOKUP(AE123,女子種目コード!#REF!,2,FALSE))))","v":""},null,null,null,"",0,null,null,null,null,null,null,null,null,null,null,null,null,0,"",""]
[0,{"$f":"前年度登録!O122","v":""},null,null,{"$f":"前年度登録!E122","v":0},{"$f":"前年度登録!BD122","v":""},{"$f":"前年度登録!V122","v":""},{"$f":"前年度登録!BD122","v":""},{"$f":"前年度登録!U122","v":""},{"$f":"前年度登録!I122","v":0},{"$f":"前年度登録!K122","v":0},{"$f":"前年度登録!BK122","v":"00"},{"$f":"前年度登録!P122","v":""},{"$f":"前年度登録!$Q$7","v":23},null,{"$f":"IF(O124=\"\",\"\",IF(I124=1,VLOOKUP(O124,男子種目コード!$A$2:$B$35,2,FALSE),IF(I124=2,VLOOKUP(O124,女子種目コード!$A$2:$B$35,2,FALSE))))","v":""},{"$f":"IF(O124=\"\",\"\",HLOOKUP(O124,前年度登録!$W$4:$AV$184,119,FALSE))","v":""},"","",null,{"$f":"IF(T124=\"\",\"\",IF(I124=1,VLOOKUP(T124,男子種目コード!$A$19:$B$31,2,FALSE),IF(I124=2,VLOOKUP(T124,女子種目コード!$A$19:$B$31,2,FALSE))))","v":""},null,"","",null,{"$f":"IF(Y124=\"\",\"\",IF(I124=1,VLOOKUP(Y124,男子種目コード!#REF!,2,FALSE),IF(I124=2,VLOOKUP(Y124,女子種目コード!#REF!,2,FALSE))))","v":""},null,null,{"$f":"IF(AB124=\"\",\"\",IF(I124=1,VLOOKUP(AB124,男子種目コード!#REF!,2,FALSE),IF(I124=2,VLOOKUP(AB124,女子種目コード!#REF!,2,FALSE))))","v":""},null,null,{"$f":"IF(AE124=\"\",\"\",IF(E124=1,VLOOKUP(AE124,男子種目コード!#REF!,2,FALSE),IF(E124=2,VLOOKUP(AE124,女子種目コード!#REF!,2,FALSE))))","v":""},null,null,null,"",0,null,null,null,null,null,null,null,null,null,null,null,null,0,"",""]
[0,{"$f":"前年度登録!O123","v":""},null,null,{"$f":"前年度登録!E123","v":0},{"$f":"前年度登録!BD123","v":""},{"$f":"前年度登録!V123","v":""},{"$f":"前年度登録!BD123","v":""},{"$f":"前年度登録!U123","v":""},{"$f":"前年度登録!I123","v":0},{"$f":"前年度登録!K123","v":0},{"$f":"前年度登録!BK123","v":"00"},{"$f":"前年度登録!P123","v":""},{"$f":"前年度登録!$Q$7","v":23},null,{"$f":"IF(O125=\"\",\"\",IF(I125=1,VLOOKUP(O125,男子種目コード!$A$2:$B$35,2,FALSE),IF(I125=2,VLOOKUP(O125,女子種目コード!$A$2:$B$35,2,FALSE))))","v":""},{"$f":"IF(O125=\"\",\"\",HLOOKUP(O125,前年度登録!$W$4:$AV$184,120,FALSE))","v":""},"","",null,{"$f":"IF(T125=\"\",\"\",IF(I125=1,VLOOKUP(T125,男子種目コード!$A$19:$B$31,2,FALSE),IF(I125=2,VLOOKUP(T125,女子種目コード!$A$19:$B$31,2,FALSE))))","v":""},null,"","",null,{"$f":"IF(Y125=\"\",\"\",IF(I125=1,VLOOKUP(Y125,男子種目コード!#REF!,2,FALSE),IF(I125=2,VLOOKUP(Y125,女子種目コード!#REF!,2,FALSE))))","v":""},null,null,{"$f":"IF(AB125=\"\",\"\",IF(I125=1,VLOOKUP(AB125,男子種目コード!#REF!,2,FALSE),IF(I125=2,VLOOKUP(AB125,女子種目コード!#REF!,2,FALSE))))","v":""},null,null,{"$f":"IF(AE125=\"\",\"\",IF(E125=1,VLOOKUP(AE125,男子種目コード!#REF!,2,FALSE),IF(E125=2,VLOOKUP(AE125,女子種目コード!#REF!,2,FALSE))))","v":""},null,null,null,"",0,null,null,null,null,null,null,null,null,null,null,null,null,0,"",""]
[0,{"$f":"前年度登録!O124","v":""},null,null,{"$f":"前年度登録!E124","v":0},{"$f":"前年度登録!BD124","v":""},{"$f":"前年度登録!V124","v":""},{"$f":"前年度登録!BD124","v":""},{"$f":"前年度登録!U124","v":""},{"$f":"前年度登録!I124","v":0},{"$f":"前年度登録!K124","v":0},{"$f":"前年度登録!BK124","v":"00"},{"$f":"前年度登録!P124","v":""},{"$f":"前年度登録!$Q$7","v":23},null,{"$f":"IF(O126=\"\",\"\",IF(I126=1,VLOOKUP(O126,男子種目コード!$A$2:$B$35,2,FALSE),IF(I126=2,VLOOKUP(O126,女子種目コード!$A$2:$B$35,2,FALSE))))","v":""},{"$f":"IF(O126=\"\",\"\",HLOOKUP(O126,前年度登録!$W$4:$AV$184,121,FALSE))","v":""},"","",null,{"$f":"IF(T126=\"\",\"\",IF(I126=1,VLOOKUP(T126,男子種目コード!$A$19:$B$31,2,FALSE),IF(I126=2,VLOOKUP(T126,女子種目コード!$A$19:$B$31,2,FALSE))))","v":""},null,"","",null,{"$f":"IF(Y126=\"\",\"\",IF(I126=1,VLOOKUP(Y126,男子種目コード!#REF!,2,FALSE),IF(I126=2,VLOOKUP(Y126,女子種目コード!#REF!,2,FALSE))))","v":""},null,null,{"$f":"IF(AB126=\"\",\"\",IF(I126=1,VLOOKUP(AB126,男子種目コード!#REF!,2,FALSE),IF(I126=2,VLOOKUP(AB126,女子種目コード!#REF!,2,FALSE))))","v":""},null,null,{"$f":"IF(AE126=\"\",\"\",IF(E126=1,VLOOKUP(AE126,男子種目コード!#REF!,2,FALSE),IF(E126=2,VLOOKUP(AE126,女子種目コード!#REF!,2,FALSE))))","v":""},null,null,null,"",0,null,null,null,null,null,null,null,null,null,null,null,null,0,"",""]
[0,{"$f":"前年度登録!O125","v":""},null,null,{"$f":"前年度登録!E125","v":0},{"$f":"前年度登録!BD125","v":""},{"$f":"前年度登録!V125","v":""},{"$f":"前年度登録!BD125","v":""},{"$f":"前年度登録!U125","v":""},{"$f":"前年度登録!I125","v":0},{"$f":"前年度登録!K125","v":0},{"$f":"前年度登録!BK125","v":"00"},{"$f":"前年度登録!P125","v":""},{"$f":"前年度登録!$Q$7","v":23},null,{"$f":"IF(O127=\"\",\"\",IF(I127=1,VLOOKUP(O127,男子種目コード!$A$2:$B$35,2,FALSE),IF(I127=2,VLOOKUP(O127,女子種目コード!$A$2:$B$35,2,FALSE))))","v":""},{"$f":"IF(O127=\"\",\"\",HLOOKUP(O127,前年度登録!$W$4:$AV$184,122,FALSE))","v":""},"","",null,{"$f":"IF(T127=\"\",\"\",IF(I127=1,VLOOKUP(T127,男子種目コード!$A$19:$B$31,2,FALSE),IF(I127=2,VLOOKUP(T127,女子種目コード!$A$19:$B$31,2,FALSE))))","v":""},null,"","",null,{"$f":"IF(Y127=\"\",\"\",IF(I127=1,VLOOKUP(Y127,男子種目コード!#REF!,2,FALSE),IF(I127=2,VLOOKUP(Y127,女子種目コード!#REF!,2,FALSE))))","v":""},null,null,{"$f":"IF(AB127=\"\",\"\",IF(I127=1,VLOOKUP(AB127,男子種目コード!#REF!,2,FALSE),IF(I127=2,VLOOKUP(AB127,女子種目コード!#REF!,2,FALSE))))","v":""},null,null,{"$f":"IF(AE127=\"\",\"\",IF(E127=1,VLOOKUP(AE127,男子種目コード!#REF!,2,FALSE),IF(E127=2,VLOOKUP(AE127,女子種目コード!#REF!,2,FALSE))))","v":""},null,null,null,"",0,null,null,null,null,null,null,null,null,null,null,null,null,0,"",""]
[0,{"$f":"前年度登録!O126","v":""},null,null,{"$f":"前年度登録!E126","v":0},{"$f":"前年度登録!BD126","v":""},{"$f":"前年度登録!V126","v":""},{"$f":"前年度登録!BD126","v":""},{"$f":"前年度登録!U126","v":""},{"$f":"前年度登録!I126","v":0},{"$f":"前年度登録!K126","v":0},{"$f":"前年度登録!BK126","v":"00"},{"$f":"前年度登録!P126","v":""},{"$f":"前年度登録!$Q$7","v":23},null,{"$f":"IF(O128=\"\",\"\",IF(I128=1,VLOOKUP(O128,男子種目コード!$A$2:$B$35,2,FALSE),IF(I128=2,VLOOKUP(O128,女子種目コード!$A$2:$B$35,2,FALSE))))","v":""},{"$f":"IF(O128=\"\",\"\",HLOOKUP(O128,前年度登録!$W$4:$AV$184,123,FALSE))","v":""},"","",null,{"$f":"IF(T128=\"\",\"\",IF(I128=1,VLOOKUP(T128,男子種目コード!$A$19:$B$31,2,FALSE),IF(I128=2,VLOOKUP(T128,女子種目コード!$A$19:$B$31,2,FALSE))))","v":""},null,"","",null,{"$f":"IF(Y128=\"\",\"\",IF(I128=1,VLOOKUP(Y128,男子種目コード!#REF!,2,FALSE),IF(I128=2,VLOOKUP(Y128,女子種目コード!#REF!,2,FALSE))))","v":""},null,null,{"$f":"IF(AB128=\"\",\"\",IF(I128=1,VLOOKUP(AB128,男子種目コード!#REF!,2,FALSE),IF(I128=2,VLOOKUP(AB128,女子種目コード!#REF!,2,FALSE))))","v":""},null,null,{"$f":"IF(AE128=\"\",\"\",IF(E128=1,VLOOKUP(AE128,男子種目コード!#REF!,2,FALSE),IF(E128=2,VLOOKUP(AE128,女子種目コード!#REF!,2,FALSE))))","v":""},null,null,null,"",0,null,null,null,null,null,null,null,null,null,null,null,null,0,"",""]
[0,{"$f":"前年度登録!O127","v":""},null,null,{"$f":"前年度登録!E127","v":0},{"$f":"前年度登録!BD127","v":""},{"$f":"前年度登録!V127","v":""},{"$f":"前年度登録!BD127","v":""},{"$f":"前年度登録!U127","v":""},{"$f":"前年度登録!I127","v":0},{"$f":"前年度登録!K127","v":0},{"$f":"前年度登録!BK127","v":"00"},{"$f":"前年度登録!P127","v":""},{"$f":"前年度登録!$Q$7","v":23},null,{"$f":"IF(O129=\"\",\"\",IF(I129=1,VLOOKUP(O129,男子種目コード!$A$2:$B$35,2,FALSE),IF(I129=2,VLOOKUP(O129,女子種目コード!$A$2:$B$35,2,FALSE))))","v":""},{"$f":"IF(O129=\"\",\"\",HLOOKUP(O129,前年度登録!$W$4:$AV$184,124,FALSE))","v":""},"","",null,{"$f":"IF(T129=\"\",\"\",IF(I129=1,VLOOKUP(T129,男子種目コード!$A$19:$B$31,2,FALSE),IF(I129=2,VLOOKUP(T129,女子種目コード!$A$19:$B$31,2,FALSE))))","v":""},null,"","",null,{"$f":"IF(Y129=\"\",\"\",IF(I129=1,VLOOKUP(Y129,男子種目コード!#REF!,2,FALSE),IF(I129=2,VLOOKUP(Y129,女子種目コード!#REF!,2,FALSE))))","v":""},null,null,{"$f":"IF(AB129=\"\",\"\",IF(I129=1,VLOOKUP(AB129,男子種目コード!#REF!,2,FALSE),IF(I129=2,VLOOKUP(AB129,女子種目コード!#REF!,2,FALSE))))","v":""},null,null,{"$f":"IF(AE129=\"\",\"\",IF(E129=1,VLOOKUP(AE129,男子種目コード!#REF!,2,FALSE),IF(E129=2,VLOOKUP(AE129,女子種目コード!#REF!,2,FALSE))))","v":""},null,null,null,"",0,null,null,null,null,null,null,null,null,null,null,null,null,0,"",""]
[0,{"$f":"前年度登録!O128","v":""},null,null,{"$f":"前年度登録!E128","v":0},{"$f":"前年度登録!BD128","v":""},{"$f":"前年度登録!V128","v":""},{"$f":"前年度登録!BD128","v":""},{"$f":"前年度登録!U128","v":""},{"$f":"前年度登録!I128","v":0},{"$f":"前年度登録!K128","v":0},{"$f":"前年度登録!BK128","v":"00"},{"$f":"前年度登録!P128","v":""},{"$f":"前年度登録!$Q$7","v":23},null,{"$f":"IF(O130=\"\",\"\",IF(I130=1,VLOOKUP(O130,男子種目コード!$A$2:$B$35,2,FALSE),IF(I130=2,VLOOKUP(O130,女子種目コード!$A$2:$B$35,2,FALSE))))","v":""},{"$f":"IF(O130=\"\",\"\",HLOOKUP(O130,前年度登録!$W$4:$AV$184,125,FALSE))","v":""},"","",null,{"$f":"IF(T130=\"\",\"\",IF(I130=1,VLOOKUP(T130,男子種目コード!$A$19:$B$31,2,FALSE),IF(I130=2,VLOOKUP(T130,女子種目コード!$A$19:$B$31,2,FALSE))))","v":""},null,"","",null,{"$f":"IF(Y130=\"\",\"\",IF(I130=1,VLOOKUP(Y130,男子種目コード!#REF!,2,FALSE),IF(I130=2,VLOOKUP(Y130,女子種目コード!#REF!,2,FALSE))))","v":""},null,null,{"$f":"IF(AB130=\"\",\"\",IF(I130=1,VLOOKUP(AB130,男子種目コード!#REF!,2,FALSE),IF(I130=2,VLOOKUP(AB130,女子種目コード!#REF!,2,FALSE))))","v":""},null,null,{"$f":"IF(AE130=\"\",\"\",IF(E130=1,VLOOKUP(AE130,男子種目コード!#REF!,2,FALSE),IF(E130=2,VLOOKUP(AE130,女子種目コード!#REF!,2,FALSE))))","v":""},null,null,null,"",0,null,null,null,null,null,null,null,null,null,null,null,null,0,"",""]
[0,{"$f":"前年度登録!O129","v":""},null,null,{"$f":"前年度登録!E129","v":0},{"$f":"前年度登録!BD129","v":""},{"$f":"前年度登録!V129","v":""},{"$f":"前年度登録!BD129","v":""},{"$f":"前年度登録!U129","v":""},{"$f":"前年度登録!I129","v":0},{"$f":"前年度登録!K129","v":0},{"$f":"前年度登録!BK129","v":"00"},{"$f":"前年度登録!P129","v":""},{"$f":"前年度登録!$Q$7","v":23},null,{"$f":"IF(O131=\"\",\"\",IF(I131=1,VLOOKUP(O131,男子種目コード!$A$2:$B$35,2,FALSE),IF(I131=2,VLOOKUP(O131,女子種目コード!$A$2:$B$35,2,FALSE))))","v":""},{"$f":"IF(O131=\"\",\"\",HLOOKUP(O131,前年度登録!$W$4:$AV$184,126,FALSE))","v":""},"","",null,{"$f":"IF(T131=\"\",\"\",IF(I131=1,VLOOKUP(T131,男子種目コード!$A$19:$B$31,2,FALSE),IF(I131=2,VLOOKUP(T131,女子種目コード!$A$19:$B$31,2,FALSE))))","v":""},null,"","",null,{"$f":"IF(Y131=\"\",\"\",IF(I131=1,VLOOKUP(Y131,男子種目コード!#REF!,2,FALSE),IF(I131=2,VLOOKUP(Y131,女子種目コード!#REF!,2,FALSE))))","v":""},null,null,{"$f":"IF(AB131=\"\",\"\",IF(I131=1,VLOOKUP(AB131,男子種目コード!#REF!,2,FALSE),IF(I131=2,VLOOKUP(AB131,女子種目コード!#REF!,2,FALSE))))","v":""},null,null,{"$f":"IF(AE131=\"\",\"\",IF(E131=1,VLOOKUP(AE131,男子種目コード!#REF!,2,FALSE),IF(E131=2,VLOOKUP(AE131,女子種目コード!#REF!,2,FALSE))))","v":""},null,null,null,"",0,null,null,null,null,null,null,null,null,null,null,null,null,0,"",""]
[0,{"$f":"前年度登録!O130","v":""},null,null,{"$f":"前年度登録!E130","v":0},{"$f":"前年度登録!BD130","v":""},{"$f":"前年度登録!V130","v":""},{"$f":"前年度登録!BD130","v":""},{"$f":"前年度登録!U130","v":""},{"$f":"前年度登録!I130","v":0},{"$f":"前年度登録!K130","v":0},{"$f":"前年度登録!BK130","v":"00"},{"$f":"前年度登録!P130","v":""},{"$f":"前年度登録!$Q$7","v":23},null,{"$f":"IF(O132=\"\",\"\",IF(I132=1,VLOOKUP(O132,男子種目コード!$A$2:$B$35,2,FALSE),IF(I132=2,VLOOKUP(O132,女子種目コード!$A$2:$B$35,2,FALSE))))","v":""},{"$f":"IF(O132=\"\",\"\",HLOOKUP(O132,前年度登録!$W$4:$AV$184,127,FALSE))","v":""},"","",null,{"$f":"IF(T132=\"\",\"\",IF(I132=1,VLOOKUP(T132,男子種目コード!$A$19:$B$31,2,FALSE),IF(I132=2,VLOOKUP(T132,女子種目コード!$A$19:$B$31,2,FALSE))))","v":""},null,"","",null,{"$f":"IF(Y132=\"\",\"\",IF(I132=1,VLOOKUP(Y132,男子種目コード!#REF!,2,FALSE),IF(I132=2,VLOOKUP(Y132,女子種目コード!#REF!,2,FALSE))))","v":""},null,null,{"$f":"IF(AB132=\"\",\"\",IF(I132=1,VLOOKUP(AB132,男子種目コード!#REF!,2,FALSE),IF(I132=2,VLOOKUP(AB132,女子種目コード!#REF!,2,FALSE))))","v":""},null,null,{"$f":"IF(AE132=\"\",\"\",IF(E132=1,VLOOKUP(AE132,男子種目コード!#REF!,2,FALSE),IF(E132=2,VLOOKUP(AE132,女子種目コード!#REF!,2,FALSE))))","v":""},null,null,null,"",0,null,null,null,null,null,null,null,null,null,null,null,null,0,"",""]
[0,{"$f":"前年度登録!O131","v":""},null,null,{"$f":"前年度登録!E131","v":0},{"$f":"前年度登録!BD131","v":""},{"$f":"前年度登録!V131","v":""},{"$f":"前年度登録!BD131","v":""},{"$f":"前年度登録!U131","v":""},{"$f":"前年度登録!I131","v":0},{"$f":"前年度登録!K131","v":0},{"$f":"前年度登録!BK131","v":"00"},{"$f":"前年度登録!P131","v":""},{"$f":"前年度登録!$Q$7","v":23},null,{"$f":"IF(O133=\"\",\"\",IF(I133=1,VLOOKUP(O133,男子種目コード!$A$2:$B$35,2,FALSE),IF(I133=2,VLOOKUP(O133,女子種目コード!$A$2:$B$35,2,FALSE))))","v":""},{"$f":"IF(O133=\"\",\"\",HLOOKUP(O133,前年度登録!$W$4:$AV$184,128,FALSE))","v":""},"","",null,{"$f":"IF(T133=\"\",\"\",IF(I133=1,VLOOKUP(T133,男子種目コード!$A$19:$B$31,2,FALSE),IF(I133=2,VLOOKUP(T133,女子種目コード!$A$19:$B$31,2,FALSE))))","v":""},null,"","",null,{"$f":"IF(Y133=\"\",\"\",IF(I133=1,VLOOKUP(Y133,男子種目コード!#REF!,2,FALSE),IF(I133=2,VLOOKUP(Y133,女子種目コード!#REF!,2,FALSE))))","v":""},null,null,{"$f":"IF(AB133=\"\",\"\",IF(I133=1,VLOOKUP(AB133,男子種目コード!#REF!,2,FALSE),IF(I133=2,VLOOKUP(AB133,女子種目コード!#REF!,2,FALSE))))","v":""},null,null,{"$f":"IF(AE133=\"\",\"\",IF(E133=1,VLOOKUP(AE133,男子種目コード!#REF!,2,FALSE),IF(E133=2,VLOOKUP(AE133,女子種目コード!#REF!,2,FALSE))))","v":""},null,null,null,"",0,null,null,null,null,null,null,null,null,null,null,null,null,0,"",""]
[0,{"$f":"前年度登録!O132","v":""},null,null,{"$f":"前年度登録!E132","v":0},{"$f":"前年度登録!BD132","v":""},{"$f":"前年度登録!V132","v":""},{"$f":"前年度登録!BD132","v":""},{"$f":"前年度登録!U132","v":""},{"$f":"前年度登録!I132","v":0},{"$f":"前年度登録!K132","v":0},{"$f":"前年度登録!BK132","v":"00"},{"$f":"前年度登録!P132","v":""},{"$f":"前年度登録!$Q$7","v":23},null,{"$f":"IF(O134=\"\",\"\",IF(I134=1,VLOOKUP(O134,男子種目コード!$A$2:$B$35,2,FALSE),IF(I134=2,VLOOKUP(O134,女子種目コード!$A$2:$B$35,2,FALSE))))","v":""},{"$f":"IF(O134=\"\",\"\",HLOOKUP(O134,前年度登録!$W$4:$AV$184,129,FALSE))","v":""},"","",null,{"$f":"IF(T134=\"\",\"\",IF(I134=1,VLOOKUP(T134,男子種目コード!$A$19:$B$31,2,FALSE),IF(I134=2,VLOOKUP(T134,女子種目コード!$A$19:$B$31,2,FALSE))))","v":""},null,"","",null,{"$f":"IF(Y134=\"\",\"\",IF(I134=1,VLOOKUP(Y134,男子種目コード!#REF!,2,FALSE),IF(I134=2,VLOOKUP(Y134,女子種目コード!#REF!,2,FALSE))))","v":""},null,null,{"$f":"IF(AB134=\"\",\"\",IF(I134=1,VLOOKUP(AB134,男子種目コード!#REF!,2,FALSE),IF(I134=2,VLOOKUP(AB134,女子種目コード!#REF!,2,FALSE))))","v":""},null,null,{"$f":"IF(AE134=\"\",\"\",IF(E134=1,VLOOKUP(AE134,男子種目コード!#REF!,2,FALSE),IF(E134=2,VLOOKUP(AE134,女子種目コード!#REF!,2,FALSE))))","v":""},null,null,null,"",0,null,null,null,null,null,null,null,null,null,null,null,null,0,"",""]
[0,{"$f":"前年度登録!O133","v":""},null,null,{"$f":"前年度登録!E133","v":0},{"$f":"前年度登録!BD133","v":""},{"$f":"前年度登録!V133","v":""},{"$f":"前年度登録!BD133","v":""},{"$f":"前年度登録!U133","v":""},{"$f":"前年度登録!I133","v":0},{"$f":"前年度登録!K133","v":0},{"$f":"前年度登録!BK133","v":"00"},{"$f":"前年度登録!P133","v":""},{"$f":"前年度登録!$Q$7","v":23},null,{"$f":"IF(O135=\"\",\"\",IF(I135=1,VLOOKUP(O135,男子種目コード!$A$2:$B$35,2,FALSE),IF(I135=2,VLOOKUP(O135,女子種目コード!$A$2:$B$35,2,FALSE))))","v":""},{"$f":"IF(O135=\"\",\"\",HLOOKUP(O135,前年度登録!$W$4:$AV$184,130,FALSE))","v":""},"","",null,{"$f":"IF(T135=\"\",\"\",IF(I135=1,VLOOKUP(T135,男子種目コード!$A$19:$B$31,2,FALSE),IF(I135=2,VLOOKUP(T135,女子種目コード!$A$19:$B$31,2,FALSE))))","v":""},null,"","",null,{"$f":"IF(Y135=\"\",\"\",IF(I135=1,VLOOKUP(Y135,男子種目コード!#REF!,2,FALSE),IF(I135=2,VLOOKUP(Y135,女子種目コード!#REF!,2,FALSE))))","v":""},null,null,{"$f":"IF(AB135=\"\",\"\",IF(I135=1,VLOOKUP(AB135,男子種目コード!#REF!,2,FALSE),IF(I135=2,VLOOKUP(AB135,女子種目コード!#REF!,2,FALSE))))","v":""},null,null,{"$f":"IF(AE135=\"\",\"\",IF(E135=1,VLOOKUP(AE135,男子種目コード!#REF!,2,FALSE),IF(E135=2,VLOOKUP(AE135,女子種目コード!#REF!,2,FALSE))))","v":""},null,null,null,"",{"$f":"IF(OR(AJ135=1,T135=\"\"),0,1)","v":0},null,null,null,null,null,null,null,null,null,null,null,null,{"$f":"COUNT(P135,U135)","v":0},{"$f":"IF(I135=1,AX135,\"\")","v":""},{"$f":"IF(I135=2,AX135,\"\")","v":""}]
[{"$f":"T136","v":0},{"$f":"前年度登録!O134","v":""},null,null,{"$f":"前年度登録!E134","v":0},{"$f":"前年度登録!BD134","v":""},{"$f":"前年度登録!V134","v":""},{"$f":"前年度登録!BD134","v":""},{"$f":"前年度登録!U134","v":""},{"$f":"前年度登録!I134","v":0},{"$f":"前年度登録!K134","v":0},{"$f":"前年度登録!BK134","v":"00"},{"$f":"前年度登録!P134","v":""},{"$f":"前年度登録!$Q$7","v":23},null,{"$f":"IF(O136=\"\",\"\",IF(I136=1,VLOOKUP(O136,男子種目コード!$A$2:$B$35,2,FALSE),IF(I136=2,VLOOKUP(O136,女子種目コード!$A$2:$B$35,2,FALSE))))","v":""},{"$f":"IF(O136=\"\",\"\",HLOOKUP(O136,前年度登録!$W$4:$AV$184,131,FALSE))","v":""},{"$f":"IF(O136=\"\",\"\",0)","v":""},{"$f":"IF(O136=\"\",\"\",2)","v":""},null,{"$f":"IF(T136=\"\",\"\",IF(I136=1,VLOOKUP(T136,男子種目コード!$A$19:$B$31,2,FALSE),IF(I136=2,VLOOKUP(T136,女子種目コード!$A$19:$B$31,2,FALSE))))","v":""},null,{"$f":"IF(T136=\"\",\"\",0)","v":""},{"$f":"IF(T136=\"\",\"\",2)","v":""},null,{"$f":"IF(Y136=\"\",\"\",IF(I136=1,VLOOKUP(Y136,男子種目コード!#REF!,2,FALSE),IF(I136=2,VLOOKUP(Y136,女子種目コード!#REF!,2,FALSE))))","v":""},null,null,{"$f":"IF(AB136=\"\",\"\",IF(I136=1,VLOOKUP(AB136,男子種目コード!#REF!,2,FALSE),IF(I136=2,VLOOKUP(AB136,女子種目コード!#REF!,2,FALSE))))","v":""},null,null,{"$f":"IF(AE136=\"\",\"\",IF(E136=1,VLOOKUP(AE136,男子種目コード!#REF!,2,FALSE),IF(E136=2,VLOOKUP(AE136,女子種目コード!#REF!,2,FALSE))))","v":""},null,null,null,"",0,null,null,null,null,null,null,null,null,null,null,null,null,0,"",""]
[0,{"$f":"前年度登録!O135","v":""},null,null,{"$f":"前年度登録!E135","v":0},{"$f":"前年度登録!BD135","v":""},{"$f":"前年度登録!V135","v":""},{"$f":"前年度登録!BD135","v":""},{"$f":"前年度登録!U135","v":""},{"$f":"前年度登録!I135","v":0},{"$f":"前年度登録!K135","v":0},{"$f":"前年度登録!BK135","v":"00"},{"$f":"前年度登録!P135","v":""},{"$f":"前年度登録!$Q$7","v":23},null,{"$f":"IF(O137=\"\",\"\",IF(I137=1,VLOOKUP(O137,男子種目コード!$A$2:$B$35,2,FALSE),IF(I137=2,VLOOKUP(O137,女子種目コード!$A$2:$B$35,2,FALSE))))","v":""},{"$f":"IF(O137=\"\",\"\",HLOOKUP(O137,前年度登録!$W$4:$AV$184,132,FALSE))","v":""},"","",null,{"$f":"IF(T137=\"\",\"\",IF(I137=1,VLOOKUP(T137,男子種目コード!$A$19:$B$31,2,FALSE),IF(I137=2,VLOOKUP(T137,女子種目コード!$A$19:$B$31,2,FALSE))))","v":""},null,"","",null,{"$f":"IF(Y137=\"\",\"\",IF(I137=1,VLOOKUP(Y137,男子種目コード!#REF!,2,FALSE),IF(I137=2,VLOOKUP(Y137,女子種目コード!#REF!,2,FALSE))))","v":""},null,null,{"$f":"IF(AB137=\"\",\"\",IF(I137=1,VLOOKUP(AB137,男子種目コード!#REF!,2,FALSE),IF(I137=2,VLOOKUP(AB137,女子種目コード!#REF!,2,FALSE))))","v":""},null,null,{"$f":"IF(AE137=\"\",\"\",IF(E137=1,VLOOKUP(AE137,男子種目コード!#REF!,2,FALSE),IF(E137=2,VLOOKUP(AE137,女子種目コード!#REF!,2,FALSE))))","v":""},null,null,null,"",0,null,null,null,null,null,null,null,null,null,null,null,null,0,"",""]
[0,{"$f":"前年度登録!O136","v":""},null,null,{"$f":"前年度登録!E136","v":0},{"$f":"前年度登録!BD136","v":""},{"$f":"前年度登録!V136","v":""},{"$f":"前年度登録!BD136","v":""},{"$f":"前年度登録!U136","v":""},{"$f":"前年度登録!I136","v":0},{"$f":"前年度登録!K136","v":0},{"$f":"前年度登録!BK136","v":"00"},{"$f":"前年度登録!P136","v":""},{"$f":"前年度登録!$Q$7","v":23},null,{"$f":"IF(O138=\"\",\"\",IF(I138=1,VLOOKUP(O138,男子種目コード!$A$2:$B$35,2,FALSE),IF(I138=2,VLOOKUP(O138,女子種目コード!$A$2:$B$35,2,FALSE))))","v":""},{"$f":"IF(O138=\"\",\"\",HLOOKUP(O138,前年度登録!$W$4:$AV$184,133,FALSE))","v":""},"","",null,{"$f":"IF(T138=\"\",\"\",IF(I138=1,VLOOKUP(T138,男子種目コード!$A$19:$B$31,2,FALSE),IF(I138=2,VLOOKUP(T138,女子種目コード!$A$19:$B$31,2,FALSE))))","v":""},null,"","",null,{"$f":"IF(Y138=\"\",\"\",IF(I138=1,VLOOKUP(Y138,男子種目コード!#REF!,2,FALSE),IF(I138=2,VLOOKUP(Y138,女子種目コード!#REF!,2,FALSE))))","v":""},null,null,{"$f":"IF(AB138=\"\",\"\",IF(I138=1,VLOOKUP(AB138,男子種目コード!#REF!,2,FALSE),IF(I138=2,VLOOKUP(AB138,女子種目コード!#REF!,2,FALSE))))","v":""},null,null,{"$f":"IF(AE138=\"\",\"\",IF(E138=1,VLOOKUP(AE138,男子種目コード!#REF!,2,FALSE),IF(E138=2,VLOOKUP(AE138,女子種目コード!#REF!,2,FALSE))))","v":""},null,null,null,"",0,null,null,null,null,null,null,null,null,null,null,null,null,0,"",""]
[0,{"$f":"前年度登録!O137","v":""},null,null,{"$f":"前年度登録!E137","v":0},{"$f":"前年度登録!BD137","v":""},{"$f":"前年度登録!V137","v":""},{"$f":"前年度登録!BD137","v":""},{"$f":"前年度登録!U137","v":""},{"$f":"前年度登録!I137","v":0},{"$f":"前年度登録!K137","v":0},{"$f":"前年度登録!BK137","v":"00"},{"$f":"前年度登録!P137","v":""},{"$f":"前年度登録!$Q$7","v":23},null,{"$f":"IF(O139=\"\",\"\",IF(I139=1,VLOOKUP(O139,男子種目コード!$A$2:$B$35,2,FALSE),IF(I139=2,VLOOKUP(O139,女子種目コード!$A$2:$B$35,2,FALSE))))","v":""},{"$f":"IF(O139=\"\",\"\",HLOOKUP(O139,前年度登録!$W$4:$AV$184,134,FALSE))","v":""},"","",null,{"$f":"IF(T139=\"\",\"\",IF(I139=1,VLOOKUP(T139,男子種目コード!$A$19:$B$31,2,FALSE),IF(I139=2,VLOOKUP(T139,女子種目コード!$A$19:$B$31,2,FALSE))))","v":""},null,"","",null,{"$f":"IF(Y139=\"\",\"\",IF(I139=1,VLOOKUP(Y139,男子種目コード!#REF!,2,FALSE),IF(I139=2,VLOOKUP(Y139,女子種目コード!#REF!,2,FALSE))))","v":""},null,null,{"$f":"IF(AB139=\"\",\"\",IF(I139=1,VLOOKUP(AB139,男子種目コード!#REF!,2,FALSE),IF(I139=2,VLOOKUP(AB139,女子種目コード!#REF!,2,FALSE))))","v":""},null,null,{"$f":"IF(AE139=\"\",\"\",IF(E139=1,VLOOKUP(AE139,男子種目コード!#REF!,2,FALSE),IF(E139=2,VLOOKUP(AE139,女子種目コード!#REF!,2,FALSE))))","v":""},null,null,null,"",0,null,null,null,null,null,null,null,null,null,null,null,null,0,"",""]
[0,{"$f":"前年度登録!O138","v":""},null,null,{"$f":"前年度登録!E138","v":0},{"$f":"前年度登録!BD138","v":""},{"$f":"前年度登録!V138","v":""},{"$f":"前年度登録!BD138","v":""},{"$f":"前年度登録!U138","v":""},{"$f":"前年度登録!I138","v":0},{"$f":"前年度登録!K138","v":0},{"$f":"前年度登録!BK138","v":"00"},{"$f":"前年度登録!P138","v":""},{"$f":"前年度登録!$Q$7","v":23},null,{"$f":"IF(O140=\"\",\"\",IF(I140=1,VLOOKUP(O140,男子種目コード!$A$2:$B$35,2,FALSE),IF(I140=2,VLOOKUP(O140,女子種目コード!$A$2:$B$35,2,FALSE))))","v":""},{"$f":"IF(O140=\"\",\"\",HLOOKUP(O140,前年度登録!$W$4:$AV$184,135,FALSE))","v":""},"","",null,{"$f":"IF(T140=\"\",\"\",IF(I140=1,VLOOKUP(T140,男子種目コード!$A$19:$B$31,2,FALSE),IF(I140=2,VLOOKUP(T140,女子種目コード!$A$19:$B$31,2,FALSE))))","v":""},null,"","",null,{"$f":"IF(Y140=\"\",\"\",IF(I140=1,VLOOKUP(Y140,男子種目コード!#REF!,2,FALSE),IF(I140=2,VLOOKUP(Y140,女子種目コード!#REF!,2,FALSE))))","v":""},null,null,{"$f":"IF(AB140=\"\",\"\",IF(I140=1,VLOOKUP(AB140,男子種目コード!#REF!,2,FALSE),IF(I140=2,VLOOKUP(AB140,女子種目コード!#REF!,2,FALSE))))","v":""},null,null,{"$f":"IF(AE140=\"\",\"\",IF(E140=1,VLOOKUP(AE140,男子種目コード!#REF!,2,FALSE),IF(E140=2,VLOOKUP(AE140,女子種目コード!#REF!,2,FALSE))))","v":""},null,null,null,"",0,null,null,null,null,null,null,null,null,null,null,null,null,0,"",""]
[0,{"$f":"前年度登録!O139","v":""},null,null,{"$f":"前年度登録!E139","v":0},{"$f":"前年度登録!BD139","v":""},{"$f":"前年度登録!V139","v":""},{"$f":"前年度登録!BD139","v":""},{"$f":"前年度登録!U139","v":""},{"$f":"前年度登録!I139","v":0},{"$f":"前年度登録!K139","v":0},{"$f":"前年度登録!BK139","v":"00"},{"$f":"前年度登録!P139","v":""},{"$f":"前年度登録!$Q$7","v":23},null,{"$f":"IF(O141=\"\",\"\",IF(I141=1,VLOOKUP(O141,男子種目コード!$A$2:$B$35,2,FALSE),IF(I141=2,VLOOKUP(O141,女子種目コード!$A$2:$B$35,2,FALSE))))","v":""},{"$f":"IF(O141=\"\",\"\",HLOOKUP(O141,前年度登録!$W$4:$AV$184,136,FALSE))","v":""},"","",null,{"$f":"IF(T141=\"\",\"\",IF(I141=1,VLOOKUP(T141,男子種目コード!$A$19:$B$31,2,FALSE),IF(I141=2,VLOOKUP(T141,女子種目コード!$A$19:$B$31,2,FALSE))))","v":""},null,"","",null,{"$f":"IF(Y141=\"\",\"\",IF(I141=1,VLOOKUP(Y141,男子種目コード!#REF!,2,FALSE),IF(I141=2,VLOOKUP(Y141,女子種目コード!#REF!,2,FALSE))))","v":""},null,null,{"$f":"IF(AB141=\"\",\"\",IF(I141=1,VLOOKUP(AB141,男子種目コード!#REF!,2,FALSE),IF(I141=2,VLOOKUP(AB141,女子種目コード!#REF!,2,FALSE))))","v":""},null,null,{"$f":"IF(AE141=\"\",\"\",IF(E141=1,VLOOKUP(AE141,男子種目コード!#REF!,2,FALSE),IF(E141=2,VLOOKUP(AE141,女子種目コード!#REF!,2,FALSE))))","v":""},null,null,null,"",0,null,null,null,null,null,null,null,null,null,null,null,null,0,"",""]
[0,{"$f":"前年度登録!O140","v":""},null,null,{"$f":"前年度登録!E140","v":0},{"$f":"前年度登録!BD140","v":""},{"$f":"前年度登録!V140","v":""},{"$f":"前年度登録!BD140","v":""},{"$f":"前年度登録!U140","v":""},{"$f":"前年度登録!I140","v":0},{"$f":"前年度登録!K140","v":0},{"$f":"前年度登録!BK140","v":"00"},{"$f":"前年度登録!P140","v":""},{"$f":"前年度登録!$Q$7","v":23},null,{"$f":"IF(O142=\"\",\"\",IF(I142=1,VLOOKUP(O142,男子種目コード!$A$2:$B$35,2,FALSE),IF(I142=2,VLOOKUP(O142,女子種目コード!$A$2:$B$35,2,FALSE))))","v":""},{"$f":"IF(O142=\"\",\"\",HLOOKUP(O142,前年度登録!$W$4:$AV$184,137,FALSE))","v":""},"","",null,{"$f":"IF(T142=\"\",\"\",IF(I142=1,VLOOKUP(T142,男子種目コード!$A$19:$B$31,2,FALSE),IF(I142=2,VLOOKUP(T142,女子種目コード!$A$19:$B$31,2,FALSE))))","v":""},null,"","",null,{"$f":"IF(Y142=\"\",\"\",IF(I142=1,VLOOKUP(Y142,男子種目コード!#REF!,2,FALSE),IF(I142=2,VLOOKUP(Y142,女子種目コード!#REF!,2,FALSE))))","v":""},null,null,{"$f":"IF(AB142=\"\",\"\",IF(I142=1,VLOOKUP(AB142,男子種目コード!#REF!,2,FALSE),IF(I142=2,VLOOKUP(AB142,女子種目コード!#REF!,2,FALSE))))","v":""},null,null,{"$f":"IF(AE142=\"\",\"\",IF(E142=1,VLOOKUP(AE142,男子種目コード!#REF!,2,FALSE),IF(E142=2,VLOOKUP(AE142,女子種目コード!#REF!,2,FALSE))))","v":""},null,null,null,"",0,null,null,null,null,null,null,null,null,null,null,null,null,0,"",""]
[0,{"$f":"前年度登録!O141","v":""},null,null,{"$f":"前年度登録!E141","v":0},{"$f":"前年度登録!BD141","v":""},{"$f":"前年度登録!V141","v":""},{"$f":"前年度登録!BD141","v":""},{"$f":"前年度登録!U141","v":""},{"$f":"前年度登録!I141","v":0},{"$f":"前年度登録!K141","v":0},{"$f":"前年度登録!BK141","v":"00"},{"$f":"前年度登録!P141","v":""},{"$f":"前年度登録!$Q$7","v":23},null,{"$f":"IF(O143=\"\",\"\",IF(I143=1,VLOOKUP(O143,男子種目コード!$A$2:$B$35,2,FALSE),IF(I143=2,VLOOKUP(O143,女子種目コード!$A$2:$B$35,2,FALSE))))","v":""},{"$f":"IF(O143=\"\",\"\",HLOOKUP(O143,前年度登録!$W$4:$AV$184,138,FALSE))","v":""},"","",null,{"$f":"IF(T143=\"\",\"\",IF(I143=1,VLOOKUP(T143,男子種目コード!$A$19:$B$31,2,FALSE),IF(I143=2,VLOOKUP(T143,女子種目コード!$A$19:$B$31,2,FALSE))))","v":""},null,"","",null,{"$f":"IF(Y143=\"\",\"\",IF(I143=1,VLOOKUP(Y143,男子種目コード!#REF!,2,FALSE),IF(I143=2,VLOOKUP(Y143,女子種目コード!#REF!,2,FALSE))))","v":""},null,null,{"$f":"IF(AB143=\"\",\"\",IF(I143=1,VLOOKUP(AB143,男子種目コード!#REF!,2,FALSE),IF(I143=2,VLOOKUP(AB143,女子種目コード!#REF!,2,FALSE))))","v":""},null,null,{"$f":"IF(AE143=\"\",\"\",IF(E143=1,VLOOKUP(AE143,男子種目コード!#REF!,2,FALSE),IF(E143=2,VLOOKUP(AE143,女子種目コード!#REF!,2,FALSE))))","v":""},null,null,null,"",0,null,null,null,null,null,null,null,null,null,null,null,null,0,"",""]
[0,{"$f":"前年度登録!O142","v":""},null,null,{"$f":"前年度登録!E142","v":0},{"$f":"前年度登録!BD142","v":""},{"$f":"前年度登録!V142","v":""},{"$f":"前年度登録!BD142","v":""},{"$f":"前年度登録!U142","v":""},{"$f":"前年度登録!I142","v":0},{"$f":"前年度登録!K142","v":0},{"$f":"前年度登録!BK142","v":"00"},{"$f":"前年度登録!P142","v":""},{"$f":"前年度登録!$Q$7","v":23},null,{"$f":"IF(O144=\"\",\"\",IF(I144=1,VLOOKUP(O144,男子種目コード!$A$2:$B$35,2,FALSE),IF(I144=2,VLOOKUP(O144,女子種目コード!$A$2:$B$35,2,FALSE))))","v":""},{"$f":"IF(O144=\"\",\"\",HLOOKUP(O144,前年度登録!$W$4:$AV$184,139,FALSE))","v":""},"","",null,{"$f":"IF(T144=\"\",\"\",IF(I144=1,VLOOKUP(T144,男子種目コード!$A$19:$B$31,2,FALSE),IF(I144=2,VLOOKUP(T144,女子種目コード!$A$19:$B$31,2,FALSE))))","v":""},null,"","",null,{"$f":"IF(Y144=\"\",\"\",IF(I144=1,VLOOKUP(Y144,男子種目コード!#REF!,2,FALSE),IF(I144=2,VLOOKUP(Y144,女子種目コード!#REF!,2,FALSE))))","v":""},null,null,{"$f":"IF(AB144=\"\",\"\",IF(I144=1,VLOOKUP(AB144,男子種目コード!#REF!,2,FALSE),IF(I144=2,VLOOKUP(AB144,女子種目コード!#REF!,2,FALSE))))","v":""},null,null,{"$f":"IF(AE144=\"\",\"\",IF(E144=1,VLOOKUP(AE144,男子種目コード!#REF!,2,FALSE),IF(E144=2,VLOOKUP(AE144,女子種目コード!#REF!,2,FALSE))))","v":""},null,null,null,"",0,null,null,null,null,null,null,null,null,null,null,null,null,0,"",""]
[0,{"$f":"前年度登録!O143","v":""},null,null,{"$f":"前年度登録!E143","v":0},{"$f":"前年度登録!BD143","v":""},{"$f":"前年度登録!V143","v":""},{"$f":"前年度登録!BD143","v":""},{"$f":"前年度登録!U143","v":""},{"$f":"前年度登録!I143","v":0},{"$f":"前年度登録!K143","v":0},{"$f":"前年度登録!BK143","v":"00"},{"$f":"前年度登録!P143","v":""},{"$f":"前年度登録!$Q$7","v":23},null,{"$f":"IF(O145=\"\",\"\",IF(I145=1,VLOOKUP(O145,男子種目コード!$A$2:$B$35,2,FALSE),IF(I145=2,VLOOKUP(O145,女子種目コード!$A$2:$B$35,2,FALSE))))","v":""},{"$f":"IF(O145=\"\",\"\",HLOOKUP(O145,前年度登録!$W$4:$AV$184,140,FALSE))","v":""},"","",null,{"$f":"IF(T145=\"\",\"\",IF(I145=1,VLOOKUP(T145,男子種目コード!$A$19:$B$31,2,FALSE),IF(I145=2,VLOOKUP(T145,女子種目コード!$A$19:$B$31,2,FALSE))))","v":""},null,"","",null,{"$f":"IF(Y145=\"\",\"\",IF(I145=1,VLOOKUP(Y145,男子種目コード!#REF!,2,FALSE),IF(I145=2,VLOOKUP(Y145,女子種目コード!#REF!,2,FALSE))))","v":""},null,null,{"$f":"IF(AB145=\"\",\"\",IF(I145=1,VLOOKUP(AB145,男子種目コード!#REF!,2,FALSE),IF(I145=2,VLOOKUP(AB145,女子種目コード!#REF!,2,FALSE))))","v":""},null,null,{"$f":"IF(AE145=\"\",\"\",IF(E145=1,VLOOKUP(AE145,男子種目コード!#REF!,2,FALSE),IF(E145=2,VLOOKUP(AE145,女子種目コード!#REF!,2,FALSE))))","v":""},null,null,null,"",0,null,null,null,null,null,null,null,null,null,null,null,null,0,"",""]
[0,{"$f":"前年度登録!O144","v":""},null,null,{"$f":"前年度登録!E144","v":0},{"$f":"前年度登録!BD144","v":""},{"$f":"前年度登録!V144","v":""},{"$f":"前年度登録!BD144","v":""},{"$f":"前年度登録!U144","v":""},{"$f":"前年度登録!I144","v":0},{"$f":"前年度登録!K144","v":0},{"$f":"前年度登録!BK144","v":"00"},{"$f":"前年度登録!P144","v":""},{"$f":"前年度登録!$Q$7","v":23},null,{"$f":"IF(O146=\"\",\"\",IF(I146=1,VLOOKUP(O146,男子種目コード!$A$2:$B$35,2,FALSE),IF(I146=2,VLOOKUP(O146,女子種目コード!$A$2:$B$35,2,FALSE))))","v":""},{"$f":"IF(O146=\"\",\"\",HLOOKUP(O146,前年度登録!$W$4:$AV$184,141,FALSE))","v":""},"","",null,{"$f":"IF(T146=\"\",\"\",IF(I146=1,VLOOKUP(T146,男子種目コード!$A$19:$B$31,2,FALSE),IF(I146=2,VLOOKUP(T146,女子種目コード!$A$19:$B$31,2,FALSE))))","v":""},null,"","",null,{"$f":"IF(Y146=\"\",\"\",IF(I146=1,VLOOKUP(Y146,男子種目コード!#REF!,2,FALSE),IF(I146=2,VLOOKUP(Y146,女子種目コード!#REF!,2,FALSE))))","v":""},null,null,{"$f":"IF(AB146=\"\",\"\",IF(I146=1,VLOOKUP(AB146,男子種目コード!#REF!,2,FALSE),IF(I146=2,VLOOKUP(AB146,女子種目コード!#REF!,2,FALSE))))","v":""},null,null,{"$f":"IF(AE146=\"\",\"\",IF(E146=1,VLOOKUP(AE146,男子種目コード!#REF!,2,FALSE),IF(E146=2,VLOOKUP(AE146,女子種目コード!#REF!,2,FALSE))))","v":""},null,null,null,"",0,null,null,null,null,null,null,null,null,null,null,null,null,0,"",""]
[0,{"$f":"前年度登録!O145","v":""},null,null,{"$f":"前年度登録!E145","v":0},{"$f":"前年度登録!BD145","v":""},{"$f":"前年度登録!V145","v":""},{"$f":"前年度登録!BD145","v":""},{"$f":"前年度登録!U145","v":""},{"$f":"前年度登録!I145","v":0},{"$f":"前年度登録!K145","v":0},{"$f":"前年度登録!BK145","v":"00"},{"$f":"前年度登録!P145","v":""},{"$f":"前年度登録!$Q$7","v":23},null,{"$f":"IF(O147=\"\",\"\",IF(I147=1,VLOOKUP(O147,男子種目コード!$A$2:$B$35,2,FALSE),IF(I147=2,VLOOKUP(O147,女子種目コード!$A$2:$B$35,2,FALSE))))","v":""},{"$f":"IF(O147=\"\",\"\",HLOOKUP(O147,前年度登録!$W$4:$AV$184,142,FALSE))","v":""},"","",null,{"$f":"IF(T147=\"\",\"\",IF(I147=1,VLOOKUP(T147,男子種目コード!$A$19:$B$31,2,FALSE),IF(I147=2,VLOOKUP(T147,女子種目コード!$A$19:$B$31,2,FALSE))))","v":""},null,"","",null,{"$f":"IF(Y147=\"\",\"\",IF(I147=1,VLOOKUP(Y147,男子種目コード!#REF!,2,FALSE),IF(I147=2,VLOOKUP(Y147,女子種目コード!#REF!,2,FALSE))))","v":""},null,null,{"$f":"IF(AB147=\"\",\"\",IF(I147=1,VLOOKUP(AB147,男子種目コード!#REF!,2,FALSE),IF(I147=2,VLOOKUP(AB147,女子種目コード!#REF!,2,FALSE))))","v":""},null,null,{"$f":"IF(AE147=\"\",\"\",IF(E147=1,VLOOKUP(AE147,男子種目コード!#REF!,2,FALSE),IF(E147=2,VLOOKUP(AE147,女子種目コード!#REF!,2,FALSE))))","v":""},null,null,null,"",0,null,null,null,null,null,null,null,null,null,null,null,null,0,"",""]
[0,{"$f":"前年度登録!O146","v":""},null,null,{"$f":"前年度登録!E146","v":0},{"$f":"前年度登録!BD146","v":""},{"$f":"前年度登録!V146","v":""},{"$f":"前年度登録!BD146","v":""},{"$f":"前年度登録!U146","v":""},{"$f":"前年度登録!I146","v":0},{"$f":"前年度登録!K146","v":0},{"$f":"前年度登録!BK146","v":"00"},{"$f":"前年度登録!P146","v":""},{"$f":"前年度登録!$Q$7","v":23},null,{"$f":"IF(O148=\"\",\"\",IF(I148=1,VLOOKUP(O148,男子種目コード!$A$2:$B$35,2,FALSE),IF(I148=2,VLOOKUP(O148,女子種目コード!$A$2:$B$35,2,FALSE))))","v":""},{"$f":"IF(O148=\"\",\"\",HLOOKUP(O148,前年度登録!$W$4:$AV$184,143,FALSE))","v":""},"","",null,{"$f":"IF(T148=\"\",\"\",IF(I148=1,VLOOKUP(T148,男子種目コード!$A$19:$B$31,2,FALSE),IF(I148=2,VLOOKUP(T148,女子種目コード!$A$19:$B$31,2,FALSE))))","v":""},null,"","",null,{"$f":"IF(Y148=\"\",\"\",IF(I148=1,VLOOKUP(Y148,男子種目コード!#REF!,2,FALSE),IF(I148=2,VLOOKUP(Y148,女子種目コード!#REF!,2,FALSE))))","v":""},null,null,{"$f":"IF(AB148=\"\",\"\",IF(I148=1,VLOOKUP(AB148,男子種目コード!#REF!,2,FALSE),IF(I148=2,VLOOKUP(AB148,女子種目コード!#REF!,2,FALSE))))","v":""},null,null,{"$f":"IF(AE148=\"\",\"\",IF(E148=1,VLOOKUP(AE148,男子種目コード!#REF!,2,FALSE),IF(E148=2,VLOOKUP(AE148,女子種目コード!#REF!,2,FALSE))))","v":""},null,null,null,"",0,null,null,null,null,null,null,null,null,null,null,null,null,0,"",""]
[0,{"$f":"前年度登録!O147","v":""},null,null,{"$f":"前年度登録!E147","v":0},{"$f":"前年度登録!BD147","v":""},{"$f":"前年度登録!V147","v":""},{"$f":"前年度登録!BD147","v":""},{"$f":"前年度登録!U147","v":""},{"$f":"前年度登録!I147","v":0},{"$f":"前年度登録!K147","v":0},{"$f":"前年度登録!BK147","v":"00"},{"$f":"前年度登録!P147","v":""},{"$f":"前年度登録!$Q$7","v":23},null,{"$f":"IF(O149=\"\",\"\",IF(I149=1,VLOOKUP(O149,男子種目コード!$A$2:$B$35,2,FALSE),IF(I149=2,VLOOKUP(O149,女子種目コード!$A$2:$B$35,2,FALSE))))","v":""},{"$f":"IF(O149=\"\",\"\",HLOOKUP(O149,前年度登録!$W$4:$AV$184,144,FALSE))","v":""},"","",null,{"$f":"IF(T149=\"\",\"\",IF(I149=1,VLOOKUP(T149,男子種目コード!$A$19:$B$31,2,FALSE),IF(I149=2,VLOOKUP(T149,女子種目コード!$A$19:$B$31,2,FALSE))))","v":""},null,"","",null,{"$f":"IF(Y149=\"\",\"\",IF(I149=1,VLOOKUP(Y149,男子種目コード!#REF!,2,FALSE),IF(I149=2,VLOOKUP(Y149,女子種目コード!#REF!,2,FALSE))))","v":""},null,null,{"$f":"IF(AB149=\"\",\"\",IF(I149=1,VLOOKUP(AB149,男子種目コード!#REF!,2,FALSE),IF(I149=2,VLOOKUP(AB149,女子種目コード!#REF!,2,FALSE))))","v":""},null,null,{"$f":"IF(AE149=\"\",\"\",IF(E149=1,VLOOKUP(AE149,男子種目コード!#REF!,2,FALSE),IF(E149=2,VLOOKUP(AE149,女子種目コード!#REF!,2,FALSE))))","v":""},null,null,null,"",0,null,null,null,null,null,null,null,null,null,null,null,null,0,"",""]
[0,{"$f":"前年度登録!O148","v":""},null,null,{"$f":"前年度登録!E148","v":0},{"$f":"前年度登録!BD148","v":""},{"$f":"前年度登録!V148","v":""},{"$f":"前年度登録!BD148","v":""},{"$f":"前年度登録!U148","v":""},{"$f":"前年度登録!I148","v":0},{"$f":"前年度登録!K148","v":0},{"$f":"前年度登録!BK148","v":"00"},{"$f":"前年度登録!P148","v":""},{"$f":"前年度登録!$Q$7","v":23},null,{"$f":"IF(O150=\"\",\"\",IF(I150=1,VLOOKUP(O150,男子種目コード!$A$2:$B$35,2,FALSE),IF(I150=2,VLOOKUP(O150,女子種目コード!$A$2:$B$35,2,FALSE))))","v":""},{"$f":"IF(O150=\"\",\"\",HLOOKUP(O150,前年度登録!$W$4:$AV$184,145,FALSE))","v":""},"","",null,{"$f":"IF(T150=\"\",\"\",IF(I150=1,VLOOKUP(T150,男子種目コード!$A$19:$B$31,2,FALSE),IF(I150=2,VLOOKUP(T150,女子種目コード!$A$19:$B$31,2,FALSE))))","v":""},null,"","",null,{"$f":"IF(Y150=\"\",\"\",IF(I150=1,VLOOKUP(Y150,男子種目コード!#REF!,2,FALSE),IF(I150=2,VLOOKUP(Y150,女子種目コード!#REF!,2,FALSE))))","v":""},null,null,{"$f":"IF(AB150=\"\",\"\",IF(I150=1,VLOOKUP(AB150,男子種目コード!#REF!,2,FALSE),IF(I150=2,VLOOKUP(AB150,女子種目コード!#REF!,2,FALSE))))","v":""},null,null,{"$f":"IF(AE150=\"\",\"\",IF(E150=1,VLOOKUP(AE150,男子種目コード!#REF!,2,FALSE),IF(E150=2,VLOOKUP(AE150,女子種目コード!#REF!,2,FALSE))))","v":""},null,null,null,"",0,null,null,null,null,null,null,null,null,null,null,null,null,0,"",""]
[0,{"$f":"前年度登録!O149","v":""},null,null,{"$f":"前年度登録!E149","v":0},{"$f":"前年度登録!BD149","v":""},{"$f":"前年度登録!V149","v":""},{"$f":"前年度登録!BD149","v":""},{"$f":"前年度登録!U149","v":""},{"$f":"前年度登録!I149","v":0},{"$f":"前年度登録!K149","v":0},{"$f":"前年度登録!BK149","v":"00"},{"$f":"前年度登録!P149","v":""},{"$f":"前年度登録!$Q$7","v":23},null,{"$f":"IF(O151=\"\",\"\",IF(I151=1,VLOOKUP(O151,男子種目コード!$A$2:$B$35,2,FALSE),IF(I151=2,VLOOKUP(O151,女子種目コード!$A$2:$B$35,2,FALSE))))","v":""},{"$f":"IF(O151=\"\",\"\",HLOOKUP(O151,前年度登録!$W$4:$AV$184,146,FALSE))","v":""},"","",null,{"$f":"IF(T151=\"\",\"\",IF(I151=1,VLOOKUP(T151,男子種目コード!$A$19:$B$31,2,FALSE),IF(I151=2,VLOOKUP(T151,女子種目コード!$A$19:$B$31,2,FALSE))))","v":""},null,"","",null,{"$f":"IF(Y151=\"\",\"\",IF(I151=1,VLOOKUP(Y151,男子種目コード!#REF!,2,FALSE),IF(I151=2,VLOOKUP(Y151,女子種目コード!#REF!,2,FALSE))))","v":""},null,null,{"$f":"IF(AB151=\"\",\"\",IF(I151=1,VLOOKUP(AB151,男子種目コード!#REF!,2,FALSE),IF(I151=2,VLOOKUP(AB151,女子種目コード!#REF!,2,FALSE))))","v":""},null,null,{"$f":"IF(AE151=\"\",\"\",IF(E151=1,VLOOKUP(AE151,男子種目コード!#REF!,2,FALSE),IF(E151=2,VLOOKUP(AE151,女子種目コード!#REF!,2,FALSE))))","v":""},null,null,null,"",0,null,null,null,null,null,null,null,null,null,null,null,null,0,"",""]
[0,{"$f":"前年度登録!O150","v":""},null,null,{"$f":"前年度登録!E150","v":0},{"$f":"前年度登録!BD150","v":""},{"$f":"前年度登録!V150","v":""},{"$f":"前年度登録!BD150","v":""},{"$f":"前年度登録!U150","v":""},{"$f":"前年度登録!I150","v":0},{"$f":"前年度登録!K150","v":0},{"$f":"前年度登録!BK150","v":"00"},{"$f":"前年度登録!P150","v":""},{"$f":"前年度登録!$Q$7","v":23},null,{"$f":"IF(O152=\"\",\"\",IF(I152=1,VLOOKUP(O152,男子種目コード!$A$2:$B$35,2,FALSE),IF(I152=2,VLOOKUP(O152,女子種目コード!$A$2:$B$35,2,FALSE))))","v":""},{"$f":"IF(O152=\"\",\"\",HLOOKUP(O152,前年度登録!$W$4:$AV$184,147,FALSE))","v":""},"","",null,{"$f":"IF(T152=\"\",\"\",IF(I152=1,VLOOKUP(T152,男子種目コード!$A$19:$B$31,2,FALSE),IF(I152=2,VLOOKUP(T152,女子種目コード!$A$19:$B$31,2,FALSE))))","v":""},null,"","",null,{"$f":"IF(Y152=\"\",\"\",IF(I152=1,VLOOKUP(Y152,男子種目コード!#REF!,2,FALSE),IF(I152=2,VLOOKUP(Y152,女子種目コード!#REF!,2,FALSE))))","v":""},null,null,{"$f":"IF(AB152=\"\",\"\",IF(I152=1,VLOOKUP(AB152,男子種目コード!#REF!,2,FALSE),IF(I152=2,VLOOKUP(AB152,女子種目コード!#REF!,2,FALSE))))","v":""},null,null,{"$f":"IF(AE152=\"\",\"\",IF(E152=1,VLOOKUP(AE152,男子種目コード!#REF!,2,FALSE),IF(E152=2,VLOOKUP(AE152,女子種目コード!#REF!,2,FALSE))))","v":""},null,null,null,"",0,null,null,null,null,null,null,null,null,null,null,null,null,0,"",""]
[0,{"$f":"前年度登録!O151","v":""},null,null,{"$f":"前年度登録!E151","v":0},{"$f":"前年度登録!BD151","v":""},{"$f":"前年度登録!V151","v":""},{"$f":"前年度登録!BD151","v":""},{"$f":"前年度登録!U151","v":""},{"$f":"前年度登録!I151","v":0},{"$f":"前年度登録!K151","v":0},{"$f":"前年度登録!BK151","v":"00"},{"$f":"前年度登録!P151","v":""},{"$f":"前年度登録!$Q$7","v":23},null,{"$f":"IF(O153=\"\",\"\",IF(I153=1,VLOOKUP(O153,男子種目コード!$A$2:$B$35,2,FALSE),IF(I153=2,VLOOKUP(O153,女子種目コード!$A$2:$B$35,2,FALSE))))","v":""},{"$f":"IF(O153=\"\",\"\",HLOOKUP(O153,前年度登録!$W$4:$AV$184,148,FALSE))","v":""},"","",null,{"$f":"IF(T153=\"\",\"\",IF(I153=1,VLOOKUP(T153,男子種目コード!$A$19:$B$31,2,FALSE),IF(I153=2,VLOOKUP(T153,女子種目コード!$A$19:$B$31,2,FALSE))))","v":""},null,"","",null,{"$f":"IF(Y153=\"\",\"\",IF(I153=1,VLOOKUP(Y153,男子種目コード!#REF!,2,FALSE),IF(I153=2,VLOOKUP(Y153,女子種目コード!#REF!,2,FALSE))))","v":""},null,null,{"$f":"IF(AB153=\"\",\"\",IF(I153=1,VLOOKUP(AB153,男子種目コード!#REF!,2,FALSE),IF(I153=2,VLOOKUP(AB153,女子種目コード!#REF!,2,FALSE))))","v":""},null,null,{"$f":"IF(AE153=\"\",\"\",IF(E153=1,VLOOKUP(AE153,男子種目コード!#REF!,2,FALSE),IF(E153=2,VLOOKUP(AE153,女子種目コード!#REF!,2,FALSE))))","v":""},null,null,null,"",0,null,null,null,null,null,null,null,null,null,null,null,null,0,"",""]
[0,{"$f":"前年度登録!O152","v":""},null,null,{"$f":"前年度登録!E152","v":0},{"$f":"前年度登録!BD152","v":""},{"$f":"前年度登録!V152","v":""},{"$f":"前年度登録!BD152","v":""},{"$f":"前年度登録!U152","v":""},{"$f":"前年度登録!I152","v":0},{"$f":"前年度登録!K152","v":0},{"$f":"前年度登録!BK152","v":"00"},{"$f":"前年度登録!P152","v":""},{"$f":"前年度登録!$Q$7","v":23},null,{"$f":"IF(O154=\"\",\"\",IF(I154=1,VLOOKUP(O154,男子種目コード!$A$2:$B$35,2,FALSE),IF(I154=2,VLOOKUP(O154,女子種目コード!$A$2:$B$35,2,FALSE))))","v":""},{"$f":"IF(O154=\"\",\"\",HLOOKUP(O154,前年度登録!$W$4:$AV$184,149,FALSE))","v":""},"","",null,{"$f":"IF(T154=\"\",\"\",IF(I154=1,VLOOKUP(T154,男子種目コード!$A$19:$B$31,2,FALSE),IF(I154=2,VLOOKUP(T154,女子種目コード!$A$19:$B$31,2,FALSE))))","v":""},null,"","",null,{"$f":"IF(Y154=\"\",\"\",IF(I154=1,VLOOKUP(Y154,男子種目コード!#REF!,2,FALSE),IF(I154=2,VLOOKUP(Y154,女子種目コード!#REF!,2,FALSE))))","v":""},null,null,{"$f":"IF(AB154=\"\",\"\",IF(I154=1,VLOOKUP(AB154,男子種目コード!#REF!,2,FALSE),IF(I154=2,VLOOKUP(AB154,女子種目コード!#REF!,2,FALSE))))","v":""},null,null,{"$f":"IF(AE154=\"\",\"\",IF(E154=1,VLOOKUP(AE154,男子種目コード!#REF!,2,FALSE),IF(E154=2,VLOOKUP(AE154,女子種目コード!#REF!,2,FALSE))))","v":""},null,null,null,"",0,null,null,null,null,null,null,null,null,null,null,null,null,0,"",""]
[0,{"$f":"前年度登録!O153","v":""},null,null,{"$f":"前年度登録!E153","v":0},{"$f":"前年度登録!BD153","v":""},{"$f":"前年度登録!V153","v":""},{"$f":"前年度登録!BD153","v":""},{"$f":"前年度登録!U153","v":""},{"$f":"前年度登録!I153","v":0},{"$f":"前年度登録!K153","v":0},{"$f":"前年度登録!BK153","v":"00"},{"$f":"前年度登録!P153","v":""},{"$f":"前年度登録!$Q$7","v":23},null,{"$f":"IF(O155=\"\",\"\",IF(I155=1,VLOOKUP(O155,男子種目コード!$A$2:$B$35,2,FALSE),IF(I155=2,VLOOKUP(O155,女子種目コード!$A$2:$B$35,2,FALSE))))","v":""},{"$f":"IF(O155=\"\",\"\",HLOOKUP(O155,前年度登録!$W$4:$AV$184,150,FALSE))","v":""},"","",null,{"$f":"IF(T155=\"\",\"\",IF(I155=1,VLOOKUP(T155,男子種目コード!$A$19:$B$31,2,FALSE),IF(I155=2,VLOOKUP(T155,女子種目コード!$A$19:$B$31,2,FALSE))))","v":""},null,"","",null,{"$f":"IF(Y155=\"\",\"\",IF(I155=1,VLOOKUP(Y155,男子種目コード!#REF!,2,FALSE),IF(I155=2,VLOOKUP(Y155,女子種目コード!#REF!,2,FALSE))))","v":""},null,null,{"$f":"IF(AB155=\"\",\"\",IF(I155=1,VLOOKUP(AB155,男子種目コード!#REF!,2,FALSE),IF(I155=2,VLOOKUP(AB155,女子種目コード!#REF!,2,FALSE))))","v":""},null,null,{"$f":"IF(AE155=\"\",\"\",IF(E155=1,VLOOKUP(AE155,男子種目コード!#REF!,2,FALSE),IF(E155=2,VLOOKUP(AE155,女子種目コード!#REF!,2,FALSE))))","v":""},null,null,null,"",0,null,null,null,null,null,null,null,null,null,null,null,null,0,"",""]
[0,{"$f":"前年度登録!O154","v":""},null,null,{"$f":"前年度登録!E154","v":0},{"$f":"前年度登録!BD154","v":""},{"$f":"前年度登録!V154","v":""},{"$f":"前年度登録!BD154","v":""},{"$f":"前年度登録!U154","v":""},{"$f":"前年度登録!I154","v":0},{"$f":"前年度登録!K154","v":0},{"$f":"前年度登録!BK154","v":"00"},{"$f":"前年度登録!P154","v":""},{"$f":"前年度登録!$Q$7","v":23},null,{"$f":"IF(O156=\"\",\"\",IF(I156=1,VLOOKUP(O156,男子種目コード!$A$2:$B$35,2,FALSE),IF(I156=2,VLOOKUP(O156,女子種目コード!$A$2:$B$35,2,FALSE))))","v":""},{"$f":"IF(O156=\"\",\"\",HLOOKUP(O156,前年度登録!$W$4:$AV$184,151,FALSE))","v":""},"","",null,{"$f":"IF(T156=\"\",\"\",IF(I156=1,VLOOKUP(T156,男子種目コード!$A$19:$B$31,2,FALSE),IF(I156=2,VLOOKUP(T156,女子種目コード!$A$19:$B$31,2,FALSE))))","v":""},null,"","",null,{"$f":"IF(Y156=\"\",\"\",IF(I156=1,VLOOKUP(Y156,男子種目コード!#REF!,2,FALSE),IF(I156=2,VLOOKUP(Y156,女子種目コード!#REF!,2,FALSE))))","v":""},null,null,{"$f":"IF(AB156=\"\",\"\",IF(I156=1,VLOOKUP(AB156,男子種目コード!#REF!,2,FALSE),IF(I156=2,VLOOKUP(AB156,女子種目コード!#REF!,2,FALSE))))","v":""},null,null,{"$f":"IF(AE156=\"\",\"\",IF(E156=1,VLOOKUP(AE156,男子種目コード!#REF!,2,FALSE),IF(E156=2,VLOOKUP(AE156,女子種目コード!#REF!,2,FALSE))))","v":""},null,null,null,"",0,null,null,null,null,null,null,null,null,null,null,null,null,0,"",""]
[0,{"$f":"前年度登録!O155","v":""},null,null,{"$f":"前年度登録!E155","v":0},{"$f":"前年度登録!BD155","v":""},{"$f":"前年度登録!V155","v":""},{"$f":"前年度登録!BD155","v":""},{"$f":"前年度登録!U155","v":""},{"$f":"前年度登録!I155","v":0},{"$f":"前年度登録!K155","v":0},{"$f":"前年度登録!BK155","v":"00"},{"$f":"前年度登録!P155","v":""},{"$f":"前年度登録!$Q$7","v":23},null,{"$f":"IF(O157=\"\",\"\",IF(I157=1,VLOOKUP(O157,男子種目コード!$A$2:$B$35,2,FALSE),IF(I157=2,VLOOKUP(O157,女子種目コード!$A$2:$B$35,2,FALSE))))","v":""},{"$f":"IF(O157=\"\",\"\",HLOOKUP(O157,前年度登録!$W$4:$AV$184,152,FALSE))","v":""},"","",null,{"$f":"IF(T157=\"\",\"\",IF(I157=1,VLOOKUP(T157,男子種目コード!$A$19:$B$31,2,FALSE),IF(I157=2,VLOOKUP(T157,女子種目コード!$A$19:$B$31,2,FALSE))))","v":""},null,"","",null,{"$f":"IF(Y157=\"\",\"\",IF(I157=1,VLOOKUP(Y157,男子種目コード!#REF!,2,FALSE),IF(I157=2,VLOOKUP(Y157,女子種目コード!#REF!,2,FALSE))))","v":""},null,null,{"$f":"IF(AB157=\"\",\"\",IF(I157=1,VLOOKUP(AB157,男子種目コード!#REF!,2,FALSE),IF(I157=2,VLOOKUP(AB157,女子種目コード!#REF!,2,FALSE))))","v":""},null,null,{"$f":"IF(AE157=\"\",\"\",IF(E157=1,VLOOKUP(AE157,男子種目コード!#REF!,2,FALSE),IF(E157=2,VLOOKUP(AE157,女子種目コード!#REF!,2,FALSE))))","v":""},null,null,null,"",0,null,null,null,null,null,null,null,null,null,null,null,null,0,"",""]
[0,{"$f":"前年度登録!O156","v":""},null,null,{"$f":"前年度登録!E156","v":0},{"$f":"前年度登録!BD156","v":""},{"$f":"前年度登録!V156","v":""},{"$f":"前年度登録!BD156","v":""},{"$f":"前年度登録!U156","v":""},{"$f":"前年度登録!I156","v":0},{"$f":"前年度登録!K156","v":0},{"$f":"前年度登録!BK156","v":"00"},{"$f":"前年度登録!P156","v":""},{"$f":"前年度登録!$Q$7","v":23},null,{"$f":"IF(O158=\"\",\"\",IF(I158=1,VLOOKUP(O158,男子種目コード!$A$2:$B$35,2,FALSE),IF(I158=2,VLOOKUP(O158,女子種目コード!$A$2:$B$35,2,FALSE))))","v":""},{"$f":"IF(O158=\"\",\"\",HLOOKUP(O158,前年度登録!$W$4:$AV$184,153,FALSE))","v":""},"","",null,{"$f":"IF(T158=\"\",\"\",IF(I158=1,VLOOKUP(T158,男子種目コード!$A$19:$B$31,2,FALSE),IF(I158=2,VLOOKUP(T158,女子種目コード!$A$19:$B$31,2,FALSE))))","v":""},null,"","",null,{"$f":"IF(Y158=\"\",\"\",IF(I158=1,VLOOKUP(Y158,男子種目コード!#REF!,2,FALSE),IF(I158=2,VLOOKUP(Y158,女子種目コード!#REF!,2,FALSE))))","v":""},null,null,{"$f":"IF(AB158=\"\",\"\",IF(I158=1,VLOOKUP(AB158,男子種目コード!#REF!,2,FALSE),IF(I158=2,VLOOKUP(AB158,女子種目コード!#REF!,2,FALSE))))","v":""},null,null,{"$f":"IF(AE158=\"\",\"\",IF(E158=1,VLOOKUP(AE158,男子種目コード!#REF!,2,FALSE),IF(E158=2,VLOOKUP(AE158,女子種目コード!#REF!,2,FALSE))))","v":""},null,null,null,"",0,null,null,null,null,null,null,null,null,null,null,null,null,0,"",""]
[0,{"$f":"前年度登録!O157","v":""},null,null,{"$f":"前年度登録!E157","v":0},{"$f":"前年度登録!BD157","v":""},{"$f":"前年度登録!V157","v":""},{"$f":"前年度登録!BD157","v":""},{"$f":"前年度登録!U157","v":""},{"$f":"前年度登録!I157","v":0},{"$f":"前年度登録!K157","v":0},{"$f":"前年度登録!BK157","v":"00"},{"$f":"前年度登録!P157","v":""},{"$f":"前年度登録!$Q$7","v":23},null,{"$f":"IF(O159=\"\",\"\",IF(I159=1,VLOOKUP(O159,男子種目コード!$A$2:$B$35,2,FALSE),IF(I159=2,VLOOKUP(O159,女子種目コード!$A$2:$B$35,2,FALSE))))","v":""},{"$f":"IF(O159=\"\",\"\",HLOOKUP(O159,前年度登録!$W$4:$AV$184,154,FALSE))","v":""},"","",null,{"$f":"IF(T159=\"\",\"\",IF(I159=1,VLOOKUP(T159,男子種目コード!$A$19:$B$31,2,FALSE),IF(I159=2,VLOOKUP(T159,女子種目コード!$A$19:$B$31,2,FALSE))))","v":""},null,"","",null,{"$f":"IF(Y159=\"\",\"\",IF(I159=1,VLOOKUP(Y159,男子種目コード!#REF!,2,FALSE),IF(I159=2,VLOOKUP(Y159,女子種目コード!#REF!,2,FALSE))))","v":""},null,null,{"$f":"IF(AB159=\"\",\"\",IF(I159=1,VLOOKUP(AB159,男子種目コード!#REF!,2,FALSE),IF(I159=2,VLOOKUP(AB159,女子種目コード!#REF!,2,FALSE))))","v":""},null,null,{"$f":"IF(AE159=\"\",\"\",IF(E159=1,VLOOKUP(AE159,男子種目コード!#REF!,2,FALSE),IF(E159=2,VLOOKUP(AE159,女子種目コード!#REF!,2,FALSE))))","v":""},null,null,null,"",0,null,null,null,null,null,null,null,null,null,null,null,null,0,"",""]
[0,{"$f":"前年度登録!O158","v":""},null,null,{"$f":"前年度登録!E158","v":0},{"$f":"前年度登録!BD158","v":""},{"$f":"前年度登録!V158","v":""},{"$f":"前年度登録!BD158","v":""},{"$f":"前年度登録!U158","v":""},{"$f":"前年度登録!I158","v":0},{"$f":"前年度登録!K158","v":0},{"$f":"前年度登録!BK158","v":"00"},{"$f":"前年度登録!P158","v":""},{"$f":"前年度登録!$Q$7","v":23},null,{"$f":"IF(O160=\"\",\"\",IF(I160=1,VLOOKUP(O160,男子種目コード!$A$2:$B$35,2,FALSE),IF(I160=2,VLOOKUP(O160,女子種目コード!$A$2:$B$35,2,FALSE))))","v":""},{"$f":"IF(O160=\"\",\"\",HLOOKUP(O160,前年度登録!$W$4:$AV$184,155,FALSE))","v":""},"","",null,{"$f":"IF(T160=\"\",\"\",IF(I160=1,VLOOKUP(T160,男子種目コード!$A$19:$B$31,2,FALSE),IF(I160=2,VLOOKUP(T160,女子種目コード!$A$19:$B$31,2,FALSE))))","v":""},null,"","",null,{"$f":"IF(Y160=\"\",\"\",IF(I160=1,VLOOKUP(Y160,男子種目コード!#REF!,2,FALSE),IF(I160=2,VLOOKUP(Y160,女子種目コード!#REF!,2,FALSE))))","v":""},null,null,{"$f":"IF(AB160=\"\",\"\",IF(I160=1,VLOOKUP(AB160,男子種目コード!#REF!,2,FALSE),IF(I160=2,VLOOKUP(AB160,女子種目コード!#REF!,2,FALSE))))","v":""},null,null,{"$f":"IF(AE160=\"\",\"\",IF(E160=1,VLOOKUP(AE160,男子種目コード!#REF!,2,FALSE),IF(E160=2,VLOOKUP(AE160,女子種目コード!#REF!,2,FALSE))))","v":""},null,null,null,"",0,null,null,null,null,null,null,null,null,null,null,null,null,0,"",""]
[0,{"$f":"前年度登録!O159","v":""},null,null,{"$f":"前年度登録!E159","v":0},{"$f":"前年度登録!BD159","v":""},{"$f":"前年度登録!V159","v":""},{"$f":"前年度登録!BD159","v":""},{"$f":"前年度登録!U159","v":""},{"$f":"前年度登録!I159","v":0},{"$f":"前年度登録!K159","v":0},{"$f":"前年度登録!BK159","v":"00"},{"$f":"前年度登録!P159","v":""},{"$f":"前年度登録!$Q$7","v":23},null,{"$f":"IF(O161=\"\",\"\",IF(I161=1,VLOOKUP(O161,男子種目コード!$A$2:$B$35,2,FALSE),IF(I161=2,VLOOKUP(O161,女子種目コード!$A$2:$B$35,2,FALSE))))","v":""},{"$f":"IF(O161=\"\",\"\",HLOOKUP(O161,前年度登録!$W$4:$AV$184,156,FALSE))","v":""},"","",null,{"$f":"IF(T161=\"\",\"\",IF(I161=1,VLOOKUP(T161,男子種目コード!$A$19:$B$31,2,FALSE),IF(I161=2,VLOOKUP(T161,女子種目コード!$A$19:$B$31,2,FALSE))))","v":""},null,"","",null,{"$f":"IF(Y161=\"\",\"\",IF(I161=1,VLOOKUP(Y161,男子種目コード!#REF!,2,FALSE),IF(I161=2,VLOOKUP(Y161,女子種目コード!#REF!,2,FALSE))))","v":""},null,null,{"$f":"IF(AB161=\"\",\"\",IF(I161=1,VLOOKUP(AB161,男子種目コード!#REF!,2,FALSE),IF(I161=2,VLOOKUP(AB161,女子種目コード!#REF!,2,FALSE))))","v":""},null,null,{"$f":"IF(AE161=\"\",\"\",IF(E161=1,VLOOKUP(AE161,男子種目コード!#REF!,2,FALSE),IF(E161=2,VLOOKUP(AE161,女子種目コード!#REF!,2,FALSE))))","v":""},null,null,null,"",0,null,null,null,null,null,null,null,null,null,null,null,null,0,"",""]
[0,{"$f":"前年度登録!O160","v":""},null,null,{"$f":"前年度登録!E160","v":0},{"$f":"前年度登録!BD160","v":""},{"$f":"前年度登録!V160","v":""},{"$f":"前年度登録!BD160","v":""},{"$f":"前年度登録!U160","v":""},{"$f":"前年度登録!I160","v":0},{"$f":"前年度登録!K160","v":0},{"$f":"前年度登録!BK160","v":"00"},{"$f":"前年度登録!P160","v":""},{"$f":"前年度登録!$Q$7","v":23},null,{"$f":"IF(O162=\"\",\"\",IF(I162=1,VLOOKUP(O162,男子種目コード!$A$2:$B$35,2,FALSE),IF(I162=2,VLOOKUP(O162,女子種目コード!$A$2:$B$35,2,FALSE))))","v":""},{"$f":"IF(O162=\"\",\"\",HLOOKUP(O162,前年度登録!$W$4:$AV$184,157,FALSE))","v":""},"","",null,{"$f":"IF(T162=\"\",\"\",IF(I162=1,VLOOKUP(T162,男子種目コード!$A$19:$B$31,2,FALSE),IF(I162=2,VLOOKUP(T162,女子種目コード!$A$19:$B$31,2,FALSE))))","v":""},null,"","",null,{"$f":"IF(Y162=\"\",\"\",IF(I162=1,VLOOKUP(Y162,男子種目コード!#REF!,2,FALSE),IF(I162=2,VLOOKUP(Y162,女子種目コード!#REF!,2,FALSE))))","v":""},null,null,{"$f":"IF(AB162=\"\",\"\",IF(I162=1,VLOOKUP(AB162,男子種目コード!#REF!,2,FALSE),IF(I162=2,VLOOKUP(AB162,女子種目コード!#REF!,2,FALSE))))","v":""},null,null,{"$f":"IF(AE162=\"\",\"\",IF(E162=1,VLOOKUP(AE162,男子種目コード!#REF!,2,FALSE),IF(E162=2,VLOOKUP(AE162,女子種目コード!#REF!,2,FALSE))))","v":""},null,null,null,"",0,null,null,null,null,null,null,null,null,null,null,null,null,0,"",""]
[0,{"$f":"前年度登録!O161","v":""},null,null,{"$f":"前年度登録!E161","v":0},{"$f":"前年度登録!BD161","v":""},{"$f":"前年度登録!V161","v":""},{"$f":"前年度登録!BD161","v":""},{"$f":"前年度登録!U161","v":""},{"$f":"前年度登録!I161","v":0},{"$f":"前年度登録!K161","v":0},{"$f":"前年度登録!BK161","v":"00"},{"$f":"前年度登録!P161","v":""},{"$f":"前年度登録!$Q$7","v":23},null,{"$f":"IF(O163=\"\",\"\",IF(I163=1,VLOOKUP(O163,男子種目コード!$A$2:$B$35,2,FALSE),IF(I163=2,VLOOKUP(O163,女子種目コード!$A$2:$B$35,2,FALSE))))","v":""},{"$f":"IF(O163=\"\",\"\",HLOOKUP(O163,前年度登録!$W$4:$AV$184,158,FALSE))","v":""},"","",null,{"$f":"IF(T163=\"\",\"\",IF(I163=1,VLOOKUP(T163,男子種目コード!$A$19:$B$31,2,FALSE),IF(I163=2,VLOOKUP(T163,女子種目コード!$A$19:$B$31,2,FALSE))))","v":""},null,"","",null,{"$f":"IF(Y163=\"\",\"\",IF(I163=1,VLOOKUP(Y163,男子種目コード!#REF!,2,FALSE),IF(I163=2,VLOOKUP(Y163,女子種目コード!#REF!,2,FALSE))))","v":""},null,null,{"$f":"IF(AB163=\"\",\"\",IF(I163=1,VLOOKUP(AB163,男子種目コード!#REF!,2,FALSE),IF(I163=2,VLOOKUP(AB163,女子種目コード!#REF!,2,FALSE))))","v":""},null,null,{"$f":"IF(AE163=\"\",\"\",IF(E163=1,VLOOKUP(AE163,男子種目コード!#REF!,2,FALSE),IF(E163=2,VLOOKUP(AE163,女子種目コード!#REF!,2,FALSE))))","v":""},null,null,null,"",0,null,null,null,null,null,null,null,null,null,null,null,null,0,"",""]
[0,{"$f":"前年度登録!O162","v":""},null,null,{"$f":"前年度登録!E162","v":0},{"$f":"前年度登録!BD162","v":""},{"$f":"前年度登録!V162","v":""},{"$f":"前年度登録!BD162","v":""},{"$f":"前年度登録!U162","v":""},{"$f":"前年度登録!I162","v":0},{"$f":"前年度登録!K162","v":0},{"$f":"前年度登録!BK162","v":"00"},{"$f":"前年度登録!P162","v":""},{"$f":"前年度登録!$Q$7","v":23},null,{"$f":"IF(O164=\"\",\"\",IF(I164=1,VLOOKUP(O164,男子種目コード!$A$2:$B$35,2,FALSE),IF(I164=2,VLOOKUP(O164,女子種目コード!$A$2:$B$35,2,FALSE))))","v":""},{"$f":"IF(O164=\"\",\"\",HLOOKUP(O164,前年度登録!$W$4:$AV$184,159,FALSE))","v":""},"","",null,{"$f":"IF(T164=\"\",\"\",IF(I164=1,VLOOKUP(T164,男子種目コード!$A$19:$B$31,2,FALSE),IF(I164=2,VLOOKUP(T164,女子種目コード!$A$19:$B$31,2,FALSE))))","v":""},null,"","",null,{"$f":"IF(Y164=\"\",\"\",IF(I164=1,VLOOKUP(Y164,男子種目コード!#REF!,2,FALSE),IF(I164=2,VLOOKUP(Y164,女子種目コード!#REF!,2,FALSE))))","v":""},null,null,{"$f":"IF(AB164=\"\",\"\",IF(I164=1,VLOOKUP(AB164,男子種目コード!#REF!,2,FALSE),IF(I164=2,VLOOKUP(AB164,女子種目コード!#REF!,2,FALSE))))","v":""},null,null,{"$f":"IF(AE164=\"\",\"\",IF(E164=1,VLOOKUP(AE164,男子種目コード!#REF!,2,FALSE),IF(E164=2,VLOOKUP(AE164,女子種目コード!#REF!,2,FALSE))))","v":""},null,null,null,"",0,null,null,null,null,null,null,null,null,null,null,null,null,0,"",""]
[0,{"$f":"前年度登録!O163","v":""},null,null,{"$f":"前年度登録!E163","v":0},{"$f":"前年度登録!BD163","v":""},{"$f":"前年度登録!V163","v":""},{"$f":"前年度登録!BD163","v":""},{"$f":"前年度登録!U163","v":""},{"$f":"前年度登録!I163","v":0},{"$f":"前年度登録!K163","v":0},{"$f":"前年度登録!BK163","v":"00"},{"$f":"前年度登録!P163","v":""},{"$f":"前年度登録!$Q$7","v":23},null,{"$f":"IF(O165=\"\",\"\",IF(I165=1,VLOOKUP(O165,男子種目コード!$A$2:$B$35,2,FALSE),IF(I165=2,VLOOKUP(O165,女子種目コード!$A$2:$B$35,2,FALSE))))","v":""},{"$f":"IF(O165=\"\",\"\",HLOOKUP(O165,前年度登録!$W$4:$AV$184,160,FALSE))","v":""},"","",null,{"$f":"IF(T165=\"\",\"\",IF(I165=1,VLOOKUP(T165,男子種目コード!$A$19:$B$31,2,FALSE),IF(I165=2,VLOOKUP(T165,女子種目コード!$A$19:$B$31,2,FALSE))))","v":""},null,"","",null,{"$f":"IF(Y165=\"\",\"\",IF(I165=1,VLOOKUP(Y165,男子種目コード!#REF!,2,FALSE),IF(I165=2,VLOOKUP(Y165,女子種目コード!#REF!,2,FALSE))))","v":""},null,null,{"$f":"IF(AB165=\"\",\"\",IF(I165=1,VLOOKUP(AB165,男子種目コード!#REF!,2,FALSE),IF(I165=2,VLOOKUP(AB165,女子種目コード!#REF!,2,FALSE))))","v":""},null,null,{"$f":"IF(AE165=\"\",\"\",IF(E165=1,VLOOKUP(AE165,男子種目コード!#REF!,2,FALSE),IF(E165=2,VLOOKUP(AE165,女子種目コード!#REF!,2,FALSE))))","v":""},null,null,null,"",0,null,null,null,null,null,null,null,null,null,null,null,null,0,"",""]
[0,{"$f":"前年度登録!O164","v":""},null,null,{"$f":"前年度登録!E164","v":0},{"$f":"前年度登録!BD164","v":""},{"$f":"前年度登録!V164","v":""},{"$f":"前年度登録!BD164","v":""},{"$f":"前年度登録!U164","v":""},{"$f":"前年度登録!I164","v":0},{"$f":"前年度登録!K164","v":0},{"$f":"前年度登録!BK164","v":"00"},{"$f":"前年度登録!P164","v":""},{"$f":"前年度登録!$Q$7","v":23},null,{"$f":"IF(O166=\"\",\"\",IF(I166=1,VLOOKUP(O166,男子種目コード!$A$2:$B$35,2,FALSE),IF(I166=2,VLOOKUP(O166,女子種目コード!$A$2:$B$35,2,FALSE))))","v":""},{"$f":"IF(O166=\"\",\"\",HLOOKUP(O166,前年度登録!$W$4:$AV$184,161,FALSE))","v":""},"","",null,{"$f":"IF(T166=\"\",\"\",IF(I166=1,VLOOKUP(T166,男子種目コード!$A$19:$B$31,2,FALSE),IF(I166=2,VLOOKUP(T166,女子種目コード!$A$19:$B$31,2,FALSE))))","v":""},null,"","",null,{"$f":"IF(Y166=\"\",\"\",IF(I166=1,VLOOKUP(Y166,男子種目コード!#REF!,2,FALSE),IF(I166=2,VLOOKUP(Y166,女子種目コード!#REF!,2,FALSE))))","v":""},null,null,{"$f":"IF(AB166=\"\",\"\",IF(I166=1,VLOOKUP(AB166,男子種目コード!#REF!,2,FALSE),IF(I166=2,VLOOKUP(AB166,女子種目コード!#REF!,2,FALSE))))","v":""},null,null,{"$f":"IF(AE166=\"\",\"\",IF(E166=1,VLOOKUP(AE166,男子種目コード!#REF!,2,FALSE),IF(E166=2,VLOOKUP(AE166,女子種目コード!#REF!,2,FALSE))))","v":""},null,null,null,"",0,null,null,null,null,null,null,null,null,null,null,null,null,0,"",""]
[0,{"$f":"前年度登録!O165","v":""},null,null,{"$f":"前年度登録!E165","v":0},{"$f":"前年度登録!BD165","v":""},{"$f":"前年度登録!V165","v":""},{"$f":"前年度登録!BD165","v":""},{"$f":"前年度登録!U165","v":""},{"$f":"前年度登録!I165","v":0},{"$f":"前年度登録!K165","v":0},{"$f":"前年度登録!BK165","v":"00"},{"$f":"前年度登録!P165","v":""},{"$f":"前年度登録!$Q$7","v":23},null,{"$f":"IF(O167=\"\",\"\",IF(I167=1,VLOOKUP(O167,男子種目コード!$A$2:$B$35,2,FALSE),IF(I167=2,VLOOKUP(O167,女子種目コード!$A$2:$B$35,2,FALSE))))","v":""},{"$f":"IF(O167=\"\",\"\",HLOOKUP(O167,前年度登録!$W$4:$AV$184,162,FALSE))","v":""},"","",null,{"$f":"IF(T167=\"\",\"\",IF(I167=1,VLOOKUP(T167,男子種目コード!$A$19:$B$31,2,FALSE),IF(I167=2,VLOOKUP(T167,女子種目コード!$A$19:$B$31,2,FALSE))))","v":""},null,"","",null,{"$f":"IF(Y167=\"\",\"\",IF(I167=1,VLOOKUP(Y167,男子種目コード!#REF!,2,FALSE),IF(I167=2,VLOOKUP(Y167,女子種目コード!#REF!,2,FALSE))))","v":""},null,null,{"$f":"IF(AB167=\"\",\"\",IF(I167=1,VLOOKUP(AB167,男子種目コード!#REF!,2,FALSE),IF(I167=2,VLOOKUP(AB167,女子種目コード!#REF!,2,FALSE))))","v":""},null,null,{"$f":"IF(AE167=\"\",\"\",IF(E167=1,VLOOKUP(AE167,男子種目コード!#REF!,2,FALSE),IF(E167=2,VLOOKUP(AE167,女子種目コード!#REF!,2,FALSE))))","v":""},null,null,null,"",{"$f":"IF(OR(AJ167=1,T167=\"\"),0,1)","v":0},null,null,null,null,null,null,null,null,null,null,null,null,{"$f":"COUNT(P167,U167)","v":0},{"$f":"IF(I167=1,AX167,\"\")","v":""},{"$f":"IF(I167=2,AX167,\"\")","v":""}]
[0,{"$f":"前年度登録!O166","v":""},null,null,{"$f":"前年度登録!E166","v":0},{"$f":"前年度登録!BD166","v":""},{"$f":"前年度登録!V166","v":""},{"$f":"前年度登録!BD166","v":""},{"$f":"前年度登録!U166","v":""},{"$f":"前年度登録!I166","v":0},{"$f":"前年度登録!K166","v":0},{"$f":"前年度登録!BK166","v":"00"},{"$f":"前年度登録!P166","v":""},{"$f":"前年度登録!$Q$7","v":23},null,{"$f":"IF(O168=\"\",\"\",IF(I168=1,VLOOKUP(O168,男子種目コード!$A$2:$B$35,2,FALSE),IF(I168=2,VLOOKUP(O168,女子種目コード!$A$2:$B$35,2,FALSE))))","v":""},{"$f":"IF(O168=\"\",\"\",HLOOKUP(O168,前年度登録!$W$4:$AV$184,163,FALSE))","v":""},"","",null,{"$f":"IF(T168=\"\",\"\",IF(I168=1,VLOOKUP(T168,男子種目コード!$A$19:$B$31,2,FALSE),IF(I168=2,VLOOKUP(T168,女子種目コード!$A$19:$B$31,2,FALSE))))","v":""},null,"","",null,{"$f":"IF(Y168=\"\",\"\",IF(I168=1,VLOOKUP(Y168,男子種目コード!#REF!,2,FALSE),IF(I168=2,VLOOKUP(Y168,女子種目コード!#REF!,2,FALSE))))","v":""},null,null,{"$f":"IF(AB168=\"\",\"\",IF(I168=1,VLOOKUP(AB168,男子種目コード!#REF!,2,FALSE),IF(I168=2,VLOOKUP(AB168,女子種目コード!#REF!,2,FALSE))))","v":""},null,null,{"$f":"IF(AE168=\"\",\"\",IF(E168=1,VLOOKUP(AE168,男子種目コード!#REF!,2,FALSE),IF(E168=2,VLOOKUP(AE168,女子種目コード!#REF!,2,FALSE))))","v":""},null,null,null,"",0,null,null,null,null,null,null,null,null,null,null,null,null,0,"",""]
[0,{"$f":"前年度登録!O167","v":""},null,null,{"$f":"前年度登録!E167","v":0},{"$f":"前年度登録!BD167","v":""},{"$f":"前年度登録!V167","v":""},{"$f":"前年度登録!BD167","v":""},{"$f":"前年度登録!U167","v":""},{"$f":"前年度登録!I167","v":0},{"$f":"前年度登録!K167","v":0},{"$f":"前年度登録!BK167","v":"00"},{"$f":"前年度登録!P167","v":""},{"$f":"前年度登録!$Q$7","v":23},null,{"$f":"IF(O169=\"\",\"\",IF(I169=1,VLOOKUP(O169,男子種目コード!$A$2:$B$35,2,FALSE),IF(I169=2,VLOOKUP(O169,女子種目コード!$A$2:$B$35,2,FALSE))))","v":""},{"$f":"IF(O169=\"\",\"\",HLOOKUP(O169,前年度登録!$W$4:$AV$184,164,FALSE))","v":""},"","",null,{"$f":"IF(T169=\"\",\"\",IF(I169=1,VLOOKUP(T169,男子種目コード!$A$19:$B$31,2,FALSE),IF(I169=2,VLOOKUP(T169,女子種目コード!$A$19:$B$31,2,FALSE))))","v":""},null,"","",null,{"$f":"IF(Y169=\"\",\"\",IF(I169=1,VLOOKUP(Y169,男子種目コード!#REF!,2,FALSE),IF(I169=2,VLOOKUP(Y169,女子種目コード!#REF!,2,FALSE))))","v":""},null,null,{"$f":"IF(AB169=\"\",\"\",IF(I169=1,VLOOKUP(AB169,男子種目コード!#REF!,2,FALSE),IF(I169=2,VLOOKUP(AB169,女子種目コード!#REF!,2,FALSE))))","v":""},null,null,{"$f":"IF(AE169=\"\",\"\",IF(E169=1,VLOOKUP(AE169,男子種目コード!#REF!,2,FALSE),IF(E169=2,VLOOKUP(AE169,女子種目コード!#REF!,2,FALSE))))","v":""},null,null,null,"",0,null,null,null,null,null,null,null,null,null,null,null,null,0,"",""]
[0,{"$f":"前年度登録!O168","v":""},null,null,{"$f":"前年度登録!E168","v":0},{"$f":"前年度登録!BD168","v":""},{"$f":"前年度登録!V168","v":""},{"$f":"前年度登録!BD168","v":""},{"$f":"前年度登録!U168","v":""},{"$f":"前年度登録!I168","v":0},{"$f":"前年度登録!K168","v":0},{"$f":"前年度登録!BK168","v":"00"},{"$f":"前年度登録!P168","v":""},{"$f":"前年度登録!$Q$7","v":23},null,{"$f":"IF(O170=\"\",\"\",IF(I170=1,VLOOKUP(O170,男子種目コード!$A$2:$B$35,2,FALSE),IF(I170=2,VLOOKUP(O170,女子種目コード!$A$2:$B$35,2,FALSE))))","v":""},{"$f":"IF(O170=\"\",\"\",HLOOKUP(O170,前年度登録!$W$4:$AV$184,165,FALSE))","v":""},"","",null,{"$f":"IF(T170=\"\",\"\",IF(I170=1,VLOOKUP(T170,男子種目コード!$A$19:$B$31,2,FALSE),IF(I170=2,VLOOKUP(T170,女子種目コード!$A$19:$B$31,2,FALSE))))","v":""},null,"","",null,{"$f":"IF(Y170=\"\",\"\",IF(I170=1,VLOOKUP(Y170,男子種目コード!#REF!,2,FALSE),IF(I170=2,VLOOKUP(Y170,女子種目コード!#REF!,2,FALSE))))","v":""},null,null,{"$f":"IF(AB170=\"\",\"\",IF(I170=1,VLOOKUP(AB170,男子種目コード!#REF!,2,FALSE),IF(I170=2,VLOOKUP(AB170,女子種目コード!#REF!,2,FALSE))))","v":""},null,null,{"$f":"IF(AE170=\"\",\"\",IF(E170=1,VLOOKUP(AE170,男子種目コード!#REF!,2,FALSE),IF(E170=2,VLOOKUP(AE170,女子種目コード!#REF!,2,FALSE))))","v":""},null,null,null,{"$f":"IF(O170=\"\",\"\",1)","v":""},0,null,null,null,null,null,null,null,null,null,null,null,null,0,"",""]
[0,{"$f":"前年度登録!O169","v":""},null,null,{"$f":"前年度登録!E169","v":0},{"$f":"前年度登録!BD169","v":""},{"$f":"前年度登録!V169","v":""},{"$f":"前年度登録!BD169","v":""},{"$f":"前年度登録!U169","v":""},{"$f":"前年度登録!I169","v":0},{"$f":"前年度登録!K169","v":0},{"$f":"前年度登録!BK169","v":"00"},{"$f":"前年度登録!P169","v":""},{"$f":"前年度登録!$Q$7","v":23},null,{"$f":"IF(O171=\"\",\"\",IF(I171=1,VLOOKUP(O171,男子種目コード!$A$2:$B$35,2,FALSE),IF(I171=2,VLOOKUP(O171,女子種目コード!$A$2:$B$35,2,FALSE))))","v":""},{"$f":"IF(O171=\"\",\"\",HLOOKUP(O171,前年度登録!$W$4:$AV$184,166,FALSE))","v":""},"","",null,{"$f":"IF(T171=\"\",\"\",IF(I171=1,VLOOKUP(T171,男子種目コード!$A$19:$B$31,2,FALSE),IF(I171=2,VLOOKUP(T171,女子種目コード!$A$19:$B$31,2,FALSE))))","v":""},null,"","",null,{"$f":"IF(Y171=\"\",\"\",IF(I171=1,VLOOKUP(Y171,男子種目コード!#REF!,2,FALSE),IF(I171=2,VLOOKUP(Y171,女子種目コード!#REF!,2,FALSE))))","v":""},null,null,{"$f":"IF(AB171=\"\",\"\",IF(I171=1,VLOOKUP(AB171,男子種目コード!#REF!,2,FALSE),IF(I171=2,VLOOKUP(AB171,女子種目コード!#REF!,2,FALSE))))","v":""},null,null,{"$f":"IF(AE171=\"\",\"\",IF(E171=1,VLOOKUP(AE171,男子種目コード!#REF!,2,FALSE),IF(E171=2,VLOOKUP(AE171,女子種目コード!#REF!,2,FALSE))))","v":""},null,null,null,"",0,null,null,null,null,null,null,null,null,null,null,null,null,0,"",""]
[0,{"$f":"前年度登録!O170","v":""},null,null,{"$f":"前年度登録!E170","v":0},{"$f":"前年度登録!BD170","v":""},{"$f":"前年度登録!V170","v":""},{"$f":"前年度登録!BD170","v":""},{"$f":"前年度登録!U170","v":""},{"$f":"前年度登録!I170","v":0},{"$f":"前年度登録!K170","v":0},{"$f":"前年度登録!BK170","v":"00"},{"$f":"前年度登録!P170","v":""},{"$f":"前年度登録!$Q$7","v":23},null,{"$f":"IF(O172=\"\",\"\",IF(I172=1,VLOOKUP(O172,男子種目コード!$A$2:$B$35,2,FALSE),IF(I172=2,VLOOKUP(O172,女子種目コード!$A$2:$B$35,2,FALSE))))","v":""},{"$f":"IF(O172=\"\",\"\",HLOOKUP(O172,前年度登録!$W$4:$AV$184,167,FALSE))","v":""},"","",null,{"$f":"IF(T172=\"\",\"\",IF(I172=1,VLOOKUP(T172,男子種目コード!$A$19:$B$31,2,FALSE),IF(I172=2,VLOOKUP(T172,女子種目コード!$A$19:$B$31,2,FALSE))))","v":""},null,"","",null,{"$f":"IF(Y172=\"\",\"\",IF(I172=1,VLOOKUP(Y172,男子種目コード!#REF!,2,FALSE),IF(I172=2,VLOOKUP(Y172,女子種目コード!#REF!,2,FALSE))))","v":""},null,null,{"$f":"IF(AB172=\"\",\"\",IF(I172=1,VLOOKUP(AB172,男子種目コード!#REF!,2,FALSE),IF(I172=2,VLOOKUP(AB172,女子種目コード!#REF!,2,FALSE))))","v":""},null,null,{"$f":"IF(AE172=\"\",\"\",IF(E172=1,VLOOKUP(AE172,男子種目コード!#REF!,2,FALSE),IF(E172=2,VLOOKUP(AE172,女子種目コード!#REF!,2,FALSE))))","v":""},null,null,null,"",0,null,null,null,null,null,null,null,null,null,null,null,null,0,"",""]
[0,{"$f":"前年度登録!O171","v":""},null,null,{"$f":"前年度登録!E171","v":0},{"$f":"前年度登録!BD171","v":""},{"$f":"前年度登録!V171","v":""},{"$f":"前年度登録!BD171","v":""},{"$f":"前年度登録!U171","v":""},{"$f":"前年度登録!I171","v":0},{"$f":"前年度登録!K171","v":0},{"$f":"前年度登録!BK171","v":"00"},{"$f":"前年度登録!P171","v":""},{"$f":"前年度登録!$Q$7","v":23},null,{"$f":"IF(O173=\"\",\"\",IF(I173=1,VLOOKUP(O173,男子種目コード!$A$2:$B$35,2,FALSE),IF(I173=2,VLOOKUP(O173,女子種目コード!$A$2:$B$35,2,FALSE))))","v":""},{"$f":"IF(O173=\"\",\"\",HLOOKUP(O173,前年度登録!$W$4:$AV$184,168,FALSE))","v":""},"","",null,{"$f":"IF(T173=\"\",\"\",IF(I173=1,VLOOKUP(T173,男子種目コード!$A$19:$B$31,2,FALSE),IF(I173=2,VLOOKUP(T173,女子種目コード!$A$19:$B$31,2,FALSE))))","v":""},null,"","",null,{"$f":"IF(Y173=\"\",\"\",IF(I173=1,VLOOKUP(Y173,男子種目コード!#REF!,2,FALSE),IF(I173=2,VLOOKUP(Y173,女子種目コード!#REF!,2,FALSE))))","v":""},null,null,{"$f":"IF(AB173=\"\",\"\",IF(I173=1,VLOOKUP(AB173,男子種目コード!#REF!,2,FALSE),IF(I173=2,VLOOKUP(AB173,女子種目コード!#REF!,2,FALSE))))","v":""},null,null,{"$f":"IF(AE173=\"\",\"\",IF(E173=1,VLOOKUP(AE173,男子種目コード!#REF!,2,FALSE),IF(E173=2,VLOOKUP(AE173,女子種目コード!#REF!,2,FALSE))))","v":""},null,null,null,"",0,null,null,null,null,null,null,null,null,null,null,null,null,0,"",""]
[0,{"$f":"前年度登録!O172","v":""},null,null,{"$f":"前年度登録!E172","v":0},{"$f":"前年度登録!BD172","v":""},{"$f":"前年度登録!V172","v":""},{"$f":"前年度登録!BD172","v":""},{"$f":"前年度登録!U172","v":""},{"$f":"前年度登録!I172","v":0},{"$f":"前年度登録!K172","v":0},{"$f":"前年度登録!BK172","v":"00"},{"$f":"前年度登録!P172","v":""},{"$f":"前年度登録!$Q$7","v":23},null,{"$f":"IF(O174=\"\",\"\",IF(I174=1,VLOOKUP(O174,男子種目コード!$A$2:$B$35,2,FALSE),IF(I174=2,VLOOKUP(O174,女子種目コード!$A$2:$B$35,2,FALSE))))","v":""},{"$f":"IF(O174=\"\",\"\",HLOOKUP(O174,前年度登録!$W$4:$AV$184,169,FALSE))","v":""},"","",null,{"$f":"IF(T174=\"\",\"\",IF(I174=1,VLOOKUP(T174,男子種目コード!$A$19:$B$31,2,FALSE),IF(I174=2,VLOOKUP(T174,女子種目コード!$A$19:$B$31,2,FALSE))))","v":""},null,"","",null,{"$f":"IF(Y174=\"\",\"\",IF(I174=1,VLOOKUP(Y174,男子種目コード!#REF!,2,FALSE),IF(I174=2,VLOOKUP(Y174,女子種目コード!#REF!,2,FALSE))))","v":""},null,null,{"$f":"IF(AB174=\"\",\"\",IF(I174=1,VLOOKUP(AB174,男子種目コード!#REF!,2,FALSE),IF(I174=2,VLOOKUP(AB174,女子種目コード!#REF!,2,FALSE))))","v":""},null,null,{"$f":"IF(AE174=\"\",\"\",IF(E174=1,VLOOKUP(AE174,男子種目コード!#REF!,2,FALSE),IF(E174=2,VLOOKUP(AE174,女子種目コード!#REF!,2,FALSE))))","v":""},null,null,null,"",0,null,null,null,null,null,null,null,null,null,null,null,null,0,"",""]
[0,{"$f":"前年度登録!O173","v":""},null,null,{"$f":"前年度登録!E173","v":0},{"$f":"前年度登録!BD173","v":""},{"$f":"前年度登録!V173","v":""},{"$f":"前年度登録!BD173","v":""},{"$f":"前年度登録!U173","v":""},{"$f":"前年度登録!I173","v":0},{"$f":"前年度登録!K173","v":0},{"$f":"前年度登録!BK173","v":"00"},{"$f":"前年度登録!P173","v":""},{"$f":"前年度登録!$Q$7","v":23},null,{"$f":"IF(O175=\"\",\"\",IF(I175=1,VLOOKUP(O175,男子種目コード!$A$2:$B$35,2,FALSE),IF(I175=2,VLOOKUP(O175,女子種目コード!$A$2:$B$35,2,FALSE))))","v":""},{"$f":"IF(O175=\"\",\"\",HLOOKUP(O175,前年度登録!$W$4:$AV$184,170,FALSE))","v":""},"","",null,{"$f":"IF(T175=\"\",\"\",IF(I175=1,VLOOKUP(T175,男子種目コード!$A$19:$B$31,2,FALSE),IF(I175=2,VLOOKUP(T175,女子種目コード!$A$19:$B$31,2,FALSE))))","v":""},null,"","",null,{"$f":"IF(Y175=\"\",\"\",IF(I175=1,VLOOKUP(Y175,男子種目コード!#REF!,2,FALSE),IF(I175=2,VLOOKUP(Y175,女子種目コード!#REF!,2,FALSE))))","v":""},null,null,{"$f":"IF(AB175=\"\",\"\",IF(I175=1,VLOOKUP(AB175,男子種目コード!#REF!,2,FALSE),IF(I175=2,VLOOKUP(AB175,女子種目コード!#REF!,2,FALSE))))","v":""},null,null,{"$f":"IF(AE175=\"\",\"\",IF(E175=1,VLOOKUP(AE175,男子種目コード!#REF!,2,FALSE),IF(E175=2,VLOOKUP(AE175,女子種目コード!#REF!,2,FALSE))))","v":""},null,null,null,"",0,null,null,null,null,null,null,null,null,null,null,null,null,0,"",""]
[0,{"$f":"前年度登録!O174","v":""},null,null,{"$f":"前年度登録!E174","v":0},{"$f":"前年度登録!BD174","v":""},{"$f":"前年度登録!V174","v":""},{"$f":"前年度登録!BD174","v":""},{"$f":"前年度登録!U174","v":""},{"$f":"前年度登録!I174","v":0},{"$f":"前年度登録!K174","v":0},{"$f":"前年度登録!BK174","v":"00"},{"$f":"前年度登録!P174","v":""},{"$f":"前年度登録!$Q$7","v":23},null,{"$f":"IF(O176=\"\",\"\",IF(I176=1,VLOOKUP(O176,男子種目コード!$A$2:$B$35,2,FALSE),IF(I176=2,VLOOKUP(O176,女子種目コード!$A$2:$B$35,2,FALSE))))","v":""},{"$f":"IF(O176=\"\",\"\",HLOOKUP(O176,前年度登録!$W$4:$AV$184,171,FALSE))","v":""},"","",null,{"$f":"IF(T176=\"\",\"\",IF(I176=1,VLOOKUP(T176,男子種目コード!$A$19:$B$31,2,FALSE),IF(I176=2,VLOOKUP(T176,女子種目コード!$A$19:$B$31,2,FALSE))))","v":""},null,"","",null,{"$f":"IF(Y176=\"\",\"\",IF(I176=1,VLOOKUP(Y176,男子種目コード!#REF!,2,FALSE),IF(I176=2,VLOOKUP(Y176,女子種目コード!#REF!,2,FALSE))))","v":""},null,null,{"$f":"IF(AB176=\"\",\"\",IF(I176=1,VLOOKUP(AB176,男子種目コード!#REF!,2,FALSE),IF(I176=2,VLOOKUP(AB176,女子種目コード!#REF!,2,FALSE))))","v":""},null,null,{"$f":"IF(AE176=\"\",\"\",IF(E176=1,VLOOKUP(AE176,男子種目コード!#REF!,2,FALSE),IF(E176=2,VLOOKUP(AE176,女子種目コード!#REF!,2,FALSE))))","v":""},null,null,null,"",0,null,null,null,null,null,null,null,null,null,null,null,null,0,"",""]
[0,{"$f":"前年度登録!O175","v":""},null,null,{"$f":"前年度登録!E175","v":0},{"$f":"前年度登録!BD175","v":""},{"$f":"前年度登録!V175","v":""},{"$f":"前年度登録!BD175","v":""},{"$f":"前年度登録!U175","v":""},{"$f":"前年度登録!I175","v":0},{"$f":"前年度登録!K175","v":0},{"$f":"前年度登録!BK175","v":"00"},{"$f":"前年度登録!P175","v":""},{"$f":"前年度登録!$Q$7","v":23},null,{"$f":"IF(O177=\"\",\"\",IF(I177=1,VLOOKUP(O177,男子種目コード!$A$2:$B$35,2,FALSE),IF(I177=2,VLOOKUP(O177,女子種目コード!$A$2:$B$35,2,FALSE))))","v":""},{"$f":"IF(O177=\"\",\"\",HLOOKUP(O177,前年度登録!$W$4:$AV$184,172,FALSE))","v":""},"","",null,{"$f":"IF(T177=\"\",\"\",IF(I177=1,VLOOKUP(T177,男子種目コード!$A$19:$B$31,2,FALSE),IF(I177=2,VLOOKUP(T177,女子種目コード!$A$19:$B$31,2,FALSE))))","v":""},null,"","",null,{"$f":"IF(Y177=\"\",\"\",IF(I177=1,VLOOKUP(Y177,男子種目コード!#REF!,2,FALSE),IF(I177=2,VLOOKUP(Y177,女子種目コード!#REF!,2,FALSE))))","v":""},null,null,{"$f":"IF(AB177=\"\",\"\",IF(I177=1,VLOOKUP(AB177,男子種目コード!#REF!,2,FALSE),IF(I177=2,VLOOKUP(AB177,女子種目コード!#REF!,2,FALSE))))","v":""},null,null,{"$f":"IF(AE177=\"\",\"\",IF(E177=1,VLOOKUP(AE177,男子種目コード!#REF!,2,FALSE),IF(E177=2,VLOOKUP(AE177,女子種目コード!#REF!,2,FALSE))))","v":""},null,null,null,"",0,null,null,null,null,null,null,null,null,null,null,null,null,0,"",""]
[0,{"$f":"前年度登録!O176","v":""},null,null,{"$f":"前年度登録!E176","v":0},{"$f":"前年度登録!BD176","v":""},{"$f":"前年度登録!V176","v":""},{"$f":"前年度登録!BD176","v":""},{"$f":"前年度登録!U176","v":""},{"$f":"前年度登録!I176","v":0},{"$f":"前年度登録!K176","v":0},{"$f":"前年度登録!BK176","v":"00"},{"$f":"前年度登録!P176","v":""},{"$f":"前年度登録!$Q$7","v":23},null,{"$f":"IF(O178=\"\",\"\",IF(I178=1,VLOOKUP(O178,男子種目コード!$A$2:$B$35,2,FALSE),IF(I178=2,VLOOKUP(O178,女子種目コード!$A$2:$B$35,2,FALSE))))","v":""},{"$f":"IF(O178=\"\",\"\",HLOOKUP(O178,前年度登録!$W$4:$AV$184,173,FALSE))","v":""},"","",null,{"$f":"IF(T178=\"\",\"\",IF(I178=1,VLOOKUP(T178,男子種目コード!$A$19:$B$31,2,FALSE),IF(I178=2,VLOOKUP(T178,女子種目コード!$A$19:$B$31,2,FALSE))))","v":""},null,"","",null,{"$f":"IF(Y178=\"\",\"\",IF(I178=1,VLOOKUP(Y178,男子種目コード!#REF!,2,FALSE),IF(I178=2,VLOOKUP(Y178,女子種目コード!#REF!,2,FALSE))))","v":""},null,null,{"$f":"IF(AB178=\"\",\"\",IF(I178=1,VLOOKUP(AB178,男子種目コード!#REF!,2,FALSE),IF(I178=2,VLOOKUP(AB178,女子種目コード!#REF!,2,FALSE))))","v":""},null,null,{"$f":"IF(AE178=\"\",\"\",IF(E178=1,VLOOKUP(AE178,男子種目コード!#REF!,2,FALSE),IF(E178=2,VLOOKUP(AE178,女子種目コード!#REF!,2,FALSE))))","v":""},null,null,null,"",0,null,null,null,null,null,null,null,null,null,null,null,null,0,"",""]
[0,{"$f":"前年度登録!O177","v":""},null,null,{"$f":"前年度登録!E177","v":0},{"$f":"前年度登録!BD177","v":""},{"$f":"前年度登録!V177","v":""},{"$f":"前年度登録!BD177","v":""},{"$f":"前年度登録!U177","v":""},{"$f":"前年度登録!I177","v":0},{"$f":"前年度登録!K177","v":0},{"$f":"前年度登録!BK177","v":"00"},{"$f":"前年度登録!P177","v":""},{"$f":"前年度登録!$Q$7","v":23},null,{"$f":"IF(O179=\"\",\"\",IF(I179=1,VLOOKUP(O179,男子種目コード!$A$2:$B$35,2,FALSE),IF(I179=2,VLOOKUP(O179,女子種目コード!$A$2:$B$35,2,FALSE))))","v":""},{"$f":"IF(O179=\"\",\"\",HLOOKUP(O179,前年度登録!$W$4:$AV$184,174,FALSE))","v":""},"","",null,{"$f":"IF(T179=\"\",\"\",IF(I179=1,VLOOKUP(T179,男子種目コード!$A$19:$B$31,2,FALSE),IF(I179=2,VLOOKUP(T179,女子種目コード!$A$19:$B$31,2,FALSE))))","v":""},null,"","",null,{"$f":"IF(Y179=\"\",\"\",IF(I179=1,VLOOKUP(Y179,男子種目コード!#REF!,2,FALSE),IF(I179=2,VLOOKUP(Y179,女子種目コード!#REF!,2,FALSE))))","v":""},null,null,{"$f":"IF(AB179=\"\",\"\",IF(I179=1,VLOOKUP(AB179,男子種目コード!#REF!,2,FALSE),IF(I179=2,VLOOKUP(AB179,女子種目コード!#REF!,2,FALSE))))","v":""},null,null,{"$f":"IF(AE179=\"\",\"\",IF(E179=1,VLOOKUP(AE179,男子種目コード!#REF!,2,FALSE),IF(E179=2,VLOOKUP(AE179,女子種目コード!#REF!,2,FALSE))))","v":""},null,null,null,"",0,null,null,null,null,null,null,null,null,null,null,null,null,0,"",""]
[0,{"$f":"前年度登録!O178","v":""},null,null,{"$f":"前年度登録!E178","v":0},{"$f":"前年度登録!BD178","v":""},{"$f":"前年度登録!V178","v":""},{"$f":"前年度登録!BD178","v":""},{"$f":"前年度登録!U178","v":""},{"$f":"前年度登録!I178","v":0},{"$f":"前年度登録!K178","v":0},{"$f":"前年度登録!BK178","v":"00"},{"$f":"前年度登録!P178","v":""},{"$f":"前年度登録!$Q$7","v":23},null,{"$f":"IF(O180=\"\",\"\",IF(I180=1,VLOOKUP(O180,男子種目コード!$A$2:$B$35,2,FALSE),IF(I180=2,VLOOKUP(O180,女子種目コード!$A$2:$B$35,2,FALSE))))","v":""},{"$f":"IF(O180=\"\",\"\",HLOOKUP(O180,前年度登録!$W$4:$AV$184,175,FALSE))","v":""},"","",null,{"$f":"IF(T180=\"\",\"\",IF(I180=1,VLOOKUP(T180,男子種目コード!$A$19:$B$31,2,FALSE),IF(I180=2,VLOOKUP(T180,女子種目コード!$A$19:$B$31,2,FALSE))))","v":""},null,"","",null,{"$f":"IF(Y180=\"\",\"\",IF(I180=1,VLOOKUP(Y180,男子種目コード!#REF!,2,FALSE),IF(I180=2,VLOOKUP(Y180,女子種目コード!#REF!,2,FALSE))))","v":""},null,null,{"$f":"IF(AB180=\"\",\"\",IF(I180=1,VLOOKUP(AB180,男子種目コード!#REF!,2,FALSE),IF(I180=2,VLOOKUP(AB180,女子種目コード!#REF!,2,FALSE))))","v":""},null,null,{"$f":"IF(AE180=\"\",\"\",IF(E180=1,VLOOKUP(AE180,男子種目コード!#REF!,2,FALSE),IF(E180=2,VLOOKUP(AE180,女子種目コード!#REF!,2,FALSE))))","v":""},null,null,null,"",0,null,null,null,null,null,null,null,null,null,null,null,null,0,"",""]
[0,{"$f":"前年度登録!O179","v":""},null,null,{"$f":"前年度登録!E179","v":0},{"$f":"前年度登録!BD179","v":""},{"$f":"前年度登録!V179","v":""},{"$f":"前年度登録!BD179","v":""},{"$f":"前年度登録!U179","v":""},{"$f":"前年度登録!I179","v":0},{"$f":"前年度登録!K179","v":0},{"$f":"前年度登録!BK179","v":"00"},{"$f":"前年度登録!P179","v":""},{"$f":"前年度登録!$Q$7","v":23},null,{"$f":"IF(O181=\"\",\"\",IF(I181=1,VLOOKUP(O181,男子種目コード!$A$2:$B$35,2,FALSE),IF(I181=2,VLOOKUP(O181,女子種目コード!$A$2:$B$35,2,FALSE))))","v":""},{"$f":"IF(O181=\"\",\"\",HLOOKUP(O181,前年度登録!$W$4:$AV$184,176,FALSE))","v":""},"","",null,{"$f":"IF(T181=\"\",\"\",IF(I181=1,VLOOKUP(T181,男子種目コード!$A$19:$B$31,2,FALSE),IF(I181=2,VLOOKUP(T181,女子種目コード!$A$19:$B$31,2,FALSE))))","v":""},null,"","",null,{"$f":"IF(Y181=\"\",\"\",IF(I181=1,VLOOKUP(Y181,男子種目コード!#REF!,2,FALSE),IF(I181=2,VLOOKUP(Y181,女子種目コード!#REF!,2,FALSE))))","v":""},null,null,{"$f":"IF(AB181=\"\",\"\",IF(I181=1,VLOOKUP(AB181,男子種目コード!#REF!,2,FALSE),IF(I181=2,VLOOKUP(AB181,女子種目コード!#REF!,2,FALSE))))","v":""},null,null,{"$f":"IF(AE181=\"\",\"\",IF(E181=1,VLOOKUP(AE181,男子種目コード!#REF!,2,FALSE),IF(E181=2,VLOOKUP(AE181,女子種目コード!#REF!,2,FALSE))))","v":""},null,null,null,"",0,null,null,null,null,null,null,null,null,null,null,null,null,0,"",""]
[0,{"$f":"前年度登録!O180","v":""},null,null,{"$f":"前年度登録!E180","v":0},{"$f":"前年度登録!BD180","v":""},{"$f":"前年度登録!V180","v":""},{"$f":"前年度登録!BD180","v":""},{"$f":"前年度登録!U180","v":""},{"$f":"前年度登録!I180","v":0},{"$f":"前年度登録!K180","v":0},{"$f":"前年度登録!BK180","v":"00"},{"$f":"前年度登録!P180","v":""},{"$f":"前年度登録!$Q$7","v":23},null,{"$f":"IF(O182=\"\",\"\",IF(I182=1,VLOOKUP(O182,男子種目コード!$A$2:$B$35,2,FALSE),IF(I182=2,VLOOKUP(O182,女子種目コード!$A$2:$B$35,2,FALSE))))","v":""},{"$f":"IF(O182=\"\",\"\",HLOOKUP(O182,前年度登録!$W$4:$AV$184,177,FALSE))","v":""},"","",null,{"$f":"IF(T182=\"\",\"\",IF(I182=1,VLOOKUP(T182,男子種目コード!$A$19:$B$31,2,FALSE),IF(I182=2,VLOOKUP(T182,女子種目コード!$A$19:$B$31,2,FALSE))))","v":""},null,"","",null,{"$f":"IF(Y182=\"\",\"\",IF(I182=1,VLOOKUP(Y182,男子種目コード!#REF!,2,FALSE),IF(I182=2,VLOOKUP(Y182,女子種目コード!#REF!,2,FALSE))))","v":""},null,null,{"$f":"IF(AB182=\"\",\"\",IF(I182=1,VLOOKUP(AB182,男子種目コード!#REF!,2,FALSE),IF(I182=2,VLOOKUP(AB182,女子種目コード!#REF!,2,FALSE))))","v":""},null,null,{"$f":"IF(AE182=\"\",\"\",IF(E182=1,VLOOKUP(AE182,男子種目コード!#REF!,2,FALSE),IF(E182=2,VLOOKUP(AE182,女子種目コード!#REF!,2,FALSE))))","v":""},null,null,null,"",0,null,null,null,null,null,null,null,null,null,null,null,null,0,"",""]
[0,{"$f":"前年度登録!O181","v":""},null,null,{"$f":"前年度登録!E181","v":0},{"$f":"前年度登録!BD181","v":""},{"$f":"前年度登録!V181","v":""},{"$f":"前年度登録!BD181","v":""},{"$f":"前年度登録!U181","v":""},{"$f":"前年度登録!I181","v":0},{"$f":"前年度登録!K181","v":0},{"$f":"前年度登録!BK181","v":"00"},{"$f":"前年度登録!P181","v":""},{"$f":"前年度登録!$Q$7","v":23},null,{"$f":"IF(O183=\"\",\"\",IF(I183=1,VLOOKUP(O183,男子種目コード!$A$2:$B$35,2,FALSE),IF(I183=2,VLOOKUP(O183,女子種目コード!$A$2:$B$35,2,FALSE))))","v":""},{"$f":"IF(O183=\"\",\"\",HLOOKUP(O183,前年度登録!$W$4:$AV$184,178,FALSE))","v":""},"","",null,{"$f":"IF(T183=\"\",\"\",IF(I183=1,VLOOKUP(T183,男子種目コード!$A$19:$B$31,2,FALSE),IF(I183=2,VLOOKUP(T183,女子種目コード!$A$19:$B$31,2,FALSE))))","v":""},null,"","",null,{"$f":"IF(Y183=\"\",\"\",IF(I183=1,VLOOKUP(Y183,男子種目コード!#REF!,2,FALSE),IF(I183=2,VLOOKUP(Y183,女子種目コード!#REF!,2,FALSE))))","v":""},null,null,{"$f":"IF(AB183=\"\",\"\",IF(I183=1,VLOOKUP(AB183,男子種目コード!#REF!,2,FALSE),IF(I183=2,VLOOKUP(AB183,女子種目コード!#REF!,2,FALSE))))","v":""},null,null,{"$f":"IF(AE183=\"\",\"\",IF(E183=1,VLOOKUP(AE183,男子種目コード!#REF!,2,FALSE),IF(E183=2,VLOOKUP(AE183,女子種目コード!#REF!,2,FALSE))))","v":""},null,null,null,"",0,null,null,null,null,null,null,null,null,null,null,null,null,0,"",""]
[0,{"$f":"前年度登録!O182","v":""},null,null,{"$f":"前年度登録!E182","v":0},{"$f":"前年度登録!BD182","v":""},{"$f":"前年度登録!V182","v":""},{"$f":"前年度登録!BD182","v":""},{"$f":"前年度登録!U182","v":""},{"$f":"前年度登録!I182","v":0},{"$f":"前年度登録!K182","v":0},{"$f":"前年度登録!BK182","v":"00"},{"$f":"前年度登録!P182","v":""},{"$f":"前年度登録!$Q$7","v":23},null,{"$f":"IF(O184=\"\",\"\",IF(I184=1,VLOOKUP(O184,男子種目コード!$A$2:$B$35,2,FALSE),IF(I184=2,VLOOKUP(O184,女子種目コード!$A$2:$B$35,2,FALSE))))","v":""},{"$f":"IF(O184=\"\",\"\",HLOOKUP(O184,前年度登録!$W$4:$AV$184,179,FALSE))","v":""},"","",null,{"$f":"IF(T184=\"\",\"\",IF(I184=1,VLOOKUP(T184,男子種目コード!$A$19:$B$31,2,FALSE),IF(I184=2,VLOOKUP(T184,女子種目コード!$A$19:$B$31,2,FALSE))))","v":""},null,"","",null,{"$f":"IF(Y184=\"\",\"\",IF(I184=1,VLOOKUP(Y184,男子種目コード!#REF!,2,FALSE),IF(I184=2,VLOOKUP(Y184,女子種目コード!#REF!,2,FALSE))))","v":""},null,null,{"$f":"IF(AB184=\"\",\"\",IF(I184=1,VLOOKUP(AB184,男子種目コード!#REF!,2,FALSE),IF(I184=2,VLOOKUP(AB184,女子種目コード!#REF!,2,FALSE))))","v":""},null,null,{"$f":"IF(AE184=\"\",\"\",IF(E184=1,VLOOKUP(AE184,男子種目コード!#REF!,2,FALSE),IF(E184=2,VLOOKUP(AE184,女子種目コード!#REF!,2,FALSE))))","v":""},null,null,null,"",0,null,null,null,null,null,null,null,null,null,null,null,null,0,"",""]
[0,{"$f":"前年度登録!O183","v":""},null,null,{"$f":"前年度登録!E183","v":0},{"$f":"前年度登録!BD183","v":""},{"$f":"前年度登録!V183","v":""},{"$f":"前年度登録!BD183","v":""},{"$f":"前年度登録!U183","v":""},{"$f":"前年度登録!I183","v":0},{"$f":"前年度登録!K183","v":0},{"$f":"前年度登録!BK183","v":"00"},{"$f":"前年度登録!P183","v":""},{"$f":"前年度登録!$Q$7","v":23},null,{"$f":"IF(O185=\"\",\"\",IF(I185=1,VLOOKUP(O185,男子種目コード!$A$2:$B$35,2,FALSE),IF(I185=2,VLOOKUP(O185,女子種目コード!$A$2:$B$35,2,FALSE))))","v":""},{"$f":"IF(O185=\"\",\"\",HLOOKUP(O185,前年度登録!$W$4:$AV$184,180,FALSE))","v":""},"","",null,{"$f":"IF(T185=\"\",\"\",IF(I185=1,VLOOKUP(T185,男子種目コード!$A$19:$B$31,2,FALSE),IF(I185=2,VLOOKUP(T185,女子種目コード!$A$19:$B$31,2,FALSE))))","v":""},null,"","",null,{"$f":"IF(Y185=\"\",\"\",IF(I185=1,VLOOKUP(Y185,男子種目コード!#REF!,2,FALSE),IF(I185=2,VLOOKUP(Y185,女子種目コード!#REF!,2,FALSE))))","v":""},null,null,{"$f":"IF(AB185=\"\",\"\",IF(I185=1,VLOOKUP(AB185,男子種目コード!#REF!,2,FALSE),IF(I185=2,VLOOKUP(AB185,女子種目コード!#REF!,2,FALSE))))","v":""},null,null,{"$f":"IF(AE185=\"\",\"\",IF(E185=1,VLOOKUP(AE185,男子種目コード!#REF!,2,FALSE),IF(E185=2,VLOOKUP(AE185,女子種目コード!#REF!,2,FALSE))))","v":""},null,null,null,"",0,null,null,null,null,null,null,null,null,null,null,null,null,0,"",""]
[0,{"$f":"前年度登録!O184","v":""},null,null,{"$f":"前年度登録!E184","v":0},{"$f":"前年度登録!BD184","v":""},{"$f":"前年度登録!V184","v":""},{"$f":"前年度登録!BD184","v":""},{"$f":"前年度登録!U184","v":""},{"$f":"前年度登録!I184","v":0},{"$f":"前年度登録!K184","v":0},{"$f":"前年度登録!BK184","v":"00"},{"$f":"前年度登録!P184","v":""},{"$f":"前年度登録!$Q$7","v":23},null,{"$f":"IF(O186=\"\",\"\",IF(I186=1,VLOOKUP(O186,男子種目コード!$A$2:$B$35,2,FALSE),IF(I186=2,VLOOKUP(O186,女子種目コード!$A$2:$B$35,2,FALSE))))","v":""},{"$f":"IF(O186=\"\",\"\",HLOOKUP(O186,前年度登録!$W$4:$AV$184,181,FALSE))","v":""},"","",null,{"$f":"IF(T186=\"\",\"\",IF(I186=1,VLOOKUP(T186,男子種目コード!$A$19:$B$31,2,FALSE),IF(I186=2,VLOOKUP(T186,女子種目コード!$A$19:$B$31,2,FALSE))))","v":""},null,"","",null,{"$f":"IF(Y186=\"\",\"\",IF(I186=1,VLOOKUP(Y186,男子種目コード!#REF!,2,FALSE),IF(I186=2,VLOOKUP(Y186,女子種目コード!#REF!,2,FALSE))))","v":""},null,null,{"$f":"IF(AB186=\"\",\"\",IF(I186=1,VLOOKUP(AB186,男子種目コード!#REF!,2,FALSE),IF(I186=2,VLOOKUP(AB186,女子種目コード!#REF!,2,FALSE))))","v":""},null,null,{"$f":"IF(AE186=\"\",\"\",IF(E186=1,VLOOKUP(AE186,男子種目コード!#REF!,2,FALSE),IF(E186=2,VLOOKUP(AE186,女子種目コード!#REF!,2,FALSE))))","v":""},null,null,null,"",0,null,null,null,null,null,null,null,null,null,null,null,null,0,"",""]
[null,null,null,null,null,null,null,null,null,null,null,null,null,null,null,null,null,null,null,null,null,null,null,null,null,null,null,null,{"$f":"SUM(AJ7:AJ186)","v":0},{"$f":"SUM(AK7:AK186)","v":0}]
[null,null,null,null,null,null,null,null,null,null,null,null,null,null,null,null,null,null,null,null,null,null,null,null,null,null,null,null,{"$f":"SUM(AC187:AD187)","v":0}]

{"sheet":"クラブ対抗","index":7,"n_rows":186,"n_cols":63,"rows_kept":186,"cut":false,"hidden":false,"merged":[[53,44,53,45],[37,40,37,41],[37,42,37,43],[37,44,37,45],[45,40,45,41],[45,42,45,43],[45,44,45,45],[21,40,21,41],[21,42,21,43],[21,44,21,45],[29,40,29,41],[29,42,29,43],[29,44,29,45],[13,40,13,41],[13,42,13,43],[13,44,13,45],[5,34,5,35],[5,40,5,41],[5,42,5,43],[5,44,5,45]]}
[null,null,null,null,"所属名",{"$f":"名簿!B1","v":0},null,null,"三重県小学生クラブ対抗"]
[null,null,null,null,"所属コード",{"$f":"名簿!O5","v":""},null,null,null,"男子参加人数",null,null,null,null,{"$f":"COUNTIF($I$7:$I$186,1)-COUNTIF($AM$7:$AM$186,0)","v":0}]
[null,null,null,null,"監督名",{"$f":"名簿!B2","v":0},null,null,null,"女子参加人数",null,null,null,null,{"$f":"COUNTIF($I$7:$I$186,2)-COUNTIF($AN$7:$AN$186,0)","v":0},null,{"$f":"O2+O3","v":0}]
[null,null,null,null,"連絡先",{"$f":"名簿!G2","v":0},null,null,null,"大会参加費",null,null,null,null,{"$f":"COUNTA(O7:O186)*1000+$BK$62*2000+AQ4*800","v":0},null,null,null,null,null,null,null,null,null,null,null,null,null,null,null,null,null,null,null,null,null,null,null,null,null,null,"プログラム冊数",null,"冊"]
[null,null,null,null,"クラブ登録したチームしか参加できません",null,null,null,null,null,null,null,null,null,{"$f":"COUNTA(O7:O186)","v":0}]
["競技者コード","所属コード",null,null,"ナンバー","名前","カナ名","掲示板名","性別","学年","生年","月日","個人所属地コード","陸連コード","種目","コード","記録",null,null,"リレー","コード","記録",null,null,"コード","自己記録3","コード","自己記録4","コード","自己記録5",null,null,null,"3年60","1種目3名以内",null,null,"種目","男子","女子","男子4×100mR",null,"女子4×100mR",null,"混成4×100mR-A",null,null,"5･6年1000",null,null,"種目","男子","女子"]
[{"$f":"T7","v":0},{"$f":"名簿!O5","v":""},null,null,{"$f":"名簿!E5","v":0},{"$f":"名簿!BD5","v":""},{"$f":"名簿!V5","v":""},{"$f":"名簿!BD5","v":""},{"$f":"名簿!U5","v":""},{"$f":"名簿!I5","v":0},{"$f":"名簿!K5","v":0},{"$f":"名簿!BK5","v":"00"},{"$f":"名簿!P5","v":""},{"$f":"IF(F7=\"\",\"\",名簿!$Q$7)","v":""},null,{"$f":"IF(O7=\"\",\"\",IF(I7=1,VLOOKUP(O7,$AI$8:$AK$16,3,FALSE),IF(I7=2,VLOOKUP(O7,$AI$19:$AK$27,3,FALSE))))","v":""},{"$f":"IF(O7=\"\",\"\",HLOOKUP(O7,名簿!$W$4:$AV$184,2,FALSE))","v":""},{"$f":"IF(O7=\"\",\"\",0)","v":""},{"$f":"IF(O7=\"\",\"\",2)","v":""},null,{"$f":"IF(T7=\"\",\"\",IF(I7=1,VLOOKUP(T7,男子種目コード!$D:$E,2,FALSE),IF(I7=2,VLOOKUP(T7,女子種目コード!$D:$E,2,FALSE))))","v":""},null,{"$f":"IF(T7=\"\",\"\",0)","v":""},{"$f":"IF(T7=\"\",\"\",2)","v":""},null,null,null,null,null,null,null,null,{"$f":"COUNTA(O7:O186)","v":0},"4年100","男子",null,null,{"$f":"COUNT(P7,U7)","v":0},{"$f":"IF(I7=1,AL7,\"\")","v":""},{"$f":"IF(I7=2,AL7,\"\")","v":""},"記録",null,"記録",null,"記録",null,null,"5･6年80H",null,null,{"$f":"COUNT(P7,U7)","v":0},{"$f":"IF(I7=1,AY7,\"\")","v":""},{"$f":"IF(I7=2,AY7,\"\")","v":""}]
[{"$f":"T8","v":0},{"$f":"名簿!O6","v":""},null,null,{"$f":"名簿!E6","v":0},{"$f":"名簿!BD6","v":""},{"$f":"名簿!V6","v":""},{"$f":"名簿!BD6","v":""},{"$f":"名簿!U6","v":""},{"$f":"名簿!I6","v":0},{"$f":"名簿!K6","v":0},{"$f":"名簿!BK6","v":"00"},{"$f":"名簿!P6","v":""},{"$f":"IF(F8=\"\",\"\",名簿!$Q$7)","v":""},null,{"$f":"IF(O8=\"\",\"\",IF(I8=1,VLOOKUP(O8,$AI$8:$AK$16,3,FALSE),IF(I8=2,VLOOKUP(O8,$AI$19:$AK$27,3,FALSE))))","v":""},{"$f":"IF(O8=\"\",\"\",HLOOKUP(O8,名簿!$W$4:$AV$184,3,FALSE))","v":""},{"$f":"IF(O8=\"\",\"\",0)","v":""},{"$f":"IF(O8=\"\",\"\",2)","v":""},null,{"$f":"IF(T8=\"\",\"\",IF(I8=1,VLOOKUP(T8,男子種目コード!$D:$E,2,FALSE),IF(I8=2,VLOOKUP(T8,女子種目コード!$D:$E,2,FALSE))))","v":""},null,{"$f":"IF(T8=\"\",\"\",0)","v":""},{"$f":"IF(T8=\"\",\"\",2)","v":""},null,null,null,null,null,null,null,null,null,"5年100","3年60",{"$f":"COUNTIF($P$7:$P$186,103)","v":0},103,0,"","",{"$f":"IF(ISERROR(BB8),\"\",BB8)","v":""},"","","","","",null,"5･6年走幅跳",null,null,0,"","",{"$f":"VLookUpX(\"男子A\",$A$7:$F$186,1,5)","v":{"$error":"#N/A"}},{"$f":"VLookUpX(\"男子A\",$A$7:$F$186,1,6)","v":{"$error":"#N/A"}},{"$f":"VLookUpX(\"女子A\",$A$7:$F$186,1,5)","v":{"$error":"#N/A"}},{"$f":"VLookUpX(\"女子A\",$A$7:$F$186,1,6)","v":{"$error":"#N/A"}},{"$f":"VLookUpX(\"混成A\",$A$7:$F$186,1,5)","v":{"$error":"#N/A"}},{"$f":"VLookUpX(\"混成A\",$A$7:$F$186,1,6)","v":{"$error":"#N/A"}},{"$f":"IF(AO8=\"\",\"\",1)","v":""},{"$f":"IF(AQ8=\"\",\"\",1)","v":""},{"$f":"IF(AS8=\"\",\"\",1)","v":""}]
[0,{"$f":"名簿!O7","v":""},null,null,{"$f":"名簿!E7","v":0},{"$f":"名簿!BD7","v":""},{"$f":"名簿!V7","v":""},{"$f":"名簿!BD7","v":""},{"$f":"名簿!U7","v":""},{"$f":"名簿!I7","v":0},{"$f":"名簿!K7","v":0},{"$f":"名簿!BK7","v":"00"},{"$f":"名簿!P7","v":""},{"$f":"IF(F9=\"\",\"\",名簿!$Q$7)","v":""},null,{"$f":"IF(O9=\"\",\"\",IF(I9=1,VLOOKUP(O9,$AI$8:$AK$16,3,FALSE),IF(I9=2,VLOOKUP(O9,$AI$19:$AK$27,3,FALSE))))","v":""},{"$f":"IF(O9=\"\",\"\",HLOOKUP(O9,名簿!$W$4:$AV$184,4,FALSE))","v":""},"","",null,{"$f":"IF(T9=\"\",\"\",IF(I9=1,VLOOKUP(T9,男子種目コード!$D:$E,2,FALSE),IF(I9=2,VLOOKUP(T9,女子種目コード!$D:$E,2,FALSE))))","v":""},null,"","",null,null,null,null,null,null,null,null,null,"5･6年800","4年100",{"$f":"COUNTIF($P$7:$P$186,104)","v":0},104,0,"","","","","","","","",{"$f":"IF(AT27>0,1,0)","v":1},"5･6年ボール投",null,null,0,"","",{"$f":"VLookUpX(\"男子A\",$A$7:$F$186,2,5)","v":{"$error":"#N/A"}},{"$f":"VLookUpX(\"男子A\",$A$7:$F$186,2,6)","v":{"$error":"#N/A"}},{"$f":"VLookUpX(\"女子A\",$A$7:$F$186,2,5)","v":{"$error":"#N/A"}},{"$f":"VLookUpX(\"女子A\",$A$7:$F$186,2,6)","v":{"$error":"#N/A"}},{"$f":"VLookUpX(\"混成A\",$A$7:$F$186,2,5)","v":{"$error":"#N/A"}},{"$f":"VLookUpX(\"混成A\",$A$7:$F$186,2,6)","v":{"$error":"#N/A"}}]
[0,{"$f":"名簿!O8","v":""},null,null,{"$f":"名簿!E8","v":0},{"$f":"名簿!BD8","v":""},{"$f":"名簿!V8","v":""},{"$f":"名簿!BD8","v":""},{"$f":"名簿!U8","v":""},{"$f":"名簿!I8","v":0},{"$f":"名簿!K8","v":0},{"$f":"名簿!BK8","v":"00"},{"$f":"名簿!P8","v":""},{"$f":"IF(F10=\"\",\"\",名簿!$Q$7)","v":""},null,"",{"$f":"IF(O10=\"\",\"\",HLOOKUP(O10,名簿!$W$4:$AV$184,5,FALSE))","v":""},"","",null,{"$f":"IF(T10=\"\",\"\",IF(I10=1,VLOOKUP(T10,男子種目コード!$D:$E,2,FALSE),IF(I10=2,VLOOKUP(T10,女子種目コード!$D:$E,2,FALSE))))","v":""},null,"","",null,null,null,null,null,null,null,null,null,"5･6年80H","5年100",{"$f":"COUNTIF($P$7:$P$186,105)","v":0},105,0,"","","","","","","","",{"$f":"IF(AT28>0,1,0)","v":1},"6年100",null,null,0,"","",{"$f":"VLookUpX(\"男子A\",$A$7:$F$186,3,5)","v":{"$error":"#N/A"}},{"$f":"VLookUpX(\"男子A\",$A$7:$F$186,3,6)","v":{"$error":"#N/A"}},{"$f":"VLookUpX(\"女子A\",$A$7:$F$186,3,5)","v":{"$error":"#N/A"}},{"$f":"VLookUpX(\"女子A\",$A$7:$F$186,3,6)","v":{"$error":"#N/A"}},{"$f":"VLookUpX(\"混成A\",$A$7:$F$186,3,5)","v":{"$error":"#N/A"}},{"$f":"VLookUpX(\"混成A\",$A$7:$F$186,3,6)","v":{"$error":"#N/A"}}]
[0,{"$f":"名簿!O9","v":""},null,null,{"$f":"名簿!E9","v":0},{"$f":"名簿!BD9","v":""},{"$f":"名簿!V9","v":""},{"$f":"名簿!BD9","v":""},{"$f":"名簿!U9","v":""},{"$f":"名簿!I9","v":0},{"$f":"名簿!K9","v":0},{"$f":"名簿!BK9","v":"00"},{"$f":"名簿!P9","v":""},{"$f":"IF(F11=\"\",\"\",名簿!$Q$7)","v":""},null,"",{"$f":"IF(O11=\"\",\"\",HLOOKUP(O11,名簿!$W$4:$AV$184,6,FALSE))","v":""},"","",null,{"$f":"IF(T11=\"\",\"\",IF(I11=1,VLOOKUP(T11,男子種目コード!$D:$E,2,FALSE),IF(I11=2,VLOOKUP(T11,女子種目コード!$D:$E,2,FALSE))))","v":""},null,"","",null,null,null,null,null,null,null,null,null,"5･6年走高跳","6年100",{"$f":"COUNTIF($P$7:$P$186,106)","v":0},106,0,"","","","","","","","",1,"5･6年1000",null,null,0,"","",{"$f":"VLookUpX(\"男子A\",$A$7:$F$186,4,5)","v":{"$error":"#N/A"}},{"$f":"VLookUpX(\"男子A\",$A$7:$F$186,4,6)","v":{"$error":"#N/A"}},{"$f":"VLookUpX(\"女子A\",$A$7:$F$186,4,5)","v":{"$error":"#N/A"}},{"$f":"VLookUpX(\"女子A\",$A$7:$F$186,4,6)","v":{"$error":"#N/A"}},{"$f":"VLookUpX(\"混成A\",$A$7:$F$186,4,5)","v":{"$error":"#N/A"}},{"$f":"VLookUpX(\"混成A\",$A$7:$F$186,4,6)","v":{"$error":"#N/A"}}]
[0,{"$f":"名簿!O10","v":""},null,null,{"$f":"名簿!E10","v":0},{"$f":"名簿!BD10","v":""},{"$f":"名簿!V10","v":""},{"$f":"名簿!BD10","v":""},{"$f":"名簿!U10","v":""},{"$f":"名簿!I10","v":0},{"$f":"名簿!K10","v":0},{"$f":"名簿!BK10","v":"00"},{"$f":"名簿!P10","v":""},{"$f":"IF(F12=\"\",\"\",名簿!$Q$7)","v":""},null,"",{"$f":"IF(O12=\"\",\"\",HLOOKUP(O12,名簿!$W$4:$AV$184,7,FALSE))","v":""},"","",null,{"$f":"IF(T12=\"\",\"\",IF(I12=1,VLOOKUP(T12,男子種目コード!$D:$E,2,FALSE),IF(I12=2,VLOOKUP(T12,女子種目コード!$D:$E,2,FALSE))))","v":""},null,"","",null,null,null,null,null,null,null,null,null,"5･6年走幅跳","5･6年800",{"$f":"COUNTIF($P$7:$P$186,109)","v":0},109,0,"","","","","","","","",0,"5･6年80H",null,null,0,"","",{"$f":"VLookUpX(\"男子A\",$A$7:$F$186,5,5)","v":{"$error":"#N/A"}},{"$f":"VLookUpX(\"男子A\",$A$7:$F$186,5,6)","v":{"$error":"#N/A"}},{"$f":"VLookUpX(\"女子A\",$A$7:$F$186,5,5)","v":{"$error":"#N/A"}},{"$f":"VLookUpX(\"女子A\",$A$7:$F$186,5,6)","v":{"$error":"#N/A"}},{"$f":"VLookUpX(\"混成A\",$A$7:$F$186,5,5)","v":{"$error":"#N/A"}},{"$f":"VLookUpX(\"混成A\",$A$7:$F$186,5,6)","v":{"$error":"#N/A"}}]
[0,{"$f":"名簿!O11","v":""},null,null,{"$f":"名簿!E11","v":0},{"$f":"名簿!BD11","v":""},{"$f":"名簿!V11","v":""},{"$f":"名簿!BD11","v":""},{"$f":"名簿!U11","v":""},{"$f":"名簿!I11","v":0},{"$f":"名簿!K11","v":0},{"$f":"名簿!BK11","v":"00"},{"$f":"名簿!P11","v":""},{"$f":"IF(F13=\"\",\"\",名簿!$Q$7)","v":""},null,"",{"$f":"IF(O13=\"\",\"\",HLOOKUP(O13,名簿!$W$4:$AV$184,8,FALSE))","v":""},"","",null,{"$f":"IF(T13=\"\",\"\",IF(I13=1,VLOOKUP(T13,男子種目コード!$D:$E,2,FALSE),IF(I13=2,VLOOKUP(T13,女子種目コード!$D:$E,2,FALSE))))","v":""},null,"","",null,null,null,null,null,null,null,null,null,"5･6年ｼﾞｬﾍﾞﾘｯｸ","5･6年80H",{"$f":"COUNTIF($P$7:$P$186,110)","v":0},110,0,"","","","","","","","",0,"5･6年走幅跳",null,null,0,"","",{"$f":"VLookUpX(\"男子A\",$A$7:$F$186,6,5)","v":{"$error":"#N/A"}},{"$f":"VLookUpX(\"男子A\",$A$7:$F$186,6,6)","v":{"$error":"#N/A"}},{"$f":"VLookUpX(\"女子A\",$A$7:$F$186,6,5)","v":{"$error":"#N/A"}},{"$f":"VLookUpX(\"女子A\",$A$7:$F$186,6,6)","v":{"$error":"#N/A"}},{"$f":"VLookUpX(\"混成A\",$A$7:$F$186,6,5)","v":{"$error":"#N/A"}},{"$f":"VLookUpX(\"混成A\",$A$7:$F$186,6,6)","v":{"$error":"#N/A"}}]
[0,{"$f":"名簿!O12","v":""},null,null,{"$f":"名簿!E12","v":0},{"$f":"名簿!BD12","v":""},{"$f":"名簿!V12","v":""},{"$f":"名簿!BD12","v":""},{"$f":"名簿!U12","v":""},{"$f":"名簿!I12","v":0},{"$f":"名簿!K12","v":0},{"$f":"名簿!BK12","v":"00"},{"$f":"名簿!P12","v":""},{"$f":"IF(F14=\"\",\"\",名簿!$Q$7)","v":""},null,"",{"$f":"IF(O14=\"\",\"\",HLOOKUP(O14,名簿!$W$4:$AV$184,9,FALSE))","v":""},"","",null,{"$f":"IF(T14=\"\",\"\",IF(I14=1,VLOOKUP(T14,男子種目コード!$D:$E,2,FALSE),IF(I14=2,VLOOKUP(T14,女子種目コード!$D:$E,2,FALSE))))","v":""},null,"","",null,null,null,null,null,null,null,null,null,"6年100","5･6年走高跳",{"$f":"COUNTIF($P$7:$P$186,113)","v":0},113,0,"","",null,null,null,null,"男子4×100mR-B",null,1,"5･6年ボール投",null,null,0,"",""]
[0,{"$f":"名簿!O13","v":""},null,null,{"$f":"名簿!E13","v":0},{"$f":"名簿!BD13","v":""},{"$f":"名簿!V13","v":""},{"$f":"名簿!BD13","v":""},{"$f":"名簿!U13","v":""},{"$f":"名簿!I13","v":0},{"$f":"名簿!K13","v":0},{"$f":"名簿!BK13","v":"00"},{"$f":"名簿!P13","v":""},{"$f":"IF(F15=\"\",\"\",名簿!$Q$7)","v":""},null,"",{"$f":"IF(O15=\"\",\"\",HLOOKUP(O15,名簿!$W$4:$AV$184,10,FALSE))","v":""},"","",null,{"$f":"IF(T15=\"\",\"\",IF(I15=1,VLOOKUP(T15,男子種目コード!$D:$E,2,FALSE),IF(I15=2,VLOOKUP(T15,女子種目コード!$D:$E,2,FALSE))))","v":""},null,"","",null,null,null,null,null,null,null,null,null,"5･6年800","5･6年走幅跳",{"$f":"COUNTIF($P$7:$P$186,116)","v":0},116,0,"","",null,null,null,null,"記録",null,null,"混成A",null,null,0,"",""]
[0,{"$f":"名簿!O14","v":""},null,null,{"$f":"名簿!E14","v":0},{"$f":"名簿!BD14","v":""},{"$f":"名簿!V14","v":""},{"$f":"名簿!BD14","v":""},{"$f":"名簿!U14","v":""},{"$f":"名簿!I14","v":0},{"$f":"名簿!K14","v":0},{"$f":"名簿!BK14","v":"00"},{"$f":"名簿!P14","v":""},{"$f":"IF(F16=\"\",\"\",名簿!$Q$7)","v":""},null,"",{"$f":"IF(O16=\"\",\"\",HLOOKUP(O16,名簿!$W$4:$AV$184,11,FALSE))","v":""},"","",null,{"$f":"IF(T16=\"\",\"\",IF(I16=1,VLOOKUP(T16,男子種目コード!$D:$E,2,FALSE),IF(I16=2,VLOOKUP(T16,女子種目コード!$D:$E,2,FALSE))))","v":""},null,"","",null,null,null,null,null,null,null,null,null,"5･6年80H","5･6年ｼﾞｬﾍﾞﾘｯｸ",{"$f":"COUNTIF($P$7:$P$186,117)","v":0},117,0,"","",{"$f":"IF(ISERROR(BB16),\"\",BB16)","v":""},"","","","","",null,"混成B",null,null,0,"","",{"$f":"VLookUpX(\"男子B\",$A$7:$F$186,1,5)","v":{"$error":"#N/A"}},{"$f":"VLookUpX(\"男子B\",$A$7:$F$186,1,6)","v":{"$error":"#N/A"}},{"$f":"VLookUpX(\"女子B\",$A$7:$F$186,1,5)","v":{"$error":"#N/A"}},{"$f":"VLookUpX(\"女子B\",$A$7:$F$186,1,6)","v":{"$error":"#N/A"}},{"$f":"VLookUpX(\"混成B\",$A$7:$F$186,1,5)","v":{"$error":"#N/A"}},{"$f":"VLookUpX(\"混成B\",$A$7:$F$186,1,6)","v":{"$error":"#N/A"}},{"$f":"IF(AO16=\"\",\"\",1)","v":""},{"$f":"IF(AQ16=\"\",\"\",1)","v":""},{"$f":"IF(AS16=\"\",\"\",1)","v":""}]
[0,{"$f":"名簿!O15","v":""},null,null,{"$f":"名簿!E15","v":0},{"$f":"名簿!BD15","v":""},{"$f":"名簿!V15","v":""},{"$f":"名簿!BD15","v":""},{"$f":"名簿!U15","v":""},{"$f":"名簿!I15","v":0},{"$f":"名簿!K15","v":0},{"$f":"名簿!BK15","v":"00"},{"$f":"名簿!P15","v":""},{"$f":"IF(F17=\"\",\"\",名簿!$Q$7)","v":""},null,"",{"$f":"IF(O17=\"\",\"\",HLOOKUP(O17,名簿!$W$4:$AV$184,12,FALSE))","v":""},"","",null,{"$f":"IF(T17=\"\",\"\",IF(I17=1,VLOOKUP(T17,男子種目コード!$D:$E,2,FALSE),IF(I17=2,VLOOKUP(T17,女子種目コード!$D:$E,2,FALSE))))","v":""},null,"","",null,null,null,null,null,null,null,null,null,"5･6年走高跳","計",{"$f":"SUM(AJ8:AJ16)","v":0},null,0,"","","","","","","","",1,"混成C",null,null,0,"","",{"$f":"VLookUpX(\"男子B\",$A$7:$F$186,2,5)","v":{"$error":"#N/A"}},{"$f":"VLookUpX(\"男子B\",$A$7:$F$186,2,6)","v":{"$error":"#N/A"}},{"$f":"VLookUpX(\"女子B\",$A$7:$F$186,2,5)","v":{"$error":"#N/A"}},{"$f":"VLookUpX(\"女子B\",$A$7:$F$186,2,6)","v":{"$error":"#N/A"}},{"$f":"VLookUpX(\"混成B\",$A$7:$F$186,2,5)","v":{"$error":"#N/A"}},{"$f":"VLookUpX(\"混成B\",$A$7:$F$186,2,6)","v":{"$error":"#N/A"}}]
[0,{"$f":"名簿!O16","v":""},null,null,{"$f":"名簿!E16","v":0},{"$f":"名簿!BD16","v":""},{"$f":"名簿!V16","v":""},{"$f":"名簿!BD16","v":""},{"$f":"名簿!U16","v":""},{"$f":"名簿!I16","v":0},{"$f":"名簿!K16","v":0},{"$f":"名簿!BK16","v":"00"},{"$f":"名簿!P16","v":""},{"$f":"IF(F18=\"\",\"\",名簿!$Q$7)","v":""},null,"",{"$f":"IF(O18=\"\",\"\",HLOOKUP(O18,名簿!$W$4:$AV$184,13,FALSE))","v":""},"","",null,{"$f":"IF(T18=\"\",\"\",IF(I18=1,VLOOKUP(T18,男子種目コード!$D:$E,2,FALSE),IF(I18=2,VLOOKUP(T18,女子種目コード!$D:$E,2,FALSE))))","v":""},null,"","",null,null,null,null,null,null,null,null,null,"5･6年走幅跳","女子",null,null,0,"","","","","","","","",1,"混成D",null,null,0,"","",{"$f":"VLookUpX(\"男子B\",$A$7:$F$186,3,5)","v":{"$error":"#N/A"}},{"$f":"VLookUpX(\"男子B\",$A$7:$F$186,3,6)","v":{"$error":"#N/A"}},{"$f":"VLookUpX(\"女子B\",$A$7:$F$186,3,5)","v":{"$error":"#N/A"}},{"$f":"VLookUpX(\"女子B\",$A$7:$F$186,3,6)","v":{"$error":"#N/A"}},{"$f":"VLookUpX(\"混成B\",$A$7:$F$186,3,5)","v":{"$error":"#N/A"}},{"$f":"VLookUpX(\"混成B\",$A$7:$F$186,3,6)","v":{"$error":"#N/A"}}]
[0,{"$f":"名簿!O17","v":""},null,null,{"$f":"名簿!E17","v":0},{"$f":"名簿!BD17","v":""},{"$f":"名簿!V17","v":""},{"$f":"名簿!BD17","v":""},{"$f":"名簿!U17","v":""},{"$f":"名簿!I17","v":0},{"$f":"名簿!K17","v":0},{"$f":"名簿!BK17","v":"00"},{"$f":"名簿!P17","v":""},{"$f":"IF(F19=\"\",\"\",名簿!$Q$7)","v":""},null,"",{"$f":"IF(O19=\"\",\"\",HLOOKUP(O19,名簿!$W$4:$AV$184,14,FALSE))","v":""},"","",null,{"$f":"IF(T19=\"\",\"\",IF(I19=1,VLOOKUP(T19,男子種目コード!$D:$E,2,FALSE),IF(I19=2,VLOOKUP(T19,女子種目コード!$D:$E,2,FALSE))))","v":""},null,"","",null,null,null,null,null,null,null,null,null,"5･6年ｼﾞｬﾍﾞﾘｯｸ","3年60",{"$f":"COUNTIF($P$7:$P$186,123)","v":0},123,0,"","","","","","","","",1,"混成E",null,null,0,"","",{"$f":"VLookUpX(\"男子B\",$A$7:$F$186,4,5)","v":{"$error":"#N/A"}},{"$f":"VLookUpX(\"男子B\",$A$7:$F$186,4,6)","v":{"$error":"#N/A"}},{"$f":"VLookUpX(\"女子B\",$A$7:$F$186,4,5)","v":{"$error":"#N/A"}},{"$f":"VLookUpX(\"女子B\",$A$7:$F$186,4,6)","v":{"$error":"#N/A"}},{"$f":"VLookUpX(\"混成B\",$A$7:$F$186,4,5)","v":{"$error":"#N/A"}},{"$f":"VLookUpX(\"混成B\",$A$7:$F$186,4,6)","v":{"$error":"#N/A"}}]
[0,{"$f":"名簿!O18","v":""},null,null,{"$f":"名簿!E18","v":0},{"$f":"名簿!BD18","v":""},{"$f":"名簿!V18","v":""},{"$f":"名簿!BD18","v":""},{"$f":"名簿!U18","v":""},{"$f":"名簿!I18","v":0},{"$f":"名簿!K18","v":0},{"$f":"名簿!BK18","v":"00"},{"$f":"名簿!P18","v":""},{"$f":"IF(F20=\"\",\"\",名簿!$Q$7)","v":""},null,"",{"$f":"IF(O20=\"\",\"\",HLOOKUP(O20,名簿!$W$4:$AV$184,15,FALSE))","v":""},"","",null,{"$f":"IF(T20=\"\",\"\",IF(I20=1,VLOOKUP(T20,男子種目コード!$D:$E,2,FALSE),IF(I20=2,VLOOKUP(T20,女子種目コード!$D:$E,2,FALSE))))","v":""},null,"","",null,null,null,null,null,null,null,null,null,null,"4年100",{"$f":"COUNTIF($P$7:$P$186,124)","v":0},124,0,"","","","","","","","",0,"混成F",null,null,0,"","",{"$f":"VLookUpX(\"男子B\",$A$7:$F$186,5,5)","v":{"$error":"#N/A"}},{"$f":"VLookUpX(\"男子B\",$A$7:$F$186,5,6)","v":{"$error":"#N/A"}},{"$f":"VLookUpX(\"女子B\",$A$7:$F$186,5,5)","v":{"$error":"#N/A"}},{"$f":"VLookUpX(\"女子B\",$A$7:$F$186,5,6)","v":{"$error":"#N/A"}},{"$f":"VLookUpX(\"混成B\",$A$7:$F$186,5,5)","v":{"$error":"#N/A"}},{"$f":"VLookUpX(\"混成B\",$A$7:$F$186,5,6)","v":{"$error":"#N/A"}}]
[0,{"$f":"名簿!O19","v":""},null,null,{"$f":"名簿!E19","v":0},{"$f":"名簿!BD19","v":""},{"$f":"名簿!V19","v":""},{"$f":"名簿!BD19","v":""},{"$f":"名簿!U19","v":""},{"$f":"名簿!I19","v":0},{"$f":"名簿!K19","v":0},{"$f":"名簿!BK19","v":"00"},{"$f":"名簿!P19","v":""},{"$f":"IF(F21=\"\",\"\",名簿!$Q$7)","v":""},null,"",{"$f":"IF(O21=\"\",\"\",HLOOKUP(O21,名簿!$W$4:$AV$184,16,FALSE))","v":""},"","",null,{"$f":"IF(T21=\"\",\"\",IF(I21=1,VLOOKUP(T21,男子種目コード!$D:$E,2,FALSE),IF(I21=2,VLOOKUP(T21,女子種目コード!$D:$E,2,FALSE))))","v":""},null,"","",null,null,null,null,null,null,null,null,null,null,"5年100",{"$f":"COUNTIF($P$7:$P$186,125)","v":0},125,0,"","","","","","","","",0,"混成G",null,null,0,"","",{"$f":"VLookUpX(\"男子B\",$A$7:$F$186,6,5)","v":{"$error":"#N/A"}},{"$f":"VLookUpX(\"男子B\",$A$7:$F$186,6,6)","v":{"$error":"#N/A"}},{"$f":"VLookUpX(\"女子B\",$A$7:$F$186,6,5)","v":{"$error":"#N/A"}},{"$f":"VLookUpX(\"女子B\",$A$7:$F$186,6,6)","v":{"$error":"#N/A"}},{"$f":"VLookUpX(\"混成B\",$A$7:$F$186,6,5)","v":{"$error":"#N/A"}},{"$f":"VLookUpX(\"混成B\",$A$7:$F$186,6,6)","v":{"$error":"#N/A"}}]
[0,{"$f":"名簿!O20","v":""},null,null,{"$f":"名簿!E20","v":0},{"$f":"名簿!BD20","v":""},{"$f":"名簿!V20","v":""},{"$f":"名簿!BD20","v":""},{"$f":"名簿!U20","v":""},{"$f":"名簿!I20","v":0},{"$f":"名簿!K20","v":0},{"$f":"名簿!BK20","v":"00"},{"$f":"名簿!P20","v":""},{"$f":"IF(F22=\"\",\"\",名簿!$Q$7)","v":""},null,"",{"$f":"IF(O22=\"\",\"\",HLOOKUP(O22,名簿!$W$4:$AV$184,17,FALSE))","v":""},"","",null,{"$f":"IF(T22=\"\",\"\",IF(I22=1,VLOOKUP(T22,男子種目コード!$D:$E,2,FALSE),IF(I22=2,VLOOKUP(T22,女子種目コード!$D:$E,2,FALSE))))","v":""},null,"","",null,null,null,null,null,null,null,null,null,null,"6年100",{"$f":"COUNTIF($P$7:$P$186,126)","v":0},126,0,"","",null,null,null,null,"混成4×100mR-C",null,1,"男子A",null,null,0,"",""]
[0,{"$f":"名簿!O21","v":""},null,null,{"$f":"名簿!E21","v":0},{"$f":"名簿!BD21","v":""},{"$f":"名簿!V21","v":""},{"$f":"名簿!BD21","v":""},{"$f":"名簿!U21","v":""},{"$f":"名簿!I21","v":0},{"$f":"名簿!K21","v":0},{"$f":"名簿!BK21","v":"00"},{"$f":"名簿!P21","v":""},{"$f":"IF(F23=\"\",\"\",名簿!$Q$7)","v":""},null,"",{"$f":"IF(O23=\"\",\"\",HLOOKUP(O23,名簿!$W$4:$AV$184,18,FALSE))","v":""},"","",null,{"$f":"IF(T23=\"\",\"\",IF(I23=1,VLOOKUP(T23,男子種目コード!$D:$E,2,FALSE),IF(I23=2,VLOOKUP(T23,女子種目コード!$D:$E,2,FALSE))))","v":""},null,"","",null,null,null,null,null,null,null,null,null,null,"5･6年800",{"$f":"COUNTIF($P$7:$P$186,129)","v":0},129,0,"","",null,null,null,null,"記録",null,null,"男子B",null,null,0,"",""]
[0,{"$f":"名簿!O22","v":""},null,null,{"$f":"名簿!E22","v":0},{"$f":"名簿!BD22","v":""},{"$f":"名簿!V22","v":""},{"$f":"名簿!BD22","v":""},{"$f":"名簿!U22","v":""},{"$f":"名簿!I22","v":0},{"$f":"名簿!K22","v":0},{"$f":"名簿!BK22","v":"00"},{"$f":"名簿!P22","v":""},{"$f":"IF(F24=\"\",\"\",名簿!$Q$7)","v":""},null,"",{"$f":"IF(O24=\"\",\"\",HLOOKUP(O24,名簿!$W$4:$AV$184,19,FALSE))","v":""},"","",null,{"$f":"IF(T24=\"\",\"\",IF(I24=1,VLOOKUP(T24,男子種目コード!$D:$E,2,FALSE),IF(I24=2,VLOOKUP(T24,女子種目コード!$D:$E,2,FALSE))))","v":""},null,"","",null,null,null,null,null,null,null,null,null,null,"5･6年80H",{"$f":"COUNTIF($P$7:$P$186,130)","v":0},130,0,"","",{"$f":"IF(ISERROR(BB24),\"\",BB24)","v":""},"","","","","",null,"男子C",null,null,0,"","",{"$f":"VLookUpX(\"男子C\",$A$7:$F$186,1,5)","v":{"$error":"#N/A"}},{"$f":"VLookUpX(\"男子C\",$A$7:$F$186,1,6)","v":{"$error":"#N/A"}},{"$f":"VLookUpX(\"女子C\",$A$7:$F$186,1,5)","v":{"$error":"#N/A"}},{"$f":"VLookUpX(\"女子C\",$A$7:$F$186,1,6)","v":{"$error":"#N/A"}},{"$f":"VLookUpX(\"混成C\",$A$7:$F$186,1,5)","v":{"$error":"#N/A"}},{"$f":"VLookUpX(\"混成C\",$A$7:$F$186,1,6)","v":{"$error":"#N/A"}},{"$f":"IF(AO24=\"\",\"\",1)","v":""},{"$f":"IF(AQ24=\"\",\"\",1)","v":""},{"$f":"IF(AS24=\"\",\"\",1)","v":""}]
[0,{"$f":"名簿!O23","v":""},null,null,{"$f":"名簿!E23","v":0},{"$f":"名簿!BD23","v":""},{"$f":"名簿!V23","v":""},{"$f":"名簿!BD23","v":""},{"$f":"名簿!U23","v":""},{"$f":"名簿!I23","v":0},{"$f":"名簿!K23","v":0},{"$f":"名簿!BK23","v":"00"},{"$f":"名簿!P23","v":""},{"$f":"IF(F25=\"\",\"\",名簿!$Q$7)","v":""},null,"",{"$f":"IF(O25=\"\",\"\",HLOOKUP(O25,名簿!$W$4:$AV$184,20,FALSE))","v":""},"","",null,{"$f":"IF(T25=\"\",\"\",IF(I25=1,VLOOKUP(T25,男子種目コード!$D:$E,2,FALSE),IF(I25=2,VLOOKUP(T25,女子種目コード!$D:$E,2,FALSE))))","v":""},null,"","",null,null,null,null,null,null,null,null,null,null,"5･6年走高跳",{"$f":"COUNTIF($P$7:$P$186,133)","v":0},133,0,"","","","","","","","",1,"男子D",null,null,0,"","",{"$f":"VLookUpX(\"男子C\",$A$7:$F$186,2,5)","v":{"$error":"#N/A"}},{"$f":"VLookUpX(\"男子C\",$A$7:$F$186,2,6)","v":{"$error":"#N/A"}},{"$f":"VLookUpX(\"女子C\",$A$7:$F$186,2,5)","v":{"$error":"#N/A"}},{"$f":"VLookUpX(\"女子C\",$A$7:$F$186,2,6)","v":{"$error":"#N/A"}},{"$f":"VLookUpX(\"混成C\",$A$7:$F$186,2,5)","v":{"$error":"#N/A"}},{"$f":"VLookUpX(\"混成C\",$A$7:$F$186,2,6)","v":{"$error":"#N/A"}}]
[0,{"$f":"名簿!O24","v":""},null,null,{"$f":"名簿!E24","v":0},{"$f":"名簿!BD24","v":""},{"$f":"名簿!V24","v":""},{"$f":"名簿!BD24","v":""},{"$f":"名簿!U24","v":""},{"$f":"名簿!I24","v":0},{"$f":"名簿!K24","v":0},{"$f":"名簿!BK24","v":"00"},{"$f":"名簿!P24","v":""},{"$f":"IF(F26=\"\",\"\",名簿!$Q$7)","v":""},null,"",{"$f":"IF(O26=\"\",\"\",HLOOKUP(O26,名簿!$W$4:$AV$184,21,FALSE))","v":""},"","",null,{"$f":"IF(T26=\"\",\"\",IF(I26=1,VLOOKUP(T26,男子種目コード!$D:$E,2,FALSE),IF(I26=2,VLOOKUP(T26,女子種目コード!$D:$E,2,FALSE))))","v":""},null,"","",null,null,null,null,null,null,null,null,null,null,"5･6年走幅跳",{"$f":"COUNTIF($P$7:$P$186,136)","v":0},136,0,"","","","","","","","",1,"男子E",null,null,0,"","",{"$f":"VLookUpX(\"男子C\",$A$7:$F$186,3,5)","v":{"$error":"#N/A"}},{"$f":"VLookUpX(\"男子C\",$A$7:$F$186,3,6)","v":{"$error":"#N/A"}},{"$f":"VLookUpX(\"女子C\",$A$7:$F$186,3,5)","v":{"$error":"#N/A"}},{"$f":"VLookUpX(\"女子C\",$A$7:$F$186,3,6)","v":{"$error":"#N/A"}},{"$f":"VLookUpX(\"混成C\",$A$7:$F$186,3,5)","v":{"$error":"#N/A"}},{"$f":"VLookUpX(\"混成C\",$A$7:$F$186,3,6)","v":{"$error":"#N/A"}}]
[0,{"$f":"名簿!O25","v":""},null,null,{"$f":"名簿!E25","v":0},{"$f":"名簿!BD25","v":""},{"$f":"名簿!V25","v":""},{"$f":"名簿!BD25","v":""},{"$f":"名簿!U25","v":""},{"$f":"名簿!I25","v":0},{"$f":"名簿!K25","v":0},{"$f":"名簿!BK25","v":"00"},{"$f":"名簿!P25","v":""},{"$f":"IF(F27=\"\",\"\",名簿!$Q$7)","v":""},null,"",{"$f":"IF(O27=\"\",\"\",HLOOKUP(O27,名簿!$W$4:$AV$184,22,FALSE))","v":""},"","",null,{"$f":"IF(T27=\"\",\"\",IF(I27=1,VLOOKUP(T27,男子種目コード!$D:$E,2,FALSE),IF(I27=2,VLOOKUP(T27,女子種目コード!$D:$E,2,FALSE))))","v":""},null,"","",null,null,null,null,null,null,null,null,null,null,"5･6年ｼﾞｬﾍﾞﾘｯｸ",{"$f":"COUNTIF($P$7:$P$186,137)","v":0},137,0,"","","","","","","","",1,"男子F",null,null,0,"","",{"$f":"VLookUpX(\"男子C\",$A$7:$F$186,4,5)","v":{"$error":"#N/A"}},{"$f":"VLookUpX(\"男子C\",$A$7:$F$186,4,6)","v":{"$error":"#N/A"}},{"$f":"VLookUpX(\"女子C\",$A$7:$F$186,4,5)","v":{"$error":"#N/A"}},{"$f":"VLookUpX(\"女子C\",$A$7:$F$186,4,6)","v":{"$error":"#N/A"}},{"$f":"VLookUpX(\"混成C\",$A$7:$F$186,4,5)","v":{"$error":"#N/A"}},{"$f":"VLookUpX(\"混成C\",$A$7:$F$186,4,6)","v":{"$error":"#N/A"}}]
[0,{"$f":"名簿!O26","v":""},null,null,{"$f":"名簿!E26","v":0},{"$f":"名簿!BD26","v":""},{"$f":"名簿!V26","v":""},{"$f":"名簿!BD26","v":""},{"$f":"名簿!U26","v":""},{"$f":"名簿!I26","v":0},{"$f":"名簿!K26","v":0},{"$f":"名簿!BK26","v":"00"},{"$f":"名簿!P26","v":""},{"$f":"IF(F28=\"\",\"\",名簿!$Q$7)","v":""},null,"",{"$f":"IF(O28=\"\",\"\",HLOOKUP(O28,名簿!$W$4:$AV$184,23,FALSE))","v":""},"","",null,{"$f":"IF(T28=\"\",\"\",IF(I28=1,VLOOKUP(T28,男子種目コード!$D:$E,2,FALSE),IF(I28=2,VLOOKUP(T28,女子種目コード!$D:$E,2,FALSE))))","v":""},null,"","",null,null,null,null,null,null,null,null,null,"男子A","計",{"$f":"SUM(AJ19:AJ27)","v":0},null,0,"","","","","","","","",0,"混成A",null,null,0,"","",{"$f":"VLookUpX(\"男子C\",$A$7:$F$186,5,5)","v":{"$error":"#N/A"}},{"$f":"VLookUpX(\"男子C\",$A$7:$F$186,5,6)","v":{"$error":"#N/A"}},{"$f":"VLookUpX(\"女子C\",$A$7:$F$186,5,5)","v":{"$error":"#N/A"}},{"$f":"VLookUpX(\"女子C\",$A$7:$F$186,5,6)","v":{"$error":"#N/A"}},{"$f":"VLookUpX(\"混成C\",$A$7:$F$186,5,5)","v":{"$error":"#N/A"}},{"$f":"VLookUpX(\"混成C\",$A$7:$F$186,5,6)","v":{"$error":"#N/A"}}]
[0,{"$f":"名簿!O27","v":""},null,null,{"$f":"名簿!E27","v":0},{"$f":"名簿!BD27","v":""},{"$f":"名簿!V27","v":""},{"$f":"名簿!BD27","v":""},{"$f":"名簿!U27","v":""},{"$f":"名簿!I27","v":0},{"$f":"名簿!K27","v":0},{"$f":"名簿!BK27","v":"00"},{"$f":"名簿!P27","v":""},{"$f":"IF(F29=\"\",\"\",名簿!$Q$7)","v":""},null,"",{"$f":"IF(O29=\"\",\"\",HLOOKUP(O29,名簿!$W$4:$AV$184,24,FALSE))","v":""},"","",null,{"$f":"IF(T29=\"\",\"\",IF(I29=1,VLOOKUP(T29,男子種目コード!$D:$E,2,FALSE),IF(I29=2,VLOOKUP(T29,女子種目コード!$D:$E,2,FALSE))))","v":""},null,"","",null,null,null,null,null,null,null,null,null,null,null,null,null,0,"","","","","","","","",0,"混成B",null,null,0,"","",{"$f":"VLookUpX(\"男子C\",$A$7:$F$186,6,5)","v":{"$error":"#N/A"}},{"$f":"VLookUpX(\"男子C\",$A$7:$F$186,6,6)","v":{"$error":"#N/A"}},{"$f":"VLookUpX(\"女子C\",$A$7:$F$186,6,5)","v":{"$error":"#N/A"}},{"$f":"VLookUpX(\"女子C\",$A$7:$F$186,6,6)","v":{"$error":"#N/A"}},{"$f":"VLookUpX(\"混成C\",$A$7:$F$186,6,5)","v":{"$error":"#N/A"}},{"$f":"VLookUpX(\"混成C\",$A$7:$F$186,6,6)","v":{"$error":"#N/A"}}]
[0,{"$f":"名簿!O28","v":""},null,null,{"$f":"名簿!E28","v":0},{"$f":"名簿!BD28","v":""},{"$f":"名簿!V28","v":""},{"$f":"名簿!BD28","v":""},{"$f":"名簿!U28","v":""},{"$f":"名簿!I28","v":0},{"$f":"名簿!K28","v":0},{"$f":"名簿!BK28","v":"00"},{"$f":"名簿!P28","v":""},{"$f":"IF(F30=\"\",\"\",名簿!$Q$7)","v":""},null,"",{"$f":"IF(O30=\"\",\"\",HLOOKUP(O30,名簿!$W$4:$AV$184,25,FALSE))","v":""},"","",null,{"$f":"IF(T30=\"\",\"\",IF(I30=1,VLOOKUP(T30,男子種目コード!$D:$E,2,FALSE),IF(I30=2,VLOOKUP(T30,女子種目コード!$D:$E,2,FALSE))))","v":""},null,"","",null,null,null,null,null,null,null,null,null,null,null,null,null,0,"","",null,null,null,null,"混成4×100mR-D",null,{"$f":"IF(AT48>0,1,0)","v":1},"混成C",null,null,0,"",""]
[0,{"$f":"名簿!O29","v":""},null,null,{"$f":"名簿!E29","v":0},{"$f":"名簿!BD29","v":""},{"$f":"名簿!V29","v":""},{"$f":"名簿!BD29","v":""},{"$f":"名簿!U29","v":""},{"$f":"名簿!I29","v":0},{"$f":"名簿!K29","v":0},{"$f":"名簿!BK29","v":"00"},{"$f":"名簿!P29","v":""},{"$f":"IF(F31=\"\",\"\",名簿!$Q$7)","v":""},null,"",{"$f":"IF(O31=\"\",\"\",HLOOKUP(O31,名簿!$W$4:$AV$184,26,FALSE))","v":""},"","",null,{"$f":"IF(T31=\"\",\"\",IF(I31=1,VLOOKUP(T31,男子種目コード!$D:$E,2,FALSE),IF(I31=2,VLOOKUP(T31,女子種目コード!$D:$E,2,FALSE))))","v":""},null,"","",null,null,null,null,null,null,null,null,null,null,null,null,null,0,"","",null,null,null,null,"記録",null,null,"混成D",null,null,0,"",""]
[0,{"$f":"名簿!O30","v":""},null,null,{"$f":"名簿!E30","v":0},{"$f":"名簿!BD30","v":""},{"$f":"名簿!V30","v":""},{"$f":"名簿!BD30","v":""},{"$f":"名簿!U30","v":""},{"$f":"名簿!I30","v":0},{"$f":"名簿!K30","v":0},{"$f":"名簿!BK30","v":"00"},{"$f":"名簿!P30","v":""},{"$f":"IF(F32=\"\",\"\",名簿!$Q$7)","v":""},null,"",{"$f":"IF(O32=\"\",\"\",HLOOKUP(O32,名簿!$W$4:$AV$184,27,FALSE))","v":""},"","",null,{"$f":"IF(T32=\"\",\"\",IF(I32=1,VLOOKUP(T32,男子種目コード!$D:$E,2,FALSE),IF(I32=2,VLOOKUP(T32,女子種目コード!$D:$E,2,FALSE))))","v":""},null,"","",null,null,null,null,null,null,null,null,null,null,null,null,null,0,"","",{"$f":"IF(ISERROR(BB32),\"\",BB32)","v":""},"","","","","",null,"混成E",null,null,0,"","",{"$f":"VLookUpX(\"男子D\",$A$7:$F$186,1,5)","v":{"$error":"#N/A"}},{"$f":"VLookUpX(\"男子D\",$A$7:$F$186,1,6)","v":{"$error":"#N/A"}},{"$f":"VLookUpX(\"女子D\",$A$7:$F$186,1,5)","v":{"$error":"#N/A"}},{"$f":"VLookUpX(\"女子D\",$A$7:$F$186,1,6)","v":{"$error":"#N/A"}},{"$f":"VLookUpX(\"混成D\",$A$7:$F$186,1,5)","v":{"$error":"#N/A"}},{"$f":"VLookUpX(\"混成D\",$A$7:$F$186,1,6)","v":{"$error":"#N/A"}},{"$f":"IF(AO32=\"\",\"\",1)","v":""},{"$f":"IF(AQ32=\"\",\"\",1)","v":""},{"$f":"IF(AS32=\"\",\"\",1)","v":""}]
[0,{"$f":"名簿!O31","v":""},null,null,{"$f":"名簿!E31","v":0},{"$f":"名簿!BD31","v":""},{"$f":"名簿!V31","v":""},{"$f":"名簿!BD31","v":""},{"$f":"名簿!U31","v":""},{"$f":"名簿!I31","v":0},{"$f":"名簿!K31","v":0},{"$f":"名簿!BK31","v":"00"},{"$f":"名簿!P31","v":""},{"$f":"IF(F33=\"\",\"\",名簿!$Q$7)","v":""},null,"",{"$f":"IF(O33=\"\",\"\",HLOOKUP(O33,名簿!$W$4:$AV$184,28,FALSE))","v":""},"","",null,{"$f":"IF(T33=\"\",\"\",IF(I33=1,VLOOKUP(T33,男子種目コード!$D:$E,2,FALSE),IF(I33=2,VLOOKUP(T33,女子種目コード!$D:$E,2,FALSE))))","v":""},null,"","",null,null,null,null,null,null,null,null,null,null,null,null,null,0,"","","","","","","","",{"$f":"IF(AT51>0,1,0)","v":1},"混成F",null,null,0,"","",{"$f":"VLookUpX(\"男子D\",$A$7:$F$186,2,5)","v":{"$error":"#N/A"}},{"$f":"VLookUpX(\"男子D\",$A$7:$F$186,2,6)","v":{"$error":"#N/A"}},{"$f":"VLookUpX(\"女子D\",$A$7:$F$186,2,5)","v":{"$error":"#N/A"}},{"$f":"VLookUpX(\"女子D\",$A$7:$F$186,2,6)","v":{"$error":"#N/A"}},{"$f":"VLookUpX(\"混成D\",$A$7:$F$186,2,5)","v":{"$error":"#N/A"}},{"$f":"VLookUpX(\"混成D\",$A$7:$F$186,2,6)","v":{"$error":"#N/A"}}]
[0,{"$f":"名簿!O32","v":""},null,null,{"$f":"名簿!E32","v":0},{"$f":"名簿!BD32","v":""},{"$f":"名簿!V32","v":""},{"$f":"名簿!BD32","v":""},{"$f":"名簿!U32","v":""},{"$f":"名簿!I32","v":0},{"$f":"名簿!K32","v":0},{"$f":"名簿!BK32","v":"00"},{"$f":"名簿!P32","v":""},{"$f":"IF(F34=\"\",\"\",名簿!$Q$7)","v":""},null,"",{"$f":"IF(O34=\"\",\"\",HLOOKUP(O34,名簿!$W$4:$AV$184,29,FALSE))","v":""},"","",null,{"$f":"IF(T34=\"\",\"\",IF(I34=1,VLOOKUP(T34,男子種目コード!$D:$E,2,FALSE),IF(I34=2,VLOOKUP(T34,女子種目コード!$D:$E,2,FALSE))))","v":""},null,"","",null,null,null,null,null,null,null,null,null,null,null,null,null,0,"","","","","","","","",1,"混成G",null,null,0,"","",{"$f":"VLookUpX(\"男子D\",$A$7:$F$186,3,5)","v":{"$error":"#N/A"}},{"$f":"VLookUpX(\"男子D\",$A$7:$F$186,3,6)","v":{"$error":"#N/A"}},{"$f":"VLookUpX(\"女子D\",$A$7:$F$186,3,5)","v":{"$error":"#N/A"}},{"$f":"VLookUpX(\"女子D\",$A$7:$F$186,3,6)","v":{"$error":"#N/A"}},{"$f":"VLookUpX(\"混成D\",$A$7:$F$186,3,5)","v":{"$error":"#N/A"}},{"$f":"VLookUpX(\"混成D\",$A$7:$F$186,3,6)","v":{"$error":"#N/A"}}]
[0,{"$f":"名簿!O33","v":""},null,null,{"$f":"名簿!E33","v":0},{"$f":"名簿!BD33","v":""},{"$f":"名簿!V33","v":""},{"$f":"名簿!BD33","v":""},{"$f":"名簿!U33","v":""},{"$f":"名簿!I33","v":0},{"$f":"名簿!K33","v":0},{"$f":"名簿!BK33","v":"00"},{"$f":"名簿!P33","v":""},{"$f":"IF(F35=\"\",\"\",名簿!$Q$7)","v":""},null,"",{"$f":"IF(O35=\"\",\"\",HLOOKUP(O35,名簿!$W$4:$AV$184,30,FALSE))","v":""},"","",null,{"$f":"IF(T35=\"\",\"\",IF(I35=1,VLOOKUP(T35,男子種目コード!$D:$E,2,FALSE),IF(I35=2,VLOOKUP(T35,女子種目コード!$D:$E,2,FALSE))))","v":""},null,"","",null,null,null,null,null,null,null,null,null,null,null,null,null,0,"","","","","","","","",1,"女子A",null,null,0,"","",{"$f":"VLookUpX(\"男子D\",$A$7:$F$186,4,5)","v":{"$error":"#N/A"}},{"$f":"VLookUpX(\"男子D\",$A$7:$F$186,4,6)","v":{"$error":"#N/A"}},{"$f":"VLookUpX(\"女子D\",$A$7:$F$186,4,5)","v":{"$error":"#N/A"}},{"$f":"VLookUpX(\"女子D\",$A$7:$F$186,4,6)","v":{"$error":"#N/A"}},{"$f":"VLookUpX(\"混成D\",$A$7:$F$186,4,5)","v":{"$error":"#N/A"}},{"$f":"VLookUpX(\"混成D\",$A$7:$F$186,4,6)","v":{"$error":"#N/A"}}]
[0,{"$f":"名簿!O34","v":""},null,null,{"$f":"名簿!E34","v":0},{"$f":"名簿!BD34","v":""},{"$f":"名簿!V34","v":""},{"$f":"名簿!BD34","v":""},{"$f":"名簿!U34","v":""},{"$f":"名簿!I34","v":0},{"$f":"名簿!K34","v":0},{"$f":"名簿!BK34","v":"00"},{"$f":"名簿!P34","v":""},{"$f":"IF(F36=\"\",\"\",名簿!$Q$7)","v":""},null,"",{"$f":"IF(O36=\"\",\"\",HLOOKUP(O36,名簿!$W$4:$AV$184,31,FALSE))","v":""},"","",null,{"$f":"IF(T36=\"\",\"\",IF(I36=1,VLOOKUP(T36,男子種目コード!$D:$E,2,FALSE),IF(I36=2,VLOOKUP(T36,女子種目コード!$D:$E,2,FALSE))))","v":""},null,"","",null,null,null,null,null,null,null,null,null,null,null,null,null,0,"","","","","","","","",0,"女子B",null,null,0,"","",{"$f":"VLookUpX(\"男子D\",$A$7:$F$186,5,5)","v":{"$error":"#N/A"}},{"$f":"VLookUpX(\"男子D\",$A$7:$F$186,5,6)","v":{"$error":"#N/A"}},{"$f":"VLookUpX(\"女子D\",$A$7:$F$186,5,5)","v":{"$error":"#N/A"}},{"$f":"VLookUpX(\"女子D\",$A$7:$F$186,5,6)","v":{"$error":"#N/A"}},{"$f":"VLookUpX(\"混成D\",$A$7:$F$186,5,5)","v":{"$error":"#N/A"}},{"$f":"VLookUpX(\"混成D\",$A$7:$F$186,5,6)","v":{"$error":"#N/A"}}]
[0,{"$f":"名簿!O35","v":""},null,null,{"$f":"名簿!E35","v":0},{"$f":"名簿!BD35","v":""},{"$f":"名簿!V35","v":""},{"$f":"名簿!BD35","v":""},{"$f":"名簿!U35","v":""},{"$f":"名簿!I35","v":0},{"$f":"名簿!K35","v":0},{"$f":"名簿!BK35","v":"00"},{"$f":"名簿!P35","v":""},{"$f":"IF(F37=\"\",\"\",名簿!$Q$7)","v":""},null,"",{"$f":"IF(O37=\"\",\"\",HLOOKUP(O37,名簿!$W$4:$AV$184,32,FALSE))","v":""},"","",null,{"$f":"IF(T37=\"\",\"\",IF(I37=1,VLOOKUP(T37,男子種目コード!$D:$E,2,FALSE),IF(I37=2,VLOOKUP(T37,女子種目コード!$D:$E,2,FALSE))))","v":""},null,"","",null,null,null,null,null,null,null,null,null,null,null,null,null,0,"","","","","","","","",0,"女子C",null,null,0,"","",{"$f":"VLookUpX(\"男子D\",$A$7:$F$186,6,5)","v":{"$error":"#N/A"}},{"$f":"VLookUpX(\"男子D\",$A$7:$F$186,6,6)","v":{"$error":"#N/A"}},{"$f":"VLookUpX(\"女子D\",$A$7:$F$186,6,5)","v":{"$error":"#N/A"}},{"$f":"VLookUpX(\"女子D\",$A$7:$F$186,6,6)","v":{"$error":"#N/A"}},{"$f":"VLookUpX(\"混成D\",$A$7:$F$186,6,5)","v":{"$error":"#N/A"}},{"$f":"VLookUpX(\"混成D\",$A$7:$F$186,6,6)","v":{"$error":"#N/A"}}]
[0,{"$f":"名簿!O36","v":""},null,null,{"$f":"名簿!E36","v":0},{"$f":"名簿!BD36","v":""},{"$f":"名簿!V36","v":""},{"$f":"名簿!BD36","v":""},{"$f":"名簿!U36","v":""},{"$f":"名簿!I36","v":0},{"$f":"名簿!K36","v":0},{"$f":"名簿!BK36","v":"00"},{"$f":"名簿!P36","v":""},{"$f":"IF(F38=\"\",\"\",名簿!$Q$7)","v":""},null,"",{"$f":"IF(O38=\"\",\"\",HLOOKUP(O38,名簿!$W$4:$AV$184,33,FALSE))","v":""},"","",null,{"$f":"IF(T38=\"\",\"\",IF(I38=1,VLOOKUP(T38,男子種目コード!$D:$E,2,FALSE),IF(I38=2,VLOOKUP(T38,女子種目コード!$D:$E,2,FALSE))))","v":""},null,"","",null,null,null,null,null,null,null,null,null,null,null,null,null,0,"","",null,null,null,null,"混成4×100mR-E",null,1,"女子D",null,null,0,"",""]
[0,{"$f":"名簿!O37","v":""},null,null,{"$f":"名簿!E37","v":0},{"$f":"名簿!BD37","v":""},{"$f":"名簿!V37","v":""},{"$f":"名簿!BD37","v":""},{"$f":"名簿!U37","v":""},{"$f":"名簿!I37","v":0},{"$f":"名簿!K37","v":0},{"$f":"名簿!BK37","v":"00"},{"$f":"名簿!P37","v":""},{"$f":"IF(F39=\"\",\"\",名簿!$Q$7)","v":""},null,"",{"$f":"IF(O39=\"\",\"\",HLOOKUP(O39,名簿!$W$4:$AV$184,34,FALSE))","v":""},"","",null,{"$f":"IF(T39=\"\",\"\",IF(I39=1,VLOOKUP(T39,男子種目コード!$D:$E,2,FALSE),IF(I39=2,VLOOKUP(T39,女子種目コード!$D:$E,2,FALSE))))","v":""},null,"","",null,null,null,null,null,null,null,null,null,null,null,null,null,{"$f":"COUNT(P39,U39)","v":0},{"$f":"IF(I39=1,AL39,\"\")","v":""},{"$f":"IF(I39=2,AL39,\"\")","v":""},null,null,null,null,"記録",null,null,"女子E",null,null,0,"",""]
[0,{"$f":"名簿!O38","v":""},null,null,{"$f":"名簿!E38","v":0},{"$f":"名簿!BD38","v":""},{"$f":"名簿!V38","v":""},{"$f":"名簿!BD38","v":""},{"$f":"名簿!U38","v":""},{"$f":"名簿!I38","v":0},{"$f":"名簿!K38","v":0},{"$f":"名簿!BK38","v":"00"},{"$f":"名簿!P38","v":""},{"$f":"IF(F40=\"\",\"\",名簿!$Q$7)","v":""},null,"",{"$f":"IF(O40=\"\",\"\",HLOOKUP(O40,名簿!$W$4:$AV$184,35,FALSE))","v":""},"","",null,{"$f":"IF(T40=\"\",\"\",IF(I40=1,VLOOKUP(T40,男子種目コード!$D:$E,2,FALSE),IF(I40=2,VLOOKUP(T40,女子種目コード!$D:$E,2,FALSE))))","v":""},null,"","",null,null,null,null,null,null,null,null,null,null,null,null,null,0,"","",{"$f":"IF(ISERROR(BB40),\"\",BB40)","v":""},"","","","","",null,"女子F",null,null,0,"","",{"$f":"VLookUpX(\"男子E\",$A$7:$F$186,1,5)","v":{"$error":"#N/A"}},{"$f":"VLookUpX(\"男子E\",$A$7:$F$186,1,6)","v":{"$error":"#N/A"}},{"$f":"VLookUpX(\"女子E\",$A$7:$F$186,1,5)","v":{"$error":"#N/A"}},{"$f":"VLookUpX(\"女子E\",$A$7:$F$186,1,6)","v":{"$error":"#N/A"}},{"$f":"VLookUpX(\"混成E\",$A$7:$F$186,1,5)","v":{"$error":"#N/A"}},{"$f":"VLookUpX(\"混成E\",$A$7:$F$186,1,6)","v":{"$error":"#N/A"}},{"$f":"IF(AO40=\"\",\"\",1)","v":""},{"$f":"IF(AQ40=\"\",\"\",1)","v":""},{"$f":"IF(AS40=\"\",\"\",1)","v":""}]
[0,{"$f":"名簿!O39","v":""},null,null,{"$f":"名簿!E39","v":0},{"$f":"名簿!BD39","v":""},{"$f":"名簿!V39","v":""},{"$f":"名簿!BD39","v":""},{"$f":"名簿!U39","v":""},{"$f":"名簿!I39","v":0},{"$f":"名簿!K39","v":0},{"$f":"名簿!BK39","v":"00"},{"$f":"名簿!P39","v":""},{"$f":"IF(F41=\"\",\"\",名簿!$Q$7)","v":""},null,"",{"$f":"IF(O41=\"\",\"\",HLOOKUP(O41,名簿!$W$4:$AV$184,36,FALSE))","v":""},"","",null,{"$f":"IF(T41=\"\",\"\",IF(I41=1,VLOOKUP(T41,男子種目コード!$D:$E,2,FALSE),IF(I41=2,VLOOKUP(T41,女子種目コード!$D:$E,2,FALSE))))","v":""},null,"","",null,null,null,null,null,null,null,null,null,"女子A",null,null,null,0,"","","","","","","","",{"$f":"IF(AT59>0,1,0)","v":1},null,null,null,0,"","",{"$f":"VLookUpX(\"男子E\",$A$7:$F$186,2,5)","v":{"$error":"#N/A"}},{"$f":"VLookUpX(\"男子E\",$A$7:$F$186,2,6)","v":{"$error":"#N/A"}},{"$f":"VLookUpX(\"女子E\",$A$7:$F$186,2,5)","v":{"$error":"#N/A"}},{"$f":"VLookUpX(\"女子E\",$A$7:$F$186,2,6)","v":{"$error":"#N/A"}},{"$f":"VLookUpX(\"混成E\",$A$7:$F$186,2,5)","v":{"$error":"#N/A"}},{"$f":"VLookUpX(\"混成E\",$A$7:$F$186,2,6)","v":{"$error":"#N/A"}}]
[0,{"$f":"名簿!O40","v":""},null,null,{"$f":"名簿!E40","v":0},{"$f":"名簿!BD40","v":""},{"$f":"名簿!V40","v":""},{"$f":"名簿!BD40","v":""},{"$f":"名簿!U40","v":""},{"$f":"名簿!I40","v":0},{"$f":"名簿!K40","v":0},{"$f":"名簿!BK40","v":"00"},{"$f":"名簿!P40","v":""},{"$f":"IF(F42=\"\",\"\",名簿!$Q$7)","v":""},null,"",{"$f":"IF(O42=\"\",\"\",HLOOKUP(O42,名簿!$W$4:$AV$184,37,FALSE))","v":""},"","",null,{"$f":"IF(T42=\"\",\"\",IF(I42=1,VLOOKUP(T42,男子種目コード!$D:$E,2,FALSE),IF(I42=2,VLOOKUP(T42,女子種目コード!$D:$E,2,FALSE))))","v":""},null,"","",null,null,null,null,null,null,null,null,null,null,null,null,null,0,"","","","","","","","",{"$f":"IF(AT60>0,1,0)","v":1},null,null,null,0,"","",{"$f":"VLookUpX(\"男子E\",$A$7:$F$186,3,5)","v":{"$error":"#N/A"}},{"$f":"VLookUpX(\"男子E\",$A$7:$F$186,3,6)","v":{"$error":"#N/A"}},{"$f":"VLookUpX(\"女子E\",$A$7:$F$186,3,5)","v":{"$error":"#N/A"}},{"$f":"VLookUpX(\"女子E\",$A$7:$F$186,3,6)","v":{"$error":"#N/A"}},{"$f":"VLookUpX(\"混成E\",$A$7:$F$186,3,5)","v":{"$error":"#N/A"}},{"$f":"VLookUpX(\"混成E\",$A$7:$F$186,3,6)","v":{"$error":"#N/A"}}]
[0,{"$f":"名簿!O41","v":""},null,null,{"$f":"名簿!E41","v":0},{"$f":"名簿!BD41","v":""},{"$f":"名簿!V41","v":""},{"$f":"名簿!BD41","v":""},{"$f":"名簿!U41","v":""},{"$f":"名簿!I41","v":0},{"$f":"名簿!K41","v":0},{"$f":"名簿!BK41","v":"00"},{"$f":"名簿!P41","v":""},{"$f":"IF(F43=\"\",\"\",名簿!$Q$7)","v":""},null,"",{"$f":"IF(O43=\"\",\"\",HLOOKUP(O43,名簿!$W$4:$AV$184,38,FALSE))","v":""},"","",null,{"$f":"IF(T43=\"\",\"\",IF(I43=1,VLOOKUP(T43,男子種目コード!$D:$E,2,FALSE),IF(I43=2,VLOOKUP(T43,女子種目コード!$D:$E,2,FALSE))))","v":""},null,"","",null,null,null,null,null,null,null,null,null,null,null,null,null,0,"","","","","","","","",{"$f":"IF(AT61>0,1,0)","v":1},null,null,null,0,"","",{"$f":"VLookUpX(\"男子E\",$A$7:$F$186,4,5)","v":{"$error":"#N/A"}},{"$f":"VLookUpX(\"男子E\",$A$7:$F$186,4,6)","v":{"$error":"#N/A"}},{"$f":"VLookUpX(\"女子E\",$A$7:$F$186,4,5)","v":{"$error":"#N/A"}},{"$f":"VLookUpX(\"女子E\",$A$7:$F$186,4,6)","v":{"$error":"#N/A"}},{"$f":"VLookUpX(\"混成E\",$A$7:$F$186,4,5)","v":{"$error":"#N/A"}},{"$f":"VLookUpX(\"混成E\",$A$7:$F$186,4,6)","v":{"$error":"#N/A"}}]
[0,{"$f":"名簿!O42","v":""},null,null,{"$f":"名簿!E42","v":0},{"$f":"名簿!BD42","v":""},{"$f":"名簿!V42","v":""},{"$f":"名簿!BD42","v":""},{"$f":"名簿!U42","v":""},{"$f":"名簿!I42","v":0},{"$f":"名簿!K42","v":0},{"$f":"名簿!BK42","v":"00"},{"$f":"名簿!P42","v":""},{"$f":"IF(F44=\"\",\"\",名簿!$Q$7)","v":""},null,"",{"$f":"IF(O44=\"\",\"\",HLOOKUP(O44,名簿!$W$4:$AV$184,39,FALSE))","v":""},"","",null,{"$f":"IF(T44=\"\",\"\",IF(I44=1,VLOOKUP(T44,男子種目コード!$D:$E,2,FALSE),IF(I44=2,VLOOKUP(T44,女子種目コード!$D:$E,2,FALSE))))","v":""},null,"","",null,null,null,null,null,null,null,null,null,null,null,null,null,0,"","","","","","","","",{"$f":"IF(AT62>0,1,0)","v":0},null,null,null,0,"","",{"$f":"VLookUpX(\"男子E\",$A$7:$F$186,5,5)","v":{"$error":"#N/A"}},{"$f":"VLookUpX(\"男子E\",$A$7:$F$186,5,6)","v":{"$error":"#N/A"}},{"$f":"VLookUpX(\"女子E\",$A$7:$F$186,5,5)","v":{"$error":"#N/A"}},{"$f":"VLookUpX(\"女子E\",$A$7:$F$186,5,6)","v":{"$error":"#N/A"}},{"$f":"VLookUpX(\"混成E\",$A$7:$F$186,5,5)","v":{"$error":"#N/A"}},{"$f":"VLookUpX(\"混成E\",$A$7:$F$186,5,6)","v":{"$error":"#N/A"}}]
[0,{"$f":"名簿!O43","v":""},null,null,{"$f":"名簿!E43","v":0},{"$f":"名簿!BD43","v":""},{"$f":"名簿!V43","v":""},{"$f":"名簿!BD43","v":""},{"$f":"名簿!U43","v":""},{"$f":"名簿!I43","v":0},{"$f":"名簿!K43","v":0},{"$f":"名簿!BK43","v":"00"},{"$f":"名簿!P43","v":""},{"$f":"IF(F45=\"\",\"\",名簿!$Q$7)","v":""},null,"",{"$f":"IF(O45=\"\",\"\",HLOOKUP(O45,名簿!$W$4:$AV$184,40,FALSE))","v":""},"","",null,{"$f":"IF(T45=\"\",\"\",IF(I45=1,VLOOKUP(T45,男子種目コード!$D:$E,2,FALSE),IF(I45=2,VLOOKUP(T45,女子種目コード!$D:$E,2,FALSE))))","v":""},null,"","",null,null,null,null,null,null,null,null,null,null,null,null,null,0,"","","","","","","","",{"$f":"IF(AT63>0,1,0)","v":0},null,null,null,0,"","",{"$f":"VLookUpX(\"男子E\",$A$7:$F$186,6,5)","v":{"$error":"#N/A"}},{"$f":"VLookUpX(\"男子E\",$A$7:$F$186,6,6)","v":{"$error":"#N/A"}},{"$f":"VLookUpX(\"女子E\",$A$7:$F$186,6,5)","v":{"$error":"#N/A"}},{"$f":"VLookUpX(\"女子E\",$A$7:$F$186,6,6)","v":{"$error":"#N/A"}},{"$f":"VLookUpX(\"混成E\",$A$7:$F$186,6,5)","v":{"$error":"#N/A"}},{"$f":"VLookUpX(\"混成E\",$A$7:$F$186,6,6)","v":{"$error":"#N/A"}}]
[0,{"$f":"名簿!O44","v":""},null,null,{"$f":"名簿!E44","v":0},{"$f":"名簿!BD44","v":""},{"$f":"名簿!V44","v":""},{"$f":"名簿!BD44","v":""},{"$f":"名簿!U44","v":""},{"$f":"名簿!I44","v":0},{"$f":"名簿!K44","v":0},{"$f":"名簿!BK44","v":"00"},{"$f":"名簿!P44","v":""},{"$f":"IF(F46=\"\",\"\",名簿!$Q$7)","v":""},null,"",{"$f":"IF(O46=\"\",\"\",HLOOKUP(O46,名簿!$W$4:$AV$184,41,FALSE))","v":""},"","",null,{"$f":"IF(T46=\"\",\"\",IF(I46=1,VLOOKUP(T46,男子種目コード!$D:$E,2,FALSE),IF(I46=2,VLOOKUP(T46,女子種目コード!$D:$E,2,FALSE))))","v":""},null,"","",null,null,null,null,null,null,null,null,null,null,null,null,null,0,"","",null,null,null,null,"混成4×100mR-F",null,null,null,null,null,0,"",""]
[0,{"$f":"名簿!O45","v":""},null,null,{"$f":"名簿!E45","v":0},{"$f":"名簿!BD45","v":""},{"$f":"名簿!V45","v":""},{"$f":"名簿!BD45","v":""},{"$f":"名簿!U45","v":""},{"$f":"名簿!I45","v":0},{"$f":"名簿!K45","v":0},{"$f":"名簿!BK45","v":"00"},{"$f":"名簿!P45","v":""},{"$f":"IF(F47=\"\",\"\",名簿!$Q$7)","v":""},null,"",{"$f":"IF(O47=\"\",\"\",HLOOKUP(O47,名簿!$W$4:$AV$184,42,FALSE))","v":""},"","",null,{"$f":"IF(T47=\"\",\"\",IF(I47=1,VLOOKUP(T47,男子種目コード!$D:$E,2,FALSE),IF(I47=2,VLOOKUP(T47,女子種目コード!$D:$E,2,FALSE))))","v":""},null,"","",null,null,null,null,null,null,null,null,null,null,null,null,null,0,"","",null,null,null,null,"記録",null,null,null,null,null,0,"",""]
[0,{"$f":"名簿!O46","v":""},null,null,{"$f":"名簿!E46","v":0},{"$f":"名簿!BD46","v":""},{"$f":"名簿!V46","v":""},{"$f":"名簿!BD46","v":""},{"$f":"名簿!U46","v":""},{"$f":"名簿!I46","v":0},{"$f":"名簿!K46","v":0},{"$f":"名簿!BK46","v":"00"},{"$f":"名簿!P46","v":""},{"$f":"IF(F48=\"\",\"\",名簿!$Q$7)","v":""},null,"",{"$f":"IF(O48=\"\",\"\",HLOOKUP(O48,名簿!$W$4:$AV$184,43,FALSE))","v":""},"","",null,{"$f":"IF(T48=\"\",\"\",IF(I48=1,VLOOKUP(T48,男子種目コード!$D:$E,2,FALSE),IF(I48=2,VLOOKUP(T48,女子種目コード!$D:$E,2,FALSE))))","v":""},null,"","",null,null,null,null,null,null,null,null,null,null,null,null,null,0,"","",{"$f":"IF(ISERROR(BB48),\"\",BB48)","v":""},"","","","","",null,null,null,null,0,"","",{"$f":"VLookUpX(\"男子F\",$A$7:$F$186,1,5)","v":{"$error":"#N/A"}},{"$f":"VLookUpX(\"男子F\",$A$7:$F$186,1,6)","v":{"$error":"#N/A"}},{"$f":"VLookUpX(\"女子F\",$A$7:$F$186,1,5)","v":{"$error":"#N/A"}},{"$f":"VLookUpX(\"女子F\",$A$7:$F$186,1,6)","v":{"$error":"#N/A"}},{"$f":"VLookUpX(\"混成F\",$A$7:$F$186,1,5)","v":{"$error":"#N/A"}},{"$f":"VLookUpX(\"混成F\",$A$7:$F$186,1,6)","v":{"$error":"#N/A"}},{"$f":"IF(AO48=\"\",\"\",1)","v":""},{"$f":"IF(AQ48=\"\",\"\",1)","v":""},{"$f":"IF(AS48=\"\",\"\",1)","v":""}]
[0,{"$f":"名簿!O47","v":""},null,null,{"$f":"名簿!E47","v":0},{"$f":"名簿!BD47","v":""},{"$f":"名簿!V47","v":""},{"$f":"名簿!BD47","v":""},{"$f":"名簿!U47","v":""},{"$f":"名簿!I47","v":0},{"$f":"名簿!K47","v":0},{"$f":"名簿!BK47","v":"00"},{"$f":"名簿!P47","v":""},{"$f":"IF(F49=\"\",\"\",名簿!$Q$7)","v":""},null,"",{"$f":"IF(O49=\"\",\"\",HLOOKUP(O49,名簿!$W$4:$AV$184,44,FALSE))","v":""},"","",null,{"$f":"IF(T49=\"\",\"\",IF(I49=1,VLOOKUP(T49,男子種目コード!$D:$E,2,FALSE),IF(I49=2,VLOOKUP(T49,女子種目コード!$D:$E,2,FALSE))))","v":""},null,"","",null,null,null,null,null,null,null,null,null,null,null,null,null,0,"","","","","","","","",null,null,null,null,0,"","",{"$f":"VLookUpX(\"男子F\",$A$7:$F$186,2,5)","v":{"$error":"#N/A"}},{"$f":"VLookUpX(\"男子F\",$A$7:$F$186,2,6)","v":{"$error":"#N/A"}},{"$f":"VLookUpX(\"女子F\",$A$7:$F$186,2,5)","v":{"$error":"#N/A"}},{"$f":"VLookUpX(\"女子F\",$A$7:$F$186,2,6)","v":{"$error":"#N/A"}},{"$f":"VLookUpX(\"混成F\",$A$7:$F$186,2,5)","v":{"$error":"#N/A"}},{"$f":"VLookUpX(\"混成F\",$A$7:$F$186,2,6)","v":{"$error":"#N/A"}}]
[0,{"$f":"名簿!O48","v":""},null,null,{"$f":"名簿!E48","v":0},{"$f":"名簿!BD48","v":""},{"$f":"名簿!V48","v":""},{"$f":"名簿!BD48","v":""},{"$f":"名簿!U48","v":""},{"$f":"名簿!I48","v":0},{"$f":"名簿!K48","v":0},{"$f":"名簿!BK48","v":"00"},{"$f":"名簿!P48","v":""},{"$f":"IF(F50=\"\",\"\",名簿!$Q$7)","v":""},null,"",{"$f":"IF(O50=\"\",\"\",HLOOKUP(O50,名簿!$W$4:$AV$184,45,FALSE))","v":""},"","",null,{"$f":"IF(T50=\"\",\"\",IF(I50=1,VLOOKUP(T50,男子種目コード!$D:$E,2,FALSE),IF(I50=2,VLOOKUP(T50,女子種目コード!$D:$E,2,FALSE))))","v":""},null,"","",null,null,null,null,null,null,null,null,null,null,null,null,null,0,"","","","","","","","",null,null,null,null,0,"","",{"$f":"VLookUpX(\"男子F\",$A$7:$F$186,3,5)","v":{"$error":"#N/A"}},{"$f":"VLookUpX(\"男子F\",$A$7:$F$186,3,6)","v":{"$error":"#N/A"}},{"$f":"VLookUpX(\"女子F\",$A$7:$F$186,3,5)","v":{"$error":"#N/A"}},{"$f":"VLookUpX(\"女子F\",$A$7:$F$186,3,6)","v":{"$error":"#N/A"}},{"$f":"VLookUpX(\"混成F\",$A$7:$F$186,3,5)","v":{"$error":"#N/A"}},{"$f":"VLookUpX(\"混成F\",$A$7:$F$186,3,6)","v":{"$error":"#N/A"}}]
[0,{"$f":"名簿!O49","v":""},null,null,{"$f":"名簿!E49","v":0},{"$f":"名簿!BD49","v":""},{"$f":"名簿!V49","v":""},{"$f":"名簿!BD49","v":""},{"$f":"名簿!U49","v":""},{"$f":"名簿!I49","v":0},{"$f":"名簿!K49","v":0},{"$f":"名簿!BK49","v":"00"},{"$f":"名簿!P49","v":""},{"$f":"IF(F51=\"\",\"\",名簿!$Q$7)","v":""},null,"",{"$f":"IF(O51=\"\",\"\",HLOOKUP(O51,名簿!$W$4:$AV$184,46,FALSE))","v":""},"","",null,{"$f":"IF(T51=\"\",\"\",IF(I51=1,VLOOKUP(T51,男子種目コード!$D:$E,2,FALSE),IF(I51=2,VLOOKUP(T51,女子種目コード!$D:$E,2,FALSE))))","v":""},null,"","",null,null,null,null,null,null,null,null,null,null,null,null,null,0,"","","","","","","","",null,null,null,null,0,"","",{"$f":"VLookUpX(\"男子F\",$A$7:$F$186,4,5)","v":{"$error":"#N/A"}},{"$f":"VLookUpX(\"男子F\",$A$7:$F$186,4,6)","v":{"$error":"#N/A"}},{"$f":"VLookUpX(\"女子F\",$A$7:$F$186,4,5)","v":{"$error":"#N/A"}},{"$f":"VLookUpX(\"女子F\",$A$7:$F$186,4,6)","v":{"$error":"#N/A"}},{"$f":"VLookUpX(\"混成F\",$A$7:$F$186,4,5)","v":{"$error":"#N/A"}},{"$f":"VLookUpX(\"混成F\",$A$7:$F$186,4,6)","v":{"$error":"#N/A"}}]
[0,{"$f":"名簿!O50","v":""},null,null,{"$f":"名簿!E50","v":0},{"$f":"名簿!BD50","v":""},{"$f":"名簿!V50","v":""},{"$f":"名簿!BD50","v":""},{"$f":"名簿!U50","v":""},{"$f":"名簿!I50","v":0},{"$f":"名簿!K50","v":0},{"$f":"名簿!BK50","v":"00"},{"$f":"名簿!P50","v":""},{"$f":"IF(F52=\"\",\"\",名簿!$Q$7)","v":""},null,"",{"$f":"IF(O52=\"\",\"\",HLOOKUP(O52,名簿!$W$4:$AV$184,47,FALSE))","v":""},"","",null,{"$f":"IF(T52=\"\",\"\",IF(I52=1,VLOOKUP(T52,男子種目コード!$D:$E,2,FALSE),IF(I52=2,VLOOKUP(T52,女子種目コード!$D:$E,2,FALSE))))","v":""},null,"","",null,null,null,null,null,null,null,null,null,null,null,null,null,0,"","","","","","","","",null,null,null,null,0,"","",{"$f":"VLookUpX(\"男子F\",$A$7:$F$186,5,5)","v":{"$error":"#N/A"}},{"$f":"VLookUpX(\"男子F\",$A$7:$F$186,5,6)","v":{"$error":"#N/A"}},{"$f":"VLookUpX(\"女子F\",$A$7:$F$186,5,5)","v":{"$error":"#N/A"}},{"$f":"VLookUpX(\"女子F\",$A$7:$F$186,5,6)","v":{"$error":"#N/A"}},{"$f":"VLookUpX(\"混成F\",$A$7:$F$186,5,5)","v":{"$error":"#N/A"}},{"$f":"VLookUpX(\"混成F\",$A$7:$F$186,5,6)","v":{"$error":"#N/A"}}]
[0,{"$f":"名簿!O51","v":""},null,null,{"$f":"名簿!E51","v":0},{"$f":"名簿!BD51","v":""},{"$f":"名簿!V51","v":""},{"$f":"名簿!BD51","v":""},{"$f":"名簿!U51","v":""},{"$f":"名簿!I51","v":0},{"$f":"名簿!K51","v":0},{"$f":"名簿!BK51","v":"00"},{"$f":"名簿!P51","v":""},{"$f":"IF(F53=\"\",\"\",名簿!$Q$7)","v":""},null,"",{"$f":"IF(O53=\"\",\"\",HLOOKUP(O53,名簿!$W$4:$AV$184,48,FALSE))","v":""},"","",null,{"$f":"IF(T53=\"\",\"\",IF(I53=1,VLOOKUP(T53,男子種目コード!$D:$E,2,FALSE),IF(I53=2,VLOOKUP(T53,女子種目コード!$D:$E,2,FALSE))))","v":""},null,"","",null,null,null,null,null,null,null,null,null,null,null,null,null,0,"","","","","","","","",null,null,null,null,0,"","",{"$f":"VLookUpX(\"男子F\",$A$7:$F$186,6,5)","v":{"$error":"#N/A"}},{"$f":"VLookUpX(\"男子F\",$A$7:$F$186,6,6)","v":{"$error":"#N/A"}},{"$f":"VLookUpX(\"女子F\",$A$7:$F$186,6,5)","v":{"$error":"#N/A"}},{"$f":"VLookUpX(\"女子F\",$A$7:$F$186,6,6)","v":{"$error":"#N/A"}},{"$f":"VLookUpX(\"混成F\",$A$7:$F$186,6,5)","v":{"$error":"#N/A"}},{"$f":"VLookUpX(\"混成F\",$A$7:$F$186,6,6)","v":{"$error":"#N/A"}}]
[0,{"$f":"名簿!O52","v":""},null,null,{"$f":"名簿!E52","v":0},{"$f":"名簿!BD52","v":""},{"$f":"名簿!V52","v":""},{"$f":"名簿!BD52","v":""},{"$f":"名簿!U52","v":""},{"$f":"名簿!I52","v":0},{"$f":"名簿!K52","v":0},{"$f":"名簿!BK52","v":"00"},{"$f":"名簿!P52","v":""},{"$f":"IF(F54=\"\",\"\",名簿!$Q$7)","v":""},null,"",{"$f":"IF(O54=\"\",\"\",HLOOKUP(O54,名簿!$W$4:$AV$184,49,FALSE))","v":""},"","",null,{"$f":"IF(T54=\"\",\"\",IF(I54=1,VLOOKUP(T54,男子種目コード!$D:$E,2,FALSE),IF(I54=2,VLOOKUP(T54,女子種目コード!$D:$E,2,FALSE))))","v":""},null,"","",null,null,null,null,null,null,null,null,null,null,null,null,null,0,"","",null,null,null,null,"混成4×100mR-G",null,null,null,null,null,0,"",""]
[0,{"$f":"名簿!O53","v":""},null,null,{"$f":"名簿!E53","v":0},{"$f":"名簿!BD53","v":""},{"$f":"名簿!V53","v":""},{"$f":"名簿!BD53","v":""},{"$f":"名簿!U53","v":""},{"$f":"名簿!I53","v":0},{"$f":"名簿!K53","v":0},{"$f":"名簿!BK53","v":"00"},{"$f":"名簿!P53","v":""},{"$f":"IF(F55=\"\",\"\",名簿!$Q$7)","v":""},null,"",{"$f":"IF(O55=\"\",\"\",HLOOKUP(O55,名簿!$W$4:$AV$184,50,FALSE))","v":""},"","",null,{"$f":"IF(T55=\"\",\"\",IF(I55=1,VLOOKUP(T55,男子種目コード!$D:$E,2,FALSE),IF(I55=2,VLOOKUP(T55,女子種目コード!$D:$E,2,FALSE))))","v":""},null,"","",null,null,null,null,null,null,null,null,null,null,null,null,null,0,"","",null,null,null,null,"記録",null,null,null,null,null,0,"",""]
[0,{"$f":"名簿!O54","v":""},null,null,{"$f":"名簿!E54","v":0},{"$f":"名簿!BD54","v":""},{"$f":"名簿!V54","v":""},{"$f":"名簿!BD54","v":""},{"$f":"名簿!U54","v":""},{"$f":"名簿!I54","v":0},{"$f":"名簿!K54","v":0},{"$f":"名簿!BK54","v":"00"},{"$f":"名簿!P54","v":""},{"$f":"IF(F56=\"\",\"\",名簿!$Q$7)","v":""},null,"",{"$f":"IF(O56=\"\",\"\",HLOOKUP(O56,名簿!$W$4:$AV$184,51,FALSE))","v":""},"","",null,{"$f":"IF(T56=\"\",\"\",IF(I56=1,VLOOKUP(T56,男子種目コード!$D:$E,2,FALSE),IF(I56=2,VLOOKUP(T56,女子種目コード!$D:$E,2,FALSE))))","v":""},null,"","",null,null,null,null,null,null,null,null,null,null,null,null,null,0,"","",null,null,null,null,{"$f":"IF(ISERROR(BF56),\"\",BF56)","v":""},"",null,null,null,null,0,"","",null,null,null,null,{"$f":"VLookUpX(\"混成G\",$A$7:$F$186,1,5)","v":{"$error":"#N/A"}},{"$f":"VLookUpX(\"混成G\",$A$7:$F$186,1,6)","v":{"$error":"#N/A"}},{"$f":"IF(AO56=\"\",\"\",1)","v":""},{"$f":"IF(AQ56=\"\",\"\",1)","v":""},{"$f":"IF(AS56=\"\",\"\",1)","v":""}]
[0,{"$f":"名簿!O55","v":""},null,null,{"$f":"名簿!E55","v":0},{"$f":"名簿!BD55","v":""},{"$f":"名簿!V55","v":""},{"$f":"名簿!BD55","v":""},{"$f":"名簿!U55","v":""},{"$f":"名簿!I55","v":0},{"$f":"名簿!K55","v":0},{"$f":"名簿!BK55","v":"00"},{"$f":"名簿!P55","v":""},{"$f":"IF(F57=\"\",\"\",名簿!$Q$7)","v":""},null,"",{"$f":"IF(O57=\"\",\"\",HLOOKUP(O57,名簿!$W$4:$AV$184,52,FALSE))","v":""},"","",null,{"$f":"IF(T57=\"\",\"\",IF(I57=1,VLOOKUP(T57,男子種目コード!$D:$E,2,FALSE),IF(I57=2,VLOOKUP(T57,女子種目コード!$D:$E,2,FALSE))))","v":""},null,"","",null,null,null,null,null,null,null,null,null,null,null,null,null,0,"","",null,null,null,null,"","",null,null,null,null,0,"","",null,null,null,null,{"$f":"VLookUpX(\"混成G\",$A$7:$F$186,2,5)","v":{"$error":"#N/A"}},{"$f":"VLookUpX(\"混成G\",$A$7:$F$186,2,6)","v":{"$error":"#N/A"}}]
[0,{"$f":"名簿!O56","v":""},null,null,{"$f":"名簿!E56","v":0},{"$f":"名簿!BD56","v":""},{"$f":"名簿!V56","v":""},{"$f":"名簿!BD56","v":""},{"$f":"名簿!U56","v":""},{"$f":"名簿!I56","v":0},{"$f":"名簿!K56","v":0},{"$f":"名簿!BK56","v":"00"},{"$f":"名簿!P56","v":""},{"$f":"IF(F58=\"\",\"\",名簿!$Q$7)","v":""},null,"",{"$f":"IF(O58=\"\",\"\",HLOOKUP(O58,名簿!$W$4:$AV$184,53,FALSE))","v":""},"","",null,{"$f":"IF(T58=\"\",\"\",IF(I58=1,VLOOKUP(T58,男子種目コード!$D:$E,2,FALSE),IF(I58=2,VLOOKUP(T58,女子種目コード!$D:$E,2,FALSE))))","v":""},null,"","",null,null,null,null,null,null,null,null,null,null,null,null,null,0,"","",null,null,null,null,"","",null,null,null,null,0,"","",null,null,null,null,{"$f":"VLookUpX(\"混成G\",$A$7:$F$186,3,5)","v":{"$error":"#N/A"}},{"$f":"VLookUpX(\"混成G\",$A$7:$F$186,3,6)","v":{"$error":"#N/A"}}]
[0,{"$f":"名簿!O57","v":""},null,null,{"$f":"名簿!E57","v":0},{"$f":"名簿!BD57","v":""},{"$f":"名簿!V57","v":""},{"$f":"名簿!BD57","v":""},{"$f":"名簿!U57","v":""},{"$f":"名簿!I57","v":0},{"$f":"名簿!K57","v":0},{"$f":"名簿!BK57","v":"00"},{"$f":"名簿!P57","v":""},{"$f":"IF(F59=\"\",\"\",名簿!$Q$7)","v":""},null,"",{"$f":"IF(O59=\"\",\"\",HLOOKUP(O59,名簿!$W$4:$AV$184,54,FALSE))","v":""},"","",null,{"$f":"IF(T59=\"\",\"\",IF(I59=1,VLOOKUP(T59,男子種目コード!$D:$E,2,FALSE),IF(I59=2,VLOOKUP(T59,女子種目コード!$D:$E,2,FALSE))))","v":""},null,"","",null,null,null,null,null,null,null,null,null,null,null,null,null,0,"","",null,null,null,null,"","",null,null,null,null,0,"","",null,null,null,null,{"$f":"VLookUpX(\"混成G\",$A$7:$F$186,4,5)","v":{"$error":"#N/A"}},{"$f":"VLookUpX(\"混成G\",$A$7:$F$186,4,6)","v":{"$error":"#N/A"}}]
[0,{"$f":"名簿!O58","v":""},null,null,{"$f":"名簿!E58","v":0},{"$f":"名簿!BD58","v":""},{"$f":"名簿!V58","v":""},{"$f":"名簿!BD58","v":""},{"$f":"名簿!U58","v":""},{"$f":"名簿!I58","v":0},{"$f":"名簿!K58","v":0},{"$f":"名簿!BK58","v":"00"},{"$f":"名簿!P58","v":""},{"$f":"IF(F60=\"\",\"\",名簿!$Q$7)","v":""},null,"",{"$f":"IF(O60=\"\",\"\",HLOOKUP(O60,名簿!$W$4:$AV$184,55,FALSE))","v":""},"","",null,{"$f":"IF(T60=\"\",\"\",IF(I60=1,VLOOKUP(T60,男子種目コード!$D:$E,2,FALSE),IF(I60=2,VLOOKUP(T60,女子種目コード!$D:$E,2,FALSE))))","v":""},null,"","",null,null,null,null,null,null,null,null,null,null,null,null,null,0,"","",null,null,null,null,"","",null,null,null,null,0,"","",null,null,null,null,{"$f":"VLookUpX(\"混成G\",$A$7:$F$186,5,5)","v":{"$error":"#N/A"}},{"$f":"VLookUpX(\"混成G\",$A$7:$F$186,5,6)","v":{"$error":"#N/A"}}]
[0,{"$f":"名簿!O59","v":""},null,null,{"$f":"名簿!E59","v":0},{"$f":"名簿!BD59","v":""},{"$f":"名簿!V59","v":""},{"$f":"名簿!BD59","v":""},{"$f":"名簿!U59","v":""},{"$f":"名簿!I59","v":0},{"$f":"名簿!K59","v":0},{"$f":"名簿!BK59","v":"00"},{"$f":"名簿!P59","v":""},{"$f":"IF(F61=\"\",\"\",名簿!$Q$7)","v":""},null,"",{"$f":"IF(O61=\"\",\"\",HLOOKUP(O61,名簿!$W$4:$AV$184,56,FALSE))","v":""},"","",null,{"$f":"IF(T61=\"\",\"\",IF(I61=1,VLOOKUP(T61,男子種目コード!$D:$E,2,FALSE),IF(I61=2,VLOOKUP(T61,女子種目コード!$D:$E,2,FALSE))))","v":""},null,"","",null,null,null,null,null,null,null,null,null,null,null,null,null,0,"","",null,null,null,null,"","",null,null,null,null,0,"","",null,null,null,null,{"$f":"VLookUpX(\"混成G\",$A$7:$F$186,6,5)","v":{"$error":"#N/A"}},{"$f":"VLookUpX(\"混成G\",$A$7:$F$186,6,6)","v":{"$error":"#N/A"}}]
[0,{"$f":"名簿!O60","v":""},null,null,{"$f":"名簿!E60","v":0},{"$f":"名簿!BD60","v":""},{"$f":"名簿!V60","v":""},{"$f":"名簿!BD60","v":""},{"$f":"名簿!U60","v":""},{"$f":"名簿!I60","v":0},{"$f":"名簿!K60","v":0},{"$f":"名簿!BK60","v":"00"},{"$f":"名簿!P60","v":""},{"$f":"IF(F62=\"\",\"\",名簿!$Q$7)","v":""},null,"",{"$f":"IF(O62=\"\",\"\",HLOOKUP(O62,名簿!$W$4:$AV$184,57,FALSE))","v":""},"","",null,{"$f":"IF(T62=\"\",\"\",IF(I62=1,VLOOKUP(T62,男子種目コード!$D:$E,2,FALSE),IF(I62=2,VLOOKUP(T62,女子種目コード!$D:$E,2,FALSE))))","v":""},null,"","",null,null,null,null,null,null,null,null,null,null,null,null,null,0,"","",null,null,null,null,null,null,null,null,null,null,0,"","",null,null,null,null,null,null,{"$f":"SUM(BH8:BH61)","v":0},{"$f":"SUM(BI8:BI61)","v":0},{"$f":"SUM(BJ8:BJ61)","v":0},{"$f":"SUM(BH62:BJ62)","v":0}]
[0,{"$f":"名簿!O61","v":""},null,null,{"$f":"名簿!E61","v":0},{"$f":"名簿!BD61","v":""},{"$f":"名簿!V61","v":""},{"$f":"名簿!BD61","v":""},{"$f":"名簿!U61","v":""},{"$f":"名簿!I61","v":0},{"$f":"名簿!K61","v":0},{"$f":"名簿!BK61","v":"00"},{"$f":"名簿!P61","v":""},{"$f":"IF(F63=\"\",\"\",名簿!$Q$7)","v":""},null,"",{"$f":"IF(O63=\"\",\"\",HLOOKUP(O63,名簿!$W$4:$AV$184,58,FALSE))","v":""},"","",null,{"$f":"IF(T63=\"\",\"\",IF(I63=1,VLOOKUP(T63,男子種目コード!$D:$E,2,FALSE),IF(I63=2,VLOOKUP(T63,女子種目コード!$D:$E,2,FALSE))))","v":""},null,"","",null,null,null,null,null,null,null,null,null,null,null,null,null,0,"","",null,null,null,null,null,null,null,null,null,null,0,"",""]
[0,{"$f":"名簿!O62","v":""},null,null,{"$f":"名簿!E62","v":0},{"$f":"名簿!BD62","v":""},{"$f":"名簿!V62","v":""},{"$f":"名簿!BD62","v":""},{"$f":"名簿!U62","v":""},{"$f":"名簿!I62","v":0},{"$f":"名簿!K62","v":0},{"$f":"名簿!BK62","v":"00"},{"$f":"名簿!P62","v":""},{"$f":"IF(F64=\"\",\"\",名簿!$Q$7)","v":""},null,"",{"$f":"IF(O64=\"\",\"\",HLOOKUP(O64,名簿!$W$4:$AV$184,59,FALSE))","v":""},"","",null,{"$f":"IF(T64=\"\",\"\",IF(I64=1,VLOOKUP(T64,男子種目コード!$D:$E,2,FALSE),IF(I64=2,VLOOKUP(T64,女子種目コード!$D:$E,2,FALSE))))","v":""},null,"","",null,null,null,null,null,null,null,null,null,null,null,null,null,0,"","",null,null,null,null,null,null,null,null,null,null,0,"",""]
[0,{"$f":"名簿!O63","v":""},null,null,{"$f":"名簿!E63","v":0},{"$f":"名簿!BD63","v":""},{"$f":"名簿!V63","v":""},{"$f":"名簿!BD63","v":""},{"$f":"名簿!U63","v":""},{"$f":"名簿!I63","v":0},{"$f":"名簿!K63","v":0},{"$f":"名簿!BK63","v":"00"},{"$f":"名簿!P63","v":""},{"$f":"IF(F65=\"\",\"\",名簿!$Q$7)","v":""},null,"",{"$f":"IF(O65=\"\",\"\",HLOOKUP(O65,名簿!$W$4:$AV$184,60,FALSE))","v":""},"","",null,{"$f":"IF(T65=\"\",\"\",IF(I65=1,VLOOKUP(T65,男子種目コード!$D:$E,2,FALSE),IF(I65=2,VLOOKUP(T65,女子種目コード!$D:$E,2,FALSE))))","v":""},null,"","",null,null,null,null,null,null,null,null,null,null,null,null,null,0,"","",null,null,null,null,null,null,null,null,null,null,0,"",""]
[0,{"$f":"名簿!O64","v":""},null,null,{"$f":"名簿!E64","v":0},{"$f":"名簿!BD64","v":""},{"$f":"名簿!V64","v":""},{"$f":"名簿!BD64","v":""},{"$f":"名簿!U64","v":""},{"$f":"名簿!I64","v":0},{"$f":"名簿!K64","v":0},{"$f":"名簿!BK64","v":"00"},{"$f":"名簿!P64","v":""},{"$f":"IF(F66=\"\",\"\",名簿!$Q$7)","v":""},null,"",{"$f":"IF(O66=\"\",\"\",HLOOKUP(O66,名簿!$W$4:$AV$184,61,FALSE))","v":""},"","",null,{"$f":"IF(T66=\"\",\"\",IF(I66=1,VLOOKUP(T66,男子種目コード!$D:$E,2,FALSE),IF(I66=2,VLOOKUP(T66,女子種目コード!$D:$E,2,FALSE))))","v":""},null,"","",null,null,null,null,null,null,null,null,null,null,null,null,null,0,"","",null,null,null,null,null,null,null,null,null,null,0,"",""]
[0,{"$f":"名簿!O65","v":""},null,null,{"$f":"名簿!E65","v":0},{"$f":"名簿!BD65","v":""},{"$f":"名簿!V65","v":""},{"$f":"名簿!BD65","v":""},{"$f":"名簿!U65","v":""},{"$f":"名簿!I65","v":0},{"$f":"名簿!K65","v":0},{"$f":"名簿!BK65","v":"00"},{"$f":"名簿!P65","v":""},{"$f":"IF(F67=\"\",\"\",名簿!$Q$7)","v":""},null,"",{"$f":"IF(O67=\"\",\"\",HLOOKUP(O67,名簿!$W$4:$AV$184,62,FALSE))","v":""},"","",null,{"$f":"IF(T67=\"\",\"\",IF(I67=1,VLOOKUP(T67,男子種目コード!$D:$E,2,FALSE),IF(I67=2,VLOOKUP(T67,女子種目コード!$D:$E,2,FALSE))))","v":""},null,"","",null,null,null,null,null,null,null,null,null,null,null,null,null,0,"","",null,null,null,null,null,null,null,null,null,null,0,"",""]
[0,{"$f":"名簿!O66","v":""},null,null,{"$f":"名簿!E66","v":0},{"$f":"名簿!BD66","v":""},{"$f":"名簿!V66","v":""},{"$f":"名簿!BD66","v":""},{"$f":"名簿!U66","v":""},{"$f":"名簿!I66","v":0},{"$f":"名簿!K66","v":0},{"$f":"名簿!BK66","v":"00"},{"$f":"名簿!P66","v":""},{"$f":"IF(F68=\"\",\"\",名簿!$Q$7)","v":""},null,"",{"$f":"IF(O68=\"\",\"\",HLOOKUP(O68,名簿!$W$4:$AV$184,63,FALSE))","v":""},"","",null,{"$f":"IF(T68=\"\",\"\",IF(I68=1,VLOOKUP(T68,男子種目コード!$D:$E,2,FALSE),IF(I68=2,VLOOKUP(T68,女子種目コード!$D:$E,2,FALSE))))","v":""},null,"","",null,null,null,null,null,null,null,null,null,null,null,null,null,0,"","",null,null,null,null,null,null,null,null,null,null,0,"",""]
[0,{"$f":"名簿!O67","v":""},null,null,{"$f":"名簿!E67","v":0},{"$f":"名簿!BD67","v":""},{"$f":"名簿!V67","v":""},{"$f":"名簿!BD67","v":""},{"$f":"名簿!U67","v":""},{"$f":"名簿!I67","v":0},{"$f":"名簿!K67","v":0},{"$f":"名簿!BK67","v":"00"},{"$f":"名簿!P67","v":""},{"$f":"IF(F69=\"\",\"\",名簿!$Q$7)","v":""},null,"",{"$f":"IF(O69=\"\",\"\",HLOOKUP(O69,名簿!$W$4:$AV$184,64,FALSE))","v":""},"","",null,{"$f":"IF(T69=\"\",\"\",IF(I69=1,VLOOKUP(T69,男子種目コード!$D:$E,2,FALSE),IF(I69=2,VLOOKUP(T69,女子種目コード!$D:$E,2,FALSE))))","v":""},null,"","",null,null,null,null,null,null,null,null,null,null,null,null,null,0,"","",null,null,null,null,null,null,null,null,null,null,0,"",""]
[0,{"$f":"名簿!O68","v":""},null,null,{"$f":"名簿!E68","v":0},{"$f":"名簿!BD68","v":""},{"$f":"名簿!V68","v":""},{"$f":"名簿!BD68","v":""},{"$f":"名簿!U68","v":""},{"$f":"名簿!I68","v":0},{"$f":"名簿!K68","v":0},{"$f":"名簿!BK68","v":"00"},{"$f":"名簿!P68","v":""},{"$f":"IF(F70=\"\",\"\",名簿!$Q$7)","v":""},null,"",{"$f":"IF(O70=\"\",\"\",HLOOKUP(O70,名簿!$W$4:$AV$184,65,FALSE))","v":""},"","",null,{"$f":"IF(T70=\"\",\"\",IF(I70=1,VLOOKUP(T70,男子種目コード!$D:$E,2,FALSE),IF(I70=2,VLOOKUP(T70,女子種目コード!$D:$E,2,FALSE))))","v":""},null,"","",null,null,null,null,null,null,null,null,null,null,null,null,null,0,"","",null,null,null,null,null,null,null,null,null,null,0,"",""]
[0,{"$f":"名簿!O69","v":""},null,null,{"$f":"名簿!E69","v":0},{"$f":"名簿!BD69","v":""},{"$f":"名簿!V69","v":""},{"$f":"名簿!BD69","v":""},{"$f":"名簿!U69","v":""},{"$f":"名簿!I69","v":0},{"$f":"名簿!K69","v":0},{"$f":"名簿!BK69","v":"00"},{"$f":"名簿!P69","v":""},{"$f":"IF(F71=\"\",\"\",名簿!$Q$7)","v":""},null,"",{"$f":"IF(O71=\"\",\"\",HLOOKUP(O71,名簿!$W$4:$AV$184,66,FALSE))","v":""},"","",null,{"$f":"IF(T71=\"\",\"\",IF(I71=1,VLOOKUP(T71,男子種目コード!$D:$E,2,FALSE),IF(I71=2,VLOOKUP(T71,女子種目コード!$D:$E,2,FALSE))))","v":""},null,"","",null,null,null,null,null,null,null,null,null,null,null,null,null,{"$f":"COUNT(P71,U71)","v":0},{"$f":"IF(I71=1,AL71,\"\")","v":""},{"$f":"IF(I71=2,AL71,\"\")","v":""},null,null,null,null,null,null,null,null,null,null,{"$f":"COUNT(P71,U71)","v":0},{"$f":"IF(I71=1,AY71,\"\")","v":""},{"$f":"IF(I71=2,AY71,\"\")","v":""}]
[{"$f":"T72","v":0},{"$f":"名簿!O70","v":""},null,null,{"$f":"名簿!E70","v":0},{"$f":"名簿!BD70","v":""},{"$f":"名簿!V70","v":""},{"$f":"名簿!BD70","v":""},{"$f":"名簿!U70","v":""},{"$f":"名簿!I70","v":0},{"$f":"名簿!K70","v":0},{"$f":"名簿!BK70","v":"00"},{"$f":"名簿!P70","v":""},{"$f":"IF(F72=\"\",\"\",名簿!$Q$7)","v":""},null,{"$f":"IF(O72=\"\",\"\",IF(I72=1,VLOOKUP(O72,$AI$8:$AK$16,3,FALSE),IF(I72=2,VLOOKUP(O72,$AI$19:$AK$27,3,FALSE))))","v":""},{"$f":"IF(O72=\"\",\"\",HLOOKUP(O72,名簿!$W$4:$AV$184,67,FALSE))","v":""},{"$f":"IF(O72=\"\",\"\",0)","v":""},{"$f":"IF(O72=\"\",\"\",2)","v":""},null,{"$f":"IF(T72=\"\",\"\",IF(I72=1,VLOOKUP(T72,男子種目コード!$D:$E,2,FALSE),IF(I72=2,VLOOKUP(T72,女子種目コード!$D:$E,2,FALSE))))","v":""},null,{"$f":"IF(T72=\"\",\"\",0)","v":""},{"$f":"IF(T72=\"\",\"\",2)","v":""},null,null,null,null,null,null,null,null,null,null,null,null,null,0,"","",null,null,null,null,null,null,null,null,null,null,0,"",""]
[0,{"$f":"名簿!O71","v":""},null,null,{"$f":"名簿!E71","v":0},{"$f":"名簿!BD71","v":""},{"$f":"名簿!V71","v":""},{"$f":"名簿!BD71","v":""},{"$f":"名簿!U71","v":""},{"$f":"名簿!I71","v":0},{"$f":"名簿!K71","v":0},{"$f":"名簿!BK71","v":"00"},{"$f":"名簿!P71","v":""},{"$f":"IF(F73=\"\",\"\",名簿!$Q$7)","v":""},null,"",{"$f":"IF(O73=\"\",\"\",HLOOKUP(O73,名簿!$W$4:$AV$184,68,FALSE))","v":""},"","",null,{"$f":"IF(T73=\"\",\"\",IF(I73=1,VLOOKUP(T73,男子種目コード!$D:$E,2,FALSE),IF(I73=2,VLOOKUP(T73,女子種目コード!$D:$E,2,FALSE))))","v":""},null,"","",null,null,null,null,null,null,null,null,null,null,null,null,null,0,"","",null,null,null,null,null,null,null,null,null,null,0,"",""]
[0,{"$f":"名簿!O72","v":""},null,null,{"$f":"名簿!E72","v":0},{"$f":"名簿!BD72","v":""},{"$f":"名簿!V72","v":""},{"$f":"名簿!BD72","v":""},{"$f":"名簿!U72","v":""},{"$f":"名簿!I72","v":0},{"$f":"名簿!K72","v":0},{"$f":"名簿!BK72","v":"00"},{"$f":"名簿!P72","v":""},{"$f":"IF(F74=\"\",\"\",名簿!$Q$7)","v":""},null,"",{"$f":"IF(O74=\"\",\"\",HLOOKUP(O74,名簿!$W$4:$AV$184,69,FALSE))","v":""},"","",null,{"$f":"IF(T74=\"\",\"\",IF(I74=1,VLOOKUP(T74,男子種目コード!$D:$E,2,FALSE),IF(I74=2,VLOOKUP(T74,女子種目コード!$D:$E,2,FALSE))))","v":""},null,"","",null,null,null,null,null,null,null,null,null,null,null,null,null,0,"","",null,null,null,null,null,null,null,null,null,null,0,"",""]
[0,{"$f":"名簿!O73","v":""},null,null,{"$f":"名簿!E73","v":0},{"$f":"名簿!BD73","v":""},{"$f":"名簿!V73","v":""},{"$f":"名簿!BD73","v":""},{"$f":"名簿!U73","v":""},{"$f":"名簿!I73","v":0},{"$f":"名簿!K73","v":0},{"$f":"名簿!BK73","v":"00"},{"$f":"名簿!P73","v":""},{"$f":"IF(F75=\"\",\"\",名簿!$Q$7)","v":""},null,"",{"$f":"IF(O75=\"\",\"\",HLOOKUP(O75,名簿!$W$4:$AV$184,70,FALSE))","v":""},"","",null,{"$f":"IF(T75=\"\",\"\",IF(I75=1,VLOOKUP(T75,男子種目コード!$D:$E,2,FALSE),IF(I75=2,VLOOKUP(T75,女子種目コード!$D:$E,2,FALSE))))","v":""},null,"","",null,null,null,null,null,null,null,null,null,null,null,null,null,0,"","",null,null,null,null,null,null,null,null,null,null,0,"",""]
[0,{"$f":"名簿!O74","v":""},null,null,{"$f":"名簿!E74","v":0},{"$f":"名簿!BD74","v":""},{"$f":"名簿!V74","v":""},{"$f":"名簿!BD74","v":""},{"$f":"名簿!U74","v":""},{"$f":"名簿!I74","v":0},{"$f":"名簿!K74","v":0},{"$f":"名簿!BK74","v":"00"},{"$f":"名簿!P74","v":""},{"$f":"IF(F76=\"\",\"\",名簿!$Q$7)","v":""},null,"",{"$f":"IF(O76=\"\",\"\",HLOOKUP(O76,名簿!$W$4:$AV$184,71,FALSE))","v":""},"","",null,{"$f":"IF(T76=\"\",\"\",IF(I76=1,VLOOKUP(T76,男子種目コード!$D:$E,2,FALSE),IF(I76=2,VLOOKUP(T76,女子種目コード!$D:$E,2,FALSE))))","v":""},null,"","",null,null,null,null,null,null,null,null,null,null,null,null,null,0,"","",null,null,null,null,null,null,null,null,null,null,0,"",""]
[0,{"$f":"名簿!O75","v":""},null,null,{"$f":"名簿!E75","v":0},{"$f":"名簿!BD75","v":""},{"$f":"名簿!V75","v":""},{"$f":"名簿!BD75","v":""},{"$f":"名簿!U75","v":""},{"$f":"名簿!I75","v":0},{"$f":"名簿!K75","v":0},{"$f":"名簿!BK75","v":"00"},{"$f":"名簿!P75","v":""},{"$f":"IF(F77=\"\",\"\",名簿!$Q$7)","v":""},null,"",{"$f":"IF(O77=\"\",\"\",HLOOKUP(O77,名簿!$W$4:$AV$184,72,FALSE))","v":""},"","",null,{"$f":"IF(T77=\"\",\"\",IF(I77=1,VLOOKUP(T77,男子種目コード!$D:$E,2,FALSE),IF(I77=2,VLOOKUP(T77,女子種目コード!$D:$E,2,FALSE))))","v":""},null,"","",null,null,null,null,null,null,null,null,null,null,null,null,null,0,"","",null,null,null,null,null,null,null,null,null,null,0,"",""]
[0,{"$f":"名簿!O76","v":""},null,null,{"$f":"名簿!E76","v":0},{"$f":"名簿!BD76","v":""},{"$f":"名簿!V76","v":""},{"$f":"名簿!BD76","v":""},{"$f":"名簿!U76","v":""},{"$f":"名簿!I76","v":0},{"$f":"名簿!K76","v":0},{"$f":"名簿!BK76","v":"00"},{"$f":"名簿!P76","v":""},{"$f":"IF(F78=\"\",\"\",名簿!$Q$7)","v":""},null,"",{"$f":"IF(O78=\"\",\"\",HLOOKUP(O78,名簿!$W$4:$AV$184,73,FALSE))","v":""},"","",null,{"$f":"IF(T78=\"\",\"\",IF(I78=1,VLOOKUP(T78,男子種目コード!$D:$E,2,FALSE),IF(I78=2,VLOOKUP(T78,女子種目コード!$D:$E,2,FALSE))))","v":""},null,"","",null,null,null,null,null,null,null,null,null,null,null,null,null,0,"","",null,null,null,null,null,null,null,null,null,null,0,"",""]
[0,{"$f":"名簿!O77","v":""},null,null,{"$f":"名簿!E77","v":0},{"$f":"名簿!BD77","v":""},{"$f":"名簿!V77","v":""},{"$f":"名簿!BD77","v":""},{"$f":"名簿!U77","v":""},{"$f":"名簿!I77","v":0},{"$f":"名簿!K77","v":0},{"$f":"名簿!BK77","v":"00"},{"$f":"名簿!P77","v":""},{"$f":"IF(F79=\"\",\"\",名簿!$Q$7)","v":""},null,"",{"$f":"IF(O79=\"\",\"\",HLOOKUP(O79,名簿!$W$4:$AV$184,74,FALSE))","v":""},"","",null,{"$f":"IF(T79=\"\",\"\",IF(I79=1,VLOOKUP(T79,男子種目コード!$D:$E,2,FALSE),IF(I79=2,VLOOKUP(T79,女子種目コード!$D:$E,2,FALSE))))","v":""},null,"","",null,null,null,null,null,null,null,null,null,null,null,null,null,0,"","",null,null,null,null,null,null,null,null,null,null,0,"",""]
[0,{"$f":"名簿!O78","v":""},null,null,{"$f":"名簿!E78","v":0},{"$f":"名簿!BD78","v":""},{"$f":"名簿!V78","v":""},{"$f":"名簿!BD78","v":""},{"$f":"名簿!U78","v":""},{"$f":"名簿!I78","v":0},{"$f":"名簿!K78","v":0},{"$f":"名簿!BK78","v":"00"},{"$f":"名簿!P78","v":""},{"$f":"IF(F80=\"\",\"\",名簿!$Q$7)","v":""},null,"",{"$f":"IF(O80=\"\",\"\",HLOOKUP(O80,名簿!$W$4:$AV$184,75,FALSE))","v":""},"","",null,{"$f":"IF(T80=\"\",\"\",IF(I80=1,VLOOKUP(T80,男子種目コード!$D:$E,2,FALSE),IF(I80=2,VLOOKUP(T80,女子種目コード!$D:$E,2,FALSE))))","v":""},null,"","",null,null,null,null,null,null,null,null,null,null,null,null,null,0,"","",null,null,null,null,null,null,null,null,null,null,0,"",""]
[0,{"$f":"名簿!O79","v":""},null,null,{"$f":"名簿!E79","v":0},{"$f":"名簿!BD79","v":""},{"$f":"名簿!V79","v":""},{"$f":"名簿!BD79","v":""},{"$f":"名簿!U79","v":""},{"$f":"名簿!I79","v":0},{"$f":"名簿!K79","v":0},{"$f":"名簿!BK79","v":"00"},{"$f":"名簿!P79","v":""},{"$f":"IF(F81=\"\",\"\",名簿!$Q$7)","v":""},null,"",{"$f":"IF(O81=\"\",\"\",HLOOKUP(O81,名簿!$W$4:$AV$184,76,FALSE))","v":""},"","",null,{"$f":"IF(T81=\"\",\"\",IF(I81=1,VLOOKUP(T81,男子種目コード!$D:$E,2,FALSE),IF(I81=2,VLOOKUP(T81,女子種目コード!$D:$E,2,FALSE))))","v":""},null,"","",null,null,null,null,null,null,null,null,null,null,null,null,null,0,"","",null,null,null,null,null,null,null,null,null,null,0,"",""]
[0,{"$f":"名簿!O80","v":""},null,null,{"$f":"名簿!E80","v":0},{"$f":"名簿!BD80","v":""},{"$f":"名簿!V80","v":""},{"$f":"名簿!BD80","v":""},{"$f":"名簿!U80","v":""},{"$f":"名簿!I80","v":0},{"$f":"名簿!K80","v":0},{"$f":"名簿!BK80","v":"00"},{"$f":"名簿!P80","v":""},{"$f":"IF(F82=\"\",\"\",名簿!$Q$7)","v":""},null,"",{"$f":"IF(O82=\"\",\"\",HLOOKUP(O82,名簿!$W$4:$AV$184,77,FALSE))","v":""},"","",null,{"$f":"IF(T82=\"\",\"\",IF(I82=1,VLOOKUP(T82,男子種目コード!$D:$E,2,FALSE),IF(I82=2,VLOOKUP(T82,女子種目コード!$D:$E,2,FALSE))))","v":""},null,"","",null,null,null,null,null,null,null,null,null,null,null,null,null,0,"","",null,null,null,null,null,null,null,null,null,null,0,"",""]
[0,{"$f":"名簿!O81","v":""},null,null,{"$f":"名簿!E81","v":0},{"$f":"名簿!BD81","v":""},{"$f":"名簿!V81","v":""},{"$f":"名簿!BD81","v":""},{"$f":"名簿!U81","v":""},{"$f":"名簿!I81","v":0},{"$f":"名簿!K81","v":0},{"$f":"名簿!BK81","v":"00"},{"$f":"名簿!P81","v":""},{"$f":"IF(F83=\"\",\"\",名簿!$Q$7)","v":""},null,"",{"$f":"IF(O83=\"\",\"\",HLOOKUP(O83,名簿!$W$4:$AV$184,78,FALSE))","v":""},"","",null,{"$f":"IF(T83=\"\",\"\",IF(I83=1,VLOOKUP(T83,男子種目コード!$D:$E,2,FALSE),IF(I83=2,VLOOKUP(T83,女子種目コード!$D:$E,2,FALSE))))","v":""},null,"","",null,null,null,null,null,null,null,null,null,null,null,null,null,0,"","",null,null,null,null,null,null,null,null,null,null,0,"",""]
[0,{"$f":"名簿!O82","v":""},null,null,{"$f":"名簿!E82","v":0},{"$f":"名簿!BD82","v":""},{"$f":"名簿!V82","v":""},{"$f":"名簿!BD82","v":""},{"$f":"名簿!U82","v":""},{"$f":"名簿!I82","v":0},{"$f":"名簿!K82","v":0},{"$f":"名簿!BK82","v":"00"},{"$f":"名簿!P82","v":""},{"$f":"IF(F84=\"\",\"\",名簿!$Q$7)","v":""},null,"",{"$f":"IF(O84=\"\",\"\",HLOOKUP(O84,名簿!$W$4:$AV$184,79,FALSE))","v":""},"","",null,{"$f":"IF(T84=\"\",\"\",IF(I84=1,VLOOKUP(T84,男子種目コード!$D:$E,2,FALSE),IF(I84=2,VLOOKUP(T84,女子種目コード!$D:$E,2,FALSE))))","v":""},null,"","",null,null,null,null,null,null,null,null,null,null,null,null,null,0,"","",null,null,null,null,null,null,null,null,null,null,0,"",""]
[0,{"$f":"名簿!O83","v":""},null,null,{"$f":"名簿!E83","v":0},{"$f":"名簿!BD83","v":""},{"$f":"名簿!V83","v":""},{"$f":"名簿!BD83","v":""},{"$f":"名簿!U83","v":""},{"$f":"名簿!I83","v":0},{"$f":"名簿!K83","v":0},{"$f":"名簿!BK83","v":"00"},{"$f":"名簿!P83","v":""},{"$f":"IF(F85=\"\",\"\",名簿!$Q$7)","v":""},null,"",{"$f":"IF(O85=\"\",\"\",HLOOKUP(O85,名簿!$W$4:$AV$184,80,FALSE))","v":""},"","",null,{"$f":"IF(T85=\"\",\"\",IF(I85=1,VLOOKUP(T85,男子種目コード!$D:$E,2,FALSE),IF(I85=2,VLOOKUP(T85,女子種目コード!$D:$E,2,FALSE))))","v":""},null,"","",null,null,null,null,null,null,null,null,null,null,null,null,null,0,"","",null,null,null,null,null,null,null,null,null,null,0,"",""]
[0,{"$f":"名簿!O84","v":""},null,null,{"$f":"名簿!E84","v":0},{"$f":"名簿!BD84","v":""},{"$f":"名簿!V84","v":""},{"$f":"名簿!BD84","v":""},{"$f":"名簿!U84","v":""},{"$f":"名簿!I84","v":0},{"$f":"名簿!K84","v":0},{"$f":"名簿!BK84","v":"00"},{"$f":"名簿!P84","v":""},{"$f":"IF(F86=\"\",\"\",名簿!$Q$7)","v":""},null,"",{"$f":"IF(O86=\"\",\"\",HLOOKUP(O86,名簿!$W$4:$AV$184,81,FALSE))","v":""},"","",null,{"$f":"IF(T86=\"\",\"\",IF(I86=1,VLOOKUP(T86,男子種目コード!$D:$E,2,FALSE),IF(I86=2,VLOOKUP(T86,女子種目コード!$D:$E,2,FALSE))))","v":""},null,"","",null,null,null,null,null,null,null,null,null,null,null,null,null,0,"","",null,null,null,null,null,null,null,null,null,null,0,"",""]
[0,{"$f":"名簿!O85","v":""},null,null,{"$f":"名簿!E85","v":0},{"$f":"名簿!BD85","v":""},{"$f":"名簿!V85","v":""},{"$f":"名簿!BD85","v":""},{"$f":"名簿!U85","v":""},{"$f":"名簿!I85","v":0},{"$f":"名簿!K85","v":0},{"$f":"名簿!BK85","v":"00"},{"$f":"名簿!P85","v":""},{"$f":"IF(F87=\"\",\"\",名簿!$Q$7)","v":""},null,"",{"$f":"IF(O87=\"\",\"\",HLOOKUP(O87,名簿!$W$4:$AV$184,82,FALSE))","v":""},"","",null,{"$f":"IF(T87=\"\",\"\",IF(I87=1,VLOOKUP(T87,男子種目コード!$D:$E,2,FALSE),IF(I87=2,VLOOKUP(T87,女子種目コード!$D:$E,2,FALSE))))","v":""},null,"","",null,null,null,null,null,null,null,null,null,null,null,null,null,0,"","",null,null,null,null,null,null,null,null,null,null,0,"",""]
[0,{"$f":"名簿!O86","v":""},null,null,{"$f":"名簿!E86","v":0},{"$f":"名簿!BD86","v":""},{"$f":"名簿!V86","v":""},{"$f":"名簿!BD86","v":""},{"$f":"名簿!U86","v":""},{"$f":"名簿!I86","v":0},{"$f":"名簿!K86","v":0},{"$f":"名簿!BK86","v":"00"},{"$f":"名簿!P86","v":""},{"$f":"IF(F88=\"\",\"\",名簿!$Q$7)","v":""},null,"",{"$f":"IF(O88=\"\",\"\",HLOOKUP(O88,名簿!$W$4:$AV$184,83,FALSE))","v":""},"","",null,{"$f":"IF(T88=\"\",\"\",IF(I88=1,VLOOKUP(T88,男子種目コード!$D:$E,2,FALSE),IF(I88=2,VLOOKUP(T88,女子種目コード!$D:$E,2,FALSE))))","v":""},null,"","",null,null,null,null,null,null,null,null,null,null,null,null,null,0,"","",null,null,null,null,null,null,null,null,null,null,0,"",""]
[0,{"$f":"名簿!O87","v":""},null,null,{"$f":"名簿!E87","v":0},{"$f":"名簿!BD87","v":""},{"$f":"名簿!V87","v":""},{"$f":"名簿!BD87","v":""},{"$f":"名簿!U87","v":""},{"$f":"名簿!I87","v":0},{"$f":"名簿!K87","v":0},{"$f":"名簿!BK87","v":"00"},{"$f":"名簿!P87","v":""},{"$f":"IF(F89=\"\",\"\",名簿!$Q$7)","v":""},null,"",{"$f":"IF(O89=\"\",\"\",HLOOKUP(O89,名簿!$W$4:$AV$184,84,FALSE))","v":""},"","",null,{"$f":"IF(T89=\"\",\"\",IF(I89=1,VLOOKUP(T89,男子種目コード!$D:$E,2,FALSE),IF(I89=2,VLOOKUP(T89,女子種目コード!$D:$E,2,FALSE))))","v":""},null,"","",null,null,null,null,null,null,null,null,null,null,null,null,null,0,"","",null,null,null,null,null,null,null,null,null,null,0,"",""]
[0,{"$f":"名簿!O88","v":""},null,null,{"$f":"名簿!E88","v":0},{"$f":"名簿!BD88","v":""},{"$f":"名簿!V88","v":""},{"$f":"名簿!BD88","v":""},{"$f":"名簿!U88","v":""},{"$f":"名簿!I88","v":0},{"$f":"名簿!K88","v":0},{"$f":"名簿!BK88","v":"00"},{"$f":"名簿!P88","v":""},{"$f":"IF(F90=\"\",\"\",名簿!$Q$7)","v":""},null,"",{"$f":"IF(O90=\"\",\"\",HLOOKUP(O90,名簿!$W$4:$AV$184,85,FALSE))","v":""},"","",null,{"$f":"IF(T90=\"\",\"\",IF(I90=1,VLOOKUP(T90,男子種目コード!$D:$E,2,FALSE),IF(I90=2,VLOOKUP(T90,女子種目コード!$D:$E,2,FALSE))))","v":""},null,"","",null,null,null,null,null,null,null,null,null,null,null,null,null,0,"","",null,null,null,null,null,null,null,null,null,null,0,"",""]
[0,{"$f":"名簿!O89","v":""},null,null,{"$f":"名簿!E89","v":0},{"$f":"名簿!BD89","v":""},{"$f":"名簿!V89","v":""},{"$f":"名簿!BD89","v":""},{"$f":"名簿!U89","v":""},{"$f":"名簿!I89","v":0},{"$f":"名簿!K89","v":0},{"$f":"名簿!BK89","v":"00"},{"$f":"名簿!P89","v":""},{"$f":"IF(F91=\"\",\"\",名簿!$Q$7)","v":""},null,"",{"$f":"IF(O91=\"\",\"\",HLOOKUP(O91,名簿!$W$4:$AV$184,86,FALSE))","v":""},"","",null,{"$f":"IF(T91=\"\",\"\",IF(I91=1,VLOOKUP(T91,男子種目コード!$D:$E,2,FALSE),IF(I91=2,VLOOKUP(T91,女子種目コード!$D:$E,2,FALSE))))","v":""},null,"","",null,null,null,null,null,null,null,null,null,null,null,null,null,0,"","",null,null,null,null,null,null,null,null,null,null,0,"",""]
[0,{"$f":"名簿!O90","v":""},null,null,{"$f":"名簿!E90","v":0},{"$f":"名簿!BD90","v":""},{"$f":"名簿!V90","v":""},{"$f":"名簿!BD90","v":""},{"$f":"名簿!U90","v":""},{"$f":"名簿!I90","v":0},{"$f":"名簿!K90","v":0},{"$f":"名簿!BK90","v":"00"},{"$f":"名簿!P90","v":""},{"$f":"IF(F92=\"\",\"\",名簿!$Q$7)","v":""},null,"",{"$f":"IF(O92=\"\",\"\",HLOOKUP(O92,名簿!$W$4:$AV$184,87,FALSE))","v":""},"","",null,{"$f":"IF(T92=\"\",\"\",IF(I92=1,VLOOKUP(T92,男子種目コード!$D:$E,2,FALSE),IF(I92=2,VLOOKUP(T92,女子種目コード!$D:$E,2,FALSE))))","v":""},null,"","",null,null,null,null,null,null,null,null,null,null,null,null,null,0,"","",null,null,null,null,null,null,null,null,null,null,0,"",""]
[0,{"$f":"名簿!O91","v":""},null,null,{"$f":"名簿!E91","v":0},{"$f":"名簿!BD91","v":""},{"$f":"名簿!V91","v":""},{"$f":"名簿!BD91","v":""},{"$f":"名簿!U91","v":""},{"$f":"名簿!I91","v":0},{"$f":"名簿!K91","v":0},{"$f":"名簿!BK91","v":"00"},{"$f":"名簿!P91","v":""},{"$f":"IF(F93=\"\",\"\",名簿!$Q$7)","v":""},null,"",{"$f":"IF(O93=\"\",\"\",HLOOKUP(O93,名簿!$W$4:$AV$184,88,FALSE))","v":""},"","",null,{"$f":"IF(T93=\"\",\"\",IF(I93=1,VLOOKUP(T93,男子種目コード!$D:$E,2,FALSE),IF(I93=2,VLOOKUP(T93,女子種目コード!$D:$E,2,FALSE))))","v":""},null,"","",null,null,null,null,null,null,null,null,null,null,null,null,null,0,"","",null,null,null,null,null,null,null,null,null,null,0,"",""]
[0,{"$f":"名簿!O92","v":""},null,null,{"$f":"名簿!E92","v":0},{"$f":"名簿!BD92","v":""},{"$f":"名簿!V92","v":""},{"$f":"名簿!BD92","v":""},{"$f":"名簿!U92","v":""},{"$f":"名簿!I92","v":0},{"$f":"名簿!K92","v":0},{"$f":"名簿!BK92","v":"00"},{"$f":"名簿!P92","v":""},{"$f":"IF(F94=\"\",\"\",名簿!$Q$7)","v":""},null,"",{"$f":"IF(O94=\"\",\"\",HLOOKUP(O94,名簿!$W$4:$AV$184,89,FALSE))","v":""},"","",null,{"$f":"IF(T94=\"\",\"\",IF(I94=1,VLOOKUP(T94,男子種目コード!$D:$E,2,FALSE),IF(I94=2,VLOOKUP(T94,女子種目コード!$D:$E,2,FALSE))))","v":""},null,"","",null,null,null,null,null,null,null,null,null,null,null,null,null,0,"","",null,null,null,null,null,null,null,null,null,null,0,"",""]
[0,{"$f":"名簿!O93","v":""},null,null,{"$f":"名簿!E93","v":0},{"$f":"名簿!BD93","v":""},{"$f":"名簿!V93","v":""},{"$f":"名簿!BD93","v":""},{"$f":"名簿!U93","v":""},{"$f":"名簿!I93","v":0},{"$f":"名簿!K93","v":0},{"$f":"名簿!BK93","v":"00"},{"$f":"名簿!P93","v":""},{"$f":"IF(F95=\"\",\"\",名簿!$Q$7)","v":""},null,"",{"$f":"IF(O95=\"\",\"\",HLOOKUP(O95,名簿!$W$4:$AV$184,90,FALSE))","v":""},"","",null,{"$f":"IF(T95=\"\",\"\",IF(I95=1,VLOOKUP(T95,男子種目コード!$D:$E,2,FALSE),IF(I95=2,VLOOKUP(T95,女子種目コード!$D:$E,2,FALSE))))","v":""},null,"","",null,null,null,null,null,null,null,null,null,null,null,null,null,0,"","",null,null,null,null,null,null,null,null,null,null,0,"",""]
[0,{"$f":"名簿!O94","v":""},null,null,{"$f":"名簿!E94","v":0},{"$f":"名簿!BD94","v":""},{"$f":"名簿!V94","v":""},{"$f":"名簿!BD94","v":""},{"$f":"名簿!U94","v":""},{"$f":"名簿!I94","v":0},{"$f":"名簿!K94","v":0},{"$f":"名簿!BK94","v":"00"},{"$f":"名簿!P94","v":""},{"$f":"IF(F96=\"\",\"\",名簿!$Q$7)","v":""},null,"",{"$f":"IF(O96=\"\",\"\",HLOOKUP(O96,名簿!$W$4:$AV$184,91,FALSE))","v":""},"","",null,{"$f":"IF(T96=\"\",\"\",IF(I96=1,VLOOKUP(T96,男子種目コード!$D:$E,2,FALSE),IF(I96=2,VLOOKUP(T96,女子種目コード!$D:$E,2,FALSE))))","v":""},null,"","",null,null,null,null,null,null,null,null,null,null,null,null,null,0,"","",null,null,null,null,null,null,null,null,null,null,0,"",""]
[0,{"$f":"名簿!O95","v":""},null,null,{"$f":"名簿!E95","v":0},{"$f":"名簿!BD95","v":""},{"$f":"名簿!V95","v":""},{"$f":"名簿!BD95","v":""},{"$f":"名簿!U95","v":""},{"$f":"名簿!I95","v":0},{"$f":"名簿!K95","v":0},{"$f":"名簿!BK95","v":"00"},{"$f":"名簿!P95","v":""},{"$f":"IF(F97=\"\",\"\",名簿!$Q$7)","v":""},null,"",{"$f":"IF(O97=\"\",\"\",HLOOKUP(O97,名簿!$W$4:$AV$184,92,FALSE))","v":""},"","",null,{"$f":"IF(T97=\"\",\"\",IF(I97=1,VLOOKUP(T97,男子種目コード!$D:$E,2,FALSE),IF(I97=2,VLOOKUP(T97,女子種目コード!$D:$E,2,FALSE))))","v":""},null,"","",null,null,null,null,null,null,null,null,null,null,null,null,null,0,"","",null,null,null,null,null,null,null,null,null,null,0,"",""]
[0,{"$f":"名簿!O96","v":""},null,null,{"$f":"名簿!E96","v":0},{"$f":"名簿!BD96","v":""},{"$f":"名簿!V96","v":""},{"$f":"名簿!BD96","v":""},{"$f":"名簿!U96","v":""},{"$f":"名簿!I96","v":0},{"$f":"名簿!K96","v":0},{"$f":"名簿!BK96","v":"00"},{"$f":"名簿!P96","v":""},{"$f":"IF(F98=\"\",\"\",名簿!$Q$7)","v":""},null,"",{"$f":"IF(O98=\"\",\"\",HLOOKUP(O98,名簿!$W$4:$AV$184,93,FALSE))","v":""},"","",null,{"$f":"IF(T98=\"\",\"\",IF(I98=1,VLOOKUP(T98,男子種目コード!$D:$E,2,FALSE),IF(I98=2,VLOOKUP(T98,女子種目コード!$D:$E,2,FALSE))))","v":""},null,"","",null,null,null,null,null,null,null,null,null,null,null,null,null,0,"","",null,null,null,null,null,null,null,null,null,null,0,"",""]
[0,{"$f":"名簿!O97","v":""},null,null,{"$f":"名簿!E97","v":0},{"$f":"名簿!BD97","v":""},{"$f":"名簿!V97","v":""},{"$f":"名簿!BD97","v":""},{"$f":"名簿!U97","v":""},{"$f":"名簿!I97","v":0},{"$f":"名簿!K97","v":0},{"$f":"名簿!BK97","v":"00"},{"$f":"名簿!P97","v":""},{"$f":"IF(F99=\"\",\"\",名簿!$Q$7)","v":""},null,"",{"$f":"IF(O99=\"\",\"\",HLOOKUP(O99,名簿!$W$4:$AV$184,94,FALSE))","v":""},"","",null,{"$f":"IF(T99=\"\",\"\",IF(I99=1,VLOOKUP(T99,男子種目コード!$D:$E,2,FALSE),IF(I99=2,VLOOKUP(T99,女子種目コード!$D:$E,2,FALSE))))","v":""},null,"","",null,null,null,null,null,null,null,null,null,null,null,null,null,0,"","",null,null,null,null,null,null,null,null,null,null,0,"",""]
[0,{"$f":"名簿!O98","v":""},null,null,{"$f":"名簿!E98","v":0},{"$f":"名簿!BD98","v":""},{"$f":"名簿!V98","v":""},{"$f":"名簿!BD98","v":""},{"$f":"名簿!U98","v":""},{"$f":"名簿!I98","v":0},{"$f":"名簿!K98","v":0},{"$f":"名簿!BK98","v":"00"},{"$f":"名簿!P98","v":""},{"$f":"IF(F100=\"\",\"\",名簿!$Q$7)","v":""},null,"",{"$f":"IF(O100=\"\",\"\",HLOOKUP(O100,名簿!$W$4:$AV$184,95,FALSE))","v":""},"","",null,{"$f":"IF(T100=\"\",\"\",IF(I100=1,VLOOKUP(T100,男子種目コード!$D:$E,2,FALSE),IF(I100=2,VLOOKUP(T100,女子種目コード!$D:$E,2,FALSE))))","v":""},null,"","",null,null,null,null,null,null,null,null,null,null,null,null,null,0,"","",null,null,null,null,null,null,null,null,null,null,0,"",""]
[0,{"$f":"名簿!O99","v":""},null,null,{"$f":"名簿!E99","v":0},{"$f":"名簿!BD99","v":""},{"$f":"名簿!V99","v":""},{"$f":"名簿!BD99","v":""},{"$f":"名簿!U99","v":""},{"$f":"名簿!I99","v":0},{"$f":"名簿!K99","v":0},{"$f":"名簿!BK99","v":"00"},{"$f":"名簿!P99","v":""},{"$f":"IF(F101=\"\",\"\",名簿!$Q$7)","v":""},null,"",{"$f":"IF(O101=\"\",\"\",HLOOKUP(O101,名簿!$W$4:$AV$184,96,FALSE))","v":""},"","",null,{"$f":"IF(T101=\"\",\"\",IF(I101=1,VLOOKUP(T101,男子種目コード!$D:$E,2,FALSE),IF(I101=2,VLOOKUP(T101,女子種目コード!$D:$E,2,FALSE))))","v":""},null,"","",null,null,null,null,null,null,null,null,null,null,null,null,null,0,"","",null,null,null,null,null,null,null,null,null,null,0,"",""]
[0,{"$f":"名簿!O100","v":""},null,null,{"$f":"名簿!E100","v":0},{"$f":"名簿!BD100","v":""},{"$f":"名簿!V100","v":""},{"$f":"名簿!BD100","v":""},{"$f":"名簿!U100","v":""},{"$f":"名簿!I100","v":0},{"$f":"名簿!K100","v":0},{"$f":"名簿!BK100","v":"00"},{"$f":"名簿!P100","v":""},{"$f":"IF(F102=\"\",\"\",名簿!$Q$7)","v":""},null,"",{"$f":"IF(O102=\"\",\"\",HLOOKUP(O102,名簿!$W$4:$AV$184,97,FALSE))","v":""},"","",null,{"$f":"IF(T102=\"\",\"\",IF(I102=1,VLOOKUP(T102,男子種目コード!$D:$E,2,FALSE),IF(I102=2,VLOOKUP(T102,女子種目コード!$D:$E,2,FALSE))))","v":""},null,"","",null,null,null,null,null,null,null,null,null,null,null,null,null,0,"","",null,null,null,null,null,null,null,null,null,null,0,"",""]
[0,{"$f":"名簿!O101","v":""},null,null,{"$f":"名簿!E101","v":0},{"$f":"名簿!BD101","v":""},{"$f":"名簿!V101","v":""},{"$f":"名簿!BD101","v":""},{"$f":"名簿!U101","v":""},{"$f":"名簿!I101","v":0},{"$f":"名簿!K101","v":0},{"$f":"名簿!BK101","v":"00"},{"$f":"名簿!P101","v":""},{"$f":"IF(F103=\"\",\"\",名簿!$Q$7)","v":""},null,"",{"$f":"IF(O103=\"\",\"\",HLOOKUP(O103,名簿!$W$4:$AV$184,98,FALSE))","v":""},"","",null,{"$f":"IF(T103=\"\",\"\",IF(I103=1,VLOOKUP(T103,男子種目コード!$D:$E,2,FALSE),IF(I103=2,VLOOKUP(T103,女子種目コード!$D:$E,2,FALSE))))","v":""},null,"","",null,null,null,null,null,null,null,null,null,null,null,null,null,{"$f":"COUNT(P103,U103)","v":0},{"$f":"IF(I103=1,AL103,\"\")","v":""},{"$f":"IF(I103=2,AL103,\"\")","v":""},null,null,null,null,null,null,null,null,null,null,0,"",""]
[0,{"$f":"名簿!O102","v":""},null,null,{"$f":"名簿!E102","v":0},{"$f":"名簿!BD102","v":""},{"$f":"名簿!V102","v":""},{"$f":"名簿!BD102","v":""},{"$f":"名簿!U102","v":""},{"$f":"名簿!I102","v":0},{"$f":"名簿!K102","v":0},{"$f":"名簿!BK102","v":"00"},{"$f":"名簿!P102","v":""},{"$f":"IF(F104=\"\",\"\",名簿!$Q$7)","v":""},null,"",{"$f":"IF(O104=\"\",\"\",HLOOKUP(O104,名簿!$W$4:$AV$184,99,FALSE))","v":""},"","",null,{"$f":"IF(T104=\"\",\"\",IF(I104=1,VLOOKUP(T104,男子種目コード!$D:$E,2,FALSE),IF(I104=2,VLOOKUP(T104,女子種目コード!$D:$E,2,FALSE))))","v":""},null,"","",null,null,null,null,null,null,null,null,null,null,null,null,null,0,"","",null,null,null,null,null,null,null,null,null,null,0,"",""]
[0,{"$f":"名簿!O103","v":""},null,null,{"$f":"名簿!E103","v":0},{"$f":"名簿!BD103","v":""},{"$f":"名簿!V103","v":""},{"$f":"名簿!BD103","v":""},{"$f":"名簿!U103","v":""},{"$f":"名簿!I103","v":0},{"$f":"名簿!K103","v":0},{"$f":"名簿!BK103","v":"00"},{"$f":"名簿!P103","v":""},{"$f":"IF(F105=\"\",\"\",名簿!$Q$7)","v":""},null,"",{"$f":"IF(O105=\"\",\"\",HLOOKUP(O105,名簿!$W$4:$AV$184,100,FALSE))","v":""},"","",null,{"$f":"IF(T105=\"\",\"\",IF(I105=1,VLOOKUP(T105,男子種目コード!$D:$E,2,FALSE),IF(I105=2,VLOOKUP(T105,女子種目コード!$D:$E,2,FALSE))))","v":""},null,"","",null,null,null,null,null,null,null,null,null,null,null,null,null,0,"","",null,null,null,null,null,null,null,null,null,null,0,"",""]
[0,{"$f":"名簿!O104","v":""},null,null,{"$f":"名簿!E104","v":0},{"$f":"名簿!BD104","v":""},{"$f":"名簿!V104","v":""},{"$f":"名簿!BD104","v":""},{"$f":"名簿!U104","v":""},{"$f":"名簿!I104","v":0},{"$f":"名簿!K104","v":0},{"$f":"名簿!BK104","v":"00"},{"$f":"名簿!P104","v":""},{"$f":"IF(F106=\"\",\"\",名簿!$Q$7)","v":""},null,"",{"$f":"IF(O106=\"\",\"\",HLOOKUP(O106,名簿!$W$4:$AV$184,101,FALSE))","v":""},"","",null,{"$f":"IF(T106=\"\",\"\",IF(I106=1,VLOOKUP(T106,男子種目コード!$D:$E,2,FALSE),IF(I106=2,VLOOKUP(T106,女子種目コード!$D:$E,2,FALSE))))","v":""},null,"","",null,null,null,null,null,null,null,null,null,null,null,null,null,0,"","",null,null,null,null,null,null,null,null,null,null,0,"",""]
[0,{"$f":"名簿!O105","v":""},null,null,{"$f":"名簿!E105","v":0},{"$f":"名簿!BD105","v":""},{"$f":"名簿!V105","v":""},{"$f":"名簿!BD105","v":""},{"$f":"名簿!U105","v":""},{"$f":"名簿!I105","v":0},{"$f":"名簿!K105","v":0},{"$f":"名簿!BK105","v":"00"},{"$f":"名簿!P105","v":""},{"$f":"IF(F107=\"\",\"\",名簿!$Q$7)","v":""},null,"",{"$f":"IF(O107=\"\",\"\",HLOOKUP(O107,名簿!$W$4:$AV$184,102,FALSE))","v":""},"","",null,{"$f":"IF(T107=\"\",\"\",IF(I107=1,VLOOKUP(T107,男子種目コード!$D:$E,2,FALSE),IF(I107=2,VLOOKUP(T107,女子種目コード!$D:$E,2,FALSE))))","v":""},null,"","",null,null,null,null,null,null,null,null,null,null,null,null,null,0,"","",null,null,null,null,null,null,null,null,null,null,0,"",""]
[0,{"$f":"名簿!O106","v":""},null,null,{"$f":"名簿!E106","v":0},{"$f":"名簿!BD106","v":""},{"$f":"名簿!V106","v":""},{"$f":"名簿!BD106","v":""},{"$f":"名簿!U106","v":""},{"$f":"名簿!I106","v":0},{"$f":"名簿!K106","v":0},{"$f":"名簿!BK106","v":"00"},{"$f":"名簿!P106","v":""},{"$f":"IF(F108=\"\",\"\",名簿!$Q$7)","v":""},null,"",{"$f":"IF(O108=\"\",\"\",HLOOKUP(O108,名簿!$W$4:$AV$184,103,FALSE))","v":""},"","",null,{"$f":"IF(T108=\"\",\"\",IF(I108=1,VLOOKUP(T108,男子種目コード!$D:$E,2,FALSE),IF(I108=2,VLOOKUP(T108,女子種目コード!$D:$E,2,FALSE))))","v":""},null,"","",null,null,null,null,null,null,null,null,null,null,null,null,null,0,"","",null,null,null,null,null,null,null,null,null,null,0,"",""]
[0,{"$f":"名簿!O107","v":""},null,null,{"$f":"名簿!E107","v":0},{"$f":"名簿!BD107","v":""},{"$f":"名簿!V107","v":""},{"$f":"名簿!BD107","v":""},{"$f":"名簿!U107","v":""},{"$f":"名簿!I107","v":0},{"$f":"名簿!K107","v":0},{"$f":"名簿!BK107","v":"00"},{"$f":"名簿!P107","v":""},{"$f":"IF(F109=\"\",\"\",名簿!$Q$7)","v":""},null,"",{"$f":"IF(O109=\"\",\"\",HLOOKUP(O109,名簿!$W$4:$AV$184,104,FALSE))","v":""},"","",null,{"$f":"IF(T109=\"\",\"\",IF(I109=1,VLOOKUP(T109,男子種目コード!$D:$E,2,FALSE),IF(I109=2,VLOOKUP(T109,女子種目コード!$D:$E,2,FALSE))))","v":""},null,"","",null,null,null,null,null,null,null,null,null,null,null,null,null,0,"","",null,null,null,null,null,null,null,null,null,null,0,"",""]
[0,{"$f":"名簿!O108","v":""},null,null,{"$f":"名簿!E108","v":0},{"$f":"名簿!BD108","v":""},{"$f":"名簿!V108","v":""},{"$f":"名簿!BD108","v":""},{"$f":"名簿!U108","v":""},{"$f":"名簿!I108","v":0},{"$f":"名簿!K108","v":0},{"$f":"名簿!BK108","v":"00"},{"$f":"名簿!P108","v":""},{"$f":"IF(F110=\"\",\"\",名簿!$Q$7)","v":""},null,"",{"$f":"IF(O110=\"\",\"\",HLOOKUP(O110,名簿!$W$4:$AV$184,105,FALSE))","v":""},"","",null,{"$f":"IF(T110=\"\",\"\",IF(I110=1,VLOOKUP(T110,男子種目コード!$D:$E,2,FALSE),IF(I110=2,VLOOKUP(T110,女子種目コード!$D:$E,2,FALSE))))","v":""},null,"","",null,null,null,null,null,null,null,null,null,null,null,null,null,0,"","",null,null,null,null,null,null,null,null,null,null,0,"",""]
[0,{"$f":"名簿!O109","v":""},null,null,{"$f":"名簿!E109","v":0},{"$f":"名簿!BD109","v":""},{"$f":"名簿!V109","v":""},{"$f":"名簿!BD109","v":""},{"$f":"名簿!U109","v":""},{"$f":"名簿!I109","v":0},{"$f":"名簿!K109","v":0},{"$f":"名簿!BK109","v":"00"},{"$f":"名簿!P109","v":""},{"$f":"IF(F111=\"\",\"\",名簿!$Q$7)","v":""},null,"",{"$f":"IF(O111=\"\",\"\",HLOOKUP(O111,名簿!$W$4:$AV$184,106,FALSE))","v":""},"","",null,{"$f":"IF(T111=\"\",\"\",IF(I111=1,VLOOKUP(T111,男子種目コード!$D:$E,2,FALSE),IF(I111=2,VLOOKUP(T111,女子種目コード!$D:$E,2,FALSE))))","v":""},null,"","",null,null,null,null,null,null,null,null,null,null,null,null,null,0,"","",null,null,null,null,null,null,null,null,null,null,0,"",""]
[0,{"$f":"名簿!O110","v":""},null,null,{"$f":"名簿!E110","v":0},{"$f":"名簿!BD110","v":""},{"$f":"名簿!V110","v":""},{"$f":"名簿!BD110","v":""},{"$f":"名簿!U110","v":""},{"$f":"名簿!I110","v":0},{"$f":"名簿!K110","v":0},{"$f":"名簿!BK110","v":"00"},{"$f":"名簿!P110","v":""},{"$f":"IF(F112=\"\",\"\",名簿!$Q$7)","v":""},null,"",{"$f":"IF(O112=\"\",\"\",HLOOKUP(O112,名簿!$W$4:$AV$184,107,FALSE))","v":""},"","",null,{"$f":"IF(T112=\"\",\"\",IF(I112=1,VLOOKUP(T112,男子種目コード!$D:$E,2,FALSE),IF(I112=2,VLOOKUP(T112,女子種目コード!$D:$E,2,FALSE))))","v":""},null,"","",null,null,null,null,null,null,null,null,null,null,null,null,null,0,"","",null,null,null,null,null,null,null,null,null,null,0,"",""]
[0,{"$f":"名簿!O111","v":""},null,null,{"$f":"名簿!E111","v":0},{"$f":"名簿!BD111","v":""},{"$f":"名簿!V111","v":""},{"$f":"名簿!BD111","v":""},{"$f":"名簿!U111","v":""},{"$f":"名簿!I111","v":0},{"$f":"名簿!K111","v":0},{"$f":"名簿!BK111","v":"00"},{"$f":"名簿!P111","v":""},{"$f":"IF(F113=\"\",\"\",名簿!$Q$7)","v":""},null,"",{"$f":"IF(O113=\"\",\"\",HLOOKUP(O113,名簿!$W$4:$AV$184,108,FALSE))","v":""},"","",null,{"$f":"IF(T113=\"\",\"\",IF(I113=1,VLOOKUP(T113,男子種目コード!$D:$E,2,FALSE),IF(I113=2,VLOOKUP(T113,女子種目コード!$D:$E,2,FALSE))))","v":""},null,"","",null,null,null,null,null,null,null,null,null,null,null,null,null,0,"","",null,null,null,null,null,null,null,null,null,null,0,"",""]
[0,{"$f":"名簿!O112","v":""},null,null,{"$f":"名簿!E112","v":0},{"$f":"名簿!BD112","v":""},{"$f":"名簿!V112","v":""},{"$f":"名簿!BD112","v":""},{"$f":"名簿!U112","v":""},{"$f":"名簿!I112","v":0},{"$f":"名簿!K112","v":0},{"$f":"名簿!BK112","v":"00"},{"$f":"名簿!P112","v":""},{"$f":"IF(F114=\"\",\"\",名簿!$Q$7)","v":""},null,"",{"$f":"IF(O114=\"\",\"\",HLOOKUP(O114,名簿!$W$4:$AV$184,109,FALSE))","v":""},"","",null,{"$f":"IF(T114=\"\",\"\",IF(I114=1,VLOOKUP(T114,男子種目コード!$D:$E,2,FALSE),IF(I114=2,VLOOKUP(T114,女子種目コード!$D:$E,2,FALSE))))","v":""},null,"","",null,null,null,null,null,null,null,null,null,null,null,null,null,0,"","",null,null,null,null,null,null,null,null,null,null,0,"",""]
[0,{"$f":"名簿!O113","v":""},null,null,{"$f":"名簿!E113","v":0},{"$f":"名簿!BD113","v":""},{"$f":"名簿!V113","v":""},{"$f":"名簿!BD113","v":""},{"$f":"名簿!U113","v":""},{"$f":"名簿!I113","v":0},{"$f":"名簿!K113","v":0},{"$f":"名簿!BK113","v":"00"},{"$f":"名簿!P113","v":""},{"$f":"IF(F115=\"\",\"\",名簿!$Q$7)","v":""},null,"",{"$f":"IF(O115=\"\",\"\",HLOOKUP(O115,名簿!$W$4:$AV$184,110,FALSE))","v":""},"","",null,{"$f":"IF(T115=\"\",\"\",IF(I115=1,VLOOKUP(T115,男子種目コード!$D:$E,2,FALSE),IF(I115=2,VLOOKUP(T115,女子種目コード!$D:$E,2,FALSE))))","v":""},null,"","",null,null,null,null,null,null,null,null,null,null,null,null,null,0,"","",null,null,null,null,null,null,null,null,null,null,0,"",""]
[0,{"$f":"名簿!O114","v":""},null,null,{"$f":"名簿!E114","v":0},{"$f":"名簿!BD114","v":""},{"$f":"名簿!V114","v":""},{"$f":"名簿!BD114","v":""},{"$f":"名簿!U114","v":""},{"$f":"名簿!I114","v":0},{"$f":"名簿!K114","v":0},{"$f":"名簿!BK114","v":"00"},{"$f":"名簿!P114","v":""},{"$f":"IF(F116=\"\",\"\",名簿!$Q$7)","v":""},null,"",{"$f":"IF(O116=\"\",\"\",HLOOKUP(O116,名簿!$W$4:$AV$184,111,FALSE))","v":""},"","",null,{"$f":"IF(T116=\"\",\"\",IF(I116=1,VLOOKUP(T116,男子種目コード!$D:$E,2,FALSE),IF(I116=2,VLOOKUP(T116,女子種目コード!$D:$E,2,FALSE))))","v":""},null,"","",null,null,null,null,null,null,null,null,null,null,null,null,null,0,"","",null,null,null,null,null,null,null,null,null,null,0,"",""]
[0,{"$f":"名簿!O115","v":""},null,null,{"$f":"名簿!E115","v":0},{"$f":"名簿!BD115","v":""},{"$f":"名簿!V115","v":""},{"$f":"名簿!BD115","v":""},{"$f":"名簿!U115","v":""},{"$f":"名簿!I115","v":0},{"$f":"名簿!K115","v":0},{"$f":"名簿!BK115","v":"00"},{"$f":"名簿!P115","v":""},{"$f":"IF(F117=\"\",\"\",名簿!$Q$7)","v":""},null,"",{"$f":"IF(O117=\"\",\"\",HLOOKUP(O117,名簿!$W$4:$AV$184,112,FALSE))","v":""},"","",null,{"$f":"IF(T117=\"\",\"\",IF(I117=1,VLOOKUP(T117,男子種目コード!$D:$E,2,FALSE),IF(I117=2,VLOOKUP(T117,女子種目コード!$D:$E,2,FALSE))))","v":""},null,"","",null,null,null,null,null,null,null,null,null,null,null,null,null,0,"","",null,null,null,null,null,null,null,null,null,null,0,"",""]
[0,{"$f":"名簿!O116","v":""},null,null,{"$f":"名簿!E116","v":0},{"$f":"名簿!BD116","v":""},{"$f":"名簿!V116","v":""},{"$f":"名簿!BD116","v":""},{"$f":"名簿!U116","v":""},{"$f":"名簿!I116","v":0},{"$f":"名簿!K116","v":0},{"$f":"名簿!BK116","v":"00"},{"$f":"名簿!P116","v":""},{"$f":"IF(F118=\"\",\"\",名簿!$Q$7)","v":""},null,"",{"$f":"IF(O118=\"\",\"\",HLOOKUP(O118,名簿!$W$4:$AV$184,113,FALSE))","v":""},"","",null,{"$f":"IF(T118=\"\",\"\",IF(I118=1,VLOOKUP(T118,男子種目コード!$D:$E,2,FALSE),IF(I118=2,VLOOKUP(T118,女子種目コード!$D:$E,2,FALSE))))","v":""},null,"","",null,null,null,null,null,null,null,null,null,null,null,null,null,0,"","",null,null,null,null,null,null,null,null,null,null,0,"",""]
[0,{"$f":"名簿!O117","v":""},null,null,{"$f":"名簿!E117","v":0},{"$f":"名簿!BD117","v":""},{"$f":"名簿!V117","v":""},{"$f":"名簿!BD117","v":""},{"$f":"名簿!U117","v":""},{"$f":"名簿!I117","v":0},{"$f":"名簿!K117","v":0},{"$f":"名簿!BK117","v":"00"},{"$f":"名簿!P117","v":""},{"$f":"IF(F119=\"\",\"\",名簿!$Q$7)","v":""},null,"",{"$f":"IF(O119=\"\",\"\",HLOOKUP(O119,名簿!$W$4:$AV$184,114,FALSE))","v":""},"","",null,{"$f":"IF(T119=\"\",\"\",IF(I119=1,VLOOKUP(T119,男子種目コード!$D:$E,2,FALSE),IF(I119=2,VLOOKUP(T119,女子種目コード!$D:$E,2,FALSE))))","v":""},null,"","",null,null,null,null,null,null,null,null,null,null,null,null,null,0,"","",null,null,null,null,null,null,null,null,null,null,0,"",""]
[0,{"$f":"名簿!O118","v":""},null,null,{"$f":"名簿!E118","v":0},{"$f":"名簿!BD118","v":""},{"$f":"名簿!V118","v":""},{"$f":"名簿!BD118","v":""},{"$f":"名簿!U118","v":""},{"$f":"名簿!I118","v":0},{"$f":"名簿!K118","v":0},{"$f":"名簿!BK118","v":"00"},{"$f":"名簿!P118","v":""},{"$f":"IF(F120=\"\",\"\",名簿!$Q$7)","v":""},null,"",{"$f":"IF(O120=\"\",\"\",HLOOKUP(O120,名簿!$W$4:$AV$184,115,FALSE))","v":""},"","",null,{"$f":"IF(T120=\"\",\"\",IF(I120=1,VLOOKUP(T120,男子種目コード!$D:$E,2,FALSE),IF(I120=2,VLOOKUP(T120,女子種目コード!$D:$E,2,FALSE))))","v":""},null,"","",null,null,null,null,null,null,null,null,null,null,null,null,null,0,"","",null,null,null,null,null,null,null,null,null,null,0,"",""]
[0,{"$f":"名簿!O119","v":""},null,null,{"$f":"名簿!E119","v":0},{"$f":"名簿!BD119","v":""},{"$f":"名簿!V119","v":""},{"$f":"名簿!BD119","v":""},{"$f":"名簿!U119","v":""},{"$f":"名簿!I119","v":0},{"$f":"名簿!K119","v":0},{"$f":"名簿!BK119","v":"00"},{"$f":"名簿!P119","v":""},{"$f":"IF(F121=\"\",\"\",名簿!$Q$7)","v":""},null,"",{"$f":"IF(O121=\"\",\"\",HLOOKUP(O121,名簿!$W$4:$AV$184,116,FALSE))","v":""},"","",null,{"$f":"IF(T121=\"\",\"\",IF(I121=1,VLOOKUP(T121,男子種目コード!$D:$E,2,FALSE),IF(I121=2,VLOOKUP(T121,女子種目コード!$D:$E,2,FALSE))))","v":""},null,"","",null,null,null,null,null,null,null,null,null,null,null,null,null,0,"","",null,null,null,null,null,null,null,null,null,null,0,"",""]
[0,{"$f":"名簿!O120","v":""},null,null,{"$f":"名簿!E120","v":0},{"$f":"名簿!BD120","v":""},{"$f":"名簿!V120","v":""},{"$f":"名簿!BD120","v":""},{"$f":"名簿!U120","v":""},{"$f":"名簿!I120","v":0},{"$f":"名簿!K120","v":0},{"$f":"名簿!BK120","v":"00"},{"$f":"名簿!P120","v":""},{"$f":"IF(F122=\"\",\"\",名簿!$Q$7)","v":""},null,"",{"$f":"IF(O122=\"\",\"\",HLOOKUP(O122,名簿!$W$4:$AV$184,117,FALSE))","v":""},"","",null,{"$f":"IF(T122=\"\",\"\",IF(I122=1,VLOOKUP(T122,男子種目コード!$D:$E,2,FALSE),IF(I122=2,VLOOKUP(T122,女子種目コード!$D:$E,2,FALSE))))","v":""},null,"","",null,null,null,null,null,null,null,null,null,null,null,null,null,0,"","",null,null,null,null,null,null,null,null,null,null,0,"",""]
[0,{"$f":"名簿!O121","v":""},null,null,{"$f":"名簿!E121","v":0},{"$f":"名簿!BD121","v":""},{"$f":"名簿!V121","v":""},{"$f":"名簿!BD121","v":""},{"$f":"名簿!U121","v":""},{"$f":"名簿!I121","v":0},{"$f":"名簿!K121","v":0},{"$f":"名簿!BK121","v":"00"},{"$f":"名簿!P121","v":""},{"$f":"IF(F123=\"\",\"\",名簿!$Q$7)","v":""},null,"",{"$f":"IF(O123=\"\",\"\",HLOOKUP(O123,名簿!$W$4:$AV$184,118,FALSE))","v":""},"","",null,{"$f":"IF(T123=\"\",\"\",IF(I123=1,VLOOKUP(T123,男子種目コード!$D:$E,2,FALSE),IF(I123=2,VLOOKUP(T123,女子種目コード!$D:$E,2,FALSE))))","v":""},null,"","",null,null,null,null,null,null,null,null,null,null,null,null,null,0,"","",null,null,null,null,null,null,null,null,null,null,0,"",""]
[0,{"$f":"名簿!O122","v":""},null,null,{"$f":"名簿!E122","v":0},{"$f":"名簿!BD122","v":""},{"$f":"名簿!V122","v":""},{"$f":"名簿!BD122","v":""},{"$f":"名簿!U122","v":""},{"$f":"名簿!I122","v":0},{"$f":"名簿!K122","v":0},{"$f":"名簿!BK122","v":"00"},{"$f":"名簿!P122","v":""},{"$f":"IF(F124=\"\",\"\",名簿!$Q$7)","v":""},null,"",{"$f":"IF(O124=\"\",\"\",HLOOKUP(O124,名簿!$W$4:$AV$184,119,FALSE))","v":""},"","",null,{"$f":"IF(T124=\"\",\"\",IF(I124=1,VLOOKUP(T124,男子種目コード!$D:$E,2,FALSE),IF(I124=2,VLOOKUP(T124,女子種目コード!$D:$E,2,FALSE))))","v":""},null,"","",null,null,null,null,null,null,null,null,null,null,null,null,null,0,"","",null,null,null,null,null,null,null,null,null,null,0,"",""]
[0,{"$f":"名簿!O123","v":""},null,null,{"$f":"名簿!E123","v":0},{"$f":"名簿!BD123","v":""},{"$f":"名簿!V123","v":""},{"$f":"名簿!BD123","v":""},{"$f":"名簿!U123","v":""},{"$f":"名簿!I123","v":0},{"$f":"名簿!K123","v":0},{"$f":"名簿!BK123","v":"00"},{"$f":"名簿!P123","v":""},{"$f":"IF(F125=\"\",\"\",名簿!$Q$7)","v":""},null,"",{"$f":"IF(O125=\"\",\"\",HLOOKUP(O125,名簿!$W$4:$AV$184,120,FALSE))","v":""},"","",null,{"$f":"IF(T125=\"\",\"\",IF(I125=1,VLOOKUP(T125,男子種目コード!$D:$E,2,FALSE),IF(I125=2,VLOOKUP(T125,女子種目コード!$D:$E,2,FALSE))))","v":""},null,"","",null,null,null,null,null,null,null,null,null,null,null,null,null,0,"","",null,null,null,null,null,null,null,null,null,null,0,"",""]
[0,{"$f":"名簿!O124","v":""},null,null,{"$f":"名簿!E124","v":0},{"$f":"名簿!BD124","v":""},{"$f":"名簿!V124","v":""},{"$f":"名簿!BD124","v":""},{"$f":"名簿!U124","v":""},{"$f":"名簿!I124","v":0},{"$f":"名簿!K124","v":0},{"$f":"名簿!BK124","v":"00"},{"$f":"名簿!P124","v":""},{"$f":"IF(F126=\"\",\"\",名簿!$Q$7)","v":""},null,"",{"$f":"IF(O126=\"\",\"\",HLOOKUP(O126,名簿!$W$4:$AV$184,121,FALSE))","v":""},"","",null,{"$f":"IF(T126=\"\",\"\",IF(I126=1,VLOOKUP(T126,男子種目コード!$D:$E,2,FALSE),IF(I126=2,VLOOKUP(T126,女子種目コード!$D:$E,2,FALSE))))","v":""},null,"","",null,null,null,null,null,null,null,null,null,null,null,null,null,0,"","",null,null,null,null,null,null,null,null,null,null,0,"",""]
[0,{"$f":"名簿!O125","v":""},null,null,{"$f":"名簿!E125","v":0},{"$f":"名簿!BD125","v":""},{"$f":"名簿!V125","v":""},{"$f":"名簿!BD125","v":""},{"$f":"名簿!U125","v":""},{"$f":"名簿!I125","v":0},{"$f":"名簿!K125","v":0},{"$f":"名簿!BK125","v":"00"},{"$f":"名簿!P125","v":""},{"$f":"IF(F127=\"\",\"\",名簿!$Q$7)","v":""},null,"",{"$f":"IF(O127=\"\",\"\",HLOOKUP(O127,名簿!$W$4:$AV$184,122,FALSE))","v":""},"","",null,{"$f":"IF(T127=\"\",\"\",IF(I127=1,VLOOKUP(T127,男子種目コード!$D:$E,2,FALSE),IF(I127=2,VLOOKUP(T127,女子種目コード!$D:$E,2,FALSE))))","v":""},null,"","",null,null,null,null,null,null,null,null,null,null,null,null,null,0,"","",null,null,null,null,null,null,null,null,null,null,0,"",""]
[0,{"$f":"名簿!O126","v":""},null,null,{"$f":"名簿!E126","v":0},{"$f":"名簿!BD126","v":""},{"$f":"名簿!V126","v":""},{"$f":"名簿!BD126","v":""},{"$f":"名簿!U126","v":""},{"$f":"名簿!I126","v":0},{"$f":"名簿!K126","v":0},{"$f":"名簿!BK126","v":"00"},{"$f":"名簿!P126","v":""},{"$f":"IF(F128=\"\",\"\",名簿!$Q$7)","v":""},null,"",{"$f":"IF(O128=\"\",\"\",HLOOKUP(O128,名簿!$W$4:$AV$184,123,FALSE))","v":""},"","",null,{"$f":"IF(T128=\"\",\"\",IF(I128=1,VLOOKUP(T128,男子種目コード!$D:$E,2,FALSE),IF(I128=2,VLOOKUP(T128,女子種目コード!$D:$E,2,FALSE))))","v":""},null,"","",null,null,null,null,null,null,null,null,null,null,null,null,null,0,"","",null,null,null,null,null,null,null,null,null,null,0,"",""]
[0,{"$f":"名簿!O127","v":""},null,null,{"$f":"名簿!E127","v":0},{"$f":"名簿!BD127","v":""},{"$f":"名簿!V127","v":""},{"$f":"名簿!BD127","v":""},{"$f":"名簿!U127","v":""},{"$f":"名簿!I127","v":0},{"$f":"名簿!K127","v":0},{"$f":"名簿!BK127","v":"00"},{"$f":"名簿!P127","v":""},{"$f":"IF(F129=\"\",\"\",名簿!$Q$7)","v":""},null,"",{"$f":"IF(O129=\"\",\"\",HLOOKUP(O129,名簿!$W$4:$AV$184,124,FALSE))","v":""},"","",null,{"$f":"IF(T129=\"\",\"\",IF(I129=1,VLOOKUP(T129,男子種目コード!$D:$E,2,FALSE),IF(I129=2,VLOOKUP(T129,女子種目コード!$D:$E,2,FALSE))))","v":""},null,"","",null,null,null,null,null,null,null,null,null,null,null,null,null,0,"","",null,null,null,null,null,null,null,null,null,null,0,"",""]
[0,{"$f":"名簿!O128","v":""},null,null,{"$f":"名簿!E128","v":0},{"$f":"名簿!BD128","v":""},{"$f":"名簿!V128","v":""},{"$f":"名簿!BD128","v":""},{"$f":"名簿!U128","v":""},{"$f":"名簿!I128","v":0},{"$f":"名簿!K128","v":0},{"$f":"名簿!BK128","v":"00"},{"$f":"名簿!P128","v":""},{"$f":"IF(F130=\"\",\"\",名簿!$Q$7)","v":""},null,"",{"$f":"IF(O130=\"\",\"\",HLOOKUP(O130,名簿!$W$4:$AV$184,125,FALSE))","v":""},"","",null,{"$f":"IF(T130=\"\",\"\",IF(I130=1,VLOOKUP(T130,男子種目コード!$D:$E,2,FALSE),IF(I130=2,VLOOKUP(T130,女子種目コード!$D:$E,2,FALSE))))","v":""},null,"","",null,null,null,null,null,null,null,null,null,null,null,null,null,0,"","",null,null,null,null,null,null,null,null,null,null,0,"",""]
[0,{"$f":"名簿!O129","v":""},null,null,{"$f":"名簿!E129","v":0},{"$f":"名簿!BD129","v":""},{"$f":"名簿!V129","v":""},{"$f":"名簿!BD129","v":""},{"$f":"名簿!U129","v":""},{"$f":"名簿!I129","v":0},{"$f":"名簿!K129","v":0},{"$f":"名簿!BK129","v":"00"},{"$f":"名簿!P129","v":""},{"$f":"IF(F131=\"\",\"\",名簿!$Q$7)","v":""},null,"",{"$f":"IF(O131=\"\",\"\",HLOOKUP(O131,名簿!$W$4:$AV$184,126,FALSE))","v":""},"","",null,{"$f":"IF(T131=\"\",\"\",IF(I131=1,VLOOKUP(T131,男子種目コード!$D:$E,2,FALSE),IF(I131=2,VLOOKUP(T131,女子種目コード!$D:$E,2,FALSE))))","v":""},null,"","",null,null,null,null,null,null,null,null,null,null,null,null,null,0,"","",null,null,null,null,null,null,null,null,null,null,0,"",""]
[0,{"$f":"名簿!O130","v":""},null,null,{"$f":"名簿!E130","v":0},{"$f":"名簿!BD130","v":""},{"$f":"名簿!V130","v":""},{"$f":"名簿!BD130","v":""},{"$f":"名簿!U130","v":""},{"$f":"名簿!I130","v":0},{"$f":"名簿!K130","v":0},{"$f":"名簿!BK130","v":"00"},{"$f":"名簿!P130","v":""},{"$f":"IF(F132=\"\",\"\",名簿!$Q$7)","v":""},null,"",{"$f":"IF(O132=\"\",\"\",HLOOKUP(O132,名簿!$W$4:$AV$184,127,FALSE))","v":""},"","",null,{"$f":"IF(T132=\"\",\"\",IF(I132=1,VLOOKUP(T132,男子種目コード!$D:$E,2,FALSE),IF(I132=2,VLOOKUP(T132,女子種目コード!$D:$E,2,FALSE))))","v":""},null,"","",null,null,null,null,null,null,null,null,null,null,null,null,null,0,"","",null,null,null,null,null,null,null,null,null,null,0,"",""]
[0,{"$f":"名簿!O131","v":""},null,null,{"$f":"名簿!E131","v":0},{"$f":"名簿!BD131","v":""},{"$f":"名簿!V131","v":""},{"$f":"名簿!BD131","v":""},{"$f":"名簿!U131","v":""},{"$f":"名簿!I131","v":0},{"$f":"名簿!K131","v":0},{"$f":"名簿!BK131","v":"00"},{"$f":"名簿!P131","v":""},{"$f":"IF(F133=\"\",\"\",名簿!$Q$7)","v":""},null,"",{"$f":"IF(O133=\"\",\"\",HLOOKUP(O133,名簿!$W$4:$AV$184,128,FALSE))","v":""},"","",null,{"$f":"IF(T133=\"\",\"\",IF(I133=1,VLOOKUP(T133,男子種目コード!$D:$E,2,FALSE),IF(I133=2,VLOOKUP(T133,女子種目コード!$D:$E,2,FALSE))))","v":""},null,"","",null,null,null,null,null,null,null,null,null,null,null,null,null,0,"","",null,null,null,null,null,null,null,null,null,null,0,"",""]
[0,{"$f":"名簿!O132","v":""},null,null,{"$f":"名簿!E132","v":0},{"$f":"名簿!BD132","v":""},{"$f":"名簿!V132","v":""},{"$f":"名簿!BD132","v":""},{"$f":"名簿!U132","v":""},{"$f":"名簿!I132","v":0},{"$f":"名簿!K132","v":0},{"$f":"名簿!BK132","v":"00"},{"$f":"名簿!P132","v":""},{"$f":"IF(F134=\"\",\"\",名簿!$Q$7)","v":""},null,"",{"$f":"IF(O134=\"\",\"\",HLOOKUP(O134,名簿!$W$4:$AV$184,129,FALSE))","v":""},"","",null,{"$f":"IF(T134=\"\",\"\",IF(I134=1,VLOOKUP(T134,男子種目コード!$D:$E,2,FALSE),IF(I134=2,VLOOKUP(T134,女子種目コード!$D:$E,2,FALSE))))","v":""},null,"","",null,null,null,null,null,null,null,null,null,null,null,null,null,0,"","",null,null,null,null,null,null,null,null,null,null,0,"",""]
[0,{"$f":"名簿!O133","v":""},null,null,{"$f":"名簿!E133","v":0},{"$f":"名簿!BD133","v":""},{"$f":"名簿!V133","v":""},{"$f":"名簿!BD133","v":""},{"$f":"名簿!U133","v":""},{"$f":"名簿!I133","v":0},{"$f":"名簿!K133","v":0},{"$f":"名簿!BK133","v":"00"},{"$f":"名簿!P133","v":""},{"$f":"IF(F135=\"\",\"\",名簿!$Q$7)","v":""},null,"",{"$f":"IF(O135=\"\",\"\",HLOOKUP(O135,名簿!$W$4:$AV$184,130,FALSE))","v":""},"","",null,{"$f":"IF(T135=\"\",\"\",IF(I135=1,VLOOKUP(T135,男子種目コード!$D:$E,2,FALSE),IF(I135=2,VLOOKUP(T135,女子種目コード!$D:$E,2,FALSE))))","v":""},null,"","",null,null,null,null,null,null,null,null,null,null,null,null,null,{"$f":"COUNT(P135,U135)","v":0},{"$f":"IF(I135=1,AL135,\"\")","v":""},{"$f":"IF(I135=2,AL135,\"\")","v":""},null,null,null,null,null,null,null,null,null,null,{"$f":"COUNT(P135,U135)","v":0},{"$f":"IF(I135=1,AY135,\"\")","v":""},{"$f":"IF(I135=2,AY135,\"\")","v":""}]
[{"$f":"T136","v":0},{"$f":"名簿!O134","v":""},null,null,{"$f":"名簿!E134","v":0},{"$f":"名簿!BD134","v":""},{"$f":"名簿!V134","v":""},{"$f":"名簿!BD134","v":""},{"$f":"名簿!U134","v":""},{"$f":"名簿!I134","v":0},{"$f":"名簿!K134","v":0},{"$f":"名簿!BK134","v":"00"},{"$f":"名簿!P134","v":""},{"$f":"IF(F136=\"\",\"\",名簿!$Q$7)","v":""},null,{"$f":"IF(O136=\"\",\"\",IF(I136=1,VLOOKUP(O136,$AI$8:$AK$16,3,FALSE),IF(I136=2,VLOOKUP(O136,$AI$19:$AK$27,3,FALSE))))","v":""},{"$f":"IF(O136=\"\",\"\",HLOOKUP(O136,名簿!$W$4:$AV$184,131,FALSE))","v":""},{"$f":"IF(O136=\"\",\"\",0)","v":""},{"$f":"IF(O136=\"\",\"\",2)","v":""},null,{"$f":"IF(T136=\"\",\"\",IF(I136=1,VLOOKUP(T136,男子種目コード!$D:$E,2,FALSE),IF(I136=2,VLOOKUP(T136,女子種目コード!$D:$E,2,FALSE))))","v":""},null,{"$f":"IF(T136=\"\",\"\",0)","v":""},{"$f":"IF(T136=\"\",\"\",2)","v":""},null,null,null,null,null,null,null,null,null,null,null,null,null,0,"","",null,null,null,null,null,null,null,null,null,null,0,"",""]
[0,{"$f":"名簿!O135","v":""},null,null,{"$f":"名簿!E135","v":0},{"$f":"名簿!BD135","v":""},{"$f":"名簿!V135","v":""},{"$f":"名簿!BD135","v":""},{"$f":"名簿!U135","v":""},{"$f":"名簿!I135","v":0},{"$f":"名簿!K135","v":0},{"$f":"名簿!BK135","v":"00"},{"$f":"名簿!P135","v":""},{"$f":"IF(F137=\"\",\"\",名簿!$Q$7)","v":""},null,"",{"$f":"IF(O137=\"\",\"\",HLOOKUP(O137,名簿!$W$4:$AV$184,132,FALSE))","v":""},"","",null,{"$f":"IF(T137=\"\",\"\",IF(I137=1,VLOOKUP(T137,男子種目コード!$D:$E,2,FALSE),IF(I137=2,VLOOKUP(T137,女子種目コード!$D:$E,2,FALSE))))","v":""},null,"","",null,null,null,null,null,null,null,null,null,null,null,null,null,0,"","",null,null,null,null,null,null,null,null,null,null,0,"",""]
[0,{"$f":"名簿!O136","v":""},null,null,{"$f":"名簿!E136","v":0},{"$f":"名簿!BD136","v":""},{"$f":"名簿!V136","v":""},{"$f":"名簿!BD136","v":""},{"$f":"名簿!U136","v":""},{"$f":"名簿!I136","v":0},{"$f":"名簿!K136","v":0},{"$f":"名簿!BK136","v":"00"},{"$f":"名簿!P136","v":""},{"$f":"IF(F138=\"\",\"\",名簿!$Q$7)","v":""},null,"",{"$f":"IF(O138=\"\",\"\",HLOOKUP(O138,名簿!$W$4:$AV$184,133,FALSE))","v":""},"","",null,{"$f":"IF(T138=\"\",\"\",IF(I138=1,VLOOKUP(T138,男子種目コード!$D:$E,2,FALSE),IF(I138=2,VLOOKUP(T138,女子種目コード!$D:$E,2,FALSE))))","v":""},null,"","",null,null,null,null,null,null,null,null,null,null,null,null,null,0,"","",null,null,null,null,null,null,null,null,null,null,0,"",""]
[0,{"$f":"名簿!O137","v":""},null,null,{"$f":"名簿!E137","v":0},{"$f":"名簿!BD137","v":""},{"$f":"名簿!V137","v":""},{"$f":"名簿!BD137","v":""},{"$f":"名簿!U137","v":""},{"$f":"名簿!I137","v":0},{"$f":"名簿!K137","v":0},{"$f":"名簿!BK137","v":"00"},{"$f":"名簿!P137","v":""},{"$f":"IF(F139=\"\",\"\",名簿!$Q$7)","v":""},null,"",{"$f":"IF(O139=\"\",\"\",HLOOKUP(O139,名簿!$W$4:$AV$184,134,FALSE))","v":""},"","",null,{"$f":"IF(T139=\"\",\"\",IF(I139=1,VLOOKUP(T139,男子種目コード!$D:$E,2,FALSE),IF(I139=2,VLOOKUP(T139,女子種目コード!$D:$E,2,FALSE))))","v":""},null,"","",null,null,null,null,null,null,null,null,null,null,null,null,null,0,"","",null,null,null,null,null,null,null,null,null,null,0,"",""]
[0,{"$f":"名簿!O138","v":""},null,null,{"$f":"名簿!E138","v":0},{"$f":"名簿!BD138","v":""},{"$f":"名簿!V138","v":""},{"$f":"名簿!BD138","v":""},{"$f":"名簿!U138","v":""},{"$f":"名簿!I138","v":0},{"$f":"名簿!K138","v":0},{"$f":"名簿!BK138","v":"00"},{"$f":"名簿!P138","v":""},{"$f":"IF(F140=\"\",\"\",名簿!$Q$7)","v":""},null,"",{"$f":"IF(O140=\"\",\"\",HLOOKUP(O140,名簿!$W$4:$AV$184,135,FALSE))","v":""},"","",null,{"$f":"IF(T140=\"\",\"\",IF(I140=1,VLOOKUP(T140,男子種目コード!$D:$E,2,FALSE),IF(I140=2,VLOOKUP(T140,女子種目コード!$D:$E,2,FALSE))))","v":""},null,"","",null,null,null,null,null,null,null,null,null,null,null,null,null,0,"","",null,null,null,null,null,null,null,null,null,null,0,"",""]
[0,{"$f":"名簿!O139","v":""},null,null,{"$f":"名簿!E139","v":0},{"$f":"名簿!BD139","v":""},{"$f":"名簿!V139","v":""},{"$f":"名簿!BD139","v":""},{"$f":"名簿!U139","v":""},{"$f":"名簿!I139","v":0},{"$f":"名簿!K139","v":0},{"$f":"名簿!BK139","v":"00"},{"$f":"名簿!P139","v":""},{"$f":"IF(F141=\"\",\"\",名簿!$Q$7)","v":""},null,"",{"$f":"IF(O141=\"\",\"\",HLOOKUP(O141,名簿!$W$4:$AV$184,136,FALSE))","v":""},"","",null,{"$f":"IF(T141=\"\",\"\",IF(I141=1,VLOOKUP(T141,男子種目コード!$D:$E,2,FALSE),IF(I141=2,VLOOKUP(T141,女子種目コード!$D:$E,2,FALSE))))","v":""},null,"","",null,null,null,null,null,null,null,null,null,null,null,null,null,0,"","",null,null,null,null,null,null,null,null,null,null,0,"",""]
[0,{"$f":"名簿!O140","v":""},null,null,{"$f":"名簿!E140","v":0},{"$f":"名簿!BD140","v":""},{"$f":"名簿!V140","v":""},{"$f":"名簿!BD140","v":""},{"$f":"名簿!U140","v":""},{"$f":"名簿!I140","v":0},{"$f":"名簿!K140","v":0},{"$f":"名簿!BK140","v":"00"},{"$f":"名簿!P140","v":""},{"$f":"IF(F142=\"\",\"\",名簿!$Q$7)","v":""},null,"",{"$f":"IF(O142=\"\",\"\",HLOOKUP(O142,名簿!$W$4:$AV$184,137,FALSE))","v":""},"","",null,{"$f":"IF(T142=\"\",\"\",IF(I142=1,VLOOKUP(T142,男子種目コード!$D:$E,2,FALSE),IF(I142=2,VLOOKUP(T142,女子種目コード!$D:$E,2,FALSE))))","v":""},null,"","",null,null,null,null,null,null,null,null,null,null,null,null,null,0,"","",null,null,null,null,null,null,null,null,null,null,0,"",""]
[0,{"$f":"名簿!O141","v":""},null,null,{"$f":"名簿!E141","v":0},{"$f":"名簿!BD141","v":""},{"$f":"名簿!V141","v":""},{"$f":"名簿!BD141","v":""},{"$f":"名簿!U141","v":""},{"$f":"名簿!I141","v":0},{"$f":"名簿!K141","v":0},{"$f":"名簿!BK141","v":"00"},{"$f":"名簿!P141","v":""},{"$f":"IF(F143=\"\",\"\",名簿!$Q$7)","v":""},null,"",{"$f":"IF(O143=\"\",\"\",HLOOKUP(O143,名簿!$W$4:$AV$184,138,FALSE))","v":""},"","",null,{"$f":"IF(T143=\"\",\"\",IF(I143=1,VLOOKUP(T143,男子種目コード!$D:$E,2,FALSE),IF(I143=2,VLOOKUP(T143,女子種目コード!$D:$E,2,FALSE))))","v":""},null,"","",null,null,null,null,null,null,null,null,null,null,null,null,null,0,"","",null,null,null,null,null,null,null,null,null,null,0,"",""]
[0,{"$f":"名簿!O142","v":""},null,null,{"$f":"名簿!E142","v":0},{"$f":"名簿!BD142","v":""},{"$f":"名簿!V142","v":""},{"$f":"名簿!BD142","v":""},{"$f":"名簿!U142","v":""},{"$f":"名簿!I142","v":0},{"$f":"名簿!K142","v":0},{"$f":"名簿!BK142","v":"00"},{"$f":"名簿!P142","v":""},{"$f":"IF(F144=\"\",\"\",名簿!$Q$7)","v":""},null,"",{"$f":"IF(O144=\"\",\"\",HLOOKUP(O144,名簿!$W$4:$AV$184,139,FALSE))","v":""},"","",null,{"$f":"IF(T144=\"\",\"\",IF(I144=1,VLOOKUP(T144,男子種目コード!$D:$E,2,FALSE),IF(I144=2,VLOOKUP(T144,女子種目コード!$D:$E,2,FALSE))))","v":""},null,"","",null,null,null,null,null,null,null,null,null,null,null,null,null,0,"","",null,null,null,null,null,null,null,null,null,null,0,"",""]
[0,{"$f":"名簿!O143","v":""},null,null,{"$f":"名簿!E143","v":0},{"$f":"名簿!BD143","v":""},{"$f":"名簿!V143","v":""},{"$f":"名簿!BD143","v":""},{"$f":"名簿!U143","v":""},{"$f":"名簿!I143","v":0},{"$f":"名簿!K143","v":0},{"$f":"名簿!BK143","v":"00"},{"$f":"名簿!P143","v":""},{"$f":"IF(F145=\"\",\"\",名簿!$Q$7)","v":""},null,"",{"$f":"IF(O145=\"\",\"\",HLOOKUP(O145,名簿!$W$4:$AV$184,140,FALSE))","v":""},"","",null,{"$f":"IF(T145=\"\",\"\",IF(I145=1,VLOOKUP(T145,男子種目コード!$D:$E,2,FALSE),IF(I145=2,VLOOKUP(T145,女子種目コード!$D:$E,2,FALSE))))","v":""},null,"","",null,null,null,null,null,null,null,null,null,null,null,null,null,0,"","",null,null,null,null,null,null,null,null,null,null,0,"",""]
[0,{"$f":"名簿!O144","v":""},null,null,{"$f":"名簿!E144","v":0},{"$f":"名簿!BD144","v":""},{"$f":"名簿!V144","v":""},{"$f":"名簿!BD144","v":""},{"$f":"名簿!U144","v":""},{"$f":"名簿!I144","v":0},{"$f":"名簿!K144","v":0},{"$f":"名簿!BK144","v":"00"},{"$f":"名簿!P144","v":""},{"$f":"IF(F146=\"\",\"\",名簿!$Q$7)","v":""},null,"",{"$f":"IF(O146=\"\",\"\",HLOOKUP(O146,名簿!$W$4:$AV$184,141,FALSE))","v":""},"","",null,{"$f":"IF(T146=\"\",\"\",IF(I146=1,VLOOKUP(T146,男子種目コード!$D:$E,2,FALSE),IF(I146=2,VLOOKUP(T146,女子種目コード!$D:$E,2,FALSE))))","v":""},null,"","",null,null,null,null,null,null,null,null,null,null,null,null,null,0,"","",null,null,null,null,null,null,null,null,null,null,0,"",""]
[0,{"$f":"名簿!O145","v":""},null,null,{"$f":"名簿!E145","v":0},{"$f":"名簿!BD145","v":""},{"$f":"名簿!V145","v":""},{"$f":"名簿!BD145","v":""},{"$f":"名簿!U145","v":""},{"$f":"名簿!I145","v":0},{"$f":"名簿!K145","v":0},{"$f":"名簿!BK145","v":"00"},{"$f":"名簿!P145","v":""},{"$f":"IF(F147=\"\",\"\",名簿!$Q$7)","v":""},null,"",{"$f":"IF(O147=\"\",\"\",HLOOKUP(O147,名簿!$W$4:$AV$184,142,FALSE))","v":""},"","",null,{"$f":"IF(T147=\"\",\"\",IF(I147=1,VLOOKUP(T147,男子種目コード!$D:$E,2,FALSE),IF(I147=2,VLOOKUP(T147,女子種目コード!$D:$E,2,FALSE))))","v":""},null,"","",null,null,null,null,null,null,null,null,null,null,null,null,null,0,"","",null,null,null,null,null,null,null,null,null,null,0,"",""]
[0,{"$f":"名簿!O146","v":""},null,null,{"$f":"名簿!E146","v":0},{"$f":"名簿!BD146","v":""},{"$f":"名簿!V146","v":""},{"$f":"名簿!BD146","v":""},{"$f":"名簿!U146","v":""},{"$f":"名簿!I146","v":0},{"$f":"名簿!K146","v":0},{"$f":"名簿!BK146","v":"00"},{"$f":"名簿!P146","v":""},{"$f":"IF(F148=\"\",\"\",名簿!$Q$7)","v":""},null,"",{"$f":"IF(O148=\"\",\"\",HLOOKUP(O148,名簿!$W$4:$AV$184,143,FALSE))","v":""},"","",null,{"$f":"IF(T148=\"\",\"\",IF(I148=1,VLOOKUP(T148,男子種目コード!$D:$E,2,FALSE),IF(I148=2,VLOOKUP(T148,女子種目コード!$D:$E,2,FALSE))))","v":""},null,"","",null,null,null,null,null,null,null,null,null,null,null,null,null,0,"","",null,null,null,null,null,null,null,null,null,null,0,"",""]
[0,{"$f":"名簿!O147","v":""},null,null,{"$f":"名簿!E147","v":0},{"$f":"名簿!BD147","v":""},{"$f":"名簿!V147","v":""},{"$f":"名簿!BD147","v":""},{"$f":"名簿!U147","v":""},{"$f":"名簿!I147","v":0},{"$f":"名簿!K147","v":0},{"$f":"名簿!BK147","v":"00"},{"$f":"名簿!P147","v":""},{"$f":"IF(F149=\"\",\"\",名簿!$Q$7)","v":""},null,"",{"$f":"IF(O149=\"\",\"\",HLOOKUP(O149,名簿!$W$4:$AV$184,144,FALSE))","v":""},"","",null,{"$f":"IF(T149=\"\",\"\",IF(I149=1,VLOOKUP(T149,男子種目コード!$D:$E,2,FALSE),IF(I149=2,VLOOKUP(T149,女子種目コード!$D:$E,2,FALSE))))","v":""},null,"","",null,null,null,null,null,null,null,null,null,null,null,null,null,0,"","",null,null,null,null,null,null,null,null,null,null,0,"",""]
[0,{"$f":"名簿!O148","v":""},null,null,{"$f":"名簿!E148","v":0},{"$f":"名簿!BD148","v":""},{"$f":"名簿!V148","v":""},{"$f":"名簿!BD148","v":""},{"$f":"名簿!U148","v":""},{"$f":"名簿!I148","v":0},{"$f":"名簿!K148","v":0},{"$f":"名簿!BK148","v":"00"},{"$f":"名簿!P148","v":""},{"$f":"IF(F150=\"\",\"\",名簿!$Q$7)","v":""},null,"",{"$f":"IF(O150=\"\",\"\",HLOOKUP(O150,名簿!$W$4:$AV$184,145,FALSE))","v":""},"","",null,{"$f":"IF(T150=\"\",\"\",IF(I150=1,VLOOKUP(T150,男子種目コード!$D:$E,2,FALSE),IF(I150=2,VLOOKUP(T150,女子種目コード!$D:$E,2,FALSE))))","v":""},null,"","",null,null,null,null,null,null,null,null,null,null,null,null,null,0,"","",null,null,null,null,null,null,null,null,null,null,0,"",""]
[0,{"$f":"名簿!O149","v":""},null,null,{"$f":"名簿!E149","v":0},{"$f":"名簿!BD149","v":""},{"$f":"名簿!V149","v":""},{"$f":"名簿!BD149","v":""},{"$f":"名簿!U149","v":""},{"$f":"名簿!I149","v":0},{"$f":"名簿!K149","v":0},{"$f":"名簿!BK149","v":"00"},{"$f":"名簿!P149","v":""},{"$f":"IF(F151=\"\",\"\",名簿!$Q$7)","v":""},null,"",{"$f":"IF(O151=\"\",\"\",HLOOKUP(O151,名簿!$W$4:$AV$184,146,FALSE))","v":""},"","",null,{"$f":"IF(T151=\"\",\"\",IF(I151=1,VLOOKUP(T151,男子種目コード!$D:$E,2,FALSE),IF(I151=2,VLOOKUP(T151,女子種目コード!$D:$E,2,FALSE))))","v":""},null,"","",null,null,null,null,null,null,null,null,null,null,null,null,null,0,"","",null,null,null,null,null,null,null,null,null,null,0,"",""]
[0,{"$f":"名簿!O150","v":""},null,null,{"$f":"名簿!E150","v":0},{"$f":"名簿!BD150","v":""},{"$f":"名簿!V150","v":""},{"$f":"名簿!BD150","v":""},{"$f":"名簿!U150","v":""},{"$f":"名簿!I150","v":0},{"$f":"名簿!K150","v":0},{"$f":"名簿!BK150","v":"00"},{"$f":"名簿!P150","v":""},{"$f":"IF(F152=\"\",\"\",名簿!$Q$7)","v":""},null,"",{"$f":"IF(O152=\"\",\"\",HLOOKUP(O152,名簿!$W$4:$AV$184,147,FALSE))","v":""},"","",null,{"$f":"IF(T152=\"\",\"\",IF(I152=1,VLOOKUP(T152,男子種目コード!$D:$E,2,FALSE),IF(I152=2,VLOOKUP(T152,女子種目コード!$D:$E,2,FALSE))))","v":""},null,"","",null,null,null,null,null,null,null,null,null,null,null,null,null,0,"","",null,null,null,null,null,null,null,null,null,null,0,"",""]
[0,{"$f":"名簿!O151","v":""},null,null,{"$f":"名簿!E151","v":0},{"$f":"名簿!BD151","v":""},{"$f":"名簿!V151","v":""},{"$f":"名簿!BD151","v":""},{"$f":"名簿!U151","v":""},{"$f":"名簿!I151","v":0},{"$f":"名簿!K151","v":0},{"$f":"名簿!BK151","v":"00"},{"$f":"名簿!P151","v":""},{"$f":"IF(F153=\"\",\"\",名簿!$Q$7)","v":""},null,"",{"$f":"IF(O153=\"\",\"\",HLOOKUP(O153,名簿!$W$4:$AV$184,148,FALSE))","v":""},"","",null,{"$f":"IF(T153=\"\",\"\",IF(I153=1,VLOOKUP(T153,男子種目コード!$D:$E,2,FALSE),IF(I153=2,VLOOKUP(T153,女子種目コード!$D:$E,2,FALSE))))","v":""},null,"","",null,null,null,null,null,null,null,null,null,null,null,null,null,0,"","",null,null,null,null,null,null,null,null,null,null,0,"",""]
[0,{"$f":"名簿!O152","v":""},null,null,{"$f":"名簿!E152","v":0},{"$f":"名簿!BD152","v":""},{"$f":"名簿!V152","v":""},{"$f":"名簿!BD152","v":""},{"$f":"名簿!U152","v":""},{"$f":"名簿!I152","v":0},{"$f":"名簿!K152","v":0},{"$f":"名簿!BK152","v":"00"},{"$f":"名簿!P152","v":""},{"$f":"IF(F154=\"\",\"\",名簿!$Q$7)","v":""},null,"",{"$f":"IF(O154=\"\",\"\",HLOOKUP(O154,名簿!$W$4:$AV$184,149,FALSE))","v":""},"","",null,{"$f":"IF(T154=\"\",\"\",IF(I154=1,VLOOKUP(T154,男子種目コード!$D:$E,2,FALSE),IF(I154=2,VLOOKUP(T154,女子種目コード!$D:$E,2,FALSE))))","v":""},null,"","",null,null,null,null,null,null,null,null,null,null,null,null,null,0,"","",null,null,null,null,null,null,null,null,null,null,0,"",""]
[0,{"$f":"名簿!O153","v":""},null,null,{"$f":"名簿!E153","v":0},{"$f":"名簿!BD153","v":""},{"$f":"名簿!V153","v":""},{"$f":"名簿!BD153","v":""},{"$f":"名簿!U153","v":""},{"$f":"名簿!I153","v":0},{"$f":"名簿!K153","v":0},{"$f":"名簿!BK153","v":"00"},{"$f":"名簿!P153","v":""},{"$f":"IF(F155=\"\",\"\",名簿!$Q$7)","v":""},null,"",{"$f":"IF(O155=\"\",\"\",HLOOKUP(O155,名簿!$W$4:$AV$184,150,FALSE))","v":""},"","",null,{"$f":"IF(T155=\"\",\"\",IF(I155=1,VLOOKUP(T155,男子種目コード!$D:$E,2,FALSE),IF(I155=2,VLOOKUP(T155,女子種目コード!$D:$E,2,FALSE))))","v":""},null,"","",null,null,null,null,null,null,null,null,null,null,null,null,null,0,"","",null,null,null,null,null,null,null,null,null,null,0,"",""]
[0,{"$f":"名簿!O154","v":""},null,null,{"$f":"名簿!E154","v":0},{"$f":"名簿!BD154","v":""},{"$f":"名簿!V154","v":""},{"$f":"名簿!BD154","v":""},{"$f":"名簿!U154","v":""},{"$f":"名簿!I154","v":0},{"$f":"名簿!K154","v":0},{"$f":"名簿!BK154","v":"00"},{"$f":"名簿!P154","v":""},{"$f":"IF(F156=\"\",\"\",名簿!$Q$7)","v":""},null,"",{"$f":"IF(O156=\"\",\"\",HLOOKUP(O156,名簿!$W$4:$AV$184,151,FALSE))","v":""},"","",null,{"$f":"IF(T156=\"\",\"\",IF(I156=1,VLOOKUP(T156,男子種目コード!$D:$E,2,FALSE),IF(I156=2,VLOOKUP(T156,女子種目コード!$D:$E,2,FALSE))))","v":""},null,"","",null,null,null,null,null,null,null,null,null,null,null,null,null,0,"","",null,null,null,null,null,null,null,null,null,null,0,"",""]
[0,{"$f":"名簿!O155","v":""},null,null,{"$f":"名簿!E155","v":0},{"$f":"名簿!BD155","v":""},{"$f":"名簿!V155","v":""},{"$f":"名簿!BD155","v":""},{"$f":"名簿!U155","v":""},{"$f":"名簿!I155","v":0},{"$f":"名簿!K155","v":0},{"$f":"名簿!BK155","v":"00"},{"$f":"名簿!P155","v":""},{"$f":"IF(F157=\"\",\"\",名簿!$Q$7)","v":""},null,"",{"$f":"IF(O157=\"\",\"\",HLOOKUP(O157,名簿!$W$4:$AV$184,152,FALSE))","v":""},"","",null,{"$f":"IF(T157=\"\",\"\",IF(I157=1,VLOOKUP(T157,男子種目コード!$D:$E,2,FALSE),IF(I157=2,VLOOKUP(T157,女子種目コード!$D:$E,2,FALSE))))","v":""},null,"","",null,null,null,null,null,null,null,null,null,null,null,null,null,0,"","",null,null,null,null,null,null,null,null,null,null,0,"",""]
[0,{"$f":"名簿!O156","v":""},null,null,{"$f":"名簿!E156","v":0},{"$f":"名簿!BD156","v":""},{"$f":"名簿!V156","v":""},{"$f":"名簿!BD156","v":""},{"$f":"名簿!U156","v":""},{"$f":"名簿!I156","v":0},{"$f":"名簿!K156","v":0},{"$f":"名簿!BK156","v":"00"},{"$f":"名簿!P156","v":""},{"$f":"IF(F158=\"\",\"\",名簿!$Q$7)","v":""},null,"",{"$f":"IF(O158=\"\",\"\",HLOOKUP(O158,名簿!$W$4:$AV$184,153,FALSE))","v":""},"","",null,{"$f":"IF(T158=\"\",\"\",IF(I158=1,VLOOKUP(T158,男子種目コード!$D:$E,2,FALSE),IF(I158=2,VLOOKUP(T158,女子種目コード!$D:$E,2,FALSE))))","v":""},null,"","",null,null,null,null,null,null,null,null,null,null,null,null,null,0,"","",null,null,null,null,null,null,null,null,null,null,0,"",""]
[0,{"$f":"名簿!O157","v":""},null,null,{"$f":"名簿!E157","v":0},{"$f":"名簿!BD157","v":""},{"$f":"名簿!V157","v":""},{"$f":"名簿!BD157","v":""},{"$f":"名簿!U157","v":""},{"$f":"名簿!I157","v":0},{"$f":"名簿!K157","v":0},{"$f":"名簿!BK157","v":"00"},{"$f":"名簿!P157","v":""},{"$f":"IF(F159=\"\",\"\",名簿!$Q$7)","v":""},null,"",{"$f":"IF(O159=\"\",\"\",HLOOKUP(O159,名簿!$W$4:$AV$184,154,FALSE))","v":""},"","",null,{"$f":"IF(T159=\"\",\"\",IF(I159=1,VLOOKUP(T159,男子種目コード!$D:$E,2,FALSE),IF(I159=2,VLOOKUP(T159,女子種目コード!$D:$E,2,FALSE))))","v":""},null,"","",null,null,null,null,null,null,null,null,null,null,null,null,null,0,"","",null,null,null,null,null,null,null,null,null,null,0,"",""]
[0,{"$f":"名簿!O158","v":""},null,null,{"$f":"名簿!E158","v":0},{"$f":"名簿!BD158","v":""},{"$f":"名簿!V158","v":""},{"$f":"名簿!BD158","v":""},{"$f":"名簿!U158","v":""},{"$f":"名簿!I158","v":0},{"$f":"名簿!K158","v":0},{"$f":"名簿!BK158","v":"00"},{"$f":"名簿!P158","v":""},{"$f":"IF(F160=\"\",\"\",名簿!$Q$7)","v":""},null,"",{"$f":"IF(O160=\"\",\"\",HLOOKUP(O160,名簿!$W$4:$AV$184,155,FALSE))","v":""},"","",null,{"$f":"IF(T160=\"\",\"\",IF(I160=1,VLOOKUP(T160,男子種目コード!$D:$E,2,FALSE),IF(I160=2,VLOOKUP(T160,女子種目コード!$D:$E,2,FALSE))))","v":""},null,"","",null,null,null,null,null,null,null,null,null,null,null,null,null,0,"","",null,null,null,null,null,null,null,null,null,null,0,"",""]
[0,{"$f":"名簿!O159","v":""},null,null,{"$f":"名簿!E159","v":0},{"$f":"名簿!BD159","v":""},{"$f":"名簿!V159","v":""},{"$f":"名簿!BD159","v":""},{"$f":"名簿!U159","v":""},{"$f":"名簿!I159","v":0},{"$f":"名簿!K159","v":0},{"$f":"名簿!BK159","v":"00"},{"$f":"名簿!P159","v":""},{"$f":"IF(F161=\"\",\"\",名簿!$Q$7)","v":""},null,"",{"$f":"IF(O161=\"\",\"\",HLOOKUP(O161,名簿!$W$4:$AV$184,156,FALSE))","v":""},"","",null,{"$f":"IF(T161=\"\",\"\",IF(I161=1,VLOOKUP(T161,男子種目コード!$D:$E,2,FALSE),IF(I161=2,VLOOKUP(T161,女子種目コード!$D:$E,2,FALSE))))","v":""},null,"","",null,null,null,null,null,null,null,null,null,null,null,null,null,0,"","",null,null,null,null,null,null,null,null,null,null,0,"",""]
[0,{"$f":"名簿!O160","v":""},null,null,{"$f":"名簿!E160","v":0},{"$f":"名簿!BD160","v":""},{"$f":"名簿!V160","v":""},{"$f":"名簿!BD160","v":""},{"$f":"名簿!U160","v":""},{"$f":"名簿!I160","v":0},{"$f":"名簿!K160","v":0},{"$f":"名簿!BK160","v":"00"},{"$f":"名簿!P160","v":""},{"$f":"IF(F162=\"\",\"\",名簿!$Q$7)","v":""},null,"",{"$f":"IF(O162=\"\",\"\",HLOOKUP(O162,名簿!$W$4:$AV$184,157,FALSE))","v":""},"","",null,{"$f":"IF(T162=\"\",\"\",IF(I162=1,VLOOKUP(T162,男子種目コード!$D:$E,2,FALSE),IF(I162=2,VLOOKUP(T162,女子種目コード!$D:$E,2,FALSE))))","v":""},null,"","",null,null,null,null,null,null,null,null,null,null,null,null,null,0,"","",null,null,null,null,null,null,null,null,null,null,0,"",""]
[0,{"$f":"名簿!O161","v":""},null,null,{"$f":"名簿!E161","v":0},{"$f":"名簿!BD161","v":""},{"$f":"名簿!V161","v":""},{"$f":"名簿!BD161","v":""},{"$f":"名簿!U161","v":""},{"$f":"名簿!I161","v":0},{"$f":"名簿!K161","v":0},{"$f":"名簿!BK161","v":"00"},{"$f":"名簿!P161","v":""},{"$f":"IF(F163=\"\",\"\",名簿!$Q$7)","v":""},null,"",{"$f":"IF(O163=\"\",\"\",HLOOKUP(O163,名簿!$W$4:$AV$184,158,FALSE))","v":""},"","",null,{"$f":"IF(T163=\"\",\"\",IF(I163=1,VLOOKUP(T163,男子種目コード!$D:$E,2,FALSE),IF(I163=2,VLOOKUP(T163,女子種目コード!$D:$E,2,FALSE))))","v":""},null,"","",null,null,null,null,null,null,null,null,null,null,null,null,null,0,"","",null,null,null,null,null,null,null,null,null,null,0,"",""]
[0,{"$f":"名簿!O162","v":""},null,null,{"$f":"名簿!E162","v":0},{"$f":"名簿!BD162","v":""},{"$f":"名簿!V162","v":""},{"$f":"名簿!BD162","v":""},{"$f":"名簿!U162","v":""},{"$f":"名簿!I162","v":0},{"$f":"名簿!K162","v":0},{"$f":"名簿!BK162","v":"00"},{"$f":"名簿!P162","v":""},{"$f":"IF(F164=\"\",\"\",名簿!$Q$7)","v":""},null,"",{"$f":"IF(O164=\"\",\"\",HLOOKUP(O164,名簿!$W$4:$AV$184,159,FALSE))","v":""},"","",null,{"$f":"IF(T164=\"\",\"\",IF(I164=1,VLOOKUP(T164,男子種目コード!$D:$E,2,FALSE),IF(I164=2,VLOOKUP(T164,女子種目コード!$D:$E,2,FALSE))))","v":""},null,"","",null,null,null,null,null,null,null,null,null,null,null,null,null,0,"","",null,null,null,null,null,null,null,null,null,null,0,"",""]
[0,{"$f":"名簿!O163","v":""},null,null,{"$f":"名簿!E163","v":0},{"$f":"名簿!BD163","v":""},{"$f":"名簿!V163","v":""},{"$f":"名簿!BD163","v":""},{"$f":"名簿!U163","v":""},{"$f":"名簿!I163","v":0},{"$f":"名簿!K163","v":0},{"$f":"名簿!BK163","v":"00"},{"$f":"名簿!P163","v":""},{"$f":"IF(F165=\"\",\"\",名簿!$Q$7)","v":""},null,"",{"$f":"IF(O165=\"\",\"\",HLOOKUP(O165,名簿!$W$4:$AV$184,160,FALSE))","v":""},"","",null,{"$f":"IF(T165=\"\",\"\",IF(I165=1,VLOOKUP(T165,男子種目コード!$D:$E,2,FALSE),IF(I165=2,VLOOKUP(T165,女子種目コード!$D:$E,2,FALSE))))","v":""},null,"","",null,null,null,null,null,null,null,null,null,null,null,null,null,0,"","",null,null,null,null,null,null,null,null,null,null,0,"",""]
[0,{"$f":"名簿!O164","v":""},null,null,{"$f":"名簿!E164","v":0},{"$f":"名簿!BD164","v":""},{"$f":"名簿!V164","v":""},{"$f":"名簿!BD164","v":""},{"$f":"名簿!U164","v":""},{"$f":"名簿!I164","v":0},{"$f":"名簿!K164","v":0},{"$f":"名簿!BK164","v":"00"},{"$f":"名簿!P164","v":""},{"$f":"IF(F166=\"\",\"\",名簿!$Q$7)","v":""},null,"",{"$f":"IF(O166=\"\",\"\",HLOOKUP(O166,名簿!$W$4:$AV$184,161,FALSE))","v":""},"","",null,{"$f":"IF(T166=\"\",\"\",IF(I166=1,VLOOKUP(T166,男子種目コード!$D:$E,2,FALSE),IF(I166=2,VLOOKUP(T166,女子種目コード!$D:$E,2,FALSE))))","v":""},null,"","",null,null,null,null,null,null,null,null,null,null,null,null,null,0,"","",null,null,null,null,null,null,null,null,null,null,0,"",""]
[0,{"$f":"名簿!O165","v":""},null,null,{"$f":"名簿!E165","v":0},{"$f":"名簿!BD165","v":""},{"$f":"名簿!V165","v":""},{"$f":"名簿!BD165","v":""},{"$f":"名簿!U165","v":""},{"$f":"名簿!I165","v":0},{"$f":"名簿!K165","v":0},{"$f":"名簿!BK165","v":"00"},{"$f":"名簿!P165","v":""},{"$f":"IF(F167=\"\",\"\",名簿!$Q$7)","v":""},null,"",{"$f":"IF(O167=\"\",\"\",HLOOKUP(O167,名簿!$W$4:$AV$184,162,FALSE))","v":""},"","",null,{"$f":"IF(T167=\"\",\"\",IF(I167=1,VLOOKUP(T167,男子種目コード!$D:$E,2,FALSE),IF(I167=2,VLOOKUP(T167,女子種目コード!$D:$E,2,FALSE))))","v":""},null,"","",null,null,null,null,null,null,null,null,null,null,null,null,null,{"$f":"COUNT(P167,U167)","v":0},{"$f":"IF(I167=1,AL167,\"\")","v":""},{"$f":"IF(I167=2,AL167,\"\")","v":""},null,null,null,null,null,null,null,null,null,null,0,"",""]
[0,{"$f":"名簿!O166","v":""},null,null,{"$f":"名簿!E166","v":0},{"$f":"名簿!BD166","v":""},{"$f":"名簿!V166","v":""},{"$f":"名簿!BD166","v":""},{"$f":"名簿!U166","v":""},{"$f":"名簿!I166","v":0},{"$f":"名簿!K166","v":0},{"$f":"名簿!BK166","v":"00"},{"$f":"名簿!P166","v":""},{"$f":"IF(F168=\"\",\"\",名簿!$Q$7)","v":""},null,"",{"$f":"IF(O168=\"\",\"\",HLOOKUP(O168,名簿!$W$4:$AV$184,163,FALSE))","v":""},"","",null,{"$f":"IF(T168=\"\",\"\",IF(I168=1,VLOOKUP(T168,男子種目コード!$D:$E,2,FALSE),IF(I168=2,VLOOKUP(T168,女子種目コード!$D:$E,2,FALSE))))","v":""},null,"","",null,null,null,null,null,null,null,null,null,null,null,null,null,0,"","",null,null,null,null,null,null,null,null,null,null,0,"",""]
[0,{"$f":"名簿!O167","v":""},null,null,{"$f":"名簿!E167","v":0},{"$f":"名簿!BD167","v":""},{"$f":"名簿!V167","v":""},{"$f":"名簿!BD167","v":""},{"$f":"名簿!U167","v":""},{"$f":"名簿!I167","v":0},{"$f":"名簿!K167","v":0},{"$f":"名簿!BK167","v":"00"},{"$f":"名簿!P167","v":""},{"$f":"IF(F169=\"\",\"\",名簿!$Q$7)","v":""},null,"",{"$f":"IF(O169=\"\",\"\",HLOOKUP(O169,名簿!$W$4:$AV$184,164,FALSE))","v":""},"","",null,{"$f":"IF(T169=\"\",\"\",IF(I169=1,VLOOKUP(T169,男子種目コード!$D:$E,2,FALSE),IF(I169=2,VLOOKUP(T169,女子種目コード!$D:$E,2,FALSE))))","v":""},null,"","",null,null,null,null,null,null,null,null,null,null,null,null,null,0,"","",null,null,null,null,null,null,null,null,null,null,0,"",""]
[0,{"$f":"名簿!O168","v":""},null,null,{"$f":"名簿!E168","v":0},{"$f":"名簿!BD168","v":""},{"$f":"名簿!V168","v":""},{"$f":"名簿!BD168","v":""},{"$f":"名簿!U168","v":""},{"$f":"名簿!I168","v":0},{"$f":"名簿!K168","v":0},{"$f":"名簿!BK168","v":"00"},{"$f":"名簿!P168","v":""},{"$f":"IF(F170=\"\",\"\",名簿!$Q$7)","v":""},null,"",{"$f":"IF(O170=\"\",\"\",HLOOKUP(O170,名簿!$W$4:$AV$184,165,FALSE))","v":""},"","",null,{"$f":"IF(T170=\"\",\"\",IF(I170=1,VLOOKUP(T170,男子種目コード!$D:$E,2,FALSE),IF(I170=2,VLOOKUP(T170,女子種目コード!$D:$E,2,FALSE))))","v":""},null,"","",null,null,null,null,null,null,null,null,null,null,null,null,null,0,"","",null,null,null,null,null,null,null,null,null,null,0,"",""]
[0,{"$f":"名簿!O169","v":""},null,null,{"$f":"名簿!E169","v":0},{"$f":"名簿!BD169","v":""},{"$f":"名簿!V169","v":""},{"$f":"名簿!BD169","v":""},{"$f":"名簿!U169","v":""},{"$f":"名簿!I169","v":0},{"$f":"名簿!K169","v":0},{"$f":"名簿!BK169","v":"00"},{"$f":"名簿!P169","v":""},{"$f":"IF(F171=\"\",\"\",名簿!$Q$7)","v":""},null,"",{"$f":"IF(O171=\"\",\"\",HLOOKUP(O171,名簿!$W$4:$AV$184,166,FALSE))","v":""},"","",null,{"$f":"IF(T171=\"\",\"\",IF(I171=1,VLOOKUP(T171,男子種目コード!$D:$E,2,FALSE),IF(I171=2,VLOOKUP(T171,女子種目コード!$D:$E,2,FALSE))))","v":""},null,"","",null,null,null,null,null,null,null,null,null,null,null,null,null,0,"","",null,null,null,null,null,null,null,null,null,null,0,"",""]
[0,{"$f":"名簿!O170","v":""},null,null,{"$f":"名簿!E170","v":0},{"$f":"名簿!BD170","v":""},{"$f":"名簿!V170","v":""},{"$f":"名簿!BD170","v":""},{"$f":"名簿!U170","v":""},{"$f":"名簿!I170","v":0},{"$f":"名簿!K170","v":0},{"$f":"名簿!BK170","v":"00"},{"$f":"名簿!P170","v":""},{"$f":"IF(F172=\"\",\"\",名簿!$Q$7)","v":""},null,"",{"$f":"IF(O172=\"\",\"\",HLOOKUP(O172,名簿!$W$4:$AV$184,167,FALSE))","v":""},"","",null,{"$f":"IF(T172=\"\",\"\",IF(I172=1,VLOOKUP(T172,男子種目コード!$D:$E,2,FALSE),IF(I172=2,VLOOKUP(T172,女子種目コード!$D:$E,2,FALSE))))","v":""},null,"","",null,null,null,null,null,null,null,null,null,null,null,null,null,0,"","",null,null,null,null,null,null,null,null,null,null,0,"",""]
[0,{"$f":"名簿!O171","v":""},null,null,{"$f":"名簿!E171","v":0},{"$f":"名簿!BD171","v":""},{"$f":"名簿!V171","v":""},{"$f":"名簿!BD171","v":""},{"$f":"名簿!U171","v":""},{"$f":"名簿!I171","v":0},{"$f":"名簿!K171","v":0},{"$f":"名簿!BK171","v":"00"},{"$f":"名簿!P171","v":""},{"$f":"IF(F173=\"\",\"\",名簿!$Q$7)","v":""},null,"",{"$f":"IF(O173=\"\",\"\",HLOOKUP(O173,名簿!$W$4:$AV$184,168,FALSE))","v":""},"","",null,{"$f":"IF(T173=\"\",\"\",IF(I173=1,VLOOKUP(T173,男子種目コード!$D:$E,2,FALSE),IF(I173=2,VLOOKUP(T173,女子種目コード!$D:$E,2,FALSE))))","v":""},null,"","",null,null,null,null,null,null,null,null,null,null,null,null,null,0,"","",null,null,null,null,null,null,null,null,null,null,0,"",""]
[0,{"$f":"名簿!O172","v":""},null,null,{"$f":"名簿!E172","v":0},{"$f":"名簿!BD172","v":""},{"$f":"名簿!V172","v":""},{"$f":"名簿!BD172","v":""},{"$f":"名簿!U172","v":""},{"$f":"名簿!I172","v":0},{"$f":"名簿!K172","v":0},{"$f":"名簿!BK172","v":"00"},{"$f":"名簿!P172","v":""},{"$f":"IF(F174=\"\",\"\",名簿!$Q$7)","v":""},null,"",{"$f":"IF(O174=\"\",\"\",HLOOKUP(O174,名簿!$W$4:$AV$184,169,FALSE))","v":""},"","",null,{"$f":"IF(T174=\"\",\"\",IF(I174=1,VLOOKUP(T174,男子種目コード!$D:$E,2,FALSE),IF(I174=2,VLOOKUP(T174,女子種目コード!$D:$E,2,FALSE))))","v":""},null,"","",null,null,null,null,null,null,null,null,null,null,null,null,null,0,"","",null,null,null,null,null,null,null,null,null,null,0,"",""]
[0,{"$f":"名簿!O173","v":""},null,null,{"$f":"名簿!E173","v":0},{"$f":"名簿!BD173","v":""},{"$f":"名簿!V173","v":""},{"$f":"名簿!BD173","v":""},{"$f":"名簿!U173","v":""},{"$f":"名簿!I173","v":0},{"$f":"名簿!K173","v":0},{"$f":"名簿!BK173","v":"00"},{"$f":"名簿!P173","v":""},{"$f":"IF(F175=\"\",\"\",名簿!$Q$7)","v":""},null,"",{"$f":"IF(O175=\"\",\"\",HLOOKUP(O175,名簿!$W$4:$AV$184,170,FALSE))","v":""},"","",null,{"$f":"IF(T175=\"\",\"\",IF(I175=1,VLOOKUP(T175,男子種目コード!$D:$E,2,FALSE),IF(I175=2,VLOOKUP(T175,女子種目コード!$D:$E,2,FALSE))))","v":""},null,"","",null,null,null,null,null,null,null,null,null,null,null,null,null,0,"","",null,null,null,null,null,null,null,null,null,null,0,"",""]
[0,{"$f":"名簿!O174","v":""},null,null,{"$f":"名簿!E174","v":0},{"$f":"名簿!BD174","v":""},{"$f":"名簿!V174","v":""},{"$f":"名簿!BD174","v":""},{"$f":"名簿!U174","v":""},{"$f":"名簿!I174","v":0},{"$f":"名簿!K174","v":0},{"$f":"名簿!BK174","v":"00"},{"$f":"名簿!P174","v":""},{"$f":"IF(F176=\"\",\"\",名簿!$Q$7)","v":""},null,"",{"$f":"IF(O176=\"\",\"\",HLOOKUP(O176,名簿!$W$4:$AV$184,171,FALSE))","v":""},"","",null,{"$f":"IF(T176=\"\",\"\",IF(I176=1,VLOOKUP(T176,男子種目コード!$D:$E,2,FALSE),IF(I176=2,VLOOKUP(T176,女子種目コード!$D:$E,2,FALSE))))","v":""},null,"","",null,null,null,null,null,null,null,null,null,null,null,null,null,0,"","",null,null,null,null,null,null,null,null,null,null,0,"",""]
[0,{"$f":"名簿!O175","v":""},null,null,{"$f":"名簿!E175","v":0},{"$f":"名簿!BD175","v":""},{"$f":"名簿!V175","v":""},{"$f":"名簿!BD175","v":""},{"$f":"名簿!U175","v":""},{"$f":"名簿!I175","v":0},{"$f":"名簿!K175","v":0},{"$f":"名簿!BK175","v":"00"},{"$f":"名簿!P175","v":""},{"$f":"IF(F177=\"\",\"\",名簿!$Q$7)","v":""},null,"",{"$f":"IF(O177=\"\",\"\",HLOOKUP(O177,名簿!$W$4:$AV$184,172,FALSE))","v":""},"","",null,{"$f":"IF(T177=\"\",\"\",IF(I177=1,VLOOKUP(T177,男子種目コード!$D:$E,2,FALSE),IF(I177=2,VLOOKUP(T177,女子種目コード!$D:$E,2,FALSE))))","v":""},null,"","",null,null,null,null,null,null,null,null,null,null,null,null,null,0,"","",null,null,null,null,null,null,null,null,null,null,0,"",""]
[0,{"$f":"名簿!O176","v":""},null,null,{"$f":"名簿!E176","v":0},{"$f":"名簿!BD176","v":""},{"$f":"名簿!V176","v":""},{"$f":"名簿!BD176","v":""},{"$f":"名簿!U176","v":""},{"$f":"名簿!I176","v":0},{"$f":"名簿!K176","v":0},{"$f":"名簿!BK176","v":"00"},{"$f":"名簿!P176","v":""},{"$f":"IF(F178=\"\",\"\",名簿!$Q$7)","v":""},null,"",{"$f":"IF(O178=\"\",\"\",HLOOKUP(O178,名簿!$W$4:$AV$184,173,FALSE))","v":""},"","",null,{"$f":"IF(T178=\"\",\"\",IF(I178=1,VLOOKUP(T178,男子種目コード!$D:$E,2,FALSE),IF(I178=2,VLOOKUP(T178,女子種目コード!$D:$E,2,FALSE))))","v":""},null,"","",null,null,null,null,null,null,null,null,null,null,null,null,null,0,"","",null,null,null,null,null,null,null,null,null,null,0,"",""]
[0,{"$f":"名簿!O177","v":""},null,null,{"$f":"名簿!E177","v":0},{"$f":"名簿!BD177","v":""},{"$f":"名簿!V177","v":""},{"$f":"名簿!BD177","v":""},{"$f":"名簿!U177","v":""},{"$f":"名簿!I177","v":0},{"$f":"名簿!K177","v":0},{"$f":"名簿!BK177","v":"00"},{"$f":"名簿!P177","v":""},{"$f":"IF(F179=\"\",\"\",名簿!$Q$7)","v":""},null,"",{"$f":"IF(O179=\"\",\"\",HLOOKUP(O179,名簿!$W$4:$AV$184,174,FALSE))","v":""},"","",null,{"$f":"IF(T179=\"\",\"\",IF(I179=1,VLOOKUP(T179,男子種目コード!$D:$E,2,FALSE),IF(I179=2,VLOOKUP(T179,女子種目コード!$D:$E,2,FALSE))))","v":""},null,"","",null,null,null,null,null,null,null,null,null,null,null,null,null,0,"","",null,null,null,null,null,null,null,null,null,null,0,"",""]
[0,{"$f":"名簿!O178","v":""},null,null,{"$f":"名簿!E178","v":0},{"$f":"名簿!BD178","v":""},{"$f":"名簿!V178","v":""},{"$f":"名簿!BD178","v":""},{"$f":"名簿!U178","v":""},{"$f":"名簿!I178","v":0},{"$f":"名簿!K178","v":0},{"$f":"名簿!BK178","v":"00"},{"$f":"名簿!P178","v":""},{"$f":"IF(F180=\"\",\"\",名簿!$Q$7)","v":""},null,"",{"$f":"IF(O180=\"\",\"\",HLOOKUP(O180,名簿!$W$4:$AV$184,175,FALSE))","v":""},"","",null,{"$f":"IF(T180=\"\",\"\",IF(I180=1,VLOOKUP(T180,男子種目コード!$D:$E,2,FALSE),IF(I180=2,VLOOKUP(T180,女子種目コード!$D:$E,2,FALSE))))","v":""},null,"","",null,null,null,null,null,null,null,null,null,null,null,null,null,0,"","",null,null,null,null,null,null,null,null,null,null,0,"",""]
[0,{"$f":"名簿!O179","v":""},null,null,{"$f":"名簿!E179","v":0},{"$f":"名簿!BD179","v":""},{"$f":"名簿!V179","v":""},{"$f":"名簿!BD179","v":""},{"$f":"名簿!U179","v":""},{"$f":"名簿!I179","v":0},{"$f":"名簿!K179","v":0},{"$f":"名簿!BK179","v":"00"},{"$f":"名簿!P179","v":""},{"$f":"IF(F181=\"\",\"\",名簿!$Q$7)","v":""},null,"",{"$f":"IF(O181=\"\",\"\",HLOOKUP(O181,名簿!$W$4:$AV$184,176,FALSE))","v":""},"","",null,{"$f":"IF(T181=\"\",\"\",IF(I181=1,VLOOKUP(T181,男子種目コード!$D:$E,2,FALSE),IF(I181=2,VLOOKUP(T181,女子種目コード!$D:$E,2,FALSE))))","v":""},null,"","",null,null,null,null,null,null,null,null,null,null,null,null,null,0,"","",null,null,null,null,null,null,null,null,null,null,0,"",""]
[0,{"$f":"名簿!O180","v":""},null,null,{"$f":"名簿!E180","v":0},{"$f":"名簿!BD180","v":""},{"$f":"名簿!V180","v":""},{"$f":"名簿!BD180","v":""},{"$f":"名簿!U180","v":""},{"$f":"名簿!I180","v":0},{"$f":"名簿!K180","v":0},{"$f":"名簿!BK180","v":"00"},{"$f":"名簿!P180","v":""},{"$f":"IF(F182=\"\",\"\",名簿!$Q$7)","v":""},null,"",{"$f":"IF(O182=\"\",\"\",HLOOKUP(O182,名簿!$W$4:$AV$184,177,FALSE))","v":""},"","",null,{"$f":"IF(T182=\"\",\"\",IF(I182=1,VLOOKUP(T182,男子種目コード!$D:$E,2,FALSE),IF(I182=2,VLOOKUP(T182,女子種目コード!$D:$E,2,FALSE))))","v":""},null,"","",null,null,null,null,null,null,null,null,null,null,null,null,null,0,"","",null,null,null,null,null,null,null,null,null,null,0,"",""]
[0,{"$f":"名簿!O181","v":""},null,null,{"$f":"名簿!E181","v":0},{"$f":"名簿!BD181","v":""},{"$f":"名簿!V181","v":""},{"$f":"名簿!BD181","v":""},{"$f":"名簿!U181","v":""},{"$f":"名簿!I181","v":0},{"$f":"名簿!K181","v":0},{"$f":"名簿!BK181","v":"00"},{"$f":"名簿!P181","v":""},{"$f":"IF(F183=\"\",\"\",名簿!$Q$7)","v":""},null,"",{"$f":"IF(O183=\"\",\"\",HLOOKUP(O183,名簿!$W$4:$AV$184,178,FALSE))","v":""},"","",null,{"$f":"IF(T183=\"\",\"\",IF(I183=1,VLOOKUP(T183,男子種目コード!$D:$E,2,FALSE),IF(I183=2,VLOOKUP(T183,女子種目コード!$D:$E,2,FALSE))))","v":""},null,"","",null,null,null,null,null,null,null,null,null,null,null,null,null,0,"","",null,null,null,null,null,null,null,null,null,null,0,"",""]
[0,{"$f":"名簿!O182","v":""},null,null,{"$f":"名簿!E182","v":0},{"$f":"名簿!BD182","v":""},{"$f":"名簿!V182","v":""},{"$f":"名簿!BD182","v":""},{"$f":"名簿!U182","v":""},{"$f":"名簿!I182","v":0},{"$f":"名簿!K182","v":0},{"$f":"名簿!BK182","v":"00"},{"$f":"名簿!P182","v":""},{"$f":"IF(F184=\"\",\"\",名簿!$Q$7)","v":""},null,"",{"$f":"IF(O184=\"\",\"\",HLOOKUP(O184,名簿!$W$4:$AV$184,179,FALSE))","v":""},"","",null,{"$f":"IF(T184=\"\",\"\",IF(I184=1,VLOOKUP(T184,男子種目コード!$D:$E,2,FALSE),IF(I184=2,VLOOKUP(T184,女子種目コード!$D:$E,2,FALSE))))","v":""},null,"","",null,null,null,null,null,null,null,null,null,null,null,null,null,0,"","",null,null,null,null,null,null,null,null,null,null,0,"",""]
[0,{"$f":"名簿!O183","v":""},null,null,{"$f":"名簿!E183","v":0},{"$f":"名簿!BD183","v":""},{"$f":"名簿!V183","v":""},{"$f":"名簿!BD183","v":""},{"$f":"名簿!U183","v":""},{"$f":"名簿!I183","v":0},{"$f":"名簿!K183","v":0},{"$f":"名簿!BK183","v":"00"},{"$f":"名簿!P183","v":""},{"$f":"IF(F185=\"\",\"\",名簿!$Q$7)","v":""},null,"",{"$f":"IF(O185=\"\",\"\",HLOOKUP(O185,名簿!$W$4:$AV$184,180,FALSE))","v":""},"","",null,{"$f":"IF(T185=\"\",\"\",IF(I185=1,VLOOKUP(T185,男子種目コード!$D:$E,2,FALSE),IF(I185=2,VLOOKUP(T185,女子種目コード!$D:$E,2,FALSE))))","v":""},null,"","",null,null,null,null,null,null,null,null,null,null,null,null,null,0,"","",null,null,null,null,null,null,null,null,null,null,0,"",""]
[0,{"$f":"名簿!O184","v":""},null,null,{"$f":"名簿!E184","v":0},{"$f":"名簿!BD184","v":""},{"$f":"名簿!V184","v":""},{"$f":"名簿!BD184","v":""},{"$f":"名簿!U184","v":""},{"$f":"名簿!I184","v":0},{"$f":"名簿!K184","v":0},{"$f":"名簿!BK184","v":"00"},{"$f":"名簿!P184","v":""},{"$f":"IF(F186=\"\",\"\",名簿!$Q$7)","v":""},null,"",{"$f":"IF(O186=\"\",\"\",HLOOKUP(O186,名簿!$W$4:$AV$184,181,FALSE))","v":""},"","",null,{"$f":"IF(T186=\"\",\"\",IF(I186=1,VLOOKUP(T186,男子種目コード!$D:$E,2,FALSE),IF(I186=2,VLOOKUP(T186,女子種目コード!$D:$E,2,FALSE))))","v":""},null,"","",null,null,null,null,null,null,null,null,null,null,null,null,null,0,"","",null,null,null,null,null,null,null,null,null,null,0,"",""]

{"sheet":"選手権","index":8,"n_rows":187,"n_cols":67,"rows_kept":187,"cut":false,"hidden":false,"merged":[[13,44,13,45],[13,46,13,47],[13,48,13,49],[5,35,5,36],[5,44,5,45],[5,46,5,47],[5,48,5,49],[21,44,21,45],[21,46,21,47],[21,48,21,49],[29,44,29,45],[29,46,29,47],[29,48,29,49],[53,48,53,49],[37,44,37,45],[37,46,37,47],[37,48,37,49],[45,44,45,45],[45,46,45,47],[45,48,45,49]]}
[null,null,null,null,"所属名",{"$f":"名簿!B1","v":0},null,null,"三重県小学生選手権"]
[null,null,null,null,"所属コード",{"$f":"名簿!O5","v":""},null,null,null,"男子参加人数",null,null,null,null,{"$f":"COUNTIF($I$7:$I$186,1)-COUNTIF($AQ$7:$AQ$186,0)","v":0},null,null,null,null,null,null,null,null,null,null,null,null,null,null,null,null,null,null,null,"3年60"]
[null,null,null,null,"監督名",{"$f":"名簿!B2","v":0},null,null,null,"女子参加人数",null,null,null,null,{"$f":"COUNTIF($I$7:$I$186,2)-COUNTIF($AR$7:$AR$186,0)","v":0}]
[null,null,null,null,"連絡先",{"$f":"名簿!G2","v":0},null,null,null,"大会参加費",null,null,null,null,{"$f":"$AC$187*1000+$BO$62*2000+AU4*800","v":0},null,null,null,null,null,null,null,null,null,null,null,null,null,null,null,null,null,null,"1年60",null,null,null,null,null,null,null,null,null,null,null,"プログラム冊数",null,"冊"]
[null,null,null,null,null,null,null,null,null,null,null,null,null,null,null,null,null,null,null,null,null,null,null,null,null,null,null,null,null,null,null,null,null,"2年60"]
["競技者コード","所属コード",null,null,"ナンバー","名前","カナ名","掲示板名","性別","学年","生年","月日","個人所属地コード","陸連コード","種目","コード","記録",null,null,"リレー","コード","記録",null,null,"コード","自己記録3","コード","自己記録4","コード","自己記録5",null,null,null,"3年60",null,"種目別人数",null,"4年100",null,null,null,"種目","男子","女子","男子4×100mR-A",null,"女子4×100mR-B",null,"混成4×100mR-A",null,null,"5･6年800",null,null,"種目","男子","女子"]
[{"$f":"T7","v":0},{"$f":"名簿!O5","v":""},null,null,{"$f":"名簿!E5","v":0},{"$f":"名簿!BD5","v":""},{"$f":"名簿!V5","v":""},{"$f":"名簿!BD5","v":""},{"$f":"名簿!U5","v":""},{"$f":"名簿!I5","v":0},{"$f":"名簿!K5","v":0},{"$f":"名簿!BK5","v":"00"},{"$f":"名簿!P5","v":""},null,null,{"$f":"IF(O7=\"\",\"\",IF(I7=1,VLOOKUP(O7,男子種目コード!$A$1:$B$35,2,FALSE),IF(I7=2,VLOOKUP(O7,女子種目コード!$A$1:$B$35,2,FALSE))))","v":""},{"$f":"IF(O7=\"\",\"\",HLOOKUP(O7,名簿!$W$4:$AV$184,2,FALSE))","v":""},{"$f":"IF(O7=\"\",\"\",0)","v":""},{"$f":"IF(O7=\"\",\"\",2)","v":""},null,{"$f":"IF(T7=\"\",\"\",IF(I7=1,VLOOKUP(T7,男子種目コード!$A$1:$B$35,2,FALSE),IF(I7=2,VLOOKUP(T7,女子種目コード!$A$1:$B$35,2,FALSE))))","v":""},null,{"$f":"IF(T7=\"\",\"\",0)","v":""},{"$f":"IF(T7=\"\",\"\",2)","v":""},null,null,null,null,null,null,null,null,null,null,{"$f":"IF(O7=\"\",\"\",1)","v":""},"男子",null,"5年100","男子A",null,{"$f":"IF(OR(AI7=1,T7=\"\"),0,1)","v":0},{"$f":"COUNT(P7,U7)","v":0},{"$f":"IF(I7=1,AP7,\"\")","v":""},{"$f":"IF(I7=2,AP7,\"\")","v":""},"記録",null,"記録",null,"記録",null,null,"5･6年80H",null,null,{"$f":"COUNT(U7,Z7)","v":0},{"$f":"IF(N7=1,BC7,\"\")","v":""},{"$f":"IF(N7=2,BC7,\"\")","v":""}]
[{"$f":"T8","v":0},{"$f":"名簿!O6","v":""},null,null,{"$f":"名簿!E6","v":0},{"$f":"名簿!BD6","v":""},{"$f":"名簿!V6","v":""},{"$f":"名簿!BD6","v":""},{"$f":"名簿!U6","v":""},{"$f":"名簿!I6","v":0},{"$f":"名簿!K6","v":0},{"$f":"名簿!BK6","v":"00"},{"$f":"名簿!P6","v":""},null,null,{"$f":"IF(O8=\"\",\"\",IF(I8=1,VLOOKUP(O8,男子種目コード!$A$1:$B$35,2,FALSE),IF(I8=2,VLOOKUP(O8,女子種目コード!$A$1:$B$35,2,FALSE))))","v":""},{"$f":"IF(O8=\"\",\"\",HLOOKUP(O8,名簿!$W$4:$AV$184,3,FALSE))","v":""},{"$f":"IF(O8=\"\",\"\",0)","v":""},{"$f":"IF(O8=\"\",\"\",2)","v":""},null,{"$f":"IF(T8=\"\",\"\",IF(I8=1,VLOOKUP(T8,男子種目コード!$A$1:$B$35,2,FALSE),IF(I8=2,VLOOKUP(T8,女子種目コード!$A$1:$B$35,2,FALSE))))","v":""},null,{"$f":"IF(T8=\"\",\"\",0)","v":""},{"$f":"IF(T8=\"\",\"\",2)","v":""},null,null,null,null,null,null,null,null,null,null,{"$f":"IF(O8=\"\",\"\",1)","v":""},"1年60",{"$f":"COUNTIF($P$7:$P$186,1)","v":0},"5年800","男子B",null,{"$f":"IF(OR(AI8=1,T8=\"\"),0,1)","v":0},{"$f":"COUNT(P8,U8)","v":0},{"$f":"IF(I8=1,AP8,\"\")","v":""},{"$f":"IF(I8=2,AP8,\"\")","v":""},{"$f":"IF(ISERROR(BF8),\"\",BF8)","v":""},"","","","","",null,"5年走幅跳",null,null,{"$f":"COUNT(U8,Z8)","v":0},{"$f":"IF(N8=1,BC8,\"\")","v":""},{"$f":"IF(N8=2,BC8,\"\")","v":""},{"$f":"VLookUpX(\"男子A\",$A$7:$F$186,1,5)","v":{"$error":"#N/A"}},{"$f":"VLookUpX(\"男子A\",$A$7:$F$186,1,6)","v":{"$error":"#N/A"}},{"$f":"VLookUpX(\"女子A\",$A$7:$F$186,1,5)","v":{"$error":"#N/A"}},{"$f":"VLookUpX(\"女子A\",$A$7:$F$186,1,6)","v":{"$error":"#N/A"}},{"$f":"VLookUpX(\"混成A\",$A$7:$F$186,1,5)","v":{"$error":"#N/A"}},{"$f":"VLookUpX(\"混成A\",$A$7:$F$186,1,6)","v":{"$error":"#N/A"}},{"$f":"IF(AS8=\"\",\"\",1)","v":""},{"$f":"IF(AU8=\"\",\"\",1)","v":""},{"$f":"IF(AW8=\"\",\"\",1)","v":""}]
[0,{"$f":"名簿!O7","v":""},null,null,{"$f":"名簿!E7","v":0},{"$f":"名簿!BD7","v":""},{"$f":"名簿!V7","v":""},{"$f":"名簿!BD7","v":""},{"$f":"名簿!U7","v":""},{"$f":"名簿!I7","v":0},{"$f":"名簿!K7","v":0},{"$f":"名簿!BK7","v":"00"},{"$f":"名簿!P7","v":""},null,null,{"$f":"IF(O9=\"\",\"\",IF(I9=1,VLOOKUP(O9,男子種目コード!$A$1:$B$35,2,FALSE),IF(I9=2,VLOOKUP(O9,女子種目コード!$A$1:$B$35,2,FALSE))))","v":""},{"$f":"IF(O9=\"\",\"\",HLOOKUP(O9,名簿!$W$4:$AV$184,4,FALSE))","v":""},"","",null,{"$f":"IF(T9=\"\",\"\",IF(I9=1,VLOOKUP(T9,男子種目コード!$A$1:$B$35,2,FALSE),IF(I9=2,VLOOKUP(T9,女子種目コード!$A$1:$B$35,2,FALSE))))","v":""},null,"","",null,null,null,null,null,null,null,null,null,null,"","2年60",{"$f":"COUNTIF($P$7:$P$186,2)","v":0},"5･6年80H","男子C",null,{"$f":"IF(OR(AI9=1,T9=\"\"),0,1)","v":0},{"$f":"COUNT(P9,U9)","v":0},{"$f":"IF(I9=1,AP9,\"\")","v":""},{"$f":"IF(I9=2,AP9,\"\")","v":""},"","","","","","",{"$f":"IF(AX27>0,1,0)","v":1},"5･6年ボール投",null,null,{"$f":"COUNT(U9,Z9)","v":0},{"$f":"IF(N9=1,BC9,\"\")","v":""},{"$f":"IF(N9=2,BC9,\"\")","v":""},{"$f":"VLookUpX(\"男子A\",$A$7:$F$186,2,5)","v":{"$error":"#N/A"}},{"$f":"VLookUpX(\"男子A\",$A$7:$F$186,2,6)","v":{"$error":"#N/A"}},{"$f":"VLookUpX(\"女子A\",$A$7:$F$186,2,5)","v":{"$error":"#N/A"}},{"$f":"VLookUpX(\"女子A\",$A$7:$F$186,2,6)","v":{"$error":"#N/A"}},{"$f":"VLookUpX(\"混成A\",$A$7:$F$186,2,5)","v":{"$error":"#N/A"}},{"$f":"VLookUpX(\"混成A\",$A$7:$F$186,2,6)","v":{"$error":"#N/A"}}]
[0,{"$f":"名簿!O8","v":""},null,null,{"$f":"名簿!E8","v":0},{"$f":"名簿!BD8","v":""},{"$f":"名簿!V8","v":""},{"$f":"名簿!BD8","v":""},{"$f":"名簿!U8","v":""},{"$f":"名簿!I8","v":0},{"$f":"名簿!K8","v":0},{"$f":"名簿!BK8","v":"00"},{"$f":"名簿!P8","v":""},null,null,{"$f":"IF(O10=\"\",\"\",IF(I10=1,VLOOKUP(O10,男子種目コード!$A$1:$B$35,2,FALSE),IF(I10=2,VLOOKUP(O10,女子種目コード!$A$1:$B$35,2,FALSE))))","v":""},{"$f":"IF(O10=\"\",\"\",HLOOKUP(O10,名簿!$W$4:$AV$184,5,FALSE))","v":""},"","",null,{"$f":"IF(T10=\"\",\"\",IF(I10=1,VLOOKUP(T10,男子種目コード!$A$1:$B$35,2,FALSE),IF(I10=2,VLOOKUP(T10,女子種目コード!$A$1:$B$35,2,FALSE))))","v":""},null,"","",null,null,null,null,null,null,null,null,null,null,"","3年60",{"$f":"COUNTIF($P$7:$P$186,3)","v":0},"5･6年走高跳","男子D",null,{"$f":"IF(OR(AI10=1,T10=\"\"),0,1)","v":0},{"$f":"COUNT(P10,U10)","v":0},{"$f":"IF(I10=1,AP10,\"\")","v":""},{"$f":"IF(I10=2,AP10,\"\")","v":""},"","","","","","",{"$f":"IF(AX28>0,1,0)","v":1},"6年100",null,null,{"$f":"COUNT(U10,Z10)","v":0},{"$f":"IF(N10=1,BC10,\"\")","v":""},{"$f":"IF(N10=2,BC10,\"\")","v":""},{"$f":"VLookUpX(\"男子A\",$A$7:$F$186,3,5)","v":{"$error":"#N/A"}},{"$f":"VLookUpX(\"男子A\",$A$7:$F$186,3,6)","v":{"$error":"#N/A"}},{"$f":"VLookUpX(\"女子A\",$A$7:$F$186,3,5)","v":{"$error":"#N/A"}},{"$f":"VLookUpX(\"女子A\",$A$7:$F$186,3,6)","v":{"$error":"#N/A"}},{"$f":"VLookUpX(\"混成A\",$A$7:$F$186,3,5)","v":{"$error":"#N/A"}},{"$f":"VLookUpX(\"混成A\",$A$7:$F$186,3,6)","v":{"$error":"#N/A"}}]
[0,{"$f":"名簿!O9","v":""},null,null,{"$f":"名簿!E9","v":0},{"$f":"名簿!BD9","v":""},{"$f":"名簿!V9","v":""},{"$f":"名簿!BD9","v":""},{"$f":"名簿!U9","v":""},{"$f":"名簿!I9","v":0},{"$f":"名簿!K9","v":0},{"$f":"名簿!BK9","v":"00"},{"$f":"名簿!P9","v":""},null,null,{"$f":"IF(O11=\"\",\"\",IF(I11=1,VLOOKUP(O11,男子種目コード!$A$1:$B$35,2,FALSE),IF(I11=2,VLOOKUP(O11,女子種目コード!$A$1:$B$35,2,FALSE))))","v":""},{"$f":"IF(O11=\"\",\"\",HLOOKUP(O11,名簿!$W$4:$AV$184,6,FALSE))","v":""},"","",null,{"$f":"IF(T11=\"\",\"\",IF(I11=1,VLOOKUP(T11,男子種目コード!$A$1:$B$35,2,FALSE),IF(I11=2,VLOOKUP(T11,女子種目コード!$A$1:$B$35,2,FALSE))))","v":""},null,"","",null,null,null,null,null,null,null,null,null,null,"","4年100",{"$f":"COUNTIF($P$7:$P$186,4)","v":0},"5年走幅跳","女子A",null,{"$f":"IF(OR(AI11=1,T11=\"\"),0,1)","v":0},{"$f":"COUNT(P11,U11)","v":0},{"$f":"IF(I11=1,AP11,\"\")","v":""},{"$f":"IF(I11=2,AP11,\"\")","v":""},"","","","","","",{"$f":"IF(AX29>0,1,0)","v":1},"6年800",null,null,{"$f":"COUNT(U11,Z11)","v":0},{"$f":"IF(N11=1,BC11,\"\")","v":""},{"$f":"IF(N11=2,BC11,\"\")","v":""},{"$f":"VLookUpX(\"男子A\",$A$7:$F$186,4,5)","v":{"$error":"#N/A"}},{"$f":"VLookUpX(\"男子A\",$A$7:$F$186,4,6)","v":{"$error":"#N/A"}},{"$f":"VLookUpX(\"女子A\",$A$7:$F$186,4,5)","v":{"$error":"#N/A"}},{"$f":"VLookUpX(\"女子A\",$A$7:$F$186,4,6)","v":{"$error":"#N/A"}},{"$f":"VLookUpX(\"混成A\",$A$7:$F$186,4,5)","v":{"$error":"#N/A"}},{"$f":"VLookUpX(\"混成A\",$A$7:$F$186,4,6)","v":{"$error":"#N/A"}}]
[0,{"$f":"名簿!O10","v":""},null,null,{"$f":"名簿!E10","v":0},{"$f":"名簿!BD10","v":""},{"$f":"名簿!V10","v":""},{"$f":"名簿!BD10","v":""},{"$f":"名簿!U10","v":""},{"$f":"名簿!I10","v":0},{"$f":"名簿!K10","v":0},{"$f":"名簿!BK10","v":"00"},{"$f":"名簿!P10","v":""},null,null,{"$f":"IF(O12=\"\",\"\",IF(I12=1,VLOOKUP(O12,男子種目コード!$A$1:$B$35,2,FALSE),IF(I12=2,VLOOKUP(O12,女子種目コード!$A$1:$B$35,2,FALSE))))","v":""},{"$f":"IF(O12=\"\",\"\",HLOOKUP(O12,名簿!$W$4:$AV$184,7,FALSE))","v":""},"","",null,{"$f":"IF(T12=\"\",\"\",IF(I12=1,VLOOKUP(T12,男子種目コード!$A$1:$B$35,2,FALSE),IF(I12=2,VLOOKUP(T12,女子種目コード!$A$1:$B$35,2,FALSE))))","v":""},null,"","",null,null,null,null,null,null,null,null,null,null,"","5年100",{"$f":"COUNTIF($P$7:$P$186,5)","v":0},"5･6年ｼﾞｬﾍﾞﾘｯｸ","女子B",null,{"$f":"IF(OR(AI12=1,T12=\"\"),0,1)","v":0},{"$f":"COUNT(P12,U12)","v":0},{"$f":"IF(I12=1,AP12,\"\")","v":""},{"$f":"IF(I12=2,AP12,\"\")","v":""},"","","","","","",{"$f":"IF(AX30>0,1,0)","v":0},"5･6年80H",null,null,{"$f":"COUNT(U12,Z12)","v":0},{"$f":"IF(N12=1,BC12,\"\")","v":""},{"$f":"IF(N12=2,BC12,\"\")","v":""},{"$f":"VLookUpX(\"男子A\",$A$7:$F$186,5,5)","v":{"$error":"#N/A"}},{"$f":"VLookUpX(\"男子A\",$A$7:$F$186,5,6)","v":{"$error":"#N/A"}},{"$f":"VLookUpX(\"女子A\",$A$7:$F$186,5,5)","v":{"$error":"#N/A"}},{"$f":"VLookUpX(\"女子A\",$A$7:$F$186,5,6)","v":{"$error":"#N/A"}},{"$f":"VLookUpX(\"混成A\",$A$7:$F$186,5,5)","v":{"$error":"#N/A"}},{"$f":"VLookUpX(\"混成A\",$A$7:$F$186,5,6)","v":{"$error":"#N/A"}}]
[0,{"$f":"名簿!O11","v":""},null,null,{"$f":"名簿!E11","v":0},{"$f":"名簿!BD11","v":""},{"$f":"名簿!V11","v":""},{"$f":"名簿!BD11","v":""},{"$f":"名簿!U11","v":""},{"$f":"名簿!I11","v":0},{"$f":"名簿!K11","v":0},{"$f":"名簿!BK11","v":"00"},{"$f":"名簿!P11","v":""},null,null,{"$f":"IF(O13=\"\",\"\",IF(I13=1,VLOOKUP(O13,男子種目コード!$A$1:$B$35,2,FALSE),IF(I13=2,VLOOKUP(O13,女子種目コード!$A$1:$B$35,2,FALSE))))","v":""},{"$f":"IF(O13=\"\",\"\",HLOOKUP(O13,名簿!$W$4:$AV$184,8,FALSE))","v":""},"","",null,{"$f":"IF(T13=\"\",\"\",IF(I13=1,VLOOKUP(T13,男子種目コード!$A$1:$B$35,2,FALSE),IF(I13=2,VLOOKUP(T13,女子種目コード!$A$1:$B$35,2,FALSE))))","v":""},null,"","",null,null,null,null,null,null,null,null,null,null,"","6年100",{"$f":"COUNTIF($P$7:$P$186,6)","v":0},"6年100","女子C",null,0,0,"","",{"$f":"IF(ISERROR(BF13),\"\",BF13)","v":""},{"$f":"IF(ISERROR(BG13),\"\",BG13)","v":""},{"$f":"IF(ISERROR(BH13),\"\",BH13)","v":""},{"$f":"IF(ISERROR(BI13),\"\",BI13)","v":""},"","",0,"6年走幅跳",null,null,0,"","",{"$f":"VLookUpX(\"男子A\",$A$7:$F$186,6,5)","v":{"$error":"#N/A"}},{"$f":"VLookUpX(\"男子A\",$A$7:$F$186,6,6)","v":{"$error":"#N/A"}},{"$f":"VLookUpX(\"女子A\",$A$7:$F$186,6,5)","v":{"$error":"#N/A"}},{"$f":"VLookUpX(\"女子A\",$A$7:$F$186,6,6)","v":{"$error":"#N/A"}},{"$f":"VLookUpX(\"混成A\",$A$7:$F$186,6,5)","v":{"$error":"#N/A"}},{"$f":"VLookUpX(\"混成A\",$A$7:$F$186,6,6)","v":{"$error":"#N/A"}}]
[0,{"$f":"名簿!O12","v":""},null,null,{"$f":"名簿!E12","v":0},{"$f":"名簿!BD12","v":""},{"$f":"名簿!V12","v":""},{"$f":"名簿!BD12","v":""},{"$f":"名簿!U12","v":""},{"$f":"名簿!I12","v":0},{"$f":"名簿!K12","v":0},{"$f":"名簿!BK12","v":"00"},{"$f":"名簿!P12","v":""},null,null,{"$f":"IF(O14=\"\",\"\",IF(I14=1,VLOOKUP(O14,男子種目コード!$A$1:$B$35,2,FALSE),IF(I14=2,VLOOKUP(O14,女子種目コード!$A$1:$B$35,2,FALSE))))","v":""},{"$f":"IF(O14=\"\",\"\",HLOOKUP(O14,名簿!$W$4:$AV$184,9,FALSE))","v":""},"","",null,{"$f":"IF(T14=\"\",\"\",IF(I14=1,VLOOKUP(T14,男子種目コード!$A$1:$B$35,2,FALSE),IF(I14=2,VLOOKUP(T14,女子種目コード!$A$1:$B$35,2,FALSE))))","v":""},null,"","",null,null,null,null,null,null,null,null,null,null,"","5年800",{"$f":"COUNTIF($P$7:$P$186,7)","v":0},"6年800","女子D",null,0,0,"","","男子4×100mR-B",null,"女子4×100mR-B",null,"男子4×100mR-B",null,1,"5･6年ボール投",null,null,0,"",""]
[0,{"$f":"名簿!O13","v":""},null,null,{"$f":"名簿!E13","v":0},{"$f":"名簿!BD13","v":""},{"$f":"名簿!V13","v":""},{"$f":"名簿!BD13","v":""},{"$f":"名簿!U13","v":""},{"$f":"名簿!I13","v":0},{"$f":"名簿!K13","v":0},{"$f":"名簿!BK13","v":"00"},{"$f":"名簿!P13","v":""},null,null,{"$f":"IF(O15=\"\",\"\",IF(I15=1,VLOOKUP(O15,男子種目コード!$A$1:$B$35,2,FALSE),IF(I15=2,VLOOKUP(O15,女子種目コード!$A$1:$B$35,2,FALSE))))","v":""},{"$f":"IF(O15=\"\",\"\",HLOOKUP(O15,名簿!$W$4:$AV$184,10,FALSE))","v":""},"","",null,{"$f":"IF(T15=\"\",\"\",IF(I15=1,VLOOKUP(T15,男子種目コード!$A$1:$B$35,2,FALSE),IF(I15=2,VLOOKUP(T15,女子種目コード!$A$1:$B$35,2,FALSE))))","v":""},null,"","",null,null,null,null,null,null,null,null,null,null,"","6年800",{"$f":"COUNTIF($P$7:$P$186,8)","v":0},"5･6年80H",null,null,0,0,"","","記録",null,"記録",null,"記録",null,null,"混成A",null,null,0,"",""]
[0,{"$f":"名簿!O14","v":""},null,null,{"$f":"名簿!E14","v":0},{"$f":"名簿!BD14","v":""},{"$f":"名簿!V14","v":""},{"$f":"名簿!BD14","v":""},{"$f":"名簿!U14","v":""},{"$f":"名簿!I14","v":0},{"$f":"名簿!K14","v":0},{"$f":"名簿!BK14","v":"00"},{"$f":"名簿!P14","v":""},null,null,{"$f":"IF(O16=\"\",\"\",IF(I16=1,VLOOKUP(O16,男子種目コード!$A$1:$B$35,2,FALSE),IF(I16=2,VLOOKUP(O16,女子種目コード!$A$1:$B$35,2,FALSE))))","v":""},{"$f":"IF(O16=\"\",\"\",HLOOKUP(O16,名簿!$W$4:$AV$184,11,FALSE))","v":""},"","",null,{"$f":"IF(T16=\"\",\"\",IF(I16=1,VLOOKUP(T16,男子種目コード!$A$1:$B$35,2,FALSE),IF(I16=2,VLOOKUP(T16,女子種目コード!$A$1:$B$35,2,FALSE))))","v":""},null,"","",null,null,null,null,null,null,null,null,null,null,"","5･6年80H",{"$f":"COUNTIF($P$7:$P$186,10)","v":0},"5･6年走高跳",null,null,0,0,"","",{"$f":"IF(ISERROR(BF16),\"\",BF16)","v":""},"","","","","",null,"混成B",null,null,0,"","",{"$f":"VLookUpX(\"男子B\",$A$7:$F$186,1,5)","v":{"$error":"#N/A"}},{"$f":"VLookUpX(\"男子B\",$A$7:$F$186,1,6)","v":{"$error":"#N/A"}},{"$f":"VLookUpX(\"女子B\",$A$7:$F$186,1,5)","v":{"$error":"#N/A"}},{"$f":"VLookUpX(\"女子B\",$A$7:$F$186,1,6)","v":{"$error":"#N/A"}},{"$f":"VLookUpX(\"混成B\",$A$7:$F$186,1,5)","v":{"$error":"#N/A"}},{"$f":"VLookUpX(\"混成B\",$A$7:$F$186,1,6)","v":{"$error":"#N/A"}},{"$f":"IF(AS16=\"\",\"\",1)","v":""},{"$f":"IF(AU16=\"\",\"\",1)","v":""},{"$f":"IF(AW16=\"\",\"\",1)","v":""}]
[0,{"$f":"名簿!O15","v":""},null,null,{"$f":"名簿!E15","v":0},{"$f":"名簿!BD15","v":""},{"$f":"名簿!V15","v":""},{"$f":"名簿!BD15","v":""},{"$f":"名簿!U15","v":""},{"$f":"名簿!I15","v":0},{"$f":"名簿!K15","v":0},{"$f":"名簿!BK15","v":"00"},{"$f":"名簿!P15","v":""},null,null,{"$f":"IF(O17=\"\",\"\",IF(I17=1,VLOOKUP(O17,男子種目コード!$A$1:$B$35,2,FALSE),IF(I17=2,VLOOKUP(O17,女子種目コード!$A$1:$B$35,2,FALSE))))","v":""},{"$f":"IF(O17=\"\",\"\",HLOOKUP(O17,名簿!$W$4:$AV$184,12,FALSE))","v":""},"","",null,{"$f":"IF(T17=\"\",\"\",IF(I17=1,VLOOKUP(T17,男子種目コード!$A$1:$B$35,2,FALSE),IF(I17=2,VLOOKUP(T17,女子種目コード!$A$1:$B$35,2,FALSE))))","v":""},null,"","",null,null,null,null,null,null,null,null,null,null,"","5･6年走高跳",{"$f":"COUNTIF($P$7:$P$186,13)","v":0},"6年走幅跳",null,null,0,0,"","","","","","","","",1,"混成C",null,null,0,"","",{"$f":"VLookUpX(\"男子B\",$A$7:$F$186,2,5)","v":{"$error":"#N/A"}},{"$f":"VLookUpX(\"男子B\",$A$7:$F$186,2,6)","v":{"$error":"#N/A"}},{"$f":"VLookUpX(\"女子B\",$A$7:$F$186,2,5)","v":{"$error":"#N/A"}},{"$f":"VLookUpX(\"女子B\",$A$7:$F$186,2,6)","v":{"$error":"#N/A"}},{"$f":"VLookUpX(\"混成B\",$A$7:$F$186,2,5)","v":{"$error":"#N/A"}},{"$f":"VLookUpX(\"混成B\",$A$7:$F$186,2,6)","v":{"$error":"#N/A"}}]
[0,{"$f":"名簿!O16","v":""},null,null,{"$f":"名簿!E16","v":0},{"$f":"名簿!BD16","v":""},{"$f":"名簿!V16","v":""},{"$f":"名簿!BD16","v":""},{"$f":"名簿!U16","v":""},{"$f":"名簿!I16","v":0},{"$f":"名簿!K16","v":0},{"$f":"名簿!BK16","v":"00"},{"$f":"名簿!P16","v":""},null,null,{"$f":"IF(O18=\"\",\"\",IF(I18=1,VLOOKUP(O18,男子種目コード!$A$1:$B$35,2,FALSE),IF(I18=2,VLOOKUP(O18,女子種目コード!$A$1:$B$35,2,FALSE))))","v":""},{"$f":"IF(O18=\"\",\"\",HLOOKUP(O18,名簿!$W$4:$AV$184,13,FALSE))","v":""},"","",null,{"$f":"IF(T18=\"\",\"\",IF(I18=1,VLOOKUP(T18,男子種目コード!$A$1:$B$35,2,FALSE),IF(I18=2,VLOOKUP(T18,女子種目コード!$A$1:$B$35,2,FALSE))))","v":""},null,"","",null,null,null,null,null,null,null,null,null,null,"","5年走幅跳",{"$f":"COUNTIF($P$7:$P$186,14)","v":0},"5･6年ｼﾞｬﾍﾞﾘｯｸ",null,null,0,0,"","","","","","","","",1,"混成D",null,null,0,"","",{"$f":"VLookUpX(\"男子B\",$A$7:$F$186,3,5)","v":{"$error":"#N/A"}},{"$f":"VLookUpX(\"男子B\",$A$7:$F$186,3,6)","v":{"$error":"#N/A"}},{"$f":"VLookUpX(\"女子B\",$A$7:$F$186,3,5)","v":{"$error":"#N/A"}},{"$f":"VLookUpX(\"女子B\",$A$7:$F$186,3,6)","v":{"$error":"#N/A"}},{"$f":"VLookUpX(\"混成B\",$A$7:$F$186,3,5)","v":{"$error":"#N/A"}},{"$f":"VLookUpX(\"混成B\",$A$7:$F$186,3,6)","v":{"$error":"#N/A"}}]
[0,{"$f":"名簿!O17","v":""},null,null,{"$f":"名簿!E17","v":0},{"$f":"名簿!BD17","v":""},{"$f":"名簿!V17","v":""},{"$f":"名簿!BD17","v":""},{"$f":"名簿!U17","v":""},{"$f":"名簿!I17","v":0},{"$f":"名簿!K17","v":0},{"$f":"名簿!BK17","v":"00"},{"$f":"名簿!P17","v":""},null,null,{"$f":"IF(O19=\"\",\"\",IF(I19=1,VLOOKUP(O19,男子種目コード!$A$1:$B$35,2,FALSE),IF(I19=2,VLOOKUP(O19,女子種目コード!$A$1:$B$35,2,FALSE))))","v":""},{"$f":"IF(O19=\"\",\"\",HLOOKUP(O19,名簿!$W$4:$AV$184,14,FALSE))","v":""},"","",null,{"$f":"IF(T19=\"\",\"\",IF(I19=1,VLOOKUP(T19,男子種目コード!$A$1:$B$35,2,FALSE),IF(I19=2,VLOOKUP(T19,女子種目コード!$A$1:$B$35,2,FALSE))))","v":""},null,"","",null,null,null,null,null,null,null,null,null,null,"","6年走幅跳",{"$f":"COUNTIF($P$7:$P$186,15)","v":0},"混成A",null,null,0,0,"","","","","","","","",1,"混成E",null,null,0,"","",{"$f":"VLookUpX(\"男子B\",$A$7:$F$186,4,5)","v":{"$error":"#N/A"}},{"$f":"VLookUpX(\"男子B\",$A$7:$F$186,4,6)","v":{"$error":"#N/A"}},{"$f":"VLookUpX(\"女子B\",$A$7:$F$186,4,5)","v":{"$error":"#N/A"}},{"$f":"VLookUpX(\"女子B\",$A$7:$F$186,4,6)","v":{"$error":"#N/A"}},{"$f":"VLookUpX(\"混成B\",$A$7:$F$186,4,5)","v":{"$error":"#N/A"}},{"$f":"VLookUpX(\"混成B\",$A$7:$F$186,4,6)","v":{"$error":"#N/A"}}]
[0,{"$f":"名簿!O18","v":""},null,null,{"$f":"名簿!E18","v":0},{"$f":"名簿!BD18","v":""},{"$f":"名簿!V18","v":""},{"$f":"名簿!BD18","v":""},{"$f":"名簿!U18","v":""},{"$f":"名簿!I18","v":0},{"$f":"名簿!K18","v":0},{"$f":"名簿!BK18","v":"00"},{"$f":"名簿!P18","v":""},null,null,{"$f":"IF(O20=\"\",\"\",IF(I20=1,VLOOKUP(O20,男子種目コード!$A$1:$B$35,2,FALSE),IF(I20=2,VLOOKUP(O20,女子種目コード!$A$1:$B$35,2,FALSE))))","v":""},{"$f":"IF(O20=\"\",\"\",HLOOKUP(O20,名簿!$W$4:$AV$184,15,FALSE))","v":""},"","",null,{"$f":"IF(T20=\"\",\"\",IF(I20=1,VLOOKUP(T20,男子種目コード!$A$1:$B$35,2,FALSE),IF(I20=2,VLOOKUP(T20,女子種目コード!$A$1:$B$35,2,FALSE))))","v":""},null,"","",null,null,null,null,null,null,null,null,null,null,"","5･6年ｼﾞｬﾍﾞﾘｯｸ",{"$f":"COUNTIF($P$7:$P$186,17)","v":0},"混成B",null,null,0,0,"","","","","","","","",0,"混成F",null,null,0,"","",{"$f":"VLookUpX(\"男子B\",$A$7:$F$186,5,5)","v":{"$error":"#N/A"}},{"$f":"VLookUpX(\"男子B\",$A$7:$F$186,5,6)","v":{"$error":"#N/A"}},{"$f":"VLookUpX(\"女子B\",$A$7:$F$186,5,5)","v":{"$error":"#N/A"}},{"$f":"VLookUpX(\"女子B\",$A$7:$F$186,5,6)","v":{"$error":"#N/A"}},{"$f":"VLookUpX(\"混成B\",$A$7:$F$186,5,5)","v":{"$error":"#N/A"}},{"$f":"VLookUpX(\"混成B\",$A$7:$F$186,5,6)","v":{"$error":"#N/A"}}]
[0,{"$f":"名簿!O19","v":""},null,null,{"$f":"名簿!E19","v":0},{"$f":"名簿!BD19","v":""},{"$f":"名簿!V19","v":""},{"$f":"名簿!BD19","v":""},{"$f":"名簿!U19","v":""},{"$f":"名簿!I19","v":0},{"$f":"名簿!K19","v":0},{"$f":"名簿!BK19","v":"00"},{"$f":"名簿!P19","v":""},null,null,{"$f":"IF(O21=\"\",\"\",IF(I21=1,VLOOKUP(O21,男子種目コード!$A$1:$B$35,2,FALSE),IF(I21=2,VLOOKUP(O21,女子種目コード!$A$1:$B$35,2,FALSE))))","v":""},{"$f":"IF(O21=\"\",\"\",HLOOKUP(O21,名簿!$W$4:$AV$184,16,FALSE))","v":""},"","",null,{"$f":"IF(T21=\"\",\"\",IF(I21=1,VLOOKUP(T21,男子種目コード!$A$1:$B$35,2,FALSE),IF(I21=2,VLOOKUP(T21,女子種目コード!$A$1:$B$35,2,FALSE))))","v":""},null,"","",null,null,null,null,null,null,null,null,null,null,"","計",{"$f":"SUM(AK10:AK20)","v":0},"混成C",null,null,0,0,"","",{"$f":"IF(ISERROR(BF21),\"\",BF21)","v":""},{"$f":"IF(ISERROR(BG21),\"\",BG21)","v":""},{"$f":"IF(ISERROR(BH21),\"\",BH21)","v":""},{"$f":"IF(ISERROR(BI21),\"\",BI21)","v":""},"","",0,"混成G",null,null,0,"","",{"$f":"VLookUpX(\"男子B\",$A$7:$F$186,6,5)","v":{"$error":"#N/A"}},{"$f":"VLookUpX(\"男子B\",$A$7:$F$186,6,6)","v":{"$error":"#N/A"}},{"$f":"VLookUpX(\"女子B\",$A$7:$F$186,6,5)","v":{"$error":"#N/A"}},{"$f":"VLookUpX(\"女子B\",$A$7:$F$186,6,6)","v":{"$error":"#N/A"}},{"$f":"VLookUpX(\"混成B\",$A$7:$F$186,6,5)","v":{"$error":"#N/A"}},{"$f":"VLookUpX(\"混成B\",$A$7:$F$186,6,6)","v":{"$error":"#N/A"}}]
[0,{"$f":"名簿!O20","v":""},null,null,{"$f":"名簿!E20","v":0},{"$f":"名簿!BD20","v":""},{"$f":"名簿!V20","v":""},{"$f":"名簿!BD20","v":""},{"$f":"名簿!U20","v":""},{"$f":"名簿!I20","v":0},{"$f":"名簿!K20","v":0},{"$f":"名簿!BK20","v":"00"},{"$f":"名簿!P20","v":""},null,null,{"$f":"IF(O22=\"\",\"\",IF(I22=1,VLOOKUP(O22,男子種目コード!$A$1:$B$35,2,FALSE),IF(I22=2,VLOOKUP(O22,女子種目コード!$A$1:$B$35,2,FALSE))))","v":""},{"$f":"IF(O22=\"\",\"\",HLOOKUP(O22,名簿!$W$4:$AV$184,17,FALSE))","v":""},"","",null,{"$f":"IF(T22=\"\",\"\",IF(I22=1,VLOOKUP(T22,男子種目コード!$A$1:$B$35,2,FALSE),IF(I22=2,VLOOKUP(T22,女子種目コード!$A$1:$B$35,2,FALSE))))","v":""},null,"","",null,null,null,null,null,null,null,null,null,null,"","女子",null,"混成D",null,null,0,0,"","","男子4×100mR-C",null,"女子4×100mR-C",null,"混成4×100mR-C",null,0,"男子A",null,null,0,"",""]
[0,{"$f":"名簿!O21","v":""},null,null,{"$f":"名簿!E21","v":0},{"$f":"名簿!BD21","v":""},{"$f":"名簿!V21","v":""},{"$f":"名簿!BD21","v":""},{"$f":"名簿!U21","v":""},{"$f":"名簿!I21","v":0},{"$f":"名簿!K21","v":0},{"$f":"名簿!BK21","v":"00"},{"$f":"名簿!P21","v":""},null,null,{"$f":"IF(O23=\"\",\"\",IF(I23=1,VLOOKUP(O23,男子種目コード!$A$1:$B$35,2,FALSE),IF(I23=2,VLOOKUP(O23,女子種目コード!$A$1:$B$35,2,FALSE))))","v":""},{"$f":"IF(O23=\"\",\"\",HLOOKUP(O23,名簿!$W$4:$AV$184,18,FALSE))","v":""},"","",null,{"$f":"IF(T23=\"\",\"\",IF(I23=1,VLOOKUP(T23,男子種目コード!$A$1:$B$35,2,FALSE),IF(I23=2,VLOOKUP(T23,女子種目コード!$A$1:$B$35,2,FALSE))))","v":""},null,"","",null,null,null,null,null,null,null,null,null,null,"","1年60",{"$f":"COUNTIF($P$7:$P$186,21)","v":0},"男子A",null,null,0,0,"","","記録",null,"記録",null,"記録",null,null,"男子B",null,null,0,"",""]
[0,{"$f":"名簿!O22","v":""},null,null,{"$f":"名簿!E22","v":0},{"$f":"名簿!BD22","v":""},{"$f":"名簿!V22","v":""},{"$f":"名簿!BD22","v":""},{"$f":"名簿!U22","v":""},{"$f":"名簿!I22","v":0},{"$f":"名簿!K22","v":0},{"$f":"名簿!BK22","v":"00"},{"$f":"名簿!P22","v":""},null,null,{"$f":"IF(O24=\"\",\"\",IF(I24=1,VLOOKUP(O24,男子種目コード!$A$1:$B$35,2,FALSE),IF(I24=2,VLOOKUP(O24,女子種目コード!$A$1:$B$35,2,FALSE))))","v":""},{"$f":"IF(O24=\"\",\"\",HLOOKUP(O24,名簿!$W$4:$AV$184,19,FALSE))","v":""},"","",null,{"$f":"IF(T24=\"\",\"\",IF(I24=1,VLOOKUP(T24,男子種目コード!$A$1:$B$35,2,FALSE),IF(I24=2,VLOOKUP(T24,女子種目コード!$A$1:$B$35,2,FALSE))))","v":""},null,"","",null,null,null,null,null,null,null,null,null,null,"","2年60",{"$f":"COUNTIF($P$7:$P$186,22)","v":0},"男子B",null,null,0,0,"","",{"$f":"IF(ISERROR(BF24),\"\",BF24)","v":""},"","","","","",null,"男子C",null,null,0,"","",{"$f":"VLookUpX(\"男子C\",$A$7:$F$186,1,5)","v":{"$error":"#N/A"}},{"$f":"VLookUpX(\"男子C\",$A$7:$F$186,1,6)","v":{"$error":"#N/A"}},{"$f":"VLookUpX(\"女子C\",$A$7:$F$186,1,5)","v":{"$error":"#N/A"}},{"$f":"VLookUpX(\"女子C\",$A$7:$F$186,1,6)","v":{"$error":"#N/A"}},{"$f":"VLookUpX(\"混成C\",$A$7:$F$186,1,5)","v":{"$error":"#N/A"}},{"$f":"VLookUpX(\"混成C\",$A$7:$F$186,1,6)","v":{"$error":"#N/A"}},{"$f":"IF(AS24=\"\",\"\",1)","v":""},{"$f":"IF(AU24=\"\",\"\",1)","v":""},{"$f":"IF(AW24=\"\",\"\",1)","v":""}]
[0,{"$f":"名簿!O23","v":""},null,null,{"$f":"名簿!E23","v":0},{"$f":"名簿!BD23","v":""},{"$f":"名簿!V23","v":""},{"$f":"名簿!BD23","v":""},{"$f":"名簿!U23","v":""},{"$f":"名簿!I23","v":0},{"$f":"名簿!K23","v":0},{"$f":"名簿!BK23","v":"00"},{"$f":"名簿!P23","v":""},null,null,{"$f":"IF(O25=\"\",\"\",IF(I25=1,VLOOKUP(O25,男子種目コード!$A$1:$B$35,2,FALSE),IF(I25=2,VLOOKUP(O25,女子種目コード!$A$1:$B$35,2,FALSE))))","v":""},{"$f":"IF(O25=\"\",\"\",HLOOKUP(O25,名簿!$W$4:$AV$184,20,FALSE))","v":""},"","",null,{"$f":"IF(T25=\"\",\"\",IF(I25=1,VLOOKUP(T25,男子種目コード!$A$1:$B$35,2,FALSE),IF(I25=2,VLOOKUP(T25,女子種目コード!$A$1:$B$35,2,FALSE))))","v":""},null,"","",null,null,null,null,null,null,null,null,null,null,"","3年60",{"$f":"COUNTIF($P$7:$P$186,23)","v":0},"男子C",null,null,0,0,"","","","","","","","",0,"男子D",null,null,0,"","",{"$f":"VLookUpX(\"男子C\",$A$7:$F$186,2,5)","v":{"$error":"#N/A"}},{"$f":"VLookUpX(\"男子C\",$A$7:$F$186,2,6)","v":{"$error":"#N/A"}},{"$f":"VLookUpX(\"女子C\",$A$7:$F$186,2,5)","v":{"$error":"#N/A"}},{"$f":"VLookUpX(\"女子C\",$A$7:$F$186,2,6)","v":{"$error":"#N/A"}},{"$f":"VLookUpX(\"混成C\",$A$7:$F$186,2,5)","v":{"$error":"#N/A"}},{"$f":"VLookUpX(\"混成C\",$A$7:$F$186,2,6)","v":{"$error":"#N/A"}}]
[0,{"$f":"名簿!O24","v":""},null,null,{"$f":"名簿!E24","v":0},{"$f":"名簿!BD24","v":""},{"$f":"名簿!V24","v":""},{"$f":"名簿!BD24","v":""},{"$f":"名簿!U24","v":""},{"$f":"名簿!I24","v":0},{"$f":"名簿!K24","v":0},{"$f":"名簿!BK24","v":"00"},{"$f":"名簿!P24","v":""},null,null,{"$f":"IF(O26=\"\",\"\",IF(I26=1,VLOOKUP(O26,男子種目コード!$A$1:$B$35,2,FALSE),IF(I26=2,VLOOKUP(O26,女子種目コード!$A$1:$B$35,2,FALSE))))","v":""},{"$f":"IF(O26=\"\",\"\",HLOOKUP(O26,名簿!$W$4:$AV$184,21,FALSE))","v":""},"","",null,{"$f":"IF(T26=\"\",\"\",IF(I26=1,VLOOKUP(T26,男子種目コード!$A$1:$B$35,2,FALSE),IF(I26=2,VLOOKUP(T26,女子種目コード!$A$1:$B$35,2,FALSE))))","v":""},null,"","",null,null,null,null,null,null,null,null,null,null,"","4年100",{"$f":"COUNTIF($P$7:$P$186,24)","v":0},"男子D",null,null,0,0,"","","","","","","","",0,"男子E",null,null,0,"","",{"$f":"VLookUpX(\"男子C\",$A$7:$F$186,3,5)","v":{"$error":"#N/A"}},{"$f":"VLookUpX(\"男子C\",$A$7:$F$186,3,6)","v":{"$error":"#N/A"}},{"$f":"VLookUpX(\"女子C\",$A$7:$F$186,3,5)","v":{"$error":"#N/A"}},{"$f":"VLookUpX(\"女子C\",$A$7:$F$186,3,6)","v":{"$error":"#N/A"}},{"$f":"VLookUpX(\"混成C\",$A$7:$F$186,3,5)","v":{"$error":"#N/A"}},{"$f":"VLookUpX(\"混成C\",$A$7:$F$186,3,6)","v":{"$error":"#N/A"}}]
[0,{"$f":"名簿!O25","v":""},null,null,{"$f":"名簿!E25","v":0},{"$f":"名簿!BD25","v":""},{"$f":"名簿!V25","v":""},{"$f":"名簿!BD25","v":""},{"$f":"名簿!U25","v":""},{"$f":"名簿!I25","v":0},{"$f":"名簿!K25","v":0},{"$f":"名簿!BK25","v":"00"},{"$f":"名簿!P25","v":""},null,null,{"$f":"IF(O27=\"\",\"\",IF(I27=1,VLOOKUP(O27,男子種目コード!$A$1:$B$35,2,FALSE),IF(I27=2,VLOOKUP(O27,女子種目コード!$A$1:$B$35,2,FALSE))))","v":""},{"$f":"IF(O27=\"\",\"\",HLOOKUP(O27,名簿!$W$4:$AV$184,22,FALSE))","v":""},"","",null,{"$f":"IF(T27=\"\",\"\",IF(I27=1,VLOOKUP(T27,男子種目コード!$A$1:$B$35,2,FALSE),IF(I27=2,VLOOKUP(T27,女子種目コード!$A$1:$B$35,2,FALSE))))","v":""},null,"","",null,null,null,null,null,null,null,null,null,null,"","5年100",{"$f":"COUNTIF($P$7:$P$186,25)","v":0},"混成A",null,null,0,0,"","","","","","","","",0,"男子F",null,null,0,"","",{"$f":"VLookUpX(\"男子C\",$A$7:$F$186,4,5)","v":{"$error":"#N/A"}},{"$f":"VLookUpX(\"男子C\",$A$7:$F$186,4,6)","v":{"$error":"#N/A"}},{"$f":"VLookUpX(\"女子C\",$A$7:$F$186,4,5)","v":{"$error":"#N/A"}},{"$f":"VLookUpX(\"女子C\",$A$7:$F$186,4,6)","v":{"$error":"#N/A"}},{"$f":"VLookUpX(\"混成C\",$A$7:$F$186,4,5)","v":{"$error":"#N/A"}},{"$f":"VLookUpX(\"混成C\",$A$7:$F$186,4,6)","v":{"$error":"#N/A"}}]
[0,{"$f":"名簿!O26","v":""},null,null,{"$f":"名簿!E26","v":0},{"$f":"名簿!BD26","v":""},{"$f":"名簿!V26","v":""},{"$f":"名簿!BD26","v":""},{"$f":"名簿!U26","v":""},{"$f":"名簿!I26","v":0},{"$f":"名簿!K26","v":0},{"$f":"名簿!BK26","v":"00"},{"$f":"名簿!P26","v":""},null,null,{"$f":"IF(O28=\"\",\"\",IF(I28=1,VLOOKUP(O28,男子種目コード!$A$1:$B$35,2,FALSE),IF(I28=2,VLOOKUP(O28,女子種目コード!$A$1:$B$35,2,FALSE))))","v":""},{"$f":"IF(O28=\"\",\"\",HLOOKUP(O28,名簿!$W$4:$AV$184,23,FALSE))","v":""},"","",null,{"$f":"IF(T28=\"\",\"\",IF(I28=1,VLOOKUP(T28,男子種目コード!$A$1:$B$35,2,FALSE),IF(I28=2,VLOOKUP(T28,女子種目コード!$A$1:$B$35,2,FALSE))))","v":""},null,"","",null,null,null,null,null,null,null,null,null,null,"","6年100",{"$f":"COUNTIF($P$7:$P$186,26)","v":0},"混成B",null,null,0,0,"","","","","","","","",0,"混成A",null,null,0,"","",{"$f":"VLookUpX(\"男子C\",$A$7:$F$186,5,5)","v":{"$error":"#N/A"}},{"$f":"VLookUpX(\"男子C\",$A$7:$F$186,5,6)","v":{"$error":"#N/A"}},{"$f":"VLookUpX(\"女子C\",$A$7:$F$186,5,5)","v":{"$error":"#N/A"}},{"$f":"VLookUpX(\"女子C\",$A$7:$F$186,5,6)","v":{"$error":"#N/A"}},{"$f":"VLookUpX(\"混成C\",$A$7:$F$186,5,5)","v":{"$error":"#N/A"}},{"$f":"VLookUpX(\"混成C\",$A$7:$F$186,5,6)","v":{"$error":"#N/A"}}]
[0,{"$f":"名簿!O27","v":""},null,null,{"$f":"名簿!E27","v":0},{"$f":"名簿!BD27","v":""},{"$f":"名簿!V27","v":""},{"$f":"名簿!BD27","v":""},{"$f":"名簿!U27","v":""},{"$f":"名簿!I27","v":0},{"$f":"名簿!K27","v":0},{"$f":"名簿!BK27","v":"00"},{"$f":"名簿!P27","v":""},null,null,{"$f":"IF(O29=\"\",\"\",IF(I29=1,VLOOKUP(O29,男子種目コード!$A$1:$B$35,2,FALSE),IF(I29=2,VLOOKUP(O29,女子種目コード!$A$1:$B$35,2,FALSE))))","v":""},{"$f":"IF(O29=\"\",\"\",HLOOKUP(O29,名簿!$W$4:$AV$184,24,FALSE))","v":""},"","",null,{"$f":"IF(T29=\"\",\"\",IF(I29=1,VLOOKUP(T29,男子種目コード!$A$1:$B$35,2,FALSE),IF(I29=2,VLOOKUP(T29,女子種目コード!$A$1:$B$35,2,FALSE))))","v":""},null,"","",null,null,null,null,null,null,null,null,null,null,"","5年800",{"$f":"COUNTIF($P$7:$P$186,27)","v":0},"混成C",null,null,0,0,"","",{"$f":"IF(ISERROR(BF29),\"\",BF29)","v":""},{"$f":"IF(ISERROR(BG29),\"\",BG29)","v":""},{"$f":"IF(ISERROR(BH29),\"\",BH29)","v":""},{"$f":"IF(ISERROR(BI29),\"\",BI29)","v":""},"","",0,"混成B",null,null,0,"","",{"$f":"VLookUpX(\"男子C\",$A$7:$F$186,6,5)","v":{"$error":"#N/A"}},{"$f":"VLookUpX(\"男子C\",$A$7:$F$186,6,6)","v":{"$error":"#N/A"}},{"$f":"VLookUpX(\"女子C\",$A$7:$F$186,6,5)","v":{"$error":"#N/A"}},{"$f":"VLookUpX(\"女子C\",$A$7:$F$186,6,6)","v":{"$error":"#N/A"}},{"$f":"VLookUpX(\"混成C\",$A$7:$F$186,6,5)","v":{"$error":"#N/A"}},{"$f":"VLookUpX(\"混成C\",$A$7:$F$186,6,6)","v":{"$error":"#N/A"}}]
[0,{"$f":"名簿!O28","v":""},null,null,{"$f":"名簿!E28","v":0},{"$f":"名簿!BD28","v":""},{"$f":"名簿!V28","v":""},{"$f":"名簿!BD28","v":""},{"$f":"名簿!U28","v":""},{"$f":"名簿!I28","v":0},{"$f":"名簿!K28","v":0},{"$f":"名簿!BK28","v":"00"},{"$f":"名簿!P28","v":""},null,null,{"$f":"IF(O30=\"\",\"\",IF(I30=1,VLOOKUP(O30,男子種目コード!$A$1:$B$35,2,FALSE),IF(I30=2,VLOOKUP(O30,女子種目コード!$A$1:$B$35,2,FALSE))))","v":""},{"$f":"IF(O30=\"\",\"\",HLOOKUP(O30,名簿!$W$4:$AV$184,25,FALSE))","v":""},"","",null,{"$f":"IF(T30=\"\",\"\",IF(I30=1,VLOOKUP(T30,男子種目コード!$A$1:$B$35,2,FALSE),IF(I30=2,VLOOKUP(T30,女子種目コード!$A$1:$B$35,2,FALSE))))","v":""},null,"","",null,null,null,null,null,null,null,null,null,null,"","6年800",{"$f":"COUNTIF($P$7:$P$186,28)","v":0},"混成D",null,null,0,0,"","","男子4×100mR-D",null,"女子4×100mR-D",null,"混成4×100mR-D",null,{"$f":"IF(AX48>0,1,0)","v":0},"混成C",null,null,0,"",""]
[0,{"$f":"名簿!O29","v":""},null,null,{"$f":"名簿!E29","v":0},{"$f":"名簿!BD29","v":""},{"$f":"名簿!V29","v":""},{"$f":"名簿!BD29","v":""},{"$f":"名簿!U29","v":""},{"$f":"名簿!I29","v":0},{"$f":"名簿!K29","v":0},{"$f":"名簿!BK29","v":"00"},{"$f":"名簿!P29","v":""},null,null,{"$f":"IF(O31=\"\",\"\",IF(I31=1,VLOOKUP(O31,男子種目コード!$A$1:$B$35,2,FALSE),IF(I31=2,VLOOKUP(O31,女子種目コード!$A$1:$B$35,2,FALSE))))","v":""},{"$f":"IF(O31=\"\",\"\",HLOOKUP(O31,名簿!$W$4:$AV$184,26,FALSE))","v":""},"","",null,{"$f":"IF(T31=\"\",\"\",IF(I31=1,VLOOKUP(T31,男子種目コード!$A$1:$B$35,2,FALSE),IF(I31=2,VLOOKUP(T31,女子種目コード!$A$1:$B$35,2,FALSE))))","v":""},null,"","",null,null,null,null,null,null,null,null,null,null,"","5･6年80H",{"$f":"COUNTIF($P$7:$P$186,30)","v":0},"女子A",null,null,0,0,"","","記録",null,"記録",null,"記録",null,null,"混成D",null,null,0,"",""]
[0,{"$f":"名簿!O30","v":""},null,null,{"$f":"名簿!E30","v":0},{"$f":"名簿!BD30","v":""},{"$f":"名簿!V30","v":""},{"$f":"名簿!BD30","v":""},{"$f":"名簿!U30","v":""},{"$f":"名簿!I30","v":0},{"$f":"名簿!K30","v":0},{"$f":"名簿!BK30","v":"00"},{"$f":"名簿!P30","v":""},null,null,{"$f":"IF(O32=\"\",\"\",IF(I32=1,VLOOKUP(O32,男子種目コード!$A$1:$B$35,2,FALSE),IF(I32=2,VLOOKUP(O32,女子種目コード!$A$1:$B$35,2,FALSE))))","v":""},{"$f":"IF(O32=\"\",\"\",HLOOKUP(O32,名簿!$W$4:$AV$184,27,FALSE))","v":""},"","",null,{"$f":"IF(T32=\"\",\"\",IF(I32=1,VLOOKUP(T32,男子種目コード!$A$1:$B$35,2,FALSE),IF(I32=2,VLOOKUP(T32,女子種目コード!$A$1:$B$35,2,FALSE))))","v":""},null,"","",null,null,null,null,null,null,null,null,null,null,"","5･6年走高跳",{"$f":"COUNTIF($P$7:$P$186,33)","v":0},"女子B",null,null,0,0,"","",{"$f":"IF(ISERROR(BF32),\"\",BF32)","v":""},"","","","","",null,"混成E",null,null,0,"","",{"$f":"VLookUpX(\"男子D\",$A$7:$F$186,1,5)","v":{"$error":"#N/A"}},{"$f":"VLookUpX(\"男子D\",$A$7:$F$186,1,6)","v":{"$error":"#N/A"}},{"$f":"VLookUpX(\"女子D\",$A$7:$F$186,1,5)","v":{"$error":"#N/A"}},{"$f":"VLookUpX(\"女子D\",$A$7:$F$186,1,6)","v":{"$error":"#N/A"}},{"$f":"VLookUpX(\"混成D\",$A$7:$F$186,1,5)","v":{"$error":"#N/A"}},{"$f":"VLookUpX(\"混成D\",$A$7:$F$186,1,6)","v":{"$error":"#N/A"}},{"$f":"IF(AS32=\"\",\"\",1)","v":""},{"$f":"IF(AU32=\"\",\"\",1)","v":""},{"$f":"IF(AW32=\"\",\"\",1)","v":""}]
[0,{"$f":"名簿!O31","v":""},null,null,{"$f":"名簿!E31","v":0},{"$f":"名簿!BD31","v":""},{"$f":"名簿!V31","v":""},{"$f":"名簿!BD31","v":""},{"$f":"名簿!U31","v":""},{"$f":"名簿!I31","v":0},{"$f":"名簿!K31","v":0},{"$f":"名簿!BK31","v":"00"},{"$f":"名簿!P31","v":""},null,null,{"$f":"IF(O33=\"\",\"\",IF(I33=1,VLOOKUP(O33,男子種目コード!$A$1:$B$35,2,FALSE),IF(I33=2,VLOOKUP(O33,女子種目コード!$A$1:$B$35,2,FALSE))))","v":""},{"$f":"IF(O33=\"\",\"\",HLOOKUP(O33,名簿!$W$4:$AV$184,28,FALSE))","v":""},"","",null,{"$f":"IF(T33=\"\",\"\",IF(I33=1,VLOOKUP(T33,男子種目コード!$A$1:$B$35,2,FALSE),IF(I33=2,VLOOKUP(T33,女子種目コード!$A$1:$B$35,2,FALSE))))","v":""},null,"","",null,null,null,null,null,null,null,null,null,null,"","5年走幅跳",{"$f":"COUNTIF($P$7:$P$186,34)","v":0},"女子C",null,null,0,0,"","","","","","","","",{"$f":"IF(AX51>0,1,0)","v":0},"混成F",null,null,0,"","",{"$f":"VLookUpX(\"男子D\",$A$7:$F$186,2,5)","v":{"$error":"#N/A"}},{"$f":"VLookUpX(\"男子D\",$A$7:$F$186,2,6)","v":{"$error":"#N/A"}},{"$f":"VLookUpX(\"女子D\",$A$7:$F$186,2,5)","v":{"$error":"#N/A"}},{"$f":"VLookUpX(\"女子D\",$A$7:$F$186,2,6)","v":{"$error":"#N/A"}},{"$f":"VLookUpX(\"混成D\",$A$7:$F$186,2,5)","v":{"$error":"#N/A"}},{"$f":"VLookUpX(\"混成D\",$A$7:$F$186,2,6)","v":{"$error":"#N/A"}}]
[0,{"$f":"名簿!O32","v":""},null,null,{"$f":"名簿!E32","v":0},{"$f":"名簿!BD32","v":""},{"$f":"名簿!V32","v":""},{"$f":"名簿!BD32","v":""},{"$f":"名簿!U32","v":""},{"$f":"名簿!I32","v":0},{"$f":"名簿!K32","v":0},{"$f":"名簿!BK32","v":"00"},{"$f":"名簿!P32","v":""},null,null,{"$f":"IF(O34=\"\",\"\",IF(I34=1,VLOOKUP(O34,男子種目コード!$A$1:$B$35,2,FALSE),IF(I34=2,VLOOKUP(O34,女子種目コード!$A$1:$B$35,2,FALSE))))","v":""},{"$f":"IF(O34=\"\",\"\",HLOOKUP(O34,名簿!$W$4:$AV$184,29,FALSE))","v":""},"","",null,{"$f":"IF(T34=\"\",\"\",IF(I34=1,VLOOKUP(T34,男子種目コード!$A$1:$B$35,2,FALSE),IF(I34=2,VLOOKUP(T34,女子種目コード!$A$1:$B$35,2,FALSE))))","v":""},null,"","",null,null,null,null,null,null,null,null,null,null,"","6年走幅跳",{"$f":"COUNTIF($P$7:$P$186,35)","v":0},"女子D",null,null,0,0,"","","","","","","","",0,"混成G",null,null,0,"","",{"$f":"VLookUpX(\"男子D\",$A$7:$F$186,3,5)","v":{"$error":"#N/A"}},{"$f":"VLookUpX(\"男子D\",$A$7:$F$186,3,6)","v":{"$error":"#N/A"}},{"$f":"VLookUpX(\"女子D\",$A$7:$F$186,3,5)","v":{"$error":"#N/A"}},{"$f":"VLookUpX(\"女子D\",$A$7:$F$186,3,6)","v":{"$error":"#N/A"}},{"$f":"VLookUpX(\"混成D\",$A$7:$F$186,3,5)","v":{"$error":"#N/A"}},{"$f":"VLookUpX(\"混成D\",$A$7:$F$186,3,6)","v":{"$error":"#N/A"}}]
[0,{"$f":"名簿!O33","v":""},null,null,{"$f":"名簿!E33","v":0},{"$f":"名簿!BD33","v":""},{"$f":"名簿!V33","v":""},{"$f":"名簿!BD33","v":""},{"$f":"名簿!U33","v":""},{"$f":"名簿!I33","v":0},{"$f":"名簿!K33","v":0},{"$f":"名簿!BK33","v":"00"},{"$f":"名簿!P33","v":""},null,null,{"$f":"IF(O35=\"\",\"\",IF(I35=1,VLOOKUP(O35,男子種目コード!$A$1:$B$35,2,FALSE),IF(I35=2,VLOOKUP(O35,女子種目コード!$A$1:$B$35,2,FALSE))))","v":""},{"$f":"IF(O35=\"\",\"\",HLOOKUP(O35,名簿!$W$4:$AV$184,30,FALSE))","v":""},"","",null,{"$f":"IF(T35=\"\",\"\",IF(I35=1,VLOOKUP(T35,男子種目コード!$A$1:$B$35,2,FALSE),IF(I35=2,VLOOKUP(T35,女子種目コード!$A$1:$B$35,2,FALSE))))","v":""},null,"","",null,null,null,null,null,null,null,null,null,null,"","5･6年ｼﾞｬﾍﾞﾘｯｸ",{"$f":"COUNTIF($P$7:$P$186,37)","v":0},null,null,null,0,0,"","","","","","","","",0,"女子A",null,null,0,"","",{"$f":"VLookUpX(\"男子D\",$A$7:$F$186,4,5)","v":{"$error":"#N/A"}},{"$f":"VLookUpX(\"男子D\",$A$7:$F$186,4,6)","v":{"$error":"#N/A"}},{"$f":"VLookUpX(\"女子D\",$A$7:$F$186,4,5)","v":{"$error":"#N/A"}},{"$f":"VLookUpX(\"女子D\",$A$7:$F$186,4,6)","v":{"$error":"#N/A"}},{"$f":"VLookUpX(\"混成D\",$A$7:$F$186,4,5)","v":{"$error":"#N/A"}},{"$f":"VLookUpX(\"混成D\",$A$7:$F$186,4,6)","v":{"$error":"#N/A"}}]
[0,{"$f":"名簿!O34","v":""},null,null,{"$f":"名簿!E34","v":0},{"$f":"名簿!BD34","v":""},{"$f":"名簿!V34","v":""},{"$f":"名簿!BD34","v":""},{"$f":"名簿!U34","v":""},{"$f":"名簿!I34","v":0},{"$f":"名簿!K34","v":0},{"$f":"名簿!BK34","v":"00"},{"$f":"名簿!P34","v":""},null,null,{"$f":"IF(O36=\"\",\"\",IF(I36=1,VLOOKUP(O36,男子種目コード!$A$1:$B$35,2,FALSE),IF(I36=2,VLOOKUP(O36,女子種目コード!$A$1:$B$35,2,FALSE))))","v":""},{"$f":"IF(O36=\"\",\"\",HLOOKUP(O36,名簿!$W$4:$AV$184,31,FALSE))","v":""},"","",null,{"$f":"IF(T36=\"\",\"\",IF(I36=1,VLOOKUP(T36,男子種目コード!$A$1:$B$35,2,FALSE),IF(I36=2,VLOOKUP(T36,女子種目コード!$A$1:$B$35,2,FALSE))))","v":""},null,"","",null,null,null,null,null,null,null,null,null,null,"","計",{"$f":"SUM(AK23:AK35)","v":0},null,null,null,0,0,"","","","","","","","",0,"女子B",null,null,0,"","",{"$f":"VLookUpX(\"男子D\",$A$7:$F$186,5,5)","v":{"$error":"#N/A"}},{"$f":"VLookUpX(\"男子D\",$A$7:$F$186,5,6)","v":{"$error":"#N/A"}},{"$f":"VLookUpX(\"女子D\",$A$7:$F$186,5,5)","v":{"$error":"#N/A"}},{"$f":"VLookUpX(\"女子D\",$A$7:$F$186,5,6)","v":{"$error":"#N/A"}},{"$f":"VLookUpX(\"混成D\",$A$7:$F$186,5,5)","v":{"$error":"#N/A"}},{"$f":"VLookUpX(\"混成D\",$A$7:$F$186,5,6)","v":{"$error":"#N/A"}}]
[0,{"$f":"名簿!O35","v":""},null,null,{"$f":"名簿!E35","v":0},{"$f":"名簿!BD35","v":""},{"$f":"名簿!V35","v":""},{"$f":"名簿!BD35","v":""},{"$f":"名簿!U35","v":""},{"$f":"名簿!I35","v":0},{"$f":"名簿!K35","v":0},{"$f":"名簿!BK35","v":"00"},{"$f":"名簿!P35","v":""},null,null,{"$f":"IF(O37=\"\",\"\",IF(I37=1,VLOOKUP(O37,男子種目コード!$A$1:$B$35,2,FALSE),IF(I37=2,VLOOKUP(O37,女子種目コード!$A$1:$B$35,2,FALSE))))","v":""},{"$f":"IF(O37=\"\",\"\",HLOOKUP(O37,名簿!$W$4:$AV$184,32,FALSE))","v":""},"","",null,{"$f":"IF(T37=\"\",\"\",IF(I37=1,VLOOKUP(T37,男子種目コード!$A$1:$B$35,2,FALSE),IF(I37=2,VLOOKUP(T37,女子種目コード!$A$1:$B$35,2,FALSE))))","v":""},null,"","",null,null,null,null,null,null,null,null,null,null,"","総　計",{"$f":"AK21+AK36","v":0},null,null,null,0,0,"","",{"$f":"IF(ISERROR(BF37),\"\",BF37)","v":""},{"$f":"IF(ISERROR(BG37),\"\",BG37)","v":""},{"$f":"IF(ISERROR(BH37),\"\",BH37)","v":""},{"$f":"IF(ISERROR(BI37),\"\",BI37)","v":""},"","",0,"女子C",null,null,0,"","",{"$f":"VLookUpX(\"男子D\",$A$7:$F$186,6,5)","v":{"$error":"#N/A"}},{"$f":"VLookUpX(\"男子D\",$A$7:$F$186,6,6)","v":{"$error":"#N/A"}},{"$f":"VLookUpX(\"女子D\",$A$7:$F$186,6,5)","v":{"$error":"#N/A"}},{"$f":"VLookUpX(\"女子D\",$A$7:$F$186,6,6)","v":{"$error":"#N/A"}},{"$f":"VLookUpX(\"混成D\",$A$7:$F$186,6,5)","v":{"$error":"#N/A"}},{"$f":"VLookUpX(\"混成D\",$A$7:$F$186,6,6)","v":{"$error":"#N/A"}}]
[0,{"$f":"名簿!O36","v":""},null,null,{"$f":"名簿!E36","v":0},{"$f":"名簿!BD36","v":""},{"$f":"名簿!V36","v":""},{"$f":"名簿!BD36","v":""},{"$f":"名簿!U36","v":""},{"$f":"名簿!I36","v":0},{"$f":"名簿!K36","v":0},{"$f":"名簿!BK36","v":"00"},{"$f":"名簿!P36","v":""},null,null,{"$f":"IF(O38=\"\",\"\",IF(I38=1,VLOOKUP(O38,男子種目コード!$A$1:$B$35,2,FALSE),IF(I38=2,VLOOKUP(O38,女子種目コード!$A$1:$B$35,2,FALSE))))","v":""},{"$f":"IF(O38=\"\",\"\",HLOOKUP(O38,名簿!$W$4:$AV$184,33,FALSE))","v":""},"","",null,{"$f":"IF(T38=\"\",\"\",IF(I38=1,VLOOKUP(T38,男子種目コード!$A$1:$B$35,2,FALSE),IF(I38=2,VLOOKUP(T38,女子種目コード!$A$1:$B$35,2,FALSE))))","v":""},null,"","",null,null,null,null,null,null,null,null,null,null,"",null,null,null,null,null,0,0,"","",null,null,null,null,null,null,0,"女子D",null,null,0,"",""]
[0,{"$f":"名簿!O37","v":""},null,null,{"$f":"名簿!E37","v":0},{"$f":"名簿!BD37","v":""},{"$f":"名簿!V37","v":""},{"$f":"名簿!BD37","v":""},{"$f":"名簿!U37","v":""},{"$f":"名簿!I37","v":0},{"$f":"名簿!K37","v":0},{"$f":"名簿!BK37","v":"00"},{"$f":"名簿!P37","v":""},null,null,{"$f":"IF(O39=\"\",\"\",IF(I39=1,VLOOKUP(O39,男子種目コード!$A$1:$B$35,2,FALSE),IF(I39=2,VLOOKUP(O39,女子種目コード!$A$1:$B$35,2,FALSE))))","v":""},{"$f":"IF(O39=\"\",\"\",HLOOKUP(O39,名簿!$W$4:$AV$184,34,FALSE))","v":""},"","",null,{"$f":"IF(T39=\"\",\"\",IF(I39=1,VLOOKUP(T39,男子種目コード!$A$1:$B$35,2,FALSE),IF(I39=2,VLOOKUP(T39,女子種目コード!$A$1:$B$35,2,FALSE))))","v":""},null,"","",null,null,null,null,null,null,null,null,null,null,"",null,null,null,null,null,0,0,"","",null,null,null,null,null,null,null,"女子E",null,null,0,"",""]
[0,{"$f":"名簿!O38","v":""},null,null,{"$f":"名簿!E38","v":0},{"$f":"名簿!BD38","v":""},{"$f":"名簿!V38","v":""},{"$f":"名簿!BD38","v":""},{"$f":"名簿!U38","v":""},{"$f":"名簿!I38","v":0},{"$f":"名簿!K38","v":0},{"$f":"名簿!BK38","v":"00"},{"$f":"名簿!P38","v":""},null,null,{"$f":"IF(O40=\"\",\"\",IF(I40=1,VLOOKUP(O40,男子種目コード!$A$1:$B$35,2,FALSE),IF(I40=2,VLOOKUP(O40,女子種目コード!$A$1:$B$35,2,FALSE))))","v":""},{"$f":"IF(O40=\"\",\"\",HLOOKUP(O40,名簿!$W$4:$AV$184,35,FALSE))","v":""},"","",null,{"$f":"IF(T40=\"\",\"\",IF(I40=1,VLOOKUP(T40,男子種目コード!$A$1:$B$35,2,FALSE),IF(I40=2,VLOOKUP(T40,女子種目コード!$A$1:$B$35,2,FALSE))))","v":""},null,"","",null,null,null,null,null,null,null,null,null,null,"",null,null,null,null,null,0,0,"","",null,null,null,null,null,null,null,"女子F",null,null,0,"","",{"$f":"VLookUpX(\"男子E\",$A$7:$F$186,1,5)","v":{"$error":"#N/A"}},{"$f":"VLookUpX(\"男子E\",$A$7:$F$186,1,6)","v":{"$error":"#N/A"}},{"$f":"VLookUpX(\"女子E\",$A$7:$F$186,1,5)","v":{"$error":"#N/A"}},{"$f":"VLookUpX(\"女子E\",$A$7:$F$186,1,6)","v":{"$error":"#N/A"}},{"$f":"VLookUpX(\"混成E\",$A$7:$F$186,1,5)","v":{"$error":"#N/A"}},{"$f":"VLookUpX(\"混成E\",$A$7:$F$186,1,6)","v":{"$error":"#N/A"}},{"$f":"IF(AS40=\"\",\"\",1)","v":""},{"$f":"IF(AU40=\"\",\"\",1)","v":""},{"$f":"IF(AW40=\"\",\"\",1)","v":""}]
[0,{"$f":"名簿!O39","v":""},null,null,{"$f":"名簿!E39","v":0},{"$f":"名簿!BD39","v":""},{"$f":"名簿!V39","v":""},{"$f":"名簿!BD39","v":""},{"$f":"名簿!U39","v":""},{"$f":"名簿!I39","v":0},{"$f":"名簿!K39","v":0},{"$f":"名簿!BK39","v":"00"},{"$f":"名簿!P39","v":""},null,null,{"$f":"IF(O41=\"\",\"\",IF(I41=1,VLOOKUP(O41,男子種目コード!$A$1:$B$35,2,FALSE),IF(I41=2,VLOOKUP(O41,女子種目コード!$A$1:$B$35,2,FALSE))))","v":""},{"$f":"IF(O41=\"\",\"\",HLOOKUP(O41,名簿!$W$4:$AV$184,36,FALSE))","v":""},"","",null,{"$f":"IF(T41=\"\",\"\",IF(I41=1,VLOOKUP(T41,男子種目コード!$A$1:$B$35,2,FALSE),IF(I41=2,VLOOKUP(T41,女子種目コード!$A$1:$B$35,2,FALSE))))","v":""},null,"","",null,null,null,null,null,null,null,null,null,null,"",null,null,null,null,null,0,0,"","",null,null,null,null,null,null,{"$f":"IF(AX59>0,1,0)","v":0},null,null,null,0,"","",{"$f":"VLookUpX(\"男子E\",$A$7:$F$186,2,5)","v":{"$error":"#N/A"}},{"$f":"VLookUpX(\"男子E\",$A$7:$F$186,2,6)","v":{"$error":"#N/A"}},{"$f":"VLookUpX(\"女子E\",$A$7:$F$186,2,5)","v":{"$error":"#N/A"}},{"$f":"VLookUpX(\"女子E\",$A$7:$F$186,2,6)","v":{"$error":"#N/A"}},{"$f":"VLookUpX(\"混成E\",$A$7:$F$186,2,5)","v":{"$error":"#N/A"}},{"$f":"VLookUpX(\"混成E\",$A$7:$F$186,2,6)","v":{"$error":"#N/A"}}]
[0,{"$f":"名簿!O40","v":""},null,null,{"$f":"名簿!E40","v":0},{"$f":"名簿!BD40","v":""},{"$f":"名簿!V40","v":""},{"$f":"名簿!BD40","v":""},{"$f":"名簿!U40","v":""},{"$f":"名簿!I40","v":0},{"$f":"名簿!K40","v":0},{"$f":"名簿!BK40","v":"00"},{"$f":"名簿!P40","v":""},null,null,{"$f":"IF(O42=\"\",\"\",IF(I42=1,VLOOKUP(O42,男子種目コード!$A$1:$B$35,2,FALSE),IF(I42=2,VLOOKUP(O42,女子種目コード!$A$1:$B$35,2,FALSE))))","v":""},{"$f":"IF(O42=\"\",\"\",HLOOKUP(O42,名簿!$W$4:$AV$184,37,FALSE))","v":""},"","",null,{"$f":"IF(T42=\"\",\"\",IF(I42=1,VLOOKUP(T42,男子種目コード!$A$1:$B$35,2,FALSE),IF(I42=2,VLOOKUP(T42,女子種目コード!$A$1:$B$35,2,FALSE))))","v":""},null,"","",null,null,null,null,null,null,null,null,null,null,"",null,null,null,null,null,0,0,"","",null,null,null,null,null,null,{"$f":"IF(AX60>0,1,0)","v":0},null,null,null,0,"","",{"$f":"VLookUpX(\"男子E\",$A$7:$F$186,3,5)","v":{"$error":"#N/A"}},{"$f":"VLookUpX(\"男子E\",$A$7:$F$186,3,6)","v":{"$error":"#N/A"}},{"$f":"VLookUpX(\"女子E\",$A$7:$F$186,3,5)","v":{"$error":"#N/A"}},{"$f":"VLookUpX(\"女子E\",$A$7:$F$186,3,6)","v":{"$error":"#N/A"}},{"$f":"VLookUpX(\"混成E\",$A$7:$F$186,3,5)","v":{"$error":"#N/A"}},{"$f":"VLookUpX(\"混成E\",$A$7:$F$186,3,6)","v":{"$error":"#N/A"}}]
[0,{"$f":"名簿!O41","v":""},null,null,{"$f":"名簿!E41","v":0},{"$f":"名簿!BD41","v":""},{"$f":"名簿!V41","v":""},{"$f":"名簿!BD41","v":""},{"$f":"名簿!U41","v":""},{"$f":"名簿!I41","v":0},{"$f":"名簿!K41","v":0},{"$f":"名簿!BK41","v":"00"},{"$f":"名簿!P41","v":""},null,null,{"$f":"IF(O43=\"\",\"\",IF(I43=1,VLOOKUP(O43,男子種目コード!$A$1:$B$35,2,FALSE),IF(I43=2,VLOOKUP(O43,女子種目コード!$A$1:$B$35,2,FALSE))))","v":""},{"$f":"IF(O43=\"\",\"\",HLOOKUP(O43,名簿!$W$4:$AV$184,38,FALSE))","v":""},"","",null,{"$f":"IF(T43=\"\",\"\",IF(I43=1,VLOOKUP(T43,男子種目コード!$A$1:$B$35,2,FALSE),IF(I43=2,VLOOKUP(T43,女子種目コード!$A$1:$B$35,2,FALSE))))","v":""},null,"","",null,null,null,null,null,null,null,null,null,null,"",null,null,null,null,null,0,0,"","",null,null,null,null,null,null,{"$f":"IF(AX61>0,1,0)","v":0},null,null,null,0,"","",{"$f":"VLookUpX(\"男子E\",$A$7:$F$186,4,5)","v":{"$error":"#N/A"}},{"$f":"VLookUpX(\"男子E\",$A$7:$F$186,4,6)","v":{"$error":"#N/A"}},{"$f":"VLookUpX(\"女子E\",$A$7:$F$186,4,5)","v":{"$error":"#N/A"}},{"$f":"VLookUpX(\"女子E\",$A$7:$F$186,4,6)","v":{"$error":"#N/A"}},{"$f":"VLookUpX(\"混成E\",$A$7:$F$186,4,5)","v":{"$error":"#N/A"}},{"$f":"VLookUpX(\"混成E\",$A$7:$F$186,4,6)","v":{"$error":"#N/A"}}]
[0,{"$f":"名簿!O42","v":""},null,null,{"$f":"名簿!E42","v":0},{"$f":"名簿!BD42","v":""},{"$f":"名簿!V42","v":""},{"$f":"名簿!BD42","v":""},{"$f":"名簿!U42","v":""},{"$f":"名簿!I42","v":0},{"$f":"名簿!K42","v":0},{"$f":"名簿!BK42","v":"00"},{"$f":"名簿!P42","v":""},null,null,{"$f":"IF(O44=\"\",\"\",IF(I44=1,VLOOKUP(O44,男子種目コード!$A$1:$B$35,2,FALSE),IF(I44=2,VLOOKUP(O44,女子種目コード!$A$1:$B$35,2,FALSE))))","v":""},{"$f":"IF(O44=\"\",\"\",HLOOKUP(O44,名簿!$W$4:$AV$184,39,FALSE))","v":""},"","",null,{"$f":"IF(T44=\"\",\"\",IF(I44=1,VLOOKUP(T44,男子種目コード!$A$1:$B$35,2,FALSE),IF(I44=2,VLOOKUP(T44,女子種目コード!$A$1:$B$35,2,FALSE))))","v":""},null,"","",null,null,null,null,null,null,null,null,null,null,"",null,null,null,null,null,0,0,"","",null,null,null,null,null,null,{"$f":"IF(AX62>0,1,0)","v":0},null,null,null,0,"","",{"$f":"VLookUpX(\"男子E\",$A$7:$F$186,5,5)","v":{"$error":"#N/A"}},{"$f":"VLookUpX(\"男子E\",$A$7:$F$186,5,6)","v":{"$error":"#N/A"}},{"$f":"VLookUpX(\"女子E\",$A$7:$F$186,5,5)","v":{"$error":"#N/A"}},{"$f":"VLookUpX(\"女子E\",$A$7:$F$186,5,6)","v":{"$error":"#N/A"}},{"$f":"VLookUpX(\"混成E\",$A$7:$F$186,5,5)","v":{"$error":"#N/A"}},{"$f":"VLookUpX(\"混成E\",$A$7:$F$186,5,6)","v":{"$error":"#N/A"}}]
[0,{"$f":"名簿!O43","v":""},null,null,{"$f":"名簿!E43","v":0},{"$f":"名簿!BD43","v":""},{"$f":"名簿!V43","v":""},{"$f":"名簿!BD43","v":""},{"$f":"名簿!U43","v":""},{"$f":"名簿!I43","v":0},{"$f":"名簿!K43","v":0},{"$f":"名簿!BK43","v":"00"},{"$f":"名簿!P43","v":""},null,null,{"$f":"IF(O45=\"\",\"\",IF(I45=1,VLOOKUP(O45,男子種目コード!$A$1:$B$35,2,FALSE),IF(I45=2,VLOOKUP(O45,女子種目コード!$A$1:$B$35,2,FALSE))))","v":""},{"$f":"IF(O45=\"\",\"\",HLOOKUP(O45,名簿!$W$4:$AV$184,40,FALSE))","v":""},"","",null,{"$f":"IF(T45=\"\",\"\",IF(I45=1,VLOOKUP(T45,男子種目コード!$A$1:$B$35,2,FALSE),IF(I45=2,VLOOKUP(T45,女子種目コード!$A$1:$B$35,2,FALSE))))","v":""},null,"","",null,null,null,null,null,null,null,null,null,null,"",null,null,null,null,null,0,0,"","",null,null,null,null,null,null,{"$f":"IF(AX63>0,1,0)","v":0},null,null,null,0,"","",{"$f":"VLookUpX(\"男子E\",$A$7:$F$186,6,5)","v":{"$error":"#N/A"}},{"$f":"VLookUpX(\"男子E\",$A$7:$F$186,6,6)","v":{"$error":"#N/A"}},{"$f":"VLookUpX(\"女子E\",$A$7:$F$186,6,5)","v":{"$error":"#N/A"}},{"$f":"VLookUpX(\"女子E\",$A$7:$F$186,6,6)","v":{"$error":"#N/A"}},{"$f":"VLookUpX(\"混成E\",$A$7:$F$186,6,5)","v":{"$error":"#N/A"}},{"$f":"VLookUpX(\"混成E\",$A$7:$F$186,6,6)","v":{"$error":"#N/A"}}]
[0,{"$f":"名簿!O44","v":""},null,null,{"$f":"名簿!E44","v":0},{"$f":"名簿!BD44","v":""},{"$f":"名簿!V44","v":""},{"$f":"名簿!BD44","v":""},{"$f":"名簿!U44","v":""},{"$f":"名簿!I44","v":0},{"$f":"名簿!K44","v":0},{"$f":"名簿!BK44","v":"00"},{"$f":"名簿!P44","v":""},null,null,{"$f":"IF(O46=\"\",\"\",IF(I46=1,VLOOKUP(O46,男子種目コード!$A$1:$B$35,2,FALSE),IF(I46=2,VLOOKUP(O46,女子種目コード!$A$1:$B$35,2,FALSE))))","v":""},{"$f":"IF(O46=\"\",\"\",HLOOKUP(O46,名簿!$W$4:$AV$184,41,FALSE))","v":""},"","",null,{"$f":"IF(T46=\"\",\"\",IF(I46=1,VLOOKUP(T46,男子種目コード!$A$1:$B$35,2,FALSE),IF(I46=2,VLOOKUP(T46,女子種目コード!$A$1:$B$35,2,FALSE))))","v":""},null,"","",null,null,null,null,null,null,null,null,null,null,"",null,null,null,null,null,0,0,"","",null,null,null,null,null,null,null,null,null,null,0,"",""]
[0,{"$f":"名簿!O45","v":""},null,null,{"$f":"名簿!E45","v":0},{"$f":"名簿!BD45","v":""},{"$f":"名簿!V45","v":""},{"$f":"名簿!BD45","v":""},{"$f":"名簿!U45","v":""},{"$f":"名簿!I45","v":0},{"$f":"名簿!K45","v":0},{"$f":"名簿!BK45","v":"00"},{"$f":"名簿!P45","v":""},null,null,{"$f":"IF(O47=\"\",\"\",IF(I47=1,VLOOKUP(O47,男子種目コード!$A$1:$B$35,2,FALSE),IF(I47=2,VLOOKUP(O47,女子種目コード!$A$1:$B$35,2,FALSE))))","v":""},{"$f":"IF(O47=\"\",\"\",HLOOKUP(O47,名簿!$W$4:$AV$184,42,FALSE))","v":""},"","",null,{"$f":"IF(T47=\"\",\"\",IF(I47=1,VLOOKUP(T47,男子種目コード!$A$1:$B$35,2,FALSE),IF(I47=2,VLOOKUP(T47,女子種目コード!$A$1:$B$35,2,FALSE))))","v":""},null,"","",null,null,null,null,null,null,null,null,null,null,"",null,null,null,null,null,0,0,"","",null,null,null,null,null,null,null,null,null,null,0,"",""]
[0,{"$f":"名簿!O46","v":""},null,null,{"$f":"名簿!E46","v":0},{"$f":"名簿!BD46","v":""},{"$f":"名簿!V46","v":""},{"$f":"名簿!BD46","v":""},{"$f":"名簿!U46","v":""},{"$f":"名簿!I46","v":0},{"$f":"名簿!K46","v":0},{"$f":"名簿!BK46","v":"00"},{"$f":"名簿!P46","v":""},null,null,{"$f":"IF(O48=\"\",\"\",IF(I48=1,VLOOKUP(O48,男子種目コード!$A$1:$B$35,2,FALSE),IF(I48=2,VLOOKUP(O48,女子種目コード!$A$1:$B$35,2,FALSE))))","v":""},{"$f":"IF(O48=\"\",\"\",HLOOKUP(O48,名簿!$W$4:$AV$184,43,FALSE))","v":""},"","",null,{"$f":"IF(T48=\"\",\"\",IF(I48=1,VLOOKUP(T48,男子種目コード!$A$1:$B$35,2,FALSE),IF(I48=2,VLOOKUP(T48,女子種目コード!$A$1:$B$35,2,FALSE))))","v":""},null,"","",null,null,null,null,null,null,null,null,null,null,"",null,null,null,null,null,0,0,"","",null,null,null,null,null,null,null,null,null,null,0,"","",{"$f":"VLookUpX(\"男子F\",$A$7:$F$186,1,5)","v":{"$error":"#N/A"}},{"$f":"VLookUpX(\"男子F\",$A$7:$F$186,1,6)","v":{"$error":"#N/A"}},{"$f":"VLookUpX(\"女子F\",$A$7:$F$186,1,5)","v":{"$error":"#N/A"}},{"$f":"VLookUpX(\"女子F\",$A$7:$F$186,1,6)","v":{"$error":"#N/A"}},{"$f":"VLookUpX(\"混成F\",$A$7:$F$186,1,5)","v":{"$error":"#N/A"}},{"$f":"VLookUpX(\"混成F\",$A$7:$F$186,1,6)","v":{"$error":"#N/A"}},{"$f":"IF(AS48=\"\",\"\",1)","v":""},{"$f":"IF(AU48=\"\",\"\",1)","v":""},{"$f":"IF(AW48=\"\",\"\",1)","v":""}]
[0,{"$f":"名簿!O47","v":""},null,null,{"$f":"名簿!E47","v":0},{"$f":"名簿!BD47","v":""},{"$f":"名簿!V47","v":""},{"$f":"名簿!BD47","v":""},{"$f":"名簿!U47","v":""},{"$f":"名簿!I47","v":0},{"$f":"名簿!K47","v":0},{"$f":"名簿!BK47","v":"00"},{"$f":"名簿!P47","v":""},null,null,{"$f":"IF(O49=\"\",\"\",IF(I49=1,VLOOKUP(O49,男子種目コード!$A$1:$B$35,2,FALSE),IF(I49=2,VLOOKUP(O49,女子種目コード!$A$1:$B$35,2,FALSE))))","v":""},{"$f":"IF(O49=\"\",\"\",HLOOKUP(O49,名簿!$W$4:$AV$184,44,FALSE))","v":""},"","",null,{"$f":"IF(T49=\"\",\"\",IF(I49=1,VLOOKUP(T49,男子種目コード!$A$1:$B$35,2,FALSE),IF(I49=2,VLOOKUP(T49,女子種目コード!$A$1:$B$35,2,FALSE))))","v":""},null,"","",null,null,null,null,null,null,null,null,null,null,"",null,null,null,null,null,0,0,"","",null,null,null,null,null,null,null,null,null,null,0,"","",{"$f":"VLookUpX(\"男子F\",$A$7:$F$186,2,5)","v":{"$error":"#N/A"}},{"$f":"VLookUpX(\"男子F\",$A$7:$F$186,2,6)","v":{"$error":"#N/A"}},{"$f":"VLookUpX(\"女子F\",$A$7:$F$186,2,5)","v":{"$error":"#N/A"}},{"$f":"VLookUpX(\"女子F\",$A$7:$F$186,2,6)","v":{"$error":"#N/A"}},{"$f":"VLookUpX(\"混成F\",$A$7:$F$186,2,5)","v":{"$error":"#N/A"}},{"$f":"VLookUpX(\"混成F\",$A$7:$F$186,2,6)","v":{"$error":"#N/A"}}]
[0,{"$f":"名簿!O48","v":""},null,null,{"$f":"名簿!E48","v":0},{"$f":"名簿!BD48","v":""},{"$f":"名簿!V48","v":""},{"$f":"名簿!BD48","v":""},{"$f":"名簿!U48","v":""},{"$f":"名簿!I48","v":0},{"$f":"名簿!K48","v":0},{"$f":"名簿!BK48","v":"00"},{"$f":"名簿!P48","v":""},null,null,{"$f":"IF(O50=\"\",\"\",IF(I50=1,VLOOKUP(O50,男子種目コード!$A$1:$B$35,2,FALSE),IF(I50=2,VLOOKUP(O50,女子種目コード!$A$1:$B$35,2,FALSE))))","v":""},{"$f":"IF(O50=\"\",\"\",HLOOKUP(O50,名簿!$W$4:$AV$184,45,FALSE))","v":""},"","",null,{"$f":"IF(T50=\"\",\"\",IF(I50=1,VLOOKUP(T50,男子種目コード!$A$1:$B$35,2,FALSE),IF(I50=2,VLOOKUP(T50,女子種目コード!$A$1:$B$35,2,FALSE))))","v":""},null,"","",null,null,null,null,null,null,null,null,null,null,"",null,null,null,null,null,0,0,"","",null,null,null,null,null,null,null,null,null,null,0,"","",{"$f":"VLookUpX(\"男子F\",$A$7:$F$186,3,5)","v":{"$error":"#N/A"}},{"$f":"VLookUpX(\"男子F\",$A$7:$F$186,3,6)","v":{"$error":"#N/A"}},{"$f":"VLookUpX(\"女子F\",$A$7:$F$186,3,5)","v":{"$error":"#N/A"}},{"$f":"VLookUpX(\"女子F\",$A$7:$F$186,3,6)","v":{"$error":"#N/A"}},{"$f":"VLookUpX(\"混成F\",$A$7:$F$186,3,5)","v":{"$error":"#N/A"}},{"$f":"VLookUpX(\"混成F\",$A$7:$F$186,3,6)","v":{"$error":"#N/A"}}]
[0,{"$f":"名簿!O49","v":""},null,null,{"$f":"名簿!E49","v":0},{"$f":"名簿!BD49","v":""},{"$f":"名簿!V49","v":""},{"$f":"名簿!BD49","v":""},{"$f":"名簿!U49","v":""},{"$f":"名簿!I49","v":0},{"$f":"名簿!K49","v":0},{"$f":"名簿!BK49","v":"00"},{"$f":"名簿!P49","v":""},null,null,{"$f":"IF(O51=\"\",\"\",IF(I51=1,VLOOKUP(O51,男子種目コード!$A$1:$B$35,2,FALSE),IF(I51=2,VLOOKUP(O51,女子種目コード!$A$1:$B$35,2,FALSE))))","v":""},{"$f":"IF(O51=\"\",\"\",HLOOKUP(O51,名簿!$W$4:$AV$184,46,FALSE))","v":""},"","",null,{"$f":"IF(T51=\"\",\"\",IF(I51=1,VLOOKUP(T51,男子種目コード!$A$1:$B$35,2,FALSE),IF(I51=2,VLOOKUP(T51,女子種目コード!$A$1:$B$35,2,FALSE))))","v":""},null,"","",null,null,null,null,null,null,null,null,null,null,"",null,null,null,null,null,0,0,"","",null,null,null,null,null,null,null,null,null,null,0,"","",{"$f":"VLookUpX(\"男子F\",$A$7:$F$186,4,5)","v":{"$error":"#N/A"}},{"$f":"VLookUpX(\"男子F\",$A$7:$F$186,4,6)","v":{"$error":"#N/A"}},{"$f":"VLookUpX(\"女子F\",$A$7:$F$186,4,5)","v":{"$error":"#N/A"}},{"$f":"VLookUpX(\"女子F\",$A$7:$F$186,4,6)","v":{"$error":"#N/A"}},{"$f":"VLookUpX(\"混成F\",$A$7:$F$186,4,5)","v":{"$error":"#N/A"}},{"$f":"VLookUpX(\"混成F\",$A$7:$F$186,4,6)","v":{"$error":"#N/A"}}]
[0,{"$f":"名簿!O50","v":""},null,null,{"$f":"名簿!E50","v":0},{"$f":"名簿!BD50","v":""},{"$f":"名簿!V50","v":""},{"$f":"名簿!BD50","v":""},{"$f":"名簿!U50","v":""},{"$f":"名簿!I50","v":0},{"$f":"名簿!K50","v":0},{"$f":"名簿!BK50","v":"00"},{"$f":"名簿!P50","v":""},null,null,{"$f":"IF(O52=\"\",\"\",IF(I52=1,VLOOKUP(O52,男子種目コード!$A$1:$B$35,2,FALSE),IF(I52=2,VLOOKUP(O52,女子種目コード!$A$1:$B$35,2,FALSE))))","v":""},{"$f":"IF(O52=\"\",\"\",HLOOKUP(O52,名簿!$W$4:$AV$184,47,FALSE))","v":""},"","",null,{"$f":"IF(T52=\"\",\"\",IF(I52=1,VLOOKUP(T52,男子種目コード!$A$1:$B$35,2,FALSE),IF(I52=2,VLOOKUP(T52,女子種目コード!$A$1:$B$35,2,FALSE))))","v":""},null,"","",null,null,null,null,null,null,null,null,null,null,"",null,null,null,null,null,0,0,"","",null,null,null,null,null,null,null,null,null,null,0,"","",{"$f":"VLookUpX(\"男子F\",$A$7:$F$186,5,5)","v":{"$error":"#N/A"}},{"$f":"VLookUpX(\"男子F\",$A$7:$F$186,5,6)","v":{"$error":"#N/A"}},{"$f":"VLookUpX(\"女子F\",$A$7:$F$186,5,5)","v":{"$error":"#N/A"}},{"$f":"VLookUpX(\"女子F\",$A$7:$F$186,5,6)","v":{"$error":"#N/A"}},{"$f":"VLookUpX(\"混成F\",$A$7:$F$186,5,5)","v":{"$error":"#N/A"}},{"$f":"VLookUpX(\"混成F\",$A$7:$F$186,5,6)","v":{"$error":"#N/A"}}]
[0,{"$f":"名簿!O51","v":""},null,null,{"$f":"名簿!E51","v":0},{"$f":"名簿!BD51","v":""},{"$f":"名簿!V51","v":""},{"$f":"名簿!BD51","v":""},{"$f":"名簿!U51","v":""},{"$f":"名簿!I51","v":0},{"$f":"名簿!K51","v":0},{"$f":"名簿!BK51","v":"00"},{"$f":"名簿!P51","v":""},null,null,{"$f":"IF(O53=\"\",\"\",IF(I53=1,VLOOKUP(O53,男子種目コード!$A$1:$B$35,2,FALSE),IF(I53=2,VLOOKUP(O53,女子種目コード!$A$1:$B$35,2,FALSE))))","v":""},{"$f":"IF(O53=\"\",\"\",HLOOKUP(O53,名簿!$W$4:$AV$184,48,FALSE))","v":""},"","",null,{"$f":"IF(T53=\"\",\"\",IF(I53=1,VLOOKUP(T53,男子種目コード!$A$1:$B$35,2,FALSE),IF(I53=2,VLOOKUP(T53,女子種目コード!$A$1:$B$35,2,FALSE))))","v":""},null,"","",null,null,null,null,null,null,null,null,null,null,"",null,null,null,null,null,0,0,"","",null,null,null,null,null,null,null,null,null,null,0,"","",{"$f":"VLookUpX(\"男子F\",$A$7:$F$186,6,5)","v":{"$error":"#N/A"}},{"$f":"VLookUpX(\"男子F\",$A$7:$F$186,6,6)","v":{"$error":"#N/A"}},{"$f":"VLookUpX(\"女子F\",$A$7:$F$186,6,5)","v":{"$error":"#N/A"}},{"$f":"VLookUpX(\"女子F\",$A$7:$F$186,6,6)","v":{"$error":"#N/A"}},{"$f":"VLookUpX(\"混成F\",$A$7:$F$186,6,5)","v":{"$error":"#N/A"}},{"$f":"VLookUpX(\"混成F\",$A$7:$F$186,6,6)","v":{"$error":"#N/A"}}]
[0,{"$f":"名簿!O52","v":""},null,null,{"$f":"名簿!E52","v":0},{"$f":"名簿!BD52","v":""},{"$f":"名簿!V52","v":""},{"$f":"名簿!BD52","v":""},{"$f":"名簿!U52","v":""},{"$f":"名簿!I52","v":0},{"$f":"名簿!K52","v":0},{"$f":"名簿!BK52","v":"00"},{"$f":"名簿!P52","v":""},null,null,{"$f":"IF(O54=\"\",\"\",IF(I54=1,VLOOKUP(O54,男子種目コード!$A$1:$B$35,2,FALSE),IF(I54=2,VLOOKUP(O54,女子種目コード!$A$1:$B$35,2,FALSE))))","v":""},{"$f":"IF(O54=\"\",\"\",HLOOKUP(O54,名簿!$W$4:$AV$184,49,FALSE))","v":""},"","",null,{"$f":"IF(T54=\"\",\"\",IF(I54=1,VLOOKUP(T54,男子種目コード!$A$1:$B$35,2,FALSE),IF(I54=2,VLOOKUP(T54,女子種目コード!$A$1:$B$35,2,FALSE))))","v":""},null,"","",null,null,null,null,null,null,null,null,null,null,"",null,null,null,null,null,0,0,"","",null,null,null,null,null,null,null,null,null,null,0,"",""]
[0,{"$f":"名簿!O53","v":""},null,null,{"$f":"名簿!E53","v":0},{"$f":"名簿!BD53","v":""},{"$f":"名簿!V53","v":""},{"$f":"名簿!BD53","v":""},{"$f":"名簿!U53","v":""},{"$f":"名簿!I53","v":0},{"$f":"名簿!K53","v":0},{"$f":"名簿!BK53","v":"00"},{"$f":"名簿!P53","v":""},null,null,{"$f":"IF(O55=\"\",\"\",IF(I55=1,VLOOKUP(O55,男子種目コード!$A$1:$B$35,2,FALSE),IF(I55=2,VLOOKUP(O55,女子種目コード!$A$1:$B$35,2,FALSE))))","v":""},{"$f":"IF(O55=\"\",\"\",HLOOKUP(O55,名簿!$W$4:$AV$184,50,FALSE))","v":""},"","",null,{"$f":"IF(T55=\"\",\"\",IF(I55=1,VLOOKUP(T55,男子種目コード!$A$1:$B$35,2,FALSE),IF(I55=2,VLOOKUP(T55,女子種目コード!$A$1:$B$35,2,FALSE))))","v":""},null,"","",null,null,null,null,null,null,null,null,null,null,"",null,null,null,null,null,0,0,"","",null,null,null,null,null,null,null,null,null,null,0,"",""]
[0,{"$f":"名簿!O54","v":""},null,null,{"$f":"名簿!E54","v":0},{"$f":"名簿!BD54","v":""},{"$f":"名簿!V54","v":""},{"$f":"名簿!BD54","v":""},{"$f":"名簿!U54","v":""},{"$f":"名簿!I54","v":0},{"$f":"名簿!K54","v":0},{"$f":"名簿!BK54","v":"00"},{"$f":"名簿!P54","v":""},null,null,{"$f":"IF(O56=\"\",\"\",IF(I56=1,VLOOKUP(O56,男子種目コード!$A$1:$B$35,2,FALSE),IF(I56=2,VLOOKUP(O56,女子種目コード!$A$1:$B$35,2,FALSE))))","v":""},{"$f":"IF(O56=\"\",\"\",HLOOKUP(O56,名簿!$W$4:$AV$184,51,FALSE))","v":""},"","",null,{"$f":"IF(T56=\"\",\"\",IF(I56=1,VLOOKUP(T56,男子種目コード!$A$1:$B$35,2,FALSE),IF(I56=2,VLOOKUP(T56,女子種目コード!$A$1:$B$35,2,FALSE))))","v":""},null,"","",null,null,null,null,null,null,null,null,null,null,"",null,null,null,null,null,0,0,"","",null,null,null,null,null,null,null,null,null,null,0,"","",null,null,null,null,{"$f":"VLookUpX(\"混成G\",$A$7:$F$186,1,5)","v":{"$error":"#N/A"}},{"$f":"VLookUpX(\"混成G\",$A$7:$F$186,1,6)","v":{"$error":"#N/A"}},{"$f":"IF(AS56=\"\",\"\",1)","v":""},{"$f":"IF(AU56=\"\",\"\",1)","v":""},{"$f":"IF(AW56=\"\",\"\",1)","v":""}]
[0,{"$f":"名簿!O55","v":""},null,null,{"$f":"名簿!E55","v":0},{"$f":"名簿!BD55","v":""},{"$f":"名簿!V55","v":""},{"$f":"名簿!BD55","v":""},{"$f":"名簿!U55","v":""},{"$f":"名簿!I55","v":0},{"$f":"名簿!K55","v":0},{"$f":"名簿!BK55","v":"00"},{"$f":"名簿!P55","v":""},null,null,{"$f":"IF(O57=\"\",\"\",IF(I57=1,VLOOKUP(O57,男子種目コード!$A$1:$B$35,2,FALSE),IF(I57=2,VLOOKUP(O57,女子種目コード!$A$1:$B$35,2,FALSE))))","v":""},{"$f":"IF(O57=\"\",\"\",HLOOKUP(O57,名簿!$W$4:$AV$184,52,FALSE))","v":""},"","",null,{"$f":"IF(T57=\"\",\"\",IF(I57=1,VLOOKUP(T57,男子種目コード!$A$1:$B$35,2,FALSE),IF(I57=2,VLOOKUP(T57,女子種目コード!$A$1:$B$35,2,FALSE))))","v":""},null,"","",null,null,null,null,null,null,null,null,null,null,"",null,null,null,null,null,0,0,"","",null,null,null,null,null,null,null,null,null,null,0,"","",null,null,null,null,{"$f":"VLookUpX(\"混成G\",$A$7:$F$186,2,5)","v":{"$error":"#N/A"}},{"$f":"VLookUpX(\"混成G\",$A$7:$F$186,2,6)","v":{"$error":"#N/A"}}]
[0,{"$f":"名簿!O56","v":""},null,null,{"$f":"名簿!E56","v":0},{"$f":"名簿!BD56","v":""},{"$f":"名簿!V56","v":""},{"$f":"名簿!BD56","v":""},{"$f":"名簿!U56","v":""},{"$f":"名簿!I56","v":0},{"$f":"名簿!K56","v":0},{"$f":"名簿!BK56","v":"00"},{"$f":"名簿!P56","v":""},null,null,{"$f":"IF(O58=\"\",\"\",IF(I58=1,VLOOKUP(O58,男子種目コード!$A$1:$B$35,2,FALSE),IF(I58=2,VLOOKUP(O58,女子種目コード!$A$1:$B$35,2,FALSE))))","v":""},{"$f":"IF(O58=\"\",\"\",HLOOKUP(O58,名簿!$W$4:$AV$184,53,FALSE))","v":""},"","",null,{"$f":"IF(T58=\"\",\"\",IF(I58=1,VLOOKUP(T58,男子種目コード!$A$1:$B$35,2,FALSE),IF(I58=2,VLOOKUP(T58,女子種目コード!$A$1:$B$35,2,FALSE))))","v":""},null,"","",null,null,null,null,null,null,null,null,null,null,"",null,null,null,null,null,0,0,"","",null,null,null,null,null,null,null,null,null,null,0,"","",null,null,null,null,{"$f":"VLookUpX(\"混成G\",$A$7:$F$186,3,5)","v":{"$error":"#N/A"}},{"$f":"VLookUpX(\"混成G\",$A$7:$F$186,3,6)","v":{"$error":"#N/A"}}]
[0,{"$f":"名簿!O57","v":""},null,null,{"$f":"名簿!E57","v":0},{"$f":"名簿!BD57","v":""},{"$f":"名簿!V57","v":""},{"$f":"名簿!BD57","v":""},{"$f":"名簿!U57","v":""},{"$f":"名簿!I57","v":0},{"$f":"名簿!K57","v":0},{"$f":"名簿!BK57","v":"00"},{"$f":"名簿!P57","v":""},null,null,{"$f":"IF(O59=\"\",\"\",IF(I59=1,VLOOKUP(O59,男子種目コード!$A$1:$B$35,2,FALSE),IF(I59=2,VLOOKUP(O59,女子種目コード!$A$1:$B$35,2,FALSE))))","v":""},{"$f":"IF(O59=\"\",\"\",HLOOKUP(O59,名簿!$W$4:$AV$184,54,FALSE))","v":""},"","",null,{"$f":"IF(T59=\"\",\"\",IF(I59=1,VLOOKUP(T59,男子種目コード!$A$1:$B$35,2,FALSE),IF(I59=2,VLOOKUP(T59,女子種目コード!$A$1:$B$35,2,FALSE))))","v":""},null,"","",null,null,null,null,null,null,null,null,null,null,"",null,null,null,null,null,0,0,"","",null,null,null,null,null,null,null,null,null,null,0,"","",null,null,null,null,{"$f":"VLookUpX(\"混成G\",$A$7:$F$186,4,5)","v":{"$error":"#N/A"}},{"$f":"VLookUpX(\"混成G\",$A$7:$F$186,4,6)","v":{"$error":"#N/A"}}]
[0,{"$f":"名簿!O58","v":""},null,null,{"$f":"名簿!E58","v":0},{"$f":"名簿!BD58","v":""},{"$f":"名簿!V58","v":""},{"$f":"名簿!BD58","v":""},{"$f":"名簿!U58","v":""},{"$f":"名簿!I58","v":0},{"$f":"名簿!K58","v":0},{"$f":"名簿!BK58","v":"00"},{"$f":"名簿!P58","v":""},null,null,{"$f":"IF(O60=\"\",\"\",IF(I60=1,VLOOKUP(O60,男子種目コード!$A$1:$B$35,2,FALSE),IF(I60=2,VLOOKUP(O60,女子種目コード!$A$1:$B$35,2,FALSE))))","v":""},{"$f":"IF(O60=\"\",\"\",HLOOKUP(O60,名簿!$W$4:$AV$184,55,FALSE))","v":""},"","",null,{"$f":"IF(T60=\"\",\"\",IF(I60=1,VLOOKUP(T60,男子種目コード!$A$1:$B$35,2,FALSE),IF(I60=2,VLOOKUP(T60,女子種目コード!$A$1:$B$35,2,FALSE))))","v":""},null,"","",null,null,null,null,null,null,null,null,null,null,"",null,null,null,null,null,0,0,"","",null,null,null,null,null,null,null,null,null,null,0,"","",null,null,null,null,{"$f":"VLookUpX(\"混成G\",$A$7:$F$186,5,5)","v":{"$error":"#N/A"}},{"$f":"VLookUpX(\"混成G\",$A$7:$F$186,5,6)","v":{"$error":"#N/A"}}]
[0,{"$f":"名簿!O59","v":""},null,null,{"$f":"名簿!E59","v":0},{"$f":"名簿!BD59","v":""},{"$f":"名簿!V59","v":""},{"$f":"名簿!BD59","v":""},{"$f":"名簿!U59","v":""},{"$f":"名簿!I59","v":0},{"$f":"名簿!K59","v":0},{"$f":"名簿!BK59","v":"00"},{"$f":"名簿!P59","v":""},null,null,{"$f":"IF(O61=\"\",\"\",IF(I61=1,VLOOKUP(O61,男子種目コード!$A$1:$B$35,2,FALSE),IF(I61=2,VLOOKUP(O61,女子種目コード!$A$1:$B$35,2,FALSE))))","v":""},{"$f":"IF(O61=\"\",\"\",HLOOKUP(O61,名簿!$W$4:$AV$184,56,FALSE))","v":""},"","",null,{"$f":"IF(T61=\"\",\"\",IF(I61=1,VLOOKUP(T61,男子種目コード!$A$1:$B$35,2,FALSE),IF(I61=2,VLOOKUP(T61,女子種目コード!$A$1:$B$35,2,FALSE))))","v":""},null,"","",null,null,null,null,null,null,null,null,null,null,"",null,null,null,null,null,0,0,"","",null,null,null,null,null,null,null,null,null,null,0,"","",null,null,null,null,{"$f":"VLookUpX(\"混成G\",$A$7:$F$186,6,5)","v":{"$error":"#N/A"}},{"$f":"VLookUpX(\"混成G\",$A$7:$F$186,6,6)","v":{"$error":"#N/A"}}]
[0,{"$f":"名簿!O60","v":""},null,null,{"$f":"名簿!E60","v":0},{"$f":"名簿!BD60","v":""},{"$f":"名簿!V60","v":""},{"$f":"名簿!BD60","v":""},{"$f":"名簿!U60","v":""},{"$f":"名簿!I60","v":0},{"$f":"名簿!K60","v":0},{"$f":"名簿!BK60","v":"00"},{"$f":"名簿!P60","v":""},null,null,{"$f":"IF(O62=\"\",\"\",IF(I62=1,VLOOKUP(O62,男子種目コード!$A$1:$B$35,2,FALSE),IF(I62=2,VLOOKUP(O62,女子種目コード!$A$1:$B$35,2,FALSE))))","v":""},{"$f":"IF(O62=\"\",\"\",HLOOKUP(O62,名簿!$W$4:$AV$184,57,FALSE))","v":""},"","",null,{"$f":"IF(T62=\"\",\"\",IF(I62=1,VLOOKUP(T62,男子種目コード!$A$1:$B$35,2,FALSE),IF(I62=2,VLOOKUP(T62,女子種目コード!$A$1:$B$35,2,FALSE))))","v":""},null,"","",null,null,null,null,null,null,null,null,null,null,"",null,null,null,null,null,0,0,"","",null,null,null,null,null,null,null,null,null,null,0,"","",null,null,null,null,null,null,{"$f":"SUM(BL8:BL61)","v":0},{"$f":"SUM(BM8:BM61)","v":0},{"$f":"SUM(BN8:BN61)","v":0},{"$f":"SUM(BL62:BN62)","v":0}]
[0,{"$f":"名簿!O61","v":""},null,null,{"$f":"名簿!E61","v":0},{"$f":"名簿!BD61","v":""},{"$f":"名簿!V61","v":""},{"$f":"名簿!BD61","v":""},{"$f":"名簿!U61","v":""},{"$f":"名簿!I61","v":0},{"$f":"名簿!K61","v":0},{"$f":"名簿!BK61","v":"00"},{"$f":"名簿!P61","v":""},null,null,{"$f":"IF(O63=\"\",\"\",IF(I63=1,VLOOKUP(O63,男子種目コード!$A$1:$B$35,2,FALSE),IF(I63=2,VLOOKUP(O63,女子種目コード!$A$1:$B$35,2,FALSE))))","v":""},{"$f":"IF(O63=\"\",\"\",HLOOKUP(O63,名簿!$W$4:$AV$184,58,FALSE))","v":""},"","",null,{"$f":"IF(T63=\"\",\"\",IF(I63=1,VLOOKUP(T63,男子種目コード!$A$1:$B$35,2,FALSE),IF(I63=2,VLOOKUP(T63,女子種目コード!$A$1:$B$35,2,FALSE))))","v":""},null,"","",null,null,null,null,null,null,null,null,null,null,"",null,null,null,null,null,0,0,"","",null,null,null,null,null,null,null,null,null,null,0,"",""]
[0,{"$f":"名簿!O62","v":""},null,null,{"$f":"名簿!E62","v":0},{"$f":"名簿!BD62","v":""},{"$f":"名簿!V62","v":""},{"$f":"名簿!BD62","v":""},{"$f":"名簿!U62","v":""},{"$f":"名簿!I62","v":0},{"$f":"名簿!K62","v":0},{"$f":"名簿!BK62","v":"00"},{"$f":"名簿!P62","v":""},null,null,{"$f":"IF(O64=\"\",\"\",IF(I64=1,VLOOKUP(O64,男子種目コード!$A$1:$B$35,2,FALSE),IF(I64=2,VLOOKUP(O64,女子種目コード!$A$1:$B$35,2,FALSE))))","v":""},{"$f":"IF(O64=\"\",\"\",HLOOKUP(O64,名簿!$W$4:$AV$184,59,FALSE))","v":""},"","",null,{"$f":"IF(T64=\"\",\"\",IF(I64=1,VLOOKUP(T64,男子種目コード!$A$1:$B$35,2,FALSE),IF(I64=2,VLOOKUP(T64,女子種目コード!$A$1:$B$35,2,FALSE))))","v":""},null,"","",null,null,null,null,null,null,null,null,null,null,"",null,null,null,null,null,0,0,"","",null,null,null,null,null,null,null,null,null,null,0,"",""]
[0,{"$f":"名簿!O63","v":""},null,null,{"$f":"名簿!E63","v":0},{"$f":"名簿!BD63","v":""},{"$f":"名簿!V63","v":""},{"$f":"名簿!BD63","v":""},{"$f":"名簿!U63","v":""},{"$f":"名簿!I63","v":0},{"$f":"名簿!K63","v":0},{"$f":"名簿!BK63","v":"00"},{"$f":"名簿!P63","v":""},null,null,{"$f":"IF(O65=\"\",\"\",IF(I65=1,VLOOKUP(O65,男子種目コード!$A$1:$B$35,2,FALSE),IF(I65=2,VLOOKUP(O65,女子種目コード!$A$1:$B$35,2,FALSE))))","v":""},{"$f":"IF(O65=\"\",\"\",HLOOKUP(O65,名簿!$W$4:$AV$184,60,FALSE))","v":""},"","",null,{"$f":"IF(T65=\"\",\"\",IF(I65=1,VLOOKUP(T65,男子種目コード!$A$1:$B$35,2,FALSE),IF(I65=2,VLOOKUP(T65,女子種目コード!$A$1:$B$35,2,FALSE))))","v":""},null,"","",null,null,null,null,null,null,null,null,null,null,"",null,null,null,null,null,0,0,"","",null,null,null,null,null,null,null,null,null,null,0,"",""]
[0,{"$f":"名簿!O64","v":""},null,null,{"$f":"名簿!E64","v":0},{"$f":"名簿!BD64","v":""},{"$f":"名簿!V64","v":""},{"$f":"名簿!BD64","v":""},{"$f":"名簿!U64","v":""},{"$f":"名簿!I64","v":0},{"$f":"名簿!K64","v":0},{"$f":"名簿!BK64","v":"00"},{"$f":"名簿!P64","v":""},null,null,{"$f":"IF(O66=\"\",\"\",IF(I66=1,VLOOKUP(O66,男子種目コード!$A$1:$B$35,2,FALSE),IF(I66=2,VLOOKUP(O66,女子種目コード!$A$1:$B$35,2,FALSE))))","v":""},{"$f":"IF(O66=\"\",\"\",HLOOKUP(O66,名簿!$W$4:$AV$184,61,FALSE))","v":""},"","",null,{"$f":"IF(T66=\"\",\"\",IF(I66=1,VLOOKUP(T66,男子種目コード!$A$1:$B$35,2,FALSE),IF(I66=2,VLOOKUP(T66,女子種目コード!$A$1:$B$35,2,FALSE))))","v":""},null,"","",null,null,null,null,null,null,null,null,null,null,"",null,null,null,null,null,0,0,"","",null,null,null,null,null,null,null,null,null,null,0,"",""]
[0,{"$f":"名簿!O65","v":""},null,null,{"$f":"名簿!E65","v":0},{"$f":"名簿!BD65","v":""},{"$f":"名簿!V65","v":""},{"$f":"名簿!BD65","v":""},{"$f":"名簿!U65","v":""},{"$f":"名簿!I65","v":0},{"$f":"名簿!K65","v":0},{"$f":"名簿!BK65","v":"00"},{"$f":"名簿!P65","v":""},null,null,{"$f":"IF(O67=\"\",\"\",IF(I67=1,VLOOKUP(O67,男子種目コード!$A$1:$B$35,2,FALSE),IF(I67=2,VLOOKUP(O67,女子種目コード!$A$1:$B$35,2,FALSE))))","v":""},{"$f":"IF(O67=\"\",\"\",HLOOKUP(O67,名簿!$W$4:$AV$184,62,FALSE))","v":""},"","",null,{"$f":"IF(T67=\"\",\"\",IF(I67=1,VLOOKUP(T67,男子種目コード!$A$1:$B$35,2,FALSE),IF(I67=2,VLOOKUP(T67,女子種目コード!$A$1:$B$35,2,FALSE))))","v":""},null,"","",null,null,null,null,null,null,null,null,null,null,"",null,null,null,null,null,0,0,"","",null,null,null,null,null,null,null,null,null,null,0,"",""]
[0,{"$f":"名簿!O66","v":""},null,null,{"$f":"名簿!E66","v":0},{"$f":"名簿!BD66","v":""},{"$f":"名簿!V66","v":""},{"$f":"名簿!BD66","v":""},{"$f":"名簿!U66","v":""},{"$f":"名簿!I66","v":0},{"$f":"名簿!K66","v":0},{"$f":"名簿!BK66","v":"00"},{"$f":"名簿!P66","v":""},null,null,{"$f":"IF(O68=\"\",\"\",IF(I68=1,VLOOKUP(O68,男子種目コード!$A$1:$B$35,2,FALSE),IF(I68=2,VLOOKUP(O68,女子種目コード!$A$1:$B$35,2,FALSE))))","v":""},{"$f":"IF(O68=\"\",\"\",HLOOKUP(O68,名簿!$W$4:$AV$184,63,FALSE))","v":""},"","",null,{"$f":"IF(T68=\"\",\"\",IF(I68=1,VLOOKUP(T68,男子種目コード!$A$1:$B$35,2,FALSE),IF(I68=2,VLOOKUP(T68,女子種目コード!$A$1:$B$35,2,FALSE))))","v":""},null,"","",null,null,null,null,null,null,null,null,null,null,"",null,null,null,null,null,0,0,"","",null,null,null,null,null,null,null,null,null,null,0,"",""]
[0,{"$f":"名簿!O67","v":""},null,null,{"$f":"名簿!E67","v":0},{"$f":"名簿!BD67","v":""},{"$f":"名簿!V67","v":""},{"$f":"名簿!BD67","v":""},{"$f":"名簿!U67","v":""},{"$f":"名簿!I67","v":0},{"$f":"名簿!K67","v":0},{"$f":"名簿!BK67","v":"00"},{"$f":"名簿!P67","v":""},null,null,{"$f":"IF(O69=\"\",\"\",IF(I69=1,VLOOKUP(O69,男子種目コード!$A$1:$B$35,2,FALSE),IF(I69=2,VLOOKUP(O69,女子種目コード!$A$1:$B$35,2,FALSE))))","v":""},{"$f":"IF(O69=\"\",\"\",HLOOKUP(O69,名簿!$W$4:$AV$184,64,FALSE))","v":""},"","",null,{"$f":"IF(T69=\"\",\"\",IF(I69=1,VLOOKUP(T69,男子種目コード!$A$1:$B$35,2,FALSE),IF(I69=2,VLOOKUP(T69,女子種目コード!$A$1:$B$35,2,FALSE))))","v":""},null,"","",null,null,null,null,null,null,null,null,null,null,"",null,null,null,null,null,0,0,"","",null,null,null,null,null,null,null,null,null,null,0,"",""]
[0,{"$f":"名簿!O68","v":""},null,null,{"$f":"名簿!E68","v":0},{"$f":"名簿!BD68","v":""},{"$f":"名簿!V68","v":""},{"$f":"名簿!BD68","v":""},{"$f":"名簿!U68","v":""},{"$f":"名簿!I68","v":0},{"$f":"名簿!K68","v":0},{"$f":"名簿!BK68","v":"00"},{"$f":"名簿!P68","v":""},null,null,{"$f":"IF(O70=\"\",\"\",IF(I70=1,VLOOKUP(O70,男子種目コード!$A$1:$B$35,2,FALSE),IF(I70=2,VLOOKUP(O70,女子種目コード!$A$1:$B$35,2,FALSE))))","v":""},{"$f":"IF(O70=\"\",\"\",HLOOKUP(O70,名簿!$W$4:$AV$184,65,FALSE))","v":""},"","",null,{"$f":"IF(T70=\"\",\"\",IF(I70=1,VLOOKUP(T70,男子種目コード!$A$1:$B$35,2,FALSE),IF(I70=2,VLOOKUP(T70,女子種目コード!$A$1:$B$35,2,FALSE))))","v":""},null,"","",null,null,null,null,null,null,null,null,null,null,"",null,null,null,null,null,0,0,"","",null,null,null,null,null,null,null,null,null,null,0,"",""]
[0,{"$f":"名簿!O69","v":""},null,null,{"$f":"名簿!E69","v":0},{"$f":"名簿!BD69","v":""},{"$f":"名簿!V69","v":""},{"$f":"名簿!BD69","v":""},{"$f":"名簿!U69","v":""},{"$f":"名簿!I69","v":0},{"$f":"名簿!K69","v":0},{"$f":"名簿!BK69","v":"00"},{"$f":"名簿!P69","v":""},null,null,{"$f":"IF(O71=\"\",\"\",IF(I71=1,VLOOKUP(O71,男子種目コード!$A$1:$B$35,2,FALSE),IF(I71=2,VLOOKUP(O71,女子種目コード!$A$1:$B$35,2,FALSE))))","v":""},{"$f":"IF(O71=\"\",\"\",HLOOKUP(O71,名簿!$W$4:$AV$184,66,FALSE))","v":""},"","",null,{"$f":"IF(T71=\"\",\"\",IF(I71=1,VLOOKUP(T71,男子種目コード!$A$1:$B$35,2,FALSE),IF(I71=2,VLOOKUP(T71,女子種目コード!$A$1:$B$35,2,FALSE))))","v":""},null,"","",null,null,null,null,null,null,null,null,null,null,"",null,null,null,null,null,{"$f":"IF(OR(AI71=1,T71=\"\"),0,1)","v":0},{"$f":"COUNT(P71,U71)","v":0},{"$f":"IF(I71=1,AP71,\"\")","v":""},{"$f":"IF(I71=2,AP71,\"\")","v":""},null,null,null,null,null,null,null,null,null,null,{"$f":"COUNT(U71,Z71)","v":0},{"$f":"IF(N71=1,BC71,\"\")","v":""},{"$f":"IF(N71=2,BC71,\"\")","v":""}]
[{"$f":"T72","v":0},{"$f":"名簿!O70","v":""},null,null,{"$f":"名簿!E70","v":0},{"$f":"名簿!BD70","v":""},{"$f":"名簿!V70","v":""},{"$f":"名簿!BD70","v":""},{"$f":"名簿!U70","v":""},{"$f":"名簿!I70","v":0},{"$f":"名簿!K70","v":0},{"$f":"名簿!BK70","v":"00"},{"$f":"名簿!P70","v":""},null,null,{"$f":"IF(O72=\"\",\"\",IF(I72=1,VLOOKUP(O72,男子種目コード!$A$1:$B$35,2,FALSE),IF(I72=2,VLOOKUP(O72,女子種目コード!$A$1:$B$35,2,FALSE))))","v":""},{"$f":"IF(O72=\"\",\"\",HLOOKUP(O72,名簿!$W$4:$AV$184,67,FALSE))","v":""},{"$f":"IF(O72=\"\",\"\",0)","v":""},{"$f":"IF(O72=\"\",\"\",2)","v":""},null,{"$f":"IF(T72=\"\",\"\",IF(I72=1,VLOOKUP(T72,男子種目コード!$A$1:$B$35,2,FALSE),IF(I72=2,VLOOKUP(T72,女子種目コード!$A$1:$B$35,2,FALSE))))","v":""},null,{"$f":"IF(T72=\"\",\"\",0)","v":""},{"$f":"IF(T72=\"\",\"\",2)","v":""},null,null,null,null,null,null,null,null,null,null,{"$f":"IF(O72=\"\",\"\",1)","v":""},null,null,null,null,null,0,0,"","",null,null,null,null,null,null,null,null,null,null,0,"",""]
[0,{"$f":"名簿!O71","v":""},null,null,{"$f":"名簿!E71","v":0},{"$f":"名簿!BD71","v":""},{"$f":"名簿!V71","v":""},{"$f":"名簿!BD71","v":""},{"$f":"名簿!U71","v":""},{"$f":"名簿!I71","v":0},{"$f":"名簿!K71","v":0},{"$f":"名簿!BK71","v":"00"},{"$f":"名簿!P71","v":""},null,null,{"$f":"IF(O73=\"\",\"\",IF(I73=1,VLOOKUP(O73,男子種目コード!$A$1:$B$35,2,FALSE),IF(I73=2,VLOOKUP(O73,女子種目コード!$A$1:$B$35,2,FALSE))))","v":""},{"$f":"IF(O73=\"\",\"\",HLOOKUP(O73,名簿!$W$4:$AV$184,68,FALSE))","v":""},"","",null,{"$f":"IF(T73=\"\",\"\",IF(I73=1,VLOOKUP(T73,男子種目コード!$A$1:$B$35,2,FALSE),IF(I73=2,VLOOKUP(T73,女子種目コード!$A$1:$B$35,2,FALSE))))","v":""},null,"","",null,null,null,null,null,null,null,null,null,null,"",null,null,null,null,null,0,0,"","",null,null,null,null,null,null,null,null,null,null,0,"",""]
[0,{"$f":"名簿!O72","v":""},null,null,{"$f":"名簿!E72","v":0},{"$f":"名簿!BD72","v":""},{"$f":"名簿!V72","v":""},{"$f":"名簿!BD72","v":""},{"$f":"名簿!U72","v":""},{"$f":"名簿!I72","v":0},{"$f":"名簿!K72","v":0},{"$f":"名簿!BK72","v":"00"},{"$f":"名簿!P72","v":""},null,null,{"$f":"IF(O74=\"\",\"\",IF(I74=1,VLOOKUP(O74,男子種目コード!$A$1:$B$35,2,FALSE),IF(I74=2,VLOOKUP(O74,女子種目コード!$A$1:$B$35,2,FALSE))))","v":""},{"$f":"IF(O74=\"\",\"\",HLOOKUP(O74,名簿!$W$4:$AV$184,69,FALSE))","v":""},"","",null,{"$f":"IF(T74=\"\",\"\",IF(I74=1,VLOOKUP(T74,男子種目コード!$A$1:$B$35,2,FALSE),IF(I74=2,VLOOKUP(T74,女子種目コード!$A$1:$B$35,2,FALSE))))","v":""},null,"","",null,null,null,null,null,null,null,null,null,null,"",null,null,null,null,null,0,0,"","",null,null,null,null,null,null,null,null,null,null,0,"",""]
[0,{"$f":"名簿!O73","v":""},null,null,{"$f":"名簿!E73","v":0},{"$f":"名簿!BD73","v":""},{"$f":"名簿!V73","v":""},{"$f":"名簿!BD73","v":""},{"$f":"名簿!U73","v":""},{"$f":"名簿!I73","v":0},{"$f":"名簿!K73","v":0},{"$f":"名簿!BK73","v":"00"},{"$f":"名簿!P73","v":""},null,null,{"$f":"IF(O75=\"\",\"\",IF(I75=1,VLOOKUP(O75,男子種目コード!$A$1:$B$35,2,FALSE),IF(I75=2,VLOOKUP(O75,女子種目コード!$A$1:$B$35,2,FALSE))))","v":""},{"$f":"IF(O75=\"\",\"\",HLOOKUP(O75,名簿!$W$4:$AV$184,70,FALSE))","v":""},"","",null,{"$f":"IF(T75=\"\",\"\",IF(I75=1,VLOOKUP(T75,男子種目コード!$A$1:$B$35,2,FALSE),IF(I75=2,VLOOKUP(T75,女子種目コード!$A$1:$B$35,2,FALSE))))","v":""},null,"","",null,null,null,null,null,null,null,null,null,null,"",null,null,null,null,null,0,0,"","",null,null,null,null,null,null,null,null,null,null,0,"",""]
[0,{"$f":"名簿!O74","v":""},null,null,{"$f":"名簿!E74","v":0},{"$f":"名簿!BD74","v":""},{"$f":"名簿!V74","v":""},{"$f":"名簿!BD74","v":""},{"$f":"名簿!U74","v":""},{"$f":"名簿!I74","v":0},{"$f":"名簿!K74","v":0},{"$f":"名簿!BK74","v":"00"},{"$f":"名簿!P74","v":""},null,null,{"$f":"IF(O76=\"\",\"\",IF(I76=1,VLOOKUP(O76,男子種目コード!$A$1:$B$35,2,FALSE),IF(I76=2,VLOOKUP(O76,女子種目コード!$A$1:$B$35,2,FALSE))))","v":""},{"$f":"IF(O76=\"\",\"\",HLOOKUP(O76,名簿!$W$4:$AV$184,71,FALSE))","v":""},"","",null,{"$f":"IF(T76=\"\",\"\",IF(I76=1,VLOOKUP(T76,男子種目コード!$A$1:$B$35,2,FALSE),IF(I76=2,VLOOKUP(T76,女子種目コード!$A$1:$B$35,2,FALSE))))","v":""},null,"","",null,null,null,null,null,null,null,null,null,null,"",null,null,null,null,null,0,0,"","",null,null,null,null,null,null,null,null,null,null,0,"",""]
[0,{"$f":"名簿!O75","v":""},null,null,{"$f":"名簿!E75","v":0},{"$f":"名簿!BD75","v":""},{"$f":"名簿!V75","v":""},{"$f":"名簿!BD75","v":""},{"$f":"名簿!U75","v":""},{"$f":"名簿!I75","v":0},{"$f":"名簿!K75","v":0},{"$f":"名簿!BK75","v":"00"},{"$f":"名簿!P75","v":""},null,null,{"$f":"IF(O77=\"\",\"\",IF(I77=1,VLOOKUP(O77,男子種目コード!$A$1:$B$35,2,FALSE),IF(I77=2,VLOOKUP(O77,女子種目コード!$A$1:$B$35,2,FALSE))))","v":""},{"$f":"IF(O77=\"\",\"\",HLOOKUP(O77,名簿!$W$4:$AV$184,72,FALSE))","v":""},"","",null,{"$f":"IF(T77=\"\",\"\",IF(I77=1,VLOOKUP(T77,男子種目コード!$A$1:$B$35,2,FALSE),IF(I77=2,VLOOKUP(T77,女子種目コード!$A$1:$B$35,2,FALSE))))","v":""},null,"","",null,null,null,null,null,null,null,null,null,null,"",null,null,null,null,null,0,0,"","",null,null,null,null,null,null,null,null,null,null,0,"",""]
[0,{"$f":"名簿!O76","v":""},null,null,{"$f":"名簿!E76","v":0},{"$f":"名簿!BD76","v":""},{"$f":"名簿!V76","v":""},{"$f":"名簿!BD76","v":""},{"$f":"名簿!U76","v":""},{"$f":"名簿!I76","v":0},{"$f":"名簿!K76","v":0},{"$f":"名簿!BK76","v":"00"},{"$f":"名簿!P76","v":""},null,null,{"$f":"IF(O78=\"\",\"\",IF(I78=1,VLOOKUP(O78,男子種目コード!$A$1:$B$35,2,FALSE),IF(I78=2,VLOOKUP(O78,女子種目コード!$A$1:$B$35,2,FALSE))))","v":""},{"$f":"IF(O78=\"\",\"\",HLOOKUP(O78,名簿!$W$4:$AV$184,73,FALSE))","v":""},"","",null,{"$f":"IF(T78=\"\",\"\",IF(I78=1,VLOOKUP(T78,男子種目コード!$A$1:$B$35,2,FALSE),IF(I78=2,VLOOKUP(T78,女子種目コード!$A$1:$B$35,2,FALSE))))","v":""},null,"","",null,null,null,null,null,null,null,null,null,null,"",null,null,null,null,null,0,0,"","",null,null,null,null,null,null,null,null,null,null,0,"",""]
[0,{"$f":"名簿!O77","v":""},null,null,{"$f":"名簿!E77","v":0},{"$f":"名簿!BD77","v":""},{"$f":"名簿!V77","v":""},{"$f":"名簿!BD77","v":""},{"$f":"名簿!U77","v":""},{"$f":"名簿!I77","v":0},{"$f":"名簿!K77","v":0},{"$f":"名簿!BK77","v":"00"},{"$f":"名簿!P77","v":""},null,null,{"$f":"IF(O79=\"\",\"\",IF(I79=1,VLOOKUP(O79,男子種目コード!$A$1:$B$35,2,FALSE),IF(I79=2,VLOOKUP(O79,女子種目コード!$A$1:$B$35,2,FALSE))))","v":""},{"$f":"IF(O79=\"\",\"\",HLOOKUP(O79,名簿!$W$4:$AV$184,74,FALSE))","v":""},"","",null,{"$f":"IF(T79=\"\",\"\",IF(I79=1,VLOOKUP(T79,男子種目コード!$A$1:$B$35,2,FALSE),IF(I79=2,VLOOKUP(T79,女子種目コード!$A$1:$B$35,2,FALSE))))","v":""},null,"","",null,null,null,null,null,null,null,null,null,null,"",null,null,null,null,null,0,0,"","",null,null,null,null,null,null,null,null,null,null,0,"",""]
[0,{"$f":"名簿!O78","v":""},null,null,{"$f":"名簿!E78","v":0},{"$f":"名簿!BD78","v":""},{"$f":"名簿!V78","v":""},{"$f":"名簿!BD78","v":""},{"$f":"名簿!U78","v":""},{"$f":"名簿!I78","v":0},{"$f":"名簿!K78","v":0},{"$f":"名簿!BK78","v":"00"},{"$f":"名簿!P78","v":""},null,null,{"$f":"IF(O80=\"\",\"\",IF(I80=1,VLOOKUP(O80,男子種目コード!$A$1:$B$35,2,FALSE),IF(I80=2,VLOOKUP(O80,女子種目コード!$A$1:$B$35,2,FALSE))))","v":""},{"$f":"IF(O80=\"\",\"\",HLOOKUP(O80,名簿!$W$4:$AV$184,75,FALSE))","v":""},"","",null,{"$f":"IF(T80=\"\",\"\",IF(I80=1,VLOOKUP(T80,男子種目コード!$A$1:$B$35,2,FALSE),IF(I80=2,VLOOKUP(T80,女子種目コード!$A$1:$B$35,2,FALSE))))","v":""},null,"","",null,null,null,null,null,null,null,null,null,null,"",null,null,null,null,null,0,0,"","",null,null,null,null,null,null,null,null,null,null,0,"",""]
[0,{"$f":"名簿!O79","v":""},null,null,{"$f":"名簿!E79","v":0},{"$f":"名簿!BD79","v":""},{"$f":"名簿!V79","v":""},{"$f":"名簿!BD79","v":""},{"$f":"名簿!U79","v":""},{"$f":"名簿!I79","v":0},{"$f":"名簿!K79","v":0},{"$f":"名簿!BK79","v":"00"},{"$f":"名簿!P79","v":""},null,null,{"$f":"IF(O81=\"\",\"\",IF(I81=1,VLOOKUP(O81,男子種目コード!$A$1:$B$35,2,FALSE),IF(I81=2,VLOOKUP(O81,女子種目コード!$A$1:$B$35,2,FALSE))))","v":""},{"$f":"IF(O81=\"\",\"\",HLOOKUP(O81,名簿!$W$4:$AV$184,76,FALSE))","v":""},"","",null,{"$f":"IF(T81=\"\",\"\",IF(I81=1,VLOOKUP(T81,男子種目コード!$A$1:$B$35,2,FALSE),IF(I81=2,VLOOKUP(T81,女子種目コード!$A$1:$B$35,2,FALSE))))","v":""},null,"","",null,null,null,null,null,null,null,null,null,null,"",null,null,null,null,null,0,0,"","",null,null,null,null,null,null,null,null,null,null,0,"",""]
[0,{"$f":"名簿!O80","v":""},null,null,{"$f":"名簿!E80","v":0},{"$f":"名簿!BD80","v":""},{"$f":"名簿!V80","v":""},{"$f":"名簿!BD80","v":""},{"$f":"名簿!U80","v":""},{"$f":"名簿!I80","v":0},{"$f":"名簿!K80","v":0},{"$f":"名簿!BK80","v":"00"},{"$f":"名簿!P80","v":""},null,null,{"$f":"IF(O82=\"\",\"\",IF(I82=1,VLOOKUP(O82,男子種目コード!$A$1:$B$35,2,FALSE),IF(I82=2,VLOOKUP(O82,女子種目コード!$A$1:$B$35,2,FALSE))))","v":""},{"$f":"IF(O82=\"\",\"\",HLOOKUP(O82,名簿!$W$4:$AV$184,77,FALSE))","v":""},"","",null,{"$f":"IF(T82=\"\",\"\",IF(I82=1,VLOOKUP(T82,男子種目コード!$A$1:$B$35,2,FALSE),IF(I82=2,VLOOKUP(T82,女子種目コード!$A$1:$B$35,2,FALSE))))","v":""},null,"","",null,null,null,null,null,null,null,null,null,null,"",null,null,null,null,null,0,0,"","",null,null,null,null,null,null,null,null,null,null,0,"",""]
[0,{"$f":"名簿!O81","v":""},null,null,{"$f":"名簿!E81","v":0},{"$f":"名簿!BD81","v":""},{"$f":"名簿!V81","v":""},{"$f":"名簿!BD81","v":""},{"$f":"名簿!U81","v":""},{"$f":"名簿!I81","v":0},{"$f":"名簿!K81","v":0},{"$f":"名簿!BK81","v":"00"},{"$f":"名簿!P81","v":""},null,null,{"$f":"IF(O83=\"\",\"\",IF(I83=1,VLOOKUP(O83,男子種目コード!$A$1:$B$35,2,FALSE),IF(I83=2,VLOOKUP(O83,女子種目コード!$A$1:$B$35,2,FALSE))))","v":""},{"$f":"IF(O83=\"\",\"\",HLOOKUP(O83,名簿!$W$4:$AV$184,78,FALSE))","v":""},"","",null,{"$f":"IF(T83=\"\",\"\",IF(I83=1,VLOOKUP(T83,男子種目コード!$A$1:$B$35,2,FALSE),IF(I83=2,VLOOKUP(T83,女子種目コード!$A$1:$B$35,2,FALSE))))","v":""},null,"","",null,null,null,null,null,null,null,null,null,null,"",null,null,null,null,null,0,0,"","",null,null,null,null,null,null,null,null,null,null,0,"",""]
[0,{"$f":"名簿!O82","v":""},null,null,{"$f":"名簿!E82","v":0},{"$f":"名簿!BD82","v":""},{"$f":"名簿!V82","v":""},{"$f":"名簿!BD82","v":""},{"$f":"名簿!U82","v":""},{"$f":"名簿!I82","v":0},{"$f":"名簿!K82","v":0},{"$f":"名簿!BK82","v":"00"},{"$f":"名簿!P82","v":""},null,null,{"$f":"IF(O84=\"\",\"\",IF(I84=1,VLOOKUP(O84,男子種目コード!$A$1:$B$35,2,FALSE),IF(I84=2,VLOOKUP(O84,女子種目コード!$A$1:$B$35,2,FALSE))))","v":""},{"$f":"IF(O84=\"\",\"\",HLOOKUP(O84,名簿!$W$4:$AV$184,79,FALSE))","v":""},"","",null,{"$f":"IF(T84=\"\",\"\",IF(I84=1,VLOOKUP(T84,男子種目コード!$A$1:$B$35,2,FALSE),IF(I84=2,VLOOKUP(T84,女子種目コード!$A$1:$B$35,2,FALSE))))","v":""},null,"","",null,null,null,null,null,null,null,null,null,null,"",null,null,null,null,null,0,0,"","",null,null,null,null,null,null,null,null,null,null,0,"",""]
[0,{"$f":"名簿!O83","v":""},null,null,{"$f":"名簿!E83","v":0},{"$f":"名簿!BD83","v":""},{"$f":"名簿!V83","v":""},{"$f":"名簿!BD83","v":""},{"$f":"名簿!U83","v":""},{"$f":"名簿!I83","v":0},{"$f":"名簿!K83","v":0},{"$f":"名簿!BK83","v":"00"},{"$f":"名簿!P83","v":""},null,null,{"$f":"IF(O85=\"\",\"\",IF(I85=1,VLOOKUP(O85,男子種目コード!$A$1:$B$35,2,FALSE),IF(I85=2,VLOOKUP(O85,女子種目コード!$A$1:$B$35,2,FALSE))))","v":""},{"$f":"IF(O85=\"\",\"\",HLOOKUP(O85,名簿!$W$4:$AV$184,80,FALSE))","v":""},"","",null,{"$f":"IF(T85=\"\",\"\",IF(I85=1,VLOOKUP(T85,男子種目コード!$A$1:$B$35,2,FALSE),IF(I85=2,VLOOKUP(T85,女子種目コード!$A$1:$B$35,2,FALSE))))","v":""},null,"","",null,null,null,null,null,null,null,null,null,null,"",null,null,null,null,null,0,0,"","",null,null,null,null,null,null,null,null,null,null,0,"",""]
[0,{"$f":"名簿!O84","v":""},null,null,{"$f":"名簿!E84","v":0},{"$f":"名簿!BD84","v":""},{"$f":"名簿!V84","v":""},{"$f":"名簿!BD84","v":""},{"$f":"名簿!U84","v":""},{"$f":"名簿!I84","v":0},{"$f":"名簿!K84","v":0},{"$f":"名簿!BK84","v":"00"},{"$f":"名簿!P84","v":""},null,null,{"$f":"IF(O86=\"\",\"\",IF(I86=1,VLOOKUP(O86,男子種目コード!$A$1:$B$35,2,FALSE),IF(I86=2,VLOOKUP(O86,女子種目コード!$A$1:$B$35,2,FALSE))))","v":""},{"$f":"IF(O86=\"\",\"\",HLOOKUP(O86,名簿!$W$4:$AV$184,81,FALSE))","v":""},"","",null,{"$f":"IF(T86=\"\",\"\",IF(I86=1,VLOOKUP(T86,男子種目コード!$A$1:$B$35,2,FALSE),IF(I86=2,VLOOKUP(T86,女子種目コード!$A$1:$B$35,2,FALSE))))","v":""},null,"","",null,null,null,null,null,null,null,null,null,null,"",null,null,null,null,null,0,0,"","",null,null,null,null,null,null,null,null,null,null,0,"",""]
[0,{"$f":"名簿!O85","v":""},null,null,{"$f":"名簿!E85","v":0},{"$f":"名簿!BD85","v":""},{"$f":"名簿!V85","v":""},{"$f":"名簿!BD85","v":""},{"$f":"名簿!U85","v":""},{"$f":"名簿!I85","v":0},{"$f":"名簿!K85","v":0},{"$f":"名簿!BK85","v":"00"},{"$f":"名簿!P85","v":""},null,null,{"$f":"IF(O87=\"\",\"\",IF(I87=1,VLOOKUP(O87,男子種目コード!$A$1:$B$35,2,FALSE),IF(I87=2,VLOOKUP(O87,女子種目コード!$A$1:$B$35,2,FALSE))))","v":""},{"$f":"IF(O87=\"\",\"\",HLOOKUP(O87,名簿!$W$4:$AV$184,82,FALSE))","v":""},"","",null,{"$f":"IF(T87=\"\",\"\",IF(I87=1,VLOOKUP(T87,男子種目コード!$A$1:$B$35,2,FALSE),IF(I87=2,VLOOKUP(T87,女子種目コード!$A$1:$B$35,2,FALSE))))","v":""},null,"","",null,null,null,null,null,null,null,null,null,null,"",null,null,null,null,null,0,0,"","",null,null,null,null,null,null,null,null,null,null,0,"",""]
[0,{"$f":"名簿!O86","v":""},null,null,{"$f":"名簿!E86","v":0},{"$f":"名簿!BD86","v":""},{"$f":"名簿!V86","v":""},{"$f":"名簿!BD86","v":""},{"$f":"名簿!U86","v":""},{"$f":"名簿!I86","v":0},{"$f":"名簿!K86","v":0},{"$f":"名簿!BK86","v":"00"},{"$f":"名簿!P86","v":""},null,null,{"$f":"IF(O88=\"\",\"\",IF(I88=1,VLOOKUP(O88,男子種目コード!$A$1:$B$35,2,FALSE),IF(I88=2,VLOOKUP(O88,女子種目コード!$A$1:$B$35,2,FALSE))))","v":""},{"$f":"IF(O88=\"\",\"\",HLOOKUP(O88,名簿!$W$4:$AV$184,83,FALSE))","v":""},"","",null,{"$f":"IF(T88=\"\",\"\",IF(I88=1,VLOOKUP(T88,男子種目コード!$A$1:$B$35,2,FALSE),IF(I88=2,VLOOKUP(T88,女子種目コード!$A$1:$B$35,2,FALSE))))","v":""},null,"","",null,null,null,null,null,null,null,null,null,null,"",null,null,null,null,null,0,0,"","",null,null,null,null,null,null,null,null,null,null,0,"",""]
[0,{"$f":"名簿!O87","v":""},null,null,{"$f":"名簿!E87","v":0},{"$f":"名簿!BD87","v":""},{"$f":"名簿!V87","v":""},{"$f":"名簿!BD87","v":""},{"$f":"名簿!U87","v":""},{"$f":"名簿!I87","v":0},{"$f":"名簿!K87","v":0},{"$f":"名簿!BK87","v":"00"},{"$f":"名簿!P87","v":""},null,null,{"$f":"IF(O89=\"\",\"\",IF(I89=1,VLOOKUP(O89,男子種目コード!$A$1:$B$35,2,FALSE),IF(I89=2,VLOOKUP(O89,女子種目コード!$A$1:$B$35,2,FALSE))))","v":""},{"$f":"IF(O89=\"\",\"\",HLOOKUP(O89,名簿!$W$4:$AV$184,84,FALSE))","v":""},"","",null,{"$f":"IF(T89=\"\",\"\",IF(I89=1,VLOOKUP(T89,男子種目コード!$A$1:$B$35,2,FALSE),IF(I89=2,VLOOKUP(T89,女子種目コード!$A$1:$B$35,2,FALSE))))","v":""},null,"","",null,null,null,null,null,null,null,null,null,null,"",null,null,null,null,null,0,0,"","",null,null,null,null,null,null,null,null,null,null,0,"",""]
[0,{"$f":"名簿!O88","v":""},null,null,{"$f":"名簿!E88","v":0},{"$f":"名簿!BD88","v":""},{"$f":"名簿!V88","v":""},{"$f":"名簿!BD88","v":""},{"$f":"名簿!U88","v":""},{"$f":"名簿!I88","v":0},{"$f":"名簿!K88","v":0},{"$f":"名簿!BK88","v":"00"},{"$f":"名簿!P88","v":""},null,null,{"$f":"IF(O90=\"\",\"\",IF(I90=1,VLOOKUP(O90,男子種目コード!$A$1:$B$35,2,FALSE),IF(I90=2,VLOOKUP(O90,女子種目コード!$A$1:$B$35,2,FALSE))))","v":""},{"$f":"IF(O90=\"\",\"\",HLOOKUP(O90,名簿!$W$4:$AV$184,85,FALSE))","v":""},"","",null,{"$f":"IF(T90=\"\",\"\",IF(I90=1,VLOOKUP(T90,男子種目コード!$A$1:$B$35,2,FALSE),IF(I90=2,VLOOKUP(T90,女子種目コード!$A$1:$B$35,2,FALSE))))","v":""},null,"","",null,null,null,null,null,null,null,null,null,null,"",null,null,null,null,null,0,0,"","",null,null,null,null,null,null,null,null,null,null,0,"",""]
[0,{"$f":"名簿!O89","v":""},null,null,{"$f":"名簿!E89","v":0},{"$f":"名簿!BD89","v":""},{"$f":"名簿!V89","v":""},{"$f":"名簿!BD89","v":""},{"$f":"名簿!U89","v":""},{"$f":"名簿!I89","v":0},{"$f":"名簿!K89","v":0},{"$f":"名簿!BK89","v":"00"},{"$f":"名簿!P89","v":""},null,null,{"$f":"IF(O91=\"\",\"\",IF(I91=1,VLOOKUP(O91,男子種目コード!$A$1:$B$35,2,FALSE),IF(I91=2,VLOOKUP(O91,女子種目コード!$A$1:$B$35,2,FALSE))))","v":""},{"$f":"IF(O91=\"\",\"\",HLOOKUP(O91,名簿!$W$4:$AV$184,86,FALSE))","v":""},"","",null,{"$f":"IF(T91=\"\",\"\",IF(I91=1,VLOOKUP(T91,男子種目コード!$A$1:$B$35,2,FALSE),IF(I91=2,VLOOKUP(T91,女子種目コード!$A$1:$B$35,2,FALSE))))","v":""},null,"","",null,null,null,null,null,null,null,null,null,null,"",null,null,null,null,null,0,0,"","",null,null,null,null,null,null,null,null,null,null,0,"",""]
[0,{"$f":"名簿!O90","v":""},null,null,{"$f":"名簿!E90","v":0},{"$f":"名簿!BD90","v":""},{"$f":"名簿!V90","v":""},{"$f":"名簿!BD90","v":""},{"$f":"名簿!U90","v":""},{"$f":"名簿!I90","v":0},{"$f":"名簿!K90","v":0},{"$f":"名簿!BK90","v":"00"},{"$f":"名簿!P90","v":""},null,null,{"$f":"IF(O92=\"\",\"\",IF(I92=1,VLOOKUP(O92,男子種目コード!$A$1:$B$35,2,FALSE),IF(I92=2,VLOOKUP(O92,女子種目コード!$A$1:$B$35,2,FALSE))))","v":""},{"$f":"IF(O92=\"\",\"\",HLOOKUP(O92,名簿!$W$4:$AV$184,87,FALSE))","v":""},"","",null,{"$f":"IF(T92=\"\",\"\",IF(I92=1,VLOOKUP(T92,男子種目コード!$A$1:$B$35,2,FALSE),IF(I92=2,VLOOKUP(T92,女子種目コード!$A$1:$B$35,2,FALSE))))","v":""},null,"","",null,null,null,null,null,null,null,null,null,null,"",null,null,null,null,null,0,0,"","",null,null,null,null,null,null,null,null,null,null,0,"",""]
[0,{"$f":"名簿!O91","v":""},null,null,{"$f":"名簿!E91","v":0},{"$f":"名簿!BD91","v":""},{"$f":"名簿!V91","v":""},{"$f":"名簿!BD91","v":""},{"$f":"名簿!U91","v":""},{"$f":"名簿!I91","v":0},{"$f":"名簿!K91","v":0},{"$f":"名簿!BK91","v":"00"},{"$f":"名簿!P91","v":""},null,null,{"$f":"IF(O93=\"\",\"\",IF(I93=1,VLOOKUP(O93,男子種目コード!$A$1:$B$35,2,FALSE),IF(I93=2,VLOOKUP(O93,女子種目コード!$A$1:$B$35,2,FALSE))))","v":""},{"$f":"IF(O93=\"\",\"\",HLOOKUP(O93,名簿!$W$4:$AV$184,88,FALSE))","v":""},"","",null,{"$f":"IF(T93=\"\",\"\",IF(I93=1,VLOOKUP(T93,男子種目コード!$A$1:$B$35,2,FALSE),IF(I93=2,VLOOKUP(T93,女子種目コード!$A$1:$B$35,2,FALSE))))","v":""},null,"","",null,null,null,null,null,null,null,null,null,null,"",null,null,null,null,null,0,0,"","",null,null,null,null,null,null,null,null,null,null,0,"",""]
[0,{"$f":"名簿!O92","v":""},null,null,{"$f":"名簿!E92","v":0},{"$f":"名簿!BD92","v":""},{"$f":"名簿!V92","v":""},{"$f":"名簿!BD92","v":""},{"$f":"名簿!U92","v":""},{"$f":"名簿!I92","v":0},{"$f":"名簿!K92","v":0},{"$f":"名簿!BK92","v":"00"},{"$f":"名簿!P92","v":""},null,null,{"$f":"IF(O94=\"\",\"\",IF(I94=1,VLOOKUP(O94,男子種目コード!$A$1:$B$35,2,FALSE),IF(I94=2,VLOOKUP(O94,女子種目コード!$A$1:$B$35,2,FALSE))))","v":""},{"$f":"IF(O94=\"\",\"\",HLOOKUP(O94,名簿!$W$4:$AV$184,89,FALSE))","v":""},"","",null,{"$f":"IF(T94=\"\",\"\",IF(I94=1,VLOOKUP(T94,男子種目コード!$A$1:$B$35,2,FALSE),IF(I94=2,VLOOKUP(T94,女子種目コード!$A$1:$B$35,2,FALSE))))","v":""},null,"","",null,null,null,null,null,null,null,null,null,null,"",null,null,null,null,null,0,0,"","",null,null,null,null,null,null,null,null,null,null,0,"",""]
[0,{"$f":"名簿!O93","v":""},null,null,{"$f":"名簿!E93","v":0},{"$f":"名簿!BD93","v":""},{"$f":"名簿!V93","v":""},{"$f":"名簿!BD93","v":""},{"$f":"名簿!U93","v":""},{"$f":"名簿!I93","v":0},{"$f":"名簿!K93","v":0},{"$f":"名簿!BK93","v":"00"},{"$f":"名簿!P93","v":""},null,null,{"$f":"IF(O95=\"\",\"\",IF(I95=1,VLOOKUP(O95,男子種目コード!$A$1:$B$35,2,FALSE),IF(I95=2,VLOOKUP(O95,女子種目コード!$A$1:$B$35,2,FALSE))))","v":""},{"$f":"IF(O95=\"\",\"\",HLOOKUP(O95,名簿!$W$4:$AV$184,90,FALSE))","v":""},"","",null,{"$f":"IF(T95=\"\",\"\",IF(I95=1,VLOOKUP(T95,男子種目コード!$A$1:$B$35,2,FALSE),IF(I95=2,VLOOKUP(T95,女子種目コード!$A$1:$B$35,2,FALSE))))","v":""},null,"","",null,null,null,null,null,null,null,null,null,null,"",null,null,null,null,null,0,0,"","",null,null,null,null,null,null,null,null,null,null,0,"",""]
[0,{"$f":"名簿!O94","v":""},null,null,{"$f":"名簿!E94","v":0},{"$f":"名簿!BD94","v":""},{"$f":"名簿!V94","v":""},{"$f":"名簿!BD94","v":""},{"$f":"名簿!U94","v":""},{"$f":"名簿!I94","v":0},{"$f":"名簿!K94","v":0},{"$f":"名簿!BK94","v":"00"},{"$f":"名簿!P94","v":""},null,null,{"$f":"IF(O96=\"\",\"\",IF(I96=1,VLOOKUP(O96,男子種目コード!$A$1:$B$35,2,FALSE),IF(I96=2,VLOOKUP(O96,女子種目コード!$A$1:$B$35,2,FALSE))))","v":""},{"$f":"IF(O96=\"\",\"\",HLOOKUP(O96,名簿!$W$4:$AV$184,91,FALSE))","v":""},"","",null,{"$f":"IF(T96=\"\",\"\",IF(I96=1,VLOOKUP(T96,男子種目コード!$A$1:$B$35,2,FALSE),IF(I96=2,VLOOKUP(T96,女子種目コード!$A$1:$B$35,2,FALSE))))","v":""},null,"","",null,null,null,null,null,null,null,null,null,null,"",null,null,null,null,null,0,0,"","",null,null,null,null,null,null,null,null,null,null,0,"",""]
[0,{"$f":"名簿!O95","v":""},null,null,{"$f":"名簿!E95","v":0},{"$f":"名簿!BD95","v":""},{"$f":"名簿!V95","v":""},{"$f":"名簿!BD95","v":""},{"$f":"名簿!U95","v":""},{"$f":"名簿!I95","v":0},{"$f":"名簿!K95","v":0},{"$f":"名簿!BK95","v":"00"},{"$f":"名簿!P95","v":""},null,null,{"$f":"IF(O97=\"\",\"\",IF(I97=1,VLOOKUP(O97,男子種目コード!$A$1:$B$35,2,FALSE),IF(I97=2,VLOOKUP(O97,女子種目コード!$A$1:$B$35,2,FALSE))))","v":""},{"$f":"IF(O97=\"\",\"\",HLOOKUP(O97,名簿!$W$4:$AV$184,92,FALSE))","v":""},"","",null,{"$f":"IF(T97=\"\",\"\",IF(I97=1,VLOOKUP(T97,男子種目コード!$A$1:$B$35,2,FALSE),IF(I97=2,VLOOKUP(T97,女子種目コード!$A$1:$B$35,2,FALSE))))","v":""},null,"","",null,null,null,null,null,null,null,null,null,null,"",null,null,null,null,null,0,0,"","",null,null,null,null,null,null,null,null,null,null,0,"",""]
[0,{"$f":"名簿!O96","v":""},null,null,{"$f":"名簿!E96","v":0},{"$f":"名簿!BD96","v":""},{"$f":"名簿!V96","v":""},{"$f":"名簿!BD96","v":""},{"$f":"名簿!U96","v":""},{"$f":"名簿!I96","v":0},{"$f":"名簿!K96","v":0},{"$f":"名簿!BK96","v":"00"},{"$f":"名簿!P96","v":""},null,null,{"$f":"IF(O98=\"\",\"\",IF(I98=1,VLOOKUP(O98,男子種目コード!$A$1:$B$35,2,FALSE),IF(I98=2,VLOOKUP(O98,女子種目コード!$A$1:$B$35,2,FALSE))))","v":""},{"$f":"IF(O98=\"\",\"\",HLOOKUP(O98,名簿!$W$4:$AV$184,93,FALSE))","v":""},"","",null,{"$f":"IF(T98=\"\",\"\",IF(I98=1,VLOOKUP(T98,男子種目コード!$A$1:$B$35,2,FALSE),IF(I98=2,VLOOKUP(T98,女子種目コード!$A$1:$B$35,2,FALSE))))","v":""},null,"","",null,null,null,null,null,null,null,null,null,null,"",null,null,null,null,null,0,0,"","",null,null,null,null,null,null,null,null,null,null,0,"",""]
[0,{"$f":"名簿!O97","v":""},null,null,{"$f":"名簿!E97","v":0},{"$f":"名簿!BD97","v":""},{"$f":"名簿!V97","v":""},{"$f":"名簿!BD97","v":""},{"$f":"名簿!U97","v":""},{"$f":"名簿!I97","v":0},{"$f":"名簿!K97","v":0},{"$f":"名簿!BK97","v":"00"},{"$f":"名簿!P97","v":""},null,null,{"$f":"IF(O99=\"\",\"\",IF(I99=1,VLOOKUP(O99,男子種目コード!$A$1:$B$35,2,FALSE),IF(I99=2,VLOOKUP(O99,女子種目コード!$A$1:$B$35,2,FALSE))))","v":""},{"$f":"IF(O99=\"\",\"\",HLOOKUP(O99,名簿!$W$4:$AV$184,94,FALSE))","v":""},"","",null,{"$f":"IF(T99=\"\",\"\",IF(I99=1,VLOOKUP(T99,男子種目コード!$A$1:$B$35,2,FALSE),IF(I99=2,VLOOKUP(T99,女子種目コード!$A$1:$B$35,2,FALSE))))","v":""},null,"","",null,null,null,null,null,null,null,null,null,null,"",null,null,null,null,null,0,0,"","",null,null,null,null,null,null,null,null,null,null,0,"",""]
[0,{"$f":"名簿!O98","v":""},null,null,{"$f":"名簿!E98","v":0},{"$f":"名簿!BD98","v":""},{"$f":"名簿!V98","v":""},{"$f":"名簿!BD98","v":""},{"$f":"名簿!U98","v":""},{"$f":"名簿!I98","v":0},{"$f":"名簿!K98","v":0},{"$f":"名簿!BK98","v":"00"},{"$f":"名簿!P98","v":""},null,null,{"$f":"IF(O100=\"\",\"\",IF(I100=1,VLOOKUP(O100,男子種目コード!$A$1:$B$35,2,FALSE),IF(I100=2,VLOOKUP(O100,女子種目コード!$A$1:$B$35,2,FALSE))))","v":""},{"$f":"IF(O100=\"\",\"\",HLOOKUP(O100,名簿!$W$4:$AV$184,95,FALSE))","v":""},"","",null,{"$f":"IF(T100=\"\",\"\",IF(I100=1,VLOOKUP(T100,男子種目コード!$A$1:$B$35,2,FALSE),IF(I100=2,VLOOKUP(T100,女子種目コード!$A$1:$B$35,2,FALSE))))","v":""},null,"","",null,null,null,null,null,null,null,null,null,null,"",null,null,null,null,null,0,0,"","",null,null,null,null,null,null,null,null,null,null,0,"",""]
[0,{"$f":"名簿!O99","v":""},null,null,{"$f":"名簿!E99","v":0},{"$f":"名簿!BD99","v":""},{"$f":"名簿!V99","v":""},{"$f":"名簿!BD99","v":""},{"$f":"名簿!U99","v":""},{"$f":"名簿!I99","v":0},{"$f":"名簿!K99","v":0},{"$f":"名簿!BK99","v":"00"},{"$f":"名簿!P99","v":""},null,null,{"$f":"IF(O101=\"\",\"\",IF(I101=1,VLOOKUP(O101,男子種目コード!$A$1:$B$35,2,FALSE),IF(I101=2,VLOOKUP(O101,女子種目コード!$A$1:$B$35,2,FALSE))))","v":""},{"$f":"IF(O101=\"\",\"\",HLOOKUP(O101,名簿!$W$4:$AV$184,96,FALSE))","v":""},"","",null,{"$f":"IF(T101=\"\",\"\",IF(I101=1,VLOOKUP(T101,男子種目コード!$A$1:$B$35,2,FALSE),IF(I101=2,VLOOKUP(T101,女子種目コード!$A$1:$B$35,2,FALSE))))","v":""},null,"","",null,null,null,null,null,null,null,null,null,null,"",null,null,null,null,null,0,0,"","",null,null,null,null,null,null,null,null,null,null,0,"",""]
[0,{"$f":"名簿!O100","v":""},null,null,{"$f":"名簿!E100","v":0},{"$f":"名簿!BD100","v":""},{"$f":"名簿!V100","v":""},{"$f":"名簿!BD100","v":""},{"$f":"名簿!U100","v":""},{"$f":"名簿!I100","v":0},{"$f":"名簿!K100","v":0},{"$f":"名簿!BK100","v":"00"},{"$f":"名簿!P100","v":""},null,null,{"$f":"IF(O102=\"\",\"\",IF(I102=1,VLOOKUP(O102,男子種目コード!$A$1:$B$35,2,FALSE),IF(I102=2,VLOOKUP(O102,女子種目コード!$A$1:$B$35,2,FALSE))))","v":""},{"$f":"IF(O102=\"\",\"\",HLOOKUP(O102,名簿!$W$4:$AV$184,97,FALSE))","v":""},"","",null,{"$f":"IF(T102=\"\",\"\",IF(I102=1,VLOOKUP(T102,男子種目コード!$A$1:$B$35,2,FALSE),IF(I102=2,VLOOKUP(T102,女子種目コード!$A$1:$B$35,2,FALSE))))","v":""},null,"","",null,null,null,null,null,null,null,null,null,null,"",null,null,null,null,null,0,0,"","",null,null,null,null,null,null,null,null,null,null,0,"",""]
[0,{"$f":"名簿!O101","v":""},null,null,{"$f":"名簿!E101","v":0},{"$f":"名簿!BD101","v":""},{"$f":"名簿!V101","v":""},{"$f":"名簿!BD101","v":""},{"$f":"名簿!U101","v":""},{"$f":"名簿!I101","v":0},{"$f":"名簿!K101","v":0},{"$f":"名簿!BK101","v":"00"},{"$f":"名簿!P101","v":""},null,null,{"$f":"IF(O103=\"\",\"\",IF(I103=1,VLOOKUP(O103,男子種目コード!$A$1:$B$35,2,FALSE),IF(I103=2,VLOOKUP(O103,女子種目コード!$A$1:$B$35,2,FALSE))))","v":""},{"$f":"IF(O103=\"\",\"\",HLOOKUP(O103,名簿!$W$4:$AV$184,98,FALSE))","v":""},"","",null,{"$f":"IF(T103=\"\",\"\",IF(I103=1,VLOOKUP(T103,男子種目コード!$A$1:$B$35,2,FALSE),IF(I103=2,VLOOKUP(T103,女子種目コード!$A$1:$B$35,2,FALSE))))","v":""},null,"","",null,null,null,null,null,null,null,null,null,null,"",null,null,null,null,null,0,0,"","",null,null,null,null,null,null,null,null,null,null,0,"",""]
[0,{"$f":"名簿!O102","v":""},null,null,{"$f":"名簿!E102","v":0},{"$f":"名簿!BD102","v":""},{"$f":"名簿!V102","v":""},{"$f":"名簿!BD102","v":""},{"$f":"名簿!U102","v":""},{"$f":"名簿!I102","v":0},{"$f":"名簿!K102","v":0},{"$f":"名簿!BK102","v":"00"},{"$f":"名簿!P102","v":""},null,null,{"$f":"IF(O104=\"\",\"\",IF(I104=1,VLOOKUP(O104,男子種目コード!$A$1:$B$35,2,FALSE),IF(I104=2,VLOOKUP(O104,女子種目コード!$A$1:$B$35,2,FALSE))))","v":""},{"$f":"IF(O104=\"\",\"\",HLOOKUP(O104,名簿!$W$4:$AV$184,99,FALSE))","v":""},"","",null,{"$f":"IF(T104=\"\",\"\",IF(I104=1,VLOOKUP(T104,男子種目コード!$A$1:$B$35,2,FALSE),IF(I104=2,VLOOKUP(T104,女子種目コード!$A$1:$B$35,2,FALSE))))","v":""},null,"","",null,null,null,null,null,null,null,null,null,null,"",null,null,null,null,null,0,0,"","",null,null,null,null,null,null,null,null,null,null,0,"",""]
[0,{"$f":"名簿!O103","v":""},null,null,{"$f":"名簿!E103","v":0},{"$f":"名簿!BD103","v":""},{"$f":"名簿!V103","v":""},{"$f":"名簿!BD103","v":""},{"$f":"名簿!U103","v":""},{"$f":"名簿!I103","v":0},{"$f":"名簿!K103","v":0},{"$f":"名簿!BK103","v":"00"},{"$f":"名簿!P103","v":""},null,null,{"$f":"IF(O105=\"\",\"\",IF(I105=1,VLOOKUP(O105,男子種目コード!$A$1:$B$35,2,FALSE),IF(I105=2,VLOOKUP(O105,女子種目コード!$A$1:$B$35,2,FALSE))))","v":""},{"$f":"IF(O105=\"\",\"\",HLOOKUP(O105,名簿!$W$4:$AV$184,100,FALSE))","v":""},"","",null,{"$f":"IF(T105=\"\",\"\",IF(I105=1,VLOOKUP(T105,男子種目コード!$A$1:$B$35,2,FALSE),IF(I105=2,VLOOKUP(T105,女子種目コード!$A$1:$B$35,2,FALSE))))","v":""},null,"","",null,null,null,null,null,null,null,null,null,null,"",null,null,null,null,null,0,0,"","",null,null,null,null,null,null,null,null,null,null,0,"",""]
[0,{"$f":"名簿!O104","v":""},null,null,{"$f":"名簿!E104","v":0},{"$f":"名簿!BD104","v":""},{"$f":"名簿!V104","v":""},{"$f":"名簿!BD104","v":""},{"$f":"名簿!U104","v":""},{"$f":"名簿!I104","v":0},{"$f":"名簿!K104","v":0},{"$f":"名簿!BK104","v":"00"},{"$f":"名簿!P104","v":""},null,null,{"$f":"IF(O106=\"\",\"\",IF(I106=1,VLOOKUP(O106,男子種目コード!$A$1:$B$35,2,FALSE),IF(I106=2,VLOOKUP(O106,女子種目コード!$A$1:$B$35,2,FALSE))))","v":""},{"$f":"IF(O106=\"\",\"\",HLOOKUP(O106,名簿!$W$4:$AV$184,101,FALSE))","v":""},"","",null,{"$f":"IF(T106=\"\",\"\",IF(I106=1,VLOOKUP(T106,男子種目コード!$A$1:$B$35,2,FALSE),IF(I106=2,VLOOKUP(T106,女子種目コード!$A$1:$B$35,2,FALSE))))","v":""},null,"","",null,null,null,null,null,null,null,null,null,null,"",null,null,null,null,null,0,0,"","",null,null,null,null,null,null,null,null,null,null,0,"",""]
[0,{"$f":"名簿!O105","v":""},null,null,{"$f":"名簿!E105","v":0},{"$f":"名簿!BD105","v":""},{"$f":"名簿!V105","v":""},{"$f":"名簿!BD105","v":""},{"$f":"名簿!U105","v":""},{"$f":"名簿!I105","v":0},{"$f":"名簿!K105","v":0},{"$f":"名簿!BK105","v":"00"},{"$f":"名簿!P105","v":""},null,null,{"$f":"IF(O107=\"\",\"\",IF(I107=1,VLOOKUP(O107,男子種目コード!$A$1:$B$35,2,FALSE),IF(I107=2,VLOOKUP(O107,女子種目コード!$A$1:$B$35,2,FALSE))))","v":""},{"$f":"IF(O107=\"\",\"\",HLOOKUP(O107,名簿!$W$4:$AV$184,102,FALSE))","v":""},"","",null,{"$f":"IF(T107=\"\",\"\",IF(I107=1,VLOOKUP(T107,男子種目コード!$A$1:$B$35,2,FALSE),IF(I107=2,VLOOKUP(T107,女子種目コード!$A$1:$B$35,2,FALSE))))","v":""},null,"","",null,null,null,null,null,null,null,null,null,null,"",null,null,null,null,null,0,0,"","",null,null,null,null,null,null,null,null,null,null,0,"",""]
[0,{"$f":"名簿!O106","v":""},null,null,{"$f":"名簿!E106","v":0},{"$f":"名簿!BD106","v":""},{"$f":"名簿!V106","v":""},{"$f":"名簿!BD106","v":""},{"$f":"名簿!U106","v":""},{"$f":"名簿!I106","v":0},{"$f":"名簿!K106","v":0},{"$f":"名簿!BK106","v":"00"},{"$f":"名簿!P106","v":""},null,null,{"$f":"IF(O108=\"\",\"\",IF(I108=1,VLOOKUP(O108,男子種目コード!$A$1:$B$35,2,FALSE),IF(I108=2,VLOOKUP(O108,女子種目コード!$A$1:$B$35,2,FALSE))))","v":""},{"$f":"IF(O108=\"\",\"\",HLOOKUP(O108,名簿!$W$4:$AV$184,103,FALSE))","v":""},"","",null,{"$f":"IF(T108=\"\",\"\",IF(I108=1,VLOOKUP(T108,男子種目コード!$A$1:$B$35,2,FALSE),IF(I108=2,VLOOKUP(T108,女子種目コード!$A$1:$B$35,2,FALSE))))","v":""},null,"","",null,null,null,null,null,null,null,null,null,null,"",null,null,null,null,null,0,0,"","",null,null,null,null,null,null,null,null,null,null,0,"",""]
[0,{"$f":"名簿!O107","v":""},null,null,{"$f":"名簿!E107","v":0},{"$f":"名簿!BD107","v":""},{"$f":"名簿!V107","v":""},{"$f":"名簿!BD107","v":""},{"$f":"名簿!U107","v":""},{"$f":"名簿!I107","v":0},{"$f":"名簿!K107","v":0},{"$f":"名簿!BK107","v":"00"},{"$f":"名簿!P107","v":""},null,null,{"$f":"IF(O109=\"\",\"\",IF(I109=1,VLOOKUP(O109,男子種目コード!$A$1:$B$35,2,FALSE),IF(I109=2,VLOOKUP(O109,女子種目コード!$A$1:$B$35,2,FALSE))))","v":""},{"$f":"IF(O109=\"\",\"\",HLOOKUP(O109,名簿!$W$4:$AV$184,104,FALSE))","v":""},"","",null,{"$f":"IF(T109=\"\",\"\",IF(I109=1,VLOOKUP(T109,男子種目コード!$A$1:$B$35,2,FALSE),IF(I109=2,VLOOKUP(T109,女子種目コード!$A$1:$B$35,2,FALSE))))","v":""},null,"","",null,null,null,null,null,null,null,null,null,null,"",null,null,null,null,null,0,0,"","",null,null,null,null,null,null,null,null,null,null,0,"",""]
[0,{"$f":"名簿!O108","v":""},null,null,{"$f":"名簿!E108","v":0},{"$f":"名簿!BD108","v":""},{"$f":"名簿!V108","v":""},{"$f":"名簿!BD108","v":""},{"$f":"名簿!U108","v":""},{"$f":"名簿!I108","v":0},{"$f":"名簿!K108","v":0},{"$f":"名簿!BK108","v":"00"},{"$f":"名簿!P108","v":""},null,null,{"$f":"IF(O110=\"\",\"\",IF(I110=1,VLOOKUP(O110,男子種目コード!$A$1:$B$35,2,FALSE),IF(I110=2,VLOOKUP(O110,女子種目コード!$A$1:$B$35,2,FALSE))))","v":""},{"$f":"IF(O110=\"\",\"\",HLOOKUP(O110,名簿!$W$4:$AV$184,105,FALSE))","v":""},"","",null,{"$f":"IF(T110=\"\",\"\",IF(I110=1,VLOOKUP(T110,男子種目コード!$A$1:$B$35,2,FALSE),IF(I110=2,VLOOKUP(T110,女子種目コード!$A$1:$B$35,2,FALSE))))","v":""},null,"","",null,null,null,null,null,null,null,null,null,null,"",null,null,null,null,null,0,0,"","",null,null,null,null,null,null,null,null,null,null,0,"",""]
[0,{"$f":"名簿!O109","v":""},null,null,{"$f":"名簿!E109","v":0},{"$f":"名簿!BD109","v":""},{"$f":"名簿!V109","v":""},{"$f":"名簿!BD109","v":""},{"$f":"名簿!U109","v":""},{"$f":"名簿!I109","v":0},{"$f":"名簿!K109","v":0},{"$f":"名簿!BK109","v":"00"},{"$f":"名簿!P109","v":""},null,null,{"$f":"IF(O111=\"\",\"\",IF(I111=1,VLOOKUP(O111,男子種目コード!$A$1:$B$35,2,FALSE),IF(I111=2,VLOOKUP(O111,女子種目コード!$A$1:$B$35,2,FALSE))))","v":""},{"$f":"IF(O111=\"\",\"\",HLOOKUP(O111,名簿!$W$4:$AV$184,106,FALSE))","v":""},"","",null,{"$f":"IF(T111=\"\",\"\",IF(I111=1,VLOOKUP(T111,男子種目コード!$A$1:$B$35,2,FALSE),IF(I111=2,VLOOKUP(T111,女子種目コード!$A$1:$B$35,2,FALSE))))","v":""},null,"","",null,null,null,null,null,null,null,null,null,null,"",null,null,null,null,null,0,0,"","",null,null,null,null,null,null,null,null,null,null,0,"",""]
[0,{"$f":"名簿!O110","v":""},null,null,{"$f":"名簿!E110","v":0},{"$f":"名簿!BD110","v":""},{"$f":"名簿!V110","v":""},{"$f":"名簿!BD110","v":""},{"$f":"名簿!U110","v":""},{"$f":"名簿!I110","v":0},{"$f":"名簿!K110","v":0},{"$f":"名簿!BK110","v":"00"},{"$f":"名簿!P110","v":""},null,null,{"$f":"IF(O112=\"\",\"\",IF(I112=1,VLOOKUP(O112,男子種目コード!$A$1:$B$35,2,FALSE),IF(I112=2,VLOOKUP(O112,女子種目コード!$A$1:$B$35,2,FALSE))))","v":""},{"$f":"IF(O112=\"\",\"\",HLOOKUP(O112,名簿!$W$4:$AV$184,107,FALSE))","v":""},"","",null,{"$f":"IF(T112=\"\",\"\",IF(I112=1,VLOOKUP(T112,男子種目コード!$A$1:$B$35,2,FALSE),IF(I112=2,VLOOKUP(T112,女子種目コード!$A$1:$B$35,2,FALSE))))","v":""},null,"","",null,null,null,null,null,null,null,null,null,null,"",null,null,null,null,null,0,0,"","",null,null,null,null,null,null,null,null,null,null,0,"",""]
[0,{"$f":"名簿!O111","v":""},null,null,{"$f":"名簿!E111","v":0},{"$f":"名簿!BD111","v":""},{"$f":"名簿!V111","v":""},{"$f":"名簿!BD111","v":""},{"$f":"名簿!U111","v":""},{"$f":"名簿!I111","v":0},{"$f":"名簿!K111","v":0},{"$f":"名簿!BK111","v":"00"},{"$f":"名簿!P111","v":""},null,null,{"$f":"IF(O113=\"\",\"\",IF(I113=1,VLOOKUP(O113,男子種目コード!$A$1:$B$35,2,FALSE),IF(I113=2,VLOOKUP(O113,女子種目コード!$A$1:$B$35,2,FALSE))))","v":""},{"$f":"IF(O113=\"\",\"\",HLOOKUP(O113,名簿!$W$4:$AV$184,108,FALSE))","v":""},"","",null,{"$f":"IF(T113=\"\",\"\",IF(I113=1,VLOOKUP(T113,男子種目コード!$A$1:$B$35,2,FALSE),IF(I113=2,VLOOKUP(T113,女子種目コード!$A$1:$B$35,2,FALSE))))","v":""},null,"","",null,null,null,null,null,null,null,null,null,null,"",null,null,null,null,null,0,0,"","",null,null,null,null,null,null,null,null,null,null,0,"",""]
[0,{"$f":"名簿!O112","v":""},null,null,{"$f":"名簿!E112","v":0},{"$f":"名簿!BD112","v":""},{"$f":"名簿!V112","v":""},{"$f":"名簿!BD112","v":""},{"$f":"名簿!U112","v":""},{"$f":"名簿!I112","v":0},{"$f":"名簿!K112","v":0},{"$f":"名簿!BK112","v":"00"},{"$f":"名簿!P112","v":""},null,null,{"$f":"IF(O114=\"\",\"\",IF(I114=1,VLOOKUP(O114,男子種目コード!$A$1:$B$35,2,FALSE),IF(I114=2,VLOOKUP(O114,女子種目コード!$A$1:$B$35,2,FALSE))))","v":""},{"$f":"IF(O114=\"\",\"\",HLOOKUP(O114,名簿!$W$4:$AV$184,109,FALSE))","v":""},"","",null,{"$f":"IF(T114=\"\",\"\",IF(I114=1,VLOOKUP(T114,男子種目コード!$A$1:$B$35,2,FALSE),IF(I114=2,VLOOKUP(T114,女子種目コード!$A$1:$B$35,2,FALSE))))","v":""},null,"","",null,null,null,null,null,null,null,null,null,null,"",null,null,null,null,null,0,0,"","",null,null,null,null,null,null,null,null,null,null,0,"",""]
[0,{"$f":"名簿!O113","v":""},null,null,{"$f":"名簿!E113","v":0},{"$f":"名簿!BD113","v":""},{"$f":"名簿!V113","v":""},{"$f":"名簿!BD113","v":""},{"$f":"名簿!U113","v":""},{"$f":"名簿!I113","v":0},{"$f":"名簿!K113","v":0},{"$f":"名簿!BK113","v":"00"},{"$f":"名簿!P113","v":""},null,null,{"$f":"IF(O115=\"\",\"\",IF(I115=1,VLOOKUP(O115,男子種目コード!$A$1:$B$35,2,FALSE),IF(I115=2,VLOOKUP(O115,女子種目コード!$A$1:$B$35,2,FALSE))))","v":""},{"$f":"IF(O115=\"\",\"\",HLOOKUP(O115,名簿!$W$4:$AV$184,110,FALSE))","v":""},"","",null,{"$f":"IF(T115=\"\",\"\",IF(I115=1,VLOOKUP(T115,男子種目コード!$A$1:$B$35,2,FALSE),IF(I115=2,VLOOKUP(T115,女子種目コード!$A$1:$B$35,2,FALSE))))","v":""},null,"","",null,null,null,null,null,null,null,null,null,null,"",null,null,null,null,null,0,0,"","",null,null,null,null,null,null,null,null,null,null,0,"",""]
[0,{"$f":"名簿!O114","v":""},null,null,{"$f":"名簿!E114","v":0},{"$f":"名簿!BD114","v":""},{"$f":"名簿!V114","v":""},{"$f":"名簿!BD114","v":""},{"$f":"名簿!U114","v":""},{"$f":"名簿!I114","v":0},{"$f":"名簿!K114","v":0},{"$f":"名簿!BK114","v":"00"},{"$f":"名簿!P114","v":""},null,null,{"$f":"IF(O116=\"\",\"\",IF(I116=1,VLOOKUP(O116,男子種目コード!$A$1:$B$35,2,FALSE),IF(I116=2,VLOOKUP(O116,女子種目コード!$A$1:$B$35,2,FALSE))))","v":""},{"$f":"IF(O116=\"\",\"\",HLOOKUP(O116,名簿!$W$4:$AV$184,111,FALSE))","v":""},"","",null,{"$f":"IF(T116=\"\",\"\",IF(I116=1,VLOOKUP(T116,男子種目コード!$A$1:$B$35,2,FALSE),IF(I116=2,VLOOKUP(T116,女子種目コード!$A$1:$B$35,2,FALSE))))","v":""},null,"","",null,null,null,null,null,null,null,null,null,null,"",null,null,null,null,null,0,0,"","",null,null,null,null,null,null,null,null,null,null,0,"",""]
[0,{"$f":"名簿!O115","v":""},null,null,{"$f":"名簿!E115","v":0},{"$f":"名簿!BD115","v":""},{"$f":"名簿!V115","v":""},{"$f":"名簿!BD115","v":""},{"$f":"名簿!U115","v":""},{"$f":"名簿!I115","v":0},{"$f":"名簿!K115","v":0},{"$f":"名簿!BK115","v":"00"},{"$f":"名簿!P115","v":""},null,null,{"$f":"IF(O117=\"\",\"\",IF(I117=1,VLOOKUP(O117,男子種目コード!$A$1:$B$35,2,FALSE),IF(I117=2,VLOOKUP(O117,女子種目コード!$A$1:$B$35,2,FALSE))))","v":""},{"$f":"IF(O117=\"\",\"\",HLOOKUP(O117,名簿!$W$4:$AV$184,112,FALSE))","v":""},"","",null,{"$f":"IF(T117=\"\",\"\",IF(I117=1,VLOOKUP(T117,男子種目コード!$A$1:$B$35,2,FALSE),IF(I117=2,VLOOKUP(T117,女子種目コード!$A$1:$B$35,2,FALSE))))","v":""},null,"","",null,null,null,null,null,null,null,null,null,null,"",null,null,null,null,null,0,0,"","",null,null,null,null,null,null,null,null,null,null,0,"",""]
[0,{"$f":"名簿!O116","v":""},null,null,{"$f":"名簿!E116","v":0},{"$f":"名簿!BD116","v":""},{"$f":"名簿!V116","v":""},{"$f":"名簿!BD116","v":""},{"$f":"名簿!U116","v":""},{"$f":"名簿!I116","v":0},{"$f":"名簿!K116","v":0},{"$f":"名簿!BK116","v":"00"},{"$f":"名簿!P116","v":""},null,null,{"$f":"IF(O118=\"\",\"\",IF(I118=1,VLOOKUP(O118,男子種目コード!$A$1:$B$35,2,FALSE),IF(I118=2,VLOOKUP(O118,女子種目コード!$A$1:$B$35,2,FALSE))))","v":""},{"$f":"IF(O118=\"\",\"\",HLOOKUP(O118,名簿!$W$4:$AV$184,113,FALSE))","v":""},"","",null,{"$f":"IF(T118=\"\",\"\",IF(I118=1,VLOOKUP(T118,男子種目コード!$A$1:$B$35,2,FALSE),IF(I118=2,VLOOKUP(T118,女子種目コード!$A$1:$B$35,2,FALSE))))","v":""},null,"","",null,null,null,null,null,null,null,null,null,null,"",null,null,null,null,null,0,0,"","",null,null,null,null,null,null,null,null,null,null,0,"",""]
[0,{"$f":"名簿!O117","v":""},null,null,{"$f":"名簿!E117","v":0},{"$f":"名簿!BD117","v":""},{"$f":"名簿!V117","v":""},{"$f":"名簿!BD117","v":""},{"$f":"名簿!U117","v":""},{"$f":"名簿!I117","v":0},{"$f":"名簿!K117","v":0},{"$f":"名簿!BK117","v":"00"},{"$f":"名簿!P117","v":""},null,null,{"$f":"IF(O119=\"\",\"\",IF(I119=1,VLOOKUP(O119,男子種目コード!$A$1:$B$35,2,FALSE),IF(I119=2,VLOOKUP(O119,女子種目コード!$A$1:$B$35,2,FALSE))))","v":""},{"$f":"IF(O119=\"\",\"\",HLOOKUP(O119,名簿!$W$4:$AV$184,114,FALSE))","v":""},"","",null,{"$f":"IF(T119=\"\",\"\",IF(I119=1,VLOOKUP(T119,男子種目コード!$A$1:$B$35,2,FALSE),IF(I119=2,VLOOKUP(T119,女子種目コード!$A$1:$B$35,2,FALSE))))","v":""},null,"","",null,null,null,null,null,null,null,null,null,null,"",null,null,null,null,null,0,0,"","",null,null,null,null,null,null,null,null,null,null,0,"",""]
[0,{"$f":"名簿!O118","v":""},null,null,{"$f":"名簿!E118","v":0},{"$f":"名簿!BD118","v":""},{"$f":"名簿!V118","v":""},{"$f":"名簿!BD118","v":""},{"$f":"名簿!U118","v":""},{"$f":"名簿!I118","v":0},{"$f":"名簿!K118","v":0},{"$f":"名簿!BK118","v":"00"},{"$f":"名簿!P118","v":""},null,null,{"$f":"IF(O120=\"\",\"\",IF(I120=1,VLOOKUP(O120,男子種目コード!$A$1:$B$35,2,FALSE),IF(I120=2,VLOOKUP(O120,女子種目コード!$A$1:$B$35,2,FALSE))))","v":""},{"$f":"IF(O120=\"\",\"\",HLOOKUP(O120,名簿!$W$4:$AV$184,115,FALSE))","v":""},"","",null,{"$f":"IF(T120=\"\",\"\",IF(I120=1,VLOOKUP(T120,男子種目コード!$A$1:$B$35,2,FALSE),IF(I120=2,VLOOKUP(T120,女子種目コード!$A$1:$B$35,2,FALSE))))","v":""},null,"","",null,null,null,null,null,null,null,null,null,null,"",null,null,null,null,null,0,0,"","",null,null,null,null,null,null,null,null,null,null,0,"",""]
[0,{"$f":"名簿!O119","v":""},null,null,{"$f":"名簿!E119","v":0},{"$f":"名簿!BD119","v":""},{"$f":"名簿!V119","v":""},{"$f":"名簿!BD119","v":""},{"$f":"名簿!U119","v":""},{"$f":"名簿!I119","v":0},{"$f":"名簿!K119","v":0},{"$f":"名簿!BK119","v":"00"},{"$f":"名簿!P119","v":""},null,null,{"$f":"IF(O121=\"\",\"\",IF(I121=1,VLOOKUP(O121,男子種目コード!$A$1:$B$35,2,FALSE),IF(I121=2,VLOOKUP(O121,女子種目コード!$A$1:$B$35,2,FALSE))))","v":""},{"$f":"IF(O121=\"\",\"\",HLOOKUP(O121,名簿!$W$4:$AV$184,116,FALSE))","v":""},"","",null,{"$f":"IF(T121=\"\",\"\",IF(I121=1,VLOOKUP(T121,男子種目コード!$A$1:$B$35,2,FALSE),IF(I121=2,VLOOKUP(T121,女子種目コード!$A$1:$B$35,2,FALSE))))","v":""},null,"","",null,null,null,null,null,null,null,null,null,null,"",null,null,null,null,null,0,0,"","",null,null,null,null,null,null,null,null,null,null,0,"",""]
[0,{"$f":"名簿!O120","v":""},null,null,{"$f":"名簿!E120","v":0},{"$f":"名簿!BD120","v":""},{"$f":"名簿!V120","v":""},{"$f":"名簿!BD120","v":""},{"$f":"名簿!U120","v":""},{"$f":"名簿!I120","v":0},{"$f":"名簿!K120","v":0},{"$f":"名簿!BK120","v":"00"},{"$f":"名簿!P120","v":""},null,null,{"$f":"IF(O122=\"\",\"\",IF(I122=1,VLOOKUP(O122,男子種目コード!$A$1:$B$35,2,FALSE),IF(I122=2,VLOOKUP(O122,女子種目コード!$A$1:$B$35,2,FALSE))))","v":""},{"$f":"IF(O122=\"\",\"\",HLOOKUP(O122,名簿!$W$4:$AV$184,117,FALSE))","v":""},"","",null,{"$f":"IF(T122=\"\",\"\",IF(I122=1,VLOOKUP(T122,男子種目コード!$A$1:$B$35,2,FALSE),IF(I122=2,VLOOKUP(T122,女子種目コード!$A$1:$B$35,2,FALSE))))","v":""},null,"","",null,null,null,null,null,null,null,null,null,null,"",null,null,null,null,null,0,0,"","",null,null,null,null,null,null,null,null,null,null,0,"",""]
[0,{"$f":"名簿!O121","v":""},null,null,{"$f":"名簿!E121","v":0},{"$f":"名簿!BD121","v":""},{"$f":"名簿!V121","v":""},{"$f":"名簿!BD121","v":""},{"$f":"名簿!U121","v":""},{"$f":"名簿!I121","v":0},{"$f":"名簿!K121","v":0},{"$f":"名簿!BK121","v":"00"},{"$f":"名簿!P121","v":""},null,null,{"$f":"IF(O123=\"\",\"\",IF(I123=1,VLOOKUP(O123,男子種目コード!$A$1:$B$35,2,FALSE),IF(I123=2,VLOOKUP(O123,女子種目コード!$A$1:$B$35,2,FALSE))))","v":""},{"$f":"IF(O123=\"\",\"\",HLOOKUP(O123,名簿!$W$4:$AV$184,118,FALSE))","v":""},"","",null,{"$f":"IF(T123=\"\",\"\",IF(I123=1,VLOOKUP(T123,男子種目コード!$A$1:$B$35,2,FALSE),IF(I123=2,VLOOKUP(T123,女子種目コード!$A$1:$B$35,2,FALSE))))","v":""},null,"","",null,null,null,null,null,null,null,null,null,null,"",null,null,null,null,null,0,0,"","",null,null,null,null,null,null,null,null,null,null,0,"",""]
[0,{"$f":"名簿!O122","v":""},null,null,{"$f":"名簿!E122","v":0},{"$f":"名簿!BD122","v":""},{"$f":"名簿!V122","v":""},{"$f":"名簿!BD122","v":""},{"$f":"名簿!U122","v":""},{"$f":"名簿!I122","v":0},{"$f":"名簿!K122","v":0},{"$f":"名簿!BK122","v":"00"},{"$f":"名簿!P122","v":""},null,null,{"$f":"IF(O124=\"\",\"\",IF(I124=1,VLOOKUP(O124,男子種目コード!$A$1:$B$35,2,FALSE),IF(I124=2,VLOOKUP(O124,女子種目コード!$A$1:$B$35,2,FALSE))))","v":""},{"$f":"IF(O124=\"\",\"\",HLOOKUP(O124,名簿!$W$4:$AV$184,119,FALSE))","v":""},"","",null,{"$f":"IF(T124=\"\",\"\",IF(I124=1,VLOOKUP(T124,男子種目コード!$A$1:$B$35,2,FALSE),IF(I124=2,VLOOKUP(T124,女子種目コード!$A$1:$B$35,2,FALSE))))","v":""},null,"","",null,null,null,null,null,null,null,null,null,null,"",null,null,null,null,null,0,0,"","",null,null,null,null,null,null,null,null,null,null,0,"",""]
[0,{"$f":"名簿!O123","v":""},null,null,{"$f":"名簿!E123","v":0},{"$f":"名簿!BD123","v":""},{"$f":"名簿!V123","v":""},{"$f":"名簿!BD123","v":""},{"$f":"名簿!U123","v":""},{"$f":"名簿!I123","v":0},{"$f":"名簿!K123","v":0},{"$f":"名簿!BK123","v":"00"},{"$f":"名簿!P123","v":""},null,null,{"$f":"IF(O125=\"\",\"\",IF(I125=1,VLOOKUP(O125,男子種目コード!$A$1:$B$35,2,FALSE),IF(I125=2,VLOOKUP(O125,女子種目コード!$A$1:$B$35,2,FALSE))))","v":""},{"$f":"IF(O125=\"\",\"\",HLOOKUP(O125,名簿!$W$4:$AV$184,120,FALSE))","v":""},"","",null,{"$f":"IF(T125=\"\",\"\",IF(I125=1,VLOOKUP(T125,男子種目コード!$A$1:$B$35,2,FALSE),IF(I125=2,VLOOKUP(T125,女子種目コード!$A$1:$B$35,2,FALSE))))","v":""},null,"","",null,null,null,null,null,null,null,null,null,null,"",null,null,null,null,null,0,0,"","",null,null,null,null,null,null,null,null,null,null,0,"",""]
[0,{"$f":"名簿!O124","v":""},null,null,{"$f":"名簿!E124","v":0},{"$f":"名簿!BD124","v":""},{"$f":"名簿!V124","v":""},{"$f":"名簿!BD124","v":""},{"$f":"名簿!U124","v":""},{"$f":"名簿!I124","v":0},{"$f":"名簿!K124","v":0},{"$f":"名簿!BK124","v":"00"},{"$f":"名簿!P124","v":""},null,null,{"$f":"IF(O126=\"\",\"\",IF(I126=1,VLOOKUP(O126,男子種目コード!$A$1:$B$35,2,FALSE),IF(I126=2,VLOOKUP(O126,女子種目コード!$A$1:$B$35,2,FALSE))))","v":""},{"$f":"IF(O126=\"\",\"\",HLOOKUP(O126,名簿!$W$4:$AV$184,121,FALSE))","v":""},"","",null,{"$f":"IF(T126=\"\",\"\",IF(I126=1,VLOOKUP(T126,男子種目コード!$A$1:$B$35,2,FALSE),IF(I126=2,VLOOKUP(T126,女子種目コード!$A$1:$B$35,2,FALSE))))","v":""},null,"","",null,null,null,null,null,null,null,null,null,null,"",null,null,null,null,null,0,0,"","",null,null,null,null,null,null,null,null,null,null,0,"",""]
[0,{"$f":"名簿!O125","v":""},null,null,{"$f":"名簿!E125","v":0},{"$f":"名簿!BD125","v":""},{"$f":"名簿!V125","v":""},{"$f":"名簿!BD125","v":""},{"$f":"名簿!U125","v":""},{"$f":"名簿!I125","v":0},{"$f":"名簿!K125","v":0},{"$f":"名簿!BK125","v":"00"},{"$f":"名簿!P125","v":""},null,null,{"$f":"IF(O127=\"\",\"\",IF(I127=1,VLOOKUP(O127,男子種目コード!$A$1:$B$35,2,FALSE),IF(I127=2,VLOOKUP(O127,女子種目コード!$A$1:$B$35,2,FALSE))))","v":""},{"$f":"IF(O127=\"\",\"\",HLOOKUP(O127,名簿!$W$4:$AV$184,122,FALSE))","v":""},"","",null,{"$f":"IF(T127=\"\",\"\",IF(I127=1,VLOOKUP(T127,男子種目コード!$A$1:$B$35,2,FALSE),IF(I127=2,VLOOKUP(T127,女子種目コード!$A$1:$B$35,2,FALSE))))","v":""},null,"","",null,null,null,null,null,null,null,null,null,null,"",null,null,null,null,null,0,0,"","",null,null,null,null,null,null,null,null,null,null,0,"",""]
[0,{"$f":"名簿!O126","v":""},null,null,{"$f":"名簿!E126","v":0},{"$f":"名簿!BD126","v":""},{"$f":"名簿!V126","v":""},{"$f":"名簿!BD126","v":""},{"$f":"名簿!U126","v":""},{"$f":"名簿!I126","v":0},{"$f":"名簿!K126","v":0},{"$f":"名簿!BK126","v":"00"},{"$f":"名簿!P126","v":""},null,null,{"$f":"IF(O128=\"\",\"\",IF(I128=1,VLOOKUP(O128,男子種目コード!$A$1:$B$35,2,FALSE),IF(I128=2,VLOOKUP(O128,女子種目コード!$A$1:$B$35,2,FALSE))))","v":""},{"$f":"IF(O128=\"\",\"\",HLOOKUP(O128,名簿!$W$4:$AV$184,123,FALSE))","v":""},"","",null,{"$f":"IF(T128=\"\",\"\",IF(I128=1,VLOOKUP(T128,男子種目コード!$A$1:$B$35,2,FALSE),IF(I128=2,VLOOKUP(T128,女子種目コード!$A$1:$B$35,2,FALSE))))","v":""},null,"","",null,null,null,null,null,null,null,null,null,null,"",null,null,null,null,null,0,0,"","",null,null,null,null,null,null,null,null,null,null,0,"",""]
[0,{"$f":"名簿!O127","v":""},null,null,{"$f":"名簿!E127","v":0},{"$f":"名簿!BD127","v":""},{"$f":"名簿!V127","v":""},{"$f":"名簿!BD127","v":""},{"$f":"名簿!U127","v":""},{"$f":"名簿!I127","v":0},{"$f":"名簿!K127","v":0},{"$f":"名簿!BK127","v":"00"},{"$f":"名簿!P127","v":""},null,null,{"$f":"IF(O129=\"\",\"\",IF(I129=1,VLOOKUP(O129,男子種目コード!$A$1:$B$35,2,FALSE),IF(I129=2,VLOOKUP(O129,女子種目コード!$A$1:$B$35,2,FALSE))))","v":""},{"$f":"IF(O129=\"\",\"\",HLOOKUP(O129,名簿!$W$4:$AV$184,124,FALSE))","v":""},"","",null,{"$f":"IF(T129=\"\",\"\",IF(I129=1,VLOOKUP(T129,男子種目コード!$A$1:$B$35,2,FALSE),IF(I129=2,VLOOKUP(T129,女子種目コード!$A$1:$B$35,2,FALSE))))","v":""},null,"","",null,null,null,null,null,null,null,null,null,null,"",null,null,null,null,null,0,0,"","",null,null,null,null,null,null,null,null,null,null,0,"",""]
[0,{"$f":"名簿!O128","v":""},null,null,{"$f":"名簿!E128","v":0},{"$f":"名簿!BD128","v":""},{"$f":"名簿!V128","v":""},{"$f":"名簿!BD128","v":""},{"$f":"名簿!U128","v":""},{"$f":"名簿!I128","v":0},{"$f":"名簿!K128","v":0},{"$f":"名簿!BK128","v":"00"},{"$f":"名簿!P128","v":""},null,null,{"$f":"IF(O130=\"\",\"\",IF(I130=1,VLOOKUP(O130,男子種目コード!$A$1:$B$35,2,FALSE),IF(I130=2,VLOOKUP(O130,女子種目コード!$A$1:$B$35,2,FALSE))))","v":""},{"$f":"IF(O130=\"\",\"\",HLOOKUP(O130,名簿!$W$4:$AV$184,125,FALSE))","v":""},"","",null,{"$f":"IF(T130=\"\",\"\",IF(I130=1,VLOOKUP(T130,男子種目コード!$A$1:$B$35,2,FALSE),IF(I130=2,VLOOKUP(T130,女子種目コード!$A$1:$B$35,2,FALSE))))","v":""},null,"","",null,null,null,null,null,null,null,null,null,null,"",null,null,null,null,null,0,0,"","",null,null,null,null,null,null,null,null,null,null,0,"",""]
[0,{"$f":"名簿!O129","v":""},null,null,{"$f":"名簿!E129","v":0},{"$f":"名簿!BD129","v":""},{"$f":"名簿!V129","v":""},{"$f":"名簿!BD129","v":""},{"$f":"名簿!U129","v":""},{"$f":"名簿!I129","v":0},{"$f":"名簿!K129","v":0},{"$f":"名簿!BK129","v":"00"},{"$f":"名簿!P129","v":""},null,null,{"$f":"IF(O131=\"\",\"\",IF(I131=1,VLOOKUP(O131,男子種目コード!$A$1:$B$35,2,FALSE),IF(I131=2,VLOOKUP(O131,女子種目コード!$A$1:$B$35,2,FALSE))))","v":""},{"$f":"IF(O131=\"\",\"\",HLOOKUP(O131,名簿!$W$4:$AV$184,126,FALSE))","v":""},"","",null,{"$f":"IF(T131=\"\",\"\",IF(I131=1,VLOOKUP(T131,男子種目コード!$A$1:$B$35,2,FALSE),IF(I131=2,VLOOKUP(T131,女子種目コード!$A$1:$B$35,2,FALSE))))","v":""},null,"","",null,null,null,null,null,null,null,null,null,null,"",null,null,null,null,null,0,0,"","",null,null,null,null,null,null,null,null,null,null,0,"",""]
[0,{"$f":"名簿!O130","v":""},null,null,{"$f":"名簿!E130","v":0},{"$f":"名簿!BD130","v":""},{"$f":"名簿!V130","v":""},{"$f":"名簿!BD130","v":""},{"$f":"名簿!U130","v":""},{"$f":"名簿!I130","v":0},{"$f":"名簿!K130","v":0},{"$f":"名簿!BK130","v":"00"},{"$f":"名簿!P130","v":""},null,null,{"$f":"IF(O132=\"\",\"\",IF(I132=1,VLOOKUP(O132,男子種目コード!$A$1:$B$35,2,FALSE),IF(I132=2,VLOOKUP(O132,女子種目コード!$A$1:$B$35,2,FALSE))))","v":""},{"$f":"IF(O132=\"\",\"\",HLOOKUP(O132,名簿!$W$4:$AV$184,127,FALSE))","v":""},"","",null,{"$f":"IF(T132=\"\",\"\",IF(I132=1,VLOOKUP(T132,男子種目コード!$A$1:$B$35,2,FALSE),IF(I132=2,VLOOKUP(T132,女子種目コード!$A$1:$B$35,2,FALSE))))","v":""},null,"","",null,null,null,null,null,null,null,null,null,null,"",null,null,null,null,null,0,0,"","",null,null,null,null,null,null,null,null,null,null,0,"",""]
[0,{"$f":"名簿!O131","v":""},null,null,{"$f":"名簿!E131","v":0},{"$f":"名簿!BD131","v":""},{"$f":"名簿!V131","v":""},{"$f":"名簿!BD131","v":""},{"$f":"名簿!U131","v":""},{"$f":"名簿!I131","v":0},{"$f":"名簿!K131","v":0},{"$f":"名簿!BK131","v":"00"},{"$f":"名簿!P131","v":""},null,null,{"$f":"IF(O133=\"\",\"\",IF(I133=1,VLOOKUP(O133,男子種目コード!$A$1:$B$35,2,FALSE),IF(I133=2,VLOOKUP(O133,女子種目コード!$A$1:$B$35,2,FALSE))))","v":""},{"$f":"IF(O133=\"\",\"\",HLOOKUP(O133,名簿!$W$4:$AV$184,128,FALSE))","v":""},"","",null,{"$f":"IF(T133=\"\",\"\",IF(I133=1,VLOOKUP(T133,男子種目コード!$A$1:$B$35,2,FALSE),IF(I133=2,VLOOKUP(T133,女子種目コード!$A$1:$B$35,2,FALSE))))","v":""},null,"","",null,null,null,null,null,null,null,null,null,null,"",null,null,null,null,null,0,0,"","",null,null,null,null,null,null,null,null,null,null,0,"",""]
[0,{"$f":"名簿!O132","v":""},null,null,{"$f":"名簿!E132","v":0},{"$f":"名簿!BD132","v":""},{"$f":"名簿!V132","v":""},{"$f":"名簿!BD132","v":""},{"$f":"名簿!U132","v":""},{"$f":"名簿!I132","v":0},{"$f":"名簿!K132","v":0},{"$f":"名簿!BK132","v":"00"},{"$f":"名簿!P132","v":""},null,null,{"$f":"IF(O134=\"\",\"\",IF(I134=1,VLOOKUP(O134,男子種目コード!$A$1:$B$35,2,FALSE),IF(I134=2,VLOOKUP(O134,女子種目コード!$A$1:$B$35,2,FALSE))))","v":""},{"$f":"IF(O134=\"\",\"\",HLOOKUP(O134,名簿!$W$4:$AV$184,129,FALSE))","v":""},"","",null,{"$f":"IF(T134=\"\",\"\",IF(I134=1,VLOOKUP(T134,男子種目コード!$A$1:$B$35,2,FALSE),IF(I134=2,VLOOKUP(T134,女子種目コード!$A$1:$B$35,2,FALSE))))","v":""},null,"","",null,null,null,null,null,null,null,null,null,null,"",null,null,null,null,null,0,0,"","",null,null,null,null,null,null,null,null,null,null,0,"",""]
[0,{"$f":"名簿!O133","v":""},null,null,{"$f":"名簿!E133","v":0},{"$f":"名簿!BD133","v":""},{"$f":"名簿!V133","v":""},{"$f":"名簿!BD133","v":""},{"$f":"名簿!U133","v":""},{"$f":"名簿!I133","v":0},{"$f":"名簿!K133","v":0},{"$f":"名簿!BK133","v":"00"},{"$f":"名簿!P133","v":""},null,null,{"$f":"IF(O135=\"\",\"\",IF(I135=1,VLOOKUP(O135,男子種目コード!$A$1:$B$35,2,FALSE),IF(I135=2,VLOOKUP(O135,女子種目コード!$A$1:$B$35,2,FALSE))))","v":""},{"$f":"IF(O135=\"\",\"\",HLOOKUP(O135,名簿!$W$4:$AV$184,130,FALSE))","v":""},"","",null,{"$f":"IF(T135=\"\",\"\",IF(I135=1,VLOOKUP(T135,男子種目コード!$A$1:$B$35,2,FALSE),IF(I135=2,VLOOKUP(T135,女子種目コード!$A$1:$B$35,2,FALSE))))","v":""},null,"","",null,null,null,null,null,null,null,null,null,null,"",null,null,null,null,null,{"$f":"IF(OR(AI135=1,T135=\"\"),0,1)","v":0},{"$f":"COUNT(P135,U135)","v":0},{"$f":"IF(I135=1,AP135,\"\")","v":""},{"$f":"IF(I135=2,AP135,\"\")","v":""},null,null,null,null,null,null,null,null,null,null,{"$f":"COUNT(U135,Z135)","v":0},{"$f":"IF(N135=1,BC135,\"\")","v":""},{"$f":"IF(N135=2,BC135,\"\")","v":""}]
[{"$f":"T136","v":0},{"$f":"名簿!O134","v":""},null,null,{"$f":"名簿!E134","v":0},{"$f":"名簿!BD134","v":""},{"$f":"名簿!V134","v":""},{"$f":"名簿!BD134","v":""},{"$f":"名簿!U134","v":""},{"$f":"名簿!I134","v":0},{"$f":"名簿!K134","v":0},{"$f":"名簿!BK134","v":"00"},{"$f":"名簿!P134","v":""},null,null,{"$f":"IF(O136=\"\",\"\",IF(I136=1,VLOOKUP(O136,男子種目コード!$A$1:$B$35,2,FALSE),IF(I136=2,VLOOKUP(O136,女子種目コード!$A$1:$B$35,2,FALSE))))","v":""},{"$f":"IF(O136=\"\",\"\",HLOOKUP(O136,名簿!$W$4:$AV$184,131,FALSE))","v":""},{"$f":"IF(O136=\"\",\"\",0)","v":""},{"$f":"IF(O136=\"\",\"\",2)","v":""},null,{"$f":"IF(T136=\"\",\"\",IF(I136=1,VLOOKUP(T136,男子種目コード!$A$1:$B$35,2,FALSE),IF(I136=2,VLOOKUP(T136,女子種目コード!$A$1:$B$35,2,FALSE))))","v":""},null,{"$f":"IF(T136=\"\",\"\",0)","v":""},{"$f":"IF(T136=\"\",\"\",2)","v":""},null,null,null,null,null,null,null,null,null,null,{"$f":"IF(O136=\"\",\"\",1)","v":""},null,null,null,null,null,0,0,"","",null,null,null,null,null,null,null,null,null,null,0,"",""]
[0,{"$f":"名簿!O135","v":""},null,null,{"$f":"名簿!E135","v":0},{"$f":"名簿!BD135","v":""},{"$f":"名簿!V135","v":""},{"$f":"名簿!BD135","v":""},{"$f":"名簿!U135","v":""},{"$f":"名簿!I135","v":0},{"$f":"名簿!K135","v":0},{"$f":"名簿!BK135","v":"00"},{"$f":"名簿!P135","v":""},null,null,{"$f":"IF(O137=\"\",\"\",IF(I137=1,VLOOKUP(O137,男子種目コード!$A$1:$B$35,2,FALSE),IF(I137=2,VLOOKUP(O137,女子種目コード!$A$1:$B$35,2,FALSE))))","v":""},{"$f":"IF(O137=\"\",\"\",HLOOKUP(O137,名簿!$W$4:$AV$184,132,FALSE))","v":""},"","",null,{"$f":"IF(T137=\"\",\"\",IF(I137=1,VLOOKUP(T137,男子種目コード!$A$1:$B$35,2,FALSE),IF(I137=2,VLOOKUP(T137,女子種目コード!$A$1:$B$35,2,FALSE))))","v":""},null,"","",null,null,null,null,null,null,null,null,null,null,"",null,null,null,null,null,0,0,"","",null,null,null,null,null,null,null,null,null,null,0,"",""]
[0,{"$f":"名簿!O136","v":""},null,null,{"$f":"名簿!E136","v":0},{"$f":"名簿!BD136","v":""},{"$f":"名簿!V136","v":""},{"$f":"名簿!BD136","v":""},{"$f":"名簿!U136","v":""},{"$f":"名簿!I136","v":0},{"$f":"名簿!K136","v":0},{"$f":"名簿!BK136","v":"00"},{"$f":"名簿!P136","v":""},null,null,{"$f":"IF(O138=\"\",\"\",IF(I138=1,VLOOKUP(O138,男子種目コード!$A$1:$B$35,2,FALSE),IF(I138=2,VLOOKUP(O138,女子種目コード!$A$1:$B$35,2,FALSE))))","v":""},{"$f":"IF(O138=\"\",\"\",HLOOKUP(O138,名簿!$W$4:$AV$184,133,FALSE))","v":""},"","",null,{"$f":"IF(T138=\"\",\"\",IF(I138=1,VLOOKUP(T138,男子種目コード!$A$1:$B$35,2,FALSE),IF(I138=2,VLOOKUP(T138,女子種目コード!$A$1:$B$35,2,FALSE))))","v":""},null,"","",null,null,null,null,null,null,null,null,null,null,"",null,null,null,null,null,0,0,"","",null,null,null,null,null,null,null,null,null,null,0,"",""]
[0,{"$f":"名簿!O137","v":""},null,null,{"$f":"名簿!E137","v":0},{"$f":"名簿!BD137","v":""},{"$f":"名簿!V137","v":""},{"$f":"名簿!BD137","v":""},{"$f":"名簿!U137","v":""},{"$f":"名簿!I137","v":0},{"$f":"名簿!K137","v":0},{"$f":"名簿!BK137","v":"00"},{"$f":"名簿!P137","v":""},null,null,{"$f":"IF(O139=\"\",\"\",IF(I139=1,VLOOKUP(O139,男子種目コード!$A$1:$B$35,2,FALSE),IF(I139=2,VLOOKUP(O139,女子種目コード!$A$1:$B$35,2,FALSE))))","v":""},{"$f":"IF(O139=\"\",\"\",HLOOKUP(O139,名簿!$W$4:$AV$184,134,FALSE))","v":""},"","",null,{"$f":"IF(T139=\"\",\"\",IF(I139=1,VLOOKUP(T139,男子種目コード!$A$1:$B$35,2,FALSE),IF(I139=2,VLOOKUP(T139,女子種目コード!$A$1:$B$35,2,FALSE))))","v":""},null,"","",null,null,null,null,null,null,null,null,null,null,"",null,null,null,null,null,0,0,"","",null,null,null,null,null,null,null,null,null,null,0,"",""]
[0,{"$f":"名簿!O138","v":""},null,null,{"$f":"名簿!E138","v":0},{"$f":"名簿!BD138","v":""},{"$f":"名簿!V138","v":""},{"$f":"名簿!BD138","v":""},{"$f":"名簿!U138","v":""},{"$f":"名簿!I138","v":0},{"$f":"名簿!K138","v":0},{"$f":"名簿!BK138","v":"00"},{"$f":"名簿!P138","v":""},null,null,{"$f":"IF(O140=\"\",\"\",IF(I140=1,VLOOKUP(O140,男子種目コード!$A$1:$B$35,2,FALSE),IF(I140=2,VLOOKUP(O140,女子種目コード!$A$1:$B$35,2,FALSE))))","v":""},{"$f":"IF(O140=\"\",\"\",HLOOKUP(O140,名簿!$W$4:$AV$184,135,FALSE))","v":""},"","",null,{"$f":"IF(T140=\"\",\"\",IF(I140=1,VLOOKUP(T140,男子種目コード!$A$1:$B$35,2,FALSE),IF(I140=2,VLOOKUP(T140,女子種目コード!$A$1:$B$35,2,FALSE))))","v":""},null,"","",null,null,null,null,null,null,null,null,null,null,"",null,null,null,null,null,0,0,"","",null,null,null,null,null,null,null,null,null,null,0,"",""]
[0,{"$f":"名簿!O139","v":""},null,null,{"$f":"名簿!E139","v":0},{"$f":"名簿!BD139","v":""},{"$f":"名簿!V139","v":""},{"$f":"名簿!BD139","v":""},{"$f":"名簿!U139","v":""},{"$f":"名簿!I139","v":0},{"$f":"名簿!K139","v":0},{"$f":"名簿!BK139","v":"00"},{"$f":"名簿!P139","v":""},null,null,{"$f":"IF(O141=\"\",\"\",IF(I141=1,VLOOKUP(O141,男子種目コード!$A$1:$B$35,2,FALSE),IF(I141=2,VLOOKUP(O141,女子種目コード!$A$1:$B$35,2,FALSE))))","v":""},{"$f":"IF(O141=\"\",\"\",HLOOKUP(O141,名簿!$W$4:$AV$184,136,FALSE))","v":""},"","",null,{"$f":"IF(T141=\"\",\"\",IF(I141=1,VLOOKUP(T141,男子種目コード!$A$1:$B$35,2,FALSE),IF(I141=2,VLOOKUP(T141,女子種目コード!$A$1:$B$35,2,FALSE))))","v":""},null,"","",null,null,null,null,null,null,null,null,null,null,"",null,null,null,null,null,0,0,"","",null,null,null,null,null,null,null,null,null,null,0,"",""]
[0,{"$f":"名簿!O140","v":""},null,null,{"$f":"名簿!E140","v":0},{"$f":"名簿!BD140","v":""},{"$f":"名簿!V140","v":""},{"$f":"名簿!BD140","v":""},{"$f":"名簿!U140","v":""},{"$f":"名簿!I140","v":0},{"$f":"名簿!K140","v":0},{"$f":"名簿!BK140","v":"00"},{"$f":"名簿!P140","v":""},null,null,{"$f":"IF(O142=\"\",\"\",IF(I142=1,VLOOKUP(O142,男子種目コード!$A$1:$B$35,2,FALSE),IF(I142=2,VLOOKUP(O142,女子種目コード!$A$1:$B$35,2,FALSE))))","v":""},{"$f":"IF(O142=\"\",\"\",HLOOKUP(O142,名簿!$W$4:$AV$184,137,FALSE))","v":""},"","",null,{"$f":"IF(T142=\"\",\"\",IF(I142=1,VLOOKUP(T142,男子種目コード!$A$1:$B$35,2,FALSE),IF(I142=2,VLOOKUP(T142,女子種目コード!$A$1:$B$35,2,FALSE))))","v":""},null,"","",null,null,null,null,null,null,null,null,null,null,"",null,null,null,null,null,0,0,"","",null,null,null,null,null,null,null,null,null,null,0,"",""]
[0,{"$f":"名簿!O141","v":""},null,null,{"$f":"名簿!E141","v":0},{"$f":"名簿!BD141","v":""},{"$f":"名簿!V141","v":""},{"$f":"名簿!BD141","v":""},{"$f":"名簿!U141","v":""},{"$f":"名簿!I141","v":0},{"$f":"名簿!K141","v":0},{"$f":"名簿!BK141","v":"00"},{"$f":"名簿!P141","v":""},null,null,{"$f":"IF(O143=\"\",\"\",IF(I143=1,VLOOKUP(O143,男子種目コード!$A$1:$B$35,2,FALSE),IF(I143=2,VLOOKUP(O143,女子種目コード!$A$1:$B$35,2,FALSE))))","v":""},{"$f":"IF(O143=\"\",\"\",HLOOKUP(O143,名簿!$W$4:$AV$184,138,FALSE))","v":""},"","",null,{"$f":"IF(T143=\"\",\"\",IF(I143=1,VLOOKUP(T143,男子種目コード!$A$1:$B$35,2,FALSE),IF(I143=2,VLOOKUP(T143,女子種目コード!$A$1:$B$35,2,FALSE))))","v":""},null,"","",null,null,null,null,null,null,null,null,null,null,"",null,null,null,null,null,0,0,"","",null,null,null,null,null,null,null,null,null,null,0,"",""]
[0,{"$f":"名簿!O142","v":""},null,null,{"$f":"名簿!E142","v":0},{"$f":"名簿!BD142","v":""},{"$f":"名簿!V142","v":""},{"$f":"名簿!BD142","v":""},{"$f":"名簿!U142","v":""},{"$f":"名簿!I142","v":0},{"$f":"名簿!K142","v":0},{"$f":"名簿!BK142","v":"00"},{"$f":"名簿!P142","v":""},null,null,{"$f":"IF(O144=\"\",\"\",IF(I144=1,VLOOKUP(O144,男子種目コード!$A$1:$B$35,2,FALSE),IF(I144=2,VLOOKUP(O144,女子種目コード!$A$1:$B$35,2,FALSE))))","v":""},{"$f":"IF(O144=\"\",\"\",HLOOKUP(O144,名簿!$W$4:$AV$184,139,FALSE))","v":""},"","",null,{"$f":"IF(T144=\"\",\"\",IF(I144=1,VLOOKUP(T144,男子種目コード!$A$1:$B$35,2,FALSE),IF(I144=2,VLOOKUP(T144,女子種目コード!$A$1:$B$35,2,FALSE))))","v":""},null,"","",null,null,null,null,null,null,null,null,null,null,"",null,null,null,null,null,0,0,"","",null,null,null,null,null,null,null,null,null,null,0,"",""]
[0,{"$f":"名簿!O143","v":""},null,null,{"$f":"名簿!E143","v":0},{"$f":"名簿!BD143","v":""},{"$f":"名簿!V143","v":""},{"$f":"名簿!BD143","v":""},{"$f":"名簿!U143","v":""},{"$f":"名簿!I143","v":0},{"$f":"名簿!K143","v":0},{"$f":"名簿!BK143","v":"00"},{"$f":"名簿!P143","v":""},null,null,{"$f":"IF(O145=\"\",\"\",IF(I145=1,VLOOKUP(O145,男子種目コード!$A$1:$B$35,2,FALSE),IF(I145=2,VLOOKUP(O145,女子種目コード!$A$1:$B$35,2,FALSE))))","v":""},{"$f":"IF(O145=\"\",\"\",HLOOKUP(O145,名簿!$W$4:$AV$184,140,FALSE))","v":""},"","",null,{"$f":"IF(T145=\"\",\"\",IF(I145=1,VLOOKUP(T145,男子種目コード!$A$1:$B$35,2,FALSE),IF(I145=2,VLOOKUP(T145,女子種目コード!$A$1:$B$35,2,FALSE))))","v":""},null,"","",null,null,null,null,null,null,null,null,null,null,"",null,null,null,null,null,0,0,"","",null,null,null,null,null,null,null,null,null,null,0,"",""]
[0,{"$f":"名簿!O144","v":""},null,null,{"$f":"名簿!E144","v":0},{"$f":"名簿!BD144","v":""},{"$f":"名簿!V144","v":""},{"$f":"名簿!BD144","v":""},{"$f":"名簿!U144","v":""},{"$f":"名簿!I144","v":0},{"$f":"名簿!K144","v":0},{"$f":"名簿!BK144","v":"00"},{"$f":"名簿!P144","v":""},null,null,{"$f":"IF(O146=\"\",\"\",IF(I146=1,VLOOKUP(O146,男子種目コード!$A$1:$B$35,2,FALSE),IF(I146=2,VLOOKUP(O146,女子種目コード!$A$1:$B$35,2,FALSE))))","v":""},{"$f":"IF(O146=\"\",\"\",HLOOKUP(O146,名簿!$W$4:$AV$184,141,FALSE))","v":""},"","",null,{"$f":"IF(T146=\"\",\"\",IF(I146=1,VLOOKUP(T146,男子種目コード!$A$1:$B$35,2,FALSE),IF(I146=2,VLOOKUP(T146,女子種目コード!$A$1:$B$35,2,FALSE))))","v":""},null,"","",null,null,null,null,null,null,null,null,null,null,"",null,null,null,null,null,0,0,"","",null,null,null,null,null,null,null,null,null,null,0,"",""]
[0,{"$f":"名簿!O145","v":""},null,null,{"$f":"名簿!E145","v":0},{"$f":"名簿!BD145","v":""},{"$f":"名簿!V145","v":""},{"$f":"名簿!BD145","v":""},{"$f":"名簿!U145","v":""},{"$f":"名簿!I145","v":0},{"$f":"名簿!K145","v":0},{"$f":"名簿!BK145","v":"00"},{"$f":"名簿!P145","v":""},null,null,{"$f":"IF(O147=\"\",\"\",IF(I147=1,VLOOKUP(O147,男子種目コード!$A$1:$B$35,2,FALSE),IF(I147=2,VLOOKUP(O147,女子種目コード!$A$1:$B$35,2,FALSE))))","v":""},{"$f":"IF(O147=\"\",\"\",HLOOKUP(O147,名簿!$W$4:$AV$184,142,FALSE))","v":""},"","",null,{"$f":"IF(T147=\"\",\"\",IF(I147=1,VLOOKUP(T147,男子種目コード!$A$1:$B$35,2,FALSE),IF(I147=2,VLOOKUP(T147,女子種目コード!$A$1:$B$35,2,FALSE))))","v":""},null,"","",null,null,null,null,null,null,null,null,null,null,"",null,null,null,null,null,0,0,"","",null,null,null,null,null,null,null,null,null,null,0,"",""]
[0,{"$f":"名簿!O146","v":""},null,null,{"$f":"名簿!E146","v":0},{"$f":"名簿!BD146","v":""},{"$f":"名簿!V146","v":""},{"$f":"名簿!BD146","v":""},{"$f":"名簿!U146","v":""},{"$f":"名簿!I146","v":0},{"$f":"名簿!K146","v":0},{"$f":"名簿!BK146","v":"00"},{"$f":"名簿!P146","v":""},null,null,{"$f":"IF(O148=\"\",\"\",IF(I148=1,VLOOKUP(O148,男子種目コード!$A$1:$B$35,2,FALSE),IF(I148=2,VLOOKUP(O148,女子種目コード!$A$1:$B$35,2,FALSE))))","v":""},{"$f":"IF(O148=\"\",\"\",HLOOKUP(O148,名簿!$W$4:$AV$184,143,FALSE))","v":""},"","",null,{"$f":"IF(T148=\"\",\"\",IF(I148=1,VLOOKUP(T148,男子種目コード!$A$1:$B$35,2,FALSE),IF(I148=2,VLOOKUP(T148,女子種目コード!$A$1:$B$35,2,FALSE))))","v":""},null,"","",null,null,null,null,null,null,null,null,null,null,"",null,null,null,null,null,0,0,"","",null,null,null,null,null,null,null,null,null,null,0,"",""]
[0,{"$f":"名簿!O147","v":""},null,null,{"$f":"名簿!E147","v":0},{"$f":"名簿!BD147","v":""},{"$f":"名簿!V147","v":""},{"$f":"名簿!BD147","v":""},{"$f":"名簿!U147","v":""},{"$f":"名簿!I147","v":0},{"$f":"名簿!K147","v":0},{"$f":"名簿!BK147","v":"00"},{"$f":"名簿!P147","v":""},null,null,{"$f":"IF(O149=\"\",\"\",IF(I149=1,VLOOKUP(O149,男子種目コード!$A$1:$B$35,2,FALSE),IF(I149=2,VLOOKUP(O149,女子種目コード!$A$1:$B$35,2,FALSE))))","v":""},{"$f":"IF(O149=\"\",\"\",HLOOKUP(O149,名簿!$W$4:$AV$184,144,FALSE))","v":""},"","",null,{"$f":"IF(T149=\"\",\"\",IF(I149=1,VLOOKUP(T149,男子種目コード!$A$1:$B$35,2,FALSE),IF(I149=2,VLOOKUP(T149,女子種目コード!$A$1:$B$35,2,FALSE))))","v":""},null,"","",null,null,null,null,null,null,null,null,null,null,"",null,null,null,null,null,0,0,"","",null,null,null,null,null,null,null,null,null,null,0,"",""]
[0,{"$f":"名簿!O148","v":""},null,null,{"$f":"名簿!E148","v":0},{"$f":"名簿!BD148","v":""},{"$f":"名簿!V148","v":""},{"$f":"名簿!BD148","v":""},{"$f":"名簿!U148","v":""},{"$f":"名簿!I148","v":0},{"$f":"名簿!K148","v":0},{"$f":"名簿!BK148","v":"00"},{"$f":"名簿!P148","v":""},null,null,{"$f":"IF(O150=\"\",\"\",IF(I150=1,VLOOKUP(O150,男子種目コード!$A$1:$B$35,2,FALSE),IF(I150=2,VLOOKUP(O150,女子種目コード!$A$1:$B$35,2,FALSE))))","v":""},{"$f":"IF(O150=\"\",\"\",HLOOKUP(O150,名簿!$W$4:$AV$184,145,FALSE))","v":""},"","",null,{"$f":"IF(T150=\"\",\"\",IF(I150=1,VLOOKUP(T150,男子種目コード!$A$1:$B$35,2,FALSE),IF(I150=2,VLOOKUP(T150,女子種目コード!$A$1:$B$35,2,FALSE))))","v":""},null,"","",null,null,null,null,null,null,null,null,null,null,"",null,null,null,null,null,0,0,"","",null,null,null,null,null,null,null,null,null,null,0,"",""]
[0,{"$f":"名簿!O149","v":""},null,null,{"$f":"名簿!E149","v":0},{"$f":"名簿!BD149","v":""},{"$f":"名簿!V149","v":""},{"$f":"名簿!BD149","v":""},{"$f":"名簿!U149","v":""},{"$f":"名簿!I149","v":0},{"$f":"名簿!K149","v":0},{"$f":"名簿!BK149","v":"00"},{"$f":"名簿!P149","v":""},null,null,{"$f":"IF(O151=\"\",\"\",IF(I151=1,VLOOKUP(O151,男子種目コード!$A$1:$B$35,2,FALSE),IF(I151=2,VLOOKUP(O151,女子種目コード!$A$1:$B$35,2,FALSE))))","v":""},{"$f":"IF(O151=\"\",\"\",HLOOKUP(O151,名簿!$W$4:$AV$184,146,FALSE))","v":""},"","",null,{"$f":"IF(T151=\"\",\"\",IF(I151=1,VLOOKUP(T151,男子種目コード!$A$1:$B$35,2,FALSE),IF(I151=2,VLOOKUP(T151,女子種目コード!$A$1:$B$35,2,FALSE))))","v":""},null,"","",null,null,null,null,null,null,null,null,null,null,"",null,null,null,null,null,0,0,"","",null,null,null,null,null,null,null,null,null,null,0,"",""]
[0,{"$f":"名簿!O150","v":""},null,null,{"$f":"名簿!E150","v":0},{"$f":"名簿!BD150","v":""},{"$f":"名簿!V150","v":""},{"$f":"名簿!BD150","v":""},{"$f":"名簿!U150","v":""},{"$f":"名簿!I150","v":0},{"$f":"名簿!K150","v":0},{"$f":"名簿!BK150","v":"00"},{"$f":"名簿!P150","v":""},null,null,{"$f":"IF(O152=\"\",\"\",IF(I152=1,VLOOKUP(O152,男子種目コード!$A$1:$B$35,2,FALSE),IF(I152=2,VLOOKUP(O152,女子種目コード!$A$1:$B$35,2,FALSE))))","v":""},{"$f":"IF(O152=\"\",\"\",HLOOKUP(O152,名簿!$W$4:$AV$184,147,FALSE))","v":""},"","",null,{"$f":"IF(T152=\"\",\"\",IF(I152=1,VLOOKUP(T152,男子種目コード!$A$1:$B$35,2,FALSE),IF(I152=2,VLOOKUP(T152,女子種目コード!$A$1:$B$35,2,FALSE))))","v":""},null,"","",null,null,null,null,null,null,null,null,null,null,"",null,null,null,null,null,0,0,"","",null,null,null,null,null,null,null,null,null,null,0,"",""]
[0,{"$f":"名簿!O151","v":""},null,null,{"$f":"名簿!E151","v":0},{"$f":"名簿!BD151","v":""},{"$f":"名簿!V151","v":""},{"$f":"名簿!BD151","v":""},{"$f":"名簿!U151","v":""},{"$f":"名簿!I151","v":0},{"$f":"名簿!K151","v":0},{"$f":"名簿!BK151","v":"00"},{"$f":"名簿!P151","v":""},null,null,{"$f":"IF(O153=\"\",\"\",IF(I153=1,VLOOKUP(O153,男子種目コード!$A$1:$B$35,2,FALSE),IF(I153=2,VLOOKUP(O153,女子種目コード!$A$1:$B$35,2,FALSE))))","v":""},{"$f":"IF(O153=\"\",\"\",HLOOKUP(O153,名簿!$W$4:$AV$184,148,FALSE))","v":""},"","",null,{"$f":"IF(T153=\"\",\"\",IF(I153=1,VLOOKUP(T153,男子種目コード!$A$1:$B$35,2,FALSE),IF(I153=2,VLOOKUP(T153,女子種目コード!$A$1:$B$35,2,FALSE))))","v":""},null,"","",null,null,null,null,null,null,null,null,null,null,"",null,null,null,null,null,0,0,"","",null,null,null,null,null,null,null,null,null,null,0,"",""]
[0,{"$f":"名簿!O152","v":""},null,null,{"$f":"名簿!E152","v":0},{"$f":"名簿!BD152","v":""},{"$f":"名簿!V152","v":""},{"$f":"名簿!BD152","v":""},{"$f":"名簿!U152","v":""},{"$f":"名簿!I152","v":0},{"$f":"名簿!K152","v":0},{"$f":"名簿!BK152","v":"00"},{"$f":"名簿!P152","v":""},null,null,{"$f":"IF(O154=\"\",\"\",IF(I154=1,VLOOKUP(O154,男子種目コード!$A$1:$B$35,2,FALSE),IF(I154=2,VLOOKUP(O154,女子種目コード!$A$1:$B$35,2,FALSE))))","v":""},{"$f":"IF(O154=\"\",\"\",HLOOKUP(O154,名簿!$W$4:$AV$184,149,FALSE))","v":""},"","",null,{"$f":"IF(T154=\"\",\"\",IF(I154=1,VLOOKUP(T154,男子種目コード!$A$1:$B$35,2,FALSE),IF(I154=2,VLOOKUP(T154,女子種目コード!$A$1:$B$35,2,FALSE))))","v":""},null,"","",null,null,null,null,null,null,null,null,null,null,"",null,null,null,null,null,0,0,"","",null,null,null,null,null,null,null,null,null,null,0,"",""]
[0,{"$f":"名簿!O153","v":""},null,null,{"$f":"名簿!E153","v":0},{"$f":"名簿!BD153","v":""},{"$f":"名簿!V153","v":""},{"$f":"名簿!BD153","v":""},{"$f":"名簿!U153","v":""},{"$f":"名簿!I153","v":0},{"$f":"名簿!K153","v":0},{"$f":"名簿!BK153","v":"00"},{"$f":"名簿!P153","v":""},null,null,{"$f":"IF(O155=\"\",\"\",IF(I155=1,VLOOKUP(O155,男子種目コード!$A$1:$B$35,2,FALSE),IF(I155=2,VLOOKUP(O155,女子種目コード!$A$1:$B$35,2,FALSE))))","v":""},{"$f":"IF(O155=\"\",\"\",HLOOKUP(O155,名簿!$W$4:$AV$184,150,FALSE))","v":""},"","",null,{"$f":"IF(T155=\"\",\"\",IF(I155=1,VLOOKUP(T155,男子種目コード!$A$1:$B$35,2,FALSE),IF(I155=2,VLOOKUP(T155,女子種目コード!$A$1:$B$35,2,FALSE))))","v":""},null,"","",null,null,null,null,null,null,null,null,null,null,"",null,null,null,null,null,0,0,"","",null,null,null,null,null,null,null,null,null,null,0,"",""]
[0,{"$f":"名簿!O154","v":""},null,null,{"$f":"名簿!E154","v":0},{"$f":"名簿!BD154","v":""},{"$f":"名簿!V154","v":""},{"$f":"名簿!BD154","v":""},{"$f":"名簿!U154","v":""},{"$f":"名簿!I154","v":0},{"$f":"名簿!K154","v":0},{"$f":"名簿!BK154","v":"00"},{"$f":"名簿!P154","v":""},null,null,{"$f":"IF(O156=\"\",\"\",IF(I156=1,VLOOKUP(O156,男子種目コード!$A$1:$B$35,2,FALSE),IF(I156=2,VLOOKUP(O156,女子種目コード!$A$1:$B$35,2,FALSE))))","v":""},{"$f":"IF(O156=\"\",\"\",HLOOKUP(O156,名簿!$W$4:$AV$184,151,FALSE))","v":""},"","",null,{"$f":"IF(T156=\"\",\"\",IF(I156=1,VLOOKUP(T156,男子種目コード!$A$1:$B$35,2,FALSE),IF(I156=2,VLOOKUP(T156,女子種目コード!$A$1:$B$35,2,FALSE))))","v":""},null,"","",null,null,null,null,null,null,null,null,null,null,"",null,null,null,null,null,0,0,"","",null,null,null,null,null,null,null,null,null,null,0,"",""]
[0,{"$f":"名簿!O155","v":""},null,null,{"$f":"名簿!E155","v":0},{"$f":"名簿!BD155","v":""},{"$f":"名簿!V155","v":""},{"$f":"名簿!BD155","v":""},{"$f":"名簿!U155","v":""},{"$f":"名簿!I155","v":0},{"$f":"名簿!K155","v":0},{"$f":"名簿!BK155","v":"00"},{"$f":"名簿!P155","v":""},null,null,{"$f":"IF(O157=\"\",\"\",IF(I157=1,VLOOKUP(O157,男子種目コード!$A$1:$B$35,2,FALSE),IF(I157=2,VLOOKUP(O157,女子種目コード!$A$1:$B$35,2,FALSE))))","v":""},{"$f":"IF(O157=\"\",\"\",HLOOKUP(O157,名簿!$W$4:$AV$184,152,FALSE))","v":""},"","",null,{"$f":"IF(T157=\"\",\"\",IF(I157=1,VLOOKUP(T157,男子種目コード!$A$1:$B$35,2,FALSE),IF(I157=2,VLOOKUP(T157,女子種目コード!$A$1:$B$35,2,FALSE))))","v":""},null,"","",null,null,null,null,null,null,null,null,null,null,"",null,null,null,null,null,0,0,"","",null,null,null,null,null,null,null,null,null,null,0,"",""]
[0,{"$f":"名簿!O156","v":""},null,null,{"$f":"名簿!E156","v":0},{"$f":"名簿!BD156","v":""},{"$f":"名簿!V156","v":""},{"$f":"名簿!BD156","v":""},{"$f":"名簿!U156","v":""},{"$f":"名簿!I156","v":0},{"$f":"名簿!K156","v":0},{"$f":"名簿!BK156","v":"00"},{"$f":"名簿!P156","v":""},null,null,{"$f":"IF(O158=\"\",\"\",IF(I158=1,VLOOKUP(O158,男子種目コード!$A$1:$B$35,2,FALSE),IF(I158=2,VLOOKUP(O158,女子種目コード!$A$1:$B$35,2,FALSE))))","v":""},{"$f":"IF(O158=\"\",\"\",HLOOKUP(O158,名簿!$W$4:$AV$184,153,FALSE))","v":""},"","",null,{"$f":"IF(T158=\"\",\"\",IF(I158=1,VLOOKUP(T158,男子種目コード!$A$1:$B$35,2,FALSE),IF(I158=2,VLOOKUP(T158,女子種目コード!$A$1:$B$35,2,FALSE))))","v":""},null,"","",null,null,null,null,null,null,null,null,null,null,"",null,null,null,null,null,0,0,"","",null,null,null,null,null,null,null,null,null,null,0,"",""]
[0,{"$f":"名簿!O157","v":""},null,null,{"$f":"名簿!E157","v":0},{"$f":"名簿!BD157","v":""},{"$f":"名簿!V157","v":""},{"$f":"名簿!BD157","v":""},{"$f":"名簿!U157","v":""},{"$f":"名簿!I157","v":0},{"$f":"名簿!K157","v":0},{"$f":"名簿!BK157","v":"00"},{"$f":"名簿!P157","v":""},null,null,{"$f":"IF(O159=\"\",\"\",IF(I159=1,VLOOKUP(O159,男子種目コード!$A$1:$B$35,2,FALSE),IF(I159=2,VLOOKUP(O159,女子種目コード!$A$1:$B$35,2,FALSE))))","v":""},{"$f":"IF(O159=\"\",\"\",HLOOKUP(O159,名簿!$W$4:$AV$184,154,FALSE))","v":""},"","",null,{"$f":"IF(T159=\"\",\"\",IF(I159=1,VLOOKUP(T159,男子種目コード!$A$1:$B$35,2,FALSE),IF(I159=2,VLOOKUP(T159,女子種目コード!$A$1:$B$35,2,FALSE))))","v":""},null,"","",null,null,null,null,null,null,null,null,null,null,"",null,null,null,null,null,0,0,"","",null,null,null,null,null,null,null,null,null,null,0,"",""]
[0,{"$f":"名簿!O158","v":""},null,null,{"$f":"名簿!E158","v":0},{"$f":"名簿!BD158","v":""},{"$f":"名簿!V158","v":""},{"$f":"名簿!BD158","v":""},{"$f":"名簿!U158","v":""},{"$f":"名簿!I158","v":0},{"$f":"名簿!K158","v":0},{"$f":"名簿!BK158","v":"00"},{"$f":"名簿!P158","v":""},null,null,{"$f":"IF(O160=\"\",\"\",IF(I160=1,VLOOKUP(O160,男子種目コード!$A$1:$B$35,2,FALSE),IF(I160=2,VLOOKUP(O160,女子種目コード!$A$1:$B$35,2,FALSE))))","v":""},{"$f":"IF(O160=\"\",\"\",HLOOKUP(O160,名簿!$W$4:$AV$184,155,FALSE))","v":""},"","",null,{"$f":"IF(T160=\"\",\"\",IF(I160=1,VLOOKUP(T160,男子種目コード!$A$1:$B$35,2,FALSE),IF(I160=2,VLOOKUP(T160,女子種目コード!$A$1:$B$35,2,FALSE))))","v":""},null,"","",null,null,null,null,null,null,null,null,null,null,"",null,null,null,null,null,0,0,"","",null,null,null,null,null,null,null,null,null,null,0,"",""]
[0,{"$f":"名簿!O159","v":""},null,null,{"$f":"名簿!E159","v":0},{"$f":"名簿!BD159","v":""},{"$f":"名簿!V159","v":""},{"$f":"名簿!BD159","v":""},{"$f":"名簿!U159","v":""},{"$f":"名簿!I159","v":0},{"$f":"名簿!K159","v":0},{"$f":"名簿!BK159","v":"00"},{"$f":"名簿!P159","v":""},null,null,{"$f":"IF(O161=\"\",\"\",IF(I161=1,VLOOKUP(O161,男子種目コード!$A$1:$B$35,2,FALSE),IF(I161=2,VLOOKUP(O161,女子種目コード!$A$1:$B$35,2,FALSE))))","v":""},{"$f":"IF(O161=\"\",\"\",HLOOKUP(O161,名簿!$W$4:$AV$184,156,FALSE))","v":""},"","",null,{"$f":"IF(T161=\"\",\"\",IF(I161=1,VLOOKUP(T161,男子種目コード!$A$1:$B$35,2,FALSE),IF(I161=2,VLOOKUP(T161,女子種目コード!$A$1:$B$35,2,FALSE))))","v":""},null,"","",null,null,null,null,null,null,null,null,null,null,"",null,null,null,null,null,0,0,"","",null,null,null,null,null,null,null,null,null,null,0,"",""]
[0,{"$f":"名簿!O160","v":""},null,null,{"$f":"名簿!E160","v":0},{"$f":"名簿!BD160","v":""},{"$f":"名簿!V160","v":""},{"$f":"名簿!BD160","v":""},{"$f":"名簿!U160","v":""},{"$f":"名簿!I160","v":0},{"$f":"名簿!K160","v":0},{"$f":"名簿!BK160","v":"00"},{"$f":"名簿!P160","v":""},null,null,{"$f":"IF(O162=\"\",\"\",IF(I162=1,VLOOKUP(O162,男子種目コード!$A$1:$B$35,2,FALSE),IF(I162=2,VLOOKUP(O162,女子種目コード!$A$1:$B$35,2,FALSE))))","v":""},{"$f":"IF(O162=\"\",\"\",HLOOKUP(O162,名簿!$W$4:$AV$184,157,FALSE))","v":""},"","",null,{"$f":"IF(T162=\"\",\"\",IF(I162=1,VLOOKUP(T162,男子種目コード!$A$1:$B$35,2,FALSE),IF(I162=2,VLOOKUP(T162,女子種目コード!$A$1:$B$35,2,FALSE))))","v":""},null,"","",null,null,null,null,null,null,null,null,null,null,"",null,null,null,null,null,0,0,"","",null,null,null,null,null,null,null,null,null,null,0,"",""]
[0,{"$f":"名簿!O161","v":""},null,null,{"$f":"名簿!E161","v":0},{"$f":"名簿!BD161","v":""},{"$f":"名簿!V161","v":""},{"$f":"名簿!BD161","v":""},{"$f":"名簿!U161","v":""},{"$f":"名簿!I161","v":0},{"$f":"名簿!K161","v":0},{"$f":"名簿!BK161","v":"00"},{"$f":"名簿!P161","v":""},null,null,{"$f":"IF(O163=\"\",\"\",IF(I163=1,VLOOKUP(O163,男子種目コード!$A$1:$B$35,2,FALSE),IF(I163=2,VLOOKUP(O163,女子種目コード!$A$1:$B$35,2,FALSE))))","v":""},{"$f":"IF(O163=\"\",\"\",HLOOKUP(O163,名簿!$W$4:$AV$184,158,FALSE))","v":""},"","",null,{"$f":"IF(T163=\"\",\"\",IF(I163=1,VLOOKUP(T163,男子種目コード!$A$1:$B$35,2,FALSE),IF(I163=2,VLOOKUP(T163,女子種目コード!$A$1:$B$35,2,FALSE))))","v":""},null,"","",null,null,null,null,null,null,null,null,null,null,"",null,null,null,null,null,0,0,"","",null,null,null,null,null,null,null,null,null,null,0,"",""]
[0,{"$f":"名簿!O162","v":""},null,null,{"$f":"名簿!E162","v":0},{"$f":"名簿!BD162","v":""},{"$f":"名簿!V162","v":""},{"$f":"名簿!BD162","v":""},{"$f":"名簿!U162","v":""},{"$f":"名簿!I162","v":0},{"$f":"名簿!K162","v":0},{"$f":"名簿!BK162","v":"00"},{"$f":"名簿!P162","v":""},null,null,{"$f":"IF(O164=\"\",\"\",IF(I164=1,VLOOKUP(O164,男子種目コード!$A$1:$B$35,2,FALSE),IF(I164=2,VLOOKUP(O164,女子種目コード!$A$1:$B$35,2,FALSE))))","v":""},{"$f":"IF(O164=\"\",\"\",HLOOKUP(O164,名簿!$W$4:$AV$184,159,FALSE))","v":""},"","",null,{"$f":"IF(T164=\"\",\"\",IF(I164=1,VLOOKUP(T164,男子種目コード!$A$1:$B$35,2,FALSE),IF(I164=2,VLOOKUP(T164,女子種目コード!$A$1:$B$35,2,FALSE))))","v":""},null,"","",null,null,null,null,null,null,null,null,null,null,"",null,null,null,null,null,0,0,"","",null,null,null,null,null,null,null,null,null,null,0,"",""]
[0,{"$f":"名簿!O163","v":""},null,null,{"$f":"名簿!E163","v":0},{"$f":"名簿!BD163","v":""},{"$f":"名簿!V163","v":""},{"$f":"名簿!BD163","v":""},{"$f":"名簿!U163","v":""},{"$f":"名簿!I163","v":0},{"$f":"名簿!K163","v":0},{"$f":"名簿!BK163","v":"00"},{"$f":"名簿!P163","v":""},null,null,{"$f":"IF(O165=\"\",\"\",IF(I165=1,VLOOKUP(O165,男子種目コード!$A$1:$B$35,2,FALSE),IF(I165=2,VLOOKUP(O165,女子種目コード!$A$1:$B$35,2,FALSE))))","v":""},{"$f":"IF(O165=\"\",\"\",HLOOKUP(O165,名簿!$W$4:$AV$184,160,FALSE))","v":""},"","",null,{"$f":"IF(T165=\"\",\"\",IF(I165=1,VLOOKUP(T165,男子種目コード!$A$1:$B$35,2,FALSE),IF(I165=2,VLOOKUP(T165,女子種目コード!$A$1:$B$35,2,FALSE))))","v":""},null,"","",null,null,null,null,null,null,null,null,null,null,"",null,null,null,null,null,0,0,"","",null,null,null,null,null,null,null,null,null,null,0,"",""]
[0,{"$f":"名簿!O164","v":""},null,null,{"$f":"名簿!E164","v":0},{"$f":"名簿!BD164","v":""},{"$f":"名簿!V164","v":""},{"$f":"名簿!BD164","v":""},{"$f":"名簿!U164","v":""},{"$f":"名簿!I164","v":0},{"$f":"名簿!K164","v":0},{"$f":"名簿!BK164","v":"00"},{"$f":"名簿!P164","v":""},null,null,{"$f":"IF(O166=\"\",\"\",IF(I166=1,VLOOKUP(O166,男子種目コード!$A$1:$B$35,2,FALSE),IF(I166=2,VLOOKUP(O166,女子種目コード!$A$1:$B$35,2,FALSE))))","v":""},{"$f":"IF(O166=\"\",\"\",HLOOKUP(O166,名簿!$W$4:$AV$184,161,FALSE))","v":""},"","",null,{"$f":"IF(T166=\"\",\"\",IF(I166=1,VLOOKUP(T166,男子種目コード!$A$1:$B$35,2,FALSE),IF(I166=2,VLOOKUP(T166,女子種目コード!$A$1:$B$35,2,FALSE))))","v":""},null,"","",null,null,null,null,null,null,null,null,null,null,"",null,null,null,null,null,0,0,"","",null,null,null,null,null,null,null,null,null,null,0,"",""]
[0,{"$f":"名簿!O165","v":""},null,null,{"$f":"名簿!E165","v":0},{"$f":"名簿!BD165","v":""},{"$f":"名簿!V165","v":""},{"$f":"名簿!BD165","v":""},{"$f":"名簿!U165","v":""},{"$f":"名簿!I165","v":0},{"$f":"名簿!K165","v":0},{"$f":"名簿!BK165","v":"00"},{"$f":"名簿!P165","v":""},null,null,{"$f":"IF(O167=\"\",\"\",IF(I167=1,VLOOKUP(O167,男子種目コード!$A$1:$B$35,2,FALSE),IF(I167=2,VLOOKUP(O167,女子種目コード!$A$1:$B$35,2,FALSE))))","v":""},{"$f":"IF(O167=\"\",\"\",HLOOKUP(O167,名簿!$W$4:$AV$184,162,FALSE))","v":""},"","",null,{"$f":"IF(T167=\"\",\"\",IF(I167=1,VLOOKUP(T167,男子種目コード!$A$1:$B$35,2,FALSE),IF(I167=2,VLOOKUP(T167,女子種目コード!$A$1:$B$35,2,FALSE))))","v":""},null,"","",null,null,null,null,null,null,null,null,null,null,"",null,null,null,null,null,0,0,"","",null,null,null,null,null,null,null,null,null,null,0,"",""]
[0,{"$f":"名簿!O166","v":""},null,null,{"$f":"名簿!E166","v":0},{"$f":"名簿!BD166","v":""},{"$f":"名簿!V166","v":""},{"$f":"名簿!BD166","v":""},{"$f":"名簿!U166","v":""},{"$f":"名簿!I166","v":0},{"$f":"名簿!K166","v":0},{"$f":"名簿!BK166","v":"00"},{"$f":"名簿!P166","v":""},null,null,{"$f":"IF(O168=\"\",\"\",IF(I168=1,VLOOKUP(O168,男子種目コード!$A$1:$B$35,2,FALSE),IF(I168=2,VLOOKUP(O168,女子種目コード!$A$1:$B$35,2,FALSE))))","v":""},{"$f":"IF(O168=\"\",\"\",HLOOKUP(O168,名簿!$W$4:$AV$184,163,FALSE))","v":""},"","",null,{"$f":"IF(T168=\"\",\"\",IF(I168=1,VLOOKUP(T168,男子種目コード!$A$1:$B$35,2,FALSE),IF(I168=2,VLOOKUP(T168,女子種目コード!$A$1:$B$35,2,FALSE))))","v":""},null,"","",null,null,null,null,null,null,null,null,null,null,"",null,null,null,null,null,0,0,"","",null,null,null,null,null,null,null,null,null,null,0,"",""]
[0,{"$f":"名簿!O167","v":""},null,null,{"$f":"名簿!E167","v":0},{"$f":"名簿!BD167","v":""},{"$f":"名簿!V167","v":""},{"$f":"名簿!BD167","v":""},{"$f":"名簿!U167","v":""},{"$f":"名簿!I167","v":0},{"$f":"名簿!K167","v":0},{"$f":"名簿!BK167","v":"00"},{"$f":"名簿!P167","v":""},null,null,{"$f":"IF(O169=\"\",\"\",IF(I169=1,VLOOKUP(O169,男子種目コード!$A$1:$B$35,2,FALSE),IF(I169=2,VLOOKUP(O169,女子種目コード!$A$1:$B$35,2,FALSE))))","v":""},{"$f":"IF(O169=\"\",\"\",HLOOKUP(O169,名簿!$W$4:$AV$184,164,FALSE))","v":""},"","",null,{"$f":"IF(T169=\"\",\"\",IF(I169=1,VLOOKUP(T169,男子種目コード!$A$1:$B$35,2,FALSE),IF(I169=2,VLOOKUP(T169,女子種目コード!$A$1:$B$35,2,FALSE))))","v":""},null,"","",null,null,null,null,null,null,null,null,null,null,"",null,null,null,null,null,0,0,"","",null,null,null,null,null,null,null,null,null,null,0,"",""]
[0,{"$f":"名簿!O168","v":""},null,null,{"$f":"名簿!E168","v":0},{"$f":"名簿!BD168","v":""},{"$f":"名簿!V168","v":""},{"$f":"名簿!BD168","v":""},{"$f":"名簿!U168","v":""},{"$f":"名簿!I168","v":0},{"$f":"名簿!K168","v":0},{"$f":"名簿!BK168","v":"00"},{"$f":"名簿!P168","v":""},null,null,{"$f":"IF(O170=\"\",\"\",IF(I170=1,VLOOKUP(O170,男子種目コード!$A$1:$B$35,2,FALSE),IF(I170=2,VLOOKUP(O170,女子種目コード!$A$1:$B$35,2,FALSE))))","v":""},{"$f":"IF(O170=\"\",\"\",HLOOKUP(O170,名簿!$W$4:$AV$184,165,FALSE))","v":""},"","",null,{"$f":"IF(T170=\"\",\"\",IF(I170=1,VLOOKUP(T170,男子種目コード!$A$1:$B$35,2,FALSE),IF(I170=2,VLOOKUP(T170,女子種目コード!$A$1:$B$35,2,FALSE))))","v":""},null,"","",null,null,null,null,null,null,null,null,null,null,"",null,null,null,null,null,0,0,"","",null,null,null,null,null,null,null,null,null,null,0,"",""]
[0,{"$f":"名簿!O169","v":""},null,null,{"$f":"名簿!E169","v":0},{"$f":"名簿!BD169","v":""},{"$f":"名簿!V169","v":""},{"$f":"名簿!BD169","v":""},{"$f":"名簿!U169","v":""},{"$f":"名簿!I169","v":0},{"$f":"名簿!K169","v":0},{"$f":"名簿!BK169","v":"00"},{"$f":"名簿!P169","v":""},null,null,{"$f":"IF(O171=\"\",\"\",IF(I171=1,VLOOKUP(O171,男子種目コード!$A$1:$B$35,2,FALSE),IF(I171=2,VLOOKUP(O171,女子種目コード!$A$1:$B$35,2,FALSE))))","v":""},{"$f":"IF(O171=\"\",\"\",HLOOKUP(O171,名簿!$W$4:$AV$184,166,FALSE))","v":""},"","",null,{"$f":"IF(T171=\"\",\"\",IF(I171=1,VLOOKUP(T171,男子種目コード!$A$1:$B$35,2,FALSE),IF(I171=2,VLOOKUP(T171,女子種目コード!$A$1:$B$35,2,FALSE))))","v":""},null,"","",null,null,null,null,null,null,null,null,null,null,"",null,null,null,null,null,0,0,"","",null,null,null,null,null,null,null,null,null,null,0,"",""]
[0,{"$f":"名簿!O170","v":""},null,null,{"$f":"名簿!E170","v":0},{"$f":"名簿!BD170","v":""},{"$f":"名簿!V170","v":""},{"$f":"名簿!BD170","v":""},{"$f":"名簿!U170","v":""},{"$f":"名簿!I170","v":0},{"$f":"名簿!K170","v":0},{"$f":"名簿!BK170","v":"00"},{"$f":"名簿!P170","v":""},null,null,{"$f":"IF(O172=\"\",\"\",IF(I172=1,VLOOKUP(O172,男子種目コード!$A$1:$B$35,2,FALSE),IF(I172=2,VLOOKUP(O172,女子種目コード!$A$1:$B$35,2,FALSE))))","v":""},{"$f":"IF(O172=\"\",\"\",HLOOKUP(O172,名簿!$W$4:$AV$184,167,FALSE))","v":""},"","",null,{"$f":"IF(T172=\"\",\"\",IF(I172=1,VLOOKUP(T172,男子種目コード!$A$1:$B$35,2,FALSE),IF(I172=2,VLOOKUP(T172,女子種目コード!$A$1:$B$35,2,FALSE))))","v":""},null,"","",null,null,null,null,null,null,null,null,null,null,"",null,null,null,null,null,0,0,"","",null,null,null,null,null,null,null,null,null,null,0,"",""]
[0,{"$f":"名簿!O171","v":""},null,null,{"$f":"名簿!E171","v":0},{"$f":"名簿!BD171","v":""},{"$f":"名簿!V171","v":""},{"$f":"名簿!BD171","v":""},{"$f":"名簿!U171","v":""},{"$f":"名簿!I171","v":0},{"$f":"名簿!K171","v":0},{"$f":"名簿!BK171","v":"00"},{"$f":"名簿!P171","v":""},null,null,{"$f":"IF(O173=\"\",\"\",IF(I173=1,VLOOKUP(O173,男子種目コード!$A$1:$B$35,2,FALSE),IF(I173=2,VLOOKUP(O173,女子種目コード!$A$1:$B$35,2,FALSE))))","v":""},{"$f":"IF(O173=\"\",\"\",HLOOKUP(O173,名簿!$W$4:$AV$184,168,FALSE))","v":""},"","",null,{"$f":"IF(T173=\"\",\"\",IF(I173=1,VLOOKUP(T173,男子種目コード!$A$1:$B$35,2,FALSE),IF(I173=2,VLOOKUP(T173,女子種目コード!$A$1:$B$35,2,FALSE))))","v":""},null,"","",null,null,null,null,null,null,null,null,null,null,"",null,null,null,null,null,0,0,"","",null,null,null,null,null,null,null,null,null,null,0,"",""]
[0,{"$f":"名簿!O172","v":""},null,null,{"$f":"名簿!E172","v":0},{"$f":"名簿!BD172","v":""},{"$f":"名簿!V172","v":""},{"$f":"名簿!BD172","v":""},{"$f":"名簿!U172","v":""},{"$f":"名簿!I172","v":0},{"$f":"名簿!K172","v":0},{"$f":"名簿!BK172","v":"00"},{"$f":"名簿!P172","v":""},null,null,{"$f":"IF(O174=\"\",\"\",IF(I174=1,VLOOKUP(O174,男子種目コード!$A$1:$B$35,2,FALSE),IF(I174=2,VLOOKUP(O174,女子種目コード!$A$1:$B$35,2,FALSE))))","v":""},{"$f":"IF(O174=\"\",\"\",HLOOKUP(O174,名簿!$W$4:$AV$184,169,FALSE))","v":""},"","",null,{"$f":"IF(T174=\"\",\"\",IF(I174=1,VLOOKUP(T174,男子種目コード!$A$1:$B$35,2,FALSE),IF(I174=2,VLOOKUP(T174,女子種目コード!$A$1:$B$35,2,FALSE))))","v":""},null,"","",null,null,null,null,null,null,null,null,null,null,"",null,null,null,null,null,0,0,"","",null,null,null,null,null,null,null,null,null,null,0,"",""]
[0,{"$f":"名簿!O173","v":""},null,null,{"$f":"名簿!E173","v":0},{"$f":"名簿!BD173","v":""},{"$f":"名簿!V173","v":""},{"$f":"名簿!BD173","v":""},{"$f":"名簿!U173","v":""},{"$f":"名簿!I173","v":0},{"$f":"名簿!K173","v":0},{"$f":"名簿!BK173","v":"00"},{"$f":"名簿!P173","v":""},null,null,{"$f":"IF(O175=\"\",\"\",IF(I175=1,VLOOKUP(O175,男子種目コード!$A$1:$B$35,2,FALSE),IF(I175=2,VLOOKUP(O175,女子種目コード!$A$1:$B$35,2,FALSE))))","v":""},{"$f":"IF(O175=\"\",\"\",HLOOKUP(O175,名簿!$W$4:$AV$184,170,FALSE))","v":""},"","",null,{"$f":"IF(T175=\"\",\"\",IF(I175=1,VLOOKUP(T175,男子種目コード!$A$1:$B$35,2,FALSE),IF(I175=2,VLOOKUP(T175,女子種目コード!$A$1:$B$35,2,FALSE))))","v":""},null,"","",null,null,null,null,null,null,null,null,null,null,"",null,null,null,null,null,0,0,"","",null,null,null,null,null,null,null,null,null,null,0,"",""]
[0,{"$f":"名簿!O174","v":""},null,null,{"$f":"名簿!E174","v":0},{"$f":"名簿!BD174","v":""},{"$f":"名簿!V174","v":""},{"$f":"名簿!BD174","v":""},{"$f":"名簿!U174","v":""},{"$f":"名簿!I174","v":0},{"$f":"名簿!K174","v":0},{"$f":"名簿!BK174","v":"00"},{"$f":"名簿!P174","v":""},null,null,{"$f":"IF(O176=\"\",\"\",IF(I176=1,VLOOKUP(O176,男子種目コード!$A$1:$B$35,2,FALSE),IF(I176=2,VLOOKUP(O176,女子種目コード!$A$1:$B$35,2,FALSE))))","v":""},{"$f":"IF(O176=\"\",\"\",HLOOKUP(O176,名簿!$W$4:$AV$184,171,FALSE))","v":""},"","",null,{"$f":"IF(T176=\"\",\"\",IF(I176=1,VLOOKUP(T176,男子種目コード!$A$1:$B$35,2,FALSE),IF(I176=2,VLOOKUP(T176,女子種目コード!$A$1:$B$35,2,FALSE))))","v":""},null,"","",null,null,null,null,null,null,null,null,null,null,"",null,null,null,null,null,0,0,"","",null,null,null,null,null,null,null,null,null,null,0,"",""]
[0,{"$f":"名簿!O175","v":""},null,null,{"$f":"名簿!E175","v":0},{"$f":"名簿!BD175","v":""},{"$f":"名簿!V175","v":""},{"$f":"名簿!BD175","v":""},{"$f":"名簿!U175","v":""},{"$f":"名簿!I175","v":0},{"$f":"名簿!K175","v":0},{"$f":"名簿!BK175","v":"00"},{"$f":"名簿!P175","v":""},null,null,{"$f":"IF(O177=\"\",\"\",IF(I177=1,VLOOKUP(O177,男子種目コード!$A$1:$B$35,2,FALSE),IF(I177=2,VLOOKUP(O177,女子種目コード!$A$1:$B$35,2,FALSE))))","v":""},{"$f":"IF(O177=\"\",\"\",HLOOKUP(O177,名簿!$W$4:$AV$184,172,FALSE))","v":""},"","",null,{"$f":"IF(T177=\"\",\"\",IF(I177=1,VLOOKUP(T177,男子種目コード!$A$1:$B$35,2,FALSE),IF(I177=2,VLOOKUP(T177,女子種目コード!$A$1:$B$35,2,FALSE))))","v":""},null,"","",null,null,null,null,null,null,null,null,null,null,"",null,null,null,null,null,0,0,"","",null,null,null,null,null,null,null,null,null,null,0,"",""]
[0,{"$f":"名簿!O176","v":""},null,null,{"$f":"名簿!E176","v":0},{"$f":"名簿!BD176","v":""},{"$f":"名簿!V176","v":""},{"$f":"名簿!BD176","v":""},{"$f":"名簿!U176","v":""},{"$f":"名簿!I176","v":0},{"$f":"名簿!K176","v":0},{"$f":"名簿!BK176","v":"00"},{"$f":"名簿!P176","v":""},null,null,{"$f":"IF(O178=\"\",\"\",IF(I178=1,VLOOKUP(O178,男子種目コード!$A$1:$B$35,2,FALSE),IF(I178=2,VLOOKUP(O178,女子種目コード!$A$1:$B$35,2,FALSE))))","v":""},{"$f":"IF(O178=\"\",\"\",HLOOKUP(O178,名簿!$W$4:$AV$184,173,FALSE))","v":""},"","",null,{"$f":"IF(T178=\"\",\"\",IF(I178=1,VLOOKUP(T178,男子種目コード!$A$1:$B$35,2,FALSE),IF(I178=2,VLOOKUP(T178,女子種目コード!$A$1:$B$35,2,FALSE))))","v":""},null,"","",null,null,null,null,null,null,null,null,null,null,"",null,null,null,null,null,0,0,"","",null,null,null,null,null,null,null,null,null,null,0,"",""]
[0,{"$f":"名簿!O177","v":""},null,null,{"$f":"名簿!E177","v":0},{"$f":"名簿!BD177","v":""},{"$f":"名簿!V177","v":""},{"$f":"名簿!BD177","v":""},{"$f":"名簿!U177","v":""},{"$f":"名簿!I177","v":0},{"$f":"名簿!K177","v":0},{"$f":"名簿!BK177","v":"00"},{"$f":"名簿!P177","v":""},null,null,{"$f":"IF(O179=\"\",\"\",IF(I179=1,VLOOKUP(O179,男子種目コード!$A$1:$B$35,2,FALSE),IF(I179=2,VLOOKUP(O179,女子種目コード!$A$1:$B$35,2,FALSE))))","v":""},{"$f":"IF(O179=\"\",\"\",HLOOKUP(O179,名簿!$W$4:$AV$184,174,FALSE))","v":""},"","",null,{"$f":"IF(T179=\"\",\"\",IF(I179=1,VLOOKUP(T179,男子種目コード!$A$1:$B$35,2,FALSE),IF(I179=2,VLOOKUP(T179,女子種目コード!$A$1:$B$35,2,FALSE))))","v":""},null,"","",null,null,null,null,null,null,null,null,null,null,"",null,null,null,null,null,0,0,"","",null,null,null,null,null,null,null,null,null,null,0,"",""]
[0,{"$f":"名簿!O178","v":""},null,null,{"$f":"名簿!E178","v":0},{"$f":"名簿!BD178","v":""},{"$f":"名簿!V178","v":""},{"$f":"名簿!BD178","v":""},{"$f":"名簿!U178","v":""},{"$f":"名簿!I178","v":0},{"$f":"名簿!K178","v":0},{"$f":"名簿!BK178","v":"00"},{"$f":"名簿!P178","v":""},null,null,{"$f":"IF(O180=\"\",\"\",IF(I180=1,VLOOKUP(O180,男子種目コード!$A$1:$B$35,2,FALSE),IF(I180=2,VLOOKUP(O180,女子種目コード!$A$1:$B$35,2,FALSE))))","v":""},{"$f":"IF(O180=\"\",\"\",HLOOKUP(O180,名簿!$W$4:$AV$184,175,FALSE))","v":""},"","",null,{"$f":"IF(T180=\"\",\"\",IF(I180=1,VLOOKUP(T180,男子種目コード!$A$1:$B$35,2,FALSE),IF(I180=2,VLOOKUP(T180,女子種目コード!$A$1:$B$35,2,FALSE))))","v":""},null,"","",null,null,null,null,null,null,null,null,null,null,"",null,null,null,null,null,0,0,"","",null,null,null,null,null,null,null,null,null,null,0,"",""]
[0,{"$f":"名簿!O179","v":""},null,null,{"$f":"名簿!E179","v":0},{"$f":"名簿!BD179","v":""},{"$f":"名簿!V179","v":""},{"$f":"名簿!BD179","v":""},{"$f":"名簿!U179","v":""},{"$f":"名簿!I179","v":0},{"$f":"名簿!K179","v":0},{"$f":"名簿!BK179","v":"00"},{"$f":"名簿!P179","v":""},null,null,{"$f":"IF(O181=\"\",\"\",IF(I181=1,VLOOKUP(O181,男子種目コード!$A$1:$B$35,2,FALSE),IF(I181=2,VLOOKUP(O181,女子種目コード!$A$1:$B$35,2,FALSE))))","v":""},{"$f":"IF(O181=\"\",\"\",HLOOKUP(O181,名簿!$W$4:$AV$184,176,FALSE))","v":""},"","",null,{"$f":"IF(T181=\"\",\"\",IF(I181=1,VLOOKUP(T181,男子種目コード!$A$1:$B$35,2,FALSE),IF(I181=2,VLOOKUP(T181,女子種目コード!$A$1:$B$35,2,FALSE))))","v":""},null,"","",null,null,null,null,null,null,null,null,null,null,"",null,null,null,null,null,0,0,"","",null,null,null,null,null,null,null,null,null,null,0,"",""]
[0,{"$f":"名簿!O180","v":""},null,null,{"$f":"名簿!E180","v":0},{"$f":"名簿!BD180","v":""},{"$f":"名簿!V180","v":""},{"$f":"名簿!BD180","v":""},{"$f":"名簿!U180","v":""},{"$f":"名簿!I180","v":0},{"$f":"名簿!K180","v":0},{"$f":"名簿!BK180","v":"00"},{"$f":"名簿!P180","v":""},null,null,{"$f":"IF(O182=\"\",\"\",IF(I182=1,VLOOKUP(O182,男子種目コード!$A$1:$B$35,2,FALSE),IF(I182=2,VLOOKUP(O182,女子種目コード!$A$1:$B$35,2,FALSE))))","v":""},{"$f":"IF(O182=\"\",\"\",HLOOKUP(O182,名簿!$W$4:$AV$184,177,FALSE))","v":""},"","",null,{"$f":"IF(T182=\"\",\"\",IF(I182=1,VLOOKUP(T182,男子種目コード!$A$1:$B$35,2,FALSE),IF(I182=2,VLOOKUP(T182,女子種目コード!$A$1:$B$35,2,FALSE))))","v":""},null,"","",null,null,null,null,null,null,null,null,null,null,"",null,null,null,null,null,0,0,"","",null,null,null,null,null,null,null,null,null,null,0,"",""]
[0,{"$f":"名簿!O181","v":""},null,null,{"$f":"名簿!E181","v":0},{"$f":"名簿!BD181","v":""},{"$f":"名簿!V181","v":""},{"$f":"名簿!BD181","v":""},{"$f":"名簿!U181","v":""},{"$f":"名簿!I181","v":0},{"$f":"名簿!K181","v":0},{"$f":"名簿!BK181","v":"00"},{"$f":"名簿!P181","v":""},null,null,{"$f":"IF(O183=\"\",\"\",IF(I183=1,VLOOKUP(O183,男子種目コード!$A$1:$B$35,2,FALSE),IF(I183=2,VLOOKUP(O183,女子種目コード!$A$1:$B$35,2,FALSE))))","v":""},{"$f":"IF(O183=\"\",\"\",HLOOKUP(O183,名簿!$W$4:$AV$184,178,FALSE))","v":""},"","",null,{"$f":"IF(T183=\"\",\"\",IF(I183=1,VLOOKUP(T183,男子種目コード!$A$1:$B$35,2,FALSE),IF(I183=2,VLOOKUP(T183,女子種目コード!$A$1:$B$35,2,FALSE))))","v":""},null,"","",null,null,null,null,null,null,null,null,null,null,"",null,null,null,null,null,0,0,"","",null,null,null,null,null,null,null,null,null,null,0,"",""]
[0,{"$f":"名簿!O182","v":""},null,null,{"$f":"名簿!E182","v":0},{"$f":"名簿!BD182","v":""},{"$f":"名簿!V182","v":""},{"$f":"名簿!BD182","v":""},{"$f":"名簿!U182","v":""},{"$f":"名簿!I182","v":0},{"$f":"名簿!K182","v":0},{"$f":"名簿!BK182","v":"00"},{"$f":"名簿!P182","v":""},null,null,{"$f":"IF(O184=\"\",\"\",IF(I184=1,VLOOKUP(O184,男子種目コード!$A$1:$B$35,2,FALSE),IF(I184=2,VLOOKUP(O184,女子種目コード!$A$1:$B$35,2,FALSE))))","v":""},{"$f":"IF(O184=\"\",\"\",HLOOKUP(O184,名簿!$W$4:$AV$184,179,FALSE))","v":""},"","",null,{"$f":"IF(T184=\"\",\"\",IF(I184=1,VLOOKUP(T184,男子種目コード!$A$1:$B$35,2,FALSE),IF(I184=2,VLOOKUP(T184,女子種目コード!$A$1:$B$35,2,FALSE))))","v":""},null,"","",null,null,null,null,null,null,null,null,null,null,"",null,null,null,null,null,0,0,"","",null,null,null,null,null,null,null,null,null,null,0,"",""]
[0,{"$f":"名簿!O183","v":""},null,null,{"$f":"名簿!E183","v":0},{"$f":"名簿!BD183","v":""},{"$f":"名簿!V183","v":""},{"$f":"名簿!BD183","v":""},{"$f":"名簿!U183","v":""},{"$f":"名簿!I183","v":0},{"$f":"名簿!K183","v":0},{"$f":"名簿!BK183","v":"00"},{"$f":"名簿!P183","v":""},null,null,{"$f":"IF(O185=\"\",\"\",IF(I185=1,VLOOKUP(O185,男子種目コード!$A$1:$B$35,2,FALSE),IF(I185=2,VLOOKUP(O185,女子種目コード!$A$1:$B$35,2,FALSE))))","v":""},{"$f":"IF(O185=\"\",\"\",HLOOKUP(O185,名簿!$W$4:$AV$184,180,FALSE))","v":""},"","",null,{"$f":"IF(T185=\"\",\"\",IF(I185=1,VLOOKUP(T185,男子種目コード!$A$1:$B$35,2,FALSE),IF(I185=2,VLOOKUP(T185,女子種目コード!$A$1:$B$35,2,FALSE))))","v":""},null,"","",null,null,null,null,null,null,null,null,null,null,"",null,null,null,null,null,0,0,"","",null,null,null,null,null,null,null,null,null,null,0,"",""]
[0,{"$f":"名簿!O184","v":""},null,null,{"$f":"名簿!E184","v":0},{"$f":"名簿!BD184","v":""},{"$f":"名簿!V184","v":""},{"$f":"名簿!BD184","v":""},{"$f":"名簿!U184","v":""},{"$f":"名簿!I184","v":0},{"$f":"名簿!K184","v":0},{"$f":"名簿!BK184","v":"00"},{"$f":"名簿!P184","v":""},null,null,{"$f":"IF(O186=\"\",\"\",IF(I186=1,VLOOKUP(O186,男子種目コード!$A$1:$B$35,2,FALSE),IF(I186=2,VLOOKUP(O186,女子種目コード!$A$1:$B$35,2,FALSE))))","v":""},{"$f":"IF(O186=\"\",\"\",HLOOKUP(O186,名簿!$W$4:$AV$184,181,FALSE))","v":""},"","",null,{"$f":"IF(T186=\"\",\"\",IF(I186=1,VLOOKUP(T186,男子種目コード!$A$1:$B$35,2,FALSE),IF(I186=2,VLOOKUP(T186,女子種目コード!$A$1:$B$35,2,FALSE))))","v":""},null,"","",null,null,null,null,null,null,null,null,null,null,"",null,null,null,null,null,0,0,"","",null,null,null,null,null,null,null,null,null,null,0,"",""]
[null,null,null,null,null,null,null,null,null,null,null,null,null,null,null,null,null,null,null,null,null,null,null,null,null,null,null,null,{"$f":"SUM(AI7:AI186)","v":0}]

{"sheet":"全国ｸﾛｶﾝ予選","index":9,"n_rows":21,"n_cols":11,"rows_kept":21,"cut":false,"hidden":false,"merged":[]}
["スポーツフェスティバルみえ"]
["全国小学生ｸﾛｶﾝﾘﾚｰ大会三重県選考会"]
[{"$f":"名簿!B1","v":0},null,"監督名",{"$f":"名簿!B2","v":0}]
[{"$f":"名簿!O5","v":""},null,"連絡先",{"$f":"名簿!G2","v":0}]
[null,null,null,null,null,"参加人数",null,{"$f":"J21","v":0}]
[null,null,null,null,null,"大会参加費","参加費合計",{"$f":"J21*500","v":0}]
["参加者の登録Noを入力して下さい",null,null,null,null,null,null,{"$f":"名簿!N5","v":""}]
["ナンバー","名前","カナ名","性別","学年","所属名","コード","800m参考記録",1500]
[null,{"$f":"IF(A9=\"\",\"\",VLOOKUP(A9,名簿!$E$5:$BD$184,46,FALSE))","v":""},{"$f":"IF(A9=\"\",\"\",VLOOKUP(A9,名簿!$E$5:$V$184,18,FALSE))","v":""},{"$f":"IF(A9=\"\",\"\",VLOOKUP(A9,名簿!$E$5:$J$184,6,FALSE))","v":""},{"$f":"IF(A9=\"\",\"\",VLOOKUP(A9,名簿!$E$5:$J$184,5,FALSE))","v":""},{"$f":"IF(A9=\"\",\"\",$A$3)","v":""},{"$f":"IF(A9=\"\",\"\",$A$4)","v":""},null,null,{"$f":"IF(B9=\"\",\"\",1)","v":""},"男子"]
[null,{"$f":"IF(A10=\"\",\"\",VLOOKUP(A10,名簿!$E$5:$BD$184,46,FALSE))","v":""},{"$f":"IF(A10=\"\",\"\",VLOOKUP(A10,名簿!$E$5:$V$184,18,FALSE))","v":""},{"$f":"IF(A10=\"\",\"\",VLOOKUP(A10,名簿!$E$5:$J$184,6,FALSE))","v":""},{"$f":"IF(A10=\"\",\"\",VLOOKUP(A10,名簿!$E$5:$J$184,5,FALSE))","v":""},{"$f":"IF(A10=\"\",\"\",$A$3)","v":""},{"$f":"IF(A10=\"\",\"\",$A$4)","v":""},null,null,{"$f":"IF(B10=\"\",\"\",1)","v":""},"男子"]
[null,{"$f":"IF(A11=\"\",\"\",VLOOKUP(A11,名簿!$E$5:$BD$184,46,FALSE))","v":""},{"$f":"IF(A11=\"\",\"\",VLOOKUP(A11,名簿!$E$5:$V$184,18,FALSE))","v":""},{"$f":"IF(A11=\"\",\"\",VLOOKUP(A11,名簿!$E$5:$J$184,6,FALSE))","v":""},{"$f":"IF(A11=\"\",\"\",VLOOKUP(A11,名簿!$E$5:$J$184,5,FALSE))","v":""},"","",null,null,"","男子"]
[null,{"$f":"IF(A12=\"\",\"\",VLOOKUP(A12,名簿!$E$5:$BD$184,46,FALSE))","v":""},{"$f":"IF(A12=\"\",\"\",VLOOKUP(A12,名簿!$E$5:$V$184,18,FALSE))","v":""},{"$f":"IF(A12=\"\",\"\",VLOOKUP(A12,名簿!$E$5:$J$184,6,FALSE))","v":""},{"$f":"IF(A12=\"\",\"\",VLOOKUP(A12,名簿!$E$5:$J$184,5,FALSE))","v":""},"","",null,null,"","男子"]
[null,{"$f":"IF(A13=\"\",\"\",VLOOKUP(A13,名簿!$E$5:$BD$184,46,FALSE))","v":""},{"$f":"IF(A13=\"\",\"\",VLOOKUP(A13,名簿!$E$5:$V$184,18,FALSE))","v":""},{"$f":"IF(A13=\"\",\"\",VLOOKUP(A13,名簿!$E$5:$J$184,6,FALSE))","v":""},{"$f":"IF(A13=\"\",\"\",VLOOKUP(A13,名簿!$E$5:$J$184,5,FALSE))","v":""},"","",null,null,"","男子"]
[null,{"$f":"IF(A14=\"\",\"\",VLOOKUP(A14,名簿!$E$5:$BD$184,46,FALSE))","v":""},{"$f":"IF(A14=\"\",\"\",VLOOKUP(A14,名簿!$E$5:$V$184,18,FALSE))","v":""},{"$f":"IF(A14=\"\",\"\",VLOOKUP(A14,名簿!$E$5:$J$184,6,FALSE))","v":""},{"$f":"IF(A14=\"\",\"\",VLOOKUP(A14,名簿!$E$5:$J$184,5,FALSE))","v":""},"","",null,null,"","男子"]
[null,{"$f":"IF(A15=\"\",\"\",VLOOKUP(A15,名簿!$E$5:$BD$184,46,FALSE))","v":""},{"$f":"IF(A15=\"\",\"\",VLOOKUP(A15,名簿!$E$5:$V$184,18,FALSE))","v":""},{"$f":"IF(A15=\"\",\"\",VLOOKUP(A15,名簿!$E$5:$J$184,6,FALSE))","v":""},{"$f":"IF(A15=\"\",\"\",VLOOKUP(A15,名簿!$E$5:$J$184,5,FALSE))","v":""},{"$f":"IF(A15=\"\",\"\",$A$3)","v":""},{"$f":"IF(A15=\"\",\"\",$A$4)","v":""},null,null,"","女子"]
[null,{"$f":"IF(A16=\"\",\"\",VLOOKUP(A16,名簿!$E$5:$BD$184,46,FALSE))","v":""},{"$f":"IF(A16=\"\",\"\",VLOOKUP(A16,名簿!$E$5:$V$184,18,FALSE))","v":""},{"$f":"IF(A16=\"\",\"\",VLOOKUP(A16,名簿!$E$5:$J$184,6,FALSE))","v":""},{"$f":"IF(A16=\"\",\"\",VLOOKUP(A16,名簿!$E$5:$J$184,5,FALSE))","v":""},{"$f":"IF(A16=\"\",\"\",$A$3)","v":""},{"$f":"IF(A16=\"\",\"\",$A$4)","v":""},null,null,"","女子"]
[null,{"$f":"IF(A17=\"\",\"\",VLOOKUP(A17,名簿!$E$5:$BD$184,46,FALSE))","v":""},{"$f":"IF(A17=\"\",\"\",VLOOKUP(A17,名簿!$E$5:$V$184,18,FALSE))","v":""},{"$f":"IF(A17=\"\",\"\",VLOOKUP(A17,名簿!$E$5:$J$184,6,FALSE))","v":""},{"$f":"IF(A17=\"\",\"\",VLOOKUP(A17,名簿!$E$5:$J$184,5,FALSE))","v":""},"","",null,null,"","女子"]
[null,{"$f":"IF(A18=\"\",\"\",VLOOKUP(A18,名簿!$E$5:$BD$184,46,FALSE))","v":""},{"$f":"IF(A18=\"\",\"\",VLOOKUP(A18,名簿!$E$5:$V$184,18,FALSE))","v":""},{"$f":"IF(A18=\"\",\"\",VLOOKUP(A18,名簿!$E$5:$J$184,6,FALSE))","v":""},{"$f":"IF(A18=\"\",\"\",VLOOKUP(A18,名簿!$E$5:$J$184,5,FALSE))","v":""},"","",null,null,"","女子"]
[null,{"$f":"IF(A19=\"\",\"\",VLOOKUP(A19,名簿!$E$5:$BD$184,46,FALSE))","v":""},{"$f":"IF(A19=\"\",\"\",VLOOKUP(A19,名簿!$E$5:$V$184,18,FALSE))","v":""},{"$f":"IF(A19=\"\",\"\",VLOOKUP(A19,名簿!$E$5:$J$184,6,FALSE))","v":""},{"$f":"IF(A19=\"\",\"\",VLOOKUP(A19,名簿!$E$5:$J$184,5,FALSE))","v":""},"","",null,null,"","女子"]
[null,{"$f":"IF(A20=\"\",\"\",VLOOKUP(A20,名簿!$E$5:$BD$184,46,FALSE))","v":""},{"$f":"IF(A20=\"\",\"\",VLOOKUP(A20,名簿!$E$5:$V$184,18,FALSE))","v":""},{"$f":"IF(A20=\"\",\"\",VLOOKUP(A20,名簿!$E$5:$J$184,6,FALSE))","v":""},{"$f":"IF(A20=\"\",\"\",VLOOKUP(A20,名簿!$E$5:$J$184,5,FALSE))","v":""},"","",null,null,"","女子"]
[null,null,null,null,null,null,null,null,null,{"$f":"SUM(J9:J20)","v":0}]

{"sheet":"所属コード","index":10,"n_rows":121,"n_cols":6,"rows_kept":121,"cut":false,"hidden":true,"merged":[]}
["所属名","所属NO","所属名カナ","所属名略称","所属地NO"]
["員弁ＲＣ",400,null,"員弁ＲＣ",100,"桑員"]
["いなべTFC",401,null,"いなべTFC",100,"桑員"]
["七和ＲＣ",402,null,"七和ＲＣ",100,"桑員"]
["大山田ＡＣ",403,null,"大山田ＡＣ",100,"桑員"]
["笹尾ＡＣ",404,null,"笹尾ＡＣ",100,"桑員"]
["藤原陸上ク",405,null,"藤原陸上ク",100,"桑員"]
["多度陸上少",406,null,"多度陸上少",100,"桑員"]
["北勢ＲＣ",407,null,"北勢ＲＣ",100,"桑員"]
["神田クラブ",541,null,"神田クラブ",100,"桑員"]
["三浜陸上",408,null,"三浜陸上",101,"三泗"]
["内部陸上少",409,null,"内部陸上少",101,"三泗"]
["保々ＲＣ",410,null,"保々ＲＣ",101,"三泗"]
["Y.W.C",411,null,"Y.W.C",101,"三泗"]
["楠陸上Jｒ",412,null,"楠陸上Jｒ",101,"三泗"]
["朝日陸上少",413,null,"朝日陸上少",101,"三泗"]
["川越陸上少",414,null,"川越陸上少",101,"三泗"]
["菰野ＳＣ",415,null,"菰野ＳＣ",101,"三泗"]
["三重",676,null,"三重",101,"三泗"]
["KUSUPO",451,null,"KUSUPO",101,"三泗"]
["ｱｽﾘｰﾄY",468,null,"ｱｽﾘｰﾄY",101,"三泗"]
["石薬師RC",416,null,"石薬師RC",102,"鈴亀"]
["ASSA-TC",418,null,"ASSA-TC",102,"鈴亀"]
["一ノ宮",454,null,"一ノ宮",102,"鈴亀"]
["イムラＡＡ",455,null,"イムラＡＡ",102,"鈴亀"]
["旭が丘",467,null,"旭が丘",102,"鈴亀"]
["JAC亀山",419,null,"JAC亀山",102,"鈴亀"]
["一志Beast",420,null,"一志Beast",104,"津　"]
["津陸上ク",421,null,"津陸上ク",104,"津　"]
["橋南スポク",422,null,"橋南スポク",104,"津　"]
["美杉陸上ク",424,null,"美杉陸上ク",104,"津　"]
["J＆E久居",466,null,"J＆E久居",104,"津　"]
["ﾁｰﾑG松陸",425,null,"ﾁｰﾑG松陸",105,"松多"]
["ＵＲＣ",452,null,"ＵＲＣ",105,"松多"]
["多気ＲＣ",427,null,"多気ＲＣ",105,"松多"]
["多気陸上教室",540,null,"多気陸上教室",105,"松多"]
["北浜陸上ク",429,null,"北浜陸上ク",106,"伊度"]
["厚生ＡＣ",430,null,"厚生ＡＣ",106,"伊度"]
["宮川Jr陸上",431,null,"宮川Jr陸上",106,"伊度"]
["南勢陸上ク",432,null,"南勢陸上ク",106,"伊度"]
["SMAC陸上ク",434,null,"SMAC陸上ク",106,"伊度"]
["SunTFC",435,null,"SunTFC",106,"伊度"]
["ﾌﾘｰｽﾀｲﾙ",436,null,"ﾌﾘｰｽﾀｲﾙ",106,"伊度"]
["南勢陸上J",451,null,"南勢陸上J",106,"伊度"]
["内城田ＳＣ",437,null,"内城田ＳＣ",106,"伊度"]
["南勢ＡＣ",438,null,"南勢ＡＣ",106,"伊度"]
["玉城陸上ク",439,null,"玉城陸上ク",106,"伊度"]
["志摩陸上ク",442,null,"志摩陸上ク",107,"鳥志"]
["国府ＡＴ",443,null,"国府ＡＴ",107,"鳥志"]
["ClubEggs",444,null,"ClubEggs",107,"鳥志"]
["ゆめが丘RC",447,null,"ゆめが丘RC",108,"伊賀"]
["伊賀ＴＣ",448,null,"伊賀ＴＣ",108,"伊賀"]
["名張クラブ",446,null,"名張クラブ",109,"名張"]
["尾鷲陸上少",449,null,"尾鷲陸上少",110,"尾北"]
["熊野ＲＣ",450,null,"熊野ＲＣ",111,"熊南"]
["川島",679,null,"川島",101,"三泗"]
["加佐登",603,null,"加佐登",102,"鈴亀"]
["鈴西",604,null,"鈴西",102,"鈴亀"]
["稲生",605,null,"稲生",102,"鈴亀"]
["栄",611,null,"栄",102,"鈴亀"]
["鈴鹿ＡＣ",662,null,"鈴鹿ＡＣ",102,"鈴亀"]
["上野ＡＣ",445,null,"上野ＡＣ",108,"伊賀"]
["青山",638,null,"青山",108,"伊賀"]
["上野西",639,null,"上野西",108,"伊賀"]
["上野東",642,null,"上野東",108,"伊賀"]
["大山田",643,null,"大山田",108,"伊賀"]
["神戸",644,null,"神戸",108,"伊賀"]
["島ヶ原",645,null,"島ヶ原",108,"伊賀"]
["玉滝",646,null,"玉滝",108,"伊賀"]
["中瀬",648,null,"中瀬",108,"伊賀"]
["新居",649,null,"新居",108,"伊賀"]
["西柘植",650,null,"西柘植",108,"伊賀"]
["三田",653,null,"三田",108,"伊賀"]
["壬生野",654,null,"壬生野",108,"伊賀"]
["川崎ﾌﾚﾝｽﾞ",659,null,"川崎ﾌﾚﾝｽﾞ",102,"鈴亀"]
["阿坂",614,null,"阿坂",105,"松多"]
["第一",615,null,"第一",106,"松多"]
["第二",616,null,"第二",107,"松多"]
["第五",617,null,"第五",108,"松多"]
["漕代",621,null,"漕代",109,"松多"]
["幸",622,null,"幸",110,"松多"]
["西黒部",625,null,"西黒部",111,"松多"]
["松尾",626,null,"松尾",112,"松多"]
["南",627,null,"南",113,"松多"]
["山室山",628,null,"山室山",114,"松多"]
["飯南ＲＣ",664,null,"飯南ＲＣ",115,"松多"]
["ＭＡＸ",667,null,"ＭＡＸ",116,"松多"]
["東黒部",680,null,"東黒部",117,"松多"]
["上御糸",630,null,"上御糸",118,"松多"]
["斎宮",631,null,"斎宮",119,"松多"]
["下御糸",633,null,"下御糸",120,"松多"]
["日進",635,null,"日進",121,"松多"]
["宮川",636,null,"宮川",122,"松多"]
["進修",501,null,"進修",106,"伊度"]
["修道",502,null,"修道",106,"伊度"]
["有緝",503,null,"有緝",106,"伊度"]
["中島",505,null,"中島",106,"伊度"]
["明倫",506,null,"明倫",106,"伊度"]
["神社",508,null,"神社",106,"伊度"]
["浜郷",512,null,"浜郷",106,"伊度"]
["四郷",513,null,"四郷",106,"伊度"]
["豊浜東",514,null,"豊浜東",106,"伊度"]
["城田",518,null,"城田",106,"伊度"]
["明野",523,null,"明野",106,"伊度"]
["御薗",524,null,"御薗",106,"伊度"]
["南島西",535,null,"南島西",106,"伊度"]
["南島東",536,null,"南島東",106,"伊度"]
["大紀",537,null,"大紀",106,"伊度"]
["度会ｴﾝﾍﾟﾗｰｽﾞ",541,null,"度会ｴﾝﾍﾟﾗｰｽﾞ",106,"伊度"]
["外城田",671,null,"外城田",106,"伊度"]
["桃取",574,null,"桃取",107,"鳥志"]
["安楽島",575,null,"安楽島",108,"鳥志"]
["加茂",576,null,"加茂",109,"鳥志"]
["鏡浦",577,null,"鏡浦",110,"鳥志"]
["神島",581,null,"神島",111,"鳥志"]
["菅島",582,null,"菅島",112,"鳥志"]
["鳥羽",583,null,"鳥羽",113,"鳥志"]
["答志",584,null,"答志",114,"鳥志"]
["浜島",590,null,"浜島",115,"鳥志"]
["布施田",592,null,"布施田",116,"鳥志"]
["和具",595,null,"和具",117,"鳥志"]

{"sheet":"タスキリレー","index":11,"n_rows":68,"n_cols":21,"rows_kept":68,"cut":false,"hidden":false,"merged":[[4,1,4,2],[6,1,6,2],[8,1,8,2]]}
["三重タスキリレー大会　",null,null,null,null,null,null,null,null,null,null,null,null,null,null,null,null,null,null,"(",")"]
[]
[]
[]
["所属名",{"$f":"名簿!B1","v":0}]
[]
["監督名",{"$f":"名簿!B2","v":0},null,{"$f":"S58","v":0}]
[null,null,null,"参加費"]
["連絡先",{"$f":"名簿!G2","v":0},null,{"$f":"S58*4000","v":0}]
[]
[]
["監督",{"$f":"$B$7","v":0},null,"(監督が違う場合は直接入力)",null,null,null,"監督",{"$f":"$B$7","v":0},null,"(監督が違う場合は直接入力)"]
["男子Ａ",null,null,null,null,null,null,"男子Ｂ"]
["ｴﾝﾄﾘｰ","No","氏名","フリガナ","学年","性別",null,"ｴﾝﾄﾘｰ","No","氏名","フリガナ","学年","性別",null,null,null,null,null,null,{"$f":"B12","v":0},{"$f":"I12","v":0}]
[1,null,{"$f":"IF(B15=\"\",\"\",VLOOKUP(B15,名簿!$E$5:$BD$184,46,FALSE))","v":""},{"$f":"IF(B15=\"\",\"\",VLOOKUP(B15,名簿!$E$5:$V$184,18,FALSE))","v":""},{"$f":"IF(B15=\"\",\"\",VLOOKUP(B15,名簿!$E$5:$J$184,5,FALSE))","v":""},{"$f":"IF(B15=\"\",\"\",VLOOKUP(B15,名簿!$E$5:$J$184,4,FALSE))","v":""},null,1,null,{"$f":"IF(I15=\"\",\"\",VLOOKUP(I15,名簿!$E$5:$BD$184,46,FALSE))","v":""},{"$f":"IF(I15=\"\",\"\",VLOOKUP(I15,名簿!$E$5:$V$184,18,FALSE))","v":""},{"$f":"IF(I15=\"\",\"\",VLOOKUP(I15,名簿!$E$5:$J$184,5,FALSE))","v":""},{"$f":"IF(I15=\"\",\"\",VLOOKUP(I15,名簿!$E$5:$J$184,4,FALSE))","v":""},null,null,null,{"$f":"IF(C15=\"\",\"\",1)","v":""},{"$f":"IF(J15=\"\",\"\",1)","v":""},null,{"$f":"CONCATENATE(C15,$T$1,E15,$U$1)","v":"()"},{"$f":"CONCATENATE(J15,$T$1,L15,$U$1)","v":"()"}]
[2,null,{"$f":"IF(B16=\"\",\"\",VLOOKUP(B16,名簿!$E$5:$BD$184,46,FALSE))","v":""},{"$f":"IF(B16=\"\",\"\",VLOOKUP(B16,名簿!$E$5:$V$184,18,FALSE))","v":""},{"$f":"IF(B16=\"\",\"\",VLOOKUP(B16,名簿!$E$5:$J$184,5,FALSE))","v":""},{"$f":"IF(B16=\"\",\"\",VLOOKUP(B16,名簿!$E$5:$J$184,4,FALSE))","v":""},null,2,null,{"$f":"IF(I16=\"\",\"\",VLOOKUP(I16,名簿!$E$5:$BD$184,46,FALSE))","v":""},{"$f":"IF(I16=\"\",\"\",VLOOKUP(I16,名簿!$E$5:$V$184,18,FALSE))","v":""},{"$f":"IF(I16=\"\",\"\",VLOOKUP(I16,名簿!$E$5:$J$184,5,FALSE))","v":""},{"$f":"IF(I16=\"\",\"\",VLOOKUP(I16,名簿!$E$5:$J$184,4,FALSE))","v":""},null,null,null,null,null,null,{"$f":"CONCATENATE(C16,$T$1,E16,$U$1)","v":"()"},{"$f":"CONCATENATE(J16,$T$1,L16,$U$1)","v":"()"}]
[3,null,{"$f":"IF(B17=\"\",\"\",VLOOKUP(B17,名簿!$E$5:$BD$184,46,FALSE))","v":""},{"$f":"IF(B17=\"\",\"\",VLOOKUP(B17,名簿!$E$5:$V$184,18,FALSE))","v":""},{"$f":"IF(B17=\"\",\"\",VLOOKUP(B17,名簿!$E$5:$J$184,5,FALSE))","v":""},{"$f":"IF(B17=\"\",\"\",VLOOKUP(B17,名簿!$E$5:$J$184,4,FALSE))","v":""},null,3,null,{"$f":"IF(I17=\"\",\"\",VLOOKUP(I17,名簿!$E$5:$BD$184,46,FALSE))","v":""},{"$f":"IF(I17=\"\",\"\",VLOOKUP(I17,名簿!$E$5:$V$184,18,FALSE))","v":""},{"$f":"IF(I17=\"\",\"\",VLOOKUP(I17,名簿!$E$5:$J$184,5,FALSE))","v":""},{"$f":"IF(I17=\"\",\"\",VLOOKUP(I17,名簿!$E$5:$J$184,4,FALSE))","v":""},null,null,null,null,null,null,"()","()"]
[4,null,{"$f":"IF(B18=\"\",\"\",VLOOKUP(B18,名簿!$E$5:$BD$184,46,FALSE))","v":""},{"$f":"IF(B18=\"\",\"\",VLOOKUP(B18,名簿!$E$5:$V$184,18,FALSE))","v":""},{"$f":"IF(B18=\"\",\"\",VLOOKUP(B18,名簿!$E$5:$J$184,5,FALSE))","v":""},{"$f":"IF(B18=\"\",\"\",VLOOKUP(B18,名簿!$E$5:$J$184,4,FALSE))","v":""},null,4,null,{"$f":"IF(I18=\"\",\"\",VLOOKUP(I18,名簿!$E$5:$BD$184,46,FALSE))","v":""},{"$f":"IF(I18=\"\",\"\",VLOOKUP(I18,名簿!$E$5:$V$184,18,FALSE))","v":""},{"$f":"IF(I18=\"\",\"\",VLOOKUP(I18,名簿!$E$5:$J$184,5,FALSE))","v":""},{"$f":"IF(I18=\"\",\"\",VLOOKUP(I18,名簿!$E$5:$J$184,4,FALSE))","v":""},null,null,null,null,null,null,"()","()"]
[5,null,{"$f":"IF(B19=\"\",\"\",VLOOKUP(B19,名簿!$E$5:$BD$184,46,FALSE))","v":""},{"$f":"IF(B19=\"\",\"\",VLOOKUP(B19,名簿!$E$5:$V$184,18,FALSE))","v":""},{"$f":"IF(B19=\"\",\"\",VLOOKUP(B19,名簿!$E$5:$J$184,5,FALSE))","v":""},{"$f":"IF(B19=\"\",\"\",VLOOKUP(B19,名簿!$E$5:$J$184,4,FALSE))","v":""},null,5,null,{"$f":"IF(I19=\"\",\"\",VLOOKUP(I19,名簿!$E$5:$BD$184,46,FALSE))","v":""},{"$f":"IF(I19=\"\",\"\",VLOOKUP(I19,名簿!$E$5:$V$184,18,FALSE))","v":""},{"$f":"IF(I19=\"\",\"\",VLOOKUP(I19,名簿!$E$5:$J$184,5,FALSE))","v":""},{"$f":"IF(I19=\"\",\"\",VLOOKUP(I19,名簿!$E$5:$J$184,4,FALSE))","v":""},null,null,null,null,null,null,"()","()"]
[6,null,{"$f":"IF(B20=\"\",\"\",VLOOKUP(B20,名簿!$E$5:$BD$184,46,FALSE))","v":""},{"$f":"IF(B20=\"\",\"\",VLOOKUP(B20,名簿!$E$5:$V$184,18,FALSE))","v":""},{"$f":"IF(B20=\"\",\"\",VLOOKUP(B20,名簿!$E$5:$J$184,5,FALSE))","v":""},{"$f":"IF(B20=\"\",\"\",VLOOKUP(B20,名簿!$E$5:$J$184,4,FALSE))","v":""},null,6,null,{"$f":"IF(I20=\"\",\"\",VLOOKUP(I20,名簿!$E$5:$BD$184,46,FALSE))","v":""},{"$f":"IF(I20=\"\",\"\",VLOOKUP(I20,名簿!$E$5:$V$184,18,FALSE))","v":""},{"$f":"IF(I20=\"\",\"\",VLOOKUP(I20,名簿!$E$5:$J$184,5,FALSE))","v":""},{"$f":"IF(I20=\"\",\"\",VLOOKUP(I20,名簿!$E$5:$J$184,4,FALSE))","v":""},null,null,null,null,null,null,"()","()"]
[7,null,{"$f":"IF(B21=\"\",\"\",VLOOKUP(B21,名簿!$E$5:$BD$184,46,FALSE))","v":""},{"$f":"IF(B21=\"\",\"\",VLOOKUP(B21,名簿!$E$5:$V$184,18,FALSE))","v":""},{"$f":"IF(B21=\"\",\"\",VLOOKUP(B21,名簿!$E$5:$J$184,5,FALSE))","v":""},{"$f":"IF(B21=\"\",\"\",VLOOKUP(B21,名簿!$E$5:$J$184,4,FALSE))","v":""},null,7,null,{"$f":"IF(I21=\"\",\"\",VLOOKUP(I21,名簿!$E$5:$BD$184,46,FALSE))","v":""},{"$f":"IF(I21=\"\",\"\",VLOOKUP(I21,名簿!$E$5:$V$184,18,FALSE))","v":""},{"$f":"IF(I21=\"\",\"\",VLOOKUP(I21,名簿!$E$5:$J$184,5,FALSE))","v":""},{"$f":"IF(I21=\"\",\"\",VLOOKUP(I21,名簿!$E$5:$J$184,4,FALSE))","v":""},null,null,null,null,null,null,"()","()"]
[8,null,{"$f":"IF(B22=\"\",\"\",VLOOKUP(B22,名簿!$E$5:$BD$184,46,FALSE))","v":""},{"$f":"IF(B22=\"\",\"\",VLOOKUP(B22,名簿!$E$5:$V$184,18,FALSE))","v":""},{"$f":"IF(B22=\"\",\"\",VLOOKUP(B22,名簿!$E$5:$J$184,5,FALSE))","v":""},{"$f":"IF(B22=\"\",\"\",VLOOKUP(B22,名簿!$E$5:$J$184,4,FALSE))","v":""},null,8,null,{"$f":"IF(I22=\"\",\"\",VLOOKUP(I22,名簿!$E$5:$BD$184,46,FALSE))","v":""},{"$f":"IF(I22=\"\",\"\",VLOOKUP(I22,名簿!$E$5:$V$184,18,FALSE))","v":""},{"$f":"IF(I22=\"\",\"\",VLOOKUP(I22,名簿!$E$5:$J$184,5,FALSE))","v":""},{"$f":"IF(I22=\"\",\"\",VLOOKUP(I22,名簿!$E$5:$J$184,4,FALSE))","v":""},null,null,null,null,null,null,"()","()"]
[]
["監督",{"$f":"$B$7","v":0},null,"(監督が違う場合は直接入力)",null,null,null,"監督",{"$f":"$B$7","v":0},null,"(監督が違う場合は直接入力)"]
["男子Ｃ",null,null,null,null,null,null,"男子Ｄ"]
["ｴﾝﾄﾘｰ","No","氏名","フリガナ","学年","性別",null,"ｴﾝﾄﾘｰ","No","氏名","フリガナ","学年","性別",null,null,null,null,null,null,{"$f":"B24","v":0},{"$f":"I24","v":0}]
[1,null,{"$f":"IF(B27=\"\",\"\",VLOOKUP(B27,名簿!$E$5:$BD$184,46,FALSE))","v":""},{"$f":"IF(B27=\"\",\"\",VLOOKUP(B27,名簿!$E$5:$V$184,18,FALSE))","v":""},{"$f":"IF(B27=\"\",\"\",VLOOKUP(B27,名簿!$E$5:$J$184,5,FALSE))","v":""},{"$f":"IF(B27=\"\",\"\",VLOOKUP(B27,名簿!$E$5:$J$184,4,FALSE))","v":""},null,1,null,{"$f":"IF(I27=\"\",\"\",VLOOKUP(I27,名簿!$E$5:$BD$184,46,FALSE))","v":""},{"$f":"IF(I27=\"\",\"\",VLOOKUP(I27,名簿!$E$5:$V$184,18,FALSE))","v":""},{"$f":"IF(I27=\"\",\"\",VLOOKUP(I27,名簿!$E$5:$J$184,5,FALSE))","v":""},{"$f":"IF(I27=\"\",\"\",VLOOKUP(I27,名簿!$E$5:$J$184,4,FALSE))","v":""},null,null,null,{"$f":"IF(C27=\"\",\"\",1)","v":""},{"$f":"IF(J27=\"\",\"\",1)","v":""},null,"()","()"]
[2,null,{"$f":"IF(B28=\"\",\"\",VLOOKUP(B28,名簿!$E$5:$BD$184,46,FALSE))","v":""},{"$f":"IF(B28=\"\",\"\",VLOOKUP(B28,名簿!$E$5:$V$184,18,FALSE))","v":""},{"$f":"IF(B28=\"\",\"\",VLOOKUP(B28,名簿!$E$5:$J$184,5,FALSE))","v":""},{"$f":"IF(B28=\"\",\"\",VLOOKUP(B28,名簿!$E$5:$J$184,4,FALSE))","v":""},null,2,null,{"$f":"IF(I28=\"\",\"\",VLOOKUP(I28,名簿!$E$5:$BD$184,46,FALSE))","v":""},{"$f":"IF(I28=\"\",\"\",VLOOKUP(I28,名簿!$E$5:$V$184,18,FALSE))","v":""},{"$f":"IF(I28=\"\",\"\",VLOOKUP(I28,名簿!$E$5:$J$184,5,FALSE))","v":""},{"$f":"IF(I28=\"\",\"\",VLOOKUP(I28,名簿!$E$5:$J$184,4,FALSE))","v":""},null,null,null,null,null,null,"()","()"]
[3,null,{"$f":"IF(B29=\"\",\"\",VLOOKUP(B29,名簿!$E$5:$BD$184,46,FALSE))","v":""},{"$f":"IF(B29=\"\",\"\",VLOOKUP(B29,名簿!$E$5:$V$184,18,FALSE))","v":""},{"$f":"IF(B29=\"\",\"\",VLOOKUP(B29,名簿!$E$5:$J$184,5,FALSE))","v":""},{"$f":"IF(B29=\"\",\"\",VLOOKUP(B29,名簿!$E$5:$J$184,4,FALSE))","v":""},null,3,null,{"$f":"IF(I29=\"\",\"\",VLOOKUP(I29,名簿!$E$5:$BD$184,46,FALSE))","v":""},{"$f":"IF(I29=\"\",\"\",VLOOKUP(I29,名簿!$E$5:$V$184,18,FALSE))","v":""},{"$f":"IF(I29=\"\",\"\",VLOOKUP(I29,名簿!$E$5:$J$184,5,FALSE))","v":""},{"$f":"IF(I29=\"\",\"\",VLOOKUP(I29,名簿!$E$5:$J$184,4,FALSE))","v":""},null,null,null,null,null,null,"()","()"]
[4,null,{"$f":"IF(B30=\"\",\"\",VLOOKUP(B30,名簿!$E$5:$BD$184,46,FALSE))","v":""},{"$f":"IF(B30=\"\",\"\",VLOOKUP(B30,名簿!$E$5:$V$184,18,FALSE))","v":""},{"$f":"IF(B30=\"\",\"\",VLOOKUP(B30,名簿!$E$5:$J$184,5,FALSE))","v":""},{"$f":"IF(B30=\"\",\"\",VLOOKUP(B30,名簿!$E$5:$J$184,4,FALSE))","v":""},null,4,null,{"$f":"IF(I30=\"\",\"\",VLOOKUP(I30,名簿!$E$5:$BD$184,46,FALSE))","v":""},{"$f":"IF(I30=\"\",\"\",VLOOKUP(I30,名簿!$E$5:$V$184,18,FALSE))","v":""},{"$f":"IF(I30=\"\",\"\",VLOOKUP(I30,名簿!$E$5:$J$184,5,FALSE))","v":""},{"$f":"IF(I30=\"\",\"\",VLOOKUP(I30,名簿!$E$5:$J$184,4,FALSE))","v":""},null,null,null,null,null,null,"()","()"]
[5,null,{"$f":"IF(B31=\"\",\"\",VLOOKUP(B31,名簿!$E$5:$BD$184,46,FALSE))","v":""},{"$f":"IF(B31=\"\",\"\",VLOOKUP(B31,名簿!$E$5:$V$184,18,FALSE))","v":""},{"$f":"IF(B31=\"\",\"\",VLOOKUP(B31,名簿!$E$5:$J$184,5,FALSE))","v":""},{"$f":"IF(B31=\"\",\"\",VLOOKUP(B31,名簿!$E$5:$J$184,4,FALSE))","v":""},null,5,null,{"$f":"IF(I31=\"\",\"\",VLOOKUP(I31,名簿!$E$5:$BD$184,46,FALSE))","v":""},{"$f":"IF(I31=\"\",\"\",VLOOKUP(I31,名簿!$E$5:$V$184,18,FALSE))","v":""},{"$f":"IF(I31=\"\",\"\",VLOOKUP(I31,名簿!$E$5:$J$184,5,FALSE))","v":""},{"$f":"IF(I31=\"\",\"\",VLOOKUP(I31,名簿!$E$5:$J$184,4,FALSE))","v":""},null,null,null,null,null,null,"()","()"]
[6,null,{"$f":"IF(B32=\"\",\"\",VLOOKUP(B32,名簿!$E$5:$BD$184,46,FALSE))","v":""},{"$f":"IF(B32=\"\",\"\",VLOOKUP(B32,名簿!$E$5:$V$184,18,FALSE))","v":""},{"$f":"IF(B32=\"\",\"\",VLOOKUP(B32,名簿!$E$5:$J$184,5,FALSE))","v":""},{"$f":"IF(B32=\"\",\"\",VLOOKUP(B32,名簿!$E$5:$J$184,4,FALSE))","v":""},null,6,null,{"$f":"IF(I32=\"\",\"\",VLOOKUP(I32,名簿!$E$5:$BD$184,46,FALSE))","v":""},{"$f":"IF(I32=\"\",\"\",VLOOKUP(I32,名簿!$E$5:$V$184,18,FALSE))","v":""},{"$f":"IF(I32=\"\",\"\",VLOOKUP(I32,名簿!$E$5:$J$184,5,FALSE))","v":""},{"$f":"IF(I32=\"\",\"\",VLOOKUP(I32,名簿!$E$5:$J$184,4,FALSE))","v":""},null,null,null,null,null,null,"()","()"]
[7,null,{"$f":"IF(B33=\"\",\"\",VLOOKUP(B33,名簿!$E$5:$BD$184,46,FALSE))","v":""},{"$f":"IF(B33=\"\",\"\",VLOOKUP(B33,名簿!$E$5:$V$184,18,FALSE))","v":""},{"$f":"IF(B33=\"\",\"\",VLOOKUP(B33,名簿!$E$5:$J$184,5,FALSE))","v":""},{"$f":"IF(B33=\"\",\"\",VLOOKUP(B33,名簿!$E$5:$J$184,4,FALSE))","v":""},null,7,null,{"$f":"IF(I33=\"\",\"\",VLOOKUP(I33,名簿!$E$5:$BD$184,46,FALSE))","v":""},{"$f":"IF(I33=\"\",\"\",VLOOKUP(I33,名簿!$E$5:$V$184,18,FALSE))","v":""},{"$f":"IF(I33=\"\",\"\",VLOOKUP(I33,名簿!$E$5:$J$184,5,FALSE))","v":""},{"$f":"IF(I33=\"\",\"\",VLOOKUP(I33,名簿!$E$5:$J$184,4,FALSE))","v":""},null,null,null,null,null,null,"()","()"]
[8,null,{"$f":"IF(B34=\"\",\"\",VLOOKUP(B34,名簿!$E$5:$BD$184,46,FALSE))","v":""},{"$f":"IF(B34=\"\",\"\",VLOOKUP(B34,名簿!$E$5:$V$184,18,FALSE))","v":""},{"$f":"IF(B34=\"\",\"\",VLOOKUP(B34,名簿!$E$5:$J$184,5,FALSE))","v":""},{"$f":"IF(B34=\"\",\"\",VLOOKUP(B34,名簿!$E$5:$J$184,4,FALSE))","v":""},null,8,null,{"$f":"IF(I34=\"\",\"\",VLOOKUP(I34,名簿!$E$5:$BD$184,46,FALSE))","v":""},{"$f":"IF(I34=\"\",\"\",VLOOKUP(I34,名簿!$E$5:$V$184,18,FALSE))","v":""},{"$f":"IF(I34=\"\",\"\",VLOOKUP(I34,名簿!$E$5:$J$184,5,FALSE))","v":""},{"$f":"IF(I34=\"\",\"\",VLOOKUP(I34,名簿!$E$5:$J$184,4,FALSE))","v":""},null,null,null,null,null,null,"()","()"]
[]
["監督",{"$f":"$B$7","v":0},null,"(監督が違う場合は直接入力)",null,null,null,"監督",{"$f":"$B$7","v":0},null,"(監督が違う場合は直接入力)"]
["女子Ａ",null,null,null,null,null,null,"女子Ｂ"]
["ｴﾝﾄﾘｰ","No","氏名","フリガナ","学年","性別",null,"ｴﾝﾄﾘｰ","No","氏名","フリガナ","学年","性別",null,null,null,null,null,null,{"$f":"B36","v":0},{"$f":"I36","v":0}]
[1,null,{"$f":"IF(B39=\"\",\"\",VLOOKUP(B39,名簿!$E$5:$BD$184,46,FALSE))","v":""},{"$f":"IF(B39=\"\",\"\",VLOOKUP(B39,名簿!$E$5:$V$184,18,FALSE))","v":""},{"$f":"IF(B39=\"\",\"\",VLOOKUP(B39,名簿!$E$5:$J$184,5,FALSE))","v":""},{"$f":"IF(B39=\"\",\"\",VLOOKUP(B39,名簿!$E$5:$J$184,4,FALSE))","v":""},null,1,null,{"$f":"IF(I39=\"\",\"\",VLOOKUP(I39,名簿!$E$5:$BD$184,46,FALSE))","v":""},{"$f":"IF(I39=\"\",\"\",VLOOKUP(I39,名簿!$E$5:$V$184,18,FALSE))","v":""},{"$f":"IF(I39=\"\",\"\",VLOOKUP(I39,名簿!$E$5:$J$184,5,FALSE))","v":""},{"$f":"IF(I39=\"\",\"\",VLOOKUP(I39,名簿!$E$5:$J$184,4,FALSE))","v":""},null,null,null,{"$f":"IF(C39=\"\",\"\",1)","v":""},{"$f":"IF(J39=\"\",\"\",1)","v":""},null,"()","()"]
[2,null,{"$f":"IF(B40=\"\",\"\",VLOOKUP(B40,名簿!$E$5:$BD$184,46,FALSE))","v":""},{"$f":"IF(B40=\"\",\"\",VLOOKUP(B40,名簿!$E$5:$V$184,18,FALSE))","v":""},{"$f":"IF(B40=\"\",\"\",VLOOKUP(B40,名簿!$E$5:$J$184,5,FALSE))","v":""},{"$f":"IF(B40=\"\",\"\",VLOOKUP(B40,名簿!$E$5:$J$184,4,FALSE))","v":""},null,2,null,{"$f":"IF(I40=\"\",\"\",VLOOKUP(I40,名簿!$E$5:$BD$184,46,FALSE))","v":""},{"$f":"IF(I40=\"\",\"\",VLOOKUP(I40,名簿!$E$5:$V$184,18,FALSE))","v":""},{"$f":"IF(I40=\"\",\"\",VLOOKUP(I40,名簿!$E$5:$J$184,5,FALSE))","v":""},{"$f":"IF(I40=\"\",\"\",VLOOKUP(I40,名簿!$E$5:$J$184,4,FALSE))","v":""},null,null,null,null,null,null,"()","()"]
[3,null,{"$f":"IF(B41=\"\",\"\",VLOOKUP(B41,名簿!$E$5:$BD$184,46,FALSE))","v":""},{"$f":"IF(B41=\"\",\"\",VLOOKUP(B41,名簿!$E$5:$V$184,18,FALSE))","v":""},{"$f":"IF(B41=\"\",\"\",VLOOKUP(B41,名簿!$E$5:$J$184,5,FALSE))","v":""},{"$f":"IF(B41=\"\",\"\",VLOOKUP(B41,名簿!$E$5:$J$184,4,FALSE))","v":""},null,3,null,{"$f":"IF(I41=\"\",\"\",VLOOKUP(I41,名簿!$E$5:$BD$184,46,FALSE))","v":""},{"$f":"IF(I41=\"\",\"\",VLOOKUP(I41,名簿!$E$5:$V$184,18,FALSE))","v":""},{"$f":"IF(I41=\"\",\"\",VLOOKUP(I41,名簿!$E$5:$J$184,5,FALSE))","v":""},{"$f":"IF(I41=\"\",\"\",VLOOKUP(I41,名簿!$E$5:$J$184,4,FALSE))","v":""},null,null,null,null,null,null,"()","()"]
[4,null,{"$f":"IF(B42=\"\",\"\",VLOOKUP(B42,名簿!$E$5:$BD$184,46,FALSE))","v":""},{"$f":"IF(B42=\"\",\"\",VLOOKUP(B42,名簿!$E$5:$V$184,18,FALSE))","v":""},{"$f":"IF(B42=\"\",\"\",VLOOKUP(B42,名簿!$E$5:$J$184,5,FALSE))","v":""},{"$f":"IF(B42=\"\",\"\",VLOOKUP(B42,名簿!$E$5:$J$184,4,FALSE))","v":""},null,4,null,{"$f":"IF(I42=\"\",\"\",VLOOKUP(I42,名簿!$E$5:$BD$184,46,FALSE))","v":""},{"$f":"IF(I42=\"\",\"\",VLOOKUP(I42,名簿!$E$5:$V$184,18,FALSE))","v":""},{"$f":"IF(I42=\"\",\"\",VLOOKUP(I42,名簿!$E$5:$J$184,5,FALSE))","v":""},{"$f":"IF(I42=\"\",\"\",VLOOKUP(I42,名簿!$E$5:$J$184,4,FALSE))","v":""},null,null,null,null,null,null,"()","()"]
[5,null,{"$f":"IF(B43=\"\",\"\",VLOOKUP(B43,名簿!$E$5:$BD$184,46,FALSE))","v":""},{"$f":"IF(B43=\"\",\"\",VLOOKUP(B43,名簿!$E$5:$V$184,18,FALSE))","v":""},{"$f":"IF(B43=\"\",\"\",VLOOKUP(B43,名簿!$E$5:$J$184,5,FALSE))","v":""},{"$f":"IF(B43=\"\",\"\",VLOOKUP(B43,名簿!$E$5:$J$184,4,FALSE))","v":""},null,5,null,{"$f":"IF(I43=\"\",\"\",VLOOKUP(I43,名簿!$E$5:$BD$184,46,FALSE))","v":""},{"$f":"IF(I43=\"\",\"\",VLOOKUP(I43,名簿!$E$5:$V$184,18,FALSE))","v":""},{"$f":"IF(I43=\"\",\"\",VLOOKUP(I43,名簿!$E$5:$J$184,5,FALSE))","v":""},{"$f":"IF(I43=\"\",\"\",VLOOKUP(I43,名簿!$E$5:$J$184,4,FALSE))","v":""},null,null,null,null,null,null,"()","()"]
[6,null,{"$f":"IF(B44=\"\",\"\",VLOOKUP(B44,名簿!$E$5:$BD$184,46,FALSE))","v":""},{"$f":"IF(B44=\"\",\"\",VLOOKUP(B44,名簿!$E$5:$V$184,18,FALSE))","v":""},{"$f":"IF(B44=\"\",\"\",VLOOKUP(B44,名簿!$E$5:$J$184,5,FALSE))","v":""},{"$f":"IF(B44=\"\",\"\",VLOOKUP(B44,名簿!$E$5:$J$184,4,FALSE))","v":""},null,6,null,{"$f":"IF(I44=\"\",\"\",VLOOKUP(I44,名簿!$E$5:$BD$184,46,FALSE))","v":""},{"$f":"IF(I44=\"\",\"\",VLOOKUP(I44,名簿!$E$5:$V$184,18,FALSE))","v":""},{"$f":"IF(I44=\"\",\"\",VLOOKUP(I44,名簿!$E$5:$J$184,5,FALSE))","v":""},{"$f":"IF(I44=\"\",\"\",VLOOKUP(I44,名簿!$E$5:$J$184,4,FALSE))","v":""},null,null,null,null,null,null,"()","()"]
[7,null,{"$f":"IF(B45=\"\",\"\",VLOOKUP(B45,名簿!$E$5:$BD$184,46,FALSE))","v":""},{"$f":"IF(B45=\"\",\"\",VLOOKUP(B45,名簿!$E$5:$V$184,18,FALSE))","v":""},{"$f":"IF(B45=\"\",\"\",VLOOKUP(B45,名簿!$E$5:$J$184,5,FALSE))","v":""},{"$f":"IF(B45=\"\",\"\",VLOOKUP(B45,名簿!$E$5:$J$184,4,FALSE))","v":""},null,7,null,{"$f":"IF(I45=\"\",\"\",VLOOKUP(I45,名簿!$E$5:$BD$184,46,FALSE))","v":""},{"$f":"IF(I45=\"\",\"\",VLOOKUP(I45,名簿!$E$5:$V$184,18,FALSE))","v":""},{"$f":"IF(I45=\"\",\"\",VLOOKUP(I45,名簿!$E$5:$J$184,5,FALSE))","v":""},{"$f":"IF(I45=\"\",\"\",VLOOKUP(I45,名簿!$E$5:$J$184,4,FALSE))","v":""},null,null,null,null,null,null,"()","()"]
[8,null,{"$f":"IF(B46=\"\",\"\",VLOOKUP(B46,名簿!$E$5:$BD$184,46,FALSE))","v":""},{"$f":"IF(B46=\"\",\"\",VLOOKUP(B46,名簿!$E$5:$V$184,18,FALSE))","v":""},{"$f":"IF(B46=\"\",\"\",VLOOKUP(B46,名簿!$E$5:$J$184,5,FALSE))","v":""},{"$f":"IF(B46=\"\",\"\",VLOOKUP(B46,名簿!$E$5:$J$184,4,FALSE))","v":""},null,8,null,{"$f":"IF(I46=\"\",\"\",VLOOKUP(I46,名簿!$E$5:$BD$184,46,FALSE))","v":""},{"$f":"IF(I46=\"\",\"\",VLOOKUP(I46,名簿!$E$5:$V$184,18,FALSE))","v":""},{"$f":"IF(I46=\"\",\"\",VLOOKUP(I46,名簿!$E$5:$J$184,5,FALSE))","v":""},{"$f":"IF(I46=\"\",\"\",VLOOKUP(I46,名簿!$E$5:$J$184,4,FALSE))","v":""},null,null,null,null,null,null,"()","()"]
[]
["監督",{"$f":"$B$7","v":0},null,"(監督が違う場合は直接入力)",null,null,null,"監督",{"$f":"$B$7","v":0},null,"(監督が違う場合は直接入力)"]
["女子Ｃ",null,null,null,null,null,null,"女子Ｄ"]
["ｴﾝﾄﾘｰ","No","氏名","フリガナ","学年","性別",null,"ｴﾝﾄﾘｰ","No","氏名","フリガナ","学年","性別",null,null,null,null,null,null,{"$f":"B48","v":0},{"$f":"I48","v":0}]
[1,null,{"$f":"IF(B51=\"\",\"\",VLOOKUP(B51,名簿!$E$5:$BD$184,46,FALSE))","v":""},{"$f":"IF(B51=\"\",\"\",VLOOKUP(B51,名簿!$E$5:$V$184,18,FALSE))","v":""},{"$f":"IF(B51=\"\",\"\",VLOOKUP(B51,名簿!$E$5:$J$184,5,FALSE))","v":""},{"$f":"IF(B51=\"\",\"\",VLOOKUP(B51,名簿!$E$5:$J$184,4,FALSE))","v":""},null,1,null,{"$f":"IF(I51=\"\",\"\",VLOOKUP(I51,名簿!$E$5:$BD$184,46,FALSE))","v":""},{"$f":"IF(I51=\"\",\"\",VLOOKUP(I51,名簿!$E$5:$V$184,18,FALSE))","v":""},{"$f":"IF(I51=\"\",\"\",VLOOKUP(I51,名簿!$E$5:$J$184,5,FALSE))","v":""},{"$f":"IF(I51=\"\",\"\",VLOOKUP(I51,名簿!$E$5:$J$184,4,FALSE))","v":""},null,null,null,{"$f":"IF(C51=\"\",\"\",1)","v":""},{"$f":"IF(J51=\"\",\"\",1)","v":""},null,"()","()"]
[2,null,{"$f":"IF(B52=\"\",\"\",VLOOKUP(B52,名簿!$E$5:$BD$184,46,FALSE))","v":""},{"$f":"IF(B52=\"\",\"\",VLOOKUP(B52,名簿!$E$5:$V$184,18,FALSE))","v":""},{"$f":"IF(B52=\"\",\"\",VLOOKUP(B52,名簿!$E$5:$J$184,5,FALSE))","v":""},{"$f":"IF(B52=\"\",\"\",VLOOKUP(B52,名簿!$E$5:$J$184,4,FALSE))","v":""},null,2,null,{"$f":"IF(I52=\"\",\"\",VLOOKUP(I52,名簿!$E$5:$BD$184,46,FALSE))","v":""},{"$f":"IF(I52=\"\",\"\",VLOOKUP(I52,名簿!$E$5:$V$184,18,FALSE))","v":""},{"$f":"IF(I52=\"\",\"\",VLOOKUP(I52,名簿!$E$5:$J$184,5,FALSE))","v":""},{"$f":"IF(I52=\"\",\"\",VLOOKUP(I52,名簿!$E$5:$J$184,4,FALSE))","v":""},null,null,null,null,null,null,"()","()"]
[3,null,{"$f":"IF(B53=\"\",\"\",VLOOKUP(B53,名簿!$E$5:$BD$184,46,FALSE))","v":""},{"$f":"IF(B53=\"\",\"\",VLOOKUP(B53,名簿!$E$5:$V$184,18,FALSE))","v":""},{"$f":"IF(B53=\"\",\"\",VLOOKUP(B53,名簿!$E$5:$J$184,5,FALSE))","v":""},{"$f":"IF(B53=\"\",\"\",VLOOKUP(B53,名簿!$E$5:$J$184,4,FALSE))","v":""},null,3,null,{"$f":"IF(I53=\"\",\"\",VLOOKUP(I53,名簿!$E$5:$BD$184,46,FALSE))","v":""},{"$f":"IF(I53=\"\",\"\",VLOOKUP(I53,名簿!$E$5:$V$184,18,FALSE))","v":""},{"$f":"IF(I53=\"\",\"\",VLOOKUP(I53,名簿!$E$5:$J$184,5,FALSE))","v":""},{"$f":"IF(I53=\"\",\"\",VLOOKUP(I53,名簿!$E$5:$J$184,4,FALSE))","v":""},null,null,null,null,null,null,"()","()"]
[4,null,{"$f":"IF(B54=\"\",\"\",VLOOKUP(B54,名簿!$E$5:$BD$184,46,FALSE))","v":""},{"$f":"IF(B54=\"\",\"\",VLOOKUP(B54,名簿!$E$5:$V$184,18,FALSE))","v":""},{"$f":"IF(B54=\"\",\"\",VLOOKUP(B54,名簿!$E$5:$J$184,5,FALSE))","v":""},{"$f":"IF(B54=\"\",\"\",VLOOKUP(B54,名簿!$E$5:$J$184,4,FALSE))","v":""},null,4,null,{"$f":"IF(I54=\"\",\"\",VLOOKUP(I54,名簿!$E$5:$BD$184,46,FALSE))","v":""},{"$f":"IF(I54=\"\",\"\",VLOOKUP(I54,名簿!$E$5:$V$184,18,FALSE))","v":""},{"$f":"IF(I54=\"\",\"\",VLOOKUP(I54,名簿!$E$5:$J$184,5,FALSE))","v":""},{"$f":"IF(I54=\"\",\"\",VLOOKUP(I54,名簿!$E$5:$J$184,4,FALSE))","v":""},null,null,null,null,null,null,"()","()"]
[5,null,{"$f":"IF(B55=\"\",\"\",VLOOKUP(B55,名簿!$E$5:$BD$184,46,FALSE))","v":""},{"$f":"IF(B55=\"\",\"\",VLOOKUP(B55,名簿!$E$5:$V$184,18,FALSE))","v":""},{"$f":"IF(B55=\"\",\"\",VLOOKUP(B55,名簿!$E$5:$J$184,5,FALSE))","v":""},{"$f":"IF(B55=\"\",\"\",VLOOKUP(B55,名簿!$E$5:$J$184,4,FALSE))","v":""},null,5,null,{"$f":"IF(I55=\"\",\"\",VLOOKUP(I55,名簿!$E$5:$BD$184,46,FALSE))","v":""},{"$f":"IF(I55=\"\",\"\",VLOOKUP(I55,名簿!$E$5:$V$184,18,FALSE))","v":""},{"$f":"IF(I55=\"\",\"\",VLOOKUP(I55,名簿!$E$5:$J$184,5,FALSE))","v":""},{"$f":"IF(I55=\"\",\"\",VLOOKUP(I55,名簿!$E$5:$J$184,4,FALSE))","v":""},null,null,null,null,null,null,"()","()"]
[6,null,{"$f":"IF(B56=\"\",\"\",VLOOKUP(B56,名簿!$E$5:$BD$184,46,FALSE))","v":""},{"$f":"IF(B56=\"\",\"\",VLOOKUP(B56,名簿!$E$5:$V$184,18,FALSE))","v":""},{"$f":"IF(B56=\"\",\"\",VLOOKUP(B56,名簿!$E$5:$J$184,5,FALSE))","v":""},{"$f":"IF(B56=\"\",\"\",VLOOKUP(B56,名簿!$E$5:$J$184,4,FALSE))","v":""},null,6,null,{"$f":"IF(I56=\"\",\"\",VLOOKUP(I56,名簿!$E$5:$BD$184,46,FALSE))","v":""},{"$f":"IF(I56=\"\",\"\",VLOOKUP(I56,名簿!$E$5:$V$184,18,FALSE))","v":""},{"$f":"IF(I56=\"\",\"\",VLOOKUP(I56,名簿!$E$5:$J$184,5,FALSE))","v":""},{"$f":"IF(I56=\"\",\"\",VLOOKUP(I56,名簿!$E$5:$J$184,4,FALSE))","v":""},null,null,null,null,null,null,"()","()"]
[7,null,{"$f":"IF(B57=\"\",\"\",VLOOKUP(B57,名簿!$E$5:$BD$184,46,FALSE))","v":""},{"$f":"IF(B57=\"\",\"\",VLOOKUP(B57,名簿!$E$5:$V$184,18,FALSE))","v":""},{"$f":"IF(B57=\"\",\"\",VLOOKUP(B57,名簿!$E$5:$J$184,5,FALSE))","v":""},{"$f":"IF(B57=\"\",\"\",VLOOKUP(B57,名簿!$E$5:$J$184,4,FALSE))","v":""},null,7,null,{"$f":"IF(I57=\"\",\"\",VLOOKUP(I57,名簿!$E$5:$BD$184,46,FALSE))","v":""},{"$f":"IF(I57=\"\",\"\",VLOOKUP(I57,名簿!$E$5:$V$184,18,FALSE))","v":""},{"$f":"IF(I57=\"\",\"\",VLOOKUP(I57,名簿!$E$5:$J$184,5,FALSE))","v":""},{"$f":"IF(I57=\"\",\"\",VLOOKUP(I57,名簿!$E$5:$J$184,4,FALSE))","v":""},null,null,null,null,null,null,"()","()"]
[8,null,{"$f":"IF(B58=\"\",\"\",VLOOKUP(B58,名簿!$E$5:$BD$184,46,FALSE))","v":""},{"$f":"IF(B58=\"\",\"\",VLOOKUP(B58,名簿!$E$5:$V$184,18,FALSE))","v":""},{"$f":"IF(B58=\"\",\"\",VLOOKUP(B58,名簿!$E$5:$J$184,5,FALSE))","v":""},{"$f":"IF(B58=\"\",\"\",VLOOKUP(B58,名簿!$E$5:$J$184,4,FALSE))","v":""},null,8,null,{"$f":"IF(I58=\"\",\"\",VLOOKUP(I58,名簿!$E$5:$BD$184,46,FALSE))","v":""},{"$f":"IF(I58=\"\",\"\",VLOOKUP(I58,名簿!$E$5:$V$184,18,FALSE))","v":""},{"$f":"IF(I58=\"\",\"\",VLOOKUP(I58,名簿!$E$5:$J$184,5,FALSE))","v":""},{"$f":"IF(I58=\"\",\"\",VLOOKUP(I58,名簿!$E$5:$J$184,4,FALSE))","v":""},null,null,null,{"$f":"SUM(Q15:Q57)","v":0},{"$f":"SUM(R15:R57)","v":0},{"$f":"SUM(Q58:R58)","v":0},"()","()"]
[]
["Noを入力して下さい。氏名、フリガナ、学年が転記されます。"]
["登録外の選手は直接入力して下さい。（Noは必要ありません）ただし友好レースはNoが必要となりますので当日配布します"]
["添付ファイル作成ボタンで印刷も出来ます。"]
[]
[]
[]
[]
[]
[null,null,null,null,null,null,null,null,null,"チームN0"]

{"sheet":"振込票貼付用紙1","index":12,"n_rows":46,"n_cols":11,"rows_kept":46,"cut":false,"hidden":false,"merged":[[46,4,46,5],[0,0,0,9],[7,10,37,10],[44,4,44,5],[44,6,44,7],[45,4,45,5]]}
["大会参加料　振込票貼付用紙"]
[]
["大会名"]
[]
["所属名",null,{"$f":"前年度登録!B1","v":0},null,null,null,null,null,{"$f":"前年度登録!O5","v":""}]
[]
["責任者",null,{"$f":"前年度登録!B2","v":0},null,null,"連絡先",{"$f":"前年度登録!G2","v":0}]
[null,null,null,null,null,null,null,null,null,null,"メニューに戻り、上書き保存して下さい"]
[]
[]
[]
[]
[]
[]
[]
[]
[]
[]
[]
[]
[]
[]
[]
[]
[]
[]
[]
[]
[]
[]
[]
[]
[]
[]
[]
[]
[]
[]
[]
[]
[]
[]
[null,"個人種目",null,0]
[]
[null,"リレー",null,0]
[null,null,null,null,"参加費合計",null,0,null,"円"]

{"sheet":"振込票貼付用紙","index":13,"n_rows":46,"n_cols":11,"rows_kept":46,"cut":false,"hidden":false,"merged":[[7,10,37,10],[0,0,0,9],[45,4,45,5],[46,4,46,5],[44,4,44,5],[44,6,44,7]]}
["大会参加料　振込票貼付用紙"]
[]
["大会名"]
[]
["所属名",null,{"$f":"名簿!B1","v":0},null,null,null,null,null,{"$f":"名簿!O5","v":""}]
[]
["責任者",null,{"$f":"名簿!B2","v":0},null,null,"連絡先",{"$f":"名簿!G2","v":0}]
[null,null,null,null,null,null,null,null,null,null,"メニューに戻り、上書き保存して下さい"]
[]
[]
[]
[]
[]
[]
[]
[]
[]
[]
[]
[]
[]
[]
[]
[]
[]
[]
[]
[]
[]
[]
[]
[]
[]
[]
[]
[]
[]
[]
[]
[]
[]
[]
[null,"個人種目"]
[]
[null,"リレー"]
[null,null,null,null,"参加費合計",null,null,null,"円"]

{"sheet":"ｵｰﾀﾞｰ用紙","index":14,"n_rows":61,"n_cols":13,"rows_kept":61,"cut":false,"hidden":false,"merged":[]}
["三重タスキリレー大会　",null,null,null,null,null,"オーダー用紙"]
[]
[]
[]
["学校名",null,{"$f":"名簿!B1","v":0}]
[]
["監督名",null,{"$f":"名簿!B2","v":0}]
[]
["連絡先",null,{"$f":"名簿!G2","v":0}]
[null,null,null,null,"友好レース棄権の場合は棄権を選択して下さい"]
[]
[]
["男子A",null,"決定No",null,null,null,null,"男子B",null,"決定No"]
[null,"No","氏名","フリガナ","学年","区間を入力して下さい",null,null,"No","氏名","フリガナ","学年","区間を入力して下さい"]
[1,{"$f":"タスキリレー!B15","v":0},{"$f":"タスキリレー!C15","v":""},{"$f":"タスキリレー!D15","v":""},{"$f":"タスキリレー!E15","v":""},null,null,1,{"$f":"タスキリレー!I15","v":0},{"$f":"タスキリレー!J15","v":""},{"$f":"タスキリレー!K15","v":""},{"$f":"タスキリレー!L15","v":""}]
[2,{"$f":"タスキリレー!B16","v":0},{"$f":"タスキリレー!C16","v":""},{"$f":"タスキリレー!D16","v":""},{"$f":"タスキリレー!E16","v":""},null,null,2,{"$f":"タスキリレー!I16","v":0},{"$f":"タスキリレー!J16","v":""},{"$f":"タスキリレー!K16","v":""},{"$f":"タスキリレー!L16","v":""}]
[3,{"$f":"タスキリレー!B17","v":0},{"$f":"タスキリレー!C17","v":""},{"$f":"タスキリレー!D17","v":""},{"$f":"タスキリレー!E17","v":""},null,null,3,{"$f":"タスキリレー!I17","v":0},{"$f":"タスキリレー!J17","v":""},{"$f":"タスキリレー!K17","v":""},{"$f":"タスキリレー!L17","v":""}]
[4,{"$f":"タスキリレー!B18","v":0},{"$f":"タスキリレー!C18","v":""},{"$f":"タスキリレー!D18","v":""},{"$f":"タスキリレー!E18","v":""},null,null,4,{"$f":"タスキリレー!I18","v":0},{"$f":"タスキリレー!J18","v":""},{"$f":"タスキリレー!K18","v":""},{"$f":"タスキリレー!L18","v":""}]
[5,{"$f":"タスキリレー!B19","v":0},{"$f":"タスキリレー!C19","v":""},{"$f":"タスキリレー!D19","v":""},{"$f":"タスキリレー!E19","v":""},null,null,5,{"$f":"タスキリレー!I19","v":0},{"$f":"タスキリレー!J19","v":""},{"$f":"タスキリレー!K19","v":""},{"$f":"タスキリレー!L19","v":""}]
[6,{"$f":"タスキリレー!B20","v":0},{"$f":"タスキリレー!C20","v":""},{"$f":"タスキリレー!D20","v":""},{"$f":"タスキリレー!E20","v":""},null,null,6,{"$f":"タスキリレー!I20","v":0},{"$f":"タスキリレー!J20","v":""},{"$f":"タスキリレー!K20","v":""},{"$f":"タスキリレー!L20","v":""}]
[7,{"$f":"タスキリレー!B21","v":0},{"$f":"タスキリレー!C21","v":""},{"$f":"タスキリレー!D21","v":""},{"$f":"タスキリレー!E21","v":""},null,null,7,{"$f":"タスキリレー!I21","v":0},{"$f":"タスキリレー!J21","v":""},{"$f":"タスキリレー!K21","v":""},{"$f":"タスキリレー!L21","v":""}]
[8,{"$f":"タスキリレー!B22","v":0},{"$f":"タスキリレー!C22","v":""},{"$f":"タスキリレー!D22","v":""},{"$f":"タスキリレー!E22","v":""},null,null,8,{"$f":"タスキリレー!I22","v":0},{"$f":"タスキリレー!J22","v":""},{"$f":"タスキリレー!K22","v":""},{"$f":"タスキリレー!L22","v":""}]
[]
["男子C",null,"決定No",null,null,null,null,"男子D",null,"決定No"]
[null,"No","氏名","フリガナ","学年","区間を入力して下さい",null,null,"No","氏名","フリガナ","学年","区間を入力して下さい"]
[1,{"$f":"タスキリレー!B27","v":0},{"$f":"タスキリレー!C27","v":""},{"$f":"タスキリレー!D27","v":""},{"$f":"タスキリレー!E27","v":""},null,null,1,{"$f":"タスキリレー!I27","v":0},{"$f":"タスキリレー!J27","v":""},{"$f":"タスキリレー!K27","v":""},{"$f":"タスキリレー!L27","v":""}]
[2,{"$f":"タスキリレー!B28","v":0},{"$f":"タスキリレー!C28","v":""},{"$f":"タスキリレー!D28","v":""},{"$f":"タスキリレー!E28","v":""},null,null,2,{"$f":"タスキリレー!I28","v":0},{"$f":"タスキリレー!J28","v":""},{"$f":"タスキリレー!K28","v":""},{"$f":"タスキリレー!L28","v":""}]
[3,{"$f":"タスキリレー!B29","v":0},{"$f":"タスキリレー!C29","v":""},{"$f":"タスキリレー!D29","v":""},{"$f":"タスキリレー!E29","v":""},null,null,3,{"$f":"タスキリレー!I29","v":0},{"$f":"タスキリレー!J29","v":""},{"$f":"タスキリレー!K29","v":""},{"$f":"タスキリレー!L29","v":""}]
[4,{"$f":"タスキリレー!B30","v":0},{"$f":"タスキリレー!C30","v":""},{"$f":"タスキリレー!D30","v":""},{"$f":"タスキリレー!E30","v":""},null,null,4,{"$f":"タスキリレー!I30","v":0},{"$f":"タスキリレー!J30","v":""},{"$f":"タスキリレー!K30","v":""},{"$f":"タスキリレー!L30","v":""}]
[5,{"$f":"タスキリレー!B31","v":0},{"$f":"タスキリレー!C31","v":""},{"$f":"タスキリレー!D31","v":""},{"$f":"タスキリレー!E31","v":""},null,null,5,{"$f":"タスキリレー!I31","v":0},{"$f":"タスキリレー!J31","v":""},{"$f":"タスキリレー!K31","v":""},{"$f":"タスキリレー!L31","v":""}]
[6,{"$f":"タスキリレー!B32","v":0},{"$f":"タスキリレー!C32","v":""},{"$f":"タスキリレー!D32","v":""},{"$f":"タスキリレー!E32","v":""},null,null,6,{"$f":"タスキリレー!I32","v":0},{"$f":"タスキリレー!J32","v":""},{"$f":"タスキリレー!K32","v":""},{"$f":"タスキリレー!L32","v":""}]
[7,{"$f":"タスキリレー!B33","v":0},{"$f":"タスキリレー!C33","v":""},{"$f":"タスキリレー!D33","v":""},{"$f":"タスキリレー!E33","v":""},null,null,7,{"$f":"タスキリレー!I33","v":0},{"$f":"タスキリレー!J33","v":""},{"$f":"タスキリレー!K33","v":""},{"$f":"タスキリレー!L33","v":""}]
[8,{"$f":"タスキリレー!B34","v":0},{"$f":"タスキリレー!C34","v":""},{"$f":"タスキリレー!D34","v":""},{"$f":"タスキリレー!E34","v":""},null,null,8,{"$f":"タスキリレー!I34","v":0},{"$f":"タスキリレー!J34","v":""},{"$f":"タスキリレー!K34","v":""},{"$f":"タスキリレー!L34","v":""}]
[]
["女子A",null,"決定No",null,null,null,null,"女子B",null,"決定No"]
[null,"No","氏名","フリガナ","学年","区間を入力して下さい",null,null,"No","氏名","フリガナ","学年","区間を入力して下さい"]
[1,{"$f":"タスキリレー!B39","v":0},{"$f":"タスキリレー!C39","v":""},{"$f":"タスキリレー!D39","v":""},{"$f":"タスキリレー!E39","v":""},null,null,1,{"$f":"タスキリレー!I39","v":0},{"$f":"タスキリレー!J39","v":""},{"$f":"タスキリレー!K39","v":""},{"$f":"タスキリレー!L39","v":""}]
[2,{"$f":"タスキリレー!B40","v":0},{"$f":"タスキリレー!C40","v":""},{"$f":"タスキリレー!D40","v":""},{"$f":"タスキリレー!E40","v":""},null,null,2,{"$f":"タスキリレー!I40","v":0},{"$f":"タスキリレー!J40","v":""},{"$f":"タスキリレー!K40","v":""},{"$f":"タスキリレー!L40","v":""}]
[3,{"$f":"タスキリレー!B41","v":0},{"$f":"タスキリレー!C41","v":""},{"$f":"タスキリレー!D41","v":""},{"$f":"タスキリレー!E41","v":""},null,null,3,{"$f":"タスキリレー!I41","v":0},{"$f":"タスキリレー!J41","v":""},{"$f":"タスキリレー!K41","v":""},{"$f":"タスキリレー!L41","v":""}]
[4,{"$f":"タスキリレー!B42","v":0},{"$f":"タスキリレー!C42","v":""},{"$f":"タスキリレー!D42","v":""},{"$f":"タスキリレー!E42","v":""},null,null,4,{"$f":"タスキリレー!I42","v":0},{"$f":"タスキリレー!J42","v":""},{"$f":"タスキリレー!K42","v":""},{"$f":"タスキリレー!L42","v":""}]
[5,{"$f":"タスキリレー!B43","v":0},{"$f":"タスキリレー!C43","v":""},{"$f":"タスキリレー!D43","v":""},{"$f":"タスキリレー!E43","v":""},null,null,5,{"$f":"タスキリレー!I43","v":0},{"$f":"タスキリレー!J43","v":""},{"$f":"タスキリレー!K43","v":""},{"$f":"タスキリレー!L43","v":""}]
[6,{"$f":"タスキリレー!B44","v":0},{"$f":"タスキリレー!C44","v":""},{"$f":"タスキリレー!D44","v":""},{"$f":"タスキリレー!E44","v":""},null,null,6,{"$f":"タスキリレー!I44","v":0},{"$f":"タスキリレー!J44","v":""},{"$f":"タスキリレー!K44","v":""},{"$f":"タスキリレー!L44","v":""}]
[7,{"$f":"タスキリレー!B45","v":0},{"$f":"タスキリレー!C45","v":""},{"$f":"タスキリレー!D45","v":""},{"$f":"タスキリレー!E45","v":""},null,null,7,{"$f":"タスキリレー!I45","v":0},{"$f":"タスキリレー!J45","v":""},{"$f":"タスキリレー!K45","v":""},{"$f":"タスキリレー!L45","v":""}]
[8,{"$f":"タスキリレー!B46","v":0},{"$f":"タスキリレー!C46","v":""},{"$f":"タスキリレー!D46","v":""},{"$f":"タスキリレー!E46","v":""},null,null,8,{"$f":"タスキリレー!I46","v":0},{"$f":"タスキリレー!J46","v":""},{"$f":"タスキリレー!K46","v":""},{"$f":"タスキリレー!L46","v":""}]
[]
["女子C",null,"決定No",null,null,null,null,"女子D",null,"決定No"]
[null,"No","氏名","フリガナ","学年","区間を入力して下さい",null,null,"No","氏名","フリガナ","学年","区間を入力して下さい"]
[1,{"$f":"タスキリレー!B51","v":0},{"$f":"タスキリレー!C51","v":""},{"$f":"タスキリレー!D51","v":""},{"$f":"タスキリレー!E51","v":""},null,null,1,{"$f":"タスキリレー!I51","v":0},{"$f":"タスキリレー!J51","v":""},{"$f":"タスキリレー!K51","v":""},{"$f":"タスキリレー!L51","v":""}]
[2,{"$f":"タスキリレー!B52","v":0},{"$f":"タスキリレー!C52","v":""},{"$f":"タスキリレー!D52","v":""},{"$f":"タスキリレー!E52","v":""},null,null,2,{"$f":"タスキリレー!I52","v":0},{"$f":"タスキリレー!J52","v":""},{"$f":"タスキリレー!K52","v":""},{"$f":"タスキリレー!L52","v":""}]
[3,{"$f":"タスキリレー!B53","v":0},{"$f":"タスキリレー!C53","v":""},{"$f":"タスキリレー!D53","v":""},{"$f":"タスキリレー!E53","v":""},null,null,3,{"$f":"タスキリレー!I53","v":0},{"$f":"タスキリレー!J53","v":""},{"$f":"タスキリレー!K53","v":""},{"$f":"タスキリレー!L53","v":""}]
[4,{"$f":"タスキリレー!B54","v":0},{"$f":"タスキリレー!C54","v":""},{"$f":"タスキリレー!D54","v":""},{"$f":"タスキリレー!E54","v":""},null,null,4,{"$f":"タスキリレー!I54","v":0},{"$f":"タスキリレー!J54","v":""},{"$f":"タスキリレー!K54","v":""},{"$f":"タスキリレー!L54","v":""}]
[5,{"$f":"タスキリレー!B55","v":0},{"$f":"タスキリレー!C55","v":""},{"$f":"タスキリレー!D55","v":""},{"$f":"タスキリレー!E55","v":""},null,null,5,{"$f":"タスキリレー!I55","v":0},{"$f":"タスキリレー!J55","v":""},{"$f":"タスキリレー!K55","v":""},{"$f":"タスキリレー!L55","v":""}]
[6,{"$f":"タスキリレー!B56","v":0},{"$f":"タスキリレー!C56","v":""},{"$f":"タスキリレー!D56","v":""},{"$f":"タスキリレー!E56","v":""},null,null,6,{"$f":"タスキリレー!I56","v":0},{"$f":"タスキリレー!J56","v":""},{"$f":"タスキリレー!K56","v":""},{"$f":"タスキリレー!L56","v":""}]
[7,{"$f":"タスキリレー!B57","v":0},{"$f":"タスキリレー!C57","v":""},{"$f":"タスキリレー!D57","v":""},{"$f":"タスキリレー!E57","v":""},null,null,7,{"$f":"タスキリレー!I57","v":0},{"$f":"タスキリレー!J57","v":""},{"$f":"タスキリレー!K57","v":""},{"$f":"タスキリレー!L57","v":""}]
[8,{"$f":"タスキリレー!B58","v":0},{"$f":"タスキリレー!C58","v":""},{"$f":"タスキリレー!D58","v":""},{"$f":"タスキリレー!E58","v":""},null,null,8,{"$f":"タスキリレー!I58","v":0},{"$f":"タスキリレー!J58","v":""},{"$f":"タスキリレー!K58","v":""},{"$f":"タスキリレー!L58","v":""}]
[]
["選手の変更はできません。走順のみ入力して下さい。"]
["補欠は空白で構いません。"]
[]
[]
[null,null,null,null,null,null,null,null,null,null,null,"チームN0"]

{"sheet":"1","index":15,"n_rows":1,"n_cols":4,"rows_kept":1,"cut":false,"hidden":false,"merged":[]}
[1,"選　手","コード","コード"]

{"sheet":"男子種目コード","index":16,"n_rows":31,"n_cols":5,"rows_kept":31,"cut":false,"hidden":true,"merged":[]}
["男子種目コード",null,null,"クラブ対抗"]
["1年60",1,null,"1年60",1]
["2年60",2,null,"2年60",2]
["3年60",3,null,"3年60",103]
["4年100",4,null,"4年100",104]
["5年100",5,null,"5年100",105]
["6年100",6,null,"6年100",106]
["5年800",7,null,"5年800",107]
["6年800",8,null,"6年800",108]
["5･6年800",9,null,"5･6年800",109]
["5･6年80H",10,null,"5･6年80H",110]
["5･6年4×100R",11,null,"5･6年4×100R",111]
["混成4×100R",12,null,"混成4×100R",112]
["5･6年走高跳",13,null,"5･6年走高跳",113]
["5年走幅跳",14,null,"5年走幅跳",114]
["6年走幅跳",15,null,"6年走幅跳",115]
["5･6年走幅跳",16,null,"5･6年走幅跳",116]
["5･6年ｼﾞｬﾍﾞﾘｯｸ",17,null,"5･6年ｼﾞｬﾍﾞﾘｯｸ",117]
["男子A",11,null,"男子A",111]
["男子B",11,null,"男子B",111]
["男子C",11,null,"男子C",111]
["男子D",11,null,"男子D",111]
["男子E",11,null,"男子E",111]
["男子F",11,null,"男子F",111]
["混成A",12,null,"混成A",112]
["混成B",12,null,"混成B",112]
["混成C",12,null,"混成C",112]
["混成D",12,null,"混成D",112]
["混成E",12,null,"混成E",112]
["混成F",12,null,"混成F",112]
["混成G",12,null,"混成G",112]

{"sheet":"女子種目コード","index":17,"n_rows":31,"n_cols":5,"rows_kept":31,"cut":false,"hidden":true,"merged":[]}
["女子種目コード",null,null,"クラブ対抗"]
["1年60",21,null,"1年60",121]
["2年60",22,null,"2年60",122]
["3年60",23,null,"3年60",123]
["4年100",24,null,"4年100",124]
["5年100",25,null,"5年100",125]
["6年100",26,null,"6年100",126]
["5年800",27,null,"5年800",127]
["6年800",28,null,"6年800",128]
["5･6年800",29,null,"5･6年800",129]
["5･6年80H",30,null,"5･6年80H",130]
["5･6年4×100R",31,null,"5･6年4×100R",131]
["混成4×100R",12,null,"混成4×100R",112]
["5･6年走高跳",33,null,"5･6年走高跳",133]
["5年走幅跳",34,null,"5年走幅跳",134]
["6年走幅跳",35,null,"6年走幅跳",135]
["5･6年走幅跳",36,null,"5･6年走幅跳",136]
["5･6年ｼﾞｬﾍﾞﾘｯｸ",37,null,"5･6年ｼﾞｬﾍﾞﾘｯｸ",137]
["女子A",31,null,"女子A",131]
["女子B",31,null,"女子B",131]
["女子C",31,null,"女子C",131]
["女子D",31,null,"女子D",131]
["女子E",31,null,"女子E",131]
["女子F",31,null,"女子F",131]
["混成A",12,null,"混成A",112]
["混成B",12,null,"混成B",112]
["混成C",12,null,"混成C",112]
["混成D",12,null,"混成D",112]
["混成E",12,null,"混成E",112]
["混成F",12,null,"混成F",112]
["混成G",12,null,"混成G",112]