{"text_format":"1","workbook":"xlsx","n_sheets":27,"sheets":["注意","説明","メニュー","大会申込","出場認知書","前年度登録","名簿","国体1次","リレーカー二バル","混成","県選","通信","選抜","ジュニアO","所属コード","県駅伝オーダー用紙","タスキリレー","タスキリレーオーダー","ロードレース","振込票貼付用紙","男子一覧表","男子個票","女子一覧表","女子個票","1","男子種目コード","女子種目コード"],"not_rendered":{"charts":0,"images":5,"macros":1,"external_links":1,"defined_names":41,"comments":0,"pivot_tables":0},"unopened":[],"bounds":{"document_bytes":16777216,"sheet_cells":100000,"rows_first":2000,"rows_last":500,"rows_between":2000,"halvings":0,"cell_chars":16384,"cell_head_chars":4096},"cells_cut":0,"cells_raw":0,"read":"whole","date_system":"1900"}

{"sheet":"注意","index":0,"n_rows":69,"n_cols":1,"rows_kept":69,"cut":false,"hidden":false,"merged":[]}
["マクロが無効になっています。"]
["最新バージョンのエクセル(2007）使用の場合は、シートの上部にセキュリティの警告が出ますので"]
["右側のオプションをクリックし、「このコンテンツを有効にする」にチェックを入れて下さい。"]
["それ以前のエクセルは下記に従って下さい。"]
["入力を行うには，マクロを有効にする必要があります。"]
["マクロを有効にしてファイルを開いてください。"]
["エクセル2002以前のバージョンでは動作しません。エクセル2002以降のパソコンで作業して下さい"]
["マクロを有効にするには，"]
["１）上部メニューを「ツール(T)→マクロ(M)→セキュリティ(S)」の順に開きます。"]
[]
[]
[]
[]
[]
[]
[]
[]
[]
[]
[]
[]
[]
[]
[]
[]
[]
[]
[]
[]
[]
[]
[]
[]
[]
[]
["２）「セキュリティレベル」を「中」に設定してください。"]
[]
[]
[]
[]
[]
[]
[]
[]
[]
[]
[]
[]
[]
[]
[]
[]
[]
[]
[]
["３）EXCELをいったん終了（ファイルを保存しない）し，再度ファイルを開きます。"]
["４）マクロを有効にするかどうか聞いてきます。ここで「マクロを有効にする」を選択します。"]
[]
[]
[]
[]
[]
[]
[]
[]
[]
[]
[]
["何らかの原因でマクロが停止した場合は，いったんファイルを保存し，再度開き直してください。"]

{"sheet":"説明","index":1,"n_rows":101,"n_cols":9,"rows_kept":101,"cut":false,"hidden":false,"merged":[]}
["中学生大会申込み概要"]
[]
["全ての大会をメール申込といたします。"]
["エクセル２００２以前のバージョンではこのファイルは利用できない。"]
[]
[]
["注意事項",null,"①参加料が必要な大会は振込証明（振込票の写し）を様式⑨に貼付の上、送付のこと。"]
[null,null,"　大会により参加費送付先が中体連と三重陸協に分かれますので、要項を熟読のこと。"]
[null,null,"　 期日までに振込み及び送金がない場合は出場を認めない。"]
[]
[null,null,"②申込後の選手変更・種目変更は一切受付けないので、よく確認の上申し込むこと。"]
[null,null,"③振込人の名称は所属名を記載のこと。(個人名は間違いのもとになります。)"]
[null,null,"④極端に早い振込みも間違いのもとになるので配慮のこと。"]
[null,null,"⑤学校長の認知書は大会当日受付で係員に渡すこと。。"]
[]
[null,null,"三重陸協主催大会の"]
[null,null,"振込先","　　百五銀行　生桑(ｲｸﾜ)支店　普通預金　口座番号　４４０２６６　口座名　一般財団保人三重陸上競技協会"]
[]
[]
[null,null,"競技時間等は大会1週間前にホームページに掲載するので通知はしない。"]
[null,null,"大会参加費は一覧表上部に記載されるので、確認の上振り込むこと。"]
[]
[null,null,"⑥Noがない選手（未登録選手）は中体連よりNoを割り当ててもらうこと。"]
[null,null,"　登録連絡先は　cyutairen★mierk.jp　"]
[]
[null,null,"申込みにNoが記入されていない場合は受理できません。"]
[]
[null,"下記順序で入力願います。"]
[null,"中体連より割り振られた"]
[null,"NOを全部エントリーしていただきます。（名前の空白は空白で構いません。出場しない選手も申し込む）"]
[null,"出場する選手のみ、種目を選んでいただき、記録を記入していただくだけです。"]
[]
[]
["順序①","入力方法","メニューより選手入力ボタンを押してください"]
[null,1,"中体連より割り振られたNOと選手詳細を入力して下さい。"]
[]
[null,null,null,null,null,"コーピーして張り付ける場合は、形式を選択して貼り付けを選んで下さい"]
[null,null,null,null,null,"値にチェックを入れ、貼り付けて下さい。(値のみ貼り付け）"]
[null,null,null,null,null,"連続番号で記入願います。名前の空きは構いません。"]
[null,null,null,null,null,"氏名は全て全角、姓と名の間にスペースを入れる。"]
[null,null,null,null,null,"ﾌﾘｶﾞﾅの姓と名の間にスペースを入れる。"]
[null,null,null,null,null,"所属はセレクトで選んで下さい。"]
[]
[]
[null,null,null,null,null,"選手入力シートでの切り取り、貼り付けを行うと不具合が発生します。"]
[]
[]
[]
[null,"選手全員の入力が完了したら、メニューへ戻り　上書き保存ボタンを押して下さい。"]
[]
[]
["順序②",2,"メニューより大会申込みボタンを押して下さい。　申込む大会ボタンを押し下記の通り入力して下さい。"]
[]
[]
[]
[]
[]
[]
[null,null,null,null,null,null,"セルを左クリックすれば種目選択がでますので、該当種目を選んで下さい。"]
[]
[null,null,null,null,null,null,"参考事項"]
[null,null,null,null,null,null,"リターンキーを押すと下のセルに移動すると思います。"]
[null,null,null,null,null,null,"Tabキーで横の欄に移動して下さい"]
[]
[null,null,null,null,null,null,"青のセルは記録入力です。トラックの記録は下記の様に入力して下さい。"]
[null,null,null,null,null,null,"10秒０１","→",10.01]
[null,null,null,null,null,null,"１１秒１","→","11.10"]
[null,null,null,null,null,null,"１分５８秒２３","→","1.58.20"]
[null,null,null,null,null,null,"１分５８秒３","→","1.58.30"]
[]
[null,null,null,null,null,null,"フィールド入力は全てmをいれて下さい（半角）"]
[null,null,null,null,null,null,"7m50","→","7m50"]
[null,null,null,null,null,null,"62m50","→","62m50"]
[null,null,null,null,null,null,"1m90","→","1m90"]
[]
[null,null,null,null,null,null,"リレー種目は種目のみを入力して下さい。忘れないように"]
[null,null,null,null,null,null,"A・Bがある場合も種目だけで構いません。"]
[null,null,null,null,null,null,"記録はリレー覧に入力して下さい。"]
[]
[null,null,"注意　大会シート上でNo及び名前が入力できないとの問合せがありますが、選手入力で入力すれば解決します。"]
[null,null,"　　　　記録がない場合は、シードの対象外といたします。"]
[]
[null,3,"最後に添付ファイル作成ボタンをクリックのこと。添付ファイルが作成されます。"]
[null,null,"このエクセルファイルが保存されている同じ場所に、大会名の添付ファイルが作成されます。"]
[]
["申込み送付時の注意点"]
[null,4,"メール送付先",null,"mousikomi★mierk.jp"]
[]
[null,null,"メールに必ず添付して下さい。"]
[null,null,"資格審査後、正式受理のメールを返信いたします。1日経っても届かない場合は、お問合せ下さい。"]
[null,null,"このファイルをまるごと送ることはやめて下さい。ファイルが大きすぎます。"]
[]
[]
["注意事項",null,"①選抜大会はメールでの受付けはしない。"]
[null,null,"　 大会要項巻末の様式③④と個票⑤に記入の上、通信大会当日までに申し込むこと。"]
[null,null,"②難しい場合は、各校のパソコンに詳しい先生方の協力を仰いで下さい。"]
[]
[]
[]
[]
["出場認知書は学校長捺印の上、試合当日受付で渡すこと。"]

{"sheet":"メニュー","index":2,"n_rows":0,"n_cols":0,"rows_kept":0,"cut":false,"hidden":false,"merged":[[3,2,3,6],[22,1,22,8]]}

{"sheet":"大会申込","index":3,"n_rows":17,"n_cols":7,"rows_kept":17,"cut":false,"hidden":false,"merged":[[3,2,3,6],[22,2,22,4]]}
[]
[]
[]
[]
[]
[]
[]
[]
[]
[]
[]
[]
[]
[]
[]
[]
[null,null,null,null,null,null,"インターネットに接続できれば申込できます"]

{"sheet":"出場認知書","index":4,"n_rows":63,"n_cols":14,"rows_kept":63,"cut":false,"hidden":false,"merged":[[39,3,39,9],[2,0,2,10],[11,0,11,10],[28,1,28,9],[17,1,17,9],[35,8,35,10],[14,4,14,5],[35,3,35,7]]}
[]
[]
["大会出場認知書"]
[]
[]
[null,null,null,null,null,null,null,null,null,null,null,1,1,27]
[null,null,null,null,null,null,null,null,null,null,null,2,2,28]
[null,null,null,null,"平成",29,"年","▽","月","▽","日",3,3,29]
[null,null,null,null,null,null,null,null,null,null,null,4,4]
[null,null,null,null,null,null,null,null,null,null,null,5,5]
[null,null,null,null,null,null,null,null,null,null,null,6,6]
["本校陸上競技部の下記大会に出場することを認知する。",null,null,null,null,null,null,null,null,null,null,7,7]
[null,null,null,null,null,null,null,null,null,null,null,8,8]
[null,null,null,null,null,null,null,null,null,null,null,9,9]
[null,null,null,null,"記",null,null,null,null,null,null,10,10]
[null,null,null,null,null,null,null,null,null,null,null,11,11]
[null,null,null,null,null,null,null,null,null,null,null,12,12]
["大会名","プルダウンメニューから選択",null,null,null,null,null,null,null,null,null,null,13]
[null,null,null,null,null,null,null,null,null,null,null,null,14]
[null,null,null,null,null,null,null,null,null,null,null,null,15]
[null,null,null,null,null,null,null,null,null,null,null,null,16]
[null,null,null,null,null,null,null,null,null,null,null,null,17]
["日　時","平成",27,"年",null,"▽","月","▽","日",null,"から",null,18]
[null,null,null,null,null,null,null,null,null,null,null,null,19]
[null,"平成",27,"年",null,"▽","月","▽","日",null,"まで",null,20]
[null,null,null,null,null,null,null,null,null,null,null,null,21]
[null,null,null,null,null,null,null,null,null,null,null,null,22]
[null,null,null,null,null,null,null,null,null,null,null,null,23]
["場　所","プルダウンメニューから選択",null,null,null,null,null,null,null,null,null,null,24]
[null,null,null,null,null,null,null,null,null,null,null,null,25]
[null,null,null,null,null,null,null,null,null,null,null,null,26]
[null,null,null,null,null,null,null,null,null,null,null,null,27]
[null,null,null,null,null,null,null,null,null,null,null,null,28]
[null,null,null,null,null,null,null,null,null,null,null,null,29]
[null,null,null,null,null,null,null,null,null,null,null,null,30]
[null,"所属名称",null,{"$f":"名簿!O4","v":0},null,null,null,null,"中学校",null,null,null,31]
[]
[]
[]
[null,"学校長",null,null,null,null,null,null,null,null,"印"]
[]
[]
[]
[]
[]
[]
[null,"国体第1次選考競技会"]
[null,"三重県リレーカーニバル"]
[null,"中学通信混成競技会"]
[null,"全日本中学通信陸上競技混成三重大会"]
[null,"全日本中学通信陸上競技三重大会"]
[null,"三重県中学選抜陸上競技大会"]
[null,"三重県ジュニアオリンピック"]
[null,"みえスポーツフェスティバル"]
[null,"三重県中学校陸上競技選手権大会"]
[null,"三重県中学駅伝大会"]
[null,"中日三重お伊勢さんマラソン"]
[null,"三重タスキリレー"]
[]
[]
[null,"三重県営総合競技場陸上競技場"]
[null,"四日市中央緑地公園陸上競技場"]
[null,"東員町陸上競技場"]

{"sheet":"前年度登録","index":5,"n_rows":191,"n_cols":114,"rows_kept":191,"cut":false,"hidden":false,"merged":[[0,0,2,14],[0,48,0,54],[1,32,1,34],[0,15,0,17],[0,18,0,19],[0,23,0,26],[1,17,2,17],[1,18,1,19],[1,20,2,20],[1,23,2,23],[1,24,2,24],[1,25,1,27]]}
["JAAF登録サイトより貼り付け",null,null,null,null,null,null,null,null,null,null,null,null,null,null,"顧問名",null,null,null,null,"学校名",null,"緊急連絡先（携帯）",null,null,null,null,null,null,null,null,null,null,null,null,null,null,null,null,null,null,null,null,null,null,null,null,"男","左記、白枠は必ず入れて下さい"]
[null,null,null,null,null,null,null,null,null,null,null,null,null,null,null,null,"登録月日","学校コード","登録番号",null,"登録の種類","氏名","フリガナ","学年","性別","生年月日",null,null,null,"所属","学校番号","所属地コード",null,null,null,null,null,null,null,null,null,null,null,null,null,null,null,"女","公認記録記載欄(随時記録が更新された場合は、変更入力して下さい。全ての申し込みに反映されます。正確にお願いいたします",null,null,null,null,null,null,null,null,null,null,null,null,null,null,null,"高跳の記録"]
[null,null,null,null,null,null,null,null,null,null,null,null,null,null,null,null,"(○／○○）",null,"日本陸連ID","選手番号",null,"（姓と名の間は全角１文字スペース）","（全角カタカナで入力、姓と名の間は全角１文字スペース）",null,null,"年（西暦）","月","日",null,"三重",null,"三重",null,null,null,null,null,null,null,null,null,null,null,null,null,null,null,null,100,200,400,800,1500,2000,3000,"110H","100H","走高跳","棒高跳","走幅跳","三段跳","砲丸投","円盤投","ｼﾞｬﾍﾞﾘｯｸ","四種","110JH","少年B110JH","少年B100YH","100YH","2年100","2年1500","1年100","1年1500","1年800","A-100","A-200","A-3000","A-110H","A-走高跳","A-砲丸投","AB円盤投","ABCｼﾞｬﾍﾞﾘｯｸ","A-100H","B-100","B-1500","B-110H","B-走幅跳","B-100H","C-800","B-砲丸投","C-100","C-1500",null,"C-走幅跳",null,"中学女子3ｋ","中学女子3ｋ","中学男子5ｋ","少年B砲丸投","TRIM","数","空","名","姓","名"]
["JAAF ID","会員名","会員名カナ","性別","登録都道府県コード","登録都道府県名","団体ID","団体名","団体名カナ","団体名略称","生年月日","都道府県(学連)登録番号","旧団体コード","備考","学年",1,null,null,null,null,null,null,null,null,null,null,null,null,{"$f":"DJ4","v":"00"},{"$f":"V1","v":0},{"$f":"IF(AD4=\"\",\"\",VLOOKUP(AD4,所属コード!$A$2:$E$247,2,FALSE))","v":{"$error":"#N/A"}},{"$f":"IF(AD4=\"\",\"\",VLOOKUP(AD4,所属コード!$A$2:$G$189,7,FALSE))","v":{"$error":"#N/A"}},null,null,null,null,null,null,null,{"$f":"IF(Y4=\"\",\"\",IF(Y4=\"男\",1,2))","v":""},{"$f":"ASC(W4)","v":""},"男",null,null,null,null,null,null,null,null,null,null,null,null,null,null,null,null,null,null,null,null,null,null,{"$f":"BF4","v":0},{"$f":"BD4","v":0},{"$f":"BD4","v":0},{"$f":"BD4","v":0},0,{"$f":"AW4","v":0},{"$f":"BA4","v":0},{"$f":"AW4","v":0},{"$f":"BA4","v":0},{"$f":"AZ4","v":0},{"$f":"AW4","v":0},{"$f":"AX4","v":0},{"$f":"BC4","v":0},{"$f":"BD4","v":0},{"$f":"BF4","v":0},{"$f":"BJ4","v":0},{"$f":"BK4","v":0},{"$f":"BL4","v":0},{"$f":"BE4","v":0},{"$f":"AW4","v":0},{"$f":"BA4","v":0},{"$f":"BD4","v":0},{"$f":"BH4","v":0},{"$f":"BE4","v":0},{"$f":"AZ4","v":0},{"$f":"BJ4","v":0},{"$f":"AW4","v":0},{"$f":"BA4","v":0},{"$f":"BE4","v":0},{"$f":"BH4","v":0},{"$f":"BJ4","v":0},{"$f":"BC4","v":0},{"$f":"BB4","v":0},{"$f":"BC4","v":0},{"$f":"BJ4","v":0},{"$f":"TRIM(V4)","v":""},{"$f":"IF(CV4=\"\",\"\",LEN(CV4))","v":""},{"$f":"IF(CV4=\"\",\"\",FIND(\"　\",CV4,1))","v":""},{"$f":"IF(CV4=\"\",\"\",CW4-CX4)","v":""},{"$f":"IF(CV4=\"\",\"\",LEFT(CV4,CX4-1))","v":""},{"$f":"IF(CV4=\"\",\"\",RIGHT(CV4,CY4))","v":""},{"$f":"IF(CV4=\"\",\"\",IF(CW4=4,CONCATENATE(CZ4,\"　\",\"　\",DA4),IF(CW4=6,CONCATENATE(CZ4,DA4),CV4)))","v":""},{"$f":"IF(X4=\"3\",3,IF(X4=\"2\",2,IF(X4=\"1\",1,IF(X4=1,1,IF(X4=2,2,IF(X4=3,3,\"\"))))))","v":""},{"$f":"IF(AB4<10,CONCATENATE(0,AB4),AB4)","v":"0"},{"$f":"Z4","v":0},"成徳",235001,{"$f":"IF(AA4=1,\"01\",IF(AA4=2,\"02\",IF(AA4=3,\"03\",IF(AA4=4,\"04\",IF(AA4=5,\"05\",IF(AA4=6,\"06\",IF(AA4=7,\"07\",IF(AA4=8,\"08\",IF(AA4=9,\"09\",AA4)))))))))","v":0},{"$f":"IF(AB4=1,\"01\",IF(AB4=2,\"02\",IF(AB4=3,\"03\",IF(AB4=4,\"04\",IF(AB4=5,\"05\",IF(AB4=6,\"06\",IF(AB4=7,\"07\",IF(AB4=8,\"08\",IF(AB4=9,\"09\",AB4)))))))))","v":0},{"$f":"CONCATENATE(DH4,DI4)","v":"00"}]
[null,null,null,null,null,null,null,null,null,null,null,null,null,null,null,2,null,null,null,null,null,null,null,null,null,null,null,null,{"$f":"DJ5","v":"00"},{"$f":"IF(V5=\"\",\"\",$AD$4)","v":""},{"$f":"IF(V5=\"\",\"\",$AE$4)","v":""},{"$f":"IF(V5=\"\",\"\",$AF$4)","v":""},null,null,null,null,null,null,null,{"$f":"IF(Y5=\"\",\"\",IF(Y5=\"男\",1,2))","v":""},{"$f":"ASC(W5)","v":""},"女",null,null,null,null,null,null,null,null,null,null,null,null,null,null,null,null,null,null,null,null,null,null,{"$f":"BF5","v":0},0,0,0,0,{"$f":"AW5","v":0},{"$f":"BA5","v":0},{"$f":"AW5","v":0},{"$f":"BA5","v":0},{"$f":"AZ5","v":0},{"$f":"AW5","v":0},0,{"$f":"BC5","v":0},0,{"$f":"BF5","v":0},{"$f":"BJ5","v":0},0,0,{"$f":"BE5","v":0},{"$f":"AW5","v":0},{"$f":"BA5","v":0},{"$f":"BD5","v":0},{"$f":"BH5","v":0},{"$f":"BE5","v":0},{"$f":"AZ5","v":0},{"$f":"BJ5","v":0},{"$f":"AW5","v":0},{"$f":"BA5","v":0},{"$f":"BE5","v":0},{"$f":"BH5","v":0},{"$f":"BJ5","v":0},{"$f":"BC5","v":0},{"$f":"BB5","v":0},0,{"$f":"BJ5","v":0},{"$f":"TRIM(V5)","v":""},{"$f":"IF(CV5=\"\",\"\",LEN(CV5))","v":""},{"$f":"IF(CV5=\"\",\"\",FIND(\"　\",CV5,1))","v":""},{"$f":"IF(CV5=\"\",\"\",CW5-CX5)","v":""},{"$f":"IF(CV5=\"\",\"\",LEFT(CV5,CX5-1))","v":""},{"$f":"IF(CV5=\"\",\"\",RIGHT(CV5,CY5))","v":""},{"$f":"IF(CV5=\"\",\"\",IF(CW5=4,CONCATENATE(CZ5,\"　\",\"　\",DA5),IF(CW5=6,CONCATENATE(CZ5,DA5),CV5)))","v":""},"",{"$f":"IF(AB5<10,CONCATENATE(0,AB5),AB5)","v":"0"},{"$f":"Z5","v":0},"明正",235002,{"$f":"IF(AA5=1,\"01\",IF(AA5=2,\"02\",IF(AA5=3,\"03\",IF(AA5=4,\"04\",IF(AA5=5,\"05\",IF(AA5=6,\"06\",IF(AA5=7,\"07\",IF(AA5=8,\"08\",IF(AA5=9,\"09\",AA5)))))))))","v":0},{"$f":"IF(AB5=1,\"01\",IF(AB5=2,\"02\",IF(AB5=3,\"03\",IF(AB5=4,\"04\",IF(AB5=5,\"05\",IF(AB5=6,\"06\",IF(AB5=7,\"07\",IF(AB5=8,\"08\",IF(AB5=9,\"09\",AB5)))))))))","v":0},{"$f":"CONCATENATE(DH5,DI5)","v":"00"}]
[null,null,null,null,null,null,null,null,null,null,null,null,null,null,null,3,null,null,null,null,null,null,null,null,null,null,null,null,"00",{"$f":"IF(V6=\"\",\"\",$AD$4)","v":""},{"$f":"IF(AD6=\"\",\"\",VLOOKUP(AD6,所属コード!$A$2:$E$189,2,FALSE))","v":""},{"$f":"IF(AD6=\"\",\"\",VLOOKUP(AD6,所属コード!$A$2:$G$189,7,FALSE))","v":""},null,null,null,null,null,null,null,"","","23",null,null,null,null,null,null,null,null,null,null,null,null,null,null,null,null,null,null,null,null,null,null,0,0,0,0,0,0,0,0,0,0,0,0,0,0,0,0,0,0,0,0,0,0,0,0,0,0,0,0,0,0,0,0,0,0,0,"","","","","","","","","0",0,"光風",235003,0,0,"00"]
[null,null,null,null,null,null,null,null,null,null,null,null,null,null,null,4,null,null,null,null,null,null,null,null,null,null,null,null,"00","",{"$f":"IF(AD7=\"\",\"\",VLOOKUP(AD7,所属コード!$A$2:$E$189,2,FALSE))","v":""},{"$f":"IF(AD7=\"\",\"\",VLOOKUP(AD7,所属コード!$A$2:$G$189,7,FALSE))","v":""},null,null,null,null,null,null,null,"","",null,null,null,null,null,null,null,null,null,null,null,null,null,null,null,null,null,null,null,null,null,null,null,0,0,0,0,0,0,0,0,0,0,0,0,0,0,0,0,0,0,0,0,0,0,0,0,0,0,0,0,0,0,0,0,0,0,0,"","","","","","","","","0",0,"陽和",235004,0,0,"00"]
[null,null,null,null,null,null,null,null,null,null,null,null,null,null,null,5,null,null,null,null,null,null,null,null,null,null,null,null,"00","",{"$f":"IF(AD8=\"\",\"\",VLOOKUP(AD8,所属コード!$A$2:$E$189,2,FALSE))","v":""},{"$f":"IF(AD8=\"\",\"\",VLOOKUP(AD8,所属コード!$A$2:$G$189,7,FALSE))","v":""},null,null,null,null,null,null,null,"","",null,null,null,null,null,null,null,null,null,null,null,null,null,null,null,null,null,null,null,null,null,null,null,0,0,0,0,0,0,0,0,0,0,0,0,0,0,0,0,0,0,0,0,0,0,0,0,0,0,0,0,0,0,0,0,0,0,0,"","","","","","","","","0",0,"正和",235005,0,0,"00"]
[null,null,null,null,null,null,null,null,null,null,null,null,null,null,null,6,null,null,null,null,null,null,null,null,null,null,null,null,"00","",{"$f":"IF(AD9=\"\",\"\",VLOOKUP(AD9,所属コード!$A$2:$E$189,2,FALSE))","v":""},{"$f":"IF(AD9=\"\",\"\",VLOOKUP(AD9,所属コード!$A$2:$G$189,7,FALSE))","v":""},null,null,null,null,null,null,null,"","",null,null,null,null,null,null,null,null,null,null,null,null,null,null,null,null,null,null,null,null,null,null,null,0,0,0,0,0,0,0,0,0,0,0,0,0,0,0,0,0,0,0,0,0,0,0,0,0,0,0,0,0,0,0,0,0,0,0,"","","","","","","","","0",0,"陵成",235006,0,0,"00"]
[null,null,null,null,null,null,null,null,null,null,null,null,null,null,null,7,null,null,null,null,null,null,null,null,null,null,null,null,"00","",{"$f":"IF(AD10=\"\",\"\",VLOOKUP(AD10,所属コード!$A$2:$E$189,2,FALSE))","v":""},{"$f":"IF(AD10=\"\",\"\",VLOOKUP(AD10,所属コード!$A$2:$G$189,7,FALSE))","v":""},null,null,null,null,null,null,null,"","",null,null,null,null,null,null,null,null,null,null,null,null,null,null,null,null,null,null,null,null,null,null,null,0,0,0,0,0,0,0,0,0,0,0,0,0,0,0,0,0,0,0,0,0,0,0,0,0,0,0,0,0,0,0,0,0,0,0,"","","","","","","","","0",0,"光陵",235007,0,0,"00"]
[null,null,null,null,null,null,null,null,null,null,null,null,null,null,null,8,null,null,null,null,null,null,null,null,null,null,null,null,"00","",{"$f":"IF(AD11=\"\",\"\",VLOOKUP(AD11,所属コード!$A$2:$E$189,2,FALSE))","v":""},{"$f":"IF(AD11=\"\",\"\",VLOOKUP(AD11,所属コード!$A$2:$G$189,7,FALSE))","v":""},null,null,null,null,null,null,null,"","",null,null,null,null,null,null,null,null,null,null,null,null,null,null,null,null,null,null,null,null,null,null,null,0,0,0,0,0,0,0,0,0,0,0,0,0,0,0,0,0,0,0,0,0,0,0,0,0,0,0,0,0,0,0,0,0,0,0,"","","","","","","","","0",0,"多度",235008,0,0,"00"]
[null,null,null,null,null,null,null,null,null,null,null,null,null,null,null,9,null,null,null,null,null,null,null,null,null,null,null,null,"00","",{"$f":"IF(AD12=\"\",\"\",VLOOKUP(AD12,所属コード!$A$2:$E$189,2,FALSE))","v":""},{"$f":"IF(AD12=\"\",\"\",VLOOKUP(AD12,所属コード!$A$2:$G$189,7,FALSE))","v":""},null,null,null,null,null,null,null,"","",null,null,null,null,null,null,null,null,null,null,null,null,null,null,null,null,null,null,null,null,null,null,null,0,0,0,0,0,0,0,0,0,0,0,0,0,0,0,0,0,0,0,0,0,0,0,0,0,0,0,0,0,0,0,0,0,0,0,"","","","","","","","","0",0,"長島",235009,0,0,"00"]
[null,null,null,null,null,null,null,null,null,null,null,null,null,null,null,10,null,null,null,null,null,null,null,null,null,null,null,null,"00","",{"$f":"IF(AD13=\"\",\"\",VLOOKUP(AD13,所属コード!$A$2:$E$189,2,FALSE))","v":""},{"$f":"IF(AD13=\"\",\"\",VLOOKUP(AD13,所属コード!$A$2:$G$189,7,FALSE))","v":""},null,null,null,null,null,null,null,"","",null,null,null,null,null,null,null,null,null,null,null,null,null,null,null,null,null,null,null,null,null,null,null,0,0,0,0,0,0,0,0,0,0,0,0,0,0,0,0,0,0,0,0,0,0,0,0,0,0,0,0,0,0,0,0,0,0,0,"","","","","","","","","0",0,"津田学園",235010,0,0,"00"]
[null,null,null,null,null,null,null,null,null,null,null,null,null,null,null,11,null,null,null,null,null,null,null,null,null,null,null,null,"00","",{"$f":"IF(AD14=\"\",\"\",VLOOKUP(AD14,所属コード!$A$2:$E$189,2,FALSE))","v":""},{"$f":"IF(AD14=\"\",\"\",VLOOKUP(AD14,所属コード!$A$2:$G$189,7,FALSE))","v":""},null,null,null,null,null,null,null,"","",null,null,null,null,null,null,null,null,null,null,null,null,null,null,null,null,null,null,null,null,null,null,null,0,0,0,0,0,0,0,0,0,0,0,0,0,0,0,0,0,0,0,0,0,0,0,0,0,0,0,0,0,0,0,0,0,0,0,"","","","","","","","","0",0,"木曽岬",235011,0,0,"00"]
[null,null,null,null,null,null,null,null,null,null,null,null,null,null,null,12,null,null,null,null,null,null,null,null,null,null,null,null,"00","",{"$f":"IF(AD15=\"\",\"\",VLOOKUP(AD15,所属コード!$A$2:$E$189,2,FALSE))","v":""},{"$f":"IF(AD15=\"\",\"\",VLOOKUP(AD15,所属コード!$A$2:$G$189,7,FALSE))","v":""},null,null,null,null,null,null,null,"","",null,null,null,null,null,null,null,null,null,null,null,null,null,null,null,null,null,null,null,null,null,null,null,0,0,0,0,0,0,0,0,0,0,0,0,0,0,0,0,0,0,0,0,0,0,0,0,0,0,0,0,0,0,0,0,0,0,0,"","","","","","","","","0",0,"北勢",235012,0,0,"00"]
[null,null,null,null,null,null,null,null,null,null,null,null,null,null,null,13,null,null,null,null,null,null,null,null,null,null,null,null,"00","",{"$f":"IF(AD16=\"\",\"\",VLOOKUP(AD16,所属コード!$A$2:$E$189,2,FALSE))","v":""},{"$f":"IF(AD16=\"\",\"\",VLOOKUP(AD16,所属コード!$A$2:$G$189,7,FALSE))","v":""},null,null,null,null,null,null,null,"","",null,null,null,null,null,null,null,null,null,null,null,null,null,null,null,null,null,null,null,null,null,null,null,0,0,0,0,0,0,0,0,0,0,0,0,0,0,0,0,0,0,0,0,0,0,0,0,0,0,0,0,0,0,0,0,0,0,0,"","","","","","","","","0",0,"員弁",235013,0,0,"00"]
[null,null,null,null,null,null,null,null,null,null,null,null,null,null,null,14,null,null,null,null,null,null,null,null,null,null,null,null,"00","",{"$f":"IF(AD17=\"\",\"\",VLOOKUP(AD17,所属コード!$A$2:$E$189,2,FALSE))","v":""},{"$f":"IF(AD17=\"\",\"\",VLOOKUP(AD17,所属コード!$A$2:$G$189,7,FALSE))","v":""},null,null,null,null,null,null,null,"","",null,null,null,null,null,null,null,null,null,null,null,null,null,null,null,null,null,null,null,null,null,null,null,0,0,0,0,0,0,0,0,0,0,0,0,0,0,0,0,0,0,0,0,0,0,0,0,0,0,0,0,0,0,0,0,0,0,0,"","","","","","","","","0",0,"大安",235014,0,0,"00"]
[null,null,null,null,null,null,null,null,null,null,null,null,null,null,null,15,null,null,null,null,null,null,null,null,null,null,null,null,"00","",{"$f":"IF(AD18=\"\",\"\",VLOOKUP(AD18,所属コード!$A$2:$E$189,2,FALSE))","v":""},{"$f":"IF(AD18=\"\",\"\",VLOOKUP(AD18,所属コード!$A$2:$G$189,7,FALSE))","v":""},null,null,null,null,null,null,null,"","",null,null,null,null,null,null,null,null,null,null,null,null,null,null,null,null,null,null,null,null,null,null,null,0,0,0,0,0,0,0,0,0,0,0,0,0,0,0,0,0,0,0,0,0,0,0,0,0,0,0,0,0,0,0,0,0,0,0,"","","","","","","","","0",0,"東員第一",235015,0,0,"00"]
[null,null,null,null,null,null,null,null,null,null,null,null,null,null,null,16,null,null,null,null,null,null,null,null,null,null,null,null,"00","",{"$f":"IF(AD19=\"\",\"\",VLOOKUP(AD19,所属コード!$A$2:$E$189,2,FALSE))","v":""},{"$f":"IF(AD19=\"\",\"\",VLOOKUP(AD19,所属コード!$A$2:$G$189,7,FALSE))","v":""},null,null,null,null,null,null,null,"","",null,null,null,null,null,null,null,null,null,null,null,null,null,null,null,null,null,null,null,null,null,null,null,0,0,0,0,0,0,0,0,0,0,0,0,0,0,0,0,0,0,0,0,0,0,0,0,0,0,0,0,0,0,0,0,0,0,0,"","","","","","","","","0",0,"東員第二",235016,0,0,"00"]
[null,null,null,null,null,null,null,null,null,null,null,null,null,null,null,17,null,null,null,null,null,null,null,null,null,null,null,null,"00","",{"$f":"IF(AD20=\"\",\"\",VLOOKUP(AD20,所属コード!$A$2:$E$189,2,FALSE))","v":""},{"$f":"IF(AD20=\"\",\"\",VLOOKUP(AD20,所属コード!$A$2:$G$189,7,FALSE))","v":""},null,null,null,null,null,null,null,"","",null,null,null,null,null,null,null,null,null,null,null,null,null,null,null,null,null,null,null,null,null,null,null,0,0,0,0,0,0,0,0,0,0,0,0,0,0,0,0,0,0,0,0,0,0,0,0,0,0,0,0,0,0,0,0,0,0,0,"","","","","","","","","0",0,"藤原",235017,0,0,"00"]
[null,null,null,null,null,null,null,null,null,null,null,null,null,null,null,18,null,null,null,null,null,null,null,null,null,null,null,null,"00","",{"$f":"IF(AD21=\"\",\"\",VLOOKUP(AD21,所属コード!$A$2:$E$189,2,FALSE))","v":""},{"$f":"IF(AD21=\"\",\"\",VLOOKUP(AD21,所属コード!$A$2:$G$189,7,FALSE))","v":""},null,null,null,null,null,null,null,"","",null,null,null,null,null,null,null,null,null,null,null,null,null,null,null,null,null,null,null,null,null,null,null,0,0,0,0,0,0,0,0,0,0,0,0,0,0,0,0,0,0,0,0,0,0,0,0,0,0,0,0,0,0,0,0,0,0,0,"","","","","","","","","0",0,"中部",235018,0,0,"00"]
[null,null,null,null,null,null,null,null,null,null,null,null,null,null,null,19,null,null,null,null,null,null,null,null,null,null,null,null,"00","",{"$f":"IF(AD22=\"\",\"\",VLOOKUP(AD22,所属コード!$A$2:$E$189,2,FALSE))","v":""},{"$f":"IF(AD22=\"\",\"\",VLOOKUP(AD22,所属コード!$A$2:$G$189,7,FALSE))","v":""},null,null,null,null,null,null,null,"","",null,null,null,null,null,null,null,null,null,null,null,null,null,null,null,null,null,null,null,null,null,null,null,0,0,0,0,0,0,0,0,0,0,0,0,0,0,0,0,0,0,0,0,0,0,0,0,0,0,0,0,0,0,0,0,0,0,0,"","","","","","","","","0",0,"港",235019,0,0,"00"]
[null,null,null,null,null,null,null,null,null,null,null,null,null,null,null,20,null,null,null,null,null,null,null,null,null,null,null,null,"00","",{"$f":"IF(AD23=\"\",\"\",VLOOKUP(AD23,所属コード!$A$2:$E$189,2,FALSE))","v":""},{"$f":"IF(AD23=\"\",\"\",VLOOKUP(AD23,所属コード!$A$2:$G$189,7,FALSE))","v":""},null,null,null,null,null,null,null,"","",null,null,null,null,null,null,null,null,null,null,null,null,null,null,null,null,null,null,null,null,null,null,null,0,0,0,0,0,0,0,0,0,0,0,0,0,0,0,0,0,0,0,0,0,0,0,0,0,0,0,0,0,0,0,0,0,0,0,"","","","","","","","","0",0,"塩浜",235020,0,0,"00"]
[null,null,null,null,null,null,null,null,null,null,null,null,null,null,null,21,null,null,null,null,null,null,null,null,null,null,null,null,"00","",{"$f":"IF(AD24=\"\",\"\",VLOOKUP(AD24,所属コード!$A$2:$E$189,2,FALSE))","v":""},{"$f":"IF(AD24=\"\",\"\",VLOOKUP(AD24,所属コード!$A$2:$G$189,7,FALSE))","v":""},null,null,null,null,null,null,null,"","",null,null,null,null,null,null,null,null,null,null,null,null,null,null,null,null,null,null,null,null,null,null,null,0,0,0,0,0,0,0,0,0,0,0,0,0,0,0,0,0,0,0,0,0,0,0,0,0,0,0,0,0,0,0,0,0,0,0,"","","","","","","","","0",0,"山手",235021,0,0,"00"]
[null,null,null,null,null,null,null,null,null,null,null,null,null,null,null,22,null,null,null,null,null,null,null,null,null,null,null,null,"00","",{"$f":"IF(AD25=\"\",\"\",VLOOKUP(AD25,所属コード!$A$2:$E$189,2,FALSE))","v":""},{"$f":"IF(AD25=\"\",\"\",VLOOKUP(AD25,所属コード!$A$2:$G$189,7,FALSE))","v":""},null,null,null,null,null,null,null,"","",null,null,null,null,null,null,null,null,null,null,null,null,null,null,null,null,null,null,null,null,null,null,null,0,0,0,0,0,0,0,0,0,0,0,0,0,0,0,0,0,0,0,0,0,0,0,0,0,0,0,0,0,0,0,0,0,0,0,"","","","","","","","","0",0,"富洲原",235022,0,0,"00"]
[null,null,null,null,null,null,null,null,null,null,null,null,null,null,null,23,null,null,null,null,null,null,null,null,null,null,null,null,"00","",{"$f":"IF(AD26=\"\",\"\",VLOOKUP(AD26,所属コード!$A$2:$E$189,2,FALSE))","v":""},{"$f":"IF(AD26=\"\",\"\",VLOOKUP(AD26,所属コード!$A$2:$G$189,7,FALSE))","v":""},null,null,null,null,null,null,null,"","",null,null,null,null,null,null,null,null,null,null,null,null,null,null,null,null,null,null,null,null,null,null,null,0,0,0,0,0,0,0,0,0,0,0,0,0,0,0,0,0,0,0,0,0,0,0,0,0,0,0,0,0,0,0,0,0,0,0,"","","","","","","","","0",0,"富田",235023,0,0,"00"]
[null,null,null,null,null,null,null,null,null,null,null,null,null,null,null,24,null,null,null,null,null,null,null,null,null,null,null,null,"00","",{"$f":"IF(AD27=\"\",\"\",VLOOKUP(AD27,所属コード!$A$2:$E$189,2,FALSE))","v":""},{"$f":"IF(AD27=\"\",\"\",VLOOKUP(AD27,所属コード!$A$2:$G$189,7,FALSE))","v":""},null,null,null,null,null,null,null,"","",null,null,null,null,null,null,null,null,null,null,null,null,null,null,null,null,null,null,null,null,null,null,null,0,0,0,0,0,0,0,0,0,0,0,0,0,0,0,0,0,0,0,0,0,0,0,0,0,0,0,0,0,0,0,0,0,0,0,"","","","","","","","","0",0,"笹川",235024,0,0,"00"]
[null,null,null,null,null,null,null,null,null,null,null,null,null,null,null,25,null,null,null,null,null,null,null,null,null,null,null,null,"00","",{"$f":"IF(AD28=\"\",\"\",VLOOKUP(AD28,所属コード!$A$2:$E$189,2,FALSE))","v":""},{"$f":"IF(AD28=\"\",\"\",VLOOKUP(AD28,所属コード!$A$2:$G$189,7,FALSE))","v":""},null,null,null,null,null,null,null,"","",null,null,null,null,null,null,null,null,null,null,null,null,null,null,null,null,null,null,null,null,null,null,null,0,0,0,0,0,0,0,0,0,0,0,0,0,0,0,0,0,0,0,0,0,0,0,0,0,0,0,0,0,0,0,0,0,0,0,"","","","","","","","","0",0,"四日市南",235025,0,0,"00"]
[null,null,null,null,null,null,null,null,null,null,null,null,null,null,null,26,null,null,null,null,null,null,null,null,null,null,null,null,"00","",{"$f":"IF(AD29=\"\",\"\",VLOOKUP(AD29,所属コード!$A$2:$E$189,2,FALSE))","v":""},{"$f":"IF(AD29=\"\",\"\",VLOOKUP(AD29,所属コード!$A$2:$G$189,7,FALSE))","v":""},null,null,null,null,null,null,null,"","",null,null,null,null,null,null,null,null,null,null,null,null,null,null,null,null,null,null,null,null,null,null,null,0,0,0,0,0,0,0,0,0,0,0,0,0,0,0,0,0,0,0,0,0,0,0,0,0,0,0,0,0,0,0,0,0,0,0,"","","","","","","","","0",0,"西陵",235026,0,0,"00"]
[null,null,null,null,null,null,null,null,null,null,null,null,null,null,null,27,null,null,null,null,null,null,null,null,null,null,null,null,"00","",{"$f":"IF(AD30=\"\",\"\",VLOOKUP(AD30,所属コード!$A$2:$E$189,2,FALSE))","v":""},{"$f":"IF(AD30=\"\",\"\",VLOOKUP(AD30,所属コード!$A$2:$G$189,7,FALSE))","v":""},null,null,null,null,null,null,null,"","",null,null,null,null,null,null,null,null,null,null,null,null,null,null,null,null,null,null,null,null,null,null,null,0,0,0,0,0,0,0,0,0,0,0,0,0,0,0,0,0,0,0,0,0,0,0,0,0,0,0,0,0,0,0,0,0,0,0,"","","","","","","","","0",0,"三滝",235027,0,0,"00"]
[null,null,null,null,null,null,null,null,null,null,null,null,null,null,null,28,null,null,null,null,null,null,null,null,null,null,null,null,"00","",{"$f":"IF(AD31=\"\",\"\",VLOOKUP(AD31,所属コード!$A$2:$E$189,2,FALSE))","v":""},{"$f":"IF(AD31=\"\",\"\",VLOOKUP(AD31,所属コード!$A$2:$G$189,7,FALSE))","v":""},null,null,null,null,null,null,null,"","",null,null,null,null,null,null,null,null,null,null,null,null,null,null,null,null,null,null,null,null,null,null,null,0,0,0,0,0,0,0,0,0,0,0,0,0,0,0,0,0,0,0,0,0,0,0,0,0,0,0,0,0,0,0,0,0,0,0,"","","","","","","","","0",0,"大池",235028,0,0,"00"]
[null,null,null,null,null,null,null,null,null,null,null,null,null,null,null,29,null,null,null,null,null,null,null,null,null,null,null,null,"00","",{"$f":"IF(AD32=\"\",\"\",VLOOKUP(AD32,所属コード!$A$2:$E$189,2,FALSE))","v":""},{"$f":"IF(AD32=\"\",\"\",VLOOKUP(AD32,所属コード!$A$2:$G$189,7,FALSE))","v":""},null,null,null,null,null,null,null,"","",null,null,null,null,null,null,null,null,null,null,null,null,null,null,null,null,null,null,null,null,null,null,null,0,0,0,0,0,0,0,0,0,0,0,0,0,0,0,0,0,0,0,0,0,0,0,0,0,0,0,0,0,0,0,0,0,0,0,"","","","","","","","","0",0,"朝明",235029,0,0,"00"]
[null,null,null,null,null,null,null,null,null,null,null,null,null,null,null,30,null,null,null,null,null,null,null,null,null,null,null,null,"00","",{"$f":"IF(AD33=\"\",\"\",VLOOKUP(AD33,所属コード!$A$2:$E$189,2,FALSE))","v":""},{"$f":"IF(AD33=\"\",\"\",VLOOKUP(AD33,所属コード!$A$2:$G$189,7,FALSE))","v":""},null,null,null,null,null,null,null,"","",null,null,null,null,null,null,null,null,null,null,null,null,null,null,null,null,null,null,null,null,null,null,null,0,0,0,0,0,0,0,0,0,0,0,0,0,0,0,0,0,0,0,0,0,0,0,0,0,0,0,0,0,0,0,0,0,0,0,"","","","","","","","","0",0,"保々",235030,0,0,"00"]
[null,null,null,null,null,null,null,null,null,null,null,null,null,null,null,31,null,null,null,null,null,null,null,null,null,null,null,null,"00","",{"$f":"IF(AD34=\"\",\"\",VLOOKUP(AD34,所属コード!$A$2:$E$189,2,FALSE))","v":""},{"$f":"IF(AD34=\"\",\"\",VLOOKUP(AD34,所属コード!$A$2:$G$189,7,FALSE))","v":""},null,null,null,null,null,null,null,"","",null,null,null,null,null,null,null,null,null,null,null,null,null,null,null,null,null,null,null,null,null,null,null,0,0,0,0,0,0,0,0,0,0,0,0,0,0,0,0,0,0,0,0,0,0,0,0,0,0,0,0,0,0,0,0,0,0,0,"","","","","","","","","0",0,"常磐",235031,0,0,"00"]
[null,null,null,null,null,null,null,null,null,null,null,null,null,null,null,32,null,null,null,null,null,null,null,null,null,null,null,null,"00","",{"$f":"IF(AD35=\"\",\"\",VLOOKUP(AD35,所属コード!$A$2:$E$189,2,FALSE))","v":""},{"$f":"IF(AD35=\"\",\"\",VLOOKUP(AD35,所属コード!$A$2:$G$189,7,FALSE))","v":""},null,null,null,null,null,null,null,"","",null,null,null,null,null,null,null,null,null,null,null,null,null,null,null,null,null,null,null,null,null,null,null,0,0,0,0,0,0,0,0,0,0,0,0,0,0,0,0,0,0,0,0,0,0,0,0,0,0,0,0,0,0,0,0,0,0,0,"","","","","","","","","0",0,"西笹川",235032,0,0,"00"]
[null,null,null,null,null,null,null,null,null,null,null,null,null,null,null,33,null,null,null,null,null,null,null,null,null,null,null,null,"00","",{"$f":"IF(AD36=\"\",\"\",VLOOKUP(AD36,所属コード!$A$2:$E$189,2,FALSE))","v":""},{"$f":"IF(AD36=\"\",\"\",VLOOKUP(AD36,所属コード!$A$2:$G$189,7,FALSE))","v":""},null,null,null,null,null,null,null,"","",null,null,null,null,null,null,null,null,null,null,null,null,null,null,null,null,null,null,null,null,null,null,null,0,0,0,{"$f":"BD36","v":0},0,0,0,0,0,0,0,0,0,0,0,0,0,0,0,0,0,0,0,0,0,0,0,0,0,0,0,0,0,0,0,"","","","","","","","","0",0,"三重平",235033,0,0,"00"]
[null,null,null,null,null,null,null,null,null,null,null,null,null,null,null,34,null,null,null,null,null,null,null,null,null,null,null,null,"00","",{"$f":"IF(AD37=\"\",\"\",VLOOKUP(AD37,所属コード!$A$2:$E$189,2,FALSE))","v":""},{"$f":"IF(AD37=\"\",\"\",VLOOKUP(AD37,所属コード!$A$2:$G$189,7,FALSE))","v":""},null,null,null,null,null,null,null,"","",null,null,null,null,null,null,null,null,null,null,null,null,null,null,null,null,null,null,null,null,null,null,null,0,0,0,0,0,0,0,0,0,0,0,0,0,0,0,0,0,0,0,0,0,0,0,0,0,0,0,0,0,0,0,0,0,0,0,"","","","","","","","","0",0,"羽津",235034,0,0,"00"]
[null,null,null,null,null,null,null,null,null,null,null,null,null,null,null,35,null,null,null,null,null,null,null,null,null,null,null,null,"00","",{"$f":"IF(AD38=\"\",\"\",VLOOKUP(AD38,所属コード!$A$2:$E$189,2,FALSE))","v":""},{"$f":"IF(AD38=\"\",\"\",VLOOKUP(AD38,所属コード!$A$2:$G$189,7,FALSE))","v":""},null,null,null,null,null,null,null,"","",null,null,null,null,null,null,null,null,null,null,null,null,null,null,null,null,null,null,null,null,null,null,null,0,0,0,0,0,0,0,0,0,0,0,0,0,0,0,0,0,0,0,0,0,0,0,0,0,0,0,0,0,0,0,0,0,0,0,"","","","","","","","","0",0,"西朝明",235035,0,0,"00"]
[null,null,null,null,null,null,null,null,null,null,null,null,null,null,null,36,null,null,null,null,null,null,null,null,null,null,null,null,"00","",{"$f":"IF(AD39=\"\",\"\",VLOOKUP(AD39,所属コード!$A$2:$E$189,2,FALSE))","v":""},{"$f":"IF(AD39=\"\",\"\",VLOOKUP(AD39,所属コード!$A$2:$G$189,7,FALSE))","v":""},null,null,null,null,null,null,null,"","",null,null,null,null,null,null,null,null,null,null,null,null,null,null,null,null,null,null,null,null,null,null,null,0,0,0,0,0,0,0,0,0,0,0,0,0,0,0,0,0,0,0,0,0,0,0,0,0,0,0,0,0,0,0,0,0,0,0,"","","","","","","","","0",0,"桜",235036,0,0,"00"]
[null,null,null,null,null,null,null,null,null,null,null,null,null,null,null,37,null,null,null,null,null,null,null,null,null,null,null,null,"00","",{"$f":"IF(AD40=\"\",\"\",VLOOKUP(AD40,所属コード!$A$2:$E$189,2,FALSE))","v":""},{"$f":"IF(AD40=\"\",\"\",VLOOKUP(AD40,所属コード!$A$2:$G$189,7,FALSE))","v":""},null,null,null,null,null,null,null,"","",null,null,null,null,null,null,null,null,null,null,null,null,null,null,null,null,null,null,null,null,null,null,null,0,0,0,0,0,0,0,0,0,0,0,0,0,0,0,0,0,0,0,0,0,0,0,0,0,0,0,0,0,0,0,0,0,0,0,"","","","","","","","","0",0,"内部",235037,0,0,"00"]
[null,null,null,null,null,null,null,null,null,null,null,null,null,null,null,38,null,null,null,null,null,null,null,null,null,null,null,null,"00","",{"$f":"IF(AD41=\"\",\"\",VLOOKUP(AD41,所属コード!$A$2:$E$189,2,FALSE))","v":""},{"$f":"IF(AD41=\"\",\"\",VLOOKUP(AD41,所属コード!$A$2:$G$189,7,FALSE))","v":""},null,null,null,null,null,null,null,"","",null,null,null,null,null,null,null,null,null,null,null,null,null,null,null,null,null,null,null,null,null,null,null,0,0,0,0,0,0,0,0,0,0,0,0,0,0,0,0,0,0,0,0,0,0,0,0,0,0,0,0,0,0,0,0,0,0,0,"","","","","","","","","0",0,"暁",235038,0,0,"00"]
[null,null,null,null,null,null,null,null,null,null,null,null,null,null,null,39,null,null,null,null,null,null,null,null,null,null,null,null,"00","",{"$f":"IF(AD42=\"\",\"\",VLOOKUP(AD42,所属コード!$A$2:$E$189,2,FALSE))","v":""},{"$f":"IF(AD42=\"\",\"\",VLOOKUP(AD42,所属コード!$A$2:$G$189,7,FALSE))","v":""},null,null,null,null,null,null,null,"","",null,null,null,null,null,null,null,null,null,null,null,null,null,null,null,null,null,null,null,null,null,null,null,0,0,0,0,0,0,0,0,0,0,0,0,0,0,0,0,0,0,0,0,0,0,0,0,0,0,0,0,0,0,0,0,0,0,0,"","","","","","","","","0",0,"海星",235039,0,0,"00"]
[null,null,null,null,null,null,null,null,null,null,null,null,null,null,null,40,null,null,null,null,null,null,null,null,null,null,null,null,"00","",{"$f":"IF(AD43=\"\",\"\",VLOOKUP(AD43,所属コード!$A$2:$E$189,2,FALSE))","v":""},{"$f":"IF(AD43=\"\",\"\",VLOOKUP(AD43,所属コード!$A$2:$G$189,7,FALSE))","v":""},null,null,null,null,null,null,null,"","",null,null,null,null,null,null,null,null,null,null,null,null,null,null,null,null,null,null,null,null,null,null,null,0,0,0,0,0,0,0,0,0,0,0,0,0,0,0,0,0,0,0,0,0,0,0,0,0,0,0,0,0,0,0,0,0,0,0,"","","","","","","","","0",0,"ﾒﾘﾉｰﾙ",235040,0,0,"00"]
[null,null,null,null,null,null,null,null,null,null,null,null,null,null,null,41,null,null,null,null,null,null,null,null,null,null,null,null,"00","",{"$f":"IF(AD44=\"\",\"\",VLOOKUP(AD44,所属コード!$A$2:$E$189,2,FALSE))","v":""},{"$f":"IF(AD44=\"\",\"\",VLOOKUP(AD44,所属コード!$A$2:$G$189,7,FALSE))","v":""},null,null,null,null,null,null,null,"","",null,null,null,null,null,null,null,null,null,null,null,null,null,null,null,null,null,null,null,null,null,null,null,0,0,0,0,0,0,0,0,0,0,0,0,0,0,0,0,0,0,0,0,0,0,0,0,0,0,0,0,0,0,0,0,0,0,0,"","","","","","","","","0",0,"菰野",235041,0,0,"00"]
[null,null,null,null,null,null,null,null,null,null,null,null,null,null,null,42,null,null,null,null,null,null,null,null,null,null,null,null,"00","",{"$f":"IF(AD45=\"\",\"\",VLOOKUP(AD45,所属コード!$A$2:$E$189,2,FALSE))","v":""},{"$f":"IF(AD45=\"\",\"\",VLOOKUP(AD45,所属コード!$A$2:$G$189,7,FALSE))","v":""},null,null,null,null,null,null,null,"","",null,null,null,null,null,null,null,null,null,null,null,null,null,null,null,null,null,null,null,null,null,null,null,0,0,0,0,0,0,0,0,0,0,0,0,0,0,0,0,0,0,0,0,0,0,0,0,0,0,0,0,0,0,0,0,0,0,0,"","","","","","","","","0",0,"八風",235042,0,0,"00"]
[null,null,null,null,null,null,null,null,null,null,null,null,null,null,null,43,null,null,null,null,null,null,null,null,null,null,null,null,"00","",{"$f":"IF(AD46=\"\",\"\",VLOOKUP(AD46,所属コード!$A$2:$E$189,2,FALSE))","v":""},{"$f":"IF(AD46=\"\",\"\",VLOOKUP(AD46,所属コード!$A$2:$G$189,7,FALSE))","v":""},null,null,null,null,null,null,null,"","",null,null,null,null,null,null,null,null,null,null,null,null,null,null,null,null,null,null,null,null,null,null,null,0,0,0,0,0,0,0,0,0,0,0,0,0,0,0,0,0,0,0,0,0,0,0,0,0,0,0,0,0,0,0,0,0,0,0,"","","","","","","","","0",0,"楠",235043,0,0,"00"]
[null,null,null,null,null,null,null,null,null,null,null,null,null,null,null,44,null,null,null,null,null,null,null,null,null,null,null,null,"00","",{"$f":"IF(AD47=\"\",\"\",VLOOKUP(AD47,所属コード!$A$2:$E$189,2,FALSE))","v":""},{"$f":"IF(AD47=\"\",\"\",VLOOKUP(AD47,所属コード!$A$2:$G$189,7,FALSE))","v":""},null,null,null,null,null,null,null,"","",null,null,null,null,null,null,null,null,null,null,null,null,null,null,null,null,null,null,null,null,null,null,null,0,0,0,0,0,0,0,0,0,0,0,0,0,0,0,0,0,0,0,0,0,0,0,0,0,0,0,0,0,0,0,0,0,0,0,"","","","","","","","","0",0,"朝日",235044,0,0,"00"]
[null,null,null,null,null,null,null,null,null,null,null,null,null,null,null,45,null,null,null,null,null,null,null,null,null,null,null,null,"00","",{"$f":"IF(AD48=\"\",\"\",VLOOKUP(AD48,所属コード!$A$2:$E$189,2,FALSE))","v":""},{"$f":"IF(AD48=\"\",\"\",VLOOKUP(AD48,所属コード!$A$2:$G$189,7,FALSE))","v":""},null,null,null,null,null,null,null,"","",null,null,null,null,null,null,null,null,null,null,null,null,null,null,null,null,null,null,null,null,null,null,null,0,0,0,0,0,0,0,0,0,0,0,0,0,0,0,0,0,0,0,0,0,0,0,0,0,0,0,0,0,0,0,0,0,0,0,"","","","","","","","","0",0,"川越",235045,0,0,"00"]
[null,null,null,null,null,null,null,null,null,null,null,null,null,null,null,46,null,null,null,null,null,null,null,null,null,null,null,null,"00","",{"$f":"IF(AD49=\"\",\"\",VLOOKUP(AD49,所属コード!$A$2:$E$189,2,FALSE))","v":""},{"$f":"IF(AD49=\"\",\"\",VLOOKUP(AD49,所属コード!$A$2:$G$189,7,FALSE))","v":""},null,null,null,null,null,null,null,"","",null,null,null,null,null,null,null,null,null,null,null,null,null,null,null,null,null,null,null,null,null,null,null,0,0,0,0,0,0,0,0,0,0,0,0,0,0,0,0,0,0,0,0,0,0,0,0,0,0,0,0,0,0,0,0,0,0,0,"","","","","","","","","0",0,"平田野",235046,0,0,"00"]
[null,null,null,null,null,null,null,null,null,null,null,null,null,null,null,47,null,null,null,null,null,null,null,null,null,null,null,null,"00","",{"$f":"IF(AD50=\"\",\"\",VLOOKUP(AD50,所属コード!$A$2:$E$189,2,FALSE))","v":""},{"$f":"IF(AD50=\"\",\"\",VLOOKUP(AD50,所属コード!$A$2:$G$189,7,FALSE))","v":""},null,null,null,null,null,null,null,"","",null,null,null,null,null,null,null,null,null,null,null,null,null,null,null,null,null,null,null,null,null,null,null,0,0,0,0,0,0,0,0,0,0,0,0,0,0,0,0,0,0,0,0,0,0,0,0,0,0,0,0,0,0,0,0,0,0,0,"","","","","","","","","0",0,"白鳥",235047,0,0,"00"]
[null,null,null,null,null,null,null,null,null,null,null,null,null,null,null,48,null,null,null,null,null,null,null,null,null,null,null,null,"00","",{"$f":"IF(AD51=\"\",\"\",VLOOKUP(AD51,所属コード!$A$2:$E$189,2,FALSE))","v":""},{"$f":"IF(AD51=\"\",\"\",VLOOKUP(AD51,所属コード!$A$2:$G$189,7,FALSE))","v":""},null,null,null,null,null,null,null,"","",null,null,null,null,null,null,null,null,null,null,null,null,null,null,null,null,null,null,null,null,null,null,null,0,0,0,0,0,0,0,0,0,0,0,0,0,0,0,0,0,0,0,0,0,0,0,0,0,0,0,0,0,0,0,0,0,0,0,"","","","","","","","","0",0,"神戸",235048,0,0,"00"]
[null,null,null,null,null,null,null,null,null,null,null,null,null,null,null,49,null,null,null,null,null,null,null,null,null,null,null,null,"00","",{"$f":"IF(AD52=\"\",\"\",VLOOKUP(AD52,所属コード!$A$2:$E$189,2,FALSE))","v":""},{"$f":"IF(AD52=\"\",\"\",VLOOKUP(AD52,所属コード!$A$2:$G$189,7,FALSE))","v":""},null,null,null,null,null,null,null,"","",null,null,null,null,null,null,null,null,null,null,null,null,null,null,null,null,null,null,null,null,null,null,null,0,0,0,0,0,0,0,0,0,0,0,0,0,0,0,0,0,0,0,0,0,0,0,0,0,0,0,0,0,0,0,0,0,0,0,"","","","","","","","","0",0,"大木",235049,0,0,"00"]
[null,null,null,null,null,null,null,null,null,null,null,null,null,null,null,50,null,null,null,null,null,null,null,null,null,null,null,null,"00","",{"$f":"IF(AD53=\"\",\"\",VLOOKUP(AD53,所属コード!$A$2:$E$189,2,FALSE))","v":""},{"$f":"IF(AD53=\"\",\"\",VLOOKUP(AD53,所属コード!$A$2:$G$189,7,FALSE))","v":""},null,null,null,null,null,null,null,"","",null,null,null,null,null,null,null,null,null,null,null,null,null,null,null,null,null,null,null,null,null,null,null,0,0,0,0,0,0,0,0,0,0,0,0,0,0,0,0,0,0,0,0,0,0,0,0,0,0,0,0,0,0,0,0,0,0,0,"","","","","","","","","0",0,"千代崎",235050,0,0,"00"]
[null,null,null,null,null,null,null,null,null,null,null,null,null,null,null,51,null,null,null,null,null,null,null,null,null,null,null,null,"00","",{"$f":"IF(AD54=\"\",\"\",VLOOKUP(AD54,所属コード!$A$2:$E$189,2,FALSE))","v":""},{"$f":"IF(AD54=\"\",\"\",VLOOKUP(AD54,所属コード!$A$2:$G$189,7,FALSE))","v":""},null,null,null,null,null,null,null,"","",null,null,null,null,null,null,null,null,null,null,null,null,null,null,null,null,null,null,null,null,null,null,null,0,0,0,0,0,0,0,0,0,0,0,0,0,0,0,0,0,0,0,0,0,0,0,0,0,0,0,0,0,0,0,0,0,0,0,"","","","","","","","","0",0,"白子",235051,0,0,"00"]
[null,null,null,null,null,null,null,null,null,null,null,null,null,null,null,52,null,null,null,null,null,null,null,null,null,null,null,null,"00","",{"$f":"IF(AD55=\"\",\"\",VLOOKUP(AD55,所属コード!$A$2:$E$189,2,FALSE))","v":""},{"$f":"IF(AD55=\"\",\"\",VLOOKUP(AD55,所属コード!$A$2:$G$189,7,FALSE))","v":""},null,null,null,null,null,null,null,"","",null,null,null,null,null,null,null,null,null,null,null,null,null,null,null,null,null,null,null,null,null,null,null,0,0,0,0,0,0,0,0,0,0,0,0,0,0,0,0,0,0,0,0,0,0,0,0,0,0,0,0,0,0,0,0,0,0,0,"","","","","","","","","0",0,"天栄",235052,0,0,"00"]
[null,null,null,null,null,null,null,null,null,null,null,null,null,null,null,53,null,null,null,null,null,null,null,null,null,null,null,null,"00","",{"$f":"IF(AD56=\"\",\"\",VLOOKUP(AD56,所属コード!$A$2:$E$189,2,FALSE))","v":""},{"$f":"IF(AD56=\"\",\"\",VLOOKUP(AD56,所属コード!$A$2:$G$189,7,FALSE))","v":""},null,null,null,null,null,null,null,"","",null,null,null,null,null,null,null,null,null,null,null,null,null,null,null,null,null,null,null,null,null,null,null,0,0,0,0,0,0,0,0,0,0,0,0,0,0,0,0,0,0,0,0,0,0,0,0,0,0,0,0,0,0,0,0,0,0,0,"","","","","","","","","0",0,"鈴峰",235053,0,0,"00"]
[null,null,null,null,null,null,null,null,null,null,null,null,null,null,null,54,null,null,null,null,null,null,null,null,null,null,null,null,"00","",{"$f":"IF(AD57=\"\",\"\",VLOOKUP(AD57,所属コード!$A$2:$E$189,2,FALSE))","v":""},{"$f":"IF(AD57=\"\",\"\",VLOOKUP(AD57,所属コード!$A$2:$G$189,7,FALSE))","v":""},null,null,null,null,null,null,null,"","",null,null,null,null,null,null,null,null,null,null,null,null,null,null,null,null,null,null,null,null,null,null,null,0,0,0,0,0,0,0,0,0,0,0,0,0,0,0,0,0,0,0,0,0,0,0,0,0,0,0,0,0,0,0,0,0,0,0,"","","","","","","","","0",0,"鼓ヶ浦",235054,0,0,"00"]
[null,null,null,null,null,null,null,null,null,null,null,null,null,null,null,55,null,null,null,null,null,null,null,null,null,null,null,null,"00","",{"$f":"IF(AD58=\"\",\"\",VLOOKUP(AD58,所属コード!$A$2:$E$189,2,FALSE))","v":""},{"$f":"IF(AD58=\"\",\"\",VLOOKUP(AD58,所属コード!$A$2:$G$189,7,FALSE))","v":""},null,null,null,null,null,null,null,"","",null,null,null,null,null,null,null,null,null,null,null,null,null,null,null,null,null,null,null,null,null,null,null,0,0,0,0,0,0,0,0,0,0,0,0,0,0,0,0,0,0,0,0,0,0,0,0,0,0,0,0,0,0,0,0,0,0,0,"","","","","","","","","0",0,"創徳",235055,0,0,"00"]
[null,null,null,null,null,null,null,null,null,null,null,null,null,null,null,56,null,null,null,null,null,null,null,null,null,null,null,null,"00","",{"$f":"IF(AD59=\"\",\"\",VLOOKUP(AD59,所属コード!$A$2:$E$189,2,FALSE))","v":""},{"$f":"IF(AD59=\"\",\"\",VLOOKUP(AD59,所属コード!$A$2:$G$189,7,FALSE))","v":""},null,null,null,null,null,null,null,"","",null,null,null,null,null,null,null,null,null,null,null,null,null,null,null,null,null,null,null,null,null,null,null,0,0,0,0,0,0,0,0,0,0,0,0,0,0,0,0,0,0,0,0,0,0,0,0,0,0,0,0,0,0,0,0,0,0,0,"","","","","","","","","0",0,"鈴鹿",235056,0,0,"00"]
[null,null,null,null,null,null,null,null,null,null,null,null,null,null,null,57,null,null,null,null,null,null,null,null,null,null,null,null,"00","",{"$f":"IF(AD60=\"\",\"\",VLOOKUP(AD60,所属コード!$A$2:$E$189,2,FALSE))","v":""},{"$f":"IF(AD60=\"\",\"\",VLOOKUP(AD60,所属コード!$A$2:$G$189,7,FALSE))","v":""},null,null,null,null,null,null,null,"","",null,null,null,null,null,null,null,null,null,null,null,null,null,null,null,null,null,null,null,null,null,null,null,0,0,0,0,0,0,0,0,0,0,0,0,0,0,0,0,0,0,0,0,0,0,0,0,0,0,0,0,0,0,0,0,0,0,0,"","","","","","","","","0",0,"亀山",235057,0,0,"00"]
[null,null,null,null,null,null,null,null,null,null,null,null,null,null,null,58,null,null,null,null,null,null,null,null,null,null,null,null,"00","",{"$f":"IF(AD61=\"\",\"\",VLOOKUP(AD61,所属コード!$A$2:$E$189,2,FALSE))","v":""},{"$f":"IF(AD61=\"\",\"\",VLOOKUP(AD61,所属コード!$A$2:$G$189,7,FALSE))","v":""},null,null,null,null,null,null,null,"","",null,null,null,null,null,null,null,null,null,null,null,null,null,null,null,null,null,null,null,null,null,null,null,0,0,0,0,0,0,0,0,0,0,0,0,0,0,0,0,0,0,0,0,0,0,0,0,0,0,0,0,0,0,0,0,0,0,0,"","","","","","","","","0",0,"亀山中部",235058,0,0,"00"]
[null,null,null,null,null,null,null,null,null,null,null,null,null,null,null,59,null,null,null,null,null,null,null,null,null,null,null,null,"00","",{"$f":"IF(AD62=\"\",\"\",VLOOKUP(AD62,所属コード!$A$2:$E$189,2,FALSE))","v":""},{"$f":"IF(AD62=\"\",\"\",VLOOKUP(AD62,所属コード!$A$2:$G$189,7,FALSE))","v":""},null,null,null,null,null,null,null,"","",null,null,null,null,null,null,null,null,null,null,null,null,null,null,null,null,null,null,null,null,null,null,null,0,0,0,0,0,0,0,0,0,0,0,0,0,0,0,0,0,0,0,0,0,0,0,0,0,0,0,0,0,0,0,0,0,0,0,"","","","","","","","","0",0,"関",235059,0,0,"00"]
[null,null,null,null,null,null,null,null,null,null,null,null,null,null,null,60,null,null,null,null,null,null,null,null,null,null,null,null,"00","",{"$f":"IF(AD63=\"\",\"\",VLOOKUP(AD63,所属コード!$A$2:$E$189,2,FALSE))","v":""},{"$f":"IF(AD63=\"\",\"\",VLOOKUP(AD63,所属コード!$A$2:$G$189,7,FALSE))","v":""},null,null,null,null,null,null,null,"","",null,null,null,null,null,null,null,null,null,null,null,null,null,null,null,null,null,null,null,null,null,null,null,0,0,0,0,0,0,0,0,0,0,0,0,0,0,0,0,0,0,0,0,0,0,0,0,0,0,0,0,0,0,0,0,0,0,0,"","","","","","","","","0",0,"橋北",235060,0,0,"00"]
[null,null,null,null,null,null,null,null,null,null,null,null,null,null,null,61,null,null,null,null,null,null,null,null,null,null,null,null,"00","",{"$f":"IF(AD64=\"\",\"\",VLOOKUP(AD64,所属コード!$A$2:$E$189,2,FALSE))","v":""},{"$f":"IF(AD64=\"\",\"\",VLOOKUP(AD64,所属コード!$A$2:$G$189,7,FALSE))","v":""},null,null,null,null,null,null,null,"","",null,null,null,null,null,null,null,null,null,null,null,null,null,null,null,null,null,null,null,null,null,null,null,0,0,0,0,0,0,0,0,0,0,0,0,0,0,0,0,0,0,0,0,0,0,0,0,0,0,0,0,0,0,0,0,0,0,0,"","","","","","","","","0",0,"東橋内",235061,0,0,"00"]
[null,null,null,null,null,null,null,null,null,null,null,null,null,null,null,62,null,null,null,null,null,null,null,null,null,null,null,null,"00","",{"$f":"IF(AD65=\"\",\"\",VLOOKUP(AD65,所属コード!$A$2:$E$189,2,FALSE))","v":""},{"$f":"IF(AD65=\"\",\"\",VLOOKUP(AD65,所属コード!$A$2:$G$189,7,FALSE))","v":""},null,null,null,null,null,null,null,"","",null,null,null,null,null,null,null,null,null,null,null,null,null,null,null,null,null,null,null,null,null,null,null,0,0,0,0,0,0,0,0,0,0,0,0,0,0,0,0,0,0,0,0,0,0,0,0,0,0,0,0,0,0,0,0,0,0,0,"","","","","","","","","0",0,"西橋内",235062,0,0,"00"]
[null,null,null,null,null,null,null,null,null,null,null,null,null,null,null,63,null,null,null,null,null,null,null,null,null,null,null,null,"00","",{"$f":"IF(AD66=\"\",\"\",VLOOKUP(AD66,所属コード!$A$2:$E$189,2,FALSE))","v":""},{"$f":"IF(AD66=\"\",\"\",VLOOKUP(AD66,所属コード!$A$2:$G$189,7,FALSE))","v":""},null,null,null,null,null,null,null,"","",null,null,null,null,null,null,null,null,null,null,null,null,null,null,null,null,null,null,null,null,null,null,null,0,0,0,0,0,0,0,0,0,0,0,0,0,0,0,0,0,0,0,0,0,0,0,0,0,0,0,0,0,0,0,0,0,0,0,"","","","","","","","","0",0,"橋南",235063,0,0,"00"]
[null,null,null,null,null,null,null,null,null,null,null,null,null,null,null,64,null,null,null,null,null,null,null,null,null,null,null,null,"00","",{"$f":"IF(AD67=\"\",\"\",VLOOKUP(AD67,所属コード!$A$2:$E$189,2,FALSE))","v":""},{"$f":"IF(AD67=\"\",\"\",VLOOKUP(AD67,所属コード!$A$2:$G$189,7,FALSE))","v":""},null,null,null,null,null,null,null,"","",null,null,null,null,null,null,null,null,null,null,null,null,null,null,null,null,null,null,null,null,null,null,null,0,0,0,0,0,0,0,0,0,0,0,0,0,0,0,0,0,0,0,0,0,0,0,0,0,0,0,0,0,0,0,0,0,0,0,"","","","","","","","","0",0,"南郊",235064,0,0,"00"]
[null,null,null,null,null,null,null,null,null,null,null,null,null,null,null,65,null,null,null,null,null,null,null,null,null,null,null,null,"00","",{"$f":"IF(AD68=\"\",\"\",VLOOKUP(AD68,所属コード!$A$2:$E$189,2,FALSE))","v":""},{"$f":"IF(AD68=\"\",\"\",VLOOKUP(AD68,所属コード!$A$2:$G$189,7,FALSE))","v":""},null,null,null,null,null,null,null,"","",null,null,null,null,null,null,null,null,null,null,null,null,null,null,null,null,null,null,null,null,null,null,null,0,{"$f":"BD68","v":0},{"$f":"BD68","v":0},{"$f":"BD68","v":0},0,0,0,0,0,0,0,0,0,0,0,0,0,0,0,0,0,0,0,0,0,0,0,0,0,0,0,0,0,0,0,"","","","","","","",{"$f":"IF(X68=\"3\",3,IF(X68=\"2\",2,IF(X68=\"1\",1,IF(X68=1,1,IF(X68=2,2,IF(X68=3,3,\"\"))))))","v":""},"0",0,"西郊",235065,0,0,"00"]
[null,null,null,null,null,null,null,null,null,null,null,null,null,null,null,66,null,null,null,null,null,null,null,null,null,null,null,null,{"$f":"DJ69","v":"00"},"",{"$f":"IF(AD69=\"\",\"\",VLOOKUP(AD69,所属コード!$A$2:$E$189,2,FALSE))","v":""},{"$f":"IF(AD69=\"\",\"\",VLOOKUP(AD69,所属コード!$A$2:$G$189,7,FALSE))","v":""},null,null,null,null,null,null,null,{"$f":"IF(Y69=\"\",\"\",IF(Y69=\"男\",1,2))","v":""},{"$f":"ASC(W69)","v":""},null,null,null,null,null,null,null,null,null,null,null,null,null,null,null,null,null,null,null,null,null,null,null,{"$f":"BF69","v":0},0,0,0,0,{"$f":"AW69","v":0},{"$f":"BA69","v":0},{"$f":"AW69","v":0},{"$f":"BA69","v":0},{"$f":"AZ69","v":0},{"$f":"AW69","v":0},0,{"$f":"BC69","v":0},0,{"$f":"BF69","v":0},{"$f":"BJ69","v":0},0,0,{"$f":"BE69","v":0},{"$f":"AW69","v":0},{"$f":"BA69","v":0},{"$f":"BD69","v":0},{"$f":"BH69","v":0},{"$f":"BE69","v":0},{"$f":"AZ69","v":0},{"$f":"BJ69","v":0},{"$f":"AW69","v":0},{"$f":"BA69","v":0},{"$f":"BE69","v":0},{"$f":"BH69","v":0},{"$f":"BJ69","v":0},{"$f":"BC69","v":0},{"$f":"BB69","v":0},0,{"$f":"BJ69","v":0},{"$f":"TRIM(V69)","v":""},{"$f":"IF(CV69=\"\",\"\",LEN(CV69))","v":""},{"$f":"IF(CV69=\"\",\"\",FIND(\"　\",CV69,1))","v":""},{"$f":"IF(CV69=\"\",\"\",CW69-CX69)","v":""},{"$f":"IF(CV69=\"\",\"\",LEFT(CV69,CX69-1))","v":""},{"$f":"IF(CV69=\"\",\"\",RIGHT(CV69,CY69))","v":""},{"$f":"IF(CV69=\"\",\"\",IF(CW69=4,CONCATENATE(CZ69,\"　\",\"　\",DA69),IF(CW69=6,CONCATENATE(CZ69,DA69),CV69)))","v":""},"",{"$f":"IF(AB69<10,CONCATENATE(0,AB69),AB69)","v":"0"},{"$f":"Z69","v":0},"一身田",235066,{"$f":"IF(AA69=1,\"01\",IF(AA69=2,\"02\",IF(AA69=3,\"03\",IF(AA69=4,\"04\",IF(AA69=5,\"05\",IF(AA69=6,\"06\",IF(AA69=7,\"07\",IF(AA69=8,\"08\",IF(AA69=9,\"09\",AA69)))))))))","v":0},{"$f":"IF(AB69=1,\"01\",IF(AB69=2,\"02\",IF(AB69=3,\"03\",IF(AB69=4,\"04\",IF(AB69=5,\"05\",IF(AB69=6,\"06\",IF(AB69=7,\"07\",IF(AB69=8,\"08\",IF(AB69=9,\"09\",AB69)))))))))","v":0},{"$f":"CONCATENATE(DH69,DI69)","v":"00"}]
[null,null,null,null,null,null,null,null,null,null,null,null,null,null,null,67,null,null,null,null,null,null,null,null,null,null,null,null,"00",{"$f":"IF(V70=\"\",\"\",$AD$4)","v":""},{"$f":"IF(AD70=\"\",\"\",VLOOKUP(AD70,所属コード!$A$2:$E$189,2,FALSE))","v":""},{"$f":"IF(AD70=\"\",\"\",VLOOKUP(AD70,所属コード!$A$2:$G$189,7,FALSE))","v":""},null,null,null,null,null,null,null,"","",null,null,null,null,null,null,null,null,null,null,null,null,null,null,null,null,null,null,null,null,null,null,null,0,0,0,0,0,0,0,0,0,0,0,0,0,0,0,0,0,0,0,0,0,0,0,0,0,0,0,0,0,0,0,0,0,0,0,"","","","","","","","","0",0,"一身田国児",235067,0,0,"00"]
[null,null,null,null,null,null,null,null,null,null,null,null,null,null,null,68,null,null,null,null,null,null,null,null,null,null,null,null,"00","",{"$f":"IF(AD71=\"\",\"\",VLOOKUP(AD71,所属コード!$A$2:$E$189,2,FALSE))","v":""},{"$f":"IF(AD71=\"\",\"\",VLOOKUP(AD71,所属コード!$A$2:$G$189,7,FALSE))","v":""},null,null,null,null,null,null,null,"","",null,null,null,null,null,null,null,null,null,null,null,null,null,null,null,null,null,null,null,null,null,null,null,0,0,0,0,0,0,0,0,0,0,0,0,0,0,0,0,0,0,0,0,0,0,0,0,0,0,0,0,0,0,0,0,0,0,0,"","","","","","","","","0",0,"南が丘",235068,0,0,"00"]
[null,null,null,null,null,null,null,null,null,null,null,null,null,null,null,69,null,null,null,null,null,null,null,null,null,null,null,null,"00","",{"$f":"IF(AD72=\"\",\"\",VLOOKUP(AD72,所属コード!$A$2:$E$189,2,FALSE))","v":""},{"$f":"IF(AD72=\"\",\"\",VLOOKUP(AD72,所属コード!$A$2:$G$189,7,FALSE))","v":""},null,null,null,null,null,null,null,"","",null,null,null,null,null,null,null,null,null,null,null,null,null,null,null,null,null,null,null,null,null,null,null,0,0,0,0,0,0,0,0,0,0,0,0,0,0,0,0,0,0,0,0,0,0,0,0,0,0,0,0,0,0,0,0,0,0,0,"","","","","","","","","0",0,"高田",235069,0,0,"00"]
[null,null,null,null,null,null,null,null,null,null,null,null,null,null,null,70,null,null,null,null,null,null,null,null,null,null,null,null,"00","",{"$f":"IF(AD73=\"\",\"\",VLOOKUP(AD73,所属コード!$A$2:$E$189,2,FALSE))","v":""},{"$f":"IF(AD73=\"\",\"\",VLOOKUP(AD73,所属コード!$A$2:$G$189,7,FALSE))","v":""},null,null,null,null,null,null,null,"","",null,null,null,null,null,null,null,null,null,null,null,null,null,null,null,null,null,null,null,null,null,null,null,0,0,0,0,0,0,0,0,0,0,0,0,0,0,0,0,0,0,0,0,0,0,0,0,0,0,0,0,0,0,0,0,0,0,0,"","","","","","","","","0",0,"セントヨゼフ",235070,0,0,"00"]
[null,null,null,null,null,null,null,null,null,null,null,null,null,null,null,71,null,null,null,null,null,null,null,null,null,null,null,null,"00","",{"$f":"IF(AD74=\"\",\"\",VLOOKUP(AD74,所属コード!$A$2:$E$189,2,FALSE))","v":""},{"$f":"IF(AD74=\"\",\"\",VLOOKUP(AD74,所属コード!$A$2:$G$189,7,FALSE))","v":""},null,null,null,null,null,null,null,"","",null,null,null,null,null,null,null,null,null,null,null,null,null,null,null,null,null,null,null,null,null,null,null,0,0,0,0,0,0,0,0,0,0,0,0,0,0,0,0,0,0,0,0,0,0,0,0,0,0,0,0,0,0,0,0,0,0,0,"","","","","","","","","0",0,"三重大附属",235071,0,0,"00"]
[null,null,null,null,null,null,null,null,null,null,null,null,null,null,null,72,null,null,null,null,null,null,null,null,null,null,null,null,"00","",{"$f":"IF(AD75=\"\",\"\",VLOOKUP(AD75,所属コード!$A$2:$E$189,2,FALSE))","v":""},{"$f":"IF(AD75=\"\",\"\",VLOOKUP(AD75,所属コード!$A$2:$G$189,7,FALSE))","v":""},null,null,null,null,null,null,null,"","",null,null,null,null,null,null,null,null,null,null,null,null,null,null,null,null,null,null,null,null,null,null,null,0,0,0,0,0,0,0,0,0,0,0,0,0,0,0,0,0,0,0,0,0,0,0,0,0,0,0,0,0,0,0,0,0,0,0,"","","","","","","","","0",0,"豊里",235072,0,0,"00"]
[null,null,null,null,null,null,null,null,null,null,null,null,null,null,null,73,null,null,null,null,null,null,null,null,null,null,null,null,"00","",{"$f":"IF(AD76=\"\",\"\",VLOOKUP(AD76,所属コード!$A$2:$E$189,2,FALSE))","v":""},{"$f":"IF(AD76=\"\",\"\",VLOOKUP(AD76,所属コード!$A$2:$G$189,7,FALSE))","v":""},null,null,null,null,null,null,null,"","",null,null,null,null,null,null,null,null,null,null,null,null,null,null,null,null,null,null,null,null,null,null,null,0,0,0,0,0,0,0,0,0,0,0,0,0,0,0,0,0,0,0,0,0,0,0,0,0,0,0,0,0,0,0,0,0,0,0,"","","","","","","","","0",0,"朝陽",235073,0,0,"00"]
[null,null,null,null,null,null,null,null,null,null,null,null,null,null,null,74,null,null,null,null,null,null,null,null,null,null,null,null,"00","",{"$f":"IF(AD77=\"\",\"\",VLOOKUP(AD77,所属コード!$A$2:$E$189,2,FALSE))","v":""},{"$f":"IF(AD77=\"\",\"\",VLOOKUP(AD77,所属コード!$A$2:$G$189,7,FALSE))","v":""},null,null,null,null,null,null,null,"","",null,null,null,null,null,null,null,null,null,null,null,null,null,null,null,null,null,null,null,null,null,null,null,0,0,0,0,0,0,0,0,0,0,0,0,0,0,0,0,0,0,0,0,0,0,0,0,0,0,0,0,0,0,0,0,0,0,0,"","","","","","","","","0",0,"芸濃",235074,0,0,"00"]
[null,null,null,null,null,null,null,null,null,null,null,null,null,null,null,75,null,null,null,null,null,null,null,null,null,null,null,null,"00","",{"$f":"IF(AD78=\"\",\"\",VLOOKUP(AD78,所属コード!$A$2:$E$189,2,FALSE))","v":""},{"$f":"IF(AD78=\"\",\"\",VLOOKUP(AD78,所属コード!$A$2:$G$189,7,FALSE))","v":""},null,null,null,null,null,null,null,"","",null,null,null,null,null,null,null,null,null,null,null,null,null,null,null,null,null,null,null,null,null,null,null,0,0,0,0,0,0,0,0,0,0,0,0,0,0,0,0,0,0,0,0,0,0,0,0,0,0,0,0,0,0,0,0,0,0,0,"","","","","","","","","0",0,"美里",235075,0,0,"00"]
[null,null,null,null,null,null,null,null,null,null,null,null,null,null,null,76,null,null,null,null,null,null,null,null,null,null,null,null,"00","",{"$f":"IF(AD79=\"\",\"\",VLOOKUP(AD79,所属コード!$A$2:$E$189,2,FALSE))","v":""},{"$f":"IF(AD79=\"\",\"\",VLOOKUP(AD79,所属コード!$A$2:$G$189,7,FALSE))","v":""},null,null,null,null,null,null,null,"","",null,null,null,null,null,null,null,null,null,null,null,null,null,null,null,null,null,null,null,null,null,null,null,0,0,0,0,0,0,0,0,0,0,0,0,0,0,0,0,0,0,0,0,0,0,0,0,0,0,0,0,0,0,0,0,0,0,0,"","","","","","","","","0",0,"東観",235076,0,0,"00"]
[null,null,null,null,null,null,null,null,null,null,null,null,null,null,null,77,null,null,null,null,null,null,null,null,null,null,null,null,"00","",{"$f":"IF(AD80=\"\",\"\",VLOOKUP(AD80,所属コード!$A$2:$E$189,2,FALSE))","v":""},{"$f":"IF(AD80=\"\",\"\",VLOOKUP(AD80,所属コード!$A$2:$G$189,7,FALSE))","v":""},null,null,null,null,null,null,null,"","",null,null,null,null,null,null,null,null,null,null,null,null,null,null,null,null,null,null,null,null,null,null,null,0,0,0,0,0,0,0,0,0,0,0,0,0,0,0,0,0,0,0,0,0,0,0,0,0,0,0,0,0,0,0,0,0,0,0,"","","","","","","","","0",0,"久居",235077,0,0,"00"]
[null,null,null,null,null,null,null,null,null,null,null,null,null,null,null,78,null,null,null,null,null,null,null,null,null,null,null,null,"00","",{"$f":"IF(AD81=\"\",\"\",VLOOKUP(AD81,所属コード!$A$2:$E$189,2,FALSE))","v":""},{"$f":"IF(AD81=\"\",\"\",VLOOKUP(AD81,所属コード!$A$2:$G$189,7,FALSE))","v":""},null,null,null,null,null,null,null,"","",null,null,null,null,null,null,null,null,null,null,null,null,null,null,null,null,null,null,null,null,null,null,null,0,0,0,0,0,0,0,0,0,0,0,0,0,0,0,0,0,0,0,0,0,0,0,0,0,0,0,0,0,0,0,0,0,0,0,"","","","","","","","","0",0,"久居西",235078,0,0,"00"]
[null,null,null,null,null,null,null,null,null,null,null,null,null,null,null,79,null,null,null,null,null,null,null,null,null,null,null,null,"00","",{"$f":"IF(AD82=\"\",\"\",VLOOKUP(AD82,所属コード!$A$2:$E$189,2,FALSE))","v":""},{"$f":"IF(AD82=\"\",\"\",VLOOKUP(AD82,所属コード!$A$2:$G$189,7,FALSE))","v":""},null,null,null,null,null,null,null,"","",null,null,null,null,null,null,null,null,null,null,null,null,null,null,null,null,null,null,null,null,null,null,null,0,0,0,0,0,0,0,0,0,0,0,0,0,0,0,0,0,0,0,0,0,0,0,0,0,0,0,0,0,0,0,0,0,0,0,"","","","","","","","","0",0,"久居東",235079,0,0,"00"]
[null,null,null,null,null,null,null,null,null,null,null,null,null,null,null,80,null,null,null,null,null,null,null,null,null,null,null,null,"00","",{"$f":"IF(AD83=\"\",\"\",VLOOKUP(AD83,所属コード!$A$2:$E$189,2,FALSE))","v":""},{"$f":"IF(AD83=\"\",\"\",VLOOKUP(AD83,所属コード!$A$2:$G$189,7,FALSE))","v":""},null,null,null,null,null,null,null,"","",null,null,null,null,null,null,null,null,null,null,null,null,null,null,null,null,null,null,null,null,null,null,null,0,0,0,0,0,0,0,0,0,0,0,0,0,0,0,0,0,0,0,0,0,0,0,0,0,0,0,0,0,0,0,0,0,0,0,"","","","","","","","","0",0,"香海",235080,0,0,"00"]
[null,null,null,null,null,null,null,null,null,null,null,null,null,null,null,81,null,null,null,null,null,null,null,null,null,null,null,null,"00","",{"$f":"IF(AD84=\"\",\"\",VLOOKUP(AD84,所属コード!$A$2:$E$189,2,FALSE))","v":""},{"$f":"IF(AD84=\"\",\"\",VLOOKUP(AD84,所属コード!$A$2:$G$189,7,FALSE))","v":""},null,null,null,null,null,null,null,"","",null,null,null,null,null,null,null,null,null,null,null,null,null,null,null,null,null,null,null,null,null,null,null,0,0,0,0,0,0,0,0,0,0,0,0,0,0,0,0,0,0,0,0,0,0,0,0,0,0,0,0,0,0,0,0,0,0,0,"","","","","","","","","0",0,"一志",235081,0,0,"00"]
[null,null,null,null,null,null,null,null,null,null,null,null,null,null,null,82,null,null,null,null,null,null,null,null,null,null,null,null,"00","",{"$f":"IF(AD85=\"\",\"\",VLOOKUP(AD85,所属コード!$A$2:$E$189,2,FALSE))","v":""},{"$f":"IF(AD85=\"\",\"\",VLOOKUP(AD85,所属コード!$A$2:$G$189,7,FALSE))","v":""},null,null,null,null,null,null,null,"","",null,null,null,null,null,null,null,null,null,null,null,null,null,null,null,null,null,null,null,null,null,null,null,0,0,0,0,0,0,0,0,0,0,0,0,0,0,0,0,0,0,0,0,0,0,0,0,0,0,0,0,0,0,0,0,0,0,0,"","","","","","","","","0",0,"白山",235082,0,0,"00"]
[null,null,null,null,null,null,null,null,null,null,null,null,null,null,null,83,null,null,null,null,null,null,null,null,null,null,null,null,"00","",{"$f":"IF(AD86=\"\",\"\",VLOOKUP(AD86,所属コード!$A$2:$E$189,2,FALSE))","v":""},{"$f":"IF(AD86=\"\",\"\",VLOOKUP(AD86,所属コード!$A$2:$G$189,7,FALSE))","v":""},null,null,null,null,null,null,null,"","",null,null,null,null,null,null,null,null,null,null,null,null,null,null,null,null,null,null,null,null,null,null,null,0,0,0,0,0,0,0,0,0,0,0,0,0,0,0,0,0,0,0,0,0,0,0,0,0,0,0,0,0,0,0,0,0,0,0,"","","","","","","","","0",0,"嬉野",235083,0,0,"00"]
[null,null,null,null,null,null,null,null,null,null,null,null,null,null,null,84,null,null,null,null,null,null,null,null,null,null,null,null,"00","",{"$f":"IF(AD87=\"\",\"\",VLOOKUP(AD87,所属コード!$A$2:$E$189,2,FALSE))","v":""},{"$f":"IF(AD87=\"\",\"\",VLOOKUP(AD87,所属コード!$A$2:$G$189,7,FALSE))","v":""},null,null,null,null,null,null,null,"","",null,null,null,null,null,null,null,null,null,null,null,null,null,null,null,null,null,null,null,null,null,null,null,0,0,0,0,0,0,0,0,0,0,0,0,0,0,0,0,0,0,0,0,0,0,0,0,0,0,0,0,0,0,0,0,0,0,0,"","","","","","","","","0",0,"美杉",235084,0,0,"00"]
[null,null,null,null,null,null,null,null,null,null,null,null,null,null,null,85,null,null,null,null,null,null,null,null,null,null,null,null,"00","",{"$f":"IF(AD88=\"\",\"\",VLOOKUP(AD88,所属コード!$A$2:$E$189,2,FALSE))","v":""},{"$f":"IF(AD88=\"\",\"\",VLOOKUP(AD88,所属コード!$A$2:$G$189,7,FALSE))","v":""},null,null,null,null,null,null,null,"","",null,null,null,null,null,null,null,null,null,null,null,null,null,null,null,null,null,null,null,null,null,null,null,0,0,0,0,0,0,0,0,0,0,0,0,0,0,0,0,0,0,0,0,0,0,0,0,0,0,0,0,0,0,0,0,0,0,0,"","","","","","","","","0",0,"三雲",235085,0,0,"00"]
[null,null,null,null,null,null,null,null,null,null,null,null,null,null,null,86,null,null,null,null,null,null,null,null,null,null,null,null,"00","",{"$f":"IF(AD89=\"\",\"\",VLOOKUP(AD89,所属コード!$A$2:$E$189,2,FALSE))","v":""},{"$f":"IF(AD89=\"\",\"\",VLOOKUP(AD89,所属コード!$A$2:$G$189,7,FALSE))","v":""},null,null,null,null,null,null,null,"","",null,null,null,null,null,null,null,null,null,null,null,null,null,null,null,null,null,null,null,null,null,null,null,0,0,0,0,0,0,0,0,0,0,0,0,0,0,0,0,0,0,0,0,0,0,0,0,0,0,0,0,0,0,0,0,0,0,0,"","","","","","","","","0",0,"殿町",235086,0,0,"00"]
[null,null,null,null,null,null,null,null,null,null,null,null,null,null,null,87,null,null,null,null,null,null,null,null,null,null,null,null,"00","",{"$f":"IF(AD90=\"\",\"\",VLOOKUP(AD90,所属コード!$A$2:$E$189,2,FALSE))","v":""},{"$f":"IF(AD90=\"\",\"\",VLOOKUP(AD90,所属コード!$A$2:$G$189,7,FALSE))","v":""},null,null,null,null,null,null,null,"","",null,null,null,null,null,null,null,null,null,null,null,null,null,null,null,null,null,null,null,null,null,null,null,0,0,0,0,0,0,0,0,0,0,0,0,0,0,0,0,0,0,0,0,0,0,0,0,0,0,0,0,0,0,0,0,0,0,0,"","","","","","","","","0",0,"鎌田",235087,0,0,"00"]
[null,null,null,null,null,null,null,null,null,null,null,null,null,null,null,88,null,null,null,null,null,null,null,null,null,null,null,null,"00","",{"$f":"IF(AD91=\"\",\"\",VLOOKUP(AD91,所属コード!$A$2:$E$189,2,FALSE))","v":""},{"$f":"IF(AD91=\"\",\"\",VLOOKUP(AD91,所属コード!$A$2:$G$189,7,FALSE))","v":""},null,null,null,null,null,null,null,"","",null,null,null,null,null,null,null,null,null,null,null,null,null,null,null,null,null,null,null,null,null,null,null,0,0,0,0,0,0,0,0,0,0,0,0,0,0,0,0,0,0,0,0,0,0,0,0,0,0,0,0,0,0,0,0,0,0,0,"","","","","","","","","0",0,"久保",235088,0,0,"00"]
[null,null,null,null,null,null,null,null,null,null,null,null,null,null,null,89,null,null,null,null,null,null,null,null,null,null,null,null,"00","",{"$f":"IF(AD92=\"\",\"\",VLOOKUP(AD92,所属コード!$A$2:$E$189,2,FALSE))","v":""},{"$f":"IF(AD92=\"\",\"\",VLOOKUP(AD92,所属コード!$A$2:$G$189,7,FALSE))","v":""},null,null,null,null,null,null,null,"","",null,null,null,null,null,null,null,null,null,null,null,null,null,null,null,null,null,null,null,null,null,null,null,0,0,0,0,0,0,0,0,0,0,0,0,0,0,0,0,0,0,0,0,0,0,0,0,0,0,0,0,0,0,0,0,0,0,0,"","","","","","","","","0",0,"松阪東部",235089,0,0,"00"]
[null,null,null,null,null,null,null,null,null,null,null,null,null,null,null,90,null,null,null,null,null,null,null,null,null,null,null,null,"00","",{"$f":"IF(AD93=\"\",\"\",VLOOKUP(AD93,所属コード!$A$2:$E$189,2,FALSE))","v":""},{"$f":"IF(AD93=\"\",\"\",VLOOKUP(AD93,所属コード!$A$2:$G$189,7,FALSE))","v":""},null,null,null,null,null,null,null,"","",null,null,null,null,null,null,null,null,null,null,null,null,null,null,null,null,null,null,null,null,null,null,null,0,0,0,0,0,0,0,0,0,0,0,0,0,0,0,0,0,0,0,0,0,0,0,0,0,0,0,0,0,0,0,0,0,0,0,"","","","","","","","","0",0,"松阪中部",235090,0,0,"00"]
[null,null,null,null,null,null,null,null,null,null,null,null,null,null,null,91,null,null,null,null,null,null,null,null,null,null,null,null,"00","",{"$f":"IF(AD94=\"\",\"\",VLOOKUP(AD94,所属コード!$A$2:$E$189,2,FALSE))","v":""},{"$f":"IF(AD94=\"\",\"\",VLOOKUP(AD94,所属コード!$A$2:$G$189,7,FALSE))","v":""},null,null,null,null,null,null,null,"","",null,null,null,null,null,null,null,null,null,null,null,null,null,null,null,null,null,null,null,null,null,null,null,0,0,0,0,0,0,0,0,0,0,0,0,0,0,0,0,0,0,0,0,0,0,0,0,0,0,0,0,0,0,0,0,0,0,0,"","","","","","","","","0",0,"大江",235091,0,0,"00"]
[null,null,null,null,null,null,null,null,null,null,null,null,null,null,null,92,null,null,null,null,null,null,null,null,null,null,null,null,"00","",{"$f":"IF(AD95=\"\",\"\",VLOOKUP(AD95,所属コード!$A$2:$E$189,2,FALSE))","v":""},{"$f":"IF(AD95=\"\",\"\",VLOOKUP(AD95,所属コード!$A$2:$G$189,7,FALSE))","v":""},null,null,null,null,null,null,null,"","",null,null,null,null,null,null,null,null,null,null,null,null,null,null,null,null,null,null,null,null,null,null,null,0,0,0,0,0,0,0,0,0,0,0,0,0,0,0,0,0,0,0,0,0,0,0,0,0,0,0,0,0,0,0,0,0,0,0,"","","","","","","","","0",0,"西",235092,0,0,"00"]
[null,null,null,null,null,null,null,null,null,null,null,null,null,null,null,93,null,null,null,null,null,null,null,null,null,null,null,null,"00","",{"$f":"IF(AD96=\"\",\"\",VLOOKUP(AD96,所属コード!$A$2:$E$189,2,FALSE))","v":""},{"$f":"IF(AD96=\"\",\"\",VLOOKUP(AD96,所属コード!$A$2:$G$189,7,FALSE))","v":""},null,null,null,null,null,null,null,"","",null,null,null,null,null,null,null,null,null,null,null,null,null,null,null,null,null,null,null,null,null,null,null,0,0,0,0,0,0,0,0,0,0,0,0,0,0,0,0,0,0,0,0,0,0,0,0,0,0,0,0,0,0,0,0,0,0,0,"","","","","","","","","0",0,"三重",235093,0,0,"00"]
[null,null,null,null,null,null,null,null,null,null,null,null,null,null,null,94,null,null,null,null,null,null,null,null,null,null,null,null,"00","",{"$f":"IF(AD97=\"\",\"\",VLOOKUP(AD97,所属コード!$A$2:$E$189,2,FALSE))","v":""},{"$f":"IF(AD97=\"\",\"\",VLOOKUP(AD97,所属コード!$A$2:$G$189,7,FALSE))","v":""},null,null,null,null,null,null,null,"","",null,null,null,null,null,null,null,null,null,null,null,null,null,null,null,null,null,null,null,null,null,null,null,0,0,0,0,0,0,0,0,0,0,0,0,0,0,0,0,0,0,0,0,0,0,0,0,0,0,0,0,0,0,0,0,0,0,0,"","","","","","","","","0",0,"飯南",235094,0,0,"00"]
[null,null,null,null,null,null,null,null,null,null,null,null,null,null,null,95,null,null,null,null,null,null,null,null,null,null,null,null,"00","",{"$f":"IF(AD98=\"\",\"\",VLOOKUP(AD98,所属コード!$A$2:$E$189,2,FALSE))","v":""},{"$f":"IF(AD98=\"\",\"\",VLOOKUP(AD98,所属コード!$A$2:$G$189,7,FALSE))","v":""},null,null,null,null,null,null,null,"","",null,null,null,null,null,null,null,null,null,null,null,null,null,null,null,null,null,null,null,null,null,null,null,0,0,0,0,0,0,0,0,0,0,0,0,0,0,0,0,0,0,0,0,0,0,0,0,0,0,0,0,0,0,0,0,0,0,0,"","","","","","","","","0",0,"飯高西",235095,0,0,"00"]
[null,null,null,null,null,null,null,null,null,null,null,null,null,null,null,96,null,null,null,null,null,null,null,null,null,null,null,null,"00","",{"$f":"IF(AD99=\"\",\"\",VLOOKUP(AD99,所属コード!$A$2:$E$189,2,FALSE))","v":""},{"$f":"IF(AD99=\"\",\"\",VLOOKUP(AD99,所属コード!$A$2:$G$189,7,FALSE))","v":""},null,null,null,null,null,null,null,"","",null,null,null,null,null,null,null,null,null,null,null,null,null,null,null,null,null,null,null,null,null,null,null,0,0,0,0,0,0,0,0,0,0,0,0,0,0,0,0,0,0,0,0,0,0,0,0,0,0,0,0,0,0,0,0,0,0,0,"","","","","","","","","0",0,"飯高東",235096,0,0,"00"]
[null,null,null,null,null,null,null,null,null,null,null,null,null,null,null,97,null,null,null,null,null,null,null,null,null,null,null,null,"00","",{"$f":"IF(AD100=\"\",\"\",VLOOKUP(AD100,所属コード!$A$2:$E$189,2,FALSE))","v":""},{"$f":"IF(AD100=\"\",\"\",VLOOKUP(AD100,所属コード!$A$2:$G$189,7,FALSE))","v":""},null,null,null,null,null,null,null,"","",null,null,null,null,null,null,null,null,null,null,null,null,null,null,null,null,null,null,null,null,null,null,null,0,0,0,{"$f":"BD100","v":0},0,0,0,0,0,0,0,0,0,0,0,0,0,0,0,0,0,0,0,0,0,0,0,0,0,0,0,0,0,0,0,"","","","","","","","","0",0,"多気",235097,0,0,"00"]
[null,null,null,null,null,null,null,null,null,null,null,null,null,null,null,98,null,null,null,null,null,null,null,null,null,null,null,null,"00","",{"$f":"IF(AD101=\"\",\"\",VLOOKUP(AD101,所属コード!$A$2:$E$189,2,FALSE))","v":""},{"$f":"IF(AD101=\"\",\"\",VLOOKUP(AD101,所属コード!$A$2:$G$189,7,FALSE))","v":""},null,null,null,null,null,null,null,"","",null,null,null,null,null,null,null,null,null,null,null,null,null,null,null,null,null,null,null,null,null,null,null,0,0,0,0,0,0,0,0,0,0,0,0,0,0,0,0,0,0,0,0,0,0,0,0,0,0,0,0,0,0,0,0,0,0,0,"","","","","","","","","0",0,"明和",235098,0,0,"00"]
[null,null,null,null,null,null,null,null,null,null,null,null,null,null,null,99,null,null,null,null,null,null,null,null,null,null,null,null,"00","",{"$f":"IF(AD102=\"\",\"\",VLOOKUP(AD102,所属コード!$A$2:$E$189,2,FALSE))","v":""},{"$f":"IF(AD102=\"\",\"\",VLOOKUP(AD102,所属コード!$A$2:$G$189,7,FALSE))","v":""},null,null,null,null,null,null,null,"","",null,null,null,null,null,null,null,null,null,null,null,null,null,null,null,null,null,null,null,null,null,null,null,0,0,0,0,0,0,0,0,0,0,0,0,0,0,0,0,0,0,0,0,0,0,0,0,0,0,0,0,0,0,0,0,0,0,0,"","","","","","","","","0",0,"協和",235099,0,0,"00"]
[null,null,null,null,null,null,null,null,null,null,null,null,null,null,null,100,null,null,null,null,null,null,null,null,null,null,null,null,"00","",{"$f":"IF(AD103=\"\",\"\",VLOOKUP(AD103,所属コード!$A$2:$E$189,2,FALSE))","v":""},{"$f":"IF(AD103=\"\",\"\",VLOOKUP(AD103,所属コード!$A$2:$G$189,7,FALSE))","v":""},null,null,null,null,null,null,null,"","",null,null,null,null,null,null,null,null,null,null,null,null,null,null,null,null,null,null,null,null,null,null,null,0,0,0,0,0,0,0,0,0,0,0,0,0,0,0,0,0,0,0,0,0,0,0,0,0,0,0,0,0,0,0,0,0,0,0,"","","","","","","","","0",0,"大台",235100,0,0,"00"]
[null,null,null,null,null,null,null,null,null,null,null,null,null,null,null,101,null,null,null,null,null,null,null,null,null,null,null,null,"00","",{"$f":"IF(AD104=\"\",\"\",VLOOKUP(AD104,所属コード!$A$2:$E$189,2,FALSE))","v":""},{"$f":"IF(AD104=\"\",\"\",VLOOKUP(AD104,所属コード!$A$2:$G$189,7,FALSE))","v":""},null,null,null,null,null,null,null,"","",null,null,null,null,null,null,null,null,null,null,null,null,null,null,null,null,null,null,null,null,null,null,null,0,0,0,0,0,0,0,0,0,0,0,0,0,0,0,0,0,0,0,0,0,0,0,0,0,0,0,0,0,0,0,0,0,0,0,"","","","","","","","","0",0,"勢和",235101,0,0,"00"]
[null,null,null,null,null,null,null,null,null,null,null,null,null,null,null,102,null,null,null,null,null,null,null,null,null,null,null,null,"00","",{"$f":"IF(AD105=\"\",\"\",VLOOKUP(AD105,所属コード!$A$2:$E$189,2,FALSE))","v":""},{"$f":"IF(AD105=\"\",\"\",VLOOKUP(AD105,所属コード!$A$2:$G$189,7,FALSE))","v":""},null,null,null,null,null,null,null,"","",null,null,null,null,null,null,null,null,null,null,null,null,null,null,null,null,null,null,null,null,null,null,null,0,0,0,0,0,0,0,0,0,0,0,0,0,0,0,0,0,0,0,0,0,0,0,0,0,0,0,0,0,0,0,0,0,0,0,"","","","","","","","","0",0,"多気宮川",235102,0,0,"00"]
[null,null,null,null,null,null,null,null,null,null,null,null,null,null,null,103,null,null,null,null,null,null,null,null,null,null,null,null,"00","",{"$f":"IF(AD106=\"\",\"\",VLOOKUP(AD106,所属コード!$A$2:$E$189,2,FALSE))","v":""},{"$f":"IF(AD106=\"\",\"\",VLOOKUP(AD106,所属コード!$A$2:$G$189,7,FALSE))","v":""},null,null,null,null,null,null,null,"","",null,null,null,null,null,null,null,null,null,null,null,null,null,null,null,null,null,null,null,null,null,null,null,0,0,0,0,0,0,0,0,0,0,0,0,0,0,0,0,0,0,0,0,0,0,0,0,0,0,0,0,0,0,0,0,0,0,0,"","","","","","","","","0",0,"倉田山",235103,0,0,"00"]
[null,null,null,null,null,null,null,null,null,null,null,null,null,null,null,104,null,null,null,null,null,null,null,null,null,null,null,null,"00","",{"$f":"IF(AD107=\"\",\"\",VLOOKUP(AD107,所属コード!$A$2:$E$189,2,FALSE))","v":""},{"$f":"IF(AD107=\"\",\"\",VLOOKUP(AD107,所属コード!$A$2:$G$189,7,FALSE))","v":""},null,null,null,null,null,null,null,"","",null,null,null,null,null,null,null,null,null,null,null,null,null,null,null,null,null,null,null,null,null,null,null,0,0,0,0,0,0,0,0,0,0,0,0,0,0,0,0,0,0,0,0,0,0,0,0,0,0,0,0,0,0,0,0,0,0,0,"","","","","","","","","0",0,"厚生",235104,0,0,"00"]
[null,null,null,null,null,null,null,null,null,null,null,null,null,null,null,105,null,null,null,null,null,null,null,null,null,null,null,null,"00","",{"$f":"IF(AD108=\"\",\"\",VLOOKUP(AD108,所属コード!$A$2:$E$189,2,FALSE))","v":""},{"$f":"IF(AD108=\"\",\"\",VLOOKUP(AD108,所属コード!$A$2:$G$189,7,FALSE))","v":""},null,null,null,null,null,null,null,"","",null,null,null,null,null,null,null,null,null,null,null,null,null,null,null,null,null,null,null,null,null,null,null,0,0,0,0,0,0,0,0,0,0,0,0,0,0,0,0,0,0,0,0,0,0,0,0,0,0,0,0,0,0,0,0,0,0,0,"","","","","","","","","0",0,"伊勢宮川",235105,0,0,"00"]
[null,null,null,null,null,null,null,null,null,null,null,null,null,null,null,106,null,null,null,null,null,null,null,null,null,null,null,null,"00","",{"$f":"IF(AD109=\"\",\"\",VLOOKUP(AD109,所属コード!$A$2:$E$189,2,FALSE))","v":""},{"$f":"IF(AD109=\"\",\"\",VLOOKUP(AD109,所属コード!$A$2:$G$189,7,FALSE))","v":""},null,null,null,null,null,null,null,"","",null,null,null,null,null,null,null,null,null,null,null,null,null,null,null,null,null,null,null,null,null,null,null,0,0,0,0,0,0,0,0,0,0,0,0,0,0,0,0,0,0,0,0,0,0,0,0,0,0,0,0,0,0,0,0,0,0,0,"","","","","","","","","0",0,"伊勢港",235106,0,0,"00"]
[null,null,null,null,null,null,null,null,null,null,null,null,null,null,null,107,null,null,null,null,null,null,null,null,null,null,null,null,"00","",{"$f":"IF(AD110=\"\",\"\",VLOOKUP(AD110,所属コード!$A$2:$E$189,2,FALSE))","v":""},{"$f":"IF(AD110=\"\",\"\",VLOOKUP(AD110,所属コード!$A$2:$G$189,7,FALSE))","v":""},null,null,null,null,null,null,null,"","",null,null,null,null,null,null,null,null,null,null,null,null,null,null,null,null,null,null,null,null,null,null,null,0,0,0,0,0,0,0,0,0,0,0,0,0,0,0,0,0,0,0,0,0,0,0,0,0,0,0,0,0,0,0,0,0,0,0,"","","","","","","","","0",0,"豊浜",235107,0,0,"00"]
[null,null,null,null,null,null,null,null,null,null,null,null,null,null,null,108,null,null,null,null,null,null,null,null,null,null,null,null,"00","",{"$f":"IF(AD111=\"\",\"\",VLOOKUP(AD111,所属コード!$A$2:$E$189,2,FALSE))","v":""},{"$f":"IF(AD111=\"\",\"\",VLOOKUP(AD111,所属コード!$A$2:$G$189,7,FALSE))","v":""},null,null,null,null,null,null,null,"","",null,null,null,null,null,null,null,null,null,null,null,null,null,null,null,null,null,null,null,null,null,null,null,0,0,0,0,0,0,0,0,0,0,0,0,0,0,0,0,0,0,0,0,0,0,0,0,0,0,0,0,0,0,0,0,0,0,0,"","","","","","","","","0",0,"北浜",235108,0,0,"00"]
[null,null,null,null,null,null,null,null,null,null,null,null,null,null,null,109,null,null,null,null,null,null,null,null,null,null,null,null,"00","",{"$f":"IF(AD112=\"\",\"\",VLOOKUP(AD112,所属コード!$A$2:$E$189,2,FALSE))","v":""},{"$f":"IF(AD112=\"\",\"\",VLOOKUP(AD112,所属コード!$A$2:$G$189,7,FALSE))","v":""},null,null,null,null,null,null,null,"","",null,null,null,null,null,null,null,null,null,null,null,null,null,null,null,null,null,null,null,null,null,null,null,0,0,0,0,0,0,0,0,0,0,0,0,0,0,0,0,0,0,0,0,0,0,0,0,0,0,0,0,0,0,0,0,0,0,0,"","","","","","","","","0",0,"沼木",235109,0,0,"00"]
[null,null,null,null,null,null,null,null,null,null,null,null,null,null,null,110,null,null,null,null,null,null,null,null,null,null,null,null,"00","",{"$f":"IF(AD113=\"\",\"\",VLOOKUP(AD113,所属コード!$A$2:$E$189,2,FALSE))","v":""},{"$f":"IF(AD113=\"\",\"\",VLOOKUP(AD113,所属コード!$A$2:$G$189,7,FALSE))","v":""},null,null,null,null,null,null,null,"","",null,null,null,null,null,null,null,null,null,null,null,null,null,null,null,null,null,null,null,null,null,null,null,0,0,0,0,0,0,0,0,0,0,0,0,0,0,0,0,0,0,0,0,0,0,0,0,0,0,0,0,0,0,0,0,0,0,0,"","","","","","","","","0",0,"城田",235110,0,0,"00"]
[null,null,null,null,null,null,null,null,null,null,null,null,null,null,null,null,null,null,null,null,null,null,null,null,null,null,null,null,null,null,null,null,null,null,null,null,null,null,null,null,null,null,null,null,null,null,null,null,null,null,null,null,null,null,null,null,null,null,null,null,null,null,null,null,null,null,null,null,null,null,null,null,null,null,null,null,null,null,null,null,null,null,null,null,null,null,null,null,null,null,null,null,null,null,null,null,null,null,null,null,{"$f":"IF(AY114=\"\",\"\",LEN(AY114))","v":""},{"$f":"IF(AY114=\"\",\"\",FIND(\"　\",AY114,1))","v":""},{"$f":"IF(AY114=\"\",\"\",CW114-CX114)","v":""},{"$f":"IF(AY114=\"\",\"\",LEFT(AY114,CX114-1))","v":""},{"$f":"IF(AY114=\"\",\"\",RIGHT(AY114,CY114))","v":""},{"$f":"IF(AY114=\"\",\"\",IF(CW114=4,CONCATENATE(CZ114,\"　\",\"　\",DA114),IF(CW114=6,CONCATENATE(CZ114,DA114),AY114)))","v":""},null,null,null,"五十鈴",235111]
[null,null,null,null,null,null,null,null,null,null,null,null,null,null,null,null,null,null,null,null,null,null,null,null,null,null,null,null,null,null,null,null,null,null,null,null,null,null,null,null,null,null,null,null,null,null,null,null,null,null,null,null,null,null,null,null,null,null,null,null,null,null,null,null,null,null,null,null,null,null,null,null,null,null,null,null,null,null,null,null,null,null,null,null,null,null,null,null,null,null,null,null,null,null,null,null,null,null,null,null,{"$f":"IF(AY115=\"\",\"\",LEN(AY115))","v":""},{"$f":"IF(AY115=\"\",\"\",FIND(\"　\",AY115,1))","v":""},{"$f":"IF(AY115=\"\",\"\",CW115-CX115)","v":""},{"$f":"IF(AY115=\"\",\"\",LEFT(AY115,CX115-1))","v":""},{"$f":"IF(AY115=\"\",\"\",RIGHT(AY115,CY115))","v":""},{"$f":"IF(AY115=\"\",\"\",IF(CW115=4,CONCATENATE(CZ115,\"　\",\"　\",DA115),IF(CW115=6,CONCATENATE(CZ115,DA115),AY115)))","v":""},null,null,null,"皇學館",235112]
[null,null,null,null,null,null,null,null,null,null,null,null,null,null,null,null,null,null,null,null,null,null,null,null,null,null,null,null,null,null,null,null,null,null,null,null,null,null,null,null,null,null,null,null,null,null,null,null,null,null,null,null,null,null,null,null,null,null,null,null,null,null,null,null,null,null,null,null,null,null,null,null,null,null,null,null,null,null,null,null,null,null,null,null,null,null,null,null,null,null,null,null,null,null,null,null,null,null,null,null,{"$f":"IF(AY116=\"\",\"\",LEN(AY116))","v":""},{"$f":"IF(AY116=\"\",\"\",FIND(\"　\",AY116,1))","v":""},{"$f":"IF(AY116=\"\",\"\",CW116-CX116)","v":""},{"$f":"IF(AY116=\"\",\"\",LEFT(AY116,CX116-1))","v":""},{"$f":"IF(AY116=\"\",\"\",RIGHT(AY116,CY116))","v":""},{"$f":"IF(AY116=\"\",\"\",IF(CW116=4,CONCATENATE(CZ116,\"　\",\"　\",DA116),IF(CW116=6,CONCATENATE(CZ116,DA116),AY116)))","v":""},null,null,null,"二見",235113]
[null,null,null,null,null,null,null,null,null,null,null,null,null,null,null,null,null,null,null,null,null,null,null,null,null,null,null,null,null,null,null,null,null,null,null,null,null,null,null,null,null,null,null,null,null,null,null,null,null,null,null,null,null,null,null,null,null,null,null,null,null,null,null,null,null,null,null,null,null,null,null,null,null,null,null,null,null,null,null,null,null,null,null,null,null,null,null,null,null,null,null,null,null,null,null,null,null,null,null,null,{"$f":"IF(AY117=\"\",\"\",LEN(AY117))","v":""},{"$f":"IF(AY117=\"\",\"\",FIND(\"　\",AY117,1))","v":""},{"$f":"IF(AY117=\"\",\"\",CW117-CX117)","v":""},{"$f":"IF(AY117=\"\",\"\",LEFT(AY117,CX117-1))","v":""},{"$f":"IF(AY117=\"\",\"\",RIGHT(AY117,CY117))","v":""},{"$f":"IF(AY117=\"\",\"\",IF(CW117=4,CONCATENATE(CZ117,\"　\",\"　\",DA117),IF(CW117=6,CONCATENATE(CZ117,DA117),AY117)))","v":""},null,null,null,"御薗",235114]
[null,null,null,null,null,null,null,null,null,null,null,null,null,null,null,null,null,null,null,null,null,null,null,null,null,null,null,null,null,null,null,null,null,null,null,null,null,null,null,null,null,null,null,null,null,null,null,null,null,null,null,null,null,null,null,null,null,null,null,null,null,null,null,null,null,null,null,null,null,null,null,null,null,null,null,null,null,null,null,null,null,null,null,null,null,null,null,null,null,null,null,null,null,null,null,null,null,null,null,null,{"$f":"IF(AY118=\"\",\"\",LEN(AY118))","v":""},{"$f":"IF(AY118=\"\",\"\",FIND(\"　\",AY118,1))","v":""},{"$f":"IF(AY118=\"\",\"\",CW118-CX118)","v":""},{"$f":"IF(AY118=\"\",\"\",LEFT(AY118,CX118-1))","v":""},{"$f":"IF(AY118=\"\",\"\",RIGHT(AY118,CY118))","v":""},{"$f":"IF(AY118=\"\",\"\",IF(CW118=4,CONCATENATE(CZ118,\"　\",\"　\",DA118),IF(CW118=6,CONCATENATE(CZ118,DA118),AY118)))","v":""},null,null,null,"小俣",235115]
[null,null,null,null,null,null,null,null,null,null,null,null,null,null,null,null,null,null,null,null,null,null,null,null,null,null,null,null,null,null,null,null,null,null,null,null,null,null,null,null,null,null,null,null,null,null,null,null,null,null,null,null,null,null,null,null,null,null,null,null,null,null,null,null,null,null,null,null,null,null,null,null,null,null,null,null,null,null,null,null,null,null,null,null,null,null,null,null,null,null,null,null,null,null,null,null,null,null,null,null,null,null,null,null,null,null,null,null,null,"玉城",235116]
[null,null,null,null,null,null,null,null,null,null,null,null,null,null,null,null,null,null,null,null,null,null,null,null,null,null,null,null,null,null,null,null,null,null,null,null,null,null,null,null,null,null,null,null,null,null,null,null,null,null,null,null,null,null,null,null,null,null,null,null,null,null,null,null,null,null,null,null,null,null,null,null,null,null,null,null,null,null,null,null,null,null,null,null,null,null,null,null,null,null,null,null,null,null,null,null,null,null,null,null,null,null,null,null,null,null,null,null,null,"大宮",235117]
[null,null,null,null,null,null,null,null,null,null,null,null,null,null,null,null,null,null,null,null,null,null,null,null,null,null,null,null,null,null,null,null,null,null,null,null,null,null,null,null,null,null,null,null,null,null,null,null,null,null,null,null,null,null,null,null,null,null,null,null,null,null,null,null,null,null,null,null,null,null,null,null,null,null,null,null,null,null,null,null,null,null,null,null,null,null,null,null,null,null,null,null,null,null,null,null,null,null,null,null,null,null,null,null,null,null,null,null,null,"大紀",235119]
[null,null,null,null,null,null,null,null,null,null,null,null,null,null,null,null,null,null,null,null,null,null,null,null,null,null,null,null,null,null,null,null,null,null,null,null,null,null,null,null,null,null,null,null,null,null,null,null,null,null,null,null,null,null,null,null,null,null,null,null,null,null,null,null,null,null,null,null,null,null,null,null,null,null,null,null,null,null,null,null,null,null,null,null,null,null,null,null,null,null,null,null,null,null,null,null,null,null,null,null,null,null,null,null,null,null,null,null,null,"南島",235121]
[null,null,null,null,null,null,null,null,null,null,null,null,null,null,null,null,null,null,null,null,null,null,null,null,null,null,null,null,null,null,null,null,null,null,null,null,null,null,null,null,null,null,null,null,null,null,null,null,null,null,null,null,null,null,null,null,null,null,null,null,null,null,null,null,null,null,null,null,null,null,null,null,null,null,null,null,null,null,null,null,null,null,null,null,null,null,null,null,null,null,null,null,null,null,null,null,null,null,null,null,null,null,null,null,null,null,null,null,null,"南島西",235122]
[null,null,null,null,null,null,null,null,null,null,null,null,null,null,null,null,null,null,null,null,null,null,null,null,null,null,null,null,null,null,null,null,null,null,null,null,null,null,null,null,null,null,null,null,null,null,null,null,null,null,null,null,null,null,null,null,null,null,null,null,null,null,null,null,null,null,null,null,null,null,null,null,null,null,null,null,null,null,null,null,null,null,null,null,null,null,null,null,null,null,null,null,null,null,null,null,null,null,null,null,null,null,null,null,null,null,null,null,null,"南勢",235123]
[null,null,null,null,null,null,null,null,null,null,null,null,null,null,null,null,null,null,null,null,null,null,null,null,null,null,null,null,null,null,null,null,null,null,null,null,null,null,null,null,null,null,null,null,null,null,null,null,null,null,null,null,null,null,null,null,null,null,null,null,null,null,null,null,null,null,null,null,null,null,null,null,null,null,null,null,null,null,null,null,null,null,null,null,null,null,null,null,null,null,null,null,null,null,null,null,null,null,null,null,null,null,null,null,null,null,null,null,null,"度会",235124]
[null,null,null,null,null,null,null,null,null,null,null,null,null,null,null,null,null,null,null,null,null,null,null,null,null,null,null,null,null,null,null,null,null,null,null,null,null,null,null,null,null,null,null,null,null,null,null,null,null,null,null,null,null,null,null,null,null,null,null,null,null,null,null,null,null,null,null,null,null,null,null,null,null,null,null,null,null,null,null,null,null,null,null,null,null,null,null,null,null,null,null,null,null,null,null,null,null,null,null,null,null,null,null,null,null,null,null,null,null,"鳥羽東",235125]
[null,null,null,null,null,null,null,null,null,null,null,null,null,null,null,null,null,null,null,null,null,null,null,null,null,null,null,null,null,null,null,null,null,null,null,null,null,null,null,null,null,null,null,null,null,null,null,null,null,null,null,null,null,null,null,null,null,null,null,null,null,null,null,null,null,null,null,null,null,null,null,null,null,null,null,null,null,null,null,null,null,null,null,null,null,null,null,null,null,null,null,null,null,null,null,null,null,null,null,null,null,null,null,null,null,null,null,null,null,"答志",235126]
[null,null,null,null,null,null,null,null,null,null,null,null,null,null,null,null,null,null,null,null,null,null,null,null,null,null,null,null,null,null,null,null,null,null,null,null,null,null,null,null,null,null,null,null,null,null,null,null,null,null,null,null,null,null,null,null,null,null,null,null,null,null,null,null,null,null,null,null,null,null,null,null,null,null,null,null,null,null,null,null,null,null,null,null,null,null,null,null,null,null,null,null,null,null,null,null,null,null,null,null,null,null,null,null,null,null,null,null,null,"神島",235127]
[null,null,null,null,null,null,null,null,null,null,null,null,null,null,null,null,null,null,null,null,null,null,null,null,null,null,null,null,null,null,null,null,null,null,null,null,null,null,null,null,null,null,null,null,null,null,null,null,null,null,null,null,null,null,null,null,null,null,null,null,null,null,null,null,null,null,null,null,null,null,null,null,null,null,null,null,null,null,null,null,null,null,null,null,null,null,null,null,null,null,null,null,null,null,null,null,null,null,null,null,null,null,null,null,null,null,null,null,null,"加茂",235128]
[null,null,null,null,null,null,null,null,null,null,null,null,null,null,null,null,null,null,null,null,null,null,null,null,null,null,null,null,null,null,null,null,null,null,null,null,null,null,null,null,null,null,null,null,null,null,null,null,null,null,null,null,null,null,null,null,null,null,null,null,null,null,null,null,null,null,null,null,null,null,null,null,null,null,null,null,null,null,null,null,null,null,null,null,null,null,null,null,null,null,null,null,null,null,null,null,null,null,null,null,null,null,null,null,null,null,null,null,null,"鏡浦",235129]
[null,null,null,null,null,null,null,null,null,null,null,null,null,null,null,null,null,null,null,null,null,null,null,null,null,null,null,null,null,null,null,null,null,null,null,null,null,null,null,null,null,null,null,null,null,null,null,null,null,null,null,null,null,null,null,null,null,null,null,null,null,null,null,null,null,null,null,null,null,null,null,null,null,null,null,null,null,null,null,null,null,null,null,null,null,null,null,null,null,null,null,null,null,null,null,null,null,null,null,null,null,null,null,null,null,null,null,null,null,"長岡",235130]
[null,null,null,null,null,null,null,null,null,null,null,null,null,null,null,null,null,null,null,null,null,null,null,null,null,null,null,null,null,null,null,null,null,null,null,null,null,null,null,null,null,null,null,null,null,null,null,null,null,null,null,null,null,null,null,null,null,null,null,null,null,null,null,null,null,null,null,null,null,null,null,null,null,null,null,null,null,null,null,null,null,null,null,null,null,null,null,null,null,null,null,null,null,null,null,null,null,null,null,null,null,null,null,null,null,null,null,null,null,"浜島",235131]
[null,null,null,null,null,null,null,null,null,null,null,null,null,null,null,null,null,null,null,null,null,null,null,null,null,null,null,null,null,null,null,null,null,null,null,null,null,null,null,null,null,null,null,null,null,null,null,null,null,null,null,null,null,null,null,null,null,null,null,null,null,null,null,null,null,null,null,null,null,null,null,null,null,null,null,null,null,null,null,null,null,null,null,null,null,null,null,null,null,null,null,null,null,null,null,null,null,null,null,null,null,null,null,null,null,null,null,null,null,"大王",235132]
[null,null,null,null,null,null,null,null,null,null,null,null,null,null,null,null,null,null,null,null,null,null,null,null,null,null,null,null,null,null,null,null,null,null,null,null,null,null,null,null,null,null,null,null,null,null,null,null,null,null,null,null,null,null,null,null,null,null,null,null,null,null,null,null,null,null,null,null,null,null,null,null,null,null,null,null,null,null,null,null,null,null,null,null,null,null,null,null,null,null,null,null,null,null,null,null,null,null,null,null,null,null,null,null,null,null,null,null,null,"*",235133]
[null,null,null,null,null,null,null,null,null,null,null,null,null,null,null,null,null,null,null,null,null,null,null,null,null,null,null,null,null,null,null,null,null,null,null,null,null,null,null,null,null,null,null,null,null,null,null,null,null,null,null,null,null,null,null,null,null,null,null,null,null,null,null,null,null,null,null,null,null,null,null,null,null,null,null,null,null,null,null,null,null,null,null,null,null,null,null,null,null,null,null,null,null,null,null,null,null,null,null,null,null,null,null,null,null,null,null,null,null,"*",235134]
[null,null,null,null,null,null,null,null,null,null,null,null,null,null,null,null,null,null,null,null,null,null,null,null,null,null,null,null,null,null,null,null,null,null,null,null,null,null,null,null,null,null,null,null,null,null,null,null,null,null,null,null,null,null,null,null,null,null,null,null,null,null,null,null,null,null,null,null,null,null,null,null,null,null,null,null,null,null,null,null,null,null,null,null,null,null,null,null,null,null,null,null,null,null,null,null,null,null,null,null,null,null,null,null,null,null,null,null,null,"志摩",235135]
[null,null,null,null,null,null,null,null,null,null,null,null,null,null,null,null,null,null,null,null,null,null,null,null,null,null,null,null,null,null,null,null,null,null,null,null,null,null,null,null,null,null,null,null,null,null,null,null,null,null,null,null,null,null,null,null,null,null,null,null,null,null,null,null,null,null,null,null,null,null,null,null,null,null,null,null,null,null,null,null,null,null,null,null,null,null,null,null,null,null,null,null,null,null,null,null,null,null,null,null,null,null,null,null,null,null,null,null,null,"*",235136]
[null,null,null,null,null,null,null,null,null,null,null,null,null,null,null,null,null,null,null,null,null,null,null,null,null,null,null,null,null,null,null,null,null,null,null,null,null,null,null,null,null,null,null,null,null,null,null,null,null,null,null,null,null,null,null,null,null,null,null,null,null,null,null,null,null,null,null,null,null,null,null,null,null,null,null,null,null,null,null,null,null,null,null,null,null,null,null,null,null,null,null,null,null,null,null,null,null,null,null,null,null,null,null,null,null,null,null,null,null,"文岡",235137]
[null,null,null,null,null,null,null,null,null,null,null,null,null,null,null,null,null,null,null,null,null,null,null,null,null,null,null,null,null,null,null,null,null,null,null,null,null,null,null,null,null,null,null,null,null,null,null,null,null,null,null,null,null,null,null,null,null,null,null,null,null,null,null,null,null,null,null,null,null,null,null,null,null,null,null,null,null,null,null,null,null,null,null,null,null,null,null,null,null,null,null,null,null,null,null,null,null,null,null,null,null,null,null,null,null,null,null,null,null,"東海",235138]
[null,null,null,null,null,null,null,null,null,null,null,null,null,null,null,null,null,null,null,null,null,null,null,null,null,null,null,null,null,null,null,null,null,null,null,null,null,null,null,null,null,null,null,null,null,null,null,null,null,null,null,null,null,null,null,null,null,null,null,null,null,null,null,null,null,null,null,null,null,null,null,null,null,null,null,null,null,null,null,null,null,null,null,null,null,null,null,null,null,null,null,null,null,null,null,null,null,null,null,null,null,null,null,null,null,null,null,null,null,"安乗",235139]
[null,null,null,null,null,null,null,null,null,null,null,null,null,null,null,null,null,null,null,null,null,null,null,null,null,null,null,null,null,null,null,null,null,null,null,null,null,null,null,null,null,null,null,null,null,null,null,null,null,null,null,null,null,null,null,null,null,null,null,null,null,null,null,null,null,null,null,null,null,null,null,null,null,null,null,null,null,null,null,null,null,null,null,null,null,null,null,null,null,null,null,null,null,null,null,null,null,null,null,null,null,null,null,null,null,null,null,null,null,"磯部",235140]
[null,null,null,null,null,null,null,null,null,null,null,null,null,null,null,null,null,null,null,null,null,null,null,null,null,null,null,null,null,null,null,null,null,null,null,null,null,null,null,null,null,null,null,null,null,null,null,null,null,null,null,null,null,null,null,null,null,null,null,null,null,null,null,null,null,null,null,null,null,null,null,null,null,null,null,null,null,null,null,null,null,null,null,null,null,null,null,null,null,null,null,null,null,null,null,null,null,null,null,null,null,null,null,null,null,null,null,null,null,"的矢",235141]
[null,null,null,null,null,null,null,null,null,null,null,null,null,null,null,null,null,null,null,null,null,null,null,null,null,null,null,null,null,null,null,null,null,null,null,null,null,null,null,null,null,null,null,null,null,null,null,null,null,null,null,null,null,null,null,null,null,null,null,null,null,null,null,null,null,null,null,null,null,null,null,null,null,null,null,null,null,null,null,null,null,null,null,null,null,null,null,null,null,null,null,null,null,null,null,null,null,null,null,null,null,null,null,null,null,null,null,null,null,"崇広",235142]
[null,null,null,null,null,null,null,null,null,null,null,null,null,null,null,null,null,null,null,null,null,null,null,null,null,null,null,null,null,null,null,null,null,null,null,null,null,null,null,null,null,null,null,null,null,null,null,null,null,null,null,null,null,null,null,null,null,null,null,null,null,null,null,null,null,null,null,null,null,null,null,null,null,null,null,null,null,null,null,null,null,null,null,null,null,null,null,null,null,null,null,null,null,null,null,null,null,null,null,null,null,null,null,null,null,null,null,null,null,"城東",235143]
[null,null,null,null,null,null,null,null,null,null,null,null,null,null,null,null,null,null,null,null,null,null,null,null,null,null,null,null,null,null,null,null,null,null,null,null,null,null,null,null,null,null,null,null,null,null,null,null,null,null,null,null,null,null,null,null,null,null,null,null,null,null,null,null,null,null,null,null,null,null,null,null,null,null,null,null,null,null,null,null,null,null,null,null,null,null,null,null,null,null,null,null,null,null,null,null,null,null,null,null,null,null,null,null,null,null,null,null,null,"緑ヶ丘",235144]
[null,null,null,null,null,null,null,null,null,null,null,null,null,null,null,null,null,null,null,null,null,null,null,null,null,null,null,null,null,null,null,null,null,null,null,null,null,null,null,null,null,null,null,null,null,null,null,null,null,null,null,null,null,null,null,null,null,null,null,null,null,null,null,null,null,null,null,null,null,null,null,null,null,null,null,null,null,null,null,null,null,null,null,null,null,null,null,null,null,null,null,null,null,null,null,null,null,null,null,null,null,null,null,null,null,null,null,null,null,"成和",235146]
[null,null,null,null,null,null,null,null,null,null,null,null,null,null,null,null,null,null,null,null,null,null,null,null,null,null,null,null,null,null,null,null,null,null,null,null,null,null,null,null,null,null,null,null,null,null,null,null,null,null,null,null,null,null,null,null,null,null,null,null,null,null,null,null,null,null,null,null,null,null,null,null,null,null,null,null,null,null,null,null,null,null,null,null,null,null,null,null,null,null,null,null,null,null,null,null,null,null,null,null,null,null,null,null,null,null,null,null,null,"丸山",235147]
[null,null,null,null,null,null,null,null,null,null,null,null,null,null,null,null,null,null,null,null,null,null,null,null,null,null,null,null,null,null,null,null,null,null,null,null,null,null,null,null,null,null,null,null,null,null,null,null,null,null,null,null,null,null,null,null,null,null,null,null,null,null,null,null,null,null,null,null,null,null,null,null,null,null,null,null,null,null,null,null,null,null,null,null,null,null,null,null,null,null,null,null,null,null,null,null,null,null,null,null,null,null,null,null,null,null,null,null,null,"桜丘",235148]
[null,null,null,null,null,null,null,null,null,null,null,null,null,null,null,null,null,null,null,null,null,null,null,null,null,null,null,null,null,null,null,null,null,null,null,null,null,null,null,null,null,null,null,null,null,null,null,null,null,null,null,null,null,null,null,null,null,null,null,null,null,null,null,null,null,null,null,null,null,null,null,null,null,null,null,null,null,null,null,null,null,null,null,null,null,null,null,null,null,null,null,null,null,null,null,null,null,null,null,null,null,null,null,null,null,null,null,null,null,"名張",235149]
[null,null,null,null,null,null,null,null,null,null,null,null,null,null,null,null,null,null,null,null,null,null,null,null,null,null,null,null,null,null,null,null,null,null,null,null,null,null,null,null,null,null,null,null,null,null,null,null,null,null,null,null,null,null,null,null,null,null,null,null,null,null,null,null,null,null,null,null,null,null,null,null,null,null,null,null,null,null,null,null,null,null,null,null,null,null,null,null,null,null,null,null,null,null,null,null,null,null,null,null,null,null,null,null,null,null,null,null,null,"赤目",235150]
[null,null,null,null,null,null,null,null,null,null,null,null,null,null,null,null,null,null,null,null,null,null,null,null,null,null,null,null,null,null,null,null,null,null,null,null,null,null,null,null,null,null,null,null,null,null,null,null,null,null,null,null,null,null,null,null,null,null,null,null,null,null,null,null,null,null,null,null,null,null,null,null,null,null,null,null,null,null,null,null,null,null,null,null,null,null,null,null,null,null,null,null,null,null,null,null,null,null,null,null,null,null,null,null,null,null,null,null,null,"桔梗が丘",235151]
[null,null,null,null,null,null,null,null,null,null,null,null,null,null,null,null,null,null,null,null,null,null,null,null,null,null,null,null,null,null,null,null,null,null,null,null,null,null,null,null,null,null,null,null,null,null,null,null,null,null,null,null,null,null,null,null,null,null,null,null,null,null,null,null,null,null,null,null,null,null,null,null,null,null,null,null,null,null,null,null,null,null,null,null,null,null,null,null,null,null,null,null,null,null,null,null,null,null,null,null,null,null,null,null,null,null,null,null,null,"名張北",235152]
[null,null,null,null,null,null,null,null,null,null,null,null,null,null,null,null,null,null,null,null,null,null,null,null,null,null,null,null,null,null,null,null,null,null,null,null,null,null,null,null,null,null,null,null,null,null,null,null,null,null,null,null,null,null,null,null,null,null,null,null,null,null,null,null,null,null,null,null,null,null,null,null,null,null,null,null,null,null,null,null,null,null,null,null,null,null,null,null,null,null,null,null,null,null,null,null,null,null,null,null,null,null,null,null,null,null,null,null,null,"南",235153]
[null,null,null,null,null,null,null,null,null,null,null,null,null,null,null,null,null,null,null,null,null,null,null,null,null,null,null,null,null,null,null,null,null,null,null,null,null,null,null,null,null,null,null,null,null,null,null,null,null,null,null,null,null,null,null,null,null,null,null,null,null,null,null,null,null,null,null,null,null,null,null,null,null,null,null,null,null,null,null,null,null,null,null,null,null,null,null,null,null,null,null,null,null,null,null,null,null,null,null,null,null,null,null,null,null,null,null,null,null,"青山",235154]
[null,null,null,null,null,null,null,null,null,null,null,null,null,null,null,null,null,null,null,null,null,null,null,null,null,null,null,null,null,null,null,null,null,null,null,null,null,null,null,null,null,null,null,null,null,null,null,null,null,null,null,null,null,null,null,null,null,null,null,null,null,null,null,null,null,null,null,null,null,null,null,null,null,null,null,null,null,null,null,null,null,null,null,null,null,null,null,null,null,null,null,null,null,null,null,null,null,null,null,null,null,null,null,null,null,null,null,null,null,"柘植",235155]
[null,null,null,null,null,null,null,null,null,null,null,null,null,null,null,null,null,null,null,null,null,null,null,null,null,null,null,null,null,null,null,null,null,null,null,null,null,null,null,null,null,null,null,null,null,null,null,null,null,null,null,null,null,null,null,null,null,null,null,null,null,null,null,null,null,null,null,null,null,null,null,null,null,null,null,null,null,null,null,null,null,null,null,null,null,null,null,null,null,null,null,null,null,null,null,null,null,null,null,null,null,null,null,null,null,null,null,null,null,"霊峰",235156]
[null,null,null,null,null,null,null,null,null,null,null,null,null,null,null,null,null,null,null,null,null,null,null,null,null,null,null,null,null,null,null,null,null,null,null,null,null,null,null,null,null,null,null,null,null,null,null,null,null,null,null,null,null,null,null,null,null,null,null,null,null,null,null,null,null,null,null,null,null,null,null,null,null,null,null,null,null,null,null,null,null,null,null,null,null,null,null,null,null,null,null,null,null,null,null,null,null,null,null,null,null,null,null,null,null,null,null,null,null,"島ヶ原",235157]
[null,null,null,null,null,null,null,null,null,null,null,null,null,null,null,null,null,null,null,null,null,null,null,null,null,null,null,null,null,null,null,null,null,null,null,null,null,null,null,null,null,null,null,null,null,null,null,null,null,null,null,null,null,null,null,null,null,null,null,null,null,null,null,null,null,null,null,null,null,null,null,null,null,null,null,null,null,null,null,null,null,null,null,null,null,null,null,null,null,null,null,null,null,null,null,null,null,null,null,null,null,null,null,null,null,null,null,null,null,"阿山",235158]
[null,null,null,null,null,null,null,null,null,null,null,null,null,null,null,null,null,null,null,null,null,null,null,null,null,null,null,null,null,null,null,null,null,null,null,null,null,null,null,null,null,null,null,null,null,null,null,null,null,null,null,null,null,null,null,null,null,null,null,null,null,null,null,null,null,null,null,null,null,null,null,null,null,null,null,null,null,null,null,null,null,null,null,null,null,null,null,null,null,null,null,null,null,null,null,null,null,null,null,null,null,null,null,null,null,null,null,null,null,"大山田",235159]
[null,null,null,null,null,null,null,null,null,null,null,null,null,null,null,null,null,null,null,null,null,null,null,null,null,null,null,null,null,null,null,null,null,null,null,null,null,null,null,null,null,null,null,null,null,null,null,null,null,null,null,null,null,null,null,null,null,null,null,null,null,null,null,null,null,null,null,null,null,null,null,null,null,null,null,null,null,null,null,null,null,null,null,null,null,null,null,null,null,null,null,null,null,null,null,null,null,null,null,null,null,null,null,null,null,null,null,null,null,"尾鷲",235160]
[null,null,null,null,null,null,null,null,null,null,null,null,null,null,null,null,null,null,null,null,null,null,null,null,null,null,null,null,null,null,null,null,null,null,null,null,null,null,null,null,null,null,null,null,null,null,null,null,null,null,null,null,null,null,null,null,null,null,null,null,null,null,null,null,null,null,null,null,null,null,null,null,null,null,null,null,null,null,null,null,null,null,null,null,null,null,null,null,null,null,null,null,null,null,null,null,null,null,null,null,null,null,null,null,null,null,null,null,null,"九鬼",235161]
[null,null,null,null,null,null,null,null,null,null,null,null,null,null,null,null,null,null,null,null,null,null,null,null,null,null,null,null,null,null,null,null,null,null,null,null,null,null,null,null,null,null,null,null,null,null,null,null,null,null,null,null,null,null,null,null,null,null,null,null,null,null,null,null,null,null,null,null,null,null,null,null,null,null,null,null,null,null,null,null,null,null,null,null,null,null,null,null,null,null,null,null,null,null,null,null,null,null,null,null,null,null,null,null,null,null,null,null,null,"北輪内",235162]
[null,null,null,null,null,null,null,null,null,null,null,null,null,null,null,null,null,null,null,null,null,null,null,null,null,null,null,null,null,null,null,null,null,null,null,null,null,null,null,null,null,null,null,null,null,null,null,null,null,null,null,null,null,null,null,null,null,null,null,null,null,null,null,null,null,null,null,null,null,null,null,null,null,null,null,null,null,null,null,null,null,null,null,null,null,null,null,null,null,null,null,null,null,null,null,null,null,null,null,null,null,null,null,null,null,null,null,null,null,"輪内",235163]
[null,null,null,null,null,null,null,null,null,null,null,null,null,null,null,null,null,null,null,null,null,null,null,null,null,null,null,null,null,null,null,null,null,null,null,null,null,null,null,null,null,null,null,null,null,null,null,null,null,null,null,null,null,null,null,null,null,null,null,null,null,null,null,null,null,null,null,null,null,null,null,null,null,null,null,null,null,null,null,null,null,null,null,null,null,null,null,null,null,null,null,null,null,null,null,null,null,null,null,null,null,null,null,null,null,null,null,null,null,"紀北",235164]
[null,null,null,null,null,null,null,null,null,null,null,null,null,null,null,null,null,null,null,null,null,null,null,null,null,null,null,null,null,null,null,null,null,null,null,null,null,null,null,null,null,null,null,null,null,null,null,null,null,null,null,null,null,null,null,null,null,null,null,null,null,null,null,null,null,null,null,null,null,null,null,null,null,null,null,null,null,null,null,null,null,null,null,null,null,null,null,null,null,null,null,null,null,null,null,null,null,null,null,null,null,null,null,null,null,null,null,null,null,"赤羽",235165]
[null,null,null,null,null,null,null,null,null,null,null,null,null,null,null,null,null,null,null,null,null,null,null,null,null,null,null,null,null,null,null,null,null,null,null,null,null,null,null,null,null,null,null,null,null,null,null,null,null,null,null,null,null,null,null,null,null,null,null,null,null,null,null,null,null,null,null,null,null,null,null,null,null,null,null,null,null,null,null,null,null,null,null,null,null,null,null,null,null,null,null,null,null,null,null,null,null,null,null,null,null,null,null,null,null,null,null,null,null,"潮南",235166]
[null,null,null,null,null,null,null,null,null,null,null,null,null,null,null,null,null,null,null,null,null,null,null,null,null,null,null,null,null,null,null,null,null,null,null,null,null,null,null,null,null,null,null,null,null,null,null,null,null,null,null,null,null,null,null,null,null,null,null,null,null,null,null,null,null,null,null,null,null,null,null,null,null,null,null,null,null,null,null,null,null,null,null,null,null,null,null,null,null,null,null,null,null,null,null,null,null,null,null,null,null,null,null,null,null,null,null,null,null,"三船",235167]
[null,null,null,null,null,null,null,null,null,null,null,null,null,null,null,null,null,null,null,null,null,null,null,null,null,null,null,null,null,null,null,null,null,null,null,null,null,null,null,null,null,null,null,null,null,null,null,null,null,null,null,null,null,null,null,null,null,null,null,null,null,null,null,null,null,null,null,null,null,null,null,null,null,null,null,null,null,null,null,null,null,null,null,null,null,null,null,null,null,null,null,null,null,null,null,null,null,null,null,null,null,null,null,null,null,null,null,null,null,"荒坂",235168]
[null,null,null,null,null,null,null,null,null,null,null,null,null,null,null,null,null,null,null,null,null,null,null,null,null,null,null,null,null,null,null,null,null,null,null,null,null,null,null,null,null,null,null,null,null,null,null,null,null,null,null,null,null,null,null,null,null,null,null,null,null,null,null,null,null,null,null,null,null,null,null,null,null,null,null,null,null,null,null,null,null,null,null,null,null,null,null,null,null,null,null,null,null,null,null,null,null,null,null,null,null,null,null,null,null,null,null,null,null,"新鹿",235169]
[null,null,null,null,null,null,null,null,null,null,null,null,null,null,null,null,null,null,null,null,null,null,null,null,null,null,null,null,null,null,null,null,null,null,null,null,null,null,null,null,null,null,null,null,null,null,null,null,null,null,null,null,null,null,null,null,null,null,null,null,null,null,null,null,null,null,null,null,null,null,null,null,null,null,null,null,null,null,null,null,null,null,null,null,null,null,null,null,null,null,null,null,null,null,null,null,null,null,null,null,null,null,null,null,null,null,null,null,null,"木本",235170]
[null,null,null,null,null,null,null,null,null,null,null,null,null,null,null,null,null,null,null,null,null,null,null,null,null,null,null,null,null,null,null,null,null,null,null,null,null,null,null,null,null,null,null,null,null,null,null,null,null,null,null,null,null,null,null,null,null,null,null,null,null,null,null,null,null,null,null,null,null,null,null,null,null,null,null,null,null,null,null,null,null,null,null,null,null,null,null,null,null,null,null,null,null,null,null,null,null,null,null,null,null,null,null,null,null,null,null,null,null,"有馬",235171]
[null,null,null,null,null,null,null,null,null,null,null,null,null,null,null,null,null,null,null,null,null,null,null,null,null,null,null,null,null,null,null,null,null,null,null,null,null,null,null,null,null,null,null,null,null,null,null,null,null,null,null,null,null,null,null,null,null,null,null,null,null,null,null,null,null,null,null,null,null,null,null,null,null,null,null,null,null,null,null,null,null,null,null,null,null,null,null,null,null,null,null,null,null,null,null,null,null,null,null,null,null,null,null,null,null,null,null,null,null,"育生",235172]
[null,null,null,null,null,null,null,null,null,null,null,null,null,null,null,null,null,null,null,null,null,null,null,null,null,null,null,null,null,null,null,null,null,null,null,null,null,null,null,null,null,null,null,null,null,null,null,null,null,null,null,null,null,null,null,null,null,null,null,null,null,null,null,null,null,null,null,null,null,null,null,null,null,null,null,null,null,null,null,null,null,null,null,null,null,null,null,null,null,null,null,null,null,null,null,null,null,null,null,null,null,null,null,null,null,null,null,null,null,"神上",235173]
[null,null,null,null,null,null,null,null,null,null,null,null,null,null,null,null,null,null,null,null,null,null,null,null,null,null,null,null,null,null,null,null,null,null,null,null,null,null,null,null,null,null,null,null,null,null,null,null,null,null,null,null,null,null,null,null,null,null,null,null,null,null,null,null,null,null,null,null,null,null,null,null,null,null,null,null,null,null,null,null,null,null,null,null,null,null,null,null,null,null,null,null,null,null,null,null,null,null,null,null,null,null,null,null,null,null,null,null,null,"五郷",235174]
[null,null,null,null,null,null,null,null,null,null,null,null,null,null,null,null,null,null,null,null,null,null,null,null,null,null,null,null,null,null,null,null,null,null,null,null,null,null,null,null,null,null,null,null,null,null,null,null,null,null,null,null,null,null,null,null,null,null,null,null,null,null,null,null,null,null,null,null,null,null,null,null,null,null,null,null,null,null,null,null,null,null,null,null,null,null,null,null,null,null,null,null,null,null,null,null,null,null,null,null,null,null,null,null,null,null,null,null,null,"飛鳥",235175]
[null,null,null,null,null,null,null,null,null,null,null,null,null,null,null,null,null,null,null,null,null,null,null,null,null,null,null,null,null,null,null,null,null,null,null,null,null,null,null,null,null,null,null,null,null,null,null,null,null,null,null,null,null,null,null,null,null,null,null,null,null,null,null,null,null,null,null,null,null,null,null,null,null,null,null,null,null,null,null,null,null,null,null,null,null,null,null,null,null,null,null,null,null,null,null,null,null,null,null,null,null,null,null,null,null,null,null,null,null,"御浜",235176]
[null,null,null,null,null,null,null,null,null,null,null,null,null,null,null,null,null,null,null,null,null,null,null,null,null,null,null,null,null,null,null,null,null,null,null,null,null,null,null,null,null,null,null,null,null,null,null,null,null,null,null,null,null,null,null,null,null,null,null,null,null,null,null,null,null,null,null,null,null,null,null,null,null,null,null,null,null,null,null,null,null,null,null,null,null,null,null,null,null,null,null,null,null,null,null,null,null,null,null,null,null,null,null,null,null,null,null,null,null,"阿田和",235177]
[null,null,null,null,null,null,null,null,null,null,null,null,null,null,null,null,null,null,null,null,null,null,null,null,null,null,null,null,null,null,null,null,null,null,null,null,null,null,null,null,null,null,null,null,null,null,null,null,null,null,null,null,null,null,null,null,null,null,null,null,null,null,null,null,null,null,null,null,null,null,null,null,null,null,null,null,null,null,null,null,null,null,null,null,null,null,null,null,null,null,null,null,null,null,null,null,null,null,null,null,null,null,null,null,null,null,null,null,null,"尾呂志学園",235178]
[null,null,null,null,null,null,null,null,null,null,null,null,null,null,null,null,null,null,null,null,null,null,null,null,null,null,null,null,null,null,null,null,null,null,null,null,null,null,null,null,null,null,null,null,null,null,null,null,null,null,null,null,null,null,null,null,null,null,null,null,null,null,null,null,null,null,null,null,null,null,null,null,null,null,null,null,null,null,null,null,null,null,null,null,null,null,null,null,null,null,null,null,null,null,null,null,null,null,null,null,null,null,null,null,null,null,null,null,null,"相野谷",235179]
[null,null,null,null,null,null,null,null,null,null,null,null,null,null,null,null,null,null,null,null,null,null,null,null,null,null,null,null,null,null,null,null,null,null,null,null,null,null,null,null,null,null,null,null,null,null,null,null,null,null,null,null,null,null,null,null,null,null,null,null,null,null,null,null,null,null,null,null,null,null,null,null,null,null,null,null,null,null,null,null,null,null,null,null,null,null,null,null,null,null,null,null,null,null,null,null,null,null,null,null,null,null,null,null,null,null,null,null,null,"入鹿",235180]
[null,null,null,null,null,null,null,null,null,null,null,null,null,null,null,null,null,null,null,null,null,null,null,null,null,null,null,null,null,null,null,null,null,null,null,null,null,null,null,null,null,null,null,null,null,null,null,null,null,null,null,null,null,null,null,null,null,null,null,null,null,null,null,null,null,null,null,null,null,null,null,null,null,null,null,null,null,null,null,null,null,null,null,null,null,null,null,null,null,null,null,null,null,null,null,null,null,null,null,null,null,null,null,null,null,null,null,null,null,"矢渕",235181]
[null,null,null,null,null,null,null,null,null,null,null,null,null,null,null,null,null,null,null,null,null,null,null,null,null,null,null,null,null,null,null,null,null,null,null,null,null,null,null,null,null,null,null,null,null,null,null,null,null,null,null,null,null,null,null,null,null,null,null,null,null,null,null,null,null,null,null,null,null,null,null,null,null,null,null,null,null,null,null,null,null,null,null,null,null,null,null,null,null,null,null,null,null,null,null,null,null,null,null,null,null,null,null,null,null,null,null,null,null,"Y_W_C",230082]
[null,null,null,null,null,null,null,null,null,null,null,null,null,null,null,null,null,null,null,null,null,null,null,null,null,null,null,null,null,null,null,null,null,null,null,null,null,null,null,null,null,null,null,null,null,null,null,null,null,null,null,null,null,null,null,null,null,null,null,null,null,null,null,null,null,null,null,null,null,null,null,null,null,null,null,null,null,null,null,null,null,null,null,null,null,null,null,null,null,null,null,null,null,null,null,null,null,null,null,null,null,null,null,null,null,null,null,null,null,"ｱｽﾘｰﾄY",239128]
[null,null,null,null,null,null,null,null,null,null,null,null,null,null,null,null,null,null,null,null,null,null,null,null,null,null,null,null,null,null,null,null,null,null,null,null,null,null,null,null,null,null,null,null,null,null,null,null,null,null,null,null,null,null,null,null,null,null,null,null,null,null,null,null,null,null,null,null,null,null,null,null,null,null,null,null,null,null,null,null,null,null,null,null,null,null,null,null,null,null,null,null,null,null,null,null,null,null,null,null,null,null,null,null,null,null,null,null,null,"ASSA-TC",230081]
[null,null,null,null,null,null,null,null,null,null,null,null,null,null,null,null,null,null,null,null,null,null,null,null,null,null,null,null,null,null,null,null,null,null,null,null,null,null,null,null,null,null,null,null,null,null,null,null,null,null,null,null,null,null,null,null,null,null,null,null,null,null,null,null,null,null,null,null,null,null,null,null,null,null,null,null,null,null,null,null,null,null,null,null,null,null,null,null,null,null,null,null,null,null,null,null,null,null,null,null,null,null,null,null,null,null,null,null,null,"イムラＡＡ",239125]
[null,null,null,null,null,null,null,null,null,null,null,null,null,null,null,null,null,null,null,null,null,null,null,null,null,null,null,null,null,null,null,null,null,null,null,null,null,null,null,null,null,null,null,null,null,null,null,null,null,null,null,null,null,null,null,null,null,null,null,null,null,null,null,null,null,null,null,null,null,null,null,null,null,null,null,null,null,null,null,null,null,null,null,null,null,null,null,null,null,null,null,null,null,null,null,null,null,null,null,null,null,null,null,null,null,null,null,null,null,"橋南スポク",230096]
[null,null,null,null,null,null,null,null,null,null,null,null,null,null,null,null,null,null,null,null,null,null,null,null,null,null,null,null,null,null,null,null,null,null,null,null,null,null,null,null,null,null,null,null,null,null,null,null,null,null,null,null,null,null,null,null,null,null,null,null,null,null,null,null,null,null,null,null,null,null,null,null,null,null,null,null,null,null,null,null,null,null,null,null,null,null,null,null,null,null,null,null,null,null,null,null,null,null,null,null,null,null,null,null,null,null,null,null,null,"J＆E久居",239127]
[null,null,null,null,null,null,null,null,null,null,null,null,null,null,null,null,null,null,null,null,null,null,null,null,null,null,null,null,null,null,null,null,null,null,null,null,null,null,null,null,null,null,null,null,null,null,null,null,null,null,null,null,null,null,null,null,null,null,null,null,null,null,null,null,null,null,null,null,null,null,null,null,null,null,null,null,null,null,null,null,null,null,null,null,null,null,null,null,null,null,null,null,null,null,null,null,null,null,null,null,null,null,null,null,null,null,null,null,null,"伊賀TC",230092]
[null,null,null,null,null,null,null,null,null,null,null,null,null,null,null,null,null,null,null,null,null,null,null,null,null,null,null,null,null,null,null,null,null,null,null,null,null,null,null,null,null,null,null,null,null,null,null,null,null,null,null,null,null,null,null,null,null,null,null,null,null,null,null,null,null,null,null,null,null,null,null,null,null,null,null,null,null,null,null,null,null,null,null,null,null,null,null,null,null,null,null,null,null,null,null,null,null,null,null,null,null,null,null,null,null,null,null,null,null,"上野ＡＣ",239125]
[null,null,null,null,null,null,null,null,null,null,null,null,null,null,null,null,null,null,null,null,null,null,null,null,null,null,null,null,null,null,null,null,null,null,null,null,null,null,null,null,null,null,null,null,null,null,null,null,null,null,null,null,null,null,null,null,null,null,null,null,null,null,null,null,null,null,null,null,null,null,null,null,null,null,null,null,null,null,null,null,null,null,null,null,null,null,null,null,null,null,null,null,null,null,null,null,null,null,null,null,null,null,null,null,null,null,null,null,null,"名張ｸﾗﾌﾞ",230116]
[null,null,null,null,null,null,null,null,null,null,null,null,null,null,null,null,null,null,null,null,null,null,null,null,null,null,null,null,null,null,null,null,null,null,null,null,null,null,null,null,null,null,null,null,null,null,null,null,null,null,null,null,null,null,null,null,null,null,null,null,null,null,null,null,null,null,null,null,null,null,null,null,null,null,null,null,null,null,null,null,null,null,null,null,null,null,null,null,null,null,null,null,null,null,null,null,null,null,null,null,null,null,null,null,null,null,null,null,null,"熊野ＲＣ",230115]

{"sheet":"名簿","index":6,"n_rows":191,"n_cols":99,"rows_kept":191,"cut":false,"hidden":false,"merged":[[0,33,0,39],[1,17,1,19],[0,0,0,2],[0,8,0,11],[0,3,0,4],[1,2,2,2],[1,3,1,4],[1,5,2,5],[1,8,2,8],[1,9,2,9],[1,10,1,12]]}
["顧問名",null,null,null,null,"学校名",null,"緊急連絡先（携帯）",null,null,null,null,null,null,null,null,null,null,null,null,null,null,null,null,null,null,null,null,null,null,null,null,"男","左記、白枠は必ず入れて下さい"]
[null,"登録月日","学校コード","登録番号",null,"登録の種類","氏名","フリガナ","学年","性別","生年月日",null,null,null,"所属","学校番号","所属地コード",null,null,null,null,null,null,null,null,null,null,null,null,null,null,null,"女","公認記録記載欄(随時記録が更新された場合は、変更入力して下さい。全ての申し込みに反映されます。正確にお願いいたします",null,null,null,null,null,null,null,null,null,null,null,null,null,null,null,"高跳の記録"]
[null,"(○／○○）",null,"陸連ID","選手番号",null,"（姓と名の間は全角１文字スペース）","（全角カタカナで入力、姓と名の間は全角１文字スペース）",null,null,"年（西暦）","月","日",null,"三重",null,"三重",null,null,null,null,null,null,null,null,null,null,null,null,null,null,null,null,100,200,400,800,1500,2000,3000,"110H","100H","走高跳","棒高跳","走幅跳","三段跳","砲丸投","円盤投","ｼﾞｬﾍﾞﾘｯｸ","四種","110JH","少年B110JH","少年B100YH","100YH","2年100","2年1500","1年100","1年1500","1年800","A-100","A-200","A-3000","A-110H","A-走高跳","A-砲丸投","AB円盤投","ABCｼﾞｬﾍﾞﾘｯｸ","A-100H","B-100","B-1500","B-110H","B-走幅跳","B-100H","C-800","B-砲丸投","C-100","C-1500",null,"C-走幅跳",null,null,"中学女子3ｋ","中学男子5ｋ","少年B砲丸投","TRIM","数","空","名","姓","名"]
[1,null,null,null,null,null,null,null,null,null,null,null,null,{"$f":"CONCATENATE(L4,M4)","v":""},{"$f":"G1","v":0},{"$f":"IF(O4=\"\",\"\",VLOOKUP(O4,所属コード!$A$2:$E$189,2,FALSE))","v":{"$error":"#N/A"}},{"$f":"IF(O4=\"\",\"\",VLOOKUP(O4,所属コード!$A$2:$G$189,7,FALSE))","v":{"$error":"#N/A"}},null,null,null,null,null,null,null,{"$f":"IF(J4=\"\",\"\",IF(J4=\"男\",1,2))","v":""},{"$f":"ASC(H4)","v":""},"男",null,null,null,null,null,null,null,null,null,null,null,null,null,null,null,null,null,null,null,null,null,null,{"$f":"AQ4","v":0},{"$f":"AO4","v":0},{"$f":"AO4","v":0},{"$f":"AO4","v":0},{"$f":"AP4","v":0},{"$f":"AH4","v":0},{"$f":"AL4","v":0},{"$f":"AH4","v":0},{"$f":"AL4","v":0},{"$f":"AK4","v":0},{"$f":"AH4","v":0},{"$f":"AI4","v":0},{"$f":"AN4","v":0},{"$f":"AO4","v":0},{"$f":"AQ4","v":0},{"$f":"AU4","v":0},{"$f":"AV4","v":0},{"$f":"AW4","v":0},{"$f":"AP4","v":0},{"$f":"AH4","v":0},{"$f":"AL4","v":0},{"$f":"AO4","v":0},{"$f":"AS4","v":0},{"$f":"AP4","v":0},{"$f":"AK4","v":0},{"$f":"AU4","v":0},{"$f":"AH4","v":0},{"$f":"AL4","v":0},{"$f":"AP4","v":0},{"$f":"AS4","v":0},{"$f":"AU4","v":0},{"$f":"AN4","v":0},{"$f":"AM4","v":0},{"$f":"AN4","v":0},{"$f":"AU4","v":0},{"$f":"TRIM(G4)","v":""},{"$f":"IF(CG4=\"\",\"\",LEN(CG4))","v":""},{"$f":"IF(CG4=\"\",\"\",FIND(\"　\",CG4,1))","v":""},{"$f":"IF(CG4=\"\",\"\",CH4-CI4)","v":""},{"$f":"IF(CG4=\"\",\"\",LEFT(CG4,CI4-1))","v":""},{"$f":"IF(CG4=\"\",\"\",RIGHT(CG4,CJ4))","v":""},{"$f":"IF(CG4=\"\",\"\",IF(CH4=4,CONCATENATE(CK4,\"　\",\"　\",CL4),IF(CH4=6,CONCATENATE(CK4,CL4),CG4)))","v":""},{"$f":"IF(I4=\"3\",3,IF(I4=\"2\",2,IF(I4=\"1\",1,IF(I4=1,1,IF(I4=2,2,IF(I4=3,3,\"\"))))))","v":""},{"$f":"IF(M4<10,CONCATENATE(0,M4),M4)","v":"0"},{"$f":"K4","v":0},"成徳",235001,{"$f":"IF(L4=1,\"01\",IF(L4=2,\"02\",IF(L4=3,\"03\",IF(L4=4,\"04\",IF(L4=5,\"05\",IF(L4=6,\"06\",IF(L4=7,\"07\",IF(L4=8,\"08\",IF(L4=9,\"09\",L4)))))))))","v":0},{"$f":"IF(M4=1,\"01\",IF(M4=2,\"02\",IF(M4=3,\"03\",IF(M4=4,\"04\",IF(M4=5,\"05\",IF(M4=6,\"06\",IF(M4=7,\"07\",IF(M4=8,\"08\",IF(M4=9,\"09\",M4)))))))))","v":0},{"$f":"CONCATENATE(CS4,CT4)","v":"00"}]
[2,null,null,null,null,null,null,null,null,null,null,null,null,{"$f":"CONCATENATE(L5,M5)","v":""},{"$f":"IF(G5=\"\",\"\",$O$4)","v":""},{"$f":"IF(G5=\"\",\"\",$P$4)","v":""},{"$f":"IF(G5=\"\",\"\",$Q$4)","v":""},null,null,null,null,null,null,null,{"$f":"IF(J5=\"\",\"\",IF(J5=\"男\",1,2))","v":""},{"$f":"ASC(H5)","v":""},"女",null,null,null,null,null,null,null,null,null,null,null,null,null,null,null,null,null,null,null,null,null,null,{"$f":"AQ5","v":0},0,0,0,0,{"$f":"AH5","v":0},{"$f":"AL5","v":0},{"$f":"AH5","v":0},{"$f":"AL5","v":0},{"$f":"AK5","v":0},{"$f":"AH5","v":0},{"$f":"AI5","v":0},{"$f":"AN5","v":0},{"$f":"AO5","v":0},{"$f":"AQ5","v":0},{"$f":"AU5","v":0},{"$f":"AV5","v":0},{"$f":"AW5","v":0},{"$f":"AP5","v":0},{"$f":"AH5","v":0},{"$f":"AL5","v":0},{"$f":"AO5","v":0},{"$f":"AS5","v":0},{"$f":"AP5","v":0},{"$f":"AK5","v":0},{"$f":"AU5","v":0},{"$f":"AH5","v":0},{"$f":"AL5","v":0},{"$f":"AP5","v":0},{"$f":"AS5","v":0},{"$f":"AU5","v":0},{"$f":"AN5","v":0},{"$f":"AM5","v":0},{"$f":"AN5","v":0},{"$f":"AU5","v":0},{"$f":"TRIM(G5)","v":""},{"$f":"IF(CG5=\"\",\"\",LEN(CG5))","v":""},{"$f":"IF(CG5=\"\",\"\",FIND(\"　\",CG5,1))","v":""},{"$f":"IF(CG5=\"\",\"\",CH5-CI5)","v":""},{"$f":"IF(CG5=\"\",\"\",LEFT(CG5,CI5-1))","v":""},{"$f":"IF(CG5=\"\",\"\",RIGHT(CG5,CJ5))","v":""},{"$f":"IF(CG5=\"\",\"\",IF(CH5=4,CONCATENATE(CK5,\"　\",\"　\",CL5),IF(CH5=6,CONCATENATE(CK5,CL5),CG5)))","v":""},"",{"$f":"IF(M5<10,CONCATENATE(0,M5),M5)","v":"0"},{"$f":"K5","v":0},"明正",235002,{"$f":"IF(L5=1,\"01\",IF(L5=2,\"02\",IF(L5=3,\"03\",IF(L5=4,\"04\",IF(L5=5,\"05\",IF(L5=6,\"06\",IF(L5=7,\"07\",IF(L5=8,\"08\",IF(L5=9,\"09\",L5)))))))))","v":0},{"$f":"IF(M5=1,\"01\",IF(M5=2,\"02\",IF(M5=3,\"03\",IF(M5=4,\"04\",IF(M5=5,\"05\",IF(M5=6,\"06\",IF(M5=7,\"07\",IF(M5=8,\"08\",IF(M5=9,\"09\",M5)))))))))","v":0},{"$f":"CONCATENATE(CS5,CT5)","v":"00"}]
[3,null,null,null,null,null,null,null,null,null,null,null,null,"",{"$f":"IF(G6=\"\",\"\",$O$4)","v":""},{"$f":"IF(O6=\"\",\"\",VLOOKUP(O6,所属コード!$A$2:$E$189,2,FALSE))","v":""},{"$f":"IF(O6=\"\",\"\",VLOOKUP(O6,所属コード!$A$2:$G$189,7,FALSE))","v":""},null,null,null,null,null,null,null,"","","23",null,null,null,null,null,null,null,null,null,null,null,null,null,null,null,null,null,null,null,null,null,null,0,0,0,0,0,0,0,0,0,0,0,0,0,0,0,0,0,0,0,0,0,0,0,0,0,0,0,0,0,0,0,0,0,0,0,"","","","","","","","","0",0,"光風",235003,0,0,"00"]
[4,null,null,null,null,null,null,null,null,null,null,null,null,"","",{"$f":"IF(O7=\"\",\"\",VLOOKUP(O7,所属コード!$A$2:$E$189,2,FALSE))","v":""},{"$f":"IF(O7=\"\",\"\",VLOOKUP(O7,所属コード!$A$2:$G$189,7,FALSE))","v":""},null,null,null,null,null,null,null,"","",null,null,null,null,null,null,null,null,null,null,null,null,null,null,null,null,null,null,null,null,null,null,null,0,0,0,0,0,0,0,0,0,0,0,0,0,0,0,0,0,0,0,0,0,0,0,0,0,0,0,0,0,0,0,0,0,0,0,"","","","","","","","","0",0,"陽和",235004,0,0,"00"]
[5,null,null,null,null,null,null,null,null,null,null,null,null,"","",{"$f":"IF(O8=\"\",\"\",VLOOKUP(O8,所属コード!$A$2:$E$189,2,FALSE))","v":""},{"$f":"IF(O8=\"\",\"\",VLOOKUP(O8,所属コード!$A$2:$G$189,7,FALSE))","v":""},null,null,null,null,null,null,null,"","",null,null,null,null,null,null,null,null,null,null,null,null,null,null,null,null,null,null,null,null,null,null,null,0,0,0,0,0,0,0,0,0,0,0,0,0,0,0,0,0,0,0,0,0,0,0,0,0,0,0,0,0,0,0,0,0,0,0,"","","","","","","","","0",0,"正和",235005,0,0,"00"]
[6,null,null,null,null,null,null,null,null,null,null,null,null,"","",{"$f":"IF(O9=\"\",\"\",VLOOKUP(O9,所属コード!$A$2:$E$189,2,FALSE))","v":""},{"$f":"IF(O9=\"\",\"\",VLOOKUP(O9,所属コード!$A$2:$G$189,7,FALSE))","v":""},null,null,null,null,null,null,null,"","",null,null,null,null,null,null,null,null,null,null,null,null,null,null,null,null,null,null,null,null,null,null,null,0,0,0,0,0,0,0,0,0,0,0,0,0,0,0,0,0,0,0,0,0,0,0,0,0,0,0,0,0,0,0,0,0,0,0,"","","","","","","","","0",0,"陵成",235006,0,0,"00"]
[7,null,null,null,null,null,null,null,null,null,null,null,null,"","",{"$f":"IF(O10=\"\",\"\",VLOOKUP(O10,所属コード!$A$2:$E$189,2,FALSE))","v":""},{"$f":"IF(O10=\"\",\"\",VLOOKUP(O10,所属コード!$A$2:$G$189,7,FALSE))","v":""},null,null,null,null,null,null,null,"","",null,null,null,null,null,null,null,null,null,null,null,null,null,null,null,null,null,null,null,null,null,null,null,0,0,0,0,0,0,0,0,0,0,0,0,0,0,0,0,0,0,0,0,0,0,0,0,0,0,0,0,0,0,0,0,0,0,0,"","","","","","","","","0",0,"光陵",235007,0,0,"00"]
[8,null,null,null,null,null,null,null,null,null,null,null,null,"","",{"$f":"IF(O11=\"\",\"\",VLOOKUP(O11,所属コード!$A$2:$E$189,2,FALSE))","v":""},{"$f":"IF(O11=\"\",\"\",VLOOKUP(O11,所属コード!$A$2:$G$189,7,FALSE))","v":""},null,null,null,null,null,null,null,"","",null,null,null,null,null,null,null,null,null,null,null,null,null,null,null,null,null,null,null,null,null,null,null,0,0,0,0,0,0,0,0,0,0,0,0,0,0,0,0,0,0,0,0,0,0,0,0,0,0,0,0,0,0,0,0,0,0,0,"","","","","","","","","0",0,"多度",235008,0,0,"00"]
[9,null,null,null,null,null,null,null,null,null,null,null,null,"","",{"$f":"IF(O12=\"\",\"\",VLOOKUP(O12,所属コード!$A$2:$E$189,2,FALSE))","v":""},{"$f":"IF(O12=\"\",\"\",VLOOKUP(O12,所属コード!$A$2:$G$189,7,FALSE))","v":""},null,null,null,null,null,null,null,"","",null,null,null,null,null,null,null,null,null,null,null,null,null,null,null,null,null,null,null,null,null,null,null,0,0,0,0,0,0,0,0,0,0,0,0,0,0,0,0,0,0,0,0,0,0,0,0,0,0,0,0,0,0,0,0,0,0,0,"","","","","","","","","0",0,"長島",235009,0,0,"00"]
[10,null,null,null,null,null,null,null,null,null,null,null,null,"","",{"$f":"IF(O13=\"\",\"\",VLOOKUP(O13,所属コード!$A$2:$E$189,2,FALSE))","v":""},{"$f":"IF(O13=\"\",\"\",VLOOKUP(O13,所属コード!$A$2:$G$189,7,FALSE))","v":""},null,null,null,null,null,null,null,"","",null,null,null,null,null,null,null,null,null,null,null,null,null,null,null,null,null,null,null,null,null,null,null,0,0,0,0,0,0,0,0,0,0,0,0,0,0,0,0,0,0,0,0,0,0,0,0,0,0,0,0,0,0,0,0,0,0,0,"","","","","","","","","0",0,"津田学園",235010,0,0,"00"]
[11,null,null,null,null,null,null,null,null,null,null,null,null,"","",{"$f":"IF(O14=\"\",\"\",VLOOKUP(O14,所属コード!$A$2:$E$189,2,FALSE))","v":""},{"$f":"IF(O14=\"\",\"\",VLOOKUP(O14,所属コード!$A$2:$G$189,7,FALSE))","v":""},null,null,null,null,null,null,null,"","",null,null,null,null,null,null,null,null,null,null,null,null,null,null,null,null,null,null,null,null,null,null,null,0,0,0,0,0,0,0,0,0,0,0,0,0,0,0,0,0,0,0,0,0,0,0,0,0,0,0,0,0,0,0,0,0,0,0,"","","","","","","","",{"$f":"IF(M14<10,CONCATENATE(0,M14),M14)","v":"0"},0,"木曽岬",235011,0,0,"00"]
[12,null,null,null,null,null,null,null,null,null,null,null,null,"","",{"$f":"IF(O15=\"\",\"\",VLOOKUP(O15,所属コード!$A$2:$E$189,2,FALSE))","v":""},{"$f":"IF(O15=\"\",\"\",VLOOKUP(O15,所属コード!$A$2:$G$189,7,FALSE))","v":""},null,null,null,null,null,null,null,"","",null,null,null,null,null,null,null,null,null,null,null,null,null,null,null,null,null,null,null,null,null,null,null,0,0,0,0,0,0,0,0,0,0,0,0,0,0,0,0,0,0,0,0,0,0,0,0,0,0,0,0,0,0,0,0,0,0,0,"","","","","","","","","0",0,"北勢",235012,0,0,"00"]
[13,null,null,null,null,null,null,null,null,null,null,null,null,"","",{"$f":"IF(O16=\"\",\"\",VLOOKUP(O16,所属コード!$A$2:$E$189,2,FALSE))","v":""},{"$f":"IF(O16=\"\",\"\",VLOOKUP(O16,所属コード!$A$2:$G$189,7,FALSE))","v":""},null,null,null,null,null,null,null,"","",null,null,null,null,null,null,null,null,null,null,null,null,null,null,null,null,null,null,null,null,null,null,null,0,0,0,0,0,0,0,0,0,0,0,0,0,0,0,0,0,0,0,0,0,0,0,0,0,0,0,0,0,0,0,0,0,0,0,"","","","","","","","","0",0,"員弁",235013,0,0,"00"]
[14,null,null,null,null,null,null,null,null,null,null,null,null,"","",{"$f":"IF(O17=\"\",\"\",VLOOKUP(O17,所属コード!$A$2:$E$189,2,FALSE))","v":""},{"$f":"IF(O17=\"\",\"\",VLOOKUP(O17,所属コード!$A$2:$G$189,7,FALSE))","v":""},null,null,null,null,null,null,null,"","",null,null,null,null,null,null,null,null,null,null,null,null,null,null,null,null,null,null,null,null,null,null,null,0,0,0,0,0,0,0,0,0,0,0,0,0,0,0,0,0,0,0,0,0,0,0,0,0,0,0,0,0,0,0,0,0,0,0,"","","","","","","","","0",0,"大安",235014,0,0,"00"]
[15,null,null,null,null,null,null,null,null,null,null,null,null,"","",{"$f":"IF(O18=\"\",\"\",VLOOKUP(O18,所属コード!$A$2:$E$189,2,FALSE))","v":""},{"$f":"IF(O18=\"\",\"\",VLOOKUP(O18,所属コード!$A$2:$G$189,7,FALSE))","v":""},null,null,null,null,null,null,null,"","",null,null,null,null,null,null,null,null,null,null,null,null,null,null,null,null,null,null,null,null,null,null,null,0,0,0,0,0,0,0,0,0,0,0,0,0,0,0,0,0,0,0,0,0,0,0,0,0,0,0,0,0,0,0,0,0,0,0,"","","","","","","","","0",0,"東員第一",235015,0,0,"00"]
[16,null,null,null,null,null,null,null,null,null,null,null,null,"","",{"$f":"IF(O19=\"\",\"\",VLOOKUP(O19,所属コード!$A$2:$E$189,2,FALSE))","v":""},{"$f":"IF(O19=\"\",\"\",VLOOKUP(O19,所属コード!$A$2:$G$189,7,FALSE))","v":""},null,null,null,null,null,null,null,"","",null,null,null,null,null,null,null,null,null,null,null,null,null,null,null,null,null,null,null,null,null,null,null,0,0,0,0,0,0,0,0,0,0,0,0,0,0,0,0,0,0,0,0,0,0,0,0,0,0,0,0,0,0,0,0,0,0,0,"","","","","","","","","0",0,"東員第二",235016,0,0,"00"]
[17,null,null,null,null,null,null,null,null,null,null,null,null,"","",{"$f":"IF(O20=\"\",\"\",VLOOKUP(O20,所属コード!$A$2:$E$189,2,FALSE))","v":""},{"$f":"IF(O20=\"\",\"\",VLOOKUP(O20,所属コード!$A$2:$G$189,7,FALSE))","v":""},null,null,null,null,null,null,null,"","",null,null,null,null,null,null,null,null,null,null,null,null,null,null,null,null,null,null,null,null,null,null,null,0,0,0,0,0,0,0,0,0,0,0,0,0,0,0,0,0,0,0,0,0,0,0,0,0,0,0,0,0,0,0,0,0,0,0,"","","","","","","","","0",0,"藤原",235017,0,0,"00"]
[18,null,null,null,null,null,null,null,null,null,null,null,null,"","",{"$f":"IF(O21=\"\",\"\",VLOOKUP(O21,所属コード!$A$2:$E$189,2,FALSE))","v":""},{"$f":"IF(O21=\"\",\"\",VLOOKUP(O21,所属コード!$A$2:$G$189,7,FALSE))","v":""},null,null,null,null,null,null,null,"","",null,null,null,null,null,null,null,null,null,null,null,null,null,null,null,null,null,null,null,null,null,null,null,0,0,0,0,0,0,0,0,0,0,0,0,0,0,0,0,0,0,0,0,0,0,0,0,0,0,0,0,0,0,0,0,0,0,0,"","","","","","","","","0",0,"中部",235018,0,0,"00"]
[19,null,null,null,null,null,null,null,null,null,null,null,null,"","",{"$f":"IF(O22=\"\",\"\",VLOOKUP(O22,所属コード!$A$2:$E$189,2,FALSE))","v":""},{"$f":"IF(O22=\"\",\"\",VLOOKUP(O22,所属コード!$A$2:$G$189,7,FALSE))","v":""},null,null,null,null,null,null,null,"","",null,null,null,null,null,null,null,null,null,null,null,null,null,null,null,null,null,null,null,null,null,null,null,0,0,0,0,0,0,0,0,0,0,0,0,0,0,0,0,0,0,0,0,0,0,0,0,0,0,0,0,0,0,0,0,0,0,0,"","","","","","","","","0",0,"港",235019,0,0,"00"]
[20,null,null,null,null,null,null,null,null,null,null,null,null,"","",{"$f":"IF(O23=\"\",\"\",VLOOKUP(O23,所属コード!$A$2:$E$189,2,FALSE))","v":""},{"$f":"IF(O23=\"\",\"\",VLOOKUP(O23,所属コード!$A$2:$G$189,7,FALSE))","v":""},null,null,null,null,null,null,null,"","",null,null,null,null,null,null,null,null,null,null,null,null,null,null,null,null,null,null,null,null,null,null,null,0,0,0,0,0,0,0,0,0,0,0,0,0,0,0,0,0,0,0,0,0,0,0,0,0,0,0,0,0,0,0,0,0,0,0,"","","","","","","","","0",0,"塩浜",235020,0,0,"00"]
[21,null,null,null,null,null,null,null,null,null,null,null,null,"","",{"$f":"IF(O24=\"\",\"\",VLOOKUP(O24,所属コード!$A$2:$E$189,2,FALSE))","v":""},{"$f":"IF(O24=\"\",\"\",VLOOKUP(O24,所属コード!$A$2:$G$189,7,FALSE))","v":""},null,null,null,null,null,null,null,"","",null,null,null,null,null,null,null,null,null,null,null,null,null,null,null,null,null,null,null,null,null,null,null,0,0,0,0,0,0,0,0,0,0,0,0,0,0,0,0,0,0,0,0,0,0,0,0,0,0,0,0,0,0,0,0,0,0,0,"","","","","","","","","0",0,"山手",235021,0,0,"00"]
[22,null,null,null,null,null,null,null,null,null,null,null,null,"","",{"$f":"IF(O25=\"\",\"\",VLOOKUP(O25,所属コード!$A$2:$E$189,2,FALSE))","v":""},{"$f":"IF(O25=\"\",\"\",VLOOKUP(O25,所属コード!$A$2:$G$189,7,FALSE))","v":""},null,null,null,null,null,null,null,"","",null,null,null,null,null,null,null,null,null,null,null,null,null,null,null,null,null,null,null,null,null,null,null,0,0,0,0,0,0,0,0,0,0,0,0,0,0,0,0,0,0,0,0,0,0,0,0,0,0,0,0,0,0,0,0,0,0,0,"","","","","","","","","0",0,"富洲原",235022,0,0,"00"]
[23,null,null,null,null,null,null,null,null,null,null,null,null,"","",{"$f":"IF(O26=\"\",\"\",VLOOKUP(O26,所属コード!$A$2:$E$189,2,FALSE))","v":""},{"$f":"IF(O26=\"\",\"\",VLOOKUP(O26,所属コード!$A$2:$G$189,7,FALSE))","v":""},null,null,null,null,null,null,null,"","",null,null,null,null,null,null,null,null,null,null,null,null,null,null,null,null,null,null,null,null,null,null,null,0,0,0,0,0,0,0,0,0,0,0,0,0,0,0,0,0,0,0,0,0,0,0,0,0,0,0,0,0,0,0,0,0,0,0,"","","","","","","","","0",0,"富田",235023,0,0,"00"]
[24,null,null,null,null,null,null,null,null,null,null,null,null,"","",{"$f":"IF(O27=\"\",\"\",VLOOKUP(O27,所属コード!$A$2:$E$189,2,FALSE))","v":""},{"$f":"IF(O27=\"\",\"\",VLOOKUP(O27,所属コード!$A$2:$G$189,7,FALSE))","v":""},null,null,null,null,null,null,null,"","",null,null,null,null,null,null,null,null,null,null,null,null,null,null,null,null,null,null,null,null,null,null,null,0,0,0,0,0,0,0,0,0,0,0,0,0,0,0,0,0,0,0,0,0,0,0,0,0,0,0,0,0,0,0,0,0,0,0,"","","","","","","","","0",0,"笹川",235024,0,0,"00"]
[25,null,null,null,null,null,null,null,null,null,null,null,null,"","",{"$f":"IF(O28=\"\",\"\",VLOOKUP(O28,所属コード!$A$2:$E$189,2,FALSE))","v":""},{"$f":"IF(O28=\"\",\"\",VLOOKUP(O28,所属コード!$A$2:$G$189,7,FALSE))","v":""},null,null,null,null,null,null,null,"","",null,null,null,null,null,null,null,null,null,null,null,null,null,null,null,null,null,null,null,null,null,null,null,0,0,0,0,0,0,0,0,0,0,0,0,0,0,0,0,0,0,0,0,0,0,0,0,0,0,0,0,0,0,0,0,0,0,0,"","","","","","","","","0",0,"四日市南",235025,0,0,"00"]
[26,null,null,null,null,null,null,null,null,null,null,null,null,"","",{"$f":"IF(O29=\"\",\"\",VLOOKUP(O29,所属コード!$A$2:$E$189,2,FALSE))","v":""},{"$f":"IF(O29=\"\",\"\",VLOOKUP(O29,所属コード!$A$2:$G$189,7,FALSE))","v":""},null,null,null,null,null,null,null,"","",null,null,null,null,null,null,null,null,null,null,null,null,null,null,null,null,null,null,null,null,null,null,null,0,0,0,0,0,0,0,0,0,0,0,0,0,0,0,0,0,0,0,0,0,0,0,0,0,0,0,0,0,0,0,0,0,0,0,"","","","","","","","","0",0,"西陵",235026,0,0,"00"]
[27,null,null,null,null,null,null,null,null,null,null,null,null,"","",{"$f":"IF(O30=\"\",\"\",VLOOKUP(O30,所属コード!$A$2:$E$189,2,FALSE))","v":""},{"$f":"IF(O30=\"\",\"\",VLOOKUP(O30,所属コード!$A$2:$G$189,7,FALSE))","v":""},null,null,null,null,null,null,null,"","",null,null,null,null,null,null,null,null,null,null,null,null,null,null,null,null,null,null,null,null,null,null,null,0,0,0,0,0,0,0,0,0,0,0,0,0,0,0,0,0,0,0,0,0,0,0,0,0,0,0,0,0,0,0,0,0,0,0,"","","","","","","","","0",0,"三滝",235027,0,0,"00"]
[28,null,null,null,null,null,null,null,null,null,null,null,null,"","",{"$f":"IF(O31=\"\",\"\",VLOOKUP(O31,所属コード!$A$2:$E$189,2,FALSE))","v":""},{"$f":"IF(O31=\"\",\"\",VLOOKUP(O31,所属コード!$A$2:$G$189,7,FALSE))","v":""},null,null,null,null,null,null,null,"","",null,null,null,null,null,null,null,null,null,null,null,null,null,null,null,null,null,null,null,null,null,null,null,0,0,0,0,0,0,0,0,0,0,0,0,0,0,0,0,0,0,0,0,0,0,0,0,0,0,0,0,0,0,0,0,0,0,0,"","","","","","","","","0",0,"大池",235028,0,0,"00"]
[29,null,null,null,null,null,null,null,null,null,null,null,null,"","",{"$f":"IF(O32=\"\",\"\",VLOOKUP(O32,所属コード!$A$2:$E$189,2,FALSE))","v":""},{"$f":"IF(O32=\"\",\"\",VLOOKUP(O32,所属コード!$A$2:$G$189,7,FALSE))","v":""},null,null,null,null,null,null,null,"","",null,null,null,null,null,null,null,null,null,null,null,null,null,null,null,null,null,null,null,null,null,null,null,0,0,0,0,0,0,0,0,0,0,0,0,0,0,0,0,0,0,0,0,0,0,0,0,0,0,0,0,0,0,0,0,0,0,0,"","","","","","","","","0",0,"朝明",235029,0,0,"00"]
[30,null,null,null,null,null,null,null,null,null,null,null,null,"","",{"$f":"IF(O33=\"\",\"\",VLOOKUP(O33,所属コード!$A$2:$E$189,2,FALSE))","v":""},{"$f":"IF(O33=\"\",\"\",VLOOKUP(O33,所属コード!$A$2:$G$189,7,FALSE))","v":""},null,null,null,null,null,null,null,"","",null,null,null,null,null,null,null,null,null,null,null,null,null,null,null,null,null,null,null,null,null,null,null,0,0,0,0,0,0,0,0,0,0,0,0,0,0,0,0,0,0,0,0,0,0,0,0,0,0,0,0,0,0,0,0,0,0,0,"","","","","","","","","0",0,"保々",235030,0,0,"00"]
[31,null,null,null,null,null,null,null,null,null,null,null,null,"","",{"$f":"IF(O34=\"\",\"\",VLOOKUP(O34,所属コード!$A$2:$E$189,2,FALSE))","v":""},{"$f":"IF(O34=\"\",\"\",VLOOKUP(O34,所属コード!$A$2:$G$189,7,FALSE))","v":""},null,null,null,null,null,null,null,"","",null,null,null,null,null,null,null,null,null,null,null,null,null,null,null,null,null,null,null,null,null,null,null,0,0,0,0,0,0,0,0,0,0,0,0,0,0,0,0,0,0,0,0,0,0,0,0,0,0,0,0,0,0,0,0,0,0,0,"","","","","","","","","0",0,"常磐",235031,0,0,"00"]
[32,null,null,null,null,null,null,null,null,null,null,null,null,"","",{"$f":"IF(O35=\"\",\"\",VLOOKUP(O35,所属コード!$A$2:$E$189,2,FALSE))","v":""},{"$f":"IF(O35=\"\",\"\",VLOOKUP(O35,所属コード!$A$2:$G$189,7,FALSE))","v":""},null,null,null,null,null,null,null,"","",null,null,null,null,null,null,null,null,null,null,null,null,null,null,null,null,null,null,null,null,null,null,null,0,0,0,0,0,0,0,0,0,0,0,0,0,0,0,0,0,0,0,0,0,0,0,0,0,0,0,0,0,0,0,0,0,0,0,"","","","","","","","","0",0,"西笹川",235032,0,0,"00"]
[33,null,null,null,null,null,null,null,null,null,null,null,null,"","",{"$f":"IF(O36=\"\",\"\",VLOOKUP(O36,所属コード!$A$2:$E$189,2,FALSE))","v":""},{"$f":"IF(O36=\"\",\"\",VLOOKUP(O36,所属コード!$A$2:$G$189,7,FALSE))","v":""},null,null,null,null,null,null,null,"","",null,null,null,null,null,null,null,null,null,null,null,null,null,null,null,null,null,null,null,null,null,null,null,0,{"$f":"AO36","v":0},{"$f":"AO36","v":0},{"$f":"AO36","v":0},{"$f":"AP36","v":0},0,0,0,0,0,0,0,0,0,0,0,0,0,0,0,0,0,0,0,0,0,0,0,0,0,0,0,0,0,0,"","","","","","","",{"$f":"IF(I36=\"3\",3,IF(I36=\"2\",2,IF(I36=\"1\",1,IF(I36=1,1,IF(I36=2,2,IF(I36=3,3,\"\"))))))","v":""},"0",0,"三重平",235033,0,0,"00"]
[34,null,null,null,null,null,null,null,null,null,null,null,null,"","",{"$f":"IF(O37=\"\",\"\",VLOOKUP(O37,所属コード!$A$2:$E$189,2,FALSE))","v":""},{"$f":"IF(O37=\"\",\"\",VLOOKUP(O37,所属コード!$A$2:$G$189,7,FALSE))","v":""},null,null,null,null,null,null,null,"","",null,null,null,null,null,null,null,null,null,null,null,null,null,null,null,null,null,null,null,null,null,null,null,0,0,0,0,0,0,0,0,0,0,0,0,0,0,0,0,0,0,0,0,0,0,0,0,0,0,0,0,0,0,0,0,0,0,0,"","","","","","","","","0",0,"羽津",235034,0,0,"00"]
[35,null,null,null,null,null,null,null,null,null,null,null,null,"","",{"$f":"IF(O38=\"\",\"\",VLOOKUP(O38,所属コード!$A$2:$E$189,2,FALSE))","v":""},{"$f":"IF(O38=\"\",\"\",VLOOKUP(O38,所属コード!$A$2:$G$189,7,FALSE))","v":""},null,null,null,null,null,null,null,"","",null,null,null,null,null,null,null,null,null,null,null,null,null,null,null,null,null,null,null,null,null,null,null,0,0,0,0,0,0,0,0,0,0,0,0,0,0,0,0,0,0,0,0,0,0,0,0,0,0,0,0,0,0,0,0,0,0,0,"","","","","","","","","0",0,"西朝明",235035,0,0,"00"]
[36,null,null,null,null,null,null,null,null,null,null,null,null,"","",{"$f":"IF(O39=\"\",\"\",VLOOKUP(O39,所属コード!$A$2:$E$189,2,FALSE))","v":""},{"$f":"IF(O39=\"\",\"\",VLOOKUP(O39,所属コード!$A$2:$G$189,7,FALSE))","v":""},null,null,null,null,null,null,null,"","",null,null,null,null,null,null,null,null,null,null,null,null,null,null,null,null,null,null,null,null,null,null,null,0,0,0,0,0,0,0,0,0,0,0,0,0,0,0,0,0,0,0,0,0,0,0,0,0,0,0,0,0,0,0,0,0,0,0,"","","","","","","","","0",0,"桜",235036,0,0,"00"]
[37,null,null,null,null,null,null,null,null,null,null,null,null,"","",{"$f":"IF(O40=\"\",\"\",VLOOKUP(O40,所属コード!$A$2:$E$189,2,FALSE))","v":""},{"$f":"IF(O40=\"\",\"\",VLOOKUP(O40,所属コード!$A$2:$G$189,7,FALSE))","v":""},null,null,null,null,null,null,null,"","",null,null,null,null,null,null,null,null,null,null,null,null,null,null,null,null,null,null,null,null,null,null,null,0,0,0,0,0,0,0,0,0,0,0,0,0,0,0,0,0,0,0,0,0,0,0,0,0,0,0,0,0,0,0,0,0,0,0,"","","","","","","","","0",0,"内部",235037,0,0,"00"]
[38,null,null,null,null,null,null,null,null,null,null,null,null,"","",{"$f":"IF(O41=\"\",\"\",VLOOKUP(O41,所属コード!$A$2:$E$189,2,FALSE))","v":""},{"$f":"IF(O41=\"\",\"\",VLOOKUP(O41,所属コード!$A$2:$G$189,7,FALSE))","v":""},null,null,null,null,null,null,null,"","",null,null,null,null,null,null,null,null,null,null,null,null,null,null,null,null,null,null,null,null,null,null,null,0,0,0,0,0,0,0,0,0,0,0,0,0,0,0,0,0,0,0,0,0,0,0,0,0,0,0,0,0,0,0,0,0,0,0,"","","","","","","","","0",0,"暁",235038,0,0,"00"]
[39,null,null,null,null,null,null,null,null,null,null,null,null,"","",{"$f":"IF(O42=\"\",\"\",VLOOKUP(O42,所属コード!$A$2:$E$189,2,FALSE))","v":""},{"$f":"IF(O42=\"\",\"\",VLOOKUP(O42,所属コード!$A$2:$G$189,7,FALSE))","v":""},null,null,null,null,null,null,null,"","",null,null,null,null,null,null,null,null,null,null,null,null,null,null,null,null,null,null,null,null,null,null,null,0,0,0,0,0,0,0,0,0,0,0,0,0,0,0,0,0,0,0,0,0,0,0,0,0,0,0,0,0,0,0,0,0,0,0,"","","","","","","","","0",0,"海星",235039,0,0,"00"]
[40,null,null,null,null,null,null,null,null,null,null,null,null,"","",{"$f":"IF(O43=\"\",\"\",VLOOKUP(O43,所属コード!$A$2:$E$189,2,FALSE))","v":""},{"$f":"IF(O43=\"\",\"\",VLOOKUP(O43,所属コード!$A$2:$G$189,7,FALSE))","v":""},null,null,null,null,null,null,null,"","",null,null,null,null,null,null,null,null,null,null,null,null,null,null,null,null,null,null,null,null,null,null,null,0,0,0,0,0,0,0,0,0,0,0,0,0,0,0,0,0,0,0,0,0,0,0,0,0,0,0,0,0,0,0,0,0,0,0,"","","","","","","","","0",0,"ﾒﾘﾉｰﾙ",235040,0,0,"00"]
[41,null,null,null,null,null,null,null,null,null,null,null,null,"","",{"$f":"IF(O44=\"\",\"\",VLOOKUP(O44,所属コード!$A$2:$E$189,2,FALSE))","v":""},{"$f":"IF(O44=\"\",\"\",VLOOKUP(O44,所属コード!$A$2:$G$189,7,FALSE))","v":""},null,null,null,null,null,null,null,"","",null,null,null,null,null,null,null,null,null,null,null,null,null,null,null,null,null,null,null,null,null,null,null,0,0,0,0,0,0,0,0,0,0,0,0,0,0,0,0,0,0,0,0,0,0,0,0,0,0,0,0,0,0,0,0,0,0,0,"","","","","","","","","0",0,"菰野",235041,0,0,"00"]
[42,null,null,null,null,null,null,null,null,null,null,null,null,"","",{"$f":"IF(O45=\"\",\"\",VLOOKUP(O45,所属コード!$A$2:$E$189,2,FALSE))","v":""},{"$f":"IF(O45=\"\",\"\",VLOOKUP(O45,所属コード!$A$2:$G$189,7,FALSE))","v":""},null,null,null,null,null,null,null,"","",null,null,null,null,null,null,null,null,null,null,null,null,null,null,null,null,null,null,null,null,null,null,null,0,0,0,0,0,0,0,0,0,0,0,0,0,0,0,0,0,0,0,0,0,0,0,0,0,0,0,0,0,0,0,0,0,0,0,"","","","","","","","","0",0,"八風",235042,0,0,"00"]
[43,null,null,null,null,null,null,null,null,null,null,null,null,"","",{"$f":"IF(O46=\"\",\"\",VLOOKUP(O46,所属コード!$A$2:$E$189,2,FALSE))","v":""},{"$f":"IF(O46=\"\",\"\",VLOOKUP(O46,所属コード!$A$2:$G$189,7,FALSE))","v":""},null,null,null,null,null,null,null,"","",null,null,null,null,null,null,null,null,null,null,null,null,null,null,null,null,null,null,null,null,null,null,null,0,0,0,0,0,0,0,0,0,0,0,0,0,0,0,0,0,0,0,0,0,0,0,0,0,0,0,0,0,0,0,0,0,0,0,"","","","","","","","","0",0,"楠",235043,0,0,"00"]
[44,null,null,null,null,null,null,null,null,null,null,null,null,"","",{"$f":"IF(O47=\"\",\"\",VLOOKUP(O47,所属コード!$A$2:$E$189,2,FALSE))","v":""},{"$f":"IF(O47=\"\",\"\",VLOOKUP(O47,所属コード!$A$2:$G$189,7,FALSE))","v":""},null,null,null,null,null,null,null,"","",null,null,null,null,null,null,null,null,null,null,null,null,null,null,null,null,null,null,null,null,null,null,null,0,0,0,0,0,0,0,0,0,0,0,0,0,0,0,0,0,0,0,0,0,0,0,0,0,0,0,0,0,0,0,0,0,0,0,"","","","","","","","","0",0,"朝日",235044,0,0,"00"]
[45,null,null,null,null,null,null,null,null,null,null,null,null,"","",{"$f":"IF(O48=\"\",\"\",VLOOKUP(O48,所属コード!$A$2:$E$189,2,FALSE))","v":""},{"$f":"IF(O48=\"\",\"\",VLOOKUP(O48,所属コード!$A$2:$G$189,7,FALSE))","v":""},null,null,null,null,null,null,null,"","",null,null,null,null,null,null,null,null,null,null,null,null,null,null,null,null,null,null,null,null,null,null,null,0,0,0,0,0,0,0,0,0,0,0,0,0,0,0,0,0,0,0,0,0,0,0,0,0,0,0,0,0,0,0,0,0,0,0,"","","","","","","","","0",0,"川越",235045,0,0,"00"]
[46,null,null,null,null,null,null,null,null,null,null,null,null,"","",{"$f":"IF(O49=\"\",\"\",VLOOKUP(O49,所属コード!$A$2:$E$189,2,FALSE))","v":""},{"$f":"IF(O49=\"\",\"\",VLOOKUP(O49,所属コード!$A$2:$G$189,7,FALSE))","v":""},null,null,null,null,null,null,null,"","",null,null,null,null,null,null,null,null,null,null,null,null,null,null,null,null,null,null,null,null,null,null,null,0,0,0,0,0,0,0,0,0,0,0,0,0,0,0,0,0,0,0,0,0,0,0,0,0,0,0,0,0,0,0,0,0,0,0,"","","","","","","","","0",0,"平田野",235046,0,0,"00"]
[47,null,null,null,null,null,null,null,null,null,null,null,null,"","",{"$f":"IF(O50=\"\",\"\",VLOOKUP(O50,所属コード!$A$2:$E$189,2,FALSE))","v":""},{"$f":"IF(O50=\"\",\"\",VLOOKUP(O50,所属コード!$A$2:$G$189,7,FALSE))","v":""},null,null,null,null,null,null,null,"","",null,null,null,null,null,null,null,null,null,null,null,null,null,null,null,null,null,null,null,null,null,null,null,0,0,0,0,0,0,0,0,0,0,0,0,0,0,0,0,0,0,0,0,0,0,0,0,0,0,0,0,0,0,0,0,0,0,0,"","","","","","","","","0",0,"白鳥",235047,0,0,"00"]
[48,null,null,null,null,null,null,null,null,null,null,null,null,"","",{"$f":"IF(O51=\"\",\"\",VLOOKUP(O51,所属コード!$A$2:$E$189,2,FALSE))","v":""},{"$f":"IF(O51=\"\",\"\",VLOOKUP(O51,所属コード!$A$2:$G$189,7,FALSE))","v":""},null,null,null,null,null,null,null,"","",null,null,null,null,null,null,null,null,null,null,null,null,null,null,null,null,null,null,null,null,null,null,null,0,0,0,0,0,0,0,0,0,0,0,0,0,0,0,0,0,0,0,0,0,0,0,0,0,0,0,0,0,0,0,0,0,0,0,"","","","","","","","","0",0,"神戸",235048,0,0,"00"]
[49,null,null,null,null,null,null,null,null,null,null,null,null,"","",{"$f":"IF(O52=\"\",\"\",VLOOKUP(O52,所属コード!$A$2:$E$189,2,FALSE))","v":""},{"$f":"IF(O52=\"\",\"\",VLOOKUP(O52,所属コード!$A$2:$G$189,7,FALSE))","v":""},null,null,null,null,null,null,null,"","",null,null,null,null,null,null,null,null,null,null,null,null,null,null,null,null,null,null,null,null,null,null,null,0,0,0,0,0,0,0,0,0,0,0,0,0,0,0,0,0,0,0,0,0,0,0,0,0,0,0,0,0,0,0,0,0,0,0,"","","","","","","","","0",0,"大木",235049,0,0,"00"]
[50,null,null,null,null,null,null,null,null,null,null,null,null,"","",{"$f":"IF(O53=\"\",\"\",VLOOKUP(O53,所属コード!$A$2:$E$189,2,FALSE))","v":""},{"$f":"IF(O53=\"\",\"\",VLOOKUP(O53,所属コード!$A$2:$G$189,7,FALSE))","v":""},null,null,null,null,null,null,null,"","",null,null,null,null,null,null,null,null,null,null,null,null,null,null,null,null,null,null,null,null,null,null,null,0,0,0,0,0,0,0,0,0,0,0,0,0,0,0,0,0,0,0,0,0,0,0,0,0,0,0,0,0,0,0,0,0,0,0,"","","","","","","","","0",0,"千代崎",235050,0,0,"00"]
[51,null,null,null,null,null,null,null,null,null,null,null,null,"","",{"$f":"IF(O54=\"\",\"\",VLOOKUP(O54,所属コード!$A$2:$E$189,2,FALSE))","v":""},{"$f":"IF(O54=\"\",\"\",VLOOKUP(O54,所属コード!$A$2:$G$189,7,FALSE))","v":""},null,null,null,null,null,null,null,"","",null,null,null,null,null,null,null,null,null,null,null,null,null,null,null,null,null,null,null,null,null,null,null,0,0,0,0,0,0,0,0,0,0,0,0,0,0,0,0,0,0,0,0,0,0,0,0,0,0,0,0,0,0,0,0,0,0,0,"","","","","","","","","0",0,"白子",235051,0,0,"00"]
[52,null,null,null,null,null,null,null,null,null,null,null,null,"","",{"$f":"IF(O55=\"\",\"\",VLOOKUP(O55,所属コード!$A$2:$E$189,2,FALSE))","v":""},{"$f":"IF(O55=\"\",\"\",VLOOKUP(O55,所属コード!$A$2:$G$189,7,FALSE))","v":""},null,null,null,null,null,null,null,"","",null,null,null,null,null,null,null,null,null,null,null,null,null,null,null,null,null,null,null,null,null,null,null,0,0,0,0,0,0,0,0,0,0,0,0,0,0,0,0,0,0,0,0,0,0,0,0,0,0,0,0,0,0,0,0,0,0,0,"","","","","","","","","0",0,"天栄",235052,0,0,"00"]
[53,null,null,null,null,null,null,null,null,null,null,null,null,"","",{"$f":"IF(O56=\"\",\"\",VLOOKUP(O56,所属コード!$A$2:$E$189,2,FALSE))","v":""},{"$f":"IF(O56=\"\",\"\",VLOOKUP(O56,所属コード!$A$2:$G$189,7,FALSE))","v":""},null,null,null,null,null,null,null,"","",null,null,null,null,null,null,null,null,null,null,null,null,null,null,null,null,null,null,null,null,null,null,null,0,0,0,0,0,0,0,0,0,0,0,0,0,0,0,0,0,0,0,0,0,0,0,0,0,0,0,0,0,0,0,0,0,0,0,"","","","","","","","","0",0,"鈴峰",235053,0,0,"00"]
[54,null,null,null,null,null,null,null,null,null,null,null,null,"","",{"$f":"IF(O57=\"\",\"\",VLOOKUP(O57,所属コード!$A$2:$E$189,2,FALSE))","v":""},{"$f":"IF(O57=\"\",\"\",VLOOKUP(O57,所属コード!$A$2:$G$189,7,FALSE))","v":""},null,null,null,null,null,null,null,"","",null,null,null,null,null,null,null,null,null,null,null,null,null,null,null,null,null,null,null,null,null,null,null,0,0,0,0,0,0,0,0,0,0,0,0,0,0,0,0,0,0,0,0,0,0,0,0,0,0,0,0,0,0,0,0,0,0,0,"","","","","","","","","0",0,"鼓ヶ浦",235054,0,0,"00"]
[55,null,null,null,null,null,null,null,null,null,null,null,null,"","",{"$f":"IF(O58=\"\",\"\",VLOOKUP(O58,所属コード!$A$2:$E$189,2,FALSE))","v":""},{"$f":"IF(O58=\"\",\"\",VLOOKUP(O58,所属コード!$A$2:$G$189,7,FALSE))","v":""},null,null,null,null,null,null,null,"","",null,null,null,null,null,null,null,null,null,null,null,null,null,null,null,null,null,null,null,null,null,null,null,0,0,0,0,0,0,0,0,0,0,0,0,0,0,0,0,0,0,0,0,0,0,0,0,0,0,0,0,0,0,0,0,0,0,0,"","","","","","","","","0",0,"創徳",235055,0,0,"00"]
[56,null,null,null,null,null,null,null,null,null,null,null,null,"","",{"$f":"IF(O59=\"\",\"\",VLOOKUP(O59,所属コード!$A$2:$E$189,2,FALSE))","v":""},{"$f":"IF(O59=\"\",\"\",VLOOKUP(O59,所属コード!$A$2:$G$189,7,FALSE))","v":""},null,null,null,null,null,null,null,"","",null,null,null,null,null,null,null,null,null,null,null,null,null,null,null,null,null,null,null,null,null,null,null,0,0,0,0,0,0,0,0,0,0,0,0,0,0,0,0,0,0,0,0,0,0,0,0,0,0,0,0,0,0,0,0,0,0,0,"","","","","","","","","0",0,"鈴鹿",235056,0,0,"00"]
[57,null,null,null,null,null,null,null,null,null,null,null,null,"","",{"$f":"IF(O60=\"\",\"\",VLOOKUP(O60,所属コード!$A$2:$E$189,2,FALSE))","v":""},{"$f":"IF(O60=\"\",\"\",VLOOKUP(O60,所属コード!$A$2:$G$189,7,FALSE))","v":""},null,null,null,null,null,null,null,"","",null,null,null,null,null,null,null,null,null,null,null,null,null,null,null,null,null,null,null,null,null,null,null,0,0,0,0,0,0,0,0,0,0,0,0,0,0,0,0,0,0,0,0,0,0,0,0,0,0,0,0,0,0,0,0,0,0,0,"","","","","","","","","0",0,"亀山",235057,0,0,"00"]
[58,null,null,null,null,null,null,null,null,null,null,null,null,"","",{"$f":"IF(O61=\"\",\"\",VLOOKUP(O61,所属コード!$A$2:$E$189,2,FALSE))","v":""},{"$f":"IF(O61=\"\",\"\",VLOOKUP(O61,所属コード!$A$2:$G$189,7,FALSE))","v":""},null,null,null,null,null,null,null,"","",null,null,null,null,null,null,null,null,null,null,null,null,null,null,null,null,null,null,null,null,null,null,null,0,0,0,0,0,0,0,0,0,0,0,0,0,0,0,0,0,0,0,0,0,0,0,0,0,0,0,0,0,0,0,0,0,0,0,"","","","","","","","","0",0,"亀山中部",235058,0,0,"00"]
[59,null,null,null,null,null,null,null,null,null,null,null,null,"","",{"$f":"IF(O62=\"\",\"\",VLOOKUP(O62,所属コード!$A$2:$E$189,2,FALSE))","v":""},{"$f":"IF(O62=\"\",\"\",VLOOKUP(O62,所属コード!$A$2:$G$189,7,FALSE))","v":""},null,null,null,null,null,null,null,"","",null,null,null,null,null,null,null,null,null,null,null,null,null,null,null,null,null,null,null,null,null,null,null,0,0,0,0,0,0,0,0,0,0,0,0,0,0,0,0,0,0,0,0,0,0,0,0,0,0,0,0,0,0,0,0,0,0,0,"","","","","","","","","0",0,"関",235059,0,0,"00"]
[60,null,null,null,null,null,null,null,null,null,null,null,null,"","",{"$f":"IF(O63=\"\",\"\",VLOOKUP(O63,所属コード!$A$2:$E$189,2,FALSE))","v":""},{"$f":"IF(O63=\"\",\"\",VLOOKUP(O63,所属コード!$A$2:$G$189,7,FALSE))","v":""},null,null,null,null,null,null,null,"","",null,null,null,null,null,null,null,null,null,null,null,null,null,null,null,null,null,null,null,null,null,null,null,0,0,0,0,0,0,0,0,0,0,0,0,0,0,0,0,0,0,0,0,0,0,0,0,0,0,0,0,0,0,0,0,0,0,0,"","","","","","","","","0",0,"橋北",235060,0,0,"00"]
[61,null,null,null,null,null,null,null,null,null,null,null,null,"","",{"$f":"IF(O64=\"\",\"\",VLOOKUP(O64,所属コード!$A$2:$E$189,2,FALSE))","v":""},{"$f":"IF(O64=\"\",\"\",VLOOKUP(O64,所属コード!$A$2:$G$189,7,FALSE))","v":""},null,null,null,null,null,null,null,"","",null,null,null,null,null,null,null,null,null,null,null,null,null,null,null,null,null,null,null,null,null,null,null,0,0,0,0,0,0,0,0,0,0,0,0,0,0,0,0,0,0,0,0,0,0,0,0,0,0,0,0,0,0,0,0,0,0,0,"","","","","","","","","0",0,"東橋内",235061,0,0,"00"]
[62,null,null,null,null,null,null,null,null,null,null,null,null,"","",{"$f":"IF(O65=\"\",\"\",VLOOKUP(O65,所属コード!$A$2:$E$189,2,FALSE))","v":""},{"$f":"IF(O65=\"\",\"\",VLOOKUP(O65,所属コード!$A$2:$G$189,7,FALSE))","v":""},null,null,null,null,null,null,null,"","",null,null,null,null,null,null,null,null,null,null,null,null,null,null,null,null,null,null,null,null,null,null,null,0,0,0,0,0,0,0,0,0,0,0,0,0,0,0,0,0,0,0,0,0,0,0,0,0,0,0,0,0,0,0,0,0,0,0,"","","","","","","","","0",0,"西橋内",235062,0,0,"00"]
[63,null,null,null,null,null,null,null,null,null,null,null,null,"","",{"$f":"IF(O66=\"\",\"\",VLOOKUP(O66,所属コード!$A$2:$E$189,2,FALSE))","v":""},{"$f":"IF(O66=\"\",\"\",VLOOKUP(O66,所属コード!$A$2:$G$189,7,FALSE))","v":""},null,null,null,null,null,null,null,"","",null,null,null,null,null,null,null,null,null,null,null,null,null,null,null,null,null,null,null,null,null,null,null,0,0,0,0,0,0,0,0,0,0,0,0,0,0,0,0,0,0,0,0,0,0,0,0,0,0,0,0,0,0,0,0,0,0,0,"","","","","","","","","0",0,"橋南",235063,0,0,"00"]
[64,null,null,null,null,null,null,null,null,null,null,null,null,"","",{"$f":"IF(O67=\"\",\"\",VLOOKUP(O67,所属コード!$A$2:$E$189,2,FALSE))","v":""},{"$f":"IF(O67=\"\",\"\",VLOOKUP(O67,所属コード!$A$2:$G$189,7,FALSE))","v":""},null,null,null,null,null,null,null,"","",null,null,null,null,null,null,null,null,null,null,null,null,null,null,null,null,null,null,null,null,null,null,null,0,0,0,0,0,0,0,0,0,0,0,0,0,0,0,0,0,0,0,0,0,0,0,0,0,0,0,0,0,0,0,0,0,0,0,"","","","","","","","","0",0,"南郊",235064,0,0,"00"]
[65,null,null,null,null,null,null,null,null,null,null,null,null,"","",{"$f":"IF(O68=\"\",\"\",VLOOKUP(O68,所属コード!$A$2:$E$189,2,FALSE))","v":""},{"$f":"IF(O68=\"\",\"\",VLOOKUP(O68,所属コード!$A$2:$G$189,7,FALSE))","v":""},null,null,null,null,null,null,null,"","",null,null,null,null,null,null,null,null,null,null,null,null,null,null,null,null,null,null,null,null,null,null,null,0,{"$f":"AO68","v":0},{"$f":"AO68","v":0},{"$f":"AO68","v":0},{"$f":"AP68","v":0},0,0,0,0,0,0,0,0,0,0,0,0,0,0,0,0,0,0,0,0,0,0,0,0,0,0,0,0,0,0,"","","","","","","",{"$f":"IF(I68=\"3\",3,IF(I68=\"2\",2,IF(I68=\"1\",1,IF(I68=1,1,IF(I68=2,2,IF(I68=3,3,\"\"))))))","v":""},"0",0,"西郊",235065,0,0,"00"]
[66,null,null,null,null,null,null,null,null,null,null,null,null,{"$f":"CONCATENATE(L69,M69)","v":""},"",{"$f":"IF(O69=\"\",\"\",VLOOKUP(O69,所属コード!$A$2:$E$189,2,FALSE))","v":""},{"$f":"IF(O69=\"\",\"\",VLOOKUP(O69,所属コード!$A$2:$G$189,7,FALSE))","v":""},null,null,null,null,null,null,null,{"$f":"IF(J69=\"\",\"\",IF(J69=\"男\",1,2))","v":""},{"$f":"ASC(H69)","v":""},null,null,null,null,null,null,null,null,null,null,null,null,null,null,null,null,null,null,null,null,null,null,null,{"$f":"AQ69","v":0},0,0,0,0,{"$f":"AH69","v":0},{"$f":"AL69","v":0},{"$f":"AH69","v":0},{"$f":"AL69","v":0},{"$f":"AK69","v":0},{"$f":"AH69","v":0},{"$f":"AI69","v":0},{"$f":"AN69","v":0},{"$f":"AO69","v":0},{"$f":"AQ69","v":0},{"$f":"AU69","v":0},{"$f":"AV69","v":0},{"$f":"AW69","v":0},{"$f":"AP69","v":0},{"$f":"AH69","v":0},{"$f":"AL69","v":0},{"$f":"AO69","v":0},{"$f":"AS69","v":0},{"$f":"AP69","v":0},{"$f":"AK69","v":0},{"$f":"AU69","v":0},{"$f":"AH69","v":0},{"$f":"AL69","v":0},{"$f":"AP69","v":0},{"$f":"AS69","v":0},{"$f":"AU69","v":0},{"$f":"AN69","v":0},{"$f":"AM69","v":0},{"$f":"AN69","v":0},{"$f":"AU69","v":0},{"$f":"TRIM(G69)","v":""},{"$f":"IF(CG69=\"\",\"\",LEN(CG69))","v":""},{"$f":"IF(CG69=\"\",\"\",FIND(\"　\",CG69,1))","v":""},{"$f":"IF(CG69=\"\",\"\",CH69-CI69)","v":""},{"$f":"IF(CG69=\"\",\"\",LEFT(CG69,CI69-1))","v":""},{"$f":"IF(CG69=\"\",\"\",RIGHT(CG69,CJ69))","v":""},{"$f":"IF(CG69=\"\",\"\",IF(CH69=4,CONCATENATE(CK69,\"　\",\"　\",CL69),IF(CH69=6,CONCATENATE(CK69,CL69),CG69)))","v":""},"","0",{"$f":"K69","v":0},"一身田",235066,{"$f":"IF(L69=1,\"01\",IF(L69=2,\"02\",IF(L69=3,\"03\",IF(L69=4,\"04\",IF(L69=5,\"05\",IF(L69=6,\"06\",IF(L69=7,\"07\",IF(L69=8,\"08\",IF(L69=9,\"09\",L69)))))))))","v":0},{"$f":"IF(M69=1,\"01\",IF(M69=2,\"02\",IF(M69=3,\"03\",IF(M69=4,\"04\",IF(M69=5,\"05\",IF(M69=6,\"06\",IF(M69=7,\"07\",IF(M69=8,\"08\",IF(M69=9,\"09\",M69)))))))))","v":0},{"$f":"CONCATENATE(CS69,CT69)","v":"00"}]
[67,null,null,null,null,null,null,null,null,null,null,null,null,"",{"$f":"IF(G70=\"\",\"\",$O$4)","v":""},{"$f":"IF(O70=\"\",\"\",VLOOKUP(O70,所属コード!$A$2:$E$189,2,FALSE))","v":""},{"$f":"IF(O70=\"\",\"\",VLOOKUP(O70,所属コード!$A$2:$G$189,7,FALSE))","v":""},null,null,null,null,null,null,null,"","",null,null,null,null,null,null,null,null,null,null,null,null,null,null,null,null,null,null,null,null,null,null,null,0,0,0,0,0,0,0,0,0,0,0,0,0,0,0,0,0,0,0,0,0,0,0,0,0,0,0,0,0,0,0,0,0,0,0,"","","","","","","","","0",0,"一身田国児",235067,0,0,"00"]
[68,null,null,null,null,null,null,null,null,null,null,null,null,"","",{"$f":"IF(O71=\"\",\"\",VLOOKUP(O71,所属コード!$A$2:$E$189,2,FALSE))","v":""},{"$f":"IF(O71=\"\",\"\",VLOOKUP(O71,所属コード!$A$2:$G$189,7,FALSE))","v":""},null,null,null,null,null,null,null,"","",null,null,null,null,null,null,null,null,null,null,null,null,null,null,null,null,null,null,null,null,null,null,null,0,0,0,0,0,0,0,0,0,0,0,0,0,0,0,0,0,0,0,0,0,0,0,0,0,0,0,0,0,0,0,0,0,0,0,"","","","","","","","","0",0,"南が丘",235068,0,0,"00"]
[69,null,null,null,null,null,null,null,null,null,null,null,null,"","",{"$f":"IF(O72=\"\",\"\",VLOOKUP(O72,所属コード!$A$2:$E$189,2,FALSE))","v":""},{"$f":"IF(O72=\"\",\"\",VLOOKUP(O72,所属コード!$A$2:$G$189,7,FALSE))","v":""},null,null,null,null,null,null,null,"","",null,null,null,null,null,null,null,null,null,null,null,null,null,null,null,null,null,null,null,null,null,null,null,0,0,0,0,0,0,0,0,0,0,0,0,0,0,0,0,0,0,0,0,0,0,0,0,0,0,0,0,0,0,0,0,0,0,0,"","","","","","","","","0",0,"高田",235069,0,0,"00"]
[70,null,null,null,null,null,null,null,null,null,null,null,null,"","",{"$f":"IF(O73=\"\",\"\",VLOOKUP(O73,所属コード!$A$2:$E$189,2,FALSE))","v":""},{"$f":"IF(O73=\"\",\"\",VLOOKUP(O73,所属コード!$A$2:$G$189,7,FALSE))","v":""},null,null,null,null,null,null,null,"","",null,null,null,null,null,null,null,null,null,null,null,null,null,null,null,null,null,null,null,null,null,null,null,0,0,0,0,0,0,0,0,0,0,0,0,0,0,0,0,0,0,0,0,0,0,0,0,0,0,0,0,0,0,0,0,0,0,0,"","","","","","","","","0",0,"セントヨゼフ",235070,0,0,"00"]
[71,null,null,null,null,null,null,null,null,null,null,null,null,"","",{"$f":"IF(O74=\"\",\"\",VLOOKUP(O74,所属コード!$A$2:$E$189,2,FALSE))","v":""},{"$f":"IF(O74=\"\",\"\",VLOOKUP(O74,所属コード!$A$2:$G$189,7,FALSE))","v":""},null,null,null,null,null,null,null,"","",null,null,null,null,null,null,null,null,null,null,null,null,null,null,null,null,null,null,null,null,null,null,null,0,0,0,0,0,0,0,0,0,0,0,0,0,0,0,0,0,0,0,0,0,0,0,0,0,0,0,0,0,0,0,0,0,0,0,"","","","","","","","","0",0,"三重大附属",235071,0,0,"00"]
[72,null,null,null,null,null,null,null,null,null,null,null,null,"","",{"$f":"IF(O75=\"\",\"\",VLOOKUP(O75,所属コード!$A$2:$E$189,2,FALSE))","v":""},{"$f":"IF(O75=\"\",\"\",VLOOKUP(O75,所属コード!$A$2:$G$189,7,FALSE))","v":""},null,null,null,null,null,null,null,"","",null,null,null,null,null,null,null,null,null,null,null,null,null,null,null,null,null,null,null,null,null,null,null,0,0,0,0,0,0,0,0,0,0,0,0,0,0,0,0,0,0,0,0,0,0,0,0,0,0,0,0,0,0,0,0,0,0,0,"","","","","","","","","0",0,"豊里",235072,0,0,"00"]
[73,null,null,null,null,null,null,null,null,null,null,null,null,"","",{"$f":"IF(O76=\"\",\"\",VLOOKUP(O76,所属コード!$A$2:$E$189,2,FALSE))","v":""},{"$f":"IF(O76=\"\",\"\",VLOOKUP(O76,所属コード!$A$2:$G$189,7,FALSE))","v":""},null,null,null,null,null,null,null,"","",null,null,null,null,null,null,null,null,null,null,null,null,null,null,null,null,null,null,null,null,null,null,null,0,0,0,0,0,0,0,0,0,0,0,0,0,0,0,0,0,0,0,0,0,0,0,0,0,0,0,0,0,0,0,0,0,0,0,"","","","","","","","","0",0,"朝陽",235073,0,0,"00"]
[74,null,null,null,null,null,null,null,null,null,null,null,null,"","",{"$f":"IF(O77=\"\",\"\",VLOOKUP(O77,所属コード!$A$2:$E$189,2,FALSE))","v":""},{"$f":"IF(O77=\"\",\"\",VLOOKUP(O77,所属コード!$A$2:$G$189,7,FALSE))","v":""},null,null,null,null,null,null,null,"","",null,null,null,null,null,null,null,null,null,null,null,null,null,null,null,null,null,null,null,null,null,null,null,0,0,0,0,0,0,0,0,0,0,0,0,0,0,0,0,0,0,0,0,0,0,0,0,0,0,0,0,0,0,0,0,0,0,0,"","","","","","","","","0",0,"芸濃",235074,0,0,"00"]
[75,null,null,null,null,null,null,null,null,null,null,null,null,"","",{"$f":"IF(O78=\"\",\"\",VLOOKUP(O78,所属コード!$A$2:$E$189,2,FALSE))","v":""},{"$f":"IF(O78=\"\",\"\",VLOOKUP(O78,所属コード!$A$2:$G$189,7,FALSE))","v":""},null,null,null,null,null,null,null,"","",null,null,null,null,null,null,null,null,null,null,null,null,null,null,null,null,null,null,null,null,null,null,null,0,0,0,0,0,0,0,0,0,0,0,0,0,0,0,0,0,0,0,0,0,0,0,0,0,0,0,0,0,0,0,0,0,0,0,"","","","","","","","",{"$f":"IF(M78<10,CONCATENATE(0,M78),M78)","v":"0"},0,"美里",235075,0,0,"00"]
[76,null,null,null,null,null,null,null,null,null,null,null,null,"","",{"$f":"IF(O79=\"\",\"\",VLOOKUP(O79,所属コード!$A$2:$E$189,2,FALSE))","v":""},{"$f":"IF(O79=\"\",\"\",VLOOKUP(O79,所属コード!$A$2:$G$189,7,FALSE))","v":""},null,null,null,null,null,null,null,"","",null,null,null,null,null,null,null,null,null,null,null,null,null,null,null,null,null,null,null,null,null,null,null,0,0,0,0,0,0,0,0,0,0,0,0,0,0,0,0,0,0,0,0,0,0,0,0,0,0,0,0,0,0,0,0,0,0,0,"","","","","","","","","0",0,"東観",235076,0,0,"00"]
[77,null,null,null,null,null,null,null,null,null,null,null,null,"","",{"$f":"IF(O80=\"\",\"\",VLOOKUP(O80,所属コード!$A$2:$E$189,2,FALSE))","v":""},{"$f":"IF(O80=\"\",\"\",VLOOKUP(O80,所属コード!$A$2:$G$189,7,FALSE))","v":""},null,null,null,null,null,null,null,"","",null,null,null,null,null,null,null,null,null,null,null,null,null,null,null,null,null,null,null,null,null,null,null,0,0,0,0,0,0,0,0,0,0,0,0,0,0,0,0,0,0,0,0,0,0,0,0,0,0,0,0,0,0,0,0,0,0,0,"","","","","","","","","0",0,"久居",235077,0,0,"00"]
[78,null,null,null,null,null,null,null,null,null,null,null,null,"","",{"$f":"IF(O81=\"\",\"\",VLOOKUP(O81,所属コード!$A$2:$E$189,2,FALSE))","v":""},{"$f":"IF(O81=\"\",\"\",VLOOKUP(O81,所属コード!$A$2:$G$189,7,FALSE))","v":""},null,null,null,null,null,null,null,"","",null,null,null,null,null,null,null,null,null,null,null,null,null,null,null,null,null,null,null,null,null,null,null,0,0,0,0,0,0,0,0,0,0,0,0,0,0,0,0,0,0,0,0,0,0,0,0,0,0,0,0,0,0,0,0,0,0,0,"","","","","","","","","0",0,"久居西",235078,0,0,"00"]
[79,null,null,null,null,null,null,null,null,null,null,null,null,"","",{"$f":"IF(O82=\"\",\"\",VLOOKUP(O82,所属コード!$A$2:$E$189,2,FALSE))","v":""},{"$f":"IF(O82=\"\",\"\",VLOOKUP(O82,所属コード!$A$2:$G$189,7,FALSE))","v":""},null,null,null,null,null,null,null,"","",null,null,null,null,null,null,null,null,null,null,null,null,null,null,null,null,null,null,null,null,null,null,null,0,0,0,0,0,0,0,0,0,0,0,0,0,0,0,0,0,0,0,0,0,0,0,0,0,0,0,0,0,0,0,0,0,0,0,"","","","","","","","","0",0,"久居東",235079,0,0,"00"]
[80,null,null,null,null,null,null,null,null,null,null,null,null,"","",{"$f":"IF(O83=\"\",\"\",VLOOKUP(O83,所属コード!$A$2:$E$189,2,FALSE))","v":""},{"$f":"IF(O83=\"\",\"\",VLOOKUP(O83,所属コード!$A$2:$G$189,7,FALSE))","v":""},null,null,null,null,null,null,null,"","",null,null,null,null,null,null,null,null,null,null,null,null,null,null,null,null,null,null,null,null,null,null,null,0,0,0,0,0,0,0,0,0,0,0,0,0,0,0,0,0,0,0,0,0,0,0,0,0,0,0,0,0,0,0,0,0,0,0,"","","","","","","","","0",0,"香海",235080,0,0,"00"]
[81,null,null,null,null,null,null,null,null,null,null,null,null,"","",{"$f":"IF(O84=\"\",\"\",VLOOKUP(O84,所属コード!$A$2:$E$189,2,FALSE))","v":""},{"$f":"IF(O84=\"\",\"\",VLOOKUP(O84,所属コード!$A$2:$G$189,7,FALSE))","v":""},null,null,null,null,null,null,null,"","",null,null,null,null,null,null,null,null,null,null,null,null,null,null,null,null,null,null,null,null,null,null,null,0,0,0,0,0,0,0,0,0,0,0,0,0,0,0,0,0,0,0,0,0,0,0,0,0,0,0,0,0,0,0,0,0,0,0,"","","","","","","","","0",0,"一志",235081,0,0,"00"]
[82,null,null,null,null,null,null,null,null,null,null,null,null,"","",{"$f":"IF(O85=\"\",\"\",VLOOKUP(O85,所属コード!$A$2:$E$189,2,FALSE))","v":""},{"$f":"IF(O85=\"\",\"\",VLOOKUP(O85,所属コード!$A$2:$G$189,7,FALSE))","v":""},null,null,null,null,null,null,null,"","",null,null,null,null,null,null,null,null,null,null,null,null,null,null,null,null,null,null,null,null,null,null,null,0,0,0,0,0,0,0,0,0,0,0,0,0,0,0,0,0,0,0,0,0,0,0,0,0,0,0,0,0,0,0,0,0,0,0,"","","","","","","","","0",0,"白山",235082,0,0,"00"]
[83,null,null,null,null,null,null,null,null,null,null,null,null,"","",{"$f":"IF(O86=\"\",\"\",VLOOKUP(O86,所属コード!$A$2:$E$189,2,FALSE))","v":""},{"$f":"IF(O86=\"\",\"\",VLOOKUP(O86,所属コード!$A$2:$G$189,7,FALSE))","v":""},null,null,null,null,null,null,null,"","",null,null,null,null,null,null,null,null,null,null,null,null,null,null,null,null,null,null,null,null,null,null,null,0,0,0,0,0,0,0,0,0,0,0,0,0,0,0,0,0,0,0,0,0,0,0,0,0,0,0,0,0,0,0,0,0,0,0,"","","","","","","","","0",0,"嬉野",235083,0,0,"00"]
[84,null,null,null,null,null,null,null,null,null,null,null,null,"","",{"$f":"IF(O87=\"\",\"\",VLOOKUP(O87,所属コード!$A$2:$E$189,2,FALSE))","v":""},{"$f":"IF(O87=\"\",\"\",VLOOKUP(O87,所属コード!$A$2:$G$189,7,FALSE))","v":""},null,null,null,null,null,null,null,"","",null,null,null,null,null,null,null,null,null,null,null,null,null,null,null,null,null,null,null,null,null,null,null,0,0,0,0,0,0,0,0,0,0,0,0,0,0,0,0,0,0,0,0,0,0,0,0,0,0,0,0,0,0,0,0,0,0,0,"","","","","","","","","0",0,"美杉",235084,0,0,"00"]
[85,null,null,null,null,null,null,null,null,null,null,null,null,"","",{"$f":"IF(O88=\"\",\"\",VLOOKUP(O88,所属コード!$A$2:$E$189,2,FALSE))","v":""},{"$f":"IF(O88=\"\",\"\",VLOOKUP(O88,所属コード!$A$2:$G$189,7,FALSE))","v":""},null,null,null,null,null,null,null,"","",null,null,null,null,null,null,null,null,null,null,null,null,null,null,null,null,null,null,null,null,null,null,null,0,0,0,0,0,0,0,0,0,0,0,0,0,0,0,0,0,0,0,0,0,0,0,0,0,0,0,0,0,0,0,0,0,0,0,"","","","","","","","","0",0,"三雲",235085,0,0,"00"]
[86,null,null,null,null,null,null,null,null,null,null,null,null,"","",{"$f":"IF(O89=\"\",\"\",VLOOKUP(O89,所属コード!$A$2:$E$189,2,FALSE))","v":""},{"$f":"IF(O89=\"\",\"\",VLOOKUP(O89,所属コード!$A$2:$G$189,7,FALSE))","v":""},null,null,null,null,null,null,null,"","",null,null,null,null,null,null,null,null,null,null,null,null,null,null,null,null,null,null,null,null,null,null,null,0,0,0,0,0,0,0,0,0,0,0,0,0,0,0,0,0,0,0,0,0,0,0,0,0,0,0,0,0,0,0,0,0,0,0,"","","","","","","","","0",0,"殿町",235086,0,0,"00"]
[87,null,null,null,null,null,null,null,null,null,null,null,null,"","",{"$f":"IF(O90=\"\",\"\",VLOOKUP(O90,所属コード!$A$2:$E$189,2,FALSE))","v":""},{"$f":"IF(O90=\"\",\"\",VLOOKUP(O90,所属コード!$A$2:$G$189,7,FALSE))","v":""},null,null,null,null,null,null,null,"","",null,null,null,null,null,null,null,null,null,null,null,null,null,null,null,null,null,null,null,null,null,null,null,0,0,0,0,0,0,0,0,0,0,0,0,0,0,0,0,0,0,0,0,0,0,0,0,0,0,0,0,0,0,0,0,0,0,0,"","","","","","","","","0",0,"鎌田",235087,0,0,"00"]
[88,null,null,null,null,null,null,null,null,null,null,null,null,"","",{"$f":"IF(O91=\"\",\"\",VLOOKUP(O91,所属コード!$A$2:$E$189,2,FALSE))","v":""},{"$f":"IF(O91=\"\",\"\",VLOOKUP(O91,所属コード!$A$2:$G$189,7,FALSE))","v":""},null,null,null,null,null,null,null,"","",null,null,null,null,null,null,null,null,null,null,null,null,null,null,null,null,null,null,null,null,null,null,null,0,0,0,0,0,0,0,0,0,0,0,0,0,0,0,0,0,0,0,0,0,0,0,0,0,0,0,0,0,0,0,0,0,0,0,"","","","","","","","","0",0,"久保",235088,0,0,"00"]
[89,null,null,null,null,null,null,null,null,null,null,null,null,"","",{"$f":"IF(O92=\"\",\"\",VLOOKUP(O92,所属コード!$A$2:$E$189,2,FALSE))","v":""},{"$f":"IF(O92=\"\",\"\",VLOOKUP(O92,所属コード!$A$2:$G$189,7,FALSE))","v":""},null,null,null,null,null,null,null,"","",null,null,null,null,null,null,null,null,null,null,null,null,null,null,null,null,null,null,null,null,null,null,null,0,0,0,0,0,0,0,0,0,0,0,0,0,0,0,0,0,0,0,0,0,0,0,0,0,0,0,0,0,0,0,0,0,0,0,"","","","","","","","","0",0,"松阪東部",235089,0,0,"00"]
[90,null,null,null,null,null,null,null,null,null,null,null,null,"","",{"$f":"IF(O93=\"\",\"\",VLOOKUP(O93,所属コード!$A$2:$E$189,2,FALSE))","v":""},{"$f":"IF(O93=\"\",\"\",VLOOKUP(O93,所属コード!$A$2:$G$189,7,FALSE))","v":""},null,null,null,null,null,null,null,"","",null,null,null,null,null,null,null,null,null,null,null,null,null,null,null,null,null,null,null,null,null,null,null,0,0,0,0,0,0,0,0,0,0,0,0,0,0,0,0,0,0,0,0,0,0,0,0,0,0,0,0,0,0,0,0,0,0,0,"","","","","","","","","0",0,"松阪中部",235090,0,0,"00"]
[91,null,null,null,null,null,null,null,null,null,null,null,null,"","",{"$f":"IF(O94=\"\",\"\",VLOOKUP(O94,所属コード!$A$2:$E$189,2,FALSE))","v":""},{"$f":"IF(O94=\"\",\"\",VLOOKUP(O94,所属コード!$A$2:$G$189,7,FALSE))","v":""},null,null,null,null,null,null,null,"","",null,null,null,null,null,null,null,null,null,null,null,null,null,null,null,null,null,null,null,null,null,null,null,0,0,0,0,0,0,0,0,0,0,0,0,0,0,0,0,0,0,0,0,0,0,0,0,0,0,0,0,0,0,0,0,0,0,0,"","","","","","","","","0",0,"大江",235091,0,0,"00"]
[92,null,null,null,null,null,null,null,null,null,null,null,null,"","",{"$f":"IF(O95=\"\",\"\",VLOOKUP(O95,所属コード!$A$2:$E$189,2,FALSE))","v":""},{"$f":"IF(O95=\"\",\"\",VLOOKUP(O95,所属コード!$A$2:$G$189,7,FALSE))","v":""},null,null,null,null,null,null,null,"","",null,null,null,null,null,null,null,null,null,null,null,null,null,null,null,null,null,null,null,null,null,null,null,0,0,0,0,0,0,0,0,0,0,0,0,0,0,0,0,0,0,0,0,0,0,0,0,0,0,0,0,0,0,0,0,0,0,0,"","","","","","","","","0",0,"西",235092,0,0,"00"]
[93,null,null,null,null,null,null,null,null,null,null,null,null,"","",{"$f":"IF(O96=\"\",\"\",VLOOKUP(O96,所属コード!$A$2:$E$189,2,FALSE))","v":""},{"$f":"IF(O96=\"\",\"\",VLOOKUP(O96,所属コード!$A$2:$G$189,7,FALSE))","v":""},null,null,null,null,null,null,null,"","",null,null,null,null,null,null,null,null,null,null,null,null,null,null,null,null,null,null,null,null,null,null,null,0,0,0,0,0,0,0,0,0,0,0,0,0,0,0,0,0,0,0,0,0,0,0,0,0,0,0,0,0,0,0,0,0,0,0,"","","","","","","","","0",0,"三重",235093,0,0,"00"]
[94,null,null,null,null,null,null,null,null,null,null,null,null,"","",{"$f":"IF(O97=\"\",\"\",VLOOKUP(O97,所属コード!$A$2:$E$189,2,FALSE))","v":""},{"$f":"IF(O97=\"\",\"\",VLOOKUP(O97,所属コード!$A$2:$G$189,7,FALSE))","v":""},null,null,null,null,null,null,null,"","",null,null,null,null,null,null,null,null,null,null,null,null,null,null,null,null,null,null,null,null,null,null,null,0,0,0,0,0,0,0,0,0,0,0,0,0,0,0,0,0,0,0,0,0,0,0,0,0,0,0,0,0,0,0,0,0,0,0,"","","","","","","","","0",0,"飯南",235094,0,0,"00"]
[95,null,null,null,null,null,null,null,null,null,null,null,null,"","",{"$f":"IF(O98=\"\",\"\",VLOOKUP(O98,所属コード!$A$2:$E$189,2,FALSE))","v":""},{"$f":"IF(O98=\"\",\"\",VLOOKUP(O98,所属コード!$A$2:$G$189,7,FALSE))","v":""},null,null,null,null,null,null,null,"","",null,null,null,null,null,null,null,null,null,null,null,null,null,null,null,null,null,null,null,null,null,null,null,0,0,0,0,0,0,0,0,0,0,0,0,0,0,0,0,0,0,0,0,0,0,0,0,0,0,0,0,0,0,0,0,0,0,0,"","","","","","","","","0",0,"飯高西",235095,0,0,"00"]
[96,null,null,null,null,null,null,null,null,null,null,null,null,"","",{"$f":"IF(O99=\"\",\"\",VLOOKUP(O99,所属コード!$A$2:$E$189,2,FALSE))","v":""},{"$f":"IF(O99=\"\",\"\",VLOOKUP(O99,所属コード!$A$2:$G$189,7,FALSE))","v":""},null,null,null,null,null,null,null,"","",null,null,null,null,null,null,null,null,null,null,null,null,null,null,null,null,null,null,null,null,null,null,null,0,0,0,0,0,0,0,0,0,0,0,0,0,0,0,0,0,0,0,0,0,0,0,0,0,0,0,0,0,0,0,0,0,0,0,"","","","","","","","","0",0,"飯高東",235096,0,0,"00"]
[97,null,null,null,null,null,null,null,null,null,null,null,null,"","",{"$f":"IF(O100=\"\",\"\",VLOOKUP(O100,所属コード!$A$2:$E$189,2,FALSE))","v":""},{"$f":"IF(O100=\"\",\"\",VLOOKUP(O100,所属コード!$A$2:$G$189,7,FALSE))","v":""},null,null,null,null,null,null,null,"","",null,null,null,null,null,null,null,null,null,null,null,null,null,null,null,null,null,null,null,null,null,null,null,0,{"$f":"AO100","v":0},{"$f":"AO100","v":0},{"$f":"AO100","v":0},{"$f":"AP100","v":0},0,0,0,0,0,0,0,0,0,0,0,0,0,0,0,0,0,0,0,0,0,0,0,0,0,0,0,0,0,0,"","","","","","","",{"$f":"IF(I100=\"3\",3,IF(I100=\"2\",2,IF(I100=\"1\",1,IF(I100=1,1,IF(I100=2,2,IF(I100=3,3,\"\"))))))","v":""},"0",0,"多気",235097,0,0,"00"]
[98,null,null,null,null,null,null,null,null,null,null,null,null,"","",{"$f":"IF(O101=\"\",\"\",VLOOKUP(O101,所属コード!$A$2:$E$189,2,FALSE))","v":""},{"$f":"IF(O101=\"\",\"\",VLOOKUP(O101,所属コード!$A$2:$G$189,7,FALSE))","v":""},null,null,null,null,null,null,null,"","",null,null,null,null,null,null,null,null,null,null,null,null,null,null,null,null,null,null,null,null,null,null,null,0,0,0,0,0,0,0,0,0,0,0,0,0,0,0,0,0,0,0,0,0,0,0,0,0,0,0,0,0,0,0,0,0,0,0,"","","","","","","","","0",0,"明和",235098,0,0,"00"]
[99,null,null,null,null,null,null,null,null,null,null,null,null,"","",{"$f":"IF(O102=\"\",\"\",VLOOKUP(O102,所属コード!$A$2:$E$189,2,FALSE))","v":""},{"$f":"IF(O102=\"\",\"\",VLOOKUP(O102,所属コード!$A$2:$G$189,7,FALSE))","v":""},null,null,null,null,null,null,null,"","",null,null,null,null,null,null,null,null,null,null,null,null,null,null,null,null,null,null,null,null,null,null,null,0,0,0,0,0,0,0,0,0,0,0,0,0,0,0,0,0,0,0,0,0,0,0,0,0,0,0,0,0,0,0,0,0,0,0,"","","","","","","","","0",0,"協和",235099,0,0,"00"]
[100,null,null,null,null,null,null,null,null,null,null,null,null,"","",{"$f":"IF(O103=\"\",\"\",VLOOKUP(O103,所属コード!$A$2:$E$189,2,FALSE))","v":""},{"$f":"IF(O103=\"\",\"\",VLOOKUP(O103,所属コード!$A$2:$G$189,7,FALSE))","v":""},null,null,null,null,null,null,null,"","",null,null,null,null,null,null,null,null,null,null,null,null,null,null,null,null,null,null,null,null,null,null,null,0,0,0,0,0,0,0,0,0,0,0,0,0,0,0,0,0,0,0,0,0,0,0,0,0,0,0,0,0,0,0,0,0,0,0,"","","","","","","","","0",0,"大台",235100,0,0,"00"]
[101,null,null,null,null,null,null,null,null,null,null,null,null,"","",{"$f":"IF(O104=\"\",\"\",VLOOKUP(O104,所属コード!$A$2:$E$189,2,FALSE))","v":""},{"$f":"IF(O104=\"\",\"\",VLOOKUP(O104,所属コード!$A$2:$G$189,7,FALSE))","v":""},null,null,null,null,null,null,null,"","",null,null,null,null,null,null,null,null,null,null,null,null,null,null,null,null,null,null,null,null,null,null,null,0,0,0,0,0,0,0,0,0,0,0,0,0,0,0,0,0,0,0,0,0,0,0,0,0,0,0,0,0,0,0,0,0,0,0,"","","","","","","","","0",0,"勢和",235101,0,0,"00"]
[102,null,null,null,null,null,null,null,null,null,null,null,null,"","",{"$f":"IF(O105=\"\",\"\",VLOOKUP(O105,所属コード!$A$2:$E$189,2,FALSE))","v":""},{"$f":"IF(O105=\"\",\"\",VLOOKUP(O105,所属コード!$A$2:$G$189,7,FALSE))","v":""},null,null,null,null,null,null,null,"","",null,null,null,null,null,null,null,null,null,null,null,null,null,null,null,null,null,null,null,null,null,null,null,0,0,0,0,0,0,0,0,0,0,0,0,0,0,0,0,0,0,0,0,0,0,0,0,0,0,0,0,0,0,0,0,0,0,0,"","","","","","","","","0",0,"多気宮川",235102,0,0,"00"]
[103,null,null,null,null,null,null,null,null,null,null,null,null,"","",{"$f":"IF(O106=\"\",\"\",VLOOKUP(O106,所属コード!$A$2:$E$189,2,FALSE))","v":""},{"$f":"IF(O106=\"\",\"\",VLOOKUP(O106,所属コード!$A$2:$G$189,7,FALSE))","v":""},null,null,null,null,null,null,null,"","",null,null,null,null,null,null,null,null,null,null,null,null,null,null,null,null,null,null,null,null,null,null,null,0,0,0,0,0,0,0,0,0,0,0,0,0,0,0,0,0,0,0,0,0,0,0,0,0,0,0,0,0,0,0,0,0,0,0,"","","","","","","","","0",0,"倉田山",235103,0,0,"00"]
[104,null,null,null,null,null,null,null,null,null,null,null,null,"","",{"$f":"IF(O107=\"\",\"\",VLOOKUP(O107,所属コード!$A$2:$E$189,2,FALSE))","v":""},{"$f":"IF(O107=\"\",\"\",VLOOKUP(O107,所属コード!$A$2:$G$189,7,FALSE))","v":""},null,null,null,null,null,null,null,"","",null,null,null,null,null,null,null,null,null,null,null,null,null,null,null,null,null,null,null,null,null,null,null,0,0,0,0,0,0,0,0,0,0,0,0,0,0,0,0,0,0,0,0,0,0,0,0,0,0,0,0,0,0,0,0,0,0,0,"","","","","","","","","0",0,"厚生",235104,0,0,"00"]
[105,null,null,null,null,null,null,null,null,null,null,null,null,"","",{"$f":"IF(O108=\"\",\"\",VLOOKUP(O108,所属コード!$A$2:$E$189,2,FALSE))","v":""},{"$f":"IF(O108=\"\",\"\",VLOOKUP(O108,所属コード!$A$2:$G$189,7,FALSE))","v":""},null,null,null,null,null,null,null,"","",null,null,null,null,null,null,null,null,null,null,null,null,null,null,null,null,null,null,null,null,null,null,null,0,0,0,0,0,0,0,0,0,0,0,0,0,0,0,0,0,0,0,0,0,0,0,0,0,0,0,0,0,0,0,0,0,0,0,"","","","","","","","","0",0,"伊勢宮川",235105,0,0,"00"]
[106,null,null,null,null,null,null,null,null,null,null,null,null,"","",{"$f":"IF(O109=\"\",\"\",VLOOKUP(O109,所属コード!$A$2:$E$189,2,FALSE))","v":""},{"$f":"IF(O109=\"\",\"\",VLOOKUP(O109,所属コード!$A$2:$G$189,7,FALSE))","v":""},null,null,null,null,null,null,null,"","",null,null,null,null,null,null,null,null,null,null,null,null,null,null,null,null,null,null,null,null,null,null,null,0,0,0,0,0,0,0,0,0,0,0,0,0,0,0,0,0,0,0,0,0,0,0,0,0,0,0,0,0,0,0,0,0,0,0,"","","","","","","","","0",0,"伊勢港",235106,0,0,"00"]
[107,null,null,null,null,null,null,null,null,null,null,null,null,"","",{"$f":"IF(O110=\"\",\"\",VLOOKUP(O110,所属コード!$A$2:$E$189,2,FALSE))","v":""},{"$f":"IF(O110=\"\",\"\",VLOOKUP(O110,所属コード!$A$2:$G$189,7,FALSE))","v":""},null,null,null,null,null,null,null,"","",null,null,null,null,null,null,null,null,null,null,null,null,null,null,null,null,null,null,null,null,null,null,null,0,0,0,0,0,0,0,0,0,0,0,0,0,0,0,0,0,0,0,0,0,0,0,0,0,0,0,0,0,0,0,0,0,0,0,"","","","","","","","","0",0,"豊浜",235107,0,0,"00"]
[108,null,null,null,null,null,null,null,null,null,null,null,null,"","",{"$f":"IF(O111=\"\",\"\",VLOOKUP(O111,所属コード!$A$2:$E$189,2,FALSE))","v":""},{"$f":"IF(O111=\"\",\"\",VLOOKUP(O111,所属コード!$A$2:$G$189,7,FALSE))","v":""},null,null,null,null,null,null,null,"","",null,null,null,null,null,null,null,null,null,null,null,null,null,null,null,null,null,null,null,null,null,null,null,0,0,0,0,0,0,0,0,0,0,0,0,0,0,0,0,0,0,0,0,0,0,0,0,0,0,0,0,0,0,0,0,0,0,0,"","","","","","","","","0",0,"北浜",235108,0,0,"00"]
[109,null,null,null,null,null,null,null,null,null,null,null,null,"","",{"$f":"IF(O112=\"\",\"\",VLOOKUP(O112,所属コード!$A$2:$E$189,2,FALSE))","v":""},{"$f":"IF(O112=\"\",\"\",VLOOKUP(O112,所属コード!$A$2:$G$189,7,FALSE))","v":""},null,null,null,null,null,null,null,"","",null,null,null,null,null,null,null,null,null,null,null,null,null,null,null,null,null,null,null,null,null,null,null,0,0,0,0,0,0,0,0,0,0,0,0,0,0,0,0,0,0,0,0,0,0,0,0,0,0,0,0,0,0,0,0,0,0,0,"","","","","","","","","0",0,"沼木",235109,0,0,"00"]
[110,null,null,null,null,null,null,null,null,null,null,null,null,"","",{"$f":"IF(O113=\"\",\"\",VLOOKUP(O113,所属コード!$A$2:$E$189,2,FALSE))","v":""},{"$f":"IF(O113=\"\",\"\",VLOOKUP(O113,所属コード!$A$2:$G$189,7,FALSE))","v":""},null,null,null,null,null,null,null,"","",null,null,null,null,null,null,null,null,null,null,null,null,null,null,null,null,null,null,null,null,null,null,null,0,0,0,0,0,0,0,0,0,0,0,0,0,0,0,0,0,0,0,0,0,0,0,0,0,0,0,0,0,0,0,0,0,0,0,"","","","","","","","","0",0,"城田",235110,0,0,"00"]
[null,null,null,null,null,null,null,null,null,null,null,null,null,null,null,null,null,null,null,null,null,null,null,null,null,null,null,null,null,null,null,null,null,null,null,null,null,null,null,null,null,null,null,null,null,null,null,null,null,null,null,null,null,null,null,null,null,null,null,null,null,null,null,null,null,null,null,null,null,null,null,null,null,null,null,null,null,null,null,null,null,null,null,null,null,{"$f":"IF(AJ114=\"\",\"\",LEN(AJ114))","v":""},{"$f":"IF(AJ114=\"\",\"\",FIND(\"　\",AJ114,1))","v":""},{"$f":"IF(AJ114=\"\",\"\",CH114-CI114)","v":""},{"$f":"IF(AJ114=\"\",\"\",LEFT(AJ114,CI114-1))","v":""},{"$f":"IF(AJ114=\"\",\"\",RIGHT(AJ114,CJ114))","v":""},{"$f":"IF(AJ114=\"\",\"\",IF(CH114=4,CONCATENATE(CK114,\"　\",\"　\",CL114),IF(CH114=6,CONCATENATE(CK114,CL114),AJ114)))","v":""},null,null,null,"五十鈴",235111]
[null,null,null,null,null,null,null,null,null,null,null,null,null,null,null,null,null,null,null,null,null,null,null,null,null,null,null,null,null,null,null,null,null,null,null,null,null,null,null,null,null,null,null,null,null,null,null,null,null,null,null,null,null,null,null,null,null,null,null,null,null,null,null,null,null,null,null,null,null,null,null,null,null,null,null,null,null,null,null,null,null,null,null,null,null,{"$f":"IF(AJ115=\"\",\"\",LEN(AJ115))","v":""},{"$f":"IF(AJ115=\"\",\"\",FIND(\"　\",AJ115,1))","v":""},{"$f":"IF(AJ115=\"\",\"\",CH115-CI115)","v":""},{"$f":"IF(AJ115=\"\",\"\",LEFT(AJ115,CI115-1))","v":""},{"$f":"IF(AJ115=\"\",\"\",RIGHT(AJ115,CJ115))","v":""},{"$f":"IF(AJ115=\"\",\"\",IF(CH115=4,CONCATENATE(CK115,\"　\",\"　\",CL115),IF(CH115=6,CONCATENATE(CK115,CL115),AJ115)))","v":""},null,null,null,"皇學館",235112]
[null,null,null,null,null,null,null,null,null,null,null,null,null,null,null,null,null,null,null,null,null,null,null,null,null,null,null,null,null,null,null,null,null,null,null,null,null,null,null,null,null,null,null,null,null,null,null,null,null,null,null,null,null,null,null,null,null,null,null,null,null,null,null,null,null,null,null,null,null,null,null,null,null,null,null,null,null,null,null,null,null,null,null,null,null,{"$f":"IF(AJ116=\"\",\"\",LEN(AJ116))","v":""},{"$f":"IF(AJ116=\"\",\"\",FIND(\"　\",AJ116,1))","v":""},{"$f":"IF(AJ116=\"\",\"\",CH116-CI116)","v":""},{"$f":"IF(AJ116=\"\",\"\",LEFT(AJ116,CI116-1))","v":""},{"$f":"IF(AJ116=\"\",\"\",RIGHT(AJ116,CJ116))","v":""},{"$f":"IF(AJ116=\"\",\"\",IF(CH116=4,CONCATENATE(CK116,\"　\",\"　\",CL116),IF(CH116=6,CONCATENATE(CK116,CL116),AJ116)))","v":""},null,null,null,"二見",235113]
[null,null,null,null,null,null,null,null,null,null,null,null,null,null,null,null,null,null,null,null,null,null,null,null,null,null,null,null,null,null,null,null,null,null,null,null,null,null,null,null,null,null,null,null,null,null,null,null,null,null,null,null,null,null,null,null,null,null,null,null,null,null,null,null,null,null,null,null,null,null,null,null,null,null,null,null,null,null,null,null,null,null,null,null,null,{"$f":"IF(AJ117=\"\",\"\",LEN(AJ117))","v":""},{"$f":"IF(AJ117=\"\",\"\",FIND(\"　\",AJ117,1))","v":""},{"$f":"IF(AJ117=\"\",\"\",CH117-CI117)","v":""},{"$f":"IF(AJ117=\"\",\"\",LEFT(AJ117,CI117-1))","v":""},{"$f":"IF(AJ117=\"\",\"\",RIGHT(AJ117,CJ117))","v":""},{"$f":"IF(AJ117=\"\",\"\",IF(CH117=4,CONCATENATE(CK117,\"　\",\"　\",CL117),IF(CH117=6,CONCATENATE(CK117,CL117),AJ117)))","v":""},null,null,null,"御薗",235114]
[null,null,null,null,null,null,null,null,null,null,null,null,null,null,null,null,null,null,null,null,null,null,null,null,null,null,null,null,null,null,null,null,null,null,null,null,null,null,null,null,null,null,null,null,null,null,null,null,null,null,null,null,null,null,null,null,null,null,null,null,null,null,null,null,null,null,null,null,null,null,null,null,null,null,null,null,null,null,null,null,null,null,null,null,null,{"$f":"IF(AJ118=\"\",\"\",LEN(AJ118))","v":""},{"$f":"IF(AJ118=\"\",\"\",FIND(\"　\",AJ118,1))","v":""},{"$f":"IF(AJ118=\"\",\"\",CH118-CI118)","v":""},{"$f":"IF(AJ118=\"\",\"\",LEFT(AJ118,CI118-1))","v":""},{"$f":"IF(AJ118=\"\",\"\",RIGHT(AJ118,CJ118))","v":""},{"$f":"IF(AJ118=\"\",\"\",IF(CH118=4,CONCATENATE(CK118,\"　\",\"　\",CL118),IF(CH118=6,CONCATENATE(CK118,CL118),AJ118)))","v":""},null,null,null,"小俣",235115]
[null,null,null,null,null,null,null,null,null,null,null,null,null,null,null,null,null,null,null,null,null,null,null,null,null,null,null,null,null,null,null,null,null,null,null,null,null,null,null,null,null,null,null,null,null,null,null,null,null,null,null,null,null,null,null,null,null,null,null,null,null,null,null,null,null,null,null,null,null,null,null,null,null,null,null,null,null,null,null,null,null,null,null,null,null,null,null,null,null,null,null,null,null,null,"玉城",235116]
[null,null,null,null,null,null,null,null,null,null,null,null,null,null,null,null,null,null,null,null,null,null,null,null,null,null,null,null,null,null,null,null,null,null,null,null,null,null,null,null,null,null,null,null,null,null,null,null,null,null,null,null,null,null,null,null,null,null,null,null,null,null,null,null,null,null,null,null,null,null,null,null,null,null,null,null,null,null,null,null,null,null,null,null,null,null,null,null,null,null,null,null,null,null,"大宮",235117]
[null,null,null,null,null,null,null,null,null,null,null,null,null,null,null,null,null,null,null,null,null,null,null,null,null,null,null,null,null,null,null,null,null,null,null,null,null,null,null,null,null,null,null,null,null,null,null,null,null,null,null,null,null,null,null,null,null,null,null,null,null,null,null,null,null,null,null,null,null,null,null,null,null,null,null,null,null,null,null,null,null,null,null,null,null,null,null,null,null,null,null,null,null,null,"大紀",235119]
[null,null,null,null,null,null,null,null,null,null,null,null,null,null,null,null,null,null,null,null,null,null,null,null,null,null,null,null,null,null,null,null,null,null,null,null,null,null,null,null,null,null,null,null,null,null,null,null,null,null,null,null,null,null,null,null,null,null,null,null,null,null,null,null,null,null,null,null,null,null,null,null,null,null,null,null,null,null,null,null,null,null,null,null,null,null,null,null,null,null,null,null,null,null,"南島",235121]
[null,null,null,null,null,null,null,null,null,null,null,null,null,null,null,null,null,null,null,null,null,null,null,null,null,null,null,null,null,null,null,null,null,null,null,null,null,null,null,null,null,null,null,null,null,null,null,null,null,null,null,null,null,null,null,null,null,null,null,null,null,null,null,null,null,null,null,null,null,null,null,null,null,null,null,null,null,null,null,null,null,null,null,null,null,null,null,null,null,null,null,null,null,null,"南島西",235122]
[null,null,null,null,null,null,null,null,null,null,null,null,null,null,null,null,null,null,null,null,null,null,null,null,null,null,null,null,null,null,null,null,null,null,null,null,null,null,null,null,null,null,null,null,null,null,null,null,null,null,null,null,null,null,null,null,null,null,null,null,null,null,null,null,null,null,null,null,null,null,null,null,null,null,null,null,null,null,null,null,null,null,null,null,null,null,null,null,null,null,null,null,null,null,"南勢",235123]
[null,null,null,null,null,null,null,null,null,null,null,null,null,null,null,null,null,null,null,null,null,null,null,null,null,null,null,null,null,null,null,null,null,null,null,null,null,null,null,null,null,null,null,null,null,null,null,null,null,null,null,null,null,null,null,null,null,null,null,null,null,null,null,null,null,null,null,null,null,null,null,null,null,null,null,null,null,null,null,null,null,null,null,null,null,null,null,null,null,null,null,null,null,null,"度会",235124]
[null,null,null,null,null,null,null,null,null,null,null,null,null,null,null,null,null,null,null,null,null,null,null,null,null,null,null,null,null,null,null,null,null,null,null,null,null,null,null,null,null,null,null,null,null,null,null,null,null,null,null,null,null,null,null,null,null,null,null,null,null,null,null,null,null,null,null,null,null,null,null,null,null,null,null,null,null,null,null,null,null,null,null,null,null,null,null,null,null,null,null,null,null,null,"鳥羽東",235125]
[null,null,null,null,null,null,null,null,null,null,null,null,null,null,null,null,null,null,null,null,null,null,null,null,null,null,null,null,null,null,null,null,null,null,null,null,null,null,null,null,null,null,null,null,null,null,null,null,null,null,null,null,null,null,null,null,null,null,null,null,null,null,null,null,null,null,null,null,null,null,null,null,null,null,null,null,null,null,null,null,null,null,null,null,null,null,null,null,null,null,null,null,null,null,"答志",235126]
[null,null,null,null,null,null,null,null,null,null,null,null,null,null,null,null,null,null,null,null,null,null,null,null,null,null,null,null,null,null,null,null,null,null,null,null,null,null,null,null,null,null,null,null,null,null,null,null,null,null,null,null,null,null,null,null,null,null,null,null,null,null,null,null,null,null,null,null,null,null,null,null,null,null,null,null,null,null,null,null,null,null,null,null,null,null,null,null,null,null,null,null,null,null,"神島",235127]
[null,null,null,null,null,null,null,null,null,null,null,null,null,null,null,null,null,null,null,null,null,null,null,null,null,null,null,null,null,null,null,null,null,null,null,null,null,null,null,null,null,null,null,null,null,null,null,null,null,null,null,null,null,null,null,null,null,null,null,null,null,null,null,null,null,null,null,null,null,null,null,null,null,null,null,null,null,null,null,null,null,null,null,null,null,null,null,null,null,null,null,null,null,null,"加茂",235128]
[null,null,null,null,null,null,null,null,null,null,null,null,null,null,null,null,null,null,null,null,null,null,null,null,null,null,null,null,null,null,null,null,null,null,null,null,null,null,null,null,null,null,null,null,null,null,null,null,null,null,null,null,null,null,null,null,null,null,null,null,null,null,null,null,null,null,null,null,null,null,null,null,null,null,null,null,null,null,null,null,null,null,null,null,null,null,null,null,null,null,null,null,null,null,"鏡浦",235129]
[null,null,null,null,null,null,null,null,null,null,null,null,null,null,null,null,null,null,null,null,null,null,null,null,null,null,null,null,null,null,null,null,null,null,null,null,null,null,null,null,null,null,null,null,null,null,null,null,null,null,null,null,null,null,null,null,null,null,null,null,null,null,null,null,null,null,null,null,null,null,null,null,null,null,null,null,null,null,null,null,null,null,null,null,null,null,null,null,null,null,null,null,null,null,"長岡",235130]
[null,null,null,null,null,null,null,null,null,null,null,null,null,null,null,null,null,null,null,null,null,null,null,null,null,null,null,null,null,null,null,null,null,null,null,null,null,null,null,null,null,null,null,null,null,null,null,null,null,null,null,null,null,null,null,null,null,null,null,null,null,null,null,null,null,null,null,null,null,null,null,null,null,null,null,null,null,null,null,null,null,null,null,null,null,null,null,null,null,null,null,null,null,null,"浜島",235131]
[null,null,null,null,null,null,null,null,null,null,null,null,null,null,null,null,null,null,null,null,null,null,null,null,null,null,null,null,null,null,null,null,null,null,null,null,null,null,null,null,null,null,null,null,null,null,null,null,null,null,null,null,null,null,null,null,null,null,null,null,null,null,null,null,null,null,null,null,null,null,null,null,null,null,null,null,null,null,null,null,null,null,null,null,null,null,null,null,null,null,null,null,null,null,"波切",235132]
[null,null,null,null,null,null,null,null,null,null,null,null,null,null,null,null,null,null,null,null,null,null,null,null,null,null,null,null,null,null,null,null,null,null,null,null,null,null,null,null,null,null,null,null,null,null,null,null,null,null,null,null,null,null,null,null,null,null,null,null,null,null,null,null,null,null,null,null,null,null,null,null,null,null,null,null,null,null,null,null,null,null,null,null,null,null,null,null,null,null,null,null,null,null,"*",235133]
[null,null,null,null,null,null,null,null,null,null,null,null,null,null,null,null,null,null,null,null,null,null,null,null,null,null,null,null,null,null,null,null,null,null,null,null,null,null,null,null,null,null,null,null,null,null,null,null,null,null,null,null,null,null,null,null,null,null,null,null,null,null,null,null,null,null,null,null,null,null,null,null,null,null,null,null,null,null,null,null,null,null,null,null,null,null,null,null,null,null,null,null,null,null,"*",235134]
[null,null,null,null,null,null,null,null,null,null,null,null,null,null,null,null,null,null,null,null,null,null,null,null,null,null,null,null,null,null,null,null,null,null,null,null,null,null,null,null,null,null,null,null,null,null,null,null,null,null,null,null,null,null,null,null,null,null,null,null,null,null,null,null,null,null,null,null,null,null,null,null,null,null,null,null,null,null,null,null,null,null,null,null,null,null,null,null,null,null,null,null,null,null,"志摩",235135]
[null,null,null,null,null,null,null,null,null,null,null,null,null,null,null,null,null,null,null,null,null,null,null,null,null,null,null,null,null,null,null,null,null,null,null,null,null,null,null,null,null,null,null,null,null,null,null,null,null,null,null,null,null,null,null,null,null,null,null,null,null,null,null,null,null,null,null,null,null,null,null,null,null,null,null,null,null,null,null,null,null,null,null,null,null,null,null,null,null,null,null,null,null,null,"*",235136]
[null,null,null,null,null,null,null,null,null,null,null,null,null,null,null,null,null,null,null,null,null,null,null,null,null,null,null,null,null,null,null,null,null,null,null,null,null,null,null,null,null,null,null,null,null,null,null,null,null,null,null,null,null,null,null,null,null,null,null,null,null,null,null,null,null,null,null,null,null,null,null,null,null,null,null,null,null,null,null,null,null,null,null,null,null,null,null,null,null,null,null,null,null,null,"文岡",235137]
[null,null,null,null,null,null,null,null,null,null,null,null,null,null,null,null,null,null,null,null,null,null,null,null,null,null,null,null,null,null,null,null,null,null,null,null,null,null,null,null,null,null,null,null,null,null,null,null,null,null,null,null,null,null,null,null,null,null,null,null,null,null,null,null,null,null,null,null,null,null,null,null,null,null,null,null,null,null,null,null,null,null,null,null,null,null,null,null,null,null,null,null,null,null,"東海",235138]
[null,null,null,null,null,null,null,null,null,null,null,null,null,null,null,null,null,null,null,null,null,null,null,null,null,null,null,null,null,null,null,null,null,null,null,null,null,null,null,null,null,null,null,null,null,null,null,null,null,null,null,null,null,null,null,null,null,null,null,null,null,null,null,null,null,null,null,null,null,null,null,null,null,null,null,null,null,null,null,null,null,null,null,null,null,null,null,null,null,null,null,null,null,null,"安乗",235139]
[null,null,null,null,null,null,null,null,null,null,null,null,null,null,null,null,null,null,null,null,null,null,null,null,null,null,null,null,null,null,null,null,null,null,null,null,null,null,null,null,null,null,null,null,null,null,null,null,null,null,null,null,null,null,null,null,null,null,null,null,null,null,null,null,null,null,null,null,null,null,null,null,null,null,null,null,null,null,null,null,null,null,null,null,null,null,null,null,null,null,null,null,null,null,"磯部",235140]
[null,null,null,null,null,null,null,null,null,null,null,null,null,null,null,null,null,null,null,null,null,null,null,null,null,null,null,null,null,null,null,null,null,null,null,null,null,null,null,null,null,null,null,null,null,null,null,null,null,null,null,null,null,null,null,null,null,null,null,null,null,null,null,null,null,null,null,null,null,null,null,null,null,null,null,null,null,null,null,null,null,null,null,null,null,null,null,null,null,null,null,null,null,null,"的矢",235141]
[null,null,null,null,null,null,null,null,null,null,null,null,null,null,null,null,null,null,null,null,null,null,null,null,null,null,null,null,null,null,null,null,null,null,null,null,null,null,null,null,null,null,null,null,null,null,null,null,null,null,null,null,null,null,null,null,null,null,null,null,null,null,null,null,null,null,null,null,null,null,null,null,null,null,null,null,null,null,null,null,null,null,null,null,null,null,null,null,null,null,null,null,null,null,"崇広",235142]
[null,null,null,null,null,null,null,null,null,null,null,null,null,null,null,null,null,null,null,null,null,null,null,null,null,null,null,null,null,null,null,null,null,null,null,null,null,null,null,null,null,null,null,null,null,null,null,null,null,null,null,null,null,null,null,null,null,null,null,null,null,null,null,null,null,null,null,null,null,null,null,null,null,null,null,null,null,null,null,null,null,null,null,null,null,null,null,null,null,null,null,null,null,null,"城東",235143]
[null,null,null,null,null,null,null,null,null,null,null,null,null,null,null,null,null,null,null,null,null,null,null,null,null,null,null,null,null,null,null,null,null,null,null,null,null,null,null,null,null,null,null,null,null,null,null,null,null,null,null,null,null,null,null,null,null,null,null,null,null,null,null,null,null,null,null,null,null,null,null,null,null,null,null,null,null,null,null,null,null,null,null,null,null,null,null,null,null,null,null,null,null,null,"緑ヶ丘",235144]
[null,null,null,null,null,null,null,null,null,null,null,null,null,null,null,null,null,null,null,null,null,null,null,null,null,null,null,null,null,null,null,null,null,null,null,null,null,null,null,null,null,null,null,null,null,null,null,null,null,null,null,null,null,null,null,null,null,null,null,null,null,null,null,null,null,null,null,null,null,null,null,null,null,null,null,null,null,null,null,null,null,null,null,null,null,null,null,null,null,null,null,null,null,null,"成和",235146]
[null,null,null,null,null,null,null,null,null,null,null,null,null,null,null,null,null,null,null,null,null,null,null,null,null,null,null,null,null,null,null,null,null,null,null,null,null,null,null,null,null,null,null,null,null,null,null,null,null,null,null,null,null,null,null,null,null,null,null,null,null,null,null,null,null,null,null,null,null,null,null,null,null,null,null,null,null,null,null,null,null,null,null,null,null,null,null,null,null,null,null,null,null,null,"丸山",235147]
[null,null,null,null,null,null,null,null,null,null,null,null,null,null,null,null,null,null,null,null,null,null,null,null,null,null,null,null,null,null,null,null,null,null,null,null,null,null,null,null,null,null,null,null,null,null,null,null,null,null,null,null,null,null,null,null,null,null,null,null,null,null,null,null,null,null,null,null,null,null,null,null,null,null,null,null,null,null,null,null,null,null,null,null,null,null,null,null,null,null,null,null,null,null,"桜丘",235148]
[null,null,null,null,null,null,null,null,null,null,null,null,null,null,null,null,null,null,null,null,null,null,null,null,null,null,null,null,null,null,null,null,null,null,null,null,null,null,null,null,null,null,null,null,null,null,null,null,null,null,null,null,null,null,null,null,null,null,null,null,null,null,null,null,null,null,null,null,null,null,null,null,null,null,null,null,null,null,null,null,null,null,null,null,null,null,null,null,null,null,null,null,null,null,"名張",235149]
[null,null,null,null,null,null,null,null,null,null,null,null,null,null,null,null,null,null,null,null,null,null,null,null,null,null,null,null,null,null,null,null,null,null,null,null,null,null,null,null,null,null,null,null,null,null,null,null,null,null,null,null,null,null,null,null,null,null,null,null,null,null,null,null,null,null,null,null,null,null,null,null,null,null,null,null,null,null,null,null,null,null,null,null,null,null,null,null,null,null,null,null,null,null,"赤目",235150]
[null,null,null,null,null,null,null,null,null,null,null,null,null,null,null,null,null,null,null,null,null,null,null,null,null,null,null,null,null,null,null,null,null,null,null,null,null,null,null,null,null,null,null,null,null,null,null,null,null,null,null,null,null,null,null,null,null,null,null,null,null,null,null,null,null,null,null,null,null,null,null,null,null,null,null,null,null,null,null,null,null,null,null,null,null,null,null,null,null,null,null,null,null,null,"桔梗が丘",235151]
[null,null,null,null,null,null,null,null,null,null,null,null,null,null,null,null,null,null,null,null,null,null,null,null,null,null,null,null,null,null,null,null,null,null,null,null,null,null,null,null,null,null,null,null,null,null,null,null,null,null,null,null,null,null,null,null,null,null,null,null,null,null,null,null,null,null,null,null,null,null,null,null,null,null,null,null,null,null,null,null,null,null,null,null,null,null,null,null,null,null,null,null,null,null,"名張北",235152]
[null,null,null,null,null,null,null,null,null,null,null,null,null,null,null,null,null,null,null,null,null,null,null,null,null,null,null,null,null,null,null,null,null,null,null,null,null,null,null,null,null,null,null,null,null,null,null,null,null,null,null,null,null,null,null,null,null,null,null,null,null,null,null,null,null,null,null,null,null,null,null,null,null,null,null,null,null,null,null,null,null,null,null,null,null,null,null,null,null,null,null,null,null,null,"南",235153]
[null,null,null,null,null,null,null,null,null,null,null,null,null,null,null,null,null,null,null,null,null,null,null,null,null,null,null,null,null,null,null,null,null,null,null,null,null,null,null,null,null,null,null,null,null,null,null,null,null,null,null,null,null,null,null,null,null,null,null,null,null,null,null,null,null,null,null,null,null,null,null,null,null,null,null,null,null,null,null,null,null,null,null,null,null,null,null,null,null,null,null,null,null,null,"青山",235154]
[null,null,null,null,null,null,null,null,null,null,null,null,null,null,null,null,null,null,null,null,null,null,null,null,null,null,null,null,null,null,null,null,null,null,null,null,null,null,null,null,null,null,null,null,null,null,null,null,null,null,null,null,null,null,null,null,null,null,null,null,null,null,null,null,null,null,null,null,null,null,null,null,null,null,null,null,null,null,null,null,null,null,null,null,null,null,null,null,null,null,null,null,null,null,"柘植",235155]
[null,null,null,null,null,null,null,null,null,null,null,null,null,null,null,null,null,null,null,null,null,null,null,null,null,null,null,null,null,null,null,null,null,null,null,null,null,null,null,null,null,null,null,null,null,null,null,null,null,null,null,null,null,null,null,null,null,null,null,null,null,null,null,null,null,null,null,null,null,null,null,null,null,null,null,null,null,null,null,null,null,null,null,null,null,null,null,null,null,null,null,null,null,null,"霊峰",235156]
[null,null,null,null,null,null,null,null,null,null,null,null,null,null,null,null,null,null,null,null,null,null,null,null,null,null,null,null,null,null,null,null,null,null,null,null,null,null,null,null,null,null,null,null,null,null,null,null,null,null,null,null,null,null,null,null,null,null,null,null,null,null,null,null,null,null,null,null,null,null,null,null,null,null,null,null,null,null,null,null,null,null,null,null,null,null,null,null,null,null,null,null,null,null,"島ヶ原",235157]
[null,null,null,null,null,null,null,null,null,null,null,null,null,null,null,null,null,null,null,null,null,null,null,null,null,null,null,null,null,null,null,null,null,null,null,null,null,null,null,null,null,null,null,null,null,null,null,null,null,null,null,null,null,null,null,null,null,null,null,null,null,null,null,null,null,null,null,null,null,null,null,null,null,null,null,null,null,null,null,null,null,null,null,null,null,null,null,null,null,null,null,null,null,null,"阿山",235158]
[null,null,null,null,null,null,null,null,null,null,null,null,null,null,null,null,null,null,null,null,null,null,null,null,null,null,null,null,null,null,null,null,null,null,null,null,null,null,null,null,null,null,null,null,null,null,null,null,null,null,null,null,null,null,null,null,null,null,null,null,null,null,null,null,null,null,null,null,null,null,null,null,null,null,null,null,null,null,null,null,null,null,null,null,null,null,null,null,null,null,null,null,null,null,"大山田",235159]
[null,null,null,null,null,null,null,null,null,null,null,null,null,null,null,null,null,null,null,null,null,null,null,null,null,null,null,null,null,null,null,null,null,null,null,null,null,null,null,null,null,null,null,null,null,null,null,null,null,null,null,null,null,null,null,null,null,null,null,null,null,null,null,null,null,null,null,null,null,null,null,null,null,null,null,null,null,null,null,null,null,null,null,null,null,null,null,null,null,null,null,null,null,null,"尾鷲",235160]
[null,null,null,null,null,null,null,null,null,null,null,null,null,null,null,null,null,null,null,null,null,null,null,null,null,null,null,null,null,null,null,null,null,null,null,null,null,null,null,null,null,null,null,null,null,null,null,null,null,null,null,null,null,null,null,null,null,null,null,null,null,null,null,null,null,null,null,null,null,null,null,null,null,null,null,null,null,null,null,null,null,null,null,null,null,null,null,null,null,null,null,null,null,null,"九鬼",235161]
[null,null,null,null,null,null,null,null,null,null,null,null,null,null,null,null,null,null,null,null,null,null,null,null,null,null,null,null,null,null,null,null,null,null,null,null,null,null,null,null,null,null,null,null,null,null,null,null,null,null,null,null,null,null,null,null,null,null,null,null,null,null,null,null,null,null,null,null,null,null,null,null,null,null,null,null,null,null,null,null,null,null,null,null,null,null,null,null,null,null,null,null,null,null,"北輪内",235162]
[null,null,null,null,null,null,null,null,null,null,null,null,null,null,null,null,null,null,null,null,null,null,null,null,null,null,null,null,null,null,null,null,null,null,null,null,null,null,null,null,null,null,null,null,null,null,null,null,null,null,null,null,null,null,null,null,null,null,null,null,null,null,null,null,null,null,null,null,null,null,null,null,null,null,null,null,null,null,null,null,null,null,null,null,null,null,null,null,null,null,null,null,null,null,"輪内",235163]
[null,null,null,null,null,null,null,null,null,null,null,null,null,null,null,null,null,null,null,null,null,null,null,null,null,null,null,null,null,null,null,null,null,null,null,null,null,null,null,null,null,null,null,null,null,null,null,null,null,null,null,null,null,null,null,null,null,null,null,null,null,null,null,null,null,null,null,null,null,null,null,null,null,null,null,null,null,null,null,null,null,null,null,null,null,null,null,null,null,null,null,null,null,null,"紀北",235164]
[null,null,null,null,null,null,null,null,null,null,null,null,null,null,null,null,null,null,null,null,null,null,null,null,null,null,null,null,null,null,null,null,null,null,null,null,null,null,null,null,null,null,null,null,null,null,null,null,null,null,null,null,null,null,null,null,null,null,null,null,null,null,null,null,null,null,null,null,null,null,null,null,null,null,null,null,null,null,null,null,null,null,null,null,null,null,null,null,null,null,null,null,null,null,"赤羽",235165]
[null,null,null,null,null,null,null,null,null,null,null,null,null,null,null,null,null,null,null,null,null,null,null,null,null,null,null,null,null,null,null,null,null,null,null,null,null,null,null,null,null,null,null,null,null,null,null,null,null,null,null,null,null,null,null,null,null,null,null,null,null,null,null,null,null,null,null,null,null,null,null,null,null,null,null,null,null,null,null,null,null,null,null,null,null,null,null,null,null,null,null,null,null,null,"潮南",235166]
[null,null,null,null,null,null,null,null,null,null,null,null,null,null,null,null,null,null,null,null,null,null,null,null,null,null,null,null,null,null,null,null,null,null,null,null,null,null,null,null,null,null,null,null,null,null,null,null,null,null,null,null,null,null,null,null,null,null,null,null,null,null,null,null,null,null,null,null,null,null,null,null,null,null,null,null,null,null,null,null,null,null,null,null,null,null,null,null,null,null,null,null,null,null,"三船",235167]
[null,null,null,null,null,null,null,null,null,null,null,null,null,null,null,null,null,null,null,null,null,null,null,null,null,null,null,null,null,null,null,null,null,null,null,null,null,null,null,null,null,null,null,null,null,null,null,null,null,null,null,null,null,null,null,null,null,null,null,null,null,null,null,null,null,null,null,null,null,null,null,null,null,null,null,null,null,null,null,null,null,null,null,null,null,null,null,null,null,null,null,null,null,null,"荒坂",235168]
[null,null,null,null,null,null,null,null,null,null,null,null,null,null,null,null,null,null,null,null,null,null,null,null,null,null,null,null,null,null,null,null,null,null,null,null,null,null,null,null,null,null,null,null,null,null,null,null,null,null,null,null,null,null,null,null,null,null,null,null,null,null,null,null,null,null,null,null,null,null,null,null,null,null,null,null,null,null,null,null,null,null,null,null,null,null,null,null,null,null,null,null,null,null,"新鹿",235169]
[null,null,null,null,null,null,null,null,null,null,null,null,null,null,null,null,null,null,null,null,null,null,null,null,null,null,null,null,null,null,null,null,null,null,null,null,null,null,null,null,null,null,null,null,null,null,null,null,null,null,null,null,null,null,null,null,null,null,null,null,null,null,null,null,null,null,null,null,null,null,null,null,null,null,null,null,null,null,null,null,null,null,null,null,null,null,null,null,null,null,null,null,null,null,"木本",235170]
[null,null,null,null,null,null,null,null,null,null,null,null,null,null,null,null,null,null,null,null,null,null,null,null,null,null,null,null,null,null,null,null,null,null,null,null,null,null,null,null,null,null,null,null,null,null,null,null,null,null,null,null,null,null,null,null,null,null,null,null,null,null,null,null,null,null,null,null,null,null,null,null,null,null,null,null,null,null,null,null,null,null,null,null,null,null,null,null,null,null,null,null,null,null,"有馬",235171]
[null,null,null,null,null,null,null,null,null,null,null,null,null,null,null,null,null,null,null,null,null,null,null,null,null,null,null,null,null,null,null,null,null,null,null,null,null,null,null,null,null,null,null,null,null,null,null,null,null,null,null,null,null,null,null,null,null,null,null,null,null,null,null,null,null,null,null,null,null,null,null,null,null,null,null,null,null,null,null,null,null,null,null,null,null,null,null,null,null,null,null,null,null,null,"育生",235172]
[null,null,null,null,null,null,null,null,null,null,null,null,null,null,null,null,null,null,null,null,null,null,null,null,null,null,null,null,null,null,null,null,null,null,null,null,null,null,null,null,null,null,null,null,null,null,null,null,null,null,null,null,null,null,null,null,null,null,null,null,null,null,null,null,null,null,null,null,null,null,null,null,null,null,null,null,null,null,null,null,null,null,null,null,null,null,null,null,null,null,null,null,null,null,"神上",235173]
[null,null,null,null,null,null,null,null,null,null,null,null,null,null,null,null,null,null,null,null,null,null,null,null,null,null,null,null,null,null,null,null,null,null,null,null,null,null,null,null,null,null,null,null,null,null,null,null,null,null,null,null,null,null,null,null,null,null,null,null,null,null,null,null,null,null,null,null,null,null,null,null,null,null,null,null,null,null,null,null,null,null,null,null,null,null,null,null,null,null,null,null,null,null,"五郷",235174]
[null,null,null,null,null,null,null,null,null,null,null,null,null,null,null,null,null,null,null,null,null,null,null,null,null,null,null,null,null,null,null,null,null,null,null,null,null,null,null,null,null,null,null,null,null,null,null,null,null,null,null,null,null,null,null,null,null,null,null,null,null,null,null,null,null,null,null,null,null,null,null,null,null,null,null,null,null,null,null,null,null,null,null,null,null,null,null,null,null,null,null,null,null,null,"飛鳥",235175]
[null,null,null,null,null,null,null,null,null,null,null,null,null,null,null,null,null,null,null,null,null,null,null,null,null,null,null,null,null,null,null,null,null,null,null,null,null,null,null,null,null,null,null,null,null,null,null,null,null,null,null,null,null,null,null,null,null,null,null,null,null,null,null,null,null,null,null,null,null,null,null,null,null,null,null,null,null,null,null,null,null,null,null,null,null,null,null,null,null,null,null,null,null,null,"御浜",235176]
[null,null,null,null,null,null,null,null,null,null,null,null,null,null,null,null,null,null,null,null,null,null,null,null,null,null,null,null,null,null,null,null,null,null,null,null,null,null,null,null,null,null,null,null,null,null,null,null,null,null,null,null,null,null,null,null,null,null,null,null,null,null,null,null,null,null,null,null,null,null,null,null,null,null,null,null,null,null,null,null,null,null,null,null,null,null,null,null,null,null,null,null,null,null,"阿田和",235177]
[null,null,null,null,null,null,null,null,null,null,null,null,null,null,null,null,null,null,null,null,null,null,null,null,null,null,null,null,null,null,null,null,null,null,null,null,null,null,null,null,null,null,null,null,null,null,null,null,null,null,null,null,null,null,null,null,null,null,null,null,null,null,null,null,null,null,null,null,null,null,null,null,null,null,null,null,null,null,null,null,null,null,null,null,null,null,null,null,null,null,null,null,null,null,"尾呂志学園",235178]
[null,null,null,null,null,null,null,null,null,null,null,null,null,null,null,null,null,null,null,null,null,null,null,null,null,null,null,null,null,null,null,null,null,null,null,null,null,null,null,null,null,null,null,null,null,null,null,null,null,null,null,null,null,null,null,null,null,null,null,null,null,null,null,null,null,null,null,null,null,null,null,null,null,null,null,null,null,null,null,null,null,null,null,null,null,null,null,null,null,null,null,null,null,null,"相野谷",235179]
[null,null,null,null,null,null,null,null,null,null,null,null,null,null,null,null,null,null,null,null,null,null,null,null,null,null,null,null,null,null,null,null,null,null,null,null,null,null,null,null,null,null,null,null,null,null,null,null,null,null,null,null,null,null,null,null,null,null,null,null,null,null,null,null,null,null,null,null,null,null,null,null,null,null,null,null,null,null,null,null,null,null,null,null,null,null,null,null,null,null,null,null,null,null,"入鹿",235180]
[null,null,null,null,null,null,null,null,null,null,null,null,null,null,null,null,null,null,null,null,null,null,null,null,null,null,null,null,null,null,null,null,null,null,null,null,null,null,null,null,null,null,null,null,null,null,null,null,null,null,null,null,null,null,null,null,null,null,null,null,null,null,null,null,null,null,null,null,null,null,null,null,null,null,null,null,null,null,null,null,null,null,null,null,null,null,null,null,null,null,null,null,null,null,"矢渕",235181]
[null,null,null,null,null,null,null,null,null,null,null,null,null,null,null,null,null,null,null,null,null,null,null,null,null,null,null,null,null,null,null,null,null,null,null,null,null,null,null,null,null,null,null,null,null,null,null,null,null,null,null,null,null,null,null,null,null,null,null,null,null,null,null,null,null,null,null,null,null,null,null,null,null,null,null,null,null,null,null,null,null,null,null,null,null,null,null,null,null,null,null,null,null,null,"Y_W_C",230082]
[null,null,null,null,null,null,null,null,null,null,null,null,null,null,null,null,null,null,null,null,null,null,null,null,null,null,null,null,null,null,null,null,null,null,null,null,null,null,null,null,null,null,null,null,null,null,null,null,null,null,null,null,null,null,null,null,null,null,null,null,null,null,null,null,null,null,null,null,null,null,null,null,null,null,null,null,null,null,null,null,null,null,null,null,null,null,null,null,null,null,null,null,null,null,"四日市陸上",239128]
[null,null,null,null,null,null,null,null,null,null,null,null,null,null,null,null,null,null,null,null,null,null,null,null,null,null,null,null,null,null,null,null,null,null,null,null,null,null,null,null,null,null,null,null,null,null,null,null,null,null,null,null,null,null,null,null,null,null,null,null,null,null,null,null,null,null,null,null,null,null,null,null,null,null,null,null,null,null,null,null,null,null,null,null,null,null,null,null,null,null,null,null,null,null,"ASSA-TC",230081]
[null,null,null,null,null,null,null,null,null,null,null,null,null,null,null,null,null,null,null,null,null,null,null,null,null,null,null,null,null,null,null,null,null,null,null,null,null,null,null,null,null,null,null,null,null,null,null,null,null,null,null,null,null,null,null,null,null,null,null,null,null,null,null,null,null,null,null,null,null,null,null,null,null,null,null,null,null,null,null,null,null,null,null,null,null,null,null,null,null,null,null,null,null,null,"イムラＡＡ",239125]
[null,null,null,null,null,null,null,null,null,null,null,null,null,null,null,null,null,null,null,null,null,null,null,null,null,null,null,null,null,null,null,null,null,null,null,null,null,null,null,null,null,null,null,null,null,null,null,null,null,null,null,null,null,null,null,null,null,null,null,null,null,null,null,null,null,null,null,null,null,null,null,null,null,null,null,null,null,null,null,null,null,null,null,null,null,null,null,null,null,null,null,null,null,null,"橋南スポク",230096]
[null,null,null,null,null,null,null,null,null,null,null,null,null,null,null,null,null,null,null,null,null,null,null,null,null,null,null,null,null,null,null,null,null,null,null,null,null,null,null,null,null,null,null,null,null,null,null,null,null,null,null,null,null,null,null,null,null,null,null,null,null,null,null,null,null,null,null,null,null,null,null,null,null,null,null,null,null,null,null,null,null,null,null,null,null,null,null,null,null,null,null,null,null,null,"J＆E久居",239127]
[null,null,null,null,null,null,null,null,null,null,null,null,null,null,null,null,null,null,null,null,null,null,null,null,null,null,null,null,null,null,null,null,null,null,null,null,null,null,null,null,null,null,null,null,null,null,null,null,null,null,null,null,null,null,null,null,null,null,null,null,null,null,null,null,null,null,null,null,null,null,null,null,null,null,null,null,null,null,null,null,null,null,null,null,null,null,null,null,null,null,null,null,null,null,"伊賀TC",230092]
[null,null,null,null,null,null,null,null,null,null,null,null,null,null,null,null,null,null,null,null,null,null,null,null,null,null,null,null,null,null,null,null,null,null,null,null,null,null,null,null,null,null,null,null,null,null,null,null,null,null,null,null,null,null,null,null,null,null,null,null,null,null,null,null,null,null,null,null,null,null,null,null,null,null,null,null,null,null,null,null,null,null,null,null,null,null,null,null,null,null,null,null,null,null,"上野ＡＣ",239125]
[null,null,null,null,null,null,null,null,null,null,null,null,null,null,null,null,null,null,null,null,null,null,null,null,null,null,null,null,null,null,null,null,null,null,null,null,null,null,null,null,null,null,null,null,null,null,null,null,null,null,null,null,null,null,null,null,null,null,null,null,null,null,null,null,null,null,null,null,null,null,null,null,null,null,null,null,null,null,null,null,null,null,null,null,null,null,null,null,null,null,null,null,null,null,"名張ｸﾗﾌﾞ",230116]
[null,null,null,null,null,null,null,null,null,null,null,null,null,null,null,null,null,null,null,null,null,null,null,null,null,null,null,null,null,null,null,null,null,null,null,null,null,null,null,null,null,null,null,null,null,null,null,null,null,null,null,null,null,null,null,null,null,null,null,null,null,null,null,null,null,null,null,null,null,null,null,null,null,null,null,null,null,null,null,null,null,null,null,null,null,null,null,null,null,null,null,null,null,null,"熊野ＲＣ",230115]

{"sheet":"国体1次","index":7,"n_rows":118,"n_cols":49,"rows_kept":118,"cut":false,"hidden":false,"merged":[[1,6,1,17],[6,41,6,42],[33,41,33,42],[5,41,5,42],[1,21,1,22],[1,35,1,38]]}
[null,null,null,null,"所属名",{"$f":"IF(前年度登録!$AD$4=\"\",\"\",前年度登録!$AD$4)","v":0},"この大会は三重陸協が承認した者しかエントリーができません。"]
[null,null,null,null,"所属コード",{"$f":"前年度登録!AE4","v":{"$error":"#N/A"}},"国体1次選考競技会"]
[null,null,null,null,"顧問名",{"$f":"IF(前年度登録!$S$1=\"\",\"\",前年度登録!$S$1)","v":""},"参加人数",null,null,null,null,null,null,null,{"$f":"$AF$118","v":0}]
[null,null,null,null,"顧問連絡先",{"$f":"IF(前年度登録!$X$1=\"\",\"\",前年度登録!$X$1)","v":""},"大会参加費",null,null,null,null,null,null,null,{"$f":"$AF$118*1000+O5*800","v":0}]
[null,null,null,null,null,null,"プログラム冊数",null,null,null,null,null,null,null,null,null,"冊"]
["競技者コード","所属コード","所属コード２","ナンバーA","ナンバー","競技者名","カナ名","掲示板名","性別","学年","生年","月日","所属地","陸連ID","1種目","コード","記録",null,null,"2種目","コード","記録",null,null,"種目3",null,"記録3","4×400R","コード","記録","リレー","コード","記録5",null,null,null,100,null,null,null,null,"種目別参加数",null,null,null,null,null,100,100]
[null,{"$f":"前年度登録!AE4","v":{"$error":"#N/A"}},null,null,{"$f":"前年度登録!T4","v":0},{"$f":"前年度登録!DB4","v":""},{"$f":"前年度登録!AO4","v":""},{"$f":"前年度登録!DB4","v":""},{"$f":"前年度登録!AN4","v":""},{"$f":"前年度登録!DC4","v":""},{"$f":"前年度登録!DE4","v":0},{"$f":"前年度登録!DJ4","v":"00"},{"$f":"前年度登録!AF4","v":{"$error":"#N/A"}},{"$f":"前年度登録!S4","v":0},null,{"$f":"IF(O7=\"\",\"\",IF(I7=1,VLOOKUP(O7,男子種目コード!$A$1:$B$33,2,FALSE),IF(I7=2,VLOOKUP(O7,女子種目コード!$A$1:$B$27,2,FALSE))))","v":""},{"$f":"IF(O7=\"\",\"\",HLOOKUP(O7,前年度登録!$AW$3:$CW$118,2,FALSE))","v":""},{"$f":"IF(O7=\"\",\"\",0)","v":""},{"$f":"IF(O7=\"\",\"\",2)","v":""},null,{"$f":"IF(T7=\"\",\"\",IF(I7=1,VLOOKUP(T7,男子種目コード!$A$1:$B$33,2,FALSE),IF(I7=2,VLOOKUP(T7,女子種目コード!$A$1:$B$27,2,FALSE))))","v":""},{"$f":"IF(T7=\"\",\"\",HLOOKUP(T7,前年度登録!$AW$3:$CW$118,2,FALSE))","v":""},{"$f":"IF(T7=\"\",\"\",0)","v":""},{"$f":"IF(T7=\"\",\"\",2)","v":""},null,null,null,null,null,null,null,null,null,null,null,null,200,{"$f":"IF(O7=\"\",\"\",1)","v":""},{"$f":"IF(OR(AL7=1,T7=\"\"),0,1)","v":0},null,null,"男子",null,null,null,null,null,200,200]
[null,{"$f":"前年度登録!AE5","v":""},null,null,{"$f":"前年度登録!T5","v":0},{"$f":"前年度登録!DB5","v":""},{"$f":"前年度登録!AO5","v":""},{"$f":"前年度登録!DB5","v":""},{"$f":"前年度登録!AN5","v":""},{"$f":"前年度登録!DC5","v":""},{"$f":"前年度登録!DE5","v":0},{"$f":"前年度登録!DJ5","v":"00"},{"$f":"前年度登録!AF5","v":""},{"$f":"前年度登録!S5","v":0},null,{"$f":"IF(O8=\"\",\"\",IF(I8=1,VLOOKUP(O8,男子種目コード!$A$1:$B$33,2,FALSE),IF(I8=2,VLOOKUP(O8,女子種目コード!$A$1:$B$27,2,FALSE))))","v":""},{"$f":"IF(O8=\"\",\"\",HLOOKUP(O8,前年度登録!$AW$3:$CW$118,3,FALSE))","v":""},{"$f":"IF(O8=\"\",\"\",0)","v":""},{"$f":"IF(O8=\"\",\"\",2)","v":""},null,{"$f":"IF(T8=\"\",\"\",IF(I8=1,VLOOKUP(T8,男子種目コード!$A$1:$B$33,2,FALSE),IF(I8=2,VLOOKUP(T8,女子種目コード!$A$1:$B$27,2,FALSE))))","v":""},{"$f":"IF(T8=\"\",\"\",HLOOKUP(T8,前年度登録!$AW$3:$CW$118,3,FALSE))","v":""},{"$f":"IF(T8=\"\",\"\",0)","v":""},{"$f":"IF(T8=\"\",\"\",2)","v":""},null,null,null,null,null,null,null,null,null,null,null,null,400,"",0,{"$f":"IF(OR(AL8=1,AM8=1,AB8=\"\"),0,1)","v":0},null,100,{"$f":"COUNTIF($P$7:$P$116,1)+COUNTIF($U$7:$U$116,1)","v":0},null,null,null,null,400,400]
[null,{"$f":"前年度登録!AE6","v":""},null,null,{"$f":"前年度登録!T6","v":0},{"$f":"前年度登録!DB6","v":""},{"$f":"前年度登録!AO6","v":""},{"$f":"前年度登録!DB6","v":""},{"$f":"前年度登録!AN6","v":""},{"$f":"前年度登録!DC6","v":""},{"$f":"前年度登録!DE6","v":0},{"$f":"前年度登録!DJ6","v":"00"},{"$f":"前年度登録!AF6","v":""},{"$f":"前年度登録!S6","v":0},null,{"$f":"IF(O9=\"\",\"\",IF(I9=1,VLOOKUP(O9,男子種目コード!$A$1:$B$33,2,FALSE),IF(I9=2,VLOOKUP(O9,女子種目コード!$A$1:$B$27,2,FALSE))))","v":""},{"$f":"IF(O9=\"\",\"\",HLOOKUP(O9,前年度登録!$AW$3:$CW$118,4,FALSE))","v":""},"","",null,{"$f":"IF(T9=\"\",\"\",IF(I9=1,VLOOKUP(T9,男子種目コード!$A$1:$B$33,2,FALSE),IF(I9=2,VLOOKUP(T9,女子種目コード!$A$1:$B$27,2,FALSE))))","v":""},{"$f":"IF(T9=\"\",\"\",HLOOKUP(T9,前年度登録!$AW$3:$CW$118,4,FALSE))","v":""},"","",null,null,null,null,null,null,null,null,null,null,null,null,800,"",0,0,null,200,{"$f":"COUNTIF($P$7:$P$116,2)+COUNTIF($U$7:$U$116,2)","v":0},null,null,null,null,800,800]
[null,{"$f":"前年度登録!AE7","v":""},null,null,{"$f":"前年度登録!T7","v":0},{"$f":"前年度登録!DB7","v":""},{"$f":"前年度登録!AO7","v":""},{"$f":"前年度登録!DB7","v":""},{"$f":"前年度登録!AN7","v":""},{"$f":"前年度登録!DC7","v":""},{"$f":"前年度登録!DE7","v":0},{"$f":"前年度登録!DJ7","v":"00"},{"$f":"前年度登録!AF7","v":""},{"$f":"前年度登録!S7","v":0},null,{"$f":"IF(O10=\"\",\"\",IF(I10=1,VLOOKUP(O10,男子種目コード!$A$1:$B$33,2,FALSE),IF(I10=2,VLOOKUP(O10,女子種目コード!$A$1:$B$27,2,FALSE))))","v":""},{"$f":"IF(O10=\"\",\"\",HLOOKUP(O10,前年度登録!$AW$3:$CW$118,5,FALSE))","v":""},"","",null,{"$f":"IF(T10=\"\",\"\",IF(I10=1,VLOOKUP(T10,男子種目コード!$A$1:$B$33,2,FALSE),IF(I10=2,VLOOKUP(T10,女子種目コード!$A$1:$B$27,2,FALSE))))","v":""},{"$f":"IF(T10=\"\",\"\",HLOOKUP(T10,前年度登録!$AW$3:$CW$118,5,FALSE))","v":""},"","",null,null,null,null,null,null,null,null,null,null,null,null,1500,"",0,0,null,400,{"$f":"COUNTIF($P$7:$P$116,3)+COUNTIF($U$7:$U$116,3)","v":0},null,null,null,null,1500,1500]
[null,{"$f":"前年度登録!AE8","v":""},null,null,{"$f":"前年度登録!T8","v":0},{"$f":"前年度登録!DB8","v":""},{"$f":"前年度登録!AO8","v":""},{"$f":"前年度登録!DB8","v":""},{"$f":"前年度登録!AN8","v":""},{"$f":"前年度登録!DC8","v":""},{"$f":"前年度登録!DE8","v":0},{"$f":"前年度登録!DJ8","v":"00"},{"$f":"前年度登録!AF8","v":""},{"$f":"前年度登録!S8","v":0},null,{"$f":"IF(O11=\"\",\"\",IF(I11=1,VLOOKUP(O11,男子種目コード!$A$1:$B$33,2,FALSE),IF(I11=2,VLOOKUP(O11,女子種目コード!$A$1:$B$27,2,FALSE))))","v":""},{"$f":"IF(O11=\"\",\"\",HLOOKUP(O11,前年度登録!$AW$3:$CW$118,6,FALSE))","v":""},"","",null,{"$f":"IF(T11=\"\",\"\",IF(I11=1,VLOOKUP(T11,男子種目コード!$A$1:$B$33,2,FALSE),IF(I11=2,VLOOKUP(T11,女子種目コード!$A$1:$B$27,2,FALSE))))","v":""},{"$f":"IF(T11=\"\",\"\",HLOOKUP(T11,前年度登録!$AW$3:$CW$118,6,FALSE))","v":""},"","",null,null,null,null,null,null,null,null,null,null,null,null,5000,"",0,0,null,800,{"$f":"COUNTIF($P$7:$P$116,4)+COUNTIF($U$7:$U$116,4)","v":0},null,null,null,null,5000,5000]
[null,{"$f":"前年度登録!AE9","v":""},null,null,{"$f":"前年度登録!T9","v":0},{"$f":"前年度登録!DB9","v":""},{"$f":"前年度登録!AO9","v":""},{"$f":"前年度登録!DB9","v":""},{"$f":"前年度登録!AN9","v":""},{"$f":"前年度登録!DC9","v":""},{"$f":"前年度登録!DE9","v":0},{"$f":"前年度登録!DJ9","v":"00"},{"$f":"前年度登録!AF9","v":""},{"$f":"前年度登録!S9","v":0},null,{"$f":"IF(O12=\"\",\"\",IF(I12=1,VLOOKUP(O12,男子種目コード!$A$1:$B$33,2,FALSE),IF(I12=2,VLOOKUP(O12,女子種目コード!$A$1:$B$27,2,FALSE))))","v":""},{"$f":"IF(O12=\"\",\"\",HLOOKUP(O12,前年度登録!$AW$3:$CW$118,7,FALSE))","v":""},"","",null,{"$f":"IF(T12=\"\",\"\",IF(I12=1,VLOOKUP(T12,男子種目コード!$A$1:$B$33,2,FALSE),IF(I12=2,VLOOKUP(T12,女子種目コード!$A$1:$B$27,2,FALSE))))","v":""},{"$f":"IF(T12=\"\",\"\",HLOOKUP(T12,前年度登録!$AW$3:$CW$118,7,FALSE))","v":""},"","",null,null,null,null,null,null,null,null,null,null,null,null,10000,"",0,0,null,1500,{"$f":"COUNTIF($P$7:$P$116,5)+COUNTIF($U$7:$U$116,5)","v":0},null,null,null,null,10000,10000]
[null,{"$f":"前年度登録!AE10","v":""},null,null,{"$f":"前年度登録!T10","v":0},{"$f":"前年度登録!DB10","v":""},{"$f":"前年度登録!AO10","v":""},{"$f":"前年度登録!DB10","v":""},{"$f":"前年度登録!AN10","v":""},{"$f":"前年度登録!DC10","v":""},{"$f":"前年度登録!DE10","v":0},{"$f":"前年度登録!DJ10","v":"00"},{"$f":"前年度登録!AF10","v":""},{"$f":"前年度登録!S10","v":0},null,{"$f":"IF(O13=\"\",\"\",IF(I13=1,VLOOKUP(O13,男子種目コード!$A$1:$B$33,2,FALSE),IF(I13=2,VLOOKUP(O13,女子種目コード!$A$1:$B$27,2,FALSE))))","v":""},{"$f":"IF(O13=\"\",\"\",HLOOKUP(O13,前年度登録!$AW$3:$CW$118,8,FALSE))","v":""},"","",null,{"$f":"IF(T13=\"\",\"\",IF(I13=1,VLOOKUP(T13,男子種目コード!$A$1:$B$33,2,FALSE),IF(I13=2,VLOOKUP(T13,女子種目コード!$A$1:$B$27,2,FALSE))))","v":""},{"$f":"IF(T13=\"\",\"\",HLOOKUP(T13,前年度登録!$AW$3:$CW$118,8,FALSE))","v":""},"","",null,null,null,null,null,null,null,null,null,null,null,null,"100H","",0,0,null,"少年3000",{"$f":"COUNTIF($P$7:$P$116,24)+COUNTIF($U$7:$U$116,24)","v":0},null,null,null,null,"110H","100H"]
[null,{"$f":"前年度登録!AE11","v":""},null,null,{"$f":"前年度登録!T11","v":0},{"$f":"前年度登録!DB11","v":""},{"$f":"前年度登録!AO11","v":""},{"$f":"前年度登録!DB11","v":""},{"$f":"前年度登録!AN11","v":""},{"$f":"前年度登録!DC11","v":""},{"$f":"前年度登録!DE11","v":0},{"$f":"前年度登録!DJ11","v":"00"},{"$f":"前年度登録!AF11","v":""},{"$f":"前年度登録!S11","v":0},null,{"$f":"IF(O14=\"\",\"\",IF(I14=1,VLOOKUP(O14,男子種目コード!$A$1:$B$33,2,FALSE),IF(I14=2,VLOOKUP(O14,女子種目コード!$A$1:$B$27,2,FALSE))))","v":""},{"$f":"IF(O14=\"\",\"\",HLOOKUP(O14,前年度登録!$AW$3:$CW$118,9,FALSE))","v":""},"","",null,{"$f":"IF(T14=\"\",\"\",IF(I14=1,VLOOKUP(T14,男子種目コード!$A$1:$B$33,2,FALSE),IF(I14=2,VLOOKUP(T14,女子種目コード!$A$1:$B$27,2,FALSE))))","v":""},{"$f":"IF(T14=\"\",\"\",HLOOKUP(T14,前年度登録!$AW$3:$CW$118,9,FALSE))","v":""},"","",null,null,null,null,null,null,null,null,null,null,null,null,"110H","",0,0,null,5000,{"$f":"COUNTIF($P$7:$P$116,6)+COUNTIF($U$7:$U$116,6)","v":0},null,null,null,null,"400H","400H"]
[null,{"$f":"前年度登録!AE12","v":""},null,null,{"$f":"前年度登録!T12","v":0},{"$f":"前年度登録!DB12","v":""},{"$f":"前年度登録!AO12","v":""},{"$f":"前年度登録!DB12","v":""},{"$f":"前年度登録!AN12","v":""},{"$f":"前年度登録!DC12","v":""},{"$f":"前年度登録!DE12","v":0},{"$f":"前年度登録!DJ12","v":"00"},{"$f":"前年度登録!AF12","v":""},{"$f":"前年度登録!S12","v":0},null,{"$f":"IF(O15=\"\",\"\",IF(I15=1,VLOOKUP(O15,男子種目コード!$A$1:$B$33,2,FALSE),IF(I15=2,VLOOKUP(O15,女子種目コード!$A$1:$B$27,2,FALSE))))","v":""},{"$f":"IF(O15=\"\",\"\",HLOOKUP(O15,前年度登録!$AW$3:$CW$118,10,FALSE))","v":""},"","",null,{"$f":"IF(T15=\"\",\"\",IF(I15=1,VLOOKUP(T15,男子種目コード!$A$1:$B$33,2,FALSE),IF(I15=2,VLOOKUP(T15,女子種目コード!$A$1:$B$27,2,FALSE))))","v":""},{"$f":"IF(T15=\"\",\"\",HLOOKUP(T15,前年度登録!$AW$3:$CW$118,10,FALSE))","v":""},"","",null,null,null,null,null,null,null,null,null,null,null,null,"400H","",0,0,null,10000,{"$f":"COUNTIF($P$7:$P$116,7)+COUNTIF($U$7:$U$116,7)","v":0},null,null,null,null,"3000SC","3000SC"]
[null,{"$f":"前年度登録!AE13","v":""},null,null,{"$f":"前年度登録!T13","v":0},{"$f":"前年度登録!DB13","v":""},{"$f":"前年度登録!AO13","v":""},{"$f":"前年度登録!DB13","v":""},{"$f":"前年度登録!AN13","v":""},{"$f":"前年度登録!DC13","v":""},{"$f":"前年度登録!DE13","v":0},{"$f":"前年度登録!DJ13","v":"00"},{"$f":"前年度登録!AF13","v":""},{"$f":"前年度登録!S13","v":0},null,{"$f":"IF(O16=\"\",\"\",IF(I16=1,VLOOKUP(O16,男子種目コード!$A$1:$B$33,2,FALSE),IF(I16=2,VLOOKUP(O16,女子種目コード!$A$1:$B$27,2,FALSE))))","v":""},{"$f":"IF(O16=\"\",\"\",HLOOKUP(O16,前年度登録!$AW$3:$CW$118,11,FALSE))","v":""},"","",null,{"$f":"IF(T16=\"\",\"\",IF(I16=1,VLOOKUP(T16,男子種目コード!$A$1:$B$33,2,FALSE),IF(I16=2,VLOOKUP(T16,女子種目コード!$A$1:$B$27,2,FALSE))))","v":""},{"$f":"IF(T16=\"\",\"\",HLOOKUP(T16,前年度登録!$AW$3:$CW$118,11,FALSE))","v":""},"","",null,null,null,null,null,null,null,null,null,null,null,null,"3000SC","",0,0,null,"110H",{"$f":"COUNTIF($P$7:$P$116,8)+COUNTIF($U$7:$U$116,8)","v":0},null,null,null,null,"5000W","5000W"]
[null,{"$f":"前年度登録!AE14","v":""},null,null,{"$f":"前年度登録!T14","v":0},{"$f":"前年度登録!DB14","v":""},{"$f":"前年度登録!AO14","v":""},{"$f":"前年度登録!DB14","v":""},{"$f":"前年度登録!AN14","v":""},{"$f":"前年度登録!DC14","v":""},{"$f":"前年度登録!DE14","v":0},{"$f":"前年度登録!DJ14","v":"00"},{"$f":"前年度登録!AF14","v":""},{"$f":"前年度登録!S14","v":0},null,{"$f":"IF(O17=\"\",\"\",IF(I17=1,VLOOKUP(O17,男子種目コード!$A$1:$B$33,2,FALSE),IF(I17=2,VLOOKUP(O17,女子種目コード!$A$1:$B$27,2,FALSE))))","v":""},{"$f":"IF(O17=\"\",\"\",HLOOKUP(O17,前年度登録!$AW$3:$CW$118,12,FALSE))","v":""},"","",null,{"$f":"IF(T17=\"\",\"\",IF(I17=1,VLOOKUP(T17,男子種目コード!$A$1:$B$33,2,FALSE),IF(I17=2,VLOOKUP(T17,女子種目コード!$A$1:$B$27,2,FALSE))))","v":""},{"$f":"IF(T17=\"\",\"\",HLOOKUP(T17,前年度登録!$AW$3:$CW$118,12,FALSE))","v":""},"","",null,null,null,null,null,null,null,null,null,null,null,null,"5000W","",0,0,null,"400H",{"$f":"COUNTIF($P$7:$P$116,9)+COUNTIF($U$7:$U$116,9)","v":0},null,null,null,null,"走高跳","走高跳"]
[null,{"$f":"前年度登録!AE15","v":""},null,null,{"$f":"前年度登録!T15","v":0},{"$f":"前年度登録!DB15","v":""},{"$f":"前年度登録!AO15","v":""},{"$f":"前年度登録!DB15","v":""},{"$f":"前年度登録!AN15","v":""},{"$f":"前年度登録!DC15","v":""},{"$f":"前年度登録!DE15","v":0},{"$f":"前年度登録!DJ15","v":"00"},{"$f":"前年度登録!AF15","v":""},{"$f":"前年度登録!S15","v":0},null,{"$f":"IF(O18=\"\",\"\",IF(I18=1,VLOOKUP(O18,男子種目コード!$A$1:$B$33,2,FALSE),IF(I18=2,VLOOKUP(O18,女子種目コード!$A$1:$B$27,2,FALSE))))","v":""},{"$f":"IF(O18=\"\",\"\",HLOOKUP(O18,前年度登録!$AW$3:$CW$118,13,FALSE))","v":""},"","",null,{"$f":"IF(T18=\"\",\"\",IF(I18=1,VLOOKUP(T18,男子種目コード!$A$1:$B$33,2,FALSE),IF(I18=2,VLOOKUP(T18,女子種目コード!$A$1:$B$27,2,FALSE))))","v":""},{"$f":"IF(T18=\"\",\"\",HLOOKUP(T18,前年度登録!$AW$3:$CW$118,13,FALSE))","v":""},"","",null,null,null,null,null,null,null,null,null,null,null,null,"走高跳","",0,0,null,"3000SC",{"$f":"COUNTIF($P$7:$P$116,10)+COUNTIF($U$7:$U$116,10)","v":0},null,null,null,null,"棒高跳","棒高跳"]
[null,{"$f":"前年度登録!AE16","v":""},null,null,{"$f":"前年度登録!T16","v":0},{"$f":"前年度登録!DB16","v":""},{"$f":"前年度登録!AO16","v":""},{"$f":"前年度登録!DB16","v":""},{"$f":"前年度登録!AN16","v":""},{"$f":"前年度登録!DC16","v":""},{"$f":"前年度登録!DE16","v":0},{"$f":"前年度登録!DJ16","v":"00"},{"$f":"前年度登録!AF16","v":""},{"$f":"前年度登録!S16","v":0},null,{"$f":"IF(O19=\"\",\"\",IF(I19=1,VLOOKUP(O19,男子種目コード!$A$1:$B$33,2,FALSE),IF(I19=2,VLOOKUP(O19,女子種目コード!$A$1:$B$27,2,FALSE))))","v":""},{"$f":"IF(O19=\"\",\"\",HLOOKUP(O19,前年度登録!$AW$3:$CW$118,14,FALSE))","v":""},"","",null,{"$f":"IF(T19=\"\",\"\",IF(I19=1,VLOOKUP(T19,男子種目コード!$A$1:$B$33,2,FALSE),IF(I19=2,VLOOKUP(T19,女子種目コード!$A$1:$B$27,2,FALSE))))","v":""},{"$f":"IF(T19=\"\",\"\",HLOOKUP(T19,前年度登録!$AW$3:$CW$118,14,FALSE))","v":""},"","",null,null,null,null,null,null,null,null,null,null,null,null,"棒高跳","",0,0,null,"5000W",{"$f":"COUNTIF($P$7:$P$116,12)+COUNTIF($U$7:$U$116,12)","v":0},null,null,null,null,"走幅跳","走幅跳"]
[null,{"$f":"前年度登録!AE17","v":""},null,null,{"$f":"前年度登録!T17","v":0},{"$f":"前年度登録!DB17","v":""},{"$f":"前年度登録!AO17","v":""},{"$f":"前年度登録!DB17","v":""},{"$f":"前年度登録!AN17","v":""},{"$f":"前年度登録!DC17","v":""},{"$f":"前年度登録!DE17","v":0},{"$f":"前年度登録!DJ17","v":"00"},{"$f":"前年度登録!AF17","v":""},{"$f":"前年度登録!S17","v":0},null,{"$f":"IF(O20=\"\",\"\",IF(I20=1,VLOOKUP(O20,男子種目コード!$A$1:$B$33,2,FALSE),IF(I20=2,VLOOKUP(O20,女子種目コード!$A$1:$B$27,2,FALSE))))","v":""},{"$f":"IF(O20=\"\",\"\",HLOOKUP(O20,前年度登録!$AW$3:$CW$118,15,FALSE))","v":""},"","",null,{"$f":"IF(T20=\"\",\"\",IF(I20=1,VLOOKUP(T20,男子種目コード!$A$1:$B$33,2,FALSE),IF(I20=2,VLOOKUP(T20,女子種目コード!$A$1:$B$27,2,FALSE))))","v":""},{"$f":"IF(T20=\"\",\"\",HLOOKUP(T20,前年度登録!$AW$3:$CW$118,15,FALSE))","v":""},"","",null,null,null,null,null,null,null,null,null,null,null,null,"走幅跳","",0,0,null,"走高跳",{"$f":"COUNTIF($P$7:$P$116,15)+COUNTIF($U$7:$U$116,15)","v":0},null,null,null,null,"三段跳","三段跳"]
[null,{"$f":"前年度登録!AE18","v":""},null,null,{"$f":"前年度登録!T18","v":0},{"$f":"前年度登録!DB18","v":""},{"$f":"前年度登録!AO18","v":""},{"$f":"前年度登録!DB18","v":""},{"$f":"前年度登録!AN18","v":""},{"$f":"前年度登録!DC18","v":""},{"$f":"前年度登録!DE18","v":0},{"$f":"前年度登録!DJ18","v":"00"},{"$f":"前年度登録!AF18","v":""},{"$f":"前年度登録!S18","v":0},null,{"$f":"IF(O21=\"\",\"\",IF(I21=1,VLOOKUP(O21,男子種目コード!$A$1:$B$33,2,FALSE),IF(I21=2,VLOOKUP(O21,女子種目コード!$A$1:$B$27,2,FALSE))))","v":""},{"$f":"IF(O21=\"\",\"\",HLOOKUP(O21,前年度登録!$AW$3:$CW$118,16,FALSE))","v":""},"","",null,{"$f":"IF(T21=\"\",\"\",IF(I21=1,VLOOKUP(T21,男子種目コード!$A$1:$B$33,2,FALSE),IF(I21=2,VLOOKUP(T21,女子種目コード!$A$1:$B$27,2,FALSE))))","v":""},{"$f":"IF(T21=\"\",\"\",HLOOKUP(T21,前年度登録!$AW$3:$CW$118,16,FALSE))","v":""},"","",null,null,null,null,null,null,null,null,null,null,null,null,"三段跳","",0,0,null,"棒高跳",{"$f":"COUNTIF($P$7:$P$116,16)+COUNTIF($U$7:$U$116,16)","v":0},null,null,null,null,"砲丸投","砲丸投"]
[null,{"$f":"前年度登録!AE19","v":""},null,null,{"$f":"前年度登録!T19","v":0},{"$f":"前年度登録!DB19","v":""},{"$f":"前年度登録!AO19","v":""},{"$f":"前年度登録!DB19","v":""},{"$f":"前年度登録!AN19","v":""},{"$f":"前年度登録!DC19","v":""},{"$f":"前年度登録!DE19","v":0},{"$f":"前年度登録!DJ19","v":"00"},{"$f":"前年度登録!AF19","v":""},{"$f":"前年度登録!S19","v":0},null,{"$f":"IF(O22=\"\",\"\",IF(I22=1,VLOOKUP(O22,男子種目コード!$A$1:$B$33,2,FALSE),IF(I22=2,VLOOKUP(O22,女子種目コード!$A$1:$B$27,2,FALSE))))","v":""},{"$f":"IF(O22=\"\",\"\",HLOOKUP(O22,前年度登録!$AW$3:$CW$118,17,FALSE))","v":""},"","",null,{"$f":"IF(T22=\"\",\"\",IF(I22=1,VLOOKUP(T22,男子種目コード!$A$1:$B$33,2,FALSE),IF(I22=2,VLOOKUP(T22,女子種目コード!$A$1:$B$27,2,FALSE))))","v":""},{"$f":"IF(T22=\"\",\"\",HLOOKUP(T22,前年度登録!$AW$3:$CW$118,17,FALSE))","v":""},"","",null,null,null,null,null,null,null,null,null,null,null,null,"砲丸投","",0,0,null,"走幅跳",{"$f":"COUNTIF($P$7:$P$116,17)+COUNTIF($U$7:$U$116,17)","v":0},null,null,null,null,"円盤投","円盤投"]
[null,{"$f":"前年度登録!AE20","v":""},null,null,{"$f":"前年度登録!T20","v":0},{"$f":"前年度登録!DB20","v":""},{"$f":"前年度登録!AO20","v":""},{"$f":"前年度登録!DB20","v":""},{"$f":"前年度登録!AN20","v":""},{"$f":"前年度登録!DC20","v":""},{"$f":"前年度登録!DE20","v":0},{"$f":"前年度登録!DJ20","v":"00"},{"$f":"前年度登録!AF20","v":""},{"$f":"前年度登録!S20","v":0},null,{"$f":"IF(O23=\"\",\"\",IF(I23=1,VLOOKUP(O23,男子種目コード!$A$1:$B$33,2,FALSE),IF(I23=2,VLOOKUP(O23,女子種目コード!$A$1:$B$27,2,FALSE))))","v":""},{"$f":"IF(O23=\"\",\"\",HLOOKUP(O23,前年度登録!$AW$3:$CW$118,18,FALSE))","v":""},"","",null,{"$f":"IF(T23=\"\",\"\",IF(I23=1,VLOOKUP(T23,男子種目コード!$A$1:$B$33,2,FALSE),IF(I23=2,VLOOKUP(T23,女子種目コード!$A$1:$B$27,2,FALSE))))","v":""},{"$f":"IF(T23=\"\",\"\",HLOOKUP(T23,前年度登録!$AW$3:$CW$118,18,FALSE))","v":""},"","",null,null,null,null,null,null,null,null,null,null,null,null,"円盤投","",0,0,null,"三段跳",{"$f":"COUNTIF($P$7:$P$116,18)+COUNTIF($U$7:$U$116,18)","v":0},null,null,null,null,"やり投","やり投"]
[null,{"$f":"前年度登録!AE21","v":""},null,null,{"$f":"前年度登録!T21","v":0},{"$f":"前年度登録!DB21","v":""},{"$f":"前年度登録!AO21","v":""},{"$f":"前年度登録!DB21","v":""},{"$f":"前年度登録!AN21","v":""},{"$f":"前年度登録!DC21","v":""},{"$f":"前年度登録!DE21","v":0},{"$f":"前年度登録!DJ21","v":"00"},{"$f":"前年度登録!AF21","v":""},{"$f":"前年度登録!S21","v":0},null,{"$f":"IF(O24=\"\",\"\",IF(I24=1,VLOOKUP(O24,男子種目コード!$A$1:$B$33,2,FALSE),IF(I24=2,VLOOKUP(O24,女子種目コード!$A$1:$B$27,2,FALSE))))","v":""},{"$f":"IF(O24=\"\",\"\",HLOOKUP(O24,前年度登録!$AW$3:$CW$118,19,FALSE))","v":""},"","",null,{"$f":"IF(T24=\"\",\"\",IF(I24=1,VLOOKUP(T24,男子種目コード!$A$1:$B$33,2,FALSE),IF(I24=2,VLOOKUP(T24,女子種目コード!$A$1:$B$27,2,FALSE))))","v":""},{"$f":"IF(T24=\"\",\"\",HLOOKUP(T24,前年度登録!$AW$3:$CW$118,19,FALSE))","v":""},"","",null,null,null,null,null,null,null,null,null,null,null,null,"やり投","",0,0,null,"砲丸投",{"$f":"COUNTIF($P$7:$P$116,19)+COUNTIF($U$7:$U$116,19)","v":0},null,null,null,null,"ハンマー投","ハンマー投"]
[null,{"$f":"前年度登録!AE22","v":""},null,null,{"$f":"前年度登録!T22","v":0},{"$f":"前年度登録!DB22","v":""},{"$f":"前年度登録!AO22","v":""},{"$f":"前年度登録!DB22","v":""},{"$f":"前年度登録!AN22","v":""},{"$f":"前年度登録!DC22","v":""},{"$f":"前年度登録!DE22","v":0},{"$f":"前年度登録!DJ22","v":"00"},{"$f":"前年度登録!AF22","v":""},{"$f":"前年度登録!S22","v":0},null,{"$f":"IF(O25=\"\",\"\",IF(I25=1,VLOOKUP(O25,男子種目コード!$A$1:$B$33,2,FALSE),IF(I25=2,VLOOKUP(O25,女子種目コード!$A$1:$B$27,2,FALSE))))","v":""},{"$f":"IF(O25=\"\",\"\",HLOOKUP(O25,前年度登録!$AW$3:$CW$118,20,FALSE))","v":""},"","",null,{"$f":"IF(T25=\"\",\"\",IF(I25=1,VLOOKUP(T25,男子種目コード!$A$1:$B$33,2,FALSE),IF(I25=2,VLOOKUP(T25,女子種目コード!$A$1:$B$27,2,FALSE))))","v":""},{"$f":"IF(T25=\"\",\"\",HLOOKUP(T25,前年度登録!$AW$3:$CW$118,20,FALSE))","v":""},"","",null,null,null,null,null,null,null,null,null,null,null,null,"ハンマー投","",0,0,null,"円盤投",{"$f":"COUNTIF($P$7:$P$116,20)+COUNTIF($U$7:$U$116,20)","v":0},null,null,null,null,"少年B走幅跳","少年B100YH"]
[null,{"$f":"前年度登録!AE23","v":""},null,null,{"$f":"前年度登録!T23","v":0},{"$f":"前年度登録!DB23","v":""},{"$f":"前年度登録!AO23","v":""},{"$f":"前年度登録!DB23","v":""},{"$f":"前年度登録!AN23","v":""},{"$f":"前年度登録!DC23","v":""},{"$f":"前年度登録!DE23","v":0},{"$f":"前年度登録!DJ23","v":"00"},{"$f":"前年度登録!AF23","v":""},{"$f":"前年度登録!S23","v":0},null,{"$f":"IF(O26=\"\",\"\",IF(I26=1,VLOOKUP(O26,男子種目コード!$A$1:$B$33,2,FALSE),IF(I26=2,VLOOKUP(O26,女子種目コード!$A$1:$B$27,2,FALSE))))","v":""},{"$f":"IF(O26=\"\",\"\",HLOOKUP(O26,前年度登録!$AW$3:$CW$118,21,FALSE))","v":""},"","",null,{"$f":"IF(T26=\"\",\"\",IF(I26=1,VLOOKUP(T26,男子種目コード!$A$1:$B$33,2,FALSE),IF(I26=2,VLOOKUP(T26,女子種目コード!$A$1:$B$27,2,FALSE))))","v":""},{"$f":"IF(T26=\"\",\"\",HLOOKUP(T26,前年度登録!$AW$3:$CW$118,21,FALSE))","v":""},"","",null,null,null,null,null,null,null,null,null,null,null,null,"少年B100H","",0,0,null,"やり投",{"$f":"COUNTIF($P$7:$P$116,21)+COUNTIF($U$7:$U$116,21)","v":0},null,null,null,null,"少年B砲丸投","女子A"]
[null,{"$f":"前年度登録!AE24","v":""},null,null,{"$f":"前年度登録!T24","v":0},{"$f":"前年度登録!DB24","v":""},{"$f":"前年度登録!AO24","v":""},{"$f":"前年度登録!DB24","v":""},{"$f":"前年度登録!AN24","v":""},{"$f":"前年度登録!DC24","v":""},{"$f":"前年度登録!DE24","v":0},{"$f":"前年度登録!DJ24","v":"00"},{"$f":"前年度登録!AF24","v":""},{"$f":"前年度登録!S24","v":0},null,{"$f":"IF(O27=\"\",\"\",IF(I27=1,VLOOKUP(O27,男子種目コード!$A$1:$B$33,2,FALSE),IF(I27=2,VLOOKUP(O27,女子種目コード!$A$1:$B$27,2,FALSE))))","v":""},{"$f":"IF(O27=\"\",\"\",HLOOKUP(O27,前年度登録!$AW$3:$CW$118,22,FALSE))","v":""},"","",null,{"$f":"IF(T27=\"\",\"\",IF(I27=1,VLOOKUP(T27,男子種目コード!$A$1:$B$33,2,FALSE),IF(I27=2,VLOOKUP(T27,女子種目コード!$A$1:$B$27,2,FALSE))))","v":""},{"$f":"IF(T27=\"\",\"\",HLOOKUP(T27,前年度登録!$AW$3:$CW$118,22,FALSE))","v":""},"","",null,null,null,null,null,null,null,null,null,null,null,null,"少年3000","",0,0,null,"ハンマー投",{"$f":"COUNTIF($P$7:$P$116,22)+COUNTIF($U$7:$U$116,22)","v":0},null,null,null,null,"男子A","女子B"]
[null,{"$f":"前年度登録!AE25","v":""},null,null,{"$f":"前年度登録!T25","v":0},{"$f":"前年度登録!DB25","v":""},{"$f":"前年度登録!AO25","v":""},{"$f":"前年度登録!DB25","v":""},{"$f":"前年度登録!AN25","v":""},{"$f":"前年度登録!DC25","v":""},{"$f":"前年度登録!DE25","v":0},{"$f":"前年度登録!DJ25","v":"00"},{"$f":"前年度登録!AF25","v":""},{"$f":"前年度登録!S25","v":0},null,{"$f":"IF(O28=\"\",\"\",IF(I28=1,VLOOKUP(O28,男子種目コード!$A$1:$B$33,2,FALSE),IF(I28=2,VLOOKUP(O28,女子種目コード!$A$1:$B$27,2,FALSE))))","v":""},{"$f":"IF(O28=\"\",\"\",HLOOKUP(O28,前年度登録!$AW$3:$CW$118,23,FALSE))","v":""},"","",null,{"$f":"IF(T28=\"\",\"\",IF(I28=1,VLOOKUP(T28,男子種目コード!$A$1:$B$33,2,FALSE),IF(I28=2,VLOOKUP(T28,女子種目コード!$A$1:$B$27,2,FALSE))))","v":""},{"$f":"IF(T28=\"\",\"\",HLOOKUP(T28,前年度登録!$AW$3:$CW$118,23,FALSE))","v":""},"","",null,null,null,null,null,null,null,null,null,null,null,null,"少年砲丸投","",0,0,null,"少年砲丸投",{"$f":"COUNTIF($P$7:$P$116,25)+COUNTIF($U$7:$U$116,25)","v":0},null,null,null,null,"男子B","女子C"]
[null,{"$f":"前年度登録!AE26","v":""},null,null,{"$f":"前年度登録!T26","v":0},{"$f":"前年度登録!DB26","v":""},{"$f":"前年度登録!AO26","v":""},{"$f":"前年度登録!DB26","v":""},{"$f":"前年度登録!AN26","v":""},{"$f":"前年度登録!DC26","v":""},{"$f":"前年度登録!DE26","v":0},{"$f":"前年度登録!DJ26","v":"00"},{"$f":"前年度登録!AF26","v":""},{"$f":"前年度登録!S26","v":0},null,{"$f":"IF(O29=\"\",\"\",IF(I29=1,VLOOKUP(O29,男子種目コード!$A$1:$B$33,2,FALSE),IF(I29=2,VLOOKUP(O29,女子種目コード!$A$1:$B$27,2,FALSE))))","v":""},{"$f":"IF(O29=\"\",\"\",HLOOKUP(O29,前年度登録!$AW$3:$CW$118,24,FALSE))","v":""},"","",null,{"$f":"IF(T29=\"\",\"\",IF(I29=1,VLOOKUP(T29,男子種目コード!$A$1:$B$33,2,FALSE),IF(I29=2,VLOOKUP(T29,女子種目コード!$A$1:$B$27,2,FALSE))))","v":""},{"$f":"IF(T29=\"\",\"\",HLOOKUP(T29,前年度登録!$AW$3:$CW$118,24,FALSE))","v":""},"","",null,null,null,null,null,null,null,null,null,null,null,null,"少年円盤投","",0,0,null,"少年円盤投",{"$f":"COUNTIF($P$7:$P$116,26)+COUNTIF($U$7:$U$116,26)","v":0},null,null,null,null,"男子C"]
[null,{"$f":"前年度登録!AE27","v":""},null,null,{"$f":"前年度登録!T27","v":0},{"$f":"前年度登録!DB27","v":""},{"$f":"前年度登録!AO27","v":""},{"$f":"前年度登録!DB27","v":""},{"$f":"前年度登録!AN27","v":""},{"$f":"前年度登録!DC27","v":""},{"$f":"前年度登録!DE27","v":0},{"$f":"前年度登録!DJ27","v":"00"},{"$f":"前年度登録!AF27","v":""},{"$f":"前年度登録!S27","v":0},null,{"$f":"IF(O30=\"\",\"\",IF(I30=1,VLOOKUP(O30,男子種目コード!$A$1:$B$33,2,FALSE),IF(I30=2,VLOOKUP(O30,女子種目コード!$A$1:$B$27,2,FALSE))))","v":""},{"$f":"IF(O30=\"\",\"\",HLOOKUP(O30,前年度登録!$AW$3:$CW$118,25,FALSE))","v":""},"","",null,{"$f":"IF(T30=\"\",\"\",IF(I30=1,VLOOKUP(T30,男子種目コード!$A$1:$B$33,2,FALSE),IF(I30=2,VLOOKUP(T30,女子種目コード!$A$1:$B$27,2,FALSE))))","v":""},{"$f":"IF(T30=\"\",\"\",HLOOKUP(T30,前年度登録!$AW$3:$CW$118,25,FALSE))","v":""},"","",null,null,null,null,null,null,null,null,null,null,null,null,"少年ハンマー投","",0,0,null,"少年B砲丸投",{"$f":"COUNTIF($P$7:$P$116,29)+COUNTIF($U$7:$U$116,29)","v":0},null,null,null,null,"女子A"]
[null,{"$f":"前年度登録!AE28","v":""},null,null,{"$f":"前年度登録!T28","v":0},{"$f":"前年度登録!DB28","v":""},{"$f":"前年度登録!AO28","v":""},{"$f":"前年度登録!DB28","v":""},{"$f":"前年度登録!AN28","v":""},{"$f":"前年度登録!DC28","v":""},{"$f":"前年度登録!DE28","v":0},{"$f":"前年度登録!DJ28","v":"00"},{"$f":"前年度登録!AF28","v":""},{"$f":"前年度登録!S28","v":0},null,{"$f":"IF(O31=\"\",\"\",IF(I31=1,VLOOKUP(O31,男子種目コード!$A$1:$B$33,2,FALSE),IF(I31=2,VLOOKUP(O31,女子種目コード!$A$1:$B$27,2,FALSE))))","v":""},{"$f":"IF(O31=\"\",\"\",HLOOKUP(O31,前年度登録!$AW$3:$CW$118,26,FALSE))","v":""},"","",null,{"$f":"IF(T31=\"\",\"\",IF(I31=1,VLOOKUP(T31,男子種目コード!$A$1:$B$33,2,FALSE),IF(I31=2,VLOOKUP(T31,女子種目コード!$A$1:$B$27,2,FALSE))))","v":""},{"$f":"IF(T31=\"\",\"\",HLOOKUP(T31,前年度登録!$AW$3:$CW$118,26,FALSE))","v":""},"","",null,null,null,null,null,null,null,null,null,null,null,null,"男子A","",0,0,null,"少年ハンマー投",{"$f":"COUNTIF($P$7:$P$116,27)+COUNTIF($U$7:$U$116,27)","v":0},null,null,null,null,"女子B"]
[null,{"$f":"前年度登録!AE29","v":""},null,null,{"$f":"前年度登録!T29","v":0},{"$f":"前年度登録!DB29","v":""},{"$f":"前年度登録!AO29","v":""},{"$f":"前年度登録!DB29","v":""},{"$f":"前年度登録!AN29","v":""},{"$f":"前年度登録!DC29","v":""},{"$f":"前年度登録!DE29","v":0},{"$f":"前年度登録!DJ29","v":"00"},{"$f":"前年度登録!AF29","v":""},{"$f":"前年度登録!S29","v":0},null,{"$f":"IF(O32=\"\",\"\",IF(I32=1,VLOOKUP(O32,男子種目コード!$A$1:$B$33,2,FALSE),IF(I32=2,VLOOKUP(O32,女子種目コード!$A$1:$B$27,2,FALSE))))","v":""},{"$f":"IF(O32=\"\",\"\",HLOOKUP(O32,前年度登録!$AW$3:$CW$118,27,FALSE))","v":""},"","",null,{"$f":"IF(T32=\"\",\"\",IF(I32=1,VLOOKUP(T32,男子種目コード!$A$1:$B$33,2,FALSE),IF(I32=2,VLOOKUP(T32,女子種目コード!$A$1:$B$27,2,FALSE))))","v":""},{"$f":"IF(T32=\"\",\"\",HLOOKUP(T32,前年度登録!$AW$3:$CW$118,27,FALSE))","v":""},"","",null,null,null,null,null,null,null,null,null,null,null,null,"男子B","",0,0,null,"少年B走幅跳",{"$f":"COUNTIF($P$7:$P$116,23)+COUNTIF($U$7:$U$116,23)","v":0},null,null,null,null,"女子C"]
[null,{"$f":"前年度登録!AE30","v":""},null,null,{"$f":"前年度登録!T30","v":0},{"$f":"前年度登録!DB30","v":""},{"$f":"前年度登録!AO30","v":""},{"$f":"前年度登録!DB30","v":""},{"$f":"前年度登録!AN30","v":""},{"$f":"前年度登録!DC30","v":""},{"$f":"前年度登録!DE30","v":0},{"$f":"前年度登録!DJ30","v":"00"},{"$f":"前年度登録!AF30","v":""},{"$f":"前年度登録!S30","v":0},null,{"$f":"IF(O33=\"\",\"\",IF(I33=1,VLOOKUP(O33,男子種目コード!$A$1:$B$33,2,FALSE),IF(I33=2,VLOOKUP(O33,女子種目コード!$A$1:$B$27,2,FALSE))))","v":""},{"$f":"IF(O33=\"\",\"\",HLOOKUP(O33,前年度登録!$AW$3:$CW$118,28,FALSE))","v":""},"","",null,{"$f":"IF(T33=\"\",\"\",IF(I33=1,VLOOKUP(T33,男子種目コード!$A$1:$B$33,2,FALSE),IF(I33=2,VLOOKUP(T33,女子種目コード!$A$1:$B$27,2,FALSE))))","v":""},{"$f":"IF(T33=\"\",\"\",HLOOKUP(T33,前年度登録!$AW$3:$CW$118,28,FALSE))","v":""},"","",null,null,null,null,null,null,null,null,null,null,null,null,"男子C","",0,0,null,"計",{"$f":"SUM(AQ8:AQ32)","v":0}]
[null,{"$f":"前年度登録!AE31","v":""},null,null,{"$f":"前年度登録!T31","v":0},{"$f":"前年度登録!DB31","v":""},{"$f":"前年度登録!AO31","v":""},{"$f":"前年度登録!DB31","v":""},{"$f":"前年度登録!AN31","v":""},{"$f":"前年度登録!DC31","v":""},{"$f":"前年度登録!DE31","v":0},{"$f":"前年度登録!DJ31","v":"00"},{"$f":"前年度登録!AF31","v":""},{"$f":"前年度登録!S31","v":0},null,{"$f":"IF(O34=\"\",\"\",IF(I34=1,VLOOKUP(O34,男子種目コード!$A$1:$B$33,2,FALSE),IF(I34=2,VLOOKUP(O34,女子種目コード!$A$1:$B$27,2,FALSE))))","v":""},{"$f":"IF(O34=\"\",\"\",HLOOKUP(O34,前年度登録!$AW$3:$CW$118,29,FALSE))","v":""},"","",null,{"$f":"IF(T34=\"\",\"\",IF(I34=1,VLOOKUP(T34,男子種目コード!$A$1:$B$33,2,FALSE),IF(I34=2,VLOOKUP(T34,女子種目コード!$A$1:$B$27,2,FALSE))))","v":""},{"$f":"IF(T34=\"\",\"\",HLOOKUP(T34,前年度登録!$AW$3:$CW$118,29,FALSE))","v":""},"","",null,null,null,null,null,null,null,null,null,null,null,null,"女子A","",0,0,null,"女子"]
[null,{"$f":"前年度登録!AE32","v":""},null,null,{"$f":"前年度登録!T32","v":0},{"$f":"前年度登録!DB32","v":""},{"$f":"前年度登録!AO32","v":""},{"$f":"前年度登録!DB32","v":""},{"$f":"前年度登録!AN32","v":""},{"$f":"前年度登録!DC32","v":""},{"$f":"前年度登録!DE32","v":0},{"$f":"前年度登録!DJ32","v":"00"},{"$f":"前年度登録!AF32","v":""},{"$f":"前年度登録!S32","v":0},null,{"$f":"IF(O35=\"\",\"\",IF(I35=1,VLOOKUP(O35,男子種目コード!$A$1:$B$33,2,FALSE),IF(I35=2,VLOOKUP(O35,女子種目コード!$A$1:$B$27,2,FALSE))))","v":""},{"$f":"IF(O35=\"\",\"\",HLOOKUP(O35,前年度登録!$AW$3:$CW$118,30,FALSE))","v":""},"","",null,{"$f":"IF(T35=\"\",\"\",IF(I35=1,VLOOKUP(T35,男子種目コード!$A$1:$B$33,2,FALSE),IF(I35=2,VLOOKUP(T35,女子種目コード!$A$1:$B$27,2,FALSE))))","v":""},{"$f":"IF(T35=\"\",\"\",HLOOKUP(T35,前年度登録!$AW$3:$CW$118,30,FALSE))","v":""},"","",null,null,null,null,null,null,null,null,null,null,null,null,"女子B","",0,0,null,100,{"$f":"COUNTIF($P$7:$P$116,40)+COUNTIF($U$7:$U$116,40)","v":0}]
[null,{"$f":"前年度登録!AE33","v":""},null,null,{"$f":"前年度登録!T33","v":0},{"$f":"前年度登録!DB33","v":""},{"$f":"前年度登録!AO33","v":""},{"$f":"前年度登録!DB33","v":""},{"$f":"前年度登録!AN33","v":""},{"$f":"前年度登録!DC33","v":""},{"$f":"前年度登録!DE33","v":0},{"$f":"前年度登録!DJ33","v":"00"},{"$f":"前年度登録!AF33","v":""},{"$f":"前年度登録!S33","v":0},null,{"$f":"IF(O36=\"\",\"\",IF(I36=1,VLOOKUP(O36,男子種目コード!$A$1:$B$33,2,FALSE),IF(I36=2,VLOOKUP(O36,女子種目コード!$A$1:$B$27,2,FALSE))))","v":""},{"$f":"IF(O36=\"\",\"\",HLOOKUP(O36,前年度登録!$AW$3:$CW$118,31,FALSE))","v":""},"","",null,{"$f":"IF(T36=\"\",\"\",IF(I36=1,VLOOKUP(T36,男子種目コード!$A$1:$B$33,2,FALSE),IF(I36=2,VLOOKUP(T36,女子種目コード!$A$1:$B$27,2,FALSE))))","v":""},{"$f":"IF(T36=\"\",\"\",HLOOKUP(T36,前年度登録!$AW$3:$CW$118,31,FALSE))","v":""},"","",null,null,null,null,null,null,null,null,null,null,null,null,"女子C","",0,0,null,200,{"$f":"COUNTIF($P$7:$P$116,41)+COUNTIF($U$7:$U$116,41)","v":0}]
[null,{"$f":"前年度登録!AE34","v":""},null,null,{"$f":"前年度登録!T34","v":0},{"$f":"前年度登録!DB34","v":""},{"$f":"前年度登録!AO34","v":""},{"$f":"前年度登録!DB34","v":""},{"$f":"前年度登録!AN34","v":""},{"$f":"前年度登録!DC34","v":""},{"$f":"前年度登録!DE34","v":0},{"$f":"前年度登録!DJ34","v":"00"},{"$f":"前年度登録!AF34","v":""},{"$f":"前年度登録!S34","v":0},null,{"$f":"IF(O37=\"\",\"\",IF(I37=1,VLOOKUP(O37,男子種目コード!$A$1:$B$33,2,FALSE),IF(I37=2,VLOOKUP(O37,女子種目コード!$A$1:$B$27,2,FALSE))))","v":""},{"$f":"IF(O37=\"\",\"\",HLOOKUP(O37,前年度登録!$AW$3:$CW$118,32,FALSE))","v":""},"","",null,{"$f":"IF(T37=\"\",\"\",IF(I37=1,VLOOKUP(T37,男子種目コード!$A$1:$B$33,2,FALSE),IF(I37=2,VLOOKUP(T37,女子種目コード!$A$1:$B$27,2,FALSE))))","v":""},{"$f":"IF(T37=\"\",\"\",HLOOKUP(T37,前年度登録!$AW$3:$CW$118,32,FALSE))","v":""},"","",null,null,null,null,null,null,null,null,null,null,null,null,null,"",0,0,null,400,{"$f":"COUNTIF($P$7:$P$116,42)+COUNTIF($U$7:$U$116,42)","v":0}]
[null,{"$f":"前年度登録!AE35","v":""},null,null,{"$f":"前年度登録!T35","v":0},{"$f":"前年度登録!DB35","v":""},{"$f":"前年度登録!AO35","v":""},{"$f":"前年度登録!DB35","v":""},{"$f":"前年度登録!AN35","v":""},{"$f":"前年度登録!DC35","v":""},{"$f":"前年度登録!DE35","v":0},{"$f":"前年度登録!DJ35","v":"00"},{"$f":"前年度登録!AF35","v":""},{"$f":"前年度登録!S35","v":0},null,{"$f":"IF(O38=\"\",\"\",IF(I38=1,VLOOKUP(O38,男子種目コード!$A$1:$B$33,2,FALSE),IF(I38=2,VLOOKUP(O38,女子種目コード!$A$1:$B$27,2,FALSE))))","v":""},{"$f":"IF(O38=\"\",\"\",HLOOKUP(O38,前年度登録!$AW$3:$CW$118,33,FALSE))","v":""},"","",null,{"$f":"IF(T38=\"\",\"\",IF(I38=1,VLOOKUP(T38,男子種目コード!$A$1:$B$33,2,FALSE),IF(I38=2,VLOOKUP(T38,女子種目コード!$A$1:$B$27,2,FALSE))))","v":""},{"$f":"IF(T38=\"\",\"\",HLOOKUP(T38,前年度登録!$AW$3:$CW$118,33,FALSE))","v":""},"","",null,null,null,null,null,null,null,null,null,null,null,null,null,"",0,0,null,800,{"$f":"COUNTIF($P$7:$P$116,43)+COUNTIF($U$7:$U$116,43)","v":0}]
[null,{"$f":"前年度登録!AE36","v":""},null,null,{"$f":"前年度登録!T36","v":0},{"$f":"前年度登録!DB36","v":""},{"$f":"前年度登録!AO36","v":""},{"$f":"前年度登録!DB36","v":""},{"$f":"前年度登録!AN36","v":""},{"$f":"前年度登録!DC36","v":""},{"$f":"前年度登録!DE36","v":0},{"$f":"前年度登録!DJ36","v":"00"},{"$f":"前年度登録!AF36","v":""},{"$f":"前年度登録!S36","v":0},null,{"$f":"IF(O39=\"\",\"\",IF(I39=1,VLOOKUP(O39,男子種目コード!$A$1:$B$33,2,FALSE),IF(I39=2,VLOOKUP(O39,女子種目コード!$A$1:$B$27,2,FALSE))))","v":""},{"$f":"IF(O39=\"\",\"\",HLOOKUP(O39,前年度登録!$AW$3:$CW$118,34,FALSE))","v":""},"","",null,{"$f":"IF(T39=\"\",\"\",IF(I39=1,VLOOKUP(T39,男子種目コード!$A$1:$B$33,2,FALSE),IF(I39=2,VLOOKUP(T39,女子種目コード!$A$1:$B$27,2,FALSE))))","v":""},{"$f":"IF(T39=\"\",\"\",HLOOKUP(T39,前年度登録!$AW$3:$CW$118,34,FALSE))","v":""},"","",null,null,null,null,null,null,null,null,null,null,null,null,null,{"$f":"IF(O39=\"\",\"\",1)","v":""},{"$f":"IF(OR(AL39=1,T39=\"\"),0,1)","v":0},{"$f":"IF(OR(AL39=1,AM39=1,AB39=\"\"),0,1)","v":0},null,1500,{"$f":"COUNTIF($P$7:$P$116,44)+COUNTIF($U$7:$U$116,44)","v":0}]
[null,{"$f":"前年度登録!AE37","v":""},null,null,{"$f":"前年度登録!T37","v":0},{"$f":"前年度登録!DB37","v":""},{"$f":"前年度登録!AO37","v":""},{"$f":"前年度登録!DB37","v":""},{"$f":"前年度登録!AN37","v":""},{"$f":"前年度登録!DC37","v":""},{"$f":"前年度登録!DE37","v":0},{"$f":"前年度登録!DJ37","v":"00"},{"$f":"前年度登録!AF37","v":""},{"$f":"前年度登録!S37","v":0},null,{"$f":"IF(O40=\"\",\"\",IF(I40=1,VLOOKUP(O40,男子種目コード!$A$1:$B$33,2,FALSE),IF(I40=2,VLOOKUP(O40,女子種目コード!$A$1:$B$27,2,FALSE))))","v":""},{"$f":"IF(O40=\"\",\"\",HLOOKUP(O40,前年度登録!$AW$3:$CW$118,35,FALSE))","v":""},"","",null,{"$f":"IF(T40=\"\",\"\",IF(I40=1,VLOOKUP(T40,男子種目コード!$A$1:$B$33,2,FALSE),IF(I40=2,VLOOKUP(T40,女子種目コード!$A$1:$B$27,2,FALSE))))","v":""},{"$f":"IF(T40=\"\",\"\",HLOOKUP(T40,前年度登録!$AW$3:$CW$118,35,FALSE))","v":""},"","",null,null,null,null,null,null,null,null,null,null,null,null,null,"",0,0,null,"少年3000",{"$f":"COUNTIF($P$7:$P$116,64)+COUNTIF($U$7:$U$116,64)","v":0}]
[null,{"$f":"前年度登録!AE38","v":""},null,null,{"$f":"前年度登録!T38","v":0},{"$f":"前年度登録!DB38","v":""},{"$f":"前年度登録!AO38","v":""},{"$f":"前年度登録!DB38","v":""},{"$f":"前年度登録!AN38","v":""},{"$f":"前年度登録!DC38","v":""},{"$f":"前年度登録!DE38","v":0},{"$f":"前年度登録!DJ38","v":"00"},{"$f":"前年度登録!AF38","v":""},{"$f":"前年度登録!S38","v":0},null,{"$f":"IF(O41=\"\",\"\",IF(I41=1,VLOOKUP(O41,男子種目コード!$A$1:$B$33,2,FALSE),IF(I41=2,VLOOKUP(O41,女子種目コード!$A$1:$B$27,2,FALSE))))","v":""},{"$f":"IF(O41=\"\",\"\",HLOOKUP(O41,前年度登録!$AW$3:$CW$118,36,FALSE))","v":""},"","",null,{"$f":"IF(T41=\"\",\"\",IF(I41=1,VLOOKUP(T41,男子種目コード!$A$1:$B$33,2,FALSE),IF(I41=2,VLOOKUP(T41,女子種目コード!$A$1:$B$27,2,FALSE))))","v":""},{"$f":"IF(T41=\"\",\"\",HLOOKUP(T41,前年度登録!$AW$3:$CW$118,36,FALSE))","v":""},"","",null,null,null,null,null,null,null,null,null,null,null,null,null,"",0,0,null,5000,{"$f":"COUNTIF($P$7:$P$116,46)+COUNTIF($U$7:$U$116,46)","v":0}]
[null,{"$f":"前年度登録!AE39","v":""},null,null,{"$f":"前年度登録!T39","v":0},{"$f":"前年度登録!DB39","v":""},{"$f":"前年度登録!AO39","v":""},{"$f":"前年度登録!DB39","v":""},{"$f":"前年度登録!AN39","v":""},{"$f":"前年度登録!DC39","v":""},{"$f":"前年度登録!DE39","v":0},{"$f":"前年度登録!DJ39","v":"00"},{"$f":"前年度登録!AF39","v":""},{"$f":"前年度登録!S39","v":0},null,{"$f":"IF(O42=\"\",\"\",IF(I42=1,VLOOKUP(O42,男子種目コード!$A$1:$B$33,2,FALSE),IF(I42=2,VLOOKUP(O42,女子種目コード!$A$1:$B$27,2,FALSE))))","v":""},{"$f":"IF(O42=\"\",\"\",HLOOKUP(O42,前年度登録!$AW$3:$CW$118,37,FALSE))","v":""},"","",null,{"$f":"IF(T42=\"\",\"\",IF(I42=1,VLOOKUP(T42,男子種目コード!$A$1:$B$33,2,FALSE),IF(I42=2,VLOOKUP(T42,女子種目コード!$A$1:$B$27,2,FALSE))))","v":""},{"$f":"IF(T42=\"\",\"\",HLOOKUP(T42,前年度登録!$AW$3:$CW$118,37,FALSE))","v":""},"","",null,null,null,null,null,null,null,null,null,null,null,null,null,"",0,0,null,10000,{"$f":"COUNTIF($P$7:$P$116,47)+COUNTIF($U$7:$U$116,47)","v":0}]
[null,{"$f":"前年度登録!AE40","v":""},null,null,{"$f":"前年度登録!T40","v":0},{"$f":"前年度登録!DB40","v":""},{"$f":"前年度登録!AO40","v":""},{"$f":"前年度登録!DB40","v":""},{"$f":"前年度登録!AN40","v":""},{"$f":"前年度登録!DC40","v":""},{"$f":"前年度登録!DE40","v":0},{"$f":"前年度登録!DJ40","v":"00"},{"$f":"前年度登録!AF40","v":""},{"$f":"前年度登録!S40","v":0},null,{"$f":"IF(O43=\"\",\"\",IF(I43=1,VLOOKUP(O43,男子種目コード!$A$1:$B$33,2,FALSE),IF(I43=2,VLOOKUP(O43,女子種目コード!$A$1:$B$27,2,FALSE))))","v":""},{"$f":"IF(O43=\"\",\"\",HLOOKUP(O43,前年度登録!$AW$3:$CW$118,38,FALSE))","v":""},"","",null,{"$f":"IF(T43=\"\",\"\",IF(I43=1,VLOOKUP(T43,男子種目コード!$A$1:$B$33,2,FALSE),IF(I43=2,VLOOKUP(T43,女子種目コード!$A$1:$B$27,2,FALSE))))","v":""},{"$f":"IF(T43=\"\",\"\",HLOOKUP(T43,前年度登録!$AW$3:$CW$118,38,FALSE))","v":""},"","",null,null,null,null,null,null,null,null,null,null,null,null,null,"",0,0,null,"100H",{"$f":"COUNTIF($P$7:$P$116,48)+COUNTIF($U$7:$U$116,48)","v":0}]
[null,{"$f":"前年度登録!AE41","v":""},null,null,{"$f":"前年度登録!T41","v":0},{"$f":"前年度登録!DB41","v":""},{"$f":"前年度登録!AO41","v":""},{"$f":"前年度登録!DB41","v":""},{"$f":"前年度登録!AN41","v":""},{"$f":"前年度登録!DC41","v":""},{"$f":"前年度登録!DE41","v":0},{"$f":"前年度登録!DJ41","v":"00"},{"$f":"前年度登録!AF41","v":""},{"$f":"前年度登録!S41","v":0},null,{"$f":"IF(O44=\"\",\"\",IF(I44=1,VLOOKUP(O44,男子種目コード!$A$1:$B$33,2,FALSE),IF(I44=2,VLOOKUP(O44,女子種目コード!$A$1:$B$27,2,FALSE))))","v":""},{"$f":"IF(O44=\"\",\"\",HLOOKUP(O44,前年度登録!$AW$3:$CW$118,39,FALSE))","v":""},"","",null,{"$f":"IF(T44=\"\",\"\",IF(I44=1,VLOOKUP(T44,男子種目コード!$A$1:$B$33,2,FALSE),IF(I44=2,VLOOKUP(T44,女子種目コード!$A$1:$B$27,2,FALSE))))","v":""},{"$f":"IF(T44=\"\",\"\",HLOOKUP(T44,前年度登録!$AW$3:$CW$118,39,FALSE))","v":""},"","",null,null,null,null,null,null,null,null,null,null,null,null,null,"",0,0,null,"少年B100YH",{"$f":"COUNTIF($P$7:$P$116,65)+COUNTIF($U$7:$U$116,65)","v":0}]
[null,{"$f":"前年度登録!AE42","v":""},null,null,{"$f":"前年度登録!T42","v":0},{"$f":"前年度登録!DB42","v":""},{"$f":"前年度登録!AO42","v":""},{"$f":"前年度登録!DB42","v":""},{"$f":"前年度登録!AN42","v":""},{"$f":"前年度登録!DC42","v":""},{"$f":"前年度登録!DE42","v":0},{"$f":"前年度登録!DJ42","v":"00"},{"$f":"前年度登録!AF42","v":""},{"$f":"前年度登録!S42","v":0},null,{"$f":"IF(O45=\"\",\"\",IF(I45=1,VLOOKUP(O45,男子種目コード!$A$1:$B$33,2,FALSE),IF(I45=2,VLOOKUP(O45,女子種目コード!$A$1:$B$27,2,FALSE))))","v":""},{"$f":"IF(O45=\"\",\"\",HLOOKUP(O45,前年度登録!$AW$3:$CW$118,40,FALSE))","v":""},"","",null,{"$f":"IF(T45=\"\",\"\",IF(I45=1,VLOOKUP(T45,男子種目コード!$A$1:$B$33,2,FALSE),IF(I45=2,VLOOKUP(T45,女子種目コード!$A$1:$B$27,2,FALSE))))","v":""},{"$f":"IF(T45=\"\",\"\",HLOOKUP(T45,前年度登録!$AW$3:$CW$118,40,FALSE))","v":""},"","",null,null,null,null,null,null,null,null,null,null,null,null,null,"",0,0,null,"400H",{"$f":"COUNTIF($P$7:$P$116,49)+COUNTIF($U$7:$U$116,49)","v":0}]
[null,{"$f":"前年度登録!AE43","v":""},null,null,{"$f":"前年度登録!T43","v":0},{"$f":"前年度登録!DB43","v":""},{"$f":"前年度登録!AO43","v":""},{"$f":"前年度登録!DB43","v":""},{"$f":"前年度登録!AN43","v":""},{"$f":"前年度登録!DC43","v":""},{"$f":"前年度登録!DE43","v":0},{"$f":"前年度登録!DJ43","v":"00"},{"$f":"前年度登録!AF43","v":""},{"$f":"前年度登録!S43","v":0},null,{"$f":"IF(O46=\"\",\"\",IF(I46=1,VLOOKUP(O46,男子種目コード!$A$1:$B$33,2,FALSE),IF(I46=2,VLOOKUP(O46,女子種目コード!$A$1:$B$27,2,FALSE))))","v":""},{"$f":"IF(O46=\"\",\"\",HLOOKUP(O46,前年度登録!$AW$3:$CW$118,41,FALSE))","v":""},"","",null,{"$f":"IF(T46=\"\",\"\",IF(I46=1,VLOOKUP(T46,男子種目コード!$A$1:$B$33,2,FALSE),IF(I46=2,VLOOKUP(T46,女子種目コード!$A$1:$B$27,2,FALSE))))","v":""},{"$f":"IF(T46=\"\",\"\",HLOOKUP(T46,前年度登録!$AW$3:$CW$118,41,FALSE))","v":""},"","",null,null,null,null,null,null,null,null,null,null,null,null,null,"",0,0,null,"5000W",{"$f":"COUNTIF($P$7:$P$116,52)+COUNTIF($U$7:$U$116,52)","v":0}]
[null,{"$f":"前年度登録!AE44","v":""},null,null,{"$f":"前年度登録!T44","v":0},{"$f":"前年度登録!DB44","v":""},{"$f":"前年度登録!AO44","v":""},{"$f":"前年度登録!DB44","v":""},{"$f":"前年度登録!AN44","v":""},{"$f":"前年度登録!DC44","v":""},{"$f":"前年度登録!DE44","v":0},{"$f":"前年度登録!DJ44","v":"00"},{"$f":"前年度登録!AF44","v":""},{"$f":"前年度登録!S44","v":0},null,{"$f":"IF(O47=\"\",\"\",IF(I47=1,VLOOKUP(O47,男子種目コード!$A$1:$B$33,2,FALSE),IF(I47=2,VLOOKUP(O47,女子種目コード!$A$1:$B$27,2,FALSE))))","v":""},{"$f":"IF(O47=\"\",\"\",HLOOKUP(O47,前年度登録!$AW$3:$CW$118,42,FALSE))","v":""},"","",null,{"$f":"IF(T47=\"\",\"\",IF(I47=1,VLOOKUP(T47,男子種目コード!$A$1:$B$33,2,FALSE),IF(I47=2,VLOOKUP(T47,女子種目コード!$A$1:$B$27,2,FALSE))))","v":""},{"$f":"IF(T47=\"\",\"\",HLOOKUP(T47,前年度登録!$AW$3:$CW$118,42,FALSE))","v":""},"","",null,null,null,null,null,null,null,null,null,null,null,null,null,"",0,0,null,"走高跳",{"$f":"COUNTIF($P$7:$P$116,55)+COUNTIF($U$7:$U$116,55)","v":0}]
[null,{"$f":"前年度登録!AE45","v":""},null,null,{"$f":"前年度登録!T45","v":0},{"$f":"前年度登録!DB45","v":""},{"$f":"前年度登録!AO45","v":""},{"$f":"前年度登録!DB45","v":""},{"$f":"前年度登録!AN45","v":""},{"$f":"前年度登録!DC45","v":""},{"$f":"前年度登録!DE45","v":0},{"$f":"前年度登録!DJ45","v":"00"},{"$f":"前年度登録!AF45","v":""},{"$f":"前年度登録!S45","v":0},null,{"$f":"IF(O48=\"\",\"\",IF(I48=1,VLOOKUP(O48,男子種目コード!$A$1:$B$33,2,FALSE),IF(I48=2,VLOOKUP(O48,女子種目コード!$A$1:$B$27,2,FALSE))))","v":""},{"$f":"IF(O48=\"\",\"\",HLOOKUP(O48,前年度登録!$AW$3:$CW$118,43,FALSE))","v":""},"","",null,{"$f":"IF(T48=\"\",\"\",IF(I48=1,VLOOKUP(T48,男子種目コード!$A$1:$B$33,2,FALSE),IF(I48=2,VLOOKUP(T48,女子種目コード!$A$1:$B$27,2,FALSE))))","v":""},{"$f":"IF(T48=\"\",\"\",HLOOKUP(T48,前年度登録!$AW$3:$CW$118,43,FALSE))","v":""},"","",null,null,null,null,null,null,null,null,null,null,null,null,null,"",0,0,null,"棒高跳",{"$f":"COUNTIF($P$7:$P$116,56)+COUNTIF($U$7:$U$116,56)","v":0}]
[null,{"$f":"前年度登録!AE46","v":""},null,null,{"$f":"前年度登録!T46","v":0},{"$f":"前年度登録!DB46","v":""},{"$f":"前年度登録!AO46","v":""},{"$f":"前年度登録!DB46","v":""},{"$f":"前年度登録!AN46","v":""},{"$f":"前年度登録!DC46","v":""},{"$f":"前年度登録!DE46","v":0},{"$f":"前年度登録!DJ46","v":"00"},{"$f":"前年度登録!AF46","v":""},{"$f":"前年度登録!S46","v":0},null,{"$f":"IF(O49=\"\",\"\",IF(I49=1,VLOOKUP(O49,男子種目コード!$A$1:$B$33,2,FALSE),IF(I49=2,VLOOKUP(O49,女子種目コード!$A$1:$B$27,2,FALSE))))","v":""},{"$f":"IF(O49=\"\",\"\",HLOOKUP(O49,前年度登録!$AW$3:$CW$118,44,FALSE))","v":""},"","",null,{"$f":"IF(T49=\"\",\"\",IF(I49=1,VLOOKUP(T49,男子種目コード!$A$1:$B$33,2,FALSE),IF(I49=2,VLOOKUP(T49,女子種目コード!$A$1:$B$27,2,FALSE))))","v":""},{"$f":"IF(T49=\"\",\"\",HLOOKUP(T49,前年度登録!$AW$3:$CW$118,44,FALSE))","v":""},"","",null,null,null,null,null,null,null,null,null,null,null,null,null,"",0,0,null,"走幅跳",{"$f":"COUNTIF($P$7:$P$116,57)+COUNTIF($U$7:$U$116,57)","v":0}]
[null,{"$f":"前年度登録!AE47","v":""},null,null,{"$f":"前年度登録!T47","v":0},{"$f":"前年度登録!DB47","v":""},{"$f":"前年度登録!AO47","v":""},{"$f":"前年度登録!DB47","v":""},{"$f":"前年度登録!AN47","v":""},{"$f":"前年度登録!DC47","v":""},{"$f":"前年度登録!DE47","v":0},{"$f":"前年度登録!DJ47","v":"00"},{"$f":"前年度登録!AF47","v":""},{"$f":"前年度登録!S47","v":0},null,{"$f":"IF(O50=\"\",\"\",IF(I50=1,VLOOKUP(O50,男子種目コード!$A$1:$B$33,2,FALSE),IF(I50=2,VLOOKUP(O50,女子種目コード!$A$1:$B$27,2,FALSE))))","v":""},{"$f":"IF(O50=\"\",\"\",HLOOKUP(O50,前年度登録!$AW$3:$CW$118,45,FALSE))","v":""},"","",null,{"$f":"IF(T50=\"\",\"\",IF(I50=1,VLOOKUP(T50,男子種目コード!$A$1:$B$33,2,FALSE),IF(I50=2,VLOOKUP(T50,女子種目コード!$A$1:$B$27,2,FALSE))))","v":""},{"$f":"IF(T50=\"\",\"\",HLOOKUP(T50,前年度登録!$AW$3:$CW$118,45,FALSE))","v":""},"","",null,null,null,null,null,null,null,null,null,null,null,null,null,"",0,0,null,"三段跳",{"$f":"COUNTIF($P$7:$P$116,58)+COUNTIF($U$7:$U$116,58)","v":0}]
[null,{"$f":"前年度登録!AE48","v":""},null,null,{"$f":"前年度登録!T48","v":0},{"$f":"前年度登録!DB48","v":""},{"$f":"前年度登録!AO48","v":""},{"$f":"前年度登録!DB48","v":""},{"$f":"前年度登録!AN48","v":""},{"$f":"前年度登録!DC48","v":""},{"$f":"前年度登録!DE48","v":0},{"$f":"前年度登録!DJ48","v":"00"},{"$f":"前年度登録!AF48","v":""},{"$f":"前年度登録!S48","v":0},null,{"$f":"IF(O51=\"\",\"\",IF(I51=1,VLOOKUP(O51,男子種目コード!$A$1:$B$33,2,FALSE),IF(I51=2,VLOOKUP(O51,女子種目コード!$A$1:$B$27,2,FALSE))))","v":""},{"$f":"IF(O51=\"\",\"\",HLOOKUP(O51,前年度登録!$AW$3:$CW$118,46,FALSE))","v":""},"","",null,{"$f":"IF(T51=\"\",\"\",IF(I51=1,VLOOKUP(T51,男子種目コード!$A$1:$B$33,2,FALSE),IF(I51=2,VLOOKUP(T51,女子種目コード!$A$1:$B$27,2,FALSE))))","v":""},{"$f":"IF(T51=\"\",\"\",HLOOKUP(T51,前年度登録!$AW$3:$CW$118,46,FALSE))","v":""},"","",null,null,null,null,null,null,null,null,null,null,null,null,null,"",0,0,null,"砲丸投",{"$f":"COUNTIF($P$7:$P$116,59)+COUNTIF($U$7:$U$116,59)","v":0}]
[null,{"$f":"前年度登録!AE49","v":""},null,null,{"$f":"前年度登録!T49","v":0},{"$f":"前年度登録!DB49","v":""},{"$f":"前年度登録!AO49","v":""},{"$f":"前年度登録!DB49","v":""},{"$f":"前年度登録!AN49","v":""},{"$f":"前年度登録!DC49","v":""},{"$f":"前年度登録!DE49","v":0},{"$f":"前年度登録!DJ49","v":"00"},{"$f":"前年度登録!AF49","v":""},{"$f":"前年度登録!S49","v":0},null,{"$f":"IF(O52=\"\",\"\",IF(I52=1,VLOOKUP(O52,男子種目コード!$A$1:$B$33,2,FALSE),IF(I52=2,VLOOKUP(O52,女子種目コード!$A$1:$B$27,2,FALSE))))","v":""},{"$f":"IF(O52=\"\",\"\",HLOOKUP(O52,前年度登録!$AW$3:$CW$118,47,FALSE))","v":""},"","",null,{"$f":"IF(T52=\"\",\"\",IF(I52=1,VLOOKUP(T52,男子種目コード!$A$1:$B$33,2,FALSE),IF(I52=2,VLOOKUP(T52,女子種目コード!$A$1:$B$27,2,FALSE))))","v":""},{"$f":"IF(T52=\"\",\"\",HLOOKUP(T52,前年度登録!$AW$3:$CW$118,47,FALSE))","v":""},"","",null,null,null,null,null,null,null,null,null,null,null,null,null,"",0,0,null,"円盤投",{"$f":"COUNTIF($P$7:$P$116,60)+COUNTIF($U$7:$U$116,60)","v":0}]
[null,{"$f":"前年度登録!AE50","v":""},null,null,{"$f":"前年度登録!T50","v":0},{"$f":"前年度登録!DB50","v":""},{"$f":"前年度登録!AO50","v":""},{"$f":"前年度登録!DB50","v":""},{"$f":"前年度登録!AN50","v":""},{"$f":"前年度登録!DC50","v":""},{"$f":"前年度登録!DE50","v":0},{"$f":"前年度登録!DJ50","v":"00"},{"$f":"前年度登録!AF50","v":""},{"$f":"前年度登録!S50","v":0},null,{"$f":"IF(O53=\"\",\"\",IF(I53=1,VLOOKUP(O53,男子種目コード!$A$1:$B$33,2,FALSE),IF(I53=2,VLOOKUP(O53,女子種目コード!$A$1:$B$27,2,FALSE))))","v":""},{"$f":"IF(O53=\"\",\"\",HLOOKUP(O53,前年度登録!$AW$3:$CW$118,48,FALSE))","v":""},"","",null,{"$f":"IF(T53=\"\",\"\",IF(I53=1,VLOOKUP(T53,男子種目コード!$A$1:$B$33,2,FALSE),IF(I53=2,VLOOKUP(T53,女子種目コード!$A$1:$B$27,2,FALSE))))","v":""},{"$f":"IF(T53=\"\",\"\",HLOOKUP(T53,前年度登録!$AW$3:$CW$118,48,FALSE))","v":""},"","",null,null,null,null,null,null,null,null,null,null,null,null,null,"",0,0,null,"やり投",{"$f":"COUNTIF($P$7:$P$116,61)+COUNTIF($U$7:$U$116,61)","v":0}]
[null,{"$f":"前年度登録!AE51","v":""},null,null,{"$f":"前年度登録!T51","v":0},{"$f":"前年度登録!DB51","v":""},{"$f":"前年度登録!AO51","v":""},{"$f":"前年度登録!DB51","v":""},{"$f":"前年度登録!AN51","v":""},{"$f":"前年度登録!DC51","v":""},{"$f":"前年度登録!DE51","v":0},{"$f":"前年度登録!DJ51","v":"00"},{"$f":"前年度登録!AF51","v":""},{"$f":"前年度登録!S51","v":0},null,{"$f":"IF(O54=\"\",\"\",IF(I54=1,VLOOKUP(O54,男子種目コード!$A$1:$B$33,2,FALSE),IF(I54=2,VLOOKUP(O54,女子種目コード!$A$1:$B$27,2,FALSE))))","v":""},{"$f":"IF(O54=\"\",\"\",HLOOKUP(O54,前年度登録!$AW$3:$CW$118,49,FALSE))","v":""},"","",null,{"$f":"IF(T54=\"\",\"\",IF(I54=1,VLOOKUP(T54,男子種目コード!$A$1:$B$33,2,FALSE),IF(I54=2,VLOOKUP(T54,女子種目コード!$A$1:$B$27,2,FALSE))))","v":""},{"$f":"IF(T54=\"\",\"\",HLOOKUP(T54,前年度登録!$AW$3:$CW$118,49,FALSE))","v":""},"","",null,null,null,null,null,null,null,null,null,null,null,null,null,"",0,0,null,"ハンマー投",{"$f":"COUNTIF($P$7:$P$116,62)+COUNTIF($U$7:$U$116,62)","v":0}]
[null,{"$f":"前年度登録!AE52","v":""},null,null,{"$f":"前年度登録!T52","v":0},{"$f":"前年度登録!DB52","v":""},{"$f":"前年度登録!AO52","v":""},{"$f":"前年度登録!DB52","v":""},{"$f":"前年度登録!AN52","v":""},{"$f":"前年度登録!DC52","v":""},{"$f":"前年度登録!DE52","v":0},{"$f":"前年度登録!DJ52","v":"00"},{"$f":"前年度登録!AF52","v":""},{"$f":"前年度登録!S52","v":0},null,{"$f":"IF(O55=\"\",\"\",IF(I55=1,VLOOKUP(O55,男子種目コード!$A$1:$B$33,2,FALSE),IF(I55=2,VLOOKUP(O55,女子種目コード!$A$1:$B$27,2,FALSE))))","v":""},{"$f":"IF(O55=\"\",\"\",HLOOKUP(O55,前年度登録!$AW$3:$CW$118,50,FALSE))","v":""},"","",null,{"$f":"IF(T55=\"\",\"\",IF(I55=1,VLOOKUP(T55,男子種目コード!$A$1:$B$33,2,FALSE),IF(I55=2,VLOOKUP(T55,女子種目コード!$A$1:$B$27,2,FALSE))))","v":""},{"$f":"IF(T55=\"\",\"\",HLOOKUP(T55,前年度登録!$AW$3:$CW$118,50,FALSE))","v":""},"","",null,null,null,null,null,null,null,null,null,null,null,null,null,"",0,0,null,"計",{"$f":"SUM(AQ35:AQ54)","v":0}]
[null,{"$f":"前年度登録!AE53","v":""},null,null,{"$f":"前年度登録!T53","v":0},{"$f":"前年度登録!DB53","v":""},{"$f":"前年度登録!AO53","v":""},{"$f":"前年度登録!DB53","v":""},{"$f":"前年度登録!AN53","v":""},{"$f":"前年度登録!DC53","v":""},{"$f":"前年度登録!DE53","v":0},{"$f":"前年度登録!DJ53","v":"00"},{"$f":"前年度登録!AF53","v":""},{"$f":"前年度登録!S53","v":0},null,{"$f":"IF(O56=\"\",\"\",IF(I56=1,VLOOKUP(O56,男子種目コード!$A$1:$B$33,2,FALSE),IF(I56=2,VLOOKUP(O56,女子種目コード!$A$1:$B$27,2,FALSE))))","v":""},{"$f":"IF(O56=\"\",\"\",HLOOKUP(O56,前年度登録!$AW$3:$CW$118,51,FALSE))","v":""},"","",null,{"$f":"IF(T56=\"\",\"\",IF(I56=1,VLOOKUP(T56,男子種目コード!$A$1:$B$33,2,FALSE),IF(I56=2,VLOOKUP(T56,女子種目コード!$A$1:$B$27,2,FALSE))))","v":""},{"$f":"IF(T56=\"\",\"\",HLOOKUP(T56,前年度登録!$AW$3:$CW$118,51,FALSE))","v":""},"","",null,null,null,null,null,null,null,null,null,null,null,null,null,"",0,0]
[null,{"$f":"前年度登録!AE54","v":""},null,null,{"$f":"前年度登録!T54","v":0},{"$f":"前年度登録!DB54","v":""},{"$f":"前年度登録!AO54","v":""},{"$f":"前年度登録!DB54","v":""},{"$f":"前年度登録!AN54","v":""},{"$f":"前年度登録!DC54","v":""},{"$f":"前年度登録!DE54","v":0},{"$f":"前年度登録!DJ54","v":"00"},{"$f":"前年度登録!AF54","v":""},{"$f":"前年度登録!S54","v":0},null,{"$f":"IF(O57=\"\",\"\",IF(I57=1,VLOOKUP(O57,男子種目コード!$A$1:$B$33,2,FALSE),IF(I57=2,VLOOKUP(O57,女子種目コード!$A$1:$B$27,2,FALSE))))","v":""},{"$f":"IF(O57=\"\",\"\",HLOOKUP(O57,前年度登録!$AW$3:$CW$118,52,FALSE))","v":""},"","",null,{"$f":"IF(T57=\"\",\"\",IF(I57=1,VLOOKUP(T57,男子種目コード!$A$1:$B$33,2,FALSE),IF(I57=2,VLOOKUP(T57,女子種目コード!$A$1:$B$27,2,FALSE))))","v":""},{"$f":"IF(T57=\"\",\"\",HLOOKUP(T57,前年度登録!$AW$3:$CW$118,52,FALSE))","v":""},"","",null,null,null,null,null,null,null,null,null,null,null,null,null,"",0,0]
[null,{"$f":"前年度登録!AE55","v":""},null,null,{"$f":"前年度登録!T55","v":0},{"$f":"前年度登録!DB55","v":""},{"$f":"前年度登録!AO55","v":""},{"$f":"前年度登録!DB55","v":""},{"$f":"前年度登録!AN55","v":""},{"$f":"前年度登録!DC55","v":""},{"$f":"前年度登録!DE55","v":0},{"$f":"前年度登録!DJ55","v":"00"},{"$f":"前年度登録!AF55","v":""},{"$f":"前年度登録!S55","v":0},null,{"$f":"IF(O58=\"\",\"\",IF(I58=1,VLOOKUP(O58,男子種目コード!$A$1:$B$33,2,FALSE),IF(I58=2,VLOOKUP(O58,女子種目コード!$A$1:$B$27,2,FALSE))))","v":""},{"$f":"IF(O58=\"\",\"\",HLOOKUP(O58,前年度登録!$AW$3:$CW$118,53,FALSE))","v":""},"","",null,{"$f":"IF(T58=\"\",\"\",IF(I58=1,VLOOKUP(T58,男子種目コード!$A$1:$B$33,2,FALSE),IF(I58=2,VLOOKUP(T58,女子種目コード!$A$1:$B$27,2,FALSE))))","v":""},{"$f":"IF(T58=\"\",\"\",HLOOKUP(T58,前年度登録!$AW$3:$CW$118,53,FALSE))","v":""},"","",null,null,null,null,null,null,null,null,null,null,null,null,null,"",0,0]
[null,{"$f":"前年度登録!AE56","v":""},null,null,{"$f":"前年度登録!T56","v":0},{"$f":"前年度登録!DB56","v":""},{"$f":"前年度登録!AO56","v":""},{"$f":"前年度登録!DB56","v":""},{"$f":"前年度登録!AN56","v":""},{"$f":"前年度登録!DC56","v":""},{"$f":"前年度登録!DE56","v":0},{"$f":"前年度登録!DJ56","v":"00"},{"$f":"前年度登録!AF56","v":""},{"$f":"前年度登録!S56","v":0},null,{"$f":"IF(O59=\"\",\"\",IF(I59=1,VLOOKUP(O59,男子種目コード!$A$1:$B$33,2,FALSE),IF(I59=2,VLOOKUP(O59,女子種目コード!$A$1:$B$27,2,FALSE))))","v":""},{"$f":"IF(O59=\"\",\"\",HLOOKUP(O59,前年度登録!$AW$3:$CW$118,54,FALSE))","v":""},"","",null,{"$f":"IF(T59=\"\",\"\",IF(I59=1,VLOOKUP(T59,男子種目コード!$A$1:$B$33,2,FALSE),IF(I59=2,VLOOKUP(T59,女子種目コード!$A$1:$B$27,2,FALSE))))","v":""},{"$f":"IF(T59=\"\",\"\",HLOOKUP(T59,前年度登録!$AW$3:$CW$118,54,FALSE))","v":""},"","",null,null,null,null,null,null,null,null,null,null,null,null,null,"",0,0]
[null,{"$f":"前年度登録!AE57","v":""},null,null,{"$f":"前年度登録!T57","v":0},{"$f":"前年度登録!DB57","v":""},{"$f":"前年度登録!AO57","v":""},{"$f":"前年度登録!DB57","v":""},{"$f":"前年度登録!AN57","v":""},{"$f":"前年度登録!DC57","v":""},{"$f":"前年度登録!DE57","v":0},{"$f":"前年度登録!DJ57","v":"00"},{"$f":"前年度登録!AF57","v":""},{"$f":"前年度登録!S57","v":0},null,{"$f":"IF(O60=\"\",\"\",IF(I60=1,VLOOKUP(O60,男子種目コード!$A$1:$B$33,2,FALSE),IF(I60=2,VLOOKUP(O60,女子種目コード!$A$1:$B$27,2,FALSE))))","v":""},{"$f":"IF(O60=\"\",\"\",HLOOKUP(O60,前年度登録!$AW$3:$CW$118,55,FALSE))","v":""},"","",null,{"$f":"IF(T60=\"\",\"\",IF(I60=1,VLOOKUP(T60,男子種目コード!$A$1:$B$33,2,FALSE),IF(I60=2,VLOOKUP(T60,女子種目コード!$A$1:$B$27,2,FALSE))))","v":""},{"$f":"IF(T60=\"\",\"\",HLOOKUP(T60,前年度登録!$AW$3:$CW$118,55,FALSE))","v":""},"","",null,null,null,null,null,null,null,null,null,null,null,null,null,"",0,0]
[null,{"$f":"前年度登録!AE58","v":""},null,null,{"$f":"前年度登録!T58","v":0},{"$f":"前年度登録!DB58","v":""},{"$f":"前年度登録!AO58","v":""},{"$f":"前年度登録!DB58","v":""},{"$f":"前年度登録!AN58","v":""},{"$f":"前年度登録!DC58","v":""},{"$f":"前年度登録!DE58","v":0},{"$f":"前年度登録!DJ58","v":"00"},{"$f":"前年度登録!AF58","v":""},{"$f":"前年度登録!S58","v":0},null,{"$f":"IF(O61=\"\",\"\",IF(I61=1,VLOOKUP(O61,男子種目コード!$A$1:$B$33,2,FALSE),IF(I61=2,VLOOKUP(O61,女子種目コード!$A$1:$B$27,2,FALSE))))","v":""},{"$f":"IF(O61=\"\",\"\",HLOOKUP(O61,前年度登録!$AW$3:$CW$118,56,FALSE))","v":""},"","",null,{"$f":"IF(T61=\"\",\"\",IF(I61=1,VLOOKUP(T61,男子種目コード!$A$1:$B$33,2,FALSE),IF(I61=2,VLOOKUP(T61,女子種目コード!$A$1:$B$27,2,FALSE))))","v":""},{"$f":"IF(T61=\"\",\"\",HLOOKUP(T61,前年度登録!$AW$3:$CW$118,56,FALSE))","v":""},"","",null,null,null,null,null,null,null,null,null,null,null,null,null,"",0,0]
[null,{"$f":"前年度登録!AE59","v":""},null,null,{"$f":"前年度登録!T59","v":0},{"$f":"前年度登録!DB59","v":""},{"$f":"前年度登録!AO59","v":""},{"$f":"前年度登録!DB59","v":""},{"$f":"前年度登録!AN59","v":""},{"$f":"前年度登録!DC59","v":""},{"$f":"前年度登録!DE59","v":0},{"$f":"前年度登録!DJ59","v":"00"},{"$f":"前年度登録!AF59","v":""},{"$f":"前年度登録!S59","v":0},null,{"$f":"IF(O62=\"\",\"\",IF(I62=1,VLOOKUP(O62,男子種目コード!$A$1:$B$33,2,FALSE),IF(I62=2,VLOOKUP(O62,女子種目コード!$A$1:$B$27,2,FALSE))))","v":""},{"$f":"IF(O62=\"\",\"\",HLOOKUP(O62,前年度登録!$AW$3:$CW$118,57,FALSE))","v":""},"","",null,{"$f":"IF(T62=\"\",\"\",IF(I62=1,VLOOKUP(T62,男子種目コード!$A$1:$B$33,2,FALSE),IF(I62=2,VLOOKUP(T62,女子種目コード!$A$1:$B$27,2,FALSE))))","v":""},{"$f":"IF(T62=\"\",\"\",HLOOKUP(T62,前年度登録!$AW$3:$CW$118,57,FALSE))","v":""},"","",null,null,null,null,null,null,null,null,null,null,null,null,null,"",0,0]
[null,{"$f":"前年度登録!AE60","v":""},null,null,{"$f":"前年度登録!T60","v":0},{"$f":"前年度登録!DB60","v":""},{"$f":"前年度登録!AO60","v":""},{"$f":"前年度登録!DB60","v":""},{"$f":"前年度登録!AN60","v":""},{"$f":"前年度登録!DC60","v":""},{"$f":"前年度登録!DE60","v":0},{"$f":"前年度登録!DJ60","v":"00"},{"$f":"前年度登録!AF60","v":""},{"$f":"前年度登録!S60","v":0},null,{"$f":"IF(O63=\"\",\"\",IF(I63=1,VLOOKUP(O63,男子種目コード!$A$1:$B$33,2,FALSE),IF(I63=2,VLOOKUP(O63,女子種目コード!$A$1:$B$27,2,FALSE))))","v":""},{"$f":"IF(O63=\"\",\"\",HLOOKUP(O63,前年度登録!$AW$3:$CW$118,58,FALSE))","v":""},"","",null,{"$f":"IF(T63=\"\",\"\",IF(I63=1,VLOOKUP(T63,男子種目コード!$A$1:$B$33,2,FALSE),IF(I63=2,VLOOKUP(T63,女子種目コード!$A$1:$B$27,2,FALSE))))","v":""},{"$f":"IF(T63=\"\",\"\",HLOOKUP(T63,前年度登録!$AW$3:$CW$118,58,FALSE))","v":""},"","",null,null,null,null,null,null,null,null,null,null,null,null,null,"",0,0]
[null,{"$f":"前年度登録!AE61","v":""},null,null,{"$f":"前年度登録!T61","v":0},{"$f":"前年度登録!DB61","v":""},{"$f":"前年度登録!AO61","v":""},{"$f":"前年度登録!DB61","v":""},{"$f":"前年度登録!AN61","v":""},{"$f":"前年度登録!DC61","v":""},{"$f":"前年度登録!DE61","v":0},{"$f":"前年度登録!DJ61","v":"00"},{"$f":"前年度登録!AF61","v":""},{"$f":"前年度登録!S61","v":0},null,{"$f":"IF(O64=\"\",\"\",IF(I64=1,VLOOKUP(O64,男子種目コード!$A$1:$B$33,2,FALSE),IF(I64=2,VLOOKUP(O64,女子種目コード!$A$1:$B$27,2,FALSE))))","v":""},{"$f":"IF(O64=\"\",\"\",HLOOKUP(O64,前年度登録!$AW$3:$CW$118,59,FALSE))","v":""},"","",null,{"$f":"IF(T64=\"\",\"\",IF(I64=1,VLOOKUP(T64,男子種目コード!$A$1:$B$33,2,FALSE),IF(I64=2,VLOOKUP(T64,女子種目コード!$A$1:$B$27,2,FALSE))))","v":""},{"$f":"IF(T64=\"\",\"\",HLOOKUP(T64,前年度登録!$AW$3:$CW$118,59,FALSE))","v":""},"","",null,null,null,null,null,null,null,null,null,null,null,null,null,"",0,0]
[null,{"$f":"前年度登録!AE62","v":""},null,null,{"$f":"前年度登録!T62","v":0},{"$f":"前年度登録!DB62","v":""},{"$f":"前年度登録!AO62","v":""},{"$f":"前年度登録!DB62","v":""},{"$f":"前年度登録!AN62","v":""},{"$f":"前年度登録!DC62","v":""},{"$f":"前年度登録!DE62","v":0},{"$f":"前年度登録!DJ62","v":"00"},{"$f":"前年度登録!AF62","v":""},{"$f":"前年度登録!S62","v":0},null,{"$f":"IF(O65=\"\",\"\",IF(I65=1,VLOOKUP(O65,男子種目コード!$A$1:$B$33,2,FALSE),IF(I65=2,VLOOKUP(O65,女子種目コード!$A$1:$B$27,2,FALSE))))","v":""},{"$f":"IF(O65=\"\",\"\",HLOOKUP(O65,前年度登録!$AW$3:$CW$118,60,FALSE))","v":""},"","",null,{"$f":"IF(T65=\"\",\"\",IF(I65=1,VLOOKUP(T65,男子種目コード!$A$1:$B$33,2,FALSE),IF(I65=2,VLOOKUP(T65,女子種目コード!$A$1:$B$27,2,FALSE))))","v":""},{"$f":"IF(T65=\"\",\"\",HLOOKUP(T65,前年度登録!$AW$3:$CW$118,60,FALSE))","v":""},"","",null,null,null,null,null,null,null,null,null,null,null,null,null,"",0,0]
[null,{"$f":"前年度登録!AE63","v":""},null,null,{"$f":"前年度登録!T63","v":0},{"$f":"前年度登録!DB63","v":""},{"$f":"前年度登録!AO63","v":""},{"$f":"前年度登録!DB63","v":""},{"$f":"前年度登録!AN63","v":""},{"$f":"前年度登録!DC63","v":""},{"$f":"前年度登録!DE63","v":0},{"$f":"前年度登録!DJ63","v":"00"},{"$f":"前年度登録!AF63","v":""},{"$f":"前年度登録!S63","v":0},null,{"$f":"IF(O66=\"\",\"\",IF(I66=1,VLOOKUP(O66,男子種目コード!$A$1:$B$33,2,FALSE),IF(I66=2,VLOOKUP(O66,女子種目コード!$A$1:$B$27,2,FALSE))))","v":""},{"$f":"IF(O66=\"\",\"\",HLOOKUP(O66,前年度登録!$AW$3:$CW$118,61,FALSE))","v":""},"","",null,{"$f":"IF(T66=\"\",\"\",IF(I66=1,VLOOKUP(T66,男子種目コード!$A$1:$B$33,2,FALSE),IF(I66=2,VLOOKUP(T66,女子種目コード!$A$1:$B$27,2,FALSE))))","v":""},{"$f":"IF(T66=\"\",\"\",HLOOKUP(T66,前年度登録!$AW$3:$CW$118,61,FALSE))","v":""},"","",null,null,null,null,null,null,null,null,null,null,null,null,null,"",0,0]
[null,{"$f":"前年度登録!AE64","v":""},null,null,{"$f":"前年度登録!T64","v":0},{"$f":"前年度登録!DB64","v":""},{"$f":"前年度登録!AO64","v":""},{"$f":"前年度登録!DB64","v":""},{"$f":"前年度登録!AN64","v":""},{"$f":"前年度登録!DC64","v":""},{"$f":"前年度登録!DE64","v":0},{"$f":"前年度登録!DJ64","v":"00"},{"$f":"前年度登録!AF64","v":""},{"$f":"前年度登録!S64","v":0},null,{"$f":"IF(O67=\"\",\"\",IF(I67=1,VLOOKUP(O67,男子種目コード!$A$1:$B$33,2,FALSE),IF(I67=2,VLOOKUP(O67,女子種目コード!$A$1:$B$27,2,FALSE))))","v":""},{"$f":"IF(O67=\"\",\"\",HLOOKUP(O67,前年度登録!$AW$3:$CW$118,62,FALSE))","v":""},"","",null,{"$f":"IF(T67=\"\",\"\",IF(I67=1,VLOOKUP(T67,男子種目コード!$A$1:$B$33,2,FALSE),IF(I67=2,VLOOKUP(T67,女子種目コード!$A$1:$B$27,2,FALSE))))","v":""},{"$f":"IF(T67=\"\",\"\",HLOOKUP(T67,前年度登録!$AW$3:$CW$118,62,FALSE))","v":""},"","",null,null,null,null,null,null,null,null,null,null,null,null,null,"",0,0]
[null,{"$f":"前年度登録!AE65","v":""},null,null,{"$f":"前年度登録!T65","v":0},{"$f":"前年度登録!DB65","v":""},{"$f":"前年度登録!AO65","v":""},{"$f":"前年度登録!DB65","v":""},{"$f":"前年度登録!AN65","v":""},{"$f":"前年度登録!DC65","v":""},{"$f":"前年度登録!DE65","v":0},{"$f":"前年度登録!DJ65","v":"00"},{"$f":"前年度登録!AF65","v":""},{"$f":"前年度登録!S65","v":0},null,{"$f":"IF(O68=\"\",\"\",IF(I68=1,VLOOKUP(O68,男子種目コード!$A$1:$B$33,2,FALSE),IF(I68=2,VLOOKUP(O68,女子種目コード!$A$1:$B$27,2,FALSE))))","v":""},{"$f":"IF(O68=\"\",\"\",HLOOKUP(O68,前年度登録!$AW$3:$CW$118,63,FALSE))","v":""},"","",null,{"$f":"IF(T68=\"\",\"\",IF(I68=1,VLOOKUP(T68,男子種目コード!$A$1:$B$33,2,FALSE),IF(I68=2,VLOOKUP(T68,女子種目コード!$A$1:$B$27,2,FALSE))))","v":""},{"$f":"IF(T68=\"\",\"\",HLOOKUP(T68,前年度登録!$AW$3:$CW$118,63,FALSE))","v":""},"","",null,null,null,null,null,null,null,null,null,null,null,null,null,"",0,0]
[null,{"$f":"前年度登録!AE66","v":""},null,null,{"$f":"前年度登録!T66","v":0},{"$f":"前年度登録!DB66","v":""},{"$f":"前年度登録!AO66","v":""},{"$f":"前年度登録!DB66","v":""},{"$f":"前年度登録!AN66","v":""},{"$f":"前年度登録!DC66","v":""},{"$f":"前年度登録!DE66","v":0},{"$f":"前年度登録!DJ66","v":"00"},{"$f":"前年度登録!AF66","v":""},{"$f":"前年度登録!S66","v":0},null,{"$f":"IF(O69=\"\",\"\",IF(I69=1,VLOOKUP(O69,男子種目コード!$A$1:$B$33,2,FALSE),IF(I69=2,VLOOKUP(O69,女子種目コード!$A$1:$B$27,2,FALSE))))","v":""},{"$f":"IF(O69=\"\",\"\",HLOOKUP(O69,前年度登録!$AW$3:$CW$118,64,FALSE))","v":""},"","",null,{"$f":"IF(T69=\"\",\"\",IF(I69=1,VLOOKUP(T69,男子種目コード!$A$1:$B$33,2,FALSE),IF(I69=2,VLOOKUP(T69,女子種目コード!$A$1:$B$27,2,FALSE))))","v":""},{"$f":"IF(T69=\"\",\"\",HLOOKUP(T69,前年度登録!$AW$3:$CW$118,64,FALSE))","v":""},"","",null,null,null,null,null,null,null,null,null,null,null,null,null,"",0,0]
[null,{"$f":"前年度登録!AE67","v":""},null,null,{"$f":"前年度登録!T67","v":0},{"$f":"前年度登録!DB67","v":""},{"$f":"前年度登録!AO67","v":""},{"$f":"前年度登録!DB67","v":""},{"$f":"前年度登録!AN67","v":""},{"$f":"前年度登録!DC67","v":""},{"$f":"前年度登録!DE67","v":0},{"$f":"前年度登録!DJ67","v":"00"},{"$f":"前年度登録!AF67","v":""},{"$f":"前年度登録!S67","v":0},null,{"$f":"IF(O70=\"\",\"\",IF(I70=1,VLOOKUP(O70,男子種目コード!$A$1:$B$33,2,FALSE),IF(I70=2,VLOOKUP(O70,女子種目コード!$A$1:$B$27,2,FALSE))))","v":""},{"$f":"IF(O70=\"\",\"\",HLOOKUP(O70,前年度登録!$AW$3:$CW$118,65,FALSE))","v":""},"","",null,{"$f":"IF(T70=\"\",\"\",IF(I70=1,VLOOKUP(T70,男子種目コード!$A$1:$B$33,2,FALSE),IF(I70=2,VLOOKUP(T70,女子種目コード!$A$1:$B$27,2,FALSE))))","v":""},{"$f":"IF(T70=\"\",\"\",HLOOKUP(T70,前年度登録!$AW$3:$CW$118,65,FALSE))","v":""},"","",null,null,null,null,null,null,null,null,null,null,null,null,null,"",0,0]
[null,{"$f":"前年度登録!AE68","v":""},null,null,{"$f":"前年度登録!T68","v":0},{"$f":"前年度登録!DB68","v":""},{"$f":"前年度登録!AO68","v":""},{"$f":"前年度登録!DB68","v":""},{"$f":"前年度登録!AN68","v":""},{"$f":"前年度登録!DC68","v":""},{"$f":"前年度登録!DE68","v":0},{"$f":"前年度登録!DJ68","v":"00"},{"$f":"前年度登録!AF68","v":""},{"$f":"前年度登録!S68","v":0},null,{"$f":"IF(O71=\"\",\"\",IF(I71=1,VLOOKUP(O71,男子種目コード!$A$1:$B$33,2,FALSE),IF(I71=2,VLOOKUP(O71,女子種目コード!$A$1:$B$27,2,FALSE))))","v":""},{"$f":"IF(O71=\"\",\"\",HLOOKUP(O71,前年度登録!$AW$3:$CW$118,66,FALSE))","v":""},"","",null,{"$f":"IF(T71=\"\",\"\",IF(I71=1,VLOOKUP(T71,男子種目コード!$A$1:$B$33,2,FALSE),IF(I71=2,VLOOKUP(T71,女子種目コード!$A$1:$B$27,2,FALSE))))","v":""},{"$f":"IF(T71=\"\",\"\",HLOOKUP(T71,前年度登録!$AW$3:$CW$118,66,FALSE))","v":""},"","",null,null,null,null,null,null,null,null,null,null,null,null,null,{"$f":"IF(O71=\"\",\"\",1)","v":""},{"$f":"IF(OR(AL71=1,T71=\"\"),0,1)","v":0},{"$f":"IF(OR(AL71=1,AM71=1,AB71=\"\"),0,1)","v":0}]
[null,{"$f":"前年度登録!AE69","v":""},null,null,{"$f":"前年度登録!T69","v":0},{"$f":"前年度登録!DB69","v":""},{"$f":"前年度登録!AO69","v":""},{"$f":"前年度登録!DB69","v":""},{"$f":"前年度登録!AN69","v":""},{"$f":"前年度登録!DC69","v":""},{"$f":"前年度登録!DE69","v":0},{"$f":"前年度登録!DJ69","v":"00"},{"$f":"前年度登録!AF69","v":""},{"$f":"前年度登録!S69","v":0},null,{"$f":"IF(O72=\"\",\"\",IF(I72=1,VLOOKUP(O72,男子種目コード!$A$1:$B$33,2,FALSE),IF(I72=2,VLOOKUP(O72,女子種目コード!$A$1:$B$27,2,FALSE))))","v":""},{"$f":"IF(O72=\"\",\"\",HLOOKUP(O72,前年度登録!$AW$3:$CW$118,67,FALSE))","v":""},{"$f":"IF(O72=\"\",\"\",0)","v":""},{"$f":"IF(O72=\"\",\"\",2)","v":""},null,{"$f":"IF(T72=\"\",\"\",IF(I72=1,VLOOKUP(T72,男子種目コード!$A$1:$B$33,2,FALSE),IF(I72=2,VLOOKUP(T72,女子種目コード!$A$1:$B$27,2,FALSE))))","v":""},{"$f":"IF(T72=\"\",\"\",HLOOKUP(T72,前年度登録!$AW$3:$CW$118,67,FALSE))","v":""},{"$f":"IF(T72=\"\",\"\",0)","v":""},{"$f":"IF(T72=\"\",\"\",2)","v":""},null,null,null,null,null,null,null,null,null,null,null,null,null,"",0,0]
[null,{"$f":"前年度登録!AE70","v":""},null,null,{"$f":"前年度登録!T70","v":0},{"$f":"前年度登録!DB70","v":""},{"$f":"前年度登録!AO70","v":""},{"$f":"前年度登録!DB70","v":""},{"$f":"前年度登録!AN70","v":""},{"$f":"前年度登録!DC70","v":""},{"$f":"前年度登録!DE70","v":0},{"$f":"前年度登録!DJ70","v":"00"},{"$f":"前年度登録!AF70","v":""},{"$f":"前年度登録!S70","v":0},null,{"$f":"IF(O73=\"\",\"\",IF(I73=1,VLOOKUP(O73,男子種目コード!$A$1:$B$33,2,FALSE),IF(I73=2,VLOOKUP(O73,女子種目コード!$A$1:$B$27,2,FALSE))))","v":""},{"$f":"IF(O73=\"\",\"\",HLOOKUP(O73,前年度登録!$AW$3:$CW$118,68,FALSE))","v":""},"","",null,{"$f":"IF(T73=\"\",\"\",IF(I73=1,VLOOKUP(T73,男子種目コード!$A$1:$B$33,2,FALSE),IF(I73=2,VLOOKUP(T73,女子種目コード!$A$1:$B$27,2,FALSE))))","v":""},{"$f":"IF(T73=\"\",\"\",HLOOKUP(T73,前年度登録!$AW$3:$CW$118,68,FALSE))","v":""},"","",null,null,null,null,null,null,null,null,null,null,null,null,null,"",0,0]
[null,{"$f":"前年度登録!AE71","v":""},null,null,{"$f":"前年度登録!T71","v":0},{"$f":"前年度登録!DB71","v":""},{"$f":"前年度登録!AO71","v":""},{"$f":"前年度登録!DB71","v":""},{"$f":"前年度登録!AN71","v":""},{"$f":"前年度登録!DC71","v":""},{"$f":"前年度登録!DE71","v":0},{"$f":"前年度登録!DJ71","v":"00"},{"$f":"前年度登録!AF71","v":""},{"$f":"前年度登録!S71","v":0},null,{"$f":"IF(O74=\"\",\"\",IF(I74=1,VLOOKUP(O74,男子種目コード!$A$1:$B$33,2,FALSE),IF(I74=2,VLOOKUP(O74,女子種目コード!$A$1:$B$27,2,FALSE))))","v":""},{"$f":"IF(O74=\"\",\"\",HLOOKUP(O74,前年度登録!$AW$3:$CW$118,69,FALSE))","v":""},"","",null,{"$f":"IF(T74=\"\",\"\",IF(I74=1,VLOOKUP(T74,男子種目コード!$A$1:$B$33,2,FALSE),IF(I74=2,VLOOKUP(T74,女子種目コード!$A$1:$B$27,2,FALSE))))","v":""},{"$f":"IF(T74=\"\",\"\",HLOOKUP(T74,前年度登録!$AW$3:$CW$118,69,FALSE))","v":""},"","",null,null,null,null,null,null,null,null,null,null,null,null,null,"",0,0]
[null,{"$f":"前年度登録!AE72","v":""},null,null,{"$f":"前年度登録!T72","v":0},{"$f":"前年度登録!DB72","v":""},{"$f":"前年度登録!AO72","v":""},{"$f":"前年度登録!DB72","v":""},{"$f":"前年度登録!AN72","v":""},{"$f":"前年度登録!DC72","v":""},{"$f":"前年度登録!DE72","v":0},{"$f":"前年度登録!DJ72","v":"00"},{"$f":"前年度登録!AF72","v":""},{"$f":"前年度登録!S72","v":0},null,{"$f":"IF(O75=\"\",\"\",IF(I75=1,VLOOKUP(O75,男子種目コード!$A$1:$B$33,2,FALSE),IF(I75=2,VLOOKUP(O75,女子種目コード!$A$1:$B$27,2,FALSE))))","v":""},{"$f":"IF(O75=\"\",\"\",HLOOKUP(O75,前年度登録!$AW$3:$CW$118,70,FALSE))","v":""},"","",null,{"$f":"IF(T75=\"\",\"\",IF(I75=1,VLOOKUP(T75,男子種目コード!$A$1:$B$33,2,FALSE),IF(I75=2,VLOOKUP(T75,女子種目コード!$A$1:$B$27,2,FALSE))))","v":""},{"$f":"IF(T75=\"\",\"\",HLOOKUP(T75,前年度登録!$AW$3:$CW$118,70,FALSE))","v":""},"","",null,null,null,null,null,null,null,null,null,null,null,null,null,"",0,0]
[null,{"$f":"前年度登録!AE73","v":""},null,null,{"$f":"前年度登録!T73","v":0},{"$f":"前年度登録!DB73","v":""},{"$f":"前年度登録!AO73","v":""},{"$f":"前年度登録!DB73","v":""},{"$f":"前年度登録!AN73","v":""},{"$f":"前年度登録!DC73","v":""},{"$f":"前年度登録!DE73","v":0},{"$f":"前年度登録!DJ73","v":"00"},{"$f":"前年度登録!AF73","v":""},{"$f":"前年度登録!S73","v":0},null,{"$f":"IF(O76=\"\",\"\",IF(I76=1,VLOOKUP(O76,男子種目コード!$A$1:$B$33,2,FALSE),IF(I76=2,VLOOKUP(O76,女子種目コード!$A$1:$B$27,2,FALSE))))","v":""},{"$f":"IF(O76=\"\",\"\",HLOOKUP(O76,前年度登録!$AW$3:$CW$118,71,FALSE))","v":""},"","",null,{"$f":"IF(T76=\"\",\"\",IF(I76=1,VLOOKUP(T76,男子種目コード!$A$1:$B$33,2,FALSE),IF(I76=2,VLOOKUP(T76,女子種目コード!$A$1:$B$27,2,FALSE))))","v":""},{"$f":"IF(T76=\"\",\"\",HLOOKUP(T76,前年度登録!$AW$3:$CW$118,71,FALSE))","v":""},"","",null,null,null,null,null,null,null,null,null,null,null,null,null,"",0,0]
[null,{"$f":"前年度登録!AE74","v":""},null,null,{"$f":"前年度登録!T74","v":0},{"$f":"前年度登録!DB74","v":""},{"$f":"前年度登録!AO74","v":""},{"$f":"前年度登録!DB74","v":""},{"$f":"前年度登録!AN74","v":""},{"$f":"前年度登録!DC74","v":""},{"$f":"前年度登録!DE74","v":0},{"$f":"前年度登録!DJ74","v":"00"},{"$f":"前年度登録!AF74","v":""},{"$f":"前年度登録!S74","v":0},null,{"$f":"IF(O77=\"\",\"\",IF(I77=1,VLOOKUP(O77,男子種目コード!$A$1:$B$33,2,FALSE),IF(I77=2,VLOOKUP(O77,女子種目コード!$A$1:$B$27,2,FALSE))))","v":""},{"$f":"IF(O77=\"\",\"\",HLOOKUP(O77,前年度登録!$AW$3:$CW$118,72,FALSE))","v":""},"","",null,{"$f":"IF(T77=\"\",\"\",IF(I77=1,VLOOKUP(T77,男子種目コード!$A$1:$B$33,2,FALSE),IF(I77=2,VLOOKUP(T77,女子種目コード!$A$1:$B$27,2,FALSE))))","v":""},{"$f":"IF(T77=\"\",\"\",HLOOKUP(T77,前年度登録!$AW$3:$CW$118,72,FALSE))","v":""},"","",null,null,null,null,null,null,null,null,null,null,null,null,null,"",0,0]
[null,{"$f":"前年度登録!AE75","v":""},null,null,{"$f":"前年度登録!T75","v":0},{"$f":"前年度登録!DB75","v":""},{"$f":"前年度登録!AO75","v":""},{"$f":"前年度登録!DB75","v":""},{"$f":"前年度登録!AN75","v":""},{"$f":"前年度登録!DC75","v":""},{"$f":"前年度登録!DE75","v":0},{"$f":"前年度登録!DJ75","v":"00"},{"$f":"前年度登録!AF75","v":""},{"$f":"前年度登録!S75","v":0},null,{"$f":"IF(O78=\"\",\"\",IF(I78=1,VLOOKUP(O78,男子種目コード!$A$1:$B$33,2,FALSE),IF(I78=2,VLOOKUP(O78,女子種目コード!$A$1:$B$27,2,FALSE))))","v":""},{"$f":"IF(O78=\"\",\"\",HLOOKUP(O78,前年度登録!$AW$3:$CW$118,73,FALSE))","v":""},"","",null,{"$f":"IF(T78=\"\",\"\",IF(I78=1,VLOOKUP(T78,男子種目コード!$A$1:$B$33,2,FALSE),IF(I78=2,VLOOKUP(T78,女子種目コード!$A$1:$B$27,2,FALSE))))","v":""},{"$f":"IF(T78=\"\",\"\",HLOOKUP(T78,前年度登録!$AW$3:$CW$118,73,FALSE))","v":""},"","",null,null,null,null,null,null,null,null,null,null,null,null,null,"",0,0]
[null,{"$f":"前年度登録!AE76","v":""},null,null,{"$f":"前年度登録!T76","v":0},{"$f":"前年度登録!DB76","v":""},{"$f":"前年度登録!AO76","v":""},{"$f":"前年度登録!DB76","v":""},{"$f":"前年度登録!AN76","v":""},{"$f":"前年度登録!DC76","v":""},{"$f":"前年度登録!DE76","v":0},{"$f":"前年度登録!DJ76","v":"00"},{"$f":"前年度登録!AF76","v":""},{"$f":"前年度登録!S76","v":0},null,{"$f":"IF(O79=\"\",\"\",IF(I79=1,VLOOKUP(O79,男子種目コード!$A$1:$B$33,2,FALSE),IF(I79=2,VLOOKUP(O79,女子種目コード!$A$1:$B$27,2,FALSE))))","v":""},{"$f":"IF(O79=\"\",\"\",HLOOKUP(O79,前年度登録!$AW$3:$CW$118,74,FALSE))","v":""},"","",null,{"$f":"IF(T79=\"\",\"\",IF(I79=1,VLOOKUP(T79,男子種目コード!$A$1:$B$33,2,FALSE),IF(I79=2,VLOOKUP(T79,女子種目コード!$A$1:$B$27,2,FALSE))))","v":""},{"$f":"IF(T79=\"\",\"\",HLOOKUP(T79,前年度登録!$AW$3:$CW$118,74,FALSE))","v":""},"","",null,null,null,null,null,null,null,null,null,null,null,null,null,"",0,0]
[null,{"$f":"前年度登録!AE77","v":""},null,null,{"$f":"前年度登録!T77","v":0},{"$f":"前年度登録!DB77","v":""},{"$f":"前年度登録!AO77","v":""},{"$f":"前年度登録!DB77","v":""},{"$f":"前年度登録!AN77","v":""},{"$f":"前年度登録!DC77","v":""},{"$f":"前年度登録!DE77","v":0},{"$f":"前年度登録!DJ77","v":"00"},{"$f":"前年度登録!AF77","v":""},{"$f":"前年度登録!S77","v":0},null,{"$f":"IF(O80=\"\",\"\",IF(I80=1,VLOOKUP(O80,男子種目コード!$A$1:$B$33,2,FALSE),IF(I80=2,VLOOKUP(O80,女子種目コード!$A$1:$B$27,2,FALSE))))","v":""},{"$f":"IF(O80=\"\",\"\",HLOOKUP(O80,前年度登録!$AW$3:$CW$118,75,FALSE))","v":""},"","",null,{"$f":"IF(T80=\"\",\"\",IF(I80=1,VLOOKUP(T80,男子種目コード!$A$1:$B$33,2,FALSE),IF(I80=2,VLOOKUP(T80,女子種目コード!$A$1:$B$27,2,FALSE))))","v":""},{"$f":"IF(T80=\"\",\"\",HLOOKUP(T80,前年度登録!$AW$3:$CW$118,75,FALSE))","v":""},"","",null,null,null,null,null,null,null,null,null,null,null,null,null,"",0,0]
[null,{"$f":"前年度登録!AE78","v":""},null,null,{"$f":"前年度登録!T78","v":0},{"$f":"前年度登録!DB78","v":""},{"$f":"前年度登録!AO78","v":""},{"$f":"前年度登録!DB78","v":""},{"$f":"前年度登録!AN78","v":""},{"$f":"前年度登録!DC78","v":""},{"$f":"前年度登録!DE78","v":0},{"$f":"前年度登録!DJ78","v":"00"},{"$f":"前年度登録!AF78","v":""},{"$f":"前年度登録!S78","v":0},null,{"$f":"IF(O81=\"\",\"\",IF(I81=1,VLOOKUP(O81,男子種目コード!$A$1:$B$33,2,FALSE),IF(I81=2,VLOOKUP(O81,女子種目コード!$A$1:$B$27,2,FALSE))))","v":""},{"$f":"IF(O81=\"\",\"\",HLOOKUP(O81,前年度登録!$AW$3:$CW$118,76,FALSE))","v":""},"","",null,{"$f":"IF(T81=\"\",\"\",IF(I81=1,VLOOKUP(T81,男子種目コード!$A$1:$B$33,2,FALSE),IF(I81=2,VLOOKUP(T81,女子種目コード!$A$1:$B$27,2,FALSE))))","v":""},{"$f":"IF(T81=\"\",\"\",HLOOKUP(T81,前年度登録!$AW$3:$CW$118,76,FALSE))","v":""},"","",null,null,null,null,null,null,null,null,null,null,null,null,null,"",0,0]
[null,{"$f":"前年度登録!AE79","v":""},null,null,{"$f":"前年度登録!T79","v":0},{"$f":"前年度登録!DB79","v":""},{"$f":"前年度登録!AO79","v":""},{"$f":"前年度登録!DB79","v":""},{"$f":"前年度登録!AN79","v":""},{"$f":"前年度登録!DC79","v":""},{"$f":"前年度登録!DE79","v":0},{"$f":"前年度登録!DJ79","v":"00"},{"$f":"前年度登録!AF79","v":""},{"$f":"前年度登録!S79","v":0},null,{"$f":"IF(O82=\"\",\"\",IF(I82=1,VLOOKUP(O82,男子種目コード!$A$1:$B$33,2,FALSE),IF(I82=2,VLOOKUP(O82,女子種目コード!$A$1:$B$27,2,FALSE))))","v":""},{"$f":"IF(O82=\"\",\"\",HLOOKUP(O82,前年度登録!$AW$3:$CW$118,77,FALSE))","v":""},"","",null,{"$f":"IF(T82=\"\",\"\",IF(I82=1,VLOOKUP(T82,男子種目コード!$A$1:$B$33,2,FALSE),IF(I82=2,VLOOKUP(T82,女子種目コード!$A$1:$B$27,2,FALSE))))","v":""},{"$f":"IF(T82=\"\",\"\",HLOOKUP(T82,前年度登録!$AW$3:$CW$118,77,FALSE))","v":""},"","",null,null,null,null,null,null,null,null,null,null,null,null,null,"",0,0]
[null,{"$f":"前年度登録!AE80","v":""},null,null,{"$f":"前年度登録!T80","v":0},{"$f":"前年度登録!DB80","v":""},{"$f":"前年度登録!AO80","v":""},{"$f":"前年度登録!DB80","v":""},{"$f":"前年度登録!AN80","v":""},{"$f":"前年度登録!DC80","v":""},{"$f":"前年度登録!DE80","v":0},{"$f":"前年度登録!DJ80","v":"00"},{"$f":"前年度登録!AF80","v":""},{"$f":"前年度登録!S80","v":0},null,{"$f":"IF(O83=\"\",\"\",IF(I83=1,VLOOKUP(O83,男子種目コード!$A$1:$B$33,2,FALSE),IF(I83=2,VLOOKUP(O83,女子種目コード!$A$1:$B$27,2,FALSE))))","v":""},{"$f":"IF(O83=\"\",\"\",HLOOKUP(O83,前年度登録!$AW$3:$CW$118,78,FALSE))","v":""},"","",null,{"$f":"IF(T83=\"\",\"\",IF(I83=1,VLOOKUP(T83,男子種目コード!$A$1:$B$33,2,FALSE),IF(I83=2,VLOOKUP(T83,女子種目コード!$A$1:$B$27,2,FALSE))))","v":""},{"$f":"IF(T83=\"\",\"\",HLOOKUP(T83,前年度登録!$AW$3:$CW$118,78,FALSE))","v":""},"","",null,null,null,null,null,null,null,null,null,null,null,null,null,"",0,0]
[null,{"$f":"前年度登録!AE81","v":""},null,null,{"$f":"前年度登録!T81","v":0},{"$f":"前年度登録!DB81","v":""},{"$f":"前年度登録!AO81","v":""},{"$f":"前年度登録!DB81","v":""},{"$f":"前年度登録!AN81","v":""},{"$f":"前年度登録!DC81","v":""},{"$f":"前年度登録!DE81","v":0},{"$f":"前年度登録!DJ81","v":"00"},{"$f":"前年度登録!AF81","v":""},{"$f":"前年度登録!S81","v":0},null,{"$f":"IF(O84=\"\",\"\",IF(I84=1,VLOOKUP(O84,男子種目コード!$A$1:$B$33,2,FALSE),IF(I84=2,VLOOKUP(O84,女子種目コード!$A$1:$B$27,2,FALSE))))","v":""},{"$f":"IF(O84=\"\",\"\",HLOOKUP(O84,前年度登録!$AW$3:$CW$118,79,FALSE))","v":""},"","",null,{"$f":"IF(T84=\"\",\"\",IF(I84=1,VLOOKUP(T84,男子種目コード!$A$1:$B$33,2,FALSE),IF(I84=2,VLOOKUP(T84,女子種目コード!$A$1:$B$27,2,FALSE))))","v":""},{"$f":"IF(T84=\"\",\"\",HLOOKUP(T84,前年度登録!$AW$3:$CW$118,79,FALSE))","v":""},"","",null,null,null,null,null,null,null,null,null,null,null,null,null,"",0,0]
[null,{"$f":"前年度登録!AE82","v":""},null,null,{"$f":"前年度登録!T82","v":0},{"$f":"前年度登録!DB82","v":""},{"$f":"前年度登録!AO82","v":""},{"$f":"前年度登録!DB82","v":""},{"$f":"前年度登録!AN82","v":""},{"$f":"前年度登録!DC82","v":""},{"$f":"前年度登録!DE82","v":0},{"$f":"前年度登録!DJ82","v":"00"},{"$f":"前年度登録!AF82","v":""},{"$f":"前年度登録!S82","v":0},null,{"$f":"IF(O85=\"\",\"\",IF(I85=1,VLOOKUP(O85,男子種目コード!$A$1:$B$33,2,FALSE),IF(I85=2,VLOOKUP(O85,女子種目コード!$A$1:$B$27,2,FALSE))))","v":""},{"$f":"IF(O85=\"\",\"\",HLOOKUP(O85,前年度登録!$AW$3:$CW$118,80,FALSE))","v":""},"","",null,{"$f":"IF(T85=\"\",\"\",IF(I85=1,VLOOKUP(T85,男子種目コード!$A$1:$B$33,2,FALSE),IF(I85=2,VLOOKUP(T85,女子種目コード!$A$1:$B$27,2,FALSE))))","v":""},{"$f":"IF(T85=\"\",\"\",HLOOKUP(T85,前年度登録!$AW$3:$CW$118,80,FALSE))","v":""},"","",null,null,null,null,null,null,null,null,null,null,null,null,null,"",0,0]
[null,{"$f":"前年度登録!AE83","v":""},null,null,{"$f":"前年度登録!T83","v":0},{"$f":"前年度登録!DB83","v":""},{"$f":"前年度登録!AO83","v":""},{"$f":"前年度登録!DB83","v":""},{"$f":"前年度登録!AN83","v":""},{"$f":"前年度登録!DC83","v":""},{"$f":"前年度登録!DE83","v":0},{"$f":"前年度登録!DJ83","v":"00"},{"$f":"前年度登録!AF83","v":""},{"$f":"前年度登録!S83","v":0},null,{"$f":"IF(O86=\"\",\"\",IF(I86=1,VLOOKUP(O86,男子種目コード!$A$1:$B$33,2,FALSE),IF(I86=2,VLOOKUP(O86,女子種目コード!$A$1:$B$27,2,FALSE))))","v":""},{"$f":"IF(O86=\"\",\"\",HLOOKUP(O86,前年度登録!$AW$3:$CW$118,81,FALSE))","v":""},"","",null,{"$f":"IF(T86=\"\",\"\",IF(I86=1,VLOOKUP(T86,男子種目コード!$A$1:$B$33,2,FALSE),IF(I86=2,VLOOKUP(T86,女子種目コード!$A$1:$B$27,2,FALSE))))","v":""},{"$f":"IF(T86=\"\",\"\",HLOOKUP(T86,前年度登録!$AW$3:$CW$118,81,FALSE))","v":""},"","",null,null,null,null,null,null,null,null,null,null,null,null,null,"",0,0]
[null,{"$f":"前年度登録!AE84","v":""},null,null,{"$f":"前年度登録!T84","v":0},{"$f":"前年度登録!DB84","v":""},{"$f":"前年度登録!AO84","v":""},{"$f":"前年度登録!DB84","v":""},{"$f":"前年度登録!AN84","v":""},{"$f":"前年度登録!DC84","v":""},{"$f":"前年度登録!DE84","v":0},{"$f":"前年度登録!DJ84","v":"00"},{"$f":"前年度登録!AF84","v":""},{"$f":"前年度登録!S84","v":0},null,{"$f":"IF(O87=\"\",\"\",IF(I87=1,VLOOKUP(O87,男子種目コード!$A$1:$B$33,2,FALSE),IF(I87=2,VLOOKUP(O87,女子種目コード!$A$1:$B$27,2,FALSE))))","v":""},{"$f":"IF(O87=\"\",\"\",HLOOKUP(O87,前年度登録!$AW$3:$CW$118,82,FALSE))","v":""},"","",null,{"$f":"IF(T87=\"\",\"\",IF(I87=1,VLOOKUP(T87,男子種目コード!$A$1:$B$33,2,FALSE),IF(I87=2,VLOOKUP(T87,女子種目コード!$A$1:$B$27,2,FALSE))))","v":""},{"$f":"IF(T87=\"\",\"\",HLOOKUP(T87,前年度登録!$AW$3:$CW$118,82,FALSE))","v":""},"","",null,null,null,null,null,null,null,null,null,null,null,null,null,"",0,0]
[null,{"$f":"前年度登録!AE85","v":""},null,null,{"$f":"前年度登録!T85","v":0},{"$f":"前年度登録!DB85","v":""},{"$f":"前年度登録!AO85","v":""},{"$f":"前年度登録!DB85","v":""},{"$f":"前年度登録!AN85","v":""},{"$f":"前年度登録!DC85","v":""},{"$f":"前年度登録!DE85","v":0},{"$f":"前年度登録!DJ85","v":"00"},{"$f":"前年度登録!AF85","v":""},{"$f":"前年度登録!S85","v":0},null,{"$f":"IF(O88=\"\",\"\",IF(I88=1,VLOOKUP(O88,男子種目コード!$A$1:$B$33,2,FALSE),IF(I88=2,VLOOKUP(O88,女子種目コード!$A$1:$B$27,2,FALSE))))","v":""},{"$f":"IF(O88=\"\",\"\",HLOOKUP(O88,前年度登録!$AW$3:$CW$118,83,FALSE))","v":""},"","",null,{"$f":"IF(T88=\"\",\"\",IF(I88=1,VLOOKUP(T88,男子種目コード!$A$1:$B$33,2,FALSE),IF(I88=2,VLOOKUP(T88,女子種目コード!$A$1:$B$27,2,FALSE))))","v":""},{"$f":"IF(T88=\"\",\"\",HLOOKUP(T88,前年度登録!$AW$3:$CW$118,83,FALSE))","v":""},"","",null,null,null,null,null,null,null,null,null,null,null,null,null,"",0,0]
[null,{"$f":"前年度登録!AE86","v":""},null,null,{"$f":"前年度登録!T86","v":0},{"$f":"前年度登録!DB86","v":""},{"$f":"前年度登録!AO86","v":""},{"$f":"前年度登録!DB86","v":""},{"$f":"前年度登録!AN86","v":""},{"$f":"前年度登録!DC86","v":""},{"$f":"前年度登録!DE86","v":0},{"$f":"前年度登録!DJ86","v":"00"},{"$f":"前年度登録!AF86","v":""},{"$f":"前年度登録!S86","v":0},null,{"$f":"IF(O89=\"\",\"\",IF(I89=1,VLOOKUP(O89,男子種目コード!$A$1:$B$33,2,FALSE),IF(I89=2,VLOOKUP(O89,女子種目コード!$A$1:$B$27,2,FALSE))))","v":""},{"$f":"IF(O89=\"\",\"\",HLOOKUP(O89,前年度登録!$AW$3:$CW$118,84,FALSE))","v":""},"","",null,{"$f":"IF(T89=\"\",\"\",IF(I89=1,VLOOKUP(T89,男子種目コード!$A$1:$B$33,2,FALSE),IF(I89=2,VLOOKUP(T89,女子種目コード!$A$1:$B$27,2,FALSE))))","v":""},{"$f":"IF(T89=\"\",\"\",HLOOKUP(T89,前年度登録!$AW$3:$CW$118,84,FALSE))","v":""},"","",null,null,null,null,null,null,null,null,null,null,null,null,null,"",0,0]
[null,{"$f":"前年度登録!AE87","v":""},null,null,{"$f":"前年度登録!T87","v":0},{"$f":"前年度登録!DB87","v":""},{"$f":"前年度登録!AO87","v":""},{"$f":"前年度登録!DB87","v":""},{"$f":"前年度登録!AN87","v":""},{"$f":"前年度登録!DC87","v":""},{"$f":"前年度登録!DE87","v":0},{"$f":"前年度登録!DJ87","v":"00"},{"$f":"前年度登録!AF87","v":""},{"$f":"前年度登録!S87","v":0},null,{"$f":"IF(O90=\"\",\"\",IF(I90=1,VLOOKUP(O90,男子種目コード!$A$1:$B$33,2,FALSE),IF(I90=2,VLOOKUP(O90,女子種目コード!$A$1:$B$27,2,FALSE))))","v":""},{"$f":"IF(O90=\"\",\"\",HLOOKUP(O90,前年度登録!$AW$3:$CW$118,85,FALSE))","v":""},"","",null,{"$f":"IF(T90=\"\",\"\",IF(I90=1,VLOOKUP(T90,男子種目コード!$A$1:$B$33,2,FALSE),IF(I90=2,VLOOKUP(T90,女子種目コード!$A$1:$B$27,2,FALSE))))","v":""},{"$f":"IF(T90=\"\",\"\",HLOOKUP(T90,前年度登録!$AW$3:$CW$118,85,FALSE))","v":""},"","",null,null,null,null,null,null,null,null,null,null,null,null,null,"",0,0]
[null,{"$f":"前年度登録!AE88","v":""},null,null,{"$f":"前年度登録!T88","v":0},{"$f":"前年度登録!DB88","v":""},{"$f":"前年度登録!AO88","v":""},{"$f":"前年度登録!DB88","v":""},{"$f":"前年度登録!AN88","v":""},{"$f":"前年度登録!DC88","v":""},{"$f":"前年度登録!DE88","v":0},{"$f":"前年度登録!DJ88","v":"00"},{"$f":"前年度登録!AF88","v":""},{"$f":"前年度登録!S88","v":0},null,{"$f":"IF(O91=\"\",\"\",IF(I91=1,VLOOKUP(O91,男子種目コード!$A$1:$B$33,2,FALSE),IF(I91=2,VLOOKUP(O91,女子種目コード!$A$1:$B$27,2,FALSE))))","v":""},{"$f":"IF(O91=\"\",\"\",HLOOKUP(O91,前年度登録!$AW$3:$CW$118,86,FALSE))","v":""},"","",null,{"$f":"IF(T91=\"\",\"\",IF(I91=1,VLOOKUP(T91,男子種目コード!$A$1:$B$33,2,FALSE),IF(I91=2,VLOOKUP(T91,女子種目コード!$A$1:$B$27,2,FALSE))))","v":""},{"$f":"IF(T91=\"\",\"\",HLOOKUP(T91,前年度登録!$AW$3:$CW$118,86,FALSE))","v":""},"","",null,null,null,null,null,null,null,null,null,null,null,null,null,"",0,0]
[null,{"$f":"前年度登録!AE89","v":""},null,null,{"$f":"前年度登録!T89","v":0},{"$f":"前年度登録!DB89","v":""},{"$f":"前年度登録!AO89","v":""},{"$f":"前年度登録!DB89","v":""},{"$f":"前年度登録!AN89","v":""},{"$f":"前年度登録!DC89","v":""},{"$f":"前年度登録!DE89","v":0},{"$f":"前年度登録!DJ89","v":"00"},{"$f":"前年度登録!AF89","v":""},{"$f":"前年度登録!S89","v":0},null,{"$f":"IF(O92=\"\",\"\",IF(I92=1,VLOOKUP(O92,男子種目コード!$A$1:$B$33,2,FALSE),IF(I92=2,VLOOKUP(O92,女子種目コード!$A$1:$B$27,2,FALSE))))","v":""},{"$f":"IF(O92=\"\",\"\",HLOOKUP(O92,前年度登録!$AW$3:$CW$118,87,FALSE))","v":""},"","",null,{"$f":"IF(T92=\"\",\"\",IF(I92=1,VLOOKUP(T92,男子種目コード!$A$1:$B$33,2,FALSE),IF(I92=2,VLOOKUP(T92,女子種目コード!$A$1:$B$27,2,FALSE))))","v":""},{"$f":"IF(T92=\"\",\"\",HLOOKUP(T92,前年度登録!$AW$3:$CW$118,87,FALSE))","v":""},"","",null,null,null,null,null,null,null,null,null,null,null,null,null,"",0,0]
[null,{"$f":"前年度登録!AE90","v":""},null,null,{"$f":"前年度登録!T90","v":0},{"$f":"前年度登録!DB90","v":""},{"$f":"前年度登録!AO90","v":""},{"$f":"前年度登録!DB90","v":""},{"$f":"前年度登録!AN90","v":""},{"$f":"前年度登録!DC90","v":""},{"$f":"前年度登録!DE90","v":0},{"$f":"前年度登録!DJ90","v":"00"},{"$f":"前年度登録!AF90","v":""},{"$f":"前年度登録!S90","v":0},null,{"$f":"IF(O93=\"\",\"\",IF(I93=1,VLOOKUP(O93,男子種目コード!$A$1:$B$33,2,FALSE),IF(I93=2,VLOOKUP(O93,女子種目コード!$A$1:$B$27,2,FALSE))))","v":""},{"$f":"IF(O93=\"\",\"\",HLOOKUP(O93,前年度登録!$AW$3:$CW$118,88,FALSE))","v":""},"","",null,{"$f":"IF(T93=\"\",\"\",IF(I93=1,VLOOKUP(T93,男子種目コード!$A$1:$B$33,2,FALSE),IF(I93=2,VLOOKUP(T93,女子種目コード!$A$1:$B$27,2,FALSE))))","v":""},{"$f":"IF(T93=\"\",\"\",HLOOKUP(T93,前年度登録!$AW$3:$CW$118,88,FALSE))","v":""},"","",null,null,null,null,null,null,null,null,null,null,null,null,null,"",0,0]
[null,{"$f":"前年度登録!AE91","v":""},null,null,{"$f":"前年度登録!T91","v":0},{"$f":"前年度登録!DB91","v":""},{"$f":"前年度登録!AO91","v":""},{"$f":"前年度登録!DB91","v":""},{"$f":"前年度登録!AN91","v":""},{"$f":"前年度登録!DC91","v":""},{"$f":"前年度登録!DE91","v":0},{"$f":"前年度登録!DJ91","v":"00"},{"$f":"前年度登録!AF91","v":""},{"$f":"前年度登録!S91","v":0},null,{"$f":"IF(O94=\"\",\"\",IF(I94=1,VLOOKUP(O94,男子種目コード!$A$1:$B$33,2,FALSE),IF(I94=2,VLOOKUP(O94,女子種目コード!$A$1:$B$27,2,FALSE))))","v":""},{"$f":"IF(O94=\"\",\"\",HLOOKUP(O94,前年度登録!$AW$3:$CW$118,89,FALSE))","v":""},"","",null,{"$f":"IF(T94=\"\",\"\",IF(I94=1,VLOOKUP(T94,男子種目コード!$A$1:$B$33,2,FALSE),IF(I94=2,VLOOKUP(T94,女子種目コード!$A$1:$B$27,2,FALSE))))","v":""},{"$f":"IF(T94=\"\",\"\",HLOOKUP(T94,前年度登録!$AW$3:$CW$118,89,FALSE))","v":""},"","",null,null,null,null,null,null,null,null,null,null,null,null,null,"",0,0]
[null,{"$f":"前年度登録!AE92","v":""},null,null,{"$f":"前年度登録!T92","v":0},{"$f":"前年度登録!DB92","v":""},{"$f":"前年度登録!AO92","v":""},{"$f":"前年度登録!DB92","v":""},{"$f":"前年度登録!AN92","v":""},{"$f":"前年度登録!DC92","v":""},{"$f":"前年度登録!DE92","v":0},{"$f":"前年度登録!DJ92","v":"00"},{"$f":"前年度登録!AF92","v":""},{"$f":"前年度登録!S92","v":0},null,{"$f":"IF(O95=\"\",\"\",IF(I95=1,VLOOKUP(O95,男子種目コード!$A$1:$B$33,2,FALSE),IF(I95=2,VLOOKUP(O95,女子種目コード!$A$1:$B$27,2,FALSE))))","v":""},{"$f":"IF(O95=\"\",\"\",HLOOKUP(O95,前年度登録!$AW$3:$CW$118,90,FALSE))","v":""},"","",null,{"$f":"IF(T95=\"\",\"\",IF(I95=1,VLOOKUP(T95,男子種目コード!$A$1:$B$33,2,FALSE),IF(I95=2,VLOOKUP(T95,女子種目コード!$A$1:$B$27,2,FALSE))))","v":""},{"$f":"IF(T95=\"\",\"\",HLOOKUP(T95,前年度登録!$AW$3:$CW$118,90,FALSE))","v":""},"","",null,null,null,null,null,null,null,null,null,null,null,null,null,"",0,0]
[null,{"$f":"前年度登録!AE93","v":""},null,null,{"$f":"前年度登録!T93","v":0},{"$f":"前年度登録!DB93","v":""},{"$f":"前年度登録!AO93","v":""},{"$f":"前年度登録!DB93","v":""},{"$f":"前年度登録!AN93","v":""},{"$f":"前年度登録!DC93","v":""},{"$f":"前年度登録!DE93","v":0},{"$f":"前年度登録!DJ93","v":"00"},{"$f":"前年度登録!AF93","v":""},{"$f":"前年度登録!S93","v":0},null,{"$f":"IF(O96=\"\",\"\",IF(I96=1,VLOOKUP(O96,男子種目コード!$A$1:$B$33,2,FALSE),IF(I96=2,VLOOKUP(O96,女子種目コード!$A$1:$B$27,2,FALSE))))","v":""},{"$f":"IF(O96=\"\",\"\",HLOOKUP(O96,前年度登録!$AW$3:$CW$118,91,FALSE))","v":""},"","",null,{"$f":"IF(T96=\"\",\"\",IF(I96=1,VLOOKUP(T96,男子種目コード!$A$1:$B$33,2,FALSE),IF(I96=2,VLOOKUP(T96,女子種目コード!$A$1:$B$27,2,FALSE))))","v":""},{"$f":"IF(T96=\"\",\"\",HLOOKUP(T96,前年度登録!$AW$3:$CW$118,91,FALSE))","v":""},"","",null,null,null,null,null,null,null,null,null,null,null,null,null,"",0,0]
[null,{"$f":"前年度登録!AE94","v":""},null,null,{"$f":"前年度登録!T94","v":0},{"$f":"前年度登録!DB94","v":""},{"$f":"前年度登録!AO94","v":""},{"$f":"前年度登録!DB94","v":""},{"$f":"前年度登録!AN94","v":""},{"$f":"前年度登録!DC94","v":""},{"$f":"前年度登録!DE94","v":0},{"$f":"前年度登録!DJ94","v":"00"},{"$f":"前年度登録!AF94","v":""},{"$f":"前年度登録!S94","v":0},null,{"$f":"IF(O97=\"\",\"\",IF(I97=1,VLOOKUP(O97,男子種目コード!$A$1:$B$33,2,FALSE),IF(I97=2,VLOOKUP(O97,女子種目コード!$A$1:$B$27,2,FALSE))))","v":""},{"$f":"IF(O97=\"\",\"\",HLOOKUP(O97,前年度登録!$AW$3:$CW$118,92,FALSE))","v":""},"","",null,{"$f":"IF(T97=\"\",\"\",IF(I97=1,VLOOKUP(T97,男子種目コード!$A$1:$B$33,2,FALSE),IF(I97=2,VLOOKUP(T97,女子種目コード!$A$1:$B$27,2,FALSE))))","v":""},{"$f":"IF(T97=\"\",\"\",HLOOKUP(T97,前年度登録!$AW$3:$CW$118,92,FALSE))","v":""},"","",null,null,null,null,null,null,null,null,null,null,null,null,null,"",0,0]
[null,{"$f":"前年度登録!AE95","v":""},null,null,{"$f":"前年度登録!T95","v":0},{"$f":"前年度登録!DB95","v":""},{"$f":"前年度登録!AO95","v":""},{"$f":"前年度登録!DB95","v":""},{"$f":"前年度登録!AN95","v":""},{"$f":"前年度登録!DC95","v":""},{"$f":"前年度登録!DE95","v":0},{"$f":"前年度登録!DJ95","v":"00"},{"$f":"前年度登録!AF95","v":""},{"$f":"前年度登録!S95","v":0},null,{"$f":"IF(O98=\"\",\"\",IF(I98=1,VLOOKUP(O98,男子種目コード!$A$1:$B$33,2,FALSE),IF(I98=2,VLOOKUP(O98,女子種目コード!$A$1:$B$27,2,FALSE))))","v":""},{"$f":"IF(O98=\"\",\"\",HLOOKUP(O98,前年度登録!$AW$3:$CW$118,93,FALSE))","v":""},"","",null,{"$f":"IF(T98=\"\",\"\",IF(I98=1,VLOOKUP(T98,男子種目コード!$A$1:$B$33,2,FALSE),IF(I98=2,VLOOKUP(T98,女子種目コード!$A$1:$B$27,2,FALSE))))","v":""},{"$f":"IF(T98=\"\",\"\",HLOOKUP(T98,前年度登録!$AW$3:$CW$118,93,FALSE))","v":""},"","",null,null,null,null,null,null,null,null,null,null,null,null,null,"",0,0]
[null,{"$f":"前年度登録!AE96","v":""},null,null,{"$f":"前年度登録!T96","v":0},{"$f":"前年度登録!DB96","v":""},{"$f":"前年度登録!AO96","v":""},{"$f":"前年度登録!DB96","v":""},{"$f":"前年度登録!AN96","v":""},{"$f":"前年度登録!DC96","v":""},{"$f":"前年度登録!DE96","v":0},{"$f":"前年度登録!DJ96","v":"00"},{"$f":"前年度登録!AF96","v":""},{"$f":"前年度登録!S96","v":0},null,{"$f":"IF(O99=\"\",\"\",IF(I99=1,VLOOKUP(O99,男子種目コード!$A$1:$B$33,2,FALSE),IF(I99=2,VLOOKUP(O99,女子種目コード!$A$1:$B$27,2,FALSE))))","v":""},{"$f":"IF(O99=\"\",\"\",HLOOKUP(O99,前年度登録!$AW$3:$CW$118,94,FALSE))","v":""},"","",null,{"$f":"IF(T99=\"\",\"\",IF(I99=1,VLOOKUP(T99,男子種目コード!$A$1:$B$33,2,FALSE),IF(I99=2,VLOOKUP(T99,女子種目コード!$A$1:$B$27,2,FALSE))))","v":""},{"$f":"IF(T99=\"\",\"\",HLOOKUP(T99,前年度登録!$AW$3:$CW$118,94,FALSE))","v":""},"","",null,null,null,null,null,null,null,null,null,null,null,null,null,"",0,0]
[null,{"$f":"前年度登録!AE97","v":""},null,null,{"$f":"前年度登録!T97","v":0},{"$f":"前年度登録!DB97","v":""},{"$f":"前年度登録!AO97","v":""},{"$f":"前年度登録!DB97","v":""},{"$f":"前年度登録!AN97","v":""},{"$f":"前年度登録!DC97","v":""},{"$f":"前年度登録!DE97","v":0},{"$f":"前年度登録!DJ97","v":"00"},{"$f":"前年度登録!AF97","v":""},{"$f":"前年度登録!S97","v":0},null,{"$f":"IF(O100=\"\",\"\",IF(I100=1,VLOOKUP(O100,男子種目コード!$A$1:$B$33,2,FALSE),IF(I100=2,VLOOKUP(O100,女子種目コード!$A$1:$B$27,2,FALSE))))","v":""},{"$f":"IF(O100=\"\",\"\",HLOOKUP(O100,前年度登録!$AW$3:$CW$118,95,FALSE))","v":""},"","",null,{"$f":"IF(T100=\"\",\"\",IF(I100=1,VLOOKUP(T100,男子種目コード!$A$1:$B$33,2,FALSE),IF(I100=2,VLOOKUP(T100,女子種目コード!$A$1:$B$27,2,FALSE))))","v":""},{"$f":"IF(T100=\"\",\"\",HLOOKUP(T100,前年度登録!$AW$3:$CW$118,95,FALSE))","v":""},"","",null,null,null,null,null,null,null,null,null,null,null,null,null,"",0,0]
[null,{"$f":"前年度登録!AE98","v":""},null,null,{"$f":"前年度登録!T98","v":0},{"$f":"前年度登録!DB98","v":""},{"$f":"前年度登録!AO98","v":""},{"$f":"前年度登録!DB98","v":""},{"$f":"前年度登録!AN98","v":""},{"$f":"前年度登録!DC98","v":""},{"$f":"前年度登録!DE98","v":0},{"$f":"前年度登録!DJ98","v":"00"},{"$f":"前年度登録!AF98","v":""},{"$f":"前年度登録!S98","v":0},null,{"$f":"IF(O101=\"\",\"\",IF(I101=1,VLOOKUP(O101,男子種目コード!$A$1:$B$33,2,FALSE),IF(I101=2,VLOOKUP(O101,女子種目コード!$A$1:$B$27,2,FALSE))))","v":""},{"$f":"IF(O101=\"\",\"\",HLOOKUP(O101,前年度登録!$AW$3:$CW$118,96,FALSE))","v":""},"","",null,{"$f":"IF(T101=\"\",\"\",IF(I101=1,VLOOKUP(T101,男子種目コード!$A$1:$B$33,2,FALSE),IF(I101=2,VLOOKUP(T101,女子種目コード!$A$1:$B$27,2,FALSE))))","v":""},{"$f":"IF(T101=\"\",\"\",HLOOKUP(T101,前年度登録!$AW$3:$CW$118,96,FALSE))","v":""},"","",null,null,null,null,null,null,null,null,null,null,null,null,null,"",0,0]
[null,{"$f":"前年度登録!AE99","v":""},null,null,{"$f":"前年度登録!T99","v":0},{"$f":"前年度登録!DB99","v":""},{"$f":"前年度登録!AO99","v":""},{"$f":"前年度登録!DB99","v":""},{"$f":"前年度登録!AN99","v":""},{"$f":"前年度登録!DC99","v":""},{"$f":"前年度登録!DE99","v":0},{"$f":"前年度登録!DJ99","v":"00"},{"$f":"前年度登録!AF99","v":""},{"$f":"前年度登録!S99","v":0},null,{"$f":"IF(O102=\"\",\"\",IF(I102=1,VLOOKUP(O102,男子種目コード!$A$1:$B$33,2,FALSE),IF(I102=2,VLOOKUP(O102,女子種目コード!$A$1:$B$27,2,FALSE))))","v":""},{"$f":"IF(O102=\"\",\"\",HLOOKUP(O102,前年度登録!$AW$3:$CW$118,97,FALSE))","v":""},"","",null,{"$f":"IF(T102=\"\",\"\",IF(I102=1,VLOOKUP(T102,男子種目コード!$A$1:$B$33,2,FALSE),IF(I102=2,VLOOKUP(T102,女子種目コード!$A$1:$B$27,2,FALSE))))","v":""},{"$f":"IF(T102=\"\",\"\",HLOOKUP(T102,前年度登録!$AW$3:$CW$118,97,FALSE))","v":""},"","",null,null,null,null,null,null,null,null,null,null,null,null,null,"",0,0]
[null,{"$f":"前年度登録!AE100","v":""},null,null,{"$f":"前年度登録!T100","v":0},{"$f":"前年度登録!DB100","v":""},{"$f":"前年度登録!AO100","v":""},{"$f":"前年度登録!DB100","v":""},{"$f":"前年度登録!AN100","v":""},{"$f":"前年度登録!DC100","v":""},{"$f":"前年度登録!DE100","v":0},{"$f":"前年度登録!DJ100","v":"00"},{"$f":"前年度登録!AF100","v":""},{"$f":"前年度登録!S100","v":0},null,{"$f":"IF(O103=\"\",\"\",IF(I103=1,VLOOKUP(O103,男子種目コード!$A$1:$B$33,2,FALSE),IF(I103=2,VLOOKUP(O103,女子種目コード!$A$1:$B$27,2,FALSE))))","v":""},{"$f":"IF(O103=\"\",\"\",HLOOKUP(O103,前年度登録!$AW$3:$CW$118,98,FALSE))","v":""},"","",null,{"$f":"IF(T103=\"\",\"\",IF(I103=1,VLOOKUP(T103,男子種目コード!$A$1:$B$33,2,FALSE),IF(I103=2,VLOOKUP(T103,女子種目コード!$A$1:$B$27,2,FALSE))))","v":""},{"$f":"IF(T103=\"\",\"\",HLOOKUP(T103,前年度登録!$AW$3:$CW$118,98,FALSE))","v":""},"","",null,null,null,null,null,null,null,null,null,null,null,null,null,{"$f":"IF(O103=\"\",\"\",1)","v":""},{"$f":"IF(OR(AL103=1,T103=\"\"),0,1)","v":0},{"$f":"IF(OR(AL103=1,AM103=1,AB103=\"\"),0,1)","v":0}]
[null,{"$f":"前年度登録!AE101","v":""},null,null,{"$f":"前年度登録!T101","v":0},{"$f":"前年度登録!DB101","v":""},{"$f":"前年度登録!AO101","v":""},{"$f":"前年度登録!DB101","v":""},{"$f":"前年度登録!AN101","v":""},{"$f":"前年度登録!DC101","v":""},{"$f":"前年度登録!DE101","v":0},{"$f":"前年度登録!DJ101","v":"00"},{"$f":"前年度登録!AF101","v":""},{"$f":"前年度登録!S101","v":0},null,{"$f":"IF(O104=\"\",\"\",IF(I104=1,VLOOKUP(O104,男子種目コード!$A$1:$B$33,2,FALSE),IF(I104=2,VLOOKUP(O104,女子種目コード!$A$1:$B$27,2,FALSE))))","v":""},{"$f":"IF(O104=\"\",\"\",HLOOKUP(O104,前年度登録!$AW$3:$CW$118,99,FALSE))","v":""},"","",null,{"$f":"IF(T104=\"\",\"\",IF(I104=1,VLOOKUP(T104,男子種目コード!$A$1:$B$33,2,FALSE),IF(I104=2,VLOOKUP(T104,女子種目コード!$A$1:$B$27,2,FALSE))))","v":""},{"$f":"IF(T104=\"\",\"\",HLOOKUP(T104,前年度登録!$AW$3:$CW$118,99,FALSE))","v":""},"","",null,null,null,null,null,null,null,null,null,null,null,null,null,"",0,0]
[null,{"$f":"前年度登録!AE102","v":""},null,null,{"$f":"前年度登録!T102","v":0},{"$f":"前年度登録!DB102","v":""},{"$f":"前年度登録!AO102","v":""},{"$f":"前年度登録!DB102","v":""},{"$f":"前年度登録!AN102","v":""},{"$f":"前年度登録!DC102","v":""},{"$f":"前年度登録!DE102","v":0},{"$f":"前年度登録!DJ102","v":"00"},{"$f":"前年度登録!AF102","v":""},{"$f":"前年度登録!S102","v":0},null,{"$f":"IF(O105=\"\",\"\",IF(I105=1,VLOOKUP(O105,男子種目コード!$A$1:$B$33,2,FALSE),IF(I105=2,VLOOKUP(O105,女子種目コード!$A$1:$B$27,2,FALSE))))","v":""},{"$f":"IF(O105=\"\",\"\",HLOOKUP(O105,前年度登録!$AW$3:$CW$118,100,FALSE))","v":""},"","",null,{"$f":"IF(T105=\"\",\"\",IF(I105=1,VLOOKUP(T105,男子種目コード!$A$1:$B$33,2,FALSE),IF(I105=2,VLOOKUP(T105,女子種目コード!$A$1:$B$27,2,FALSE))))","v":""},{"$f":"IF(T105=\"\",\"\",HLOOKUP(T105,前年度登録!$AW$3:$CW$118,100,FALSE))","v":""},"","",null,null,null,null,null,null,null,null,null,null,null,null,null,"",0,0]
[null,{"$f":"前年度登録!AE103","v":""},null,null,{"$f":"前年度登録!T103","v":0},{"$f":"前年度登録!DB103","v":""},{"$f":"前年度登録!AO103","v":""},{"$f":"前年度登録!DB103","v":""},{"$f":"前年度登録!AN103","v":""},{"$f":"前年度登録!DC103","v":""},{"$f":"前年度登録!DE103","v":0},{"$f":"前年度登録!DJ103","v":"00"},{"$f":"前年度登録!AF103","v":""},{"$f":"前年度登録!S103","v":0},null,{"$f":"IF(O106=\"\",\"\",IF(I106=1,VLOOKUP(O106,男子種目コード!$A$1:$B$33,2,FALSE),IF(I106=2,VLOOKUP(O106,女子種目コード!$A$1:$B$27,2,FALSE))))","v":""},{"$f":"IF(O106=\"\",\"\",HLOOKUP(O106,前年度登録!$AW$3:$CW$118,101,FALSE))","v":""},"","",null,{"$f":"IF(T106=\"\",\"\",IF(I106=1,VLOOKUP(T106,男子種目コード!$A$1:$B$33,2,FALSE),IF(I106=2,VLOOKUP(T106,女子種目コード!$A$1:$B$27,2,FALSE))))","v":""},{"$f":"IF(T106=\"\",\"\",HLOOKUP(T106,前年度登録!$AW$3:$CW$118,101,FALSE))","v":""},"","",null,null,null,null,null,null,null,null,null,null,null,null,null,"",0,0]
[null,{"$f":"前年度登録!AE104","v":""},null,null,{"$f":"前年度登録!T104","v":0},{"$f":"前年度登録!DB104","v":""},{"$f":"前年度登録!AO104","v":""},{"$f":"前年度登録!DB104","v":""},{"$f":"前年度登録!AN104","v":""},{"$f":"前年度登録!DC104","v":""},{"$f":"前年度登録!DE104","v":0},{"$f":"前年度登録!DJ104","v":"00"},{"$f":"前年度登録!AF104","v":""},{"$f":"前年度登録!S104","v":0},null,{"$f":"IF(O107=\"\",\"\",IF(I107=1,VLOOKUP(O107,男子種目コード!$A$1:$B$33,2,FALSE),IF(I107=2,VLOOKUP(O107,女子種目コード!$A$1:$B$27,2,FALSE))))","v":""},{"$f":"IF(O107=\"\",\"\",HLOOKUP(O107,前年度登録!$AW$3:$CW$118,102,FALSE))","v":""},"","",null,{"$f":"IF(T107=\"\",\"\",IF(I107=1,VLOOKUP(T107,男子種目コード!$A$1:$B$33,2,FALSE),IF(I107=2,VLOOKUP(T107,女子種目コード!$A$1:$B$27,2,FALSE))))","v":""},{"$f":"IF(T107=\"\",\"\",HLOOKUP(T107,前年度登録!$AW$3:$CW$118,102,FALSE))","v":""},"","",null,null,null,null,null,null,null,null,null,null,null,null,null,"",0,0]
[null,{"$f":"前年度登録!AE105","v":""},null,null,{"$f":"前年度登録!T105","v":0},{"$f":"前年度登録!DB105","v":""},{"$f":"前年度登録!AO105","v":""},{"$f":"前年度登録!DB105","v":""},{"$f":"前年度登録!AN105","v":""},{"$f":"前年度登録!DC105","v":""},{"$f":"前年度登録!DE105","v":0},{"$f":"前年度登録!DJ105","v":"00"},{"$f":"前年度登録!AF105","v":""},{"$f":"前年度登録!S105","v":0},null,{"$f":"IF(O108=\"\",\"\",IF(I108=1,VLOOKUP(O108,男子種目コード!$A$1:$B$33,2,FALSE),IF(I108=2,VLOOKUP(O108,女子種目コード!$A$1:$B$27,2,FALSE))))","v":""},{"$f":"IF(O108=\"\",\"\",HLOOKUP(O108,前年度登録!$AW$3:$CW$118,103,FALSE))","v":""},"","",null,{"$f":"IF(T108=\"\",\"\",IF(I108=1,VLOOKUP(T108,男子種目コード!$A$1:$B$33,2,FALSE),IF(I108=2,VLOOKUP(T108,女子種目コード!$A$1:$B$27,2,FALSE))))","v":""},{"$f":"IF(T108=\"\",\"\",HLOOKUP(T108,前年度登録!$AW$3:$CW$118,103,FALSE))","v":""},"","",null,null,null,null,null,null,null,null,null,null,null,null,null,"",0,0]
[null,{"$f":"前年度登録!AE106","v":""},null,null,{"$f":"前年度登録!T106","v":0},{"$f":"前年度登録!DB106","v":""},{"$f":"前年度登録!AO106","v":""},{"$f":"前年度登録!DB106","v":""},{"$f":"前年度登録!AN106","v":""},{"$f":"前年度登録!DC106","v":""},{"$f":"前年度登録!DE106","v":0},{"$f":"前年度登録!DJ106","v":"00"},{"$f":"前年度登録!AF106","v":""},{"$f":"前年度登録!S106","v":0},null,{"$f":"IF(O109=\"\",\"\",IF(I109=1,VLOOKUP(O109,男子種目コード!$A$1:$B$33,2,FALSE),IF(I109=2,VLOOKUP(O109,女子種目コード!$A$1:$B$27,2,FALSE))))","v":""},{"$f":"IF(O109=\"\",\"\",HLOOKUP(O109,前年度登録!$AW$3:$CW$118,104,FALSE))","v":""},"","",null,{"$f":"IF(T109=\"\",\"\",IF(I109=1,VLOOKUP(T109,男子種目コード!$A$1:$B$33,2,FALSE),IF(I109=2,VLOOKUP(T109,女子種目コード!$A$1:$B$27,2,FALSE))))","v":""},{"$f":"IF(T109=\"\",\"\",HLOOKUP(T109,前年度登録!$AW$3:$CW$118,104,FALSE))","v":""},"","",null,null,null,null,null,null,null,null,null,null,null,null,null,"",0,0]
[null,{"$f":"前年度登録!AE107","v":""},null,null,{"$f":"前年度登録!T107","v":0},{"$f":"前年度登録!DB107","v":""},{"$f":"前年度登録!AO107","v":""},{"$f":"前年度登録!DB107","v":""},{"$f":"前年度登録!AN107","v":""},{"$f":"前年度登録!DC107","v":""},{"$f":"前年度登録!DE107","v":0},{"$f":"前年度登録!DJ107","v":"00"},{"$f":"前年度登録!AF107","v":""},{"$f":"前年度登録!S107","v":0},null,{"$f":"IF(O110=\"\",\"\",IF(I110=1,VLOOKUP(O110,男子種目コード!$A$1:$B$33,2,FALSE),IF(I110=2,VLOOKUP(O110,女子種目コード!$A$1:$B$27,2,FALSE))))","v":""},{"$f":"IF(O110=\"\",\"\",HLOOKUP(O110,前年度登録!$AW$3:$CW$118,105,FALSE))","v":""},"","",null,{"$f":"IF(T110=\"\",\"\",IF(I110=1,VLOOKUP(T110,男子種目コード!$A$1:$B$33,2,FALSE),IF(I110=2,VLOOKUP(T110,女子種目コード!$A$1:$B$27,2,FALSE))))","v":""},{"$f":"IF(T110=\"\",\"\",HLOOKUP(T110,前年度登録!$AW$3:$CW$118,105,FALSE))","v":""},"","",null,null,null,null,null,null,null,null,null,null,null,null,null,"",0,0]
[null,{"$f":"前年度登録!AE108","v":""},null,null,{"$f":"前年度登録!T108","v":0},{"$f":"前年度登録!DB108","v":""},{"$f":"前年度登録!AO108","v":""},{"$f":"前年度登録!DB108","v":""},{"$f":"前年度登録!AN108","v":""},{"$f":"前年度登録!DC108","v":""},{"$f":"前年度登録!DE108","v":0},{"$f":"前年度登録!DJ108","v":"00"},{"$f":"前年度登録!AF108","v":""},{"$f":"前年度登録!S108","v":0},null,{"$f":"IF(O111=\"\",\"\",IF(I111=1,VLOOKUP(O111,男子種目コード!$A$1:$B$33,2,FALSE),IF(I111=2,VLOOKUP(O111,女子種目コード!$A$1:$B$27,2,FALSE))))","v":""},{"$f":"IF(O111=\"\",\"\",HLOOKUP(O111,前年度登録!$AW$3:$CW$118,106,FALSE))","v":""},"","",null,{"$f":"IF(T111=\"\",\"\",IF(I111=1,VLOOKUP(T111,男子種目コード!$A$1:$B$33,2,FALSE),IF(I111=2,VLOOKUP(T111,女子種目コード!$A$1:$B$27,2,FALSE))))","v":""},{"$f":"IF(T111=\"\",\"\",HLOOKUP(T111,前年度登録!$AW$3:$CW$118,106,FALSE))","v":""},"","",null,null,null,null,null,null,null,null,null,null,null,null,null,"",0,0]
[null,{"$f":"前年度登録!AE109","v":""},null,null,{"$f":"前年度登録!T109","v":0},{"$f":"前年度登録!DB109","v":""},{"$f":"前年度登録!AO109","v":""},{"$f":"前年度登録!DB109","v":""},{"$f":"前年度登録!AN109","v":""},{"$f":"前年度登録!DC109","v":""},{"$f":"前年度登録!DE109","v":0},{"$f":"前年度登録!DJ109","v":"00"},{"$f":"前年度登録!AF109","v":""},{"$f":"前年度登録!S109","v":0},null,{"$f":"IF(O112=\"\",\"\",IF(I112=1,VLOOKUP(O112,男子種目コード!$A$1:$B$33,2,FALSE),IF(I112=2,VLOOKUP(O112,女子種目コード!$A$1:$B$27,2,FALSE))))","v":""},{"$f":"IF(O112=\"\",\"\",HLOOKUP(O112,前年度登録!$AW$3:$CW$118,107,FALSE))","v":""},"","",null,{"$f":"IF(T112=\"\",\"\",IF(I112=1,VLOOKUP(T112,男子種目コード!$A$1:$B$33,2,FALSE),IF(I112=2,VLOOKUP(T112,女子種目コード!$A$1:$B$27,2,FALSE))))","v":""},{"$f":"IF(T112=\"\",\"\",HLOOKUP(T112,前年度登録!$AW$3:$CW$118,107,FALSE))","v":""},"","",null,null,null,null,null,null,null,null,null,null,null,null,null,"",0,0]
[null,{"$f":"前年度登録!AE110","v":""},null,null,{"$f":"前年度登録!T110","v":0},{"$f":"前年度登録!DB110","v":""},{"$f":"前年度登録!AO110","v":""},{"$f":"前年度登録!DB110","v":""},{"$f":"前年度登録!AN110","v":""},{"$f":"前年度登録!DC110","v":""},{"$f":"前年度登録!DE110","v":0},{"$f":"前年度登録!DJ110","v":"00"},{"$f":"前年度登録!AF110","v":""},{"$f":"前年度登録!S110","v":0},null,{"$f":"IF(O113=\"\",\"\",IF(I113=1,VLOOKUP(O113,男子種目コード!$A$1:$B$33,2,FALSE),IF(I113=2,VLOOKUP(O113,女子種目コード!$A$1:$B$27,2,FALSE))))","v":""},{"$f":"IF(O113=\"\",\"\",HLOOKUP(O113,前年度登録!$AW$3:$CW$118,108,FALSE))","v":""},"","",null,{"$f":"IF(T113=\"\",\"\",IF(I113=1,VLOOKUP(T113,男子種目コード!$A$1:$B$33,2,FALSE),IF(I113=2,VLOOKUP(T113,女子種目コード!$A$1:$B$27,2,FALSE))))","v":""},{"$f":"IF(T113=\"\",\"\",HLOOKUP(T113,前年度登録!$AW$3:$CW$118,108,FALSE))","v":""},"","",null,null,null,null,null,null,null,null,null,null,null,null,null,"",0,0]
[null,{"$f":"前年度登録!AE111","v":""},null,null,{"$f":"前年度登録!T111","v":0},{"$f":"前年度登録!DB111","v":""},{"$f":"前年度登録!AO111","v":""},{"$f":"前年度登録!DB111","v":""},{"$f":"前年度登録!AN111","v":""},{"$f":"前年度登録!DC111","v":""},{"$f":"前年度登録!DE111","v":0},{"$f":"前年度登録!DJ111","v":"00"},{"$f":"前年度登録!AF111","v":""},{"$f":"前年度登録!S111","v":0},null,{"$f":"IF(O114=\"\",\"\",IF(I114=1,VLOOKUP(O114,男子種目コード!$A$1:$B$33,2,FALSE),IF(I114=2,VLOOKUP(O114,女子種目コード!$A$1:$B$27,2,FALSE))))","v":""},{"$f":"IF(O114=\"\",\"\",HLOOKUP(O114,前年度登録!$AW$3:$CW$118,109,FALSE))","v":""},"","",null,{"$f":"IF(T114=\"\",\"\",IF(I114=1,VLOOKUP(T114,男子種目コード!$A$1:$B$33,2,FALSE),IF(I114=2,VLOOKUP(T114,女子種目コード!$A$1:$B$27,2,FALSE))))","v":""},{"$f":"IF(T114=\"\",\"\",HLOOKUP(T114,前年度登録!$AW$3:$CW$118,109,FALSE))","v":""},"","",null,null,null,null,null,null,null,null,null,null,null,null,null,"",0,0]
[null,{"$f":"前年度登録!AE112","v":""},null,null,{"$f":"前年度登録!T112","v":0},{"$f":"前年度登録!DB112","v":""},{"$f":"前年度登録!AO112","v":""},{"$f":"前年度登録!DB112","v":""},{"$f":"前年度登録!AN112","v":""},{"$f":"前年度登録!DC112","v":""},{"$f":"前年度登録!DE112","v":0},{"$f":"前年度登録!DJ112","v":"00"},{"$f":"前年度登録!AF112","v":""},{"$f":"前年度登録!S112","v":0},null,{"$f":"IF(O115=\"\",\"\",IF(I115=1,VLOOKUP(O115,男子種目コード!$A$1:$B$33,2,FALSE),IF(I115=2,VLOOKUP(O115,女子種目コード!$A$1:$B$27,2,FALSE))))","v":""},{"$f":"IF(O115=\"\",\"\",HLOOKUP(O115,前年度登録!$AW$3:$CW$118,110,FALSE))","v":""},"","",null,{"$f":"IF(T115=\"\",\"\",IF(I115=1,VLOOKUP(T115,男子種目コード!$A$1:$B$33,2,FALSE),IF(I115=2,VLOOKUP(T115,女子種目コード!$A$1:$B$27,2,FALSE))))","v":""},{"$f":"IF(T115=\"\",\"\",HLOOKUP(T115,前年度登録!$AW$3:$CW$118,110,FALSE))","v":""},"","",null,null,null,null,null,null,null,null,null,null,null,null,null,"",0,0]
[null,{"$f":"前年度登録!AE113","v":""},null,null,{"$f":"前年度登録!T113","v":0},{"$f":"前年度登録!DB113","v":""},{"$f":"前年度登録!AO113","v":""},{"$f":"前年度登録!DB113","v":""},{"$f":"前年度登録!AN113","v":""},{"$f":"前年度登録!DC113","v":""},{"$f":"前年度登録!DE113","v":0},{"$f":"前年度登録!DJ113","v":"00"},{"$f":"前年度登録!AF113","v":""},{"$f":"前年度登録!S113","v":0},null,{"$f":"IF(O116=\"\",\"\",IF(I116=1,VLOOKUP(O116,男子種目コード!$A$1:$B$33,2,FALSE),IF(I116=2,VLOOKUP(O116,女子種目コード!$A$1:$B$27,2,FALSE))))","v":""},{"$f":"IF(O116=\"\",\"\",HLOOKUP(O116,前年度登録!$AW$3:$CW$118,111,FALSE))","v":""},"","",null,{"$f":"IF(T116=\"\",\"\",IF(I116=1,VLOOKUP(T116,男子種目コード!$A$1:$B$33,2,FALSE),IF(I116=2,VLOOKUP(T116,女子種目コード!$A$1:$B$27,2,FALSE))))","v":""},{"$f":"IF(T116=\"\",\"\",HLOOKUP(T116,前年度登録!$AW$3:$CW$118,111,FALSE))","v":""},"","",null,null,null,null,null,null,null,null,null,null,null,null,null,"",0,0]
[null,null,null,null,null,null,null,null,null,null,null,null,null,null,null,null,null,null,null,null,null,null,null,null,null,null,null,null,null,null,null,{"$f":"SUM(AL7:AL116)","v":0},{"$f":"SUM(AM7:AM116)","v":0},{"$f":"SUM(AN7:AN116)","v":0}]
[null,null,null,null,null,null,null,null,null,null,null,null,null,null,null,null,null,null,null,null,null,null,null,null,null,null,null,null,null,null,null,{"$f":"SUM(AF117:AH117)","v":0}]

{"sheet":"リレーカー二バル","index":8,"n_rows":117,"n_cols":58,"rows_kept":117,"cut":false,"hidden":false,"merged":[[16,38,16,39],[17,38,17,39],[5,38,5,40],[7,38,7,39],[12,38,12,39],[6,38,6,40],[11,38,11,40],[5,50,5,51],[5,52,5,53],[6,50,6,51],[6,52,6,53],[23,40,23,43],[14,50,14,51],[13,50,13,51],[13,52,13,53],[14,52,14,53],[19,40,20,43],[18,40,18,43],[21,40,21,43],[22,40,22,43],[34,38,34,39],[30,50,30,51],[30,52,30,53],[21,50,21,51],[21,52,21,53],[22,50,22,51],[22,52,22,53],[29,50,29,51],[29,52,29,53],[25,38,25,39],[25,40,25,43],[24,40,24,43]]}
[null,null,null,null,"所属名",{"$f":"IF(前年度登録!$AD$4=\"\",\"\",前年度登録!$AD$4)","v":0}]
[null,null,null,null,"所属コード",{"$f":"前年度登録!$AE$4","v":{"$error":"#N/A"}},"リレーカーニバル"]
[null,null,null,null,"顧問名",{"$f":"IF(前年度登録!$S$1=\"\",\"\",前年度登録!$S$1)","v":""},"男子",null,null,null,null,null,null,null,{"$f":"COUNTIF($I$7:$I$116,1)-COUNTIF($AW$7:$AW$116,0)","v":0}]
[null,null,null,null,"顧問連絡先",{"$f":"IF(前年度登録!$X$1=\"\",\"\",前年度登録!$X$1)","v":""},"女子",null,null,null,null,null,null,null,{"$f":"COUNTIF($I$7:$I$116,2)-COUNTIF($AX$7:$AX$116,0)","v":0},null,{"$f":"O3+O4","v":0},null,null,null,null,null,null,null,null,null,null,null,null,null,null,null,null,null,null,null,null,null,null,null,null,null,null,null,null,null,null,null,null,null,null,"プログラム冊数",null,"冊"]
[null,null,null,null,null,null,"大会参加費",null,null,null,null,null,null,null,{"$f":"($AF$117*1000)+($AP$17*2000)+BA4*800","v":0}]
["競技者コード","所属コード","所属コードB","ナンバーA","ナンバー","名　前","カナ名","掲示板名","性別","学年","生年","月日","個人所属地コード","陸連ID","種目","コード","記録",null,null,"4×100Ｒ","コード","記録",null,null,"種目3","コード","記録3","種目4","コード","自己記録4","種目5","コード","自己記録5",null,null,null,100,null,"4×100mＲ",null,null,null,null,null,null,null,null,"種目数","男子","女子","男子4×100mR",null,"女子4×100mR"]
[{"$f":"T7","v":0},{"$f":"前年度登録!AE4","v":{"$error":"#N/A"}},null,null,{"$f":"前年度登録!T4","v":0},{"$f":"前年度登録!DB4","v":""},{"$f":"前年度登録!AO4","v":""},{"$f":"前年度登録!DB4","v":""},{"$f":"前年度登録!AN4","v":""},{"$f":"前年度登録!DC4","v":""},{"$f":"前年度登録!DE4","v":0},{"$f":"前年度登録!DJ4","v":"00"},"三重",{"$f":"前年度登録!S4","v":0},null,{"$f":"IF(O7=\"\",\"\",IF(I7=1,VLOOKUP(O7,男子種目コード!$J$1:$K$16,2,FALSE),IF(I7=2,VLOOKUP(O7,女子種目コード!$J$1:$K$16,2,FALSE))))","v":""},{"$f":"IF(O7=\"\",\"\",HLOOKUP(O7,前年度登録!$AW$3:$CW$118,2,FALSE))","v":""},{"$f":"IF(O7=\"\",\"\",0)","v":""},{"$f":"IF(O7=\"\",\"\",2)","v":""},null,{"$f":"IF(T7=\"\",\"\",IF(I7=1,VLOOKUP(T7,男子種目コード!$J$17:$K$19,2,FALSE),IF(I7=2,VLOOKUP(T7,女子種目コード!$J$17:$K$19,2,FALSE))))","v":""},null,{"$f":"IF(T7=\"\",\"\",0)","v":""},{"$f":"IF(T7=\"\",\"\",2)","v":""},null,{"$f":"IF(Y7=\"\",\"\",IF(I7=1,VLOOKUP(Y7,男子種目コード!$D$2:$E$16,2,FALSE),IF(I7=2,VLOOKUP(Y7,女子種目コード!$D$2:$E$16,2,FALSE))))","v":""},null,null,{"$f":"IF(AB7=\"\",\"\",IF(I7=1,VLOOKUP(AB7,男子種目コード!$D$2:$E$16,2,FALSE),IF(I7=2,VLOOKUP(AB7,女子種目コード!$D$2:$E$16,2,FALSE))))","v":""},null,null,null,null,null,null,null,1500,{"$f":"IF(O7=\"\",\"\",1)","v":""},"男子",null,null,null,null,null,null,{"$f":"IF(OR(AL7=1,T7=\"\"),0,1)","v":0},null,{"$f":"COUNT(P7,U7)","v":0},{"$f":"IF(I7=1,AV7,\"\")","v":""},{"$f":"IF(I7=2,AV7,\"\")","v":""},"Ａ",null,"Ａ"]
[{"$f":"T8","v":0},{"$f":"前年度登録!AE5","v":""},null,null,{"$f":"前年度登録!T5","v":0},{"$f":"前年度登録!DB5","v":""},{"$f":"前年度登録!AO5","v":""},{"$f":"前年度登録!DB5","v":""},{"$f":"前年度登録!AN5","v":""},{"$f":"前年度登録!DC5","v":""},{"$f":"前年度登録!DE5","v":0},{"$f":"前年度登録!DJ5","v":"00"},"三重",{"$f":"前年度登録!S5","v":0},null,{"$f":"IF(O8=\"\",\"\",IF(I8=1,VLOOKUP(O8,男子種目コード!$J$1:$K$16,2,FALSE),IF(I8=2,VLOOKUP(O8,女子種目コード!$J$1:$K$16,2,FALSE))))","v":""},{"$f":"IF(O8=\"\",\"\",HLOOKUP(O8,前年度登録!$AW$3:$CW$118,3,FALSE))","v":""},{"$f":"IF(O8=\"\",\"\",0)","v":""},{"$f":"IF(O8=\"\",\"\",2)","v":""},null,{"$f":"IF(T8=\"\",\"\",IF(I8=1,VLOOKUP(T8,男子種目コード!$J$17:$K$19,2,FALSE),IF(I8=2,VLOOKUP(T8,女子種目コード!$J$17:$K$19,2,FALSE))))","v":""},null,{"$f":"IF(T8=\"\",\"\",0)","v":""},{"$f":"IF(T8=\"\",\"\",2)","v":""},null,{"$f":"IF(Y8=\"\",\"\",IF(I8=1,VLOOKUP(Y8,男子種目コード!$D$2:$E$16,2,FALSE),IF(I8=2,VLOOKUP(Y8,女子種目コード!$D$2:$E$16,2,FALSE))))","v":""},null,null,{"$f":"IF(AB8=\"\",\"\",IF(I8=1,VLOOKUP(AB8,男子種目コード!$D$2:$E$16,2,FALSE),IF(I8=2,VLOOKUP(AB8,女子種目コード!$D$2:$E$16,2,FALSE))))","v":""},null,null,null,null,null,null,null,"*",{"$f":"IF(O8=\"\",\"\",1)","v":""},"リレー記録記載欄",null,"オーダー",null,null,null,null,0,null,0,"","",{"$f":"IF(ISERROR(BC8),\"\",BC8)","v":""},{"$f":"IF(ISERROR(BD8),\"\",BD8)","v":""},{"$f":"IF(ISERROR(BE8),\"\",BE8)","v":""},{"$f":"IF(ISERROR(BF8),\"\",BF8)","v":""},{"$f":"VLookUpX(\"男子A\",$A$7:$F$116,1,5)","v":{"$error":"#N/A"}},{"$f":"VLookUpX(\"男子A\",$A$7:$F$116,1,6)","v":{"$error":"#N/A"}},{"$f":"VLookUpX(\"女子A\",$A$7:$F$116,1,5)","v":{"$error":"#N/A"}},{"$f":"VLookUpX(\"女子A\",$A$7:$F$116,1,6)","v":{"$error":"#N/A"}}]
[0,{"$f":"前年度登録!AE6","v":""},null,null,{"$f":"前年度登録!T6","v":0},{"$f":"前年度登録!DB6","v":""},{"$f":"前年度登録!AO6","v":""},{"$f":"前年度登録!DB6","v":""},{"$f":"前年度登録!AN6","v":""},{"$f":"前年度登録!DC6","v":""},{"$f":"前年度登録!DE6","v":0},{"$f":"前年度登録!DJ6","v":"00"},"三重",{"$f":"前年度登録!S6","v":0},null,{"$f":"IF(O9=\"\",\"\",IF(I9=1,VLOOKUP(O9,男子種目コード!$J$1:$K$16,2,FALSE),IF(I9=2,VLOOKUP(O9,女子種目コード!$J$1:$K$16,2,FALSE))))","v":""},{"$f":"IF(O9=\"\",\"\",HLOOKUP(O9,前年度登録!$AW$3:$CW$118,4,FALSE))","v":""},"","",null,{"$f":"IF(T9=\"\",\"\",IF(I9=1,VLOOKUP(T9,男子種目コード!$J$17:$K$19,2,FALSE),IF(I9=2,VLOOKUP(T9,女子種目コード!$J$17:$K$19,2,FALSE))))","v":""},null,"","",null,{"$f":"IF(Y9=\"\",\"\",IF(I9=1,VLOOKUP(Y9,男子種目コード!$D$2:$E$16,2,FALSE),IF(I9=2,VLOOKUP(Y9,女子種目コード!$D$2:$E$16,2,FALSE))))","v":""},null,null,{"$f":"IF(AB9=\"\",\"\",IF(I9=1,VLOOKUP(AB9,男子種目コード!$D$2:$E$16,2,FALSE),IF(I9=2,VLOOKUP(AB9,女子種目コード!$D$2:$E$16,2,FALSE))))","v":""},null,null,null,null,null,null,null,"走幅跳","","A",null,{"$f":"COUNTIF($T$7:$T$116,\"男子A\")","v":0},{"$f":"IF(AO9>0,1,0)","v":0},null,null,null,0,null,0,"","",{"$f":"IF(ISERROR(BC9),\"\",BC9)","v":""},"",{"$f":"IF(ISERROR(BE9),\"\",BE9)","v":""},"",{"$f":"VLookUpX(\"男子A\",$A$7:$F$116,2,5)","v":{"$error":"#N/A"}},{"$f":"VLookUpX(\"男子A\",$A$7:$F$116,2,6)","v":{"$error":"#N/A"}},{"$f":"VLookUpX(\"女子A\",$A$7:$F$116,2,5)","v":{"$error":"#N/A"}},{"$f":"VLookUpX(\"女子A\",$A$7:$F$116,2,6)","v":{"$error":"#N/A"}}]
[0,{"$f":"前年度登録!AE7","v":""},null,null,{"$f":"前年度登録!T7","v":0},{"$f":"前年度登録!DB7","v":""},{"$f":"前年度登録!AO7","v":""},{"$f":"前年度登録!DB7","v":""},{"$f":"前年度登録!AN7","v":""},{"$f":"前年度登録!DC7","v":""},{"$f":"前年度登録!DE7","v":0},{"$f":"前年度登録!DJ7","v":"00"},"三重",{"$f":"前年度登録!S7","v":0},null,{"$f":"IF(O10=\"\",\"\",IF(I10=1,VLOOKUP(O10,男子種目コード!$J$1:$K$16,2,FALSE),IF(I10=2,VLOOKUP(O10,女子種目コード!$J$1:$K$16,2,FALSE))))","v":""},{"$f":"IF(O10=\"\",\"\",HLOOKUP(O10,前年度登録!$AW$3:$CW$118,5,FALSE))","v":""},"","",null,{"$f":"IF(T10=\"\",\"\",IF(I10=1,VLOOKUP(T10,男子種目コード!$J$17:$K$19,2,FALSE),IF(I10=2,VLOOKUP(T10,女子種目コード!$J$17:$K$19,2,FALSE))))","v":""},null,"","",null,{"$f":"IF(Y10=\"\",\"\",IF(I10=1,VLOOKUP(Y10,男子種目コード!$D$2:$E$16,2,FALSE),IF(I10=2,VLOOKUP(Y10,女子種目コード!$D$2:$E$16,2,FALSE))))","v":""},null,null,{"$f":"IF(AB10=\"\",\"\",IF(I10=1,VLOOKUP(AB10,男子種目コード!$D$2:$E$16,2,FALSE),IF(I10=2,VLOOKUP(AB10,女子種目コード!$D$2:$E$16,2,FALSE))))","v":""},null,null,null,null,null,null,null,"砲丸投","","B",null,{"$f":"COUNTIF($T$7:$T$116,\"男子B\")","v":0},{"$f":"IF(AO10>0,1,0)","v":0},null,null,null,0,null,0,"","","","","","",{"$f":"VLookUpX(\"男子A\",$A$7:$F$116,3,5)","v":{"$error":"#N/A"}},{"$f":"VLookUpX(\"男子A\",$A$7:$F$116,3,6)","v":{"$error":"#N/A"}},{"$f":"VLookUpX(\"女子A\",$A$7:$F$116,3,5)","v":{"$error":"#N/A"}},{"$f":"VLookUpX(\"女子A\",$A$7:$F$116,3,6)","v":{"$error":"#N/A"}}]
[0,{"$f":"前年度登録!AE8","v":""},null,null,{"$f":"前年度登録!T8","v":0},{"$f":"前年度登録!DB8","v":""},{"$f":"前年度登録!AO8","v":""},{"$f":"前年度登録!DB8","v":""},{"$f":"前年度登録!AN8","v":""},{"$f":"前年度登録!DC8","v":""},{"$f":"前年度登録!DE8","v":0},{"$f":"前年度登録!DJ8","v":"00"},"三重",{"$f":"前年度登録!S8","v":0},null,{"$f":"IF(O11=\"\",\"\",IF(I11=1,VLOOKUP(O11,男子種目コード!$J$1:$K$16,2,FALSE),IF(I11=2,VLOOKUP(O11,女子種目コード!$J$1:$K$16,2,FALSE))))","v":""},{"$f":"IF(O11=\"\",\"\",HLOOKUP(O11,前年度登録!$AW$3:$CW$118,6,FALSE))","v":""},"","",null,{"$f":"IF(T11=\"\",\"\",IF(I11=1,VLOOKUP(T11,男子種目コード!$J$17:$K$19,2,FALSE),IF(I11=2,VLOOKUP(T11,女子種目コード!$J$17:$K$19,2,FALSE))))","v":""},null,"","",null,{"$f":"IF(Y11=\"\",\"\",IF(I11=1,VLOOKUP(Y11,男子種目コード!$D$2:$E$16,2,FALSE),IF(I11=2,VLOOKUP(Y11,女子種目コード!$D$2:$E$16,2,FALSE))))","v":""},null,null,{"$f":"IF(AB11=\"\",\"\",IF(I11=1,VLOOKUP(AB11,男子種目コード!$D$2:$E$16,2,FALSE),IF(I11=2,VLOOKUP(AB11,女子種目コード!$D$2:$E$16,2,FALSE))))","v":""},null,null,null,null,null,null,null,"ｼﾞｬﾍﾞﾘｯｸ","","C",null,{"$f":"COUNTIF($T$7:$T$116,\"男子C\")","v":0},0,{"$f":"SUM(AP9:AP11)","v":0},null,null,0,null,0,"","","","","","",{"$f":"VLookUpX(\"男子A\",$A$7:$F$116,4,5)","v":{"$error":"#N/A"}},{"$f":"VLookUpX(\"男子A\",$A$7:$F$116,4,6)","v":{"$error":"#N/A"}},{"$f":"VLookUpX(\"女子A\",$A$7:$F$116,4,5)","v":{"$error":"#N/A"}},{"$f":"VLookUpX(\"女子A\",$A$7:$F$116,4,6)","v":{"$error":"#N/A"}}]
[0,{"$f":"前年度登録!AE9","v":""},null,null,{"$f":"前年度登録!T9","v":0},{"$f":"前年度登録!DB9","v":""},{"$f":"前年度登録!AO9","v":""},{"$f":"前年度登録!DB9","v":""},{"$f":"前年度登録!AN9","v":""},{"$f":"前年度登録!DC9","v":""},{"$f":"前年度登録!DE9","v":0},{"$f":"前年度登録!DJ9","v":"00"},"三重",{"$f":"前年度登録!S9","v":0},null,{"$f":"IF(O12=\"\",\"\",IF(I12=1,VLOOKUP(O12,男子種目コード!$J$1:$K$16,2,FALSE),IF(I12=2,VLOOKUP(O12,女子種目コード!$J$1:$K$16,2,FALSE))))","v":""},{"$f":"IF(O12=\"\",\"\",HLOOKUP(O12,前年度登録!$AW$3:$CW$118,7,FALSE))","v":""},"","",null,{"$f":"IF(T12=\"\",\"\",IF(I12=1,VLOOKUP(T12,男子種目コード!$J$17:$K$19,2,FALSE),IF(I12=2,VLOOKUP(T12,女子種目コード!$J$17:$K$19,2,FALSE))))","v":""},null,"","",null,{"$f":"IF(Y12=\"\",\"\",IF(I12=1,VLOOKUP(Y12,男子種目コード!$D$2:$E$16,2,FALSE),IF(I12=2,VLOOKUP(Y12,女子種目コード!$D$2:$E$16,2,FALSE))))","v":""},null,null,{"$f":"IF(AB12=\"\",\"\",IF(I12=1,VLOOKUP(AB12,男子種目コード!$D$2:$E$16,2,FALSE),IF(I12=2,VLOOKUP(AB12,女子種目コード!$D$2:$E$16,2,FALSE))))","v":""},null,null,null,null,null,null,null,100,"","女子",null,null,null,null,null,null,0,null,0,"","","","","","",{"$f":"VLookUpX(\"男子A\",$A$7:$F$116,5,5)","v":{"$error":"#N/A"}},{"$f":"VLookUpX(\"男子A\",$A$7:$F$116,5,6)","v":{"$error":"#N/A"}},{"$f":"VLookUpX(\"女子A\",$A$7:$F$116,5,5)","v":{"$error":"#N/A"}},{"$f":"VLookUpX(\"女子A\",$A$7:$F$116,5,6)","v":{"$error":"#N/A"}}]
[0,{"$f":"前年度登録!AE10","v":""},null,null,{"$f":"前年度登録!T10","v":0},{"$f":"前年度登録!DB10","v":""},{"$f":"前年度登録!AO10","v":""},{"$f":"前年度登録!DB10","v":""},{"$f":"前年度登録!AN10","v":""},{"$f":"前年度登録!DC10","v":""},{"$f":"前年度登録!DE10","v":0},{"$f":"前年度登録!DJ10","v":"00"},"三重",{"$f":"前年度登録!S10","v":0},null,{"$f":"IF(O13=\"\",\"\",IF(I13=1,VLOOKUP(O13,男子種目コード!$J$1:$K$16,2,FALSE),IF(I13=2,VLOOKUP(O13,女子種目コード!$J$1:$K$16,2,FALSE))))","v":""},{"$f":"IF(O13=\"\",\"\",HLOOKUP(O13,前年度登録!$AW$3:$CW$118,8,FALSE))","v":""},"","",null,{"$f":"IF(T13=\"\",\"\",IF(I13=1,VLOOKUP(T13,男子種目コード!$J$17:$K$19,2,FALSE),IF(I13=2,VLOOKUP(T13,女子種目コード!$J$17:$K$19,2,FALSE))))","v":""},null,"","",null,{"$f":"IF(Y13=\"\",\"\",IF(I13=1,VLOOKUP(Y13,男子種目コード!$D$2:$E$16,2,FALSE),IF(I13=2,VLOOKUP(Y13,女子種目コード!$D$2:$E$16,2,FALSE))))","v":""},null,null,{"$f":"IF(AB13=\"\",\"\",IF(I13=1,VLOOKUP(AB13,男子種目コード!$D$2:$E$16,2,FALSE),IF(I13=2,VLOOKUP(AB13,女子種目コード!$D$2:$E$16,2,FALSE))))","v":""},null,null,null,null,null,null,null,800,"","リレー記録記載欄",null,"オーダー",null,null,null,null,0,null,0,"","","","","","",{"$f":"VLookUpX(\"男子A\",$A$7:$F$116,6,5)","v":{"$error":"#N/A"}},{"$f":"VLookUpX(\"男子A\",$A$7:$F$116,6,6)","v":{"$error":"#N/A"}},{"$f":"VLookUpX(\"女子A\",$A$7:$F$116,6,5)","v":{"$error":"#N/A"}},{"$f":"VLookUpX(\"女子A\",$A$7:$F$116,6,6)","v":{"$error":"#N/A"}}]
[0,{"$f":"前年度登録!AE11","v":""},null,null,{"$f":"前年度登録!T11","v":0},{"$f":"前年度登録!DB11","v":""},{"$f":"前年度登録!AO11","v":""},{"$f":"前年度登録!DB11","v":""},{"$f":"前年度登録!AN11","v":""},{"$f":"前年度登録!DC11","v":""},{"$f":"前年度登録!DE11","v":0},{"$f":"前年度登録!DJ11","v":"00"},"三重",{"$f":"前年度登録!S11","v":0},null,{"$f":"IF(O14=\"\",\"\",IF(I14=1,VLOOKUP(O14,男子種目コード!$J$1:$K$16,2,FALSE),IF(I14=2,VLOOKUP(O14,女子種目コード!$J$1:$K$16,2,FALSE))))","v":""},{"$f":"IF(O14=\"\",\"\",HLOOKUP(O14,前年度登録!$AW$3:$CW$118,9,FALSE))","v":""},"","",null,{"$f":"IF(T14=\"\",\"\",IF(I14=1,VLOOKUP(T14,男子種目コード!$J$17:$K$19,2,FALSE),IF(I14=2,VLOOKUP(T14,女子種目コード!$J$17:$K$19,2,FALSE))))","v":""},null,"","",null,{"$f":"IF(Y14=\"\",\"\",IF(I14=1,VLOOKUP(Y14,男子種目コード!$D$2:$E$16,2,FALSE),IF(I14=2,VLOOKUP(Y14,女子種目コード!$D$2:$E$16,2,FALSE))))","v":""},null,null,{"$f":"IF(AB14=\"\",\"\",IF(I14=1,VLOOKUP(AB14,男子種目コード!$D$2:$E$16,2,FALSE),IF(I14=2,VLOOKUP(AB14,女子種目コード!$D$2:$E$16,2,FALSE))))","v":""},null,null,null,null,null,null,null,"*","","A",null,{"$f":"COUNTIF($T$7:$T$116,\"女子A\")","v":0},0,null,null,null,0,null,0,"","","男子4×100mR",null,"女子4×100mR"]
[0,{"$f":"前年度登録!AE12","v":""},null,null,{"$f":"前年度登録!T12","v":0},{"$f":"前年度登録!DB12","v":""},{"$f":"前年度登録!AO12","v":""},{"$f":"前年度登録!DB12","v":""},{"$f":"前年度登録!AN12","v":""},{"$f":"前年度登録!DC12","v":""},{"$f":"前年度登録!DE12","v":0},{"$f":"前年度登録!DJ12","v":"00"},"三重",{"$f":"前年度登録!S12","v":0},null,{"$f":"IF(O15=\"\",\"\",IF(I15=1,VLOOKUP(O15,男子種目コード!$J$1:$K$16,2,FALSE),IF(I15=2,VLOOKUP(O15,女子種目コード!$J$1:$K$16,2,FALSE))))","v":""},{"$f":"IF(O15=\"\",\"\",HLOOKUP(O15,前年度登録!$AW$3:$CW$118,10,FALSE))","v":""},"","",null,{"$f":"IF(T15=\"\",\"\",IF(I15=1,VLOOKUP(T15,男子種目コード!$J$17:$K$19,2,FALSE),IF(I15=2,VLOOKUP(T15,女子種目コード!$J$17:$K$19,2,FALSE))))","v":""},null,"","",null,{"$f":"IF(Y15=\"\",\"\",IF(I15=1,VLOOKUP(Y15,男子種目コード!$D$2:$E$16,2,FALSE),IF(I15=2,VLOOKUP(Y15,女子種目コード!$D$2:$E$16,2,FALSE))))","v":""},null,null,{"$f":"IF(AB15=\"\",\"\",IF(I15=1,VLOOKUP(AB15,男子種目コード!$D$2:$E$16,2,FALSE),IF(I15=2,VLOOKUP(AB15,女子種目コード!$D$2:$E$16,2,FALSE))))","v":""},null,null,null,null,null,null,null,"走幅跳","","B",null,{"$f":"COUNTIF($T$7:$T$116,\"女子B\")","v":0},0,null,null,null,0,null,0,"","","Ｂ",null,"Ｂ"]
[0,{"$f":"前年度登録!AE13","v":""},null,null,{"$f":"前年度登録!T13","v":0},{"$f":"前年度登録!DB13","v":""},{"$f":"前年度登録!AO13","v":""},{"$f":"前年度登録!DB13","v":""},{"$f":"前年度登録!AN13","v":""},{"$f":"前年度登録!DC13","v":""},{"$f":"前年度登録!DE13","v":0},{"$f":"前年度登録!DJ13","v":"00"},"三重",{"$f":"前年度登録!S13","v":0},null,{"$f":"IF(O16=\"\",\"\",IF(I16=1,VLOOKUP(O16,男子種目コード!$J$1:$K$16,2,FALSE),IF(I16=2,VLOOKUP(O16,女子種目コード!$J$1:$K$16,2,FALSE))))","v":""},{"$f":"IF(O16=\"\",\"\",HLOOKUP(O16,前年度登録!$AW$3:$CW$118,11,FALSE))","v":""},"","",null,{"$f":"IF(T16=\"\",\"\",IF(I16=1,VLOOKUP(T16,男子種目コード!$J$17:$K$19,2,FALSE),IF(I16=2,VLOOKUP(T16,女子種目コード!$J$17:$K$19,2,FALSE))))","v":""},null,"","",null,{"$f":"IF(Y16=\"\",\"\",IF(I16=1,VLOOKUP(Y16,男子種目コード!$D$2:$E$16,2,FALSE),IF(I16=2,VLOOKUP(Y16,女子種目コード!$D$2:$E$16,2,FALSE))))","v":""},null,null,{"$f":"IF(AB16=\"\",\"\",IF(I16=1,VLOOKUP(AB16,男子種目コード!$D$2:$E$16,2,FALSE),IF(I16=2,VLOOKUP(AB16,女子種目コード!$D$2:$E$16,2,FALSE))))","v":""},null,null,null,null,null,null,null,"砲丸投","","C",null,{"$f":"COUNTIF($T$7:$T$116,\"女子C\")","v":0},0,{"$f":"SUM(AP14:AP16)","v":0},null,null,0,null,0,"","",{"$f":"IF(ISERROR(BC16),\"\",BC16)","v":""},{"$f":"IF(ISERROR(BD16),\"\",BD16)","v":""},{"$f":"IF(ISERROR(BE16),\"\",BE16)","v":""},{"$f":"IF(ISERROR(BF16),\"\",BF16)","v":""},{"$f":"VLookUpX(\"男子B\",$A$7:$F$116,1,5)","v":{"$error":"#N/A"}},{"$f":"VLookUpX(\"男子B\",$A$7:$F$116,1,6)","v":{"$error":"#N/A"}},{"$f":"VLookUpX(\"女子B\",$A$7:$F$116,1,5)","v":{"$error":"#N/A"}},{"$f":"VLookUpX(\"女子B\",$A$7:$F$116,1,6)","v":{"$error":"#N/A"}}]
[0,{"$f":"前年度登録!AE14","v":""},null,null,{"$f":"前年度登録!T14","v":0},{"$f":"前年度登録!DB14","v":""},{"$f":"前年度登録!AO14","v":""},{"$f":"前年度登録!DB14","v":""},{"$f":"前年度登録!AN14","v":""},{"$f":"前年度登録!DC14","v":""},{"$f":"前年度登録!DE14","v":0},{"$f":"前年度登録!DJ14","v":"00"},"三重",{"$f":"前年度登録!S14","v":0},null,{"$f":"IF(O17=\"\",\"\",IF(I17=1,VLOOKUP(O17,男子種目コード!$J$1:$K$16,2,FALSE),IF(I17=2,VLOOKUP(O17,女子種目コード!$J$1:$K$16,2,FALSE))))","v":""},{"$f":"IF(O17=\"\",\"\",HLOOKUP(O17,前年度登録!$AW$3:$CW$118,12,FALSE))","v":""},"","",null,{"$f":"IF(T17=\"\",\"\",IF(I17=1,VLOOKUP(T17,男子種目コード!$J$17:$K$19,2,FALSE),IF(I17=2,VLOOKUP(T17,女子種目コード!$J$17:$K$19,2,FALSE))))","v":""},null,"","",null,{"$f":"IF(Y17=\"\",\"\",IF(I17=1,VLOOKUP(Y17,男子種目コード!$D$2:$E$16,2,FALSE),IF(I17=2,VLOOKUP(Y17,女子種目コード!$D$2:$E$16,2,FALSE))))","v":""},null,null,{"$f":"IF(AB17=\"\",\"\",IF(I17=1,VLOOKUP(AB17,男子種目コード!$D$2:$E$16,2,FALSE),IF(I17=2,VLOOKUP(AB17,女子種目コード!$D$2:$E$16,2,FALSE))))","v":""},null,null,null,null,null,null,null,"ｼﾞｬﾍﾞﾘｯｸ","","種目別人数",null,null,{"$f":"SUM(AP9:AP16)","v":0},null,null,null,0,null,0,"","",{"$f":"IF(ISERROR(BC17),\"\",BC17)","v":""},"",{"$f":"IF(ISERROR(BE17),\"\",BE17)","v":""},"",{"$f":"VLookUpX(\"男子B\",$A$7:$F$116,2,5)","v":{"$error":"#N/A"}},{"$f":"VLookUpX(\"男子B\",$A$7:$F$116,2,6)","v":{"$error":"#N/A"}},{"$f":"VLookUpX(\"女子B\",$A$7:$F$116,2,5)","v":{"$error":"#N/A"}},{"$f":"VLookUpX(\"女子B\",$A$7:$F$116,2,6)","v":{"$error":"#N/A"}}]
[0,{"$f":"前年度登録!AE15","v":""},null,null,{"$f":"前年度登録!T15","v":0},{"$f":"前年度登録!DB15","v":""},{"$f":"前年度登録!AO15","v":""},{"$f":"前年度登録!DB15","v":""},{"$f":"前年度登録!AN15","v":""},{"$f":"前年度登録!DC15","v":""},{"$f":"前年度登録!DE15","v":0},{"$f":"前年度登録!DJ15","v":"00"},"三重",{"$f":"前年度登録!S15","v":0},null,{"$f":"IF(O18=\"\",\"\",IF(I18=1,VLOOKUP(O18,男子種目コード!$J$1:$K$16,2,FALSE),IF(I18=2,VLOOKUP(O18,女子種目コード!$J$1:$K$16,2,FALSE))))","v":""},{"$f":"IF(O18=\"\",\"\",HLOOKUP(O18,前年度登録!$AW$3:$CW$118,13,FALSE))","v":""},"","",null,{"$f":"IF(T18=\"\",\"\",IF(I18=1,VLOOKUP(T18,男子種目コード!$J$17:$K$19,2,FALSE),IF(I18=2,VLOOKUP(T18,女子種目コード!$J$17:$K$19,2,FALSE))))","v":""},null,"","",null,{"$f":"IF(Y18=\"\",\"\",IF(I18=1,VLOOKUP(Y18,男子種目コード!$D$2:$E$16,2,FALSE),IF(I18=2,VLOOKUP(Y18,女子種目コード!$D$2:$E$16,2,FALSE))))","v":""},null,null,{"$f":"IF(AB18=\"\",\"\",IF(I18=1,VLOOKUP(AB18,男子種目コード!$D$2:$E$16,2,FALSE),IF(I18=2,VLOOKUP(AB18,女子種目コード!$D$2:$E$16,2,FALSE))))","v":""},null,null,null,null,null,null,null,"男子A","","男子",null,null,null,null,null,null,0,null,0,"","","","","","",{"$f":"VLookUpX(\"男子B\",$A$7:$F$116,3,5)","v":{"$error":"#N/A"}},{"$f":"VLookUpX(\"男子B\",$A$7:$F$116,3,6)","v":{"$error":"#N/A"}},{"$f":"VLookUpX(\"女子B\",$A$7:$F$116,3,5)","v":{"$error":"#N/A"}},{"$f":"VLookUpX(\"女子B\",$A$7:$F$116,3,6)","v":{"$error":"#N/A"}}]
[0,{"$f":"前年度登録!AE16","v":""},null,null,{"$f":"前年度登録!T16","v":0},{"$f":"前年度登録!DB16","v":""},{"$f":"前年度登録!AO16","v":""},{"$f":"前年度登録!DB16","v":""},{"$f":"前年度登録!AN16","v":""},{"$f":"前年度登録!DC16","v":""},{"$f":"前年度登録!DE16","v":0},{"$f":"前年度登録!DJ16","v":"00"},"三重",{"$f":"前年度登録!S16","v":0},null,{"$f":"IF(O19=\"\",\"\",IF(I19=1,VLOOKUP(O19,男子種目コード!$J$1:$K$16,2,FALSE),IF(I19=2,VLOOKUP(O19,女子種目コード!$J$1:$K$16,2,FALSE))))","v":""},{"$f":"IF(O19=\"\",\"\",HLOOKUP(O19,前年度登録!$AW$3:$CW$118,14,FALSE))","v":""},"","",null,{"$f":"IF(T19=\"\",\"\",IF(I19=1,VLOOKUP(T19,男子種目コード!$J$17:$K$19,2,FALSE),IF(I19=2,VLOOKUP(T19,女子種目コード!$J$17:$K$19,2,FALSE))))","v":""},null,"","",null,{"$f":"IF(Y19=\"\",\"\",IF(I19=1,VLOOKUP(Y19,男子種目コード!$D$2:$E$16,2,FALSE),IF(I19=2,VLOOKUP(Y19,女子種目コード!$D$2:$E$16,2,FALSE))))","v":""},null,null,{"$f":"IF(AB19=\"\",\"\",IF(I19=1,VLOOKUP(AB19,男子種目コード!$D$2:$E$16,2,FALSE),IF(I19=2,VLOOKUP(AB19,女子種目コード!$D$2:$E$16,2,FALSE))))","v":""},null,null,null,null,null,null,null,"男子B","",100,{"$f":"COUNTIF($P$7:$P$116,101)","v":0},null,null,null,null,null,0,null,0,"","","","","","",{"$f":"VLookUpX(\"男子B\",$A$7:$F$116,4,5)","v":{"$error":"#N/A"}},{"$f":"VLookUpX(\"男子B\",$A$7:$F$116,4,6)","v":{"$error":"#N/A"}},{"$f":"VLookUpX(\"女子B\",$A$7:$F$116,4,5)","v":{"$error":"#N/A"}},{"$f":"VLookUpX(\"女子B\",$A$7:$F$116,4,6)","v":{"$error":"#N/A"}}]
[0,{"$f":"前年度登録!AE17","v":""},null,null,{"$f":"前年度登録!T17","v":0},{"$f":"前年度登録!DB17","v":""},{"$f":"前年度登録!AO17","v":""},{"$f":"前年度登録!DB17","v":""},{"$f":"前年度登録!AN17","v":""},{"$f":"前年度登録!DC17","v":""},{"$f":"前年度登録!DE17","v":0},{"$f":"前年度登録!DJ17","v":"00"},"三重",{"$f":"前年度登録!S17","v":0},null,{"$f":"IF(O20=\"\",\"\",IF(I20=1,VLOOKUP(O20,男子種目コード!$J$1:$K$16,2,FALSE),IF(I20=2,VLOOKUP(O20,女子種目コード!$J$1:$K$16,2,FALSE))))","v":""},{"$f":"IF(O20=\"\",\"\",HLOOKUP(O20,前年度登録!$AW$3:$CW$118,15,FALSE))","v":""},"","",null,{"$f":"IF(T20=\"\",\"\",IF(I20=1,VLOOKUP(T20,男子種目コード!$J$17:$K$19,2,FALSE),IF(I20=2,VLOOKUP(T20,女子種目コード!$J$17:$K$19,2,FALSE))))","v":""},null,"","",null,{"$f":"IF(Y20=\"\",\"\",IF(I20=1,VLOOKUP(Y20,男子種目コード!$D$2:$E$16,2,FALSE),IF(I20=2,VLOOKUP(Y20,女子種目コード!$D$2:$E$16,2,FALSE))))","v":""},null,null,{"$f":"IF(AB20=\"\",\"\",IF(I20=1,VLOOKUP(AB20,男子種目コード!$D$2:$E$16,2,FALSE),IF(I20=2,VLOOKUP(AB20,女子種目コード!$D$2:$E$16,2,FALSE))))","v":""},null,null,null,null,null,null,null,"男子C","",1500,{"$f":"COUNTIF($P$7:$P$116,102)","v":0},null,null,null,null,null,0,null,0,"","","","","","",{"$f":"VLookUpX(\"男子B\",$A$7:$F$116,5,5)","v":{"$error":"#N/A"}},{"$f":"VLookUpX(\"男子B\",$A$7:$F$116,5,6)","v":{"$error":"#N/A"}},{"$f":"VLookUpX(\"女子B\",$A$7:$F$116,5,5)","v":{"$error":"#N/A"}},{"$f":"VLookUpX(\"女子B\",$A$7:$F$116,5,6)","v":{"$error":"#N/A"}}]
[0,{"$f":"前年度登録!AE18","v":""},null,null,{"$f":"前年度登録!T18","v":0},{"$f":"前年度登録!DB18","v":""},{"$f":"前年度登録!AO18","v":""},{"$f":"前年度登録!DB18","v":""},{"$f":"前年度登録!AN18","v":""},{"$f":"前年度登録!DC18","v":""},{"$f":"前年度登録!DE18","v":0},{"$f":"前年度登録!DJ18","v":"00"},"三重",{"$f":"前年度登録!S18","v":0},null,{"$f":"IF(O21=\"\",\"\",IF(I21=1,VLOOKUP(O21,男子種目コード!$J$1:$K$16,2,FALSE),IF(I21=2,VLOOKUP(O21,女子種目コード!$J$1:$K$16,2,FALSE))))","v":""},{"$f":"IF(O21=\"\",\"\",HLOOKUP(O21,前年度登録!$AW$3:$CW$118,16,FALSE))","v":""},"","",null,{"$f":"IF(T21=\"\",\"\",IF(I21=1,VLOOKUP(T21,男子種目コード!$J$17:$K$19,2,FALSE),IF(I21=2,VLOOKUP(T21,女子種目コード!$J$17:$K$19,2,FALSE))))","v":""},null,"","",null,{"$f":"IF(Y21=\"\",\"\",IF(I21=1,VLOOKUP(Y21,男子種目コード!$D$2:$E$16,2,FALSE),IF(I21=2,VLOOKUP(Y21,女子種目コード!$D$2:$E$16,2,FALSE))))","v":""},null,null,{"$f":"IF(AB21=\"\",\"\",IF(I21=1,VLOOKUP(AB21,男子種目コード!$D$2:$E$16,2,FALSE),IF(I21=2,VLOOKUP(AB21,女子種目コード!$D$2:$E$16,2,FALSE))))","v":""},null,null,null,null,null,null,null,"女子A","","*",{"$f":"COUNTIF($P$7:$P$116,104)","v":0},null,null,null,null,null,0,null,0,"","","","","","",{"$f":"VLookUpX(\"男子B\",$A$7:$F$116,6,5)","v":{"$error":"#N/A"}},{"$f":"VLookUpX(\"男子B\",$A$7:$F$116,6,6)","v":{"$error":"#N/A"}},{"$f":"VLookUpX(\"女子B\",$A$7:$F$116,6,5)","v":{"$error":"#N/A"}},{"$f":"VLookUpX(\"女子B\",$A$7:$F$116,6,6)","v":{"$error":"#N/A"}}]
[0,{"$f":"前年度登録!AE19","v":""},null,null,{"$f":"前年度登録!T19","v":0},{"$f":"前年度登録!DB19","v":""},{"$f":"前年度登録!AO19","v":""},{"$f":"前年度登録!DB19","v":""},{"$f":"前年度登録!AN19","v":""},{"$f":"前年度登録!DC19","v":""},{"$f":"前年度登録!DE19","v":0},{"$f":"前年度登録!DJ19","v":"00"},"三重",{"$f":"前年度登録!S19","v":0},null,{"$f":"IF(O22=\"\",\"\",IF(I22=1,VLOOKUP(O22,男子種目コード!$J$1:$K$16,2,FALSE),IF(I22=2,VLOOKUP(O22,女子種目コード!$J$1:$K$16,2,FALSE))))","v":""},{"$f":"IF(O22=\"\",\"\",HLOOKUP(O22,前年度登録!$AW$3:$CW$118,17,FALSE))","v":""},"","",null,{"$f":"IF(T22=\"\",\"\",IF(I22=1,VLOOKUP(T22,男子種目コード!$J$17:$K$19,2,FALSE),IF(I22=2,VLOOKUP(T22,女子種目コード!$J$17:$K$19,2,FALSE))))","v":""},null,"","",null,{"$f":"IF(Y22=\"\",\"\",IF(I22=1,VLOOKUP(Y22,男子種目コード!$D$2:$E$16,2,FALSE),IF(I22=2,VLOOKUP(Y22,女子種目コード!$D$2:$E$16,2,FALSE))))","v":""},null,null,{"$f":"IF(AB22=\"\",\"\",IF(I22=1,VLOOKUP(AB22,男子種目コード!$D$2:$E$16,2,FALSE),IF(I22=2,VLOOKUP(AB22,女子種目コード!$D$2:$E$16,2,FALSE))))","v":""},null,null,null,null,null,null,null,"女子B","","走幅跳",{"$f":"COUNTIF($P$7:$P$116,105)","v":0},null,null,null,null,null,0,null,0,"","","男子4×100mR",null,"女子4×100mR"]
[0,{"$f":"前年度登録!AE20","v":""},null,null,{"$f":"前年度登録!T20","v":0},{"$f":"前年度登録!DB20","v":""},{"$f":"前年度登録!AO20","v":""},{"$f":"前年度登録!DB20","v":""},{"$f":"前年度登録!AN20","v":""},{"$f":"前年度登録!DC20","v":""},{"$f":"前年度登録!DE20","v":0},{"$f":"前年度登録!DJ20","v":"00"},"三重",{"$f":"前年度登録!S20","v":0},null,{"$f":"IF(O23=\"\",\"\",IF(I23=1,VLOOKUP(O23,男子種目コード!$J$1:$K$16,2,FALSE),IF(I23=2,VLOOKUP(O23,女子種目コード!$J$1:$K$16,2,FALSE))))","v":""},{"$f":"IF(O23=\"\",\"\",HLOOKUP(O23,前年度登録!$AW$3:$CW$118,18,FALSE))","v":""},"","",null,{"$f":"IF(T23=\"\",\"\",IF(I23=1,VLOOKUP(T23,男子種目コード!$J$17:$K$19,2,FALSE),IF(I23=2,VLOOKUP(T23,女子種目コード!$J$17:$K$19,2,FALSE))))","v":""},null,"","",null,{"$f":"IF(Y23=\"\",\"\",IF(I23=1,VLOOKUP(Y23,男子種目コード!$D$2:$E$16,2,FALSE),IF(I23=2,VLOOKUP(Y23,女子種目コード!$D$2:$E$16,2,FALSE))))","v":""},null,null,{"$f":"IF(AB23=\"\",\"\",IF(I23=1,VLOOKUP(AB23,男子種目コード!$D$2:$E$16,2,FALSE),IF(I23=2,VLOOKUP(AB23,女子種目コード!$D$2:$E$16,2,FALSE))))","v":""},null,null,null,null,null,null,null,"女子C","","砲丸投",{"$f":"COUNTIF($P$7:$P$116,106)","v":0},null,null,null,null,null,0,null,0,"","","Ｃ",null,"Ｃ"]
[0,{"$f":"前年度登録!AE21","v":""},null,null,{"$f":"前年度登録!T21","v":0},{"$f":"前年度登録!DB21","v":""},{"$f":"前年度登録!AO21","v":""},{"$f":"前年度登録!DB21","v":""},{"$f":"前年度登録!AN21","v":""},{"$f":"前年度登録!DC21","v":""},{"$f":"前年度登録!DE21","v":0},{"$f":"前年度登録!DJ21","v":"00"},"三重",{"$f":"前年度登録!S21","v":0},null,{"$f":"IF(O24=\"\",\"\",IF(I24=1,VLOOKUP(O24,男子種目コード!$J$1:$K$16,2,FALSE),IF(I24=2,VLOOKUP(O24,女子種目コード!$J$1:$K$16,2,FALSE))))","v":""},{"$f":"IF(O24=\"\",\"\",HLOOKUP(O24,前年度登録!$AW$3:$CW$118,19,FALSE))","v":""},"","",null,{"$f":"IF(T24=\"\",\"\",IF(I24=1,VLOOKUP(T24,男子種目コード!$J$17:$K$19,2,FALSE),IF(I24=2,VLOOKUP(T24,女子種目コード!$J$17:$K$19,2,FALSE))))","v":""},null,"","",null,{"$f":"IF(Y24=\"\",\"\",IF(I24=1,VLOOKUP(Y24,男子種目コード!$D$2:$E$16,2,FALSE),IF(I24=2,VLOOKUP(Y24,女子種目コード!$D$2:$E$16,2,FALSE))))","v":""},null,null,{"$f":"IF(AB24=\"\",\"\",IF(I24=1,VLOOKUP(AB24,男子種目コード!$D$2:$E$16,2,FALSE),IF(I24=2,VLOOKUP(AB24,女子種目コード!$D$2:$E$16,2,FALSE))))","v":""},null,null,null,null,null,null,null,null,"","ｼﾞｬﾍﾞﾘｯｸ",{"$f":"COUNTIF($P$7:$P$116,107)","v":0},null,null,null,null,null,0,null,0,"","",{"$f":"IF(ISERROR(BC24),\"\",BC24)","v":""},{"$f":"IF(ISERROR(BD24),\"\",BD24)","v":""},{"$f":"IF(ISERROR(BE24),\"\",BE24)","v":""},{"$f":"IF(ISERROR(BF24),\"\",BF24)","v":""},{"$f":"VLookUpX(\"男子C\",$A$7:$F$116,1,5)","v":{"$error":"#N/A"}},{"$f":"VLookUpX(\"男子C\",$A$7:$F$116,1,6)","v":{"$error":"#N/A"}},{"$f":"VLookUpX(\"女子C\",$A$7:$F$116,1,5)","v":{"$error":"#N/A"}},{"$f":"VLookUpX(\"女子C\",$A$7:$F$116,1,6)","v":{"$error":"#N/A"}}]
[0,{"$f":"前年度登録!AE22","v":""},null,null,{"$f":"前年度登録!T22","v":0},{"$f":"前年度登録!DB22","v":""},{"$f":"前年度登録!AO22","v":""},{"$f":"前年度登録!DB22","v":""},{"$f":"前年度登録!AN22","v":""},{"$f":"前年度登録!DC22","v":""},{"$f":"前年度登録!DE22","v":0},{"$f":"前年度登録!DJ22","v":"00"},"三重",{"$f":"前年度登録!S22","v":0},null,{"$f":"IF(O25=\"\",\"\",IF(I25=1,VLOOKUP(O25,男子種目コード!$J$1:$K$16,2,FALSE),IF(I25=2,VLOOKUP(O25,女子種目コード!$J$1:$K$16,2,FALSE))))","v":""},{"$f":"IF(O25=\"\",\"\",HLOOKUP(O25,前年度登録!$AW$3:$CW$118,20,FALSE))","v":""},"","",null,{"$f":"IF(T25=\"\",\"\",IF(I25=1,VLOOKUP(T25,男子種目コード!$J$17:$K$19,2,FALSE),IF(I25=2,VLOOKUP(T25,女子種目コード!$J$17:$K$19,2,FALSE))))","v":""},null,"","",null,{"$f":"IF(Y25=\"\",\"\",IF(I25=1,VLOOKUP(Y25,男子種目コード!$D$2:$E$16,2,FALSE),IF(I25=2,VLOOKUP(Y25,女子種目コード!$D$2:$E$16,2,FALSE))))","v":""},null,null,{"$f":"IF(AB25=\"\",\"\",IF(I25=1,VLOOKUP(AB25,男子種目コード!$D$2:$E$16,2,FALSE),IF(I25=2,VLOOKUP(AB25,女子種目コード!$D$2:$E$16,2,FALSE))))","v":""},null,null,null,null,null,null,null,null,"","計",{"$f":"SUM(AN19:AN24)","v":0},null,null,null,null,null,0,null,0,"","",{"$f":"IF(ISERROR(BC25),\"\",BC25)","v":""},"",{"$f":"IF(ISERROR(BE25),\"\",BE25)","v":""},"",{"$f":"VLookUpX(\"男子C\",$A$7:$F$116,2,5)","v":{"$error":"#N/A"}},{"$f":"VLookUpX(\"男子C\",$A$7:$F$116,2,6)","v":{"$error":"#N/A"}},{"$f":"VLookUpX(\"女子C\",$A$7:$F$116,2,5)","v":{"$error":"#N/A"}},{"$f":"VLookUpX(\"女子C\",$A$7:$F$116,2,6)","v":{"$error":"#N/A"}}]
[0,{"$f":"前年度登録!AE23","v":""},null,null,{"$f":"前年度登録!T23","v":0},{"$f":"前年度登録!DB23","v":""},{"$f":"前年度登録!AO23","v":""},{"$f":"前年度登録!DB23","v":""},{"$f":"前年度登録!AN23","v":""},{"$f":"前年度登録!DC23","v":""},{"$f":"前年度登録!DE23","v":0},{"$f":"前年度登録!DJ23","v":"00"},"三重",{"$f":"前年度登録!S23","v":0},null,{"$f":"IF(O26=\"\",\"\",IF(I26=1,VLOOKUP(O26,男子種目コード!$J$1:$K$16,2,FALSE),IF(I26=2,VLOOKUP(O26,女子種目コード!$J$1:$K$16,2,FALSE))))","v":""},{"$f":"IF(O26=\"\",\"\",HLOOKUP(O26,前年度登録!$AW$3:$CW$118,21,FALSE))","v":""},"","",null,{"$f":"IF(T26=\"\",\"\",IF(I26=1,VLOOKUP(T26,男子種目コード!$J$17:$K$19,2,FALSE),IF(I26=2,VLOOKUP(T26,女子種目コード!$J$17:$K$19,2,FALSE))))","v":""},null,"","",null,{"$f":"IF(Y26=\"\",\"\",IF(I26=1,VLOOKUP(Y26,男子種目コード!$D$2:$E$16,2,FALSE),IF(I26=2,VLOOKUP(Y26,女子種目コード!$D$2:$E$16,2,FALSE))))","v":""},null,null,{"$f":"IF(AB26=\"\",\"\",IF(I26=1,VLOOKUP(AB26,男子種目コード!$D$2:$E$16,2,FALSE),IF(I26=2,VLOOKUP(AB26,女子種目コード!$D$2:$E$16,2,FALSE))))","v":""},null,null,null,null,null,null,null,null,"","女子",null,null,null,null,null,null,0,null,0,"","","","","","",{"$f":"VLookUpX(\"男子C\",$A$7:$F$116,3,5)","v":{"$error":"#N/A"}},{"$f":"VLookUpX(\"男子C\",$A$7:$F$116,3,6)","v":{"$error":"#N/A"}},{"$f":"VLookUpX(\"女子C\",$A$7:$F$116,3,5)","v":{"$error":"#N/A"}},{"$f":"VLookUpX(\"女子C\",$A$7:$F$116,3,6)","v":{"$error":"#N/A"}}]
[0,{"$f":"前年度登録!AE24","v":""},null,null,{"$f":"前年度登録!T24","v":0},{"$f":"前年度登録!DB24","v":""},{"$f":"前年度登録!AO24","v":""},{"$f":"前年度登録!DB24","v":""},{"$f":"前年度登録!AN24","v":""},{"$f":"前年度登録!DC24","v":""},{"$f":"前年度登録!DE24","v":0},{"$f":"前年度登録!DJ24","v":"00"},"三重",{"$f":"前年度登録!S24","v":0},null,{"$f":"IF(O27=\"\",\"\",IF(I27=1,VLOOKUP(O27,男子種目コード!$J$1:$K$16,2,FALSE),IF(I27=2,VLOOKUP(O27,女子種目コード!$J$1:$K$16,2,FALSE))))","v":""},{"$f":"IF(O27=\"\",\"\",HLOOKUP(O27,前年度登録!$AW$3:$CW$118,22,FALSE))","v":""},"","",null,{"$f":"IF(T27=\"\",\"\",IF(I27=1,VLOOKUP(T27,男子種目コード!$J$17:$K$19,2,FALSE),IF(I27=2,VLOOKUP(T27,女子種目コード!$J$17:$K$19,2,FALSE))))","v":""},null,"","",null,{"$f":"IF(Y27=\"\",\"\",IF(I27=1,VLOOKUP(Y27,男子種目コード!$D$2:$E$16,2,FALSE),IF(I27=2,VLOOKUP(Y27,女子種目コード!$D$2:$E$16,2,FALSE))))","v":""},null,null,{"$f":"IF(AB27=\"\",\"\",IF(I27=1,VLOOKUP(AB27,男子種目コード!$D$2:$E$16,2,FALSE),IF(I27=2,VLOOKUP(AB27,女子種目コード!$D$2:$E$16,2,FALSE))))","v":""},null,null,null,null,null,null,null,null,"",100,{"$f":"COUNTIF($P$7:$P$116,110)","v":0},null,null,null,null,null,0,null,0,"","","","","","",{"$f":"VLookUpX(\"男子C\",$A$7:$F$116,4,5)","v":{"$error":"#N/A"}},{"$f":"VLookUpX(\"男子C\",$A$7:$F$116,4,6)","v":{"$error":"#N/A"}},{"$f":"VLookUpX(\"女子C\",$A$7:$F$116,4,5)","v":{"$error":"#N/A"}},{"$f":"VLookUpX(\"女子C\",$A$7:$F$116,4,6)","v":{"$error":"#N/A"}}]
[0,{"$f":"前年度登録!AE25","v":""},null,null,{"$f":"前年度登録!T25","v":0},{"$f":"前年度登録!DB25","v":""},{"$f":"前年度登録!AO25","v":""},{"$f":"前年度登録!DB25","v":""},{"$f":"前年度登録!AN25","v":""},{"$f":"前年度登録!DC25","v":""},{"$f":"前年度登録!DE25","v":0},{"$f":"前年度登録!DJ25","v":"00"},"三重",{"$f":"前年度登録!S25","v":0},null,{"$f":"IF(O28=\"\",\"\",IF(I28=1,VLOOKUP(O28,男子種目コード!$J$1:$K$16,2,FALSE),IF(I28=2,VLOOKUP(O28,女子種目コード!$J$1:$K$16,2,FALSE))))","v":""},{"$f":"IF(O28=\"\",\"\",HLOOKUP(O28,前年度登録!$AW$3:$CW$118,23,FALSE))","v":""},"","",null,{"$f":"IF(T28=\"\",\"\",IF(I28=1,VLOOKUP(T28,男子種目コード!$J$17:$K$19,2,FALSE),IF(I28=2,VLOOKUP(T28,女子種目コード!$J$17:$K$19,2,FALSE))))","v":""},null,"","",null,{"$f":"IF(Y28=\"\",\"\",IF(I28=1,VLOOKUP(Y28,男子種目コード!$D$2:$E$16,2,FALSE),IF(I28=2,VLOOKUP(Y28,女子種目コード!$D$2:$E$16,2,FALSE))))","v":""},null,null,{"$f":"IF(AB28=\"\",\"\",IF(I28=1,VLOOKUP(AB28,男子種目コード!$D$2:$E$16,2,FALSE),IF(I28=2,VLOOKUP(AB28,女子種目コード!$D$2:$E$16,2,FALSE))))","v":""},null,null,null,null,null,null,null,null,"",800,{"$f":"COUNTIF($P$7:$P$116,111)","v":0},null,null,null,null,null,0,null,0,"","","","","","",{"$f":"VLookUpX(\"男子C\",$A$7:$F$116,5,5)","v":{"$error":"#N/A"}},{"$f":"VLookUpX(\"男子C\",$A$7:$F$116,5,6)","v":{"$error":"#N/A"}},{"$f":"VLookUpX(\"女子C\",$A$7:$F$116,5,5)","v":{"$error":"#N/A"}},{"$f":"VLookUpX(\"女子C\",$A$7:$F$116,5,6)","v":{"$error":"#N/A"}}]
[0,{"$f":"前年度登録!AE26","v":""},null,null,{"$f":"前年度登録!T26","v":0},{"$f":"前年度登録!DB26","v":""},{"$f":"前年度登録!AO26","v":""},{"$f":"前年度登録!DB26","v":""},{"$f":"前年度登録!AN26","v":""},{"$f":"前年度登録!DC26","v":""},{"$f":"前年度登録!DE26","v":0},{"$f":"前年度登録!DJ26","v":"00"},"三重",{"$f":"前年度登録!S26","v":0},null,{"$f":"IF(O29=\"\",\"\",IF(I29=1,VLOOKUP(O29,男子種目コード!$J$1:$K$16,2,FALSE),IF(I29=2,VLOOKUP(O29,女子種目コード!$J$1:$K$16,2,FALSE))))","v":""},{"$f":"IF(O29=\"\",\"\",HLOOKUP(O29,前年度登録!$AW$3:$CW$118,24,FALSE))","v":""},"","",null,{"$f":"IF(T29=\"\",\"\",IF(I29=1,VLOOKUP(T29,男子種目コード!$J$17:$K$19,2,FALSE),IF(I29=2,VLOOKUP(T29,女子種目コード!$J$17:$K$19,2,FALSE))))","v":""},null,"","",null,{"$f":"IF(Y29=\"\",\"\",IF(I29=1,VLOOKUP(Y29,男子種目コード!$D$2:$E$16,2,FALSE),IF(I29=2,VLOOKUP(Y29,女子種目コード!$D$2:$E$16,2,FALSE))))","v":""},null,null,{"$f":"IF(AB29=\"\",\"\",IF(I29=1,VLOOKUP(AB29,男子種目コード!$D$2:$E$16,2,FALSE),IF(I29=2,VLOOKUP(AB29,女子種目コード!$D$2:$E$16,2,FALSE))))","v":""},null,null,null,null,null,null,null,null,"","*",{"$f":"COUNTIF($P$7:$P$116,113)","v":0},null,null,null,null,null,0,null,0,"","","","","","",{"$f":"VLookUpX(\"男子C\",$A$7:$F$116,6,5)","v":{"$error":"#N/A"}},{"$f":"VLookUpX(\"男子C\",$A$7:$F$116,6,6)","v":{"$error":"#N/A"}},{"$f":"VLookUpX(\"女子C\",$A$7:$F$116,6,5)","v":{"$error":"#N/A"}},{"$f":"VLookUpX(\"女子C\",$A$7:$F$116,6,6)","v":{"$error":"#N/A"}}]
[0,{"$f":"前年度登録!AE27","v":""},null,null,{"$f":"前年度登録!T27","v":0},{"$f":"前年度登録!DB27","v":""},{"$f":"前年度登録!AO27","v":""},{"$f":"前年度登録!DB27","v":""},{"$f":"前年度登録!AN27","v":""},{"$f":"前年度登録!DC27","v":""},{"$f":"前年度登録!DE27","v":0},{"$f":"前年度登録!DJ27","v":"00"},"三重",{"$f":"前年度登録!S27","v":0},null,{"$f":"IF(O30=\"\",\"\",IF(I30=1,VLOOKUP(O30,男子種目コード!$J$1:$K$16,2,FALSE),IF(I30=2,VLOOKUP(O30,女子種目コード!$J$1:$K$16,2,FALSE))))","v":""},{"$f":"IF(O30=\"\",\"\",HLOOKUP(O30,前年度登録!$AW$3:$CW$118,25,FALSE))","v":""},"","",null,{"$f":"IF(T30=\"\",\"\",IF(I30=1,VLOOKUP(T30,男子種目コード!$J$17:$K$19,2,FALSE),IF(I30=2,VLOOKUP(T30,女子種目コード!$J$17:$K$19,2,FALSE))))","v":""},null,"","",null,{"$f":"IF(Y30=\"\",\"\",IF(I30=1,VLOOKUP(Y30,男子種目コード!$D$2:$E$16,2,FALSE),IF(I30=2,VLOOKUP(Y30,女子種目コード!$D$2:$E$16,2,FALSE))))","v":""},null,null,{"$f":"IF(AB30=\"\",\"\",IF(I30=1,VLOOKUP(AB30,男子種目コード!$D$2:$E$16,2,FALSE),IF(I30=2,VLOOKUP(AB30,女子種目コード!$D$2:$E$16,2,FALSE))))","v":""},null,null,null,null,null,null,null,null,"","走幅跳",{"$f":"COUNTIF($P$7:$P$116,114)","v":0},null,null,null,null,null,0,null,0,"",""]
[0,{"$f":"前年度登録!AE28","v":""},null,null,{"$f":"前年度登録!T28","v":0},{"$f":"前年度登録!DB28","v":""},{"$f":"前年度登録!AO28","v":""},{"$f":"前年度登録!DB28","v":""},{"$f":"前年度登録!AN28","v":""},{"$f":"前年度登録!DC28","v":""},{"$f":"前年度登録!DE28","v":0},{"$f":"前年度登録!DJ28","v":"00"},"三重",{"$f":"前年度登録!S28","v":0},null,{"$f":"IF(O31=\"\",\"\",IF(I31=1,VLOOKUP(O31,男子種目コード!$J$1:$K$16,2,FALSE),IF(I31=2,VLOOKUP(O31,女子種目コード!$J$1:$K$16,2,FALSE))))","v":""},{"$f":"IF(O31=\"\",\"\",HLOOKUP(O31,前年度登録!$AW$3:$CW$118,26,FALSE))","v":""},"","",null,{"$f":"IF(T31=\"\",\"\",IF(I31=1,VLOOKUP(T31,男子種目コード!$J$17:$K$19,2,FALSE),IF(I31=2,VLOOKUP(T31,女子種目コード!$J$17:$K$19,2,FALSE))))","v":""},null,"","",null,{"$f":"IF(Y31=\"\",\"\",IF(I31=1,VLOOKUP(Y31,男子種目コード!$D$2:$E$16,2,FALSE),IF(I31=2,VLOOKUP(Y31,女子種目コード!$D$2:$E$16,2,FALSE))))","v":""},null,null,{"$f":"IF(AB31=\"\",\"\",IF(I31=1,VLOOKUP(AB31,男子種目コード!$D$2:$E$16,2,FALSE),IF(I31=2,VLOOKUP(AB31,女子種目コード!$D$2:$E$16,2,FALSE))))","v":""},null,null,null,null,null,null,null,null,"","砲丸投",{"$f":"COUNTIF($P$7:$P$116,115)","v":0},null,null,null,null,null,0,null,0,"",""]
[0,{"$f":"前年度登録!AE29","v":""},null,null,{"$f":"前年度登録!T29","v":0},{"$f":"前年度登録!DB29","v":""},{"$f":"前年度登録!AO29","v":""},{"$f":"前年度登録!DB29","v":""},{"$f":"前年度登録!AN29","v":""},{"$f":"前年度登録!DC29","v":""},{"$f":"前年度登録!DE29","v":0},{"$f":"前年度登録!DJ29","v":"00"},"三重",{"$f":"前年度登録!S29","v":0},null,{"$f":"IF(O32=\"\",\"\",IF(I32=1,VLOOKUP(O32,男子種目コード!$J$1:$K$16,2,FALSE),IF(I32=2,VLOOKUP(O32,女子種目コード!$J$1:$K$16,2,FALSE))))","v":""},{"$f":"IF(O32=\"\",\"\",HLOOKUP(O32,前年度登録!$AW$3:$CW$118,27,FALSE))","v":""},"","",null,{"$f":"IF(T32=\"\",\"\",IF(I32=1,VLOOKUP(T32,男子種目コード!$J$17:$K$19,2,FALSE),IF(I32=2,VLOOKUP(T32,女子種目コード!$J$17:$K$19,2,FALSE))))","v":""},null,"","",null,{"$f":"IF(Y32=\"\",\"\",IF(I32=1,VLOOKUP(Y32,男子種目コード!$D$2:$E$16,2,FALSE),IF(I32=2,VLOOKUP(Y32,女子種目コード!$D$2:$E$16,2,FALSE))))","v":""},null,null,{"$f":"IF(AB32=\"\",\"\",IF(I32=1,VLOOKUP(AB32,男子種目コード!$D$2:$E$16,2,FALSE),IF(I32=2,VLOOKUP(AB32,女子種目コード!$D$2:$E$16,2,FALSE))))","v":""},null,null,null,null,null,null,null,null,"","ｼﾞｬﾍﾞﾘｯｸ",{"$f":"COUNTIF($P$7:$P$116,116)","v":0},null,null,null,null,null,0,null,0,"",""]
[0,{"$f":"前年度登録!AE30","v":""},null,null,{"$f":"前年度登録!T30","v":0},{"$f":"前年度登録!DB30","v":""},{"$f":"前年度登録!AO30","v":""},{"$f":"前年度登録!DB30","v":""},{"$f":"前年度登録!AN30","v":""},{"$f":"前年度登録!DC30","v":""},{"$f":"前年度登録!DE30","v":0},{"$f":"前年度登録!DJ30","v":"00"},"三重",{"$f":"前年度登録!S30","v":0},null,{"$f":"IF(O33=\"\",\"\",IF(I33=1,VLOOKUP(O33,男子種目コード!$J$1:$K$16,2,FALSE),IF(I33=2,VLOOKUP(O33,女子種目コード!$J$1:$K$16,2,FALSE))))","v":""},{"$f":"IF(O33=\"\",\"\",HLOOKUP(O33,前年度登録!$AW$3:$CW$118,28,FALSE))","v":""},"","",null,{"$f":"IF(T33=\"\",\"\",IF(I33=1,VLOOKUP(T33,男子種目コード!$J$17:$K$19,2,FALSE),IF(I33=2,VLOOKUP(T33,女子種目コード!$J$17:$K$19,2,FALSE))))","v":""},null,"","",null,{"$f":"IF(Y33=\"\",\"\",IF(I33=1,VLOOKUP(Y33,男子種目コード!$D$2:$E$16,2,FALSE),IF(I33=2,VLOOKUP(Y33,女子種目コード!$D$2:$E$16,2,FALSE))))","v":""},null,null,{"$f":"IF(AB33=\"\",\"\",IF(I33=1,VLOOKUP(AB33,男子種目コード!$D$2:$E$16,2,FALSE),IF(I33=2,VLOOKUP(AB33,女子種目コード!$D$2:$E$16,2,FALSE))))","v":""},null,null,null,null,null,null,null,null,"","計",{"$f":"SUM(AN27:AN32)","v":0},null,null,null,null,null,0,null,0,"",""]
[0,{"$f":"前年度登録!AE31","v":""},null,null,{"$f":"前年度登録!T31","v":0},{"$f":"前年度登録!DB31","v":""},{"$f":"前年度登録!AO31","v":""},{"$f":"前年度登録!DB31","v":""},{"$f":"前年度登録!AN31","v":""},{"$f":"前年度登録!DC31","v":""},{"$f":"前年度登録!DE31","v":0},{"$f":"前年度登録!DJ31","v":"00"},"三重",{"$f":"前年度登録!S31","v":0},null,{"$f":"IF(O34=\"\",\"\",IF(I34=1,VLOOKUP(O34,男子種目コード!$J$1:$K$16,2,FALSE),IF(I34=2,VLOOKUP(O34,女子種目コード!$J$1:$K$16,2,FALSE))))","v":""},{"$f":"IF(O34=\"\",\"\",HLOOKUP(O34,前年度登録!$AW$3:$CW$118,29,FALSE))","v":""},"","",null,{"$f":"IF(T34=\"\",\"\",IF(I34=1,VLOOKUP(T34,男子種目コード!$J$17:$K$19,2,FALSE),IF(I34=2,VLOOKUP(T34,女子種目コード!$J$17:$K$19,2,FALSE))))","v":""},null,"","",null,{"$f":"IF(Y34=\"\",\"\",IF(I34=1,VLOOKUP(Y34,男子種目コード!$D$2:$E$16,2,FALSE),IF(I34=2,VLOOKUP(Y34,女子種目コード!$D$2:$E$16,2,FALSE))))","v":""},null,null,{"$f":"IF(AB34=\"\",\"\",IF(I34=1,VLOOKUP(AB34,男子種目コード!$D$2:$E$16,2,FALSE),IF(I34=2,VLOOKUP(AB34,女子種目コード!$D$2:$E$16,2,FALSE))))","v":""},null,null,null,null,null,null,null,null,"",null,null,null,null,null,null,null,0,null,0,"",""]
[0,{"$f":"前年度登録!AE32","v":""},null,null,{"$f":"前年度登録!T32","v":0},{"$f":"前年度登録!DB32","v":""},{"$f":"前年度登録!AO32","v":""},{"$f":"前年度登録!DB32","v":""},{"$f":"前年度登録!AN32","v":""},{"$f":"前年度登録!DC32","v":""},{"$f":"前年度登録!DE32","v":0},{"$f":"前年度登録!DJ32","v":"00"},"三重",{"$f":"前年度登録!S32","v":0},null,{"$f":"IF(O35=\"\",\"\",IF(I35=1,VLOOKUP(O35,男子種目コード!$J$1:$K$16,2,FALSE),IF(I35=2,VLOOKUP(O35,女子種目コード!$J$1:$K$16,2,FALSE))))","v":""},{"$f":"IF(O35=\"\",\"\",HLOOKUP(O35,前年度登録!$AW$3:$CW$118,30,FALSE))","v":""},"","",null,{"$f":"IF(T35=\"\",\"\",IF(I35=1,VLOOKUP(T35,男子種目コード!$J$17:$K$19,2,FALSE),IF(I35=2,VLOOKUP(T35,女子種目コード!$J$17:$K$19,2,FALSE))))","v":""},null,"","",null,{"$f":"IF(Y35=\"\",\"\",IF(I35=1,VLOOKUP(Y35,男子種目コード!$D$2:$E$16,2,FALSE),IF(I35=2,VLOOKUP(Y35,女子種目コード!$D$2:$E$16,2,FALSE))))","v":""},null,null,{"$f":"IF(AB35=\"\",\"\",IF(I35=1,VLOOKUP(AB35,男子種目コード!$D$2:$E$16,2,FALSE),IF(I35=2,VLOOKUP(AB35,女子種目コード!$D$2:$E$16,2,FALSE))))","v":""},null,null,null,null,null,null,null,null,"","100ｍ参加資格",null,null,null,null,null,null,0,null,0,"",""]
[0,{"$f":"前年度登録!AE33","v":""},null,null,{"$f":"前年度登録!T33","v":0},{"$f":"前年度登録!DB33","v":""},{"$f":"前年度登録!AO33","v":""},{"$f":"前年度登録!DB33","v":""},{"$f":"前年度登録!AN33","v":""},{"$f":"前年度登録!DC33","v":""},{"$f":"前年度登録!DE33","v":0},{"$f":"前年度登録!DJ33","v":"00"},"三重",{"$f":"前年度登録!S33","v":0},null,{"$f":"IF(O36=\"\",\"\",IF(I36=1,VLOOKUP(O36,男子種目コード!$J$1:$K$16,2,FALSE),IF(I36=2,VLOOKUP(O36,女子種目コード!$J$1:$K$16,2,FALSE))))","v":""},{"$f":"IF(O36=\"\",\"\",HLOOKUP(O36,前年度登録!$AW$3:$CW$118,31,FALSE))","v":""},"","",null,{"$f":"IF(T36=\"\",\"\",IF(I36=1,VLOOKUP(T36,男子種目コード!$J$17:$K$19,2,FALSE),IF(I36=2,VLOOKUP(T36,女子種目コード!$J$17:$K$19,2,FALSE))))","v":""},null,"","",null,{"$f":"IF(Y36=\"\",\"\",IF(I36=1,VLOOKUP(Y36,男子種目コード!$D$2:$E$16,2,FALSE),IF(I36=2,VLOOKUP(Y36,女子種目コード!$D$2:$E$16,2,FALSE))))","v":""},null,null,{"$f":"IF(AB36=\"\",\"\",IF(I36=1,VLOOKUP(AB36,男子種目コード!$D$2:$E$16,2,FALSE),IF(I36=2,VLOOKUP(AB36,女子種目コード!$D$2:$E$16,2,FALSE))))","v":""},null,null,null,null,null,null,null,null,"","男子",12.81,null,null,null,null,null,0,null,0,"",""]
[0,{"$f":"前年度登録!AE34","v":""},null,null,{"$f":"前年度登録!T34","v":0},{"$f":"前年度登録!DB34","v":""},{"$f":"前年度登録!AO34","v":""},{"$f":"前年度登録!DB34","v":""},{"$f":"前年度登録!AN34","v":""},{"$f":"前年度登録!DC34","v":""},{"$f":"前年度登録!DE34","v":0},{"$f":"前年度登録!DJ34","v":"00"},"三重",{"$f":"前年度登録!S34","v":0},null,{"$f":"IF(O37=\"\",\"\",IF(I37=1,VLOOKUP(O37,男子種目コード!$J$1:$K$16,2,FALSE),IF(I37=2,VLOOKUP(O37,女子種目コード!$J$1:$K$16,2,FALSE))))","v":""},{"$f":"IF(O37=\"\",\"\",HLOOKUP(O37,前年度登録!$AW$3:$CW$118,32,FALSE))","v":""},"","",null,{"$f":"IF(T37=\"\",\"\",IF(I37=1,VLOOKUP(T37,男子種目コード!$J$17:$K$19,2,FALSE),IF(I37=2,VLOOKUP(T37,女子種目コード!$J$17:$K$19,2,FALSE))))","v":""},null,"","",null,{"$f":"IF(Y37=\"\",\"\",IF(I37=1,VLOOKUP(Y37,男子種目コード!$D$2:$E$16,2,FALSE),IF(I37=2,VLOOKUP(Y37,女子種目コード!$D$2:$E$16,2,FALSE))))","v":""},null,null,{"$f":"IF(AB37=\"\",\"\",IF(I37=1,VLOOKUP(AB37,男子種目コード!$D$2:$E$16,2,FALSE),IF(I37=2,VLOOKUP(AB37,女子種目コード!$D$2:$E$16,2,FALSE))))","v":""},null,null,null,null,null,null,null,null,"","女子",14.22,null,null,null,null,null,0,null,0,"",""]
[0,{"$f":"前年度登録!AE35","v":""},null,null,{"$f":"前年度登録!T35","v":0},{"$f":"前年度登録!DB35","v":""},{"$f":"前年度登録!AO35","v":""},{"$f":"前年度登録!DB35","v":""},{"$f":"前年度登録!AN35","v":""},{"$f":"前年度登録!DC35","v":""},{"$f":"前年度登録!DE35","v":0},{"$f":"前年度登録!DJ35","v":"00"},"三重",{"$f":"前年度登録!S35","v":0},null,{"$f":"IF(O38=\"\",\"\",IF(I38=1,VLOOKUP(O38,男子種目コード!$J$1:$K$16,2,FALSE),IF(I38=2,VLOOKUP(O38,女子種目コード!$J$1:$K$16,2,FALSE))))","v":""},{"$f":"IF(O38=\"\",\"\",HLOOKUP(O38,前年度登録!$AW$3:$CW$118,33,FALSE))","v":""},"","",null,{"$f":"IF(T38=\"\",\"\",IF(I38=1,VLOOKUP(T38,男子種目コード!$J$17:$K$19,2,FALSE),IF(I38=2,VLOOKUP(T38,女子種目コード!$J$17:$K$19,2,FALSE))))","v":""},null,"","",null,{"$f":"IF(Y38=\"\",\"\",IF(I38=1,VLOOKUP(Y38,男子種目コード!$D$2:$E$16,2,FALSE),IF(I38=2,VLOOKUP(Y38,女子種目コード!$D$2:$E$16,2,FALSE))))","v":""},null,null,{"$f":"IF(AB38=\"\",\"\",IF(I38=1,VLOOKUP(AB38,男子種目コード!$D$2:$E$16,2,FALSE),IF(I38=2,VLOOKUP(AB38,女子種目コード!$D$2:$E$16,2,FALSE))))","v":""},null,null,null,null,null,null,null,null,"",null,null,null,null,null,null,null,0,null,0,"",""]
[0,{"$f":"前年度登録!AE36","v":""},null,null,{"$f":"前年度登録!T36","v":0},{"$f":"前年度登録!DB36","v":""},{"$f":"前年度登録!AO36","v":""},{"$f":"前年度登録!DB36","v":""},{"$f":"前年度登録!AN36","v":""},{"$f":"前年度登録!DC36","v":""},{"$f":"前年度登録!DE36","v":0},{"$f":"前年度登録!DJ36","v":"00"},"三重",{"$f":"前年度登録!S36","v":0},null,{"$f":"IF(O39=\"\",\"\",IF(I39=1,VLOOKUP(O39,男子種目コード!$J$1:$K$16,2,FALSE),IF(I39=2,VLOOKUP(O39,女子種目コード!$J$1:$K$16,2,FALSE))))","v":""},{"$f":"IF(O39=\"\",\"\",HLOOKUP(O39,前年度登録!$AW$3:$CW$118,34,FALSE))","v":""},"","",null,{"$f":"IF(T39=\"\",\"\",IF(I39=1,VLOOKUP(T39,男子種目コード!$J$17:$K$19,2,FALSE),IF(I39=2,VLOOKUP(T39,女子種目コード!$J$17:$K$19,2,FALSE))))","v":""},null,"","",null,{"$f":"IF(Y39=\"\",\"\",IF(I39=1,VLOOKUP(Y39,男子種目コード!$D$2:$E$16,2,FALSE),IF(I39=2,VLOOKUP(Y39,女子種目コード!$D$2:$E$16,2,FALSE))))","v":""},null,null,{"$f":"IF(AB39=\"\",\"\",IF(I39=1,VLOOKUP(AB39,男子種目コード!$D$2:$E$16,2,FALSE),IF(I39=2,VLOOKUP(AB39,女子種目コード!$D$2:$E$16,2,FALSE))))","v":""},null,null,null,null,null,null,null,null,"",null,null,null,null,null,null,null,{"$f":"IF(OR(AL39=1,T39=\"\"),0,1)","v":0},null,{"$f":"COUNT(P39,U39)","v":0},{"$f":"IF(I39=1,AV39,\"\")","v":""},{"$f":"IF(I39=2,AV39,\"\")","v":""}]
[0,{"$f":"前年度登録!AE37","v":""},null,null,{"$f":"前年度登録!T37","v":0},{"$f":"前年度登録!DB37","v":""},{"$f":"前年度登録!AO37","v":""},{"$f":"前年度登録!DB37","v":""},{"$f":"前年度登録!AN37","v":""},{"$f":"前年度登録!DC37","v":""},{"$f":"前年度登録!DE37","v":0},{"$f":"前年度登録!DJ37","v":"00"},"三重",{"$f":"前年度登録!S37","v":0},null,{"$f":"IF(O40=\"\",\"\",IF(I40=1,VLOOKUP(O40,男子種目コード!$J$1:$K$16,2,FALSE),IF(I40=2,VLOOKUP(O40,女子種目コード!$J$1:$K$16,2,FALSE))))","v":""},{"$f":"IF(O40=\"\",\"\",HLOOKUP(O40,前年度登録!$AW$3:$CW$118,35,FALSE))","v":""},"","",null,{"$f":"IF(T40=\"\",\"\",IF(I40=1,VLOOKUP(T40,男子種目コード!$J$17:$K$19,2,FALSE),IF(I40=2,VLOOKUP(T40,女子種目コード!$J$17:$K$19,2,FALSE))))","v":""},null,"","",null,{"$f":"IF(Y40=\"\",\"\",IF(I40=1,VLOOKUP(Y40,男子種目コード!$D$2:$E$16,2,FALSE),IF(I40=2,VLOOKUP(Y40,女子種目コード!$D$2:$E$16,2,FALSE))))","v":""},null,null,{"$f":"IF(AB40=\"\",\"\",IF(I40=1,VLOOKUP(AB40,男子種目コード!$D$2:$E$16,2,FALSE),IF(I40=2,VLOOKUP(AB40,女子種目コード!$D$2:$E$16,2,FALSE))))","v":""},null,null,null,null,null,null,null,null,"",null,null,null,null,null,null,null,0,null,0,"",""]
[0,{"$f":"前年度登録!AE38","v":""},null,null,{"$f":"前年度登録!T38","v":0},{"$f":"前年度登録!DB38","v":""},{"$f":"前年度登録!AO38","v":""},{"$f":"前年度登録!DB38","v":""},{"$f":"前年度登録!AN38","v":""},{"$f":"前年度登録!DC38","v":""},{"$f":"前年度登録!DE38","v":0},{"$f":"前年度登録!DJ38","v":"00"},"三重",{"$f":"前年度登録!S38","v":0},null,{"$f":"IF(O41=\"\",\"\",IF(I41=1,VLOOKUP(O41,男子種目コード!$J$1:$K$16,2,FALSE),IF(I41=2,VLOOKUP(O41,女子種目コード!$J$1:$K$16,2,FALSE))))","v":""},{"$f":"IF(O41=\"\",\"\",HLOOKUP(O41,前年度登録!$AW$3:$CW$118,36,FALSE))","v":""},"","",null,{"$f":"IF(T41=\"\",\"\",IF(I41=1,VLOOKUP(T41,男子種目コード!$J$17:$K$19,2,FALSE),IF(I41=2,VLOOKUP(T41,女子種目コード!$J$17:$K$19,2,FALSE))))","v":""},null,"","",null,{"$f":"IF(Y41=\"\",\"\",IF(I41=1,VLOOKUP(Y41,男子種目コード!$D$2:$E$16,2,FALSE),IF(I41=2,VLOOKUP(Y41,女子種目コード!$D$2:$E$16,2,FALSE))))","v":""},null,null,{"$f":"IF(AB41=\"\",\"\",IF(I41=1,VLOOKUP(AB41,男子種目コード!$D$2:$E$16,2,FALSE),IF(I41=2,VLOOKUP(AB41,女子種目コード!$D$2:$E$16,2,FALSE))))","v":""},null,null,null,null,null,null,null,null,"",null,null,null,null,null,null,null,0,null,0,"",""]
[0,{"$f":"前年度登録!AE39","v":""},null,null,{"$f":"前年度登録!T39","v":0},{"$f":"前年度登録!DB39","v":""},{"$f":"前年度登録!AO39","v":""},{"$f":"前年度登録!DB39","v":""},{"$f":"前年度登録!AN39","v":""},{"$f":"前年度登録!DC39","v":""},{"$f":"前年度登録!DE39","v":0},{"$f":"前年度登録!DJ39","v":"00"},"三重",{"$f":"前年度登録!S39","v":0},null,{"$f":"IF(O42=\"\",\"\",IF(I42=1,VLOOKUP(O42,男子種目コード!$J$1:$K$16,2,FALSE),IF(I42=2,VLOOKUP(O42,女子種目コード!$J$1:$K$16,2,FALSE))))","v":""},{"$f":"IF(O42=\"\",\"\",HLOOKUP(O42,前年度登録!$AW$3:$CW$118,37,FALSE))","v":""},"","",null,{"$f":"IF(T42=\"\",\"\",IF(I42=1,VLOOKUP(T42,男子種目コード!$J$17:$K$19,2,FALSE),IF(I42=2,VLOOKUP(T42,女子種目コード!$J$17:$K$19,2,FALSE))))","v":""},null,"","",null,{"$f":"IF(Y42=\"\",\"\",IF(I42=1,VLOOKUP(Y42,男子種目コード!$D$2:$E$16,2,FALSE),IF(I42=2,VLOOKUP(Y42,女子種目コード!$D$2:$E$16,2,FALSE))))","v":""},null,null,{"$f":"IF(AB42=\"\",\"\",IF(I42=1,VLOOKUP(AB42,男子種目コード!$D$2:$E$16,2,FALSE),IF(I42=2,VLOOKUP(AB42,女子種目コード!$D$2:$E$16,2,FALSE))))","v":""},null,null,null,null,null,null,null,null,"",null,null,null,null,null,null,null,0,null,0,"",""]
[0,{"$f":"前年度登録!AE40","v":""},null,null,{"$f":"前年度登録!T40","v":0},{"$f":"前年度登録!DB40","v":""},{"$f":"前年度登録!AO40","v":""},{"$f":"前年度登録!DB40","v":""},{"$f":"前年度登録!AN40","v":""},{"$f":"前年度登録!DC40","v":""},{"$f":"前年度登録!DE40","v":0},{"$f":"前年度登録!DJ40","v":"00"},"三重",{"$f":"前年度登録!S40","v":0},null,{"$f":"IF(O43=\"\",\"\",IF(I43=1,VLOOKUP(O43,男子種目コード!$J$1:$K$16,2,FALSE),IF(I43=2,VLOOKUP(O43,女子種目コード!$J$1:$K$16,2,FALSE))))","v":""},{"$f":"IF(O43=\"\",\"\",HLOOKUP(O43,前年度登録!$AW$3:$CW$118,38,FALSE))","v":""},"","",null,{"$f":"IF(T43=\"\",\"\",IF(I43=1,VLOOKUP(T43,男子種目コード!$J$17:$K$19,2,FALSE),IF(I43=2,VLOOKUP(T43,女子種目コード!$J$17:$K$19,2,FALSE))))","v":""},null,"","",null,{"$f":"IF(Y43=\"\",\"\",IF(I43=1,VLOOKUP(Y43,男子種目コード!$D$2:$E$16,2,FALSE),IF(I43=2,VLOOKUP(Y43,女子種目コード!$D$2:$E$16,2,FALSE))))","v":""},null,null,{"$f":"IF(AB43=\"\",\"\",IF(I43=1,VLOOKUP(AB43,男子種目コード!$D$2:$E$16,2,FALSE),IF(I43=2,VLOOKUP(AB43,女子種目コード!$D$2:$E$16,2,FALSE))))","v":""},null,null,null,null,null,null,null,null,"",null,null,null,null,null,null,null,0,null,0,"",""]
[0,{"$f":"前年度登録!AE41","v":""},null,null,{"$f":"前年度登録!T41","v":0},{"$f":"前年度登録!DB41","v":""},{"$f":"前年度登録!AO41","v":""},{"$f":"前年度登録!DB41","v":""},{"$f":"前年度登録!AN41","v":""},{"$f":"前年度登録!DC41","v":""},{"$f":"前年度登録!DE41","v":0},{"$f":"前年度登録!DJ41","v":"00"},"三重",{"$f":"前年度登録!S41","v":0},null,{"$f":"IF(O44=\"\",\"\",IF(I44=1,VLOOKUP(O44,男子種目コード!$J$1:$K$16,2,FALSE),IF(I44=2,VLOOKUP(O44,女子種目コード!$J$1:$K$16,2,FALSE))))","v":""},{"$f":"IF(O44=\"\",\"\",HLOOKUP(O44,前年度登録!$AW$3:$CW$118,39,FALSE))","v":""},"","",null,{"$f":"IF(T44=\"\",\"\",IF(I44=1,VLOOKUP(T44,男子種目コード!$J$17:$K$19,2,FALSE),IF(I44=2,VLOOKUP(T44,女子種目コード!$J$17:$K$19,2,FALSE))))","v":""},null,"","",null,{"$f":"IF(Y44=\"\",\"\",IF(I44=1,VLOOKUP(Y44,男子種目コード!$D$2:$E$16,2,FALSE),IF(I44=2,VLOOKUP(Y44,女子種目コード!$D$2:$E$16,2,FALSE))))","v":""},null,null,{"$f":"IF(AB44=\"\",\"\",IF(I44=1,VLOOKUP(AB44,男子種目コード!$D$2:$E$16,2,FALSE),IF(I44=2,VLOOKUP(AB44,女子種目コード!$D$2:$E$16,2,FALSE))))","v":""},null,null,null,null,null,null,null,null,"",null,null,null,null,null,null,null,0,null,0,"",""]
[0,{"$f":"前年度登録!AE42","v":""},null,null,{"$f":"前年度登録!T42","v":0},{"$f":"前年度登録!DB42","v":""},{"$f":"前年度登録!AO42","v":""},{"$f":"前年度登録!DB42","v":""},{"$f":"前年度登録!AN42","v":""},{"$f":"前年度登録!DC42","v":""},{"$f":"前年度登録!DE42","v":0},{"$f":"前年度登録!DJ42","v":"00"},"三重",{"$f":"前年度登録!S42","v":0},null,{"$f":"IF(O45=\"\",\"\",IF(I45=1,VLOOKUP(O45,男子種目コード!$J$1:$K$16,2,FALSE),IF(I45=2,VLOOKUP(O45,女子種目コード!$J$1:$K$16,2,FALSE))))","v":""},{"$f":"IF(O45=\"\",\"\",HLOOKUP(O45,前年度登録!$AW$3:$CW$118,40,FALSE))","v":""},"","",null,{"$f":"IF(T45=\"\",\"\",IF(I45=1,VLOOKUP(T45,男子種目コード!$J$17:$K$19,2,FALSE),IF(I45=2,VLOOKUP(T45,女子種目コード!$J$17:$K$19,2,FALSE))))","v":""},null,"","",null,{"$f":"IF(Y45=\"\",\"\",IF(I45=1,VLOOKUP(Y45,男子種目コード!$D$2:$E$16,2,FALSE),IF(I45=2,VLOOKUP(Y45,女子種目コード!$D$2:$E$16,2,FALSE))))","v":""},null,null,{"$f":"IF(AB45=\"\",\"\",IF(I45=1,VLOOKUP(AB45,男子種目コード!$D$2:$E$16,2,FALSE),IF(I45=2,VLOOKUP(AB45,女子種目コード!$D$2:$E$16,2,FALSE))))","v":""},null,null,null,null,null,null,null,null,"",null,null,null,null,null,null,null,0,null,0,"",""]
[0,{"$f":"前年度登録!AE43","v":""},null,null,{"$f":"前年度登録!T43","v":0},{"$f":"前年度登録!DB43","v":""},{"$f":"前年度登録!AO43","v":""},{"$f":"前年度登録!DB43","v":""},{"$f":"前年度登録!AN43","v":""},{"$f":"前年度登録!DC43","v":""},{"$f":"前年度登録!DE43","v":0},{"$f":"前年度登録!DJ43","v":"00"},"三重",{"$f":"前年度登録!S43","v":0},null,{"$f":"IF(O46=\"\",\"\",IF(I46=1,VLOOKUP(O46,男子種目コード!$J$1:$K$16,2,FALSE),IF(I46=2,VLOOKUP(O46,女子種目コード!$J$1:$K$16,2,FALSE))))","v":""},{"$f":"IF(O46=\"\",\"\",HLOOKUP(O46,前年度登録!$AW$3:$CW$118,41,FALSE))","v":""},"","",null,{"$f":"IF(T46=\"\",\"\",IF(I46=1,VLOOKUP(T46,男子種目コード!$J$17:$K$19,2,FALSE),IF(I46=2,VLOOKUP(T46,女子種目コード!$J$17:$K$19,2,FALSE))))","v":""},null,"","",null,{"$f":"IF(Y46=\"\",\"\",IF(I46=1,VLOOKUP(Y46,男子種目コード!$D$2:$E$16,2,FALSE),IF(I46=2,VLOOKUP(Y46,女子種目コード!$D$2:$E$16,2,FALSE))))","v":""},null,null,{"$f":"IF(AB46=\"\",\"\",IF(I46=1,VLOOKUP(AB46,男子種目コード!$D$2:$E$16,2,FALSE),IF(I46=2,VLOOKUP(AB46,女子種目コード!$D$2:$E$16,2,FALSE))))","v":""},null,null,null,null,null,null,null,null,"",null,null,null,null,null,null,null,0,null,0,"",""]
[0,{"$f":"前年度登録!AE44","v":""},null,null,{"$f":"前年度登録!T44","v":0},{"$f":"前年度登録!DB44","v":""},{"$f":"前年度登録!AO44","v":""},{"$f":"前年度登録!DB44","v":""},{"$f":"前年度登録!AN44","v":""},{"$f":"前年度登録!DC44","v":""},{"$f":"前年度登録!DE44","v":0},{"$f":"前年度登録!DJ44","v":"00"},"三重",{"$f":"前年度登録!S44","v":0},null,{"$f":"IF(O47=\"\",\"\",IF(I47=1,VLOOKUP(O47,男子種目コード!$J$1:$K$16,2,FALSE),IF(I47=2,VLOOKUP(O47,女子種目コード!$J$1:$K$16,2,FALSE))))","v":""},{"$f":"IF(O47=\"\",\"\",HLOOKUP(O47,前年度登録!$AW$3:$CW$118,42,FALSE))","v":""},"","",null,{"$f":"IF(T47=\"\",\"\",IF(I47=1,VLOOKUP(T47,男子種目コード!$J$17:$K$19,2,FALSE),IF(I47=2,VLOOKUP(T47,女子種目コード!$J$17:$K$19,2,FALSE))))","v":""},null,"","",null,{"$f":"IF(Y47=\"\",\"\",IF(I47=1,VLOOKUP(Y47,男子種目コード!$D$2:$E$16,2,FALSE),IF(I47=2,VLOOKUP(Y47,女子種目コード!$D$2:$E$16,2,FALSE))))","v":""},null,null,{"$f":"IF(AB47=\"\",\"\",IF(I47=1,VLOOKUP(AB47,男子種目コード!$D$2:$E$16,2,FALSE),IF(I47=2,VLOOKUP(AB47,女子種目コード!$D$2:$E$16,2,FALSE))))","v":""},null,null,null,null,null,null,null,null,"",null,null,null,null,null,null,null,0,null,0,"",""]
[0,{"$f":"前年度登録!AE45","v":""},null,null,{"$f":"前年度登録!T45","v":0},{"$f":"前年度登録!DB45","v":""},{"$f":"前年度登録!AO45","v":""},{"$f":"前年度登録!DB45","v":""},{"$f":"前年度登録!AN45","v":""},{"$f":"前年度登録!DC45","v":""},{"$f":"前年度登録!DE45","v":0},{"$f":"前年度登録!DJ45","v":"00"},"三重",{"$f":"前年度登録!S45","v":0},null,{"$f":"IF(O48=\"\",\"\",IF(I48=1,VLOOKUP(O48,男子種目コード!$J$1:$K$16,2,FALSE),IF(I48=2,VLOOKUP(O48,女子種目コード!$J$1:$K$16,2,FALSE))))","v":""},{"$f":"IF(O48=\"\",\"\",HLOOKUP(O48,前年度登録!$AW$3:$CW$118,43,FALSE))","v":""},"","",null,{"$f":"IF(T48=\"\",\"\",IF(I48=1,VLOOKUP(T48,男子種目コード!$J$17:$K$19,2,FALSE),IF(I48=2,VLOOKUP(T48,女子種目コード!$J$17:$K$19,2,FALSE))))","v":""},null,"","",null,{"$f":"IF(Y48=\"\",\"\",IF(I48=1,VLOOKUP(Y48,男子種目コード!$D$2:$E$16,2,FALSE),IF(I48=2,VLOOKUP(Y48,女子種目コード!$D$2:$E$16,2,FALSE))))","v":""},null,null,{"$f":"IF(AB48=\"\",\"\",IF(I48=1,VLOOKUP(AB48,男子種目コード!$D$2:$E$16,2,FALSE),IF(I48=2,VLOOKUP(AB48,女子種目コード!$D$2:$E$16,2,FALSE))))","v":""},null,null,null,null,null,null,null,null,"",null,null,null,null,null,null,null,0,null,0,"",""]
[0,{"$f":"前年度登録!AE46","v":""},null,null,{"$f":"前年度登録!T46","v":0},{"$f":"前年度登録!DB46","v":""},{"$f":"前年度登録!AO46","v":""},{"$f":"前年度登録!DB46","v":""},{"$f":"前年度登録!AN46","v":""},{"$f":"前年度登録!DC46","v":""},{"$f":"前年度登録!DE46","v":0},{"$f":"前年度登録!DJ46","v":"00"},"三重",{"$f":"前年度登録!S46","v":0},null,{"$f":"IF(O49=\"\",\"\",IF(I49=1,VLOOKUP(O49,男子種目コード!$J$1:$K$16,2,FALSE),IF(I49=2,VLOOKUP(O49,女子種目コード!$J$1:$K$16,2,FALSE))))","v":""},{"$f":"IF(O49=\"\",\"\",HLOOKUP(O49,前年度登録!$AW$3:$CW$118,44,FALSE))","v":""},"","",null,{"$f":"IF(T49=\"\",\"\",IF(I49=1,VLOOKUP(T49,男子種目コード!$J$17:$K$19,2,FALSE),IF(I49=2,VLOOKUP(T49,女子種目コード!$J$17:$K$19,2,FALSE))))","v":""},null,"","",null,{"$f":"IF(Y49=\"\",\"\",IF(I49=1,VLOOKUP(Y49,男子種目コード!$D$2:$E$16,2,FALSE),IF(I49=2,VLOOKUP(Y49,女子種目コード!$D$2:$E$16,2,FALSE))))","v":""},null,null,{"$f":"IF(AB49=\"\",\"\",IF(I49=1,VLOOKUP(AB49,男子種目コード!$D$2:$E$16,2,FALSE),IF(I49=2,VLOOKUP(AB49,女子種目コード!$D$2:$E$16,2,FALSE))))","v":""},null,null,null,null,null,null,null,null,"",null,null,null,null,null,null,null,0,null,0,"",""]
[0,{"$f":"前年度登録!AE47","v":""},null,null,{"$f":"前年度登録!T47","v":0},{"$f":"前年度登録!DB47","v":""},{"$f":"前年度登録!AO47","v":""},{"$f":"前年度登録!DB47","v":""},{"$f":"前年度登録!AN47","v":""},{"$f":"前年度登録!DC47","v":""},{"$f":"前年度登録!DE47","v":0},{"$f":"前年度登録!DJ47","v":"00"},"三重",{"$f":"前年度登録!S47","v":0},null,{"$f":"IF(O50=\"\",\"\",IF(I50=1,VLOOKUP(O50,男子種目コード!$J$1:$K$16,2,FALSE),IF(I50=2,VLOOKUP(O50,女子種目コード!$J$1:$K$16,2,FALSE))))","v":""},{"$f":"IF(O50=\"\",\"\",HLOOKUP(O50,前年度登録!$AW$3:$CW$118,45,FALSE))","v":""},"","",null,{"$f":"IF(T50=\"\",\"\",IF(I50=1,VLOOKUP(T50,男子種目コード!$J$17:$K$19,2,FALSE),IF(I50=2,VLOOKUP(T50,女子種目コード!$J$17:$K$19,2,FALSE))))","v":""},null,"","",null,{"$f":"IF(Y50=\"\",\"\",IF(I50=1,VLOOKUP(Y50,男子種目コード!$D$2:$E$16,2,FALSE),IF(I50=2,VLOOKUP(Y50,女子種目コード!$D$2:$E$16,2,FALSE))))","v":""},null,null,{"$f":"IF(AB50=\"\",\"\",IF(I50=1,VLOOKUP(AB50,男子種目コード!$D$2:$E$16,2,FALSE),IF(I50=2,VLOOKUP(AB50,女子種目コード!$D$2:$E$16,2,FALSE))))","v":""},null,null,null,null,null,null,null,null,"",null,null,null,null,null,null,null,0,null,0,"",""]
[0,{"$f":"前年度登録!AE48","v":""},null,null,{"$f":"前年度登録!T48","v":0},{"$f":"前年度登録!DB48","v":""},{"$f":"前年度登録!AO48","v":""},{"$f":"前年度登録!DB48","v":""},{"$f":"前年度登録!AN48","v":""},{"$f":"前年度登録!DC48","v":""},{"$f":"前年度登録!DE48","v":0},{"$f":"前年度登録!DJ48","v":"00"},"三重",{"$f":"前年度登録!S48","v":0},null,{"$f":"IF(O51=\"\",\"\",IF(I51=1,VLOOKUP(O51,男子種目コード!$J$1:$K$16,2,FALSE),IF(I51=2,VLOOKUP(O51,女子種目コード!$J$1:$K$16,2,FALSE))))","v":""},{"$f":"IF(O51=\"\",\"\",HLOOKUP(O51,前年度登録!$AW$3:$CW$118,46,FALSE))","v":""},"","",null,{"$f":"IF(T51=\"\",\"\",IF(I51=1,VLOOKUP(T51,男子種目コード!$J$17:$K$19,2,FALSE),IF(I51=2,VLOOKUP(T51,女子種目コード!$J$17:$K$19,2,FALSE))))","v":""},null,"","",null,{"$f":"IF(Y51=\"\",\"\",IF(I51=1,VLOOKUP(Y51,男子種目コード!$D$2:$E$16,2,FALSE),IF(I51=2,VLOOKUP(Y51,女子種目コード!$D$2:$E$16,2,FALSE))))","v":""},null,null,{"$f":"IF(AB51=\"\",\"\",IF(I51=1,VLOOKUP(AB51,男子種目コード!$D$2:$E$16,2,FALSE),IF(I51=2,VLOOKUP(AB51,女子種目コード!$D$2:$E$16,2,FALSE))))","v":""},null,null,null,null,null,null,null,null,"",null,null,null,null,null,null,null,0,null,0,"",""]
[0,{"$f":"前年度登録!AE49","v":""},null,null,{"$f":"前年度登録!T49","v":0},{"$f":"前年度登録!DB49","v":""},{"$f":"前年度登録!AO49","v":""},{"$f":"前年度登録!DB49","v":""},{"$f":"前年度登録!AN49","v":""},{"$f":"前年度登録!DC49","v":""},{"$f":"前年度登録!DE49","v":0},{"$f":"前年度登録!DJ49","v":"00"},"三重",{"$f":"前年度登録!S49","v":0},null,{"$f":"IF(O52=\"\",\"\",IF(I52=1,VLOOKUP(O52,男子種目コード!$J$1:$K$16,2,FALSE),IF(I52=2,VLOOKUP(O52,女子種目コード!$J$1:$K$16,2,FALSE))))","v":""},{"$f":"IF(O52=\"\",\"\",HLOOKUP(O52,前年度登録!$AW$3:$CW$118,47,FALSE))","v":""},"","",null,{"$f":"IF(T52=\"\",\"\",IF(I52=1,VLOOKUP(T52,男子種目コード!$J$17:$K$19,2,FALSE),IF(I52=2,VLOOKUP(T52,女子種目コード!$J$17:$K$19,2,FALSE))))","v":""},null,"","",null,{"$f":"IF(Y52=\"\",\"\",IF(I52=1,VLOOKUP(Y52,男子種目コード!$D$2:$E$16,2,FALSE),IF(I52=2,VLOOKUP(Y52,女子種目コード!$D$2:$E$16,2,FALSE))))","v":""},null,null,{"$f":"IF(AB52=\"\",\"\",IF(I52=1,VLOOKUP(AB52,男子種目コード!$D$2:$E$16,2,FALSE),IF(I52=2,VLOOKUP(AB52,女子種目コード!$D$2:$E$16,2,FALSE))))","v":""},null,null,null,null,null,null,null,null,"",null,null,null,null,null,null,null,0,null,0,"",""]
[0,{"$f":"前年度登録!AE50","v":""},null,null,{"$f":"前年度登録!T50","v":0},{"$f":"前年度登録!DB50","v":""},{"$f":"前年度登録!AO50","v":""},{"$f":"前年度登録!DB50","v":""},{"$f":"前年度登録!AN50","v":""},{"$f":"前年度登録!DC50","v":""},{"$f":"前年度登録!DE50","v":0},{"$f":"前年度登録!DJ50","v":"00"},"三重",{"$f":"前年度登録!S50","v":0},null,{"$f":"IF(O53=\"\",\"\",IF(I53=1,VLOOKUP(O53,男子種目コード!$J$1:$K$16,2,FALSE),IF(I53=2,VLOOKUP(O53,女子種目コード!$J$1:$K$16,2,FALSE))))","v":""},{"$f":"IF(O53=\"\",\"\",HLOOKUP(O53,前年度登録!$AW$3:$CW$118,48,FALSE))","v":""},"","",null,{"$f":"IF(T53=\"\",\"\",IF(I53=1,VLOOKUP(T53,男子種目コード!$J$17:$K$19,2,FALSE),IF(I53=2,VLOOKUP(T53,女子種目コード!$J$17:$K$19,2,FALSE))))","v":""},null,"","",null,{"$f":"IF(Y53=\"\",\"\",IF(I53=1,VLOOKUP(Y53,男子種目コード!$D$2:$E$16,2,FALSE),IF(I53=2,VLOOKUP(Y53,女子種目コード!$D$2:$E$16,2,FALSE))))","v":""},null,null,{"$f":"IF(AB53=\"\",\"\",IF(I53=1,VLOOKUP(AB53,男子種目コード!$D$2:$E$16,2,FALSE),IF(I53=2,VLOOKUP(AB53,女子種目コード!$D$2:$E$16,2,FALSE))))","v":""},null,null,null,null,null,null,null,null,"",null,null,null,null,null,null,null,0,null,0,"",""]
[0,{"$f":"前年度登録!AE51","v":""},null,null,{"$f":"前年度登録!T51","v":0},{"$f":"前年度登録!DB51","v":""},{"$f":"前年度登録!AO51","v":""},{"$f":"前年度登録!DB51","v":""},{"$f":"前年度登録!AN51","v":""},{"$f":"前年度登録!DC51","v":""},{"$f":"前年度登録!DE51","v":0},{"$f":"前年度登録!DJ51","v":"00"},"三重",{"$f":"前年度登録!S51","v":0},null,{"$f":"IF(O54=\"\",\"\",IF(I54=1,VLOOKUP(O54,男子種目コード!$J$1:$K$16,2,FALSE),IF(I54=2,VLOOKUP(O54,女子種目コード!$J$1:$K$16,2,FALSE))))","v":""},{"$f":"IF(O54=\"\",\"\",HLOOKUP(O54,前年度登録!$AW$3:$CW$118,49,FALSE))","v":""},"","",null,{"$f":"IF(T54=\"\",\"\",IF(I54=1,VLOOKUP(T54,男子種目コード!$J$17:$K$19,2,FALSE),IF(I54=2,VLOOKUP(T54,女子種目コード!$J$17:$K$19,2,FALSE))))","v":""},null,"","",null,{"$f":"IF(Y54=\"\",\"\",IF(I54=1,VLOOKUP(Y54,男子種目コード!$D$2:$E$16,2,FALSE),IF(I54=2,VLOOKUP(Y54,女子種目コード!$D$2:$E$16,2,FALSE))))","v":""},null,null,{"$f":"IF(AB54=\"\",\"\",IF(I54=1,VLOOKUP(AB54,男子種目コード!$D$2:$E$16,2,FALSE),IF(I54=2,VLOOKUP(AB54,女子種目コード!$D$2:$E$16,2,FALSE))))","v":""},null,null,null,null,null,null,null,null,"",null,null,null,null,null,null,null,0,null,0,"",""]
[0,{"$f":"前年度登録!AE52","v":""},null,null,{"$f":"前年度登録!T52","v":0},{"$f":"前年度登録!DB52","v":""},{"$f":"前年度登録!AO52","v":""},{"$f":"前年度登録!DB52","v":""},{"$f":"前年度登録!AN52","v":""},{"$f":"前年度登録!DC52","v":""},{"$f":"前年度登録!DE52","v":0},{"$f":"前年度登録!DJ52","v":"00"},"三重",{"$f":"前年度登録!S52","v":0},null,{"$f":"IF(O55=\"\",\"\",IF(I55=1,VLOOKUP(O55,男子種目コード!$J$1:$K$16,2,FALSE),IF(I55=2,VLOOKUP(O55,女子種目コード!$J$1:$K$16,2,FALSE))))","v":""},{"$f":"IF(O55=\"\",\"\",HLOOKUP(O55,前年度登録!$AW$3:$CW$118,50,FALSE))","v":""},"","",null,{"$f":"IF(T55=\"\",\"\",IF(I55=1,VLOOKUP(T55,男子種目コード!$J$17:$K$19,2,FALSE),IF(I55=2,VLOOKUP(T55,女子種目コード!$J$17:$K$19,2,FALSE))))","v":""},null,"","",null,{"$f":"IF(Y55=\"\",\"\",IF(I55=1,VLOOKUP(Y55,男子種目コード!$D$2:$E$16,2,FALSE),IF(I55=2,VLOOKUP(Y55,女子種目コード!$D$2:$E$16,2,FALSE))))","v":""},null,null,{"$f":"IF(AB55=\"\",\"\",IF(I55=1,VLOOKUP(AB55,男子種目コード!$D$2:$E$16,2,FALSE),IF(I55=2,VLOOKUP(AB55,女子種目コード!$D$2:$E$16,2,FALSE))))","v":""},null,null,null,null,null,null,null,null,"",null,null,null,null,null,null,null,0,null,0,"",""]
[0,{"$f":"前年度登録!AE53","v":""},null,null,{"$f":"前年度登録!T53","v":0},{"$f":"前年度登録!DB53","v":""},{"$f":"前年度登録!AO53","v":""},{"$f":"前年度登録!DB53","v":""},{"$f":"前年度登録!AN53","v":""},{"$f":"前年度登録!DC53","v":""},{"$f":"前年度登録!DE53","v":0},{"$f":"前年度登録!DJ53","v":"00"},"三重",{"$f":"前年度登録!S53","v":0},null,{"$f":"IF(O56=\"\",\"\",IF(I56=1,VLOOKUP(O56,男子種目コード!$J$1:$K$16,2,FALSE),IF(I56=2,VLOOKUP(O56,女子種目コード!$J$1:$K$16,2,FALSE))))","v":""},{"$f":"IF(O56=\"\",\"\",HLOOKUP(O56,前年度登録!$AW$3:$CW$118,51,FALSE))","v":""},"","",null,{"$f":"IF(T56=\"\",\"\",IF(I56=1,VLOOKUP(T56,男子種目コード!$J$17:$K$19,2,FALSE),IF(I56=2,VLOOKUP(T56,女子種目コード!$J$17:$K$19,2,FALSE))))","v":""},null,"","",null,{"$f":"IF(Y56=\"\",\"\",IF(I56=1,VLOOKUP(Y56,男子種目コード!$D$2:$E$16,2,FALSE),IF(I56=2,VLOOKUP(Y56,女子種目コード!$D$2:$E$16,2,FALSE))))","v":""},null,null,{"$f":"IF(AB56=\"\",\"\",IF(I56=1,VLOOKUP(AB56,男子種目コード!$D$2:$E$16,2,FALSE),IF(I56=2,VLOOKUP(AB56,女子種目コード!$D$2:$E$16,2,FALSE))))","v":""},null,null,null,null,null,null,null,null,"",null,null,null,null,null,null,null,0,null,0,"",""]
[0,{"$f":"前年度登録!AE54","v":""},null,null,{"$f":"前年度登録!T54","v":0},{"$f":"前年度登録!DB54","v":""},{"$f":"前年度登録!AO54","v":""},{"$f":"前年度登録!DB54","v":""},{"$f":"前年度登録!AN54","v":""},{"$f":"前年度登録!DC54","v":""},{"$f":"前年度登録!DE54","v":0},{"$f":"前年度登録!DJ54","v":"00"},"三重",{"$f":"前年度登録!S54","v":0},null,{"$f":"IF(O57=\"\",\"\",IF(I57=1,VLOOKUP(O57,男子種目コード!$J$1:$K$16,2,FALSE),IF(I57=2,VLOOKUP(O57,女子種目コード!$J$1:$K$16,2,FALSE))))","v":""},{"$f":"IF(O57=\"\",\"\",HLOOKUP(O57,前年度登録!$AW$3:$CW$118,52,FALSE))","v":""},"","",null,{"$f":"IF(T57=\"\",\"\",IF(I57=1,VLOOKUP(T57,男子種目コード!$J$17:$K$19,2,FALSE),IF(I57=2,VLOOKUP(T57,女子種目コード!$J$17:$K$19,2,FALSE))))","v":""},null,"","",null,{"$f":"IF(Y57=\"\",\"\",IF(I57=1,VLOOKUP(Y57,男子種目コード!$D$2:$E$16,2,FALSE),IF(I57=2,VLOOKUP(Y57,女子種目コード!$D$2:$E$16,2,FALSE))))","v":""},null,null,{"$f":"IF(AB57=\"\",\"\",IF(I57=1,VLOOKUP(AB57,男子種目コード!$D$2:$E$16,2,FALSE),IF(I57=2,VLOOKUP(AB57,女子種目コード!$D$2:$E$16,2,FALSE))))","v":""},null,null,null,null,null,null,null,null,"",null,null,null,null,null,null,null,0,null,0,"",""]
[0,{"$f":"前年度登録!AE55","v":""},null,null,{"$f":"前年度登録!T55","v":0},{"$f":"前年度登録!DB55","v":""},{"$f":"前年度登録!AO55","v":""},{"$f":"前年度登録!DB55","v":""},{"$f":"前年度登録!AN55","v":""},{"$f":"前年度登録!DC55","v":""},{"$f":"前年度登録!DE55","v":0},{"$f":"前年度登録!DJ55","v":"00"},"三重",{"$f":"前年度登録!S55","v":0},null,{"$f":"IF(O58=\"\",\"\",IF(I58=1,VLOOKUP(O58,男子種目コード!$J$1:$K$16,2,FALSE),IF(I58=2,VLOOKUP(O58,女子種目コード!$J$1:$K$16,2,FALSE))))","v":""},{"$f":"IF(O58=\"\",\"\",HLOOKUP(O58,前年度登録!$AW$3:$CW$118,53,FALSE))","v":""},"","",null,{"$f":"IF(T58=\"\",\"\",IF(I58=1,VLOOKUP(T58,男子種目コード!$J$17:$K$19,2,FALSE),IF(I58=2,VLOOKUP(T58,女子種目コード!$J$17:$K$19,2,FALSE))))","v":""},null,"","",null,{"$f":"IF(Y58=\"\",\"\",IF(I58=1,VLOOKUP(Y58,男子種目コード!$D$2:$E$16,2,FALSE),IF(I58=2,VLOOKUP(Y58,女子種目コード!$D$2:$E$16,2,FALSE))))","v":""},null,null,{"$f":"IF(AB58=\"\",\"\",IF(I58=1,VLOOKUP(AB58,男子種目コード!$D$2:$E$16,2,FALSE),IF(I58=2,VLOOKUP(AB58,女子種目コード!$D$2:$E$16,2,FALSE))))","v":""},null,null,null,null,null,null,null,null,"",null,null,null,null,null,null,null,0,null,0,"",""]
[0,{"$f":"前年度登録!AE56","v":""},null,null,{"$f":"前年度登録!T56","v":0},{"$f":"前年度登録!DB56","v":""},{"$f":"前年度登録!AO56","v":""},{"$f":"前年度登録!DB56","v":""},{"$f":"前年度登録!AN56","v":""},{"$f":"前年度登録!DC56","v":""},{"$f":"前年度登録!DE56","v":0},{"$f":"前年度登録!DJ56","v":"00"},"三重",{"$f":"前年度登録!S56","v":0},null,{"$f":"IF(O59=\"\",\"\",IF(I59=1,VLOOKUP(O59,男子種目コード!$J$1:$K$16,2,FALSE),IF(I59=2,VLOOKUP(O59,女子種目コード!$J$1:$K$16,2,FALSE))))","v":""},{"$f":"IF(O59=\"\",\"\",HLOOKUP(O59,前年度登録!$AW$3:$CW$118,54,FALSE))","v":""},"","",null,{"$f":"IF(T59=\"\",\"\",IF(I59=1,VLOOKUP(T59,男子種目コード!$J$17:$K$19,2,FALSE),IF(I59=2,VLOOKUP(T59,女子種目コード!$J$17:$K$19,2,FALSE))))","v":""},null,"","",null,{"$f":"IF(Y59=\"\",\"\",IF(I59=1,VLOOKUP(Y59,男子種目コード!$D$2:$E$16,2,FALSE),IF(I59=2,VLOOKUP(Y59,女子種目コード!$D$2:$E$16,2,FALSE))))","v":""},null,null,{"$f":"IF(AB59=\"\",\"\",IF(I59=1,VLOOKUP(AB59,男子種目コード!$D$2:$E$16,2,FALSE),IF(I59=2,VLOOKUP(AB59,女子種目コード!$D$2:$E$16,2,FALSE))))","v":""},null,null,null,null,null,null,null,null,"",null,null,null,null,null,null,null,0,null,0,"",""]
[0,{"$f":"前年度登録!AE57","v":""},null,null,{"$f":"前年度登録!T57","v":0},{"$f":"前年度登録!DB57","v":""},{"$f":"前年度登録!AO57","v":""},{"$f":"前年度登録!DB57","v":""},{"$f":"前年度登録!AN57","v":""},{"$f":"前年度登録!DC57","v":""},{"$f":"前年度登録!DE57","v":0},{"$f":"前年度登録!DJ57","v":"00"},"三重",{"$f":"前年度登録!S57","v":0},null,{"$f":"IF(O60=\"\",\"\",IF(I60=1,VLOOKUP(O60,男子種目コード!$J$1:$K$16,2,FALSE),IF(I60=2,VLOOKUP(O60,女子種目コード!$J$1:$K$16,2,FALSE))))","v":""},{"$f":"IF(O60=\"\",\"\",HLOOKUP(O60,前年度登録!$AW$3:$CW$118,55,FALSE))","v":""},"","",null,{"$f":"IF(T60=\"\",\"\",IF(I60=1,VLOOKUP(T60,男子種目コード!$J$17:$K$19,2,FALSE),IF(I60=2,VLOOKUP(T60,女子種目コード!$J$17:$K$19,2,FALSE))))","v":""},null,"","",null,{"$f":"IF(Y60=\"\",\"\",IF(I60=1,VLOOKUP(Y60,男子種目コード!$D$2:$E$16,2,FALSE),IF(I60=2,VLOOKUP(Y60,女子種目コード!$D$2:$E$16,2,FALSE))))","v":""},null,null,{"$f":"IF(AB60=\"\",\"\",IF(I60=1,VLOOKUP(AB60,男子種目コード!$D$2:$E$16,2,FALSE),IF(I60=2,VLOOKUP(AB60,女子種目コード!$D$2:$E$16,2,FALSE))))","v":""},null,null,null,null,null,null,null,null,"",null,null,null,null,null,null,null,0,null,0,"",""]
[0,{"$f":"前年度登録!AE58","v":""},null,null,{"$f":"前年度登録!T58","v":0},{"$f":"前年度登録!DB58","v":""},{"$f":"前年度登録!AO58","v":""},{"$f":"前年度登録!DB58","v":""},{"$f":"前年度登録!AN58","v":""},{"$f":"前年度登録!DC58","v":""},{"$f":"前年度登録!DE58","v":0},{"$f":"前年度登録!DJ58","v":"00"},"三重",{"$f":"前年度登録!S58","v":0},null,{"$f":"IF(O61=\"\",\"\",IF(I61=1,VLOOKUP(O61,男子種目コード!$J$1:$K$16,2,FALSE),IF(I61=2,VLOOKUP(O61,女子種目コード!$J$1:$K$16,2,FALSE))))","v":""},{"$f":"IF(O61=\"\",\"\",HLOOKUP(O61,前年度登録!$AW$3:$CW$118,56,FALSE))","v":""},"","",null,{"$f":"IF(T61=\"\",\"\",IF(I61=1,VLOOKUP(T61,男子種目コード!$J$17:$K$19,2,FALSE),IF(I61=2,VLOOKUP(T61,女子種目コード!$J$17:$K$19,2,FALSE))))","v":""},null,"","",null,{"$f":"IF(Y61=\"\",\"\",IF(I61=1,VLOOKUP(Y61,男子種目コード!$D$2:$E$16,2,FALSE),IF(I61=2,VLOOKUP(Y61,女子種目コード!$D$2:$E$16,2,FALSE))))","v":""},null,null,{"$f":"IF(AB61=\"\",\"\",IF(I61=1,VLOOKUP(AB61,男子種目コード!$D$2:$E$16,2,FALSE),IF(I61=2,VLOOKUP(AB61,女子種目コード!$D$2:$E$16,2,FALSE))))","v":""},null,null,null,null,null,null,null,null,"",null,null,null,null,null,null,null,0,null,0,"",""]
[0,{"$f":"前年度登録!AE59","v":""},null,null,{"$f":"前年度登録!T59","v":0},{"$f":"前年度登録!DB59","v":""},{"$f":"前年度登録!AO59","v":""},{"$f":"前年度登録!DB59","v":""},{"$f":"前年度登録!AN59","v":""},{"$f":"前年度登録!DC59","v":""},{"$f":"前年度登録!DE59","v":0},{"$f":"前年度登録!DJ59","v":"00"},"三重",{"$f":"前年度登録!S59","v":0},null,{"$f":"IF(O62=\"\",\"\",IF(I62=1,VLOOKUP(O62,男子種目コード!$J$1:$K$16,2,FALSE),IF(I62=2,VLOOKUP(O62,女子種目コード!$J$1:$K$16,2,FALSE))))","v":""},{"$f":"IF(O62=\"\",\"\",HLOOKUP(O62,前年度登録!$AW$3:$CW$118,57,FALSE))","v":""},"","",null,{"$f":"IF(T62=\"\",\"\",IF(I62=1,VLOOKUP(T62,男子種目コード!$J$17:$K$19,2,FALSE),IF(I62=2,VLOOKUP(T62,女子種目コード!$J$17:$K$19,2,FALSE))))","v":""},null,"","",null,{"$f":"IF(Y62=\"\",\"\",IF(I62=1,VLOOKUP(Y62,男子種目コード!$D$2:$E$16,2,FALSE),IF(I62=2,VLOOKUP(Y62,女子種目コード!$D$2:$E$16,2,FALSE))))","v":""},null,null,{"$f":"IF(AB62=\"\",\"\",IF(I62=1,VLOOKUP(AB62,男子種目コード!$D$2:$E$16,2,FALSE),IF(I62=2,VLOOKUP(AB62,女子種目コード!$D$2:$E$16,2,FALSE))))","v":""},null,null,null,null,null,null,null,null,"",null,null,null,null,null,null,null,0,null,0,"",""]
[0,{"$f":"前年度登録!AE60","v":""},null,null,{"$f":"前年度登録!T60","v":0},{"$f":"前年度登録!DB60","v":""},{"$f":"前年度登録!AO60","v":""},{"$f":"前年度登録!DB60","v":""},{"$f":"前年度登録!AN60","v":""},{"$f":"前年度登録!DC60","v":""},{"$f":"前年度登録!DE60","v":0},{"$f":"前年度登録!DJ60","v":"00"},"三重",{"$f":"前年度登録!S60","v":0},null,{"$f":"IF(O63=\"\",\"\",IF(I63=1,VLOOKUP(O63,男子種目コード!$J$1:$K$16,2,FALSE),IF(I63=2,VLOOKUP(O63,女子種目コード!$J$1:$K$16,2,FALSE))))","v":""},{"$f":"IF(O63=\"\",\"\",HLOOKUP(O63,前年度登録!$AW$3:$CW$118,58,FALSE))","v":""},"","",null,{"$f":"IF(T63=\"\",\"\",IF(I63=1,VLOOKUP(T63,男子種目コード!$J$17:$K$19,2,FALSE),IF(I63=2,VLOOKUP(T63,女子種目コード!$J$17:$K$19,2,FALSE))))","v":""},null,"","",null,{"$f":"IF(Y63=\"\",\"\",IF(I63=1,VLOOKUP(Y63,男子種目コード!$D$2:$E$16,2,FALSE),IF(I63=2,VLOOKUP(Y63,女子種目コード!$D$2:$E$16,2,FALSE))))","v":""},null,null,{"$f":"IF(AB63=\"\",\"\",IF(I63=1,VLOOKUP(AB63,男子種目コード!$D$2:$E$16,2,FALSE),IF(I63=2,VLOOKUP(AB63,女子種目コード!$D$2:$E$16,2,FALSE))))","v":""},null,null,null,null,null,null,null,null,"",null,null,null,null,null,null,null,0,null,0,"",""]
[0,{"$f":"前年度登録!AE61","v":""},null,null,{"$f":"前年度登録!T61","v":0},{"$f":"前年度登録!DB61","v":""},{"$f":"前年度登録!AO61","v":""},{"$f":"前年度登録!DB61","v":""},{"$f":"前年度登録!AN61","v":""},{"$f":"前年度登録!DC61","v":""},{"$f":"前年度登録!DE61","v":0},{"$f":"前年度登録!DJ61","v":"00"},"三重",{"$f":"前年度登録!S61","v":0},null,{"$f":"IF(O64=\"\",\"\",IF(I64=1,VLOOKUP(O64,男子種目コード!$J$1:$K$16,2,FALSE),IF(I64=2,VLOOKUP(O64,女子種目コード!$J$1:$K$16,2,FALSE))))","v":""},{"$f":"IF(O64=\"\",\"\",HLOOKUP(O64,前年度登録!$AW$3:$CW$118,59,FALSE))","v":""},"","",null,{"$f":"IF(T64=\"\",\"\",IF(I64=1,VLOOKUP(T64,男子種目コード!$J$17:$K$19,2,FALSE),IF(I64=2,VLOOKUP(T64,女子種目コード!$J$17:$K$19,2,FALSE))))","v":""},null,"","",null,{"$f":"IF(Y64=\"\",\"\",IF(I64=1,VLOOKUP(Y64,男子種目コード!$D$2:$E$16,2,FALSE),IF(I64=2,VLOOKUP(Y64,女子種目コード!$D$2:$E$16,2,FALSE))))","v":""},null,null,{"$f":"IF(AB64=\"\",\"\",IF(I64=1,VLOOKUP(AB64,男子種目コード!$D$2:$E$16,2,FALSE),IF(I64=2,VLOOKUP(AB64,女子種目コード!$D$2:$E$16,2,FALSE))))","v":""},null,null,null,null,null,null,null,null,"",null,null,null,null,null,null,null,0,null,0,"",""]
[0,{"$f":"前年度登録!AE62","v":""},null,null,{"$f":"前年度登録!T62","v":0},{"$f":"前年度登録!DB62","v":""},{"$f":"前年度登録!AO62","v":""},{"$f":"前年度登録!DB62","v":""},{"$f":"前年度登録!AN62","v":""},{"$f":"前年度登録!DC62","v":""},{"$f":"前年度登録!DE62","v":0},{"$f":"前年度登録!DJ62","v":"00"},"三重",{"$f":"前年度登録!S62","v":0},null,{"$f":"IF(O65=\"\",\"\",IF(I65=1,VLOOKUP(O65,男子種目コード!$J$1:$K$16,2,FALSE),IF(I65=2,VLOOKUP(O65,女子種目コード!$J$1:$K$16,2,FALSE))))","v":""},{"$f":"IF(O65=\"\",\"\",HLOOKUP(O65,前年度登録!$AW$3:$CW$118,60,FALSE))","v":""},"","",null,{"$f":"IF(T65=\"\",\"\",IF(I65=1,VLOOKUP(T65,男子種目コード!$J$17:$K$19,2,FALSE),IF(I65=2,VLOOKUP(T65,女子種目コード!$J$17:$K$19,2,FALSE))))","v":""},null,"","",null,{"$f":"IF(Y65=\"\",\"\",IF(I65=1,VLOOKUP(Y65,男子種目コード!$D$2:$E$16,2,FALSE),IF(I65=2,VLOOKUP(Y65,女子種目コード!$D$2:$E$16,2,FALSE))))","v":""},null,null,{"$f":"IF(AB65=\"\",\"\",IF(I65=1,VLOOKUP(AB65,男子種目コード!$D$2:$E$16,2,FALSE),IF(I65=2,VLOOKUP(AB65,女子種目コード!$D$2:$E$16,2,FALSE))))","v":""},null,null,null,null,null,null,null,null,"",null,null,null,null,null,null,null,0,null,0,"",""]
[0,{"$f":"前年度登録!AE63","v":""},null,null,{"$f":"前年度登録!T63","v":0},{"$f":"前年度登録!DB63","v":""},{"$f":"前年度登録!AO63","v":""},{"$f":"前年度登録!DB63","v":""},{"$f":"前年度登録!AN63","v":""},{"$f":"前年度登録!DC63","v":""},{"$f":"前年度登録!DE63","v":0},{"$f":"前年度登録!DJ63","v":"00"},"三重",{"$f":"前年度登録!S63","v":0},null,{"$f":"IF(O66=\"\",\"\",IF(I66=1,VLOOKUP(O66,男子種目コード!$J$1:$K$16,2,FALSE),IF(I66=2,VLOOKUP(O66,女子種目コード!$J$1:$K$16,2,FALSE))))","v":""},{"$f":"IF(O66=\"\",\"\",HLOOKUP(O66,前年度登録!$AW$3:$CW$118,61,FALSE))","v":""},"","",null,{"$f":"IF(T66=\"\",\"\",IF(I66=1,VLOOKUP(T66,男子種目コード!$J$17:$K$19,2,FALSE),IF(I66=2,VLOOKUP(T66,女子種目コード!$J$17:$K$19,2,FALSE))))","v":""},null,"","",null,{"$f":"IF(Y66=\"\",\"\",IF(I66=1,VLOOKUP(Y66,男子種目コード!$D$2:$E$16,2,FALSE),IF(I66=2,VLOOKUP(Y66,女子種目コード!$D$2:$E$16,2,FALSE))))","v":""},null,null,{"$f":"IF(AB66=\"\",\"\",IF(I66=1,VLOOKUP(AB66,男子種目コード!$D$2:$E$16,2,FALSE),IF(I66=2,VLOOKUP(AB66,女子種目コード!$D$2:$E$16,2,FALSE))))","v":""},null,null,null,null,null,null,null,null,"",null,null,null,null,null,null,null,0,null,0,"",""]
[0,{"$f":"前年度登録!AE64","v":""},null,null,{"$f":"前年度登録!T64","v":0},{"$f":"前年度登録!DB64","v":""},{"$f":"前年度登録!AO64","v":""},{"$f":"前年度登録!DB64","v":""},{"$f":"前年度登録!AN64","v":""},{"$f":"前年度登録!DC64","v":""},{"$f":"前年度登録!DE64","v":0},{"$f":"前年度登録!DJ64","v":"00"},"三重",{"$f":"前年度登録!S64","v":0},null,{"$f":"IF(O67=\"\",\"\",IF(I67=1,VLOOKUP(O67,男子種目コード!$J$1:$K$16,2,FALSE),IF(I67=2,VLOOKUP(O67,女子種目コード!$J$1:$K$16,2,FALSE))))","v":""},{"$f":"IF(O67=\"\",\"\",HLOOKUP(O67,前年度登録!$AW$3:$CW$118,62,FALSE))","v":""},"","",null,{"$f":"IF(T67=\"\",\"\",IF(I67=1,VLOOKUP(T67,男子種目コード!$J$17:$K$19,2,FALSE),IF(I67=2,VLOOKUP(T67,女子種目コード!$J$17:$K$19,2,FALSE))))","v":""},null,"","",null,{"$f":"IF(Y67=\"\",\"\",IF(I67=1,VLOOKUP(Y67,男子種目コード!$D$2:$E$16,2,FALSE),IF(I67=2,VLOOKUP(Y67,女子種目コード!$D$2:$E$16,2,FALSE))))","v":""},null,null,{"$f":"IF(AB67=\"\",\"\",IF(I67=1,VLOOKUP(AB67,男子種目コード!$D$2:$E$16,2,FALSE),IF(I67=2,VLOOKUP(AB67,女子種目コード!$D$2:$E$16,2,FALSE))))","v":""},null,null,null,null,null,null,null,null,"",null,null,null,null,null,null,null,0,null,0,"",""]
[0,{"$f":"前年度登録!AE65","v":""},null,null,{"$f":"前年度登録!T65","v":0},{"$f":"前年度登録!DB65","v":""},{"$f":"前年度登録!AO65","v":""},{"$f":"前年度登録!DB65","v":""},{"$f":"前年度登録!AN65","v":""},{"$f":"前年度登録!DC65","v":""},{"$f":"前年度登録!DE65","v":0},{"$f":"前年度登録!DJ65","v":"00"},"三重",{"$f":"前年度登録!S65","v":0},null,{"$f":"IF(O68=\"\",\"\",IF(I68=1,VLOOKUP(O68,男子種目コード!$J$1:$K$16,2,FALSE),IF(I68=2,VLOOKUP(O68,女子種目コード!$J$1:$K$16,2,FALSE))))","v":""},{"$f":"IF(O68=\"\",\"\",HLOOKUP(O68,前年度登録!$AW$3:$CW$118,63,FALSE))","v":""},"","",null,{"$f":"IF(T68=\"\",\"\",IF(I68=1,VLOOKUP(T68,男子種目コード!$J$17:$K$19,2,FALSE),IF(I68=2,VLOOKUP(T68,女子種目コード!$J$17:$K$19,2,FALSE))))","v":""},null,"","",null,{"$f":"IF(Y68=\"\",\"\",IF(I68=1,VLOOKUP(Y68,男子種目コード!$D$2:$E$16,2,FALSE),IF(I68=2,VLOOKUP(Y68,女子種目コード!$D$2:$E$16,2,FALSE))))","v":""},null,null,{"$f":"IF(AB68=\"\",\"\",IF(I68=1,VLOOKUP(AB68,男子種目コード!$D$2:$E$16,2,FALSE),IF(I68=2,VLOOKUP(AB68,女子種目コード!$D$2:$E$16,2,FALSE))))","v":""},null,null,null,null,null,null,null,null,"",null,null,null,null,null,null,null,0,null,0,"",""]
[0,{"$f":"前年度登録!AE66","v":""},null,null,{"$f":"前年度登録!T66","v":0},{"$f":"前年度登録!DB66","v":""},{"$f":"前年度登録!AO66","v":""},{"$f":"前年度登録!DB66","v":""},{"$f":"前年度登録!AN66","v":""},{"$f":"前年度登録!DC66","v":""},{"$f":"前年度登録!DE66","v":0},{"$f":"前年度登録!DJ66","v":"00"},"三重",{"$f":"前年度登録!S66","v":0},null,{"$f":"IF(O69=\"\",\"\",IF(I69=1,VLOOKUP(O69,男子種目コード!$J$1:$K$16,2,FALSE),IF(I69=2,VLOOKUP(O69,女子種目コード!$J$1:$K$16,2,FALSE))))","v":""},{"$f":"IF(O69=\"\",\"\",HLOOKUP(O69,前年度登録!$AW$3:$CW$118,64,FALSE))","v":""},"","",null,{"$f":"IF(T69=\"\",\"\",IF(I69=1,VLOOKUP(T69,男子種目コード!$J$17:$K$19,2,FALSE),IF(I69=2,VLOOKUP(T69,女子種目コード!$J$17:$K$19,2,FALSE))))","v":""},null,"","",null,{"$f":"IF(Y69=\"\",\"\",IF(I69=1,VLOOKUP(Y69,男子種目コード!$D$2:$E$16,2,FALSE),IF(I69=2,VLOOKUP(Y69,女子種目コード!$D$2:$E$16,2,FALSE))))","v":""},null,null,{"$f":"IF(AB69=\"\",\"\",IF(I69=1,VLOOKUP(AB69,男子種目コード!$D$2:$E$16,2,FALSE),IF(I69=2,VLOOKUP(AB69,女子種目コード!$D$2:$E$16,2,FALSE))))","v":""},null,null,null,null,null,null,null,null,"",null,null,null,null,null,null,null,0,null,0,"",""]
[0,{"$f":"前年度登録!AE67","v":""},null,null,{"$f":"前年度登録!T67","v":0},{"$f":"前年度登録!DB67","v":""},{"$f":"前年度登録!AO67","v":""},{"$f":"前年度登録!DB67","v":""},{"$f":"前年度登録!AN67","v":""},{"$f":"前年度登録!DC67","v":""},{"$f":"前年度登録!DE67","v":0},{"$f":"前年度登録!DJ67","v":"00"},"三重",{"$f":"前年度登録!S67","v":0},null,{"$f":"IF(O70=\"\",\"\",IF(I70=1,VLOOKUP(O70,男子種目コード!$J$1:$K$16,2,FALSE),IF(I70=2,VLOOKUP(O70,女子種目コード!$J$1:$K$16,2,FALSE))))","v":""},{"$f":"IF(O70=\"\",\"\",HLOOKUP(O70,前年度登録!$AW$3:$CW$118,65,FALSE))","v":""},"","",null,{"$f":"IF(T70=\"\",\"\",IF(I70=1,VLOOKUP(T70,男子種目コード!$J$17:$K$19,2,FALSE),IF(I70=2,VLOOKUP(T70,女子種目コード!$J$17:$K$19,2,FALSE))))","v":""},null,"","",null,{"$f":"IF(Y70=\"\",\"\",IF(I70=1,VLOOKUP(Y70,男子種目コード!$D$2:$E$16,2,FALSE),IF(I70=2,VLOOKUP(Y70,女子種目コード!$D$2:$E$16,2,FALSE))))","v":""},null,null,{"$f":"IF(AB70=\"\",\"\",IF(I70=1,VLOOKUP(AB70,男子種目コード!$D$2:$E$16,2,FALSE),IF(I70=2,VLOOKUP(AB70,女子種目コード!$D$2:$E$16,2,FALSE))))","v":""},null,null,null,null,null,null,null,null,"",null,null,null,null,null,null,null,0,null,0,"",""]
[0,{"$f":"前年度登録!AE68","v":""},null,null,{"$f":"前年度登録!T68","v":0},{"$f":"前年度登録!DB68","v":""},{"$f":"前年度登録!AO68","v":""},{"$f":"前年度登録!DB68","v":""},{"$f":"前年度登録!AN68","v":""},{"$f":"前年度登録!DC68","v":""},{"$f":"前年度登録!DE68","v":0},{"$f":"前年度登録!DJ68","v":"00"},"三重",{"$f":"前年度登録!S68","v":0},null,{"$f":"IF(O71=\"\",\"\",IF(I71=1,VLOOKUP(O71,男子種目コード!$J$1:$K$16,2,FALSE),IF(I71=2,VLOOKUP(O71,女子種目コード!$J$1:$K$16,2,FALSE))))","v":""},{"$f":"IF(O71=\"\",\"\",HLOOKUP(O71,前年度登録!$AW$3:$CW$118,66,FALSE))","v":""},"","",null,{"$f":"IF(T71=\"\",\"\",IF(I71=1,VLOOKUP(T71,男子種目コード!$J$17:$K$19,2,FALSE),IF(I71=2,VLOOKUP(T71,女子種目コード!$J$17:$K$19,2,FALSE))))","v":""},null,"","",null,{"$f":"IF(Y71=\"\",\"\",IF(I71=1,VLOOKUP(Y71,男子種目コード!$D$2:$E$16,2,FALSE),IF(I71=2,VLOOKUP(Y71,女子種目コード!$D$2:$E$16,2,FALSE))))","v":""},null,null,{"$f":"IF(AB71=\"\",\"\",IF(I71=1,VLOOKUP(AB71,男子種目コード!$D$2:$E$16,2,FALSE),IF(I71=2,VLOOKUP(AB71,女子種目コード!$D$2:$E$16,2,FALSE))))","v":""},null,null,null,null,null,null,null,null,"",null,null,null,null,null,null,null,{"$f":"IF(OR(AL71=1,T71=\"\"),0,1)","v":0},null,{"$f":"COUNT(P71,U71)","v":0},{"$f":"IF(I71=1,AV71,\"\")","v":""},{"$f":"IF(I71=2,AV71,\"\")","v":""}]
[{"$f":"T72","v":0},{"$f":"前年度登録!AE69","v":""},null,null,{"$f":"前年度登録!T69","v":0},{"$f":"前年度登録!DB69","v":""},{"$f":"前年度登録!AO69","v":""},{"$f":"前年度登録!DB69","v":""},{"$f":"前年度登録!AN69","v":""},{"$f":"前年度登録!DC69","v":""},{"$f":"前年度登録!DE69","v":0},{"$f":"前年度登録!DJ69","v":"00"},"三重",{"$f":"前年度登録!S69","v":0},null,{"$f":"IF(O72=\"\",\"\",IF(I72=1,VLOOKUP(O72,男子種目コード!$J$1:$K$16,2,FALSE),IF(I72=2,VLOOKUP(O72,女子種目コード!$J$1:$K$16,2,FALSE))))","v":""},{"$f":"IF(O72=\"\",\"\",HLOOKUP(O72,前年度登録!$AW$3:$CW$118,67,FALSE))","v":""},{"$f":"IF(O72=\"\",\"\",0)","v":""},{"$f":"IF(O72=\"\",\"\",2)","v":""},null,{"$f":"IF(T72=\"\",\"\",IF(I72=1,VLOOKUP(T72,男子種目コード!$J$17:$K$19,2,FALSE),IF(I72=2,VLOOKUP(T72,女子種目コード!$J$17:$K$19,2,FALSE))))","v":""},null,{"$f":"IF(T72=\"\",\"\",0)","v":""},{"$f":"IF(T72=\"\",\"\",2)","v":""},null,{"$f":"IF(Y72=\"\",\"\",IF(I72=1,VLOOKUP(Y72,男子種目コード!$D$2:$E$16,2,FALSE),IF(I72=2,VLOOKUP(Y72,女子種目コード!$D$2:$E$16,2,FALSE))))","v":""},null,null,{"$f":"IF(AB72=\"\",\"\",IF(I72=1,VLOOKUP(AB72,男子種目コード!$D$2:$E$16,2,FALSE),IF(I72=2,VLOOKUP(AB72,女子種目コード!$D$2:$E$16,2,FALSE))))","v":""},null,null,null,null,null,null,null,null,{"$f":"IF(O72=\"\",\"\",1)","v":""},null,null,null,null,null,null,null,0,null,0,"",""]
[0,{"$f":"前年度登録!AE70","v":""},null,null,{"$f":"前年度登録!T70","v":0},{"$f":"前年度登録!DB70","v":""},{"$f":"前年度登録!AO70","v":""},{"$f":"前年度登録!DB70","v":""},{"$f":"前年度登録!AN70","v":""},{"$f":"前年度登録!DC70","v":""},{"$f":"前年度登録!DE70","v":0},{"$f":"前年度登録!DJ70","v":"00"},"三重",{"$f":"前年度登録!S70","v":0},null,{"$f":"IF(O73=\"\",\"\",IF(I73=1,VLOOKUP(O73,男子種目コード!$J$1:$K$16,2,FALSE),IF(I73=2,VLOOKUP(O73,女子種目コード!$J$1:$K$16,2,FALSE))))","v":""},{"$f":"IF(O73=\"\",\"\",HLOOKUP(O73,前年度登録!$AW$3:$CW$118,68,FALSE))","v":""},"","",null,{"$f":"IF(T73=\"\",\"\",IF(I73=1,VLOOKUP(T73,男子種目コード!$J$17:$K$19,2,FALSE),IF(I73=2,VLOOKUP(T73,女子種目コード!$J$17:$K$19,2,FALSE))))","v":""},null,"","",null,{"$f":"IF(Y73=\"\",\"\",IF(I73=1,VLOOKUP(Y73,男子種目コード!$D$2:$E$16,2,FALSE),IF(I73=2,VLOOKUP(Y73,女子種目コード!$D$2:$E$16,2,FALSE))))","v":""},null,null,{"$f":"IF(AB73=\"\",\"\",IF(I73=1,VLOOKUP(AB73,男子種目コード!$D$2:$E$16,2,FALSE),IF(I73=2,VLOOKUP(AB73,女子種目コード!$D$2:$E$16,2,FALSE))))","v":""},null,null,null,null,null,null,null,null,"",null,null,null,null,null,null,null,0,null,0,"",""]
[0,{"$f":"前年度登録!AE71","v":""},null,null,{"$f":"前年度登録!T71","v":0},{"$f":"前年度登録!DB71","v":""},{"$f":"前年度登録!AO71","v":""},{"$f":"前年度登録!DB71","v":""},{"$f":"前年度登録!AN71","v":""},{"$f":"前年度登録!DC71","v":""},{"$f":"前年度登録!DE71","v":0},{"$f":"前年度登録!DJ71","v":"00"},"三重",{"$f":"前年度登録!S71","v":0},null,{"$f":"IF(O74=\"\",\"\",IF(I74=1,VLOOKUP(O74,男子種目コード!$J$1:$K$16,2,FALSE),IF(I74=2,VLOOKUP(O74,女子種目コード!$J$1:$K$16,2,FALSE))))","v":""},{"$f":"IF(O74=\"\",\"\",HLOOKUP(O74,前年度登録!$AW$3:$CW$118,69,FALSE))","v":""},"","",null,{"$f":"IF(T74=\"\",\"\",IF(I74=1,VLOOKUP(T74,男子種目コード!$J$17:$K$19,2,FALSE),IF(I74=2,VLOOKUP(T74,女子種目コード!$J$17:$K$19,2,FALSE))))","v":""},null,"","",null,{"$f":"IF(Y74=\"\",\"\",IF(I74=1,VLOOKUP(Y74,男子種目コード!$D$2:$E$16,2,FALSE),IF(I74=2,VLOOKUP(Y74,女子種目コード!$D$2:$E$16,2,FALSE))))","v":""},null,null,{"$f":"IF(AB74=\"\",\"\",IF(I74=1,VLOOKUP(AB74,男子種目コード!$D$2:$E$16,2,FALSE),IF(I74=2,VLOOKUP(AB74,女子種目コード!$D$2:$E$16,2,FALSE))))","v":""},null,null,null,null,null,null,null,null,"",null,null,null,null,null,null,null,0,null,0,"",""]
[0,{"$f":"前年度登録!AE72","v":""},null,null,{"$f":"前年度登録!T72","v":0},{"$f":"前年度登録!DB72","v":""},{"$f":"前年度登録!AO72","v":""},{"$f":"前年度登録!DB72","v":""},{"$f":"前年度登録!AN72","v":""},{"$f":"前年度登録!DC72","v":""},{"$f":"前年度登録!DE72","v":0},{"$f":"前年度登録!DJ72","v":"00"},"三重",{"$f":"前年度登録!S72","v":0},null,{"$f":"IF(O75=\"\",\"\",IF(I75=1,VLOOKUP(O75,男子種目コード!$J$1:$K$16,2,FALSE),IF(I75=2,VLOOKUP(O75,女子種目コード!$J$1:$K$16,2,FALSE))))","v":""},{"$f":"IF(O75=\"\",\"\",HLOOKUP(O75,前年度登録!$AW$3:$CW$118,70,FALSE))","v":""},"","",null,{"$f":"IF(T75=\"\",\"\",IF(I75=1,VLOOKUP(T75,男子種目コード!$J$17:$K$19,2,FALSE),IF(I75=2,VLOOKUP(T75,女子種目コード!$J$17:$K$19,2,FALSE))))","v":""},null,"","",null,{"$f":"IF(Y75=\"\",\"\",IF(I75=1,VLOOKUP(Y75,男子種目コード!$D$2:$E$16,2,FALSE),IF(I75=2,VLOOKUP(Y75,女子種目コード!$D$2:$E$16,2,FALSE))))","v":""},null,null,{"$f":"IF(AB75=\"\",\"\",IF(I75=1,VLOOKUP(AB75,男子種目コード!$D$2:$E$16,2,FALSE),IF(I75=2,VLOOKUP(AB75,女子種目コード!$D$2:$E$16,2,FALSE))))","v":""},null,null,null,null,null,null,null,null,"",null,null,null,null,null,null,null,0,null,0,"",""]
[0,{"$f":"前年度登録!AE73","v":""},null,null,{"$f":"前年度登録!T73","v":0},{"$f":"前年度登録!DB73","v":""},{"$f":"前年度登録!AO73","v":""},{"$f":"前年度登録!DB73","v":""},{"$f":"前年度登録!AN73","v":""},{"$f":"前年度登録!DC73","v":""},{"$f":"前年度登録!DE73","v":0},{"$f":"前年度登録!DJ73","v":"00"},"三重",{"$f":"前年度登録!S73","v":0},null,{"$f":"IF(O76=\"\",\"\",IF(I76=1,VLOOKUP(O76,男子種目コード!$J$1:$K$16,2,FALSE),IF(I76=2,VLOOKUP(O76,女子種目コード!$J$1:$K$16,2,FALSE))))","v":""},{"$f":"IF(O76=\"\",\"\",HLOOKUP(O76,前年度登録!$AW$3:$CW$118,71,FALSE))","v":""},"","",null,{"$f":"IF(T76=\"\",\"\",IF(I76=1,VLOOKUP(T76,男子種目コード!$J$17:$K$19,2,FALSE),IF(I76=2,VLOOKUP(T76,女子種目コード!$J$17:$K$19,2,FALSE))))","v":""},null,"","",null,{"$f":"IF(Y76=\"\",\"\",IF(I76=1,VLOOKUP(Y76,男子種目コード!$D$2:$E$16,2,FALSE),IF(I76=2,VLOOKUP(Y76,女子種目コード!$D$2:$E$16,2,FALSE))))","v":""},null,null,{"$f":"IF(AB76=\"\",\"\",IF(I76=1,VLOOKUP(AB76,男子種目コード!$D$2:$E$16,2,FALSE),IF(I76=2,VLOOKUP(AB76,女子種目コード!$D$2:$E$16,2,FALSE))))","v":""},null,null,null,null,null,null,null,null,"",null,null,null,null,null,null,null,0,null,0,"",""]
[0,{"$f":"前年度登録!AE74","v":""},null,null,{"$f":"前年度登録!T74","v":0},{"$f":"前年度登録!DB74","v":""},{"$f":"前年度登録!AO74","v":""},{"$f":"前年度登録!DB74","v":""},{"$f":"前年度登録!AN74","v":""},{"$f":"前年度登録!DC74","v":""},{"$f":"前年度登録!DE74","v":0},{"$f":"前年度登録!DJ74","v":"00"},"三重",{"$f":"前年度登録!S74","v":0},null,{"$f":"IF(O77=\"\",\"\",IF(I77=1,VLOOKUP(O77,男子種目コード!$J$1:$K$16,2,FALSE),IF(I77=2,VLOOKUP(O77,女子種目コード!$J$1:$K$16,2,FALSE))))","v":""},{"$f":"IF(O77=\"\",\"\",HLOOKUP(O77,前年度登録!$AW$3:$CW$118,72,FALSE))","v":""},"","",null,{"$f":"IF(T77=\"\",\"\",IF(I77=1,VLOOKUP(T77,男子種目コード!$J$17:$K$19,2,FALSE),IF(I77=2,VLOOKUP(T77,女子種目コード!$J$17:$K$19,2,FALSE))))","v":""},null,"","",null,{"$f":"IF(Y77=\"\",\"\",IF(I77=1,VLOOKUP(Y77,男子種目コード!$D$2:$E$16,2,FALSE),IF(I77=2,VLOOKUP(Y77,女子種目コード!$D$2:$E$16,2,FALSE))))","v":""},null,null,{"$f":"IF(AB77=\"\",\"\",IF(I77=1,VLOOKUP(AB77,男子種目コード!$D$2:$E$16,2,FALSE),IF(I77=2,VLOOKUP(AB77,女子種目コード!$D$2:$E$16,2,FALSE))))","v":""},null,null,null,null,null,null,null,null,"",null,null,null,null,null,null,null,0,null,0,"",""]
[0,{"$f":"前年度登録!AE75","v":""},null,null,{"$f":"前年度登録!T75","v":0},{"$f":"前年度登録!DB75","v":""},{"$f":"前年度登録!AO75","v":""},{"$f":"前年度登録!DB75","v":""},{"$f":"前年度登録!AN75","v":""},{"$f":"前年度登録!DC75","v":""},{"$f":"前年度登録!DE75","v":0},{"$f":"前年度登録!DJ75","v":"00"},"三重",{"$f":"前年度登録!S75","v":0},null,{"$f":"IF(O78=\"\",\"\",IF(I78=1,VLOOKUP(O78,男子種目コード!$J$1:$K$16,2,FALSE),IF(I78=2,VLOOKUP(O78,女子種目コード!$J$1:$K$16,2,FALSE))))","v":""},{"$f":"IF(O78=\"\",\"\",HLOOKUP(O78,前年度登録!$AW$3:$CW$118,73,FALSE))","v":""},"","",null,{"$f":"IF(T78=\"\",\"\",IF(I78=1,VLOOKUP(T78,男子種目コード!$J$17:$K$19,2,FALSE),IF(I78=2,VLOOKUP(T78,女子種目コード!$J$17:$K$19,2,FALSE))))","v":""},null,"","",null,{"$f":"IF(Y78=\"\",\"\",IF(I78=1,VLOOKUP(Y78,男子種目コード!$D$2:$E$16,2,FALSE),IF(I78=2,VLOOKUP(Y78,女子種目コード!$D$2:$E$16,2,FALSE))))","v":""},null,null,{"$f":"IF(AB78=\"\",\"\",IF(I78=1,VLOOKUP(AB78,男子種目コード!$D$2:$E$16,2,FALSE),IF(I78=2,VLOOKUP(AB78,女子種目コード!$D$2:$E$16,2,FALSE))))","v":""},null,null,null,null,null,null,null,null,"",null,null,null,null,null,null,null,0,null,0,"",""]
[0,{"$f":"前年度登録!AE76","v":""},null,null,{"$f":"前年度登録!T76","v":0},{"$f":"前年度登録!DB76","v":""},{"$f":"前年度登録!AO76","v":""},{"$f":"前年度登録!DB76","v":""},{"$f":"前年度登録!AN76","v":""},{"$f":"前年度登録!DC76","v":""},{"$f":"前年度登録!DE76","v":0},{"$f":"前年度登録!DJ76","v":"00"},"三重",{"$f":"前年度登録!S76","v":0},null,{"$f":"IF(O79=\"\",\"\",IF(I79=1,VLOOKUP(O79,男子種目コード!$J$1:$K$16,2,FALSE),IF(I79=2,VLOOKUP(O79,女子種目コード!$J$1:$K$16,2,FALSE))))","v":""},{"$f":"IF(O79=\"\",\"\",HLOOKUP(O79,前年度登録!$AW$3:$CW$118,74,FALSE))","v":""},"","",null,{"$f":"IF(T79=\"\",\"\",IF(I79=1,VLOOKUP(T79,男子種目コード!$J$17:$K$19,2,FALSE),IF(I79=2,VLOOKUP(T79,女子種目コード!$J$17:$K$19,2,FALSE))))","v":""},null,"","",null,{"$f":"IF(Y79=\"\",\"\",IF(I79=1,VLOOKUP(Y79,男子種目コード!$D$2:$E$16,2,FALSE),IF(I79=2,VLOOKUP(Y79,女子種目コード!$D$2:$E$16,2,FALSE))))","v":""},null,null,{"$f":"IF(AB79=\"\",\"\",IF(I79=1,VLOOKUP(AB79,男子種目コード!$D$2:$E$16,2,FALSE),IF(I79=2,VLOOKUP(AB79,女子種目コード!$D$2:$E$16,2,FALSE))))","v":""},null,null,null,null,null,null,null,null,"",null,null,null,null,null,null,null,0,null,0,"",""]
[0,{"$f":"前年度登録!AE77","v":""},null,null,{"$f":"前年度登録!T77","v":0},{"$f":"前年度登録!DB77","v":""},{"$f":"前年度登録!AO77","v":""},{"$f":"前年度登録!DB77","v":""},{"$f":"前年度登録!AN77","v":""},{"$f":"前年度登録!DC77","v":""},{"$f":"前年度登録!DE77","v":0},{"$f":"前年度登録!DJ77","v":"00"},"三重",{"$f":"前年度登録!S77","v":0},null,{"$f":"IF(O80=\"\",\"\",IF(I80=1,VLOOKUP(O80,男子種目コード!$J$1:$K$16,2,FALSE),IF(I80=2,VLOOKUP(O80,女子種目コード!$J$1:$K$16,2,FALSE))))","v":""},{"$f":"IF(O80=\"\",\"\",HLOOKUP(O80,前年度登録!$AW$3:$CW$118,75,FALSE))","v":""},"","",null,{"$f":"IF(T80=\"\",\"\",IF(I80=1,VLOOKUP(T80,男子種目コード!$J$17:$K$19,2,FALSE),IF(I80=2,VLOOKUP(T80,女子種目コード!$J$17:$K$19,2,FALSE))))","v":""},null,"","",null,{"$f":"IF(Y80=\"\",\"\",IF(I80=1,VLOOKUP(Y80,男子種目コード!$D$2:$E$16,2,FALSE),IF(I80=2,VLOOKUP(Y80,女子種目コード!$D$2:$E$16,2,FALSE))))","v":""},null,null,{"$f":"IF(AB80=\"\",\"\",IF(I80=1,VLOOKUP(AB80,男子種目コード!$D$2:$E$16,2,FALSE),IF(I80=2,VLOOKUP(AB80,女子種目コード!$D$2:$E$16,2,FALSE))))","v":""},null,null,null,null,null,null,null,null,"",null,null,null,null,null,null,null,0,null,0,"",""]
[0,{"$f":"前年度登録!AE78","v":""},null,null,{"$f":"前年度登録!T78","v":0},{"$f":"前年度登録!DB78","v":""},{"$f":"前年度登録!AO78","v":""},{"$f":"前年度登録!DB78","v":""},{"$f":"前年度登録!AN78","v":""},{"$f":"前年度登録!DC78","v":""},{"$f":"前年度登録!DE78","v":0},{"$f":"前年度登録!DJ78","v":"00"},"三重",{"$f":"前年度登録!S78","v":0},null,{"$f":"IF(O81=\"\",\"\",IF(I81=1,VLOOKUP(O81,男子種目コード!$J$1:$K$16,2,FALSE),IF(I81=2,VLOOKUP(O81,女子種目コード!$J$1:$K$16,2,FALSE))))","v":""},{"$f":"IF(O81=\"\",\"\",HLOOKUP(O81,前年度登録!$AW$3:$CW$118,76,FALSE))","v":""},"","",null,{"$f":"IF(T81=\"\",\"\",IF(I81=1,VLOOKUP(T81,男子種目コード!$J$17:$K$19,2,FALSE),IF(I81=2,VLOOKUP(T81,女子種目コード!$J$17:$K$19,2,FALSE))))","v":""},null,"","",null,{"$f":"IF(Y81=\"\",\"\",IF(I81=1,VLOOKUP(Y81,男子種目コード!$D$2:$E$16,2,FALSE),IF(I81=2,VLOOKUP(Y81,女子種目コード!$D$2:$E$16,2,FALSE))))","v":""},null,null,{"$f":"IF(AB81=\"\",\"\",IF(I81=1,VLOOKUP(AB81,男子種目コード!$D$2:$E$16,2,FALSE),IF(I81=2,VLOOKUP(AB81,女子種目コード!$D$2:$E$16,2,FALSE))))","v":""},null,null,null,null,null,null,null,null,"",null,null,null,null,null,null,null,0,null,0,"",""]
[0,{"$f":"前年度登録!AE79","v":""},null,null,{"$f":"前年度登録!T79","v":0},{"$f":"前年度登録!DB79","v":""},{"$f":"前年度登録!AO79","v":""},{"$f":"前年度登録!DB79","v":""},{"$f":"前年度登録!AN79","v":""},{"$f":"前年度登録!DC79","v":""},{"$f":"前年度登録!DE79","v":0},{"$f":"前年度登録!DJ79","v":"00"},"三重",{"$f":"前年度登録!S79","v":0},null,{"$f":"IF(O82=\"\",\"\",IF(I82=1,VLOOKUP(O82,男子種目コード!$J$1:$K$16,2,FALSE),IF(I82=2,VLOOKUP(O82,女子種目コード!$J$1:$K$16,2,FALSE))))","v":""},{"$f":"IF(O82=\"\",\"\",HLOOKUP(O82,前年度登録!$AW$3:$CW$118,77,FALSE))","v":""},"","",null,{"$f":"IF(T82=\"\",\"\",IF(I82=1,VLOOKUP(T82,男子種目コード!$J$17:$K$19,2,FALSE),IF(I82=2,VLOOKUP(T82,女子種目コード!$J$17:$K$19,2,FALSE))))","v":""},null,"","",null,{"$f":"IF(Y82=\"\",\"\",IF(I82=1,VLOOKUP(Y82,男子種目コード!$D$2:$E$16,2,FALSE),IF(I82=2,VLOOKUP(Y82,女子種目コード!$D$2:$E$16,2,FALSE))))","v":""},null,null,{"$f":"IF(AB82=\"\",\"\",IF(I82=1,VLOOKUP(AB82,男子種目コード!$D$2:$E$16,2,FALSE),IF(I82=2,VLOOKUP(AB82,女子種目コード!$D$2:$E$16,2,FALSE))))","v":""},null,null,null,null,null,null,null,null,"",null,null,null,null,null,null,null,0,null,0,"",""]
[0,{"$f":"前年度登録!AE80","v":""},null,null,{"$f":"前年度登録!T80","v":0},{"$f":"前年度登録!DB80","v":""},{"$f":"前年度登録!AO80","v":""},{"$f":"前年度登録!DB80","v":""},{"$f":"前年度登録!AN80","v":""},{"$f":"前年度登録!DC80","v":""},{"$f":"前年度登録!DE80","v":0},{"$f":"前年度登録!DJ80","v":"00"},"三重",{"$f":"前年度登録!S80","v":0},null,{"$f":"IF(O83=\"\",\"\",IF(I83=1,VLOOKUP(O83,男子種目コード!$J$1:$K$16,2,FALSE),IF(I83=2,VLOOKUP(O83,女子種目コード!$J$1:$K$16,2,FALSE))))","v":""},{"$f":"IF(O83=\"\",\"\",HLOOKUP(O83,前年度登録!$AW$3:$CW$118,78,FALSE))","v":""},"","",null,{"$f":"IF(T83=\"\",\"\",IF(I83=1,VLOOKUP(T83,男子種目コード!$J$17:$K$19,2,FALSE),IF(I83=2,VLOOKUP(T83,女子種目コード!$J$17:$K$19,2,FALSE))))","v":""},null,"","",null,{"$f":"IF(Y83=\"\",\"\",IF(I83=1,VLOOKUP(Y83,男子種目コード!$D$2:$E$16,2,FALSE),IF(I83=2,VLOOKUP(Y83,女子種目コード!$D$2:$E$16,2,FALSE))))","v":""},null,null,{"$f":"IF(AB83=\"\",\"\",IF(I83=1,VLOOKUP(AB83,男子種目コード!$D$2:$E$16,2,FALSE),IF(I83=2,VLOOKUP(AB83,女子種目コード!$D$2:$E$16,2,FALSE))))","v":""},null,null,null,null,null,null,null,null,"",null,null,null,null,null,null,null,0,null,0,"",""]
[0,{"$f":"前年度登録!AE81","v":""},null,null,{"$f":"前年度登録!T81","v":0},{"$f":"前年度登録!DB81","v":""},{"$f":"前年度登録!AO81","v":""},{"$f":"前年度登録!DB81","v":""},{"$f":"前年度登録!AN81","v":""},{"$f":"前年度登録!DC81","v":""},{"$f":"前年度登録!DE81","v":0},{"$f":"前年度登録!DJ81","v":"00"},"三重",{"$f":"前年度登録!S81","v":0},null,{"$f":"IF(O84=\"\",\"\",IF(I84=1,VLOOKUP(O84,男子種目コード!$J$1:$K$16,2,FALSE),IF(I84=2,VLOOKUP(O84,女子種目コード!$J$1:$K$16,2,FALSE))))","v":""},{"$f":"IF(O84=\"\",\"\",HLOOKUP(O84,前年度登録!$AW$3:$CW$118,79,FALSE))","v":""},"","",null,{"$f":"IF(T84=\"\",\"\",IF(I84=1,VLOOKUP(T84,男子種目コード!$J$17:$K$19,2,FALSE),IF(I84=2,VLOOKUP(T84,女子種目コード!$J$17:$K$19,2,FALSE))))","v":""},null,"","",null,{"$f":"IF(Y84=\"\",\"\",IF(I84=1,VLOOKUP(Y84,男子種目コード!$D$2:$E$16,2,FALSE),IF(I84=2,VLOOKUP(Y84,女子種目コード!$D$2:$E$16,2,FALSE))))","v":""},null,null,{"$f":"IF(AB84=\"\",\"\",IF(I84=1,VLOOKUP(AB84,男子種目コード!$D$2:$E$16,2,FALSE),IF(I84=2,VLOOKUP(AB84,女子種目コード!$D$2:$E$16,2,FALSE))))","v":""},null,null,null,null,null,null,null,null,"",null,null,null,null,null,null,null,0,null,0,"",""]
[0,{"$f":"前年度登録!AE82","v":""},null,null,{"$f":"前年度登録!T82","v":0},{"$f":"前年度登録!DB82","v":""},{"$f":"前年度登録!AO82","v":""},{"$f":"前年度登録!DB82","v":""},{"$f":"前年度登録!AN82","v":""},{"$f":"前年度登録!DC82","v":""},{"$f":"前年度登録!DE82","v":0},{"$f":"前年度登録!DJ82","v":"00"},"三重",{"$f":"前年度登録!S82","v":0},null,{"$f":"IF(O85=\"\",\"\",IF(I85=1,VLOOKUP(O85,男子種目コード!$J$1:$K$16,2,FALSE),IF(I85=2,VLOOKUP(O85,女子種目コード!$J$1:$K$16,2,FALSE))))","v":""},{"$f":"IF(O85=\"\",\"\",HLOOKUP(O85,前年度登録!$AW$3:$CW$118,80,FALSE))","v":""},"","",null,{"$f":"IF(T85=\"\",\"\",IF(I85=1,VLOOKUP(T85,男子種目コード!$J$17:$K$19,2,FALSE),IF(I85=2,VLOOKUP(T85,女子種目コード!$J$17:$K$19,2,FALSE))))","v":""},null,"","",null,{"$f":"IF(Y85=\"\",\"\",IF(I85=1,VLOOKUP(Y85,男子種目コード!$D$2:$E$16,2,FALSE),IF(I85=2,VLOOKUP(Y85,女子種目コード!$D$2:$E$16,2,FALSE))))","v":""},null,null,{"$f":"IF(AB85=\"\",\"\",IF(I85=1,VLOOKUP(AB85,男子種目コード!$D$2:$E$16,2,FALSE),IF(I85=2,VLOOKUP(AB85,女子種目コード!$D$2:$E$16,2,FALSE))))","v":""},null,null,null,null,null,null,null,null,"",null,null,null,null,null,null,null,0,null,0,"",""]
[0,{"$f":"前年度登録!AE83","v":""},null,null,{"$f":"前年度登録!T83","v":0},{"$f":"前年度登録!DB83","v":""},{"$f":"前年度登録!AO83","v":""},{"$f":"前年度登録!DB83","v":""},{"$f":"前年度登録!AN83","v":""},{"$f":"前年度登録!DC83","v":""},{"$f":"前年度登録!DE83","v":0},{"$f":"前年度登録!DJ83","v":"00"},"三重",{"$f":"前年度登録!S83","v":0},null,{"$f":"IF(O86=\"\",\"\",IF(I86=1,VLOOKUP(O86,男子種目コード!$J$1:$K$16,2,FALSE),IF(I86=2,VLOOKUP(O86,女子種目コード!$J$1:$K$16,2,FALSE))))","v":""},{"$f":"IF(O86=\"\",\"\",HLOOKUP(O86,前年度登録!$AW$3:$CW$118,81,FALSE))","v":""},"","",null,{"$f":"IF(T86=\"\",\"\",IF(I86=1,VLOOKUP(T86,男子種目コード!$J$17:$K$19,2,FALSE),IF(I86=2,VLOOKUP(T86,女子種目コード!$J$17:$K$19,2,FALSE))))","v":""},null,"","",null,{"$f":"IF(Y86=\"\",\"\",IF(I86=1,VLOOKUP(Y86,男子種目コード!$D$2:$E$16,2,FALSE),IF(I86=2,VLOOKUP(Y86,女子種目コード!$D$2:$E$16,2,FALSE))))","v":""},null,null,{"$f":"IF(AB86=\"\",\"\",IF(I86=1,VLOOKUP(AB86,男子種目コード!$D$2:$E$16,2,FALSE),IF(I86=2,VLOOKUP(AB86,女子種目コード!$D$2:$E$16,2,FALSE))))","v":""},null,null,null,null,null,null,null,null,"",null,null,null,null,null,null,null,0,null,0,"",""]
[0,{"$f":"前年度登録!AE84","v":""},null,null,{"$f":"前年度登録!T84","v":0},{"$f":"前年度登録!DB84","v":""},{"$f":"前年度登録!AO84","v":""},{"$f":"前年度登録!DB84","v":""},{"$f":"前年度登録!AN84","v":""},{"$f":"前年度登録!DC84","v":""},{"$f":"前年度登録!DE84","v":0},{"$f":"前年度登録!DJ84","v":"00"},"三重",{"$f":"前年度登録!S84","v":0},null,{"$f":"IF(O87=\"\",\"\",IF(I87=1,VLOOKUP(O87,男子種目コード!$J$1:$K$16,2,FALSE),IF(I87=2,VLOOKUP(O87,女子種目コード!$J$1:$K$16,2,FALSE))))","v":""},{"$f":"IF(O87=\"\",\"\",HLOOKUP(O87,前年度登録!$AW$3:$CW$118,82,FALSE))","v":""},"","",null,{"$f":"IF(T87=\"\",\"\",IF(I87=1,VLOOKUP(T87,男子種目コード!$J$17:$K$19,2,FALSE),IF(I87=2,VLOOKUP(T87,女子種目コード!$J$17:$K$19,2,FALSE))))","v":""},null,"","",null,{"$f":"IF(Y87=\"\",\"\",IF(I87=1,VLOOKUP(Y87,男子種目コード!$D$2:$E$16,2,FALSE),IF(I87=2,VLOOKUP(Y87,女子種目コード!$D$2:$E$16,2,FALSE))))","v":""},null,null,{"$f":"IF(AB87=\"\",\"\",IF(I87=1,VLOOKUP(AB87,男子種目コード!$D$2:$E$16,2,FALSE),IF(I87=2,VLOOKUP(AB87,女子種目コード!$D$2:$E$16,2,FALSE))))","v":""},null,null,null,null,null,null,null,null,"",null,null,null,null,null,null,null,0,null,0,"",""]
[0,{"$f":"前年度登録!AE85","v":""},null,null,{"$f":"前年度登録!T85","v":0},{"$f":"前年度登録!DB85","v":""},{"$f":"前年度登録!AO85","v":""},{"$f":"前年度登録!DB85","v":""},{"$f":"前年度登録!AN85","v":""},{"$f":"前年度登録!DC85","v":""},{"$f":"前年度登録!DE85","v":0},{"$f":"前年度登録!DJ85","v":"00"},"三重",{"$f":"前年度登録!S85","v":0},null,{"$f":"IF(O88=\"\",\"\",IF(I88=1,VLOOKUP(O88,男子種目コード!$J$1:$K$16,2,FALSE),IF(I88=2,VLOOKUP(O88,女子種目コード!$J$1:$K$16,2,FALSE))))","v":""},{"$f":"IF(O88=\"\",\"\",HLOOKUP(O88,前年度登録!$AW$3:$CW$118,83,FALSE))","v":""},"","",null,{"$f":"IF(T88=\"\",\"\",IF(I88=1,VLOOKUP(T88,男子種目コード!$J$17:$K$19,2,FALSE),IF(I88=2,VLOOKUP(T88,女子種目コード!$J$17:$K$19,2,FALSE))))","v":""},null,"","",null,{"$f":"IF(Y88=\"\",\"\",IF(I88=1,VLOOKUP(Y88,男子種目コード!$D$2:$E$16,2,FALSE),IF(I88=2,VLOOKUP(Y88,女子種目コード!$D$2:$E$16,2,FALSE))))","v":""},null,null,{"$f":"IF(AB88=\"\",\"\",IF(I88=1,VLOOKUP(AB88,男子種目コード!$D$2:$E$16,2,FALSE),IF(I88=2,VLOOKUP(AB88,女子種目コード!$D$2:$E$16,2,FALSE))))","v":""},null,null,null,null,null,null,null,null,"",null,null,null,null,null,null,null,0,null,0,"",""]
[0,{"$f":"前年度登録!AE86","v":""},null,null,{"$f":"前年度登録!T86","v":0},{"$f":"前年度登録!DB86","v":""},{"$f":"前年度登録!AO86","v":""},{"$f":"前年度登録!DB86","v":""},{"$f":"前年度登録!AN86","v":""},{"$f":"前年度登録!DC86","v":""},{"$f":"前年度登録!DE86","v":0},{"$f":"前年度登録!DJ86","v":"00"},"三重",{"$f":"前年度登録!S86","v":0},null,{"$f":"IF(O89=\"\",\"\",IF(I89=1,VLOOKUP(O89,男子種目コード!$J$1:$K$16,2,FALSE),IF(I89=2,VLOOKUP(O89,女子種目コード!$J$1:$K$16,2,FALSE))))","v":""},{"$f":"IF(O89=\"\",\"\",HLOOKUP(O89,前年度登録!$AW$3:$CW$118,84,FALSE))","v":""},"","",null,{"$f":"IF(T89=\"\",\"\",IF(I89=1,VLOOKUP(T89,男子種目コード!$J$17:$K$19,2,FALSE),IF(I89=2,VLOOKUP(T89,女子種目コード!$J$17:$K$19,2,FALSE))))","v":""},null,"","",null,{"$f":"IF(Y89=\"\",\"\",IF(I89=1,VLOOKUP(Y89,男子種目コード!$D$2:$E$16,2,FALSE),IF(I89=2,VLOOKUP(Y89,女子種目コード!$D$2:$E$16,2,FALSE))))","v":""},null,null,{"$f":"IF(AB89=\"\",\"\",IF(I89=1,VLOOKUP(AB89,男子種目コード!$D$2:$E$16,2,FALSE),IF(I89=2,VLOOKUP(AB89,女子種目コード!$D$2:$E$16,2,FALSE))))","v":""},null,null,null,null,null,null,null,null,"",null,null,null,null,null,null,null,0,null,0,"",""]
[0,{"$f":"前年度登録!AE87","v":""},null,null,{"$f":"前年度登録!T87","v":0},{"$f":"前年度登録!DB87","v":""},{"$f":"前年度登録!AO87","v":""},{"$f":"前年度登録!DB87","v":""},{"$f":"前年度登録!AN87","v":""},{"$f":"前年度登録!DC87","v":""},{"$f":"前年度登録!DE87","v":0},{"$f":"前年度登録!DJ87","v":"00"},"三重",{"$f":"前年度登録!S87","v":0},null,{"$f":"IF(O90=\"\",\"\",IF(I90=1,VLOOKUP(O90,男子種目コード!$J$1:$K$16,2,FALSE),IF(I90=2,VLOOKUP(O90,女子種目コード!$J$1:$K$16,2,FALSE))))","v":""},{"$f":"IF(O90=\"\",\"\",HLOOKUP(O90,前年度登録!$AW$3:$CW$118,85,FALSE))","v":""},"","",null,{"$f":"IF(T90=\"\",\"\",IF(I90=1,VLOOKUP(T90,男子種目コード!$J$17:$K$19,2,FALSE),IF(I90=2,VLOOKUP(T90,女子種目コード!$J$17:$K$19,2,FALSE))))","v":""},null,"","",null,{"$f":"IF(Y90=\"\",\"\",IF(I90=1,VLOOKUP(Y90,男子種目コード!$D$2:$E$16,2,FALSE),IF(I90=2,VLOOKUP(Y90,女子種目コード!$D$2:$E$16,2,FALSE))))","v":""},null,null,{"$f":"IF(AB90=\"\",\"\",IF(I90=1,VLOOKUP(AB90,男子種目コード!$D$2:$E$16,2,FALSE),IF(I90=2,VLOOKUP(AB90,女子種目コード!$D$2:$E$16,2,FALSE))))","v":""},null,null,null,null,null,null,null,null,"",null,null,null,null,null,null,null,0,null,0,"",""]
[0,{"$f":"前年度登録!AE88","v":""},null,null,{"$f":"前年度登録!T88","v":0},{"$f":"前年度登録!DB88","v":""},{"$f":"前年度登録!AO88","v":""},{"$f":"前年度登録!DB88","v":""},{"$f":"前年度登録!AN88","v":""},{"$f":"前年度登録!DC88","v":""},{"$f":"前年度登録!DE88","v":0},{"$f":"前年度登録!DJ88","v":"00"},"三重",{"$f":"前年度登録!S88","v":0},null,{"$f":"IF(O91=\"\",\"\",IF(I91=1,VLOOKUP(O91,男子種目コード!$J$1:$K$16,2,FALSE),IF(I91=2,VLOOKUP(O91,女子種目コード!$J$1:$K$16,2,FALSE))))","v":""},{"$f":"IF(O91=\"\",\"\",HLOOKUP(O91,前年度登録!$AW$3:$CW$118,86,FALSE))","v":""},"","",null,{"$f":"IF(T91=\"\",\"\",IF(I91=1,VLOOKUP(T91,男子種目コード!$J$17:$K$19,2,FALSE),IF(I91=2,VLOOKUP(T91,女子種目コード!$J$17:$K$19,2,FALSE))))","v":""},null,"","",null,{"$f":"IF(Y91=\"\",\"\",IF(I91=1,VLOOKUP(Y91,男子種目コード!$D$2:$E$16,2,FALSE),IF(I91=2,VLOOKUP(Y91,女子種目コード!$D$2:$E$16,2,FALSE))))","v":""},null,null,{"$f":"IF(AB91=\"\",\"\",IF(I91=1,VLOOKUP(AB91,男子種目コード!$D$2:$E$16,2,FALSE),IF(I91=2,VLOOKUP(AB91,女子種目コード!$D$2:$E$16,2,FALSE))))","v":""},null,null,null,null,null,null,null,null,"",null,null,null,null,null,null,null,0,null,0,"",""]
[0,{"$f":"前年度登録!AE89","v":""},null,null,{"$f":"前年度登録!T89","v":0},{"$f":"前年度登録!DB89","v":""},{"$f":"前年度登録!AO89","v":""},{"$f":"前年度登録!DB89","v":""},{"$f":"前年度登録!AN89","v":""},{"$f":"前年度登録!DC89","v":""},{"$f":"前年度登録!DE89","v":0},{"$f":"前年度登録!DJ89","v":"00"},"三重",{"$f":"前年度登録!S89","v":0},null,{"$f":"IF(O92=\"\",\"\",IF(I92=1,VLOOKUP(O92,男子種目コード!$J$1:$K$16,2,FALSE),IF(I92=2,VLOOKUP(O92,女子種目コード!$J$1:$K$16,2,FALSE))))","v":""},{"$f":"IF(O92=\"\",\"\",HLOOKUP(O92,前年度登録!$AW$3:$CW$118,87,FALSE))","v":""},"","",null,{"$f":"IF(T92=\"\",\"\",IF(I92=1,VLOOKUP(T92,男子種目コード!$J$17:$K$19,2,FALSE),IF(I92=2,VLOOKUP(T92,女子種目コード!$J$17:$K$19,2,FALSE))))","v":""},null,"","",null,{"$f":"IF(Y92=\"\",\"\",IF(I92=1,VLOOKUP(Y92,男子種目コード!$D$2:$E$16,2,FALSE),IF(I92=2,VLOOKUP(Y92,女子種目コード!$D$2:$E$16,2,FALSE))))","v":""},null,null,{"$f":"IF(AB92=\"\",\"\",IF(I92=1,VLOOKUP(AB92,男子種目コード!$D$2:$E$16,2,FALSE),IF(I92=2,VLOOKUP(AB92,女子種目コード!$D$2:$E$16,2,FALSE))))","v":""},null,null,null,null,null,null,null,null,"",null,null,null,null,null,null,null,0,null,0,"",""]
[0,{"$f":"前年度登録!AE90","v":""},null,null,{"$f":"前年度登録!T90","v":0},{"$f":"前年度登録!DB90","v":""},{"$f":"前年度登録!AO90","v":""},{"$f":"前年度登録!DB90","v":""},{"$f":"前年度登録!AN90","v":""},{"$f":"前年度登録!DC90","v":""},{"$f":"前年度登録!DE90","v":0},{"$f":"前年度登録!DJ90","v":"00"},"三重",{"$f":"前年度登録!S90","v":0},null,{"$f":"IF(O93=\"\",\"\",IF(I93=1,VLOOKUP(O93,男子種目コード!$J$1:$K$16,2,FALSE),IF(I93=2,VLOOKUP(O93,女子種目コード!$J$1:$K$16,2,FALSE))))","v":""},{"$f":"IF(O93=\"\",\"\",HLOOKUP(O93,前年度登録!$AW$3:$CW$118,88,FALSE))","v":""},"","",null,{"$f":"IF(T93=\"\",\"\",IF(I93=1,VLOOKUP(T93,男子種目コード!$J$17:$K$19,2,FALSE),IF(I93=2,VLOOKUP(T93,女子種目コード!$J$17:$K$19,2,FALSE))))","v":""},null,"","",null,{"$f":"IF(Y93=\"\",\"\",IF(I93=1,VLOOKUP(Y93,男子種目コード!$D$2:$E$16,2,FALSE),IF(I93=2,VLOOKUP(Y93,女子種目コード!$D$2:$E$16,2,FALSE))))","v":""},null,null,{"$f":"IF(AB93=\"\",\"\",IF(I93=1,VLOOKUP(AB93,男子種目コード!$D$2:$E$16,2,FALSE),IF(I93=2,VLOOKUP(AB93,女子種目コード!$D$2:$E$16,2,FALSE))))","v":""},null,null,null,null,null,null,null,null,"",null,null,null,null,null,null,null,0,null,0,"",""]
[0,{"$f":"前年度登録!AE91","v":""},null,null,{"$f":"前年度登録!T91","v":0},{"$f":"前年度登録!DB91","v":""},{"$f":"前年度登録!AO91","v":""},{"$f":"前年度登録!DB91","v":""},{"$f":"前年度登録!AN91","v":""},{"$f":"前年度登録!DC91","v":""},{"$f":"前年度登録!DE91","v":0},{"$f":"前年度登録!DJ91","v":"00"},"三重",{"$f":"前年度登録!S91","v":0},null,{"$f":"IF(O94=\"\",\"\",IF(I94=1,VLOOKUP(O94,男子種目コード!$J$1:$K$16,2,FALSE),IF(I94=2,VLOOKUP(O94,女子種目コード!$J$1:$K$16,2,FALSE))))","v":""},{"$f":"IF(O94=\"\",\"\",HLOOKUP(O94,前年度登録!$AW$3:$CW$118,89,FALSE))","v":""},"","",null,{"$f":"IF(T94=\"\",\"\",IF(I94=1,VLOOKUP(T94,男子種目コード!$J$17:$K$19,2,FALSE),IF(I94=2,VLOOKUP(T94,女子種目コード!$J$17:$K$19,2,FALSE))))","v":""},null,"","",null,{"$f":"IF(Y94=\"\",\"\",IF(I94=1,VLOOKUP(Y94,男子種目コード!$D$2:$E$16,2,FALSE),IF(I94=2,VLOOKUP(Y94,女子種目コード!$D$2:$E$16,2,FALSE))))","v":""},null,null,{"$f":"IF(AB94=\"\",\"\",IF(I94=1,VLOOKUP(AB94,男子種目コード!$D$2:$E$16,2,FALSE),IF(I94=2,VLOOKUP(AB94,女子種目コード!$D$2:$E$16,2,FALSE))))","v":""},null,null,null,null,null,null,null,null,"",null,null,null,null,null,null,null,0,null,0,"",""]
[0,{"$f":"前年度登録!AE92","v":""},null,null,{"$f":"前年度登録!T92","v":0},{"$f":"前年度登録!DB92","v":""},{"$f":"前年度登録!AO92","v":""},{"$f":"前年度登録!DB92","v":""},{"$f":"前年度登録!AN92","v":""},{"$f":"前年度登録!DC92","v":""},{"$f":"前年度登録!DE92","v":0},{"$f":"前年度登録!DJ92","v":"00"},"三重",{"$f":"前年度登録!S92","v":0},null,{"$f":"IF(O95=\"\",\"\",IF(I95=1,VLOOKUP(O95,男子種目コード!$J$1:$K$16,2,FALSE),IF(I95=2,VLOOKUP(O95,女子種目コード!$J$1:$K$16,2,FALSE))))","v":""},{"$f":"IF(O95=\"\",\"\",HLOOKUP(O95,前年度登録!$AW$3:$CW$118,90,FALSE))","v":""},"","",null,{"$f":"IF(T95=\"\",\"\",IF(I95=1,VLOOKUP(T95,男子種目コード!$J$17:$K$19,2,FALSE),IF(I95=2,VLOOKUP(T95,女子種目コード!$J$17:$K$19,2,FALSE))))","v":""},null,"","",null,{"$f":"IF(Y95=\"\",\"\",IF(I95=1,VLOOKUP(Y95,男子種目コード!$D$2:$E$16,2,FALSE),IF(I95=2,VLOOKUP(Y95,女子種目コード!$D$2:$E$16,2,FALSE))))","v":""},null,null,{"$f":"IF(AB95=\"\",\"\",IF(I95=1,VLOOKUP(AB95,男子種目コード!$D$2:$E$16,2,FALSE),IF(I95=2,VLOOKUP(AB95,女子種目コード!$D$2:$E$16,2,FALSE))))","v":""},null,null,null,null,null,null,null,null,"",null,null,null,null,null,null,null,0,null,0,"",""]
[0,{"$f":"前年度登録!AE93","v":""},null,null,{"$f":"前年度登録!T93","v":0},{"$f":"前年度登録!DB93","v":""},{"$f":"前年度登録!AO93","v":""},{"$f":"前年度登録!DB93","v":""},{"$f":"前年度登録!AN93","v":""},{"$f":"前年度登録!DC93","v":""},{"$f":"前年度登録!DE93","v":0},{"$f":"前年度登録!DJ93","v":"00"},"三重",{"$f":"前年度登録!S93","v":0},null,{"$f":"IF(O96=\"\",\"\",IF(I96=1,VLOOKUP(O96,男子種目コード!$J$1:$K$16,2,FALSE),IF(I96=2,VLOOKUP(O96,女子種目コード!$J$1:$K$16,2,FALSE))))","v":""},{"$f":"IF(O96=\"\",\"\",HLOOKUP(O96,前年度登録!$AW$3:$CW$118,91,FALSE))","v":""},"","",null,{"$f":"IF(T96=\"\",\"\",IF(I96=1,VLOOKUP(T96,男子種目コード!$J$17:$K$19,2,FALSE),IF(I96=2,VLOOKUP(T96,女子種目コード!$J$17:$K$19,2,FALSE))))","v":""},null,"","",null,{"$f":"IF(Y96=\"\",\"\",IF(I96=1,VLOOKUP(Y96,男子種目コード!$D$2:$E$16,2,FALSE),IF(I96=2,VLOOKUP(Y96,女子種目コード!$D$2:$E$16,2,FALSE))))","v":""},null,null,{"$f":"IF(AB96=\"\",\"\",IF(I96=1,VLOOKUP(AB96,男子種目コード!$D$2:$E$16,2,FALSE),IF(I96=2,VLOOKUP(AB96,女子種目コード!$D$2:$E$16,2,FALSE))))","v":""},null,null,null,null,null,null,null,null,"",null,null,null,null,null,null,null,0,null,0,"",""]
[0,{"$f":"前年度登録!AE94","v":""},null,null,{"$f":"前年度登録!T94","v":0},{"$f":"前年度登録!DB94","v":""},{"$f":"前年度登録!AO94","v":""},{"$f":"前年度登録!DB94","v":""},{"$f":"前年度登録!AN94","v":""},{"$f":"前年度登録!DC94","v":""},{"$f":"前年度登録!DE94","v":0},{"$f":"前年度登録!DJ94","v":"00"},"三重",{"$f":"前年度登録!S94","v":0},null,{"$f":"IF(O97=\"\",\"\",IF(I97=1,VLOOKUP(O97,男子種目コード!$J$1:$K$16,2,FALSE),IF(I97=2,VLOOKUP(O97,女子種目コード!$J$1:$K$16,2,FALSE))))","v":""},{"$f":"IF(O97=\"\",\"\",HLOOKUP(O97,前年度登録!$AW$3:$CW$118,92,FALSE))","v":""},"","",null,{"$f":"IF(T97=\"\",\"\",IF(I97=1,VLOOKUP(T97,男子種目コード!$J$17:$K$19,2,FALSE),IF(I97=2,VLOOKUP(T97,女子種目コード!$J$17:$K$19,2,FALSE))))","v":""},null,"","",null,{"$f":"IF(Y97=\"\",\"\",IF(I97=1,VLOOKUP(Y97,男子種目コード!$D$2:$E$16,2,FALSE),IF(I97=2,VLOOKUP(Y97,女子種目コード!$D$2:$E$16,2,FALSE))))","v":""},null,null,{"$f":"IF(AB97=\"\",\"\",IF(I97=1,VLOOKUP(AB97,男子種目コード!$D$2:$E$16,2,FALSE),IF(I97=2,VLOOKUP(AB97,女子種目コード!$D$2:$E$16,2,FALSE))))","v":""},null,null,null,null,null,null,null,null,"",null,null,null,null,null,null,null,0,null,0,"",""]
[0,{"$f":"前年度登録!AE95","v":""},null,null,{"$f":"前年度登録!T95","v":0},{"$f":"前年度登録!DB95","v":""},{"$f":"前年度登録!AO95","v":""},{"$f":"前年度登録!DB95","v":""},{"$f":"前年度登録!AN95","v":""},{"$f":"前年度登録!DC95","v":""},{"$f":"前年度登録!DE95","v":0},{"$f":"前年度登録!DJ95","v":"00"},"三重",{"$f":"前年度登録!S95","v":0},null,{"$f":"IF(O98=\"\",\"\",IF(I98=1,VLOOKUP(O98,男子種目コード!$J$1:$K$16,2,FALSE),IF(I98=2,VLOOKUP(O98,女子種目コード!$J$1:$K$16,2,FALSE))))","v":""},{"$f":"IF(O98=\"\",\"\",HLOOKUP(O98,前年度登録!$AW$3:$CW$118,93,FALSE))","v":""},"","",null,{"$f":"IF(T98=\"\",\"\",IF(I98=1,VLOOKUP(T98,男子種目コード!$J$17:$K$19,2,FALSE),IF(I98=2,VLOOKUP(T98,女子種目コード!$J$17:$K$19,2,FALSE))))","v":""},null,"","",null,{"$f":"IF(Y98=\"\",\"\",IF(I98=1,VLOOKUP(Y98,男子種目コード!$D$2:$E$16,2,FALSE),IF(I98=2,VLOOKUP(Y98,女子種目コード!$D$2:$E$16,2,FALSE))))","v":""},null,null,{"$f":"IF(AB98=\"\",\"\",IF(I98=1,VLOOKUP(AB98,男子種目コード!$D$2:$E$16,2,FALSE),IF(I98=2,VLOOKUP(AB98,女子種目コード!$D$2:$E$16,2,FALSE))))","v":""},null,null,null,null,null,null,null,null,"",null,null,null,null,null,null,null,0,null,0,"",""]
[0,{"$f":"前年度登録!AE96","v":""},null,null,{"$f":"前年度登録!T96","v":0},{"$f":"前年度登録!DB96","v":""},{"$f":"前年度登録!AO96","v":""},{"$f":"前年度登録!DB96","v":""},{"$f":"前年度登録!AN96","v":""},{"$f":"前年度登録!DC96","v":""},{"$f":"前年度登録!DE96","v":0},{"$f":"前年度登録!DJ96","v":"00"},"三重",{"$f":"前年度登録!S96","v":0},null,{"$f":"IF(O99=\"\",\"\",IF(I99=1,VLOOKUP(O99,男子種目コード!$J$1:$K$16,2,FALSE),IF(I99=2,VLOOKUP(O99,女子種目コード!$J$1:$K$16,2,FALSE))))","v":""},{"$f":"IF(O99=\"\",\"\",HLOOKUP(O99,前年度登録!$AW$3:$CW$118,94,FALSE))","v":""},"","",null,{"$f":"IF(T99=\"\",\"\",IF(I99=1,VLOOKUP(T99,男子種目コード!$J$17:$K$19,2,FALSE),IF(I99=2,VLOOKUP(T99,女子種目コード!$J$17:$K$19,2,FALSE))))","v":""},null,"","",null,{"$f":"IF(Y99=\"\",\"\",IF(I99=1,VLOOKUP(Y99,男子種目コード!$D$2:$E$16,2,FALSE),IF(I99=2,VLOOKUP(Y99,女子種目コード!$D$2:$E$16,2,FALSE))))","v":""},null,null,{"$f":"IF(AB99=\"\",\"\",IF(I99=1,VLOOKUP(AB99,男子種目コード!$D$2:$E$16,2,FALSE),IF(I99=2,VLOOKUP(AB99,女子種目コード!$D$2:$E$16,2,FALSE))))","v":""},null,null,null,null,null,null,null,null,"",null,null,null,null,null,null,null,0,null,0,"",""]
[0,{"$f":"前年度登録!AE97","v":""},null,null,{"$f":"前年度登録!T97","v":0},{"$f":"前年度登録!DB97","v":""},{"$f":"前年度登録!AO97","v":""},{"$f":"前年度登録!DB97","v":""},{"$f":"前年度登録!AN97","v":""},{"$f":"前年度登録!DC97","v":""},{"$f":"前年度登録!DE97","v":0},{"$f":"前年度登録!DJ97","v":"00"},"三重",{"$f":"前年度登録!S97","v":0},null,{"$f":"IF(O100=\"\",\"\",IF(I100=1,VLOOKUP(O100,男子種目コード!$J$1:$K$16,2,FALSE),IF(I100=2,VLOOKUP(O100,女子種目コード!$J$1:$K$16,2,FALSE))))","v":""},{"$f":"IF(O100=\"\",\"\",HLOOKUP(O100,前年度登録!$AW$3:$CW$118,95,FALSE))","v":""},"","",null,{"$f":"IF(T100=\"\",\"\",IF(I100=1,VLOOKUP(T100,男子種目コード!$J$17:$K$19,2,FALSE),IF(I100=2,VLOOKUP(T100,女子種目コード!$J$17:$K$19,2,FALSE))))","v":""},null,"","",null,{"$f":"IF(Y100=\"\",\"\",IF(I100=1,VLOOKUP(Y100,男子種目コード!$D$2:$E$16,2,FALSE),IF(I100=2,VLOOKUP(Y100,女子種目コード!$D$2:$E$16,2,FALSE))))","v":""},null,null,{"$f":"IF(AB100=\"\",\"\",IF(I100=1,VLOOKUP(AB100,男子種目コード!$D$2:$E$16,2,FALSE),IF(I100=2,VLOOKUP(AB100,女子種目コード!$D$2:$E$16,2,FALSE))))","v":""},null,null,null,null,null,null,null,null,"",null,null,null,null,null,null,null,0,null,0,"",""]
[0,{"$f":"前年度登録!AE98","v":""},null,null,{"$f":"前年度登録!T98","v":0},{"$f":"前年度登録!DB98","v":""},{"$f":"前年度登録!AO98","v":""},{"$f":"前年度登録!DB98","v":""},{"$f":"前年度登録!AN98","v":""},{"$f":"前年度登録!DC98","v":""},{"$f":"前年度登録!DE98","v":0},{"$f":"前年度登録!DJ98","v":"00"},"三重",{"$f":"前年度登録!S98","v":0},null,{"$f":"IF(O101=\"\",\"\",IF(I101=1,VLOOKUP(O101,男子種目コード!$J$1:$K$16,2,FALSE),IF(I101=2,VLOOKUP(O101,女子種目コード!$J$1:$K$16,2,FALSE))))","v":""},{"$f":"IF(O101=\"\",\"\",HLOOKUP(O101,前年度登録!$AW$3:$CW$118,96,FALSE))","v":""},"","",null,{"$f":"IF(T101=\"\",\"\",IF(I101=1,VLOOKUP(T101,男子種目コード!$J$17:$K$19,2,FALSE),IF(I101=2,VLOOKUP(T101,女子種目コード!$J$17:$K$19,2,FALSE))))","v":""},null,"","",null,{"$f":"IF(Y101=\"\",\"\",IF(I101=1,VLOOKUP(Y101,男子種目コード!$D$2:$E$16,2,FALSE),IF(I101=2,VLOOKUP(Y101,女子種目コード!$D$2:$E$16,2,FALSE))))","v":""},null,null,{"$f":"IF(AB101=\"\",\"\",IF(I101=1,VLOOKUP(AB101,男子種目コード!$D$2:$E$16,2,FALSE),IF(I101=2,VLOOKUP(AB101,女子種目コード!$D$2:$E$16,2,FALSE))))","v":""},null,null,null,null,null,null,null,null,"",null,null,null,null,null,null,null,0,null,0,"",""]
[0,{"$f":"前年度登録!AE99","v":""},null,null,{"$f":"前年度登録!T99","v":0},{"$f":"前年度登録!DB99","v":""},{"$f":"前年度登録!AO99","v":""},{"$f":"前年度登録!DB99","v":""},{"$f":"前年度登録!AN99","v":""},{"$f":"前年度登録!DC99","v":""},{"$f":"前年度登録!DE99","v":0},{"$f":"前年度登録!DJ99","v":"00"},"三重",{"$f":"前年度登録!S99","v":0},null,{"$f":"IF(O102=\"\",\"\",IF(I102=1,VLOOKUP(O102,男子種目コード!$J$1:$K$16,2,FALSE),IF(I102=2,VLOOKUP(O102,女子種目コード!$J$1:$K$16,2,FALSE))))","v":""},{"$f":"IF(O102=\"\",\"\",HLOOKUP(O102,前年度登録!$AW$3:$CW$118,97,FALSE))","v":""},"","",null,{"$f":"IF(T102=\"\",\"\",IF(I102=1,VLOOKUP(T102,男子種目コード!$J$17:$K$19,2,FALSE),IF(I102=2,VLOOKUP(T102,女子種目コード!$J$17:$K$19,2,FALSE))))","v":""},null,"","",null,{"$f":"IF(Y102=\"\",\"\",IF(I102=1,VLOOKUP(Y102,男子種目コード!$D$2:$E$16,2,FALSE),IF(I102=2,VLOOKUP(Y102,女子種目コード!$D$2:$E$16,2,FALSE))))","v":""},null,null,{"$f":"IF(AB102=\"\",\"\",IF(I102=1,VLOOKUP(AB102,男子種目コード!$D$2:$E$16,2,FALSE),IF(I102=2,VLOOKUP(AB102,女子種目コード!$D$2:$E$16,2,FALSE))))","v":""},null,null,null,null,null,null,null,null,"",null,null,null,null,null,null,null,0,null,0,"",""]
[0,{"$f":"前年度登録!AE100","v":""},null,null,{"$f":"前年度登録!T100","v":0},{"$f":"前年度登録!DB100","v":""},{"$f":"前年度登録!AO100","v":""},{"$f":"前年度登録!DB100","v":""},{"$f":"前年度登録!AN100","v":""},{"$f":"前年度登録!DC100","v":""},{"$f":"前年度登録!DE100","v":0},{"$f":"前年度登録!DJ100","v":"00"},"三重",{"$f":"前年度登録!S100","v":0},null,{"$f":"IF(O103=\"\",\"\",IF(I103=1,VLOOKUP(O103,男子種目コード!$J$1:$K$16,2,FALSE),IF(I103=2,VLOOKUP(O103,女子種目コード!$J$1:$K$16,2,FALSE))))","v":""},{"$f":"IF(O103=\"\",\"\",HLOOKUP(O103,前年度登録!$AW$3:$CW$118,98,FALSE))","v":""},"","",null,{"$f":"IF(T103=\"\",\"\",IF(I103=1,VLOOKUP(T103,男子種目コード!$J$17:$K$19,2,FALSE),IF(I103=2,VLOOKUP(T103,女子種目コード!$J$17:$K$19,2,FALSE))))","v":""},null,"","",null,{"$f":"IF(Y103=\"\",\"\",IF(I103=1,VLOOKUP(Y103,男子種目コード!$D$2:$E$16,2,FALSE),IF(I103=2,VLOOKUP(Y103,女子種目コード!$D$2:$E$16,2,FALSE))))","v":""},null,null,{"$f":"IF(AB103=\"\",\"\",IF(I103=1,VLOOKUP(AB103,男子種目コード!$D$2:$E$16,2,FALSE),IF(I103=2,VLOOKUP(AB103,女子種目コード!$D$2:$E$16,2,FALSE))))","v":""},null,null,null,null,null,null,null,null,"",null,null,null,null,null,null,null,{"$f":"IF(OR(AL103=1,T103=\"\"),0,1)","v":0},null,{"$f":"COUNT(P103,U103)","v":0},{"$f":"IF(I103=1,AV103,\"\")","v":""},{"$f":"IF(I103=2,AV103,\"\")","v":""}]
[0,{"$f":"前年度登録!AE101","v":""},null,null,{"$f":"前年度登録!T101","v":0},{"$f":"前年度登録!DB101","v":""},{"$f":"前年度登録!AO101","v":""},{"$f":"前年度登録!DB101","v":""},{"$f":"前年度登録!AN101","v":""},{"$f":"前年度登録!DC101","v":""},{"$f":"前年度登録!DE101","v":0},{"$f":"前年度登録!DJ101","v":"00"},"三重",{"$f":"前年度登録!S101","v":0},null,{"$f":"IF(O104=\"\",\"\",IF(I104=1,VLOOKUP(O104,男子種目コード!$J$1:$K$16,2,FALSE),IF(I104=2,VLOOKUP(O104,女子種目コード!$J$1:$K$16,2,FALSE))))","v":""},{"$f":"IF(O104=\"\",\"\",HLOOKUP(O104,前年度登録!$AW$3:$CW$118,99,FALSE))","v":""},"","",null,{"$f":"IF(T104=\"\",\"\",IF(I104=1,VLOOKUP(T104,男子種目コード!$J$17:$K$19,2,FALSE),IF(I104=2,VLOOKUP(T104,女子種目コード!$J$17:$K$19,2,FALSE))))","v":""},null,"","",null,{"$f":"IF(Y104=\"\",\"\",IF(I104=1,VLOOKUP(Y104,男子種目コード!$D$2:$E$16,2,FALSE),IF(I104=2,VLOOKUP(Y104,女子種目コード!$D$2:$E$16,2,FALSE))))","v":""},null,null,{"$f":"IF(AB104=\"\",\"\",IF(I104=1,VLOOKUP(AB104,男子種目コード!$D$2:$E$16,2,FALSE),IF(I104=2,VLOOKUP(AB104,女子種目コード!$D$2:$E$16,2,FALSE))))","v":""},null,null,null,null,null,null,null,null,"",null,null,null,null,null,null,null,0,null,0,"",""]
[0,{"$f":"前年度登録!AE102","v":""},null,null,{"$f":"前年度登録!T102","v":0},{"$f":"前年度登録!DB102","v":""},{"$f":"前年度登録!AO102","v":""},{"$f":"前年度登録!DB102","v":""},{"$f":"前年度登録!AN102","v":""},{"$f":"前年度登録!DC102","v":""},{"$f":"前年度登録!DE102","v":0},{"$f":"前年度登録!DJ102","v":"00"},"三重",{"$f":"前年度登録!S102","v":0},null,{"$f":"IF(O105=\"\",\"\",IF(I105=1,VLOOKUP(O105,男子種目コード!$J$1:$K$16,2,FALSE),IF(I105=2,VLOOKUP(O105,女子種目コード!$J$1:$K$16,2,FALSE))))","v":""},{"$f":"IF(O105=\"\",\"\",HLOOKUP(O105,前年度登録!$AW$3:$CW$118,100,FALSE))","v":""},"","",null,{"$f":"IF(T105=\"\",\"\",IF(I105=1,VLOOKUP(T105,男子種目コード!$J$17:$K$19,2,FALSE),IF(I105=2,VLOOKUP(T105,女子種目コード!$J$17:$K$19,2,FALSE))))","v":""},null,"","",null,{"$f":"IF(Y105=\"\",\"\",IF(I105=1,VLOOKUP(Y105,男子種目コード!$D$2:$E$16,2,FALSE),IF(I105=2,VLOOKUP(Y105,女子種目コード!$D$2:$E$16,2,FALSE))))","v":""},null,null,{"$f":"IF(AB105=\"\",\"\",IF(I105=1,VLOOKUP(AB105,男子種目コード!$D$2:$E$16,2,FALSE),IF(I105=2,VLOOKUP(AB105,女子種目コード!$D$2:$E$16,2,FALSE))))","v":""},null,null,null,null,null,null,null,null,"",null,null,null,null,null,null,null,0,null,0,"",""]
[0,{"$f":"前年度登録!AE103","v":""},null,null,{"$f":"前年度登録!T103","v":0},{"$f":"前年度登録!DB103","v":""},{"$f":"前年度登録!AO103","v":""},{"$f":"前年度登録!DB103","v":""},{"$f":"前年度登録!AN103","v":""},{"$f":"前年度登録!DC103","v":""},{"$f":"前年度登録!DE103","v":0},{"$f":"前年度登録!DJ103","v":"00"},"三重",{"$f":"前年度登録!S103","v":0},null,{"$f":"IF(O106=\"\",\"\",IF(I106=1,VLOOKUP(O106,男子種目コード!$J$1:$K$16,2,FALSE),IF(I106=2,VLOOKUP(O106,女子種目コード!$J$1:$K$16,2,FALSE))))","v":""},{"$f":"IF(O106=\"\",\"\",HLOOKUP(O106,前年度登録!$AW$3:$CW$118,101,FALSE))","v":""},"","",null,{"$f":"IF(T106=\"\",\"\",IF(I106=1,VLOOKUP(T106,男子種目コード!$J$17:$K$19,2,FALSE),IF(I106=2,VLOOKUP(T106,女子種目コード!$J$17:$K$19,2,FALSE))))","v":""},null,"","",null,null,null,null,null,null,null,null,null,null,null,null,null,"",null,null,null,null,null,null,null,0,null,0,"",""]
[0,{"$f":"前年度登録!AE104","v":""},null,null,{"$f":"前年度登録!T104","v":0},{"$f":"前年度登録!DB104","v":""},{"$f":"前年度登録!AO104","v":""},{"$f":"前年度登録!DB104","v":""},{"$f":"前年度登録!AN104","v":""},{"$f":"前年度登録!DC104","v":""},{"$f":"前年度登録!DE104","v":0},{"$f":"前年度登録!DJ104","v":"00"},"三重",{"$f":"前年度登録!S104","v":0},null,{"$f":"IF(O107=\"\",\"\",IF(I107=1,VLOOKUP(O107,男子種目コード!$J$1:$K$16,2,FALSE),IF(I107=2,VLOOKUP(O107,女子種目コード!$J$1:$K$16,2,FALSE))))","v":""},{"$f":"IF(O107=\"\",\"\",HLOOKUP(O107,前年度登録!$AW$3:$CW$118,102,FALSE))","v":""},"","",null,{"$f":"IF(T107=\"\",\"\",IF(I107=1,VLOOKUP(T107,男子種目コード!$J$17:$K$19,2,FALSE),IF(I107=2,VLOOKUP(T107,女子種目コード!$J$17:$K$19,2,FALSE))))","v":""},null,"","",null,null,null,null,null,null,null,null,null,null,null,null,null,"",null,null,null,null,null,null,null,0,null,0,"",""]
[0,{"$f":"前年度登録!AE105","v":""},null,null,{"$f":"前年度登録!T105","v":0},{"$f":"前年度登録!DB105","v":""},{"$f":"前年度登録!AO105","v":""},{"$f":"前年度登録!DB105","v":""},{"$f":"前年度登録!AN105","v":""},{"$f":"前年度登録!DC105","v":""},{"$f":"前年度登録!DE105","v":0},{"$f":"前年度登録!DJ105","v":"00"},"三重",{"$f":"前年度登録!S105","v":0},null,{"$f":"IF(O108=\"\",\"\",IF(I108=1,VLOOKUP(O108,男子種目コード!$J$1:$K$16,2,FALSE),IF(I108=2,VLOOKUP(O108,女子種目コード!$J$1:$K$16,2,FALSE))))","v":""},{"$f":"IF(O108=\"\",\"\",HLOOKUP(O108,前年度登録!$AW$3:$CW$118,103,FALSE))","v":""},"","",null,{"$f":"IF(T108=\"\",\"\",IF(I108=1,VLOOKUP(T108,男子種目コード!$J$17:$K$19,2,FALSE),IF(I108=2,VLOOKUP(T108,女子種目コード!$J$17:$K$19,2,FALSE))))","v":""},null,"","",null,null,null,null,null,null,null,null,null,null,null,null,null,"",null,null,null,null,null,null,null,0,null,0,"",""]
[0,{"$f":"前年度登録!AE106","v":""},null,null,{"$f":"前年度登録!T106","v":0},{"$f":"前年度登録!DB106","v":""},{"$f":"前年度登録!AO106","v":""},{"$f":"前年度登録!DB106","v":""},{"$f":"前年度登録!AN106","v":""},{"$f":"前年度登録!DC106","v":""},{"$f":"前年度登録!DE106","v":0},{"$f":"前年度登録!DJ106","v":"00"},"三重",{"$f":"前年度登録!S106","v":0},null,{"$f":"IF(O109=\"\",\"\",IF(I109=1,VLOOKUP(O109,男子種目コード!$J$1:$K$16,2,FALSE),IF(I109=2,VLOOKUP(O109,女子種目コード!$J$1:$K$16,2,FALSE))))","v":""},{"$f":"IF(O109=\"\",\"\",HLOOKUP(O109,前年度登録!$AW$3:$CW$118,104,FALSE))","v":""},"","",null,{"$f":"IF(T109=\"\",\"\",IF(I109=1,VLOOKUP(T109,男子種目コード!$J$17:$K$19,2,FALSE),IF(I109=2,VLOOKUP(T109,女子種目コード!$J$17:$K$19,2,FALSE))))","v":""},null,"","",null,null,null,null,null,null,null,null,null,null,null,null,null,"",null,null,null,null,null,null,null,0,null,0,"",""]
[0,{"$f":"前年度登録!AE107","v":""},null,null,{"$f":"前年度登録!T107","v":0},{"$f":"前年度登録!DB107","v":""},{"$f":"前年度登録!AO107","v":""},{"$f":"前年度登録!DB107","v":""},{"$f":"前年度登録!AN107","v":""},{"$f":"前年度登録!DC107","v":""},{"$f":"前年度登録!DE107","v":0},{"$f":"前年度登録!DJ107","v":"00"},"三重",{"$f":"前年度登録!S107","v":0},null,{"$f":"IF(O110=\"\",\"\",IF(I110=1,VLOOKUP(O110,男子種目コード!$J$1:$K$16,2,FALSE),IF(I110=2,VLOOKUP(O110,女子種目コード!$J$1:$K$16,2,FALSE))))","v":""},{"$f":"IF(O110=\"\",\"\",HLOOKUP(O110,前年度登録!$AW$3:$CW$118,105,FALSE))","v":""},"","",null,{"$f":"IF(T110=\"\",\"\",IF(I110=1,VLOOKUP(T110,男子種目コード!$J$17:$K$19,2,FALSE),IF(I110=2,VLOOKUP(T110,女子種目コード!$J$17:$K$19,2,FALSE))))","v":""},null,"","",null,null,null,null,null,null,null,null,null,null,null,null,null,"",null,null,null,null,null,null,null,0,null,0,"",""]
[0,{"$f":"前年度登録!AE108","v":""},null,null,{"$f":"前年度登録!T108","v":0},{"$f":"前年度登録!DB108","v":""},{"$f":"前年度登録!AO108","v":""},{"$f":"前年度登録!DB108","v":""},{"$f":"前年度登録!AN108","v":""},{"$f":"前年度登録!DC108","v":""},{"$f":"前年度登録!DE108","v":0},{"$f":"前年度登録!DJ108","v":"00"},"三重",{"$f":"前年度登録!S108","v":0},null,{"$f":"IF(O111=\"\",\"\",IF(I111=1,VLOOKUP(O111,男子種目コード!$J$1:$K$16,2,FALSE),IF(I111=2,VLOOKUP(O111,女子種目コード!$J$1:$K$16,2,FALSE))))","v":""},{"$f":"IF(O111=\"\",\"\",HLOOKUP(O111,前年度登録!$AW$3:$CW$118,106,FALSE))","v":""},"","",null,{"$f":"IF(T111=\"\",\"\",IF(I111=1,VLOOKUP(T111,男子種目コード!$J$17:$K$19,2,FALSE),IF(I111=2,VLOOKUP(T111,女子種目コード!$J$17:$K$19,2,FALSE))))","v":""},null,"","",null,null,null,null,null,null,null,null,null,null,null,null,null,"",null,null,null,null,null,null,null,0,null,0,"",""]
[0,{"$f":"前年度登録!AE109","v":""},null,null,{"$f":"前年度登録!T109","v":0},{"$f":"前年度登録!DB109","v":""},{"$f":"前年度登録!AO109","v":""},{"$f":"前年度登録!DB109","v":""},{"$f":"前年度登録!AN109","v":""},{"$f":"前年度登録!DC109","v":""},{"$f":"前年度登録!DE109","v":0},{"$f":"前年度登録!DJ109","v":"00"},"三重",{"$f":"前年度登録!S109","v":0},null,{"$f":"IF(O112=\"\",\"\",IF(I112=1,VLOOKUP(O112,男子種目コード!$J$1:$K$16,2,FALSE),IF(I112=2,VLOOKUP(O112,女子種目コード!$J$1:$K$16,2,FALSE))))","v":""},{"$f":"IF(O112=\"\",\"\",HLOOKUP(O112,前年度登録!$AW$3:$CW$118,107,FALSE))","v":""},"","",null,{"$f":"IF(T112=\"\",\"\",IF(I112=1,VLOOKUP(T112,男子種目コード!$J$17:$K$19,2,FALSE),IF(I112=2,VLOOKUP(T112,女子種目コード!$J$17:$K$19,2,FALSE))))","v":""},null,"","",null,null,null,null,null,null,null,null,null,null,null,null,null,"",null,null,null,null,null,null,null,0,null,0,"",""]
[0,{"$f":"前年度登録!AE110","v":""},null,null,{"$f":"前年度登録!T110","v":0},{"$f":"前年度登録!DB110","v":""},{"$f":"前年度登録!AO110","v":""},{"$f":"前年度登録!DB110","v":""},{"$f":"前年度登録!AN110","v":""},{"$f":"前年度登録!DC110","v":""},{"$f":"前年度登録!DE110","v":0},{"$f":"前年度登録!DJ110","v":"00"},"三重",{"$f":"前年度登録!S110","v":0},null,{"$f":"IF(O113=\"\",\"\",IF(I113=1,VLOOKUP(O113,男子種目コード!$J$1:$K$16,2,FALSE),IF(I113=2,VLOOKUP(O113,女子種目コード!$J$1:$K$16,2,FALSE))))","v":""},{"$f":"IF(O113=\"\",\"\",HLOOKUP(O113,前年度登録!$AW$3:$CW$118,108,FALSE))","v":""},"","",null,{"$f":"IF(T113=\"\",\"\",IF(I113=1,VLOOKUP(T113,男子種目コード!$J$17:$K$19,2,FALSE),IF(I113=2,VLOOKUP(T113,女子種目コード!$J$17:$K$19,2,FALSE))))","v":""},null,"","",null,null,null,null,null,null,null,null,null,null,null,null,null,"",null,null,null,null,null,null,null,0,null,0,"",""]
[0,{"$f":"前年度登録!AE111","v":""},null,null,{"$f":"前年度登録!T111","v":0},{"$f":"前年度登録!DB111","v":""},{"$f":"前年度登録!AO111","v":""},{"$f":"前年度登録!DB111","v":""},{"$f":"前年度登録!AN111","v":""},{"$f":"前年度登録!DC111","v":""},{"$f":"前年度登録!DE111","v":0},{"$f":"前年度登録!DJ111","v":"00"},"三重",{"$f":"前年度登録!S111","v":0},null,{"$f":"IF(O114=\"\",\"\",IF(I114=1,VLOOKUP(O114,男子種目コード!$J$1:$K$16,2,FALSE),IF(I114=2,VLOOKUP(O114,女子種目コード!$J$1:$K$16,2,FALSE))))","v":""},{"$f":"IF(O114=\"\",\"\",HLOOKUP(O114,前年度登録!$AW$3:$CW$118,109,FALSE))","v":""},"","",null,{"$f":"IF(T114=\"\",\"\",IF(I114=1,VLOOKUP(T114,男子種目コード!$J$17:$K$19,2,FALSE),IF(I114=2,VLOOKUP(T114,女子種目コード!$J$17:$K$19,2,FALSE))))","v":""},null,"","",null,null,null,null,null,null,null,null,null,null,null,null,null,"",null,null,null,null,null,null,null,0,null,0,"",""]
[0,{"$f":"前年度登録!AE112","v":""},null,null,{"$f":"前年度登録!T112","v":0},{"$f":"前年度登録!DB112","v":""},{"$f":"前年度登録!AO112","v":""},{"$f":"前年度登録!DB112","v":""},{"$f":"前年度登録!AN112","v":""},{"$f":"前年度登録!DC112","v":""},{"$f":"前年度登録!DE112","v":0},{"$f":"前年度登録!DJ112","v":"00"},"三重",{"$f":"前年度登録!S112","v":0},null,{"$f":"IF(O115=\"\",\"\",IF(I115=1,VLOOKUP(O115,男子種目コード!$J$1:$K$16,2,FALSE),IF(I115=2,VLOOKUP(O115,女子種目コード!$J$1:$K$16,2,FALSE))))","v":""},{"$f":"IF(O115=\"\",\"\",HLOOKUP(O115,前年度登録!$AW$3:$CW$118,110,FALSE))","v":""},"","",null,{"$f":"IF(T115=\"\",\"\",IF(I115=1,VLOOKUP(T115,男子種目コード!$J$17:$K$19,2,FALSE),IF(I115=2,VLOOKUP(T115,女子種目コード!$J$17:$K$19,2,FALSE))))","v":""},null,"","",null,null,null,null,null,null,null,null,null,null,null,null,null,"",null,null,null,null,null,null,null,0,null,0,"",""]
[0,{"$f":"前年度登録!AE113","v":""},null,null,{"$f":"前年度登録!T113","v":0},{"$f":"前年度登録!DB113","v":""},{"$f":"前年度登録!AO113","v":""},{"$f":"前年度登録!DB113","v":""},{"$f":"前年度登録!AN113","v":""},{"$f":"前年度登録!DC113","v":""},{"$f":"前年度登録!DE113","v":0},{"$f":"前年度登録!DJ113","v":"00"},"三重",{"$f":"前年度登録!S113","v":0},null,{"$f":"IF(O116=\"\",\"\",IF(I116=1,VLOOKUP(O116,男子種目コード!$J$1:$K$16,2,FALSE),IF(I116=2,VLOOKUP(O116,女子種目コード!$J$1:$K$16,2,FALSE))))","v":""},{"$f":"IF(O116=\"\",\"\",HLOOKUP(O116,前年度登録!$AW$3:$CW$118,111,FALSE))","v":""},"","",null,{"$f":"IF(T116=\"\",\"\",IF(I116=1,VLOOKUP(T116,男子種目コード!$J$17:$K$19,2,FALSE),IF(I116=2,VLOOKUP(T116,女子種目コード!$J$17:$K$19,2,FALSE))))","v":""},null,"","",null,{"$f":"IF(Y116=\"\",\"\",IF(I116=1,VLOOKUP(Y116,男子種目コード!$D$2:$E$16,2,FALSE),IF(I116=2,VLOOKUP(Y116,女子種目コード!$D$2:$E$16,2,FALSE))))","v":""},null,null,{"$f":"IF(AB116=\"\",\"\",IF(I116=1,VLOOKUP(AB116,男子種目コード!$D$2:$E$16,2,FALSE),IF(I116=2,VLOOKUP(AB116,女子種目コード!$D$2:$E$16,2,FALSE))))","v":""},null,null,null,null,null,null,null,null,"",null,null,null,null,null,null,null,0,null,0,"",""]
[null,null,null,null,null,null,null,null,null,null,null,null,null,null,null,null,null,null,null,null,null,null,null,null,null,null,null,null,null,null,null,{"$f":"SUM(AL7:AL116)","v":0},null,null,null,null,null,null,null,null,null,{"$f":"SUM(AV7:AV116)","v":0},{"$f":"SUM(AW7:AW116)","v":0},{"$f":"SUM(AX7:AX116)","v":0},{"$f":"SUM(AY6:AY115)","v":0},{"$f":"SUM(AT7:AT116)","v":0}]

{"sheet":"混成","index":9,"n_rows":116,"n_cols":43,"rows_kept":116,"cut":false,"hidden":false,"merged":[[17,38,17,39],[5,38,5,39],[1,34,1,35],[1,6,1,17]]}
[null,null,null,null,"所属名",{"$f":"IF(名簿!$O$4=\"\",\"\",名簿!$O$4)","v":0}]
[null,null,null,null,"所属コード",{"$f":"名簿!$P$4","v":{"$error":"#N/A"}},"全日本通信四種競技三重大会"]
[null,null,null,null,"顧問名",{"$f":"IF(名簿!$D$1=\"\",\"\",名簿!$D$1)","v":""},null,null,null,"男子",null,null,null,null,{"$f":"COUNTIF($I$7:$I$116,1)-COUNTIF($AG$7:$AG$116,0)","v":0},null,null,null,null,null,null,null,null,null,null,null,null,null,null,null,null,null,null,"4種合計",{"$f":"SUM(AI7:AJ116)","v":0}]
[null,null,null,null,"顧問連絡先",{"$f":"IF(名簿!$I$1=\"\",\"\",名簿!$I$1)","v":""},null,null,null,"女子",null,null,null,null,{"$f":"COUNTIF($I$7:$I$116,2)-COUNTIF($AH$7:$AH$116,0)","v":0},null,{"$f":"O3+O4","v":0}]
[null,null,null,null,null,null,null,null,null,"大会参加費",null,null,null,null,{"$f":"AI3*1000+(Q4-AI3)*500+T5*800","v":0},null,"プログラム冊数",null,null,null,null,"冊"]
["競技者コード","所属コード","コード２","ナンバーA","ナンバー","名　前","カナ名","掲示板名","性別","学年","生年","月日","個人所属地コード","NO","1種目","コード","記録",null,null,"2種目","コード","記録","種目3","コード","記録3","種目","コード4","自己記録4","種目","コード5","自己記録5","種目数","男子","女子","4種","4種",null,null,"出場制限3名",null,null,"四種","四種"]
[null,{"$f":"名簿!P4","v":{"$error":"#N/A"}},null,null,{"$f":"名簿!E4","v":0},{"$f":"名簿!CM4","v":""},{"$f":"名簿!Z4","v":""},{"$f":"名簿!CM4","v":""},{"$f":"名簿!Y4","v":""},{"$f":"名簿!CN4","v":""},{"$f":"名簿!K4","v":0},{"$f":"名簿!CU4","v":"00"},{"$f":"名簿!Q4","v":{"$error":"#N/A"}},{"$f":"名簿!$AA$6","v":"23"},null,{"$f":"IF(O7=\"\",\"\",IF(I7=1,VLOOKUP(O7,男子種目コード!$G$1:$H$6,2,FALSE),IF(I7=2,VLOOKUP(O7,女子種目コード!$G$1:$H$6,2,FALSE))))","v":""},{"$f":"IF(O7=\"\",\"\",HLOOKUP(O7,名簿!$AH$3:$CH$118,2,FALSE))","v":""},{"$f":"IF(O7=\"\",\"\",0)","v":""},{"$f":"IF(O7=\"\",\"\",2)","v":""},null,{"$f":"IF(T7=\"\",\"\",IF(I7=1,VLOOKUP(T7,男子種目コード!$G$1:$H$6,2,FALSE),IF(I7=2,VLOOKUP(T7,女子種目コード!$G$1:$H$6,2,FALSE))))","v":""},{"$f":"IF(T7=\"\",\"\",HLOOKUP(T7,名簿!$AH$3:$CH$118,2,FALSE))","v":""},null,{"$f":"IF(W7=\"\",\"\",IF(I7=1,VLOOKUP(W7,男子種目コード!$A$1:$B$33,2,FALSE),IF(I7=2,VLOOKUP(W7,女子種目コード!$A$1:$B$28,2,FALSE))))","v":""},null,null,{"$f":"IF(Z7=\"\",\"\",IF(I7=1,VLOOKUP(Z7,男子種目コード!$A$1:$B$33,2,FALSE),IF(V7=2,VLOOKUP(I7,女子種目コード!$A$1:$B$28,2,FALSE))))","v":""},null,null,{"$f":"IF(AC7=\"\",\"\",IF(I7=1,VLOOKUP(AC7,男子種目コード!$A$1:$B$33,2,FALSE),IF(Y7=2,VLOOKUP(I7,女子種目コード!$A$1:$B$28,2,FALSE))))","v":""},null,{"$f":"COUNT(P7,U7)","v":0},{"$f":"IF(I7=1,AF7,\"\")","v":""},{"$f":"IF(I7=2,AF7,\"\")","v":""},{"$f":"IF(O7=\"四種\",1,\"\")","v":""},{"$f":"IF(T7=\"四種\",1,\"\")","v":""},null,null,"四種",{"$f":"COUNTIF($P$7:$P$116,1)+COUNTIF($U$7:$U$116,1)","v":0},null,100,100]
[null,{"$f":"名簿!P5","v":""},null,null,{"$f":"名簿!E5","v":0},{"$f":"名簿!CM5","v":""},{"$f":"名簿!Z5","v":""},{"$f":"名簿!CM5","v":""},{"$f":"名簿!Y5","v":""},{"$f":"名簿!CN5","v":""},{"$f":"名簿!K5","v":0},{"$f":"名簿!CU5","v":"00"},{"$f":"名簿!Q5","v":""},{"$f":"名簿!$AA$6","v":"23"},null,{"$f":"IF(O8=\"\",\"\",IF(I8=1,VLOOKUP(O8,男子種目コード!$G$1:$H$6,2,FALSE),IF(I8=2,VLOOKUP(O8,女子種目コード!$G$1:$H$6,2,FALSE))))","v":""},{"$f":"IF(O8=\"\",\"\",HLOOKUP(O8,名簿!$AH$3:$CH$118,3,FALSE))","v":""},{"$f":"IF(O8=\"\",\"\",0)","v":""},{"$f":"IF(O8=\"\",\"\",2)","v":""},null,{"$f":"IF(T8=\"\",\"\",IF(I8=1,VLOOKUP(T8,男子種目コード!$G$1:$H$6,2,FALSE),IF(I8=2,VLOOKUP(T8,女子種目コード!$G$1:$H$6,2,FALSE))))","v":""},{"$f":"IF(T8=\"\",\"\",HLOOKUP(T8,名簿!$AH$3:$CH$118,3,FALSE))","v":""},null,{"$f":"IF(W8=\"\",\"\",IF(I8=1,VLOOKUP(W8,男子種目コード!$A$1:$B$33,2,FALSE),IF(I8=2,VLOOKUP(W8,女子種目コード!$A$1:$B$28,2,FALSE))))","v":""},null,null,{"$f":"IF(Z8=\"\",\"\",IF(I8=1,VLOOKUP(Z8,男子種目コード!$A$1:$B$33,2,FALSE),IF(V8=2,VLOOKUP(I8,女子種目コード!$A$1:$B$28,2,FALSE))))","v":""},null,null,{"$f":"IF(AC8=\"\",\"\",IF(I8=1,VLOOKUP(AC8,男子種目コード!$A$1:$B$33,2,FALSE),IF(Y8=2,VLOOKUP(I8,女子種目コード!$A$1:$B$28,2,FALSE))))","v":""},null,{"$f":"COUNT(P8,U8)","v":0},{"$f":"IF(I8=1,AF8,\"\")","v":""},{"$f":"IF(I8=2,AF8,\"\")","v":""},{"$f":"IF(O8=\"四種\",1,\"\")","v":""},{"$f":"IF(T8=\"四種\",1,\"\")","v":""},null,null,100,{"$f":"COUNTIF($P$7:$P$116,2)+COUNTIF($U$7:$U$116,2)","v":0},null,1500,800]
[null,{"$f":"名簿!P6","v":""},null,null,{"$f":"名簿!E6","v":0},{"$f":"名簿!CM6","v":""},{"$f":"名簿!Z6","v":""},{"$f":"名簿!CM6","v":""},{"$f":"名簿!Y6","v":""},{"$f":"名簿!CN6","v":""},{"$f":"名簿!K6","v":0},{"$f":"名簿!CU6","v":"00"},{"$f":"名簿!Q6","v":""},{"$f":"名簿!$AA$6","v":"23"},null,{"$f":"IF(O9=\"\",\"\",IF(I9=1,VLOOKUP(O9,男子種目コード!$G$1:$H$6,2,FALSE),IF(I9=2,VLOOKUP(O9,女子種目コード!$G$1:$H$6,2,FALSE))))","v":""},{"$f":"IF(O9=\"\",\"\",HLOOKUP(O9,名簿!$AH$3:$CH$118,4,FALSE))","v":""},"","",null,{"$f":"IF(T9=\"\",\"\",IF(I9=1,VLOOKUP(T9,男子種目コード!$G$1:$H$6,2,FALSE),IF(I9=2,VLOOKUP(T9,女子種目コード!$G$1:$H$6,2,FALSE))))","v":""},{"$f":"IF(T9=\"\",\"\",HLOOKUP(T9,名簿!$AH$3:$CH$118,4,FALSE))","v":""},null,{"$f":"IF(W9=\"\",\"\",IF(I9=1,VLOOKUP(W9,男子種目コード!$A$1:$B$33,2,FALSE),IF(I9=2,VLOOKUP(W9,女子種目コード!$A$1:$B$28,2,FALSE))))","v":""},null,null,{"$f":"IF(Z9=\"\",\"\",IF(I9=1,VLOOKUP(Z9,男子種目コード!$A$1:$B$33,2,FALSE),IF(V9=2,VLOOKUP(I9,女子種目コード!$A$1:$B$28,2,FALSE))))","v":""},null,null,{"$f":"IF(AC9=\"\",\"\",IF(I9=1,VLOOKUP(AC9,男子種目コード!$A$1:$B$33,2,FALSE),IF(Y9=2,VLOOKUP(I9,女子種目コード!$A$1:$B$28,2,FALSE))))","v":""},null,0,"","","","",null,null,1500,{"$f":"COUNTIF($P$7:$P$116,3)+COUNTIF($U$7:$U$116,3)","v":0},null,3000,1500]
[null,{"$f":"名簿!P7","v":""},null,null,{"$f":"名簿!E7","v":0},{"$f":"名簿!CM7","v":""},{"$f":"名簿!Z7","v":""},{"$f":"名簿!CM7","v":""},{"$f":"名簿!Y7","v":""},{"$f":"名簿!CN7","v":""},{"$f":"名簿!K7","v":0},{"$f":"名簿!CU7","v":"00"},{"$f":"名簿!Q7","v":""},{"$f":"名簿!$AA$6","v":"23"},null,{"$f":"IF(O10=\"\",\"\",IF(I10=1,VLOOKUP(O10,男子種目コード!$G$1:$H$6,2,FALSE),IF(I10=2,VLOOKUP(O10,女子種目コード!$G$1:$H$6,2,FALSE))))","v":""},{"$f":"IF(O10=\"\",\"\",HLOOKUP(O10,名簿!$AH$3:$CH$118,5,FALSE))","v":""},"","",null,{"$f":"IF(T10=\"\",\"\",IF(I10=1,VLOOKUP(T10,男子種目コード!$G$1:$H$6,2,FALSE),IF(I10=2,VLOOKUP(T10,女子種目コード!$G$1:$H$6,2,FALSE))))","v":""},{"$f":"IF(T10=\"\",\"\",HLOOKUP(T10,名簿!$AH$3:$CH$118,5,FALSE))","v":""},null,{"$f":"IF(W10=\"\",\"\",IF(I10=1,VLOOKUP(W10,男子種目コード!$A$1:$B$33,2,FALSE),IF(I10=2,VLOOKUP(W10,女子種目コード!$A$1:$B$28,2,FALSE))))","v":""},null,null,{"$f":"IF(Z10=\"\",\"\",IF(I10=1,VLOOKUP(Z10,男子種目コード!$A$1:$B$33,2,FALSE),IF(V10=2,VLOOKUP(I10,女子種目コード!$A$1:$B$28,2,FALSE))))","v":""},null,null,{"$f":"IF(AC10=\"\",\"\",IF(I10=1,VLOOKUP(AC10,男子種目コード!$A$1:$B$33,2,FALSE),IF(Y10=2,VLOOKUP(I10,女子種目コード!$A$1:$B$28,2,FALSE))))","v":""},null,0,"","","","",null,null,3000,{"$f":"COUNTIF($P$7:$P$116,4)+COUNTIF($U$7:$U$116,4)","v":0},null,"棒高跳","棒高跳"]
[null,{"$f":"名簿!P8","v":""},null,null,{"$f":"名簿!E8","v":0},{"$f":"名簿!CM8","v":""},{"$f":"名簿!Z8","v":""},{"$f":"名簿!CM8","v":""},{"$f":"名簿!Y8","v":""},{"$f":"名簿!CN8","v":""},{"$f":"名簿!K8","v":0},{"$f":"名簿!CU8","v":"00"},{"$f":"名簿!Q8","v":""},{"$f":"名簿!$AA$6","v":"23"},null,{"$f":"IF(O11=\"\",\"\",IF(I11=1,VLOOKUP(O11,男子種目コード!$G$1:$H$6,2,FALSE),IF(I11=2,VLOOKUP(O11,女子種目コード!$G$1:$H$6,2,FALSE))))","v":""},{"$f":"IF(O11=\"\",\"\",HLOOKUP(O11,名簿!$AH$3:$CH$118,6,FALSE))","v":""},"","",null,{"$f":"IF(T11=\"\",\"\",IF(I11=1,VLOOKUP(T11,男子種目コード!$G$1:$H$6,2,FALSE),IF(I11=2,VLOOKUP(T11,女子種目コード!$G$1:$H$6,2,FALSE))))","v":""},{"$f":"IF(T11=\"\",\"\",HLOOKUP(T11,名簿!$AH$3:$CH$118,6,FALSE))","v":""},null,{"$f":"IF(W11=\"\",\"\",IF(I11=1,VLOOKUP(W11,男子種目コード!$A$1:$B$33,2,FALSE),IF(I11=2,VLOOKUP(W11,女子種目コード!$A$1:$B$28,2,FALSE))))","v":""},null,null,{"$f":"IF(Z11=\"\",\"\",IF(I11=1,VLOOKUP(Z11,男子種目コード!$A$1:$B$33,2,FALSE),IF(V11=2,VLOOKUP(I11,女子種目コード!$A$1:$B$28,2,FALSE))))","v":""},null,null,{"$f":"IF(AC11=\"\",\"\",IF(I11=1,VLOOKUP(AC11,男子種目コード!$A$1:$B$33,2,FALSE),IF(Y11=2,VLOOKUP(I11,女子種目コード!$A$1:$B$28,2,FALSE))))","v":""},null,0,"","","","",null,null,"棒高跳",{"$f":"COUNTIF($P$7:$P$116,5)+COUNTIF($U$7:$U$116,5)","v":0}]
[null,{"$f":"名簿!P9","v":""},null,null,{"$f":"名簿!E9","v":0},{"$f":"名簿!CM9","v":""},{"$f":"名簿!Z9","v":""},{"$f":"名簿!CM9","v":""},{"$f":"名簿!Y9","v":""},{"$f":"名簿!CN9","v":""},{"$f":"名簿!K9","v":0},{"$f":"名簿!CU9","v":"00"},{"$f":"名簿!Q9","v":""},{"$f":"名簿!$AA$6","v":"23"},null,{"$f":"IF(O12=\"\",\"\",IF(I12=1,VLOOKUP(O12,男子種目コード!$G$1:$H$6,2,FALSE),IF(I12=2,VLOOKUP(O12,女子種目コード!$G$1:$H$6,2,FALSE))))","v":""},{"$f":"IF(O12=\"\",\"\",HLOOKUP(O12,名簿!$AH$3:$CH$118,7,FALSE))","v":""},"","",null,{"$f":"IF(T12=\"\",\"\",IF(I12=1,VLOOKUP(T12,男子種目コード!$G$1:$H$6,2,FALSE),IF(I12=2,VLOOKUP(T12,女子種目コード!$G$1:$H$6,2,FALSE))))","v":""},{"$f":"IF(T12=\"\",\"\",HLOOKUP(T12,名簿!$AH$3:$CH$118,7,FALSE))","v":""},null,{"$f":"IF(W12=\"\",\"\",IF(I12=1,VLOOKUP(W12,男子種目コード!$A$1:$B$33,2,FALSE),IF(I12=2,VLOOKUP(W12,女子種目コード!$A$1:$B$28,2,FALSE))))","v":""},null,null,{"$f":"IF(Z12=\"\",\"\",IF(I12=1,VLOOKUP(Z12,男子種目コード!$A$1:$B$33,2,FALSE),IF(V12=2,VLOOKUP(I12,女子種目コード!$A$1:$B$28,2,FALSE))))","v":""},null,null,{"$f":"IF(AC12=\"\",\"\",IF(I12=1,VLOOKUP(AC12,男子種目コード!$A$1:$B$33,2,FALSE),IF(Y12=2,VLOOKUP(I12,女子種目コード!$A$1:$B$28,2,FALSE))))","v":""},null,0,"","","",""]
[null,{"$f":"名簿!P10","v":""},null,null,{"$f":"名簿!E10","v":0},{"$f":"名簿!CM10","v":""},{"$f":"名簿!Z10","v":""},{"$f":"名簿!CM10","v":""},{"$f":"名簿!Y10","v":""},{"$f":"名簿!CN10","v":""},{"$f":"名簿!K10","v":0},{"$f":"名簿!CU10","v":"00"},{"$f":"名簿!Q10","v":""},{"$f":"名簿!$AA$6","v":"23"},null,{"$f":"IF(O13=\"\",\"\",IF(I13=1,VLOOKUP(O13,男子種目コード!$G$1:$H$6,2,FALSE),IF(I13=2,VLOOKUP(O13,女子種目コード!$G$1:$H$6,2,FALSE))))","v":""},{"$f":"IF(O13=\"\",\"\",HLOOKUP(O13,名簿!$AH$3:$CH$118,8,FALSE))","v":""},"","",null,{"$f":"IF(T13=\"\",\"\",IF(I13=1,VLOOKUP(T13,男子種目コード!$G$1:$H$6,2,FALSE),IF(I13=2,VLOOKUP(T13,女子種目コード!$G$1:$H$6,2,FALSE))))","v":""},{"$f":"IF(T13=\"\",\"\",HLOOKUP(T13,名簿!$AH$3:$CH$118,8,FALSE))","v":""},null,{"$f":"IF(W13=\"\",\"\",IF(I13=1,VLOOKUP(W13,男子種目コード!$A$1:$B$33,2,FALSE),IF(I13=2,VLOOKUP(W13,女子種目コード!$A$1:$B$28,2,FALSE))))","v":""},null,null,{"$f":"IF(Z13=\"\",\"\",IF(I13=1,VLOOKUP(Z13,男子種目コード!$A$1:$B$33,2,FALSE),IF(V13=2,VLOOKUP(I13,女子種目コード!$A$1:$B$28,2,FALSE))))","v":""},null,null,{"$f":"IF(AC13=\"\",\"\",IF(I13=1,VLOOKUP(AC13,男子種目コード!$A$1:$B$33,2,FALSE),IF(Y13=2,VLOOKUP(I13,女子種目コード!$A$1:$B$28,2,FALSE))))","v":""},null,0,"","","","",null,null,"四種",{"$f":"COUNTIF($P$7:$P$116,10)+COUNTIF($U$7:$U$116,10)","v":0}]
[null,{"$f":"名簿!P11","v":""},null,null,{"$f":"名簿!E11","v":0},{"$f":"名簿!CM11","v":""},{"$f":"名簿!Z11","v":""},{"$f":"名簿!CM11","v":""},{"$f":"名簿!Y11","v":""},{"$f":"名簿!CN11","v":""},{"$f":"名簿!K11","v":0},{"$f":"名簿!CU11","v":"00"},{"$f":"名簿!Q11","v":""},{"$f":"名簿!$AA$6","v":"23"},null,{"$f":"IF(O14=\"\",\"\",IF(I14=1,VLOOKUP(O14,男子種目コード!$G$1:$H$6,2,FALSE),IF(I14=2,VLOOKUP(O14,女子種目コード!$G$1:$H$6,2,FALSE))))","v":""},{"$f":"IF(O14=\"\",\"\",HLOOKUP(O14,名簿!$AH$3:$CH$118,9,FALSE))","v":""},"","",null,{"$f":"IF(T14=\"\",\"\",IF(I14=1,VLOOKUP(T14,男子種目コード!$G$1:$H$6,2,FALSE),IF(I14=2,VLOOKUP(T14,女子種目コード!$G$1:$H$6,2,FALSE))))","v":""},{"$f":"IF(T14=\"\",\"\",HLOOKUP(T14,名簿!$AH$3:$CH$118,9,FALSE))","v":""},null,{"$f":"IF(W14=\"\",\"\",IF(I14=1,VLOOKUP(W14,男子種目コード!$A$1:$B$33,2,FALSE),IF(I14=2,VLOOKUP(W14,女子種目コード!$A$1:$B$28,2,FALSE))))","v":""},null,null,{"$f":"IF(Z14=\"\",\"\",IF(I14=1,VLOOKUP(Z14,男子種目コード!$A$1:$B$33,2,FALSE),IF(V14=2,VLOOKUP(I14,女子種目コード!$A$1:$B$28,2,FALSE))))","v":""},null,null,{"$f":"IF(AC14=\"\",\"\",IF(I14=1,VLOOKUP(AC14,男子種目コード!$A$1:$B$33,2,FALSE),IF(Y14=2,VLOOKUP(I14,女子種目コード!$A$1:$B$28,2,FALSE))))","v":""},null,0,"","","","",null,null,100,{"$f":"COUNTIF($P$7:$P$116,11)+COUNTIF($U$7:$U$116,11)","v":0}]
[null,{"$f":"名簿!P12","v":""},null,null,{"$f":"名簿!E12","v":0},{"$f":"名簿!CM12","v":""},{"$f":"名簿!Z12","v":""},{"$f":"名簿!CM12","v":""},{"$f":"名簿!Y12","v":""},{"$f":"名簿!CN12","v":""},{"$f":"名簿!K12","v":0},{"$f":"名簿!CU12","v":"00"},{"$f":"名簿!Q12","v":""},{"$f":"名簿!$AA$6","v":"23"},null,{"$f":"IF(O15=\"\",\"\",IF(I15=1,VLOOKUP(O15,男子種目コード!$G$1:$H$6,2,FALSE),IF(I15=2,VLOOKUP(O15,女子種目コード!$G$1:$H$6,2,FALSE))))","v":""},{"$f":"IF(O15=\"\",\"\",HLOOKUP(O15,名簿!$AH$3:$CH$118,10,FALSE))","v":""},"","",null,{"$f":"IF(T15=\"\",\"\",IF(I15=1,VLOOKUP(T15,男子種目コード!$G$1:$H$6,2,FALSE),IF(I15=2,VLOOKUP(T15,女子種目コード!$G$1:$H$6,2,FALSE))))","v":""},{"$f":"IF(T15=\"\",\"\",HLOOKUP(T15,名簿!$AH$3:$CH$118,10,FALSE))","v":""},null,{"$f":"IF(W15=\"\",\"\",IF(I15=1,VLOOKUP(W15,男子種目コード!$A$1:$B$33,2,FALSE),IF(I15=2,VLOOKUP(W15,女子種目コード!$A$1:$B$28,2,FALSE))))","v":""},null,null,{"$f":"IF(Z15=\"\",\"\",IF(I15=1,VLOOKUP(Z15,男子種目コード!$A$1:$B$33,2,FALSE),IF(V15=2,VLOOKUP(I15,女子種目コード!$A$1:$B$28,2,FALSE))))","v":""},null,null,{"$f":"IF(AC15=\"\",\"\",IF(I15=1,VLOOKUP(AC15,男子種目コード!$A$1:$B$33,2,FALSE),IF(Y15=2,VLOOKUP(I15,女子種目コード!$A$1:$B$28,2,FALSE))))","v":""},null,0,"","","","",null,null,800,{"$f":"COUNTIF($P$7:$P$116,12)+COUNTIF($U$7:$U$116,12)","v":0}]
[null,{"$f":"名簿!P13","v":""},null,null,{"$f":"名簿!E13","v":0},{"$f":"名簿!CM13","v":""},{"$f":"名簿!Z13","v":""},{"$f":"名簿!CM13","v":""},{"$f":"名簿!Y13","v":""},{"$f":"名簿!CN13","v":""},{"$f":"名簿!K13","v":0},{"$f":"名簿!CU13","v":"00"},{"$f":"名簿!Q13","v":""},{"$f":"名簿!$AA$6","v":"23"},null,{"$f":"IF(O16=\"\",\"\",IF(I16=1,VLOOKUP(O16,男子種目コード!$G$1:$H$6,2,FALSE),IF(I16=2,VLOOKUP(O16,女子種目コード!$G$1:$H$6,2,FALSE))))","v":""},{"$f":"IF(O16=\"\",\"\",HLOOKUP(O16,名簿!$AH$3:$CH$118,11,FALSE))","v":""},"","",null,{"$f":"IF(T16=\"\",\"\",IF(I16=1,VLOOKUP(T16,男子種目コード!$G$1:$H$6,2,FALSE),IF(I16=2,VLOOKUP(T16,女子種目コード!$G$1:$H$6,2,FALSE))))","v":""},{"$f":"IF(T16=\"\",\"\",HLOOKUP(T16,名簿!$AH$3:$CH$118,11,FALSE))","v":""},null,{"$f":"IF(W16=\"\",\"\",IF(I16=1,VLOOKUP(W16,男子種目コード!$A$1:$B$33,2,FALSE),IF(I16=2,VLOOKUP(W16,女子種目コード!$A$1:$B$28,2,FALSE))))","v":""},null,null,{"$f":"IF(Z16=\"\",\"\",IF(I16=1,VLOOKUP(Z16,男子種目コード!$A$1:$B$33,2,FALSE),IF(V16=2,VLOOKUP(I16,女子種目コード!$A$1:$B$28,2,FALSE))))","v":""},null,null,{"$f":"IF(AC16=\"\",\"\",IF(I16=1,VLOOKUP(AC16,男子種目コード!$A$1:$B$33,2,FALSE),IF(Y16=2,VLOOKUP(I16,女子種目コード!$A$1:$B$28,2,FALSE))))","v":""},null,0,"","","","",null,null,1500,{"$f":"COUNTIF($P$7:$P$116,13)+COUNTIF($U$7:$U$116,13)","v":0}]
[null,{"$f":"名簿!P14","v":""},null,null,{"$f":"名簿!E14","v":0},{"$f":"名簿!CM14","v":""},{"$f":"名簿!Z14","v":""},{"$f":"名簿!CM14","v":""},{"$f":"名簿!Y14","v":""},{"$f":"名簿!CN14","v":""},{"$f":"名簿!K14","v":0},{"$f":"名簿!CU14","v":"00"},{"$f":"名簿!Q14","v":""},{"$f":"名簿!$AA$6","v":"23"},null,{"$f":"IF(O17=\"\",\"\",IF(I17=1,VLOOKUP(O17,男子種目コード!$G$1:$H$6,2,FALSE),IF(I17=2,VLOOKUP(O17,女子種目コード!$G$1:$H$6,2,FALSE))))","v":""},{"$f":"IF(O17=\"\",\"\",HLOOKUP(O17,名簿!$AH$3:$CH$118,12,FALSE))","v":""},"","",null,{"$f":"IF(T17=\"\",\"\",IF(I17=1,VLOOKUP(T17,男子種目コード!$G$1:$H$6,2,FALSE),IF(I17=2,VLOOKUP(T17,女子種目コード!$G$1:$H$6,2,FALSE))))","v":""},{"$f":"IF(T17=\"\",\"\",HLOOKUP(T17,名簿!$AH$3:$CH$118,12,FALSE))","v":""},null,{"$f":"IF(W17=\"\",\"\",IF(I17=1,VLOOKUP(W17,男子種目コード!$A$1:$B$33,2,FALSE),IF(I17=2,VLOOKUP(W17,女子種目コード!$A$1:$B$28,2,FALSE))))","v":""},null,null,{"$f":"IF(Z17=\"\",\"\",IF(I17=1,VLOOKUP(Z17,男子種目コード!$A$1:$B$33,2,FALSE),IF(V17=2,VLOOKUP(I17,女子種目コード!$A$1:$B$28,2,FALSE))))","v":""},null,null,{"$f":"IF(AC17=\"\",\"\",IF(I17=1,VLOOKUP(AC17,男子種目コード!$A$1:$B$33,2,FALSE),IF(Y17=2,VLOOKUP(I17,女子種目コード!$A$1:$B$28,2,FALSE))))","v":""},null,0,"","","","",null,null,"棒高跳",{"$f":"COUNTIF($P$7:$P$116,14)+COUNTIF($U$7:$U$116,14)","v":0}]
[null,{"$f":"名簿!P15","v":""},null,null,{"$f":"名簿!E15","v":0},{"$f":"名簿!CM15","v":""},{"$f":"名簿!Z15","v":""},{"$f":"名簿!CM15","v":""},{"$f":"名簿!Y15","v":""},{"$f":"名簿!CN15","v":""},{"$f":"名簿!K15","v":0},{"$f":"名簿!CU15","v":"00"},{"$f":"名簿!Q15","v":""},{"$f":"名簿!$AA$6","v":"23"},null,{"$f":"IF(O18=\"\",\"\",IF(I18=1,VLOOKUP(O18,男子種目コード!$G$1:$H$6,2,FALSE),IF(I18=2,VLOOKUP(O18,女子種目コード!$G$1:$H$6,2,FALSE))))","v":""},{"$f":"IF(O18=\"\",\"\",HLOOKUP(O18,名簿!$AH$3:$CH$118,13,FALSE))","v":""},"","",null,{"$f":"IF(T18=\"\",\"\",IF(I18=1,VLOOKUP(T18,男子種目コード!$G$1:$H$6,2,FALSE),IF(I18=2,VLOOKUP(T18,女子種目コード!$G$1:$H$6,2,FALSE))))","v":""},{"$f":"IF(T18=\"\",\"\",HLOOKUP(T18,名簿!$AH$3:$CH$118,13,FALSE))","v":""},null,{"$f":"IF(W18=\"\",\"\",IF(I18=1,VLOOKUP(W18,男子種目コード!$A$1:$B$33,2,FALSE),IF(I18=2,VLOOKUP(W18,女子種目コード!$A$1:$B$28,2,FALSE))))","v":""},null,null,{"$f":"IF(Z18=\"\",\"\",IF(I18=1,VLOOKUP(Z18,男子種目コード!$A$1:$B$33,2,FALSE),IF(V18=2,VLOOKUP(I18,女子種目コード!$A$1:$B$28,2,FALSE))))","v":""},null,null,{"$f":"IF(AC18=\"\",\"\",IF(I18=1,VLOOKUP(AC18,男子種目コード!$A$1:$B$33,2,FALSE),IF(Y18=2,VLOOKUP(I18,女子種目コード!$A$1:$B$28,2,FALSE))))","v":""},null,0,"","","","",null,null,"参加競技数"]
[null,{"$f":"名簿!P16","v":""},null,null,{"$f":"名簿!E16","v":0},{"$f":"名簿!CM16","v":""},{"$f":"名簿!Z16","v":""},{"$f":"名簿!CM16","v":""},{"$f":"名簿!Y16","v":""},{"$f":"名簿!CN16","v":""},{"$f":"名簿!K16","v":0},{"$f":"名簿!CU16","v":"00"},{"$f":"名簿!Q16","v":""},{"$f":"名簿!$AA$6","v":"23"},null,{"$f":"IF(O19=\"\",\"\",IF(I19=1,VLOOKUP(O19,男子種目コード!$G$1:$H$6,2,FALSE),IF(I19=2,VLOOKUP(O19,女子種目コード!$G$1:$H$6,2,FALSE))))","v":""},{"$f":"IF(O19=\"\",\"\",HLOOKUP(O19,名簿!$AH$3:$CH$118,14,FALSE))","v":""},"","",null,{"$f":"IF(T19=\"\",\"\",IF(I19=1,VLOOKUP(T19,男子種目コード!$G$1:$H$6,2,FALSE),IF(I19=2,VLOOKUP(T19,女子種目コード!$G$1:$H$6,2,FALSE))))","v":""},{"$f":"IF(T19=\"\",\"\",HLOOKUP(T19,名簿!$AH$3:$CH$118,14,FALSE))","v":""},null,{"$f":"IF(W19=\"\",\"\",IF(I19=1,VLOOKUP(W19,男子種目コード!$A$1:$B$33,2,FALSE),IF(I19=2,VLOOKUP(W19,女子種目コード!$A$1:$B$28,2,FALSE))))","v":""},null,null,{"$f":"IF(Z19=\"\",\"\",IF(I19=1,VLOOKUP(Z19,男子種目コード!$A$1:$B$33,2,FALSE),IF(V19=2,VLOOKUP(I19,女子種目コード!$A$1:$B$28,2,FALSE))))","v":""},null,null,{"$f":"IF(AC19=\"\",\"\",IF(I19=1,VLOOKUP(AC19,男子種目コード!$A$1:$B$33,2,FALSE),IF(Y19=2,VLOOKUP(I19,女子種目コード!$A$1:$B$28,2,FALSE))))","v":""},null,0,"","","","",null,null,"男子",{"$f":"SUM(AN7:AN12)","v":0}]
[null,{"$f":"名簿!P17","v":""},null,null,{"$f":"名簿!E17","v":0},{"$f":"名簿!CM17","v":""},{"$f":"名簿!Z17","v":""},{"$f":"名簿!CM17","v":""},{"$f":"名簿!Y17","v":""},{"$f":"名簿!CN17","v":""},{"$f":"名簿!K17","v":0},{"$f":"名簿!CU17","v":"00"},{"$f":"名簿!Q17","v":""},{"$f":"名簿!$AA$6","v":"23"},null,{"$f":"IF(O20=\"\",\"\",IF(I20=1,VLOOKUP(O20,男子種目コード!$G$1:$H$6,2,FALSE),IF(I20=2,VLOOKUP(O20,女子種目コード!$G$1:$H$6,2,FALSE))))","v":""},{"$f":"IF(O20=\"\",\"\",HLOOKUP(O20,名簿!$AH$3:$CH$118,15,FALSE))","v":""},"","",null,{"$f":"IF(T20=\"\",\"\",IF(I20=1,VLOOKUP(T20,男子種目コード!$G$1:$H$6,2,FALSE),IF(I20=2,VLOOKUP(T20,女子種目コード!$G$1:$H$6,2,FALSE))))","v":""},{"$f":"IF(T20=\"\",\"\",HLOOKUP(T20,名簿!$AH$3:$CH$118,15,FALSE))","v":""},null,{"$f":"IF(W20=\"\",\"\",IF(I20=1,VLOOKUP(W20,男子種目コード!$A$1:$B$33,2,FALSE),IF(I20=2,VLOOKUP(W20,女子種目コード!$A$1:$B$28,2,FALSE))))","v":""},null,null,{"$f":"IF(Z20=\"\",\"\",IF(I20=1,VLOOKUP(Z20,男子種目コード!$A$1:$B$33,2,FALSE),IF(V20=2,VLOOKUP(I20,女子種目コード!$A$1:$B$28,2,FALSE))))","v":""},null,null,{"$f":"IF(AC20=\"\",\"\",IF(I20=1,VLOOKUP(AC20,男子種目コード!$A$1:$B$33,2,FALSE),IF(Y20=2,VLOOKUP(I20,女子種目コード!$A$1:$B$28,2,FALSE))))","v":""},null,0,"","","","",null,null,"女子",{"$f":"SUM(AN13:AN17)","v":0}]
[null,{"$f":"名簿!P18","v":""},null,null,{"$f":"名簿!E18","v":0},{"$f":"名簿!CM18","v":""},{"$f":"名簿!Z18","v":""},{"$f":"名簿!CM18","v":""},{"$f":"名簿!Y18","v":""},{"$f":"名簿!CN18","v":""},{"$f":"名簿!K18","v":0},{"$f":"名簿!CU18","v":"00"},{"$f":"名簿!Q18","v":""},{"$f":"名簿!$AA$6","v":"23"},null,{"$f":"IF(O21=\"\",\"\",IF(I21=1,VLOOKUP(O21,男子種目コード!$G$1:$H$6,2,FALSE),IF(I21=2,VLOOKUP(O21,女子種目コード!$G$1:$H$6,2,FALSE))))","v":""},{"$f":"IF(O21=\"\",\"\",HLOOKUP(O21,名簿!$AH$3:$CH$118,16,FALSE))","v":""},"","",null,{"$f":"IF(T21=\"\",\"\",IF(I21=1,VLOOKUP(T21,男子種目コード!$G$1:$H$6,2,FALSE),IF(I21=2,VLOOKUP(T21,女子種目コード!$G$1:$H$6,2,FALSE))))","v":""},{"$f":"IF(T21=\"\",\"\",HLOOKUP(T21,名簿!$AH$3:$CH$118,16,FALSE))","v":""},null,{"$f":"IF(W21=\"\",\"\",IF(I21=1,VLOOKUP(W21,男子種目コード!$A$1:$B$33,2,FALSE),IF(I21=2,VLOOKUP(W21,女子種目コード!$A$1:$B$28,2,FALSE))))","v":""},null,null,{"$f":"IF(Z21=\"\",\"\",IF(I21=1,VLOOKUP(Z21,男子種目コード!$A$1:$B$33,2,FALSE),IF(V21=2,VLOOKUP(I21,女子種目コード!$A$1:$B$28,2,FALSE))))","v":""},null,null,{"$f":"IF(AC21=\"\",\"\",IF(I21=1,VLOOKUP(AC21,男子種目コード!$A$1:$B$33,2,FALSE),IF(Y21=2,VLOOKUP(I21,女子種目コード!$A$1:$B$28,2,FALSE))))","v":""},null,0,"","","","",null,null,"計",{"$f":"SUM(AN19:AN20)","v":0}]
[null,{"$f":"名簿!P19","v":""},null,null,{"$f":"名簿!E19","v":0},{"$f":"名簿!CM19","v":""},{"$f":"名簿!Z19","v":""},{"$f":"名簿!CM19","v":""},{"$f":"名簿!Y19","v":""},{"$f":"名簿!CN19","v":""},{"$f":"名簿!K19","v":0},{"$f":"名簿!CU19","v":"00"},{"$f":"名簿!Q19","v":""},{"$f":"名簿!$AA$6","v":"23"},null,{"$f":"IF(O22=\"\",\"\",IF(I22=1,VLOOKUP(O22,男子種目コード!$G$1:$H$6,2,FALSE),IF(I22=2,VLOOKUP(O22,女子種目コード!$G$1:$H$6,2,FALSE))))","v":""},{"$f":"IF(O22=\"\",\"\",HLOOKUP(O22,名簿!$AH$3:$CH$118,17,FALSE))","v":""},"","",null,{"$f":"IF(T22=\"\",\"\",IF(I22=1,VLOOKUP(T22,男子種目コード!$G$1:$H$6,2,FALSE),IF(I22=2,VLOOKUP(T22,女子種目コード!$G$1:$H$6,2,FALSE))))","v":""},{"$f":"IF(T22=\"\",\"\",HLOOKUP(T22,名簿!$AH$3:$CH$118,17,FALSE))","v":""},null,{"$f":"IF(W22=\"\",\"\",IF(I22=1,VLOOKUP(W22,男子種目コード!$A$1:$B$33,2,FALSE),IF(I22=2,VLOOKUP(W22,女子種目コード!$A$1:$B$28,2,FALSE))))","v":""},null,null,{"$f":"IF(Z22=\"\",\"\",IF(I22=1,VLOOKUP(Z22,男子種目コード!$A$1:$B$33,2,FALSE),IF(V22=2,VLOOKUP(I22,女子種目コード!$A$1:$B$28,2,FALSE))))","v":""},null,null,{"$f":"IF(AC22=\"\",\"\",IF(I22=1,VLOOKUP(AC22,男子種目コード!$A$1:$B$33,2,FALSE),IF(Y22=2,VLOOKUP(I22,女子種目コード!$A$1:$B$28,2,FALSE))))","v":""},null,0,"","","",""]
[null,{"$f":"名簿!P20","v":""},null,null,{"$f":"名簿!E20","v":0},{"$f":"名簿!CM20","v":""},{"$f":"名簿!Z20","v":""},{"$f":"名簿!CM20","v":""},{"$f":"名簿!Y20","v":""},{"$f":"名簿!CN20","v":""},{"$f":"名簿!K20","v":0},{"$f":"名簿!CU20","v":"00"},{"$f":"名簿!Q20","v":""},{"$f":"名簿!$AA$6","v":"23"},null,{"$f":"IF(O23=\"\",\"\",IF(I23=1,VLOOKUP(O23,男子種目コード!$G$1:$H$6,2,FALSE),IF(I23=2,VLOOKUP(O23,女子種目コード!$G$1:$H$6,2,FALSE))))","v":""},{"$f":"IF(O23=\"\",\"\",HLOOKUP(O23,名簿!$AH$3:$CH$118,18,FALSE))","v":""},"","",null,{"$f":"IF(T23=\"\",\"\",IF(I23=1,VLOOKUP(T23,男子種目コード!$G$1:$H$6,2,FALSE),IF(I23=2,VLOOKUP(T23,女子種目コード!$G$1:$H$6,2,FALSE))))","v":""},{"$f":"IF(T23=\"\",\"\",HLOOKUP(T23,名簿!$AH$3:$CH$118,18,FALSE))","v":""},null,{"$f":"IF(W23=\"\",\"\",IF(I23=1,VLOOKUP(W23,男子種目コード!$A$1:$B$33,2,FALSE),IF(I23=2,VLOOKUP(W23,女子種目コード!$A$1:$B$28,2,FALSE))))","v":""},null,null,{"$f":"IF(Z23=\"\",\"\",IF(I23=1,VLOOKUP(Z23,男子種目コード!$A$1:$B$33,2,FALSE),IF(V23=2,VLOOKUP(I23,女子種目コード!$A$1:$B$28,2,FALSE))))","v":""},null,null,{"$f":"IF(AC23=\"\",\"\",IF(I23=1,VLOOKUP(AC23,男子種目コード!$A$1:$B$33,2,FALSE),IF(Y23=2,VLOOKUP(I23,女子種目コード!$A$1:$B$28,2,FALSE))))","v":""},null,0,"","","",""]
[null,{"$f":"名簿!P21","v":""},null,null,{"$f":"名簿!E21","v":0},{"$f":"名簿!CM21","v":""},{"$f":"名簿!Z21","v":""},{"$f":"名簿!CM21","v":""},{"$f":"名簿!Y21","v":""},{"$f":"名簿!CN21","v":""},{"$f":"名簿!K21","v":0},{"$f":"名簿!CU21","v":"00"},{"$f":"名簿!Q21","v":""},{"$f":"名簿!$AA$6","v":"23"},null,{"$f":"IF(O24=\"\",\"\",IF(I24=1,VLOOKUP(O24,男子種目コード!$G$1:$H$6,2,FALSE),IF(I24=2,VLOOKUP(O24,女子種目コード!$G$1:$H$6,2,FALSE))))","v":""},{"$f":"IF(O24=\"\",\"\",HLOOKUP(O24,名簿!$AH$3:$CH$118,19,FALSE))","v":""},"","",null,{"$f":"IF(T24=\"\",\"\",IF(I24=1,VLOOKUP(T24,男子種目コード!$G$1:$H$6,2,FALSE),IF(I24=2,VLOOKUP(T24,女子種目コード!$G$1:$H$6,2,FALSE))))","v":""},{"$f":"IF(T24=\"\",\"\",HLOOKUP(T24,名簿!$AH$3:$CH$118,19,FALSE))","v":""},null,{"$f":"IF(W24=\"\",\"\",IF(I24=1,VLOOKUP(W24,男子種目コード!$A$1:$B$33,2,FALSE),IF(I24=2,VLOOKUP(W24,女子種目コード!$A$1:$B$28,2,FALSE))))","v":""},null,null,{"$f":"IF(Z24=\"\",\"\",IF(I24=1,VLOOKUP(Z24,男子種目コード!$A$1:$B$33,2,FALSE),IF(V24=2,VLOOKUP(I24,女子種目コード!$A$1:$B$28,2,FALSE))))","v":""},null,null,{"$f":"IF(AC24=\"\",\"\",IF(I24=1,VLOOKUP(AC24,男子種目コード!$A$1:$B$33,2,FALSE),IF(Y24=2,VLOOKUP(I24,女子種目コード!$A$1:$B$28,2,FALSE))))","v":""},null,0,"","","",""]
[null,{"$f":"名簿!P22","v":""},null,null,{"$f":"名簿!E22","v":0},{"$f":"名簿!CM22","v":""},{"$f":"名簿!Z22","v":""},{"$f":"名簿!CM22","v":""},{"$f":"名簿!Y22","v":""},{"$f":"名簿!CN22","v":""},{"$f":"名簿!K22","v":0},{"$f":"名簿!CU22","v":"00"},{"$f":"名簿!Q22","v":""},{"$f":"名簿!$AA$6","v":"23"},null,{"$f":"IF(O25=\"\",\"\",IF(I25=1,VLOOKUP(O25,男子種目コード!$G$1:$H$6,2,FALSE),IF(I25=2,VLOOKUP(O25,女子種目コード!$G$1:$H$6,2,FALSE))))","v":""},{"$f":"IF(O25=\"\",\"\",HLOOKUP(O25,名簿!$AH$3:$CH$118,20,FALSE))","v":""},"","",null,{"$f":"IF(T25=\"\",\"\",IF(I25=1,VLOOKUP(T25,男子種目コード!$G$1:$H$6,2,FALSE),IF(I25=2,VLOOKUP(T25,女子種目コード!$G$1:$H$6,2,FALSE))))","v":""},{"$f":"IF(T25=\"\",\"\",HLOOKUP(T25,名簿!$AH$3:$CH$118,20,FALSE))","v":""},null,{"$f":"IF(W25=\"\",\"\",IF(I25=1,VLOOKUP(W25,男子種目コード!$A$1:$B$33,2,FALSE),IF(I25=2,VLOOKUP(W25,女子種目コード!$A$1:$B$28,2,FALSE))))","v":""},null,null,{"$f":"IF(Z25=\"\",\"\",IF(I25=1,VLOOKUP(Z25,男子種目コード!$A$1:$B$33,2,FALSE),IF(V25=2,VLOOKUP(I25,女子種目コード!$A$1:$B$28,2,FALSE))))","v":""},null,null,{"$f":"IF(AC25=\"\",\"\",IF(I25=1,VLOOKUP(AC25,男子種目コード!$A$1:$B$33,2,FALSE),IF(Y25=2,VLOOKUP(I25,女子種目コード!$A$1:$B$28,2,FALSE))))","v":""},null,0,"","","",""]
[null,{"$f":"名簿!P23","v":""},null,null,{"$f":"名簿!E23","v":0},{"$f":"名簿!CM23","v":""},{"$f":"名簿!Z23","v":""},{"$f":"名簿!CM23","v":""},{"$f":"名簿!Y23","v":""},{"$f":"名簿!CN23","v":""},{"$f":"名簿!K23","v":0},{"$f":"名簿!CU23","v":"00"},{"$f":"名簿!Q23","v":""},{"$f":"名簿!$AA$6","v":"23"},null,{"$f":"IF(O26=\"\",\"\",IF(I26=1,VLOOKUP(O26,男子種目コード!$G$1:$H$6,2,FALSE),IF(I26=2,VLOOKUP(O26,女子種目コード!$G$1:$H$6,2,FALSE))))","v":""},{"$f":"IF(O26=\"\",\"\",HLOOKUP(O26,名簿!$AH$3:$CH$118,21,FALSE))","v":""},"","",null,{"$f":"IF(T26=\"\",\"\",IF(I26=1,VLOOKUP(T26,男子種目コード!$G$1:$H$6,2,FALSE),IF(I26=2,VLOOKUP(T26,女子種目コード!$G$1:$H$6,2,FALSE))))","v":""},{"$f":"IF(T26=\"\",\"\",HLOOKUP(T26,名簿!$AH$3:$CH$118,21,FALSE))","v":""},null,{"$f":"IF(W26=\"\",\"\",IF(I26=1,VLOOKUP(W26,男子種目コード!$A$1:$B$33,2,FALSE),IF(I26=2,VLOOKUP(W26,女子種目コード!$A$1:$B$28,2,FALSE))))","v":""},null,null,{"$f":"IF(Z26=\"\",\"\",IF(I26=1,VLOOKUP(Z26,男子種目コード!$A$1:$B$33,2,FALSE),IF(V26=2,VLOOKUP(I26,女子種目コード!$A$1:$B$28,2,FALSE))))","v":""},null,null,{"$f":"IF(AC26=\"\",\"\",IF(I26=1,VLOOKUP(AC26,男子種目コード!$A$1:$B$33,2,FALSE),IF(Y26=2,VLOOKUP(I26,女子種目コード!$A$1:$B$28,2,FALSE))))","v":""},null,0,"","","",""]
[null,{"$f":"名簿!P24","v":""},null,null,{"$f":"名簿!E24","v":0},{"$f":"名簿!CM24","v":""},{"$f":"名簿!Z24","v":""},{"$f":"名簿!CM24","v":""},{"$f":"名簿!Y24","v":""},{"$f":"名簿!CN24","v":""},{"$f":"名簿!K24","v":0},{"$f":"名簿!CU24","v":"00"},{"$f":"名簿!Q24","v":""},{"$f":"名簿!$AA$6","v":"23"},null,{"$f":"IF(O27=\"\",\"\",IF(I27=1,VLOOKUP(O27,男子種目コード!$G$1:$H$6,2,FALSE),IF(I27=2,VLOOKUP(O27,女子種目コード!$G$1:$H$6,2,FALSE))))","v":""},{"$f":"IF(O27=\"\",\"\",HLOOKUP(O27,名簿!$AH$3:$CH$118,22,FALSE))","v":""},"","",null,{"$f":"IF(T27=\"\",\"\",IF(I27=1,VLOOKUP(T27,男子種目コード!$G$1:$H$6,2,FALSE),IF(I27=2,VLOOKUP(T27,女子種目コード!$G$1:$H$6,2,FALSE))))","v":""},{"$f":"IF(T27=\"\",\"\",HLOOKUP(T27,名簿!$AH$3:$CH$118,22,FALSE))","v":""},null,{"$f":"IF(W27=\"\",\"\",IF(I27=1,VLOOKUP(W27,男子種目コード!$A$1:$B$33,2,FALSE),IF(I27=2,VLOOKUP(W27,女子種目コード!$A$1:$B$28,2,FALSE))))","v":""},null,null,{"$f":"IF(Z27=\"\",\"\",IF(I27=1,VLOOKUP(Z27,男子種目コード!$A$1:$B$33,2,FALSE),IF(V27=2,VLOOKUP(I27,女子種目コード!$A$1:$B$28,2,FALSE))))","v":""},null,null,{"$f":"IF(AC27=\"\",\"\",IF(I27=1,VLOOKUP(AC27,男子種目コード!$A$1:$B$33,2,FALSE),IF(Y27=2,VLOOKUP(I27,女子種目コード!$A$1:$B$28,2,FALSE))))","v":""},null,0,"","","",""]
[null,{"$f":"名簿!P25","v":""},null,null,{"$f":"名簿!E25","v":0},{"$f":"名簿!CM25","v":""},{"$f":"名簿!Z25","v":""},{"$f":"名簿!CM25","v":""},{"$f":"名簿!Y25","v":""},{"$f":"名簿!CN25","v":""},{"$f":"名簿!K25","v":0},{"$f":"名簿!CU25","v":"00"},{"$f":"名簿!Q25","v":""},{"$f":"名簿!$AA$6","v":"23"},null,{"$f":"IF(O28=\"\",\"\",IF(I28=1,VLOOKUP(O28,男子種目コード!$G$1:$H$6,2,FALSE),IF(I28=2,VLOOKUP(O28,女子種目コード!$G$1:$H$6,2,FALSE))))","v":""},{"$f":"IF(O28=\"\",\"\",HLOOKUP(O28,名簿!$AH$3:$CH$118,23,FALSE))","v":""},"","",null,{"$f":"IF(T28=\"\",\"\",IF(I28=1,VLOOKUP(T28,男子種目コード!$G$1:$H$6,2,FALSE),IF(I28=2,VLOOKUP(T28,女子種目コード!$G$1:$H$6,2,FALSE))))","v":""},{"$f":"IF(T28=\"\",\"\",HLOOKUP(T28,名簿!$AH$3:$CH$118,23,FALSE))","v":""},null,{"$f":"IF(W28=\"\",\"\",IF(I28=1,VLOOKUP(W28,男子種目コード!$A$1:$B$33,2,FALSE),IF(I28=2,VLOOKUP(W28,女子種目コード!$A$1:$B$28,2,FALSE))))","v":""},null,null,{"$f":"IF(Z28=\"\",\"\",IF(I28=1,VLOOKUP(Z28,男子種目コード!$A$1:$B$33,2,FALSE),IF(V28=2,VLOOKUP(I28,女子種目コード!$A$1:$B$28,2,FALSE))))","v":""},null,null,{"$f":"IF(AC28=\"\",\"\",IF(I28=1,VLOOKUP(AC28,男子種目コード!$A$1:$B$33,2,FALSE),IF(Y28=2,VLOOKUP(I28,女子種目コード!$A$1:$B$28,2,FALSE))))","v":""},null,0,"","","",""]
[null,{"$f":"名簿!P26","v":""},null,null,{"$f":"名簿!E26","v":0},{"$f":"名簿!CM26","v":""},{"$f":"名簿!Z26","v":""},{"$f":"名簿!CM26","v":""},{"$f":"名簿!Y26","v":""},{"$f":"名簿!CN26","v":""},{"$f":"名簿!K26","v":0},{"$f":"名簿!CU26","v":"00"},{"$f":"名簿!Q26","v":""},{"$f":"名簿!$AA$6","v":"23"},null,{"$f":"IF(O29=\"\",\"\",IF(I29=1,VLOOKUP(O29,男子種目コード!$G$1:$H$6,2,FALSE),IF(I29=2,VLOOKUP(O29,女子種目コード!$G$1:$H$6,2,FALSE))))","v":""},{"$f":"IF(O29=\"\",\"\",HLOOKUP(O29,名簿!$AH$3:$CH$118,24,FALSE))","v":""},"","",null,{"$f":"IF(T29=\"\",\"\",IF(I29=1,VLOOKUP(T29,男子種目コード!$G$1:$H$6,2,FALSE),IF(I29=2,VLOOKUP(T29,女子種目コード!$G$1:$H$6,2,FALSE))))","v":""},{"$f":"IF(T29=\"\",\"\",HLOOKUP(T29,名簿!$AH$3:$CH$118,24,FALSE))","v":""},null,{"$f":"IF(W29=\"\",\"\",IF(I29=1,VLOOKUP(W29,男子種目コード!$A$1:$B$33,2,FALSE),IF(I29=2,VLOOKUP(W29,女子種目コード!$A$1:$B$28,2,FALSE))))","v":""},null,null,{"$f":"IF(Z29=\"\",\"\",IF(I29=1,VLOOKUP(Z29,男子種目コード!$A$1:$B$33,2,FALSE),IF(V29=2,VLOOKUP(I29,女子種目コード!$A$1:$B$28,2,FALSE))))","v":""},null,null,{"$f":"IF(AC29=\"\",\"\",IF(I29=1,VLOOKUP(AC29,男子種目コード!$A$1:$B$33,2,FALSE),IF(Y29=2,VLOOKUP(I29,女子種目コード!$A$1:$B$28,2,FALSE))))","v":""},null,0,"","","",""]
[null,{"$f":"名簿!P27","v":""},null,null,{"$f":"名簿!E27","v":0},{"$f":"名簿!CM27","v":""},{"$f":"名簿!Z27","v":""},{"$f":"名簿!CM27","v":""},{"$f":"名簿!Y27","v":""},{"$f":"名簿!CN27","v":""},{"$f":"名簿!K27","v":0},{"$f":"名簿!CU27","v":"00"},{"$f":"名簿!Q27","v":""},{"$f":"名簿!$AA$6","v":"23"},null,{"$f":"IF(O30=\"\",\"\",IF(I30=1,VLOOKUP(O30,男子種目コード!$G$1:$H$6,2,FALSE),IF(I30=2,VLOOKUP(O30,女子種目コード!$G$1:$H$6,2,FALSE))))","v":""},{"$f":"IF(O30=\"\",\"\",HLOOKUP(O30,名簿!$AH$3:$CH$118,25,FALSE))","v":""},"","",null,{"$f":"IF(T30=\"\",\"\",IF(I30=1,VLOOKUP(T30,男子種目コード!$G$1:$H$6,2,FALSE),IF(I30=2,VLOOKUP(T30,女子種目コード!$G$1:$H$6,2,FALSE))))","v":""},{"$f":"IF(T30=\"\",\"\",HLOOKUP(T30,名簿!$AH$3:$CH$118,25,FALSE))","v":""},null,{"$f":"IF(W30=\"\",\"\",IF(I30=1,VLOOKUP(W30,男子種目コード!$A$1:$B$33,2,FALSE),IF(I30=2,VLOOKUP(W30,女子種目コード!$A$1:$B$28,2,FALSE))))","v":""},null,null,{"$f":"IF(Z30=\"\",\"\",IF(I30=1,VLOOKUP(Z30,男子種目コード!$A$1:$B$33,2,FALSE),IF(V30=2,VLOOKUP(I30,女子種目コード!$A$1:$B$28,2,FALSE))))","v":""},null,null,{"$f":"IF(AC30=\"\",\"\",IF(I30=1,VLOOKUP(AC30,男子種目コード!$A$1:$B$33,2,FALSE),IF(Y30=2,VLOOKUP(I30,女子種目コード!$A$1:$B$28,2,FALSE))))","v":""},null,0,"","","",""]
[null,{"$f":"名簿!P28","v":""},null,null,{"$f":"名簿!E28","v":0},{"$f":"名簿!CM28","v":""},{"$f":"名簿!Z28","v":""},{"$f":"名簿!CM28","v":""},{"$f":"名簿!Y28","v":""},{"$f":"名簿!CN28","v":""},{"$f":"名簿!K28","v":0},{"$f":"名簿!CU28","v":"00"},{"$f":"名簿!Q28","v":""},{"$f":"名簿!$AA$6","v":"23"},null,{"$f":"IF(O31=\"\",\"\",IF(I31=1,VLOOKUP(O31,男子種目コード!$G$1:$H$6,2,FALSE),IF(I31=2,VLOOKUP(O31,女子種目コード!$G$1:$H$6,2,FALSE))))","v":""},{"$f":"IF(O31=\"\",\"\",HLOOKUP(O31,名簿!$AH$3:$CH$118,26,FALSE))","v":""},"","",null,{"$f":"IF(T31=\"\",\"\",IF(I31=1,VLOOKUP(T31,男子種目コード!$G$1:$H$6,2,FALSE),IF(I31=2,VLOOKUP(T31,女子種目コード!$G$1:$H$6,2,FALSE))))","v":""},{"$f":"IF(T31=\"\",\"\",HLOOKUP(T31,名簿!$AH$3:$CH$118,26,FALSE))","v":""},null,{"$f":"IF(W31=\"\",\"\",IF(I31=1,VLOOKUP(W31,男子種目コード!$A$1:$B$33,2,FALSE),IF(I31=2,VLOOKUP(W31,女子種目コード!$A$1:$B$28,2,FALSE))))","v":""},null,null,{"$f":"IF(Z31=\"\",\"\",IF(I31=1,VLOOKUP(Z31,男子種目コード!$A$1:$B$33,2,FALSE),IF(V31=2,VLOOKUP(I31,女子種目コード!$A$1:$B$28,2,FALSE))))","v":""},null,null,{"$f":"IF(AC31=\"\",\"\",IF(I31=1,VLOOKUP(AC31,男子種目コード!$A$1:$B$33,2,FALSE),IF(Y31=2,VLOOKUP(I31,女子種目コード!$A$1:$B$28,2,FALSE))))","v":""},null,0,"","","",""]
[null,{"$f":"名簿!P29","v":""},null,null,{"$f":"名簿!E29","v":0},{"$f":"名簿!CM29","v":""},{"$f":"名簿!Z29","v":""},{"$f":"名簿!CM29","v":""},{"$f":"名簿!Y29","v":""},{"$f":"名簿!CN29","v":""},{"$f":"名簿!K29","v":0},{"$f":"名簿!CU29","v":"00"},{"$f":"名簿!Q29","v":""},{"$f":"名簿!$AA$6","v":"23"},null,{"$f":"IF(O32=\"\",\"\",IF(I32=1,VLOOKUP(O32,男子種目コード!$G$1:$H$6,2,FALSE),IF(I32=2,VLOOKUP(O32,女子種目コード!$G$1:$H$6,2,FALSE))))","v":""},{"$f":"IF(O32=\"\",\"\",HLOOKUP(O32,名簿!$AH$3:$CH$118,27,FALSE))","v":""},"","",null,{"$f":"IF(T32=\"\",\"\",IF(I32=1,VLOOKUP(T32,男子種目コード!$G$1:$H$6,2,FALSE),IF(I32=2,VLOOKUP(T32,女子種目コード!$G$1:$H$6,2,FALSE))))","v":""},{"$f":"IF(T32=\"\",\"\",HLOOKUP(T32,名簿!$AH$3:$CH$118,27,FALSE))","v":""},null,{"$f":"IF(W32=\"\",\"\",IF(I32=1,VLOOKUP(W32,男子種目コード!$A$1:$B$33,2,FALSE),IF(I32=2,VLOOKUP(W32,女子種目コード!$A$1:$B$28,2,FALSE))))","v":""},null,null,{"$f":"IF(Z32=\"\",\"\",IF(I32=1,VLOOKUP(Z32,男子種目コード!$A$1:$B$33,2,FALSE),IF(V32=2,VLOOKUP(I32,女子種目コード!$A$1:$B$28,2,FALSE))))","v":""},null,null,{"$f":"IF(AC32=\"\",\"\",IF(I32=1,VLOOKUP(AC32,男子種目コード!$A$1:$B$33,2,FALSE),IF(Y32=2,VLOOKUP(I32,女子種目コード!$A$1:$B$28,2,FALSE))))","v":""},null,0,"","","",""]
[null,{"$f":"名簿!P30","v":""},null,null,{"$f":"名簿!E30","v":0},{"$f":"名簿!CM30","v":""},{"$f":"名簿!Z30","v":""},{"$f":"名簿!CM30","v":""},{"$f":"名簿!Y30","v":""},{"$f":"名簿!CN30","v":""},{"$f":"名簿!K30","v":0},{"$f":"名簿!CU30","v":"00"},{"$f":"名簿!Q30","v":""},{"$f":"名簿!$AA$6","v":"23"},null,{"$f":"IF(O33=\"\",\"\",IF(I33=1,VLOOKUP(O33,男子種目コード!$G$1:$H$6,2,FALSE),IF(I33=2,VLOOKUP(O33,女子種目コード!$G$1:$H$6,2,FALSE))))","v":""},{"$f":"IF(O33=\"\",\"\",HLOOKUP(O33,名簿!$AH$3:$CH$118,28,FALSE))","v":""},"","",null,{"$f":"IF(T33=\"\",\"\",IF(I33=1,VLOOKUP(T33,男子種目コード!$G$1:$H$6,2,FALSE),IF(I33=2,VLOOKUP(T33,女子種目コード!$G$1:$H$6,2,FALSE))))","v":""},{"$f":"IF(T33=\"\",\"\",HLOOKUP(T33,名簿!$AH$3:$CH$118,28,FALSE))","v":""},null,{"$f":"IF(W33=\"\",\"\",IF(I33=1,VLOOKUP(W33,男子種目コード!$A$1:$B$33,2,FALSE),IF(I33=2,VLOOKUP(W33,女子種目コード!$A$1:$B$28,2,FALSE))))","v":""},null,null,{"$f":"IF(Z33=\"\",\"\",IF(I33=1,VLOOKUP(Z33,男子種目コード!$A$1:$B$33,2,FALSE),IF(V33=2,VLOOKUP(I33,女子種目コード!$A$1:$B$28,2,FALSE))))","v":""},null,null,{"$f":"IF(AC33=\"\",\"\",IF(I33=1,VLOOKUP(AC33,男子種目コード!$A$1:$B$33,2,FALSE),IF(Y33=2,VLOOKUP(I33,女子種目コード!$A$1:$B$28,2,FALSE))))","v":""},null,0,"","","",""]
[null,{"$f":"名簿!P31","v":""},null,null,{"$f":"名簿!E31","v":0},{"$f":"名簿!CM31","v":""},{"$f":"名簿!Z31","v":""},{"$f":"名簿!CM31","v":""},{"$f":"名簿!Y31","v":""},{"$f":"名簿!CN31","v":""},{"$f":"名簿!K31","v":0},{"$f":"名簿!CU31","v":"00"},{"$f":"名簿!Q31","v":""},{"$f":"名簿!$AA$6","v":"23"},null,{"$f":"IF(O34=\"\",\"\",IF(I34=1,VLOOKUP(O34,男子種目コード!$G$1:$H$6,2,FALSE),IF(I34=2,VLOOKUP(O34,女子種目コード!$G$1:$H$6,2,FALSE))))","v":""},{"$f":"IF(O34=\"\",\"\",HLOOKUP(O34,名簿!$AH$3:$CH$118,29,FALSE))","v":""},"","",null,{"$f":"IF(T34=\"\",\"\",IF(I34=1,VLOOKUP(T34,男子種目コード!$G$1:$H$6,2,FALSE),IF(I34=2,VLOOKUP(T34,女子種目コード!$G$1:$H$6,2,FALSE))))","v":""},{"$f":"IF(T34=\"\",\"\",HLOOKUP(T34,名簿!$AH$3:$CH$118,29,FALSE))","v":""},null,{"$f":"IF(W34=\"\",\"\",IF(I34=1,VLOOKUP(W34,男子種目コード!$A$1:$B$33,2,FALSE),IF(I34=2,VLOOKUP(W34,女子種目コード!$A$1:$B$28,2,FALSE))))","v":""},null,null,{"$f":"IF(Z34=\"\",\"\",IF(I34=1,VLOOKUP(Z34,男子種目コード!$A$1:$B$33,2,FALSE),IF(V34=2,VLOOKUP(I34,女子種目コード!$A$1:$B$28,2,FALSE))))","v":""},null,null,{"$f":"IF(AC34=\"\",\"\",IF(I34=1,VLOOKUP(AC34,男子種目コード!$A$1:$B$33,2,FALSE),IF(Y34=2,VLOOKUP(I34,女子種目コード!$A$1:$B$28,2,FALSE))))","v":""},null,0,"","","",""]
[null,{"$f":"名簿!P32","v":""},null,null,{"$f":"名簿!E32","v":0},{"$f":"名簿!CM32","v":""},{"$f":"名簿!Z32","v":""},{"$f":"名簿!CM32","v":""},{"$f":"名簿!Y32","v":""},{"$f":"名簿!CN32","v":""},{"$f":"名簿!K32","v":0},{"$f":"名簿!CU32","v":"00"},{"$f":"名簿!Q32","v":""},{"$f":"名簿!$AA$6","v":"23"},null,{"$f":"IF(O35=\"\",\"\",IF(I35=1,VLOOKUP(O35,男子種目コード!$G$1:$H$6,2,FALSE),IF(I35=2,VLOOKUP(O35,女子種目コード!$G$1:$H$6,2,FALSE))))","v":""},{"$f":"IF(O35=\"\",\"\",HLOOKUP(O35,名簿!$AH$3:$CH$118,30,FALSE))","v":""},"","",null,{"$f":"IF(T35=\"\",\"\",IF(I35=1,VLOOKUP(T35,男子種目コード!$G$1:$H$6,2,FALSE),IF(I35=2,VLOOKUP(T35,女子種目コード!$G$1:$H$6,2,FALSE))))","v":""},{"$f":"IF(T35=\"\",\"\",HLOOKUP(T35,名簿!$AH$3:$CH$118,30,FALSE))","v":""},null,{"$f":"IF(W35=\"\",\"\",IF(I35=1,VLOOKUP(W35,男子種目コード!$A$1:$B$33,2,FALSE),IF(I35=2,VLOOKUP(W35,女子種目コード!$A$1:$B$28,2,FALSE))))","v":""},null,null,{"$f":"IF(Z35=\"\",\"\",IF(I35=1,VLOOKUP(Z35,男子種目コード!$A$1:$B$33,2,FALSE),IF(V35=2,VLOOKUP(I35,女子種目コード!$A$1:$B$28,2,FALSE))))","v":""},null,null,{"$f":"IF(AC35=\"\",\"\",IF(I35=1,VLOOKUP(AC35,男子種目コード!$A$1:$B$33,2,FALSE),IF(Y35=2,VLOOKUP(I35,女子種目コード!$A$1:$B$28,2,FALSE))))","v":""},null,0,"","","",""]
[null,{"$f":"名簿!P33","v":""},null,null,{"$f":"名簿!E33","v":0},{"$f":"名簿!CM33","v":""},{"$f":"名簿!Z33","v":""},{"$f":"名簿!CM33","v":""},{"$f":"名簿!Y33","v":""},{"$f":"名簿!CN33","v":""},{"$f":"名簿!K33","v":0},{"$f":"名簿!CU33","v":"00"},{"$f":"名簿!Q33","v":""},{"$f":"名簿!$AA$6","v":"23"},null,{"$f":"IF(O36=\"\",\"\",IF(I36=1,VLOOKUP(O36,男子種目コード!$G$1:$H$6,2,FALSE),IF(I36=2,VLOOKUP(O36,女子種目コード!$G$1:$H$6,2,FALSE))))","v":""},{"$f":"IF(O36=\"\",\"\",HLOOKUP(O36,名簿!$AH$3:$CH$118,31,FALSE))","v":""},"","",null,{"$f":"IF(T36=\"\",\"\",IF(I36=1,VLOOKUP(T36,男子種目コード!$G$1:$H$6,2,FALSE),IF(I36=2,VLOOKUP(T36,女子種目コード!$G$1:$H$6,2,FALSE))))","v":""},{"$f":"IF(T36=\"\",\"\",HLOOKUP(T36,名簿!$AH$3:$CH$118,31,FALSE))","v":""},null,{"$f":"IF(W36=\"\",\"\",IF(I36=1,VLOOKUP(W36,男子種目コード!$A$1:$B$33,2,FALSE),IF(I36=2,VLOOKUP(W36,女子種目コード!$A$1:$B$28,2,FALSE))))","v":""},null,null,{"$f":"IF(Z36=\"\",\"\",IF(I36=1,VLOOKUP(Z36,男子種目コード!$A$1:$B$33,2,FALSE),IF(V36=2,VLOOKUP(I36,女子種目コード!$A$1:$B$28,2,FALSE))))","v":""},null,null,{"$f":"IF(AC36=\"\",\"\",IF(I36=1,VLOOKUP(AC36,男子種目コード!$A$1:$B$33,2,FALSE),IF(Y36=2,VLOOKUP(I36,女子種目コード!$A$1:$B$28,2,FALSE))))","v":""},null,0,"","","",""]
[null,{"$f":"名簿!P34","v":""},null,null,{"$f":"名簿!E34","v":0},{"$f":"名簿!CM34","v":""},{"$f":"名簿!Z34","v":""},{"$f":"名簿!CM34","v":""},{"$f":"名簿!Y34","v":""},{"$f":"名簿!CN34","v":""},{"$f":"名簿!K34","v":0},{"$f":"名簿!CU34","v":"00"},{"$f":"名簿!Q34","v":""},{"$f":"名簿!$AA$6","v":"23"},null,{"$f":"IF(O37=\"\",\"\",IF(I37=1,VLOOKUP(O37,男子種目コード!$G$1:$H$6,2,FALSE),IF(I37=2,VLOOKUP(O37,女子種目コード!$G$1:$H$6,2,FALSE))))","v":""},{"$f":"IF(O37=\"\",\"\",HLOOKUP(O37,名簿!$AH$3:$CH$118,32,FALSE))","v":""},"","",null,{"$f":"IF(T37=\"\",\"\",IF(I37=1,VLOOKUP(T37,男子種目コード!$G$1:$H$6,2,FALSE),IF(I37=2,VLOOKUP(T37,女子種目コード!$G$1:$H$6,2,FALSE))))","v":""},{"$f":"IF(T37=\"\",\"\",HLOOKUP(T37,名簿!$AH$3:$CH$118,32,FALSE))","v":""},null,{"$f":"IF(W37=\"\",\"\",IF(I37=1,VLOOKUP(W37,男子種目コード!$A$1:$B$33,2,FALSE),IF(I37=2,VLOOKUP(W37,女子種目コード!$A$1:$B$28,2,FALSE))))","v":""},null,null,{"$f":"IF(Z37=\"\",\"\",IF(I37=1,VLOOKUP(Z37,男子種目コード!$A$1:$B$33,2,FALSE),IF(V37=2,VLOOKUP(I37,女子種目コード!$A$1:$B$28,2,FALSE))))","v":""},null,null,{"$f":"IF(AC37=\"\",\"\",IF(I37=1,VLOOKUP(AC37,男子種目コード!$A$1:$B$33,2,FALSE),IF(Y37=2,VLOOKUP(I37,女子種目コード!$A$1:$B$28,2,FALSE))))","v":""},null,0,"","","",""]
[null,{"$f":"名簿!P35","v":""},null,null,{"$f":"名簿!E35","v":0},{"$f":"名簿!CM35","v":""},{"$f":"名簿!Z35","v":""},{"$f":"名簿!CM35","v":""},{"$f":"名簿!Y35","v":""},{"$f":"名簿!CN35","v":""},{"$f":"名簿!K35","v":0},{"$f":"名簿!CU35","v":"00"},{"$f":"名簿!Q35","v":""},{"$f":"名簿!$AA$6","v":"23"},null,{"$f":"IF(O38=\"\",\"\",IF(I38=1,VLOOKUP(O38,男子種目コード!$G$1:$H$6,2,FALSE),IF(I38=2,VLOOKUP(O38,女子種目コード!$G$1:$H$6,2,FALSE))))","v":""},{"$f":"IF(O38=\"\",\"\",HLOOKUP(O38,名簿!$AH$3:$CH$118,33,FALSE))","v":""},"","",null,{"$f":"IF(T38=\"\",\"\",IF(I38=1,VLOOKUP(T38,男子種目コード!$G$1:$H$6,2,FALSE),IF(I38=2,VLOOKUP(T38,女子種目コード!$G$1:$H$6,2,FALSE))))","v":""},{"$f":"IF(T38=\"\",\"\",HLOOKUP(T38,名簿!$AH$3:$CH$118,33,FALSE))","v":""},null,{"$f":"IF(W38=\"\",\"\",IF(I38=1,VLOOKUP(W38,男子種目コード!$A$1:$B$33,2,FALSE),IF(I38=2,VLOOKUP(W38,女子種目コード!$A$1:$B$28,2,FALSE))))","v":""},null,null,{"$f":"IF(Z38=\"\",\"\",IF(I38=1,VLOOKUP(Z38,男子種目コード!$A$1:$B$33,2,FALSE),IF(V38=2,VLOOKUP(I38,女子種目コード!$A$1:$B$28,2,FALSE))))","v":""},null,null,{"$f":"IF(AC38=\"\",\"\",IF(I38=1,VLOOKUP(AC38,男子種目コード!$A$1:$B$33,2,FALSE),IF(Y38=2,VLOOKUP(I38,女子種目コード!$A$1:$B$28,2,FALSE))))","v":""},null,0,"","","",""]
[null,{"$f":"名簿!P36","v":""},null,null,{"$f":"名簿!E36","v":0},{"$f":"名簿!CM36","v":""},{"$f":"名簿!Z36","v":""},{"$f":"名簿!CM36","v":""},{"$f":"名簿!Y36","v":""},{"$f":"名簿!CN36","v":""},{"$f":"名簿!K36","v":0},{"$f":"名簿!CU36","v":"00"},{"$f":"名簿!Q36","v":""},{"$f":"名簿!$AA$6","v":"23"},null,{"$f":"IF(O39=\"\",\"\",IF(I39=1,VLOOKUP(O39,男子種目コード!$G$1:$H$6,2,FALSE),IF(I39=2,VLOOKUP(O39,女子種目コード!$G$1:$H$6,2,FALSE))))","v":""},{"$f":"IF(O39=\"\",\"\",HLOOKUP(O39,名簿!$AH$3:$CH$118,34,FALSE))","v":""},"","",null,{"$f":"IF(T39=\"\",\"\",IF(I39=1,VLOOKUP(T39,男子種目コード!$G$1:$H$6,2,FALSE),IF(I39=2,VLOOKUP(T39,女子種目コード!$G$1:$H$6,2,FALSE))))","v":""},{"$f":"IF(T39=\"\",\"\",HLOOKUP(T39,名簿!$AH$3:$CH$118,34,FALSE))","v":""},null,{"$f":"IF(W39=\"\",\"\",IF(I39=1,VLOOKUP(W39,男子種目コード!$A$1:$B$33,2,FALSE),IF(I39=2,VLOOKUP(W39,女子種目コード!$A$1:$B$28,2,FALSE))))","v":""},null,null,{"$f":"IF(Z39=\"\",\"\",IF(I39=1,VLOOKUP(Z39,男子種目コード!$A$1:$B$33,2,FALSE),IF(V39=2,VLOOKUP(I39,女子種目コード!$A$1:$B$28,2,FALSE))))","v":""},null,null,{"$f":"IF(AC39=\"\",\"\",IF(I39=1,VLOOKUP(AC39,男子種目コード!$A$1:$B$33,2,FALSE),IF(Y39=2,VLOOKUP(I39,女子種目コード!$A$1:$B$28,2,FALSE))))","v":""},null,0,"","","",""]
[null,{"$f":"名簿!P37","v":""},null,null,{"$f":"名簿!E37","v":0},{"$f":"名簿!CM37","v":""},{"$f":"名簿!Z37","v":""},{"$f":"名簿!CM37","v":""},{"$f":"名簿!Y37","v":""},{"$f":"名簿!CN37","v":""},{"$f":"名簿!K37","v":0},{"$f":"名簿!CU37","v":"00"},{"$f":"名簿!Q37","v":""},{"$f":"名簿!$AA$6","v":"23"},null,{"$f":"IF(O40=\"\",\"\",IF(I40=1,VLOOKUP(O40,男子種目コード!$G$1:$H$6,2,FALSE),IF(I40=2,VLOOKUP(O40,女子種目コード!$G$1:$H$6,2,FALSE))))","v":""},{"$f":"IF(O40=\"\",\"\",HLOOKUP(O40,名簿!$AH$3:$CH$118,35,FALSE))","v":""},"","",null,{"$f":"IF(T40=\"\",\"\",IF(I40=1,VLOOKUP(T40,男子種目コード!$G$1:$H$6,2,FALSE),IF(I40=2,VLOOKUP(T40,女子種目コード!$G$1:$H$6,2,FALSE))))","v":""},{"$f":"IF(T40=\"\",\"\",HLOOKUP(T40,名簿!$AH$3:$CH$118,35,FALSE))","v":""},null,{"$f":"IF(W40=\"\",\"\",IF(I40=1,VLOOKUP(W40,男子種目コード!$A$1:$B$33,2,FALSE),IF(I40=2,VLOOKUP(W40,女子種目コード!$A$1:$B$28,2,FALSE))))","v":""},null,null,{"$f":"IF(Z40=\"\",\"\",IF(I40=1,VLOOKUP(Z40,男子種目コード!$A$1:$B$33,2,FALSE),IF(V40=2,VLOOKUP(I40,女子種目コード!$A$1:$B$28,2,FALSE))))","v":""},null,null,{"$f":"IF(AC40=\"\",\"\",IF(I40=1,VLOOKUP(AC40,男子種目コード!$A$1:$B$33,2,FALSE),IF(Y40=2,VLOOKUP(I40,女子種目コード!$A$1:$B$28,2,FALSE))))","v":""},null,0,"","","",""]
[null,{"$f":"名簿!P38","v":""},null,null,{"$f":"名簿!E38","v":0},{"$f":"名簿!CM38","v":""},{"$f":"名簿!Z38","v":""},{"$f":"名簿!CM38","v":""},{"$f":"名簿!Y38","v":""},{"$f":"名簿!CN38","v":""},{"$f":"名簿!K38","v":0},{"$f":"名簿!CU38","v":"00"},{"$f":"名簿!Q38","v":""},{"$f":"名簿!$AA$6","v":"23"},null,{"$f":"IF(O41=\"\",\"\",IF(I41=1,VLOOKUP(O41,男子種目コード!$G$1:$H$6,2,FALSE),IF(I41=2,VLOOKUP(O41,女子種目コード!$G$1:$H$6,2,FALSE))))","v":""},{"$f":"IF(O41=\"\",\"\",HLOOKUP(O41,名簿!$AH$3:$CH$118,36,FALSE))","v":""},"","",null,{"$f":"IF(T41=\"\",\"\",IF(I41=1,VLOOKUP(T41,男子種目コード!$G$1:$H$6,2,FALSE),IF(I41=2,VLOOKUP(T41,女子種目コード!$G$1:$H$6,2,FALSE))))","v":""},{"$f":"IF(T41=\"\",\"\",HLOOKUP(T41,名簿!$AH$3:$CH$118,36,FALSE))","v":""},null,{"$f":"IF(W41=\"\",\"\",IF(I41=1,VLOOKUP(W41,男子種目コード!$A$1:$B$33,2,FALSE),IF(I41=2,VLOOKUP(W41,女子種目コード!$A$1:$B$28,2,FALSE))))","v":""},null,null,{"$f":"IF(Z41=\"\",\"\",IF(I41=1,VLOOKUP(Z41,男子種目コード!$A$1:$B$33,2,FALSE),IF(V41=2,VLOOKUP(I41,女子種目コード!$A$1:$B$28,2,FALSE))))","v":""},null,null,{"$f":"IF(AC41=\"\",\"\",IF(I41=1,VLOOKUP(AC41,男子種目コード!$A$1:$B$33,2,FALSE),IF(Y41=2,VLOOKUP(I41,女子種目コード!$A$1:$B$28,2,FALSE))))","v":""},null,0,"","","",""]
[null,{"$f":"名簿!P39","v":""},null,null,{"$f":"名簿!E39","v":0},{"$f":"名簿!CM39","v":""},{"$f":"名簿!Z39","v":""},{"$f":"名簿!CM39","v":""},{"$f":"名簿!Y39","v":""},{"$f":"名簿!CN39","v":""},{"$f":"名簿!K39","v":0},{"$f":"名簿!CU39","v":"00"},{"$f":"名簿!Q39","v":""},{"$f":"名簿!$AA$6","v":"23"},null,{"$f":"IF(O42=\"\",\"\",IF(I42=1,VLOOKUP(O42,男子種目コード!$G$1:$H$6,2,FALSE),IF(I42=2,VLOOKUP(O42,女子種目コード!$G$1:$H$6,2,FALSE))))","v":""},{"$f":"IF(O42=\"\",\"\",HLOOKUP(O42,名簿!$AH$3:$CH$118,37,FALSE))","v":""},"","",null,{"$f":"IF(T42=\"\",\"\",IF(I42=1,VLOOKUP(T42,男子種目コード!$G$1:$H$6,2,FALSE),IF(I42=2,VLOOKUP(T42,女子種目コード!$G$1:$H$6,2,FALSE))))","v":""},{"$f":"IF(T42=\"\",\"\",HLOOKUP(T42,名簿!$AH$3:$CH$118,37,FALSE))","v":""},null,{"$f":"IF(W42=\"\",\"\",IF(I42=1,VLOOKUP(W42,男子種目コード!$A$1:$B$33,2,FALSE),IF(I42=2,VLOOKUP(W42,女子種目コード!$A$1:$B$28,2,FALSE))))","v":""},null,null,{"$f":"IF(Z42=\"\",\"\",IF(I42=1,VLOOKUP(Z42,男子種目コード!$A$1:$B$33,2,FALSE),IF(V42=2,VLOOKUP(I42,女子種目コード!$A$1:$B$28,2,FALSE))))","v":""},null,null,{"$f":"IF(AC42=\"\",\"\",IF(I42=1,VLOOKUP(AC42,男子種目コード!$A$1:$B$33,2,FALSE),IF(Y42=2,VLOOKUP(I42,女子種目コード!$A$1:$B$28,2,FALSE))))","v":""},null,0,"","","",""]
[null,{"$f":"名簿!P40","v":""},null,null,{"$f":"名簿!E40","v":0},{"$f":"名簿!CM40","v":""},{"$f":"名簿!Z40","v":""},{"$f":"名簿!CM40","v":""},{"$f":"名簿!Y40","v":""},{"$f":"名簿!CN40","v":""},{"$f":"名簿!K40","v":0},{"$f":"名簿!CU40","v":"00"},{"$f":"名簿!Q40","v":""},{"$f":"名簿!$AA$6","v":"23"},null,{"$f":"IF(O43=\"\",\"\",IF(I43=1,VLOOKUP(O43,男子種目コード!$G$1:$H$6,2,FALSE),IF(I43=2,VLOOKUP(O43,女子種目コード!$G$1:$H$6,2,FALSE))))","v":""},{"$f":"IF(O43=\"\",\"\",HLOOKUP(O43,名簿!$AH$3:$CH$118,38,FALSE))","v":""},"","",null,{"$f":"IF(T43=\"\",\"\",IF(I43=1,VLOOKUP(T43,男子種目コード!$G$1:$H$6,2,FALSE),IF(I43=2,VLOOKUP(T43,女子種目コード!$G$1:$H$6,2,FALSE))))","v":""},{"$f":"IF(T43=\"\",\"\",HLOOKUP(T43,名簿!$AH$3:$CH$118,38,FALSE))","v":""},null,{"$f":"IF(W43=\"\",\"\",IF(I43=1,VLOOKUP(W43,男子種目コード!$A$1:$B$33,2,FALSE),IF(I43=2,VLOOKUP(W43,女子種目コード!$A$1:$B$28,2,FALSE))))","v":""},null,null,{"$f":"IF(Z43=\"\",\"\",IF(I43=1,VLOOKUP(Z43,男子種目コード!$A$1:$B$33,2,FALSE),IF(V43=2,VLOOKUP(I43,女子種目コード!$A$1:$B$28,2,FALSE))))","v":""},null,null,{"$f":"IF(AC43=\"\",\"\",IF(I43=1,VLOOKUP(AC43,男子種目コード!$A$1:$B$33,2,FALSE),IF(Y43=2,VLOOKUP(I43,女子種目コード!$A$1:$B$28,2,FALSE))))","v":""},null,0,"","","",""]
[null,{"$f":"名簿!P41","v":""},null,null,{"$f":"名簿!E41","v":0},{"$f":"名簿!CM41","v":""},{"$f":"名簿!Z41","v":""},{"$f":"名簿!CM41","v":""},{"$f":"名簿!Y41","v":""},{"$f":"名簿!CN41","v":""},{"$f":"名簿!K41","v":0},{"$f":"名簿!CU41","v":"00"},{"$f":"名簿!Q41","v":""},{"$f":"名簿!$AA$6","v":"23"},null,{"$f":"IF(O44=\"\",\"\",IF(I44=1,VLOOKUP(O44,男子種目コード!$G$1:$H$6,2,FALSE),IF(I44=2,VLOOKUP(O44,女子種目コード!$G$1:$H$6,2,FALSE))))","v":""},{"$f":"IF(O44=\"\",\"\",HLOOKUP(O44,名簿!$AH$3:$CH$118,39,FALSE))","v":""},"","",null,{"$f":"IF(T44=\"\",\"\",IF(I44=1,VLOOKUP(T44,男子種目コード!$G$1:$H$6,2,FALSE),IF(I44=2,VLOOKUP(T44,女子種目コード!$G$1:$H$6,2,FALSE))))","v":""},{"$f":"IF(T44=\"\",\"\",HLOOKUP(T44,名簿!$AH$3:$CH$118,39,FALSE))","v":""},null,{"$f":"IF(W44=\"\",\"\",IF(I44=1,VLOOKUP(W44,男子種目コード!$A$1:$B$33,2,FALSE),IF(I44=2,VLOOKUP(W44,女子種目コード!$A$1:$B$28,2,FALSE))))","v":""},null,null,{"$f":"IF(Z44=\"\",\"\",IF(I44=1,VLOOKUP(Z44,男子種目コード!$A$1:$B$33,2,FALSE),IF(V44=2,VLOOKUP(I44,女子種目コード!$A$1:$B$28,2,FALSE))))","v":""},null,null,{"$f":"IF(AC44=\"\",\"\",IF(I44=1,VLOOKUP(AC44,男子種目コード!$A$1:$B$33,2,FALSE),IF(Y44=2,VLOOKUP(I44,女子種目コード!$A$1:$B$28,2,FALSE))))","v":""},null,0,"","","",""]
[null,{"$f":"名簿!P42","v":""},null,null,{"$f":"名簿!E42","v":0},{"$f":"名簿!CM42","v":""},{"$f":"名簿!Z42","v":""},{"$f":"名簿!CM42","v":""},{"$f":"名簿!Y42","v":""},{"$f":"名簿!CN42","v":""},{"$f":"名簿!K42","v":0},{"$f":"名簿!CU42","v":"00"},{"$f":"名簿!Q42","v":""},{"$f":"名簿!$AA$6","v":"23"},null,{"$f":"IF(O45=\"\",\"\",IF(I45=1,VLOOKUP(O45,男子種目コード!$G$1:$H$6,2,FALSE),IF(I45=2,VLOOKUP(O45,女子種目コード!$G$1:$H$6,2,FALSE))))","v":""},{"$f":"IF(O45=\"\",\"\",HLOOKUP(O45,名簿!$AH$3:$CH$118,40,FALSE))","v":""},"","",null,{"$f":"IF(T45=\"\",\"\",IF(I45=1,VLOOKUP(T45,男子種目コード!$G$1:$H$6,2,FALSE),IF(I45=2,VLOOKUP(T45,女子種目コード!$G$1:$H$6,2,FALSE))))","v":""},{"$f":"IF(T45=\"\",\"\",HLOOKUP(T45,名簿!$AH$3:$CH$118,40,FALSE))","v":""},null,{"$f":"IF(W45=\"\",\"\",IF(I45=1,VLOOKUP(W45,男子種目コード!$A$1:$B$33,2,FALSE),IF(I45=2,VLOOKUP(W45,女子種目コード!$A$1:$B$28,2,FALSE))))","v":""},null,null,{"$f":"IF(Z45=\"\",\"\",IF(I45=1,VLOOKUP(Z45,男子種目コード!$A$1:$B$33,2,FALSE),IF(V45=2,VLOOKUP(I45,女子種目コード!$A$1:$B$28,2,FALSE))))","v":""},null,null,{"$f":"IF(AC45=\"\",\"\",IF(I45=1,VLOOKUP(AC45,男子種目コード!$A$1:$B$33,2,FALSE),IF(Y45=2,VLOOKUP(I45,女子種目コード!$A$1:$B$28,2,FALSE))))","v":""},null,0,"","","",""]
[null,{"$f":"名簿!P43","v":""},null,null,{"$f":"名簿!E43","v":0},{"$f":"名簿!CM43","v":""},{"$f":"名簿!Z43","v":""},{"$f":"名簿!CM43","v":""},{"$f":"名簿!Y43","v":""},{"$f":"名簿!CN43","v":""},{"$f":"名簿!K43","v":0},{"$f":"名簿!CU43","v":"00"},{"$f":"名簿!Q43","v":""},{"$f":"名簿!$AA$6","v":"23"},null,{"$f":"IF(O46=\"\",\"\",IF(I46=1,VLOOKUP(O46,男子種目コード!$G$1:$H$6,2,FALSE),IF(I46=2,VLOOKUP(O46,女子種目コード!$G$1:$H$6,2,FALSE))))","v":""},{"$f":"IF(O46=\"\",\"\",HLOOKUP(O46,名簿!$AH$3:$CH$118,41,FALSE))","v":""},"","",null,{"$f":"IF(T46=\"\",\"\",IF(I46=1,VLOOKUP(T46,男子種目コード!$G$1:$H$6,2,FALSE),IF(I46=2,VLOOKUP(T46,女子種目コード!$G$1:$H$6,2,FALSE))))","v":""},{"$f":"IF(T46=\"\",\"\",HLOOKUP(T46,名簿!$AH$3:$CH$118,41,FALSE))","v":""},null,{"$f":"IF(W46=\"\",\"\",IF(I46=1,VLOOKUP(W46,男子種目コード!$A$1:$B$33,2,FALSE),IF(I46=2,VLOOKUP(W46,女子種目コード!$A$1:$B$28,2,FALSE))))","v":""},null,null,{"$f":"IF(Z46=\"\",\"\",IF(I46=1,VLOOKUP(Z46,男子種目コード!$A$1:$B$33,2,FALSE),IF(V46=2,VLOOKUP(I46,女子種目コード!$A$1:$B$28,2,FALSE))))","v":""},null,null,{"$f":"IF(AC46=\"\",\"\",IF(I46=1,VLOOKUP(AC46,男子種目コード!$A$1:$B$33,2,FALSE),IF(Y46=2,VLOOKUP(I46,女子種目コード!$A$1:$B$28,2,FALSE))))","v":""},null,0,"","","",""]
[null,{"$f":"名簿!P44","v":""},null,null,{"$f":"名簿!E44","v":0},{"$f":"名簿!CM44","v":""},{"$f":"名簿!Z44","v":""},{"$f":"名簿!CM44","v":""},{"$f":"名簿!Y44","v":""},{"$f":"名簿!CN44","v":""},{"$f":"名簿!K44","v":0},{"$f":"名簿!CU44","v":"00"},{"$f":"名簿!Q44","v":""},{"$f":"名簿!$AA$6","v":"23"},null,{"$f":"IF(O47=\"\",\"\",IF(I47=1,VLOOKUP(O47,男子種目コード!$G$1:$H$6,2,FALSE),IF(I47=2,VLOOKUP(O47,女子種目コード!$G$1:$H$6,2,FALSE))))","v":""},{"$f":"IF(O47=\"\",\"\",HLOOKUP(O47,名簿!$AH$3:$CH$118,42,FALSE))","v":""},"","",null,{"$f":"IF(T47=\"\",\"\",IF(I47=1,VLOOKUP(T47,男子種目コード!$G$1:$H$6,2,FALSE),IF(I47=2,VLOOKUP(T47,女子種目コード!$G$1:$H$6,2,FALSE))))","v":""},{"$f":"IF(T47=\"\",\"\",HLOOKUP(T47,名簿!$AH$3:$CH$118,42,FALSE))","v":""},null,{"$f":"IF(W47=\"\",\"\",IF(I47=1,VLOOKUP(W47,男子種目コード!$A$1:$B$33,2,FALSE),IF(I47=2,VLOOKUP(W47,女子種目コード!$A$1:$B$28,2,FALSE))))","v":""},null,null,{"$f":"IF(Z47=\"\",\"\",IF(I47=1,VLOOKUP(Z47,男子種目コード!$A$1:$B$33,2,FALSE),IF(V47=2,VLOOKUP(I47,女子種目コード!$A$1:$B$28,2,FALSE))))","v":""},null,null,{"$f":"IF(AC47=\"\",\"\",IF(I47=1,VLOOKUP(AC47,男子種目コード!$A$1:$B$33,2,FALSE),IF(Y47=2,VLOOKUP(I47,女子種目コード!$A$1:$B$28,2,FALSE))))","v":""},null,0,"","","",""]
[null,{"$f":"名簿!P45","v":""},null,null,{"$f":"名簿!E45","v":0},{"$f":"名簿!CM45","v":""},{"$f":"名簿!Z45","v":""},{"$f":"名簿!CM45","v":""},{"$f":"名簿!Y45","v":""},{"$f":"名簿!CN45","v":""},{"$f":"名簿!K45","v":0},{"$f":"名簿!CU45","v":"00"},{"$f":"名簿!Q45","v":""},{"$f":"名簿!$AA$6","v":"23"},null,{"$f":"IF(O48=\"\",\"\",IF(I48=1,VLOOKUP(O48,男子種目コード!$G$1:$H$6,2,FALSE),IF(I48=2,VLOOKUP(O48,女子種目コード!$G$1:$H$6,2,FALSE))))","v":""},{"$f":"IF(O48=\"\",\"\",HLOOKUP(O48,名簿!$AH$3:$CH$118,43,FALSE))","v":""},"","",null,{"$f":"IF(T48=\"\",\"\",IF(I48=1,VLOOKUP(T48,男子種目コード!$G$1:$H$6,2,FALSE),IF(I48=2,VLOOKUP(T48,女子種目コード!$G$1:$H$6,2,FALSE))))","v":""},{"$f":"IF(T48=\"\",\"\",HLOOKUP(T48,名簿!$AH$3:$CH$118,43,FALSE))","v":""},null,{"$f":"IF(W48=\"\",\"\",IF(I48=1,VLOOKUP(W48,男子種目コード!$A$1:$B$33,2,FALSE),IF(I48=2,VLOOKUP(W48,女子種目コード!$A$1:$B$28,2,FALSE))))","v":""},null,null,{"$f":"IF(Z48=\"\",\"\",IF(I48=1,VLOOKUP(Z48,男子種目コード!$A$1:$B$33,2,FALSE),IF(V48=2,VLOOKUP(I48,女子種目コード!$A$1:$B$28,2,FALSE))))","v":""},null,null,{"$f":"IF(AC48=\"\",\"\",IF(I48=1,VLOOKUP(AC48,男子種目コード!$A$1:$B$33,2,FALSE),IF(Y48=2,VLOOKUP(I48,女子種目コード!$A$1:$B$28,2,FALSE))))","v":""},null,0,"","","",""]
[null,{"$f":"名簿!P46","v":""},null,null,{"$f":"名簿!E46","v":0},{"$f":"名簿!CM46","v":""},{"$f":"名簿!Z46","v":""},{"$f":"名簿!CM46","v":""},{"$f":"名簿!Y46","v":""},{"$f":"名簿!CN46","v":""},{"$f":"名簿!K46","v":0},{"$f":"名簿!CU46","v":"00"},{"$f":"名簿!Q46","v":""},{"$f":"名簿!$AA$6","v":"23"},null,{"$f":"IF(O49=\"\",\"\",IF(I49=1,VLOOKUP(O49,男子種目コード!$G$1:$H$6,2,FALSE),IF(I49=2,VLOOKUP(O49,女子種目コード!$G$1:$H$6,2,FALSE))))","v":""},{"$f":"IF(O49=\"\",\"\",HLOOKUP(O49,名簿!$AH$3:$CH$118,44,FALSE))","v":""},"","",null,{"$f":"IF(T49=\"\",\"\",IF(I49=1,VLOOKUP(T49,男子種目コード!$G$1:$H$6,2,FALSE),IF(I49=2,VLOOKUP(T49,女子種目コード!$G$1:$H$6,2,FALSE))))","v":""},{"$f":"IF(T49=\"\",\"\",HLOOKUP(T49,名簿!$AH$3:$CH$118,44,FALSE))","v":""},null,{"$f":"IF(W49=\"\",\"\",IF(I49=1,VLOOKUP(W49,男子種目コード!$A$1:$B$33,2,FALSE),IF(I49=2,VLOOKUP(W49,女子種目コード!$A$1:$B$28,2,FALSE))))","v":""},null,null,{"$f":"IF(Z49=\"\",\"\",IF(I49=1,VLOOKUP(Z49,男子種目コード!$A$1:$B$33,2,FALSE),IF(V49=2,VLOOKUP(I49,女子種目コード!$A$1:$B$28,2,FALSE))))","v":""},null,null,{"$f":"IF(AC49=\"\",\"\",IF(I49=1,VLOOKUP(AC49,男子種目コード!$A$1:$B$33,2,FALSE),IF(Y49=2,VLOOKUP(I49,女子種目コード!$A$1:$B$28,2,FALSE))))","v":""},null,0,"","","",""]
[null,{"$f":"名簿!P47","v":""},null,null,{"$f":"名簿!E47","v":0},{"$f":"名簿!CM47","v":""},{"$f":"名簿!Z47","v":""},{"$f":"名簿!CM47","v":""},{"$f":"名簿!Y47","v":""},{"$f":"名簿!CN47","v":""},{"$f":"名簿!K47","v":0},{"$f":"名簿!CU47","v":"00"},{"$f":"名簿!Q47","v":""},{"$f":"名簿!$AA$6","v":"23"},null,{"$f":"IF(O50=\"\",\"\",IF(I50=1,VLOOKUP(O50,男子種目コード!$G$1:$H$6,2,FALSE),IF(I50=2,VLOOKUP(O50,女子種目コード!$G$1:$H$6,2,FALSE))))","v":""},{"$f":"IF(O50=\"\",\"\",HLOOKUP(O50,名簿!$AH$3:$CH$118,45,FALSE))","v":""},"","",null,{"$f":"IF(T50=\"\",\"\",IF(I50=1,VLOOKUP(T50,男子種目コード!$G$1:$H$6,2,FALSE),IF(I50=2,VLOOKUP(T50,女子種目コード!$G$1:$H$6,2,FALSE))))","v":""},{"$f":"IF(T50=\"\",\"\",HLOOKUP(T50,名簿!$AH$3:$CH$118,45,FALSE))","v":""},null,{"$f":"IF(W50=\"\",\"\",IF(I50=1,VLOOKUP(W50,男子種目コード!$A$1:$B$33,2,FALSE),IF(I50=2,VLOOKUP(W50,女子種目コード!$A$1:$B$28,2,FALSE))))","v":""},null,null,{"$f":"IF(Z50=\"\",\"\",IF(I50=1,VLOOKUP(Z50,男子種目コード!$A$1:$B$33,2,FALSE),IF(V50=2,VLOOKUP(I50,女子種目コード!$A$1:$B$28,2,FALSE))))","v":""},null,null,{"$f":"IF(AC50=\"\",\"\",IF(I50=1,VLOOKUP(AC50,男子種目コード!$A$1:$B$33,2,FALSE),IF(Y50=2,VLOOKUP(I50,女子種目コード!$A$1:$B$28,2,FALSE))))","v":""},null,0,"","","",""]
[null,{"$f":"名簿!P48","v":""},null,null,{"$f":"名簿!E48","v":0},{"$f":"名簿!CM48","v":""},{"$f":"名簿!Z48","v":""},{"$f":"名簿!CM48","v":""},{"$f":"名簿!Y48","v":""},{"$f":"名簿!CN48","v":""},{"$f":"名簿!K48","v":0},{"$f":"名簿!CU48","v":"00"},{"$f":"名簿!Q48","v":""},{"$f":"名簿!$AA$6","v":"23"},null,{"$f":"IF(O51=\"\",\"\",IF(I51=1,VLOOKUP(O51,男子種目コード!$G$1:$H$6,2,FALSE),IF(I51=2,VLOOKUP(O51,女子種目コード!$G$1:$H$6,2,FALSE))))","v":""},{"$f":"IF(O51=\"\",\"\",HLOOKUP(O51,名簿!$AH$3:$CH$118,46,FALSE))","v":""},"","",null,{"$f":"IF(T51=\"\",\"\",IF(I51=1,VLOOKUP(T51,男子種目コード!$G$1:$H$6,2,FALSE),IF(I51=2,VLOOKUP(T51,女子種目コード!$G$1:$H$6,2,FALSE))))","v":""},{"$f":"IF(T51=\"\",\"\",HLOOKUP(T51,名簿!$AH$3:$CH$118,46,FALSE))","v":""},null,{"$f":"IF(W51=\"\",\"\",IF(I51=1,VLOOKUP(W51,男子種目コード!$A$1:$B$33,2,FALSE),IF(I51=2,VLOOKUP(W51,女子種目コード!$A$1:$B$28,2,FALSE))))","v":""},null,null,{"$f":"IF(Z51=\"\",\"\",IF(I51=1,VLOOKUP(Z51,男子種目コード!$A$1:$B$33,2,FALSE),IF(V51=2,VLOOKUP(I51,女子種目コード!$A$1:$B$28,2,FALSE))))","v":""},null,null,{"$f":"IF(AC51=\"\",\"\",IF(I51=1,VLOOKUP(AC51,男子種目コード!$A$1:$B$33,2,FALSE),IF(Y51=2,VLOOKUP(I51,女子種目コード!$A$1:$B$28,2,FALSE))))","v":""},null,0,"","","",""]
[null,{"$f":"名簿!P49","v":""},null,null,{"$f":"名簿!E49","v":0},{"$f":"名簿!CM49","v":""},{"$f":"名簿!Z49","v":""},{"$f":"名簿!CM49","v":""},{"$f":"名簿!Y49","v":""},{"$f":"名簿!CN49","v":""},{"$f":"名簿!K49","v":0},{"$f":"名簿!CU49","v":"00"},{"$f":"名簿!Q49","v":""},{"$f":"名簿!$AA$6","v":"23"},null,{"$f":"IF(O52=\"\",\"\",IF(I52=1,VLOOKUP(O52,男子種目コード!$G$1:$H$6,2,FALSE),IF(I52=2,VLOOKUP(O52,女子種目コード!$G$1:$H$6,2,FALSE))))","v":""},{"$f":"IF(O52=\"\",\"\",HLOOKUP(O52,名簿!$AH$3:$CH$118,47,FALSE))","v":""},"","",null,{"$f":"IF(T52=\"\",\"\",IF(I52=1,VLOOKUP(T52,男子種目コード!$G$1:$H$6,2,FALSE),IF(I52=2,VLOOKUP(T52,女子種目コード!$G$1:$H$6,2,FALSE))))","v":""},{"$f":"IF(T52=\"\",\"\",HLOOKUP(T52,名簿!$AH$3:$CH$118,47,FALSE))","v":""},null,{"$f":"IF(W52=\"\",\"\",IF(I52=1,VLOOKUP(W52,男子種目コード!$A$1:$B$33,2,FALSE),IF(I52=2,VLOOKUP(W52,女子種目コード!$A$1:$B$28,2,FALSE))))","v":""},null,null,{"$f":"IF(Z52=\"\",\"\",IF(I52=1,VLOOKUP(Z52,男子種目コード!$A$1:$B$33,2,FALSE),IF(V52=2,VLOOKUP(I52,女子種目コード!$A$1:$B$28,2,FALSE))))","v":""},null,null,{"$f":"IF(AC52=\"\",\"\",IF(I52=1,VLOOKUP(AC52,男子種目コード!$A$1:$B$33,2,FALSE),IF(Y52=2,VLOOKUP(I52,女子種目コード!$A$1:$B$28,2,FALSE))))","v":""},null,0,"","","",""]
[null,{"$f":"名簿!P50","v":""},null,null,{"$f":"名簿!E50","v":0},{"$f":"名簿!CM50","v":""},{"$f":"名簿!Z50","v":""},{"$f":"名簿!CM50","v":""},{"$f":"名簿!Y50","v":""},{"$f":"名簿!CN50","v":""},{"$f":"名簿!K50","v":0},{"$f":"名簿!CU50","v":"00"},{"$f":"名簿!Q50","v":""},{"$f":"名簿!$AA$6","v":"23"},null,{"$f":"IF(O53=\"\",\"\",IF(I53=1,VLOOKUP(O53,男子種目コード!$G$1:$H$6,2,FALSE),IF(I53=2,VLOOKUP(O53,女子種目コード!$G$1:$H$6,2,FALSE))))","v":""},{"$f":"IF(O53=\"\",\"\",HLOOKUP(O53,名簿!$AH$3:$CH$118,48,FALSE))","v":""},"","",null,{"$f":"IF(T53=\"\",\"\",IF(I53=1,VLOOKUP(T53,男子種目コード!$G$1:$H$6,2,FALSE),IF(I53=2,VLOOKUP(T53,女子種目コード!$G$1:$H$6,2,FALSE))))","v":""},{"$f":"IF(T53=\"\",\"\",HLOOKUP(T53,名簿!$AH$3:$CH$118,48,FALSE))","v":""},null,{"$f":"IF(W53=\"\",\"\",IF(I53=1,VLOOKUP(W53,男子種目コード!$A$1:$B$33,2,FALSE),IF(I53=2,VLOOKUP(W53,女子種目コード!$A$1:$B$28,2,FALSE))))","v":""},null,null,{"$f":"IF(Z53=\"\",\"\",IF(I53=1,VLOOKUP(Z53,男子種目コード!$A$1:$B$33,2,FALSE),IF(V53=2,VLOOKUP(I53,女子種目コード!$A$1:$B$28,2,FALSE))))","v":""},null,null,{"$f":"IF(AC53=\"\",\"\",IF(I53=1,VLOOKUP(AC53,男子種目コード!$A$1:$B$33,2,FALSE),IF(Y53=2,VLOOKUP(I53,女子種目コード!$A$1:$B$28,2,FALSE))))","v":""},null,0,"","","",""]
[null,{"$f":"名簿!P51","v":""},null,null,{"$f":"名簿!E51","v":0},{"$f":"名簿!CM51","v":""},{"$f":"名簿!Z51","v":""},{"$f":"名簿!CM51","v":""},{"$f":"名簿!Y51","v":""},{"$f":"名簿!CN51","v":""},{"$f":"名簿!K51","v":0},{"$f":"名簿!CU51","v":"00"},{"$f":"名簿!Q51","v":""},{"$f":"名簿!$AA$6","v":"23"},null,{"$f":"IF(O54=\"\",\"\",IF(I54=1,VLOOKUP(O54,男子種目コード!$G$1:$H$6,2,FALSE),IF(I54=2,VLOOKUP(O54,女子種目コード!$G$1:$H$6,2,FALSE))))","v":""},{"$f":"IF(O54=\"\",\"\",HLOOKUP(O54,名簿!$AH$3:$CH$118,49,FALSE))","v":""},"","",null,{"$f":"IF(T54=\"\",\"\",IF(I54=1,VLOOKUP(T54,男子種目コード!$G$1:$H$6,2,FALSE),IF(I54=2,VLOOKUP(T54,女子種目コード!$G$1:$H$6,2,FALSE))))","v":""},{"$f":"IF(T54=\"\",\"\",HLOOKUP(T54,名簿!$AH$3:$CH$118,49,FALSE))","v":""},null,{"$f":"IF(W54=\"\",\"\",IF(I54=1,VLOOKUP(W54,男子種目コード!$A$1:$B$33,2,FALSE),IF(I54=2,VLOOKUP(W54,女子種目コード!$A$1:$B$28,2,FALSE))))","v":""},null,null,{"$f":"IF(Z54=\"\",\"\",IF(I54=1,VLOOKUP(Z54,男子種目コード!$A$1:$B$33,2,FALSE),IF(V54=2,VLOOKUP(I54,女子種目コード!$A$1:$B$28,2,FALSE))))","v":""},null,null,{"$f":"IF(AC54=\"\",\"\",IF(I54=1,VLOOKUP(AC54,男子種目コード!$A$1:$B$33,2,FALSE),IF(Y54=2,VLOOKUP(I54,女子種目コード!$A$1:$B$28,2,FALSE))))","v":""},null,0,"","","",""]
[null,{"$f":"名簿!P52","v":""},null,null,{"$f":"名簿!E52","v":0},{"$f":"名簿!CM52","v":""},{"$f":"名簿!Z52","v":""},{"$f":"名簿!CM52","v":""},{"$f":"名簿!Y52","v":""},{"$f":"名簿!CN52","v":""},{"$f":"名簿!K52","v":0},{"$f":"名簿!CU52","v":"00"},{"$f":"名簿!Q52","v":""},{"$f":"名簿!$AA$6","v":"23"},null,{"$f":"IF(O55=\"\",\"\",IF(I55=1,VLOOKUP(O55,男子種目コード!$G$1:$H$6,2,FALSE),IF(I55=2,VLOOKUP(O55,女子種目コード!$G$1:$H$6,2,FALSE))))","v":""},{"$f":"IF(O55=\"\",\"\",HLOOKUP(O55,名簿!$AH$3:$CH$118,50,FALSE))","v":""},"","",null,{"$f":"IF(T55=\"\",\"\",IF(I55=1,VLOOKUP(T55,男子種目コード!$G$1:$H$6,2,FALSE),IF(I55=2,VLOOKUP(T55,女子種目コード!$G$1:$H$6,2,FALSE))))","v":""},{"$f":"IF(T55=\"\",\"\",HLOOKUP(T55,名簿!$AH$3:$CH$118,50,FALSE))","v":""},null,{"$f":"IF(W55=\"\",\"\",IF(I55=1,VLOOKUP(W55,男子種目コード!$A$1:$B$33,2,FALSE),IF(I55=2,VLOOKUP(W55,女子種目コード!$A$1:$B$28,2,FALSE))))","v":""},null,null,{"$f":"IF(Z55=\"\",\"\",IF(I55=1,VLOOKUP(Z55,男子種目コード!$A$1:$B$33,2,FALSE),IF(V55=2,VLOOKUP(I55,女子種目コード!$A$1:$B$28,2,FALSE))))","v":""},null,null,{"$f":"IF(AC55=\"\",\"\",IF(I55=1,VLOOKUP(AC55,男子種目コード!$A$1:$B$33,2,FALSE),IF(Y55=2,VLOOKUP(I55,女子種目コード!$A$1:$B$28,2,FALSE))))","v":""},null,0,"","","",""]
[null,{"$f":"名簿!P53","v":""},null,null,{"$f":"名簿!E53","v":0},{"$f":"名簿!CM53","v":""},{"$f":"名簿!Z53","v":""},{"$f":"名簿!CM53","v":""},{"$f":"名簿!Y53","v":""},{"$f":"名簿!CN53","v":""},{"$f":"名簿!K53","v":0},{"$f":"名簿!CU53","v":"00"},{"$f":"名簿!Q53","v":""},{"$f":"名簿!$AA$6","v":"23"},null,{"$f":"IF(O56=\"\",\"\",IF(I56=1,VLOOKUP(O56,男子種目コード!$G$1:$H$6,2,FALSE),IF(I56=2,VLOOKUP(O56,女子種目コード!$G$1:$H$6,2,FALSE))))","v":""},{"$f":"IF(O56=\"\",\"\",HLOOKUP(O56,名簿!$AH$3:$CH$118,51,FALSE))","v":""},"","",null,{"$f":"IF(T56=\"\",\"\",IF(I56=1,VLOOKUP(T56,男子種目コード!$G$1:$H$6,2,FALSE),IF(I56=2,VLOOKUP(T56,女子種目コード!$G$1:$H$6,2,FALSE))))","v":""},{"$f":"IF(T56=\"\",\"\",HLOOKUP(T56,名簿!$AH$3:$CH$118,51,FALSE))","v":""},null,{"$f":"IF(W56=\"\",\"\",IF(I56=1,VLOOKUP(W56,男子種目コード!$A$1:$B$33,2,FALSE),IF(I56=2,VLOOKUP(W56,女子種目コード!$A$1:$B$28,2,FALSE))))","v":""},null,null,{"$f":"IF(Z56=\"\",\"\",IF(I56=1,VLOOKUP(Z56,男子種目コード!$A$1:$B$33,2,FALSE),IF(V56=2,VLOOKUP(I56,女子種目コード!$A$1:$B$28,2,FALSE))))","v":""},null,null,{"$f":"IF(AC56=\"\",\"\",IF(I56=1,VLOOKUP(AC56,男子種目コード!$A$1:$B$33,2,FALSE),IF(Y56=2,VLOOKUP(I56,女子種目コード!$A$1:$B$28,2,FALSE))))","v":""},null,0,"","","",""]
[null,{"$f":"名簿!P54","v":""},null,null,{"$f":"名簿!E54","v":0},{"$f":"名簿!CM54","v":""},{"$f":"名簿!Z54","v":""},{"$f":"名簿!CM54","v":""},{"$f":"名簿!Y54","v":""},{"$f":"名簿!CN54","v":""},{"$f":"名簿!K54","v":0},{"$f":"名簿!CU54","v":"00"},{"$f":"名簿!Q54","v":""},{"$f":"名簿!$AA$6","v":"23"},null,{"$f":"IF(O57=\"\",\"\",IF(I57=1,VLOOKUP(O57,男子種目コード!$G$1:$H$6,2,FALSE),IF(I57=2,VLOOKUP(O57,女子種目コード!$G$1:$H$6,2,FALSE))))","v":""},{"$f":"IF(O57=\"\",\"\",HLOOKUP(O57,名簿!$AH$3:$CH$118,52,FALSE))","v":""},"","",null,{"$f":"IF(T57=\"\",\"\",IF(I57=1,VLOOKUP(T57,男子種目コード!$G$1:$H$6,2,FALSE),IF(I57=2,VLOOKUP(T57,女子種目コード!$G$1:$H$6,2,FALSE))))","v":""},{"$f":"IF(T57=\"\",\"\",HLOOKUP(T57,名簿!$AH$3:$CH$118,52,FALSE))","v":""},null,{"$f":"IF(W57=\"\",\"\",IF(I57=1,VLOOKUP(W57,男子種目コード!$A$1:$B$33,2,FALSE),IF(I57=2,VLOOKUP(W57,女子種目コード!$A$1:$B$28,2,FALSE))))","v":""},null,null,{"$f":"IF(Z57=\"\",\"\",IF(I57=1,VLOOKUP(Z57,男子種目コード!$A$1:$B$33,2,FALSE),IF(V57=2,VLOOKUP(I57,女子種目コード!$A$1:$B$28,2,FALSE))))","v":""},null,null,{"$f":"IF(AC57=\"\",\"\",IF(I57=1,VLOOKUP(AC57,男子種目コード!$A$1:$B$33,2,FALSE),IF(Y57=2,VLOOKUP(I57,女子種目コード!$A$1:$B$28,2,FALSE))))","v":""},null,0,"","","",""]
[null,{"$f":"名簿!P55","v":""},null,null,{"$f":"名簿!E55","v":0},{"$f":"名簿!CM55","v":""},{"$f":"名簿!Z55","v":""},{"$f":"名簿!CM55","v":""},{"$f":"名簿!Y55","v":""},{"$f":"名簿!CN55","v":""},{"$f":"名簿!K55","v":0},{"$f":"名簿!CU55","v":"00"},{"$f":"名簿!Q55","v":""},{"$f":"名簿!$AA$6","v":"23"},null,{"$f":"IF(O58=\"\",\"\",IF(I58=1,VLOOKUP(O58,男子種目コード!$G$1:$H$6,2,FALSE),IF(I58=2,VLOOKUP(O58,女子種目コード!$G$1:$H$6,2,FALSE))))","v":""},{"$f":"IF(O58=\"\",\"\",HLOOKUP(O58,名簿!$AH$3:$CH$118,53,FALSE))","v":""},"","",null,{"$f":"IF(T58=\"\",\"\",IF(I58=1,VLOOKUP(T58,男子種目コード!$G$1:$H$6,2,FALSE),IF(I58=2,VLOOKUP(T58,女子種目コード!$G$1:$H$6,2,FALSE))))","v":""},{"$f":"IF(T58=\"\",\"\",HLOOKUP(T58,名簿!$AH$3:$CH$118,53,FALSE))","v":""},null,{"$f":"IF(W58=\"\",\"\",IF(I58=1,VLOOKUP(W58,男子種目コード!$A$1:$B$33,2,FALSE),IF(I58=2,VLOOKUP(W58,女子種目コード!$A$1:$B$28,2,FALSE))))","v":""},null,null,{"$f":"IF(Z58=\"\",\"\",IF(I58=1,VLOOKUP(Z58,男子種目コード!$A$1:$B$33,2,FALSE),IF(V58=2,VLOOKUP(I58,女子種目コード!$A$1:$B$28,2,FALSE))))","v":""},null,null,{"$f":"IF(AC58=\"\",\"\",IF(I58=1,VLOOKUP(AC58,男子種目コード!$A$1:$B$33,2,FALSE),IF(Y58=2,VLOOKUP(I58,女子種目コード!$A$1:$B$28,2,FALSE))))","v":""},null,0,"","","",""]
[null,{"$f":"名簿!P56","v":""},null,null,{"$f":"名簿!E56","v":0},{"$f":"名簿!CM56","v":""},{"$f":"名簿!Z56","v":""},{"$f":"名簿!CM56","v":""},{"$f":"名簿!Y56","v":""},{"$f":"名簿!CN56","v":""},{"$f":"名簿!K56","v":0},{"$f":"名簿!CU56","v":"00"},{"$f":"名簿!Q56","v":""},{"$f":"名簿!$AA$6","v":"23"},null,{"$f":"IF(O59=\"\",\"\",IF(I59=1,VLOOKUP(O59,男子種目コード!$G$1:$H$6,2,FALSE),IF(I59=2,VLOOKUP(O59,女子種目コード!$G$1:$H$6,2,FALSE))))","v":""},{"$f":"IF(O59=\"\",\"\",HLOOKUP(O59,名簿!$AH$3:$CH$118,54,FALSE))","v":""},"","",null,{"$f":"IF(T59=\"\",\"\",IF(I59=1,VLOOKUP(T59,男子種目コード!$G$1:$H$6,2,FALSE),IF(I59=2,VLOOKUP(T59,女子種目コード!$G$1:$H$6,2,FALSE))))","v":""},{"$f":"IF(T59=\"\",\"\",HLOOKUP(T59,名簿!$AH$3:$CH$118,54,FALSE))","v":""},null,{"$f":"IF(W59=\"\",\"\",IF(I59=1,VLOOKUP(W59,男子種目コード!$A$1:$B$33,2,FALSE),IF(I59=2,VLOOKUP(W59,女子種目コード!$A$1:$B$28,2,FALSE))))","v":""},null,null,{"$f":"IF(Z59=\"\",\"\",IF(I59=1,VLOOKUP(Z59,男子種目コード!$A$1:$B$33,2,FALSE),IF(V59=2,VLOOKUP(I59,女子種目コード!$A$1:$B$28,2,FALSE))))","v":""},null,null,{"$f":"IF(AC59=\"\",\"\",IF(I59=1,VLOOKUP(AC59,男子種目コード!$A$1:$B$33,2,FALSE),IF(Y59=2,VLOOKUP(I59,女子種目コード!$A$1:$B$28,2,FALSE))))","v":""},null,0,"","","",""]
[null,{"$f":"名簿!P57","v":""},null,null,{"$f":"名簿!E57","v":0},{"$f":"名簿!CM57","v":""},{"$f":"名簿!Z57","v":""},{"$f":"名簿!CM57","v":""},{"$f":"名簿!Y57","v":""},{"$f":"名簿!CN57","v":""},{"$f":"名簿!K57","v":0},{"$f":"名簿!CU57","v":"00"},{"$f":"名簿!Q57","v":""},{"$f":"名簿!$AA$6","v":"23"},null,{"$f":"IF(O60=\"\",\"\",IF(I60=1,VLOOKUP(O60,男子種目コード!$G$1:$H$6,2,FALSE),IF(I60=2,VLOOKUP(O60,女子種目コード!$G$1:$H$6,2,FALSE))))","v":""},{"$f":"IF(O60=\"\",\"\",HLOOKUP(O60,名簿!$AH$3:$CH$118,55,FALSE))","v":""},"","",null,{"$f":"IF(T60=\"\",\"\",IF(I60=1,VLOOKUP(T60,男子種目コード!$G$1:$H$6,2,FALSE),IF(I60=2,VLOOKUP(T60,女子種目コード!$G$1:$H$6,2,FALSE))))","v":""},{"$f":"IF(T60=\"\",\"\",HLOOKUP(T60,名簿!$AH$3:$CH$118,55,FALSE))","v":""},null,{"$f":"IF(W60=\"\",\"\",IF(I60=1,VLOOKUP(W60,男子種目コード!$A$1:$B$33,2,FALSE),IF(I60=2,VLOOKUP(W60,女子種目コード!$A$1:$B$28,2,FALSE))))","v":""},null,null,{"$f":"IF(Z60=\"\",\"\",IF(I60=1,VLOOKUP(Z60,男子種目コード!$A$1:$B$33,2,FALSE),IF(V60=2,VLOOKUP(I60,女子種目コード!$A$1:$B$28,2,FALSE))))","v":""},null,null,{"$f":"IF(AC60=\"\",\"\",IF(I60=1,VLOOKUP(AC60,男子種目コード!$A$1:$B$33,2,FALSE),IF(Y60=2,VLOOKUP(I60,女子種目コード!$A$1:$B$28,2,FALSE))))","v":""},null,0,"","","",""]
[null,{"$f":"名簿!P58","v":""},null,null,{"$f":"名簿!E58","v":0},{"$f":"名簿!CM58","v":""},{"$f":"名簿!Z58","v":""},{"$f":"名簿!CM58","v":""},{"$f":"名簿!Y58","v":""},{"$f":"名簿!CN58","v":""},{"$f":"名簿!K58","v":0},{"$f":"名簿!CU58","v":"00"},{"$f":"名簿!Q58","v":""},{"$f":"名簿!$AA$6","v":"23"},null,{"$f":"IF(O61=\"\",\"\",IF(I61=1,VLOOKUP(O61,男子種目コード!$G$1:$H$6,2,FALSE),IF(I61=2,VLOOKUP(O61,女子種目コード!$G$1:$H$6,2,FALSE))))","v":""},{"$f":"IF(O61=\"\",\"\",HLOOKUP(O61,名簿!$AH$3:$CH$118,56,FALSE))","v":""},"","",null,{"$f":"IF(T61=\"\",\"\",IF(I61=1,VLOOKUP(T61,男子種目コード!$G$1:$H$6,2,FALSE),IF(I61=2,VLOOKUP(T61,女子種目コード!$G$1:$H$6,2,FALSE))))","v":""},{"$f":"IF(T61=\"\",\"\",HLOOKUP(T61,名簿!$AH$3:$CH$118,56,FALSE))","v":""},null,{"$f":"IF(W61=\"\",\"\",IF(I61=1,VLOOKUP(W61,男子種目コード!$A$1:$B$33,2,FALSE),IF(I61=2,VLOOKUP(W61,女子種目コード!$A$1:$B$28,2,FALSE))))","v":""},null,null,{"$f":"IF(Z61=\"\",\"\",IF(I61=1,VLOOKUP(Z61,男子種目コード!$A$1:$B$33,2,FALSE),IF(V61=2,VLOOKUP(I61,女子種目コード!$A$1:$B$28,2,FALSE))))","v":""},null,null,{"$f":"IF(AC61=\"\",\"\",IF(I61=1,VLOOKUP(AC61,男子種目コード!$A$1:$B$33,2,FALSE),IF(Y61=2,VLOOKUP(I61,女子種目コード!$A$1:$B$28,2,FALSE))))","v":""},null,0,"","","",""]
[null,{"$f":"名簿!P59","v":""},null,null,{"$f":"名簿!E59","v":0},{"$f":"名簿!CM59","v":""},{"$f":"名簿!Z59","v":""},{"$f":"名簿!CM59","v":""},{"$f":"名簿!Y59","v":""},{"$f":"名簿!CN59","v":""},{"$f":"名簿!K59","v":0},{"$f":"名簿!CU59","v":"00"},{"$f":"名簿!Q59","v":""},{"$f":"名簿!$AA$6","v":"23"},null,{"$f":"IF(O62=\"\",\"\",IF(I62=1,VLOOKUP(O62,男子種目コード!$G$1:$H$6,2,FALSE),IF(I62=2,VLOOKUP(O62,女子種目コード!$G$1:$H$6,2,FALSE))))","v":""},{"$f":"IF(O62=\"\",\"\",HLOOKUP(O62,名簿!$AH$3:$CH$118,57,FALSE))","v":""},"","",null,{"$f":"IF(T62=\"\",\"\",IF(I62=1,VLOOKUP(T62,男子種目コード!$G$1:$H$6,2,FALSE),IF(I62=2,VLOOKUP(T62,女子種目コード!$G$1:$H$6,2,FALSE))))","v":""},{"$f":"IF(T62=\"\",\"\",HLOOKUP(T62,名簿!$AH$3:$CH$118,57,FALSE))","v":""},null,{"$f":"IF(W62=\"\",\"\",IF(I62=1,VLOOKUP(W62,男子種目コード!$A$1:$B$33,2,FALSE),IF(I62=2,VLOOKUP(W62,女子種目コード!$A$1:$B$28,2,FALSE))))","v":""},null,null,{"$f":"IF(Z62=\"\",\"\",IF(I62=1,VLOOKUP(Z62,男子種目コード!$A$1:$B$33,2,FALSE),IF(V62=2,VLOOKUP(I62,女子種目コード!$A$1:$B$28,2,FALSE))))","v":""},null,null,{"$f":"IF(AC62=\"\",\"\",IF(I62=1,VLOOKUP(AC62,男子種目コード!$A$1:$B$33,2,FALSE),IF(Y62=2,VLOOKUP(I62,女子種目コード!$A$1:$B$28,2,FALSE))))","v":""},null,0,"","","",""]
[null,{"$f":"名簿!P60","v":""},null,null,{"$f":"名簿!E60","v":0},{"$f":"名簿!CM60","v":""},{"$f":"名簿!Z60","v":""},{"$f":"名簿!CM60","v":""},{"$f":"名簿!Y60","v":""},{"$f":"名簿!CN60","v":""},{"$f":"名簿!K60","v":0},{"$f":"名簿!CU60","v":"00"},{"$f":"名簿!Q60","v":""},{"$f":"名簿!$AA$6","v":"23"},null,{"$f":"IF(O63=\"\",\"\",IF(I63=1,VLOOKUP(O63,男子種目コード!$G$1:$H$6,2,FALSE),IF(I63=2,VLOOKUP(O63,女子種目コード!$G$1:$H$6,2,FALSE))))","v":""},{"$f":"IF(O63=\"\",\"\",HLOOKUP(O63,名簿!$AH$3:$CH$118,58,FALSE))","v":""},"","",null,{"$f":"IF(T63=\"\",\"\",IF(I63=1,VLOOKUP(T63,男子種目コード!$G$1:$H$6,2,FALSE),IF(I63=2,VLOOKUP(T63,女子種目コード!$G$1:$H$6,2,FALSE))))","v":""},{"$f":"IF(T63=\"\",\"\",HLOOKUP(T63,名簿!$AH$3:$CH$118,58,FALSE))","v":""},null,{"$f":"IF(W63=\"\",\"\",IF(I63=1,VLOOKUP(W63,男子種目コード!$A$1:$B$33,2,FALSE),IF(I63=2,VLOOKUP(W63,女子種目コード!$A$1:$B$28,2,FALSE))))","v":""},null,null,{"$f":"IF(Z63=\"\",\"\",IF(I63=1,VLOOKUP(Z63,男子種目コード!$A$1:$B$33,2,FALSE),IF(V63=2,VLOOKUP(I63,女子種目コード!$A$1:$B$28,2,FALSE))))","v":""},null,null,{"$f":"IF(AC63=\"\",\"\",IF(I63=1,VLOOKUP(AC63,男子種目コード!$A$1:$B$33,2,FALSE),IF(Y63=2,VLOOKUP(I63,女子種目コード!$A$1:$B$28,2,FALSE))))","v":""},null,0,"","","",""]
[null,{"$f":"名簿!P61","v":""},null,null,{"$f":"名簿!E61","v":0},{"$f":"名簿!CM61","v":""},{"$f":"名簿!Z61","v":""},{"$f":"名簿!CM61","v":""},{"$f":"名簿!Y61","v":""},{"$f":"名簿!CN61","v":""},{"$f":"名簿!K61","v":0},{"$f":"名簿!CU61","v":"00"},{"$f":"名簿!Q61","v":""},{"$f":"名簿!$AA$6","v":"23"},null,{"$f":"IF(O64=\"\",\"\",IF(I64=1,VLOOKUP(O64,男子種目コード!$G$1:$H$6,2,FALSE),IF(I64=2,VLOOKUP(O64,女子種目コード!$G$1:$H$6,2,FALSE))))","v":""},{"$f":"IF(O64=\"\",\"\",HLOOKUP(O64,名簿!$AH$3:$CH$118,59,FALSE))","v":""},"","",null,{"$f":"IF(T64=\"\",\"\",IF(I64=1,VLOOKUP(T64,男子種目コード!$G$1:$H$6,2,FALSE),IF(I64=2,VLOOKUP(T64,女子種目コード!$G$1:$H$6,2,FALSE))))","v":""},{"$f":"IF(T64=\"\",\"\",HLOOKUP(T64,名簿!$AH$3:$CH$118,59,FALSE))","v":""},null,{"$f":"IF(W64=\"\",\"\",IF(I64=1,VLOOKUP(W64,男子種目コード!$A$1:$B$33,2,FALSE),IF(I64=2,VLOOKUP(W64,女子種目コード!$A$1:$B$28,2,FALSE))))","v":""},null,null,{"$f":"IF(Z64=\"\",\"\",IF(I64=1,VLOOKUP(Z64,男子種目コード!$A$1:$B$33,2,FALSE),IF(V64=2,VLOOKUP(I64,女子種目コード!$A$1:$B$28,2,FALSE))))","v":""},null,null,{"$f":"IF(AC64=\"\",\"\",IF(I64=1,VLOOKUP(AC64,男子種目コード!$A$1:$B$33,2,FALSE),IF(Y64=2,VLOOKUP(I64,女子種目コード!$A$1:$B$28,2,FALSE))))","v":""},null,0,"","","",""]
[null,{"$f":"名簿!P62","v":""},null,null,{"$f":"名簿!E62","v":0},{"$f":"名簿!CM62","v":""},{"$f":"名簿!Z62","v":""},{"$f":"名簿!CM62","v":""},{"$f":"名簿!Y62","v":""},{"$f":"名簿!CN62","v":""},{"$f":"名簿!K62","v":0},{"$f":"名簿!CU62","v":"00"},{"$f":"名簿!Q62","v":""},{"$f":"名簿!$AA$6","v":"23"},null,{"$f":"IF(O65=\"\",\"\",IF(I65=1,VLOOKUP(O65,男子種目コード!$G$1:$H$6,2,FALSE),IF(I65=2,VLOOKUP(O65,女子種目コード!$G$1:$H$6,2,FALSE))))","v":""},{"$f":"IF(O65=\"\",\"\",HLOOKUP(O65,名簿!$AH$3:$CH$118,60,FALSE))","v":""},"","",null,{"$f":"IF(T65=\"\",\"\",IF(I65=1,VLOOKUP(T65,男子種目コード!$G$1:$H$6,2,FALSE),IF(I65=2,VLOOKUP(T65,女子種目コード!$G$1:$H$6,2,FALSE))))","v":""},{"$f":"IF(T65=\"\",\"\",HLOOKUP(T65,名簿!$AH$3:$CH$118,60,FALSE))","v":""},null,{"$f":"IF(W65=\"\",\"\",IF(I65=1,VLOOKUP(W65,男子種目コード!$A$1:$B$33,2,FALSE),IF(I65=2,VLOOKUP(W65,女子種目コード!$A$1:$B$28,2,FALSE))))","v":""},null,null,{"$f":"IF(Z65=\"\",\"\",IF(I65=1,VLOOKUP(Z65,男子種目コード!$A$1:$B$33,2,FALSE),IF(V65=2,VLOOKUP(I65,女子種目コード!$A$1:$B$28,2,FALSE))))","v":""},null,null,{"$f":"IF(AC65=\"\",\"\",IF(I65=1,VLOOKUP(AC65,男子種目コード!$A$1:$B$33,2,FALSE),IF(Y65=2,VLOOKUP(I65,女子種目コード!$A$1:$B$28,2,FALSE))))","v":""},null,0,"","","",""]
[null,{"$f":"名簿!P63","v":""},null,null,{"$f":"名簿!E63","v":0},{"$f":"名簿!CM63","v":""},{"$f":"名簿!Z63","v":""},{"$f":"名簿!CM63","v":""},{"$f":"名簿!Y63","v":""},{"$f":"名簿!CN63","v":""},{"$f":"名簿!K63","v":0},{"$f":"名簿!CU63","v":"00"},{"$f":"名簿!Q63","v":""},{"$f":"名簿!$AA$6","v":"23"},null,{"$f":"IF(O66=\"\",\"\",IF(I66=1,VLOOKUP(O66,男子種目コード!$G$1:$H$6,2,FALSE),IF(I66=2,VLOOKUP(O66,女子種目コード!$G$1:$H$6,2,FALSE))))","v":""},{"$f":"IF(O66=\"\",\"\",HLOOKUP(O66,名簿!$AH$3:$CH$118,61,FALSE))","v":""},"","",null,{"$f":"IF(T66=\"\",\"\",IF(I66=1,VLOOKUP(T66,男子種目コード!$G$1:$H$6,2,FALSE),IF(I66=2,VLOOKUP(T66,女子種目コード!$G$1:$H$6,2,FALSE))))","v":""},{"$f":"IF(T66=\"\",\"\",HLOOKUP(T66,名簿!$AH$3:$CH$118,61,FALSE))","v":""},null,{"$f":"IF(W66=\"\",\"\",IF(I66=1,VLOOKUP(W66,男子種目コード!$A$1:$B$33,2,FALSE),IF(I66=2,VLOOKUP(W66,女子種目コード!$A$1:$B$28,2,FALSE))))","v":""},null,null,{"$f":"IF(Z66=\"\",\"\",IF(I66=1,VLOOKUP(Z66,男子種目コード!$A$1:$B$33,2,FALSE),IF(V66=2,VLOOKUP(I66,女子種目コード!$A$1:$B$28,2,FALSE))))","v":""},null,null,{"$f":"IF(AC66=\"\",\"\",IF(I66=1,VLOOKUP(AC66,男子種目コード!$A$1:$B$33,2,FALSE),IF(Y66=2,VLOOKUP(I66,女子種目コード!$A$1:$B$28,2,FALSE))))","v":""},null,0,"","","",""]
[null,{"$f":"名簿!P64","v":""},null,null,{"$f":"名簿!E64","v":0},{"$f":"名簿!CM64","v":""},{"$f":"名簿!Z64","v":""},{"$f":"名簿!CM64","v":""},{"$f":"名簿!Y64","v":""},{"$f":"名簿!CN64","v":""},{"$f":"名簿!K64","v":0},{"$f":"名簿!CU64","v":"00"},{"$f":"名簿!Q64","v":""},{"$f":"名簿!$AA$6","v":"23"},null,{"$f":"IF(O67=\"\",\"\",IF(I67=1,VLOOKUP(O67,男子種目コード!$G$1:$H$6,2,FALSE),IF(I67=2,VLOOKUP(O67,女子種目コード!$G$1:$H$6,2,FALSE))))","v":""},{"$f":"IF(O67=\"\",\"\",HLOOKUP(O67,名簿!$AH$3:$CH$118,62,FALSE))","v":""},"","",null,{"$f":"IF(T67=\"\",\"\",IF(I67=1,VLOOKUP(T67,男子種目コード!$G$1:$H$6,2,FALSE),IF(I67=2,VLOOKUP(T67,女子種目コード!$G$1:$H$6,2,FALSE))))","v":""},{"$f":"IF(T67=\"\",\"\",HLOOKUP(T67,名簿!$AH$3:$CH$118,62,FALSE))","v":""},null,{"$f":"IF(W67=\"\",\"\",IF(I67=1,VLOOKUP(W67,男子種目コード!$A$1:$B$33,2,FALSE),IF(I67=2,VLOOKUP(W67,女子種目コード!$A$1:$B$28,2,FALSE))))","v":""},null,null,{"$f":"IF(Z67=\"\",\"\",IF(I67=1,VLOOKUP(Z67,男子種目コード!$A$1:$B$33,2,FALSE),IF(V67=2,VLOOKUP(I67,女子種目コード!$A$1:$B$28,2,FALSE))))","v":""},null,null,{"$f":"IF(AC67=\"\",\"\",IF(I67=1,VLOOKUP(AC67,男子種目コード!$A$1:$B$33,2,FALSE),IF(Y67=2,VLOOKUP(I67,女子種目コード!$A$1:$B$28,2,FALSE))))","v":""},null,0,"","","",""]
[null,{"$f":"名簿!P65","v":""},null,null,{"$f":"名簿!E65","v":0},{"$f":"名簿!CM65","v":""},{"$f":"名簿!Z65","v":""},{"$f":"名簿!CM65","v":""},{"$f":"名簿!Y65","v":""},{"$f":"名簿!CN65","v":""},{"$f":"名簿!K65","v":0},{"$f":"名簿!CU65","v":"00"},{"$f":"名簿!Q65","v":""},{"$f":"名簿!$AA$6","v":"23"},null,{"$f":"IF(O68=\"\",\"\",IF(I68=1,VLOOKUP(O68,男子種目コード!$G$1:$H$6,2,FALSE),IF(I68=2,VLOOKUP(O68,女子種目コード!$G$1:$H$6,2,FALSE))))","v":""},{"$f":"IF(O68=\"\",\"\",HLOOKUP(O68,名簿!$AH$3:$CH$118,63,FALSE))","v":""},"","",null,{"$f":"IF(T68=\"\",\"\",IF(I68=1,VLOOKUP(T68,男子種目コード!$G$1:$H$6,2,FALSE),IF(I68=2,VLOOKUP(T68,女子種目コード!$G$1:$H$6,2,FALSE))))","v":""},{"$f":"IF(T68=\"\",\"\",HLOOKUP(T68,名簿!$AH$3:$CH$118,63,FALSE))","v":""},null,{"$f":"IF(W68=\"\",\"\",IF(I68=1,VLOOKUP(W68,男子種目コード!$A$1:$B$33,2,FALSE),IF(I68=2,VLOOKUP(W68,女子種目コード!$A$1:$B$28,2,FALSE))))","v":""},null,null,{"$f":"IF(Z68=\"\",\"\",IF(I68=1,VLOOKUP(Z68,男子種目コード!$A$1:$B$33,2,FALSE),IF(V68=2,VLOOKUP(I68,女子種目コード!$A$1:$B$28,2,FALSE))))","v":""},null,null,{"$f":"IF(AC68=\"\",\"\",IF(I68=1,VLOOKUP(AC68,男子種目コード!$A$1:$B$33,2,FALSE),IF(Y68=2,VLOOKUP(I68,女子種目コード!$A$1:$B$28,2,FALSE))))","v":""},null,0,"","","",""]
[null,{"$f":"名簿!P66","v":""},null,null,{"$f":"名簿!E66","v":0},{"$f":"名簿!CM66","v":""},{"$f":"名簿!Z66","v":""},{"$f":"名簿!CM66","v":""},{"$f":"名簿!Y66","v":""},{"$f":"名簿!CN66","v":""},{"$f":"名簿!K66","v":0},{"$f":"名簿!CU66","v":"00"},{"$f":"名簿!Q66","v":""},{"$f":"名簿!$AA$6","v":"23"},null,{"$f":"IF(O69=\"\",\"\",IF(I69=1,VLOOKUP(O69,男子種目コード!$G$1:$H$6,2,FALSE),IF(I69=2,VLOOKUP(O69,女子種目コード!$G$1:$H$6,2,FALSE))))","v":""},{"$f":"IF(O69=\"\",\"\",HLOOKUP(O69,名簿!$AH$3:$CH$118,64,FALSE))","v":""},"","",null,{"$f":"IF(T69=\"\",\"\",IF(I69=1,VLOOKUP(T69,男子種目コード!$G$1:$H$6,2,FALSE),IF(I69=2,VLOOKUP(T69,女子種目コード!$G$1:$H$6,2,FALSE))))","v":""},{"$f":"IF(T69=\"\",\"\",HLOOKUP(T69,名簿!$AH$3:$CH$118,64,FALSE))","v":""},null,{"$f":"IF(W69=\"\",\"\",IF(I69=1,VLOOKUP(W69,男子種目コード!$A$1:$B$33,2,FALSE),IF(I69=2,VLOOKUP(W69,女子種目コード!$A$1:$B$28,2,FALSE))))","v":""},null,null,{"$f":"IF(Z69=\"\",\"\",IF(I69=1,VLOOKUP(Z69,男子種目コード!$A$1:$B$33,2,FALSE),IF(V69=2,VLOOKUP(I69,女子種目コード!$A$1:$B$28,2,FALSE))))","v":""},null,null,{"$f":"IF(AC69=\"\",\"\",IF(I69=1,VLOOKUP(AC69,男子種目コード!$A$1:$B$33,2,FALSE),IF(Y69=2,VLOOKUP(I69,女子種目コード!$A$1:$B$28,2,FALSE))))","v":""},null,0,"","","",""]
[null,{"$f":"名簿!P67","v":""},null,null,{"$f":"名簿!E67","v":0},{"$f":"名簿!CM67","v":""},{"$f":"名簿!Z67","v":""},{"$f":"名簿!CM67","v":""},{"$f":"名簿!Y67","v":""},{"$f":"名簿!CN67","v":""},{"$f":"名簿!K67","v":0},{"$f":"名簿!CU67","v":"00"},{"$f":"名簿!Q67","v":""},{"$f":"名簿!$AA$6","v":"23"},null,{"$f":"IF(O70=\"\",\"\",IF(I70=1,VLOOKUP(O70,男子種目コード!$G$1:$H$6,2,FALSE),IF(I70=2,VLOOKUP(O70,女子種目コード!$G$1:$H$6,2,FALSE))))","v":""},{"$f":"IF(O70=\"\",\"\",HLOOKUP(O70,名簿!$AH$3:$CH$118,65,FALSE))","v":""},"","",null,{"$f":"IF(T70=\"\",\"\",IF(I70=1,VLOOKUP(T70,男子種目コード!$G$1:$H$6,2,FALSE),IF(I70=2,VLOOKUP(T70,女子種目コード!$G$1:$H$6,2,FALSE))))","v":""},{"$f":"IF(T70=\"\",\"\",HLOOKUP(T70,名簿!$AH$3:$CH$118,65,FALSE))","v":""},null,{"$f":"IF(W70=\"\",\"\",IF(I70=1,VLOOKUP(W70,男子種目コード!$A$1:$B$33,2,FALSE),IF(I70=2,VLOOKUP(W70,女子種目コード!$A$1:$B$28,2,FALSE))))","v":""},null,null,{"$f":"IF(Z70=\"\",\"\",IF(I70=1,VLOOKUP(Z70,男子種目コード!$A$1:$B$33,2,FALSE),IF(V70=2,VLOOKUP(I70,女子種目コード!$A$1:$B$28,2,FALSE))))","v":""},null,null,{"$f":"IF(AC70=\"\",\"\",IF(I70=1,VLOOKUP(AC70,男子種目コード!$A$1:$B$33,2,FALSE),IF(Y70=2,VLOOKUP(I70,女子種目コード!$A$1:$B$28,2,FALSE))))","v":""},null,0,"","","",""]
[null,{"$f":"名簿!P68","v":""},null,null,{"$f":"名簿!E68","v":0},{"$f":"名簿!CM68","v":""},{"$f":"名簿!Z68","v":""},{"$f":"名簿!CM68","v":""},{"$f":"名簿!Y68","v":""},{"$f":"名簿!CN68","v":""},{"$f":"名簿!K68","v":0},{"$f":"名簿!CU68","v":"00"},{"$f":"名簿!Q68","v":""},{"$f":"名簿!$AA$6","v":"23"},null,{"$f":"IF(O71=\"\",\"\",IF(I71=1,VLOOKUP(O71,男子種目コード!$G$1:$H$6,2,FALSE),IF(I71=2,VLOOKUP(O71,女子種目コード!$G$1:$H$6,2,FALSE))))","v":""},{"$f":"IF(O71=\"\",\"\",HLOOKUP(O71,名簿!$AH$3:$CH$118,66,FALSE))","v":""},"","",null,{"$f":"IF(T71=\"\",\"\",IF(I71=1,VLOOKUP(T71,男子種目コード!$G$1:$H$6,2,FALSE),IF(I71=2,VLOOKUP(T71,女子種目コード!$G$1:$H$6,2,FALSE))))","v":""},{"$f":"IF(T71=\"\",\"\",HLOOKUP(T71,名簿!$AH$3:$CH$118,66,FALSE))","v":""},null,{"$f":"IF(W71=\"\",\"\",IF(I71=1,VLOOKUP(W71,男子種目コード!$A$1:$B$33,2,FALSE),IF(I71=2,VLOOKUP(W71,女子種目コード!$A$1:$B$28,2,FALSE))))","v":""},null,null,{"$f":"IF(Z71=\"\",\"\",IF(I71=1,VLOOKUP(Z71,男子種目コード!$A$1:$B$33,2,FALSE),IF(V71=2,VLOOKUP(I71,女子種目コード!$A$1:$B$28,2,FALSE))))","v":""},null,null,{"$f":"IF(AC71=\"\",\"\",IF(I71=1,VLOOKUP(AC71,男子種目コード!$A$1:$B$33,2,FALSE),IF(Y71=2,VLOOKUP(I71,女子種目コード!$A$1:$B$28,2,FALSE))))","v":""},null,0,"","","",""]
[null,{"$f":"名簿!P69","v":""},null,null,{"$f":"名簿!E69","v":0},{"$f":"名簿!CM69","v":""},{"$f":"名簿!Z69","v":""},{"$f":"名簿!CM69","v":""},{"$f":"名簿!Y69","v":""},{"$f":"名簿!CN69","v":""},{"$f":"名簿!K69","v":0},{"$f":"名簿!CU69","v":"00"},{"$f":"名簿!Q69","v":""},{"$f":"名簿!$AA$6","v":"23"},null,{"$f":"IF(O72=\"\",\"\",IF(I72=1,VLOOKUP(O72,男子種目コード!$G$1:$H$6,2,FALSE),IF(I72=2,VLOOKUP(O72,女子種目コード!$G$1:$H$6,2,FALSE))))","v":""},{"$f":"IF(O72=\"\",\"\",HLOOKUP(O72,名簿!$AH$3:$CH$118,67,FALSE))","v":""},{"$f":"IF(O72=\"\",\"\",0)","v":""},{"$f":"IF(O72=\"\",\"\",2)","v":""},null,{"$f":"IF(T72=\"\",\"\",IF(I72=1,VLOOKUP(T72,男子種目コード!$G$1:$H$6,2,FALSE),IF(I72=2,VLOOKUP(T72,女子種目コード!$G$1:$H$6,2,FALSE))))","v":""},{"$f":"IF(T72=\"\",\"\",HLOOKUP(T72,名簿!$AH$3:$CH$118,67,FALSE))","v":""},null,{"$f":"IF(W72=\"\",\"\",IF(I72=1,VLOOKUP(W72,男子種目コード!$A$1:$B$33,2,FALSE),IF(I72=2,VLOOKUP(W72,女子種目コード!$A$1:$B$28,2,FALSE))))","v":""},null,null,{"$f":"IF(Z72=\"\",\"\",IF(I72=1,VLOOKUP(Z72,男子種目コード!$A$1:$B$33,2,FALSE),IF(V72=2,VLOOKUP(I72,女子種目コード!$A$1:$B$28,2,FALSE))))","v":""},null,null,{"$f":"IF(AC72=\"\",\"\",IF(I72=1,VLOOKUP(AC72,男子種目コード!$A$1:$B$33,2,FALSE),IF(Y72=2,VLOOKUP(I72,女子種目コード!$A$1:$B$28,2,FALSE))))","v":""},null,{"$f":"COUNT(P72,U72)","v":0},{"$f":"IF(I72=1,AF72,\"\")","v":""},{"$f":"IF(I72=2,AF72,\"\")","v":""},{"$f":"IF(O72=\"四種\",1,\"\")","v":""},{"$f":"IF(T72=\"四種\",1,\"\")","v":""}]
[null,{"$f":"名簿!P70","v":""},null,null,{"$f":"名簿!E70","v":0},{"$f":"名簿!CM70","v":""},{"$f":"名簿!Z70","v":""},{"$f":"名簿!CM70","v":""},{"$f":"名簿!Y70","v":""},{"$f":"名簿!CN70","v":""},{"$f":"名簿!K70","v":0},{"$f":"名簿!CU70","v":"00"},{"$f":"名簿!Q70","v":""},{"$f":"名簿!$AA$6","v":"23"},null,{"$f":"IF(O73=\"\",\"\",IF(I73=1,VLOOKUP(O73,男子種目コード!$G$1:$H$6,2,FALSE),IF(I73=2,VLOOKUP(O73,女子種目コード!$G$1:$H$6,2,FALSE))))","v":""},{"$f":"IF(O73=\"\",\"\",HLOOKUP(O73,名簿!$AH$3:$CH$118,68,FALSE))","v":""},"","",null,{"$f":"IF(T73=\"\",\"\",IF(I73=1,VLOOKUP(T73,男子種目コード!$G$1:$H$6,2,FALSE),IF(I73=2,VLOOKUP(T73,女子種目コード!$G$1:$H$6,2,FALSE))))","v":""},{"$f":"IF(T73=\"\",\"\",HLOOKUP(T73,名簿!$AH$3:$CH$118,68,FALSE))","v":""},null,{"$f":"IF(W73=\"\",\"\",IF(I73=1,VLOOKUP(W73,男子種目コード!$A$1:$B$33,2,FALSE),IF(I73=2,VLOOKUP(W73,女子種目コード!$A$1:$B$28,2,FALSE))))","v":""},null,null,{"$f":"IF(Z73=\"\",\"\",IF(I73=1,VLOOKUP(Z73,男子種目コード!$A$1:$B$33,2,FALSE),IF(V73=2,VLOOKUP(I73,女子種目コード!$A$1:$B$28,2,FALSE))))","v":""},null,null,{"$f":"IF(AC73=\"\",\"\",IF(I73=1,VLOOKUP(AC73,男子種目コード!$A$1:$B$33,2,FALSE),IF(Y73=2,VLOOKUP(I73,女子種目コード!$A$1:$B$28,2,FALSE))))","v":""},null,0,"","","",""]
[null,{"$f":"名簿!P71","v":""},null,null,{"$f":"名簿!E71","v":0},{"$f":"名簿!CM71","v":""},{"$f":"名簿!Z71","v":""},{"$f":"名簿!CM71","v":""},{"$f":"名簿!Y71","v":""},{"$f":"名簿!CN71","v":""},{"$f":"名簿!K71","v":0},{"$f":"名簿!CU71","v":"00"},{"$f":"名簿!Q71","v":""},{"$f":"名簿!$AA$6","v":"23"},null,{"$f":"IF(O74=\"\",\"\",IF(I74=1,VLOOKUP(O74,男子種目コード!$G$1:$H$6,2,FALSE),IF(I74=2,VLOOKUP(O74,女子種目コード!$G$1:$H$6,2,FALSE))))","v":""},{"$f":"IF(O74=\"\",\"\",HLOOKUP(O74,名簿!$AH$3:$CH$118,69,FALSE))","v":""},"","",null,{"$f":"IF(T74=\"\",\"\",IF(I74=1,VLOOKUP(T74,男子種目コード!$G$1:$H$6,2,FALSE),IF(I74=2,VLOOKUP(T74,女子種目コード!$G$1:$H$6,2,FALSE))))","v":""},{"$f":"IF(T74=\"\",\"\",HLOOKUP(T74,名簿!$AH$3:$CH$118,69,FALSE))","v":""},null,{"$f":"IF(W74=\"\",\"\",IF(I74=1,VLOOKUP(W74,男子種目コード!$A$1:$B$33,2,FALSE),IF(I74=2,VLOOKUP(W74,女子種目コード!$A$1:$B$28,2,FALSE))))","v":""},null,null,{"$f":"IF(Z74=\"\",\"\",IF(I74=1,VLOOKUP(Z74,男子種目コード!$A$1:$B$33,2,FALSE),IF(V74=2,VLOOKUP(I74,女子種目コード!$A$1:$B$28,2,FALSE))))","v":""},null,null,{"$f":"IF(AC74=\"\",\"\",IF(I74=1,VLOOKUP(AC74,男子種目コード!$A$1:$B$33,2,FALSE),IF(Y74=2,VLOOKUP(I74,女子種目コード!$A$1:$B$28,2,FALSE))))","v":""},null,0,"","","",""]
[null,{"$f":"名簿!P72","v":""},null,null,{"$f":"名簿!E72","v":0},{"$f":"名簿!CM72","v":""},{"$f":"名簿!Z72","v":""},{"$f":"名簿!CM72","v":""},{"$f":"名簿!Y72","v":""},{"$f":"名簿!CN72","v":""},{"$f":"名簿!K72","v":0},{"$f":"名簿!CU72","v":"00"},{"$f":"名簿!Q72","v":""},{"$f":"名簿!$AA$6","v":"23"},null,{"$f":"IF(O75=\"\",\"\",IF(I75=1,VLOOKUP(O75,男子種目コード!$G$1:$H$6,2,FALSE),IF(I75=2,VLOOKUP(O75,女子種目コード!$G$1:$H$6,2,FALSE))))","v":""},{"$f":"IF(O75=\"\",\"\",HLOOKUP(O75,名簿!$AH$3:$CH$118,70,FALSE))","v":""},"","",null,{"$f":"IF(T75=\"\",\"\",IF(I75=1,VLOOKUP(T75,男子種目コード!$G$1:$H$6,2,FALSE),IF(I75=2,VLOOKUP(T75,女子種目コード!$G$1:$H$6,2,FALSE))))","v":""},{"$f":"IF(T75=\"\",\"\",HLOOKUP(T75,名簿!$AH$3:$CH$118,70,FALSE))","v":""},null,{"$f":"IF(W75=\"\",\"\",IF(I75=1,VLOOKUP(W75,男子種目コード!$A$1:$B$33,2,FALSE),IF(I75=2,VLOOKUP(W75,女子種目コード!$A$1:$B$28,2,FALSE))))","v":""},null,null,{"$f":"IF(Z75=\"\",\"\",IF(I75=1,VLOOKUP(Z75,男子種目コード!$A$1:$B$33,2,FALSE),IF(V75=2,VLOOKUP(I75,女子種目コード!$A$1:$B$28,2,FALSE))))","v":""},null,null,{"$f":"IF(AC75=\"\",\"\",IF(I75=1,VLOOKUP(AC75,男子種目コード!$A$1:$B$33,2,FALSE),IF(Y75=2,VLOOKUP(I75,女子種目コード!$A$1:$B$28,2,FALSE))))","v":""},null,0,"","","",""]
[null,{"$f":"名簿!P73","v":""},null,null,{"$f":"名簿!E73","v":0},{"$f":"名簿!CM73","v":""},{"$f":"名簿!Z73","v":""},{"$f":"名簿!CM73","v":""},{"$f":"名簿!Y73","v":""},{"$f":"名簿!CN73","v":""},{"$f":"名簿!K73","v":0},{"$f":"名簿!CU73","v":"00"},{"$f":"名簿!Q73","v":""},{"$f":"名簿!$AA$6","v":"23"},null,{"$f":"IF(O76=\"\",\"\",IF(I76=1,VLOOKUP(O76,男子種目コード!$G$1:$H$6,2,FALSE),IF(I76=2,VLOOKUP(O76,女子種目コード!$G$1:$H$6,2,FALSE))))","v":""},{"$f":"IF(O76=\"\",\"\",HLOOKUP(O76,名簿!$AH$3:$CH$118,71,FALSE))","v":""},"","",null,{"$f":"IF(T76=\"\",\"\",IF(I76=1,VLOOKUP(T76,男子種目コード!$G$1:$H$6,2,FALSE),IF(I76=2,VLOOKUP(T76,女子種目コード!$G$1:$H$6,2,FALSE))))","v":""},{"$f":"IF(T76=\"\",\"\",HLOOKUP(T76,名簿!$AH$3:$CH$118,71,FALSE))","v":""},null,{"$f":"IF(W76=\"\",\"\",IF(I76=1,VLOOKUP(W76,男子種目コード!$A$1:$B$33,2,FALSE),IF(I76=2,VLOOKUP(W76,女子種目コード!$A$1:$B$28,2,FALSE))))","v":""},null,null,{"$f":"IF(Z76=\"\",\"\",IF(I76=1,VLOOKUP(Z76,男子種目コード!$A$1:$B$33,2,FALSE),IF(V76=2,VLOOKUP(I76,女子種目コード!$A$1:$B$28,2,FALSE))))","v":""},null,null,{"$f":"IF(AC76=\"\",\"\",IF(I76=1,VLOOKUP(AC76,男子種目コード!$A$1:$B$33,2,FALSE),IF(Y76=2,VLOOKUP(I76,女子種目コード!$A$1:$B$28,2,FALSE))))","v":""},null,0,"","","",""]
[null,{"$f":"名簿!P74","v":""},null,null,{"$f":"名簿!E74","v":0},{"$f":"名簿!CM74","v":""},{"$f":"名簿!Z74","v":""},{"$f":"名簿!CM74","v":""},{"$f":"名簿!Y74","v":""},{"$f":"名簿!CN74","v":""},{"$f":"名簿!K74","v":0},{"$f":"名簿!CU74","v":"00"},{"$f":"名簿!Q74","v":""},{"$f":"名簿!$AA$6","v":"23"},null,{"$f":"IF(O77=\"\",\"\",IF(I77=1,VLOOKUP(O77,男子種目コード!$G$1:$H$6,2,FALSE),IF(I77=2,VLOOKUP(O77,女子種目コード!$G$1:$H$6,2,FALSE))))","v":""},{"$f":"IF(O77=\"\",\"\",HLOOKUP(O77,名簿!$AH$3:$CH$118,72,FALSE))","v":""},"","",null,{"$f":"IF(T77=\"\",\"\",IF(I77=1,VLOOKUP(T77,男子種目コード!$G$1:$H$6,2,FALSE),IF(I77=2,VLOOKUP(T77,女子種目コード!$G$1:$H$6,2,FALSE))))","v":""},{"$f":"IF(T77=\"\",\"\",HLOOKUP(T77,名簿!$AH$3:$CH$118,72,FALSE))","v":""},null,{"$f":"IF(W77=\"\",\"\",IF(I77=1,VLOOKUP(W77,男子種目コード!$A$1:$B$33,2,FALSE),IF(I77=2,VLOOKUP(W77,女子種目コード!$A$1:$B$28,2,FALSE))))","v":""},null,null,{"$f":"IF(Z77=\"\",\"\",IF(I77=1,VLOOKUP(Z77,男子種目コード!$A$1:$B$33,2,FALSE),IF(V77=2,VLOOKUP(I77,女子種目コード!$A$1:$B$28,2,FALSE))))","v":""},null,null,{"$f":"IF(AC77=\"\",\"\",IF(I77=1,VLOOKUP(AC77,男子種目コード!$A$1:$B$33,2,FALSE),IF(Y77=2,VLOOKUP(I77,女子種目コード!$A$1:$B$28,2,FALSE))))","v":""},null,0,"","","",""]
[null,{"$f":"名簿!P75","v":""},null,null,{"$f":"名簿!E75","v":0},{"$f":"名簿!CM75","v":""},{"$f":"名簿!Z75","v":""},{"$f":"名簿!CM75","v":""},{"$f":"名簿!Y75","v":""},{"$f":"名簿!CN75","v":""},{"$f":"名簿!K75","v":0},{"$f":"名簿!CU75","v":"00"},{"$f":"名簿!Q75","v":""},{"$f":"名簿!$AA$6","v":"23"},null,{"$f":"IF(O78=\"\",\"\",IF(I78=1,VLOOKUP(O78,男子種目コード!$G$1:$H$6,2,FALSE),IF(I78=2,VLOOKUP(O78,女子種目コード!$G$1:$H$6,2,FALSE))))","v":""},{"$f":"IF(O78=\"\",\"\",HLOOKUP(O78,名簿!$AH$3:$CH$118,73,FALSE))","v":""},"","",null,{"$f":"IF(T78=\"\",\"\",IF(I78=1,VLOOKUP(T78,男子種目コード!$G$1:$H$6,2,FALSE),IF(I78=2,VLOOKUP(T78,女子種目コード!$G$1:$H$6,2,FALSE))))","v":""},{"$f":"IF(T78=\"\",\"\",HLOOKUP(T78,名簿!$AH$3:$CH$118,73,FALSE))","v":""},null,{"$f":"IF(W78=\"\",\"\",IF(I78=1,VLOOKUP(W78,男子種目コード!$A$1:$B$33,2,FALSE),IF(I78=2,VLOOKUP(W78,女子種目コード!$A$1:$B$28,2,FALSE))))","v":""},null,null,{"$f":"IF(Z78=\"\",\"\",IF(I78=1,VLOOKUP(Z78,男子種目コード!$A$1:$B$33,2,FALSE),IF(V78=2,VLOOKUP(I78,女子種目コード!$A$1:$B$28,2,FALSE))))","v":""},null,null,{"$f":"IF(AC78=\"\",\"\",IF(I78=1,VLOOKUP(AC78,男子種目コード!$A$1:$B$33,2,FALSE),IF(Y78=2,VLOOKUP(I78,女子種目コード!$A$1:$B$28,2,FALSE))))","v":""},null,0,"","","",""]
[null,{"$f":"名簿!P76","v":""},null,null,{"$f":"名簿!E76","v":0},{"$f":"名簿!CM76","v":""},{"$f":"名簿!Z76","v":""},{"$f":"名簿!CM76","v":""},{"$f":"名簿!Y76","v":""},{"$f":"名簿!CN76","v":""},{"$f":"名簿!K76","v":0},{"$f":"名簿!CU76","v":"00"},{"$f":"名簿!Q76","v":""},{"$f":"名簿!$AA$6","v":"23"},null,{"$f":"IF(O79=\"\",\"\",IF(I79=1,VLOOKUP(O79,男子種目コード!$G$1:$H$6,2,FALSE),IF(I79=2,VLOOKUP(O79,女子種目コード!$G$1:$H$6,2,FALSE))))","v":""},{"$f":"IF(O79=\"\",\"\",HLOOKUP(O79,名簿!$AH$3:$CH$118,74,FALSE))","v":""},"","",null,{"$f":"IF(T79=\"\",\"\",IF(I79=1,VLOOKUP(T79,男子種目コード!$G$1:$H$6,2,FALSE),IF(I79=2,VLOOKUP(T79,女子種目コード!$G$1:$H$6,2,FALSE))))","v":""},{"$f":"IF(T79=\"\",\"\",HLOOKUP(T79,名簿!$AH$3:$CH$118,74,FALSE))","v":""},null,{"$f":"IF(W79=\"\",\"\",IF(I79=1,VLOOKUP(W79,男子種目コード!$A$1:$B$33,2,FALSE),IF(I79=2,VLOOKUP(W79,女子種目コード!$A$1:$B$28,2,FALSE))))","v":""},null,null,{"$f":"IF(Z79=\"\",\"\",IF(I79=1,VLOOKUP(Z79,男子種目コード!$A$1:$B$33,2,FALSE),IF(V79=2,VLOOKUP(I79,女子種目コード!$A$1:$B$28,2,FALSE))))","v":""},null,null,{"$f":"IF(AC79=\"\",\"\",IF(I79=1,VLOOKUP(AC79,男子種目コード!$A$1:$B$33,2,FALSE),IF(Y79=2,VLOOKUP(I79,女子種目コード!$A$1:$B$28,2,FALSE))))","v":""},null,0,"","","",""]
[null,{"$f":"名簿!P77","v":""},null,null,{"$f":"名簿!E77","v":0},{"$f":"名簿!CM77","v":""},{"$f":"名簿!Z77","v":""},{"$f":"名簿!CM77","v":""},{"$f":"名簿!Y77","v":""},{"$f":"名簿!CN77","v":""},{"$f":"名簿!K77","v":0},{"$f":"名簿!CU77","v":"00"},{"$f":"名簿!Q77","v":""},{"$f":"名簿!$AA$6","v":"23"},null,{"$f":"IF(O80=\"\",\"\",IF(I80=1,VLOOKUP(O80,男子種目コード!$G$1:$H$6,2,FALSE),IF(I80=2,VLOOKUP(O80,女子種目コード!$G$1:$H$6,2,FALSE))))","v":""},{"$f":"IF(O80=\"\",\"\",HLOOKUP(O80,名簿!$AH$3:$CH$118,75,FALSE))","v":""},"","",null,{"$f":"IF(T80=\"\",\"\",IF(I80=1,VLOOKUP(T80,男子種目コード!$G$1:$H$6,2,FALSE),IF(I80=2,VLOOKUP(T80,女子種目コード!$G$1:$H$6,2,FALSE))))","v":""},{"$f":"IF(T80=\"\",\"\",HLOOKUP(T80,名簿!$AH$3:$CH$118,75,FALSE))","v":""},null,{"$f":"IF(W80=\"\",\"\",IF(I80=1,VLOOKUP(W80,男子種目コード!$A$1:$B$33,2,FALSE),IF(I80=2,VLOOKUP(W80,女子種目コード!$A$1:$B$28,2,FALSE))))","v":""},null,null,{"$f":"IF(Z80=\"\",\"\",IF(I80=1,VLOOKUP(Z80,男子種目コード!$A$1:$B$33,2,FALSE),IF(V80=2,VLOOKUP(I80,女子種目コード!$A$1:$B$28,2,FALSE))))","v":""},null,null,{"$f":"IF(AC80=\"\",\"\",IF(I80=1,VLOOKUP(AC80,男子種目コード!$A$1:$B$33,2,FALSE),IF(Y80=2,VLOOKUP(I80,女子種目コード!$A$1:$B$28,2,FALSE))))","v":""},null,0,"","","",""]
[null,{"$f":"名簿!P78","v":""},null,null,{"$f":"名簿!E78","v":0},{"$f":"名簿!CM78","v":""},{"$f":"名簿!Z78","v":""},{"$f":"名簿!CM78","v":""},{"$f":"名簿!Y78","v":""},{"$f":"名簿!CN78","v":""},{"$f":"名簿!K78","v":0},{"$f":"名簿!CU78","v":"00"},{"$f":"名簿!Q78","v":""},{"$f":"名簿!$AA$6","v":"23"},null,{"$f":"IF(O81=\"\",\"\",IF(I81=1,VLOOKUP(O81,男子種目コード!$G$1:$H$6,2,FALSE),IF(I81=2,VLOOKUP(O81,女子種目コード!$G$1:$H$6,2,FALSE))))","v":""},{"$f":"IF(O81=\"\",\"\",HLOOKUP(O81,名簿!$AH$3:$CH$118,76,FALSE))","v":""},"","",null,{"$f":"IF(T81=\"\",\"\",IF(I81=1,VLOOKUP(T81,男子種目コード!$G$1:$H$6,2,FALSE),IF(I81=2,VLOOKUP(T81,女子種目コード!$G$1:$H$6,2,FALSE))))","v":""},{"$f":"IF(T81=\"\",\"\",HLOOKUP(T81,名簿!$AH$3:$CH$118,76,FALSE))","v":""},null,{"$f":"IF(W81=\"\",\"\",IF(I81=1,VLOOKUP(W81,男子種目コード!$A$1:$B$33,2,FALSE),IF(I81=2,VLOOKUP(W81,女子種目コード!$A$1:$B$28,2,FALSE))))","v":""},null,null,{"$f":"IF(Z81=\"\",\"\",IF(I81=1,VLOOKUP(Z81,男子種目コード!$A$1:$B$33,2,FALSE),IF(V81=2,VLOOKUP(I81,女子種目コード!$A$1:$B$28,2,FALSE))))","v":""},null,null,{"$f":"IF(AC81=\"\",\"\",IF(I81=1,VLOOKUP(AC81,男子種目コード!$A$1:$B$33,2,FALSE),IF(Y81=2,VLOOKUP(I81,女子種目コード!$A$1:$B$28,2,FALSE))))","v":""},null,0,"","","",""]
[null,{"$f":"名簿!P79","v":""},null,null,{"$f":"名簿!E79","v":0},{"$f":"名簿!CM79","v":""},{"$f":"名簿!Z79","v":""},{"$f":"名簿!CM79","v":""},{"$f":"名簿!Y79","v":""},{"$f":"名簿!CN79","v":""},{"$f":"名簿!K79","v":0},{"$f":"名簿!CU79","v":"00"},{"$f":"名簿!Q79","v":""},{"$f":"名簿!$AA$6","v":"23"},null,{"$f":"IF(O82=\"\",\"\",IF(I82=1,VLOOKUP(O82,男子種目コード!$G$1:$H$6,2,FALSE),IF(I82=2,VLOOKUP(O82,女子種目コード!$G$1:$H$6,2,FALSE))))","v":""},{"$f":"IF(O82=\"\",\"\",HLOOKUP(O82,名簿!$AH$3:$CH$118,77,FALSE))","v":""},"","",null,{"$f":"IF(T82=\"\",\"\",IF(I82=1,VLOOKUP(T82,男子種目コード!$G$1:$H$6,2,FALSE),IF(I82=2,VLOOKUP(T82,女子種目コード!$G$1:$H$6,2,FALSE))))","v":""},{"$f":"IF(T82=\"\",\"\",HLOOKUP(T82,名簿!$AH$3:$CH$118,77,FALSE))","v":""},null,{"$f":"IF(W82=\"\",\"\",IF(I82=1,VLOOKUP(W82,男子種目コード!$A$1:$B$33,2,FALSE),IF(I82=2,VLOOKUP(W82,女子種目コード!$A$1:$B$28,2,FALSE))))","v":""},null,null,{"$f":"IF(Z82=\"\",\"\",IF(I82=1,VLOOKUP(Z82,男子種目コード!$A$1:$B$33,2,FALSE),IF(V82=2,VLOOKUP(I82,女子種目コード!$A$1:$B$28,2,FALSE))))","v":""},null,null,{"$f":"IF(AC82=\"\",\"\",IF(I82=1,VLOOKUP(AC82,男子種目コード!$A$1:$B$33,2,FALSE),IF(Y82=2,VLOOKUP(I82,女子種目コード!$A$1:$B$28,2,FALSE))))","v":""},null,0,"","","",""]
[null,{"$f":"名簿!P80","v":""},null,null,{"$f":"名簿!E80","v":0},{"$f":"名簿!CM80","v":""},{"$f":"名簿!Z80","v":""},{"$f":"名簿!CM80","v":""},{"$f":"名簿!Y80","v":""},{"$f":"名簿!CN80","v":""},{"$f":"名簿!K80","v":0},{"$f":"名簿!CU80","v":"00"},{"$f":"名簿!Q80","v":""},{"$f":"名簿!$AA$6","v":"23"},null,{"$f":"IF(O83=\"\",\"\",IF(I83=1,VLOOKUP(O83,男子種目コード!$G$1:$H$6,2,FALSE),IF(I83=2,VLOOKUP(O83,女子種目コード!$G$1:$H$6,2,FALSE))))","v":""},{"$f":"IF(O83=\"\",\"\",HLOOKUP(O83,名簿!$AH$3:$CH$118,78,FALSE))","v":""},"","",null,{"$f":"IF(T83=\"\",\"\",IF(I83=1,VLOOKUP(T83,男子種目コード!$G$1:$H$6,2,FALSE),IF(I83=2,VLOOKUP(T83,女子種目コード!$G$1:$H$6,2,FALSE))))","v":""},{"$f":"IF(T83=\"\",\"\",HLOOKUP(T83,名簿!$AH$3:$CH$118,78,FALSE))","v":""},null,{"$f":"IF(W83=\"\",\"\",IF(I83=1,VLOOKUP(W83,男子種目コード!$A$1:$B$33,2,FALSE),IF(I83=2,VLOOKUP(W83,女子種目コード!$A$1:$B$28,2,FALSE))))","v":""},null,null,{"$f":"IF(Z83=\"\",\"\",IF(I83=1,VLOOKUP(Z83,男子種目コード!$A$1:$B$33,2,FALSE),IF(V83=2,VLOOKUP(I83,女子種目コード!$A$1:$B$28,2,FALSE))))","v":""},null,null,{"$f":"IF(AC83=\"\",\"\",IF(I83=1,VLOOKUP(AC83,男子種目コード!$A$1:$B$33,2,FALSE),IF(Y83=2,VLOOKUP(I83,女子種目コード!$A$1:$B$28,2,FALSE))))","v":""},null,0,"","","",""]
[null,{"$f":"名簿!P81","v":""},null,null,{"$f":"名簿!E81","v":0},{"$f":"名簿!CM81","v":""},{"$f":"名簿!Z81","v":""},{"$f":"名簿!CM81","v":""},{"$f":"名簿!Y81","v":""},{"$f":"名簿!CN81","v":""},{"$f":"名簿!K81","v":0},{"$f":"名簿!CU81","v":"00"},{"$f":"名簿!Q81","v":""},{"$f":"名簿!$AA$6","v":"23"},null,{"$f":"IF(O84=\"\",\"\",IF(I84=1,VLOOKUP(O84,男子種目コード!$G$1:$H$6,2,FALSE),IF(I84=2,VLOOKUP(O84,女子種目コード!$G$1:$H$6,2,FALSE))))","v":""},{"$f":"IF(O84=\"\",\"\",HLOOKUP(O84,名簿!$AH$3:$CH$118,79,FALSE))","v":""},"","",null,{"$f":"IF(T84=\"\",\"\",IF(I84=1,VLOOKUP(T84,男子種目コード!$G$1:$H$6,2,FALSE),IF(I84=2,VLOOKUP(T84,女子種目コード!$G$1:$H$6,2,FALSE))))","v":""},{"$f":"IF(T84=\"\",\"\",HLOOKUP(T84,名簿!$AH$3:$CH$118,79,FALSE))","v":""},null,{"$f":"IF(W84=\"\",\"\",IF(I84=1,VLOOKUP(W84,男子種目コード!$A$1:$B$33,2,FALSE),IF(I84=2,VLOOKUP(W84,女子種目コード!$A$1:$B$28,2,FALSE))))","v":""},null,null,{"$f":"IF(Z84=\"\",\"\",IF(I84=1,VLOOKUP(Z84,男子種目コード!$A$1:$B$33,2,FALSE),IF(V84=2,VLOOKUP(I84,女子種目コード!$A$1:$B$28,2,FALSE))))","v":""},null,null,{"$f":"IF(AC84=\"\",\"\",IF(I84=1,VLOOKUP(AC84,男子種目コード!$A$1:$B$33,2,FALSE),IF(Y84=2,VLOOKUP(I84,女子種目コード!$A$1:$B$28,2,FALSE))))","v":""},null,0,"","","",""]
[null,{"$f":"名簿!P82","v":""},null,null,{"$f":"名簿!E82","v":0},{"$f":"名簿!CM82","v":""},{"$f":"名簿!Z82","v":""},{"$f":"名簿!CM82","v":""},{"$f":"名簿!Y82","v":""},{"$f":"名簿!CN82","v":""},{"$f":"名簿!K82","v":0},{"$f":"名簿!CU82","v":"00"},{"$f":"名簿!Q82","v":""},{"$f":"名簿!$AA$6","v":"23"},null,{"$f":"IF(O85=\"\",\"\",IF(I85=1,VLOOKUP(O85,男子種目コード!$G$1:$H$6,2,FALSE),IF(I85=2,VLOOKUP(O85,女子種目コード!$G$1:$H$6,2,FALSE))))","v":""},{"$f":"IF(O85=\"\",\"\",HLOOKUP(O85,名簿!$AH$3:$CH$118,80,FALSE))","v":""},"","",null,{"$f":"IF(T85=\"\",\"\",IF(I85=1,VLOOKUP(T85,男子種目コード!$G$1:$H$6,2,FALSE),IF(I85=2,VLOOKUP(T85,女子種目コード!$G$1:$H$6,2,FALSE))))","v":""},{"$f":"IF(T85=\"\",\"\",HLOOKUP(T85,名簿!$AH$3:$CH$118,80,FALSE))","v":""},null,{"$f":"IF(W85=\"\",\"\",IF(I85=1,VLOOKUP(W85,男子種目コード!$A$1:$B$33,2,FALSE),IF(I85=2,VLOOKUP(W85,女子種目コード!$A$1:$B$28,2,FALSE))))","v":""},null,null,{"$f":"IF(Z85=\"\",\"\",IF(I85=1,VLOOKUP(Z85,男子種目コード!$A$1:$B$33,2,FALSE),IF(V85=2,VLOOKUP(I85,女子種目コード!$A$1:$B$28,2,FALSE))))","v":""},null,null,{"$f":"IF(AC85=\"\",\"\",IF(I85=1,VLOOKUP(AC85,男子種目コード!$A$1:$B$33,2,FALSE),IF(Y85=2,VLOOKUP(I85,女子種目コード!$A$1:$B$28,2,FALSE))))","v":""},null,0,"","","",""]
[null,{"$f":"名簿!P83","v":""},null,null,{"$f":"名簿!E83","v":0},{"$f":"名簿!CM83","v":""},{"$f":"名簿!Z83","v":""},{"$f":"名簿!CM83","v":""},{"$f":"名簿!Y83","v":""},{"$f":"名簿!CN83","v":""},{"$f":"名簿!K83","v":0},{"$f":"名簿!CU83","v":"00"},{"$f":"名簿!Q83","v":""},{"$f":"名簿!$AA$6","v":"23"},null,{"$f":"IF(O86=\"\",\"\",IF(I86=1,VLOOKUP(O86,男子種目コード!$G$1:$H$6,2,FALSE),IF(I86=2,VLOOKUP(O86,女子種目コード!$G$1:$H$6,2,FALSE))))","v":""},{"$f":"IF(O86=\"\",\"\",HLOOKUP(O86,名簿!$AH$3:$CH$118,81,FALSE))","v":""},"","",null,{"$f":"IF(T86=\"\",\"\",IF(I86=1,VLOOKUP(T86,男子種目コード!$G$1:$H$6,2,FALSE),IF(I86=2,VLOOKUP(T86,女子種目コード!$G$1:$H$6,2,FALSE))))","v":""},{"$f":"IF(T86=\"\",\"\",HLOOKUP(T86,名簿!$AH$3:$CH$118,81,FALSE))","v":""},null,{"$f":"IF(W86=\"\",\"\",IF(I86=1,VLOOKUP(W86,男子種目コード!$A$1:$B$33,2,FALSE),IF(I86=2,VLOOKUP(W86,女子種目コード!$A$1:$B$28,2,FALSE))))","v":""},null,null,{"$f":"IF(Z86=\"\",\"\",IF(I86=1,VLOOKUP(Z86,男子種目コード!$A$1:$B$33,2,FALSE),IF(V86=2,VLOOKUP(I86,女子種目コード!$A$1:$B$28,2,FALSE))))","v":""},null,null,{"$f":"IF(AC86=\"\",\"\",IF(I86=1,VLOOKUP(AC86,男子種目コード!$A$1:$B$33,2,FALSE),IF(Y86=2,VLOOKUP(I86,女子種目コード!$A$1:$B$28,2,FALSE))))","v":""},null,0,"","","",""]
[null,{"$f":"名簿!P84","v":""},null,null,{"$f":"名簿!E84","v":0},{"$f":"名簿!CM84","v":""},{"$f":"名簿!Z84","v":""},{"$f":"名簿!CM84","v":""},{"$f":"名簿!Y84","v":""},{"$f":"名簿!CN84","v":""},{"$f":"名簿!K84","v":0},{"$f":"名簿!CU84","v":"00"},{"$f":"名簿!Q84","v":""},{"$f":"名簿!$AA$6","v":"23"},null,{"$f":"IF(O87=\"\",\"\",IF(I87=1,VLOOKUP(O87,男子種目コード!$G$1:$H$6,2,FALSE),IF(I87=2,VLOOKUP(O87,女子種目コード!$G$1:$H$6,2,FALSE))))","v":""},{"$f":"IF(O87=\"\",\"\",HLOOKUP(O87,名簿!$AH$3:$CH$118,82,FALSE))","v":""},"","",null,{"$f":"IF(T87=\"\",\"\",IF(I87=1,VLOOKUP(T87,男子種目コード!$G$1:$H$6,2,FALSE),IF(I87=2,VLOOKUP(T87,女子種目コード!$G$1:$H$6,2,FALSE))))","v":""},{"$f":"IF(T87=\"\",\"\",HLOOKUP(T87,名簿!$AH$3:$CH$118,82,FALSE))","v":""},null,{"$f":"IF(W87=\"\",\"\",IF(I87=1,VLOOKUP(W87,男子種目コード!$A$1:$B$33,2,FALSE),IF(I87=2,VLOOKUP(W87,女子種目コード!$A$1:$B$28,2,FALSE))))","v":""},null,null,{"$f":"IF(Z87=\"\",\"\",IF(I87=1,VLOOKUP(Z87,男子種目コード!$A$1:$B$33,2,FALSE),IF(V87=2,VLOOKUP(I87,女子種目コード!$A$1:$B$28,2,FALSE))))","v":""},null,null,{"$f":"IF(AC87=\"\",\"\",IF(I87=1,VLOOKUP(AC87,男子種目コード!$A$1:$B$33,2,FALSE),IF(Y87=2,VLOOKUP(I87,女子種目コード!$A$1:$B$28,2,FALSE))))","v":""},null,0,"","","",""]
[null,{"$f":"名簿!P85","v":""},null,null,{"$f":"名簿!E85","v":0},{"$f":"名簿!CM85","v":""},{"$f":"名簿!Z85","v":""},{"$f":"名簿!CM85","v":""},{"$f":"名簿!Y85","v":""},{"$f":"名簿!CN85","v":""},{"$f":"名簿!K85","v":0},{"$f":"名簿!CU85","v":"00"},{"$f":"名簿!Q85","v":""},{"$f":"名簿!$AA$6","v":"23"},null,{"$f":"IF(O88=\"\",\"\",IF(I88=1,VLOOKUP(O88,男子種目コード!$G$1:$H$6,2,FALSE),IF(I88=2,VLOOKUP(O88,女子種目コード!$G$1:$H$6,2,FALSE))))","v":""},{"$f":"IF(O88=\"\",\"\",HLOOKUP(O88,名簿!$AH$3:$CH$118,83,FALSE))","v":""},"","",null,{"$f":"IF(T88=\"\",\"\",IF(I88=1,VLOOKUP(T88,男子種目コード!$G$1:$H$6,2,FALSE),IF(I88=2,VLOOKUP(T88,女子種目コード!$G$1:$H$6,2,FALSE))))","v":""},{"$f":"IF(T88=\"\",\"\",HLOOKUP(T88,名簿!$AH$3:$CH$118,83,FALSE))","v":""},null,{"$f":"IF(W88=\"\",\"\",IF(I88=1,VLOOKUP(W88,男子種目コード!$A$1:$B$33,2,FALSE),IF(I88=2,VLOOKUP(W88,女子種目コード!$A$1:$B$28,2,FALSE))))","v":""},null,null,{"$f":"IF(Z88=\"\",\"\",IF(I88=1,VLOOKUP(Z88,男子種目コード!$A$1:$B$33,2,FALSE),IF(V88=2,VLOOKUP(I88,女子種目コード!$A$1:$B$28,2,FALSE))))","v":""},null,null,{"$f":"IF(AC88=\"\",\"\",IF(I88=1,VLOOKUP(AC88,男子種目コード!$A$1:$B$33,2,FALSE),IF(Y88=2,VLOOKUP(I88,女子種目コード!$A$1:$B$28,2,FALSE))))","v":""},null,0,"","","",""]
[null,{"$f":"名簿!P86","v":""},null,null,{"$f":"名簿!E86","v":0},{"$f":"名簿!CM86","v":""},{"$f":"名簿!Z86","v":""},{"$f":"名簿!CM86","v":""},{"$f":"名簿!Y86","v":""},{"$f":"名簿!CN86","v":""},{"$f":"名簿!K86","v":0},{"$f":"名簿!CU86","v":"00"},{"$f":"名簿!Q86","v":""},{"$f":"名簿!$AA$6","v":"23"},null,{"$f":"IF(O89=\"\",\"\",IF(I89=1,VLOOKUP(O89,男子種目コード!$G$1:$H$6,2,FALSE),IF(I89=2,VLOOKUP(O89,女子種目コード!$G$1:$H$6,2,FALSE))))","v":""},{"$f":"IF(O89=\"\",\"\",HLOOKUP(O89,名簿!$AH$3:$CH$118,84,FALSE))","v":""},"","",null,{"$f":"IF(T89=\"\",\"\",IF(I89=1,VLOOKUP(T89,男子種目コード!$G$1:$H$6,2,FALSE),IF(I89=2,VLOOKUP(T89,女子種目コード!$G$1:$H$6,2,FALSE))))","v":""},{"$f":"IF(T89=\"\",\"\",HLOOKUP(T89,名簿!$AH$3:$CH$118,84,FALSE))","v":""},null,{"$f":"IF(W89=\"\",\"\",IF(I89=1,VLOOKUP(W89,男子種目コード!$A$1:$B$33,2,FALSE),IF(I89=2,VLOOKUP(W89,女子種目コード!$A$1:$B$28,2,FALSE))))","v":""},null,null,{"$f":"IF(Z89=\"\",\"\",IF(I89=1,VLOOKUP(Z89,男子種目コード!$A$1:$B$33,2,FALSE),IF(V89=2,VLOOKUP(I89,女子種目コード!$A$1:$B$28,2,FALSE))))","v":""},null,null,{"$f":"IF(AC89=\"\",\"\",IF(I89=1,VLOOKUP(AC89,男子種目コード!$A$1:$B$33,2,FALSE),IF(Y89=2,VLOOKUP(I89,女子種目コード!$A$1:$B$28,2,FALSE))))","v":""},null,0,"","","",""]
[null,{"$f":"名簿!P87","v":""},null,null,{"$f":"名簿!E87","v":0},{"$f":"名簿!CM87","v":""},{"$f":"名簿!Z87","v":""},{"$f":"名簿!CM87","v":""},{"$f":"名簿!Y87","v":""},{"$f":"名簿!CN87","v":""},{"$f":"名簿!K87","v":0},{"$f":"名簿!CU87","v":"00"},{"$f":"名簿!Q87","v":""},{"$f":"名簿!$AA$6","v":"23"},null,{"$f":"IF(O90=\"\",\"\",IF(I90=1,VLOOKUP(O90,男子種目コード!$G$1:$H$6,2,FALSE),IF(I90=2,VLOOKUP(O90,女子種目コード!$G$1:$H$6,2,FALSE))))","v":""},{"$f":"IF(O90=\"\",\"\",HLOOKUP(O90,名簿!$AH$3:$CH$118,85,FALSE))","v":""},"","",null,{"$f":"IF(T90=\"\",\"\",IF(I90=1,VLOOKUP(T90,男子種目コード!$G$1:$H$6,2,FALSE),IF(I90=2,VLOOKUP(T90,女子種目コード!$G$1:$H$6,2,FALSE))))","v":""},{"$f":"IF(T90=\"\",\"\",HLOOKUP(T90,名簿!$AH$3:$CH$118,85,FALSE))","v":""},null,{"$f":"IF(W90=\"\",\"\",IF(I90=1,VLOOKUP(W90,男子種目コード!$A$1:$B$33,2,FALSE),IF(I90=2,VLOOKUP(W90,女子種目コード!$A$1:$B$28,2,FALSE))))","v":""},null,null,{"$f":"IF(Z90=\"\",\"\",IF(I90=1,VLOOKUP(Z90,男子種目コード!$A$1:$B$33,2,FALSE),IF(V90=2,VLOOKUP(I90,女子種目コード!$A$1:$B$28,2,FALSE))))","v":""},null,null,{"$f":"IF(AC90=\"\",\"\",IF(I90=1,VLOOKUP(AC90,男子種目コード!$A$1:$B$33,2,FALSE),IF(Y90=2,VLOOKUP(I90,女子種目コード!$A$1:$B$28,2,FALSE))))","v":""},null,0,"","","",""]
[null,{"$f":"名簿!P88","v":""},null,null,{"$f":"名簿!E88","v":0},{"$f":"名簿!CM88","v":""},{"$f":"名簿!Z88","v":""},{"$f":"名簿!CM88","v":""},{"$f":"名簿!Y88","v":""},{"$f":"名簿!CN88","v":""},{"$f":"名簿!K88","v":0},{"$f":"名簿!CU88","v":"00"},{"$f":"名簿!Q88","v":""},{"$f":"名簿!$AA$6","v":"23"},null,{"$f":"IF(O91=\"\",\"\",IF(I91=1,VLOOKUP(O91,男子種目コード!$G$1:$H$6,2,FALSE),IF(I91=2,VLOOKUP(O91,女子種目コード!$G$1:$H$6,2,FALSE))))","v":""},{"$f":"IF(O91=\"\",\"\",HLOOKUP(O91,名簿!$AH$3:$CH$118,86,FALSE))","v":""},"","",null,{"$f":"IF(T91=\"\",\"\",IF(I91=1,VLOOKUP(T91,男子種目コード!$G$1:$H$6,2,FALSE),IF(I91=2,VLOOKUP(T91,女子種目コード!$G$1:$H$6,2,FALSE))))","v":""},{"$f":"IF(T91=\"\",\"\",HLOOKUP(T91,名簿!$AH$3:$CH$118,86,FALSE))","v":""},null,{"$f":"IF(W91=\"\",\"\",IF(I91=1,VLOOKUP(W91,男子種目コード!$A$1:$B$33,2,FALSE),IF(I91=2,VLOOKUP(W91,女子種目コード!$A$1:$B$28,2,FALSE))))","v":""},null,null,{"$f":"IF(Z91=\"\",\"\",IF(I91=1,VLOOKUP(Z91,男子種目コード!$A$1:$B$33,2,FALSE),IF(V91=2,VLOOKUP(I91,女子種目コード!$A$1:$B$28,2,FALSE))))","v":""},null,null,{"$f":"IF(AC91=\"\",\"\",IF(I91=1,VLOOKUP(AC91,男子種目コード!$A$1:$B$33,2,FALSE),IF(Y91=2,VLOOKUP(I91,女子種目コード!$A$1:$B$28,2,FALSE))))","v":""},null,0,"","","",""]
[null,{"$f":"名簿!P89","v":""},null,null,{"$f":"名簿!E89","v":0},{"$f":"名簿!CM89","v":""},{"$f":"名簿!Z89","v":""},{"$f":"名簿!CM89","v":""},{"$f":"名簿!Y89","v":""},{"$f":"名簿!CN89","v":""},{"$f":"名簿!K89","v":0},{"$f":"名簿!CU89","v":"00"},{"$f":"名簿!Q89","v":""},{"$f":"名簿!$AA$6","v":"23"},null,{"$f":"IF(O92=\"\",\"\",IF(I92=1,VLOOKUP(O92,男子種目コード!$G$1:$H$6,2,FALSE),IF(I92=2,VLOOKUP(O92,女子種目コード!$G$1:$H$6,2,FALSE))))","v":""},{"$f":"IF(O92=\"\",\"\",HLOOKUP(O92,名簿!$AH$3:$CH$118,87,FALSE))","v":""},"","",null,{"$f":"IF(T92=\"\",\"\",IF(I92=1,VLOOKUP(T92,男子種目コード!$G$1:$H$6,2,FALSE),IF(I92=2,VLOOKUP(T92,女子種目コード!$G$1:$H$6,2,FALSE))))","v":""},{"$f":"IF(T92=\"\",\"\",HLOOKUP(T92,名簿!$AH$3:$CH$118,87,FALSE))","v":""},null,{"$f":"IF(W92=\"\",\"\",IF(I92=1,VLOOKUP(W92,男子種目コード!$A$1:$B$33,2,FALSE),IF(I92=2,VLOOKUP(W92,女子種目コード!$A$1:$B$28,2,FALSE))))","v":""},null,null,{"$f":"IF(Z92=\"\",\"\",IF(I92=1,VLOOKUP(Z92,男子種目コード!$A$1:$B$33,2,FALSE),IF(V92=2,VLOOKUP(I92,女子種目コード!$A$1:$B$28,2,FALSE))))","v":""},null,null,{"$f":"IF(AC92=\"\",\"\",IF(I92=1,VLOOKUP(AC92,男子種目コード!$A$1:$B$33,2,FALSE),IF(Y92=2,VLOOKUP(I92,女子種目コード!$A$1:$B$28,2,FALSE))))","v":""},null,0,"","","",""]
[null,{"$f":"名簿!P90","v":""},null,null,{"$f":"名簿!E90","v":0},{"$f":"名簿!CM90","v":""},{"$f":"名簿!Z90","v":""},{"$f":"名簿!CM90","v":""},{"$f":"名簿!Y90","v":""},{"$f":"名簿!CN90","v":""},{"$f":"名簿!K90","v":0},{"$f":"名簿!CU90","v":"00"},{"$f":"名簿!Q90","v":""},{"$f":"名簿!$AA$6","v":"23"},null,{"$f":"IF(O93=\"\",\"\",IF(I93=1,VLOOKUP(O93,男子種目コード!$G$1:$H$6,2,FALSE),IF(I93=2,VLOOKUP(O93,女子種目コード!$G$1:$H$6,2,FALSE))))","v":""},{"$f":"IF(O93=\"\",\"\",HLOOKUP(O93,名簿!$AH$3:$CH$118,88,FALSE))","v":""},"","",null,{"$f":"IF(T93=\"\",\"\",IF(I93=1,VLOOKUP(T93,男子種目コード!$G$1:$H$6,2,FALSE),IF(I93=2,VLOOKUP(T93,女子種目コード!$G$1:$H$6,2,FALSE))))","v":""},{"$f":"IF(T93=\"\",\"\",HLOOKUP(T93,名簿!$AH$3:$CH$118,88,FALSE))","v":""},null,{"$f":"IF(W93=\"\",\"\",IF(I93=1,VLOOKUP(W93,男子種目コード!$A$1:$B$33,2,FALSE),IF(I93=2,VLOOKUP(W93,女子種目コード!$A$1:$B$28,2,FALSE))))","v":""},null,null,{"$f":"IF(Z93=\"\",\"\",IF(I93=1,VLOOKUP(Z93,男子種目コード!$A$1:$B$33,2,FALSE),IF(V93=2,VLOOKUP(I93,女子種目コード!$A$1:$B$28,2,FALSE))))","v":""},null,null,{"$f":"IF(AC93=\"\",\"\",IF(I93=1,VLOOKUP(AC93,男子種目コード!$A$1:$B$33,2,FALSE),IF(Y93=2,VLOOKUP(I93,女子種目コード!$A$1:$B$28,2,FALSE))))","v":""},null,0,"","","",""]
[null,{"$f":"名簿!P91","v":""},null,null,{"$f":"名簿!E91","v":0},{"$f":"名簿!CM91","v":""},{"$f":"名簿!Z91","v":""},{"$f":"名簿!CM91","v":""},{"$f":"名簿!Y91","v":""},{"$f":"名簿!CN91","v":""},{"$f":"名簿!K91","v":0},{"$f":"名簿!CU91","v":"00"},{"$f":"名簿!Q91","v":""},{"$f":"名簿!$AA$6","v":"23"},null,{"$f":"IF(O94=\"\",\"\",IF(I94=1,VLOOKUP(O94,男子種目コード!$G$1:$H$6,2,FALSE),IF(I94=2,VLOOKUP(O94,女子種目コード!$G$1:$H$6,2,FALSE))))","v":""},{"$f":"IF(O94=\"\",\"\",HLOOKUP(O94,名簿!$AH$3:$CH$118,89,FALSE))","v":""},"","",null,{"$f":"IF(T94=\"\",\"\",IF(I94=1,VLOOKUP(T94,男子種目コード!$G$1:$H$6,2,FALSE),IF(I94=2,VLOOKUP(T94,女子種目コード!$G$1:$H$6,2,FALSE))))","v":""},{"$f":"IF(T94=\"\",\"\",HLOOKUP(T94,名簿!$AH$3:$CH$118,89,FALSE))","v":""},null,{"$f":"IF(W94=\"\",\"\",IF(I94=1,VLOOKUP(W94,男子種目コード!$A$1:$B$33,2,FALSE),IF(I94=2,VLOOKUP(W94,女子種目コード!$A$1:$B$28,2,FALSE))))","v":""},null,null,{"$f":"IF(Z94=\"\",\"\",IF(I94=1,VLOOKUP(Z94,男子種目コード!$A$1:$B$33,2,FALSE),IF(V94=2,VLOOKUP(I94,女子種目コード!$A$1:$B$28,2,FALSE))))","v":""},null,null,{"$f":"IF(AC94=\"\",\"\",IF(I94=1,VLOOKUP(AC94,男子種目コード!$A$1:$B$33,2,FALSE),IF(Y94=2,VLOOKUP(I94,女子種目コード!$A$1:$B$28,2,FALSE))))","v":""},null,0,"","","",""]
[null,{"$f":"名簿!P92","v":""},null,null,{"$f":"名簿!E92","v":0},{"$f":"名簿!CM92","v":""},{"$f":"名簿!Z92","v":""},{"$f":"名簿!CM92","v":""},{"$f":"名簿!Y92","v":""},{"$f":"名簿!CN92","v":""},{"$f":"名簿!K92","v":0},{"$f":"名簿!CU92","v":"00"},{"$f":"名簿!Q92","v":""},{"$f":"名簿!$AA$6","v":"23"},null,{"$f":"IF(O95=\"\",\"\",IF(I95=1,VLOOKUP(O95,男子種目コード!$G$1:$H$6,2,FALSE),IF(I95=2,VLOOKUP(O95,女子種目コード!$G$1:$H$6,2,FALSE))))","v":""},{"$f":"IF(O95=\"\",\"\",HLOOKUP(O95,名簿!$AH$3:$CH$118,90,FALSE))","v":""},"","",null,{"$f":"IF(T95=\"\",\"\",IF(I95=1,VLOOKUP(T95,男子種目コード!$G$1:$H$6,2,FALSE),IF(I95=2,VLOOKUP(T95,女子種目コード!$G$1:$H$6,2,FALSE))))","v":""},{"$f":"IF(T95=\"\",\"\",HLOOKUP(T95,名簿!$AH$3:$CH$118,90,FALSE))","v":""},null,{"$f":"IF(W95=\"\",\"\",IF(I95=1,VLOOKUP(W95,男子種目コード!$A$1:$B$33,2,FALSE),IF(I95=2,VLOOKUP(W95,女子種目コード!$A$1:$B$28,2,FALSE))))","v":""},null,null,{"$f":"IF(Z95=\"\",\"\",IF(I95=1,VLOOKUP(Z95,男子種目コード!$A$1:$B$33,2,FALSE),IF(V95=2,VLOOKUP(I95,女子種目コード!$A$1:$B$28,2,FALSE))))","v":""},null,null,{"$f":"IF(AC95=\"\",\"\",IF(I95=1,VLOOKUP(AC95,男子種目コード!$A$1:$B$33,2,FALSE),IF(Y95=2,VLOOKUP(I95,女子種目コード!$A$1:$B$28,2,FALSE))))","v":""},null,0,"","","",""]
[null,{"$f":"名簿!P93","v":""},null,null,{"$f":"名簿!E93","v":0},{"$f":"名簿!CM93","v":""},{"$f":"名簿!Z93","v":""},{"$f":"名簿!CM93","v":""},{"$f":"名簿!Y93","v":""},{"$f":"名簿!CN93","v":""},{"$f":"名簿!K93","v":0},{"$f":"名簿!CU93","v":"00"},{"$f":"名簿!Q93","v":""},{"$f":"名簿!$AA$6","v":"23"},null,{"$f":"IF(O96=\"\",\"\",IF(I96=1,VLOOKUP(O96,男子種目コード!$G$1:$H$6,2,FALSE),IF(I96=2,VLOOKUP(O96,女子種目コード!$G$1:$H$6,2,FALSE))))","v":""},{"$f":"IF(O96=\"\",\"\",HLOOKUP(O96,名簿!$AH$3:$CH$118,91,FALSE))","v":""},"","",null,{"$f":"IF(T96=\"\",\"\",IF(I96=1,VLOOKUP(T96,男子種目コード!$G$1:$H$6,2,FALSE),IF(I96=2,VLOOKUP(T96,女子種目コード!$G$1:$H$6,2,FALSE))))","v":""},{"$f":"IF(T96=\"\",\"\",HLOOKUP(T96,名簿!$AH$3:$CH$118,91,FALSE))","v":""},null,{"$f":"IF(W96=\"\",\"\",IF(I96=1,VLOOKUP(W96,男子種目コード!$A$1:$B$33,2,FALSE),IF(I96=2,VLOOKUP(W96,女子種目コード!$A$1:$B$28,2,FALSE))))","v":""},null,null,{"$f":"IF(Z96=\"\",\"\",IF(I96=1,VLOOKUP(Z96,男子種目コード!$A$1:$B$33,2,FALSE),IF(V96=2,VLOOKUP(I96,女子種目コード!$A$1:$B$28,2,FALSE))))","v":""},null,null,{"$f":"IF(AC96=\"\",\"\",IF(I96=1,VLOOKUP(AC96,男子種目コード!$A$1:$B$33,2,FALSE),IF(Y96=2,VLOOKUP(I96,女子種目コード!$A$1:$B$28,2,FALSE))))","v":""},null,0,"","","",""]
[null,{"$f":"名簿!P94","v":""},null,null,{"$f":"名簿!E94","v":0},{"$f":"名簿!CM94","v":""},{"$f":"名簿!Z94","v":""},{"$f":"名簿!CM94","v":""},{"$f":"名簿!Y94","v":""},{"$f":"名簿!CN94","v":""},{"$f":"名簿!K94","v":0},{"$f":"名簿!CU94","v":"00"},{"$f":"名簿!Q94","v":""},{"$f":"名簿!$AA$6","v":"23"},null,{"$f":"IF(O97=\"\",\"\",IF(I97=1,VLOOKUP(O97,男子種目コード!$G$1:$H$6,2,FALSE),IF(I97=2,VLOOKUP(O97,女子種目コード!$G$1:$H$6,2,FALSE))))","v":""},{"$f":"IF(O97=\"\",\"\",HLOOKUP(O97,名簿!$AH$3:$CH$118,92,FALSE))","v":""},"","",null,{"$f":"IF(T97=\"\",\"\",IF(I97=1,VLOOKUP(T97,男子種目コード!$G$1:$H$6,2,FALSE),IF(I97=2,VLOOKUP(T97,女子種目コード!$G$1:$H$6,2,FALSE))))","v":""},{"$f":"IF(T97=\"\",\"\",HLOOKUP(T97,名簿!$AH$3:$CH$118,92,FALSE))","v":""},null,{"$f":"IF(W97=\"\",\"\",IF(I97=1,VLOOKUP(W97,男子種目コード!$A$1:$B$33,2,FALSE),IF(I97=2,VLOOKUP(W97,女子種目コード!$A$1:$B$28,2,FALSE))))","v":""},null,null,{"$f":"IF(Z97=\"\",\"\",IF(I97=1,VLOOKUP(Z97,男子種目コード!$A$1:$B$33,2,FALSE),IF(V97=2,VLOOKUP(I97,女子種目コード!$A$1:$B$28,2,FALSE))))","v":""},null,null,{"$f":"IF(AC97=\"\",\"\",IF(I97=1,VLOOKUP(AC97,男子種目コード!$A$1:$B$33,2,FALSE),IF(Y97=2,VLOOKUP(I97,女子種目コード!$A$1:$B$28,2,FALSE))))","v":""},null,0,"","","",""]
[null,{"$f":"名簿!P95","v":""},null,null,{"$f":"名簿!E95","v":0},{"$f":"名簿!CM95","v":""},{"$f":"名簿!Z95","v":""},{"$f":"名簿!CM95","v":""},{"$f":"名簿!Y95","v":""},{"$f":"名簿!CN95","v":""},{"$f":"名簿!K95","v":0},{"$f":"名簿!CU95","v":"00"},{"$f":"名簿!Q95","v":""},{"$f":"名簿!$AA$6","v":"23"},null,{"$f":"IF(O98=\"\",\"\",IF(I98=1,VLOOKUP(O98,男子種目コード!$G$1:$H$6,2,FALSE),IF(I98=2,VLOOKUP(O98,女子種目コード!$G$1:$H$6,2,FALSE))))","v":""},{"$f":"IF(O98=\"\",\"\",HLOOKUP(O98,名簿!$AH$3:$CH$118,93,FALSE))","v":""},"","",null,{"$f":"IF(T98=\"\",\"\",IF(I98=1,VLOOKUP(T98,男子種目コード!$G$1:$H$6,2,FALSE),IF(I98=2,VLOOKUP(T98,女子種目コード!$G$1:$H$6,2,FALSE))))","v":""},{"$f":"IF(T98=\"\",\"\",HLOOKUP(T98,名簿!$AH$3:$CH$118,93,FALSE))","v":""},null,{"$f":"IF(W98=\"\",\"\",IF(I98=1,VLOOKUP(W98,男子種目コード!$A$1:$B$33,2,FALSE),IF(I98=2,VLOOKUP(W98,女子種目コード!$A$1:$B$28,2,FALSE))))","v":""},null,null,{"$f":"IF(Z98=\"\",\"\",IF(I98=1,VLOOKUP(Z98,男子種目コード!$A$1:$B$33,2,FALSE),IF(V98=2,VLOOKUP(I98,女子種目コード!$A$1:$B$28,2,FALSE))))","v":""},null,null,{"$f":"IF(AC98=\"\",\"\",IF(I98=1,VLOOKUP(AC98,男子種目コード!$A$1:$B$33,2,FALSE),IF(Y98=2,VLOOKUP(I98,女子種目コード!$A$1:$B$28,2,FALSE))))","v":""},null,0,"","","",""]
[null,{"$f":"名簿!P96","v":""},null,null,{"$f":"名簿!E96","v":0},{"$f":"名簿!CM96","v":""},{"$f":"名簿!Z96","v":""},{"$f":"名簿!CM96","v":""},{"$f":"名簿!Y96","v":""},{"$f":"名簿!CN96","v":""},{"$f":"名簿!K96","v":0},{"$f":"名簿!CU96","v":"00"},{"$f":"名簿!Q96","v":""},{"$f":"名簿!$AA$6","v":"23"},null,{"$f":"IF(O99=\"\",\"\",IF(I99=1,VLOOKUP(O99,男子種目コード!$G$1:$H$6,2,FALSE),IF(I99=2,VLOOKUP(O99,女子種目コード!$G$1:$H$6,2,FALSE))))","v":""},{"$f":"IF(O99=\"\",\"\",HLOOKUP(O99,名簿!$AH$3:$CH$118,94,FALSE))","v":""},"","",null,{"$f":"IF(T99=\"\",\"\",IF(I99=1,VLOOKUP(T99,男子種目コード!$G$1:$H$6,2,FALSE),IF(I99=2,VLOOKUP(T99,女子種目コード!$G$1:$H$6,2,FALSE))))","v":""},{"$f":"IF(T99=\"\",\"\",HLOOKUP(T99,名簿!$AH$3:$CH$118,94,FALSE))","v":""},null,{"$f":"IF(W99=\"\",\"\",IF(I99=1,VLOOKUP(W99,男子種目コード!$A$1:$B$33,2,FALSE),IF(I99=2,VLOOKUP(W99,女子種目コード!$A$1:$B$28,2,FALSE))))","v":""},null,null,{"$f":"IF(Z99=\"\",\"\",IF(I99=1,VLOOKUP(Z99,男子種目コード!$A$1:$B$33,2,FALSE),IF(V99=2,VLOOKUP(I99,女子種目コード!$A$1:$B$28,2,FALSE))))","v":""},null,null,{"$f":"IF(AC99=\"\",\"\",IF(I99=1,VLOOKUP(AC99,男子種目コード!$A$1:$B$33,2,FALSE),IF(Y99=2,VLOOKUP(I99,女子種目コード!$A$1:$B$28,2,FALSE))))","v":""},null,0,"","","",""]
[null,{"$f":"名簿!P97","v":""},null,null,{"$f":"名簿!E97","v":0},{"$f":"名簿!CM97","v":""},{"$f":"名簿!Z97","v":""},{"$f":"名簿!CM97","v":""},{"$f":"名簿!Y97","v":""},{"$f":"名簿!CN97","v":""},{"$f":"名簿!K97","v":0},{"$f":"名簿!CU97","v":"00"},{"$f":"名簿!Q97","v":""},{"$f":"名簿!$AA$6","v":"23"},null,{"$f":"IF(O100=\"\",\"\",IF(I100=1,VLOOKUP(O100,男子種目コード!$G$1:$H$6,2,FALSE),IF(I100=2,VLOOKUP(O100,女子種目コード!$G$1:$H$6,2,FALSE))))","v":""},{"$f":"IF(O100=\"\",\"\",HLOOKUP(O100,名簿!$AH$3:$CH$118,95,FALSE))","v":""},"","",null,{"$f":"IF(T100=\"\",\"\",IF(I100=1,VLOOKUP(T100,男子種目コード!$G$1:$H$6,2,FALSE),IF(I100=2,VLOOKUP(T100,女子種目コード!$G$1:$H$6,2,FALSE))))","v":""},{"$f":"IF(T100=\"\",\"\",HLOOKUP(T100,名簿!$AH$3:$CH$118,95,FALSE))","v":""},null,{"$f":"IF(W100=\"\",\"\",IF(I100=1,VLOOKUP(W100,男子種目コード!$A$1:$B$33,2,FALSE),IF(I100=2,VLOOKUP(W100,女子種目コード!$A$1:$B$28,2,FALSE))))","v":""},null,null,{"$f":"IF(Z100=\"\",\"\",IF(I100=1,VLOOKUP(Z100,男子種目コード!$A$1:$B$33,2,FALSE),IF(V100=2,VLOOKUP(I100,女子種目コード!$A$1:$B$28,2,FALSE))))","v":""},null,null,{"$f":"IF(AC100=\"\",\"\",IF(I100=1,VLOOKUP(AC100,男子種目コード!$A$1:$B$33,2,FALSE),IF(Y100=2,VLOOKUP(I100,女子種目コード!$A$1:$B$28,2,FALSE))))","v":""},null,0,"","","",""]
[null,{"$f":"名簿!P98","v":""},null,null,{"$f":"名簿!E98","v":0},{"$f":"名簿!CM98","v":""},{"$f":"名簿!Z98","v":""},{"$f":"名簿!CM98","v":""},{"$f":"名簿!Y98","v":""},{"$f":"名簿!CN98","v":""},{"$f":"名簿!K98","v":0},{"$f":"名簿!CU98","v":"00"},{"$f":"名簿!Q98","v":""},{"$f":"名簿!$AA$6","v":"23"},null,{"$f":"IF(O101=\"\",\"\",IF(I101=1,VLOOKUP(O101,男子種目コード!$G$1:$H$6,2,FALSE),IF(I101=2,VLOOKUP(O101,女子種目コード!$G$1:$H$6,2,FALSE))))","v":""},{"$f":"IF(O101=\"\",\"\",HLOOKUP(O101,名簿!$AH$3:$CH$118,96,FALSE))","v":""},"","",null,{"$f":"IF(T101=\"\",\"\",IF(I101=1,VLOOKUP(T101,男子種目コード!$G$1:$H$6,2,FALSE),IF(I101=2,VLOOKUP(T101,女子種目コード!$G$1:$H$6,2,FALSE))))","v":""},{"$f":"IF(T101=\"\",\"\",HLOOKUP(T101,名簿!$AH$3:$CH$118,96,FALSE))","v":""},null,{"$f":"IF(W101=\"\",\"\",IF(I101=1,VLOOKUP(W101,男子種目コード!$A$1:$B$33,2,FALSE),IF(I101=2,VLOOKUP(W101,女子種目コード!$A$1:$B$28,2,FALSE))))","v":""},null,null,{"$f":"IF(Z101=\"\",\"\",IF(I101=1,VLOOKUP(Z101,男子種目コード!$A$1:$B$33,2,FALSE),IF(V101=2,VLOOKUP(I101,女子種目コード!$A$1:$B$28,2,FALSE))))","v":""},null,null,{"$f":"IF(AC101=\"\",\"\",IF(I101=1,VLOOKUP(AC101,男子種目コード!$A$1:$B$33,2,FALSE),IF(Y101=2,VLOOKUP(I101,女子種目コード!$A$1:$B$28,2,FALSE))))","v":""},null,0,"","","",""]
[null,{"$f":"名簿!P99","v":""},null,null,{"$f":"名簿!E99","v":0},{"$f":"名簿!CM99","v":""},{"$f":"名簿!Z99","v":""},{"$f":"名簿!CM99","v":""},{"$f":"名簿!Y99","v":""},{"$f":"名簿!CN99","v":""},{"$f":"名簿!K99","v":0},{"$f":"名簿!CU99","v":"00"},{"$f":"名簿!Q99","v":""},{"$f":"名簿!$AA$6","v":"23"},null,{"$f":"IF(O102=\"\",\"\",IF(I102=1,VLOOKUP(O102,男子種目コード!$G$1:$H$6,2,FALSE),IF(I102=2,VLOOKUP(O102,女子種目コード!$G$1:$H$6,2,FALSE))))","v":""},{"$f":"IF(O102=\"\",\"\",HLOOKUP(O102,名簿!$AH$3:$CH$118,97,FALSE))","v":""},"","",null,{"$f":"IF(T102=\"\",\"\",IF(I102=1,VLOOKUP(T102,男子種目コード!$G$1:$H$6,2,FALSE),IF(I102=2,VLOOKUP(T102,女子種目コード!$G$1:$H$6,2,FALSE))))","v":""},{"$f":"IF(T102=\"\",\"\",HLOOKUP(T102,名簿!$AH$3:$CH$118,97,FALSE))","v":""},null,{"$f":"IF(W102=\"\",\"\",IF(I102=1,VLOOKUP(W102,男子種目コード!$A$1:$B$33,2,FALSE),IF(I102=2,VLOOKUP(W102,女子種目コード!$A$1:$B$28,2,FALSE))))","v":""},null,null,{"$f":"IF(Z102=\"\",\"\",IF(I102=1,VLOOKUP(Z102,男子種目コード!$A$1:$B$33,2,FALSE),IF(V102=2,VLOOKUP(I102,女子種目コード!$A$1:$B$28,2,FALSE))))","v":""},null,null,{"$f":"IF(AC102=\"\",\"\",IF(I102=1,VLOOKUP(AC102,男子種目コード!$A$1:$B$33,2,FALSE),IF(Y102=2,VLOOKUP(I102,女子種目コード!$A$1:$B$28,2,FALSE))))","v":""},null,0,"","","",""]
[null,{"$f":"名簿!P100","v":""},null,null,{"$f":"名簿!E100","v":0},{"$f":"名簿!CM100","v":""},{"$f":"名簿!Z100","v":""},{"$f":"名簿!CM100","v":""},{"$f":"名簿!Y100","v":""},{"$f":"名簿!CN100","v":""},{"$f":"名簿!K100","v":0},{"$f":"名簿!CU100","v":"00"},{"$f":"名簿!Q100","v":""},{"$f":"名簿!$AA$6","v":"23"},null,{"$f":"IF(O103=\"\",\"\",IF(I103=1,VLOOKUP(O103,男子種目コード!$G$1:$H$6,2,FALSE),IF(I103=2,VLOOKUP(O103,女子種目コード!$G$1:$H$6,2,FALSE))))","v":""},{"$f":"IF(O103=\"\",\"\",HLOOKUP(O103,名簿!$AH$3:$CH$118,98,FALSE))","v":""},"","",null,{"$f":"IF(T103=\"\",\"\",IF(I103=1,VLOOKUP(T103,男子種目コード!$G$1:$H$6,2,FALSE),IF(I103=2,VLOOKUP(T103,女子種目コード!$G$1:$H$6,2,FALSE))))","v":""},{"$f":"IF(T103=\"\",\"\",HLOOKUP(T103,名簿!$AH$3:$CH$118,98,FALSE))","v":""},null,{"$f":"IF(W103=\"\",\"\",IF(I103=1,VLOOKUP(W103,男子種目コード!$A$1:$B$33,2,FALSE),IF(I103=2,VLOOKUP(W103,女子種目コード!$A$1:$B$28,2,FALSE))))","v":""},null,null,{"$f":"IF(Z103=\"\",\"\",IF(I103=1,VLOOKUP(Z103,男子種目コード!$A$1:$B$33,2,FALSE),IF(V103=2,VLOOKUP(I103,女子種目コード!$A$1:$B$28,2,FALSE))))","v":""},null,null,{"$f":"IF(AC103=\"\",\"\",IF(I103=1,VLOOKUP(AC103,男子種目コード!$A$1:$B$33,2,FALSE),IF(Y103=2,VLOOKUP(I103,女子種目コード!$A$1:$B$28,2,FALSE))))","v":""},null,0,"","","",""]
[null,{"$f":"名簿!P101","v":""},null,null,{"$f":"名簿!E101","v":0},{"$f":"名簿!CM101","v":""},{"$f":"名簿!Z101","v":""},{"$f":"名簿!CM101","v":""},{"$f":"名簿!Y101","v":""},{"$f":"名簿!CN101","v":""},{"$f":"名簿!K101","v":0},{"$f":"名簿!CU101","v":"00"},{"$f":"名簿!Q101","v":""},{"$f":"名簿!$AA$6","v":"23"},null,{"$f":"IF(O104=\"\",\"\",IF(I104=1,VLOOKUP(O104,男子種目コード!$G$1:$H$6,2,FALSE),IF(I104=2,VLOOKUP(O104,女子種目コード!$G$1:$H$6,2,FALSE))))","v":""},{"$f":"IF(O104=\"\",\"\",HLOOKUP(O104,名簿!$AH$3:$CH$118,99,FALSE))","v":""},"","",null,{"$f":"IF(T104=\"\",\"\",IF(I104=1,VLOOKUP(T104,男子種目コード!$G$1:$H$6,2,FALSE),IF(I104=2,VLOOKUP(T104,女子種目コード!$G$1:$H$6,2,FALSE))))","v":""},{"$f":"IF(T104=\"\",\"\",HLOOKUP(T104,名簿!$AH$3:$CH$118,99,FALSE))","v":""},null,{"$f":"IF(W104=\"\",\"\",IF(I104=1,VLOOKUP(W104,男子種目コード!$A$1:$B$33,2,FALSE),IF(I104=2,VLOOKUP(W104,女子種目コード!$A$1:$B$28,2,FALSE))))","v":""},null,null,{"$f":"IF(Z104=\"\",\"\",IF(I104=1,VLOOKUP(Z104,男子種目コード!$A$1:$B$33,2,FALSE),IF(V104=2,VLOOKUP(I104,女子種目コード!$A$1:$B$28,2,FALSE))))","v":""},null,null,{"$f":"IF(AC104=\"\",\"\",IF(I104=1,VLOOKUP(AC104,男子種目コード!$A$1:$B$33,2,FALSE),IF(Y104=2,VLOOKUP(I104,女子種目コード!$A$1:$B$28,2,FALSE))))","v":""},null,0,"","","",""]
[null,{"$f":"名簿!P102","v":""},null,null,{"$f":"名簿!E102","v":0},{"$f":"名簿!CM102","v":""},{"$f":"名簿!Z102","v":""},{"$f":"名簿!CM102","v":""},{"$f":"名簿!Y102","v":""},{"$f":"名簿!CN102","v":""},{"$f":"名簿!K102","v":0},{"$f":"名簿!CU102","v":"00"},{"$f":"名簿!Q102","v":""},{"$f":"名簿!$AA$6","v":"23"},null,{"$f":"IF(O105=\"\",\"\",IF(I105=1,VLOOKUP(O105,男子種目コード!$G$1:$H$6,2,FALSE),IF(I105=2,VLOOKUP(O105,女子種目コード!$G$1:$H$6,2,FALSE))))","v":""},{"$f":"IF(O105=\"\",\"\",HLOOKUP(O105,名簿!$AH$3:$CH$118,100,FALSE))","v":""},"","",null,{"$f":"IF(T105=\"\",\"\",IF(I105=1,VLOOKUP(T105,男子種目コード!$G$1:$H$6,2,FALSE),IF(I105=2,VLOOKUP(T105,女子種目コード!$G$1:$H$6,2,FALSE))))","v":""},{"$f":"IF(T105=\"\",\"\",HLOOKUP(T105,名簿!$AH$3:$CH$118,100,FALSE))","v":""},null,{"$f":"IF(W105=\"\",\"\",IF(I105=1,VLOOKUP(W105,男子種目コード!$A$1:$B$33,2,FALSE),IF(I105=2,VLOOKUP(W105,女子種目コード!$A$1:$B$28,2,FALSE))))","v":""},null,null,{"$f":"IF(Z105=\"\",\"\",IF(I105=1,VLOOKUP(Z105,男子種目コード!$A$1:$B$33,2,FALSE),IF(V105=2,VLOOKUP(I105,女子種目コード!$A$1:$B$28,2,FALSE))))","v":""},null,null,{"$f":"IF(AC105=\"\",\"\",IF(I105=1,VLOOKUP(AC105,男子種目コード!$A$1:$B$33,2,FALSE),IF(Y105=2,VLOOKUP(I105,女子種目コード!$A$1:$B$28,2,FALSE))))","v":""},null,0,"","","",""]
[null,{"$f":"名簿!P103","v":""},null,null,{"$f":"名簿!E103","v":0},{"$f":"名簿!CM103","v":""},{"$f":"名簿!Z103","v":""},{"$f":"名簿!CM103","v":""},{"$f":"名簿!Y103","v":""},{"$f":"名簿!CN103","v":""},{"$f":"名簿!K103","v":0},{"$f":"名簿!CU103","v":"00"},{"$f":"名簿!Q103","v":""},{"$f":"名簿!$AA$6","v":"23"},null,{"$f":"IF(O106=\"\",\"\",IF(I106=1,VLOOKUP(O106,男子種目コード!$G$1:$H$6,2,FALSE),IF(I106=2,VLOOKUP(O106,女子種目コード!$G$1:$H$6,2,FALSE))))","v":""},{"$f":"IF(O106=\"\",\"\",HLOOKUP(O106,名簿!$AH$3:$CH$118,101,FALSE))","v":""},"","",null,{"$f":"IF(T106=\"\",\"\",IF(I106=1,VLOOKUP(T106,男子種目コード!$G$1:$H$6,2,FALSE),IF(I106=2,VLOOKUP(T106,女子種目コード!$G$1:$H$6,2,FALSE))))","v":""},{"$f":"IF(T106=\"\",\"\",HLOOKUP(T106,名簿!$AH$3:$CH$118,101,FALSE))","v":""},null,null,null,null,null,null,null,null,null,0,"","","",""]
[null,{"$f":"名簿!P104","v":""},null,null,{"$f":"名簿!E104","v":0},{"$f":"名簿!CM104","v":""},{"$f":"名簿!Z104","v":""},{"$f":"名簿!CM104","v":""},{"$f":"名簿!Y104","v":""},{"$f":"名簿!CN104","v":""},{"$f":"名簿!K104","v":0},{"$f":"名簿!CU104","v":"00"},{"$f":"名簿!Q104","v":""},{"$f":"名簿!$AA$6","v":"23"},null,{"$f":"IF(O107=\"\",\"\",IF(I107=1,VLOOKUP(O107,男子種目コード!$G$1:$H$6,2,FALSE),IF(I107=2,VLOOKUP(O107,女子種目コード!$G$1:$H$6,2,FALSE))))","v":""},{"$f":"IF(O107=\"\",\"\",HLOOKUP(O107,名簿!$AH$3:$CH$118,102,FALSE))","v":""},"","",null,{"$f":"IF(T107=\"\",\"\",IF(I107=1,VLOOKUP(T107,男子種目コード!$G$1:$H$6,2,FALSE),IF(I107=2,VLOOKUP(T107,女子種目コード!$G$1:$H$6,2,FALSE))))","v":""},{"$f":"IF(T107=\"\",\"\",HLOOKUP(T107,名簿!$AH$3:$CH$118,102,FALSE))","v":""},null,null,null,null,null,null,null,null,null,0,"","","",""]
[null,{"$f":"名簿!P105","v":""},null,null,{"$f":"名簿!E105","v":0},{"$f":"名簿!CM105","v":""},{"$f":"名簿!Z105","v":""},{"$f":"名簿!CM105","v":""},{"$f":"名簿!Y105","v":""},{"$f":"名簿!CN105","v":""},{"$f":"名簿!K105","v":0},{"$f":"名簿!CU105","v":"00"},{"$f":"名簿!Q105","v":""},{"$f":"名簿!$AA$6","v":"23"},null,{"$f":"IF(O108=\"\",\"\",IF(I108=1,VLOOKUP(O108,男子種目コード!$G$1:$H$6,2,FALSE),IF(I108=2,VLOOKUP(O108,女子種目コード!$G$1:$H$6,2,FALSE))))","v":""},{"$f":"IF(O108=\"\",\"\",HLOOKUP(O108,名簿!$AH$3:$CH$118,103,FALSE))","v":""},"","",null,{"$f":"IF(T108=\"\",\"\",IF(I108=1,VLOOKUP(T108,男子種目コード!$G$1:$H$6,2,FALSE),IF(I108=2,VLOOKUP(T108,女子種目コード!$G$1:$H$6,2,FALSE))))","v":""},{"$f":"IF(T108=\"\",\"\",HLOOKUP(T108,名簿!$AH$3:$CH$118,103,FALSE))","v":""},null,null,null,null,null,null,null,null,null,0,"","","",""]
[null,{"$f":"名簿!P106","v":""},null,null,{"$f":"名簿!E106","v":0},{"$f":"名簿!CM106","v":""},{"$f":"名簿!Z106","v":""},{"$f":"名簿!CM106","v":""},{"$f":"名簿!Y106","v":""},{"$f":"名簿!CN106","v":""},{"$f":"名簿!K106","v":0},{"$f":"名簿!CU106","v":"00"},{"$f":"名簿!Q106","v":""},{"$f":"名簿!$AA$6","v":"23"},null,{"$f":"IF(O109=\"\",\"\",IF(I109=1,VLOOKUP(O109,男子種目コード!$G$1:$H$6,2,FALSE),IF(I109=2,VLOOKUP(O109,女子種目コード!$G$1:$H$6,2,FALSE))))","v":""},{"$f":"IF(O109=\"\",\"\",HLOOKUP(O109,名簿!$AH$3:$CH$118,104,FALSE))","v":""},"","",null,{"$f":"IF(T109=\"\",\"\",IF(I109=1,VLOOKUP(T109,男子種目コード!$G$1:$H$6,2,FALSE),IF(I109=2,VLOOKUP(T109,女子種目コード!$G$1:$H$6,2,FALSE))))","v":""},{"$f":"IF(T109=\"\",\"\",HLOOKUP(T109,名簿!$AH$3:$CH$118,104,FALSE))","v":""},null,null,null,null,null,null,null,null,null,0,"","","",""]
[null,{"$f":"名簿!P107","v":""},null,null,{"$f":"名簿!E107","v":0},{"$f":"名簿!CM107","v":""},{"$f":"名簿!Z107","v":""},{"$f":"名簿!CM107","v":""},{"$f":"名簿!Y107","v":""},{"$f":"名簿!CN107","v":""},{"$f":"名簿!K107","v":0},{"$f":"名簿!CU107","v":"00"},{"$f":"名簿!Q107","v":""},{"$f":"名簿!$AA$6","v":"23"},null,{"$f":"IF(O110=\"\",\"\",IF(I110=1,VLOOKUP(O110,男子種目コード!$G$1:$H$6,2,FALSE),IF(I110=2,VLOOKUP(O110,女子種目コード!$G$1:$H$6,2,FALSE))))","v":""},{"$f":"IF(O110=\"\",\"\",HLOOKUP(O110,名簿!$AH$3:$CH$118,105,FALSE))","v":""},"","",null,{"$f":"IF(T110=\"\",\"\",IF(I110=1,VLOOKUP(T110,男子種目コード!$G$1:$H$6,2,FALSE),IF(I110=2,VLOOKUP(T110,女子種目コード!$G$1:$H$6,2,FALSE))))","v":""},{"$f":"IF(T110=\"\",\"\",HLOOKUP(T110,名簿!$AH$3:$CH$118,105,FALSE))","v":""},null,null,null,null,null,null,null,null,null,0,"","","",""]
[null,{"$f":"名簿!P108","v":""},null,null,{"$f":"名簿!E108","v":0},{"$f":"名簿!CM108","v":""},{"$f":"名簿!Z108","v":""},{"$f":"名簿!CM108","v":""},{"$f":"名簿!Y108","v":""},{"$f":"名簿!CN108","v":""},{"$f":"名簿!K108","v":0},{"$f":"名簿!CU108","v":"00"},{"$f":"名簿!Q108","v":""},{"$f":"名簿!$AA$6","v":"23"},null,{"$f":"IF(O111=\"\",\"\",IF(I111=1,VLOOKUP(O111,男子種目コード!$G$1:$H$6,2,FALSE),IF(I111=2,VLOOKUP(O111,女子種目コード!$G$1:$H$6,2,FALSE))))","v":""},{"$f":"IF(O111=\"\",\"\",HLOOKUP(O111,名簿!$AH$3:$CH$118,106,FALSE))","v":""},"","",null,{"$f":"IF(T111=\"\",\"\",IF(I111=1,VLOOKUP(T111,男子種目コード!$G$1:$H$6,2,FALSE),IF(I111=2,VLOOKUP(T111,女子種目コード!$G$1:$H$6,2,FALSE))))","v":""},{"$f":"IF(T111=\"\",\"\",HLOOKUP(T111,名簿!$AH$3:$CH$118,106,FALSE))","v":""},null,null,null,null,null,null,null,null,null,0,"","","",""]
[null,{"$f":"名簿!P109","v":""},null,null,{"$f":"名簿!E109","v":0},{"$f":"名簿!CM109","v":""},{"$f":"名簿!Z109","v":""},{"$f":"名簿!CM109","v":""},{"$f":"名簿!Y109","v":""},{"$f":"名簿!CN109","v":""},{"$f":"名簿!K109","v":0},{"$f":"名簿!CU109","v":"00"},{"$f":"名簿!Q109","v":""},{"$f":"名簿!$AA$6","v":"23"},null,{"$f":"IF(O112=\"\",\"\",IF(I112=1,VLOOKUP(O112,男子種目コード!$G$1:$H$6,2,FALSE),IF(I112=2,VLOOKUP(O112,女子種目コード!$G$1:$H$6,2,FALSE))))","v":""},{"$f":"IF(O112=\"\",\"\",HLOOKUP(O112,名簿!$AH$3:$CH$118,107,FALSE))","v":""},"","",null,{"$f":"IF(T112=\"\",\"\",IF(I112=1,VLOOKUP(T112,男子種目コード!$G$1:$H$6,2,FALSE),IF(I112=2,VLOOKUP(T112,女子種目コード!$G$1:$H$6,2,FALSE))))","v":""},{"$f":"IF(T112=\"\",\"\",HLOOKUP(T112,名簿!$AH$3:$CH$118,107,FALSE))","v":""},null,null,null,null,null,null,null,null,null,0,"","","",""]
[null,{"$f":"名簿!P110","v":""},null,null,{"$f":"名簿!E110","v":0},{"$f":"名簿!CM110","v":""},{"$f":"名簿!Z110","v":""},{"$f":"名簿!CM110","v":""},{"$f":"名簿!Y110","v":""},{"$f":"名簿!CN110","v":""},{"$f":"名簿!K110","v":0},{"$f":"名簿!CU110","v":"00"},{"$f":"名簿!Q110","v":""},{"$f":"名簿!$AA$6","v":"23"},null,{"$f":"IF(O113=\"\",\"\",IF(I113=1,VLOOKUP(O113,男子種目コード!$G$1:$H$6,2,FALSE),IF(I113=2,VLOOKUP(O113,女子種目コード!$G$1:$H$6,2,FALSE))))","v":""},{"$f":"IF(O113=\"\",\"\",HLOOKUP(O113,名簿!$AH$3:$CH$118,108,FALSE))","v":""},"","",null,{"$f":"IF(T113=\"\",\"\",IF(I113=1,VLOOKUP(T113,男子種目コード!$G$1:$H$6,2,FALSE),IF(I113=2,VLOOKUP(T113,女子種目コード!$G$1:$H$6,2,FALSE))))","v":""},{"$f":"IF(T113=\"\",\"\",HLOOKUP(T113,名簿!$AH$3:$CH$118,108,FALSE))","v":""},null,null,null,null,null,null,null,null,null,0,"","","",""]
[null,{"$f":"名簿!P111","v":""},null,null,{"$f":"名簿!E111","v":0},{"$f":"名簿!CM111","v":""},{"$f":"名簿!Z111","v":""},{"$f":"名簿!CM111","v":""},{"$f":"名簿!Y111","v":""},{"$f":"名簿!CN111","v":""},{"$f":"名簿!K111","v":0},{"$f":"名簿!CU111","v":"00"},{"$f":"名簿!Q111","v":""},{"$f":"名簿!$AA$6","v":"23"},null,{"$f":"IF(O114=\"\",\"\",IF(I114=1,VLOOKUP(O114,男子種目コード!$G$1:$H$6,2,FALSE),IF(I114=2,VLOOKUP(O114,女子種目コード!$G$1:$H$6,2,FALSE))))","v":""},{"$f":"IF(O114=\"\",\"\",HLOOKUP(O114,名簿!$AH$3:$CH$118,109,FALSE))","v":""},"","",null,{"$f":"IF(T114=\"\",\"\",IF(I114=1,VLOOKUP(T114,男子種目コード!$G$1:$H$6,2,FALSE),IF(I114=2,VLOOKUP(T114,女子種目コード!$G$1:$H$6,2,FALSE))))","v":""},{"$f":"IF(T114=\"\",\"\",HLOOKUP(T114,名簿!$AH$3:$CH$118,109,FALSE))","v":""},null,null,null,null,null,null,null,null,null,0,"","","",""]
[null,{"$f":"名簿!P112","v":""},null,null,{"$f":"名簿!E112","v":0},{"$f":"名簿!CM112","v":""},{"$f":"名簿!Z112","v":""},{"$f":"名簿!CM112","v":""},{"$f":"名簿!Y112","v":""},{"$f":"名簿!CN112","v":""},{"$f":"名簿!K112","v":0},{"$f":"名簿!CU112","v":"00"},{"$f":"名簿!Q112","v":""},{"$f":"名簿!$AA$6","v":"23"},null,{"$f":"IF(O115=\"\",\"\",IF(I115=1,VLOOKUP(O115,男子種目コード!$G$1:$H$6,2,FALSE),IF(I115=2,VLOOKUP(O115,女子種目コード!$G$1:$H$6,2,FALSE))))","v":""},{"$f":"IF(O115=\"\",\"\",HLOOKUP(O115,名簿!$AH$3:$CH$118,110,FALSE))","v":""},"","",null,{"$f":"IF(T115=\"\",\"\",IF(I115=1,VLOOKUP(T115,男子種目コード!$G$1:$H$6,2,FALSE),IF(I115=2,VLOOKUP(T115,女子種目コード!$G$1:$H$6,2,FALSE))))","v":""},{"$f":"IF(T115=\"\",\"\",HLOOKUP(T115,名簿!$AH$3:$CH$118,110,FALSE))","v":""},null,null,null,null,null,null,null,null,null,0,"","","",""]
[null,{"$f":"名簿!P113","v":""},null,null,{"$f":"名簿!E113","v":0},{"$f":"名簿!CM113","v":""},{"$f":"名簿!Z113","v":""},{"$f":"名簿!CM113","v":""},{"$f":"名簿!Y113","v":""},{"$f":"名簿!CN113","v":""},{"$f":"名簿!K113","v":0},{"$f":"名簿!CU113","v":"00"},{"$f":"名簿!Q113","v":""},{"$f":"名簿!$AA$6","v":"23"},null,{"$f":"IF(O116=\"\",\"\",IF(I116=1,VLOOKUP(O116,男子種目コード!$G$1:$H$6,2,FALSE),IF(I116=2,VLOOKUP(O116,女子種目コード!$G$1:$H$6,2,FALSE))))","v":""},{"$f":"IF(O116=\"\",\"\",HLOOKUP(O116,名簿!$AH$3:$CH$118,111,FALSE))","v":""},"","",null,{"$f":"IF(T116=\"\",\"\",IF(I116=1,VLOOKUP(T116,男子種目コード!$G$1:$H$6,2,FALSE),IF(I116=2,VLOOKUP(T116,女子種目コード!$G$1:$H$6,2,FALSE))))","v":""},{"$f":"IF(T116=\"\",\"\",HLOOKUP(T116,名簿!$AH$3:$CH$118,111,FALSE))","v":""},null,{"$f":"IF(W116=\"\",\"\",IF(I116=1,VLOOKUP(W116,男子種目コード!$A$1:$B$33,2,FALSE),IF(I116=2,VLOOKUP(W116,女子種目コード!$A$1:$B$28,2,FALSE))))","v":""},null,null,{"$f":"IF(Z116=\"\",\"\",IF(I116=1,VLOOKUP(Z116,男子種目コード!$A$1:$B$33,2,FALSE),IF(V116=2,VLOOKUP(I116,女子種目コード!$A$1:$B$28,2,FALSE))))","v":""},null,null,{"$f":"IF(AC116=\"\",\"\",IF(I116=1,VLOOKUP(AC116,男子種目コード!$A$1:$B$33,2,FALSE),IF(Y116=2,VLOOKUP(I116,女子種目コード!$A$1:$B$28,2,FALSE))))","v":""},null,0,"","","",""]

{"sheet":"県選","index":10,"n_rows":118,"n_cols":60,"rows_kept":118,"cut":false,"hidden":false,"merged":[[1,15,1,16],[6,45,6,46],[34,45,34,46],[5,45,5,46],[5,56,5,57],[13,56,13,57],[1,21,1,22]]}
[null,null,null,null,"所属名",{"$f":"IF(名簿!$O$4=\"\",\"\",名簿!$O$4)","v":0},"この大会は三重陸協が承認した者しかエントリーができません。"]
[null,null,null,null,"所属コード",{"$f":"名簿!$P$4","v":{"$error":"#N/A"}},"三重県選手権"]
[null,null,null,null,"顧問名",{"$f":"IF(名簿!$D$1=\"\",\"\",名簿!$D$1)","v":""}]
[null,null,null,null,"顧問連絡先",{"$f":"IF(名簿!$I$1=\"\",\"\",名簿!$I$1)","v":""},null,null,"大会参加費",null,null,null,null,null,{"$f":"($AF$118*1000+$AP$8*2000)+O5*800","v":0}]
[null,null,null,null,null,null,null,null,"プログラム冊数",null,null,null,null,null,null,null,"冊"]
["競技者コード","所属コード","コード２","ナンバーA","ナンバー","名前","カナ名","掲示板名","性別","学年","生年","月日","個人所属地コード","陸連コード","種目","コード","記録",null,null,"種目","コード","記録",null,null,"リレー","コード","記録","4×100R","コード","記録",null,null,"4×400R","コード","記録",null,null,null,100,null,null,null,null,null,"NO","種目別人数",null,null,null,null,100,100,null,null,null,null,"男子4×100mR"]
[{"$f":"Z7","v":""},{"$f":"名簿!P4","v":{"$error":"#N/A"}},null,null,{"$f":"名簿!E4","v":0},{"$f":"名簿!CM4","v":""},{"$f":"名簿!Z4","v":""},{"$f":"名簿!CM4","v":""},{"$f":"名簿!Y4","v":""},{"$f":"名簿!CN4","v":""},{"$f":"名簿!CP4","v":0},{"$f":"名簿!CU4","v":"00"},{"$f":"名簿!Q4","v":{"$error":"#N/A"}},{"$f":"名簿!$AA$6","v":"23"},null,{"$f":"IF(O7=\"\",\"\",IF(I7=1,VLOOKUP(O7,男子種目コード!$A$1:$B$33,2,FALSE),IF(I7=2,VLOOKUP(O7,女子種目コード!$A$1:$B$28,2,FALSE))))","v":""},{"$f":"IF(O7=\"\",\"\",HLOOKUP(O7,名簿!$AH$3:$CH$118,2,FALSE))","v":""},{"$f":"IF(O7=\"\",\"\",0)","v":""},{"$f":"IF(O7=\"\",\"\",2)","v":""},null,{"$f":"IF(T7=\"\",\"\",IF(I7=1,VLOOKUP(T7,男子種目コード!$A$1:$B$33,2,FALSE),IF(I7=2,VLOOKUP(T7,女子種目コード!$A$1:$B$28,2,FALSE))))","v":""},{"$f":"IF(T7=\"\",\"\",HLOOKUP(T7,名簿!$AH$3:$CH$118,2,FALSE))","v":""},{"$f":"IF(T7=\"\",\"\",0)","v":""},{"$f":"IF(T7=\"\",\"\",2)","v":""},null,{"$f":"IF(Y7=\"\",\"\",IF(I7=1,VLOOKUP(Y7,男子種目コード!$A$1:$B$33,2,FALSE),IF(I7=2,VLOOKUP(Y7,女子種目コード!$A$1:$B$27,2,FALSE))))","v":""},null,null,null,null,{"$f":"IF(AB7=\"\",\"\",0)","v":""},{"$f":"IF(AB7=\"\",\"\",2)","v":""},null,null,null,null,null,null,200,{"$f":"IF(O7=\"\",\"\",1)","v":""},{"$f":"IF(T7=\"\",\"\",1)","v":""},{"$f":"COUNTIF($Y$7:$Y$116,\"4×100\")","v":0},null,null,{"$f":"E7","v":0},"男子",null,null,null,null,200,200,{"$f":"COUNTIF(U7:U116,13)","v":0},{"$f":"IF(BA7>0,1,0)","v":0},null,null,"記録"]
[{"$f":"Z8","v":""},{"$f":"名簿!P5","v":""},null,null,{"$f":"名簿!E5","v":0},{"$f":"名簿!CM5","v":""},{"$f":"名簿!Z5","v":""},{"$f":"名簿!CM5","v":""},{"$f":"名簿!Y5","v":""},{"$f":"名簿!CN5","v":""},{"$f":"名簿!CP5","v":0},{"$f":"名簿!CU5","v":"00"},{"$f":"名簿!Q5","v":""},{"$f":"名簿!$AA$6","v":"23"},null,{"$f":"IF(O8=\"\",\"\",IF(I8=1,VLOOKUP(O8,男子種目コード!$A$1:$B$33,2,FALSE),IF(I8=2,VLOOKUP(O8,女子種目コード!$A$1:$B$28,2,FALSE))))","v":""},{"$f":"IF(O8=\"\",\"\",HLOOKUP(O8,名簿!$AH$3:$CH$118,3,FALSE))","v":""},{"$f":"IF(O8=\"\",\"\",0)","v":""},{"$f":"IF(O8=\"\",\"\",2)","v":""},null,{"$f":"IF(T8=\"\",\"\",IF(I8=1,VLOOKUP(T8,男子種目コード!$A$1:$B$33,2,FALSE),IF(I8=2,VLOOKUP(T8,女子種目コード!$A$1:$B$28,2,FALSE))))","v":""},{"$f":"IF(T8=\"\",\"\",HLOOKUP(T8,名簿!$AH$3:$CH$118,3,FALSE))","v":""},{"$f":"IF(T8=\"\",\"\",0)","v":""},{"$f":"IF(T8=\"\",\"\",2)","v":""},null,{"$f":"IF(Y8=\"\",\"\",IF(I8=1,VLOOKUP(Y8,男子種目コード!$A$1:$B$33,2,FALSE),IF(I8=2,VLOOKUP(Y8,女子種目コード!$A$1:$B$27,2,FALSE))))","v":""},null,null,null,null,{"$f":"IF(AB8=\"\",\"\",0)","v":""},{"$f":"IF(AB8=\"\",\"\",2)","v":""},null,null,null,null,null,null,400,"","",{"$f":"IF(AP7>0,1)","v":false},null,null,0,100,{"$f":"COUNTIF($P$7:$P$116,1)+COUNTIF($U$7:$U$116,1)","v":0},null,null,null,400,400,{"$f":"COUNTIF(U7:U116,53)","v":0},{"$f":"IF(BA8>0,1,0)","v":0},null,null,{"$f":"IF(ISERROR(BG8),\"\",BG8)","v":""},"",{"$f":"VLookUpX(13,$A$7:$F$116,1,5)","v":{"$error":"#N/A"}},{"$f":"VLookUpX(13,$A$7:$F$116,1,6)","v":{"$error":"#N/A"}}]
["",{"$f":"名簿!P6","v":""},null,null,{"$f":"名簿!E6","v":0},{"$f":"名簿!CM6","v":""},{"$f":"名簿!Z6","v":""},{"$f":"名簿!CM6","v":""},{"$f":"名簿!Y6","v":""},{"$f":"名簿!CN6","v":""},{"$f":"名簿!CP6","v":0},{"$f":"名簿!CU6","v":"00"},{"$f":"名簿!Q6","v":""},{"$f":"名簿!$AA$6","v":"23"},null,{"$f":"IF(O9=\"\",\"\",IF(I9=1,VLOOKUP(O9,男子種目コード!$A$1:$B$33,2,FALSE),IF(I9=2,VLOOKUP(O9,女子種目コード!$A$1:$B$28,2,FALSE))))","v":""},{"$f":"IF(O9=\"\",\"\",HLOOKUP(O9,名簿!$AH$3:$CH$118,4,FALSE))","v":""},"","",null,{"$f":"IF(T9=\"\",\"\",IF(I9=1,VLOOKUP(T9,男子種目コード!$A$1:$B$33,2,FALSE),IF(I9=2,VLOOKUP(T9,女子種目コード!$A$1:$B$28,2,FALSE))))","v":""},{"$f":"IF(T9=\"\",\"\",HLOOKUP(T9,名簿!$AH$3:$CH$118,4,FALSE))","v":""},"","",null,{"$f":"IF(Y9=\"\",\"\",IF(I9=1,VLOOKUP(Y9,男子種目コード!$A$1:$B$33,2,FALSE),IF(I9=2,VLOOKUP(Y9,女子種目コード!$A$1:$B$27,2,FALSE))))","v":""},null,null,null,null,"","",null,null,null,null,null,null,800,"","",null,null,null,0,200,{"$f":"COUNTIF($P$7:$P$116,2)+COUNTIF($U$7:$U$116,2)","v":0},null,null,null,800,800,null,{"$f":"SUM(BB7:BB8)","v":0},null,null,"","",{"$f":"VLookUpX(13,$A$7:$F$116,2,5)","v":{"$error":"#N/A"}},{"$f":"VLookUpX(13,$A$7:$F$116,2,6)","v":{"$error":"#N/A"}}]
["",{"$f":"名簿!P7","v":""},null,null,{"$f":"名簿!E7","v":0},{"$f":"名簿!CM7","v":""},{"$f":"名簿!Z7","v":""},{"$f":"名簿!CM7","v":""},{"$f":"名簿!Y7","v":""},{"$f":"名簿!CN7","v":""},{"$f":"名簿!CP7","v":0},{"$f":"名簿!CU7","v":"00"},{"$f":"名簿!Q7","v":""},{"$f":"名簿!$AA$6","v":"23"},null,{"$f":"IF(O10=\"\",\"\",IF(I10=1,VLOOKUP(O10,男子種目コード!$A$1:$B$33,2,FALSE),IF(I10=2,VLOOKUP(O10,女子種目コード!$A$1:$B$28,2,FALSE))))","v":""},{"$f":"IF(O10=\"\",\"\",HLOOKUP(O10,名簿!$AH$3:$CH$118,5,FALSE))","v":""},"","",null,{"$f":"IF(T10=\"\",\"\",IF(I10=1,VLOOKUP(T10,男子種目コード!$A$1:$B$33,2,FALSE),IF(I10=2,VLOOKUP(T10,女子種目コード!$A$1:$B$28,2,FALSE))))","v":""},{"$f":"IF(T10=\"\",\"\",HLOOKUP(T10,名簿!$AH$3:$CH$118,5,FALSE))","v":""},"","",null,{"$f":"IF(Y10=\"\",\"\",IF(I10=1,VLOOKUP(Y10,男子種目コード!$A$1:$B$33,2,FALSE),IF(I10=2,VLOOKUP(Y10,女子種目コード!$A$1:$B$27,2,FALSE))))","v":""},null,null,null,null,"","",null,null,null,null,null,null,1500,"","",null,null,null,0,400,{"$f":"COUNTIF($P$7:$P$116,3)+COUNTIF($U$7:$U$116,3)","v":0},null,null,null,1500,1500,null,null,null,null,"","",{"$f":"VLookUpX(13,$A$7:$F$116,3,5)","v":{"$error":"#N/A"}},{"$f":"VLookUpX(13,$A$7:$F$116,3,6)","v":{"$error":"#N/A"}}]
["",{"$f":"名簿!P8","v":""},null,null,{"$f":"名簿!E8","v":0},{"$f":"名簿!CM8","v":""},{"$f":"名簿!Z8","v":""},{"$f":"名簿!CM8","v":""},{"$f":"名簿!Y8","v":""},{"$f":"名簿!CN8","v":""},{"$f":"名簿!CP8","v":0},{"$f":"名簿!CU8","v":"00"},{"$f":"名簿!Q8","v":""},{"$f":"名簿!$AA$6","v":"23"},null,{"$f":"IF(O11=\"\",\"\",IF(I11=1,VLOOKUP(O11,男子種目コード!$A$1:$B$33,2,FALSE),IF(I11=2,VLOOKUP(O11,女子種目コード!$A$1:$B$28,2,FALSE))))","v":""},{"$f":"IF(O11=\"\",\"\",HLOOKUP(O11,名簿!$AH$3:$CH$118,6,FALSE))","v":""},"","",null,{"$f":"IF(T11=\"\",\"\",IF(I11=1,VLOOKUP(T11,男子種目コード!$A$1:$B$33,2,FALSE),IF(I11=2,VLOOKUP(T11,女子種目コード!$A$1:$B$28,2,FALSE))))","v":""},{"$f":"IF(T11=\"\",\"\",HLOOKUP(T11,名簿!$AH$3:$CH$118,6,FALSE))","v":""},"","",null,{"$f":"IF(Y11=\"\",\"\",IF(I11=1,VLOOKUP(Y11,男子種目コード!$A$1:$B$33,2,FALSE),IF(I11=2,VLOOKUP(Y11,女子種目コード!$A$1:$B$27,2,FALSE))))","v":""},null,null,null,null,"","",null,null,null,null,null,null,5000,"","",null,null,null,0,800,{"$f":"COUNTIF($P$7:$P$116,4)+COUNTIF($U$7:$U$116,4)","v":0},null,null,null,5000,5000,null,null,null,null,"","",{"$f":"VLookUpX(13,$A$7:$F$116,4,5)","v":{"$error":"#N/A"}},{"$f":"VLookUpX(13,$A$7:$F$116,4,6)","v":{"$error":"#N/A"}}]
["",{"$f":"名簿!P9","v":""},null,null,{"$f":"名簿!E9","v":0},{"$f":"名簿!CM9","v":""},{"$f":"名簿!Z9","v":""},{"$f":"名簿!CM9","v":""},{"$f":"名簿!Y9","v":""},{"$f":"名簿!CN9","v":""},{"$f":"名簿!CP9","v":0},{"$f":"名簿!CU9","v":"00"},{"$f":"名簿!Q9","v":""},{"$f":"名簿!$AA$6","v":"23"},null,{"$f":"IF(O12=\"\",\"\",IF(I12=1,VLOOKUP(O12,男子種目コード!$A$1:$B$33,2,FALSE),IF(I12=2,VLOOKUP(O12,女子種目コード!$A$1:$B$28,2,FALSE))))","v":""},{"$f":"IF(O12=\"\",\"\",HLOOKUP(O12,名簿!$AH$3:$CH$118,7,FALSE))","v":""},"","",null,{"$f":"IF(T12=\"\",\"\",IF(I12=1,VLOOKUP(T12,男子種目コード!$A$1:$B$33,2,FALSE),IF(I12=2,VLOOKUP(T12,女子種目コード!$A$1:$B$28,2,FALSE))))","v":""},{"$f":"IF(T12=\"\",\"\",HLOOKUP(T12,名簿!$AH$3:$CH$118,7,FALSE))","v":""},"","",null,{"$f":"IF(Y12=\"\",\"\",IF(I12=1,VLOOKUP(Y12,男子種目コード!$A$1:$B$33,2,FALSE),IF(I12=2,VLOOKUP(Y12,女子種目コード!$A$1:$B$27,2,FALSE))))","v":""},null,null,null,null,"","",null,null,null,null,null,null,10000,"","",null,null,null,0,1500,{"$f":"COUNTIF($P$7:$P$116,5)+COUNTIF($U$7:$U$116,5)","v":0},null,null,null,10000,10000,null,null,null,null,"","",{"$f":"VLookUpX(13,$A$7:$F$116,5,5)","v":{"$error":"#N/A"}},{"$f":"VLookUpX(13,$A$7:$F$116,5,6)","v":{"$error":"#N/A"}}]
["",{"$f":"名簿!P10","v":""},null,null,{"$f":"名簿!E10","v":0},{"$f":"名簿!CM10","v":""},{"$f":"名簿!Z10","v":""},{"$f":"名簿!CM10","v":""},{"$f":"名簿!Y10","v":""},{"$f":"名簿!CN10","v":""},{"$f":"名簿!CP10","v":0},{"$f":"名簿!CU10","v":"00"},{"$f":"名簿!Q10","v":""},{"$f":"名簿!$AA$6","v":"23"},null,{"$f":"IF(O13=\"\",\"\",IF(I13=1,VLOOKUP(O13,男子種目コード!$A$1:$B$33,2,FALSE),IF(I13=2,VLOOKUP(O13,女子種目コード!$A$1:$B$28,2,FALSE))))","v":""},{"$f":"IF(O13=\"\",\"\",HLOOKUP(O13,名簿!$AH$3:$CH$118,8,FALSE))","v":""},"","",null,{"$f":"IF(T13=\"\",\"\",IF(I13=1,VLOOKUP(T13,男子種目コード!$A$1:$B$33,2,FALSE),IF(I13=2,VLOOKUP(T13,女子種目コード!$A$1:$B$28,2,FALSE))))","v":""},{"$f":"IF(T13=\"\",\"\",HLOOKUP(T13,名簿!$AH$3:$CH$118,8,FALSE))","v":""},"","",null,{"$f":"IF(Y13=\"\",\"\",IF(I13=1,VLOOKUP(Y13,男子種目コード!$A$1:$B$33,2,FALSE),IF(I13=2,VLOOKUP(Y13,女子種目コード!$A$1:$B$27,2,FALSE))))","v":""},null,null,null,null,"","",null,null,null,null,null,null,"100H","","",null,null,null,0,"少年3000",{"$f":"COUNTIF($P$7:$P$116,24)+COUNTIF($U$7:$U$116,24)","v":0},null,null,null,"110H","100H",null,null,null,null,"","",{"$f":"VLookUpX(13,$A$7:$F$116,6,5)","v":{"$error":"#N/A"}},{"$f":"VLookUpX(13,$A$7:$F$116,6,6)","v":{"$error":"#N/A"}}]
["",{"$f":"名簿!P11","v":""},null,null,{"$f":"名簿!E11","v":0},{"$f":"名簿!CM11","v":""},{"$f":"名簿!Z11","v":""},{"$f":"名簿!CM11","v":""},{"$f":"名簿!Y11","v":""},{"$f":"名簿!CN11","v":""},{"$f":"名簿!CP11","v":0},{"$f":"名簿!CU11","v":"00"},{"$f":"名簿!Q11","v":""},{"$f":"名簿!$AA$6","v":"23"},null,{"$f":"IF(O14=\"\",\"\",IF(I14=1,VLOOKUP(O14,男子種目コード!$A$1:$B$33,2,FALSE),IF(I14=2,VLOOKUP(O14,女子種目コード!$A$1:$B$28,2,FALSE))))","v":""},{"$f":"IF(O14=\"\",\"\",HLOOKUP(O14,名簿!$AH$3:$CH$118,9,FALSE))","v":""},"","",null,{"$f":"IF(T14=\"\",\"\",IF(I14=1,VLOOKUP(T14,男子種目コード!$A$1:$B$33,2,FALSE),IF(I14=2,VLOOKUP(T14,女子種目コード!$A$1:$B$28,2,FALSE))))","v":""},{"$f":"IF(T14=\"\",\"\",HLOOKUP(T14,名簿!$AH$3:$CH$118,9,FALSE))","v":""},"","",null,{"$f":"IF(Y14=\"\",\"\",IF(I14=1,VLOOKUP(Y14,男子種目コード!$A$1:$B$33,2,FALSE),IF(I14=2,VLOOKUP(Y14,女子種目コード!$A$1:$B$27,2,FALSE))))","v":""},null,null,null,null,"","",null,null,null,null,null,null,"110H","","",null,null,null,0,5000,{"$f":"COUNTIF($P$7:$P$116,6)+COUNTIF($U$7:$U$116,6)","v":0},null,null,null,"400H","400H",null,null,null,null,"女子4×100mR"]
["",{"$f":"名簿!P12","v":""},null,null,{"$f":"名簿!E12","v":0},{"$f":"名簿!CM12","v":""},{"$f":"名簿!Z12","v":""},{"$f":"名簿!CM12","v":""},{"$f":"名簿!Y12","v":""},{"$f":"名簿!CN12","v":""},{"$f":"名簿!CP12","v":0},{"$f":"名簿!CU12","v":"00"},{"$f":"名簿!Q12","v":""},{"$f":"名簿!$AA$6","v":"23"},null,{"$f":"IF(O15=\"\",\"\",IF(I15=1,VLOOKUP(O15,男子種目コード!$A$1:$B$33,2,FALSE),IF(I15=2,VLOOKUP(O15,女子種目コード!$A$1:$B$28,2,FALSE))))","v":""},{"$f":"IF(O15=\"\",\"\",HLOOKUP(O15,名簿!$AH$3:$CH$118,10,FALSE))","v":""},"","",null,{"$f":"IF(T15=\"\",\"\",IF(I15=1,VLOOKUP(T15,男子種目コード!$A$1:$B$33,2,FALSE),IF(I15=2,VLOOKUP(T15,女子種目コード!$A$1:$B$28,2,FALSE))))","v":""},{"$f":"IF(T15=\"\",\"\",HLOOKUP(T15,名簿!$AH$3:$CH$118,10,FALSE))","v":""},"","",null,{"$f":"IF(Y15=\"\",\"\",IF(I15=1,VLOOKUP(Y15,男子種目コード!$A$1:$B$33,2,FALSE),IF(I15=2,VLOOKUP(Y15,女子種目コード!$A$1:$B$27,2,FALSE))))","v":""},null,null,null,null,"","",null,null,null,null,null,null,"400H","","",null,null,null,0,10000,{"$f":"COUNTIF($P$7:$P$116,7)+COUNTIF($U$7:$U$116,7)","v":0},null,null,null,"3000SC","3000SC",null,null,null,null,"記録"]
["",{"$f":"名簿!P13","v":""},null,null,{"$f":"名簿!E13","v":0},{"$f":"名簿!CM13","v":""},{"$f":"名簿!Z13","v":""},{"$f":"名簿!CM13","v":""},{"$f":"名簿!Y13","v":""},{"$f":"名簿!CN13","v":""},{"$f":"名簿!CP13","v":0},{"$f":"名簿!CU13","v":"00"},{"$f":"名簿!Q13","v":""},{"$f":"名簿!$AA$6","v":"23"},null,{"$f":"IF(O16=\"\",\"\",IF(I16=1,VLOOKUP(O16,男子種目コード!$A$1:$B$33,2,FALSE),IF(I16=2,VLOOKUP(O16,女子種目コード!$A$1:$B$28,2,FALSE))))","v":""},{"$f":"IF(O16=\"\",\"\",HLOOKUP(O16,名簿!$AH$3:$CH$118,11,FALSE))","v":""},"","",null,{"$f":"IF(T16=\"\",\"\",IF(I16=1,VLOOKUP(T16,男子種目コード!$A$1:$B$33,2,FALSE),IF(I16=2,VLOOKUP(T16,女子種目コード!$A$1:$B$28,2,FALSE))))","v":""},{"$f":"IF(T16=\"\",\"\",HLOOKUP(T16,名簿!$AH$3:$CH$118,11,FALSE))","v":""},"","",null,{"$f":"IF(Y16=\"\",\"\",IF(I16=1,VLOOKUP(Y16,男子種目コード!$A$1:$B$33,2,FALSE),IF(I16=2,VLOOKUP(Y16,女子種目コード!$A$1:$B$27,2,FALSE))))","v":""},null,null,null,null,"","",null,null,null,null,null,null,"3000SC","","",null,null,null,0,"110H",{"$f":"COUNTIF($P$7:$P$116,8)+COUNTIF($U$7:$U$116,8)","v":0},null,null,null,"5000W","5000W",null,null,null,null,{"$f":"IF(ISERROR(BG16),\"\",BG16)","v":""},"",{"$f":"VLookUpX(53,$A$7:$F$116,1,5)","v":{"$error":"#N/A"}},{"$f":"VLookUpX(53,$A$7:$F$116,1,6)","v":{"$error":"#N/A"}}]
["",{"$f":"名簿!P14","v":""},null,null,{"$f":"名簿!E14","v":0},{"$f":"名簿!CM14","v":""},{"$f":"名簿!Z14","v":""},{"$f":"名簿!CM14","v":""},{"$f":"名簿!Y14","v":""},{"$f":"名簿!CN14","v":""},{"$f":"名簿!CP14","v":0},{"$f":"名簿!CU14","v":"00"},{"$f":"名簿!Q14","v":""},{"$f":"名簿!$AA$6","v":"23"},null,{"$f":"IF(O17=\"\",\"\",IF(I17=1,VLOOKUP(O17,男子種目コード!$A$1:$B$33,2,FALSE),IF(I17=2,VLOOKUP(O17,女子種目コード!$A$1:$B$28,2,FALSE))))","v":""},{"$f":"IF(O17=\"\",\"\",HLOOKUP(O17,名簿!$AH$3:$CH$118,12,FALSE))","v":""},"","",null,{"$f":"IF(T17=\"\",\"\",IF(I17=1,VLOOKUP(T17,男子種目コード!$A$1:$B$33,2,FALSE),IF(I17=2,VLOOKUP(T17,女子種目コード!$A$1:$B$28,2,FALSE))))","v":""},{"$f":"IF(T17=\"\",\"\",HLOOKUP(T17,名簿!$AH$3:$CH$118,12,FALSE))","v":""},"","",null,{"$f":"IF(Y17=\"\",\"\",IF(I17=1,VLOOKUP(Y17,男子種目コード!$A$1:$B$33,2,FALSE),IF(I17=2,VLOOKUP(Y17,女子種目コード!$A$1:$B$27,2,FALSE))))","v":""},null,null,null,null,"","",null,null,null,null,null,null,"5000W","","",null,null,null,0,"400H",{"$f":"COUNTIF($P$7:$P$116,9)+COUNTIF($U$7:$U$116,9)","v":0},null,null,null,"走高跳","走高跳",null,null,null,null,"","",{"$f":"VLookUpX(53,$A$7:$F$116,2,5)","v":{"$error":"#N/A"}},{"$f":"VLookUpX(53,$A$7:$F$116,2,6)","v":{"$error":"#N/A"}}]
["",{"$f":"名簿!P15","v":""},null,null,{"$f":"名簿!E15","v":0},{"$f":"名簿!CM15","v":""},{"$f":"名簿!Z15","v":""},{"$f":"名簿!CM15","v":""},{"$f":"名簿!Y15","v":""},{"$f":"名簿!CN15","v":""},{"$f":"名簿!CP15","v":0},{"$f":"名簿!CU15","v":"00"},{"$f":"名簿!Q15","v":""},{"$f":"名簿!$AA$6","v":"23"},null,{"$f":"IF(O18=\"\",\"\",IF(I18=1,VLOOKUP(O18,男子種目コード!$A$1:$B$33,2,FALSE),IF(I18=2,VLOOKUP(O18,女子種目コード!$A$1:$B$28,2,FALSE))))","v":""},{"$f":"IF(O18=\"\",\"\",HLOOKUP(O18,名簿!$AH$3:$CH$118,13,FALSE))","v":""},"","",null,{"$f":"IF(T18=\"\",\"\",IF(I18=1,VLOOKUP(T18,男子種目コード!$A$1:$B$33,2,FALSE),IF(I18=2,VLOOKUP(T18,女子種目コード!$A$1:$B$28,2,FALSE))))","v":""},{"$f":"IF(T18=\"\",\"\",HLOOKUP(T18,名簿!$AH$3:$CH$118,13,FALSE))","v":""},"","",null,{"$f":"IF(Y18=\"\",\"\",IF(I18=1,VLOOKUP(Y18,男子種目コード!$A$1:$B$33,2,FALSE),IF(I18=2,VLOOKUP(Y18,女子種目コード!$A$1:$B$27,2,FALSE))))","v":""},null,null,null,null,"","",null,null,null,null,null,null,"走高跳","","",null,null,null,0,"3000SC",{"$f":"COUNTIF($P$7:$P$116,10)+COUNTIF($U$7:$U$116,10)","v":0},null,null,null,"棒高跳","棒高跳",null,null,null,null,"","",{"$f":"VLookUpX(53,$A$7:$F$116,3,5)","v":{"$error":"#N/A"}},{"$f":"VLookUpX(53,$A$7:$F$116,3,6)","v":{"$error":"#N/A"}}]
["",{"$f":"名簿!P16","v":""},null,null,{"$f":"名簿!E16","v":0},{"$f":"名簿!CM16","v":""},{"$f":"名簿!Z16","v":""},{"$f":"名簿!CM16","v":""},{"$f":"名簿!Y16","v":""},{"$f":"名簿!CN16","v":""},{"$f":"名簿!CP16","v":0},{"$f":"名簿!CU16","v":"00"},{"$f":"名簿!Q16","v":""},{"$f":"名簿!$AA$6","v":"23"},null,{"$f":"IF(O19=\"\",\"\",IF(I19=1,VLOOKUP(O19,男子種目コード!$A$1:$B$33,2,FALSE),IF(I19=2,VLOOKUP(O19,女子種目コード!$A$1:$B$28,2,FALSE))))","v":""},{"$f":"IF(O19=\"\",\"\",HLOOKUP(O19,名簿!$AH$3:$CH$118,14,FALSE))","v":""},"","",null,{"$f":"IF(T19=\"\",\"\",IF(I19=1,VLOOKUP(T19,男子種目コード!$A$1:$B$33,2,FALSE),IF(I19=2,VLOOKUP(T19,女子種目コード!$A$1:$B$28,2,FALSE))))","v":""},{"$f":"IF(T19=\"\",\"\",HLOOKUP(T19,名簿!$AH$3:$CH$118,14,FALSE))","v":""},"","",null,{"$f":"IF(Y19=\"\",\"\",IF(I19=1,VLOOKUP(Y19,男子種目コード!$A$1:$B$33,2,FALSE),IF(I19=2,VLOOKUP(Y19,女子種目コード!$A$1:$B$27,2,FALSE))))","v":""},null,null,null,null,"","",null,null,null,null,null,null,"棒高跳","","",null,null,null,0,"5000W",{"$f":"COUNTIF($P$7:$P$116,12)+COUNTIF($U$7:$U$116,12)","v":0},null,null,null,"走幅跳","走幅跳",null,null,null,null,"","",{"$f":"VLookUpX(53,$A$7:$F$116,4,5)","v":{"$error":"#N/A"}},{"$f":"VLookUpX(53,$A$7:$F$116,4,6)","v":{"$error":"#N/A"}}]
["",{"$f":"名簿!P17","v":""},null,null,{"$f":"名簿!E17","v":0},{"$f":"名簿!CM17","v":""},{"$f":"名簿!Z17","v":""},{"$f":"名簿!CM17","v":""},{"$f":"名簿!Y17","v":""},{"$f":"名簿!CN17","v":""},{"$f":"名簿!CP17","v":0},{"$f":"名簿!CU17","v":"00"},{"$f":"名簿!Q17","v":""},{"$f":"名簿!$AA$6","v":"23"},null,{"$f":"IF(O20=\"\",\"\",IF(I20=1,VLOOKUP(O20,男子種目コード!$A$1:$B$33,2,FALSE),IF(I20=2,VLOOKUP(O20,女子種目コード!$A$1:$B$28,2,FALSE))))","v":""},{"$f":"IF(O20=\"\",\"\",HLOOKUP(O20,名簿!$AH$3:$CH$118,15,FALSE))","v":""},"","",null,{"$f":"IF(T20=\"\",\"\",IF(I20=1,VLOOKUP(T20,男子種目コード!$A$1:$B$33,2,FALSE),IF(I20=2,VLOOKUP(T20,女子種目コード!$A$1:$B$28,2,FALSE))))","v":""},{"$f":"IF(T20=\"\",\"\",HLOOKUP(T20,名簿!$AH$3:$CH$118,15,FALSE))","v":""},"","",null,{"$f":"IF(Y20=\"\",\"\",IF(I20=1,VLOOKUP(Y20,男子種目コード!$A$1:$B$33,2,FALSE),IF(I20=2,VLOOKUP(Y20,女子種目コード!$A$1:$B$27,2,FALSE))))","v":""},null,null,null,null,"","",null,null,null,null,null,null,"走幅跳","","",null,null,null,0,"走高跳",{"$f":"COUNTIF($P$7:$P$116,15)+COUNTIF($U$7:$U$116,15)","v":0},null,null,null,"三段跳","三段跳",null,null,null,null,"","",{"$f":"VLookUpX(53,$A$7:$F$116,5,5)","v":{"$error":"#N/A"}},{"$f":"VLookUpX(53,$A$7:$F$116,5,6)","v":{"$error":"#N/A"}}]
["",{"$f":"名簿!P18","v":""},null,null,{"$f":"名簿!E18","v":0},{"$f":"名簿!CM18","v":""},{"$f":"名簿!Z18","v":""},{"$f":"名簿!CM18","v":""},{"$f":"名簿!Y18","v":""},{"$f":"名簿!CN18","v":""},{"$f":"名簿!CP18","v":0},{"$f":"名簿!CU18","v":"00"},{"$f":"名簿!Q18","v":""},{"$f":"名簿!$AA$6","v":"23"},null,{"$f":"IF(O21=\"\",\"\",IF(I21=1,VLOOKUP(O21,男子種目コード!$A$1:$B$33,2,FALSE),IF(I21=2,VLOOKUP(O21,女子種目コード!$A$1:$B$28,2,FALSE))))","v":""},{"$f":"IF(O21=\"\",\"\",HLOOKUP(O21,名簿!$AH$3:$CH$118,16,FALSE))","v":""},"","",null,{"$f":"IF(T21=\"\",\"\",IF(I21=1,VLOOKUP(T21,男子種目コード!$A$1:$B$33,2,FALSE),IF(I21=2,VLOOKUP(T21,女子種目コード!$A$1:$B$28,2,FALSE))))","v":""},{"$f":"IF(T21=\"\",\"\",HLOOKUP(T21,名簿!$AH$3:$CH$118,16,FALSE))","v":""},"","",null,{"$f":"IF(Y21=\"\",\"\",IF(I21=1,VLOOKUP(Y21,男子種目コード!$A$1:$B$33,2,FALSE),IF(I21=2,VLOOKUP(Y21,女子種目コード!$A$1:$B$27,2,FALSE))))","v":""},null,null,null,null,"","",null,null,null,null,null,null,"三段跳","","",null,null,null,0,"棒高跳",{"$f":"COUNTIF($P$7:$P$116,16)+COUNTIF($U$7:$U$116,16)","v":0},null,null,null,"砲丸投","砲丸投",null,null,null,null,"","",{"$f":"VLookUpX(53,$A$7:$F$116,6,5)","v":{"$error":"#N/A"}},{"$f":"VLookUpX(53,$A$7:$F$116,6,6)","v":{"$error":"#N/A"}}]
["",{"$f":"名簿!P19","v":""},null,null,{"$f":"名簿!E19","v":0},{"$f":"名簿!CM19","v":""},{"$f":"名簿!Z19","v":""},{"$f":"名簿!CM19","v":""},{"$f":"名簿!Y19","v":""},{"$f":"名簿!CN19","v":""},{"$f":"名簿!CP19","v":0},{"$f":"名簿!CU19","v":"00"},{"$f":"名簿!Q19","v":""},{"$f":"名簿!$AA$6","v":"23"},null,{"$f":"IF(O22=\"\",\"\",IF(I22=1,VLOOKUP(O22,男子種目コード!$A$1:$B$33,2,FALSE),IF(I22=2,VLOOKUP(O22,女子種目コード!$A$1:$B$28,2,FALSE))))","v":""},{"$f":"IF(O22=\"\",\"\",HLOOKUP(O22,名簿!$AH$3:$CH$118,17,FALSE))","v":""},"","",null,{"$f":"IF(T22=\"\",\"\",IF(I22=1,VLOOKUP(T22,男子種目コード!$A$1:$B$33,2,FALSE),IF(I22=2,VLOOKUP(T22,女子種目コード!$A$1:$B$28,2,FALSE))))","v":""},{"$f":"IF(T22=\"\",\"\",HLOOKUP(T22,名簿!$AH$3:$CH$118,17,FALSE))","v":""},"","",null,{"$f":"IF(Y22=\"\",\"\",IF(I22=1,VLOOKUP(Y22,男子種目コード!$A$1:$B$33,2,FALSE),IF(I22=2,VLOOKUP(Y22,女子種目コード!$A$1:$B$27,2,FALSE))))","v":""},null,null,null,null,"","",null,null,null,null,null,null,"砲丸投","","",null,null,null,0,"走幅跳",{"$f":"COUNTIF($P$7:$P$116,17)+COUNTIF($U$7:$U$116,17)","v":0},null,null,null,"円盤投","円盤投"]
["",{"$f":"名簿!P20","v":""},null,null,{"$f":"名簿!E20","v":0},{"$f":"名簿!CM20","v":""},{"$f":"名簿!Z20","v":""},{"$f":"名簿!CM20","v":""},{"$f":"名簿!Y20","v":""},{"$f":"名簿!CN20","v":""},{"$f":"名簿!CP20","v":0},{"$f":"名簿!CU20","v":"00"},{"$f":"名簿!Q20","v":""},{"$f":"名簿!$AA$6","v":"23"},null,{"$f":"IF(O23=\"\",\"\",IF(I23=1,VLOOKUP(O23,男子種目コード!$A$1:$B$33,2,FALSE),IF(I23=2,VLOOKUP(O23,女子種目コード!$A$1:$B$28,2,FALSE))))","v":""},{"$f":"IF(O23=\"\",\"\",HLOOKUP(O23,名簿!$AH$3:$CH$118,18,FALSE))","v":""},"","",null,{"$f":"IF(T23=\"\",\"\",IF(I23=1,VLOOKUP(T23,男子種目コード!$A$1:$B$33,2,FALSE),IF(I23=2,VLOOKUP(T23,女子種目コード!$A$1:$B$28,2,FALSE))))","v":""},{"$f":"IF(T23=\"\",\"\",HLOOKUP(T23,名簿!$AH$3:$CH$118,18,FALSE))","v":""},"","",null,{"$f":"IF(Y23=\"\",\"\",IF(I23=1,VLOOKUP(Y23,男子種目コード!$A$1:$B$33,2,FALSE),IF(I23=2,VLOOKUP(Y23,女子種目コード!$A$1:$B$27,2,FALSE))))","v":""},null,null,null,null,"","",null,null,null,null,null,null,"円盤投","","",null,null,null,0,"三段跳",{"$f":"COUNTIF($P$7:$P$116,18)+COUNTIF($U$7:$U$116,18)","v":0},null,null,null,"やり投","やり投"]
["",{"$f":"名簿!P21","v":""},null,null,{"$f":"名簿!E21","v":0},{"$f":"名簿!CM21","v":""},{"$f":"名簿!Z21","v":""},{"$f":"名簿!CM21","v":""},{"$f":"名簿!Y21","v":""},{"$f":"名簿!CN21","v":""},{"$f":"名簿!CP21","v":0},{"$f":"名簿!CU21","v":"00"},{"$f":"名簿!Q21","v":""},{"$f":"名簿!$AA$6","v":"23"},null,{"$f":"IF(O24=\"\",\"\",IF(I24=1,VLOOKUP(O24,男子種目コード!$A$1:$B$33,2,FALSE),IF(I24=2,VLOOKUP(O24,女子種目コード!$A$1:$B$28,2,FALSE))))","v":""},{"$f":"IF(O24=\"\",\"\",HLOOKUP(O24,名簿!$AH$3:$CH$118,19,FALSE))","v":""},"","",null,{"$f":"IF(T24=\"\",\"\",IF(I24=1,VLOOKUP(T24,男子種目コード!$A$1:$B$33,2,FALSE),IF(I24=2,VLOOKUP(T24,女子種目コード!$A$1:$B$28,2,FALSE))))","v":""},{"$f":"IF(T24=\"\",\"\",HLOOKUP(T24,名簿!$AH$3:$CH$118,19,FALSE))","v":""},"","",null,{"$f":"IF(Y24=\"\",\"\",IF(I24=1,VLOOKUP(Y24,男子種目コード!$A$1:$B$33,2,FALSE),IF(I24=2,VLOOKUP(Y24,女子種目コード!$A$1:$B$27,2,FALSE))))","v":""},null,null,null,null,"","",null,null,null,null,null,null,"やり投","","",null,null,null,0,"砲丸投",{"$f":"COUNTIF($P$7:$P$116,19)+COUNTIF($U$7:$U$116,19)","v":0},null,null,null,"ハンマー投","ハンマー投"]
["",{"$f":"名簿!P22","v":""},null,null,{"$f":"名簿!E22","v":0},{"$f":"名簿!CM22","v":""},{"$f":"名簿!Z22","v":""},{"$f":"名簿!CM22","v":""},{"$f":"名簿!Y22","v":""},{"$f":"名簿!CN22","v":""},{"$f":"名簿!CP22","v":0},{"$f":"名簿!CU22","v":"00"},{"$f":"名簿!Q22","v":""},{"$f":"名簿!$AA$6","v":"23"},null,{"$f":"IF(O25=\"\",\"\",IF(I25=1,VLOOKUP(O25,男子種目コード!$A$1:$B$33,2,FALSE),IF(I25=2,VLOOKUP(O25,女子種目コード!$A$1:$B$28,2,FALSE))))","v":""},{"$f":"IF(O25=\"\",\"\",HLOOKUP(O25,名簿!$AH$3:$CH$118,20,FALSE))","v":""},"","",null,{"$f":"IF(T25=\"\",\"\",IF(I25=1,VLOOKUP(T25,男子種目コード!$A$1:$B$33,2,FALSE),IF(I25=2,VLOOKUP(T25,女子種目コード!$A$1:$B$28,2,FALSE))))","v":""},{"$f":"IF(T25=\"\",\"\",HLOOKUP(T25,名簿!$AH$3:$CH$118,20,FALSE))","v":""},"","",null,{"$f":"IF(Y25=\"\",\"\",IF(I25=1,VLOOKUP(Y25,男子種目コード!$A$1:$B$33,2,FALSE),IF(I25=2,VLOOKUP(Y25,女子種目コード!$A$1:$B$27,2,FALSE))))","v":""},null,null,null,null,"","",null,null,null,null,null,null,"ハンマー投","","",null,null,null,0,"円盤投",{"$f":"COUNTIF($P$7:$P$116,20)+COUNTIF($U$7:$U$116,20)","v":0},null,null,null,"少年3000","少年3000"]
["",{"$f":"名簿!P23","v":""},null,null,{"$f":"名簿!E23","v":0},{"$f":"名簿!CM23","v":""},{"$f":"名簿!Z23","v":""},{"$f":"名簿!CM23","v":""},{"$f":"名簿!Y23","v":""},{"$f":"名簿!CN23","v":""},{"$f":"名簿!CP23","v":0},{"$f":"名簿!CU23","v":"00"},{"$f":"名簿!Q23","v":""},{"$f":"名簿!$AA$6","v":"23"},null,{"$f":"IF(O26=\"\",\"\",IF(I26=1,VLOOKUP(O26,男子種目コード!$A$1:$B$33,2,FALSE),IF(I26=2,VLOOKUP(O26,女子種目コード!$A$1:$B$28,2,FALSE))))","v":""},{"$f":"IF(O26=\"\",\"\",HLOOKUP(O26,名簿!$AH$3:$CH$118,21,FALSE))","v":""},"","",null,{"$f":"IF(T26=\"\",\"\",IF(I26=1,VLOOKUP(T26,男子種目コード!$A$1:$B$33,2,FALSE),IF(I26=2,VLOOKUP(T26,女子種目コード!$A$1:$B$28,2,FALSE))))","v":""},{"$f":"IF(T26=\"\",\"\",HLOOKUP(T26,名簿!$AH$3:$CH$118,21,FALSE))","v":""},"","",null,{"$f":"IF(Y26=\"\",\"\",IF(I26=1,VLOOKUP(Y26,男子種目コード!$A$1:$B$33,2,FALSE),IF(I26=2,VLOOKUP(Y26,女子種目コード!$A$1:$B$27,2,FALSE))))","v":""},null,null,null,null,"","",null,null,null,null,null,null,"少年3000","","",null,null,null,0,"やり投",{"$f":"COUNTIF($P$7:$P$116,21)+COUNTIF($U$7:$U$116,21)","v":0},null,null,null,"少年B100","少年B100"]
["",{"$f":"名簿!P24","v":""},null,null,{"$f":"名簿!E24","v":0},{"$f":"名簿!CM24","v":""},{"$f":"名簿!Z24","v":""},{"$f":"名簿!CM24","v":""},{"$f":"名簿!Y24","v":""},{"$f":"名簿!CN24","v":""},{"$f":"名簿!CP24","v":0},{"$f":"名簿!CU24","v":"00"},{"$f":"名簿!Q24","v":""},{"$f":"名簿!$AA$6","v":"23"},null,{"$f":"IF(O27=\"\",\"\",IF(I27=1,VLOOKUP(O27,男子種目コード!$A$1:$B$33,2,FALSE),IF(I27=2,VLOOKUP(O27,女子種目コード!$A$1:$B$28,2,FALSE))))","v":""},{"$f":"IF(O27=\"\",\"\",HLOOKUP(O27,名簿!$AH$3:$CH$118,22,FALSE))","v":""},"","",null,{"$f":"IF(T27=\"\",\"\",IF(I27=1,VLOOKUP(T27,男子種目コード!$A$1:$B$33,2,FALSE),IF(I27=2,VLOOKUP(T27,女子種目コード!$A$1:$B$28,2,FALSE))))","v":""},{"$f":"IF(T27=\"\",\"\",HLOOKUP(T27,名簿!$AH$3:$CH$118,22,FALSE))","v":""},"","",null,{"$f":"IF(Y27=\"\",\"\",IF(I27=1,VLOOKUP(Y27,男子種目コード!$A$1:$B$33,2,FALSE),IF(I27=2,VLOOKUP(Y27,女子種目コード!$A$1:$B$27,2,FALSE))))","v":""},null,null,null,null,"","",null,null,null,null,null,null,"少年B100H","","",null,null,null,0,"ハンマー投",{"$f":"COUNTIF($P$7:$P$116,22)+COUNTIF($U$7:$U$116,22)","v":0},null,null,null,"少年砲丸投","少年B100YH"]
["",{"$f":"名簿!P25","v":""},null,null,{"$f":"名簿!E25","v":0},{"$f":"名簿!CM25","v":""},{"$f":"名簿!Z25","v":""},{"$f":"名簿!CM25","v":""},{"$f":"名簿!Y25","v":""},{"$f":"名簿!CN25","v":""},{"$f":"名簿!CP25","v":0},{"$f":"名簿!CU25","v":"00"},{"$f":"名簿!Q25","v":""},{"$f":"名簿!$AA$6","v":"23"},null,{"$f":"IF(O28=\"\",\"\",IF(I28=1,VLOOKUP(O28,男子種目コード!$A$1:$B$33,2,FALSE),IF(I28=2,VLOOKUP(O28,女子種目コード!$A$1:$B$28,2,FALSE))))","v":""},{"$f":"IF(O28=\"\",\"\",HLOOKUP(O28,名簿!$AH$3:$CH$118,23,FALSE))","v":""},"","",null,{"$f":"IF(T28=\"\",\"\",IF(I28=1,VLOOKUP(T28,男子種目コード!$A$1:$B$33,2,FALSE),IF(I28=2,VLOOKUP(T28,女子種目コード!$A$1:$B$28,2,FALSE))))","v":""},{"$f":"IF(T28=\"\",\"\",HLOOKUP(T28,名簿!$AH$3:$CH$118,23,FALSE))","v":""},"","",null,{"$f":"IF(Y28=\"\",\"\",IF(I28=1,VLOOKUP(Y28,男子種目コード!$A$1:$B$33,2,FALSE),IF(I28=2,VLOOKUP(Y28,女子種目コード!$A$1:$B$27,2,FALSE))))","v":""},null,null,null,null,"","",null,null,null,null,null,null,"少年B110JH","","",null,null,null,0,"少年B100",{"$f":"COUNTIF($P$7:$P$116,28)+COUNTIF($U$7:$U$116,28)","v":0},null,null,null,"少年円盤投","4×100"]
["",{"$f":"名簿!P26","v":""},null,null,{"$f":"名簿!E26","v":0},{"$f":"名簿!CM26","v":""},{"$f":"名簿!Z26","v":""},{"$f":"名簿!CM26","v":""},{"$f":"名簿!Y26","v":""},{"$f":"名簿!CN26","v":""},{"$f":"名簿!CP26","v":0},{"$f":"名簿!CU26","v":"00"},{"$f":"名簿!Q26","v":""},{"$f":"名簿!$AA$6","v":"23"},null,{"$f":"IF(O29=\"\",\"\",IF(I29=1,VLOOKUP(O29,男子種目コード!$A$1:$B$33,2,FALSE),IF(I29=2,VLOOKUP(O29,女子種目コード!$A$1:$B$28,2,FALSE))))","v":""},{"$f":"IF(O29=\"\",\"\",HLOOKUP(O29,名簿!$AH$3:$CH$118,24,FALSE))","v":""},"","",null,{"$f":"IF(T29=\"\",\"\",IF(I29=1,VLOOKUP(T29,男子種目コード!$A$1:$B$33,2,FALSE),IF(I29=2,VLOOKUP(T29,女子種目コード!$A$1:$B$28,2,FALSE))))","v":""},{"$f":"IF(T29=\"\",\"\",HLOOKUP(T29,名簿!$AH$3:$CH$118,24,FALSE))","v":""},"","",null,{"$f":"IF(Y29=\"\",\"\",IF(I29=1,VLOOKUP(Y29,男子種目コード!$A$1:$B$33,2,FALSE),IF(I29=2,VLOOKUP(Y29,女子種目コード!$A$1:$B$27,2,FALSE))))","v":""},null,null,null,null,"","",null,null,null,null,null,null,"少年砲丸投","","",null,null,null,0,"少年B走幅跳",{"$f":"COUNTIF($P$7:$P$116,30)+COUNTIF($U$7:$U$116,30)","v":0},null,null,null,"少年B走幅跳"]
["",{"$f":"名簿!P27","v":""},null,null,{"$f":"名簿!E27","v":0},{"$f":"名簿!CM27","v":""},{"$f":"名簿!Z27","v":""},{"$f":"名簿!CM27","v":""},{"$f":"名簿!Y27","v":""},{"$f":"名簿!CN27","v":""},{"$f":"名簿!CP27","v":0},{"$f":"名簿!CU27","v":"00"},{"$f":"名簿!Q27","v":""},{"$f":"名簿!$AA$6","v":"23"},null,{"$f":"IF(O30=\"\",\"\",IF(I30=1,VLOOKUP(O30,男子種目コード!$A$1:$B$33,2,FALSE),IF(I30=2,VLOOKUP(O30,女子種目コード!$A$1:$B$28,2,FALSE))))","v":""},{"$f":"IF(O30=\"\",\"\",HLOOKUP(O30,名簿!$AH$3:$CH$118,25,FALSE))","v":""},"","",null,{"$f":"IF(T30=\"\",\"\",IF(I30=1,VLOOKUP(T30,男子種目コード!$A$1:$B$33,2,FALSE),IF(I30=2,VLOOKUP(T30,女子種目コード!$A$1:$B$28,2,FALSE))))","v":""},{"$f":"IF(T30=\"\",\"\",HLOOKUP(T30,名簿!$AH$3:$CH$118,25,FALSE))","v":""},"","",null,{"$f":"IF(Y30=\"\",\"\",IF(I30=1,VLOOKUP(Y30,男子種目コード!$A$1:$B$33,2,FALSE),IF(I30=2,VLOOKUP(Y30,女子種目コード!$A$1:$B$27,2,FALSE))))","v":""},null,null,null,null,"","",null,null,null,null,null,null,"少年円盤投","","",null,null,null,0,"少年砲丸投",{"$f":"COUNTIF($P$7:$P$116,25)+COUNTIF($U$7:$U$116,25)","v":0},null,null,null,"少年B砲丸投"]
["",{"$f":"名簿!P28","v":""},null,null,{"$f":"名簿!E28","v":0},{"$f":"名簿!CM28","v":""},{"$f":"名簿!Z28","v":""},{"$f":"名簿!CM28","v":""},{"$f":"名簿!Y28","v":""},{"$f":"名簿!CN28","v":""},{"$f":"名簿!CP28","v":0},{"$f":"名簿!CU28","v":"00"},{"$f":"名簿!Q28","v":""},{"$f":"名簿!$AA$6","v":"23"},null,{"$f":"IF(O31=\"\",\"\",IF(I31=1,VLOOKUP(O31,男子種目コード!$A$1:$B$33,2,FALSE),IF(I31=2,VLOOKUP(O31,女子種目コード!$A$1:$B$28,2,FALSE))))","v":""},{"$f":"IF(O31=\"\",\"\",HLOOKUP(O31,名簿!$AH$3:$CH$118,26,FALSE))","v":""},"","",null,{"$f":"IF(T31=\"\",\"\",IF(I31=1,VLOOKUP(T31,男子種目コード!$A$1:$B$33,2,FALSE),IF(I31=2,VLOOKUP(T31,女子種目コード!$A$1:$B$28,2,FALSE))))","v":""},{"$f":"IF(T31=\"\",\"\",HLOOKUP(T31,名簿!$AH$3:$CH$118,26,FALSE))","v":""},"","",null,{"$f":"IF(Y31=\"\",\"\",IF(I31=1,VLOOKUP(Y31,男子種目コード!$A$1:$B$33,2,FALSE),IF(I31=2,VLOOKUP(Y31,女子種目コード!$A$1:$B$27,2,FALSE))))","v":""},null,null,null,null,"","",null,null,null,null,null,null,"少年ハンマー投","","",null,null,null,0,"少年円盤投",{"$f":"COUNTIF($P$7:$P$116,26)+COUNTIF($U$7:$U$116,26)","v":0},null,null,null,"少年ハンマー投"]
["",{"$f":"名簿!P29","v":""},null,null,{"$f":"名簿!E29","v":0},{"$f":"名簿!CM29","v":""},{"$f":"名簿!Z29","v":""},{"$f":"名簿!CM29","v":""},{"$f":"名簿!Y29","v":""},{"$f":"名簿!CN29","v":""},{"$f":"名簿!CP29","v":0},{"$f":"名簿!CU29","v":"00"},{"$f":"名簿!Q29","v":""},{"$f":"名簿!$AA$6","v":"23"},null,{"$f":"IF(O32=\"\",\"\",IF(I32=1,VLOOKUP(O32,男子種目コード!$A$1:$B$33,2,FALSE),IF(I32=2,VLOOKUP(O32,女子種目コード!$A$1:$B$28,2,FALSE))))","v":""},{"$f":"IF(O32=\"\",\"\",HLOOKUP(O32,名簿!$AH$3:$CH$118,27,FALSE))","v":""},"","",null,{"$f":"IF(T32=\"\",\"\",IF(I32=1,VLOOKUP(T32,男子種目コード!$A$1:$B$33,2,FALSE),IF(I32=2,VLOOKUP(T32,女子種目コード!$A$1:$B$28,2,FALSE))))","v":""},{"$f":"IF(T32=\"\",\"\",HLOOKUP(T32,名簿!$AH$3:$CH$118,27,FALSE))","v":""},"","",null,{"$f":"IF(Y32=\"\",\"\",IF(I32=1,VLOOKUP(Y32,男子種目コード!$A$1:$B$33,2,FALSE),IF(I32=2,VLOOKUP(Y32,女子種目コード!$A$1:$B$27,2,FALSE))))","v":""},null,null,null,null,"","",null,null,null,null,null,null,"男子A","","",null,null,null,0,"少年B砲丸投",{"$f":"COUNTIF($P$7:$P$116,29)+COUNTIF($U$7:$U$116,29)","v":0},null,null,null,"4×100"]
["",{"$f":"名簿!P30","v":""},null,null,{"$f":"名簿!E30","v":0},{"$f":"名簿!CM30","v":""},{"$f":"名簿!Z30","v":""},{"$f":"名簿!CM30","v":""},{"$f":"名簿!Y30","v":""},{"$f":"名簿!CN30","v":""},{"$f":"名簿!CP30","v":0},{"$f":"名簿!CU30","v":"00"},{"$f":"名簿!Q30","v":""},{"$f":"名簿!$AA$6","v":"23"},null,{"$f":"IF(O33=\"\",\"\",IF(I33=1,VLOOKUP(O33,男子種目コード!$A$1:$B$33,2,FALSE),IF(I33=2,VLOOKUP(O33,女子種目コード!$A$1:$B$28,2,FALSE))))","v":""},{"$f":"IF(O33=\"\",\"\",HLOOKUP(O33,名簿!$AH$3:$CH$118,28,FALSE))","v":""},"","",null,{"$f":"IF(T33=\"\",\"\",IF(I33=1,VLOOKUP(T33,男子種目コード!$A$1:$B$33,2,FALSE),IF(I33=2,VLOOKUP(T33,女子種目コード!$A$1:$B$28,2,FALSE))))","v":""},{"$f":"IF(T33=\"\",\"\",HLOOKUP(T33,名簿!$AH$3:$CH$118,28,FALSE))","v":""},"","",null,{"$f":"IF(Y33=\"\",\"\",IF(I33=1,VLOOKUP(Y33,男子種目コード!$A$1:$B$33,2,FALSE),IF(I33=2,VLOOKUP(Y33,女子種目コード!$A$1:$B$27,2,FALSE))))","v":""},null,null,null,null,"","",null,null,null,null,null,null,"男子B","","",null,null,null,0,"少年ハンマー",{"$f":"COUNTIF($P$7:$P$116,27)+COUNTIF($U$7:$U$116,27)","v":0}]
["",{"$f":"名簿!P31","v":""},null,null,{"$f":"名簿!E31","v":0},{"$f":"名簿!CM31","v":""},{"$f":"名簿!Z31","v":""},{"$f":"名簿!CM31","v":""},{"$f":"名簿!Y31","v":""},{"$f":"名簿!CN31","v":""},{"$f":"名簿!CP31","v":0},{"$f":"名簿!CU31","v":"00"},{"$f":"名簿!Q31","v":""},{"$f":"名簿!$AA$6","v":"23"},null,{"$f":"IF(O34=\"\",\"\",IF(I34=1,VLOOKUP(O34,男子種目コード!$A$1:$B$33,2,FALSE),IF(I34=2,VLOOKUP(O34,女子種目コード!$A$1:$B$28,2,FALSE))))","v":""},{"$f":"IF(O34=\"\",\"\",HLOOKUP(O34,名簿!$AH$3:$CH$118,29,FALSE))","v":""},"","",null,{"$f":"IF(T34=\"\",\"\",IF(I34=1,VLOOKUP(T34,男子種目コード!$A$1:$B$33,2,FALSE),IF(I34=2,VLOOKUP(T34,女子種目コード!$A$1:$B$28,2,FALSE))))","v":""},{"$f":"IF(T34=\"\",\"\",HLOOKUP(T34,名簿!$AH$3:$CH$118,29,FALSE))","v":""},"","",null,{"$f":"IF(Y34=\"\",\"\",IF(I34=1,VLOOKUP(Y34,男子種目コード!$A$1:$B$33,2,FALSE),IF(I34=2,VLOOKUP(Y34,女子種目コード!$A$1:$B$27,2,FALSE))))","v":""},null,null,null,null,"","",null,null,null,null,null,null,"男子C","","",null,null,null,0,"計",{"$f":"SUM(AU8:AU33)","v":0}]
["",{"$f":"名簿!P32","v":""},null,null,{"$f":"名簿!E32","v":0},{"$f":"名簿!CM32","v":""},{"$f":"名簿!Z32","v":""},{"$f":"名簿!CM32","v":""},{"$f":"名簿!Y32","v":""},{"$f":"名簿!CN32","v":""},{"$f":"名簿!CP32","v":0},{"$f":"名簿!CU32","v":"00"},{"$f":"名簿!Q32","v":""},{"$f":"名簿!$AA$6","v":"23"},null,{"$f":"IF(O35=\"\",\"\",IF(I35=1,VLOOKUP(O35,男子種目コード!$A$1:$B$33,2,FALSE),IF(I35=2,VLOOKUP(O35,女子種目コード!$A$1:$B$28,2,FALSE))))","v":""},{"$f":"IF(O35=\"\",\"\",HLOOKUP(O35,名簿!$AH$3:$CH$118,30,FALSE))","v":""},"","",null,{"$f":"IF(T35=\"\",\"\",IF(I35=1,VLOOKUP(T35,男子種目コード!$A$1:$B$33,2,FALSE),IF(I35=2,VLOOKUP(T35,女子種目コード!$A$1:$B$28,2,FALSE))))","v":""},{"$f":"IF(T35=\"\",\"\",HLOOKUP(T35,名簿!$AH$3:$CH$118,30,FALSE))","v":""},"","",null,{"$f":"IF(Y35=\"\",\"\",IF(I35=1,VLOOKUP(Y35,男子種目コード!$A$1:$B$33,2,FALSE),IF(I35=2,VLOOKUP(Y35,女子種目コード!$A$1:$B$27,2,FALSE))))","v":""},null,null,null,null,"","",null,null,null,null,null,null,"女子A","","",null,null,null,0,"女子"]
["",{"$f":"名簿!P33","v":""},null,null,{"$f":"名簿!E33","v":0},{"$f":"名簿!CM33","v":""},{"$f":"名簿!Z33","v":""},{"$f":"名簿!CM33","v":""},{"$f":"名簿!Y33","v":""},{"$f":"名簿!CN33","v":""},{"$f":"名簿!CP33","v":0},{"$f":"名簿!CU33","v":"00"},{"$f":"名簿!Q33","v":""},{"$f":"名簿!$AA$6","v":"23"},null,{"$f":"IF(O36=\"\",\"\",IF(I36=1,VLOOKUP(O36,男子種目コード!$A$1:$B$33,2,FALSE),IF(I36=2,VLOOKUP(O36,女子種目コード!$A$1:$B$28,2,FALSE))))","v":""},{"$f":"IF(O36=\"\",\"\",HLOOKUP(O36,名簿!$AH$3:$CH$118,31,FALSE))","v":""},"","",null,{"$f":"IF(T36=\"\",\"\",IF(I36=1,VLOOKUP(T36,男子種目コード!$A$1:$B$33,2,FALSE),IF(I36=2,VLOOKUP(T36,女子種目コード!$A$1:$B$28,2,FALSE))))","v":""},{"$f":"IF(T36=\"\",\"\",HLOOKUP(T36,名簿!$AH$3:$CH$118,31,FALSE))","v":""},"","",null,{"$f":"IF(Y36=\"\",\"\",IF(I36=1,VLOOKUP(Y36,男子種目コード!$A$1:$B$33,2,FALSE),IF(I36=2,VLOOKUP(Y36,女子種目コード!$A$1:$B$27,2,FALSE))))","v":""},null,null,null,null,"","",null,null,null,null,null,null,"女子B","","",null,null,null,0,100,{"$f":"COUNTIF($P$7:$P$116,40)+COUNTIF($U$7:$U$116,40)","v":0}]
["",{"$f":"名簿!P34","v":""},null,null,{"$f":"名簿!E34","v":0},{"$f":"名簿!CM34","v":""},{"$f":"名簿!Z34","v":""},{"$f":"名簿!CM34","v":""},{"$f":"名簿!Y34","v":""},{"$f":"名簿!CN34","v":""},{"$f":"名簿!CP34","v":0},{"$f":"名簿!CU34","v":"00"},{"$f":"名簿!Q34","v":""},{"$f":"名簿!$AA$6","v":"23"},null,{"$f":"IF(O37=\"\",\"\",IF(I37=1,VLOOKUP(O37,男子種目コード!$A$1:$B$33,2,FALSE),IF(I37=2,VLOOKUP(O37,女子種目コード!$A$1:$B$28,2,FALSE))))","v":""},{"$f":"IF(O37=\"\",\"\",HLOOKUP(O37,名簿!$AH$3:$CH$118,32,FALSE))","v":""},"","",null,{"$f":"IF(T37=\"\",\"\",IF(I37=1,VLOOKUP(T37,男子種目コード!$A$1:$B$33,2,FALSE),IF(I37=2,VLOOKUP(T37,女子種目コード!$A$1:$B$28,2,FALSE))))","v":""},{"$f":"IF(T37=\"\",\"\",HLOOKUP(T37,名簿!$AH$3:$CH$118,32,FALSE))","v":""},"","",null,{"$f":"IF(Y37=\"\",\"\",IF(I37=1,VLOOKUP(Y37,男子種目コード!$A$1:$B$33,2,FALSE),IF(I37=2,VLOOKUP(Y37,女子種目コード!$A$1:$B$27,2,FALSE))))","v":""},null,null,null,null,"","",null,null,null,null,null,null,"女子C","","",null,null,null,0,200,{"$f":"COUNTIF($P$7:$P$116,41)+COUNTIF($U$7:$U$116,41)","v":0}]
["",{"$f":"名簿!P35","v":""},null,null,{"$f":"名簿!E35","v":0},{"$f":"名簿!CM35","v":""},{"$f":"名簿!Z35","v":""},{"$f":"名簿!CM35","v":""},{"$f":"名簿!Y35","v":""},{"$f":"名簿!CN35","v":""},{"$f":"名簿!CP35","v":0},{"$f":"名簿!CU35","v":"00"},{"$f":"名簿!Q35","v":""},{"$f":"名簿!$AA$6","v":"23"},null,{"$f":"IF(O38=\"\",\"\",IF(I38=1,VLOOKUP(O38,男子種目コード!$A$1:$B$33,2,FALSE),IF(I38=2,VLOOKUP(O38,女子種目コード!$A$1:$B$28,2,FALSE))))","v":""},{"$f":"IF(O38=\"\",\"\",HLOOKUP(O38,名簿!$AH$3:$CH$118,33,FALSE))","v":""},"","",null,{"$f":"IF(T38=\"\",\"\",IF(I38=1,VLOOKUP(T38,男子種目コード!$A$1:$B$33,2,FALSE),IF(I38=2,VLOOKUP(T38,女子種目コード!$A$1:$B$28,2,FALSE))))","v":""},{"$f":"IF(T38=\"\",\"\",HLOOKUP(T38,名簿!$AH$3:$CH$118,33,FALSE))","v":""},"","",null,{"$f":"IF(Y38=\"\",\"\",IF(I38=1,VLOOKUP(Y38,男子種目コード!$A$1:$B$33,2,FALSE),IF(I38=2,VLOOKUP(Y38,女子種目コード!$A$1:$B$27,2,FALSE))))","v":""},null,null,null,null,"","",null,null,null,null,null,null,null,"","",null,null,null,0,400,{"$f":"COUNTIF($P$7:$P$116,42)+COUNTIF($U$7:$U$116,42)","v":0}]
["",{"$f":"名簿!P36","v":""},null,null,{"$f":"名簿!E36","v":0},{"$f":"名簿!CM36","v":""},{"$f":"名簿!Z36","v":""},{"$f":"名簿!CM36","v":""},{"$f":"名簿!Y36","v":""},{"$f":"名簿!CN36","v":""},{"$f":"名簿!CP36","v":0},{"$f":"名簿!CU36","v":"00"},{"$f":"名簿!Q36","v":""},{"$f":"名簿!$AA$6","v":"23"},null,{"$f":"IF(O39=\"\",\"\",IF(I39=1,VLOOKUP(O39,男子種目コード!$A$1:$B$33,2,FALSE),IF(I39=2,VLOOKUP(O39,女子種目コード!$A$1:$B$28,2,FALSE))))","v":""},{"$f":"IF(O39=\"\",\"\",HLOOKUP(O39,名簿!$AH$3:$CH$118,34,FALSE))","v":""},"","",null,{"$f":"IF(T39=\"\",\"\",IF(I39=1,VLOOKUP(T39,男子種目コード!$A$1:$B$33,2,FALSE),IF(I39=2,VLOOKUP(T39,女子種目コード!$A$1:$B$28,2,FALSE))))","v":""},{"$f":"IF(T39=\"\",\"\",HLOOKUP(T39,名簿!$AH$3:$CH$118,34,FALSE))","v":""},"","",null,{"$f":"IF(Y39=\"\",\"\",IF(I39=1,VLOOKUP(Y39,男子種目コード!$A$1:$B$33,2,FALSE),IF(I39=2,VLOOKUP(Y39,女子種目コード!$A$1:$B$27,2,FALSE))))","v":""},null,null,null,null,"","",null,null,null,null,null,null,null,{"$f":"IF(O39=\"\",\"\",1)","v":""},{"$f":"IF(T39=\"\",\"\",1)","v":""},null,null,null,{"$f":"E39","v":0},800,{"$f":"COUNTIF($P$7:$P$116,43)+COUNTIF($U$7:$U$116,43)","v":0}]
["",{"$f":"名簿!P37","v":""},null,null,{"$f":"名簿!E37","v":0},{"$f":"名簿!CM37","v":""},{"$f":"名簿!Z37","v":""},{"$f":"名簿!CM37","v":""},{"$f":"名簿!Y37","v":""},{"$f":"名簿!CN37","v":""},{"$f":"名簿!CP37","v":0},{"$f":"名簿!CU37","v":"00"},{"$f":"名簿!Q37","v":""},{"$f":"名簿!$AA$6","v":"23"},null,{"$f":"IF(O40=\"\",\"\",IF(I40=1,VLOOKUP(O40,男子種目コード!$A$1:$B$33,2,FALSE),IF(I40=2,VLOOKUP(O40,女子種目コード!$A$1:$B$28,2,FALSE))))","v":""},{"$f":"IF(O40=\"\",\"\",HLOOKUP(O40,名簿!$AH$3:$CH$118,35,FALSE))","v":""},"","",null,{"$f":"IF(T40=\"\",\"\",IF(I40=1,VLOOKUP(T40,男子種目コード!$A$1:$B$33,2,FALSE),IF(I40=2,VLOOKUP(T40,女子種目コード!$A$1:$B$28,2,FALSE))))","v":""},{"$f":"IF(T40=\"\",\"\",HLOOKUP(T40,名簿!$AH$3:$CH$118,35,FALSE))","v":""},"","",null,{"$f":"IF(Y40=\"\",\"\",IF(I40=1,VLOOKUP(Y40,男子種目コード!$A$1:$B$33,2,FALSE),IF(I40=2,VLOOKUP(Y40,女子種目コード!$A$1:$B$27,2,FALSE))))","v":""},null,null,null,null,"","",null,null,null,null,null,null,null,"","",null,null,null,0,1500,{"$f":"COUNTIF($P$7:$P$116,44)+COUNTIF($U$7:$U$116,44)","v":0}]
["",{"$f":"名簿!P38","v":""},null,null,{"$f":"名簿!E38","v":0},{"$f":"名簿!CM38","v":""},{"$f":"名簿!Z38","v":""},{"$f":"名簿!CM38","v":""},{"$f":"名簿!Y38","v":""},{"$f":"名簿!CN38","v":""},{"$f":"名簿!CP38","v":0},{"$f":"名簿!CU38","v":"00"},{"$f":"名簿!Q38","v":""},{"$f":"名簿!$AA$6","v":"23"},null,{"$f":"IF(O41=\"\",\"\",IF(I41=1,VLOOKUP(O41,男子種目コード!$A$1:$B$33,2,FALSE),IF(I41=2,VLOOKUP(O41,女子種目コード!$A$1:$B$28,2,FALSE))))","v":""},{"$f":"IF(O41=\"\",\"\",HLOOKUP(O41,名簿!$AH$3:$CH$118,36,FALSE))","v":""},"","",null,{"$f":"IF(T41=\"\",\"\",IF(I41=1,VLOOKUP(T41,男子種目コード!$A$1:$B$33,2,FALSE),IF(I41=2,VLOOKUP(T41,女子種目コード!$A$1:$B$28,2,FALSE))))","v":""},{"$f":"IF(T41=\"\",\"\",HLOOKUP(T41,名簿!$AH$3:$CH$118,36,FALSE))","v":""},"","",null,{"$f":"IF(Y41=\"\",\"\",IF(I41=1,VLOOKUP(Y41,男子種目コード!$A$1:$B$33,2,FALSE),IF(I41=2,VLOOKUP(Y41,女子種目コード!$A$1:$B$27,2,FALSE))))","v":""},null,null,null,null,"","",null,null,null,null,null,null,null,"","",null,null,null,0,"少年3000",{"$f":"COUNTIF($P$7:$P$116,64)+COUNTIF($U$7:$U$116,64)","v":0}]
["",{"$f":"名簿!P39","v":""},null,null,{"$f":"名簿!E39","v":0},{"$f":"名簿!CM39","v":""},{"$f":"名簿!Z39","v":""},{"$f":"名簿!CM39","v":""},{"$f":"名簿!Y39","v":""},{"$f":"名簿!CN39","v":""},{"$f":"名簿!CP39","v":0},{"$f":"名簿!CU39","v":"00"},{"$f":"名簿!Q39","v":""},{"$f":"名簿!$AA$6","v":"23"},null,{"$f":"IF(O42=\"\",\"\",IF(I42=1,VLOOKUP(O42,男子種目コード!$A$1:$B$33,2,FALSE),IF(I42=2,VLOOKUP(O42,女子種目コード!$A$1:$B$28,2,FALSE))))","v":""},{"$f":"IF(O42=\"\",\"\",HLOOKUP(O42,名簿!$AH$3:$CH$118,37,FALSE))","v":""},"","",null,{"$f":"IF(T42=\"\",\"\",IF(I42=1,VLOOKUP(T42,男子種目コード!$A$1:$B$33,2,FALSE),IF(I42=2,VLOOKUP(T42,女子種目コード!$A$1:$B$28,2,FALSE))))","v":""},{"$f":"IF(T42=\"\",\"\",HLOOKUP(T42,名簿!$AH$3:$CH$118,37,FALSE))","v":""},"","",null,{"$f":"IF(Y42=\"\",\"\",IF(I42=1,VLOOKUP(Y42,男子種目コード!$A$1:$B$33,2,FALSE),IF(I42=2,VLOOKUP(Y42,女子種目コード!$A$1:$B$27,2,FALSE))))","v":""},null,null,null,null,"","",null,null,null,null,null,null,null,"","",null,null,null,0,5000,{"$f":"COUNTIF($P$7:$P$116,46)+COUNTIF($U$7:$U$116,46)","v":0}]
["",{"$f":"名簿!P40","v":""},null,null,{"$f":"名簿!E40","v":0},{"$f":"名簿!CM40","v":""},{"$f":"名簿!Z40","v":""},{"$f":"名簿!CM40","v":""},{"$f":"名簿!Y40","v":""},{"$f":"名簿!CN40","v":""},{"$f":"名簿!CP40","v":0},{"$f":"名簿!CU40","v":"00"},{"$f":"名簿!Q40","v":""},{"$f":"名簿!$AA$6","v":"23"},null,{"$f":"IF(O43=\"\",\"\",IF(I43=1,VLOOKUP(O43,男子種目コード!$A$1:$B$33,2,FALSE),IF(I43=2,VLOOKUP(O43,女子種目コード!$A$1:$B$28,2,FALSE))))","v":""},{"$f":"IF(O43=\"\",\"\",HLOOKUP(O43,名簿!$AH$3:$CH$118,38,FALSE))","v":""},"","",null,{"$f":"IF(T43=\"\",\"\",IF(I43=1,VLOOKUP(T43,男子種目コード!$A$1:$B$33,2,FALSE),IF(I43=2,VLOOKUP(T43,女子種目コード!$A$1:$B$28,2,FALSE))))","v":""},{"$f":"IF(T43=\"\",\"\",HLOOKUP(T43,名簿!$AH$3:$CH$118,38,FALSE))","v":""},"","",null,{"$f":"IF(Y43=\"\",\"\",IF(I43=1,VLOOKUP(Y43,男子種目コード!$A$1:$B$33,2,FALSE),IF(I43=2,VLOOKUP(Y43,女子種目コード!$A$1:$B$27,2,FALSE))))","v":""},null,null,null,null,"","",null,null,null,null,null,null,null,"","",null,null,null,0,10000,{"$f":"COUNTIF($P$7:$P$116,47)+COUNTIF($U$7:$U$116,47)","v":0}]
["",{"$f":"名簿!P41","v":""},null,null,{"$f":"名簿!E41","v":0},{"$f":"名簿!CM41","v":""},{"$f":"名簿!Z41","v":""},{"$f":"名簿!CM41","v":""},{"$f":"名簿!Y41","v":""},{"$f":"名簿!CN41","v":""},{"$f":"名簿!CP41","v":0},{"$f":"名簿!CU41","v":"00"},{"$f":"名簿!Q41","v":""},{"$f":"名簿!$AA$6","v":"23"},null,{"$f":"IF(O44=\"\",\"\",IF(I44=1,VLOOKUP(O44,男子種目コード!$A$1:$B$33,2,FALSE),IF(I44=2,VLOOKUP(O44,女子種目コード!$A$1:$B$28,2,FALSE))))","v":""},{"$f":"IF(O44=\"\",\"\",HLOOKUP(O44,名簿!$AH$3:$CH$118,39,FALSE))","v":""},"","",null,{"$f":"IF(T44=\"\",\"\",IF(I44=1,VLOOKUP(T44,男子種目コード!$A$1:$B$33,2,FALSE),IF(I44=2,VLOOKUP(T44,女子種目コード!$A$1:$B$28,2,FALSE))))","v":""},{"$f":"IF(T44=\"\",\"\",HLOOKUP(T44,名簿!$AH$3:$CH$118,39,FALSE))","v":""},"","",null,{"$f":"IF(Y44=\"\",\"\",IF(I44=1,VLOOKUP(Y44,男子種目コード!$A$1:$B$33,2,FALSE),IF(I44=2,VLOOKUP(Y44,女子種目コード!$A$1:$B$27,2,FALSE))))","v":""},null,null,null,null,"","",null,null,null,null,null,null,null,"","",null,null,null,0,"100H",{"$f":"COUNTIF($P$7:$P$116,48)+COUNTIF($U$7:$U$116,48)","v":0}]
["",{"$f":"名簿!P42","v":""},null,null,{"$f":"名簿!E42","v":0},{"$f":"名簿!CM42","v":""},{"$f":"名簿!Z42","v":""},{"$f":"名簿!CM42","v":""},{"$f":"名簿!Y42","v":""},{"$f":"名簿!CN42","v":""},{"$f":"名簿!CP42","v":0},{"$f":"名簿!CU42","v":"00"},{"$f":"名簿!Q42","v":""},{"$f":"名簿!$AA$6","v":"23"},null,{"$f":"IF(O45=\"\",\"\",IF(I45=1,VLOOKUP(O45,男子種目コード!$A$1:$B$33,2,FALSE),IF(I45=2,VLOOKUP(O45,女子種目コード!$A$1:$B$28,2,FALSE))))","v":""},{"$f":"IF(O45=\"\",\"\",HLOOKUP(O45,名簿!$AH$3:$CH$118,40,FALSE))","v":""},"","",null,{"$f":"IF(T45=\"\",\"\",IF(I45=1,VLOOKUP(T45,男子種目コード!$A$1:$B$33,2,FALSE),IF(I45=2,VLOOKUP(T45,女子種目コード!$A$1:$B$28,2,FALSE))))","v":""},{"$f":"IF(T45=\"\",\"\",HLOOKUP(T45,名簿!$AH$3:$CH$118,40,FALSE))","v":""},"","",null,{"$f":"IF(Y45=\"\",\"\",IF(I45=1,VLOOKUP(Y45,男子種目コード!$A$1:$B$33,2,FALSE),IF(I45=2,VLOOKUP(Y45,女子種目コード!$A$1:$B$27,2,FALSE))))","v":""},null,null,null,null,"","",null,null,null,null,null,null,null,"","",null,null,null,0,"少年B100",{"$f":"COUNTIF($P$7:$P$116,66)+COUNTIF($U$7:$U$116,66)","v":0}]
["",{"$f":"名簿!P43","v":""},null,null,{"$f":"名簿!E43","v":0},{"$f":"名簿!CM43","v":""},{"$f":"名簿!Z43","v":""},{"$f":"名簿!CM43","v":""},{"$f":"名簿!Y43","v":""},{"$f":"名簿!CN43","v":""},{"$f":"名簿!CP43","v":0},{"$f":"名簿!CU43","v":"00"},{"$f":"名簿!Q43","v":""},{"$f":"名簿!$AA$6","v":"23"},null,{"$f":"IF(O46=\"\",\"\",IF(I46=1,VLOOKUP(O46,男子種目コード!$A$1:$B$33,2,FALSE),IF(I46=2,VLOOKUP(O46,女子種目コード!$A$1:$B$28,2,FALSE))))","v":""},{"$f":"IF(O46=\"\",\"\",HLOOKUP(O46,名簿!$AH$3:$CH$118,41,FALSE))","v":""},"","",null,{"$f":"IF(T46=\"\",\"\",IF(I46=1,VLOOKUP(T46,男子種目コード!$A$1:$B$33,2,FALSE),IF(I46=2,VLOOKUP(T46,女子種目コード!$A$1:$B$28,2,FALSE))))","v":""},{"$f":"IF(T46=\"\",\"\",HLOOKUP(T46,名簿!$AH$3:$CH$118,41,FALSE))","v":""},"","",null,{"$f":"IF(Y46=\"\",\"\",IF(I46=1,VLOOKUP(Y46,男子種目コード!$A$1:$B$33,2,FALSE),IF(I46=2,VLOOKUP(Y46,女子種目コード!$A$1:$B$27,2,FALSE))))","v":""},null,null,null,null,"","",null,null,null,null,null,null,null,"","",null,null,null,0,"少年B100YH",{"$f":"COUNTIF($P$7:$P$116,65)+COUNTIF($U$7:$U$116,65)","v":0}]
["",{"$f":"名簿!P44","v":""},null,null,{"$f":"名簿!E44","v":0},{"$f":"名簿!CM44","v":""},{"$f":"名簿!Z44","v":""},{"$f":"名簿!CM44","v":""},{"$f":"名簿!Y44","v":""},{"$f":"名簿!CN44","v":""},{"$f":"名簿!CP44","v":0},{"$f":"名簿!CU44","v":"00"},{"$f":"名簿!Q44","v":""},{"$f":"名簿!$AA$6","v":"23"},null,{"$f":"IF(O47=\"\",\"\",IF(I47=1,VLOOKUP(O47,男子種目コード!$A$1:$B$33,2,FALSE),IF(I47=2,VLOOKUP(O47,女子種目コード!$A$1:$B$28,2,FALSE))))","v":""},{"$f":"IF(O47=\"\",\"\",HLOOKUP(O47,名簿!$AH$3:$CH$118,42,FALSE))","v":""},"","",null,{"$f":"IF(T47=\"\",\"\",IF(I47=1,VLOOKUP(T47,男子種目コード!$A$1:$B$33,2,FALSE),IF(I47=2,VLOOKUP(T47,女子種目コード!$A$1:$B$28,2,FALSE))))","v":""},{"$f":"IF(T47=\"\",\"\",HLOOKUP(T47,名簿!$AH$3:$CH$118,42,FALSE))","v":""},"","",null,{"$f":"IF(Y47=\"\",\"\",IF(I47=1,VLOOKUP(Y47,男子種目コード!$A$1:$B$33,2,FALSE),IF(I47=2,VLOOKUP(Y47,女子種目コード!$A$1:$B$27,2,FALSE))))","v":""},null,null,null,null,"","",null,null,null,null,null,null,null,"","",null,null,null,0,"400H",{"$f":"COUNTIF($P$7:$P$116,49)+COUNTIF($U$7:$U$116,49)","v":0}]
["",{"$f":"名簿!P45","v":""},null,null,{"$f":"名簿!E45","v":0},{"$f":"名簿!CM45","v":""},{"$f":"名簿!Z45","v":""},{"$f":"名簿!CM45","v":""},{"$f":"名簿!Y45","v":""},{"$f":"名簿!CN45","v":""},{"$f":"名簿!CP45","v":0},{"$f":"名簿!CU45","v":"00"},{"$f":"名簿!Q45","v":""},{"$f":"名簿!$AA$6","v":"23"},null,{"$f":"IF(O48=\"\",\"\",IF(I48=1,VLOOKUP(O48,男子種目コード!$A$1:$B$33,2,FALSE),IF(I48=2,VLOOKUP(O48,女子種目コード!$A$1:$B$28,2,FALSE))))","v":""},{"$f":"IF(O48=\"\",\"\",HLOOKUP(O48,名簿!$AH$3:$CH$118,43,FALSE))","v":""},"","",null,{"$f":"IF(T48=\"\",\"\",IF(I48=1,VLOOKUP(T48,男子種目コード!$A$1:$B$33,2,FALSE),IF(I48=2,VLOOKUP(T48,女子種目コード!$A$1:$B$28,2,FALSE))))","v":""},{"$f":"IF(T48=\"\",\"\",HLOOKUP(T48,名簿!$AH$3:$CH$118,43,FALSE))","v":""},"","",null,{"$f":"IF(Y48=\"\",\"\",IF(I48=1,VLOOKUP(Y48,男子種目コード!$A$1:$B$33,2,FALSE),IF(I48=2,VLOOKUP(Y48,女子種目コード!$A$1:$B$27,2,FALSE))))","v":""},null,null,null,null,"","",null,null,null,null,null,null,null,"","",null,null,null,0,"5000W",{"$f":"COUNTIF($P$7:$P$116,52)+COUNTIF($U$7:$U$116,52)","v":0}]
["",{"$f":"名簿!P46","v":""},null,null,{"$f":"名簿!E46","v":0},{"$f":"名簿!CM46","v":""},{"$f":"名簿!Z46","v":""},{"$f":"名簿!CM46","v":""},{"$f":"名簿!Y46","v":""},{"$f":"名簿!CN46","v":""},{"$f":"名簿!CP46","v":0},{"$f":"名簿!CU46","v":"00"},{"$f":"名簿!Q46","v":""},{"$f":"名簿!$AA$6","v":"23"},null,{"$f":"IF(O49=\"\",\"\",IF(I49=1,VLOOKUP(O49,男子種目コード!$A$1:$B$33,2,FALSE),IF(I49=2,VLOOKUP(O49,女子種目コード!$A$1:$B$28,2,FALSE))))","v":""},{"$f":"IF(O49=\"\",\"\",HLOOKUP(O49,名簿!$AH$3:$CH$118,44,FALSE))","v":""},"","",null,{"$f":"IF(T49=\"\",\"\",IF(I49=1,VLOOKUP(T49,男子種目コード!$A$1:$B$33,2,FALSE),IF(I49=2,VLOOKUP(T49,女子種目コード!$A$1:$B$28,2,FALSE))))","v":""},{"$f":"IF(T49=\"\",\"\",HLOOKUP(T49,名簿!$AH$3:$CH$118,44,FALSE))","v":""},"","",null,{"$f":"IF(Y49=\"\",\"\",IF(I49=1,VLOOKUP(Y49,男子種目コード!$A$1:$B$33,2,FALSE),IF(I49=2,VLOOKUP(Y49,女子種目コード!$A$1:$B$27,2,FALSE))))","v":""},null,null,null,null,"","",null,null,null,null,null,null,null,"","",null,null,null,0,"走高跳",{"$f":"COUNTIF($P$7:$P$116,55)+COUNTIF($U$7:$U$116,55)","v":0}]
["",{"$f":"名簿!P47","v":""},null,null,{"$f":"名簿!E47","v":0},{"$f":"名簿!CM47","v":""},{"$f":"名簿!Z47","v":""},{"$f":"名簿!CM47","v":""},{"$f":"名簿!Y47","v":""},{"$f":"名簿!CN47","v":""},{"$f":"名簿!CP47","v":0},{"$f":"名簿!CU47","v":"00"},{"$f":"名簿!Q47","v":""},{"$f":"名簿!$AA$6","v":"23"},null,{"$f":"IF(O50=\"\",\"\",IF(I50=1,VLOOKUP(O50,男子種目コード!$A$1:$B$33,2,FALSE),IF(I50=2,VLOOKUP(O50,女子種目コード!$A$1:$B$28,2,FALSE))))","v":""},{"$f":"IF(O50=\"\",\"\",HLOOKUP(O50,名簿!$AH$3:$CH$118,45,FALSE))","v":""},"","",null,{"$f":"IF(T50=\"\",\"\",IF(I50=1,VLOOKUP(T50,男子種目コード!$A$1:$B$33,2,FALSE),IF(I50=2,VLOOKUP(T50,女子種目コード!$A$1:$B$28,2,FALSE))))","v":""},{"$f":"IF(T50=\"\",\"\",HLOOKUP(T50,名簿!$AH$3:$CH$118,45,FALSE))","v":""},"","",null,{"$f":"IF(Y50=\"\",\"\",IF(I50=1,VLOOKUP(Y50,男子種目コード!$A$1:$B$33,2,FALSE),IF(I50=2,VLOOKUP(Y50,女子種目コード!$A$1:$B$27,2,FALSE))))","v":""},null,null,null,null,"","",null,null,null,null,null,null,null,"","",null,null,null,0,"棒高跳",{"$f":"COUNTIF($P$7:$P$116,56)+COUNTIF($U$7:$U$116,56)","v":0}]
["",{"$f":"名簿!P48","v":""},null,null,{"$f":"名簿!E48","v":0},{"$f":"名簿!CM48","v":""},{"$f":"名簿!Z48","v":""},{"$f":"名簿!CM48","v":""},{"$f":"名簿!Y48","v":""},{"$f":"名簿!CN48","v":""},{"$f":"名簿!CP48","v":0},{"$f":"名簿!CU48","v":"00"},{"$f":"名簿!Q48","v":""},{"$f":"名簿!$AA$6","v":"23"},null,{"$f":"IF(O51=\"\",\"\",IF(I51=1,VLOOKUP(O51,男子種目コード!$A$1:$B$33,2,FALSE),IF(I51=2,VLOOKUP(O51,女子種目コード!$A$1:$B$28,2,FALSE))))","v":""},{"$f":"IF(O51=\"\",\"\",HLOOKUP(O51,名簿!$AH$3:$CH$118,46,FALSE))","v":""},"","",null,{"$f":"IF(T51=\"\",\"\",IF(I51=1,VLOOKUP(T51,男子種目コード!$A$1:$B$33,2,FALSE),IF(I51=2,VLOOKUP(T51,女子種目コード!$A$1:$B$28,2,FALSE))))","v":""},{"$f":"IF(T51=\"\",\"\",HLOOKUP(T51,名簿!$AH$3:$CH$118,46,FALSE))","v":""},"","",null,{"$f":"IF(Y51=\"\",\"\",IF(I51=1,VLOOKUP(Y51,男子種目コード!$A$1:$B$33,2,FALSE),IF(I51=2,VLOOKUP(Y51,女子種目コード!$A$1:$B$27,2,FALSE))))","v":""},null,null,null,null,"","",null,null,null,null,null,null,null,"","",null,null,null,0,"走幅跳",{"$f":"COUNTIF($P$7:$P$116,57)+COUNTIF($U$7:$U$116,57)","v":0}]
["",{"$f":"名簿!P49","v":""},null,null,{"$f":"名簿!E49","v":0},{"$f":"名簿!CM49","v":""},{"$f":"名簿!Z49","v":""},{"$f":"名簿!CM49","v":""},{"$f":"名簿!Y49","v":""},{"$f":"名簿!CN49","v":""},{"$f":"名簿!CP49","v":0},{"$f":"名簿!CU49","v":"00"},{"$f":"名簿!Q49","v":""},{"$f":"名簿!$AA$6","v":"23"},null,{"$f":"IF(O52=\"\",\"\",IF(I52=1,VLOOKUP(O52,男子種目コード!$A$1:$B$33,2,FALSE),IF(I52=2,VLOOKUP(O52,女子種目コード!$A$1:$B$28,2,FALSE))))","v":""},{"$f":"IF(O52=\"\",\"\",HLOOKUP(O52,名簿!$AH$3:$CH$118,47,FALSE))","v":""},"","",null,{"$f":"IF(T52=\"\",\"\",IF(I52=1,VLOOKUP(T52,男子種目コード!$A$1:$B$33,2,FALSE),IF(I52=2,VLOOKUP(T52,女子種目コード!$A$1:$B$28,2,FALSE))))","v":""},{"$f":"IF(T52=\"\",\"\",HLOOKUP(T52,名簿!$AH$3:$CH$118,47,FALSE))","v":""},"","",null,{"$f":"IF(Y52=\"\",\"\",IF(I52=1,VLOOKUP(Y52,男子種目コード!$A$1:$B$33,2,FALSE),IF(I52=2,VLOOKUP(Y52,女子種目コード!$A$1:$B$27,2,FALSE))))","v":""},null,null,null,null,"","",null,null,null,null,null,null,null,"","",null,null,null,0,"三段跳",{"$f":"COUNTIF($P$7:$P$116,58)+COUNTIF($U$7:$U$116,58)","v":0}]
["",{"$f":"名簿!P50","v":""},null,null,{"$f":"名簿!E50","v":0},{"$f":"名簿!CM50","v":""},{"$f":"名簿!Z50","v":""},{"$f":"名簿!CM50","v":""},{"$f":"名簿!Y50","v":""},{"$f":"名簿!CN50","v":""},{"$f":"名簿!CP50","v":0},{"$f":"名簿!CU50","v":"00"},{"$f":"名簿!Q50","v":""},{"$f":"名簿!$AA$6","v":"23"},null,{"$f":"IF(O53=\"\",\"\",IF(I53=1,VLOOKUP(O53,男子種目コード!$A$1:$B$33,2,FALSE),IF(I53=2,VLOOKUP(O53,女子種目コード!$A$1:$B$28,2,FALSE))))","v":""},{"$f":"IF(O53=\"\",\"\",HLOOKUP(O53,名簿!$AH$3:$CH$118,48,FALSE))","v":""},"","",null,{"$f":"IF(T53=\"\",\"\",IF(I53=1,VLOOKUP(T53,男子種目コード!$A$1:$B$33,2,FALSE),IF(I53=2,VLOOKUP(T53,女子種目コード!$A$1:$B$28,2,FALSE))))","v":""},{"$f":"IF(T53=\"\",\"\",HLOOKUP(T53,名簿!$AH$3:$CH$118,48,FALSE))","v":""},"","",null,{"$f":"IF(Y53=\"\",\"\",IF(I53=1,VLOOKUP(Y53,男子種目コード!$A$1:$B$33,2,FALSE),IF(I53=2,VLOOKUP(Y53,女子種目コード!$A$1:$B$27,2,FALSE))))","v":""},null,null,null,null,"","",null,null,null,null,null,null,null,"","",null,null,null,0,"砲丸投",{"$f":"COUNTIF($P$7:$P$116,59)+COUNTIF($U$7:$U$116,59)","v":0}]
["",{"$f":"名簿!P51","v":""},null,null,{"$f":"名簿!E51","v":0},{"$f":"名簿!CM51","v":""},{"$f":"名簿!Z51","v":""},{"$f":"名簿!CM51","v":""},{"$f":"名簿!Y51","v":""},{"$f":"名簿!CN51","v":""},{"$f":"名簿!CP51","v":0},{"$f":"名簿!CU51","v":"00"},{"$f":"名簿!Q51","v":""},{"$f":"名簿!$AA$6","v":"23"},null,{"$f":"IF(O54=\"\",\"\",IF(I54=1,VLOOKUP(O54,男子種目コード!$A$1:$B$33,2,FALSE),IF(I54=2,VLOOKUP(O54,女子種目コード!$A$1:$B$28,2,FALSE))))","v":""},{"$f":"IF(O54=\"\",\"\",HLOOKUP(O54,名簿!$AH$3:$CH$118,49,FALSE))","v":""},"","",null,{"$f":"IF(T54=\"\",\"\",IF(I54=1,VLOOKUP(T54,男子種目コード!$A$1:$B$33,2,FALSE),IF(I54=2,VLOOKUP(T54,女子種目コード!$A$1:$B$28,2,FALSE))))","v":""},{"$f":"IF(T54=\"\",\"\",HLOOKUP(T54,名簿!$AH$3:$CH$118,49,FALSE))","v":""},"","",null,{"$f":"IF(Y54=\"\",\"\",IF(I54=1,VLOOKUP(Y54,男子種目コード!$A$1:$B$33,2,FALSE),IF(I54=2,VLOOKUP(Y54,女子種目コード!$A$1:$B$27,2,FALSE))))","v":""},null,null,null,null,"","",null,null,null,null,null,null,null,"","",null,null,null,0,"円盤投",{"$f":"COUNTIF($P$7:$P$116,60)+COUNTIF($U$7:$U$116,60)","v":0}]
["",{"$f":"名簿!P52","v":""},null,null,{"$f":"名簿!E52","v":0},{"$f":"名簿!CM52","v":""},{"$f":"名簿!Z52","v":""},{"$f":"名簿!CM52","v":""},{"$f":"名簿!Y52","v":""},{"$f":"名簿!CN52","v":""},{"$f":"名簿!CP52","v":0},{"$f":"名簿!CU52","v":"00"},{"$f":"名簿!Q52","v":""},{"$f":"名簿!$AA$6","v":"23"},null,{"$f":"IF(O55=\"\",\"\",IF(I55=1,VLOOKUP(O55,男子種目コード!$A$1:$B$33,2,FALSE),IF(I55=2,VLOOKUP(O55,女子種目コード!$A$1:$B$28,2,FALSE))))","v":""},{"$f":"IF(O55=\"\",\"\",HLOOKUP(O55,名簿!$AH$3:$CH$118,50,FALSE))","v":""},"","",null,{"$f":"IF(T55=\"\",\"\",IF(I55=1,VLOOKUP(T55,男子種目コード!$A$1:$B$33,2,FALSE),IF(I55=2,VLOOKUP(T55,女子種目コード!$A$1:$B$28,2,FALSE))))","v":""},{"$f":"IF(T55=\"\",\"\",HLOOKUP(T55,名簿!$AH$3:$CH$118,50,FALSE))","v":""},"","",null,{"$f":"IF(Y55=\"\",\"\",IF(I55=1,VLOOKUP(Y55,男子種目コード!$A$1:$B$33,2,FALSE),IF(I55=2,VLOOKUP(Y55,女子種目コード!$A$1:$B$27,2,FALSE))))","v":""},null,null,null,null,"","",null,null,null,null,null,null,null,"","",null,null,null,0,"やり投",{"$f":"COUNTIF($P$7:$P$116,61)+COUNTIF($U$7:$U$116,61)","v":0}]
["",{"$f":"名簿!P53","v":""},null,null,{"$f":"名簿!E53","v":0},{"$f":"名簿!CM53","v":""},{"$f":"名簿!Z53","v":""},{"$f":"名簿!CM53","v":""},{"$f":"名簿!Y53","v":""},{"$f":"名簿!CN53","v":""},{"$f":"名簿!CP53","v":0},{"$f":"名簿!CU53","v":"00"},{"$f":"名簿!Q53","v":""},{"$f":"名簿!$AA$6","v":"23"},null,{"$f":"IF(O56=\"\",\"\",IF(I56=1,VLOOKUP(O56,男子種目コード!$A$1:$B$33,2,FALSE),IF(I56=2,VLOOKUP(O56,女子種目コード!$A$1:$B$28,2,FALSE))))","v":""},{"$f":"IF(O56=\"\",\"\",HLOOKUP(O56,名簿!$AH$3:$CH$118,51,FALSE))","v":""},"","",null,{"$f":"IF(T56=\"\",\"\",IF(I56=1,VLOOKUP(T56,男子種目コード!$A$1:$B$33,2,FALSE),IF(I56=2,VLOOKUP(T56,女子種目コード!$A$1:$B$28,2,FALSE))))","v":""},{"$f":"IF(T56=\"\",\"\",HLOOKUP(T56,名簿!$AH$3:$CH$118,51,FALSE))","v":""},"","",null,{"$f":"IF(Y56=\"\",\"\",IF(I56=1,VLOOKUP(Y56,男子種目コード!$A$1:$B$33,2,FALSE),IF(I56=2,VLOOKUP(Y56,女子種目コード!$A$1:$B$27,2,FALSE))))","v":""},null,null,null,null,"","",null,null,null,null,null,null,null,"","",null,null,null,0,"ハンマー投",{"$f":"COUNTIF($P$7:$P$116,62)+COUNTIF($U$7:$U$116,62)","v":0}]
["",{"$f":"名簿!P54","v":""},null,null,{"$f":"名簿!E54","v":0},{"$f":"名簿!CM54","v":""},{"$f":"名簿!Z54","v":""},{"$f":"名簿!CM54","v":""},{"$f":"名簿!Y54","v":""},{"$f":"名簿!CN54","v":""},{"$f":"名簿!CP54","v":0},{"$f":"名簿!CU54","v":"00"},{"$f":"名簿!Q54","v":""},{"$f":"名簿!$AA$6","v":"23"},null,{"$f":"IF(O57=\"\",\"\",IF(I57=1,VLOOKUP(O57,男子種目コード!$A$1:$B$33,2,FALSE),IF(I57=2,VLOOKUP(O57,女子種目コード!$A$1:$B$28,2,FALSE))))","v":""},{"$f":"IF(O57=\"\",\"\",HLOOKUP(O57,名簿!$AH$3:$CH$118,52,FALSE))","v":""},"","",null,{"$f":"IF(T57=\"\",\"\",IF(I57=1,VLOOKUP(T57,男子種目コード!$A$1:$B$33,2,FALSE),IF(I57=2,VLOOKUP(T57,女子種目コード!$A$1:$B$28,2,FALSE))))","v":""},{"$f":"IF(T57=\"\",\"\",HLOOKUP(T57,名簿!$AH$3:$CH$118,52,FALSE))","v":""},"","",null,{"$f":"IF(Y57=\"\",\"\",IF(I57=1,VLOOKUP(Y57,男子種目コード!$A$1:$B$33,2,FALSE),IF(I57=2,VLOOKUP(Y57,女子種目コード!$A$1:$B$27,2,FALSE))))","v":""},null,null,null,null,"","",null,null,null,null,null,null,null,"","",null,null,null,0,"計",{"$f":"SUM(AU36:AU56)","v":0}]
["",{"$f":"名簿!P55","v":""},null,null,{"$f":"名簿!E55","v":0},{"$f":"名簿!CM55","v":""},{"$f":"名簿!Z55","v":""},{"$f":"名簿!CM55","v":""},{"$f":"名簿!Y55","v":""},{"$f":"名簿!CN55","v":""},{"$f":"名簿!CP55","v":0},{"$f":"名簿!CU55","v":"00"},{"$f":"名簿!Q55","v":""},{"$f":"名簿!$AA$6","v":"23"},null,{"$f":"IF(O58=\"\",\"\",IF(I58=1,VLOOKUP(O58,男子種目コード!$A$1:$B$33,2,FALSE),IF(I58=2,VLOOKUP(O58,女子種目コード!$A$1:$B$28,2,FALSE))))","v":""},{"$f":"IF(O58=\"\",\"\",HLOOKUP(O58,名簿!$AH$3:$CH$118,53,FALSE))","v":""},"","",null,{"$f":"IF(T58=\"\",\"\",IF(I58=1,VLOOKUP(T58,男子種目コード!$A$1:$B$33,2,FALSE),IF(I58=2,VLOOKUP(T58,女子種目コード!$A$1:$B$28,2,FALSE))))","v":""},{"$f":"IF(T58=\"\",\"\",HLOOKUP(T58,名簿!$AH$3:$CH$118,53,FALSE))","v":""},"","",null,{"$f":"IF(Y58=\"\",\"\",IF(I58=1,VLOOKUP(Y58,男子種目コード!$A$1:$B$33,2,FALSE),IF(I58=2,VLOOKUP(Y58,女子種目コード!$A$1:$B$27,2,FALSE))))","v":""},null,null,null,null,"","",null,null,null,null,null,null,null,"","",null,null,null,0]
["",{"$f":"名簿!P56","v":""},null,null,{"$f":"名簿!E56","v":0},{"$f":"名簿!CM56","v":""},{"$f":"名簿!Z56","v":""},{"$f":"名簿!CM56","v":""},{"$f":"名簿!Y56","v":""},{"$f":"名簿!CN56","v":""},{"$f":"名簿!CP56","v":0},{"$f":"名簿!CU56","v":"00"},{"$f":"名簿!Q56","v":""},{"$f":"名簿!$AA$6","v":"23"},null,{"$f":"IF(O59=\"\",\"\",IF(I59=1,VLOOKUP(O59,男子種目コード!$A$1:$B$33,2,FALSE),IF(I59=2,VLOOKUP(O59,女子種目コード!$A$1:$B$28,2,FALSE))))","v":""},{"$f":"IF(O59=\"\",\"\",HLOOKUP(O59,名簿!$AH$3:$CH$118,54,FALSE))","v":""},"","",null,{"$f":"IF(T59=\"\",\"\",IF(I59=1,VLOOKUP(T59,男子種目コード!$A$1:$B$33,2,FALSE),IF(I59=2,VLOOKUP(T59,女子種目コード!$A$1:$B$28,2,FALSE))))","v":""},{"$f":"IF(T59=\"\",\"\",HLOOKUP(T59,名簿!$AH$3:$CH$118,54,FALSE))","v":""},"","",null,{"$f":"IF(Y59=\"\",\"\",IF(I59=1,VLOOKUP(Y59,男子種目コード!$A$1:$B$33,2,FALSE),IF(I59=2,VLOOKUP(Y59,女子種目コード!$A$1:$B$27,2,FALSE))))","v":""},null,null,null,null,"","",null,null,null,null,null,null,null,"","",null,null,null,0]
["",{"$f":"名簿!P57","v":""},null,null,{"$f":"名簿!E57","v":0},{"$f":"名簿!CM57","v":""},{"$f":"名簿!Z57","v":""},{"$f":"名簿!CM57","v":""},{"$f":"名簿!Y57","v":""},{"$f":"名簿!CN57","v":""},{"$f":"名簿!CP57","v":0},{"$f":"名簿!CU57","v":"00"},{"$f":"名簿!Q57","v":""},{"$f":"名簿!$AA$6","v":"23"},null,{"$f":"IF(O60=\"\",\"\",IF(I60=1,VLOOKUP(O60,男子種目コード!$A$1:$B$33,2,FALSE),IF(I60=2,VLOOKUP(O60,女子種目コード!$A$1:$B$28,2,FALSE))))","v":""},{"$f":"IF(O60=\"\",\"\",HLOOKUP(O60,名簿!$AH$3:$CH$118,55,FALSE))","v":""},"","",null,{"$f":"IF(T60=\"\",\"\",IF(I60=1,VLOOKUP(T60,男子種目コード!$A$1:$B$33,2,FALSE),IF(I60=2,VLOOKUP(T60,女子種目コード!$A$1:$B$28,2,FALSE))))","v":""},{"$f":"IF(T60=\"\",\"\",HLOOKUP(T60,名簿!$AH$3:$CH$118,55,FALSE))","v":""},"","",null,{"$f":"IF(Y60=\"\",\"\",IF(I60=1,VLOOKUP(Y60,男子種目コード!$A$1:$B$33,2,FALSE),IF(I60=2,VLOOKUP(Y60,女子種目コード!$A$1:$B$27,2,FALSE))))","v":""},null,null,null,null,"","",null,null,null,null,null,null,null,"","",null,null,null,0]
["",{"$f":"名簿!P58","v":""},null,null,{"$f":"名簿!E58","v":0},{"$f":"名簿!CM58","v":""},{"$f":"名簿!Z58","v":""},{"$f":"名簿!CM58","v":""},{"$f":"名簿!Y58","v":""},{"$f":"名簿!CN58","v":""},{"$f":"名簿!CP58","v":0},{"$f":"名簿!CU58","v":"00"},{"$f":"名簿!Q58","v":""},{"$f":"名簿!$AA$6","v":"23"},null,{"$f":"IF(O61=\"\",\"\",IF(I61=1,VLOOKUP(O61,男子種目コード!$A$1:$B$33,2,FALSE),IF(I61=2,VLOOKUP(O61,女子種目コード!$A$1:$B$28,2,FALSE))))","v":""},{"$f":"IF(O61=\"\",\"\",HLOOKUP(O61,名簿!$AH$3:$CH$118,56,FALSE))","v":""},"","",null,{"$f":"IF(T61=\"\",\"\",IF(I61=1,VLOOKUP(T61,男子種目コード!$A$1:$B$33,2,FALSE),IF(I61=2,VLOOKUP(T61,女子種目コード!$A$1:$B$28,2,FALSE))))","v":""},{"$f":"IF(T61=\"\",\"\",HLOOKUP(T61,名簿!$AH$3:$CH$118,56,FALSE))","v":""},"","",null,{"$f":"IF(Y61=\"\",\"\",IF(I61=1,VLOOKUP(Y61,男子種目コード!$A$1:$B$33,2,FALSE),IF(I61=2,VLOOKUP(Y61,女子種目コード!$A$1:$B$27,2,FALSE))))","v":""},null,null,null,null,"","",null,null,null,null,null,null,null,"","",null,null,null,0]
["",{"$f":"名簿!P59","v":""},null,null,{"$f":"名簿!E59","v":0},{"$f":"名簿!CM59","v":""},{"$f":"名簿!Z59","v":""},{"$f":"名簿!CM59","v":""},{"$f":"名簿!Y59","v":""},{"$f":"名簿!CN59","v":""},{"$f":"名簿!CP59","v":0},{"$f":"名簿!CU59","v":"00"},{"$f":"名簿!Q59","v":""},{"$f":"名簿!$AA$6","v":"23"},null,{"$f":"IF(O62=\"\",\"\",IF(I62=1,VLOOKUP(O62,男子種目コード!$A$1:$B$33,2,FALSE),IF(I62=2,VLOOKUP(O62,女子種目コード!$A$1:$B$28,2,FALSE))))","v":""},{"$f":"IF(O62=\"\",\"\",HLOOKUP(O62,名簿!$AH$3:$CH$118,57,FALSE))","v":""},"","",null,{"$f":"IF(T62=\"\",\"\",IF(I62=1,VLOOKUP(T62,男子種目コード!$A$1:$B$33,2,FALSE),IF(I62=2,VLOOKUP(T62,女子種目コード!$A$1:$B$28,2,FALSE))))","v":""},{"$f":"IF(T62=\"\",\"\",HLOOKUP(T62,名簿!$AH$3:$CH$118,57,FALSE))","v":""},"","",null,{"$f":"IF(Y62=\"\",\"\",IF(I62=1,VLOOKUP(Y62,男子種目コード!$A$1:$B$33,2,FALSE),IF(I62=2,VLOOKUP(Y62,女子種目コード!$A$1:$B$27,2,FALSE))))","v":""},null,null,null,null,"","",null,null,null,null,null,null,null,"","",null,null,null,0]
["",{"$f":"名簿!P60","v":""},null,null,{"$f":"名簿!E60","v":0},{"$f":"名簿!CM60","v":""},{"$f":"名簿!Z60","v":""},{"$f":"名簿!CM60","v":""},{"$f":"名簿!Y60","v":""},{"$f":"名簿!CN60","v":""},{"$f":"名簿!CP60","v":0},{"$f":"名簿!CU60","v":"00"},{"$f":"名簿!Q60","v":""},{"$f":"名簿!$AA$6","v":"23"},null,{"$f":"IF(O63=\"\",\"\",IF(I63=1,VLOOKUP(O63,男子種目コード!$A$1:$B$33,2,FALSE),IF(I63=2,VLOOKUP(O63,女子種目コード!$A$1:$B$28,2,FALSE))))","v":""},{"$f":"IF(O63=\"\",\"\",HLOOKUP(O63,名簿!$AH$3:$CH$118,58,FALSE))","v":""},"","",null,{"$f":"IF(T63=\"\",\"\",IF(I63=1,VLOOKUP(T63,男子種目コード!$A$1:$B$33,2,FALSE),IF(I63=2,VLOOKUP(T63,女子種目コード!$A$1:$B$28,2,FALSE))))","v":""},{"$f":"IF(T63=\"\",\"\",HLOOKUP(T63,名簿!$AH$3:$CH$118,58,FALSE))","v":""},"","",null,{"$f":"IF(Y63=\"\",\"\",IF(I63=1,VLOOKUP(Y63,男子種目コード!$A$1:$B$33,2,FALSE),IF(I63=2,VLOOKUP(Y63,女子種目コード!$A$1:$B$27,2,FALSE))))","v":""},null,null,null,null,"","",null,null,null,null,null,null,null,"","",null,null,null,0]
["",{"$f":"名簿!P61","v":""},null,null,{"$f":"名簿!E61","v":0},{"$f":"名簿!CM61","v":""},{"$f":"名簿!Z61","v":""},{"$f":"名簿!CM61","v":""},{"$f":"名簿!Y61","v":""},{"$f":"名簿!CN61","v":""},{"$f":"名簿!CP61","v":0},{"$f":"名簿!CU61","v":"00"},{"$f":"名簿!Q61","v":""},{"$f":"名簿!$AA$6","v":"23"},null,{"$f":"IF(O64=\"\",\"\",IF(I64=1,VLOOKUP(O64,男子種目コード!$A$1:$B$33,2,FALSE),IF(I64=2,VLOOKUP(O64,女子種目コード!$A$1:$B$28,2,FALSE))))","v":""},{"$f":"IF(O64=\"\",\"\",HLOOKUP(O64,名簿!$AH$3:$CH$118,59,FALSE))","v":""},"","",null,{"$f":"IF(T64=\"\",\"\",IF(I64=1,VLOOKUP(T64,男子種目コード!$A$1:$B$33,2,FALSE),IF(I64=2,VLOOKUP(T64,女子種目コード!$A$1:$B$28,2,FALSE))))","v":""},{"$f":"IF(T64=\"\",\"\",HLOOKUP(T64,名簿!$AH$3:$CH$118,59,FALSE))","v":""},"","",null,{"$f":"IF(Y64=\"\",\"\",IF(I64=1,VLOOKUP(Y64,男子種目コード!$A$1:$B$33,2,FALSE),IF(I64=2,VLOOKUP(Y64,女子種目コード!$A$1:$B$27,2,FALSE))))","v":""},null,null,null,null,"","",null,null,null,null,null,null,null,"","",null,null,null,0]
["",{"$f":"名簿!P62","v":""},null,null,{"$f":"名簿!E62","v":0},{"$f":"名簿!CM62","v":""},{"$f":"名簿!Z62","v":""},{"$f":"名簿!CM62","v":""},{"$f":"名簿!Y62","v":""},{"$f":"名簿!CN62","v":""},{"$f":"名簿!CP62","v":0},{"$f":"名簿!CU62","v":"00"},{"$f":"名簿!Q62","v":""},{"$f":"名簿!$AA$6","v":"23"},null,{"$f":"IF(O65=\"\",\"\",IF(I65=1,VLOOKUP(O65,男子種目コード!$A$1:$B$33,2,FALSE),IF(I65=2,VLOOKUP(O65,女子種目コード!$A$1:$B$28,2,FALSE))))","v":""},{"$f":"IF(O65=\"\",\"\",HLOOKUP(O65,名簿!$AH$3:$CH$118,60,FALSE))","v":""},"","",null,{"$f":"IF(T65=\"\",\"\",IF(I65=1,VLOOKUP(T65,男子種目コード!$A$1:$B$33,2,FALSE),IF(I65=2,VLOOKUP(T65,女子種目コード!$A$1:$B$28,2,FALSE))))","v":""},{"$f":"IF(T65=\"\",\"\",HLOOKUP(T65,名簿!$AH$3:$CH$118,60,FALSE))","v":""},"","",null,{"$f":"IF(Y65=\"\",\"\",IF(I65=1,VLOOKUP(Y65,男子種目コード!$A$1:$B$33,2,FALSE),IF(I65=2,VLOOKUP(Y65,女子種目コード!$A$1:$B$27,2,FALSE))))","v":""},null,null,null,null,"","",null,null,null,null,null,null,null,"","",null,null,null,0]
["",{"$f":"名簿!P63","v":""},null,null,{"$f":"名簿!E63","v":0},{"$f":"名簿!CM63","v":""},{"$f":"名簿!Z63","v":""},{"$f":"名簿!CM63","v":""},{"$f":"名簿!Y63","v":""},{"$f":"名簿!CN63","v":""},{"$f":"名簿!CP63","v":0},{"$f":"名簿!CU63","v":"00"},{"$f":"名簿!Q63","v":""},{"$f":"名簿!$AA$6","v":"23"},null,{"$f":"IF(O66=\"\",\"\",IF(I66=1,VLOOKUP(O66,男子種目コード!$A$1:$B$33,2,FALSE),IF(I66=2,VLOOKUP(O66,女子種目コード!$A$1:$B$28,2,FALSE))))","v":""},{"$f":"IF(O66=\"\",\"\",HLOOKUP(O66,名簿!$AH$3:$CH$118,61,FALSE))","v":""},"","",null,{"$f":"IF(T66=\"\",\"\",IF(I66=1,VLOOKUP(T66,男子種目コード!$A$1:$B$33,2,FALSE),IF(I66=2,VLOOKUP(T66,女子種目コード!$A$1:$B$28,2,FALSE))))","v":""},{"$f":"IF(T66=\"\",\"\",HLOOKUP(T66,名簿!$AH$3:$CH$118,61,FALSE))","v":""},"","",null,{"$f":"IF(Y66=\"\",\"\",IF(I66=1,VLOOKUP(Y66,男子種目コード!$A$1:$B$33,2,FALSE),IF(I66=2,VLOOKUP(Y66,女子種目コード!$A$1:$B$27,2,FALSE))))","v":""},null,null,null,null,"","",null,null,null,null,null,null,null,"","",null,null,null,0]
["",{"$f":"名簿!P64","v":""},null,null,{"$f":"名簿!E64","v":0},{"$f":"名簿!CM64","v":""},{"$f":"名簿!Z64","v":""},{"$f":"名簿!CM64","v":""},{"$f":"名簿!Y64","v":""},{"$f":"名簿!CN64","v":""},{"$f":"名簿!CP64","v":0},{"$f":"名簿!CU64","v":"00"},{"$f":"名簿!Q64","v":""},{"$f":"名簿!$AA$6","v":"23"},null,{"$f":"IF(O67=\"\",\"\",IF(I67=1,VLOOKUP(O67,男子種目コード!$A$1:$B$33,2,FALSE),IF(I67=2,VLOOKUP(O67,女子種目コード!$A$1:$B$28,2,FALSE))))","v":""},{"$f":"IF(O67=\"\",\"\",HLOOKUP(O67,名簿!$AH$3:$CH$118,62,FALSE))","v":""},"","",null,{"$f":"IF(T67=\"\",\"\",IF(I67=1,VLOOKUP(T67,男子種目コード!$A$1:$B$33,2,FALSE),IF(I67=2,VLOOKUP(T67,女子種目コード!$A$1:$B$28,2,FALSE))))","v":""},{"$f":"IF(T67=\"\",\"\",HLOOKUP(T67,名簿!$AH$3:$CH$118,62,FALSE))","v":""},"","",null,{"$f":"IF(Y67=\"\",\"\",IF(I67=1,VLOOKUP(Y67,男子種目コード!$A$1:$B$33,2,FALSE),IF(I67=2,VLOOKUP(Y67,女子種目コード!$A$1:$B$27,2,FALSE))))","v":""},null,null,null,null,"","",null,null,null,null,null,null,null,"","",null,null,null,0]
["",{"$f":"名簿!P65","v":""},null,null,{"$f":"名簿!E65","v":0},{"$f":"名簿!CM65","v":""},{"$f":"名簿!Z65","v":""},{"$f":"名簿!CM65","v":""},{"$f":"名簿!Y65","v":""},{"$f":"名簿!CN65","v":""},{"$f":"名簿!CP65","v":0},{"$f":"名簿!CU65","v":"00"},{"$f":"名簿!Q65","v":""},{"$f":"名簿!$AA$6","v":"23"},null,{"$f":"IF(O68=\"\",\"\",IF(I68=1,VLOOKUP(O68,男子種目コード!$A$1:$B$33,2,FALSE),IF(I68=2,VLOOKUP(O68,女子種目コード!$A$1:$B$28,2,FALSE))))","v":""},{"$f":"IF(O68=\"\",\"\",HLOOKUP(O68,名簿!$AH$3:$CH$118,63,FALSE))","v":""},"","",null,{"$f":"IF(T68=\"\",\"\",IF(I68=1,VLOOKUP(T68,男子種目コード!$A$1:$B$33,2,FALSE),IF(I68=2,VLOOKUP(T68,女子種目コード!$A$1:$B$28,2,FALSE))))","v":""},{"$f":"IF(T68=\"\",\"\",HLOOKUP(T68,名簿!$AH$3:$CH$118,63,FALSE))","v":""},"","",null,{"$f":"IF(Y68=\"\",\"\",IF(I68=1,VLOOKUP(Y68,男子種目コード!$A$1:$B$33,2,FALSE),IF(I68=2,VLOOKUP(Y68,女子種目コード!$A$1:$B$27,2,FALSE))))","v":""},null,null,null,null,"","",null,null,null,null,null,null,null,"","",null,null,null,0]
["",{"$f":"名簿!P66","v":""},null,null,{"$f":"名簿!E66","v":0},{"$f":"名簿!CM66","v":""},{"$f":"名簿!Z66","v":""},{"$f":"名簿!CM66","v":""},{"$f":"名簿!Y66","v":""},{"$f":"名簿!CN66","v":""},{"$f":"名簿!CP66","v":0},{"$f":"名簿!CU66","v":"00"},{"$f":"名簿!Q66","v":""},{"$f":"名簿!$AA$6","v":"23"},null,{"$f":"IF(O69=\"\",\"\",IF(I69=1,VLOOKUP(O69,男子種目コード!$A$1:$B$33,2,FALSE),IF(I69=2,VLOOKUP(O69,女子種目コード!$A$1:$B$28,2,FALSE))))","v":""},{"$f":"IF(O69=\"\",\"\",HLOOKUP(O69,名簿!$AH$3:$CH$118,64,FALSE))","v":""},"","",null,{"$f":"IF(T69=\"\",\"\",IF(I69=1,VLOOKUP(T69,男子種目コード!$A$1:$B$33,2,FALSE),IF(I69=2,VLOOKUP(T69,女子種目コード!$A$1:$B$28,2,FALSE))))","v":""},{"$f":"IF(T69=\"\",\"\",HLOOKUP(T69,名簿!$AH$3:$CH$118,64,FALSE))","v":""},"","",null,{"$f":"IF(Y69=\"\",\"\",IF(I69=1,VLOOKUP(Y69,男子種目コード!$A$1:$B$33,2,FALSE),IF(I69=2,VLOOKUP(Y69,女子種目コード!$A$1:$B$27,2,FALSE))))","v":""},null,null,null,null,"","",null,null,null,null,null,null,null,"","",null,null,null,0]
["",{"$f":"名簿!P67","v":""},null,null,{"$f":"名簿!E67","v":0},{"$f":"名簿!CM67","v":""},{"$f":"名簿!Z67","v":""},{"$f":"名簿!CM67","v":""},{"$f":"名簿!Y67","v":""},{"$f":"名簿!CN67","v":""},{"$f":"名簿!CP67","v":0},{"$f":"名簿!CU67","v":"00"},{"$f":"名簿!Q67","v":""},{"$f":"名簿!$AA$6","v":"23"},null,{"$f":"IF(O70=\"\",\"\",IF(I70=1,VLOOKUP(O70,男子種目コード!$A$1:$B$33,2,FALSE),IF(I70=2,VLOOKUP(O70,女子種目コード!$A$1:$B$28,2,FALSE))))","v":""},{"$f":"IF(O70=\"\",\"\",HLOOKUP(O70,名簿!$AH$3:$CH$118,65,FALSE))","v":""},"","",null,{"$f":"IF(T70=\"\",\"\",IF(I70=1,VLOOKUP(T70,男子種目コード!$A$1:$B$33,2,FALSE),IF(I70=2,VLOOKUP(T70,女子種目コード!$A$1:$B$28,2,FALSE))))","v":""},{"$f":"IF(T70=\"\",\"\",HLOOKUP(T70,名簿!$AH$3:$CH$118,65,FALSE))","v":""},"","",null,{"$f":"IF(Y70=\"\",\"\",IF(I70=1,VLOOKUP(Y70,男子種目コード!$A$1:$B$33,2,FALSE),IF(I70=2,VLOOKUP(Y70,女子種目コード!$A$1:$B$27,2,FALSE))))","v":""},null,null,null,null,"","",null,null,null,null,null,null,null,"","",null,null,null,0]
["",{"$f":"名簿!P68","v":""},null,null,{"$f":"名簿!E68","v":0},{"$f":"名簿!CM68","v":""},{"$f":"名簿!Z68","v":""},{"$f":"名簿!CM68","v":""},{"$f":"名簿!Y68","v":""},{"$f":"名簿!CN68","v":""},{"$f":"名簿!CP68","v":0},{"$f":"名簿!CU68","v":"00"},{"$f":"名簿!Q68","v":""},{"$f":"名簿!$AA$6","v":"23"},null,{"$f":"IF(O71=\"\",\"\",IF(I71=1,VLOOKUP(O71,男子種目コード!$A$1:$B$33,2,FALSE),IF(I71=2,VLOOKUP(O71,女子種目コード!$A$1:$B$28,2,FALSE))))","v":""},{"$f":"IF(O71=\"\",\"\",HLOOKUP(O71,名簿!$AH$3:$CH$118,66,FALSE))","v":""},"","",null,{"$f":"IF(T71=\"\",\"\",IF(I71=1,VLOOKUP(T71,男子種目コード!$A$1:$B$33,2,FALSE),IF(I71=2,VLOOKUP(T71,女子種目コード!$A$1:$B$28,2,FALSE))))","v":""},{"$f":"IF(T71=\"\",\"\",HLOOKUP(T71,名簿!$AH$3:$CH$118,66,FALSE))","v":""},"","",null,{"$f":"IF(Y71=\"\",\"\",IF(I71=1,VLOOKUP(Y71,男子種目コード!$A$1:$B$33,2,FALSE),IF(I71=2,VLOOKUP(Y71,女子種目コード!$A$1:$B$27,2,FALSE))))","v":""},null,null,null,null,"","",null,null,null,null,null,null,null,{"$f":"IF(O71=\"\",\"\",1)","v":""},{"$f":"IF(T71=\"\",\"\",1)","v":""},null,null,null,{"$f":"E71","v":0}]
[{"$f":"Z72","v":""},{"$f":"名簿!P69","v":""},null,null,{"$f":"名簿!E69","v":0},{"$f":"名簿!CM69","v":""},{"$f":"名簿!Z69","v":""},{"$f":"名簿!CM69","v":""},{"$f":"名簿!Y69","v":""},{"$f":"名簿!CN69","v":""},{"$f":"名簿!CP69","v":0},{"$f":"名簿!CU69","v":"00"},{"$f":"名簿!Q69","v":""},{"$f":"名簿!$AA$6","v":"23"},null,{"$f":"IF(O72=\"\",\"\",IF(I72=1,VLOOKUP(O72,男子種目コード!$A$1:$B$33,2,FALSE),IF(I72=2,VLOOKUP(O72,女子種目コード!$A$1:$B$28,2,FALSE))))","v":""},{"$f":"IF(O72=\"\",\"\",HLOOKUP(O72,名簿!$AH$3:$CH$118,67,FALSE))","v":""},{"$f":"IF(O72=\"\",\"\",0)","v":""},{"$f":"IF(O72=\"\",\"\",2)","v":""},null,{"$f":"IF(T72=\"\",\"\",IF(I72=1,VLOOKUP(T72,男子種目コード!$A$1:$B$33,2,FALSE),IF(I72=2,VLOOKUP(T72,女子種目コード!$A$1:$B$28,2,FALSE))))","v":""},{"$f":"IF(T72=\"\",\"\",HLOOKUP(T72,名簿!$AH$3:$CH$118,67,FALSE))","v":""},{"$f":"IF(T72=\"\",\"\",0)","v":""},{"$f":"IF(T72=\"\",\"\",2)","v":""},null,{"$f":"IF(Y72=\"\",\"\",IF(I72=1,VLOOKUP(Y72,男子種目コード!$A$1:$B$33,2,FALSE),IF(I72=2,VLOOKUP(Y72,女子種目コード!$A$1:$B$27,2,FALSE))))","v":""},null,null,null,null,{"$f":"IF(AB72=\"\",\"\",0)","v":""},{"$f":"IF(AB72=\"\",\"\",2)","v":""},null,null,null,null,null,null,null,"","",null,null,null,0]
["",{"$f":"名簿!P70","v":""},null,null,{"$f":"名簿!E70","v":0},{"$f":"名簿!CM70","v":""},{"$f":"名簿!Z70","v":""},{"$f":"名簿!CM70","v":""},{"$f":"名簿!Y70","v":""},{"$f":"名簿!CN70","v":""},{"$f":"名簿!CP70","v":0},{"$f":"名簿!CU70","v":"00"},{"$f":"名簿!Q70","v":""},{"$f":"名簿!$AA$6","v":"23"},null,{"$f":"IF(O73=\"\",\"\",IF(I73=1,VLOOKUP(O73,男子種目コード!$A$1:$B$33,2,FALSE),IF(I73=2,VLOOKUP(O73,女子種目コード!$A$1:$B$28,2,FALSE))))","v":""},{"$f":"IF(O73=\"\",\"\",HLOOKUP(O73,名簿!$AH$3:$CH$118,68,FALSE))","v":""},"","",null,{"$f":"IF(T73=\"\",\"\",IF(I73=1,VLOOKUP(T73,男子種目コード!$A$1:$B$33,2,FALSE),IF(I73=2,VLOOKUP(T73,女子種目コード!$A$1:$B$28,2,FALSE))))","v":""},{"$f":"IF(T73=\"\",\"\",HLOOKUP(T73,名簿!$AH$3:$CH$118,68,FALSE))","v":""},"","",null,{"$f":"IF(Y73=\"\",\"\",IF(I73=1,VLOOKUP(Y73,男子種目コード!$A$1:$B$33,2,FALSE),IF(I73=2,VLOOKUP(Y73,女子種目コード!$A$1:$B$27,2,FALSE))))","v":""},null,null,null,null,"","",null,null,null,null,null,null,null,"","",null,null,null,0]
["",{"$f":"名簿!P71","v":""},null,null,{"$f":"名簿!E71","v":0},{"$f":"名簿!CM71","v":""},{"$f":"名簿!Z71","v":""},{"$f":"名簿!CM71","v":""},{"$f":"名簿!Y71","v":""},{"$f":"名簿!CN71","v":""},{"$f":"名簿!CP71","v":0},{"$f":"名簿!CU71","v":"00"},{"$f":"名簿!Q71","v":""},{"$f":"名簿!$AA$6","v":"23"},null,{"$f":"IF(O74=\"\",\"\",IF(I74=1,VLOOKUP(O74,男子種目コード!$A$1:$B$33,2,FALSE),IF(I74=2,VLOOKUP(O74,女子種目コード!$A$1:$B$28,2,FALSE))))","v":""},{"$f":"IF(O74=\"\",\"\",HLOOKUP(O74,名簿!$AH$3:$CH$118,69,FALSE))","v":""},"","",null,{"$f":"IF(T74=\"\",\"\",IF(I74=1,VLOOKUP(T74,男子種目コード!$A$1:$B$33,2,FALSE),IF(I74=2,VLOOKUP(T74,女子種目コード!$A$1:$B$28,2,FALSE))))","v":""},{"$f":"IF(T74=\"\",\"\",HLOOKUP(T74,名簿!$AH$3:$CH$118,69,FALSE))","v":""},"","",null,{"$f":"IF(Y74=\"\",\"\",IF(I74=1,VLOOKUP(Y74,男子種目コード!$A$1:$B$33,2,FALSE),IF(I74=2,VLOOKUP(Y74,女子種目コード!$A$1:$B$27,2,FALSE))))","v":""},null,null,null,null,"","",null,null,null,null,null,null,null,"","",null,null,null,0]
["",{"$f":"名簿!P72","v":""},null,null,{"$f":"名簿!E72","v":0},{"$f":"名簿!CM72","v":""},{"$f":"名簿!Z72","v":""},{"$f":"名簿!CM72","v":""},{"$f":"名簿!Y72","v":""},{"$f":"名簿!CN72","v":""},{"$f":"名簿!CP72","v":0},{"$f":"名簿!CU72","v":"00"},{"$f":"名簿!Q72","v":""},{"$f":"名簿!$AA$6","v":"23"},null,{"$f":"IF(O75=\"\",\"\",IF(I75=1,VLOOKUP(O75,男子種目コード!$A$1:$B$33,2,FALSE),IF(I75=2,VLOOKUP(O75,女子種目コード!$A$1:$B$28,2,FALSE))))","v":""},{"$f":"IF(O75=\"\",\"\",HLOOKUP(O75,名簿!$AH$3:$CH$118,70,FALSE))","v":""},"","",null,{"$f":"IF(T75=\"\",\"\",IF(I75=1,VLOOKUP(T75,男子種目コード!$A$1:$B$33,2,FALSE),IF(I75=2,VLOOKUP(T75,女子種目コード!$A$1:$B$28,2,FALSE))))","v":""},{"$f":"IF(T75=\"\",\"\",HLOOKUP(T75,名簿!$AH$3:$CH$118,70,FALSE))","v":""},"","",null,{"$f":"IF(Y75=\"\",\"\",IF(I75=1,VLOOKUP(Y75,男子種目コード!$A$1:$B$33,2,FALSE),IF(I75=2,VLOOKUP(Y75,女子種目コード!$A$1:$B$27,2,FALSE))))","v":""},null,null,null,null,"","",null,null,null,null,null,null,null,"","",null,null,null,0]
["",{"$f":"名簿!P73","v":""},null,null,{"$f":"名簿!E73","v":0},{"$f":"名簿!CM73","v":""},{"$f":"名簿!Z73","v":""},{"$f":"名簿!CM73","v":""},{"$f":"名簿!Y73","v":""},{"$f":"名簿!CN73","v":""},{"$f":"名簿!CP73","v":0},{"$f":"名簿!CU73","v":"00"},{"$f":"名簿!Q73","v":""},{"$f":"名簿!$AA$6","v":"23"},null,{"$f":"IF(O76=\"\",\"\",IF(I76=1,VLOOKUP(O76,男子種目コード!$A$1:$B$33,2,FALSE),IF(I76=2,VLOOKUP(O76,女子種目コード!$A$1:$B$28,2,FALSE))))","v":""},{"$f":"IF(O76=\"\",\"\",HLOOKUP(O76,名簿!$AH$3:$CH$118,71,FALSE))","v":""},"","",null,{"$f":"IF(T76=\"\",\"\",IF(I76=1,VLOOKUP(T76,男子種目コード!$A$1:$B$33,2,FALSE),IF(I76=2,VLOOKUP(T76,女子種目コード!$A$1:$B$28,2,FALSE))))","v":""},{"$f":"IF(T76=\"\",\"\",HLOOKUP(T76,名簿!$AH$3:$CH$118,71,FALSE))","v":""},"","",null,{"$f":"IF(Y76=\"\",\"\",IF(I76=1,VLOOKUP(Y76,男子種目コード!$A$1:$B$33,2,FALSE),IF(I76=2,VLOOKUP(Y76,女子種目コード!$A$1:$B$27,2,FALSE))))","v":""},null,null,null,null,"","",null,null,null,null,null,null,null,"","",null,null,null,0]
["",{"$f":"名簿!P74","v":""},null,null,{"$f":"名簿!E74","v":0},{"$f":"名簿!CM74","v":""},{"$f":"名簿!Z74","v":""},{"$f":"名簿!CM74","v":""},{"$f":"名簿!Y74","v":""},{"$f":"名簿!CN74","v":""},{"$f":"名簿!CP74","v":0},{"$f":"名簿!CU74","v":"00"},{"$f":"名簿!Q74","v":""},{"$f":"名簿!$AA$6","v":"23"},null,{"$f":"IF(O77=\"\",\"\",IF(I77=1,VLOOKUP(O77,男子種目コード!$A$1:$B$33,2,FALSE),IF(I77=2,VLOOKUP(O77,女子種目コード!$A$1:$B$28,2,FALSE))))","v":""},{"$f":"IF(O77=\"\",\"\",HLOOKUP(O77,名簿!$AH$3:$CH$118,72,FALSE))","v":""},"","",null,{"$f":"IF(T77=\"\",\"\",IF(I77=1,VLOOKUP(T77,男子種目コード!$A$1:$B$33,2,FALSE),IF(I77=2,VLOOKUP(T77,女子種目コード!$A$1:$B$28,2,FALSE))))","v":""},{"$f":"IF(T77=\"\",\"\",HLOOKUP(T77,名簿!$AH$3:$CH$118,72,FALSE))","v":""},"","",null,{"$f":"IF(Y77=\"\",\"\",IF(I77=1,VLOOKUP(Y77,男子種目コード!$A$1:$B$33,2,FALSE),IF(I77=2,VLOOKUP(Y77,女子種目コード!$A$1:$B$27,2,FALSE))))","v":""},null,null,null,null,"","",null,null,null,null,null,null,null,"","",null,null,null,0]
["",{"$f":"名簿!P75","v":""},null,null,{"$f":"名簿!E75","v":0},{"$f":"名簿!CM75","v":""},{"$f":"名簿!Z75","v":""},{"$f":"名簿!CM75","v":""},{"$f":"名簿!Y75","v":""},{"$f":"名簿!CN75","v":""},{"$f":"名簿!CP75","v":0},{"$f":"名簿!CU75","v":"00"},{"$f":"名簿!Q75","v":""},{"$f":"名簿!$AA$6","v":"23"},null,{"$f":"IF(O78=\"\",\"\",IF(I78=1,VLOOKUP(O78,男子種目コード!$A$1:$B$33,2,FALSE),IF(I78=2,VLOOKUP(O78,女子種目コード!$A$1:$B$28,2,FALSE))))","v":""},{"$f":"IF(O78=\"\",\"\",HLOOKUP(O78,名簿!$AH$3:$CH$118,73,FALSE))","v":""},"","",null,{"$f":"IF(T78=\"\",\"\",IF(I78=1,VLOOKUP(T78,男子種目コード!$A$1:$B$33,2,FALSE),IF(I78=2,VLOOKUP(T78,女子種目コード!$A$1:$B$28,2,FALSE))))","v":""},{"$f":"IF(T78=\"\",\"\",HLOOKUP(T78,名簿!$AH$3:$CH$118,73,FALSE))","v":""},"","",null,{"$f":"IF(Y78=\"\",\"\",IF(I78=1,VLOOKUP(Y78,男子種目コード!$A$1:$B$33,2,FALSE),IF(I78=2,VLOOKUP(Y78,女子種目コード!$A$1:$B$27,2,FALSE))))","v":""},null,null,null,null,"","",null,null,null,null,null,null,null,"","",null,null,null,0]
["",{"$f":"名簿!P76","v":""},null,null,{"$f":"名簿!E76","v":0},{"$f":"名簿!CM76","v":""},{"$f":"名簿!Z76","v":""},{"$f":"名簿!CM76","v":""},{"$f":"名簿!Y76","v":""},{"$f":"名簿!CN76","v":""},{"$f":"名簿!CP76","v":0},{"$f":"名簿!CU76","v":"00"},{"$f":"名簿!Q76","v":""},{"$f":"名簿!$AA$6","v":"23"},null,{"$f":"IF(O79=\"\",\"\",IF(I79=1,VLOOKUP(O79,男子種目コード!$A$1:$B$33,2,FALSE),IF(I79=2,VLOOKUP(O79,女子種目コード!$A$1:$B$28,2,FALSE))))","v":""},{"$f":"IF(O79=\"\",\"\",HLOOKUP(O79,名簿!$AH$3:$CH$118,74,FALSE))","v":""},"","",null,{"$f":"IF(T79=\"\",\"\",IF(I79=1,VLOOKUP(T79,男子種目コード!$A$1:$B$33,2,FALSE),IF(I79=2,VLOOKUP(T79,女子種目コード!$A$1:$B$28,2,FALSE))))","v":""},{"$f":"IF(T79=\"\",\"\",HLOOKUP(T79,名簿!$AH$3:$CH$118,74,FALSE))","v":""},"","",null,{"$f":"IF(Y79=\"\",\"\",IF(I79=1,VLOOKUP(Y79,男子種目コード!$A$1:$B$33,2,FALSE),IF(I79=2,VLOOKUP(Y79,女子種目コード!$A$1:$B$27,2,FALSE))))","v":""},null,null,null,null,"","",null,null,null,null,null,null,null,"","",null,null,null,0]
["",{"$f":"名簿!P77","v":""},null,null,{"$f":"名簿!E77","v":0},{"$f":"名簿!CM77","v":""},{"$f":"名簿!Z77","v":""},{"$f":"名簿!CM77","v":""},{"$f":"名簿!Y77","v":""},{"$f":"名簿!CN77","v":""},{"$f":"名簿!CP77","v":0},{"$f":"名簿!CU77","v":"00"},{"$f":"名簿!Q77","v":""},{"$f":"名簿!$AA$6","v":"23"},null,{"$f":"IF(O80=\"\",\"\",IF(I80=1,VLOOKUP(O80,男子種目コード!$A$1:$B$33,2,FALSE),IF(I80=2,VLOOKUP(O80,女子種目コード!$A$1:$B$28,2,FALSE))))","v":""},{"$f":"IF(O80=\"\",\"\",HLOOKUP(O80,名簿!$AH$3:$CH$118,75,FALSE))","v":""},"","",null,{"$f":"IF(T80=\"\",\"\",IF(I80=1,VLOOKUP(T80,男子種目コード!$A$1:$B$33,2,FALSE),IF(I80=2,VLOOKUP(T80,女子種目コード!$A$1:$B$28,2,FALSE))))","v":""},{"$f":"IF(T80=\"\",\"\",HLOOKUP(T80,名簿!$AH$3:$CH$118,75,FALSE))","v":""},"","",null,{"$f":"IF(Y80=\"\",\"\",IF(I80=1,VLOOKUP(Y80,男子種目コード!$A$1:$B$33,2,FALSE),IF(I80=2,VLOOKUP(Y80,女子種目コード!$A$1:$B$27,2,FALSE))))","v":""},null,null,null,null,"","",null,null,null,null,null,null,null,"","",null,null,null,0]
["",{"$f":"名簿!P78","v":""},null,null,{"$f":"名簿!E78","v":0},{"$f":"名簿!CM78","v":""},{"$f":"名簿!Z78","v":""},{"$f":"名簿!CM78","v":""},{"$f":"名簿!Y78","v":""},{"$f":"名簿!CN78","v":""},{"$f":"名簿!CP78","v":0},{"$f":"名簿!CU78","v":"00"},{"$f":"名簿!Q78","v":""},{"$f":"名簿!$AA$6","v":"23"},null,{"$f":"IF(O81=\"\",\"\",IF(I81=1,VLOOKUP(O81,男子種目コード!$A$1:$B$33,2,FALSE),IF(I81=2,VLOOKUP(O81,女子種目コード!$A$1:$B$28,2,FALSE))))","v":""},{"$f":"IF(O81=\"\",\"\",HLOOKUP(O81,名簿!$AH$3:$CH$118,76,FALSE))","v":""},"","",null,{"$f":"IF(T81=\"\",\"\",IF(I81=1,VLOOKUP(T81,男子種目コード!$A$1:$B$33,2,FALSE),IF(I81=2,VLOOKUP(T81,女子種目コード!$A$1:$B$28,2,FALSE))))","v":""},{"$f":"IF(T81=\"\",\"\",HLOOKUP(T81,名簿!$AH$3:$CH$118,76,FALSE))","v":""},"","",null,{"$f":"IF(Y81=\"\",\"\",IF(I81=1,VLOOKUP(Y81,男子種目コード!$A$1:$B$33,2,FALSE),IF(I81=2,VLOOKUP(Y81,女子種目コード!$A$1:$B$27,2,FALSE))))","v":""},null,null,null,null,"","",null,null,null,null,null,null,null,"","",null,null,null,0]
["",{"$f":"名簿!P79","v":""},null,null,{"$f":"名簿!E79","v":0},{"$f":"名簿!CM79","v":""},{"$f":"名簿!Z79","v":""},{"$f":"名簿!CM79","v":""},{"$f":"名簿!Y79","v":""},{"$f":"名簿!CN79","v":""},{"$f":"名簿!CP79","v":0},{"$f":"名簿!CU79","v":"00"},{"$f":"名簿!Q79","v":""},{"$f":"名簿!$AA$6","v":"23"},null,{"$f":"IF(O82=\"\",\"\",IF(I82=1,VLOOKUP(O82,男子種目コード!$A$1:$B$33,2,FALSE),IF(I82=2,VLOOKUP(O82,女子種目コード!$A$1:$B$28,2,FALSE))))","v":""},{"$f":"IF(O82=\"\",\"\",HLOOKUP(O82,名簿!$AH$3:$CH$118,77,FALSE))","v":""},"","",null,{"$f":"IF(T82=\"\",\"\",IF(I82=1,VLOOKUP(T82,男子種目コード!$A$1:$B$33,2,FALSE),IF(I82=2,VLOOKUP(T82,女子種目コード!$A$1:$B$28,2,FALSE))))","v":""},{"$f":"IF(T82=\"\",\"\",HLOOKUP(T82,名簿!$AH$3:$CH$118,77,FALSE))","v":""},"","",null,{"$f":"IF(Y82=\"\",\"\",IF(I82=1,VLOOKUP(Y82,男子種目コード!$A$1:$B$33,2,FALSE),IF(I82=2,VLOOKUP(Y82,女子種目コード!$A$1:$B$27,2,FALSE))))","v":""},null,null,null,null,"","",null,null,null,null,null,null,null,"","",null,null,null,0]
["",{"$f":"名簿!P80","v":""},null,null,{"$f":"名簿!E80","v":0},{"$f":"名簿!CM80","v":""},{"$f":"名簿!Z80","v":""},{"$f":"名簿!CM80","v":""},{"$f":"名簿!Y80","v":""},{"$f":"名簿!CN80","v":""},{"$f":"名簿!CP80","v":0},{"$f":"名簿!CU80","v":"00"},{"$f":"名簿!Q80","v":""},{"$f":"名簿!$AA$6","v":"23"},null,{"$f":"IF(O83=\"\",\"\",IF(I83=1,VLOOKUP(O83,男子種目コード!$A$1:$B$33,2,FALSE),IF(I83=2,VLOOKUP(O83,女子種目コード!$A$1:$B$28,2,FALSE))))","v":""},{"$f":"IF(O83=\"\",\"\",HLOOKUP(O83,名簿!$AH$3:$CH$118,78,FALSE))","v":""},"","",null,{"$f":"IF(T83=\"\",\"\",IF(I83=1,VLOOKUP(T83,男子種目コード!$A$1:$B$33,2,FALSE),IF(I83=2,VLOOKUP(T83,女子種目コード!$A$1:$B$28,2,FALSE))))","v":""},{"$f":"IF(T83=\"\",\"\",HLOOKUP(T83,名簿!$AH$3:$CH$118,78,FALSE))","v":""},"","",null,{"$f":"IF(Y83=\"\",\"\",IF(I83=1,VLOOKUP(Y83,男子種目コード!$A$1:$B$33,2,FALSE),IF(I83=2,VLOOKUP(Y83,女子種目コード!$A$1:$B$27,2,FALSE))))","v":""},null,null,null,null,"","",null,null,null,null,null,null,null,"","",null,null,null,0]
["",{"$f":"名簿!P81","v":""},null,null,{"$f":"名簿!E81","v":0},{"$f":"名簿!CM81","v":""},{"$f":"名簿!Z81","v":""},{"$f":"名簿!CM81","v":""},{"$f":"名簿!Y81","v":""},{"$f":"名簿!CN81","v":""},{"$f":"名簿!CP81","v":0},{"$f":"名簿!CU81","v":"00"},{"$f":"名簿!Q81","v":""},{"$f":"名簿!$AA$6","v":"23"},null,{"$f":"IF(O84=\"\",\"\",IF(I84=1,VLOOKUP(O84,男子種目コード!$A$1:$B$33,2,FALSE),IF(I84=2,VLOOKUP(O84,女子種目コード!$A$1:$B$28,2,FALSE))))","v":""},{"$f":"IF(O84=\"\",\"\",HLOOKUP(O84,名簿!$AH$3:$CH$118,79,FALSE))","v":""},"","",null,{"$f":"IF(T84=\"\",\"\",IF(I84=1,VLOOKUP(T84,男子種目コード!$A$1:$B$33,2,FALSE),IF(I84=2,VLOOKUP(T84,女子種目コード!$A$1:$B$28,2,FALSE))))","v":""},{"$f":"IF(T84=\"\",\"\",HLOOKUP(T84,名簿!$AH$3:$CH$118,79,FALSE))","v":""},"","",null,{"$f":"IF(Y84=\"\",\"\",IF(I84=1,VLOOKUP(Y84,男子種目コード!$A$1:$B$33,2,FALSE),IF(I84=2,VLOOKUP(Y84,女子種目コード!$A$1:$B$27,2,FALSE))))","v":""},null,null,null,null,"","",null,null,null,null,null,null,null,"","",null,null,null,0]
["",{"$f":"名簿!P82","v":""},null,null,{"$f":"名簿!E82","v":0},{"$f":"名簿!CM82","v":""},{"$f":"名簿!Z82","v":""},{"$f":"名簿!CM82","v":""},{"$f":"名簿!Y82","v":""},{"$f":"名簿!CN82","v":""},{"$f":"名簿!CP82","v":0},{"$f":"名簿!CU82","v":"00"},{"$f":"名簿!Q82","v":""},{"$f":"名簿!$AA$6","v":"23"},null,{"$f":"IF(O85=\"\",\"\",IF(I85=1,VLOOKUP(O85,男子種目コード!$A$1:$B$33,2,FALSE),IF(I85=2,VLOOKUP(O85,女子種目コード!$A$1:$B$28,2,FALSE))))","v":""},{"$f":"IF(O85=\"\",\"\",HLOOKUP(O85,名簿!$AH$3:$CH$118,80,FALSE))","v":""},"","",null,{"$f":"IF(T85=\"\",\"\",IF(I85=1,VLOOKUP(T85,男子種目コード!$A$1:$B$33,2,FALSE),IF(I85=2,VLOOKUP(T85,女子種目コード!$A$1:$B$28,2,FALSE))))","v":""},{"$f":"IF(T85=\"\",\"\",HLOOKUP(T85,名簿!$AH$3:$CH$118,80,FALSE))","v":""},"","",null,{"$f":"IF(Y85=\"\",\"\",IF(I85=1,VLOOKUP(Y85,男子種目コード!$A$1:$B$33,2,FALSE),IF(I85=2,VLOOKUP(Y85,女子種目コード!$A$1:$B$27,2,FALSE))))","v":""},null,null,null,null,"","",null,null,null,null,null,null,null,"","",null,null,null,0]
["",{"$f":"名簿!P83","v":""},null,null,{"$f":"名簿!E83","v":0},{"$f":"名簿!CM83","v":""},{"$f":"名簿!Z83","v":""},{"$f":"名簿!CM83","v":""},{"$f":"名簿!Y83","v":""},{"$f":"名簿!CN83","v":""},{"$f":"名簿!CP83","v":0},{"$f":"名簿!CU83","v":"00"},{"$f":"名簿!Q83","v":""},{"$f":"名簿!$AA$6","v":"23"},null,{"$f":"IF(O86=\"\",\"\",IF(I86=1,VLOOKUP(O86,男子種目コード!$A$1:$B$33,2,FALSE),IF(I86=2,VLOOKUP(O86,女子種目コード!$A$1:$B$28,2,FALSE))))","v":""},{"$f":"IF(O86=\"\",\"\",HLOOKUP(O86,名簿!$AH$3:$CH$118,81,FALSE))","v":""},"","",null,{"$f":"IF(T86=\"\",\"\",IF(I86=1,VLOOKUP(T86,男子種目コード!$A$1:$B$33,2,FALSE),IF(I86=2,VLOOKUP(T86,女子種目コード!$A$1:$B$28,2,FALSE))))","v":""},{"$f":"IF(T86=\"\",\"\",HLOOKUP(T86,名簿!$AH$3:$CH$118,81,FALSE))","v":""},"","",null,{"$f":"IF(Y86=\"\",\"\",IF(I86=1,VLOOKUP(Y86,男子種目コード!$A$1:$B$33,2,FALSE),IF(I86=2,VLOOKUP(Y86,女子種目コード!$A$1:$B$27,2,FALSE))))","v":""},null,null,null,null,"","",null,null,null,null,null,null,null,"","",null,null,null,0]
["",{"$f":"名簿!P84","v":""},null,null,{"$f":"名簿!E84","v":0},{"$f":"名簿!CM84","v":""},{"$f":"名簿!Z84","v":""},{"$f":"名簿!CM84","v":""},{"$f":"名簿!Y84","v":""},{"$f":"名簿!CN84","v":""},{"$f":"名簿!CP84","v":0},{"$f":"名簿!CU84","v":"00"},{"$f":"名簿!Q84","v":""},{"$f":"名簿!$AA$6","v":"23"},null,{"$f":"IF(O87=\"\",\"\",IF(I87=1,VLOOKUP(O87,男子種目コード!$A$1:$B$33,2,FALSE),IF(I87=2,VLOOKUP(O87,女子種目コード!$A$1:$B$28,2,FALSE))))","v":""},{"$f":"IF(O87=\"\",\"\",HLOOKUP(O87,名簿!$AH$3:$CH$118,82,FALSE))","v":""},"","",null,{"$f":"IF(T87=\"\",\"\",IF(I87=1,VLOOKUP(T87,男子種目コード!$A$1:$B$33,2,FALSE),IF(I87=2,VLOOKUP(T87,女子種目コード!$A$1:$B$28,2,FALSE))))","v":""},{"$f":"IF(T87=\"\",\"\",HLOOKUP(T87,名簿!$AH$3:$CH$118,82,FALSE))","v":""},"","",null,{"$f":"IF(Y87=\"\",\"\",IF(I87=1,VLOOKUP(Y87,男子種目コード!$A$1:$B$33,2,FALSE),IF(I87=2,VLOOKUP(Y87,女子種目コード!$A$1:$B$27,2,FALSE))))","v":""},null,null,null,null,"","",null,null,null,null,null,null,null,"","",null,null,null,0]
["",{"$f":"名簿!P85","v":""},null,null,{"$f":"名簿!E85","v":0},{"$f":"名簿!CM85","v":""},{"$f":"名簿!Z85","v":""},{"$f":"名簿!CM85","v":""},{"$f":"名簿!Y85","v":""},{"$f":"名簿!CN85","v":""},{"$f":"名簿!CP85","v":0},{"$f":"名簿!CU85","v":"00"},{"$f":"名簿!Q85","v":""},{"$f":"名簿!$AA$6","v":"23"},null,{"$f":"IF(O88=\"\",\"\",IF(I88=1,VLOOKUP(O88,男子種目コード!$A$1:$B$33,2,FALSE),IF(I88=2,VLOOKUP(O88,女子種目コード!$A$1:$B$28,2,FALSE))))","v":""},{"$f":"IF(O88=\"\",\"\",HLOOKUP(O88,名簿!$AH$3:$CH$118,83,FALSE))","v":""},"","",null,{"$f":"IF(T88=\"\",\"\",IF(I88=1,VLOOKUP(T88,男子種目コード!$A$1:$B$33,2,FALSE),IF(I88=2,VLOOKUP(T88,女子種目コード!$A$1:$B$28,2,FALSE))))","v":""},{"$f":"IF(T88=\"\",\"\",HLOOKUP(T88,名簿!$AH$3:$CH$118,83,FALSE))","v":""},"","",null,{"$f":"IF(Y88=\"\",\"\",IF(I88=1,VLOOKUP(Y88,男子種目コード!$A$1:$B$33,2,FALSE),IF(I88=2,VLOOKUP(Y88,女子種目コード!$A$1:$B$27,2,FALSE))))","v":""},null,null,null,null,"","",null,null,null,null,null,null,null,"","",null,null,null,0]
["",{"$f":"名簿!P86","v":""},null,null,{"$f":"名簿!E86","v":0},{"$f":"名簿!CM86","v":""},{"$f":"名簿!Z86","v":""},{"$f":"名簿!CM86","v":""},{"$f":"名簿!Y86","v":""},{"$f":"名簿!CN86","v":""},{"$f":"名簿!CP86","v":0},{"$f":"名簿!CU86","v":"00"},{"$f":"名簿!Q86","v":""},{"$f":"名簿!$AA$6","v":"23"},null,{"$f":"IF(O89=\"\",\"\",IF(I89=1,VLOOKUP(O89,男子種目コード!$A$1:$B$33,2,FALSE),IF(I89=2,VLOOKUP(O89,女子種目コード!$A$1:$B$28,2,FALSE))))","v":""},{"$f":"IF(O89=\"\",\"\",HLOOKUP(O89,名簿!$AH$3:$CH$118,84,FALSE))","v":""},"","",null,{"$f":"IF(T89=\"\",\"\",IF(I89=1,VLOOKUP(T89,男子種目コード!$A$1:$B$33,2,FALSE),IF(I89=2,VLOOKUP(T89,女子種目コード!$A$1:$B$28,2,FALSE))))","v":""},{"$f":"IF(T89=\"\",\"\",HLOOKUP(T89,名簿!$AH$3:$CH$118,84,FALSE))","v":""},"","",null,{"$f":"IF(Y89=\"\",\"\",IF(I89=1,VLOOKUP(Y89,男子種目コード!$A$1:$B$33,2,FALSE),IF(I89=2,VLOOKUP(Y89,女子種目コード!$A$1:$B$27,2,FALSE))))","v":""},null,null,null,null,"","",null,null,null,null,null,null,null,"","",null,null,null,0]
["",{"$f":"名簿!P87","v":""},null,null,{"$f":"名簿!E87","v":0},{"$f":"名簿!CM87","v":""},{"$f":"名簿!Z87","v":""},{"$f":"名簿!CM87","v":""},{"$f":"名簿!Y87","v":""},{"$f":"名簿!CN87","v":""},{"$f":"名簿!CP87","v":0},{"$f":"名簿!CU87","v":"00"},{"$f":"名簿!Q87","v":""},{"$f":"名簿!$AA$6","v":"23"},null,{"$f":"IF(O90=\"\",\"\",IF(I90=1,VLOOKUP(O90,男子種目コード!$A$1:$B$33,2,FALSE),IF(I90=2,VLOOKUP(O90,女子種目コード!$A$1:$B$28,2,FALSE))))","v":""},{"$f":"IF(O90=\"\",\"\",HLOOKUP(O90,名簿!$AH$3:$CH$118,85,FALSE))","v":""},"","",null,{"$f":"IF(T90=\"\",\"\",IF(I90=1,VLOOKUP(T90,男子種目コード!$A$1:$B$33,2,FALSE),IF(I90=2,VLOOKUP(T90,女子種目コード!$A$1:$B$28,2,FALSE))))","v":""},{"$f":"IF(T90=\"\",\"\",HLOOKUP(T90,名簿!$AH$3:$CH$118,85,FALSE))","v":""},"","",null,{"$f":"IF(Y90=\"\",\"\",IF(I90=1,VLOOKUP(Y90,男子種目コード!$A$1:$B$33,2,FALSE),IF(I90=2,VLOOKUP(Y90,女子種目コード!$A$1:$B$27,2,FALSE))))","v":""},null,null,null,null,"","",null,null,null,null,null,null,null,"","",null,null,null,0]
["",{"$f":"名簿!P88","v":""},null,null,{"$f":"名簿!E88","v":0},{"$f":"名簿!CM88","v":""},{"$f":"名簿!Z88","v":""},{"$f":"名簿!CM88","v":""},{"$f":"名簿!Y88","v":""},{"$f":"名簿!CN88","v":""},{"$f":"名簿!CP88","v":0},{"$f":"名簿!CU88","v":"00"},{"$f":"名簿!Q88","v":""},{"$f":"名簿!$AA$6","v":"23"},null,{"$f":"IF(O91=\"\",\"\",IF(I91=1,VLOOKUP(O91,男子種目コード!$A$1:$B$33,2,FALSE),IF(I91=2,VLOOKUP(O91,女子種目コード!$A$1:$B$28,2,FALSE))))","v":""},{"$f":"IF(O91=\"\",\"\",HLOOKUP(O91,名簿!$AH$3:$CH$118,86,FALSE))","v":""},"","",null,{"$f":"IF(T91=\"\",\"\",IF(I91=1,VLOOKUP(T91,男子種目コード!$A$1:$B$33,2,FALSE),IF(I91=2,VLOOKUP(T91,女子種目コード!$A$1:$B$28,2,FALSE))))","v":""},{"$f":"IF(T91=\"\",\"\",HLOOKUP(T91,名簿!$AH$3:$CH$118,86,FALSE))","v":""},"","",null,{"$f":"IF(Y91=\"\",\"\",IF(I91=1,VLOOKUP(Y91,男子種目コード!$A$1:$B$33,2,FALSE),IF(I91=2,VLOOKUP(Y91,女子種目コード!$A$1:$B$27,2,FALSE))))","v":""},null,null,null,null,"","",null,null,null,null,null,null,null,"","",null,null,null,0]
["",{"$f":"名簿!P89","v":""},null,null,{"$f":"名簿!E89","v":0},{"$f":"名簿!CM89","v":""},{"$f":"名簿!Z89","v":""},{"$f":"名簿!CM89","v":""},{"$f":"名簿!Y89","v":""},{"$f":"名簿!CN89","v":""},{"$f":"名簿!CP89","v":0},{"$f":"名簿!CU89","v":"00"},{"$f":"名簿!Q89","v":""},{"$f":"名簿!$AA$6","v":"23"},null,{"$f":"IF(O92=\"\",\"\",IF(I92=1,VLOOKUP(O92,男子種目コード!$A$1:$B$33,2,FALSE),IF(I92=2,VLOOKUP(O92,女子種目コード!$A$1:$B$28,2,FALSE))))","v":""},{"$f":"IF(O92=\"\",\"\",HLOOKUP(O92,名簿!$AH$3:$CH$118,87,FALSE))","v":""},"","",null,{"$f":"IF(T92=\"\",\"\",IF(I92=1,VLOOKUP(T92,男子種目コード!$A$1:$B$33,2,FALSE),IF(I92=2,VLOOKUP(T92,女子種目コード!$A$1:$B$28,2,FALSE))))","v":""},{"$f":"IF(T92=\"\",\"\",HLOOKUP(T92,名簿!$AH$3:$CH$118,87,FALSE))","v":""},"","",null,{"$f":"IF(Y92=\"\",\"\",IF(I92=1,VLOOKUP(Y92,男子種目コード!$A$1:$B$33,2,FALSE),IF(I92=2,VLOOKUP(Y92,女子種目コード!$A$1:$B$27,2,FALSE))))","v":""},null,null,null,null,"","",null,null,null,null,null,null,null,"","",null,null,null,0]
["",{"$f":"名簿!P90","v":""},null,null,{"$f":"名簿!E90","v":0},{"$f":"名簿!CM90","v":""},{"$f":"名簿!Z90","v":""},{"$f":"名簿!CM90","v":""},{"$f":"名簿!Y90","v":""},{"$f":"名簿!CN90","v":""},{"$f":"名簿!CP90","v":0},{"$f":"名簿!CU90","v":"00"},{"$f":"名簿!Q90","v":""},{"$f":"名簿!$AA$6","v":"23"},null,{"$f":"IF(O93=\"\",\"\",IF(I93=1,VLOOKUP(O93,男子種目コード!$A$1:$B$33,2,FALSE),IF(I93=2,VLOOKUP(O93,女子種目コード!$A$1:$B$28,2,FALSE))))","v":""},{"$f":"IF(O93=\"\",\"\",HLOOKUP(O93,名簿!$AH$3:$CH$118,88,FALSE))","v":""},"","",null,{"$f":"IF(T93=\"\",\"\",IF(I93=1,VLOOKUP(T93,男子種目コード!$A$1:$B$33,2,FALSE),IF(I93=2,VLOOKUP(T93,女子種目コード!$A$1:$B$28,2,FALSE))))","v":""},{"$f":"IF(T93=\"\",\"\",HLOOKUP(T93,名簿!$AH$3:$CH$118,88,FALSE))","v":""},"","",null,{"$f":"IF(Y93=\"\",\"\",IF(I93=1,VLOOKUP(Y93,男子種目コード!$A$1:$B$33,2,FALSE),IF(I93=2,VLOOKUP(Y93,女子種目コード!$A$1:$B$27,2,FALSE))))","v":""},null,null,null,null,"","",null,null,null,null,null,null,null,"","",null,null,null,0]
["",{"$f":"名簿!P91","v":""},null,null,{"$f":"名簿!E91","v":0},{"$f":"名簿!CM91","v":""},{"$f":"名簿!Z91","v":""},{"$f":"名簿!CM91","v":""},{"$f":"名簿!Y91","v":""},{"$f":"名簿!CN91","v":""},{"$f":"名簿!CP91","v":0},{"$f":"名簿!CU91","v":"00"},{"$f":"名簿!Q91","v":""},{"$f":"名簿!$AA$6","v":"23"},null,{"$f":"IF(O94=\"\",\"\",IF(I94=1,VLOOKUP(O94,男子種目コード!$A$1:$B$33,2,FALSE),IF(I94=2,VLOOKUP(O94,女子種目コード!$A$1:$B$28,2,FALSE))))","v":""},{"$f":"IF(O94=\"\",\"\",HLOOKUP(O94,名簿!$AH$3:$CH$118,89,FALSE))","v":""},"","",null,{"$f":"IF(T94=\"\",\"\",IF(I94=1,VLOOKUP(T94,男子種目コード!$A$1:$B$33,2,FALSE),IF(I94=2,VLOOKUP(T94,女子種目コード!$A$1:$B$28,2,FALSE))))","v":""},{"$f":"IF(T94=\"\",\"\",HLOOKUP(T94,名簿!$AH$3:$CH$118,89,FALSE))","v":""},"","",null,{"$f":"IF(Y94=\"\",\"\",IF(I94=1,VLOOKUP(Y94,男子種目コード!$A$1:$B$33,2,FALSE),IF(I94=2,VLOOKUP(Y94,女子種目コード!$A$1:$B$27,2,FALSE))))","v":""},null,null,null,null,"","",null,null,null,null,null,null,null,"","",null,null,null,0]
["",{"$f":"名簿!P92","v":""},null,null,{"$f":"名簿!E92","v":0},{"$f":"名簿!CM92","v":""},{"$f":"名簿!Z92","v":""},{"$f":"名簿!CM92","v":""},{"$f":"名簿!Y92","v":""},{"$f":"名簿!CN92","v":""},{"$f":"名簿!CP92","v":0},{"$f":"名簿!CU92","v":"00"},{"$f":"名簿!Q92","v":""},{"$f":"名簿!$AA$6","v":"23"},null,{"$f":"IF(O95=\"\",\"\",IF(I95=1,VLOOKUP(O95,男子種目コード!$A$1:$B$33,2,FALSE),IF(I95=2,VLOOKUP(O95,女子種目コード!$A$1:$B$28,2,FALSE))))","v":""},{"$f":"IF(O95=\"\",\"\",HLOOKUP(O95,名簿!$AH$3:$CH$118,90,FALSE))","v":""},"","",null,{"$f":"IF(T95=\"\",\"\",IF(I95=1,VLOOKUP(T95,男子種目コード!$A$1:$B$33,2,FALSE),IF(I95=2,VLOOKUP(T95,女子種目コード!$A$1:$B$28,2,FALSE))))","v":""},{"$f":"IF(T95=\"\",\"\",HLOOKUP(T95,名簿!$AH$3:$CH$118,90,FALSE))","v":""},"","",null,{"$f":"IF(Y95=\"\",\"\",IF(I95=1,VLOOKUP(Y95,男子種目コード!$A$1:$B$33,2,FALSE),IF(I95=2,VLOOKUP(Y95,女子種目コード!$A$1:$B$27,2,FALSE))))","v":""},null,null,null,null,"","",null,null,null,null,null,null,null,"","",null,null,null,0]
["",{"$f":"名簿!P93","v":""},null,null,{"$f":"名簿!E93","v":0},{"$f":"名簿!CM93","v":""},{"$f":"名簿!Z93","v":""},{"$f":"名簿!CM93","v":""},{"$f":"名簿!Y93","v":""},{"$f":"名簿!CN93","v":""},{"$f":"名簿!CP93","v":0},{"$f":"名簿!CU93","v":"00"},{"$f":"名簿!Q93","v":""},{"$f":"名簿!$AA$6","v":"23"},null,{"$f":"IF(O96=\"\",\"\",IF(I96=1,VLOOKUP(O96,男子種目コード!$A$1:$B$33,2,FALSE),IF(I96=2,VLOOKUP(O96,女子種目コード!$A$1:$B$28,2,FALSE))))","v":""},{"$f":"IF(O96=\"\",\"\",HLOOKUP(O96,名簿!$AH$3:$CH$118,91,FALSE))","v":""},"","",null,{"$f":"IF(T96=\"\",\"\",IF(I96=1,VLOOKUP(T96,男子種目コード!$A$1:$B$33,2,FALSE),IF(I96=2,VLOOKUP(T96,女子種目コード!$A$1:$B$28,2,FALSE))))","v":""},{"$f":"IF(T96=\"\",\"\",HLOOKUP(T96,名簿!$AH$3:$CH$118,91,FALSE))","v":""},"","",null,{"$f":"IF(Y96=\"\",\"\",IF(I96=1,VLOOKUP(Y96,男子種目コード!$A$1:$B$33,2,FALSE),IF(I96=2,VLOOKUP(Y96,女子種目コード!$A$1:$B$27,2,FALSE))))","v":""},null,null,null,null,"","",null,null,null,null,null,null,null,"","",null,null,null,0]
["",{"$f":"名簿!P94","v":""},null,null,{"$f":"名簿!E94","v":0},{"$f":"名簿!CM94","v":""},{"$f":"名簿!Z94","v":""},{"$f":"名簿!CM94","v":""},{"$f":"名簿!Y94","v":""},{"$f":"名簿!CN94","v":""},{"$f":"名簿!CP94","v":0},{"$f":"名簿!CU94","v":"00"},{"$f":"名簿!Q94","v":""},{"$f":"名簿!$AA$6","v":"23"},null,{"$f":"IF(O97=\"\",\"\",IF(I97=1,VLOOKUP(O97,男子種目コード!$A$1:$B$33,2,FALSE),IF(I97=2,VLOOKUP(O97,女子種目コード!$A$1:$B$28,2,FALSE))))","v":""},{"$f":"IF(O97=\"\",\"\",HLOOKUP(O97,名簿!$AH$3:$CH$118,92,FALSE))","v":""},"","",null,{"$f":"IF(T97=\"\",\"\",IF(I97=1,VLOOKUP(T97,男子種目コード!$A$1:$B$33,2,FALSE),IF(I97=2,VLOOKUP(T97,女子種目コード!$A$1:$B$28,2,FALSE))))","v":""},{"$f":"IF(T97=\"\",\"\",HLOOKUP(T97,名簿!$AH$3:$CH$118,92,FALSE))","v":""},"","",null,{"$f":"IF(Y97=\"\",\"\",IF(I97=1,VLOOKUP(Y97,男子種目コード!$A$1:$B$33,2,FALSE),IF(I97=2,VLOOKUP(Y97,女子種目コード!$A$1:$B$27,2,FALSE))))","v":""},null,null,null,null,"","",null,null,null,null,null,null,null,"","",null,null,null,0]
["",{"$f":"名簿!P95","v":""},null,null,{"$f":"名簿!E95","v":0},{"$f":"名簿!CM95","v":""},{"$f":"名簿!Z95","v":""},{"$f":"名簿!CM95","v":""},{"$f":"名簿!Y95","v":""},{"$f":"名簿!CN95","v":""},{"$f":"名簿!CP95","v":0},{"$f":"名簿!CU95","v":"00"},{"$f":"名簿!Q95","v":""},{"$f":"名簿!$AA$6","v":"23"},null,{"$f":"IF(O98=\"\",\"\",IF(I98=1,VLOOKUP(O98,男子種目コード!$A$1:$B$33,2,FALSE),IF(I98=2,VLOOKUP(O98,女子種目コード!$A$1:$B$28,2,FALSE))))","v":""},{"$f":"IF(O98=\"\",\"\",HLOOKUP(O98,名簿!$AH$3:$CH$118,93,FALSE))","v":""},"","",null,{"$f":"IF(T98=\"\",\"\",IF(I98=1,VLOOKUP(T98,男子種目コード!$A$1:$B$33,2,FALSE),IF(I98=2,VLOOKUP(T98,女子種目コード!$A$1:$B$28,2,FALSE))))","v":""},{"$f":"IF(T98=\"\",\"\",HLOOKUP(T98,名簿!$AH$3:$CH$118,93,FALSE))","v":""},"","",null,{"$f":"IF(Y98=\"\",\"\",IF(I98=1,VLOOKUP(Y98,男子種目コード!$A$1:$B$33,2,FALSE),IF(I98=2,VLOOKUP(Y98,女子種目コード!$A$1:$B$27,2,FALSE))))","v":""},null,null,null,null,"","",null,null,null,null,null,null,null,"","",null,null,null,0]
["",{"$f":"名簿!P96","v":""},null,null,{"$f":"名簿!E96","v":0},{"$f":"名簿!CM96","v":""},{"$f":"名簿!Z96","v":""},{"$f":"名簿!CM96","v":""},{"$f":"名簿!Y96","v":""},{"$f":"名簿!CN96","v":""},{"$f":"名簿!CP96","v":0},{"$f":"名簿!CU96","v":"00"},{"$f":"名簿!Q96","v":""},{"$f":"名簿!$AA$6","v":"23"},null,{"$f":"IF(O99=\"\",\"\",IF(I99=1,VLOOKUP(O99,男子種目コード!$A$1:$B$33,2,FALSE),IF(I99=2,VLOOKUP(O99,女子種目コード!$A$1:$B$28,2,FALSE))))","v":""},{"$f":"IF(O99=\"\",\"\",HLOOKUP(O99,名簿!$AH$3:$CH$118,94,FALSE))","v":""},"","",null,{"$f":"IF(T99=\"\",\"\",IF(I99=1,VLOOKUP(T99,男子種目コード!$A$1:$B$33,2,FALSE),IF(I99=2,VLOOKUP(T99,女子種目コード!$A$1:$B$28,2,FALSE))))","v":""},{"$f":"IF(T99=\"\",\"\",HLOOKUP(T99,名簿!$AH$3:$CH$118,94,FALSE))","v":""},"","",null,{"$f":"IF(Y99=\"\",\"\",IF(I99=1,VLOOKUP(Y99,男子種目コード!$A$1:$B$33,2,FALSE),IF(I99=2,VLOOKUP(Y99,女子種目コード!$A$1:$B$27,2,FALSE))))","v":""},null,null,null,null,"","",null,null,null,null,null,null,null,"","",null,null,null,0]
["",{"$f":"名簿!P97","v":""},null,null,{"$f":"名簿!E97","v":0},{"$f":"名簿!CM97","v":""},{"$f":"名簿!Z97","v":""},{"$f":"名簿!CM97","v":""},{"$f":"名簿!Y97","v":""},{"$f":"名簿!CN97","v":""},{"$f":"名簿!CP97","v":0},{"$f":"名簿!CU97","v":"00"},{"$f":"名簿!Q97","v":""},{"$f":"名簿!$AA$6","v":"23"},null,{"$f":"IF(O100=\"\",\"\",IF(I100=1,VLOOKUP(O100,男子種目コード!$A$1:$B$33,2,FALSE),IF(I100=2,VLOOKUP(O100,女子種目コード!$A$1:$B$28,2,FALSE))))","v":""},{"$f":"IF(O100=\"\",\"\",HLOOKUP(O100,名簿!$AH$3:$CH$118,95,FALSE))","v":""},"","",null,{"$f":"IF(T100=\"\",\"\",IF(I100=1,VLOOKUP(T100,男子種目コード!$A$1:$B$33,2,FALSE),IF(I100=2,VLOOKUP(T100,女子種目コード!$A$1:$B$28,2,FALSE))))","v":""},{"$f":"IF(T100=\"\",\"\",HLOOKUP(T100,名簿!$AH$3:$CH$118,95,FALSE))","v":""},"","",null,{"$f":"IF(Y100=\"\",\"\",IF(I100=1,VLOOKUP(Y100,男子種目コード!$A$1:$B$33,2,FALSE),IF(I100=2,VLOOKUP(Y100,女子種目コード!$A$1:$B$27,2,FALSE))))","v":""},null,null,null,null,"","",null,null,null,null,null,null,null,"","",null,null,null,0]
["",{"$f":"名簿!P98","v":""},null,null,{"$f":"名簿!E98","v":0},{"$f":"名簿!CM98","v":""},{"$f":"名簿!Z98","v":""},{"$f":"名簿!CM98","v":""},{"$f":"名簿!Y98","v":""},{"$f":"名簿!CN98","v":""},{"$f":"名簿!CP98","v":0},{"$f":"名簿!CU98","v":"00"},{"$f":"名簿!Q98","v":""},{"$f":"名簿!$AA$6","v":"23"},null,{"$f":"IF(O101=\"\",\"\",IF(I101=1,VLOOKUP(O101,男子種目コード!$A$1:$B$33,2,FALSE),IF(I101=2,VLOOKUP(O101,女子種目コード!$A$1:$B$28,2,FALSE))))","v":""},{"$f":"IF(O101=\"\",\"\",HLOOKUP(O101,名簿!$AH$3:$CH$118,96,FALSE))","v":""},"","",null,{"$f":"IF(T101=\"\",\"\",IF(I101=1,VLOOKUP(T101,男子種目コード!$A$1:$B$33,2,FALSE),IF(I101=2,VLOOKUP(T101,女子種目コード!$A$1:$B$28,2,FALSE))))","v":""},{"$f":"IF(T101=\"\",\"\",HLOOKUP(T101,名簿!$AH$3:$CH$118,96,FALSE))","v":""},"","",null,{"$f":"IF(Y101=\"\",\"\",IF(I101=1,VLOOKUP(Y101,男子種目コード!$A$1:$B$33,2,FALSE),IF(I101=2,VLOOKUP(Y101,女子種目コード!$A$1:$B$27,2,FALSE))))","v":""},null,null,null,null,"","",null,null,null,null,null,null,null,"","",null,null,null,0]
["",{"$f":"名簿!P99","v":""},null,null,{"$f":"名簿!E99","v":0},{"$f":"名簿!CM99","v":""},{"$f":"名簿!Z99","v":""},{"$f":"名簿!CM99","v":""},{"$f":"名簿!Y99","v":""},{"$f":"名簿!CN99","v":""},{"$f":"名簿!CP99","v":0},{"$f":"名簿!CU99","v":"00"},{"$f":"名簿!Q99","v":""},{"$f":"名簿!$AA$6","v":"23"},null,{"$f":"IF(O102=\"\",\"\",IF(I102=1,VLOOKUP(O102,男子種目コード!$A$1:$B$33,2,FALSE),IF(I102=2,VLOOKUP(O102,女子種目コード!$A$1:$B$28,2,FALSE))))","v":""},{"$f":"IF(O102=\"\",\"\",HLOOKUP(O102,名簿!$AH$3:$CH$118,97,FALSE))","v":""},"","",null,{"$f":"IF(T102=\"\",\"\",IF(I102=1,VLOOKUP(T102,男子種目コード!$A$1:$B$33,2,FALSE),IF(I102=2,VLOOKUP(T102,女子種目コード!$A$1:$B$28,2,FALSE))))","v":""},{"$f":"IF(T102=\"\",\"\",HLOOKUP(T102,名簿!$AH$3:$CH$118,97,FALSE))","v":""},"","",null,{"$f":"IF(Y102=\"\",\"\",IF(I102=1,VLOOKUP(Y102,男子種目コード!$A$1:$B$33,2,FALSE),IF(I102=2,VLOOKUP(Y102,女子種目コード!$A$1:$B$27,2,FALSE))))","v":""},null,null,null,null,"","",null,null,null,null,null,null,null,"","",null,null,null,0]
["",{"$f":"名簿!P100","v":""},null,null,{"$f":"名簿!E100","v":0},{"$f":"名簿!CM100","v":""},{"$f":"名簿!Z100","v":""},{"$f":"名簿!CM100","v":""},{"$f":"名簿!Y100","v":""},{"$f":"名簿!CN100","v":""},{"$f":"名簿!CP100","v":0},{"$f":"名簿!CU100","v":"00"},{"$f":"名簿!Q100","v":""},{"$f":"名簿!$AA$6","v":"23"},null,{"$f":"IF(O103=\"\",\"\",IF(I103=1,VLOOKUP(O103,男子種目コード!$A$1:$B$33,2,FALSE),IF(I103=2,VLOOKUP(O103,女子種目コード!$A$1:$B$28,2,FALSE))))","v":""},{"$f":"IF(O103=\"\",\"\",HLOOKUP(O103,名簿!$AH$3:$CH$118,98,FALSE))","v":""},"","",null,{"$f":"IF(T103=\"\",\"\",IF(I103=1,VLOOKUP(T103,男子種目コード!$A$1:$B$33,2,FALSE),IF(I103=2,VLOOKUP(T103,女子種目コード!$A$1:$B$28,2,FALSE))))","v":""},{"$f":"IF(T103=\"\",\"\",HLOOKUP(T103,名簿!$AH$3:$CH$118,98,FALSE))","v":""},"","",null,{"$f":"IF(Y103=\"\",\"\",IF(I103=1,VLOOKUP(Y103,男子種目コード!$A$1:$B$33,2,FALSE),IF(I103=2,VLOOKUP(Y103,女子種目コード!$A$1:$B$27,2,FALSE))))","v":""},null,null,null,null,"","",null,null,null,null,null,null,null,{"$f":"IF(O103=\"\",\"\",1)","v":""},{"$f":"IF(T103=\"\",\"\",1)","v":""},null,null,null,{"$f":"E103","v":0}]
["",{"$f":"名簿!P101","v":""},null,null,{"$f":"名簿!E101","v":0},{"$f":"名簿!CM101","v":""},{"$f":"名簿!Z101","v":""},{"$f":"名簿!CM101","v":""},{"$f":"名簿!Y101","v":""},{"$f":"名簿!CN101","v":""},{"$f":"名簿!CP101","v":0},{"$f":"名簿!CU101","v":"00"},{"$f":"名簿!Q101","v":""},{"$f":"名簿!$AA$6","v":"23"},null,{"$f":"IF(O104=\"\",\"\",IF(I104=1,VLOOKUP(O104,男子種目コード!$A$1:$B$33,2,FALSE),IF(I104=2,VLOOKUP(O104,女子種目コード!$A$1:$B$28,2,FALSE))))","v":""},{"$f":"IF(O104=\"\",\"\",HLOOKUP(O104,名簿!$AH$3:$CH$118,99,FALSE))","v":""},"","",null,{"$f":"IF(T104=\"\",\"\",IF(I104=1,VLOOKUP(T104,男子種目コード!$A$1:$B$33,2,FALSE),IF(I104=2,VLOOKUP(T104,女子種目コード!$A$1:$B$28,2,FALSE))))","v":""},{"$f":"IF(T104=\"\",\"\",HLOOKUP(T104,名簿!$AH$3:$CH$118,99,FALSE))","v":""},"","",null,{"$f":"IF(Y104=\"\",\"\",IF(I104=1,VLOOKUP(Y104,男子種目コード!$A$1:$B$33,2,FALSE),IF(I104=2,VLOOKUP(Y104,女子種目コード!$A$1:$B$27,2,FALSE))))","v":""},null,null,null,null,"","",null,null,null,null,null,null,null,"","",null,null,null,0]
["",{"$f":"名簿!P102","v":""},null,null,{"$f":"名簿!E102","v":0},{"$f":"名簿!CM102","v":""},{"$f":"名簿!Z102","v":""},{"$f":"名簿!CM102","v":""},{"$f":"名簿!Y102","v":""},{"$f":"名簿!CN102","v":""},{"$f":"名簿!CP102","v":0},{"$f":"名簿!CU102","v":"00"},{"$f":"名簿!Q102","v":""},{"$f":"名簿!$AA$6","v":"23"},null,{"$f":"IF(O105=\"\",\"\",IF(I105=1,VLOOKUP(O105,男子種目コード!$A$1:$B$33,2,FALSE),IF(I105=2,VLOOKUP(O105,女子種目コード!$A$1:$B$28,2,FALSE))))","v":""},{"$f":"IF(O105=\"\",\"\",HLOOKUP(O105,名簿!$AH$3:$CH$118,100,FALSE))","v":""},"","",null,{"$f":"IF(T105=\"\",\"\",IF(I105=1,VLOOKUP(T105,男子種目コード!$A$1:$B$33,2,FALSE),IF(I105=2,VLOOKUP(T105,女子種目コード!$A$1:$B$28,2,FALSE))))","v":""},{"$f":"IF(T105=\"\",\"\",HLOOKUP(T105,名簿!$AH$3:$CH$118,100,FALSE))","v":""},"","",null,{"$f":"IF(Y105=\"\",\"\",IF(I105=1,VLOOKUP(Y105,男子種目コード!$A$1:$B$33,2,FALSE),IF(I105=2,VLOOKUP(Y105,女子種目コード!$A$1:$B$27,2,FALSE))))","v":""},null,null,null,null,"","",null,null,null,null,null,null,null,"","",null,null,null,0]
["",{"$f":"名簿!P103","v":""},null,null,{"$f":"名簿!E103","v":0},{"$f":"名簿!CM103","v":""},{"$f":"名簿!Z103","v":""},{"$f":"名簿!CM103","v":""},{"$f":"名簿!Y103","v":""},{"$f":"名簿!CN103","v":""},{"$f":"名簿!CP103","v":0},{"$f":"名簿!CU103","v":"00"},{"$f":"名簿!Q103","v":""},{"$f":"名簿!$AA$6","v":"23"},null,{"$f":"IF(O106=\"\",\"\",IF(I106=1,VLOOKUP(O106,男子種目コード!$A$1:$B$33,2,FALSE),IF(I106=2,VLOOKUP(O106,女子種目コード!$A$1:$B$28,2,FALSE))))","v":""},{"$f":"IF(O106=\"\",\"\",HLOOKUP(O106,名簿!$AH$3:$CH$118,101,FALSE))","v":""},"","",null,{"$f":"IF(T106=\"\",\"\",IF(I106=1,VLOOKUP(T106,男子種目コード!$A$1:$B$33,2,FALSE),IF(I106=2,VLOOKUP(T106,女子種目コード!$A$1:$B$28,2,FALSE))))","v":""},{"$f":"IF(T106=\"\",\"\",HLOOKUP(T106,名簿!$AH$3:$CH$118,101,FALSE))","v":""},"","",null,{"$f":"IF(Y106=\"\",\"\",IF(I106=1,VLOOKUP(Y106,男子種目コード!$A$1:$B$33,2,FALSE),IF(I106=2,VLOOKUP(Y106,女子種目コード!$A$1:$B$27,2,FALSE))))","v":""},null,null,null,null,"","",null,null,null,null,null,null,null,"","",null,null,null,0]
["",{"$f":"名簿!P104","v":""},null,null,{"$f":"名簿!E104","v":0},{"$f":"名簿!CM104","v":""},{"$f":"名簿!Z104","v":""},{"$f":"名簿!CM104","v":""},{"$f":"名簿!Y104","v":""},{"$f":"名簿!CN104","v":""},{"$f":"名簿!CP104","v":0},{"$f":"名簿!CU104","v":"00"},{"$f":"名簿!Q104","v":""},{"$f":"名簿!$AA$6","v":"23"},null,{"$f":"IF(O107=\"\",\"\",IF(I107=1,VLOOKUP(O107,男子種目コード!$A$1:$B$33,2,FALSE),IF(I107=2,VLOOKUP(O107,女子種目コード!$A$1:$B$28,2,FALSE))))","v":""},{"$f":"IF(O107=\"\",\"\",HLOOKUP(O107,名簿!$AH$3:$CH$118,102,FALSE))","v":""},"","",null,{"$f":"IF(T107=\"\",\"\",IF(I107=1,VLOOKUP(T107,男子種目コード!$A$1:$B$33,2,FALSE),IF(I107=2,VLOOKUP(T107,女子種目コード!$A$1:$B$28,2,FALSE))))","v":""},{"$f":"IF(T107=\"\",\"\",HLOOKUP(T107,名簿!$AH$3:$CH$118,102,FALSE))","v":""},"","",null,{"$f":"IF(Y107=\"\",\"\",IF(I107=1,VLOOKUP(Y107,男子種目コード!$A$1:$B$33,2,FALSE),IF(I107=2,VLOOKUP(Y107,女子種目コード!$A$1:$B$27,2,FALSE))))","v":""},null,null,null,null,"","",null,null,null,null,null,null,null,"","",null,null,null,0]
["",{"$f":"名簿!P105","v":""},null,null,{"$f":"名簿!E105","v":0},{"$f":"名簿!CM105","v":""},{"$f":"名簿!Z105","v":""},{"$f":"名簿!CM105","v":""},{"$f":"名簿!Y105","v":""},{"$f":"名簿!CN105","v":""},{"$f":"名簿!CP105","v":0},{"$f":"名簿!CU105","v":"00"},{"$f":"名簿!Q105","v":""},{"$f":"名簿!$AA$6","v":"23"},null,{"$f":"IF(O108=\"\",\"\",IF(I108=1,VLOOKUP(O108,男子種目コード!$A$1:$B$33,2,FALSE),IF(I108=2,VLOOKUP(O108,女子種目コード!$A$1:$B$28,2,FALSE))))","v":""},{"$f":"IF(O108=\"\",\"\",HLOOKUP(O108,名簿!$AH$3:$CH$118,103,FALSE))","v":""},"","",null,{"$f":"IF(T108=\"\",\"\",IF(I108=1,VLOOKUP(T108,男子種目コード!$A$1:$B$33,2,FALSE),IF(I108=2,VLOOKUP(T108,女子種目コード!$A$1:$B$28,2,FALSE))))","v":""},{"$f":"IF(T108=\"\",\"\",HLOOKUP(T108,名簿!$AH$3:$CH$118,103,FALSE))","v":""},"","",null,{"$f":"IF(Y108=\"\",\"\",IF(I108=1,VLOOKUP(Y108,男子種目コード!$A$1:$B$33,2,FALSE),IF(I108=2,VLOOKUP(Y108,女子種目コード!$A$1:$B$27,2,FALSE))))","v":""},null,null,null,null,"","",null,null,null,null,null,null,null,"","",null,null,null,0]
["",{"$f":"名簿!P106","v":""},null,null,{"$f":"名簿!E106","v":0},{"$f":"名簿!CM106","v":""},{"$f":"名簿!Z106","v":""},{"$f":"名簿!CM106","v":""},{"$f":"名簿!Y106","v":""},{"$f":"名簿!CN106","v":""},{"$f":"名簿!CP106","v":0},{"$f":"名簿!CU106","v":"00"},{"$f":"名簿!Q106","v":""},{"$f":"名簿!$AA$6","v":"23"},null,{"$f":"IF(O109=\"\",\"\",IF(I109=1,VLOOKUP(O109,男子種目コード!$A$1:$B$33,2,FALSE),IF(I109=2,VLOOKUP(O109,女子種目コード!$A$1:$B$28,2,FALSE))))","v":""},{"$f":"IF(O109=\"\",\"\",HLOOKUP(O109,名簿!$AH$3:$CH$118,104,FALSE))","v":""},"","",null,{"$f":"IF(T109=\"\",\"\",IF(I109=1,VLOOKUP(T109,男子種目コード!$A$1:$B$33,2,FALSE),IF(I109=2,VLOOKUP(T109,女子種目コード!$A$1:$B$28,2,FALSE))))","v":""},{"$f":"IF(T109=\"\",\"\",HLOOKUP(T109,名簿!$AH$3:$CH$118,104,FALSE))","v":""},"","",null,{"$f":"IF(Y109=\"\",\"\",IF(I109=1,VLOOKUP(Y109,男子種目コード!$A$1:$B$33,2,FALSE),IF(I109=2,VLOOKUP(Y109,女子種目コード!$A$1:$B$27,2,FALSE))))","v":""},null,null,null,null,"","",null,null,null,null,null,null,null,"","",null,null,null,0]
["",{"$f":"名簿!P107","v":""},null,null,{"$f":"名簿!E107","v":0},{"$f":"名簿!CM107","v":""},{"$f":"名簿!Z107","v":""},{"$f":"名簿!CM107","v":""},{"$f":"名簿!Y107","v":""},{"$f":"名簿!CN107","v":""},{"$f":"名簿!CP107","v":0},{"$f":"名簿!CU107","v":"00"},{"$f":"名簿!Q107","v":""},{"$f":"名簿!$AA$6","v":"23"},null,{"$f":"IF(O110=\"\",\"\",IF(I110=1,VLOOKUP(O110,男子種目コード!$A$1:$B$33,2,FALSE),IF(I110=2,VLOOKUP(O110,女子種目コード!$A$1:$B$28,2,FALSE))))","v":""},{"$f":"IF(O110=\"\",\"\",HLOOKUP(O110,名簿!$AH$3:$CH$118,105,FALSE))","v":""},"","",null,{"$f":"IF(T110=\"\",\"\",IF(I110=1,VLOOKUP(T110,男子種目コード!$A$1:$B$33,2,FALSE),IF(I110=2,VLOOKUP(T110,女子種目コード!$A$1:$B$28,2,FALSE))))","v":""},{"$f":"IF(T110=\"\",\"\",HLOOKUP(T110,名簿!$AH$3:$CH$118,105,FALSE))","v":""},"","",null,{"$f":"IF(Y110=\"\",\"\",IF(I110=1,VLOOKUP(Y110,男子種目コード!$A$1:$B$33,2,FALSE),IF(I110=2,VLOOKUP(Y110,女子種目コード!$A$1:$B$27,2,FALSE))))","v":""},null,null,null,null,"","",null,null,null,null,null,null,null,"","",null,null,null,0]
["",{"$f":"名簿!P108","v":""},null,null,{"$f":"名簿!E108","v":0},{"$f":"名簿!CM108","v":""},{"$f":"名簿!Z108","v":""},{"$f":"名簿!CM108","v":""},{"$f":"名簿!Y108","v":""},{"$f":"名簿!CN108","v":""},{"$f":"名簿!CP108","v":0},{"$f":"名簿!CU108","v":"00"},{"$f":"名簿!Q108","v":""},{"$f":"名簿!$AA$6","v":"23"},null,{"$f":"IF(O111=\"\",\"\",IF(I111=1,VLOOKUP(O111,男子種目コード!$A$1:$B$33,2,FALSE),IF(I111=2,VLOOKUP(O111,女子種目コード!$A$1:$B$28,2,FALSE))))","v":""},{"$f":"IF(O111=\"\",\"\",HLOOKUP(O111,名簿!$AH$3:$CH$118,106,FALSE))","v":""},"","",null,{"$f":"IF(T111=\"\",\"\",IF(I111=1,VLOOKUP(T111,男子種目コード!$A$1:$B$33,2,FALSE),IF(I111=2,VLOOKUP(T111,女子種目コード!$A$1:$B$28,2,FALSE))))","v":""},{"$f":"IF(T111=\"\",\"\",HLOOKUP(T111,名簿!$AH$3:$CH$118,106,FALSE))","v":""},"","",null,{"$f":"IF(Y111=\"\",\"\",IF(I111=1,VLOOKUP(Y111,男子種目コード!$A$1:$B$33,2,FALSE),IF(I111=2,VLOOKUP(Y111,女子種目コード!$A$1:$B$27,2,FALSE))))","v":""},null,null,null,null,"","",null,null,null,null,null,null,null,"","",null,null,null,0]
["",{"$f":"名簿!P109","v":""},null,null,{"$f":"名簿!E109","v":0},{"$f":"名簿!CM109","v":""},{"$f":"名簿!Z109","v":""},{"$f":"名簿!CM109","v":""},{"$f":"名簿!Y109","v":""},{"$f":"名簿!CN109","v":""},{"$f":"名簿!CP109","v":0},{"$f":"名簿!CU109","v":"00"},{"$f":"名簿!Q109","v":""},{"$f":"名簿!$AA$6","v":"23"},null,{"$f":"IF(O112=\"\",\"\",IF(I112=1,VLOOKUP(O112,男子種目コード!$A$1:$B$33,2,FALSE),IF(I112=2,VLOOKUP(O112,女子種目コード!$A$1:$B$28,2,FALSE))))","v":""},{"$f":"IF(O112=\"\",\"\",HLOOKUP(O112,名簿!$AH$3:$CH$118,107,FALSE))","v":""},"","",null,{"$f":"IF(T112=\"\",\"\",IF(I112=1,VLOOKUP(T112,男子種目コード!$A$1:$B$33,2,FALSE),IF(I112=2,VLOOKUP(T112,女子種目コード!$A$1:$B$28,2,FALSE))))","v":""},{"$f":"IF(T112=\"\",\"\",HLOOKUP(T112,名簿!$AH$3:$CH$118,107,FALSE))","v":""},"","",null,{"$f":"IF(Y112=\"\",\"\",IF(I112=1,VLOOKUP(Y112,男子種目コード!$A$1:$B$33,2,FALSE),IF(I112=2,VLOOKUP(Y112,女子種目コード!$A$1:$B$27,2,FALSE))))","v":""},null,null,null,null,"","",null,null,null,null,null,null,null,"","",null,null,null,0]
["",{"$f":"名簿!P110","v":""},null,null,{"$f":"名簿!E110","v":0},{"$f":"名簿!CM110","v":""},{"$f":"名簿!Z110","v":""},{"$f":"名簿!CM110","v":""},{"$f":"名簿!Y110","v":""},{"$f":"名簿!CN110","v":""},{"$f":"名簿!CP110","v":0},{"$f":"名簿!CU110","v":"00"},{"$f":"名簿!Q110","v":""},{"$f":"名簿!$AA$6","v":"23"},null,{"$f":"IF(O113=\"\",\"\",IF(I113=1,VLOOKUP(O113,男子種目コード!$A$1:$B$33,2,FALSE),IF(I113=2,VLOOKUP(O113,女子種目コード!$A$1:$B$28,2,FALSE))))","v":""},{"$f":"IF(O113=\"\",\"\",HLOOKUP(O113,名簿!$AH$3:$CH$118,108,FALSE))","v":""},"","",null,{"$f":"IF(T113=\"\",\"\",IF(I113=1,VLOOKUP(T113,男子種目コード!$A$1:$B$33,2,FALSE),IF(I113=2,VLOOKUP(T113,女子種目コード!$A$1:$B$28,2,FALSE))))","v":""},{"$f":"IF(T113=\"\",\"\",HLOOKUP(T113,名簿!$AH$3:$CH$118,108,FALSE))","v":""},"","",null,{"$f":"IF(Y113=\"\",\"\",IF(I113=1,VLOOKUP(Y113,男子種目コード!$A$1:$B$33,2,FALSE),IF(I113=2,VLOOKUP(Y113,女子種目コード!$A$1:$B$27,2,FALSE))))","v":""},null,null,null,null,"","",null,null,null,null,null,null,null,"","",null,null,null,0]
["",{"$f":"名簿!P111","v":""},null,null,{"$f":"名簿!E111","v":0},{"$f":"名簿!CM111","v":""},{"$f":"名簿!Z111","v":""},{"$f":"名簿!CM111","v":""},{"$f":"名簿!Y111","v":""},{"$f":"名簿!CN111","v":""},{"$f":"名簿!CP111","v":0},{"$f":"名簿!CU111","v":"00"},{"$f":"名簿!Q111","v":""},{"$f":"名簿!$AA$6","v":"23"},null,{"$f":"IF(O114=\"\",\"\",IF(I114=1,VLOOKUP(O114,男子種目コード!$A$1:$B$33,2,FALSE),IF(I114=2,VLOOKUP(O114,女子種目コード!$A$1:$B$28,2,FALSE))))","v":""},{"$f":"IF(O114=\"\",\"\",HLOOKUP(O114,名簿!$AH$3:$CH$118,109,FALSE))","v":""},"","",null,{"$f":"IF(T114=\"\",\"\",IF(I114=1,VLOOKUP(T114,男子種目コード!$A$1:$B$33,2,FALSE),IF(I114=2,VLOOKUP(T114,女子種目コード!$A$1:$B$28,2,FALSE))))","v":""},{"$f":"IF(T114=\"\",\"\",HLOOKUP(T114,名簿!$AH$3:$CH$118,109,FALSE))","v":""},"","",null,{"$f":"IF(Y114=\"\",\"\",IF(I114=1,VLOOKUP(Y114,男子種目コード!$A$1:$B$33,2,FALSE),IF(I114=2,VLOOKUP(Y114,女子種目コード!$A$1:$B$27,2,FALSE))))","v":""},null,null,null,null,"","",null,null,null,null,null,null,null,"","",null,null,null,0]
["",{"$f":"名簿!P112","v":""},null,null,{"$f":"名簿!E112","v":0},{"$f":"名簿!CM112","v":""},{"$f":"名簿!Z112","v":""},{"$f":"名簿!CM112","v":""},{"$f":"名簿!Y112","v":""},{"$f":"名簿!CN112","v":""},{"$f":"名簿!CP112","v":0},{"$f":"名簿!CU112","v":"00"},{"$f":"名簿!Q112","v":""},{"$f":"名簿!$AA$6","v":"23"},null,{"$f":"IF(O115=\"\",\"\",IF(I115=1,VLOOKUP(O115,男子種目コード!$A$1:$B$33,2,FALSE),IF(I115=2,VLOOKUP(O115,女子種目コード!$A$1:$B$28,2,FALSE))))","v":""},{"$f":"IF(O115=\"\",\"\",HLOOKUP(O115,名簿!$AH$3:$CH$118,110,FALSE))","v":""},"","",null,{"$f":"IF(T115=\"\",\"\",IF(I115=1,VLOOKUP(T115,男子種目コード!$A$1:$B$33,2,FALSE),IF(I115=2,VLOOKUP(T115,女子種目コード!$A$1:$B$28,2,FALSE))))","v":""},{"$f":"IF(T115=\"\",\"\",HLOOKUP(T115,名簿!$AH$3:$CH$118,110,FALSE))","v":""},"","",null,{"$f":"IF(Y115=\"\",\"\",IF(I115=1,VLOOKUP(Y115,男子種目コード!$A$1:$B$33,2,FALSE),IF(I115=2,VLOOKUP(Y115,女子種目コード!$A$1:$B$27,2,FALSE))))","v":""},null,null,null,null,"","",null,null,null,null,null,null,null,"","",null,null,null,0]
["",{"$f":"名簿!P113","v":""},null,null,{"$f":"名簿!E113","v":0},{"$f":"名簿!CM113","v":""},{"$f":"名簿!Z113","v":""},{"$f":"名簿!CM113","v":""},{"$f":"名簿!Y113","v":""},{"$f":"名簿!CN113","v":""},{"$f":"名簿!CP113","v":0},{"$f":"名簿!CU113","v":"00"},{"$f":"名簿!Q113","v":""},{"$f":"名簿!$AA$6","v":"23"},null,{"$f":"IF(O116=\"\",\"\",IF(I116=1,VLOOKUP(O116,男子種目コード!$A$1:$B$33,2,FALSE),IF(I116=2,VLOOKUP(O116,女子種目コード!$A$1:$B$28,2,FALSE))))","v":""},{"$f":"IF(O116=\"\",\"\",HLOOKUP(O116,名簿!$AH$3:$CH$118,111,FALSE))","v":""},"","",null,{"$f":"IF(T116=\"\",\"\",IF(I116=1,VLOOKUP(T116,男子種目コード!$A$1:$B$33,2,FALSE),IF(I116=2,VLOOKUP(T116,女子種目コード!$A$1:$B$28,2,FALSE))))","v":""},{"$f":"IF(T116=\"\",\"\",HLOOKUP(T116,名簿!$AH$3:$CH$118,111,FALSE))","v":""},"","",null,{"$f":"IF(Y116=\"\",\"\",IF(I116=1,VLOOKUP(Y116,男子種目コード!$A$1:$B$33,2,FALSE),IF(I116=2,VLOOKUP(Y116,女子種目コード!$A$1:$B$27,2,FALSE))))","v":""},null,null,null,null,"","",null,null,null,null,null,null,null,"","",null,null,null,0]
[null,null,null,null,null,null,null,null,null,null,null,null,null,null,null,null,null,null,null,null,null,null,null,null,null,null,null,null,null,null,null,{"$f":"SUM(AN7:AN116)","v":0},{"$f":"SUM(AO7:AO116)","v":0}]
[null,null,null,null,null,null,null,null,null,null,null,null,null,null,null,null,null,null,null,null,null,null,null,null,null,null,null,null,null,null,null,{"$f":"SUM(AF117:AG117)","v":0}]

{"sheet":"通信","index":11,"n_rows":118,"n_cols":68,"rows_kept":118,"cut":false,"hidden":false,"merged":[[16,45,16,46],[5,45,5,46],[5,47,5,48],[14,45,14,46],[14,47,14,48],[7,45,7,46],[7,47,7,48],[16,47,16,48],[72,42,72,43],[58,42,58,43],[60,42,60,43],[44,42,44,43],[12,44,13,44],[1,6,1,19],[39,42,39,43],[41,42,41,43],[40,42,40,43],[5,42,5,43]]}
[null,null,null,null,"所属名",{"$f":"IF(名簿!$O$4=\"\",\"\",名簿!$O$4)","v":0}]
[null,null,null,null,"所属コード",{"$f":"名簿!$P$4","v":{"$error":"#N/A"}},"全日本通信三重大会"]
[null,null,null,null,"顧問名",{"$f":"IF(名簿!$D$1=\"\",\"\",名簿!$D$1)","v":""},"男子",null,null,null,null,null,null,null,{"$f":"COUNTIF($I$7:$I$116,1)-COUNTIF($BF$7:$BF$116,0)","v":0}]
[null,null,null,null,"顧問連絡先",{"$f":"IF(名簿!$I$1=\"\",\"\",名簿!$I$1)","v":""},"女子",null,null,null,null,null,null,null,{"$f":"COUNTIF($I$7:$I$116,2)-COUNTIF($BG$7:$BG$116,0)","v":0},null,{"$f":"O3+O4","v":0}]
[null,null,null,null,null,null,"大会参加費",null,null,null,null,null,null,null,{"$f":"($AN$117+$AO$117+$AP$117)*1000+V5*800","v":0},null,null,null,null,"プログラム冊数",null,null,null,null,"冊"]
["競技者コード","所属コード",null,null,"ナンバー","名　前","カナ名","掲示板名","性別","学年","生年","月日","個人所属地コード","陸連ID","1種目","コード","記録",null,null,"2種目","コード","記録",null,null,"リレー","コード","記録",null,null,"種目","コード4","自己記録4","種目","コード5","自己記録5",null,null,null,"1年100",null,null,null,"出場制限2名(1名）",null,null,"低学年",null,"高学年",null,null,null,"1年100","1年100","低学年R",null,null,"種目数","男子","女子"]
[{"$f":"Z7","v":""},{"$f":"名簿!P4","v":{"$error":"#N/A"}},null,null,{"$f":"名簿!E4","v":0},{"$f":"名簿!CM4","v":""},{"$f":"名簿!Z4","v":""},{"$f":"名簿!CM4","v":""},{"$f":"名簿!Y4","v":""},{"$f":"名簿!CN4","v":""},{"$f":"名簿!CP4","v":0},{"$f":"名簿!CU4","v":"00"},{"$f":"名簿!Q4","v":{"$error":"#N/A"}},{"$f":"名簿!D4","v":0},null,{"$f":"IF(O7=\"\",\"\",IF(I7=1,VLOOKUP(O7,男子種目コード!$D$1:$E$20,2,FALSE),IF(I7=2,VLOOKUP(O7,女子種目コード!$D$1:$E$20,2,FALSE))))","v":""},{"$f":"IF(O7=\"\",\"\",HLOOKUP(O7,名簿!$AH$3:$CH$118,2,FALSE))","v":""},{"$f":"IF(O7=\"\",\"\",0)","v":""},{"$f":"IF(O7=\"\",\"\",2)","v":""},null,{"$f":"IF(T7=\"\",\"\",IF(I7=1,VLOOKUP(T7,男子種目コード!$D$1:$E$20,2,FALSE),IF(I7=2,VLOOKUP(T7,女子種目コード!$D$1:$E$20,2,FALSE))))","v":""},{"$f":"IF(T7=\"\",\"\",HLOOKUP(T7,名簿!$AH$3:$CH$118,2,FALSE))","v":""},{"$f":"IF(T7=\"\",\"\",0)","v":""},{"$f":"IF(T7=\"\",\"\",2)","v":""},null,{"$f":"IF(Y7=\"\",\"\",IF(I7=1,VLOOKUP(Y7,男子種目コード!$D$1:$E$20,2,FALSE),IF(I7=2,VLOOKUP(Y7,女子種目コード!$D$1:$E$20,2,FALSE))))","v":""},null,{"$f":"IF(Y7=\"\",\"\",0)","v":""},{"$f":"IF(Y7=\"\",\"\",2)","v":""},null,{"$f":"IF(AD7=\"\",\"\",IF(I7=1,VLOOKUP(AD7,男子種目コード!$A$1:$B$33,2,FALSE),IF(V7=2,VLOOKUP(I7,女子種目コード!$A$1:$B$28,2,FALSE))))","v":""},null,null,{"$f":"IF(AG7=\"\",\"\",IF(I7=1,VLOOKUP(AG7,男子種目コード!$A$1:$B$33,2,FALSE),IF(AA7=2,VLOOKUP(I7,女子種目コード!$A$1:$B$28,2,FALSE))))","v":""},null,null,null,null,"1年800",{"$f":"IF(O7=\"\",\"\",1)","v":""},{"$f":"IF(OR(AN7=1,T7=\"\"),0,1)","v":0},{"$f":"IF(OR(AN7=1,AO7=1,Y7=\"\"),0,1)","v":0},"1年100",{"$f":"COUNTIF($P$7:P$116,1)+COUNTIF($U$7:$U$116,1)","v":0},null,"記録",null,"記録",null,null,null,"1年1500","1年800","4×100R",null,null,{"$f":"COUNT(P7,U7,Z7)","v":0},{"$f":"IF(I7=1,BE7,\"\")","v":""},{"$f":"IF(I7=2,BE7,\"\")","v":""}]
[{"$f":"Z8","v":""},{"$f":"名簿!P5","v":""},null,null,{"$f":"名簿!E5","v":0},{"$f":"名簿!CM5","v":""},{"$f":"名簿!Z5","v":""},{"$f":"名簿!CM5","v":""},{"$f":"名簿!Y5","v":""},{"$f":"名簿!CN5","v":""},{"$f":"名簿!CP5","v":0},{"$f":"名簿!CU5","v":"00"},{"$f":"名簿!Q5","v":""},{"$f":"名簿!D5","v":0},null,{"$f":"IF(O8=\"\",\"\",IF(I8=1,VLOOKUP(O8,男子種目コード!$D$1:$E$20,2,FALSE),IF(I8=2,VLOOKUP(O8,女子種目コード!$D$1:$E$20,2,FALSE))))","v":""},{"$f":"IF(O8=\"\",\"\",HLOOKUP(O8,名簿!$AH$3:$CH$118,3,FALSE))","v":""},{"$f":"IF(O8=\"\",\"\",0)","v":""},{"$f":"IF(O8=\"\",\"\",2)","v":""},null,{"$f":"IF(T8=\"\",\"\",IF(I8=1,VLOOKUP(T8,男子種目コード!$D$1:$E$20,2,FALSE),IF(I8=2,VLOOKUP(T8,女子種目コード!$D$1:$E$20,2,FALSE))))","v":""},{"$f":"IF(T8=\"\",\"\",HLOOKUP(T8,名簿!$AH$3:$CH$118,3,FALSE))","v":""},{"$f":"IF(T8=\"\",\"\",0)","v":""},{"$f":"IF(T8=\"\",\"\",2)","v":""},null,{"$f":"IF(Y8=\"\",\"\",IF(I8=1,VLOOKUP(Y8,男子種目コード!$D$1:$E$20,2,FALSE),IF(I8=2,VLOOKUP(Y8,女子種目コード!$D$1:$E$20,2,FALSE))))","v":""},null,{"$f":"IF(Y8=\"\",\"\",0)","v":""},{"$f":"IF(Y8=\"\",\"\",2)","v":""},null,{"$f":"IF(AD8=\"\",\"\",IF(I8=1,VLOOKUP(AD8,男子種目コード!$A$1:$B$33,2,FALSE),IF(V8=2,VLOOKUP(I8,女子種目コード!$A$1:$B$28,2,FALSE))))","v":""},null,null,{"$f":"IF(AG8=\"\",\"\",IF(I8=1,VLOOKUP(AG8,男子種目コード!$A$1:$B$33,2,FALSE),IF(AA8=2,VLOOKUP(I8,女子種目コード!$A$1:$B$28,2,FALSE))))","v":""},null,null,null,null,"1年1500",{"$f":"IF(O8=\"\",\"\",1)","v":""},0,0,"1年1500",{"$f":"COUNTIF($P$7:P$116,2)+COUNTIF($U7:$U116,2)","v":0},null,{"$f":"COUNTIF($Z7:$Z116,12)","v":0},null,{"$f":"COUNTIF($Z7:$Z116,13)","v":0},null,null,null,100,100,"4×100R",null,null,{"$f":"COUNT(P8,U8,Z8)","v":0},{"$f":"IF(I8=1,BE8,\"\")","v":""},{"$f":"IF(I8=2,BE8,\"\")","v":""}]
["",{"$f":"名簿!P6","v":""},null,null,{"$f":"名簿!E6","v":0},{"$f":"名簿!CM6","v":""},{"$f":"名簿!Z6","v":""},{"$f":"名簿!CM6","v":""},{"$f":"名簿!Y6","v":""},{"$f":"名簿!CN6","v":""},{"$f":"名簿!CP6","v":0},{"$f":"名簿!CU6","v":"00"},{"$f":"名簿!Q6","v":""},{"$f":"名簿!D6","v":0},null,{"$f":"IF(O9=\"\",\"\",IF(I9=1,VLOOKUP(O9,男子種目コード!$D$1:$E$20,2,FALSE),IF(I9=2,VLOOKUP(O9,女子種目コード!$D$1:$E$20,2,FALSE))))","v":""},{"$f":"IF(O9=\"\",\"\",HLOOKUP(O9,名簿!$AH$3:$CH$118,4,FALSE))","v":""},"","",null,{"$f":"IF(T9=\"\",\"\",IF(I9=1,VLOOKUP(T9,男子種目コード!$D$1:$E$20,2,FALSE),IF(I9=2,VLOOKUP(T9,女子種目コード!$D$1:$E$20,2,FALSE))))","v":""},{"$f":"IF(T9=\"\",\"\",HLOOKUP(T9,名簿!$AH$3:$CH$118,4,FALSE))","v":""},"","",null,{"$f":"IF(Y9=\"\",\"\",IF(I9=1,VLOOKUP(Y9,男子種目コード!$D$1:$E$20,2,FALSE),IF(I9=2,VLOOKUP(Y9,女子種目コード!$D$1:$E$20,2,FALSE))))","v":""},null,"","",null,{"$f":"IF(AD9=\"\",\"\",IF(I9=1,VLOOKUP(AD9,男子種目コード!$A$1:$B$33,2,FALSE),IF(V9=2,VLOOKUP(I9,女子種目コード!$A$1:$B$28,2,FALSE))))","v":""},null,null,{"$f":"IF(AG9=\"\",\"\",IF(I9=1,VLOOKUP(AG9,男子種目コード!$A$1:$B$33,2,FALSE),IF(AA9=2,VLOOKUP(I9,女子種目コード!$A$1:$B$28,2,FALSE))))","v":""},null,null,null,null,"2年100","",0,0,"2年100",{"$f":"COUNTIF($P$7:P$116,3)+COUNTIF($U$7:$U$116,3)","v":0},null,{"$f":"IF(ISERROR(BM9),\"\",BM9)","v":""},"","","",null,0,200,200,null,null,null,0,"","",null,null,null,null,null,{"$f":"VLookUpX(12,$A$7:$F$116,1,5)","v":{"$error":"#N/A"}},{"$f":"VLookUpX(12,$A$7:$F$116,1,6)","v":{"$error":"#N/A"}},{"$f":"VLookUpX(13,$A$7:$F$116,1,5)","v":{"$error":"#N/A"}},{"$f":"VLookUpX(13,$A$7:$F$116,1,6)","v":{"$error":"#N/A"}}]
["",{"$f":"名簿!P7","v":""},null,null,{"$f":"名簿!E7","v":0},{"$f":"名簿!CM7","v":""},{"$f":"名簿!Z7","v":""},{"$f":"名簿!CM7","v":""},{"$f":"名簿!Y7","v":""},{"$f":"名簿!CN7","v":""},{"$f":"名簿!CP7","v":0},{"$f":"名簿!CU7","v":"00"},{"$f":"名簿!Q7","v":""},{"$f":"名簿!D7","v":0},null,{"$f":"IF(O10=\"\",\"\",IF(I10=1,VLOOKUP(O10,男子種目コード!$D$1:$E$20,2,FALSE),IF(I10=2,VLOOKUP(O10,女子種目コード!$D$1:$E$20,2,FALSE))))","v":""},{"$f":"IF(O10=\"\",\"\",HLOOKUP(O10,名簿!$AH$3:$CH$118,5,FALSE))","v":""},"","",null,{"$f":"IF(T10=\"\",\"\",IF(I10=1,VLOOKUP(T10,男子種目コード!$D$1:$E$20,2,FALSE),IF(I10=2,VLOOKUP(T10,女子種目コード!$D$1:$E$20,2,FALSE))))","v":""},{"$f":"IF(T10=\"\",\"\",HLOOKUP(T10,名簿!$AH$3:$CH$118,5,FALSE))","v":""},"","",null,{"$f":"IF(Y10=\"\",\"\",IF(I10=1,VLOOKUP(Y10,男子種目コード!$D$1:$E$20,2,FALSE),IF(I10=2,VLOOKUP(Y10,女子種目コード!$D$1:$E$20,2,FALSE))))","v":""},null,"","",null,{"$f":"IF(AD10=\"\",\"\",IF(I10=1,VLOOKUP(AD10,男子種目コード!$A$1:$B$33,2,FALSE),IF(V10=2,VLOOKUP(I10,女子種目コード!$A$1:$B$28,2,FALSE))))","v":""},null,null,{"$f":"IF(AG10=\"\",\"\",IF(I10=1,VLOOKUP(AG10,男子種目コード!$A$1:$B$33,2,FALSE),IF(AA10=2,VLOOKUP(I10,女子種目コード!$A$1:$B$28,2,FALSE))))","v":""},null,null,null,null,"2年1500","",0,0,"2年1500",{"$f":"COUNTIF($P$7:P$116,4)+COUNTIF($U$7:$U$116,4)","v":0},null,"","","","",null,null,400,800,null,null,null,0,"","",null,null,null,null,null,{"$f":"VLookUpX(12,$A$7:$F$116,2,5)","v":{"$error":"#N/A"}},{"$f":"VLookUpX(12,$A$7:$F$116,2,6)","v":{"$error":"#N/A"}},{"$f":"VLookUpX(13,$A$7:$F$116,2,5)","v":{"$error":"#N/A"}},{"$f":"VLookUpX(13,$A$7:$F$116,2,6)","v":{"$error":"#N/A"}}]
["",{"$f":"名簿!P8","v":""},null,null,{"$f":"名簿!E8","v":0},{"$f":"名簿!CM8","v":""},{"$f":"名簿!Z8","v":""},{"$f":"名簿!CM8","v":""},{"$f":"名簿!Y8","v":""},{"$f":"名簿!CN8","v":""},{"$f":"名簿!CP8","v":0},{"$f":"名簿!CU8","v":"00"},{"$f":"名簿!Q8","v":""},{"$f":"名簿!D8","v":0},null,{"$f":"IF(O11=\"\",\"\",IF(I11=1,VLOOKUP(O11,男子種目コード!$D$1:$E$20,2,FALSE),IF(I11=2,VLOOKUP(O11,女子種目コード!$D$1:$E$20,2,FALSE))))","v":""},{"$f":"IF(O11=\"\",\"\",HLOOKUP(O11,名簿!$AH$3:$CH$118,6,FALSE))","v":""},"","",null,{"$f":"IF(T11=\"\",\"\",IF(I11=1,VLOOKUP(T11,男子種目コード!$D$1:$E$20,2,FALSE),IF(I11=2,VLOOKUP(T11,女子種目コード!$D$1:$E$20,2,FALSE))))","v":""},{"$f":"IF(T11=\"\",\"\",HLOOKUP(T11,名簿!$AH$3:$CH$118,6,FALSE))","v":""},"","",null,{"$f":"IF(Y11=\"\",\"\",IF(I11=1,VLOOKUP(Y11,男子種目コード!$D$1:$E$20,2,FALSE),IF(I11=2,VLOOKUP(Y11,女子種目コード!$D$1:$E$20,2,FALSE))))","v":""},null,"","",null,{"$f":"IF(AD11=\"\",\"\",IF(I11=1,VLOOKUP(AD11,男子種目コード!$A$1:$B$33,2,FALSE),IF(V11=2,VLOOKUP(I11,女子種目コード!$A$1:$B$28,2,FALSE))))","v":""},null,null,{"$f":"IF(AG11=\"\",\"\",IF(I11=1,VLOOKUP(AG11,男子種目コード!$A$1:$B$33,2,FALSE),IF(AA11=2,VLOOKUP(I11,女子種目コード!$A$1:$B$28,2,FALSE))))","v":""},null,null,null,null,"共通100","",0,0,"共通100",{"$f":"COUNTIF($P$7:P$116,5)+COUNTIF($U$7:$U$116,5)","v":0},null,"","","","",null,null,800,1500,null,null,null,0,"","",null,null,null,null,null,{"$f":"VLookUpX(12,$A$7:$F$116,3,5)","v":{"$error":"#N/A"}},{"$f":"VLookUpX(12,$A$7:$F$116,3,6)","v":{"$error":"#N/A"}},{"$f":"VLookUpX(13,$A$7:$F$116,3,5)","v":{"$error":"#N/A"}},{"$f":"VLookUpX(13,$A$7:$F$116,3,6)","v":{"$error":"#N/A"}}]
["",{"$f":"名簿!P9","v":""},null,null,{"$f":"名簿!E9","v":0},{"$f":"名簿!CM9","v":""},{"$f":"名簿!Z9","v":""},{"$f":"名簿!CM9","v":""},{"$f":"名簿!Y9","v":""},{"$f":"名簿!CN9","v":""},{"$f":"名簿!CP9","v":0},{"$f":"名簿!CU9","v":"00"},{"$f":"名簿!Q9","v":""},{"$f":"名簿!D9","v":0},null,{"$f":"IF(O12=\"\",\"\",IF(I12=1,VLOOKUP(O12,男子種目コード!$D$1:$E$20,2,FALSE),IF(I12=2,VLOOKUP(O12,女子種目コード!$D$1:$E$20,2,FALSE))))","v":""},{"$f":"IF(O12=\"\",\"\",HLOOKUP(O12,名簿!$AH$3:$CH$118,7,FALSE))","v":""},"","",null,{"$f":"IF(T12=\"\",\"\",IF(I12=1,VLOOKUP(T12,男子種目コード!$D$1:$E$20,2,FALSE),IF(I12=2,VLOOKUP(T12,女子種目コード!$D$1:$E$20,2,FALSE))))","v":""},{"$f":"IF(T12=\"\",\"\",HLOOKUP(T12,名簿!$AH$3:$CH$118,7,FALSE))","v":""},"","",null,{"$f":"IF(Y12=\"\",\"\",IF(I12=1,VLOOKUP(Y12,男子種目コード!$D$1:$E$20,2,FALSE),IF(I12=2,VLOOKUP(Y12,女子種目コード!$D$1:$E$20,2,FALSE))))","v":""},null,"","",null,{"$f":"IF(AD12=\"\",\"\",IF(I12=1,VLOOKUP(AD12,男子種目コード!$A$1:$B$33,2,FALSE),IF(V12=2,VLOOKUP(I12,女子種目コード!$A$1:$B$28,2,FALSE))))","v":""},null,null,{"$f":"IF(AG12=\"\",\"\",IF(I12=1,VLOOKUP(AG12,男子種目コード!$A$1:$B$33,2,FALSE),IF(AA12=2,VLOOKUP(I12,女子種目コード!$A$1:$B$28,2,FALSE))))","v":""},null,null,null,null,"共通200","",0,0,200,{"$f":"COUNTIF($P$7:P$116,6)+COUNTIF($U$7:$U$116,6)","v":0},null,"","","","",null,null,1500,"100H",null,null,null,0,"","",null,null,null,null,null,{"$f":"VLookUpX(12,$A$7:$F$116,4,5)","v":{"$error":"#N/A"}},{"$f":"VLookUpX(12,$A$7:$F$116,4,6)","v":{"$error":"#N/A"}},{"$f":"VLookUpX(13,$A$7:$F$116,4,5)","v":{"$error":"#N/A"}},{"$f":"VLookUpX(13,$A$7:$F$116,4,6)","v":{"$error":"#N/A"}}]
["",{"$f":"名簿!P10","v":""},null,null,{"$f":"名簿!E10","v":0},{"$f":"名簿!CM10","v":""},{"$f":"名簿!Z10","v":""},{"$f":"名簿!CM10","v":""},{"$f":"名簿!Y10","v":""},{"$f":"名簿!CN10","v":""},{"$f":"名簿!CP10","v":0},{"$f":"名簿!CU10","v":"00"},{"$f":"名簿!Q10","v":""},{"$f":"名簿!D10","v":0},null,{"$f":"IF(O13=\"\",\"\",IF(I13=1,VLOOKUP(O13,男子種目コード!$D$1:$E$20,2,FALSE),IF(I13=2,VLOOKUP(O13,女子種目コード!$D$1:$E$20,2,FALSE))))","v":""},{"$f":"IF(O13=\"\",\"\",HLOOKUP(O13,名簿!$AH$3:$CH$118,8,FALSE))","v":""},"","",null,{"$f":"IF(T13=\"\",\"\",IF(I13=1,VLOOKUP(T13,男子種目コード!$D$1:$E$20,2,FALSE),IF(I13=2,VLOOKUP(T13,女子種目コード!$D$1:$E$20,2,FALSE))))","v":""},{"$f":"IF(T13=\"\",\"\",HLOOKUP(T13,名簿!$AH$3:$CH$118,8,FALSE))","v":""},"","",null,{"$f":"IF(Y13=\"\",\"\",IF(I13=1,VLOOKUP(Y13,男子種目コード!$D$1:$E$20,2,FALSE),IF(I13=2,VLOOKUP(Y13,女子種目コード!$D$1:$E$20,2,FALSE))))","v":""},null,"","",null,{"$f":"IF(AD13=\"\",\"\",IF(I13=1,VLOOKUP(AD13,男子種目コード!$A$1:$B$33,2,FALSE),IF(V13=2,VLOOKUP(I13,女子種目コード!$A$1:$B$28,2,FALSE))))","v":""},null,null,{"$f":"IF(AG13=\"\",\"\",IF(I13=1,VLOOKUP(AG13,男子種目コード!$A$1:$B$33,2,FALSE),IF(AA13=2,VLOOKUP(I13,女子種目コード!$A$1:$B$28,2,FALSE))))","v":""},null,null,null,null,"共通400",{"$f":"IF(O13=\"\",\"\",1)","v":""},0,0,400,{"$f":"COUNTIF($P$7:P$116,7)+COUNTIF($U$7:$U$116,7)","v":0},null,"","","","",null,null,3000,"走高跳",null,null,null,0,"","",null,null,null,null,null,{"$f":"VLookUpX(12,$A$7:$F$116,5,5)","v":{"$error":"#N/A"}},{"$f":"VLookUpX(12,$A$7:$F$116,5,6)","v":{"$error":"#N/A"}},{"$f":"VLookUpX(13,$A$7:$F$116,5,5)","v":{"$error":"#N/A"}},{"$f":"VLookUpX(13,$A$7:$F$116,5,6)","v":{"$error":"#N/A"}}]
["",{"$f":"名簿!P11","v":""},null,null,{"$f":"名簿!E11","v":0},{"$f":"名簿!CM11","v":""},{"$f":"名簿!Z11","v":""},{"$f":"名簿!CM11","v":""},{"$f":"名簿!Y11","v":""},{"$f":"名簿!CN11","v":""},{"$f":"名簿!CP11","v":0},{"$f":"名簿!CU11","v":"00"},{"$f":"名簿!Q11","v":""},{"$f":"名簿!D11","v":0},null,{"$f":"IF(O14=\"\",\"\",IF(I14=1,VLOOKUP(O14,男子種目コード!$D$1:$E$20,2,FALSE),IF(I14=2,VLOOKUP(O14,女子種目コード!$D$1:$E$20,2,FALSE))))","v":""},{"$f":"IF(O14=\"\",\"\",HLOOKUP(O14,名簿!$AH$3:$CH$118,9,FALSE))","v":""},"","",null,{"$f":"IF(T14=\"\",\"\",IF(I14=1,VLOOKUP(T14,男子種目コード!$D$1:$E$20,2,FALSE),IF(I14=2,VLOOKUP(T14,女子種目コード!$D$1:$E$20,2,FALSE))))","v":""},{"$f":"IF(T14=\"\",\"\",HLOOKUP(T14,名簿!$AH$3:$CH$118,9,FALSE))","v":""},"","",null,{"$f":"IF(Y14=\"\",\"\",IF(I14=1,VLOOKUP(Y14,男子種目コード!$D$1:$E$20,2,FALSE),IF(I14=2,VLOOKUP(Y14,女子種目コード!$D$1:$E$20,2,FALSE))))","v":""},null,"","",null,{"$f":"IF(AD14=\"\",\"\",IF(I14=1,VLOOKUP(AD14,男子種目コード!$A$1:$B$33,2,FALSE),IF(V14=2,VLOOKUP(I14,女子種目コード!$A$1:$B$28,2,FALSE))))","v":""},null,null,{"$f":"IF(AG14=\"\",\"\",IF(I14=1,VLOOKUP(AG14,男子種目コード!$A$1:$B$33,2,FALSE),IF(AA14=2,VLOOKUP(I14,女子種目コード!$A$1:$B$28,2,FALSE))))","v":""},null,null,null,null,"共通800","",0,0,800,{"$f":"COUNTIF($P$7:P$116,8)+COUNTIF($U$7:$U$116,8)","v":0},null,"","","","",null,null,"110H","棒高跳",null,null,null,0,"","",null,null,null,null,null,{"$f":"VLookUpX(12,$A$7:$F$116,6,5)","v":{"$error":"#N/A"}},{"$f":"VLookUpX(12,$A$7:$F$116,6,6)","v":{"$error":"#N/A"}},{"$f":"VLookUpX(13,$A$7:$F$116,6,5)","v":{"$error":"#N/A"}},{"$f":"VLookUpX(13,$A$7:$F$116,6,6)","v":{"$error":"#N/A"}}]
["",{"$f":"名簿!P12","v":""},null,null,{"$f":"名簿!E12","v":0},{"$f":"名簿!CM12","v":""},{"$f":"名簿!Z12","v":""},{"$f":"名簿!CM12","v":""},{"$f":"名簿!Y12","v":""},{"$f":"名簿!CN12","v":""},{"$f":"名簿!CP12","v":0},{"$f":"名簿!CU12","v":"00"},{"$f":"名簿!Q12","v":""},{"$f":"名簿!D12","v":0},null,{"$f":"IF(O15=\"\",\"\",IF(I15=1,VLOOKUP(O15,男子種目コード!$D$1:$E$20,2,FALSE),IF(I15=2,VLOOKUP(O15,女子種目コード!$D$1:$E$20,2,FALSE))))","v":""},{"$f":"IF(O15=\"\",\"\",HLOOKUP(O15,名簿!$AH$3:$CH$118,10,FALSE))","v":""},"","",null,{"$f":"IF(T15=\"\",\"\",IF(I15=1,VLOOKUP(T15,男子種目コード!$D$1:$E$20,2,FALSE),IF(I15=2,VLOOKUP(T15,女子種目コード!$D$1:$E$20,2,FALSE))))","v":""},{"$f":"IF(T15=\"\",\"\",HLOOKUP(T15,名簿!$AH$3:$CH$118,10,FALSE))","v":""},"","",null,{"$f":"IF(Y15=\"\",\"\",IF(I15=1,VLOOKUP(Y15,男子種目コード!$D$1:$E$20,2,FALSE),IF(I15=2,VLOOKUP(Y15,女子種目コード!$D$1:$E$20,2,FALSE))))","v":""},null,"","",null,{"$f":"IF(AD15=\"\",\"\",IF(I15=1,VLOOKUP(AD15,男子種目コード!$A$1:$B$33,2,FALSE),IF(V15=2,VLOOKUP(I15,女子種目コード!$A$1:$B$28,2,FALSE))))","v":""},null,null,{"$f":"IF(AG15=\"\",\"\",IF(I15=1,VLOOKUP(AG15,男子種目コード!$A$1:$B$33,2,FALSE),IF(AA15=2,VLOOKUP(I15,女子種目コード!$A$1:$B$28,2,FALSE))))","v":""},null,null,null,null,"共通1500","",0,0,"共通1500",{"$f":"COUNTIF($P$7:P$116,9)+COUNTIF($U$7:$U$116,9)","v":0},null,"低学年",null,"高学年",null,null,null,"走高跳","走幅跳",null,null,null,0,"",""]
["",{"$f":"名簿!P13","v":""},null,null,{"$f":"名簿!E13","v":0},{"$f":"名簿!CM13","v":""},{"$f":"名簿!Z13","v":""},{"$f":"名簿!CM13","v":""},{"$f":"名簿!Y13","v":""},{"$f":"名簿!CN13","v":""},{"$f":"名簿!CP13","v":0},{"$f":"名簿!CU13","v":"00"},{"$f":"名簿!Q13","v":""},{"$f":"名簿!D13","v":0},null,{"$f":"IF(O16=\"\",\"\",IF(I16=1,VLOOKUP(O16,男子種目コード!$D$1:$E$20,2,FALSE),IF(I16=2,VLOOKUP(O16,女子種目コード!$D$1:$E$20,2,FALSE))))","v":""},{"$f":"IF(O16=\"\",\"\",HLOOKUP(O16,名簿!$AH$3:$CH$118,11,FALSE))","v":""},"","",null,{"$f":"IF(T16=\"\",\"\",IF(I16=1,VLOOKUP(T16,男子種目コード!$D$1:$E$20,2,FALSE),IF(I16=2,VLOOKUP(T16,女子種目コード!$D$1:$E$20,2,FALSE))))","v":""},{"$f":"IF(T16=\"\",\"\",HLOOKUP(T16,名簿!$AH$3:$CH$118,11,FALSE))","v":""},"","",null,{"$f":"IF(Y16=\"\",\"\",IF(I16=1,VLOOKUP(Y16,男子種目コード!$D$1:$E$20,2,FALSE),IF(I16=2,VLOOKUP(Y16,女子種目コード!$D$1:$E$20,2,FALSE))))","v":""},null,"","",null,{"$f":"IF(AD16=\"\",\"\",IF(I16=1,VLOOKUP(AD16,男子種目コード!$A$1:$B$33,2,FALSE),IF(V16=2,VLOOKUP(I16,女子種目コード!$A$1:$B$28,2,FALSE))))","v":""},null,null,{"$f":"IF(AG16=\"\",\"\",IF(I16=1,VLOOKUP(AG16,男子種目コード!$A$1:$B$33,2,FALSE),IF(AA16=2,VLOOKUP(I16,女子種目コード!$A$1:$B$28,2,FALSE))))","v":""},null,null,null,null,"共通3000","",0,0,3000,{"$f":"COUNTIF($P$7:P$116,10)+COUNTIF($U$7:$U$116,10)","v":0},null,"記録",null,"記録",null,null,null,"棒高跳","三段跳",null,null,null,0,"",""]
["",{"$f":"名簿!P14","v":""},null,null,{"$f":"名簿!E14","v":0},{"$f":"名簿!CM14","v":""},{"$f":"名簿!Z14","v":""},{"$f":"名簿!CM14","v":""},{"$f":"名簿!Y14","v":""},{"$f":"名簿!CN14","v":""},{"$f":"名簿!CP14","v":0},{"$f":"名簿!CU14","v":"00"},{"$f":"名簿!Q14","v":""},{"$f":"名簿!D14","v":0},null,{"$f":"IF(O17=\"\",\"\",IF(I17=1,VLOOKUP(O17,男子種目コード!$D$1:$E$20,2,FALSE),IF(I17=2,VLOOKUP(O17,女子種目コード!$D$1:$E$20,2,FALSE))))","v":""},{"$f":"IF(O17=\"\",\"\",HLOOKUP(O17,名簿!$AH$3:$CH$118,12,FALSE))","v":""},"","",null,{"$f":"IF(T17=\"\",\"\",IF(I17=1,VLOOKUP(T17,男子種目コード!$D$1:$E$20,2,FALSE),IF(I17=2,VLOOKUP(T17,女子種目コード!$D$1:$E$20,2,FALSE))))","v":""},{"$f":"IF(T17=\"\",\"\",HLOOKUP(T17,名簿!$AH$3:$CH$118,12,FALSE))","v":""},"","",null,{"$f":"IF(Y17=\"\",\"\",IF(I17=1,VLOOKUP(Y17,男子種目コード!$D$1:$E$20,2,FALSE),IF(I17=2,VLOOKUP(Y17,女子種目コード!$D$1:$E$20,2,FALSE))))","v":""},null,"","",null,{"$f":"IF(AD17=\"\",\"\",IF(I17=1,VLOOKUP(AD17,男子種目コード!$A$1:$B$33,2,FALSE),IF(V17=2,VLOOKUP(I17,女子種目コード!$A$1:$B$28,2,FALSE))))","v":""},null,null,{"$f":"IF(AG17=\"\",\"\",IF(I17=1,VLOOKUP(AG17,男子種目コード!$A$1:$B$33,2,FALSE),IF(AA17=2,VLOOKUP(I17,女子種目コード!$A$1:$B$28,2,FALSE))))","v":""},null,null,null,null,"共通110H","",0,0,"110H",{"$f":"COUNTIF($P$7:P$116,11)+COUNTIF($U$7:$U$116,11)","v":0},null,{"$f":"COUNTIF($Z7:$Z116,38)","v":0},null,{"$f":"COUNTIF($Z7:$Z116,39)","v":0},null,null,null,"走幅跳","砲丸投",null,null,null,0,"",""]
["",{"$f":"名簿!P15","v":""},null,null,{"$f":"名簿!E15","v":0},{"$f":"名簿!CM15","v":""},{"$f":"名簿!Z15","v":""},{"$f":"名簿!CM15","v":""},{"$f":"名簿!Y15","v":""},{"$f":"名簿!CN15","v":""},{"$f":"名簿!CP15","v":0},{"$f":"名簿!CU15","v":"00"},{"$f":"名簿!Q15","v":""},{"$f":"名簿!D15","v":0},null,{"$f":"IF(O18=\"\",\"\",IF(I18=1,VLOOKUP(O18,男子種目コード!$D$1:$E$20,2,FALSE),IF(I18=2,VLOOKUP(O18,女子種目コード!$D$1:$E$20,2,FALSE))))","v":""},{"$f":"IF(O18=\"\",\"\",HLOOKUP(O18,名簿!$AH$3:$CH$118,13,FALSE))","v":""},"","",null,{"$f":"IF(T18=\"\",\"\",IF(I18=1,VLOOKUP(T18,男子種目コード!$D$1:$E$20,2,FALSE),IF(I18=2,VLOOKUP(T18,女子種目コード!$D$1:$E$20,2,FALSE))))","v":""},{"$f":"IF(T18=\"\",\"\",HLOOKUP(T18,名簿!$AH$3:$CH$118,13,FALSE))","v":""},"","",null,{"$f":"IF(Y18=\"\",\"\",IF(I18=1,VLOOKUP(Y18,男子種目コード!$D$1:$E$20,2,FALSE),IF(I18=2,VLOOKUP(Y18,女子種目コード!$D$1:$E$20,2,FALSE))))","v":""},null,"","",null,{"$f":"IF(AD18=\"\",\"\",IF(I18=1,VLOOKUP(AD18,男子種目コード!$A$1:$B$33,2,FALSE),IF(V18=2,VLOOKUP(I18,女子種目コード!$A$1:$B$28,2,FALSE))))","v":""},null,null,{"$f":"IF(AG18=\"\",\"\",IF(I18=1,VLOOKUP(AG18,男子種目コード!$A$1:$B$33,2,FALSE),IF(AA18=2,VLOOKUP(I18,女子種目コード!$A$1:$B$28,2,FALSE))))","v":""},null,null,null,null,"共通100H","",0,0,"走高跳",{"$f":"COUNTIF($P$7:P$116,14)+COUNTIF($U$7:$U$116,14)","v":0},null,{"$f":"IF(ISERROR(BM18),\"\",BM18)","v":""},"","","",null,null,"三段跳","円盤投",null,null,null,0,"","",null,null,null,null,null,{"$f":"VLookUpX(38,$A$7:$F$116,1,5)","v":{"$error":"#N/A"}},{"$f":"VLookUpX(38,$A$7:$F$116,1,6)","v":{"$error":"#N/A"}},{"$f":"VLookUpX(39,$A$7:$F$116,1,5)","v":{"$error":"#N/A"}},{"$f":"VLookUpX(39,$A$7:$F$116,1,6)","v":{"$error":"#N/A"}}]
["",{"$f":"名簿!P16","v":""},null,null,{"$f":"名簿!E16","v":0},{"$f":"名簿!CM16","v":""},{"$f":"名簿!Z16","v":""},{"$f":"名簿!CM16","v":""},{"$f":"名簿!Y16","v":""},{"$f":"名簿!CN16","v":""},{"$f":"名簿!CP16","v":0},{"$f":"名簿!CU16","v":"00"},{"$f":"名簿!Q16","v":""},{"$f":"名簿!D16","v":0},null,{"$f":"IF(O19=\"\",\"\",IF(I19=1,VLOOKUP(O19,男子種目コード!$D$1:$E$20,2,FALSE),IF(I19=2,VLOOKUP(O19,女子種目コード!$D$1:$E$20,2,FALSE))))","v":""},{"$f":"IF(O19=\"\",\"\",HLOOKUP(O19,名簿!$AH$3:$CH$118,14,FALSE))","v":""},"","",null,{"$f":"IF(T19=\"\",\"\",IF(I19=1,VLOOKUP(T19,男子種目コード!$D$1:$E$20,2,FALSE),IF(I19=2,VLOOKUP(T19,女子種目コード!$D$1:$E$20,2,FALSE))))","v":""},{"$f":"IF(T19=\"\",\"\",HLOOKUP(T19,名簿!$AH$3:$CH$118,14,FALSE))","v":""},"","",null,{"$f":"IF(Y19=\"\",\"\",IF(I19=1,VLOOKUP(Y19,男子種目コード!$D$1:$E$20,2,FALSE),IF(I19=2,VLOOKUP(Y19,女子種目コード!$D$1:$E$20,2,FALSE))))","v":""},null,"","",null,{"$f":"IF(AD19=\"\",\"\",IF(I19=1,VLOOKUP(AD19,男子種目コード!$A$1:$B$33,2,FALSE),IF(V19=2,VLOOKUP(I19,女子種目コード!$A$1:$B$28,2,FALSE))))","v":""},null,null,{"$f":"IF(AG19=\"\",\"\",IF(I19=1,VLOOKUP(AG19,男子種目コード!$A$1:$B$33,2,FALSE),IF(AA19=2,VLOOKUP(I19,女子種目コード!$A$1:$B$28,2,FALSE))))","v":""},null,null,null,null,"共通走高跳","",0,0,"棒高跳",{"$f":"COUNTIF($P$7:P$116,15)+COUNTIF($U$7:$U$116,15)","v":0},null,"","","","",null,null,"砲丸投","2年100",null,null,null,0,"","",null,null,null,null,null,{"$f":"VLookUpX(38,$A$7:$F$116,2,5)","v":{"$error":"#N/A"}},{"$f":"VLookUpX(38,$A$7:$F$116,2,6)","v":{"$error":"#N/A"}},{"$f":"VLookUpX(39,$A$7:$F$116,2,5)","v":{"$error":"#N/A"}},{"$f":"VLookUpX(39,$A$7:$F$116,2,6)","v":{"$error":"#N/A"}}]
["",{"$f":"名簿!P17","v":""},null,null,{"$f":"名簿!E17","v":0},{"$f":"名簿!CM17","v":""},{"$f":"名簿!Z17","v":""},{"$f":"名簿!CM17","v":""},{"$f":"名簿!Y17","v":""},{"$f":"名簿!CN17","v":""},{"$f":"名簿!CP17","v":0},{"$f":"名簿!CU17","v":"00"},{"$f":"名簿!Q17","v":""},{"$f":"名簿!D17","v":0},null,{"$f":"IF(O20=\"\",\"\",IF(I20=1,VLOOKUP(O20,男子種目コード!$D$1:$E$20,2,FALSE),IF(I20=2,VLOOKUP(O20,女子種目コード!$D$1:$E$20,2,FALSE))))","v":""},{"$f":"IF(O20=\"\",\"\",HLOOKUP(O20,名簿!$AH$3:$CH$118,15,FALSE))","v":""},"","",null,{"$f":"IF(T20=\"\",\"\",IF(I20=1,VLOOKUP(T20,男子種目コード!$D$1:$E$20,2,FALSE),IF(I20=2,VLOOKUP(T20,女子種目コード!$D$1:$E$20,2,FALSE))))","v":""},{"$f":"IF(T20=\"\",\"\",HLOOKUP(T20,名簿!$AH$3:$CH$118,15,FALSE))","v":""},"","",null,{"$f":"IF(Y20=\"\",\"\",IF(I20=1,VLOOKUP(Y20,男子種目コード!$D$1:$E$20,2,FALSE),IF(I20=2,VLOOKUP(Y20,女子種目コード!$D$1:$E$20,2,FALSE))))","v":""},null,"","",null,{"$f":"IF(AD20=\"\",\"\",IF(I20=1,VLOOKUP(AD20,男子種目コード!$A$1:$B$33,2,FALSE),IF(V20=2,VLOOKUP(I20,女子種目コード!$A$1:$B$28,2,FALSE))))","v":""},null,null,{"$f":"IF(AG20=\"\",\"\",IF(I20=1,VLOOKUP(AG20,男子種目コード!$A$1:$B$33,2,FALSE),IF(AA20=2,VLOOKUP(I20,女子種目コード!$A$1:$B$28,2,FALSE))))","v":""},null,null,null,null,"共通棒高跳","",0,0,"走幅跳",{"$f":"COUNTIF($P$7:P$116,16)+COUNTIF($U$7:$U$116,16)","v":0},null,"","","","",null,null,"円盤投",100,null,null,null,0,"","",null,null,null,null,null,{"$f":"VLookUpX(38,$A$7:$F$116,3,5)","v":{"$error":"#N/A"}},{"$f":"VLookUpX(38,$A$7:$F$116,3,6)","v":{"$error":"#N/A"}},{"$f":"VLookUpX(39,$A$7:$F$116,3,5)","v":{"$error":"#N/A"}},{"$f":"VLookUpX(39,$A$7:$F$116,3,6)","v":{"$error":"#N/A"}}]
["",{"$f":"名簿!P18","v":""},null,null,{"$f":"名簿!E18","v":0},{"$f":"名簿!CM18","v":""},{"$f":"名簿!Z18","v":""},{"$f":"名簿!CM18","v":""},{"$f":"名簿!Y18","v":""},{"$f":"名簿!CN18","v":""},{"$f":"名簿!CP18","v":0},{"$f":"名簿!CU18","v":"00"},{"$f":"名簿!Q18","v":""},{"$f":"名簿!D18","v":0},null,{"$f":"IF(O21=\"\",\"\",IF(I21=1,VLOOKUP(O21,男子種目コード!$D$1:$E$20,2,FALSE),IF(I21=2,VLOOKUP(O21,女子種目コード!$D$1:$E$20,2,FALSE))))","v":""},{"$f":"IF(O21=\"\",\"\",HLOOKUP(O21,名簿!$AH$3:$CH$118,16,FALSE))","v":""},"","",null,{"$f":"IF(T21=\"\",\"\",IF(I21=1,VLOOKUP(T21,男子種目コード!$D$1:$E$20,2,FALSE),IF(I21=2,VLOOKUP(T21,女子種目コード!$D$1:$E$20,2,FALSE))))","v":""},{"$f":"IF(T21=\"\",\"\",HLOOKUP(T21,名簿!$AH$3:$CH$118,16,FALSE))","v":""},"","",null,{"$f":"IF(Y21=\"\",\"\",IF(I21=1,VLOOKUP(Y21,男子種目コード!$D$1:$E$20,2,FALSE),IF(I21=2,VLOOKUP(Y21,女子種目コード!$D$1:$E$20,2,FALSE))))","v":""},null,"","",null,{"$f":"IF(AD21=\"\",\"\",IF(I21=1,VLOOKUP(AD21,男子種目コード!$A$1:$B$33,2,FALSE),IF(V21=2,VLOOKUP(I21,女子種目コード!$A$1:$B$28,2,FALSE))))","v":""},null,null,{"$f":"IF(AG21=\"\",\"\",IF(I21=1,VLOOKUP(AG21,男子種目コード!$A$1:$B$33,2,FALSE),IF(AA21=2,VLOOKUP(I21,女子種目コード!$A$1:$B$28,2,FALSE))))","v":""},null,null,null,null,"共通走幅跳","",0,0,"三段跳",{"$f":"COUNTIF($P$7:P$116,17)+COUNTIF($U$7:$U$116,17)","v":0},null,"","","","",null,null,"2年100",200,null,null,null,0,"","",null,null,null,null,null,{"$f":"VLookUpX(38,$A$7:$F$116,4,5)","v":{"$error":"#N/A"}},{"$f":"VLookUpX(38,$A$7:$F$116,4,6)","v":{"$error":"#N/A"}},{"$f":"VLookUpX(39,$A$7:$F$116,4,5)","v":{"$error":"#N/A"}},{"$f":"VLookUpX(39,$A$7:$F$116,4,6)","v":{"$error":"#N/A"}}]
["",{"$f":"名簿!P19","v":""},null,null,{"$f":"名簿!E19","v":0},{"$f":"名簿!CM19","v":""},{"$f":"名簿!Z19","v":""},{"$f":"名簿!CM19","v":""},{"$f":"名簿!Y19","v":""},{"$f":"名簿!CN19","v":""},{"$f":"名簿!CP19","v":0},{"$f":"名簿!CU19","v":"00"},{"$f":"名簿!Q19","v":""},{"$f":"名簿!D19","v":0},null,{"$f":"IF(O22=\"\",\"\",IF(I22=1,VLOOKUP(O22,男子種目コード!$D$1:$E$20,2,FALSE),IF(I22=2,VLOOKUP(O22,女子種目コード!$D$1:$E$20,2,FALSE))))","v":""},{"$f":"IF(O22=\"\",\"\",HLOOKUP(O22,名簿!$AH$3:$CH$118,17,FALSE))","v":""},"","",null,{"$f":"IF(T22=\"\",\"\",IF(I22=1,VLOOKUP(T22,男子種目コード!$D$1:$E$20,2,FALSE),IF(I22=2,VLOOKUP(T22,女子種目コード!$D$1:$E$20,2,FALSE))))","v":""},{"$f":"IF(T22=\"\",\"\",HLOOKUP(T22,名簿!$AH$3:$CH$118,17,FALSE))","v":""},"","",null,{"$f":"IF(Y22=\"\",\"\",IF(I22=1,VLOOKUP(Y22,男子種目コード!$D$1:$E$20,2,FALSE),IF(I22=2,VLOOKUP(Y22,女子種目コード!$D$1:$E$20,2,FALSE))))","v":""},null,"","",null,{"$f":"IF(AD22=\"\",\"\",IF(I22=1,VLOOKUP(AD22,男子種目コード!$A$1:$B$33,2,FALSE),IF(V22=2,VLOOKUP(I22,女子種目コード!$A$1:$B$28,2,FALSE))))","v":""},null,null,{"$f":"IF(AG22=\"\",\"\",IF(I22=1,VLOOKUP(AG22,男子種目コード!$A$1:$B$33,2,FALSE),IF(AA22=2,VLOOKUP(I22,女子種目コード!$A$1:$B$28,2,FALSE))))","v":""},null,null,null,null,"共通三段跳","",0,0,"砲丸投",{"$f":"COUNTIF($P$7:P$116,18)+COUNTIF($U$7:$U$116,18)","v":0},null,"","","","",null,null,"2年1500",800,null,null,null,0,"","",null,null,null,null,null,{"$f":"VLookUpX(38,$A$7:$F$116,5,5)","v":{"$error":"#N/A"}},{"$f":"VLookUpX(38,$A$7:$F$116,5,6)","v":{"$error":"#N/A"}},{"$f":"VLookUpX(39,$A$7:$F$116,5,5)","v":{"$error":"#N/A"}},{"$f":"VLookUpX(39,$A$7:$F$116,5,6)","v":{"$error":"#N/A"}}]
["",{"$f":"名簿!P20","v":""},null,null,{"$f":"名簿!E20","v":0},{"$f":"名簿!CM20","v":""},{"$f":"名簿!Z20","v":""},{"$f":"名簿!CM20","v":""},{"$f":"名簿!Y20","v":""},{"$f":"名簿!CN20","v":""},{"$f":"名簿!CP20","v":0},{"$f":"名簿!CU20","v":"00"},{"$f":"名簿!Q20","v":""},{"$f":"名簿!D20","v":0},null,{"$f":"IF(O23=\"\",\"\",IF(I23=1,VLOOKUP(O23,男子種目コード!$D$1:$E$20,2,FALSE),IF(I23=2,VLOOKUP(O23,女子種目コード!$D$1:$E$20,2,FALSE))))","v":""},{"$f":"IF(O23=\"\",\"\",HLOOKUP(O23,名簿!$AH$3:$CH$118,18,FALSE))","v":""},"","",null,{"$f":"IF(T23=\"\",\"\",IF(I23=1,VLOOKUP(T23,男子種目コード!$D$1:$E$20,2,FALSE),IF(I23=2,VLOOKUP(T23,女子種目コード!$D$1:$E$20,2,FALSE))))","v":""},{"$f":"IF(T23=\"\",\"\",HLOOKUP(T23,名簿!$AH$3:$CH$118,18,FALSE))","v":""},"","",null,{"$f":"IF(Y23=\"\",\"\",IF(I23=1,VLOOKUP(Y23,男子種目コード!$D$1:$E$20,2,FALSE),IF(I23=2,VLOOKUP(Y23,女子種目コード!$D$1:$E$20,2,FALSE))))","v":""},null,"","",null,{"$f":"IF(AD23=\"\",\"\",IF(I23=1,VLOOKUP(AD23,男子種目コード!$A$1:$B$33,2,FALSE),IF(V23=2,VLOOKUP(I23,女子種目コード!$A$1:$B$28,2,FALSE))))","v":""},null,null,{"$f":"IF(AG23=\"\",\"\",IF(I23=1,VLOOKUP(AG23,男子種目コード!$A$1:$B$33,2,FALSE),IF(AA23=2,VLOOKUP(I23,女子種目コード!$A$1:$B$28,2,FALSE))))","v":""},null,null,null,null,"共通砲丸投","",0,0,"円盤投",{"$f":"COUNTIF($P$7:P$116,19)+COUNTIF($U$7:$U$116,19)","v":0},null,"","","","",null,null,100,1500,null,null,null,0,"","",null,null,null,null,null,{"$f":"VLookUpX(38,$A$7:$F$116,6,5)","v":{"$error":"#N/A"}},{"$f":"VLookUpX(38,$A$7:$F$116,6,6)","v":{"$error":"#N/A"}},{"$f":"VLookUpX(39,$A$7:$F$116,6,5)","v":{"$error":"#N/A"}},{"$f":"VLookUpX(39,$A$7:$F$116,6,6)","v":{"$error":"#N/A"}}]
["",{"$f":"名簿!P21","v":""},null,null,{"$f":"名簿!E21","v":0},{"$f":"名簿!CM21","v":""},{"$f":"名簿!Z21","v":""},{"$f":"名簿!CM21","v":""},{"$f":"名簿!Y21","v":""},{"$f":"名簿!CN21","v":""},{"$f":"名簿!CP21","v":0},{"$f":"名簿!CU21","v":"00"},{"$f":"名簿!Q21","v":""},{"$f":"名簿!D21","v":0},null,{"$f":"IF(O24=\"\",\"\",IF(I24=1,VLOOKUP(O24,男子種目コード!$D$1:$E$20,2,FALSE),IF(I24=2,VLOOKUP(O24,女子種目コード!$D$1:$E$20,2,FALSE))))","v":""},{"$f":"IF(O24=\"\",\"\",HLOOKUP(O24,名簿!$AH$3:$CH$118,19,FALSE))","v":""},"","",null,{"$f":"IF(T24=\"\",\"\",IF(I24=1,VLOOKUP(T24,男子種目コード!$D$1:$E$20,2,FALSE),IF(I24=2,VLOOKUP(T24,女子種目コード!$D$1:$E$20,2,FALSE))))","v":""},{"$f":"IF(T24=\"\",\"\",HLOOKUP(T24,名簿!$AH$3:$CH$118,19,FALSE))","v":""},"","",null,{"$f":"IF(Y24=\"\",\"\",IF(I24=1,VLOOKUP(Y24,男子種目コード!$D$1:$E$20,2,FALSE),IF(I24=2,VLOOKUP(Y24,女子種目コード!$D$1:$E$20,2,FALSE))))","v":""},null,"","",null,{"$f":"IF(AD24=\"\",\"\",IF(I24=1,VLOOKUP(AD24,男子種目コード!$A$1:$B$33,2,FALSE),IF(V24=2,VLOOKUP(I24,女子種目コード!$A$1:$B$28,2,FALSE))))","v":""},null,null,{"$f":"IF(AG24=\"\",\"\",IF(I24=1,VLOOKUP(AG24,男子種目コード!$A$1:$B$33,2,FALSE),IF(AA24=2,VLOOKUP(I24,女子種目コード!$A$1:$B$28,2,FALSE))))","v":""},null,null,null,null,"共通円盤投","",0,0,"計",{"$f":"SUM(AR7:AR23)","v":0},null,null,null,null,null,null,null,200,"100H",null,null,null,0,"",""]
["",{"$f":"名簿!P22","v":""},null,null,{"$f":"名簿!E22","v":0},{"$f":"名簿!CM22","v":""},{"$f":"名簿!Z22","v":""},{"$f":"名簿!CM22","v":""},{"$f":"名簿!Y22","v":""},{"$f":"名簿!CN22","v":""},{"$f":"名簿!CP22","v":0},{"$f":"名簿!CU22","v":"00"},{"$f":"名簿!Q22","v":""},{"$f":"名簿!D22","v":0},null,{"$f":"IF(O25=\"\",\"\",IF(I25=1,VLOOKUP(O25,男子種目コード!$D$1:$E$20,2,FALSE),IF(I25=2,VLOOKUP(O25,女子種目コード!$D$1:$E$20,2,FALSE))))","v":""},{"$f":"IF(O25=\"\",\"\",HLOOKUP(O25,名簿!$AH$3:$CH$118,20,FALSE))","v":""},"","",null,{"$f":"IF(T25=\"\",\"\",IF(I25=1,VLOOKUP(T25,男子種目コード!$D$1:$E$20,2,FALSE),IF(I25=2,VLOOKUP(T25,女子種目コード!$D$1:$E$20,2,FALSE))))","v":""},{"$f":"IF(T25=\"\",\"\",HLOOKUP(T25,名簿!$AH$3:$CH$118,20,FALSE))","v":""},"","",null,{"$f":"IF(Y25=\"\",\"\",IF(I25=1,VLOOKUP(Y25,男子種目コード!$D$1:$E$20,2,FALSE),IF(I25=2,VLOOKUP(Y25,女子種目コード!$D$1:$E$20,2,FALSE))))","v":""},null,"","",null,{"$f":"IF(AD25=\"\",\"\",IF(I25=1,VLOOKUP(AD25,男子種目コード!$A$1:$B$33,2,FALSE),IF(V25=2,VLOOKUP(I25,女子種目コード!$A$1:$B$28,2,FALSE))))","v":""},null,null,{"$f":"IF(AG25=\"\",\"\",IF(I25=1,VLOOKUP(AG25,男子種目コード!$A$1:$B$33,2,FALSE),IF(AA25=2,VLOOKUP(I25,女子種目コード!$A$1:$B$28,2,FALSE))))","v":""},null,null,null,null,"低学年R","",0,0,"1年100",{"$f":"COUNTIF($P$7:P$116,30)+COUNTIF($U$7:$U$116,30)","v":0},null,null,null,null,null,null,null,400,"走高跳",null,null,null,0,"",""]
["",{"$f":"名簿!P23","v":""},null,null,{"$f":"名簿!E23","v":0},{"$f":"名簿!CM23","v":""},{"$f":"名簿!Z23","v":""},{"$f":"名簿!CM23","v":""},{"$f":"名簿!Y23","v":""},{"$f":"名簿!CN23","v":""},{"$f":"名簿!CP23","v":0},{"$f":"名簿!CU23","v":"00"},{"$f":"名簿!Q23","v":""},{"$f":"名簿!D23","v":0},null,{"$f":"IF(O26=\"\",\"\",IF(I26=1,VLOOKUP(O26,男子種目コード!$D$1:$E$20,2,FALSE),IF(I26=2,VLOOKUP(O26,女子種目コード!$D$1:$E$20,2,FALSE))))","v":""},{"$f":"IF(O26=\"\",\"\",HLOOKUP(O26,名簿!$AH$3:$CH$118,21,FALSE))","v":""},"","",null,{"$f":"IF(T26=\"\",\"\",IF(I26=1,VLOOKUP(T26,男子種目コード!$D$1:$E$20,2,FALSE),IF(I26=2,VLOOKUP(T26,女子種目コード!$D$1:$E$20,2,FALSE))))","v":""},{"$f":"IF(T26=\"\",\"\",HLOOKUP(T26,名簿!$AH$3:$CH$118,21,FALSE))","v":""},"","",null,{"$f":"IF(Y26=\"\",\"\",IF(I26=1,VLOOKUP(Y26,男子種目コード!$D$1:$E$20,2,FALSE),IF(I26=2,VLOOKUP(Y26,女子種目コード!$D$1:$E$20,2,FALSE))))","v":""},null,"","",null,{"$f":"IF(AD26=\"\",\"\",IF(I26=1,VLOOKUP(AD26,男子種目コード!$A$1:$B$33,2,FALSE),IF(V26=2,VLOOKUP(I26,女子種目コード!$A$1:$B$28,2,FALSE))))","v":""},null,null,{"$f":"IF(AG26=\"\",\"\",IF(I26=1,VLOOKUP(AG26,男子種目コード!$A$1:$B$33,2,FALSE),IF(AA26=2,VLOOKUP(I26,女子種目コード!$A$1:$B$28,2,FALSE))))","v":""},null,null,null,null,"4×100R","",0,0,"1年800",{"$f":"COUNTIF($P$7:P$116,31)+COUNTIF($U$7:$U$116,31)","v":0},null,null,null,null,null,null,null,800,"棒高跳",null,null,null,0,"",""]
["",{"$f":"名簿!P24","v":""},null,null,{"$f":"名簿!E24","v":0},{"$f":"名簿!CM24","v":""},{"$f":"名簿!Z24","v":""},{"$f":"名簿!CM24","v":""},{"$f":"名簿!Y24","v":""},{"$f":"名簿!CN24","v":""},{"$f":"名簿!CP24","v":0},{"$f":"名簿!CU24","v":"00"},{"$f":"名簿!Q24","v":""},{"$f":"名簿!D24","v":0},null,{"$f":"IF(O27=\"\",\"\",IF(I27=1,VLOOKUP(O27,男子種目コード!$D$1:$E$20,2,FALSE),IF(I27=2,VLOOKUP(O27,女子種目コード!$D$1:$E$20,2,FALSE))))","v":""},{"$f":"IF(O27=\"\",\"\",HLOOKUP(O27,名簿!$AH$3:$CH$118,22,FALSE))","v":""},"","",null,{"$f":"IF(T27=\"\",\"\",IF(I27=1,VLOOKUP(T27,男子種目コード!$D$1:$E$20,2,FALSE),IF(I27=2,VLOOKUP(T27,女子種目コード!$D$1:$E$20,2,FALSE))))","v":""},{"$f":"IF(T27=\"\",\"\",HLOOKUP(T27,名簿!$AH$3:$CH$118,22,FALSE))","v":""},"","",null,{"$f":"IF(Y27=\"\",\"\",IF(I27=1,VLOOKUP(Y27,男子種目コード!$D$1:$E$20,2,FALSE),IF(I27=2,VLOOKUP(Y27,女子種目コード!$D$1:$E$20,2,FALSE))))","v":""},null,"","",null,{"$f":"IF(AD27=\"\",\"\",IF(I27=1,VLOOKUP(AD27,男子種目コード!$A$1:$B$33,2,FALSE),IF(V27=2,VLOOKUP(I27,女子種目コード!$A$1:$B$28,2,FALSE))))","v":""},null,null,{"$f":"IF(AG27=\"\",\"\",IF(I27=1,VLOOKUP(AG27,男子種目コード!$A$1:$B$33,2,FALSE),IF(AA27=2,VLOOKUP(I27,女子種目コード!$A$1:$B$28,2,FALSE))))","v":""},null,null,null,null,null,"",0,0,"2年100",{"$f":"COUNTIF($P$7:P$116,32)+COUNTIF($U$7:$U$116,32)","v":0},null,null,null,null,null,null,null,1500,"走幅跳",null,null,null,0,"",""]
["",{"$f":"名簿!P25","v":""},null,null,{"$f":"名簿!E25","v":0},{"$f":"名簿!CM25","v":""},{"$f":"名簿!Z25","v":""},{"$f":"名簿!CM25","v":""},{"$f":"名簿!Y25","v":""},{"$f":"名簿!CN25","v":""},{"$f":"名簿!CP25","v":0},{"$f":"名簿!CU25","v":"00"},{"$f":"名簿!Q25","v":""},{"$f":"名簿!D25","v":0},null,{"$f":"IF(O28=\"\",\"\",IF(I28=1,VLOOKUP(O28,男子種目コード!$D$1:$E$20,2,FALSE),IF(I28=2,VLOOKUP(O28,女子種目コード!$D$1:$E$20,2,FALSE))))","v":""},{"$f":"IF(O28=\"\",\"\",HLOOKUP(O28,名簿!$AH$3:$CH$118,23,FALSE))","v":""},"","",null,{"$f":"IF(T28=\"\",\"\",IF(I28=1,VLOOKUP(T28,男子種目コード!$D$1:$E$20,2,FALSE),IF(I28=2,VLOOKUP(T28,女子種目コード!$D$1:$E$20,2,FALSE))))","v":""},{"$f":"IF(T28=\"\",\"\",HLOOKUP(T28,名簿!$AH$3:$CH$118,23,FALSE))","v":""},"","",null,{"$f":"IF(Y28=\"\",\"\",IF(I28=1,VLOOKUP(Y28,男子種目コード!$D$1:$E$20,2,FALSE),IF(I28=2,VLOOKUP(Y28,女子種目コード!$D$1:$E$20,2,FALSE))))","v":""},null,"","",null,{"$f":"IF(AD28=\"\",\"\",IF(I28=1,VLOOKUP(AD28,男子種目コード!$A$1:$B$33,2,FALSE),IF(V28=2,VLOOKUP(I28,女子種目コード!$A$1:$B$28,2,FALSE))))","v":""},null,null,{"$f":"IF(AG28=\"\",\"\",IF(I28=1,VLOOKUP(AG28,男子種目コード!$A$1:$B$33,2,FALSE),IF(AA28=2,VLOOKUP(I28,女子種目コード!$A$1:$B$28,2,FALSE))))","v":""},null,null,null,null,null,"",0,0,"共通100",{"$f":"COUNTIF($P$7:P$116,33)+COUNTIF($U$7:$U$116,33)","v":0},null,null,null,null,null,null,null,3000,"三段跳",null,null,null,0,"",""]
["",{"$f":"名簿!P26","v":""},null,null,{"$f":"名簿!E26","v":0},{"$f":"名簿!CM26","v":""},{"$f":"名簿!Z26","v":""},{"$f":"名簿!CM26","v":""},{"$f":"名簿!Y26","v":""},{"$f":"名簿!CN26","v":""},{"$f":"名簿!CP26","v":0},{"$f":"名簿!CU26","v":"00"},{"$f":"名簿!Q26","v":""},{"$f":"名簿!D26","v":0},null,{"$f":"IF(O29=\"\",\"\",IF(I29=1,VLOOKUP(O29,男子種目コード!$D$1:$E$20,2,FALSE),IF(I29=2,VLOOKUP(O29,女子種目コード!$D$1:$E$20,2,FALSE))))","v":""},{"$f":"IF(O29=\"\",\"\",HLOOKUP(O29,名簿!$AH$3:$CH$118,24,FALSE))","v":""},"","",null,{"$f":"IF(T29=\"\",\"\",IF(I29=1,VLOOKUP(T29,男子種目コード!$D$1:$E$20,2,FALSE),IF(I29=2,VLOOKUP(T29,女子種目コード!$D$1:$E$20,2,FALSE))))","v":""},{"$f":"IF(T29=\"\",\"\",HLOOKUP(T29,名簿!$AH$3:$CH$118,24,FALSE))","v":""},"","",null,{"$f":"IF(Y29=\"\",\"\",IF(I29=1,VLOOKUP(Y29,男子種目コード!$D$1:$E$20,2,FALSE),IF(I29=2,VLOOKUP(Y29,女子種目コード!$D$1:$E$20,2,FALSE))))","v":""},null,"","",null,{"$f":"IF(AD29=\"\",\"\",IF(I29=1,VLOOKUP(AD29,男子種目コード!$A$1:$B$33,2,FALSE),IF(V29=2,VLOOKUP(I29,女子種目コード!$A$1:$B$28,2,FALSE))))","v":""},null,null,{"$f":"IF(AG29=\"\",\"\",IF(I29=1,VLOOKUP(AG29,男子種目コード!$A$1:$B$33,2,FALSE),IF(AA29=2,VLOOKUP(I29,女子種目コード!$A$1:$B$28,2,FALSE))))","v":""},null,null,null,null,null,"",0,0,200,{"$f":"COUNTIF($P$7:P$116,34)+COUNTIF($U$7:$U$116,34)","v":0},null,null,null,null,null,null,null,"110H","砲丸投",null,null,null,0,"",""]
["",{"$f":"名簿!P27","v":""},null,null,{"$f":"名簿!E27","v":0},{"$f":"名簿!CM27","v":""},{"$f":"名簿!Z27","v":""},{"$f":"名簿!CM27","v":""},{"$f":"名簿!Y27","v":""},{"$f":"名簿!CN27","v":""},{"$f":"名簿!CP27","v":0},{"$f":"名簿!CU27","v":"00"},{"$f":"名簿!Q27","v":""},{"$f":"名簿!D27","v":0},null,{"$f":"IF(O30=\"\",\"\",IF(I30=1,VLOOKUP(O30,男子種目コード!$D$1:$E$20,2,FALSE),IF(I30=2,VLOOKUP(O30,女子種目コード!$D$1:$E$20,2,FALSE))))","v":""},{"$f":"IF(O30=\"\",\"\",HLOOKUP(O30,名簿!$AH$3:$CH$118,25,FALSE))","v":""},"","",null,{"$f":"IF(T30=\"\",\"\",IF(I30=1,VLOOKUP(T30,男子種目コード!$D$1:$E$20,2,FALSE),IF(I30=2,VLOOKUP(T30,女子種目コード!$D$1:$E$20,2,FALSE))))","v":""},{"$f":"IF(T30=\"\",\"\",HLOOKUP(T30,名簿!$AH$3:$CH$118,25,FALSE))","v":""},"","",null,{"$f":"IF(Y30=\"\",\"\",IF(I30=1,VLOOKUP(Y30,男子種目コード!$D$1:$E$20,2,FALSE),IF(I30=2,VLOOKUP(Y30,女子種目コード!$D$1:$E$20,2,FALSE))))","v":""},null,"","",null,{"$f":"IF(AD30=\"\",\"\",IF(I30=1,VLOOKUP(AD30,男子種目コード!$A$1:$B$33,2,FALSE),IF(V30=2,VLOOKUP(I30,女子種目コード!$A$1:$B$28,2,FALSE))))","v":""},null,null,{"$f":"IF(AG30=\"\",\"\",IF(I30=1,VLOOKUP(AG30,男子種目コード!$A$1:$B$33,2,FALSE),IF(AA30=2,VLOOKUP(I30,女子種目コード!$A$1:$B$28,2,FALSE))))","v":""},null,null,null,null,null,"",0,0,800,{"$f":"COUNTIF($P$7:P$116,35)+COUNTIF($U$7:$U$116,35)","v":0},null,null,null,null,null,null,null,"走高跳","円盤投",null,null,null,0,"",""]
["",{"$f":"名簿!P28","v":""},null,null,{"$f":"名簿!E28","v":0},{"$f":"名簿!CM28","v":""},{"$f":"名簿!Z28","v":""},{"$f":"名簿!CM28","v":""},{"$f":"名簿!Y28","v":""},{"$f":"名簿!CN28","v":""},{"$f":"名簿!CP28","v":0},{"$f":"名簿!CU28","v":"00"},{"$f":"名簿!Q28","v":""},{"$f":"名簿!D28","v":0},null,{"$f":"IF(O31=\"\",\"\",IF(I31=1,VLOOKUP(O31,男子種目コード!$D$1:$E$20,2,FALSE),IF(I31=2,VLOOKUP(O31,女子種目コード!$D$1:$E$20,2,FALSE))))","v":""},{"$f":"IF(O31=\"\",\"\",HLOOKUP(O31,名簿!$AH$3:$CH$118,26,FALSE))","v":""},"","",null,{"$f":"IF(T31=\"\",\"\",IF(I31=1,VLOOKUP(T31,男子種目コード!$D$1:$E$20,2,FALSE),IF(I31=2,VLOOKUP(T31,女子種目コード!$D$1:$E$20,2,FALSE))))","v":""},{"$f":"IF(T31=\"\",\"\",HLOOKUP(T31,名簿!$AH$3:$CH$118,26,FALSE))","v":""},"","",null,{"$f":"IF(Y31=\"\",\"\",IF(I31=1,VLOOKUP(Y31,男子種目コード!$D$1:$E$20,2,FALSE),IF(I31=2,VLOOKUP(Y31,女子種目コード!$D$1:$E$20,2,FALSE))))","v":""},null,"","",null,{"$f":"IF(AD31=\"\",\"\",IF(I31=1,VLOOKUP(AD31,男子種目コード!$A$1:$B$33,2,FALSE),IF(V31=2,VLOOKUP(I31,女子種目コード!$A$1:$B$28,2,FALSE))))","v":""},null,null,{"$f":"IF(AG31=\"\",\"\",IF(I31=1,VLOOKUP(AG31,男子種目コード!$A$1:$B$33,2,FALSE),IF(AA31=2,VLOOKUP(I31,女子種目コード!$A$1:$B$28,2,FALSE))))","v":""},null,null,null,null,null,"",0,0,1500,{"$f":"COUNTIF($P$7:P$116,36)+COUNTIF($U$7:$U$116,36)","v":0},null,null,null,null,null,null,null,"棒高跳",null,null,null,null,0,"",""]
["",{"$f":"名簿!P29","v":""},null,null,{"$f":"名簿!E29","v":0},{"$f":"名簿!CM29","v":""},{"$f":"名簿!Z29","v":""},{"$f":"名簿!CM29","v":""},{"$f":"名簿!Y29","v":""},{"$f":"名簿!CN29","v":""},{"$f":"名簿!CP29","v":0},{"$f":"名簿!CU29","v":"00"},{"$f":"名簿!Q29","v":""},{"$f":"名簿!D29","v":0},null,{"$f":"IF(O32=\"\",\"\",IF(I32=1,VLOOKUP(O32,男子種目コード!$D$1:$E$20,2,FALSE),IF(I32=2,VLOOKUP(O32,女子種目コード!$D$1:$E$20,2,FALSE))))","v":""},{"$f":"IF(O32=\"\",\"\",HLOOKUP(O32,名簿!$AH$3:$CH$118,27,FALSE))","v":""},"","",null,{"$f":"IF(T32=\"\",\"\",IF(I32=1,VLOOKUP(T32,男子種目コード!$D$1:$E$20,2,FALSE),IF(I32=2,VLOOKUP(T32,女子種目コード!$D$1:$E$20,2,FALSE))))","v":""},{"$f":"IF(T32=\"\",\"\",HLOOKUP(T32,名簿!$AH$3:$CH$118,27,FALSE))","v":""},"","",null,{"$f":"IF(Y32=\"\",\"\",IF(I32=1,VLOOKUP(Y32,男子種目コード!$D$1:$E$20,2,FALSE),IF(I32=2,VLOOKUP(Y32,女子種目コード!$D$1:$E$20,2,FALSE))))","v":""},null,"","",null,{"$f":"IF(AD32=\"\",\"\",IF(I32=1,VLOOKUP(AD32,男子種目コード!$A$1:$B$33,2,FALSE),IF(V32=2,VLOOKUP(I32,女子種目コード!$A$1:$B$28,2,FALSE))))","v":""},null,null,{"$f":"IF(AG32=\"\",\"\",IF(I32=1,VLOOKUP(AG32,男子種目コード!$A$1:$B$33,2,FALSE),IF(AA32=2,VLOOKUP(I32,女子種目コード!$A$1:$B$28,2,FALSE))))","v":""},null,null,null,null,null,"",0,0,"100H",{"$f":"COUNTIF($P$7:P$116,37)+COUNTIF($U$7:$U$116,37)","v":0},null,null,null,null,null,null,null,"走幅跳",null,null,null,null,0,"",""]
["",{"$f":"名簿!P30","v":""},null,null,{"$f":"名簿!E30","v":0},{"$f":"名簿!CM30","v":""},{"$f":"名簿!Z30","v":""},{"$f":"名簿!CM30","v":""},{"$f":"名簿!Y30","v":""},{"$f":"名簿!CN30","v":""},{"$f":"名簿!CP30","v":0},{"$f":"名簿!CU30","v":"00"},{"$f":"名簿!Q30","v":""},{"$f":"名簿!D30","v":0},null,{"$f":"IF(O33=\"\",\"\",IF(I33=1,VLOOKUP(O33,男子種目コード!$D$1:$E$20,2,FALSE),IF(I33=2,VLOOKUP(O33,女子種目コード!$D$1:$E$20,2,FALSE))))","v":""},{"$f":"IF(O33=\"\",\"\",HLOOKUP(O33,名簿!$AH$3:$CH$118,28,FALSE))","v":""},"","",null,{"$f":"IF(T33=\"\",\"\",IF(I33=1,VLOOKUP(T33,男子種目コード!$D$1:$E$20,2,FALSE),IF(I33=2,VLOOKUP(T33,女子種目コード!$D$1:$E$20,2,FALSE))))","v":""},{"$f":"IF(T33=\"\",\"\",HLOOKUP(T33,名簿!$AH$3:$CH$118,28,FALSE))","v":""},"","",null,{"$f":"IF(Y33=\"\",\"\",IF(I33=1,VLOOKUP(Y33,男子種目コード!$D$1:$E$20,2,FALSE),IF(I33=2,VLOOKUP(Y33,女子種目コード!$D$1:$E$20,2,FALSE))))","v":""},null,"","",null,{"$f":"IF(AD33=\"\",\"\",IF(I33=1,VLOOKUP(AD33,男子種目コード!$A$1:$B$33,2,FALSE),IF(V33=2,VLOOKUP(I33,女子種目コード!$A$1:$B$28,2,FALSE))))","v":""},null,null,{"$f":"IF(AG33=\"\",\"\",IF(I33=1,VLOOKUP(AG33,男子種目コード!$A$1:$B$33,2,FALSE),IF(AA33=2,VLOOKUP(I33,女子種目コード!$A$1:$B$28,2,FALSE))))","v":""},null,null,null,null,null,"",0,0,"走高跳",{"$f":"COUNTIF($P$7:P$116,40)+COUNTIF($U$7:$U$116,40)","v":0},null,null,null,null,null,null,null,"三段跳",null,null,null,null,0,"",""]
["",{"$f":"名簿!P31","v":""},null,null,{"$f":"名簿!E31","v":0},{"$f":"名簿!CM31","v":""},{"$f":"名簿!Z31","v":""},{"$f":"名簿!CM31","v":""},{"$f":"名簿!Y31","v":""},{"$f":"名簿!CN31","v":""},{"$f":"名簿!CP31","v":0},{"$f":"名簿!CU31","v":"00"},{"$f":"名簿!Q31","v":""},{"$f":"名簿!D31","v":0},null,{"$f":"IF(O34=\"\",\"\",IF(I34=1,VLOOKUP(O34,男子種目コード!$D$1:$E$20,2,FALSE),IF(I34=2,VLOOKUP(O34,女子種目コード!$D$1:$E$20,2,FALSE))))","v":""},{"$f":"IF(O34=\"\",\"\",HLOOKUP(O34,名簿!$AH$3:$CH$118,29,FALSE))","v":""},"","",null,{"$f":"IF(T34=\"\",\"\",IF(I34=1,VLOOKUP(T34,男子種目コード!$D$1:$E$20,2,FALSE),IF(I34=2,VLOOKUP(T34,女子種目コード!$D$1:$E$20,2,FALSE))))","v":""},{"$f":"IF(T34=\"\",\"\",HLOOKUP(T34,名簿!$AH$3:$CH$118,29,FALSE))","v":""},"","",null,{"$f":"IF(Y34=\"\",\"\",IF(I34=1,VLOOKUP(Y34,男子種目コード!$D$1:$E$20,2,FALSE),IF(I34=2,VLOOKUP(Y34,女子種目コード!$D$1:$E$20,2,FALSE))))","v":""},null,"","",null,{"$f":"IF(AD34=\"\",\"\",IF(I34=1,VLOOKUP(AD34,男子種目コード!$A$1:$B$33,2,FALSE),IF(V34=2,VLOOKUP(I34,女子種目コード!$A$1:$B$28,2,FALSE))))","v":""},null,null,{"$f":"IF(AG34=\"\",\"\",IF(I34=1,VLOOKUP(AG34,男子種目コード!$A$1:$B$33,2,FALSE),IF(AA34=2,VLOOKUP(I34,女子種目コード!$A$1:$B$28,2,FALSE))))","v":""},null,null,null,null,null,"",0,0,"棒高跳",{"$f":"COUNTIF($P$7:P$116,44)+COUNTIF($U$7:$U$116,44)","v":0},null,null,null,null,null,null,null,"砲丸投",null,null,null,null,0,"",""]
["",{"$f":"名簿!P32","v":""},null,null,{"$f":"名簿!E32","v":0},{"$f":"名簿!CM32","v":""},{"$f":"名簿!Z32","v":""},{"$f":"名簿!CM32","v":""},{"$f":"名簿!Y32","v":""},{"$f":"名簿!CN32","v":""},{"$f":"名簿!CP32","v":0},{"$f":"名簿!CU32","v":"00"},{"$f":"名簿!Q32","v":""},{"$f":"名簿!D32","v":0},null,{"$f":"IF(O35=\"\",\"\",IF(I35=1,VLOOKUP(O35,男子種目コード!$D$1:$E$20,2,FALSE),IF(I35=2,VLOOKUP(O35,女子種目コード!$D$1:$E$20,2,FALSE))))","v":""},{"$f":"IF(O35=\"\",\"\",HLOOKUP(O35,名簿!$AH$3:$CH$118,30,FALSE))","v":""},"","",null,{"$f":"IF(T35=\"\",\"\",IF(I35=1,VLOOKUP(T35,男子種目コード!$D$1:$E$20,2,FALSE),IF(I35=2,VLOOKUP(T35,女子種目コード!$D$1:$E$20,2,FALSE))))","v":""},{"$f":"IF(T35=\"\",\"\",HLOOKUP(T35,名簿!$AH$3:$CH$118,30,FALSE))","v":""},"","",null,{"$f":"IF(Y35=\"\",\"\",IF(I35=1,VLOOKUP(Y35,男子種目コード!$D$1:$E$20,2,FALSE),IF(I35=2,VLOOKUP(Y35,女子種目コード!$D$1:$E$20,2,FALSE))))","v":""},null,"","",null,{"$f":"IF(AD35=\"\",\"\",IF(I35=1,VLOOKUP(AD35,男子種目コード!$A$1:$B$33,2,FALSE),IF(V35=2,VLOOKUP(I35,女子種目コード!$A$1:$B$28,2,FALSE))))","v":""},null,null,{"$f":"IF(AG35=\"\",\"\",IF(I35=1,VLOOKUP(AG35,男子種目コード!$A$1:$B$33,2,FALSE),IF(AA35=2,VLOOKUP(I35,女子種目コード!$A$1:$B$28,2,FALSE))))","v":""},null,null,null,null,null,"",0,0,"走幅跳",{"$f":"COUNTIF($P$7:P$116,41)+COUNTIF($U$7:$U$116,41)","v":0},null,null,null,null,null,null,null,"円盤投",null,null,null,null,0,"",""]
["",{"$f":"名簿!P33","v":""},null,null,{"$f":"名簿!E33","v":0},{"$f":"名簿!CM33","v":""},{"$f":"名簿!Z33","v":""},{"$f":"名簿!CM33","v":""},{"$f":"名簿!Y33","v":""},{"$f":"名簿!CN33","v":""},{"$f":"名簿!CP33","v":0},{"$f":"名簿!CU33","v":"00"},{"$f":"名簿!Q33","v":""},{"$f":"名簿!D33","v":0},null,{"$f":"IF(O36=\"\",\"\",IF(I36=1,VLOOKUP(O36,男子種目コード!$D$1:$E$20,2,FALSE),IF(I36=2,VLOOKUP(O36,女子種目コード!$D$1:$E$20,2,FALSE))))","v":""},{"$f":"IF(O36=\"\",\"\",HLOOKUP(O36,名簿!$AH$3:$CH$118,31,FALSE))","v":""},"","",null,{"$f":"IF(T36=\"\",\"\",IF(I36=1,VLOOKUP(T36,男子種目コード!$D$1:$E$20,2,FALSE),IF(I36=2,VLOOKUP(T36,女子種目コード!$D$1:$E$20,2,FALSE))))","v":""},{"$f":"IF(T36=\"\",\"\",HLOOKUP(T36,名簿!$AH$3:$CH$118,31,FALSE))","v":""},"","",null,{"$f":"IF(Y36=\"\",\"\",IF(I36=1,VLOOKUP(Y36,男子種目コード!$D$1:$E$20,2,FALSE),IF(I36=2,VLOOKUP(Y36,女子種目コード!$D$1:$E$20,2,FALSE))))","v":""},null,"","",null,{"$f":"IF(AD36=\"\",\"\",IF(I36=1,VLOOKUP(AD36,男子種目コード!$A$1:$B$33,2,FALSE),IF(V36=2,VLOOKUP(I36,女子種目コード!$A$1:$B$28,2,FALSE))))","v":""},null,null,{"$f":"IF(AG36=\"\",\"\",IF(I36=1,VLOOKUP(AG36,男子種目コード!$A$1:$B$33,2,FALSE),IF(AA36=2,VLOOKUP(I36,女子種目コード!$A$1:$B$28,2,FALSE))))","v":""},null,null,null,null,null,"",0,0,"三段跳",{"$f":"COUNTIF($P$7:P$116,45)+COUNTIF($U$7:$U$116,45)","v":0},null,null,null,null,null,null,null,null,null,null,null,null,0,"",""]
["",{"$f":"名簿!P34","v":""},null,null,{"$f":"名簿!E34","v":0},{"$f":"名簿!CM34","v":""},{"$f":"名簿!Z34","v":""},{"$f":"名簿!CM34","v":""},{"$f":"名簿!Y34","v":""},{"$f":"名簿!CN34","v":""},{"$f":"名簿!CP34","v":0},{"$f":"名簿!CU34","v":"00"},{"$f":"名簿!Q34","v":""},{"$f":"名簿!D34","v":0},null,{"$f":"IF(O37=\"\",\"\",IF(I37=1,VLOOKUP(O37,男子種目コード!$D$1:$E$20,2,FALSE),IF(I37=2,VLOOKUP(O37,女子種目コード!$D$1:$E$20,2,FALSE))))","v":""},{"$f":"IF(O37=\"\",\"\",HLOOKUP(O37,名簿!$AH$3:$CH$118,32,FALSE))","v":""},"","",null,{"$f":"IF(T37=\"\",\"\",IF(I37=1,VLOOKUP(T37,男子種目コード!$D$1:$E$20,2,FALSE),IF(I37=2,VLOOKUP(T37,女子種目コード!$D$1:$E$20,2,FALSE))))","v":""},{"$f":"IF(T37=\"\",\"\",HLOOKUP(T37,名簿!$AH$3:$CH$118,32,FALSE))","v":""},"","",null,{"$f":"IF(Y37=\"\",\"\",IF(I37=1,VLOOKUP(Y37,男子種目コード!$D$1:$E$20,2,FALSE),IF(I37=2,VLOOKUP(Y37,女子種目コード!$D$1:$E$20,2,FALSE))))","v":""},null,"","",null,{"$f":"IF(AD37=\"\",\"\",IF(I37=1,VLOOKUP(AD37,男子種目コード!$A$1:$B$33,2,FALSE),IF(V37=2,VLOOKUP(I37,女子種目コード!$A$1:$B$28,2,FALSE))))","v":""},null,null,{"$f":"IF(AG37=\"\",\"\",IF(I37=1,VLOOKUP(AG37,男子種目コード!$A$1:$B$33,2,FALSE),IF(AA37=2,VLOOKUP(I37,女子種目コード!$A$1:$B$28,2,FALSE))))","v":""},null,null,null,null,null,"",0,0,"砲丸投",{"$f":"COUNTIF($P$7:P$116,42)+COUNTIF($U$7:$U$116,42)","v":0},null,null,null,null,null,null,null,null,null,null,null,null,0,"",""]
["",{"$f":"名簿!P35","v":""},null,null,{"$f":"名簿!E35","v":0},{"$f":"名簿!CM35","v":""},{"$f":"名簿!Z35","v":""},{"$f":"名簿!CM35","v":""},{"$f":"名簿!Y35","v":""},{"$f":"名簿!CN35","v":""},{"$f":"名簿!CP35","v":0},{"$f":"名簿!CU35","v":"00"},{"$f":"名簿!Q35","v":""},{"$f":"名簿!D35","v":0},null,{"$f":"IF(O38=\"\",\"\",IF(I38=1,VLOOKUP(O38,男子種目コード!$D$1:$E$20,2,FALSE),IF(I38=2,VLOOKUP(O38,女子種目コード!$D$1:$E$20,2,FALSE))))","v":""},{"$f":"IF(O38=\"\",\"\",HLOOKUP(O38,名簿!$AH$3:$CH$118,33,FALSE))","v":""},"","",null,{"$f":"IF(T38=\"\",\"\",IF(I38=1,VLOOKUP(T38,男子種目コード!$D$1:$E$20,2,FALSE),IF(I38=2,VLOOKUP(T38,女子種目コード!$D$1:$E$20,2,FALSE))))","v":""},{"$f":"IF(T38=\"\",\"\",HLOOKUP(T38,名簿!$AH$3:$CH$118,33,FALSE))","v":""},"","",null,{"$f":"IF(Y38=\"\",\"\",IF(I38=1,VLOOKUP(Y38,男子種目コード!$D$1:$E$20,2,FALSE),IF(I38=2,VLOOKUP(Y38,女子種目コード!$D$1:$E$20,2,FALSE))))","v":""},null,"","",null,{"$f":"IF(AD38=\"\",\"\",IF(I38=1,VLOOKUP(AD38,男子種目コード!$A$1:$B$33,2,FALSE),IF(V38=2,VLOOKUP(I38,女子種目コード!$A$1:$B$28,2,FALSE))))","v":""},null,null,{"$f":"IF(AG38=\"\",\"\",IF(I38=1,VLOOKUP(AG38,男子種目コード!$A$1:$B$33,2,FALSE),IF(AA38=2,VLOOKUP(I38,女子種目コード!$A$1:$B$28,2,FALSE))))","v":""},null,null,null,null,null,"",0,0,"円盤投",{"$f":"COUNTIF($P$7:P$116,43)+COUNTIF($U$7:$U$116,43)","v":0},null,null,null,null,null,null,null,null,null,null,null,null,0,"",""]
["",{"$f":"名簿!P36","v":""},null,null,{"$f":"名簿!E36","v":0},{"$f":"名簿!CM36","v":""},{"$f":"名簿!Z36","v":""},{"$f":"名簿!CM36","v":""},{"$f":"名簿!Y36","v":""},{"$f":"名簿!CN36","v":""},{"$f":"名簿!CP36","v":0},{"$f":"名簿!CU36","v":"00"},{"$f":"名簿!Q36","v":""},{"$f":"名簿!D36","v":0},null,{"$f":"IF(O39=\"\",\"\",IF(I39=1,VLOOKUP(O39,男子種目コード!$D$1:$E$20,2,FALSE),IF(I39=2,VLOOKUP(O39,女子種目コード!$D$1:$E$20,2,FALSE))))","v":""},{"$f":"IF(O39=\"\",\"\",HLOOKUP(O39,名簿!$AH$3:$CH$118,34,FALSE))","v":""},"","",null,{"$f":"IF(T39=\"\",\"\",IF(I39=1,VLOOKUP(T39,男子種目コード!$D$1:$E$20,2,FALSE),IF(I39=2,VLOOKUP(T39,女子種目コード!$D$1:$E$20,2,FALSE))))","v":""},{"$f":"IF(T39=\"\",\"\",HLOOKUP(T39,名簿!$AH$3:$CH$118,34,FALSE))","v":""},"","",null,{"$f":"IF(Y39=\"\",\"\",IF(I39=1,VLOOKUP(Y39,男子種目コード!$D$1:$E$20,2,FALSE),IF(I39=2,VLOOKUP(Y39,女子種目コード!$D$1:$E$20,2,FALSE))))","v":""},null,"","",null,{"$f":"IF(AD39=\"\",\"\",IF(I39=1,VLOOKUP(AD39,男子種目コード!$A$1:$B$33,2,FALSE),IF(V39=2,VLOOKUP(I39,女子種目コード!$A$1:$B$28,2,FALSE))))","v":""},null,null,{"$f":"IF(AG39=\"\",\"\",IF(I39=1,VLOOKUP(AG39,男子種目コード!$A$1:$B$33,2,FALSE),IF(AA39=2,VLOOKUP(I39,女子種目コード!$A$1:$B$28,2,FALSE))))","v":""},null,null,null,null,null,"",{"$f":"IF(OR(AN39=1,T39=\"\"),0,1)","v":0},{"$f":"IF(OR(AN39=1,AO39=1,Y39=\"\"),0,1)","v":0},"計",{"$f":"SUM(AR25:AR38)","v":0},null,null,null,null,null,null,null,null,null,null,null,null,0,"",""]
["",{"$f":"名簿!P37","v":""},null,null,{"$f":"名簿!E37","v":0},{"$f":"名簿!CM37","v":""},{"$f":"名簿!Z37","v":""},{"$f":"名簿!CM37","v":""},{"$f":"名簿!Y37","v":""},{"$f":"名簿!CN37","v":""},{"$f":"名簿!CP37","v":0},{"$f":"名簿!CU37","v":"00"},{"$f":"名簿!Q37","v":""},{"$f":"名簿!D37","v":0},null,{"$f":"IF(O40=\"\",\"\",IF(I40=1,VLOOKUP(O40,男子種目コード!$D$1:$E$20,2,FALSE),IF(I40=2,VLOOKUP(O40,女子種目コード!$D$1:$E$20,2,FALSE))))","v":""},{"$f":"IF(O40=\"\",\"\",HLOOKUP(O40,名簿!$AH$3:$CH$118,35,FALSE))","v":""},"","",null,{"$f":"IF(T40=\"\",\"\",IF(I40=1,VLOOKUP(T40,男子種目コード!$D$1:$E$20,2,FALSE),IF(I40=2,VLOOKUP(T40,女子種目コード!$D$1:$E$20,2,FALSE))))","v":""},{"$f":"IF(T40=\"\",\"\",HLOOKUP(T40,名簿!$AH$3:$CH$118,35,FALSE))","v":""},"","",null,{"$f":"IF(Y40=\"\",\"\",IF(I40=1,VLOOKUP(Y40,男子種目コード!$D$1:$E$20,2,FALSE),IF(I40=2,VLOOKUP(Y40,女子種目コード!$D$1:$E$20,2,FALSE))))","v":""},null,"","",null,{"$f":"IF(AD40=\"\",\"\",IF(I40=1,VLOOKUP(AD40,男子種目コード!$A$1:$B$33,2,FALSE),IF(V40=2,VLOOKUP(I40,女子種目コード!$A$1:$B$28,2,FALSE))))","v":""},null,null,{"$f":"IF(AG40=\"\",\"\",IF(I40=1,VLOOKUP(AG40,男子種目コード!$A$1:$B$33,2,FALSE),IF(AA40=2,VLOOKUP(I40,女子種目コード!$A$1:$B$28,2,FALSE))))","v":""},null,null,null,null,null,"",0,0,"赤枠は制限オーバーです",null,null,null,null,null,null,null,null,null,null,null,null,null,0,"",""]
["",{"$f":"名簿!P38","v":""},null,null,{"$f":"名簿!E38","v":0},{"$f":"名簿!CM38","v":""},{"$f":"名簿!Z38","v":""},{"$f":"名簿!CM38","v":""},{"$f":"名簿!Y38","v":""},{"$f":"名簿!CN38","v":""},{"$f":"名簿!CP38","v":0},{"$f":"名簿!CU38","v":"00"},{"$f":"名簿!Q38","v":""},{"$f":"名簿!D38","v":0},null,{"$f":"IF(O41=\"\",\"\",IF(I41=1,VLOOKUP(O41,男子種目コード!$D$1:$E$20,2,FALSE),IF(I41=2,VLOOKUP(O41,女子種目コード!$D$1:$E$20,2,FALSE))))","v":""},{"$f":"IF(O41=\"\",\"\",HLOOKUP(O41,名簿!$AH$3:$CH$118,36,FALSE))","v":""},"","",null,{"$f":"IF(T41=\"\",\"\",IF(I41=1,VLOOKUP(T41,男子種目コード!$D$1:$E$20,2,FALSE),IF(I41=2,VLOOKUP(T41,女子種目コード!$D$1:$E$20,2,FALSE))))","v":""},{"$f":"IF(T41=\"\",\"\",HLOOKUP(T41,名簿!$AH$3:$CH$118,36,FALSE))","v":""},"","",null,{"$f":"IF(Y41=\"\",\"\",IF(I41=1,VLOOKUP(Y41,男子種目コード!$D$1:$E$20,2,FALSE),IF(I41=2,VLOOKUP(Y41,女子種目コード!$D$1:$E$20,2,FALSE))))","v":""},null,"","",null,{"$f":"IF(AD41=\"\",\"\",IF(I41=1,VLOOKUP(AD41,男子種目コード!$A$1:$B$33,2,FALSE),IF(V41=2,VLOOKUP(I41,女子種目コード!$A$1:$B$28,2,FALSE))))","v":""},null,null,{"$f":"IF(AG41=\"\",\"\",IF(I41=1,VLOOKUP(AG41,男子種目コード!$A$1:$B$33,2,FALSE),IF(AA41=2,VLOOKUP(I41,女子種目コード!$A$1:$B$28,2,FALSE))))","v":""},null,null,null,null,null,"",0,0,"参加標準記録",null,null,null,null,null,null,null,null,null,null,null,null,null,0,"",""]
["",{"$f":"名簿!P39","v":""},null,null,{"$f":"名簿!E39","v":0},{"$f":"名簿!CM39","v":""},{"$f":"名簿!Z39","v":""},{"$f":"名簿!CM39","v":""},{"$f":"名簿!Y39","v":""},{"$f":"名簿!CN39","v":""},{"$f":"名簿!CP39","v":0},{"$f":"名簿!CU39","v":"00"},{"$f":"名簿!Q39","v":""},{"$f":"名簿!D39","v":0},null,{"$f":"IF(O42=\"\",\"\",IF(I42=1,VLOOKUP(O42,男子種目コード!$D$1:$E$20,2,FALSE),IF(I42=2,VLOOKUP(O42,女子種目コード!$D$1:$E$20,2,FALSE))))","v":""},{"$f":"IF(O42=\"\",\"\",HLOOKUP(O42,名簿!$AH$3:$CH$118,37,FALSE))","v":""},"","",null,{"$f":"IF(T42=\"\",\"\",IF(I42=1,VLOOKUP(T42,男子種目コード!$D$1:$E$20,2,FALSE),IF(I42=2,VLOOKUP(T42,女子種目コード!$D$1:$E$20,2,FALSE))))","v":""},{"$f":"IF(T42=\"\",\"\",HLOOKUP(T42,名簿!$AH$3:$CH$118,37,FALSE))","v":""},"","",null,{"$f":"IF(Y42=\"\",\"\",IF(I42=1,VLOOKUP(Y42,男子種目コード!$D$1:$E$20,2,FALSE),IF(I42=2,VLOOKUP(Y42,女子種目コード!$D$1:$E$20,2,FALSE))))","v":""},null,"","",null,{"$f":"IF(AD42=\"\",\"\",IF(I42=1,VLOOKUP(AD42,男子種目コード!$A$1:$B$33,2,FALSE),IF(V42=2,VLOOKUP(I42,女子種目コード!$A$1:$B$28,2,FALSE))))","v":""},null,null,{"$f":"IF(AG42=\"\",\"\",IF(I42=1,VLOOKUP(AG42,男子種目コード!$A$1:$B$33,2,FALSE),IF(AA42=2,VLOOKUP(I42,女子種目コード!$A$1:$B$28,2,FALSE))))","v":""},null,null,null,null,null,"",0,0,"男子",null,null,null,null,null,null,null,null,null,null,null,null,null,0,"",""]
["",{"$f":"名簿!P40","v":""},null,null,{"$f":"名簿!E40","v":0},{"$f":"名簿!CM40","v":""},{"$f":"名簿!Z40","v":""},{"$f":"名簿!CM40","v":""},{"$f":"名簿!Y40","v":""},{"$f":"名簿!CN40","v":""},{"$f":"名簿!CP40","v":0},{"$f":"名簿!CU40","v":"00"},{"$f":"名簿!Q40","v":""},{"$f":"名簿!D40","v":0},null,{"$f":"IF(O43=\"\",\"\",IF(I43=1,VLOOKUP(O43,男子種目コード!$D$1:$E$20,2,FALSE),IF(I43=2,VLOOKUP(O43,女子種目コード!$D$1:$E$20,2,FALSE))))","v":""},{"$f":"IF(O43=\"\",\"\",HLOOKUP(O43,名簿!$AH$3:$CH$118,38,FALSE))","v":""},"","",null,{"$f":"IF(T43=\"\",\"\",IF(I43=1,VLOOKUP(T43,男子種目コード!$D$1:$E$20,2,FALSE),IF(I43=2,VLOOKUP(T43,女子種目コード!$D$1:$E$20,2,FALSE))))","v":""},{"$f":"IF(T43=\"\",\"\",HLOOKUP(T43,名簿!$AH$3:$CH$118,38,FALSE))","v":""},"","",null,{"$f":"IF(Y43=\"\",\"\",IF(I43=1,VLOOKUP(Y43,男子種目コード!$D$1:$E$20,2,FALSE),IF(I43=2,VLOOKUP(Y43,女子種目コード!$D$1:$E$20,2,FALSE))))","v":""},null,"","",null,{"$f":"IF(AD43=\"\",\"\",IF(I43=1,VLOOKUP(AD43,男子種目コード!$A$1:$B$33,2,FALSE),IF(V43=2,VLOOKUP(I43,女子種目コード!$A$1:$B$28,2,FALSE))))","v":""},null,null,{"$f":"IF(AG43=\"\",\"\",IF(I43=1,VLOOKUP(AG43,男子種目コード!$A$1:$B$33,2,FALSE),IF(AA43=2,VLOOKUP(I43,女子種目コード!$A$1:$B$28,2,FALSE))))","v":""},null,null,null,null,null,"",0,0,"2年 100","13.10",null,null,null,null,null,null,null,null,null,null,null,null,0,"",""]
["",{"$f":"名簿!P41","v":""},null,null,{"$f":"名簿!E41","v":0},{"$f":"名簿!CM41","v":""},{"$f":"名簿!Z41","v":""},{"$f":"名簿!CM41","v":""},{"$f":"名簿!Y41","v":""},{"$f":"名簿!CN41","v":""},{"$f":"名簿!CP41","v":0},{"$f":"名簿!CU41","v":"00"},{"$f":"名簿!Q41","v":""},{"$f":"名簿!D41","v":0},null,{"$f":"IF(O44=\"\",\"\",IF(I44=1,VLOOKUP(O44,男子種目コード!$D$1:$E$20,2,FALSE),IF(I44=2,VLOOKUP(O44,女子種目コード!$D$1:$E$20,2,FALSE))))","v":""},{"$f":"IF(O44=\"\",\"\",HLOOKUP(O44,名簿!$AH$3:$CH$118,39,FALSE))","v":""},"","",null,{"$f":"IF(T44=\"\",\"\",IF(I44=1,VLOOKUP(T44,男子種目コード!$D$1:$E$20,2,FALSE),IF(I44=2,VLOOKUP(T44,女子種目コード!$D$1:$E$20,2,FALSE))))","v":""},{"$f":"IF(T44=\"\",\"\",HLOOKUP(T44,名簿!$AH$3:$CH$118,39,FALSE))","v":""},"","",null,{"$f":"IF(Y44=\"\",\"\",IF(I44=1,VLOOKUP(Y44,男子種目コード!$D$1:$E$20,2,FALSE),IF(I44=2,VLOOKUP(Y44,女子種目コード!$D$1:$E$20,2,FALSE))))","v":""},null,"","",null,{"$f":"IF(AD44=\"\",\"\",IF(I44=1,VLOOKUP(AD44,男子種目コード!$A$1:$B$33,2,FALSE),IF(V44=2,VLOOKUP(I44,女子種目コード!$A$1:$B$28,2,FALSE))))","v":""},null,null,{"$f":"IF(AG44=\"\",\"\",IF(I44=1,VLOOKUP(AG44,男子種目コード!$A$1:$B$33,2,FALSE),IF(AA44=2,VLOOKUP(I44,女子種目コード!$A$1:$B$28,2,FALSE))))","v":""},null,null,null,null,null,"",0,0,"2年1500","5.10.00",null,null,null,null,null,null,null,null,null,null,null,null,0,"",""]
["",{"$f":"名簿!P42","v":""},null,null,{"$f":"名簿!E42","v":0},{"$f":"名簿!CM42","v":""},{"$f":"名簿!Z42","v":""},{"$f":"名簿!CM42","v":""},{"$f":"名簿!Y42","v":""},{"$f":"名簿!CN42","v":""},{"$f":"名簿!CP42","v":0},{"$f":"名簿!CU42","v":"00"},{"$f":"名簿!Q42","v":""},{"$f":"名簿!D42","v":0},null,{"$f":"IF(O45=\"\",\"\",IF(I45=1,VLOOKUP(O45,男子種目コード!$D$1:$E$20,2,FALSE),IF(I45=2,VLOOKUP(O45,女子種目コード!$D$1:$E$20,2,FALSE))))","v":""},{"$f":"IF(O45=\"\",\"\",HLOOKUP(O45,名簿!$AH$3:$CH$118,40,FALSE))","v":""},"","",null,{"$f":"IF(T45=\"\",\"\",IF(I45=1,VLOOKUP(T45,男子種目コード!$D$1:$E$20,2,FALSE),IF(I45=2,VLOOKUP(T45,女子種目コード!$D$1:$E$20,2,FALSE))))","v":""},{"$f":"IF(T45=\"\",\"\",HLOOKUP(T45,名簿!$AH$3:$CH$118,40,FALSE))","v":""},"","",null,{"$f":"IF(Y45=\"\",\"\",IF(I45=1,VLOOKUP(Y45,男子種目コード!$D$1:$E$20,2,FALSE),IF(I45=2,VLOOKUP(Y45,女子種目コード!$D$1:$E$20,2,FALSE))))","v":""},null,"","",null,{"$f":"IF(AD45=\"\",\"\",IF(I45=1,VLOOKUP(AD45,男子種目コード!$A$1:$B$33,2,FALSE),IF(V45=2,VLOOKUP(I45,女子種目コード!$A$1:$B$28,2,FALSE))))","v":""},null,null,{"$f":"IF(AG45=\"\",\"\",IF(I45=1,VLOOKUP(AG45,男子種目コード!$A$1:$B$33,2,FALSE),IF(AA45=2,VLOOKUP(I45,女子種目コード!$A$1:$B$28,2,FALSE))))","v":""},null,null,null,null,null,"",0,0,"共　通",null,null,null,null,null,null,null,null,null,null,null,null,null,0,"",""]
["",{"$f":"名簿!P43","v":""},null,null,{"$f":"名簿!E43","v":0},{"$f":"名簿!CM43","v":""},{"$f":"名簿!Z43","v":""},{"$f":"名簿!CM43","v":""},{"$f":"名簿!Y43","v":""},{"$f":"名簿!CN43","v":""},{"$f":"名簿!CP43","v":0},{"$f":"名簿!CU43","v":"00"},{"$f":"名簿!Q43","v":""},{"$f":"名簿!D43","v":0},null,{"$f":"IF(O46=\"\",\"\",IF(I46=1,VLOOKUP(O46,男子種目コード!$D$1:$E$20,2,FALSE),IF(I46=2,VLOOKUP(O46,女子種目コード!$D$1:$E$20,2,FALSE))))","v":""},{"$f":"IF(O46=\"\",\"\",HLOOKUP(O46,名簿!$AH$3:$CH$118,41,FALSE))","v":""},"","",null,{"$f":"IF(T46=\"\",\"\",IF(I46=1,VLOOKUP(T46,男子種目コード!$D$1:$E$20,2,FALSE),IF(I46=2,VLOOKUP(T46,女子種目コード!$D$1:$E$20,2,FALSE))))","v":""},{"$f":"IF(T46=\"\",\"\",HLOOKUP(T46,名簿!$AH$3:$CH$118,41,FALSE))","v":""},"","",null,{"$f":"IF(Y46=\"\",\"\",IF(I46=1,VLOOKUP(Y46,男子種目コード!$D$1:$E$20,2,FALSE),IF(I46=2,VLOOKUP(Y46,女子種目コード!$D$1:$E$20,2,FALSE))))","v":""},null,"","",null,{"$f":"IF(AD46=\"\",\"\",IF(I46=1,VLOOKUP(AD46,男子種目コード!$A$1:$B$33,2,FALSE),IF(V46=2,VLOOKUP(I46,女子種目コード!$A$1:$B$28,2,FALSE))))","v":""},null,null,{"$f":"IF(AG46=\"\",\"\",IF(I46=1,VLOOKUP(AG46,男子種目コード!$A$1:$B$33,2,FALSE),IF(AA46=2,VLOOKUP(I46,女子種目コード!$A$1:$B$28,2,FALSE))))","v":""},null,null,null,null,null,"",0,0,100,"12.60",null,null,null,null,null,null,null,null,null,null,null,null,0,"",""]
["",{"$f":"名簿!P44","v":""},null,null,{"$f":"名簿!E44","v":0},{"$f":"名簿!CM44","v":""},{"$f":"名簿!Z44","v":""},{"$f":"名簿!CM44","v":""},{"$f":"名簿!Y44","v":""},{"$f":"名簿!CN44","v":""},{"$f":"名簿!CP44","v":0},{"$f":"名簿!CU44","v":"00"},{"$f":"名簿!Q44","v":""},{"$f":"名簿!D44","v":0},null,{"$f":"IF(O47=\"\",\"\",IF(I47=1,VLOOKUP(O47,男子種目コード!$D$1:$E$20,2,FALSE),IF(I47=2,VLOOKUP(O47,女子種目コード!$D$1:$E$20,2,FALSE))))","v":""},{"$f":"IF(O47=\"\",\"\",HLOOKUP(O47,名簿!$AH$3:$CH$118,42,FALSE))","v":""},"","",null,{"$f":"IF(T47=\"\",\"\",IF(I47=1,VLOOKUP(T47,男子種目コード!$D$1:$E$20,2,FALSE),IF(I47=2,VLOOKUP(T47,女子種目コード!$D$1:$E$20,2,FALSE))))","v":""},{"$f":"IF(T47=\"\",\"\",HLOOKUP(T47,名簿!$AH$3:$CH$118,42,FALSE))","v":""},"","",null,{"$f":"IF(Y47=\"\",\"\",IF(I47=1,VLOOKUP(Y47,男子種目コード!$D$1:$E$20,2,FALSE),IF(I47=2,VLOOKUP(Y47,女子種目コード!$D$1:$E$20,2,FALSE))))","v":""},null,"","",null,{"$f":"IF(AD47=\"\",\"\",IF(I47=1,VLOOKUP(AD47,男子種目コード!$A$1:$B$33,2,FALSE),IF(V47=2,VLOOKUP(I47,女子種目コード!$A$1:$B$28,2,FALSE))))","v":""},null,null,{"$f":"IF(AG47=\"\",\"\",IF(I47=1,VLOOKUP(AG47,男子種目コード!$A$1:$B$33,2,FALSE),IF(AA47=2,VLOOKUP(I47,女子種目コード!$A$1:$B$28,2,FALSE))))","v":""},null,null,null,null,null,"",0,0,200,"25.70",null,null,null,null,null,null,null,null,null,null,null,null,0,"",""]
["",{"$f":"名簿!P45","v":""},null,null,{"$f":"名簿!E45","v":0},{"$f":"名簿!CM45","v":""},{"$f":"名簿!Z45","v":""},{"$f":"名簿!CM45","v":""},{"$f":"名簿!Y45","v":""},{"$f":"名簿!CN45","v":""},{"$f":"名簿!CP45","v":0},{"$f":"名簿!CU45","v":"00"},{"$f":"名簿!Q45","v":""},{"$f":"名簿!D45","v":0},null,{"$f":"IF(O48=\"\",\"\",IF(I48=1,VLOOKUP(O48,男子種目コード!$D$1:$E$20,2,FALSE),IF(I48=2,VLOOKUP(O48,女子種目コード!$D$1:$E$20,2,FALSE))))","v":""},{"$f":"IF(O48=\"\",\"\",HLOOKUP(O48,名簿!$AH$3:$CH$118,43,FALSE))","v":""},"","",null,{"$f":"IF(T48=\"\",\"\",IF(I48=1,VLOOKUP(T48,男子種目コード!$D$1:$E$20,2,FALSE),IF(I48=2,VLOOKUP(T48,女子種目コード!$D$1:$E$20,2,FALSE))))","v":""},{"$f":"IF(T48=\"\",\"\",HLOOKUP(T48,名簿!$AH$3:$CH$118,43,FALSE))","v":""},"","",null,{"$f":"IF(Y48=\"\",\"\",IF(I48=1,VLOOKUP(Y48,男子種目コード!$D$1:$E$20,2,FALSE),IF(I48=2,VLOOKUP(Y48,女子種目コード!$D$1:$E$20,2,FALSE))))","v":""},null,"","",null,{"$f":"IF(AD48=\"\",\"\",IF(I48=1,VLOOKUP(AD48,男子種目コード!$A$1:$B$33,2,FALSE),IF(V48=2,VLOOKUP(I48,女子種目コード!$A$1:$B$28,2,FALSE))))","v":""},null,null,{"$f":"IF(AG48=\"\",\"\",IF(I48=1,VLOOKUP(AG48,男子種目コード!$A$1:$B$33,2,FALSE),IF(AA48=2,VLOOKUP(I48,女子種目コード!$A$1:$B$28,2,FALSE))))","v":""},null,null,null,null,null,"",0,0,400,"59.10",null,null,null,null,null,null,null,null,null,null,null,null,0,"",""]
["",{"$f":"名簿!P46","v":""},null,null,{"$f":"名簿!E46","v":0},{"$f":"名簿!CM46","v":""},{"$f":"名簿!Z46","v":""},{"$f":"名簿!CM46","v":""},{"$f":"名簿!Y46","v":""},{"$f":"名簿!CN46","v":""},{"$f":"名簿!CP46","v":0},{"$f":"名簿!CU46","v":"00"},{"$f":"名簿!Q46","v":""},{"$f":"名簿!D46","v":0},null,{"$f":"IF(O49=\"\",\"\",IF(I49=1,VLOOKUP(O49,男子種目コード!$D$1:$E$20,2,FALSE),IF(I49=2,VLOOKUP(O49,女子種目コード!$D$1:$E$20,2,FALSE))))","v":""},{"$f":"IF(O49=\"\",\"\",HLOOKUP(O49,名簿!$AH$3:$CH$118,44,FALSE))","v":""},"","",null,{"$f":"IF(T49=\"\",\"\",IF(I49=1,VLOOKUP(T49,男子種目コード!$D$1:$E$20,2,FALSE),IF(I49=2,VLOOKUP(T49,女子種目コード!$D$1:$E$20,2,FALSE))))","v":""},{"$f":"IF(T49=\"\",\"\",HLOOKUP(T49,名簿!$AH$3:$CH$118,44,FALSE))","v":""},"","",null,{"$f":"IF(Y49=\"\",\"\",IF(I49=1,VLOOKUP(Y49,男子種目コード!$D$1:$E$20,2,FALSE),IF(I49=2,VLOOKUP(Y49,女子種目コード!$D$1:$E$20,2,FALSE))))","v":""},null,"","",null,{"$f":"IF(AD49=\"\",\"\",IF(I49=1,VLOOKUP(AD49,男子種目コード!$A$1:$B$33,2,FALSE),IF(V49=2,VLOOKUP(I49,女子種目コード!$A$1:$B$28,2,FALSE))))","v":""},null,null,{"$f":"IF(AG49=\"\",\"\",IF(I49=1,VLOOKUP(AG49,男子種目コード!$A$1:$B$33,2,FALSE),IF(AA49=2,VLOOKUP(I49,女子種目コード!$A$1:$B$28,2,FALSE))))","v":""},null,null,null,null,null,"",0,0,800,"2.18.00",null,null,null,null,null,null,null,null,null,null,null,null,0,"",""]
["",{"$f":"名簿!P47","v":""},null,null,{"$f":"名簿!E47","v":0},{"$f":"名簿!CM47","v":""},{"$f":"名簿!Z47","v":""},{"$f":"名簿!CM47","v":""},{"$f":"名簿!Y47","v":""},{"$f":"名簿!CN47","v":""},{"$f":"名簿!CP47","v":0},{"$f":"名簿!CU47","v":"00"},{"$f":"名簿!Q47","v":""},{"$f":"名簿!D47","v":0},null,{"$f":"IF(O50=\"\",\"\",IF(I50=1,VLOOKUP(O50,男子種目コード!$D$1:$E$20,2,FALSE),IF(I50=2,VLOOKUP(O50,女子種目コード!$D$1:$E$20,2,FALSE))))","v":""},{"$f":"IF(O50=\"\",\"\",HLOOKUP(O50,名簿!$AH$3:$CH$118,45,FALSE))","v":""},"","",null,{"$f":"IF(T50=\"\",\"\",IF(I50=1,VLOOKUP(T50,男子種目コード!$D$1:$E$20,2,FALSE),IF(I50=2,VLOOKUP(T50,女子種目コード!$D$1:$E$20,2,FALSE))))","v":""},{"$f":"IF(T50=\"\",\"\",HLOOKUP(T50,名簿!$AH$3:$CH$118,45,FALSE))","v":""},"","",null,{"$f":"IF(Y50=\"\",\"\",IF(I50=1,VLOOKUP(Y50,男子種目コード!$D$1:$E$20,2,FALSE),IF(I50=2,VLOOKUP(Y50,女子種目コード!$D$1:$E$20,2,FALSE))))","v":""},null,"","",null,{"$f":"IF(AD50=\"\",\"\",IF(I50=1,VLOOKUP(AD50,男子種目コード!$A$1:$B$33,2,FALSE),IF(V50=2,VLOOKUP(I50,女子種目コード!$A$1:$B$28,2,FALSE))))","v":""},null,null,{"$f":"IF(AG50=\"\",\"\",IF(I50=1,VLOOKUP(AG50,男子種目コード!$A$1:$B$33,2,FALSE),IF(AA50=2,VLOOKUP(I50,女子種目コード!$A$1:$B$28,2,FALSE))))","v":""},null,null,null,null,null,"",0,0,1500,"4.45.00",null,null,null,null,null,null,null,null,null,null,null,null,0,"",""]
["",{"$f":"名簿!P48","v":""},null,null,{"$f":"名簿!E48","v":0},{"$f":"名簿!CM48","v":""},{"$f":"名簿!Z48","v":""},{"$f":"名簿!CM48","v":""},{"$f":"名簿!Y48","v":""},{"$f":"名簿!CN48","v":""},{"$f":"名簿!CP48","v":0},{"$f":"名簿!CU48","v":"00"},{"$f":"名簿!Q48","v":""},{"$f":"名簿!D48","v":0},null,{"$f":"IF(O51=\"\",\"\",IF(I51=1,VLOOKUP(O51,男子種目コード!$D$1:$E$20,2,FALSE),IF(I51=2,VLOOKUP(O51,女子種目コード!$D$1:$E$20,2,FALSE))))","v":""},{"$f":"IF(O51=\"\",\"\",HLOOKUP(O51,名簿!$AH$3:$CH$118,46,FALSE))","v":""},"","",null,{"$f":"IF(T51=\"\",\"\",IF(I51=1,VLOOKUP(T51,男子種目コード!$D$1:$E$20,2,FALSE),IF(I51=2,VLOOKUP(T51,女子種目コード!$D$1:$E$20,2,FALSE))))","v":""},{"$f":"IF(T51=\"\",\"\",HLOOKUP(T51,名簿!$AH$3:$CH$118,46,FALSE))","v":""},"","",null,{"$f":"IF(Y51=\"\",\"\",IF(I51=1,VLOOKUP(Y51,男子種目コード!$D$1:$E$20,2,FALSE),IF(I51=2,VLOOKUP(Y51,女子種目コード!$D$1:$E$20,2,FALSE))))","v":""},null,"","",null,{"$f":"IF(AD51=\"\",\"\",IF(I51=1,VLOOKUP(AD51,男子種目コード!$A$1:$B$33,2,FALSE),IF(V51=2,VLOOKUP(I51,女子種目コード!$A$1:$B$28,2,FALSE))))","v":""},null,null,{"$f":"IF(AG51=\"\",\"\",IF(I51=1,VLOOKUP(AG51,男子種目コード!$A$1:$B$33,2,FALSE),IF(AA51=2,VLOOKUP(I51,女子種目コード!$A$1:$B$28,2,FALSE))))","v":""},null,null,null,null,null,"",0,0,3000,"10.40.00",null,null,null,null,null,null,null,null,null,null,null,null,0,"",""]
["",{"$f":"名簿!P49","v":""},null,null,{"$f":"名簿!E49","v":0},{"$f":"名簿!CM49","v":""},{"$f":"名簿!Z49","v":""},{"$f":"名簿!CM49","v":""},{"$f":"名簿!Y49","v":""},{"$f":"名簿!CN49","v":""},{"$f":"名簿!CP49","v":0},{"$f":"名簿!CU49","v":"00"},{"$f":"名簿!Q49","v":""},{"$f":"名簿!D49","v":0},null,{"$f":"IF(O52=\"\",\"\",IF(I52=1,VLOOKUP(O52,男子種目コード!$D$1:$E$20,2,FALSE),IF(I52=2,VLOOKUP(O52,女子種目コード!$D$1:$E$20,2,FALSE))))","v":""},{"$f":"IF(O52=\"\",\"\",HLOOKUP(O52,名簿!$AH$3:$CH$118,47,FALSE))","v":""},"","",null,{"$f":"IF(T52=\"\",\"\",IF(I52=1,VLOOKUP(T52,男子種目コード!$D$1:$E$20,2,FALSE),IF(I52=2,VLOOKUP(T52,女子種目コード!$D$1:$E$20,2,FALSE))))","v":""},{"$f":"IF(T52=\"\",\"\",HLOOKUP(T52,名簿!$AH$3:$CH$118,47,FALSE))","v":""},"","",null,{"$f":"IF(Y52=\"\",\"\",IF(I52=1,VLOOKUP(Y52,男子種目コード!$D$1:$E$20,2,FALSE),IF(I52=2,VLOOKUP(Y52,女子種目コード!$D$1:$E$20,2,FALSE))))","v":""},null,"","",null,{"$f":"IF(AD52=\"\",\"\",IF(I52=1,VLOOKUP(AD52,男子種目コード!$A$1:$B$33,2,FALSE),IF(V52=2,VLOOKUP(I52,女子種目コード!$A$1:$B$28,2,FALSE))))","v":""},null,null,{"$f":"IF(AG52=\"\",\"\",IF(I52=1,VLOOKUP(AG52,男子種目コード!$A$1:$B$33,2,FALSE),IF(AA52=2,VLOOKUP(I52,女子種目コード!$A$1:$B$28,2,FALSE))))","v":""},null,null,null,null,null,"",0,0,"110YH","19.20",null,null,null,null,null,null,null,null,null,null,null,null,0,"",""]
["",{"$f":"名簿!P50","v":""},null,null,{"$f":"名簿!E50","v":0},{"$f":"名簿!CM50","v":""},{"$f":"名簿!Z50","v":""},{"$f":"名簿!CM50","v":""},{"$f":"名簿!Y50","v":""},{"$f":"名簿!CN50","v":""},{"$f":"名簿!CP50","v":0},{"$f":"名簿!CU50","v":"00"},{"$f":"名簿!Q50","v":""},{"$f":"名簿!D50","v":0},null,{"$f":"IF(O53=\"\",\"\",IF(I53=1,VLOOKUP(O53,男子種目コード!$D$1:$E$20,2,FALSE),IF(I53=2,VLOOKUP(O53,女子種目コード!$D$1:$E$20,2,FALSE))))","v":""},{"$f":"IF(O53=\"\",\"\",HLOOKUP(O53,名簿!$AH$3:$CH$118,48,FALSE))","v":""},"","",null,{"$f":"IF(T53=\"\",\"\",IF(I53=1,VLOOKUP(T53,男子種目コード!$D$1:$E$20,2,FALSE),IF(I53=2,VLOOKUP(T53,女子種目コード!$D$1:$E$20,2,FALSE))))","v":""},{"$f":"IF(T53=\"\",\"\",HLOOKUP(T53,名簿!$AH$3:$CH$118,48,FALSE))","v":""},"","",null,{"$f":"IF(Y53=\"\",\"\",IF(I53=1,VLOOKUP(Y53,男子種目コード!$D$1:$E$20,2,FALSE),IF(I53=2,VLOOKUP(Y53,女子種目コード!$D$1:$E$20,2,FALSE))))","v":""},null,"","",null,{"$f":"IF(AD53=\"\",\"\",IF(I53=1,VLOOKUP(AD53,男子種目コード!$A$1:$B$33,2,FALSE),IF(V53=2,VLOOKUP(I53,女子種目コード!$A$1:$B$28,2,FALSE))))","v":""},null,null,{"$f":"IF(AG53=\"\",\"\",IF(I53=1,VLOOKUP(AG53,男子種目コード!$A$1:$B$33,2,FALSE),IF(AA53=2,VLOOKUP(I53,女子種目コード!$A$1:$B$28,2,FALSE))))","v":""},null,null,null,null,null,"",0,0,"走高跳","1m50",null,null,null,null,null,null,null,null,null,null,null,null,0,"",""]
["",{"$f":"名簿!P51","v":""},null,null,{"$f":"名簿!E51","v":0},{"$f":"名簿!CM51","v":""},{"$f":"名簿!Z51","v":""},{"$f":"名簿!CM51","v":""},{"$f":"名簿!Y51","v":""},{"$f":"名簿!CN51","v":""},{"$f":"名簿!CP51","v":0},{"$f":"名簿!CU51","v":"00"},{"$f":"名簿!Q51","v":""},{"$f":"名簿!D51","v":0},null,{"$f":"IF(O54=\"\",\"\",IF(I54=1,VLOOKUP(O54,男子種目コード!$D$1:$E$20,2,FALSE),IF(I54=2,VLOOKUP(O54,女子種目コード!$D$1:$E$20,2,FALSE))))","v":""},{"$f":"IF(O54=\"\",\"\",HLOOKUP(O54,名簿!$AH$3:$CH$118,49,FALSE))","v":""},"","",null,{"$f":"IF(T54=\"\",\"\",IF(I54=1,VLOOKUP(T54,男子種目コード!$D$1:$E$20,2,FALSE),IF(I54=2,VLOOKUP(T54,女子種目コード!$D$1:$E$20,2,FALSE))))","v":""},{"$f":"IF(T54=\"\",\"\",HLOOKUP(T54,名簿!$AH$3:$CH$118,49,FALSE))","v":""},"","",null,{"$f":"IF(Y54=\"\",\"\",IF(I54=1,VLOOKUP(Y54,男子種目コード!$D$1:$E$20,2,FALSE),IF(I54=2,VLOOKUP(Y54,女子種目コード!$D$1:$E$20,2,FALSE))))","v":""},null,"","",null,{"$f":"IF(AD54=\"\",\"\",IF(I54=1,VLOOKUP(AD54,男子種目コード!$A$1:$B$33,2,FALSE),IF(V54=2,VLOOKUP(I54,女子種目コード!$A$1:$B$28,2,FALSE))))","v":""},null,null,{"$f":"IF(AG54=\"\",\"\",IF(I54=1,VLOOKUP(AG54,男子種目コード!$A$1:$B$33,2,FALSE),IF(AA54=2,VLOOKUP(I54,女子種目コード!$A$1:$B$28,2,FALSE))))","v":""},null,null,null,null,null,"",0,0,"棒高跳","2m80",null,null,null,null,null,null,null,null,null,null,null,null,0,"",""]
["",{"$f":"名簿!P52","v":""},null,null,{"$f":"名簿!E52","v":0},{"$f":"名簿!CM52","v":""},{"$f":"名簿!Z52","v":""},{"$f":"名簿!CM52","v":""},{"$f":"名簿!Y52","v":""},{"$f":"名簿!CN52","v":""},{"$f":"名簿!CP52","v":0},{"$f":"名簿!CU52","v":"00"},{"$f":"名簿!Q52","v":""},{"$f":"名簿!D52","v":0},null,{"$f":"IF(O55=\"\",\"\",IF(I55=1,VLOOKUP(O55,男子種目コード!$D$1:$E$20,2,FALSE),IF(I55=2,VLOOKUP(O55,女子種目コード!$D$1:$E$20,2,FALSE))))","v":""},{"$f":"IF(O55=\"\",\"\",HLOOKUP(O55,名簿!$AH$3:$CH$118,50,FALSE))","v":""},"","",null,{"$f":"IF(T55=\"\",\"\",IF(I55=1,VLOOKUP(T55,男子種目コード!$D$1:$E$20,2,FALSE),IF(I55=2,VLOOKUP(T55,女子種目コード!$D$1:$E$20,2,FALSE))))","v":""},{"$f":"IF(T55=\"\",\"\",HLOOKUP(T55,名簿!$AH$3:$CH$118,50,FALSE))","v":""},"","",null,{"$f":"IF(Y55=\"\",\"\",IF(I55=1,VLOOKUP(Y55,男子種目コード!$D$1:$E$20,2,FALSE),IF(I55=2,VLOOKUP(Y55,女子種目コード!$D$1:$E$20,2,FALSE))))","v":""},null,"","",null,{"$f":"IF(AD55=\"\",\"\",IF(I55=1,VLOOKUP(AD55,男子種目コード!$A$1:$B$33,2,FALSE),IF(V55=2,VLOOKUP(I55,女子種目コード!$A$1:$B$28,2,FALSE))))","v":""},null,null,{"$f":"IF(AG55=\"\",\"\",IF(I55=1,VLOOKUP(AG55,男子種目コード!$A$1:$B$33,2,FALSE),IF(AA55=2,VLOOKUP(I55,女子種目コード!$A$1:$B$28,2,FALSE))))","v":""},null,null,null,null,null,"",0,0,"走幅跳","5m40",null,null,null,null,null,null,null,null,null,null,null,null,0,"",""]
["",{"$f":"名簿!P53","v":""},null,null,{"$f":"名簿!E53","v":0},{"$f":"名簿!CM53","v":""},{"$f":"名簿!Z53","v":""},{"$f":"名簿!CM53","v":""},{"$f":"名簿!Y53","v":""},{"$f":"名簿!CN53","v":""},{"$f":"名簿!CP53","v":0},{"$f":"名簿!CU53","v":"00"},{"$f":"名簿!Q53","v":""},{"$f":"名簿!D53","v":0},null,{"$f":"IF(O56=\"\",\"\",IF(I56=1,VLOOKUP(O56,男子種目コード!$D$1:$E$20,2,FALSE),IF(I56=2,VLOOKUP(O56,女子種目コード!$D$1:$E$20,2,FALSE))))","v":""},{"$f":"IF(O56=\"\",\"\",HLOOKUP(O56,名簿!$AH$3:$CH$118,51,FALSE))","v":""},"","",null,{"$f":"IF(T56=\"\",\"\",IF(I56=1,VLOOKUP(T56,男子種目コード!$D$1:$E$20,2,FALSE),IF(I56=2,VLOOKUP(T56,女子種目コード!$D$1:$E$20,2,FALSE))))","v":""},{"$f":"IF(T56=\"\",\"\",HLOOKUP(T56,名簿!$AH$3:$CH$118,51,FALSE))","v":""},"","",null,{"$f":"IF(Y56=\"\",\"\",IF(I56=1,VLOOKUP(Y56,男子種目コード!$D$1:$E$20,2,FALSE),IF(I56=2,VLOOKUP(Y56,女子種目コード!$D$1:$E$20,2,FALSE))))","v":""},null,"","",null,{"$f":"IF(AD56=\"\",\"\",IF(I56=1,VLOOKUP(AD56,男子種目コード!$A$1:$B$33,2,FALSE),IF(V56=2,VLOOKUP(I56,女子種目コード!$A$1:$B$28,2,FALSE))))","v":""},null,null,{"$f":"IF(AG56=\"\",\"\",IF(I56=1,VLOOKUP(AG56,男子種目コード!$A$1:$B$33,2,FALSE),IF(AA56=2,VLOOKUP(I56,女子種目コード!$A$1:$B$28,2,FALSE))))","v":""},null,null,null,null,null,"",0,0,"三段跳","10m80",null,null,null,null,null,null,null,null,null,null,null,null,0,"",""]
["",{"$f":"名簿!P54","v":""},null,null,{"$f":"名簿!E54","v":0},{"$f":"名簿!CM54","v":""},{"$f":"名簿!Z54","v":""},{"$f":"名簿!CM54","v":""},{"$f":"名簿!Y54","v":""},{"$f":"名簿!CN54","v":""},{"$f":"名簿!CP54","v":0},{"$f":"名簿!CU54","v":"00"},{"$f":"名簿!Q54","v":""},{"$f":"名簿!D54","v":0},null,{"$f":"IF(O57=\"\",\"\",IF(I57=1,VLOOKUP(O57,男子種目コード!$D$1:$E$20,2,FALSE),IF(I57=2,VLOOKUP(O57,女子種目コード!$D$1:$E$20,2,FALSE))))","v":""},{"$f":"IF(O57=\"\",\"\",HLOOKUP(O57,名簿!$AH$3:$CH$118,52,FALSE))","v":""},"","",null,{"$f":"IF(T57=\"\",\"\",IF(I57=1,VLOOKUP(T57,男子種目コード!$D$1:$E$20,2,FALSE),IF(I57=2,VLOOKUP(T57,女子種目コード!$D$1:$E$20,2,FALSE))))","v":""},{"$f":"IF(T57=\"\",\"\",HLOOKUP(T57,名簿!$AH$3:$CH$118,52,FALSE))","v":""},"","",null,{"$f":"IF(Y57=\"\",\"\",IF(I57=1,VLOOKUP(Y57,男子種目コード!$D$1:$E$20,2,FALSE),IF(I57=2,VLOOKUP(Y57,女子種目コード!$D$1:$E$20,2,FALSE))))","v":""},null,"","",null,{"$f":"IF(AD57=\"\",\"\",IF(I57=1,VLOOKUP(AD57,男子種目コード!$A$1:$B$33,2,FALSE),IF(V57=2,VLOOKUP(I57,女子種目コード!$A$1:$B$28,2,FALSE))))","v":""},null,null,{"$f":"IF(AG57=\"\",\"\",IF(I57=1,VLOOKUP(AG57,男子種目コード!$A$1:$B$33,2,FALSE),IF(AA57=2,VLOOKUP(I57,女子種目コード!$A$1:$B$28,2,FALSE))))","v":""},null,null,null,null,null,"",0,0,"砲丸投","9m50",null,null,null,null,null,null,null,null,null,null,null,null,0,"",""]
["",{"$f":"名簿!P55","v":""},null,null,{"$f":"名簿!E55","v":0},{"$f":"名簿!CM55","v":""},{"$f":"名簿!Z55","v":""},{"$f":"名簿!CM55","v":""},{"$f":"名簿!Y55","v":""},{"$f":"名簿!CN55","v":""},{"$f":"名簿!CP55","v":0},{"$f":"名簿!CU55","v":"00"},{"$f":"名簿!Q55","v":""},{"$f":"名簿!D55","v":0},null,{"$f":"IF(O58=\"\",\"\",IF(I58=1,VLOOKUP(O58,男子種目コード!$D$1:$E$20,2,FALSE),IF(I58=2,VLOOKUP(O58,女子種目コード!$D$1:$E$20,2,FALSE))))","v":""},{"$f":"IF(O58=\"\",\"\",HLOOKUP(O58,名簿!$AH$3:$CH$118,53,FALSE))","v":""},"","",null,{"$f":"IF(T58=\"\",\"\",IF(I58=1,VLOOKUP(T58,男子種目コード!$D$1:$E$20,2,FALSE),IF(I58=2,VLOOKUP(T58,女子種目コード!$D$1:$E$20,2,FALSE))))","v":""},{"$f":"IF(T58=\"\",\"\",HLOOKUP(T58,名簿!$AH$3:$CH$118,53,FALSE))","v":""},"","",null,{"$f":"IF(Y58=\"\",\"\",IF(I58=1,VLOOKUP(Y58,男子種目コード!$D$1:$E$20,2,FALSE),IF(I58=2,VLOOKUP(Y58,女子種目コード!$D$1:$E$20,2,FALSE))))","v":""},null,"","",null,{"$f":"IF(AD58=\"\",\"\",IF(I58=1,VLOOKUP(AD58,男子種目コード!$A$1:$B$33,2,FALSE),IF(V58=2,VLOOKUP(I58,女子種目コード!$A$1:$B$28,2,FALSE))))","v":""},null,null,{"$f":"IF(AG58=\"\",\"\",IF(I58=1,VLOOKUP(AG58,男子種目コード!$A$1:$B$33,2,FALSE),IF(AA58=2,VLOOKUP(I58,女子種目コード!$A$1:$B$28,2,FALSE))))","v":""},null,null,null,null,null,"",0,0,"円盤投","23m00",null,null,null,null,null,null,null,null,null,null,null,null,0,"",""]
["",{"$f":"名簿!P56","v":""},null,null,{"$f":"名簿!E56","v":0},{"$f":"名簿!CM56","v":""},{"$f":"名簿!Z56","v":""},{"$f":"名簿!CM56","v":""},{"$f":"名簿!Y56","v":""},{"$f":"名簿!CN56","v":""},{"$f":"名簿!CP56","v":0},{"$f":"名簿!CU56","v":"00"},{"$f":"名簿!Q56","v":""},{"$f":"名簿!D56","v":0},null,{"$f":"IF(O59=\"\",\"\",IF(I59=1,VLOOKUP(O59,男子種目コード!$D$1:$E$20,2,FALSE),IF(I59=2,VLOOKUP(O59,女子種目コード!$D$1:$E$20,2,FALSE))))","v":""},{"$f":"IF(O59=\"\",\"\",HLOOKUP(O59,名簿!$AH$3:$CH$118,54,FALSE))","v":""},"","",null,{"$f":"IF(T59=\"\",\"\",IF(I59=1,VLOOKUP(T59,男子種目コード!$D$1:$E$20,2,FALSE),IF(I59=2,VLOOKUP(T59,女子種目コード!$D$1:$E$20,2,FALSE))))","v":""},{"$f":"IF(T59=\"\",\"\",HLOOKUP(T59,名簿!$AH$3:$CH$118,54,FALSE))","v":""},"","",null,{"$f":"IF(Y59=\"\",\"\",IF(I59=1,VLOOKUP(Y59,男子種目コード!$D$1:$E$20,2,FALSE),IF(I59=2,VLOOKUP(Y59,女子種目コード!$D$1:$E$20,2,FALSE))))","v":""},null,"","",null,{"$f":"IF(AD59=\"\",\"\",IF(I59=1,VLOOKUP(AD59,男子種目コード!$A$1:$B$33,2,FALSE),IF(V59=2,VLOOKUP(I59,女子種目コード!$A$1:$B$28,2,FALSE))))","v":""},null,null,{"$f":"IF(AG59=\"\",\"\",IF(I59=1,VLOOKUP(AG59,男子種目コード!$A$1:$B$33,2,FALSE),IF(AA59=2,VLOOKUP(I59,女子種目コード!$A$1:$B$28,2,FALSE))))","v":""},null,null,null,null,null,"",0,0,"女子",null,null,null,null,null,null,null,null,null,null,null,null,null,0,"",""]
["",{"$f":"名簿!P57","v":""},null,null,{"$f":"名簿!E57","v":0},{"$f":"名簿!CM57","v":""},{"$f":"名簿!Z57","v":""},{"$f":"名簿!CM57","v":""},{"$f":"名簿!Y57","v":""},{"$f":"名簿!CN57","v":""},{"$f":"名簿!CP57","v":0},{"$f":"名簿!CU57","v":"00"},{"$f":"名簿!Q57","v":""},{"$f":"名簿!D57","v":0},null,{"$f":"IF(O60=\"\",\"\",IF(I60=1,VLOOKUP(O60,男子種目コード!$D$1:$E$20,2,FALSE),IF(I60=2,VLOOKUP(O60,女子種目コード!$D$1:$E$20,2,FALSE))))","v":""},{"$f":"IF(O60=\"\",\"\",HLOOKUP(O60,名簿!$AH$3:$CH$118,55,FALSE))","v":""},"","",null,{"$f":"IF(T60=\"\",\"\",IF(I60=1,VLOOKUP(T60,男子種目コード!$D$1:$E$20,2,FALSE),IF(I60=2,VLOOKUP(T60,女子種目コード!$D$1:$E$20,2,FALSE))))","v":""},{"$f":"IF(T60=\"\",\"\",HLOOKUP(T60,名簿!$AH$3:$CH$118,55,FALSE))","v":""},"","",null,{"$f":"IF(Y60=\"\",\"\",IF(I60=1,VLOOKUP(Y60,男子種目コード!$D$1:$E$20,2,FALSE),IF(I60=2,VLOOKUP(Y60,女子種目コード!$D$1:$E$20,2,FALSE))))","v":""},null,"","",null,{"$f":"IF(AD60=\"\",\"\",IF(I60=1,VLOOKUP(AD60,男子種目コード!$A$1:$B$33,2,FALSE),IF(V60=2,VLOOKUP(I60,女子種目コード!$A$1:$B$28,2,FALSE))))","v":""},null,null,{"$f":"IF(AG60=\"\",\"\",IF(I60=1,VLOOKUP(AG60,男子種目コード!$A$1:$B$33,2,FALSE),IF(AA60=2,VLOOKUP(I60,女子種目コード!$A$1:$B$28,2,FALSE))))","v":""},null,null,null,null,null,"",0,0,"2年100","14.70",null,null,null,null,null,null,null,null,null,null,null,null,0,"",""]
["",{"$f":"名簿!P58","v":""},null,null,{"$f":"名簿!E58","v":0},{"$f":"名簿!CM58","v":""},{"$f":"名簿!Z58","v":""},{"$f":"名簿!CM58","v":""},{"$f":"名簿!Y58","v":""},{"$f":"名簿!CN58","v":""},{"$f":"名簿!CP58","v":0},{"$f":"名簿!CU58","v":"00"},{"$f":"名簿!Q58","v":""},{"$f":"名簿!D58","v":0},null,{"$f":"IF(O61=\"\",\"\",IF(I61=1,VLOOKUP(O61,男子種目コード!$D$1:$E$20,2,FALSE),IF(I61=2,VLOOKUP(O61,女子種目コード!$D$1:$E$20,2,FALSE))))","v":""},{"$f":"IF(O61=\"\",\"\",HLOOKUP(O61,名簿!$AH$3:$CH$118,56,FALSE))","v":""},"","",null,{"$f":"IF(T61=\"\",\"\",IF(I61=1,VLOOKUP(T61,男子種目コード!$D$1:$E$20,2,FALSE),IF(I61=2,VLOOKUP(T61,女子種目コード!$D$1:$E$20,2,FALSE))))","v":""},{"$f":"IF(T61=\"\",\"\",HLOOKUP(T61,名簿!$AH$3:$CH$118,56,FALSE))","v":""},"","",null,{"$f":"IF(Y61=\"\",\"\",IF(I61=1,VLOOKUP(Y61,男子種目コード!$D$1:$E$20,2,FALSE),IF(I61=2,VLOOKUP(Y61,女子種目コード!$D$1:$E$20,2,FALSE))))","v":""},null,"","",null,{"$f":"IF(AD61=\"\",\"\",IF(I61=1,VLOOKUP(AD61,男子種目コード!$A$1:$B$33,2,FALSE),IF(V61=2,VLOOKUP(I61,女子種目コード!$A$1:$B$28,2,FALSE))))","v":""},null,null,{"$f":"IF(AG61=\"\",\"\",IF(I61=1,VLOOKUP(AG61,男子種目コード!$A$1:$B$33,2,FALSE),IF(AA61=2,VLOOKUP(I61,女子種目コード!$A$1:$B$28,2,FALSE))))","v":""},null,null,null,null,null,"",0,0,"共通",null,null,null,null,null,null,null,null,null,null,null,null,null,0,"",""]
["",{"$f":"名簿!P59","v":""},null,null,{"$f":"名簿!E59","v":0},{"$f":"名簿!CM59","v":""},{"$f":"名簿!Z59","v":""},{"$f":"名簿!CM59","v":""},{"$f":"名簿!Y59","v":""},{"$f":"名簿!CN59","v":""},{"$f":"名簿!CP59","v":0},{"$f":"名簿!CU59","v":"00"},{"$f":"名簿!Q59","v":""},{"$f":"名簿!D59","v":0},null,{"$f":"IF(O62=\"\",\"\",IF(I62=1,VLOOKUP(O62,男子種目コード!$D$1:$E$20,2,FALSE),IF(I62=2,VLOOKUP(O62,女子種目コード!$D$1:$E$20,2,FALSE))))","v":""},{"$f":"IF(O62=\"\",\"\",HLOOKUP(O62,名簿!$AH$3:$CH$118,57,FALSE))","v":""},"","",null,{"$f":"IF(T62=\"\",\"\",IF(I62=1,VLOOKUP(T62,男子種目コード!$D$1:$E$20,2,FALSE),IF(I62=2,VLOOKUP(T62,女子種目コード!$D$1:$E$20,2,FALSE))))","v":""},{"$f":"IF(T62=\"\",\"\",HLOOKUP(T62,名簿!$AH$3:$CH$118,57,FALSE))","v":""},"","",null,{"$f":"IF(Y62=\"\",\"\",IF(I62=1,VLOOKUP(Y62,男子種目コード!$D$1:$E$20,2,FALSE),IF(I62=2,VLOOKUP(Y62,女子種目コード!$D$1:$E$20,2,FALSE))))","v":""},null,"","",null,{"$f":"IF(AD62=\"\",\"\",IF(I62=1,VLOOKUP(AD62,男子種目コード!$A$1:$B$33,2,FALSE),IF(V62=2,VLOOKUP(I62,女子種目コード!$A$1:$B$28,2,FALSE))))","v":""},null,null,{"$f":"IF(AG62=\"\",\"\",IF(I62=1,VLOOKUP(AG62,男子種目コード!$A$1:$B$33,2,FALSE),IF(AA62=2,VLOOKUP(I62,女子種目コード!$A$1:$B$28,2,FALSE))))","v":""},null,null,null,null,null,"",0,0,100,"14.10",null,null,null,null,null,null,null,null,null,null,null,null,0,"",""]
["",{"$f":"名簿!P60","v":""},null,null,{"$f":"名簿!E60","v":0},{"$f":"名簿!CM60","v":""},{"$f":"名簿!Z60","v":""},{"$f":"名簿!CM60","v":""},{"$f":"名簿!Y60","v":""},{"$f":"名簿!CN60","v":""},{"$f":"名簿!CP60","v":0},{"$f":"名簿!CU60","v":"00"},{"$f":"名簿!Q60","v":""},{"$f":"名簿!D60","v":0},null,{"$f":"IF(O63=\"\",\"\",IF(I63=1,VLOOKUP(O63,男子種目コード!$D$1:$E$20,2,FALSE),IF(I63=2,VLOOKUP(O63,女子種目コード!$D$1:$E$20,2,FALSE))))","v":""},{"$f":"IF(O63=\"\",\"\",HLOOKUP(O63,名簿!$AH$3:$CH$118,58,FALSE))","v":""},"","",null,{"$f":"IF(T63=\"\",\"\",IF(I63=1,VLOOKUP(T63,男子種目コード!$D$1:$E$20,2,FALSE),IF(I63=2,VLOOKUP(T63,女子種目コード!$D$1:$E$20,2,FALSE))))","v":""},{"$f":"IF(T63=\"\",\"\",HLOOKUP(T63,名簿!$AH$3:$CH$118,58,FALSE))","v":""},"","",null,{"$f":"IF(Y63=\"\",\"\",IF(I63=1,VLOOKUP(Y63,男子種目コード!$D$1:$E$20,2,FALSE),IF(I63=2,VLOOKUP(Y63,女子種目コード!$D$1:$E$20,2,FALSE))))","v":""},null,"","",null,{"$f":"IF(AD63=\"\",\"\",IF(I63=1,VLOOKUP(AD63,男子種目コード!$A$1:$B$33,2,FALSE),IF(V63=2,VLOOKUP(I63,女子種目コード!$A$1:$B$28,2,FALSE))))","v":""},null,null,{"$f":"IF(AG63=\"\",\"\",IF(I63=1,VLOOKUP(AG63,男子種目コード!$A$1:$B$33,2,FALSE),IF(AA63=2,VLOOKUP(I63,女子種目コード!$A$1:$B$28,2,FALSE))))","v":""},null,null,null,null,null,"",0,0,200,"29.20",null,null,null,null,null,null,null,null,null,null,null,null,0,"",""]
["",{"$f":"名簿!P61","v":""},null,null,{"$f":"名簿!E61","v":0},{"$f":"名簿!CM61","v":""},{"$f":"名簿!Z61","v":""},{"$f":"名簿!CM61","v":""},{"$f":"名簿!Y61","v":""},{"$f":"名簿!CN61","v":""},{"$f":"名簿!CP61","v":0},{"$f":"名簿!CU61","v":"00"},{"$f":"名簿!Q61","v":""},{"$f":"名簿!D61","v":0},null,{"$f":"IF(O64=\"\",\"\",IF(I64=1,VLOOKUP(O64,男子種目コード!$D$1:$E$20,2,FALSE),IF(I64=2,VLOOKUP(O64,女子種目コード!$D$1:$E$20,2,FALSE))))","v":""},{"$f":"IF(O64=\"\",\"\",HLOOKUP(O64,名簿!$AH$3:$CH$118,59,FALSE))","v":""},"","",null,{"$f":"IF(T64=\"\",\"\",IF(I64=1,VLOOKUP(T64,男子種目コード!$D$1:$E$20,2,FALSE),IF(I64=2,VLOOKUP(T64,女子種目コード!$D$1:$E$20,2,FALSE))))","v":""},{"$f":"IF(T64=\"\",\"\",HLOOKUP(T64,名簿!$AH$3:$CH$118,59,FALSE))","v":""},"","",null,{"$f":"IF(Y64=\"\",\"\",IF(I64=1,VLOOKUP(Y64,男子種目コード!$D$1:$E$20,2,FALSE),IF(I64=2,VLOOKUP(Y64,女子種目コード!$D$1:$E$20,2,FALSE))))","v":""},null,"","",null,{"$f":"IF(AD64=\"\",\"\",IF(I64=1,VLOOKUP(AD64,男子種目コード!$A$1:$B$33,2,FALSE),IF(V64=2,VLOOKUP(I64,女子種目コード!$A$1:$B$28,2,FALSE))))","v":""},null,null,{"$f":"IF(AG64=\"\",\"\",IF(I64=1,VLOOKUP(AG64,男子種目コード!$A$1:$B$33,2,FALSE),IF(AA64=2,VLOOKUP(I64,女子種目コード!$A$1:$B$28,2,FALSE))))","v":""},null,null,null,null,null,"",0,0,800,"2.38.00",null,null,null,null,null,null,null,null,null,null,null,null,0,"",""]
["",{"$f":"名簿!P62","v":""},null,null,{"$f":"名簿!E62","v":0},{"$f":"名簿!CM62","v":""},{"$f":"名簿!Z62","v":""},{"$f":"名簿!CM62","v":""},{"$f":"名簿!Y62","v":""},{"$f":"名簿!CN62","v":""},{"$f":"名簿!CP62","v":0},{"$f":"名簿!CU62","v":"00"},{"$f":"名簿!Q62","v":""},{"$f":"名簿!D62","v":0},null,{"$f":"IF(O65=\"\",\"\",IF(I65=1,VLOOKUP(O65,男子種目コード!$D$1:$E$20,2,FALSE),IF(I65=2,VLOOKUP(O65,女子種目コード!$D$1:$E$20,2,FALSE))))","v":""},{"$f":"IF(O65=\"\",\"\",HLOOKUP(O65,名簿!$AH$3:$CH$118,60,FALSE))","v":""},"","",null,{"$f":"IF(T65=\"\",\"\",IF(I65=1,VLOOKUP(T65,男子種目コード!$D$1:$E$20,2,FALSE),IF(I65=2,VLOOKUP(T65,女子種目コード!$D$1:$E$20,2,FALSE))))","v":""},{"$f":"IF(T65=\"\",\"\",HLOOKUP(T65,名簿!$AH$3:$CH$118,60,FALSE))","v":""},"","",null,{"$f":"IF(Y65=\"\",\"\",IF(I65=1,VLOOKUP(Y65,男子種目コード!$D$1:$E$20,2,FALSE),IF(I65=2,VLOOKUP(Y65,女子種目コード!$D$1:$E$20,2,FALSE))))","v":""},null,"","",null,{"$f":"IF(AD65=\"\",\"\",IF(I65=1,VLOOKUP(AD65,男子種目コード!$A$1:$B$33,2,FALSE),IF(V65=2,VLOOKUP(I65,女子種目コード!$A$1:$B$28,2,FALSE))))","v":""},null,null,{"$f":"IF(AG65=\"\",\"\",IF(I65=1,VLOOKUP(AG65,男子種目コード!$A$1:$B$33,2,FALSE),IF(AA65=2,VLOOKUP(I65,女子種目コード!$A$1:$B$28,2,FALSE))))","v":""},null,null,null,null,null,"",0,0,1500,"5.40.00",null,null,null,null,null,null,null,null,null,null,null,null,0,"",""]
["",{"$f":"名簿!P63","v":""},null,null,{"$f":"名簿!E63","v":0},{"$f":"名簿!CM63","v":""},{"$f":"名簿!Z63","v":""},{"$f":"名簿!CM63","v":""},{"$f":"名簿!Y63","v":""},{"$f":"名簿!CN63","v":""},{"$f":"名簿!CP63","v":0},{"$f":"名簿!CU63","v":"00"},{"$f":"名簿!Q63","v":""},{"$f":"名簿!D63","v":0},null,{"$f":"IF(O66=\"\",\"\",IF(I66=1,VLOOKUP(O66,男子種目コード!$D$1:$E$20,2,FALSE),IF(I66=2,VLOOKUP(O66,女子種目コード!$D$1:$E$20,2,FALSE))))","v":""},{"$f":"IF(O66=\"\",\"\",HLOOKUP(O66,名簿!$AH$3:$CH$118,61,FALSE))","v":""},"","",null,{"$f":"IF(T66=\"\",\"\",IF(I66=1,VLOOKUP(T66,男子種目コード!$D$1:$E$20,2,FALSE),IF(I66=2,VLOOKUP(T66,女子種目コード!$D$1:$E$20,2,FALSE))))","v":""},{"$f":"IF(T66=\"\",\"\",HLOOKUP(T66,名簿!$AH$3:$CH$118,61,FALSE))","v":""},"","",null,{"$f":"IF(Y66=\"\",\"\",IF(I66=1,VLOOKUP(Y66,男子種目コード!$D$1:$E$20,2,FALSE),IF(I66=2,VLOOKUP(Y66,女子種目コード!$D$1:$E$20,2,FALSE))))","v":""},null,"","",null,{"$f":"IF(AD66=\"\",\"\",IF(I66=1,VLOOKUP(AD66,男子種目コード!$A$1:$B$33,2,FALSE),IF(V66=2,VLOOKUP(I66,女子種目コード!$A$1:$B$28,2,FALSE))))","v":""},null,null,{"$f":"IF(AG66=\"\",\"\",IF(I66=1,VLOOKUP(AG66,男子種目コード!$A$1:$B$33,2,FALSE),IF(AA66=2,VLOOKUP(I66,女子種目コード!$A$1:$B$28,2,FALSE))))","v":""},null,null,null,null,null,"",0,0,"100H","18.80",null,null,null,null,null,null,null,null,null,null,null,null,0,"",""]
["",{"$f":"名簿!P64","v":""},null,null,{"$f":"名簿!E64","v":0},{"$f":"名簿!CM64","v":""},{"$f":"名簿!Z64","v":""},{"$f":"名簿!CM64","v":""},{"$f":"名簿!Y64","v":""},{"$f":"名簿!CN64","v":""},{"$f":"名簿!CP64","v":0},{"$f":"名簿!CU64","v":"00"},{"$f":"名簿!Q64","v":""},{"$f":"名簿!D64","v":0},null,{"$f":"IF(O67=\"\",\"\",IF(I67=1,VLOOKUP(O67,男子種目コード!$D$1:$E$20,2,FALSE),IF(I67=2,VLOOKUP(O67,女子種目コード!$D$1:$E$20,2,FALSE))))","v":""},{"$f":"IF(O67=\"\",\"\",HLOOKUP(O67,名簿!$AH$3:$CH$118,62,FALSE))","v":""},"","",null,{"$f":"IF(T67=\"\",\"\",IF(I67=1,VLOOKUP(T67,男子種目コード!$D$1:$E$20,2,FALSE),IF(I67=2,VLOOKUP(T67,女子種目コード!$D$1:$E$20,2,FALSE))))","v":""},{"$f":"IF(T67=\"\",\"\",HLOOKUP(T67,名簿!$AH$3:$CH$118,62,FALSE))","v":""},"","",null,{"$f":"IF(Y67=\"\",\"\",IF(I67=1,VLOOKUP(Y67,男子種目コード!$D$1:$E$20,2,FALSE),IF(I67=2,VLOOKUP(Y67,女子種目コード!$D$1:$E$20,2,FALSE))))","v":""},null,"","",null,{"$f":"IF(AD67=\"\",\"\",IF(I67=1,VLOOKUP(AD67,男子種目コード!$A$1:$B$33,2,FALSE),IF(V67=2,VLOOKUP(I67,女子種目コード!$A$1:$B$28,2,FALSE))))","v":""},null,null,{"$f":"IF(AG67=\"\",\"\",IF(I67=1,VLOOKUP(AG67,男子種目コード!$A$1:$B$33,2,FALSE),IF(AA67=2,VLOOKUP(I67,女子種目コード!$A$1:$B$28,2,FALSE))))","v":""},null,null,null,null,null,"",0,0,"走高跳","1m30",null,null,null,null,null,null,null,null,null,null,null,null,0,"",""]
["",{"$f":"名簿!P65","v":""},null,null,{"$f":"名簿!E65","v":0},{"$f":"名簿!CM65","v":""},{"$f":"名簿!Z65","v":""},{"$f":"名簿!CM65","v":""},{"$f":"名簿!Y65","v":""},{"$f":"名簿!CN65","v":""},{"$f":"名簿!CP65","v":0},{"$f":"名簿!CU65","v":"00"},{"$f":"名簿!Q65","v":""},{"$f":"名簿!D65","v":0},null,{"$f":"IF(O68=\"\",\"\",IF(I68=1,VLOOKUP(O68,男子種目コード!$D$1:$E$20,2,FALSE),IF(I68=2,VLOOKUP(O68,女子種目コード!$D$1:$E$20,2,FALSE))))","v":""},{"$f":"IF(O68=\"\",\"\",HLOOKUP(O68,名簿!$AH$3:$CH$118,63,FALSE))","v":""},"","",null,{"$f":"IF(T68=\"\",\"\",IF(I68=1,VLOOKUP(T68,男子種目コード!$D$1:$E$20,2,FALSE),IF(I68=2,VLOOKUP(T68,女子種目コード!$D$1:$E$20,2,FALSE))))","v":""},{"$f":"IF(T68=\"\",\"\",HLOOKUP(T68,名簿!$AH$3:$CH$118,63,FALSE))","v":""},"","",null,{"$f":"IF(Y68=\"\",\"\",IF(I68=1,VLOOKUP(Y68,男子種目コード!$D$1:$E$20,2,FALSE),IF(I68=2,VLOOKUP(Y68,女子種目コード!$D$1:$E$20,2,FALSE))))","v":""},null,"","",null,{"$f":"IF(AD68=\"\",\"\",IF(I68=1,VLOOKUP(AD68,男子種目コード!$A$1:$B$33,2,FALSE),IF(V68=2,VLOOKUP(I68,女子種目コード!$A$1:$B$28,2,FALSE))))","v":""},null,null,{"$f":"IF(AG68=\"\",\"\",IF(I68=1,VLOOKUP(AG68,男子種目コード!$A$1:$B$33,2,FALSE),IF(AA68=2,VLOOKUP(I68,女子種目コード!$A$1:$B$28,2,FALSE))))","v":""},null,null,null,null,null,"",0,0,"棒高跳","1m80程度",null,null,null,null,null,null,null,null,null,null,null,null,0,"",""]
["",{"$f":"名簿!P66","v":""},null,null,{"$f":"名簿!E66","v":0},{"$f":"名簿!CM66","v":""},{"$f":"名簿!Z66","v":""},{"$f":"名簿!CM66","v":""},{"$f":"名簿!Y66","v":""},{"$f":"名簿!CN66","v":""},{"$f":"名簿!CP66","v":0},{"$f":"名簿!CU66","v":"00"},{"$f":"名簿!Q66","v":""},{"$f":"名簿!D66","v":0},null,{"$f":"IF(O69=\"\",\"\",IF(I69=1,VLOOKUP(O69,男子種目コード!$D$1:$E$20,2,FALSE),IF(I69=2,VLOOKUP(O69,女子種目コード!$D$1:$E$20,2,FALSE))))","v":""},{"$f":"IF(O69=\"\",\"\",HLOOKUP(O69,名簿!$AH$3:$CH$118,64,FALSE))","v":""},"","",null,{"$f":"IF(T69=\"\",\"\",IF(I69=1,VLOOKUP(T69,男子種目コード!$D$1:$E$20,2,FALSE),IF(I69=2,VLOOKUP(T69,女子種目コード!$D$1:$E$20,2,FALSE))))","v":""},{"$f":"IF(T69=\"\",\"\",HLOOKUP(T69,名簿!$AH$3:$CH$118,64,FALSE))","v":""},"","",null,{"$f":"IF(Y69=\"\",\"\",IF(I69=1,VLOOKUP(Y69,男子種目コード!$D$1:$E$20,2,FALSE),IF(I69=2,VLOOKUP(Y69,女子種目コード!$D$1:$E$20,2,FALSE))))","v":""},null,"","",null,{"$f":"IF(AD69=\"\",\"\",IF(I69=1,VLOOKUP(AD69,男子種目コード!$A$1:$B$33,2,FALSE),IF(V69=2,VLOOKUP(I69,女子種目コード!$A$1:$B$28,2,FALSE))))","v":""},null,null,{"$f":"IF(AG69=\"\",\"\",IF(I69=1,VLOOKUP(AG69,男子種目コード!$A$1:$B$33,2,FALSE),IF(AA69=2,VLOOKUP(I69,女子種目コード!$A$1:$B$28,2,FALSE))))","v":""},null,null,null,null,null,"",0,0,"走幅跳","4m30",null,null,null,null,null,null,null,null,null,null,null,null,0,"",""]
["",{"$f":"名簿!P67","v":""},null,null,{"$f":"名簿!E67","v":0},{"$f":"名簿!CM67","v":""},{"$f":"名簿!Z67","v":""},{"$f":"名簿!CM67","v":""},{"$f":"名簿!Y67","v":""},{"$f":"名簿!CN67","v":""},{"$f":"名簿!CP67","v":0},{"$f":"名簿!CU67","v":"00"},{"$f":"名簿!Q67","v":""},{"$f":"名簿!D67","v":0},null,{"$f":"IF(O70=\"\",\"\",IF(I70=1,VLOOKUP(O70,男子種目コード!$D$1:$E$20,2,FALSE),IF(I70=2,VLOOKUP(O70,女子種目コード!$D$1:$E$20,2,FALSE))))","v":""},{"$f":"IF(O70=\"\",\"\",HLOOKUP(O70,名簿!$AH$3:$CH$118,65,FALSE))","v":""},"","",null,{"$f":"IF(T70=\"\",\"\",IF(I70=1,VLOOKUP(T70,男子種目コード!$D$1:$E$20,2,FALSE),IF(I70=2,VLOOKUP(T70,女子種目コード!$D$1:$E$20,2,FALSE))))","v":""},{"$f":"IF(T70=\"\",\"\",HLOOKUP(T70,名簿!$AH$3:$CH$118,65,FALSE))","v":""},"","",null,{"$f":"IF(Y70=\"\",\"\",IF(I70=1,VLOOKUP(Y70,男子種目コード!$D$1:$E$20,2,FALSE),IF(I70=2,VLOOKUP(Y70,女子種目コード!$D$1:$E$20,2,FALSE))))","v":""},null,"","",null,{"$f":"IF(AD70=\"\",\"\",IF(I70=1,VLOOKUP(AD70,男子種目コード!$A$1:$B$33,2,FALSE),IF(V70=2,VLOOKUP(I70,女子種目コード!$A$1:$B$28,2,FALSE))))","v":""},null,null,{"$f":"IF(AG70=\"\",\"\",IF(I70=1,VLOOKUP(AG70,男子種目コード!$A$1:$B$33,2,FALSE),IF(AA70=2,VLOOKUP(I70,女子種目コード!$A$1:$B$28,2,FALSE))))","v":""},null,null,null,null,null,"",0,0,"三段跳","8m50程度",null,null,null,null,null,null,null,null,null,null,null,null,0,"",""]
["",{"$f":"名簿!P68","v":""},null,null,{"$f":"名簿!E68","v":0},{"$f":"名簿!CM68","v":""},{"$f":"名簿!Z68","v":""},{"$f":"名簿!CM68","v":""},{"$f":"名簿!Y68","v":""},{"$f":"名簿!CN68","v":""},{"$f":"名簿!CP68","v":0},{"$f":"名簿!CU68","v":"00"},{"$f":"名簿!Q68","v":""},{"$f":"名簿!D68","v":0},null,{"$f":"IF(O71=\"\",\"\",IF(I71=1,VLOOKUP(O71,男子種目コード!$D$1:$E$20,2,FALSE),IF(I71=2,VLOOKUP(O71,女子種目コード!$D$1:$E$20,2,FALSE))))","v":""},{"$f":"IF(O71=\"\",\"\",HLOOKUP(O71,名簿!$AH$3:$CH$118,66,FALSE))","v":""},"","",null,{"$f":"IF(T71=\"\",\"\",IF(I71=1,VLOOKUP(T71,男子種目コード!$D$1:$E$20,2,FALSE),IF(I71=2,VLOOKUP(T71,女子種目コード!$D$1:$E$20,2,FALSE))))","v":""},{"$f":"IF(T71=\"\",\"\",HLOOKUP(T71,名簿!$AH$3:$CH$118,66,FALSE))","v":""},"","",null,{"$f":"IF(Y71=\"\",\"\",IF(I71=1,VLOOKUP(Y71,男子種目コード!$D$1:$E$20,2,FALSE),IF(I71=2,VLOOKUP(Y71,女子種目コード!$D$1:$E$20,2,FALSE))))","v":""},null,"","",null,{"$f":"IF(AD71=\"\",\"\",IF(I71=1,VLOOKUP(AD71,男子種目コード!$A$1:$B$33,2,FALSE),IF(V71=2,VLOOKUP(I71,女子種目コード!$A$1:$B$28,2,FALSE))))","v":""},null,null,{"$f":"IF(AG71=\"\",\"\",IF(I71=1,VLOOKUP(AG71,男子種目コード!$A$1:$B$33,2,FALSE),IF(AA71=2,VLOOKUP(I71,女子種目コード!$A$1:$B$28,2,FALSE))))","v":""},null,null,null,null,null,"",{"$f":"IF(OR(AN71=1,T71=\"\"),0,1)","v":0},{"$f":"IF(OR(AN71=1,AO71=1,Y71=\"\"),0,1)","v":0},"砲丸投","8m50",null,null,null,null,null,null,null,null,null,null,null,null,0,"",""]
[{"$f":"Z72","v":""},{"$f":"名簿!P69","v":""},null,null,{"$f":"名簿!E69","v":0},{"$f":"名簿!CM69","v":""},{"$f":"名簿!Z69","v":""},{"$f":"名簿!CM69","v":""},{"$f":"名簿!Y69","v":""},{"$f":"名簿!CN69","v":""},{"$f":"名簿!CP69","v":0},{"$f":"名簿!CU69","v":"00"},{"$f":"名簿!Q69","v":""},{"$f":"名簿!D69","v":0},null,{"$f":"IF(O72=\"\",\"\",IF(I72=1,VLOOKUP(O72,男子種目コード!$D$1:$E$20,2,FALSE),IF(I72=2,VLOOKUP(O72,女子種目コード!$D$1:$E$20,2,FALSE))))","v":""},{"$f":"IF(O72=\"\",\"\",HLOOKUP(O72,名簿!$AH$3:$CH$118,67,FALSE))","v":""},{"$f":"IF(O72=\"\",\"\",0)","v":""},{"$f":"IF(O72=\"\",\"\",2)","v":""},null,{"$f":"IF(T72=\"\",\"\",IF(I72=1,VLOOKUP(T72,男子種目コード!$D$1:$E$20,2,FALSE),IF(I72=2,VLOOKUP(T72,女子種目コード!$D$1:$E$20,2,FALSE))))","v":""},{"$f":"IF(T72=\"\",\"\",HLOOKUP(T72,名簿!$AH$3:$CH$118,67,FALSE))","v":""},{"$f":"IF(T72=\"\",\"\",0)","v":""},{"$f":"IF(T72=\"\",\"\",2)","v":""},null,{"$f":"IF(Y72=\"\",\"\",IF(I72=1,VLOOKUP(Y72,男子種目コード!$D$1:$E$20,2,FALSE),IF(I72=2,VLOOKUP(Y72,女子種目コード!$D$1:$E$20,2,FALSE))))","v":""},null,{"$f":"IF(Y72=\"\",\"\",0)","v":""},{"$f":"IF(Y72=\"\",\"\",2)","v":""},null,{"$f":"IF(AD72=\"\",\"\",IF(I72=1,VLOOKUP(AD72,男子種目コード!$A$1:$B$33,2,FALSE),IF(V72=2,VLOOKUP(I72,女子種目コード!$A$1:$B$28,2,FALSE))))","v":""},null,null,{"$f":"IF(AG72=\"\",\"\",IF(I72=1,VLOOKUP(AG72,男子種目コード!$A$1:$B$33,2,FALSE),IF(AA72=2,VLOOKUP(I72,女子種目コード!$A$1:$B$28,2,FALSE))))","v":""},null,null,null,null,null,{"$f":"IF(O72=\"\",\"\",1)","v":""},0,0,"円盤投","20m00",null,null,null,null,null,null,null,null,null,null,null,null,{"$f":"COUNT(P72,U72,Z72)","v":0},{"$f":"IF(I72=1,BE72,\"\")","v":""},{"$f":"IF(I72=2,BE72,\"\")","v":""}]
["",{"$f":"名簿!P70","v":""},null,null,{"$f":"名簿!E70","v":0},{"$f":"名簿!CM70","v":""},{"$f":"名簿!Z70","v":""},{"$f":"名簿!CM70","v":""},{"$f":"名簿!Y70","v":""},{"$f":"名簿!CN70","v":""},{"$f":"名簿!CP70","v":0},{"$f":"名簿!CU70","v":"00"},{"$f":"名簿!Q70","v":""},{"$f":"名簿!D70","v":0},null,{"$f":"IF(O73=\"\",\"\",IF(I73=1,VLOOKUP(O73,男子種目コード!$D$1:$E$20,2,FALSE),IF(I73=2,VLOOKUP(O73,女子種目コード!$D$1:$E$20,2,FALSE))))","v":""},{"$f":"IF(O73=\"\",\"\",HLOOKUP(O73,名簿!$AH$3:$CH$118,68,FALSE))","v":""},"","",null,{"$f":"IF(T73=\"\",\"\",IF(I73=1,VLOOKUP(T73,男子種目コード!$D$1:$E$20,2,FALSE),IF(I73=2,VLOOKUP(T73,女子種目コード!$D$1:$E$20,2,FALSE))))","v":""},{"$f":"IF(T73=\"\",\"\",HLOOKUP(T73,名簿!$AH$3:$CH$118,68,FALSE))","v":""},"","",null,{"$f":"IF(Y73=\"\",\"\",IF(I73=1,VLOOKUP(Y73,男子種目コード!$D$1:$E$20,2,FALSE),IF(I73=2,VLOOKUP(Y73,女子種目コード!$D$1:$E$20,2,FALSE))))","v":""},null,"","",null,{"$f":"IF(AD73=\"\",\"\",IF(I73=1,VLOOKUP(AD73,男子種目コード!$A$1:$B$33,2,FALSE),IF(V73=2,VLOOKUP(I73,女子種目コード!$A$1:$B$28,2,FALSE))))","v":""},null,null,{"$f":"IF(AG73=\"\",\"\",IF(I73=1,VLOOKUP(AG73,男子種目コード!$A$1:$B$33,2,FALSE),IF(AA73=2,VLOOKUP(I73,女子種目コード!$A$1:$B$28,2,FALSE))))","v":""},null,null,null,null,null,"",0,0,"１年種目・リレーはなし",null,null,null,null,null,null,null,null,null,null,null,null,null,0,"",""]
["",{"$f":"名簿!P71","v":""},null,null,{"$f":"名簿!E71","v":0},{"$f":"名簿!CM71","v":""},{"$f":"名簿!Z71","v":""},{"$f":"名簿!CM71","v":""},{"$f":"名簿!Y71","v":""},{"$f":"名簿!CN71","v":""},{"$f":"名簿!CP71","v":0},{"$f":"名簿!CU71","v":"00"},{"$f":"名簿!Q71","v":""},{"$f":"名簿!D71","v":0},null,{"$f":"IF(O74=\"\",\"\",IF(I74=1,VLOOKUP(O74,男子種目コード!$D$1:$E$20,2,FALSE),IF(I74=2,VLOOKUP(O74,女子種目コード!$D$1:$E$20,2,FALSE))))","v":""},{"$f":"IF(O74=\"\",\"\",HLOOKUP(O74,名簿!$AH$3:$CH$118,69,FALSE))","v":""},"","",null,{"$f":"IF(T74=\"\",\"\",IF(I74=1,VLOOKUP(T74,男子種目コード!$D$1:$E$20,2,FALSE),IF(I74=2,VLOOKUP(T74,女子種目コード!$D$1:$E$20,2,FALSE))))","v":""},{"$f":"IF(T74=\"\",\"\",HLOOKUP(T74,名簿!$AH$3:$CH$118,69,FALSE))","v":""},"","",null,{"$f":"IF(Y74=\"\",\"\",IF(I74=1,VLOOKUP(Y74,男子種目コード!$D$1:$E$20,2,FALSE),IF(I74=2,VLOOKUP(Y74,女子種目コード!$D$1:$E$20,2,FALSE))))","v":""},null,"","",null,{"$f":"IF(AD74=\"\",\"\",IF(I74=1,VLOOKUP(AD74,男子種目コード!$A$1:$B$33,2,FALSE),IF(V74=2,VLOOKUP(I74,女子種目コード!$A$1:$B$28,2,FALSE))))","v":""},null,null,{"$f":"IF(AG74=\"\",\"\",IF(I74=1,VLOOKUP(AG74,男子種目コード!$A$1:$B$33,2,FALSE),IF(AA74=2,VLOOKUP(I74,女子種目コード!$A$1:$B$28,2,FALSE))))","v":""},null,null,null,null,null,"",0,0,null,null,null,null,null,null,null,null,null,null,null,null,null,null,0,"",""]
["",{"$f":"名簿!P72","v":""},null,null,{"$f":"名簿!E72","v":0},{"$f":"名簿!CM72","v":""},{"$f":"名簿!Z72","v":""},{"$f":"名簿!CM72","v":""},{"$f":"名簿!Y72","v":""},{"$f":"名簿!CN72","v":""},{"$f":"名簿!CP72","v":0},{"$f":"名簿!CU72","v":"00"},{"$f":"名簿!Q72","v":""},{"$f":"名簿!D72","v":0},null,{"$f":"IF(O75=\"\",\"\",IF(I75=1,VLOOKUP(O75,男子種目コード!$D$1:$E$20,2,FALSE),IF(I75=2,VLOOKUP(O75,女子種目コード!$D$1:$E$20,2,FALSE))))","v":""},{"$f":"IF(O75=\"\",\"\",HLOOKUP(O75,名簿!$AH$3:$CH$118,70,FALSE))","v":""},"","",null,{"$f":"IF(T75=\"\",\"\",IF(I75=1,VLOOKUP(T75,男子種目コード!$D$1:$E$20,2,FALSE),IF(I75=2,VLOOKUP(T75,女子種目コード!$D$1:$E$20,2,FALSE))))","v":""},{"$f":"IF(T75=\"\",\"\",HLOOKUP(T75,名簿!$AH$3:$CH$118,70,FALSE))","v":""},"","",null,{"$f":"IF(Y75=\"\",\"\",IF(I75=1,VLOOKUP(Y75,男子種目コード!$D$1:$E$20,2,FALSE),IF(I75=2,VLOOKUP(Y75,女子種目コード!$D$1:$E$20,2,FALSE))))","v":""},null,"","",null,{"$f":"IF(AD75=\"\",\"\",IF(I75=1,VLOOKUP(AD75,男子種目コード!$A$1:$B$33,2,FALSE),IF(V75=2,VLOOKUP(I75,女子種目コード!$A$1:$B$28,2,FALSE))))","v":""},null,null,{"$f":"IF(AG75=\"\",\"\",IF(I75=1,VLOOKUP(AG75,男子種目コード!$A$1:$B$33,2,FALSE),IF(AA75=2,VLOOKUP(I75,女子種目コード!$A$1:$B$28,2,FALSE))))","v":""},null,null,null,null,null,"",0,0,null,null,null,null,null,null,null,null,null,null,null,null,null,null,0,"",""]
["",{"$f":"名簿!P73","v":""},null,null,{"$f":"名簿!E73","v":0},{"$f":"名簿!CM73","v":""},{"$f":"名簿!Z73","v":""},{"$f":"名簿!CM73","v":""},{"$f":"名簿!Y73","v":""},{"$f":"名簿!CN73","v":""},{"$f":"名簿!CP73","v":0},{"$f":"名簿!CU73","v":"00"},{"$f":"名簿!Q73","v":""},{"$f":"名簿!D73","v":0},null,{"$f":"IF(O76=\"\",\"\",IF(I76=1,VLOOKUP(O76,男子種目コード!$D$1:$E$20,2,FALSE),IF(I76=2,VLOOKUP(O76,女子種目コード!$D$1:$E$20,2,FALSE))))","v":""},{"$f":"IF(O76=\"\",\"\",HLOOKUP(O76,名簿!$AH$3:$CH$118,71,FALSE))","v":""},"","",null,{"$f":"IF(T76=\"\",\"\",IF(I76=1,VLOOKUP(T76,男子種目コード!$D$1:$E$20,2,FALSE),IF(I76=2,VLOOKUP(T76,女子種目コード!$D$1:$E$20,2,FALSE))))","v":""},{"$f":"IF(T76=\"\",\"\",HLOOKUP(T76,名簿!$AH$3:$CH$118,71,FALSE))","v":""},"","",null,{"$f":"IF(Y76=\"\",\"\",IF(I76=1,VLOOKUP(Y76,男子種目コード!$D$1:$E$20,2,FALSE),IF(I76=2,VLOOKUP(Y76,女子種目コード!$D$1:$E$20,2,FALSE))))","v":""},null,"","",null,{"$f":"IF(AD76=\"\",\"\",IF(I76=1,VLOOKUP(AD76,男子種目コード!$A$1:$B$33,2,FALSE),IF(V76=2,VLOOKUP(I76,女子種目コード!$A$1:$B$28,2,FALSE))))","v":""},null,null,{"$f":"IF(AG76=\"\",\"\",IF(I76=1,VLOOKUP(AG76,男子種目コード!$A$1:$B$33,2,FALSE),IF(AA76=2,VLOOKUP(I76,女子種目コード!$A$1:$B$28,2,FALSE))))","v":""},null,null,null,null,null,"",0,0,null,null,null,null,null,null,null,null,null,null,null,null,null,null,0,"",""]
["",{"$f":"名簿!P74","v":""},null,null,{"$f":"名簿!E74","v":0},{"$f":"名簿!CM74","v":""},{"$f":"名簿!Z74","v":""},{"$f":"名簿!CM74","v":""},{"$f":"名簿!Y74","v":""},{"$f":"名簿!CN74","v":""},{"$f":"名簿!CP74","v":0},{"$f":"名簿!CU74","v":"00"},{"$f":"名簿!Q74","v":""},{"$f":"名簿!D74","v":0},null,{"$f":"IF(O77=\"\",\"\",IF(I77=1,VLOOKUP(O77,男子種目コード!$D$1:$E$20,2,FALSE),IF(I77=2,VLOOKUP(O77,女子種目コード!$D$1:$E$20,2,FALSE))))","v":""},{"$f":"IF(O77=\"\",\"\",HLOOKUP(O77,名簿!$AH$3:$CH$118,72,FALSE))","v":""},"","",null,{"$f":"IF(T77=\"\",\"\",IF(I77=1,VLOOKUP(T77,男子種目コード!$D$1:$E$20,2,FALSE),IF(I77=2,VLOOKUP(T77,女子種目コード!$D$1:$E$20,2,FALSE))))","v":""},{"$f":"IF(T77=\"\",\"\",HLOOKUP(T77,名簿!$AH$3:$CH$118,72,FALSE))","v":""},"","",null,{"$f":"IF(Y77=\"\",\"\",IF(I77=1,VLOOKUP(Y77,男子種目コード!$D$1:$E$20,2,FALSE),IF(I77=2,VLOOKUP(Y77,女子種目コード!$D$1:$E$20,2,FALSE))))","v":""},null,"","",null,{"$f":"IF(AD77=\"\",\"\",IF(I77=1,VLOOKUP(AD77,男子種目コード!$A$1:$B$33,2,FALSE),IF(V77=2,VLOOKUP(I77,女子種目コード!$A$1:$B$28,2,FALSE))))","v":""},null,null,{"$f":"IF(AG77=\"\",\"\",IF(I77=1,VLOOKUP(AG77,男子種目コード!$A$1:$B$33,2,FALSE),IF(AA77=2,VLOOKUP(I77,女子種目コード!$A$1:$B$28,2,FALSE))))","v":""},null,null,null,null,null,"",0,0,null,null,null,null,null,null,null,null,null,null,null,null,null,null,0,"",""]
["",{"$f":"名簿!P75","v":""},null,null,{"$f":"名簿!E75","v":0},{"$f":"名簿!CM75","v":""},{"$f":"名簿!Z75","v":""},{"$f":"名簿!CM75","v":""},{"$f":"名簿!Y75","v":""},{"$f":"名簿!CN75","v":""},{"$f":"名簿!CP75","v":0},{"$f":"名簿!CU75","v":"00"},{"$f":"名簿!Q75","v":""},{"$f":"名簿!D75","v":0},null,{"$f":"IF(O78=\"\",\"\",IF(I78=1,VLOOKUP(O78,男子種目コード!$D$1:$E$20,2,FALSE),IF(I78=2,VLOOKUP(O78,女子種目コード!$D$1:$E$20,2,FALSE))))","v":""},{"$f":"IF(O78=\"\",\"\",HLOOKUP(O78,名簿!$AH$3:$CH$118,73,FALSE))","v":""},"","",null,{"$f":"IF(T78=\"\",\"\",IF(I78=1,VLOOKUP(T78,男子種目コード!$D$1:$E$20,2,FALSE),IF(I78=2,VLOOKUP(T78,女子種目コード!$D$1:$E$20,2,FALSE))))","v":""},{"$f":"IF(T78=\"\",\"\",HLOOKUP(T78,名簿!$AH$3:$CH$118,73,FALSE))","v":""},"","",null,{"$f":"IF(Y78=\"\",\"\",IF(I78=1,VLOOKUP(Y78,男子種目コード!$D$1:$E$20,2,FALSE),IF(I78=2,VLOOKUP(Y78,女子種目コード!$D$1:$E$20,2,FALSE))))","v":""},null,"","",null,{"$f":"IF(AD78=\"\",\"\",IF(I78=1,VLOOKUP(AD78,男子種目コード!$A$1:$B$33,2,FALSE),IF(V78=2,VLOOKUP(I78,女子種目コード!$A$1:$B$28,2,FALSE))))","v":""},null,null,{"$f":"IF(AG78=\"\",\"\",IF(I78=1,VLOOKUP(AG78,男子種目コード!$A$1:$B$33,2,FALSE),IF(AA78=2,VLOOKUP(I78,女子種目コード!$A$1:$B$28,2,FALSE))))","v":""},null,null,null,null,null,"",0,0,null,null,null,null,null,null,null,null,null,null,null,null,null,null,0,"",""]
["",{"$f":"名簿!P76","v":""},null,null,{"$f":"名簿!E76","v":0},{"$f":"名簿!CM76","v":""},{"$f":"名簿!Z76","v":""},{"$f":"名簿!CM76","v":""},{"$f":"名簿!Y76","v":""},{"$f":"名簿!CN76","v":""},{"$f":"名簿!CP76","v":0},{"$f":"名簿!CU76","v":"00"},{"$f":"名簿!Q76","v":""},{"$f":"名簿!D76","v":0},null,{"$f":"IF(O79=\"\",\"\",IF(I79=1,VLOOKUP(O79,男子種目コード!$D$1:$E$20,2,FALSE),IF(I79=2,VLOOKUP(O79,女子種目コード!$D$1:$E$20,2,FALSE))))","v":""},{"$f":"IF(O79=\"\",\"\",HLOOKUP(O79,名簿!$AH$3:$CH$118,74,FALSE))","v":""},"","",null,{"$f":"IF(T79=\"\",\"\",IF(I79=1,VLOOKUP(T79,男子種目コード!$D$1:$E$20,2,FALSE),IF(I79=2,VLOOKUP(T79,女子種目コード!$D$1:$E$20,2,FALSE))))","v":""},{"$f":"IF(T79=\"\",\"\",HLOOKUP(T79,名簿!$AH$3:$CH$118,74,FALSE))","v":""},"","",null,{"$f":"IF(Y79=\"\",\"\",IF(I79=1,VLOOKUP(Y79,男子種目コード!$D$1:$E$20,2,FALSE),IF(I79=2,VLOOKUP(Y79,女子種目コード!$D$1:$E$20,2,FALSE))))","v":""},null,"","",null,{"$f":"IF(AD79=\"\",\"\",IF(I79=1,VLOOKUP(AD79,男子種目コード!$A$1:$B$33,2,FALSE),IF(V79=2,VLOOKUP(I79,女子種目コード!$A$1:$B$28,2,FALSE))))","v":""},null,null,{"$f":"IF(AG79=\"\",\"\",IF(I79=1,VLOOKUP(AG79,男子種目コード!$A$1:$B$33,2,FALSE),IF(AA79=2,VLOOKUP(I79,女子種目コード!$A$1:$B$28,2,FALSE))))","v":""},null,null,null,null,null,"",0,0,null,null,null,null,null,null,null,null,null,null,null,null,null,null,0,"",""]
["",{"$f":"名簿!P77","v":""},null,null,{"$f":"名簿!E77","v":0},{"$f":"名簿!CM77","v":""},{"$f":"名簿!Z77","v":""},{"$f":"名簿!CM77","v":""},{"$f":"名簿!Y77","v":""},{"$f":"名簿!CN77","v":""},{"$f":"名簿!CP77","v":0},{"$f":"名簿!CU77","v":"00"},{"$f":"名簿!Q77","v":""},{"$f":"名簿!D77","v":0},null,{"$f":"IF(O80=\"\",\"\",IF(I80=1,VLOOKUP(O80,男子種目コード!$D$1:$E$20,2,FALSE),IF(I80=2,VLOOKUP(O80,女子種目コード!$D$1:$E$20,2,FALSE))))","v":""},{"$f":"IF(O80=\"\",\"\",HLOOKUP(O80,名簿!$AH$3:$CH$118,75,FALSE))","v":""},"","",null,{"$f":"IF(T80=\"\",\"\",IF(I80=1,VLOOKUP(T80,男子種目コード!$D$1:$E$20,2,FALSE),IF(I80=2,VLOOKUP(T80,女子種目コード!$D$1:$E$20,2,FALSE))))","v":""},{"$f":"IF(T80=\"\",\"\",HLOOKUP(T80,名簿!$AH$3:$CH$118,75,FALSE))","v":""},"","",null,{"$f":"IF(Y80=\"\",\"\",IF(I80=1,VLOOKUP(Y80,男子種目コード!$D$1:$E$20,2,FALSE),IF(I80=2,VLOOKUP(Y80,女子種目コード!$D$1:$E$20,2,FALSE))))","v":""},null,"","",null,{"$f":"IF(AD80=\"\",\"\",IF(I80=1,VLOOKUP(AD80,男子種目コード!$A$1:$B$33,2,FALSE),IF(V80=2,VLOOKUP(I80,女子種目コード!$A$1:$B$28,2,FALSE))))","v":""},null,null,{"$f":"IF(AG80=\"\",\"\",IF(I80=1,VLOOKUP(AG80,男子種目コード!$A$1:$B$33,2,FALSE),IF(AA80=2,VLOOKUP(I80,女子種目コード!$A$1:$B$28,2,FALSE))))","v":""},null,null,null,null,null,"",0,0,null,null,null,null,null,null,null,null,null,null,null,null,null,null,0,"",""]
["",{"$f":"名簿!P78","v":""},null,null,{"$f":"名簿!E78","v":0},{"$f":"名簿!CM78","v":""},{"$f":"名簿!Z78","v":""},{"$f":"名簿!CM78","v":""},{"$f":"名簿!Y78","v":""},{"$f":"名簿!CN78","v":""},{"$f":"名簿!CP78","v":0},{"$f":"名簿!CU78","v":"00"},{"$f":"名簿!Q78","v":""},{"$f":"名簿!D78","v":0},null,{"$f":"IF(O81=\"\",\"\",IF(I81=1,VLOOKUP(O81,男子種目コード!$D$1:$E$20,2,FALSE),IF(I81=2,VLOOKUP(O81,女子種目コード!$D$1:$E$20,2,FALSE))))","v":""},{"$f":"IF(O81=\"\",\"\",HLOOKUP(O81,名簿!$AH$3:$CH$118,76,FALSE))","v":""},"","",null,{"$f":"IF(T81=\"\",\"\",IF(I81=1,VLOOKUP(T81,男子種目コード!$D$1:$E$20,2,FALSE),IF(I81=2,VLOOKUP(T81,女子種目コード!$D$1:$E$20,2,FALSE))))","v":""},{"$f":"IF(T81=\"\",\"\",HLOOKUP(T81,名簿!$AH$3:$CH$118,76,FALSE))","v":""},"","",null,{"$f":"IF(Y81=\"\",\"\",IF(I81=1,VLOOKUP(Y81,男子種目コード!$D$1:$E$20,2,FALSE),IF(I81=2,VLOOKUP(Y81,女子種目コード!$D$1:$E$20,2,FALSE))))","v":""},null,"","",null,{"$f":"IF(AD81=\"\",\"\",IF(I81=1,VLOOKUP(AD81,男子種目コード!$A$1:$B$33,2,FALSE),IF(V81=2,VLOOKUP(I81,女子種目コード!$A$1:$B$28,2,FALSE))))","v":""},null,null,{"$f":"IF(AG81=\"\",\"\",IF(I81=1,VLOOKUP(AG81,男子種目コード!$A$1:$B$33,2,FALSE),IF(AA81=2,VLOOKUP(I81,女子種目コード!$A$1:$B$28,2,FALSE))))","v":""},null,null,null,null,null,"",0,0,null,null,null,null,null,null,null,null,null,null,null,null,null,null,0,"",""]
["",{"$f":"名簿!P79","v":""},null,null,{"$f":"名簿!E79","v":0},{"$f":"名簿!CM79","v":""},{"$f":"名簿!Z79","v":""},{"$f":"名簿!CM79","v":""},{"$f":"名簿!Y79","v":""},{"$f":"名簿!CN79","v":""},{"$f":"名簿!CP79","v":0},{"$f":"名簿!CU79","v":"00"},{"$f":"名簿!Q79","v":""},{"$f":"名簿!D79","v":0},null,{"$f":"IF(O82=\"\",\"\",IF(I82=1,VLOOKUP(O82,男子種目コード!$D$1:$E$20,2,FALSE),IF(I82=2,VLOOKUP(O82,女子種目コード!$D$1:$E$20,2,FALSE))))","v":""},{"$f":"IF(O82=\"\",\"\",HLOOKUP(O82,名簿!$AH$3:$CH$118,77,FALSE))","v":""},"","",null,{"$f":"IF(T82=\"\",\"\",IF(I82=1,VLOOKUP(T82,男子種目コード!$D$1:$E$20,2,FALSE),IF(I82=2,VLOOKUP(T82,女子種目コード!$D$1:$E$20,2,FALSE))))","v":""},{"$f":"IF(T82=\"\",\"\",HLOOKUP(T82,名簿!$AH$3:$CH$118,77,FALSE))","v":""},"","",null,{"$f":"IF(Y82=\"\",\"\",IF(I82=1,VLOOKUP(Y82,男子種目コード!$D$1:$E$20,2,FALSE),IF(I82=2,VLOOKUP(Y82,女子種目コード!$D$1:$E$20,2,FALSE))))","v":""},null,"","",null,{"$f":"IF(AD82=\"\",\"\",IF(I82=1,VLOOKUP(AD82,男子種目コード!$A$1:$B$33,2,FALSE),IF(V82=2,VLOOKUP(I82,女子種目コード!$A$1:$B$28,2,FALSE))))","v":""},null,null,{"$f":"IF(AG82=\"\",\"\",IF(I82=1,VLOOKUP(AG82,男子種目コード!$A$1:$B$33,2,FALSE),IF(AA82=2,VLOOKUP(I82,女子種目コード!$A$1:$B$28,2,FALSE))))","v":""},null,null,null,null,null,"",0,0,null,null,null,null,null,null,null,null,null,null,null,null,null,null,0,"",""]
["",{"$f":"名簿!P80","v":""},null,null,{"$f":"名簿!E80","v":0},{"$f":"名簿!CM80","v":""},{"$f":"名簿!Z80","v":""},{"$f":"名簿!CM80","v":""},{"$f":"名簿!Y80","v":""},{"$f":"名簿!CN80","v":""},{"$f":"名簿!CP80","v":0},{"$f":"名簿!CU80","v":"00"},{"$f":"名簿!Q80","v":""},{"$f":"名簿!D80","v":0},null,{"$f":"IF(O83=\"\",\"\",IF(I83=1,VLOOKUP(O83,男子種目コード!$D$1:$E$20,2,FALSE),IF(I83=2,VLOOKUP(O83,女子種目コード!$D$1:$E$20,2,FALSE))))","v":""},{"$f":"IF(O83=\"\",\"\",HLOOKUP(O83,名簿!$AH$3:$CH$118,78,FALSE))","v":""},"","",null,{"$f":"IF(T83=\"\",\"\",IF(I83=1,VLOOKUP(T83,男子種目コード!$D$1:$E$20,2,FALSE),IF(I83=2,VLOOKUP(T83,女子種目コード!$D$1:$E$20,2,FALSE))))","v":""},{"$f":"IF(T83=\"\",\"\",HLOOKUP(T83,名簿!$AH$3:$CH$118,78,FALSE))","v":""},"","",null,{"$f":"IF(Y83=\"\",\"\",IF(I83=1,VLOOKUP(Y83,男子種目コード!$D$1:$E$20,2,FALSE),IF(I83=2,VLOOKUP(Y83,女子種目コード!$D$1:$E$20,2,FALSE))))","v":""},null,"","",null,{"$f":"IF(AD83=\"\",\"\",IF(I83=1,VLOOKUP(AD83,男子種目コード!$A$1:$B$33,2,FALSE),IF(V83=2,VLOOKUP(I83,女子種目コード!$A$1:$B$28,2,FALSE))))","v":""},null,null,{"$f":"IF(AG83=\"\",\"\",IF(I83=1,VLOOKUP(AG83,男子種目コード!$A$1:$B$33,2,FALSE),IF(AA83=2,VLOOKUP(I83,女子種目コード!$A$1:$B$28,2,FALSE))))","v":""},null,null,null,null,null,"",0,0,null,null,null,null,null,null,null,null,null,null,null,null,null,null,0,"",""]
["",{"$f":"名簿!P81","v":""},null,null,{"$f":"名簿!E81","v":0},{"$f":"名簿!CM81","v":""},{"$f":"名簿!Z81","v":""},{"$f":"名簿!CM81","v":""},{"$f":"名簿!Y81","v":""},{"$f":"名簿!CN81","v":""},{"$f":"名簿!CP81","v":0},{"$f":"名簿!CU81","v":"00"},{"$f":"名簿!Q81","v":""},{"$f":"名簿!D81","v":0},null,{"$f":"IF(O84=\"\",\"\",IF(I84=1,VLOOKUP(O84,男子種目コード!$D$1:$E$20,2,FALSE),IF(I84=2,VLOOKUP(O84,女子種目コード!$D$1:$E$20,2,FALSE))))","v":""},{"$f":"IF(O84=\"\",\"\",HLOOKUP(O84,名簿!$AH$3:$CH$118,79,FALSE))","v":""},"","",null,{"$f":"IF(T84=\"\",\"\",IF(I84=1,VLOOKUP(T84,男子種目コード!$D$1:$E$20,2,FALSE),IF(I84=2,VLOOKUP(T84,女子種目コード!$D$1:$E$20,2,FALSE))))","v":""},{"$f":"IF(T84=\"\",\"\",HLOOKUP(T84,名簿!$AH$3:$CH$118,79,FALSE))","v":""},"","",null,{"$f":"IF(Y84=\"\",\"\",IF(I84=1,VLOOKUP(Y84,男子種目コード!$D$1:$E$20,2,FALSE),IF(I84=2,VLOOKUP(Y84,女子種目コード!$D$1:$E$20,2,FALSE))))","v":""},null,"","",null,{"$f":"IF(AD84=\"\",\"\",IF(I84=1,VLOOKUP(AD84,男子種目コード!$A$1:$B$33,2,FALSE),IF(V84=2,VLOOKUP(I84,女子種目コード!$A$1:$B$28,2,FALSE))))","v":""},null,null,{"$f":"IF(AG84=\"\",\"\",IF(I84=1,VLOOKUP(AG84,男子種目コード!$A$1:$B$33,2,FALSE),IF(AA84=2,VLOOKUP(I84,女子種目コード!$A$1:$B$28,2,FALSE))))","v":""},null,null,null,null,null,"",0,0,null,null,null,null,null,null,null,null,null,null,null,null,null,null,0,"",""]
["",{"$f":"名簿!P82","v":""},null,null,{"$f":"名簿!E82","v":0},{"$f":"名簿!CM82","v":""},{"$f":"名簿!Z82","v":""},{"$f":"名簿!CM82","v":""},{"$f":"名簿!Y82","v":""},{"$f":"名簿!CN82","v":""},{"$f":"名簿!CP82","v":0},{"$f":"名簿!CU82","v":"00"},{"$f":"名簿!Q82","v":""},{"$f":"名簿!D82","v":0},null,{"$f":"IF(O85=\"\",\"\",IF(I85=1,VLOOKUP(O85,男子種目コード!$D$1:$E$20,2,FALSE),IF(I85=2,VLOOKUP(O85,女子種目コード!$D$1:$E$20,2,FALSE))))","v":""},{"$f":"IF(O85=\"\",\"\",HLOOKUP(O85,名簿!$AH$3:$CH$118,80,FALSE))","v":""},"","",null,{"$f":"IF(T85=\"\",\"\",IF(I85=1,VLOOKUP(T85,男子種目コード!$D$1:$E$20,2,FALSE),IF(I85=2,VLOOKUP(T85,女子種目コード!$D$1:$E$20,2,FALSE))))","v":""},{"$f":"IF(T85=\"\",\"\",HLOOKUP(T85,名簿!$AH$3:$CH$118,80,FALSE))","v":""},"","",null,{"$f":"IF(Y85=\"\",\"\",IF(I85=1,VLOOKUP(Y85,男子種目コード!$D$1:$E$20,2,FALSE),IF(I85=2,VLOOKUP(Y85,女子種目コード!$D$1:$E$20,2,FALSE))))","v":""},null,"","",null,{"$f":"IF(AD85=\"\",\"\",IF(I85=1,VLOOKUP(AD85,男子種目コード!$A$1:$B$33,2,FALSE),IF(V85=2,VLOOKUP(I85,女子種目コード!$A$1:$B$28,2,FALSE))))","v":""},null,null,{"$f":"IF(AG85=\"\",\"\",IF(I85=1,VLOOKUP(AG85,男子種目コード!$A$1:$B$33,2,FALSE),IF(AA85=2,VLOOKUP(I85,女子種目コード!$A$1:$B$28,2,FALSE))))","v":""},null,null,null,null,null,"",0,0,null,null,null,null,null,null,null,null,null,null,null,null,null,null,0,"",""]
["",{"$f":"名簿!P83","v":""},null,null,{"$f":"名簿!E83","v":0},{"$f":"名簿!CM83","v":""},{"$f":"名簿!Z83","v":""},{"$f":"名簿!CM83","v":""},{"$f":"名簿!Y83","v":""},{"$f":"名簿!CN83","v":""},{"$f":"名簿!CP83","v":0},{"$f":"名簿!CU83","v":"00"},{"$f":"名簿!Q83","v":""},{"$f":"名簿!D83","v":0},null,{"$f":"IF(O86=\"\",\"\",IF(I86=1,VLOOKUP(O86,男子種目コード!$D$1:$E$20,2,FALSE),IF(I86=2,VLOOKUP(O86,女子種目コード!$D$1:$E$20,2,FALSE))))","v":""},{"$f":"IF(O86=\"\",\"\",HLOOKUP(O86,名簿!$AH$3:$CH$118,81,FALSE))","v":""},"","",null,{"$f":"IF(T86=\"\",\"\",IF(I86=1,VLOOKUP(T86,男子種目コード!$D$1:$E$20,2,FALSE),IF(I86=2,VLOOKUP(T86,女子種目コード!$D$1:$E$20,2,FALSE))))","v":""},{"$f":"IF(T86=\"\",\"\",HLOOKUP(T86,名簿!$AH$3:$CH$118,81,FALSE))","v":""},"","",null,{"$f":"IF(Y86=\"\",\"\",IF(I86=1,VLOOKUP(Y86,男子種目コード!$D$1:$E$20,2,FALSE),IF(I86=2,VLOOKUP(Y86,女子種目コード!$D$1:$E$20,2,FALSE))))","v":""},null,"","",null,{"$f":"IF(AD86=\"\",\"\",IF(I86=1,VLOOKUP(AD86,男子種目コード!$A$1:$B$33,2,FALSE),IF(V86=2,VLOOKUP(I86,女子種目コード!$A$1:$B$28,2,FALSE))))","v":""},null,null,{"$f":"IF(AG86=\"\",\"\",IF(I86=1,VLOOKUP(AG86,男子種目コード!$A$1:$B$33,2,FALSE),IF(AA86=2,VLOOKUP(I86,女子種目コード!$A$1:$B$28,2,FALSE))))","v":""},null,null,null,null,null,"",0,0,null,null,null,null,null,null,null,null,null,null,null,null,null,null,0,"",""]
["",{"$f":"名簿!P84","v":""},null,null,{"$f":"名簿!E84","v":0},{"$f":"名簿!CM84","v":""},{"$f":"名簿!Z84","v":""},{"$f":"名簿!CM84","v":""},{"$f":"名簿!Y84","v":""},{"$f":"名簿!CN84","v":""},{"$f":"名簿!CP84","v":0},{"$f":"名簿!CU84","v":"00"},{"$f":"名簿!Q84","v":""},{"$f":"名簿!D84","v":0},null,{"$f":"IF(O87=\"\",\"\",IF(I87=1,VLOOKUP(O87,男子種目コード!$D$1:$E$20,2,FALSE),IF(I87=2,VLOOKUP(O87,女子種目コード!$D$1:$E$20,2,FALSE))))","v":""},{"$f":"IF(O87=\"\",\"\",HLOOKUP(O87,名簿!$AH$3:$CH$118,82,FALSE))","v":""},"","",null,{"$f":"IF(T87=\"\",\"\",IF(I87=1,VLOOKUP(T87,男子種目コード!$D$1:$E$20,2,FALSE),IF(I87=2,VLOOKUP(T87,女子種目コード!$D$1:$E$20,2,FALSE))))","v":""},{"$f":"IF(T87=\"\",\"\",HLOOKUP(T87,名簿!$AH$3:$CH$118,82,FALSE))","v":""},"","",null,{"$f":"IF(Y87=\"\",\"\",IF(I87=1,VLOOKUP(Y87,男子種目コード!$D$1:$E$20,2,FALSE),IF(I87=2,VLOOKUP(Y87,女子種目コード!$D$1:$E$20,2,FALSE))))","v":""},null,"","",null,{"$f":"IF(AD87=\"\",\"\",IF(I87=1,VLOOKUP(AD87,男子種目コード!$A$1:$B$33,2,FALSE),IF(V87=2,VLOOKUP(I87,女子種目コード!$A$1:$B$28,2,FALSE))))","v":""},null,null,{"$f":"IF(AG87=\"\",\"\",IF(I87=1,VLOOKUP(AG87,男子種目コード!$A$1:$B$33,2,FALSE),IF(AA87=2,VLOOKUP(I87,女子種目コード!$A$1:$B$28,2,FALSE))))","v":""},null,null,null,null,null,"",0,0,null,null,null,null,null,null,null,null,null,null,null,null,null,null,0,"",""]
["",{"$f":"名簿!P85","v":""},null,null,{"$f":"名簿!E85","v":0},{"$f":"名簿!CM85","v":""},{"$f":"名簿!Z85","v":""},{"$f":"名簿!CM85","v":""},{"$f":"名簿!Y85","v":""},{"$f":"名簿!CN85","v":""},{"$f":"名簿!CP85","v":0},{"$f":"名簿!CU85","v":"00"},{"$f":"名簿!Q85","v":""},{"$f":"名簿!D85","v":0},null,{"$f":"IF(O88=\"\",\"\",IF(I88=1,VLOOKUP(O88,男子種目コード!$D$1:$E$20,2,FALSE),IF(I88=2,VLOOKUP(O88,女子種目コード!$D$1:$E$20,2,FALSE))))","v":""},{"$f":"IF(O88=\"\",\"\",HLOOKUP(O88,名簿!$AH$3:$CH$118,83,FALSE))","v":""},"","",null,{"$f":"IF(T88=\"\",\"\",IF(I88=1,VLOOKUP(T88,男子種目コード!$D$1:$E$20,2,FALSE),IF(I88=2,VLOOKUP(T88,女子種目コード!$D$1:$E$20,2,FALSE))))","v":""},{"$f":"IF(T88=\"\",\"\",HLOOKUP(T88,名簿!$AH$3:$CH$118,83,FALSE))","v":""},"","",null,{"$f":"IF(Y88=\"\",\"\",IF(I88=1,VLOOKUP(Y88,男子種目コード!$D$1:$E$20,2,FALSE),IF(I88=2,VLOOKUP(Y88,女子種目コード!$D$1:$E$20,2,FALSE))))","v":""},null,"","",null,{"$f":"IF(AD88=\"\",\"\",IF(I88=1,VLOOKUP(AD88,男子種目コード!$A$1:$B$33,2,FALSE),IF(V88=2,VLOOKUP(I88,女子種目コード!$A$1:$B$28,2,FALSE))))","v":""},null,null,{"$f":"IF(AG88=\"\",\"\",IF(I88=1,VLOOKUP(AG88,男子種目コード!$A$1:$B$33,2,FALSE),IF(AA88=2,VLOOKUP(I88,女子種目コード!$A$1:$B$28,2,FALSE))))","v":""},null,null,null,null,null,"",0,0,null,null,null,null,null,null,null,null,null,null,null,null,null,null,0,"",""]
["",{"$f":"名簿!P86","v":""},null,null,{"$f":"名簿!E86","v":0},{"$f":"名簿!CM86","v":""},{"$f":"名簿!Z86","v":""},{"$f":"名簿!CM86","v":""},{"$f":"名簿!Y86","v":""},{"$f":"名簿!CN86","v":""},{"$f":"名簿!CP86","v":0},{"$f":"名簿!CU86","v":"00"},{"$f":"名簿!Q86","v":""},{"$f":"名簿!D86","v":0},null,{"$f":"IF(O89=\"\",\"\",IF(I89=1,VLOOKUP(O89,男子種目コード!$D$1:$E$20,2,FALSE),IF(I89=2,VLOOKUP(O89,女子種目コード!$D$1:$E$20,2,FALSE))))","v":""},{"$f":"IF(O89=\"\",\"\",HLOOKUP(O89,名簿!$AH$3:$CH$118,84,FALSE))","v":""},"","",null,{"$f":"IF(T89=\"\",\"\",IF(I89=1,VLOOKUP(T89,男子種目コード!$D$1:$E$20,2,FALSE),IF(I89=2,VLOOKUP(T89,女子種目コード!$D$1:$E$20,2,FALSE))))","v":""},{"$f":"IF(T89=\"\",\"\",HLOOKUP(T89,名簿!$AH$3:$CH$118,84,FALSE))","v":""},"","",null,{"$f":"IF(Y89=\"\",\"\",IF(I89=1,VLOOKUP(Y89,男子種目コード!$D$1:$E$20,2,FALSE),IF(I89=2,VLOOKUP(Y89,女子種目コード!$D$1:$E$20,2,FALSE))))","v":""},null,"","",null,{"$f":"IF(AD89=\"\",\"\",IF(I89=1,VLOOKUP(AD89,男子種目コード!$A$1:$B$33,2,FALSE),IF(V89=2,VLOOKUP(I89,女子種目コード!$A$1:$B$28,2,FALSE))))","v":""},null,null,{"$f":"IF(AG89=\"\",\"\",IF(I89=1,VLOOKUP(AG89,男子種目コード!$A$1:$B$33,2,FALSE),IF(AA89=2,VLOOKUP(I89,女子種目コード!$A$1:$B$28,2,FALSE))))","v":""},null,null,null,null,null,"",0,0,null,null,null,null,null,null,null,null,null,null,null,null,null,null,0,"",""]
["",{"$f":"名簿!P87","v":""},null,null,{"$f":"名簿!E87","v":0},{"$f":"名簿!CM87","v":""},{"$f":"名簿!Z87","v":""},{"$f":"名簿!CM87","v":""},{"$f":"名簿!Y87","v":""},{"$f":"名簿!CN87","v":""},{"$f":"名簿!CP87","v":0},{"$f":"名簿!CU87","v":"00"},{"$f":"名簿!Q87","v":""},{"$f":"名簿!D87","v":0},null,{"$f":"IF(O90=\"\",\"\",IF(I90=1,VLOOKUP(O90,男子種目コード!$D$1:$E$20,2,FALSE),IF(I90=2,VLOOKUP(O90,女子種目コード!$D$1:$E$20,2,FALSE))))","v":""},{"$f":"IF(O90=\"\",\"\",HLOOKUP(O90,名簿!$AH$3:$CH$118,85,FALSE))","v":""},"","",null,{"$f":"IF(T90=\"\",\"\",IF(I90=1,VLOOKUP(T90,男子種目コード!$D$1:$E$20,2,FALSE),IF(I90=2,VLOOKUP(T90,女子種目コード!$D$1:$E$20,2,FALSE))))","v":""},{"$f":"IF(T90=\"\",\"\",HLOOKUP(T90,名簿!$AH$3:$CH$118,85,FALSE))","v":""},"","",null,{"$f":"IF(Y90=\"\",\"\",IF(I90=1,VLOOKUP(Y90,男子種目コード!$D$1:$E$20,2,FALSE),IF(I90=2,VLOOKUP(Y90,女子種目コード!$D$1:$E$20,2,FALSE))))","v":""},null,"","",null,{"$f":"IF(AD90=\"\",\"\",IF(I90=1,VLOOKUP(AD90,男子種目コード!$A$1:$B$33,2,FALSE),IF(V90=2,VLOOKUP(I90,女子種目コード!$A$1:$B$28,2,FALSE))))","v":""},null,null,{"$f":"IF(AG90=\"\",\"\",IF(I90=1,VLOOKUP(AG90,男子種目コード!$A$1:$B$33,2,FALSE),IF(AA90=2,VLOOKUP(I90,女子種目コード!$A$1:$B$28,2,FALSE))))","v":""},null,null,null,null,null,"",0,0,null,null,null,null,null,null,null,null,null,null,null,null,null,null,0,"",""]
["",{"$f":"名簿!P88","v":""},null,null,{"$f":"名簿!E88","v":0},{"$f":"名簿!CM88","v":""},{"$f":"名簿!Z88","v":""},{"$f":"名簿!CM88","v":""},{"$f":"名簿!Y88","v":""},{"$f":"名簿!CN88","v":""},{"$f":"名簿!CP88","v":0},{"$f":"名簿!CU88","v":"00"},{"$f":"名簿!Q88","v":""},{"$f":"名簿!D88","v":0},null,{"$f":"IF(O91=\"\",\"\",IF(I91=1,VLOOKUP(O91,男子種目コード!$D$1:$E$20,2,FALSE),IF(I91=2,VLOOKUP(O91,女子種目コード!$D$1:$E$20,2,FALSE))))","v":""},{"$f":"IF(O91=\"\",\"\",HLOOKUP(O91,名簿!$AH$3:$CH$118,86,FALSE))","v":""},"","",null,{"$f":"IF(T91=\"\",\"\",IF(I91=1,VLOOKUP(T91,男子種目コード!$D$1:$E$20,2,FALSE),IF(I91=2,VLOOKUP(T91,女子種目コード!$D$1:$E$20,2,FALSE))))","v":""},{"$f":"IF(T91=\"\",\"\",HLOOKUP(T91,名簿!$AH$3:$CH$118,86,FALSE))","v":""},"","",null,{"$f":"IF(Y91=\"\",\"\",IF(I91=1,VLOOKUP(Y91,男子種目コード!$D$1:$E$20,2,FALSE),IF(I91=2,VLOOKUP(Y91,女子種目コード!$D$1:$E$20,2,FALSE))))","v":""},null,"","",null,{"$f":"IF(AD91=\"\",\"\",IF(I91=1,VLOOKUP(AD91,男子種目コード!$A$1:$B$33,2,FALSE),IF(V91=2,VLOOKUP(I91,女子種目コード!$A$1:$B$28,2,FALSE))))","v":""},null,null,{"$f":"IF(AG91=\"\",\"\",IF(I91=1,VLOOKUP(AG91,男子種目コード!$A$1:$B$33,2,FALSE),IF(AA91=2,VLOOKUP(I91,女子種目コード!$A$1:$B$28,2,FALSE))))","v":""},null,null,null,null,null,"",0,0,null,null,null,null,null,null,null,null,null,null,null,null,null,null,0,"",""]
["",{"$f":"名簿!P89","v":""},null,null,{"$f":"名簿!E89","v":0},{"$f":"名簿!CM89","v":""},{"$f":"名簿!Z89","v":""},{"$f":"名簿!CM89","v":""},{"$f":"名簿!Y89","v":""},{"$f":"名簿!CN89","v":""},{"$f":"名簿!CP89","v":0},{"$f":"名簿!CU89","v":"00"},{"$f":"名簿!Q89","v":""},{"$f":"名簿!D89","v":0},null,{"$f":"IF(O92=\"\",\"\",IF(I92=1,VLOOKUP(O92,男子種目コード!$D$1:$E$20,2,FALSE),IF(I92=2,VLOOKUP(O92,女子種目コード!$D$1:$E$20,2,FALSE))))","v":""},{"$f":"IF(O92=\"\",\"\",HLOOKUP(O92,名簿!$AH$3:$CH$118,87,FALSE))","v":""},"","",null,{"$f":"IF(T92=\"\",\"\",IF(I92=1,VLOOKUP(T92,男子種目コード!$D$1:$E$20,2,FALSE),IF(I92=2,VLOOKUP(T92,女子種目コード!$D$1:$E$20,2,FALSE))))","v":""},{"$f":"IF(T92=\"\",\"\",HLOOKUP(T92,名簿!$AH$3:$CH$118,87,FALSE))","v":""},"","",null,{"$f":"IF(Y92=\"\",\"\",IF(I92=1,VLOOKUP(Y92,男子種目コード!$D$1:$E$20,2,FALSE),IF(I92=2,VLOOKUP(Y92,女子種目コード!$D$1:$E$20,2,FALSE))))","v":""},null,"","",null,{"$f":"IF(AD92=\"\",\"\",IF(I92=1,VLOOKUP(AD92,男子種目コード!$A$1:$B$33,2,FALSE),IF(V92=2,VLOOKUP(I92,女子種目コード!$A$1:$B$28,2,FALSE))))","v":""},null,null,{"$f":"IF(AG92=\"\",\"\",IF(I92=1,VLOOKUP(AG92,男子種目コード!$A$1:$B$33,2,FALSE),IF(AA92=2,VLOOKUP(I92,女子種目コード!$A$1:$B$28,2,FALSE))))","v":""},null,null,null,null,null,"",0,0,null,null,null,null,null,null,null,null,null,null,null,null,null,null,0,"",""]
["",{"$f":"名簿!P90","v":""},null,null,{"$f":"名簿!E90","v":0},{"$f":"名簿!CM90","v":""},{"$f":"名簿!Z90","v":""},{"$f":"名簿!CM90","v":""},{"$f":"名簿!Y90","v":""},{"$f":"名簿!CN90","v":""},{"$f":"名簿!CP90","v":0},{"$f":"名簿!CU90","v":"00"},{"$f":"名簿!Q90","v":""},{"$f":"名簿!D90","v":0},null,{"$f":"IF(O93=\"\",\"\",IF(I93=1,VLOOKUP(O93,男子種目コード!$D$1:$E$20,2,FALSE),IF(I93=2,VLOOKUP(O93,女子種目コード!$D$1:$E$20,2,FALSE))))","v":""},{"$f":"IF(O93=\"\",\"\",HLOOKUP(O93,名簿!$AH$3:$CH$118,88,FALSE))","v":""},"","",null,{"$f":"IF(T93=\"\",\"\",IF(I93=1,VLOOKUP(T93,男子種目コード!$D$1:$E$20,2,FALSE),IF(I93=2,VLOOKUP(T93,女子種目コード!$D$1:$E$20,2,FALSE))))","v":""},{"$f":"IF(T93=\"\",\"\",HLOOKUP(T93,名簿!$AH$3:$CH$118,88,FALSE))","v":""},"","",null,{"$f":"IF(Y93=\"\",\"\",IF(I93=1,VLOOKUP(Y93,男子種目コード!$D$1:$E$20,2,FALSE),IF(I93=2,VLOOKUP(Y93,女子種目コード!$D$1:$E$20,2,FALSE))))","v":""},null,"","",null,{"$f":"IF(AD93=\"\",\"\",IF(I93=1,VLOOKUP(AD93,男子種目コード!$A$1:$B$33,2,FALSE),IF(V93=2,VLOOKUP(I93,女子種目コード!$A$1:$B$28,2,FALSE))))","v":""},null,null,{"$f":"IF(AG93=\"\",\"\",IF(I93=1,VLOOKUP(AG93,男子種目コード!$A$1:$B$33,2,FALSE),IF(AA93=2,VLOOKUP(I93,女子種目コード!$A$1:$B$28,2,FALSE))))","v":""},null,null,null,null,null,"",0,0,null,null,null,null,null,null,null,null,null,null,null,null,null,null,0,"",""]
["",{"$f":"名簿!P91","v":""},null,null,{"$f":"名簿!E91","v":0},{"$f":"名簿!CM91","v":""},{"$f":"名簿!Z91","v":""},{"$f":"名簿!CM91","v":""},{"$f":"名簿!Y91","v":""},{"$f":"名簿!CN91","v":""},{"$f":"名簿!CP91","v":0},{"$f":"名簿!CU91","v":"00"},{"$f":"名簿!Q91","v":""},{"$f":"名簿!D91","v":0},null,{"$f":"IF(O94=\"\",\"\",IF(I94=1,VLOOKUP(O94,男子種目コード!$D$1:$E$20,2,FALSE),IF(I94=2,VLOOKUP(O94,女子種目コード!$D$1:$E$20,2,FALSE))))","v":""},{"$f":"IF(O94=\"\",\"\",HLOOKUP(O94,名簿!$AH$3:$CH$118,89,FALSE))","v":""},"","",null,{"$f":"IF(T94=\"\",\"\",IF(I94=1,VLOOKUP(T94,男子種目コード!$D$1:$E$20,2,FALSE),IF(I94=2,VLOOKUP(T94,女子種目コード!$D$1:$E$20,2,FALSE))))","v":""},{"$f":"IF(T94=\"\",\"\",HLOOKUP(T94,名簿!$AH$3:$CH$118,89,FALSE))","v":""},"","",null,{"$f":"IF(Y94=\"\",\"\",IF(I94=1,VLOOKUP(Y94,男子種目コード!$D$1:$E$20,2,FALSE),IF(I94=2,VLOOKUP(Y94,女子種目コード!$D$1:$E$20,2,FALSE))))","v":""},null,"","",null,{"$f":"IF(AD94=\"\",\"\",IF(I94=1,VLOOKUP(AD94,男子種目コード!$A$1:$B$33,2,FALSE),IF(V94=2,VLOOKUP(I94,女子種目コード!$A$1:$B$28,2,FALSE))))","v":""},null,null,{"$f":"IF(AG94=\"\",\"\",IF(I94=1,VLOOKUP(AG94,男子種目コード!$A$1:$B$33,2,FALSE),IF(AA94=2,VLOOKUP(I94,女子種目コード!$A$1:$B$28,2,FALSE))))","v":""},null,null,null,null,null,"",0,0,null,null,null,null,null,null,null,null,null,null,null,null,null,null,0,"",""]
["",{"$f":"名簿!P92","v":""},null,null,{"$f":"名簿!E92","v":0},{"$f":"名簿!CM92","v":""},{"$f":"名簿!Z92","v":""},{"$f":"名簿!CM92","v":""},{"$f":"名簿!Y92","v":""},{"$f":"名簿!CN92","v":""},{"$f":"名簿!CP92","v":0},{"$f":"名簿!CU92","v":"00"},{"$f":"名簿!Q92","v":""},{"$f":"名簿!D92","v":0},null,{"$f":"IF(O95=\"\",\"\",IF(I95=1,VLOOKUP(O95,男子種目コード!$D$1:$E$20,2,FALSE),IF(I95=2,VLOOKUP(O95,女子種目コード!$D$1:$E$20,2,FALSE))))","v":""},{"$f":"IF(O95=\"\",\"\",HLOOKUP(O95,名簿!$AH$3:$CH$118,90,FALSE))","v":""},"","",null,{"$f":"IF(T95=\"\",\"\",IF(I95=1,VLOOKUP(T95,男子種目コード!$D$1:$E$20,2,FALSE),IF(I95=2,VLOOKUP(T95,女子種目コード!$D$1:$E$20,2,FALSE))))","v":""},{"$f":"IF(T95=\"\",\"\",HLOOKUP(T95,名簿!$AH$3:$CH$118,90,FALSE))","v":""},"","",null,{"$f":"IF(Y95=\"\",\"\",IF(I95=1,VLOOKUP(Y95,男子種目コード!$D$1:$E$20,2,FALSE),IF(I95=2,VLOOKUP(Y95,女子種目コード!$D$1:$E$20,2,FALSE))))","v":""},null,"","",null,{"$f":"IF(AD95=\"\",\"\",IF(I95=1,VLOOKUP(AD95,男子種目コード!$A$1:$B$33,2,FALSE),IF(V95=2,VLOOKUP(I95,女子種目コード!$A$1:$B$28,2,FALSE))))","v":""},null,null,{"$f":"IF(AG95=\"\",\"\",IF(I95=1,VLOOKUP(AG95,男子種目コード!$A$1:$B$33,2,FALSE),IF(AA95=2,VLOOKUP(I95,女子種目コード!$A$1:$B$28,2,FALSE))))","v":""},null,null,null,null,null,"",0,0,null,null,null,null,null,null,null,null,null,null,null,null,null,null,0,"",""]
["",{"$f":"名簿!P93","v":""},null,null,{"$f":"名簿!E93","v":0},{"$f":"名簿!CM93","v":""},{"$f":"名簿!Z93","v":""},{"$f":"名簿!CM93","v":""},{"$f":"名簿!Y93","v":""},{"$f":"名簿!CN93","v":""},{"$f":"名簿!CP93","v":0},{"$f":"名簿!CU93","v":"00"},{"$f":"名簿!Q93","v":""},{"$f":"名簿!D93","v":0},null,{"$f":"IF(O96=\"\",\"\",IF(I96=1,VLOOKUP(O96,男子種目コード!$D$1:$E$20,2,FALSE),IF(I96=2,VLOOKUP(O96,女子種目コード!$D$1:$E$20,2,FALSE))))","v":""},{"$f":"IF(O96=\"\",\"\",HLOOKUP(O96,名簿!$AH$3:$CH$118,91,FALSE))","v":""},"","",null,{"$f":"IF(T96=\"\",\"\",IF(I96=1,VLOOKUP(T96,男子種目コード!$D$1:$E$20,2,FALSE),IF(I96=2,VLOOKUP(T96,女子種目コード!$D$1:$E$20,2,FALSE))))","v":""},{"$f":"IF(T96=\"\",\"\",HLOOKUP(T96,名簿!$AH$3:$CH$118,91,FALSE))","v":""},"","",null,{"$f":"IF(Y96=\"\",\"\",IF(I96=1,VLOOKUP(Y96,男子種目コード!$D$1:$E$20,2,FALSE),IF(I96=2,VLOOKUP(Y96,女子種目コード!$D$1:$E$20,2,FALSE))))","v":""},null,"","",null,{"$f":"IF(AD96=\"\",\"\",IF(I96=1,VLOOKUP(AD96,男子種目コード!$A$1:$B$33,2,FALSE),IF(V96=2,VLOOKUP(I96,女子種目コード!$A$1:$B$28,2,FALSE))))","v":""},null,null,{"$f":"IF(AG96=\"\",\"\",IF(I96=1,VLOOKUP(AG96,男子種目コード!$A$1:$B$33,2,FALSE),IF(AA96=2,VLOOKUP(I96,女子種目コード!$A$1:$B$28,2,FALSE))))","v":""},null,null,null,null,null,"",0,0,null,null,null,null,null,null,null,null,null,null,null,null,null,null,0,"",""]
["",{"$f":"名簿!P94","v":""},null,null,{"$f":"名簿!E94","v":0},{"$f":"名簿!CM94","v":""},{"$f":"名簿!Z94","v":""},{"$f":"名簿!CM94","v":""},{"$f":"名簿!Y94","v":""},{"$f":"名簿!CN94","v":""},{"$f":"名簿!CP94","v":0},{"$f":"名簿!CU94","v":"00"},{"$f":"名簿!Q94","v":""},{"$f":"名簿!D94","v":0},null,{"$f":"IF(O97=\"\",\"\",IF(I97=1,VLOOKUP(O97,男子種目コード!$D$1:$E$20,2,FALSE),IF(I97=2,VLOOKUP(O97,女子種目コード!$D$1:$E$20,2,FALSE))))","v":""},{"$f":"IF(O97=\"\",\"\",HLOOKUP(O97,名簿!$AH$3:$CH$118,92,FALSE))","v":""},"","",null,{"$f":"IF(T97=\"\",\"\",IF(I97=1,VLOOKUP(T97,男子種目コード!$D$1:$E$20,2,FALSE),IF(I97=2,VLOOKUP(T97,女子種目コード!$D$1:$E$20,2,FALSE))))","v":""},{"$f":"IF(T97=\"\",\"\",HLOOKUP(T97,名簿!$AH$3:$CH$118,92,FALSE))","v":""},"","",null,{"$f":"IF(Y97=\"\",\"\",IF(I97=1,VLOOKUP(Y97,男子種目コード!$D$1:$E$20,2,FALSE),IF(I97=2,VLOOKUP(Y97,女子種目コード!$D$1:$E$20,2,FALSE))))","v":""},null,"","",null,{"$f":"IF(AD97=\"\",\"\",IF(I97=1,VLOOKUP(AD97,男子種目コード!$A$1:$B$33,2,FALSE),IF(V97=2,VLOOKUP(I97,女子種目コード!$A$1:$B$28,2,FALSE))))","v":""},null,null,{"$f":"IF(AG97=\"\",\"\",IF(I97=1,VLOOKUP(AG97,男子種目コード!$A$1:$B$33,2,FALSE),IF(AA97=2,VLOOKUP(I97,女子種目コード!$A$1:$B$28,2,FALSE))))","v":""},null,null,null,null,null,"",0,0,null,null,null,null,null,null,null,null,null,null,null,null,null,null,0,"",""]
["",{"$f":"名簿!P95","v":""},null,null,{"$f":"名簿!E95","v":0},{"$f":"名簿!CM95","v":""},{"$f":"名簿!Z95","v":""},{"$f":"名簿!CM95","v":""},{"$f":"名簿!Y95","v":""},{"$f":"名簿!CN95","v":""},{"$f":"名簿!CP95","v":0},{"$f":"名簿!CU95","v":"00"},{"$f":"名簿!Q95","v":""},{"$f":"名簿!D95","v":0},null,{"$f":"IF(O98=\"\",\"\",IF(I98=1,VLOOKUP(O98,男子種目コード!$D$1:$E$20,2,FALSE),IF(I98=2,VLOOKUP(O98,女子種目コード!$D$1:$E$20,2,FALSE))))","v":""},{"$f":"IF(O98=\"\",\"\",HLOOKUP(O98,名簿!$AH$3:$CH$118,93,FALSE))","v":""},"","",null,{"$f":"IF(T98=\"\",\"\",IF(I98=1,VLOOKUP(T98,男子種目コード!$D$1:$E$20,2,FALSE),IF(I98=2,VLOOKUP(T98,女子種目コード!$D$1:$E$20,2,FALSE))))","v":""},{"$f":"IF(T98=\"\",\"\",HLOOKUP(T98,名簿!$AH$3:$CH$118,93,FALSE))","v":""},"","",null,{"$f":"IF(Y98=\"\",\"\",IF(I98=1,VLOOKUP(Y98,男子種目コード!$D$1:$E$20,2,FALSE),IF(I98=2,VLOOKUP(Y98,女子種目コード!$D$1:$E$20,2,FALSE))))","v":""},null,"","",null,{"$f":"IF(AD98=\"\",\"\",IF(I98=1,VLOOKUP(AD98,男子種目コード!$A$1:$B$33,2,FALSE),IF(V98=2,VLOOKUP(I98,女子種目コード!$A$1:$B$28,2,FALSE))))","v":""},null,null,{"$f":"IF(AG98=\"\",\"\",IF(I98=1,VLOOKUP(AG98,男子種目コード!$A$1:$B$33,2,FALSE),IF(AA98=2,VLOOKUP(I98,女子種目コード!$A$1:$B$28,2,FALSE))))","v":""},null,null,null,null,null,"",0,0,null,null,null,null,null,null,null,null,null,null,null,null,null,null,0,"",""]
["",{"$f":"名簿!P96","v":""},null,null,{"$f":"名簿!E96","v":0},{"$f":"名簿!CM96","v":""},{"$f":"名簿!Z96","v":""},{"$f":"名簿!CM96","v":""},{"$f":"名簿!Y96","v":""},{"$f":"名簿!CN96","v":""},{"$f":"名簿!CP96","v":0},{"$f":"名簿!CU96","v":"00"},{"$f":"名簿!Q96","v":""},{"$f":"名簿!D96","v":0},null,{"$f":"IF(O99=\"\",\"\",IF(I99=1,VLOOKUP(O99,男子種目コード!$D$1:$E$20,2,FALSE),IF(I99=2,VLOOKUP(O99,女子種目コード!$D$1:$E$20,2,FALSE))))","v":""},{"$f":"IF(O99=\"\",\"\",HLOOKUP(O99,名簿!$AH$3:$CH$118,94,FALSE))","v":""},"","",null,{"$f":"IF(T99=\"\",\"\",IF(I99=1,VLOOKUP(T99,男子種目コード!$D$1:$E$20,2,FALSE),IF(I99=2,VLOOKUP(T99,女子種目コード!$D$1:$E$20,2,FALSE))))","v":""},{"$f":"IF(T99=\"\",\"\",HLOOKUP(T99,名簿!$AH$3:$CH$118,94,FALSE))","v":""},"","",null,{"$f":"IF(Y99=\"\",\"\",IF(I99=1,VLOOKUP(Y99,男子種目コード!$D$1:$E$20,2,FALSE),IF(I99=2,VLOOKUP(Y99,女子種目コード!$D$1:$E$20,2,FALSE))))","v":""},null,"","",null,{"$f":"IF(AD99=\"\",\"\",IF(I99=1,VLOOKUP(AD99,男子種目コード!$A$1:$B$33,2,FALSE),IF(V99=2,VLOOKUP(I99,女子種目コード!$A$1:$B$28,2,FALSE))))","v":""},null,null,{"$f":"IF(AG99=\"\",\"\",IF(I99=1,VLOOKUP(AG99,男子種目コード!$A$1:$B$33,2,FALSE),IF(AA99=2,VLOOKUP(I99,女子種目コード!$A$1:$B$28,2,FALSE))))","v":""},null,null,null,null,null,"",0,0,null,null,null,null,null,null,null,null,null,null,null,null,null,null,0,"",""]
["",{"$f":"名簿!P97","v":""},null,null,{"$f":"名簿!E97","v":0},{"$f":"名簿!CM97","v":""},{"$f":"名簿!Z97","v":""},{"$f":"名簿!CM97","v":""},{"$f":"名簿!Y97","v":""},{"$f":"名簿!CN97","v":""},{"$f":"名簿!CP97","v":0},{"$f":"名簿!CU97","v":"00"},{"$f":"名簿!Q97","v":""},{"$f":"名簿!D97","v":0},null,{"$f":"IF(O100=\"\",\"\",IF(I100=1,VLOOKUP(O100,男子種目コード!$D$1:$E$20,2,FALSE),IF(I100=2,VLOOKUP(O100,女子種目コード!$D$1:$E$20,2,FALSE))))","v":""},{"$f":"IF(O100=\"\",\"\",HLOOKUP(O100,名簿!$AH$3:$CH$118,95,FALSE))","v":""},"","",null,{"$f":"IF(T100=\"\",\"\",IF(I100=1,VLOOKUP(T100,男子種目コード!$D$1:$E$20,2,FALSE),IF(I100=2,VLOOKUP(T100,女子種目コード!$D$1:$E$20,2,FALSE))))","v":""},{"$f":"IF(T100=\"\",\"\",HLOOKUP(T100,名簿!$AH$3:$CH$118,95,FALSE))","v":""},"","",null,{"$f":"IF(Y100=\"\",\"\",IF(I100=1,VLOOKUP(Y100,男子種目コード!$D$1:$E$20,2,FALSE),IF(I100=2,VLOOKUP(Y100,女子種目コード!$D$1:$E$20,2,FALSE))))","v":""},null,"","",null,{"$f":"IF(AD100=\"\",\"\",IF(I100=1,VLOOKUP(AD100,男子種目コード!$A$1:$B$33,2,FALSE),IF(V100=2,VLOOKUP(I100,女子種目コード!$A$1:$B$28,2,FALSE))))","v":""},null,null,{"$f":"IF(AG100=\"\",\"\",IF(I100=1,VLOOKUP(AG100,男子種目コード!$A$1:$B$33,2,FALSE),IF(AA100=2,VLOOKUP(I100,女子種目コード!$A$1:$B$28,2,FALSE))))","v":""},null,null,null,null,null,"",0,0,null,null,null,null,null,null,null,null,null,null,null,null,null,null,0,"",""]
["",{"$f":"名簿!P98","v":""},null,null,{"$f":"名簿!E98","v":0},{"$f":"名簿!CM98","v":""},{"$f":"名簿!Z98","v":""},{"$f":"名簿!CM98","v":""},{"$f":"名簿!Y98","v":""},{"$f":"名簿!CN98","v":""},{"$f":"名簿!CP98","v":0},{"$f":"名簿!CU98","v":"00"},{"$f":"名簿!Q98","v":""},{"$f":"名簿!D98","v":0},null,{"$f":"IF(O101=\"\",\"\",IF(I101=1,VLOOKUP(O101,男子種目コード!$D$1:$E$20,2,FALSE),IF(I101=2,VLOOKUP(O101,女子種目コード!$D$1:$E$20,2,FALSE))))","v":""},{"$f":"IF(O101=\"\",\"\",HLOOKUP(O101,名簿!$AH$3:$CH$118,96,FALSE))","v":""},"","",null,{"$f":"IF(T101=\"\",\"\",IF(I101=1,VLOOKUP(T101,男子種目コード!$D$1:$E$20,2,FALSE),IF(I101=2,VLOOKUP(T101,女子種目コード!$D$1:$E$20,2,FALSE))))","v":""},{"$f":"IF(T101=\"\",\"\",HLOOKUP(T101,名簿!$AH$3:$CH$118,96,FALSE))","v":""},"","",null,{"$f":"IF(Y101=\"\",\"\",IF(I101=1,VLOOKUP(Y101,男子種目コード!$D$1:$E$20,2,FALSE),IF(I101=2,VLOOKUP(Y101,女子種目コード!$D$1:$E$20,2,FALSE))))","v":""},null,"","",null,{"$f":"IF(AD101=\"\",\"\",IF(I101=1,VLOOKUP(AD101,男子種目コード!$A$1:$B$33,2,FALSE),IF(V101=2,VLOOKUP(I101,女子種目コード!$A$1:$B$28,2,FALSE))))","v":""},null,null,{"$f":"IF(AG101=\"\",\"\",IF(I101=1,VLOOKUP(AG101,男子種目コード!$A$1:$B$33,2,FALSE),IF(AA101=2,VLOOKUP(I101,女子種目コード!$A$1:$B$28,2,FALSE))))","v":""},null,null,null,null,null,"",0,0,null,null,null,null,null,null,null,null,null,null,null,null,null,null,0,"",""]
["",{"$f":"名簿!P99","v":""},null,null,{"$f":"名簿!E99","v":0},{"$f":"名簿!CM99","v":""},{"$f":"名簿!Z99","v":""},{"$f":"名簿!CM99","v":""},{"$f":"名簿!Y99","v":""},{"$f":"名簿!CN99","v":""},{"$f":"名簿!CP99","v":0},{"$f":"名簿!CU99","v":"00"},{"$f":"名簿!Q99","v":""},{"$f":"名簿!D99","v":0},null,{"$f":"IF(O102=\"\",\"\",IF(I102=1,VLOOKUP(O102,男子種目コード!$D$1:$E$20,2,FALSE),IF(I102=2,VLOOKUP(O102,女子種目コード!$D$1:$E$20,2,FALSE))))","v":""},{"$f":"IF(O102=\"\",\"\",HLOOKUP(O102,名簿!$AH$3:$CH$118,97,FALSE))","v":""},"","",null,{"$f":"IF(T102=\"\",\"\",IF(I102=1,VLOOKUP(T102,男子種目コード!$D$1:$E$20,2,FALSE),IF(I102=2,VLOOKUP(T102,女子種目コード!$D$1:$E$20,2,FALSE))))","v":""},{"$f":"IF(T102=\"\",\"\",HLOOKUP(T102,名簿!$AH$3:$CH$118,97,FALSE))","v":""},"","",null,{"$f":"IF(Y102=\"\",\"\",IF(I102=1,VLOOKUP(Y102,男子種目コード!$D$1:$E$20,2,FALSE),IF(I102=2,VLOOKUP(Y102,女子種目コード!$D$1:$E$20,2,FALSE))))","v":""},null,"","",null,{"$f":"IF(AD102=\"\",\"\",IF(I102=1,VLOOKUP(AD102,男子種目コード!$A$1:$B$33,2,FALSE),IF(V102=2,VLOOKUP(I102,女子種目コード!$A$1:$B$28,2,FALSE))))","v":""},null,null,{"$f":"IF(AG102=\"\",\"\",IF(I102=1,VLOOKUP(AG102,男子種目コード!$A$1:$B$33,2,FALSE),IF(AA102=2,VLOOKUP(I102,女子種目コード!$A$1:$B$28,2,FALSE))))","v":""},null,null,null,null,null,"",0,0,null,null,null,null,null,null,null,null,null,null,null,null,null,null,0,"",""]
["",{"$f":"名簿!P100","v":""},null,null,{"$f":"名簿!E100","v":0},{"$f":"名簿!CM100","v":""},{"$f":"名簿!Z100","v":""},{"$f":"名簿!CM100","v":""},{"$f":"名簿!Y100","v":""},{"$f":"名簿!CN100","v":""},{"$f":"名簿!CP100","v":0},{"$f":"名簿!CU100","v":"00"},{"$f":"名簿!Q100","v":""},{"$f":"名簿!D100","v":0},null,{"$f":"IF(O103=\"\",\"\",IF(I103=1,VLOOKUP(O103,男子種目コード!$D$1:$E$20,2,FALSE),IF(I103=2,VLOOKUP(O103,女子種目コード!$D$1:$E$20,2,FALSE))))","v":""},{"$f":"IF(O103=\"\",\"\",HLOOKUP(O103,名簿!$AH$3:$CH$118,98,FALSE))","v":""},"","",null,{"$f":"IF(T103=\"\",\"\",IF(I103=1,VLOOKUP(T103,男子種目コード!$D$1:$E$20,2,FALSE),IF(I103=2,VLOOKUP(T103,女子種目コード!$D$1:$E$20,2,FALSE))))","v":""},{"$f":"IF(T103=\"\",\"\",HLOOKUP(T103,名簿!$AH$3:$CH$118,98,FALSE))","v":""},"","",null,{"$f":"IF(Y103=\"\",\"\",IF(I103=1,VLOOKUP(Y103,男子種目コード!$D$1:$E$20,2,FALSE),IF(I103=2,VLOOKUP(Y103,女子種目コード!$D$1:$E$20,2,FALSE))))","v":""},null,"","",null,{"$f":"IF(AD103=\"\",\"\",IF(I103=1,VLOOKUP(AD103,男子種目コード!$A$1:$B$33,2,FALSE),IF(V103=2,VLOOKUP(I103,女子種目コード!$A$1:$B$28,2,FALSE))))","v":""},null,null,{"$f":"IF(AG103=\"\",\"\",IF(I103=1,VLOOKUP(AG103,男子種目コード!$A$1:$B$33,2,FALSE),IF(AA103=2,VLOOKUP(I103,女子種目コード!$A$1:$B$28,2,FALSE))))","v":""},null,null,null,null,null,"",{"$f":"IF(OR(AN103=1,T103=\"\"),0,1)","v":0},{"$f":"IF(OR(AN103=1,AO103=1,Y103=\"\"),0,1)","v":0},null,null,null,null,null,null,null,null,null,null,null,null,null,null,0,"",""]
["",{"$f":"名簿!P101","v":""},null,null,{"$f":"名簿!E101","v":0},{"$f":"名簿!CM101","v":""},{"$f":"名簿!Z101","v":""},{"$f":"名簿!CM101","v":""},{"$f":"名簿!Y101","v":""},{"$f":"名簿!CN101","v":""},{"$f":"名簿!CP101","v":0},{"$f":"名簿!CU101","v":"00"},{"$f":"名簿!Q101","v":""},{"$f":"名簿!D101","v":0},null,{"$f":"IF(O104=\"\",\"\",IF(I104=1,VLOOKUP(O104,男子種目コード!$D$1:$E$20,2,FALSE),IF(I104=2,VLOOKUP(O104,女子種目コード!$D$1:$E$20,2,FALSE))))","v":""},{"$f":"IF(O104=\"\",\"\",HLOOKUP(O104,名簿!$AH$3:$CH$118,99,FALSE))","v":""},"","",null,{"$f":"IF(T104=\"\",\"\",IF(I104=1,VLOOKUP(T104,男子種目コード!$D$1:$E$20,2,FALSE),IF(I104=2,VLOOKUP(T104,女子種目コード!$D$1:$E$20,2,FALSE))))","v":""},{"$f":"IF(T104=\"\",\"\",HLOOKUP(T104,名簿!$AH$3:$CH$118,99,FALSE))","v":""},"","",null,{"$f":"IF(Y104=\"\",\"\",IF(I104=1,VLOOKUP(Y104,男子種目コード!$D$1:$E$20,2,FALSE),IF(I104=2,VLOOKUP(Y104,女子種目コード!$D$1:$E$20,2,FALSE))))","v":""},null,"","",null,{"$f":"IF(AD104=\"\",\"\",IF(I104=1,VLOOKUP(AD104,男子種目コード!$A$1:$B$33,2,FALSE),IF(V104=2,VLOOKUP(I104,女子種目コード!$A$1:$B$28,2,FALSE))))","v":""},null,null,{"$f":"IF(AG104=\"\",\"\",IF(I104=1,VLOOKUP(AG104,男子種目コード!$A$1:$B$33,2,FALSE),IF(AA104=2,VLOOKUP(I104,女子種目コード!$A$1:$B$28,2,FALSE))))","v":""},null,null,null,null,null,"",{"$f":"IF(OR(AN104=1,T104=\"\"),0,1)","v":0},{"$f":"IF(OR(AN104=1,AO104=1,Y104=\"\"),0,1)","v":0},null,null,null,null,null,null,null,null,null,null,null,null,null,null,0,"",""]
["",{"$f":"名簿!P102","v":""},null,null,{"$f":"名簿!E102","v":0},{"$f":"名簿!CM102","v":""},{"$f":"名簿!Z102","v":""},{"$f":"名簿!CM102","v":""},{"$f":"名簿!Y102","v":""},{"$f":"名簿!CN102","v":""},{"$f":"名簿!CP102","v":0},{"$f":"名簿!CU102","v":"00"},{"$f":"名簿!Q102","v":""},{"$f":"名簿!D102","v":0},null,{"$f":"IF(O105=\"\",\"\",IF(I105=1,VLOOKUP(O105,男子種目コード!$D$1:$E$20,2,FALSE),IF(I105=2,VLOOKUP(O105,女子種目コード!$D$1:$E$20,2,FALSE))))","v":""},{"$f":"IF(O105=\"\",\"\",HLOOKUP(O105,名簿!$AH$3:$CH$118,100,FALSE))","v":""},"","",null,{"$f":"IF(T105=\"\",\"\",IF(I105=1,VLOOKUP(T105,男子種目コード!$D$1:$E$20,2,FALSE),IF(I105=2,VLOOKUP(T105,女子種目コード!$D$1:$E$20,2,FALSE))))","v":""},{"$f":"IF(T105=\"\",\"\",HLOOKUP(T105,名簿!$AH$3:$CH$118,100,FALSE))","v":""},"","",null,{"$f":"IF(Y105=\"\",\"\",IF(I105=1,VLOOKUP(Y105,男子種目コード!$D$1:$E$20,2,FALSE),IF(I105=2,VLOOKUP(Y105,女子種目コード!$D$1:$E$20,2,FALSE))))","v":""},null,"","",null,{"$f":"IF(AD105=\"\",\"\",IF(I105=1,VLOOKUP(AD105,男子種目コード!$A$1:$B$33,2,FALSE),IF(V105=2,VLOOKUP(I105,女子種目コード!$A$1:$B$28,2,FALSE))))","v":""},null,null,{"$f":"IF(AG105=\"\",\"\",IF(I105=1,VLOOKUP(AG105,男子種目コード!$A$1:$B$33,2,FALSE),IF(AA105=2,VLOOKUP(I105,女子種目コード!$A$1:$B$28,2,FALSE))))","v":""},null,null,null,null,null,"",{"$f":"IF(OR(AN105=1,T105=\"\"),0,1)","v":0},{"$f":"IF(OR(AN105=1,AO105=1,Y105=\"\"),0,1)","v":0},null,null,null,null,null,null,null,null,null,null,null,null,null,null,0,"",""]
["",{"$f":"名簿!P103","v":""},null,null,{"$f":"名簿!E103","v":0},{"$f":"名簿!CM103","v":""},{"$f":"名簿!Z103","v":""},{"$f":"名簿!CM103","v":""},{"$f":"名簿!Y103","v":""},{"$f":"名簿!CN103","v":""},{"$f":"名簿!CP103","v":0},{"$f":"名簿!CU103","v":"00"},{"$f":"名簿!Q103","v":""},{"$f":"名簿!D103","v":0},null,{"$f":"IF(O106=\"\",\"\",IF(I106=1,VLOOKUP(O106,男子種目コード!$D$1:$E$20,2,FALSE),IF(I106=2,VLOOKUP(O106,女子種目コード!$D$1:$E$20,2,FALSE))))","v":""},{"$f":"IF(O106=\"\",\"\",HLOOKUP(O106,名簿!$AH$3:$CH$118,101,FALSE))","v":""},"","",null,{"$f":"IF(T106=\"\",\"\",IF(I106=1,VLOOKUP(T106,男子種目コード!$D$1:$E$20,2,FALSE),IF(I106=2,VLOOKUP(T106,女子種目コード!$D$1:$E$20,2,FALSE))))","v":""},{"$f":"IF(T106=\"\",\"\",HLOOKUP(T106,名簿!$AH$3:$CH$118,101,FALSE))","v":""},"","",null,{"$f":"IF(Y106=\"\",\"\",IF(I106=1,VLOOKUP(Y106,男子種目コード!$D$1:$E$20,2,FALSE),IF(I106=2,VLOOKUP(Y106,女子種目コード!$D$1:$E$20,2,FALSE))))","v":""},null,"","",null,null,null,null,null,null,null,null,null,null,null,null,null,null,null,null,null,null,null,null,null,null,null,null,null,null,null,0,"",""]
["",{"$f":"名簿!P104","v":""},null,null,{"$f":"名簿!E104","v":0},{"$f":"名簿!CM104","v":""},{"$f":"名簿!Z104","v":""},{"$f":"名簿!CM104","v":""},{"$f":"名簿!Y104","v":""},{"$f":"名簿!CN104","v":""},{"$f":"名簿!CP104","v":0},{"$f":"名簿!CU104","v":"00"},{"$f":"名簿!Q104","v":""},{"$f":"名簿!D104","v":0},null,{"$f":"IF(O107=\"\",\"\",IF(I107=1,VLOOKUP(O107,男子種目コード!$D$1:$E$20,2,FALSE),IF(I107=2,VLOOKUP(O107,女子種目コード!$D$1:$E$20,2,FALSE))))","v":""},{"$f":"IF(O107=\"\",\"\",HLOOKUP(O107,名簿!$AH$3:$CH$118,102,FALSE))","v":""},"","",null,{"$f":"IF(T107=\"\",\"\",IF(I107=1,VLOOKUP(T107,男子種目コード!$D$1:$E$20,2,FALSE),IF(I107=2,VLOOKUP(T107,女子種目コード!$D$1:$E$20,2,FALSE))))","v":""},{"$f":"IF(T107=\"\",\"\",HLOOKUP(T107,名簿!$AH$3:$CH$118,102,FALSE))","v":""},"","",null,{"$f":"IF(Y107=\"\",\"\",IF(I107=1,VLOOKUP(Y107,男子種目コード!$D$1:$E$20,2,FALSE),IF(I107=2,VLOOKUP(Y107,女子種目コード!$D$1:$E$20,2,FALSE))))","v":""},null,"","",null,null,null,null,null,null,null,null,null,null,null,null,null,null,null,null,null,null,null,null,null,null,null,null,null,null,null,0,"",""]
["",{"$f":"名簿!P105","v":""},null,null,{"$f":"名簿!E105","v":0},{"$f":"名簿!CM105","v":""},{"$f":"名簿!Z105","v":""},{"$f":"名簿!CM105","v":""},{"$f":"名簿!Y105","v":""},{"$f":"名簿!CN105","v":""},{"$f":"名簿!CP105","v":0},{"$f":"名簿!CU105","v":"00"},{"$f":"名簿!Q105","v":""},{"$f":"名簿!D105","v":0},null,{"$f":"IF(O108=\"\",\"\",IF(I108=1,VLOOKUP(O108,男子種目コード!$D$1:$E$20,2,FALSE),IF(I108=2,VLOOKUP(O108,女子種目コード!$D$1:$E$20,2,FALSE))))","v":""},{"$f":"IF(O108=\"\",\"\",HLOOKUP(O108,名簿!$AH$3:$CH$118,103,FALSE))","v":""},"","",null,{"$f":"IF(T108=\"\",\"\",IF(I108=1,VLOOKUP(T108,男子種目コード!$D$1:$E$20,2,FALSE),IF(I108=2,VLOOKUP(T108,女子種目コード!$D$1:$E$20,2,FALSE))))","v":""},{"$f":"IF(T108=\"\",\"\",HLOOKUP(T108,名簿!$AH$3:$CH$118,103,FALSE))","v":""},"","",null,{"$f":"IF(Y108=\"\",\"\",IF(I108=1,VLOOKUP(Y108,男子種目コード!$D$1:$E$20,2,FALSE),IF(I108=2,VLOOKUP(Y108,女子種目コード!$D$1:$E$20,2,FALSE))))","v":""},null,"","",null,null,null,null,null,null,null,null,null,null,null,null,null,null,null,null,null,null,null,null,null,null,null,null,null,null,null,0,"",""]
["",{"$f":"名簿!P106","v":""},null,null,{"$f":"名簿!E106","v":0},{"$f":"名簿!CM106","v":""},{"$f":"名簿!Z106","v":""},{"$f":"名簿!CM106","v":""},{"$f":"名簿!Y106","v":""},{"$f":"名簿!CN106","v":""},{"$f":"名簿!CP106","v":0},{"$f":"名簿!CU106","v":"00"},{"$f":"名簿!Q106","v":""},{"$f":"名簿!D106","v":0},null,{"$f":"IF(O109=\"\",\"\",IF(I109=1,VLOOKUP(O109,男子種目コード!$D$1:$E$20,2,FALSE),IF(I109=2,VLOOKUP(O109,女子種目コード!$D$1:$E$20,2,FALSE))))","v":""},{"$f":"IF(O109=\"\",\"\",HLOOKUP(O109,名簿!$AH$3:$CH$118,104,FALSE))","v":""},"","",null,{"$f":"IF(T109=\"\",\"\",IF(I109=1,VLOOKUP(T109,男子種目コード!$D$1:$E$20,2,FALSE),IF(I109=2,VLOOKUP(T109,女子種目コード!$D$1:$E$20,2,FALSE))))","v":""},{"$f":"IF(T109=\"\",\"\",HLOOKUP(T109,名簿!$AH$3:$CH$118,104,FALSE))","v":""},"","",null,{"$f":"IF(Y109=\"\",\"\",IF(I109=1,VLOOKUP(Y109,男子種目コード!$D$1:$E$20,2,FALSE),IF(I109=2,VLOOKUP(Y109,女子種目コード!$D$1:$E$20,2,FALSE))))","v":""},null,"","",null,null,null,null,null,null,null,null,null,null,null,null,null,null,null,null,null,null,null,null,null,null,null,null,null,null,null,0,"",""]
["",{"$f":"名簿!P107","v":""},null,null,{"$f":"名簿!E107","v":0},{"$f":"名簿!CM107","v":""},{"$f":"名簿!Z107","v":""},{"$f":"名簿!CM107","v":""},{"$f":"名簿!Y107","v":""},{"$f":"名簿!CN107","v":""},{"$f":"名簿!CP107","v":0},{"$f":"名簿!CU107","v":"00"},{"$f":"名簿!Q107","v":""},{"$f":"名簿!D107","v":0},null,{"$f":"IF(O110=\"\",\"\",IF(I110=1,VLOOKUP(O110,男子種目コード!$D$1:$E$20,2,FALSE),IF(I110=2,VLOOKUP(O110,女子種目コード!$D$1:$E$20,2,FALSE))))","v":""},{"$f":"IF(O110=\"\",\"\",HLOOKUP(O110,名簿!$AH$3:$CH$118,105,FALSE))","v":""},"","",null,{"$f":"IF(T110=\"\",\"\",IF(I110=1,VLOOKUP(T110,男子種目コード!$D$1:$E$20,2,FALSE),IF(I110=2,VLOOKUP(T110,女子種目コード!$D$1:$E$20,2,FALSE))))","v":""},{"$f":"IF(T110=\"\",\"\",HLOOKUP(T110,名簿!$AH$3:$CH$118,105,FALSE))","v":""},"","",null,{"$f":"IF(Y110=\"\",\"\",IF(I110=1,VLOOKUP(Y110,男子種目コード!$D$1:$E$20,2,FALSE),IF(I110=2,VLOOKUP(Y110,女子種目コード!$D$1:$E$20,2,FALSE))))","v":""},null,"","",null,null,null,null,null,null,null,null,null,null,null,null,null,null,null,null,null,null,null,null,null,null,null,null,null,null,null,0,"",""]
["",{"$f":"名簿!P108","v":""},null,null,{"$f":"名簿!E108","v":0},{"$f":"名簿!CM108","v":""},{"$f":"名簿!Z108","v":""},{"$f":"名簿!CM108","v":""},{"$f":"名簿!Y108","v":""},{"$f":"名簿!CN108","v":""},{"$f":"名簿!CP108","v":0},{"$f":"名簿!CU108","v":"00"},{"$f":"名簿!Q108","v":""},{"$f":"名簿!D108","v":0},null,{"$f":"IF(O111=\"\",\"\",IF(I111=1,VLOOKUP(O111,男子種目コード!$D$1:$E$20,2,FALSE),IF(I111=2,VLOOKUP(O111,女子種目コード!$D$1:$E$20,2,FALSE))))","v":""},{"$f":"IF(O111=\"\",\"\",HLOOKUP(O111,名簿!$AH$3:$CH$118,106,FALSE))","v":""},"","",null,{"$f":"IF(T111=\"\",\"\",IF(I111=1,VLOOKUP(T111,男子種目コード!$D$1:$E$20,2,FALSE),IF(I111=2,VLOOKUP(T111,女子種目コード!$D$1:$E$20,2,FALSE))))","v":""},{"$f":"IF(T111=\"\",\"\",HLOOKUP(T111,名簿!$AH$3:$CH$118,106,FALSE))","v":""},"","",null,{"$f":"IF(Y111=\"\",\"\",IF(I111=1,VLOOKUP(Y111,男子種目コード!$D$1:$E$20,2,FALSE),IF(I111=2,VLOOKUP(Y111,女子種目コード!$D$1:$E$20,2,FALSE))))","v":""},null,"","",null,null,null,null,null,null,null,null,null,null,null,null,null,null,null,null,null,null,null,null,null,null,null,null,null,null,null,0,"",""]
["",{"$f":"名簿!P109","v":""},null,null,{"$f":"名簿!E109","v":0},{"$f":"名簿!CM109","v":""},{"$f":"名簿!Z109","v":""},{"$f":"名簿!CM109","v":""},{"$f":"名簿!Y109","v":""},{"$f":"名簿!CN109","v":""},{"$f":"名簿!CP109","v":0},{"$f":"名簿!CU109","v":"00"},{"$f":"名簿!Q109","v":""},{"$f":"名簿!D109","v":0},null,{"$f":"IF(O112=\"\",\"\",IF(I112=1,VLOOKUP(O112,男子種目コード!$D$1:$E$20,2,FALSE),IF(I112=2,VLOOKUP(O112,女子種目コード!$D$1:$E$20,2,FALSE))))","v":""},{"$f":"IF(O112=\"\",\"\",HLOOKUP(O112,名簿!$AH$3:$CH$118,107,FALSE))","v":""},"","",null,{"$f":"IF(T112=\"\",\"\",IF(I112=1,VLOOKUP(T112,男子種目コード!$D$1:$E$20,2,FALSE),IF(I112=2,VLOOKUP(T112,女子種目コード!$D$1:$E$20,2,FALSE))))","v":""},{"$f":"IF(T112=\"\",\"\",HLOOKUP(T112,名簿!$AH$3:$CH$118,107,FALSE))","v":""},"","",null,{"$f":"IF(Y112=\"\",\"\",IF(I112=1,VLOOKUP(Y112,男子種目コード!$D$1:$E$20,2,FALSE),IF(I112=2,VLOOKUP(Y112,女子種目コード!$D$1:$E$20,2,FALSE))))","v":""},null,"","",null,null,null,null,null,null,null,null,null,null,null,null,null,null,null,null,null,null,null,null,null,null,null,null,null,null,null,0,"",""]
["",{"$f":"名簿!P110","v":""},null,null,{"$f":"名簿!E110","v":0},{"$f":"名簿!CM110","v":""},{"$f":"名簿!Z110","v":""},{"$f":"名簿!CM110","v":""},{"$f":"名簿!Y110","v":""},{"$f":"名簿!CN110","v":""},{"$f":"名簿!CP110","v":0},{"$f":"名簿!CU110","v":"00"},{"$f":"名簿!Q110","v":""},{"$f":"名簿!D110","v":0},null,{"$f":"IF(O113=\"\",\"\",IF(I113=1,VLOOKUP(O113,男子種目コード!$D$1:$E$20,2,FALSE),IF(I113=2,VLOOKUP(O113,女子種目コード!$D$1:$E$20,2,FALSE))))","v":""},{"$f":"IF(O113=\"\",\"\",HLOOKUP(O113,名簿!$AH$3:$CH$118,108,FALSE))","v":""},"","",null,{"$f":"IF(T113=\"\",\"\",IF(I113=1,VLOOKUP(T113,男子種目コード!$D$1:$E$20,2,FALSE),IF(I113=2,VLOOKUP(T113,女子種目コード!$D$1:$E$20,2,FALSE))))","v":""},{"$f":"IF(T113=\"\",\"\",HLOOKUP(T113,名簿!$AH$3:$CH$118,108,FALSE))","v":""},"","",null,{"$f":"IF(Y113=\"\",\"\",IF(I113=1,VLOOKUP(Y113,男子種目コード!$D$1:$E$20,2,FALSE),IF(I113=2,VLOOKUP(Y113,女子種目コード!$D$1:$E$20,2,FALSE))))","v":""},null,"","",null,null,null,null,null,null,null,null,null,null,null,null,null,null,null,null,null,null,null,null,null,null,null,null,null,null,null,0,"",""]
["",{"$f":"名簿!P111","v":""},null,null,{"$f":"名簿!E111","v":0},{"$f":"名簿!CM111","v":""},{"$f":"名簿!Z111","v":""},{"$f":"名簿!CM111","v":""},{"$f":"名簿!Y111","v":""},{"$f":"名簿!CN111","v":""},{"$f":"名簿!CP111","v":0},{"$f":"名簿!CU111","v":"00"},{"$f":"名簿!Q111","v":""},{"$f":"名簿!D111","v":0},null,{"$f":"IF(O114=\"\",\"\",IF(I114=1,VLOOKUP(O114,男子種目コード!$D$1:$E$20,2,FALSE),IF(I114=2,VLOOKUP(O114,女子種目コード!$D$1:$E$20,2,FALSE))))","v":""},{"$f":"IF(O114=\"\",\"\",HLOOKUP(O114,名簿!$AH$3:$CH$118,109,FALSE))","v":""},"","",null,{"$f":"IF(T114=\"\",\"\",IF(I114=1,VLOOKUP(T114,男子種目コード!$D$1:$E$20,2,FALSE),IF(I114=2,VLOOKUP(T114,女子種目コード!$D$1:$E$20,2,FALSE))))","v":""},{"$f":"IF(T114=\"\",\"\",HLOOKUP(T114,名簿!$AH$3:$CH$118,109,FALSE))","v":""},"","",null,{"$f":"IF(Y114=\"\",\"\",IF(I114=1,VLOOKUP(Y114,男子種目コード!$D$1:$E$20,2,FALSE),IF(I114=2,VLOOKUP(Y114,女子種目コード!$D$1:$E$20,2,FALSE))))","v":""},null,"","",null,null,null,null,null,null,null,null,null,null,null,null,null,null,null,null,null,null,null,null,null,null,null,null,null,null,null,0,"",""]
["",{"$f":"名簿!P112","v":""},null,null,{"$f":"名簿!E112","v":0},{"$f":"名簿!CM112","v":""},{"$f":"名簿!Z112","v":""},{"$f":"名簿!CM112","v":""},{"$f":"名簿!Y112","v":""},{"$f":"名簿!CN112","v":""},{"$f":"名簿!CP112","v":0},{"$f":"名簿!CU112","v":"00"},{"$f":"名簿!Q112","v":""},{"$f":"名簿!D112","v":0},null,{"$f":"IF(O115=\"\",\"\",IF(I115=1,VLOOKUP(O115,男子種目コード!$D$1:$E$20,2,FALSE),IF(I115=2,VLOOKUP(O115,女子種目コード!$D$1:$E$20,2,FALSE))))","v":""},{"$f":"IF(O115=\"\",\"\",HLOOKUP(O115,名簿!$AH$3:$CH$118,110,FALSE))","v":""},"","",null,{"$f":"IF(T115=\"\",\"\",IF(I115=1,VLOOKUP(T115,男子種目コード!$D$1:$E$20,2,FALSE),IF(I115=2,VLOOKUP(T115,女子種目コード!$D$1:$E$20,2,FALSE))))","v":""},{"$f":"IF(T115=\"\",\"\",HLOOKUP(T115,名簿!$AH$3:$CH$118,110,FALSE))","v":""},"","",null,{"$f":"IF(Y115=\"\",\"\",IF(I115=1,VLOOKUP(Y115,男子種目コード!$D$1:$E$20,2,FALSE),IF(I115=2,VLOOKUP(Y115,女子種目コード!$D$1:$E$20,2,FALSE))))","v":""},null,"","",null,null,null,null,null,null,null,null,null,null,null,null,null,null,null,null,null,null,null,null,null,null,{"$f":"IF(I115=2,AX117,\"\")","v":""},null,null,null,null,0,"",""]
["",{"$f":"名簿!P113","v":""},null,null,{"$f":"名簿!E113","v":0},{"$f":"名簿!CM113","v":""},{"$f":"名簿!Z113","v":""},{"$f":"名簿!CM113","v":""},{"$f":"名簿!Y113","v":""},{"$f":"名簿!CN113","v":""},{"$f":"名簿!CP113","v":0},{"$f":"名簿!CU113","v":"00"},{"$f":"名簿!Q113","v":""},{"$f":"名簿!D113","v":0},null,{"$f":"IF(O116=\"\",\"\",IF(I116=1,VLOOKUP(O116,男子種目コード!$D$1:$E$20,2,FALSE),IF(I116=2,VLOOKUP(O116,女子種目コード!$D$1:$E$20,2,FALSE))))","v":""},{"$f":"IF(O116=\"\",\"\",HLOOKUP(O116,名簿!$AH$3:$CH$118,111,FALSE))","v":""},"","",null,{"$f":"IF(T116=\"\",\"\",IF(I116=1,VLOOKUP(T116,男子種目コード!$D$1:$E$20,2,FALSE),IF(I116=2,VLOOKUP(T116,女子種目コード!$D$1:$E$20,2,FALSE))))","v":""},{"$f":"IF(T116=\"\",\"\",HLOOKUP(T116,名簿!$AH$3:$CH$118,111,FALSE))","v":""},"","",null,{"$f":"IF(Y116=\"\",\"\",IF(I116=1,VLOOKUP(Y116,男子種目コード!$D$1:$E$20,2,FALSE),IF(I116=2,VLOOKUP(Y116,女子種目コード!$D$1:$E$20,2,FALSE))))","v":""},null,"","",null,{"$f":"IF(AD116=\"\",\"\",IF(I116=1,VLOOKUP(AD116,男子種目コード!$A$1:$B$33,2,FALSE),IF(V116=2,VLOOKUP(I116,女子種目コード!$A$1:$B$28,2,FALSE))))","v":""},null,null,{"$f":"IF(AG116=\"\",\"\",IF(I116=1,VLOOKUP(AG116,男子種目コード!$A$1:$B$33,2,FALSE),IF(AA116=2,VLOOKUP(I116,女子種目コード!$A$1:$B$28,2,FALSE))))","v":""},null,null,null,null,null,"",{"$f":"IF(OR(AN116=1,T116=\"\"),0,1)","v":0},{"$f":"IF(OR(AN116=1,AO116=1,Y116=\"\"),0,1)","v":0},null,null,null,null,null,null,null,null,null,{"$f":"IF(I116=2,AX118,\"\")","v":""},null,null,null,null,0,"",""]
[null,null,null,null,null,null,null,null,null,null,null,null,null,null,null,null,null,null,null,null,null,null,null,null,null,null,null,null,null,null,null,null,null,null,null,null,null,null,null,{"$f":"SUM(AN7:AN116)","v":0},{"$f":"SUM(AO7:AO116)","v":0},{"$f":"SUM(AP7:AP116)","v":0},null,null,null,null,null,null,null,{"$f":"COUNT(P115,U115,Z115)","v":0},{"$f":"IF(I115=1,AX117,\"\")","v":""}]
[null,null,null,null,null,null,null,null,null,null,null,null,null,null,null,null,null,null,null,null,null,null,null,null,null,null,null,null,null,null,null,null,null,null,null,null,null,null,null,null,null,null,null,null,null,null,null,null,null,{"$f":"COUNT(P116,U116,Z116)","v":0},{"$f":"IF(I116=1,AX118,\"\")","v":""}]

{"sheet":"選抜","index":12,"n_rows":118,"n_cols":68,"rows_kept":118,"cut":false,"hidden":false,"merged":[[16,47,16,48],[12,44,13,44],[16,45,16,46],[5,45,5,46],[5,47,5,48],[14,45,14,46],[14,47,14,48],[7,45,7,46],[7,47,7,48],[42,42,42,43],[30,42,30,43],[29,42,29,43],[1,16,1,17],[5,42,5,43],[1,18,1,19]]}
[null,null,null,null,"所属名",{"$f":"IF(名簿!$O$4=\"\",\"\",名簿!$O$4)","v":0}]
[null,null,null,null,"所属コード",{"$f":"名簿!$P$4","v":{"$error":"#N/A"}},"三重県中学選抜大会"]
[null,null,null,null,"顧問名",{"$f":"IF(名簿!$D$1=\"\",\"\",名簿!$D$1)","v":""},"男子",null,null,null,null,null,null,null,{"$f":"COUNTIF($I$7:$I$116,1)-COUNTIF($BF$7:$BF$116,0)","v":0}]
[null,null,null,null,"顧問連絡先",{"$f":"IF(名簿!$I$1=\"\",\"\",名簿!$I$1)","v":""},"女子",null,null,null,null,null,null,null,{"$f":"COUNTIF($I$7:$I$116,2)-COUNTIF($BG$7:$BG$116,0)","v":0},null,{"$f":"O3+O4","v":0}]
[null,null,null,null,null,null,"大会参加費",null,null,null,null,null,null,null,{"$f":"($AN$117+$AO$117)*1000+V5*800","v":0},null,null,null,null,"プログラム冊数",null,null,null,null,null,null,null,null,null,null,null,null,null,null,null,null,null,null,null,null,null,null,"冊"]
["競技者コード","所属コード",null,null,"ナンバー","名　前","カナ名","掲示板名","性別","学年","生年","月日","個人所属地コード","陸連ID","1種目","コード","記録",null,null,"2種目","コード","記録",null,null,"リレー","コード","記録",null,null,"種目","コード4","自己記録4","種目","コード5","自己記録5",null,null,null,"1年100",null,null,null,"種目別人数",null,null,"低学年",null,"高学年",null,null,null,100,100,null,null,null,"種目数","男子","女子"]
[{"$f":"Z7","v":""},{"$f":"名簿!P4","v":{"$error":"#N/A"}},null,null,{"$f":"名簿!E4","v":0},{"$f":"名簿!CM4","v":""},{"$f":"名簿!Z4","v":""},{"$f":"名簿!CM4","v":""},{"$f":"名簿!Y4","v":""},{"$f":"名簿!CN4","v":""},{"$f":"名簿!CP4","v":0},{"$f":"名簿!CU4","v":"00"},{"$f":"名簿!Q4","v":{"$error":"#N/A"}},{"$f":"名簿!D4","v":0},null,{"$f":"IF(O7=\"\",\"\",IF(I7=1,VLOOKUP(O7,男子種目コード!$M$1:$N$13,2,FALSE),IF(I7=2,VLOOKUP(O7,女子種目コード!$M$1:$N$10,2,FALSE))))","v":""},{"$f":"IF(O7=\"\",\"\",HLOOKUP(O7,名簿!$AH$3:$CH$118,2,FALSE))","v":""},{"$f":"IF(O7=\"\",\"\",0)","v":""},{"$f":"IF(O7=\"\",\"\",2)","v":""},null,{"$f":"IF(T7=\"\",\"\",IF(I7=1,VLOOKUP(T7,男子種目コード!$M$1:$N$13,2,FALSE),IF(I7=2,VLOOKUP(T7,女子種目コード!$M$1:$N$10,2,FALSE))))","v":""},{"$f":"IF(T7=\"\",\"\",HLOOKUP(T7,名簿!$AH$3:$CH$118,2,FALSE))","v":""},{"$f":"IF(T7=\"\",\"\",0)","v":""},{"$f":"IF(T7=\"\",\"\",2)","v":""},null,{"$f":"IF(Y7=\"\",\"\",IF(I7=1,VLOOKUP(Y7,男子種目コード!$D$1:$E$20,2,FALSE),IF(I7=2,VLOOKUP(Y7,女子種目コード!$D$1:$E$20,2,FALSE))))","v":""},null,{"$f":"IF(Y7=\"\",\"\",0)","v":""},{"$f":"IF(Y7=\"\",\"\",2)","v":""},null,{"$f":"IF(AD7=\"\",\"\",IF(I7=1,VLOOKUP(AD7,男子種目コード!$A$1:$B$33,2,FALSE),IF(V7=2,VLOOKUP(I7,女子種目コード!$A$1:$B$28,2,FALSE))))","v":""},null,null,{"$f":"IF(AG7=\"\",\"\",IF(I7=1,VLOOKUP(AG7,男子種目コード!$A$1:$B$33,2,FALSE),IF(AA7=2,VLOOKUP(I7,女子種目コード!$A$1:$B$28,2,FALSE))))","v":""},null,null,null,null,"1年800",{"$f":"IF(O7=\"\",\"\",1)","v":""},{"$f":"IF(OR(AN7=1,T7=\"\"),0,1)","v":0},{"$f":"IF(OR(AN7=1,AO7=1,Y7=\"\"),0,1)","v":0},100,{"$f":"COUNTIF($P$7:P$116,101)+COUNTIF($U$7:$U$116,101)","v":0},null,"記録",null,"記録",null,null,null,200,200,null,null,null,{"$f":"COUNT(P7,U7,Z7)","v":0},{"$f":"IF(I7=1,BE7,\"\")","v":""},{"$f":"IF(I7=2,BE7,\"\")","v":""}]
["",{"$f":"名簿!P5","v":""},null,null,{"$f":"名簿!E5","v":0},{"$f":"名簿!CM5","v":""},{"$f":"名簿!Z5","v":""},{"$f":"名簿!CM5","v":""},{"$f":"名簿!Y5","v":""},{"$f":"名簿!CN5","v":""},{"$f":"名簿!CP5","v":0},{"$f":"名簿!CU5","v":"00"},{"$f":"名簿!Q5","v":""},{"$f":"名簿!D5","v":0},null,{"$f":"IF(O8=\"\",\"\",IF(I8=1,VLOOKUP(O8,男子種目コード!$M$1:$N$13,2,FALSE),IF(I8=2,VLOOKUP(O8,女子種目コード!$M$1:$N$10,2,FALSE))))","v":""},{"$f":"IF(O8=\"\",\"\",HLOOKUP(O8,名簿!$AH$3:$CH$118,3,FALSE))","v":""},"","",null,{"$f":"IF(T8=\"\",\"\",IF(I8=1,VLOOKUP(T8,男子種目コード!$M$1:$N$13,2,FALSE),IF(I8=2,VLOOKUP(T8,女子種目コード!$M$1:$N$10,2,FALSE))))","v":""},{"$f":"IF(T8=\"\",\"\",HLOOKUP(T8,名簿!$AH$3:$CH$118,3,FALSE))","v":""},"","",null,{"$f":"IF(Y8=\"\",\"\",IF(I8=1,VLOOKUP(Y8,男子種目コード!$D$1:$E$20,2,FALSE),IF(I8=2,VLOOKUP(Y8,女子種目コード!$D$1:$E$20,2,FALSE))))","v":""},null,"","",null,{"$f":"IF(AD8=\"\",\"\",IF(I8=1,VLOOKUP(AD8,男子種目コード!$A$1:$B$33,2,FALSE),IF(V8=2,VLOOKUP(I8,女子種目コード!$A$1:$B$28,2,FALSE))))","v":""},null,null,{"$f":"IF(AG8=\"\",\"\",IF(I8=1,VLOOKUP(AG8,男子種目コード!$A$1:$B$33,2,FALSE),IF(AA8=2,VLOOKUP(I8,女子種目コード!$A$1:$B$28,2,FALSE))))","v":""},null,null,null,null,"1年1500","",0,0,200,{"$f":"COUNTIF($P$7:P$116,102)+COUNTIF($U7:$U116,102)","v":0},null,{"$f":"COUNTIF($Z7:$Z116,12)","v":0},null,{"$f":"COUNTIF($Z7:$Z116,13)","v":0},null,null,null,400,800,null,null,null,0,"",""]
["",{"$f":"名簿!P6","v":""},null,null,{"$f":"名簿!E6","v":0},{"$f":"名簿!CM6","v":""},{"$f":"名簿!Z6","v":""},{"$f":"名簿!CM6","v":""},{"$f":"名簿!Y6","v":""},{"$f":"名簿!CN6","v":""},{"$f":"名簿!CP6","v":0},{"$f":"名簿!CU6","v":"00"},{"$f":"名簿!Q6","v":""},{"$f":"名簿!D6","v":0},null,{"$f":"IF(O9=\"\",\"\",IF(I9=1,VLOOKUP(O9,男子種目コード!$M$1:$N$13,2,FALSE),IF(I9=2,VLOOKUP(O9,女子種目コード!$M$1:$N$10,2,FALSE))))","v":""},{"$f":"IF(O9=\"\",\"\",HLOOKUP(O9,名簿!$AH$3:$CH$118,4,FALSE))","v":""},"","",null,{"$f":"IF(T9=\"\",\"\",IF(I9=1,VLOOKUP(T9,男子種目コード!$M$1:$N$13,2,FALSE),IF(I9=2,VLOOKUP(T9,女子種目コード!$M$1:$N$10,2,FALSE))))","v":""},{"$f":"IF(T9=\"\",\"\",HLOOKUP(T9,名簿!$AH$3:$CH$118,4,FALSE))","v":""},"","",null,{"$f":"IF(Y9=\"\",\"\",IF(I9=1,VLOOKUP(Y9,男子種目コード!$D$1:$E$20,2,FALSE),IF(I9=2,VLOOKUP(Y9,女子種目コード!$D$1:$E$20,2,FALSE))))","v":""},null,"","",null,{"$f":"IF(AD9=\"\",\"\",IF(I9=1,VLOOKUP(AD9,男子種目コード!$A$1:$B$33,2,FALSE),IF(V9=2,VLOOKUP(I9,女子種目コード!$A$1:$B$28,2,FALSE))))","v":""},null,null,{"$f":"IF(AG9=\"\",\"\",IF(I9=1,VLOOKUP(AG9,男子種目コード!$A$1:$B$33,2,FALSE),IF(AA9=2,VLOOKUP(I9,女子種目コード!$A$1:$B$28,2,FALSE))))","v":""},null,null,null,null,"2年100","",0,0,400,{"$f":"COUNTIF($P$7:P$116,103)+COUNTIF($U$7:$U$116,103)","v":0},null,{"$f":"IF(ISERROR(BM9),\"\",BM9)","v":""},"","","",null,0,800,1500,null,null,null,0,"","",null,null,null,null,null,{"$f":"[1]!VLookUpX(12,$A$7:$F$116,1,5)","v":{"$error":"#NAME?"}},{"$f":"[1]!VLookUpX(12,$A$7:$F$116,1,6)","v":{"$error":"#NAME?"}},{"$f":"[1]!VLookUpX(13,$A$7:$F$116,1,5)","v":{"$error":"#NAME?"}},{"$f":"[1]!VLookUpX(13,$A$7:$F$116,1,6)","v":{"$error":"#NAME?"}}]
["",{"$f":"名簿!P7","v":""},null,null,{"$f":"名簿!E7","v":0},{"$f":"名簿!CM7","v":""},{"$f":"名簿!Z7","v":""},{"$f":"名簿!CM7","v":""},{"$f":"名簿!Y7","v":""},{"$f":"名簿!CN7","v":""},{"$f":"名簿!CP7","v":0},{"$f":"名簿!CU7","v":"00"},{"$f":"名簿!Q7","v":""},{"$f":"名簿!D7","v":0},null,{"$f":"IF(O10=\"\",\"\",IF(I10=1,VLOOKUP(O10,男子種目コード!$M$1:$N$13,2,FALSE),IF(I10=2,VLOOKUP(O10,女子種目コード!$M$1:$N$10,2,FALSE))))","v":""},{"$f":"IF(O10=\"\",\"\",HLOOKUP(O10,名簿!$AH$3:$CH$118,5,FALSE))","v":""},"","",null,{"$f":"IF(T10=\"\",\"\",IF(I10=1,VLOOKUP(T10,男子種目コード!$M$1:$N$13,2,FALSE),IF(I10=2,VLOOKUP(T10,女子種目コード!$M$1:$N$10,2,FALSE))))","v":""},{"$f":"IF(T10=\"\",\"\",HLOOKUP(T10,名簿!$AH$3:$CH$118,5,FALSE))","v":""},"","",null,{"$f":"IF(Y10=\"\",\"\",IF(I10=1,VLOOKUP(Y10,男子種目コード!$D$1:$E$20,2,FALSE),IF(I10=2,VLOOKUP(Y10,女子種目コード!$D$1:$E$20,2,FALSE))))","v":""},null,"","",null,{"$f":"IF(AD10=\"\",\"\",IF(I10=1,VLOOKUP(AD10,男子種目コード!$A$1:$B$33,2,FALSE),IF(V10=2,VLOOKUP(I10,女子種目コード!$A$1:$B$28,2,FALSE))))","v":""},null,null,{"$f":"IF(AG10=\"\",\"\",IF(I10=1,VLOOKUP(AG10,男子種目コード!$A$1:$B$33,2,FALSE),IF(AA10=2,VLOOKUP(I10,女子種目コード!$A$1:$B$28,2,FALSE))))","v":""},null,null,null,null,"2年1500","",0,0,800,{"$f":"COUNTIF($P$7:P$116,104)+COUNTIF($U$7:$U$116,104)","v":0},null,"","","","",null,null,1500,"100H",null,null,null,0,"","",null,null,null,null,null,{"$f":"[1]!VLookUpX(12,$A$7:$F$116,2,5)","v":{"$error":"#NAME?"}},{"$f":"[1]!VLookUpX(12,$A$7:$F$116,2,6)","v":{"$error":"#NAME?"}},{"$f":"[1]!VLookUpX(13,$A$7:$F$116,2,5)","v":{"$error":"#NAME?"}},{"$f":"[1]!VLookUpX(13,$A$7:$F$116,2,6)","v":{"$error":"#NAME?"}}]
["",{"$f":"名簿!P8","v":""},null,null,{"$f":"名簿!E8","v":0},{"$f":"名簿!CM8","v":""},{"$f":"名簿!Z8","v":""},{"$f":"名簿!CM8","v":""},{"$f":"名簿!Y8","v":""},{"$f":"名簿!CN8","v":""},{"$f":"名簿!CP8","v":0},{"$f":"名簿!CU8","v":"00"},{"$f":"名簿!Q8","v":""},{"$f":"名簿!D8","v":0},null,{"$f":"IF(O11=\"\",\"\",IF(I11=1,VLOOKUP(O11,男子種目コード!$M$1:$N$13,2,FALSE),IF(I11=2,VLOOKUP(O11,女子種目コード!$M$1:$N$10,2,FALSE))))","v":""},{"$f":"IF(O11=\"\",\"\",HLOOKUP(O11,名簿!$AH$3:$CH$118,6,FALSE))","v":""},"","",null,{"$f":"IF(T11=\"\",\"\",IF(I11=1,VLOOKUP(T11,男子種目コード!$M$1:$N$13,2,FALSE),IF(I11=2,VLOOKUP(T11,女子種目コード!$M$1:$N$10,2,FALSE))))","v":""},{"$f":"IF(T11=\"\",\"\",HLOOKUP(T11,名簿!$AH$3:$CH$118,6,FALSE))","v":""},"","",null,{"$f":"IF(Y11=\"\",\"\",IF(I11=1,VLOOKUP(Y11,男子種目コード!$D$1:$E$20,2,FALSE),IF(I11=2,VLOOKUP(Y11,女子種目コード!$D$1:$E$20,2,FALSE))))","v":""},null,"","",null,{"$f":"IF(AD11=\"\",\"\",IF(I11=1,VLOOKUP(AD11,男子種目コード!$A$1:$B$33,2,FALSE),IF(V11=2,VLOOKUP(I11,女子種目コード!$A$1:$B$28,2,FALSE))))","v":""},null,null,{"$f":"IF(AG11=\"\",\"\",IF(I11=1,VLOOKUP(AG11,男子種目コード!$A$1:$B$33,2,FALSE),IF(AA11=2,VLOOKUP(I11,女子種目コード!$A$1:$B$28,2,FALSE))))","v":""},null,null,null,null,"共通100","",0,0,1500,{"$f":"COUNTIF($P$7:P$116,105)+COUNTIF($U$7:$U$116,105)","v":0},null,"","","","",null,null,3000,"走高跳",null,null,null,0,"","",null,null,null,null,null,{"$f":"[1]!VLookUpX(12,$A$7:$F$116,3,5)","v":{"$error":"#NAME?"}},{"$f":"[1]!VLookUpX(12,$A$7:$F$116,3,6)","v":{"$error":"#NAME?"}},{"$f":"[1]!VLookUpX(13,$A$7:$F$116,3,5)","v":{"$error":"#NAME?"}},{"$f":"[1]!VLookUpX(13,$A$7:$F$116,3,6)","v":{"$error":"#NAME?"}}]
["",{"$f":"名簿!P9","v":""},null,null,{"$f":"名簿!E9","v":0},{"$f":"名簿!CM9","v":""},{"$f":"名簿!Z9","v":""},{"$f":"名簿!CM9","v":""},{"$f":"名簿!Y9","v":""},{"$f":"名簿!CN9","v":""},{"$f":"名簿!CP9","v":0},{"$f":"名簿!CU9","v":"00"},{"$f":"名簿!Q9","v":""},{"$f":"名簿!D9","v":0},null,{"$f":"IF(O12=\"\",\"\",IF(I12=1,VLOOKUP(O12,男子種目コード!$M$1:$N$13,2,FALSE),IF(I12=2,VLOOKUP(O12,女子種目コード!$M$1:$N$10,2,FALSE))))","v":""},{"$f":"IF(O12=\"\",\"\",HLOOKUP(O12,名簿!$AH$3:$CH$118,7,FALSE))","v":""},"","",null,{"$f":"IF(T12=\"\",\"\",IF(I12=1,VLOOKUP(T12,男子種目コード!$M$1:$N$13,2,FALSE),IF(I12=2,VLOOKUP(T12,女子種目コード!$M$1:$N$10,2,FALSE))))","v":""},{"$f":"IF(T12=\"\",\"\",HLOOKUP(T12,名簿!$AH$3:$CH$118,7,FALSE))","v":""},"","",null,{"$f":"IF(Y12=\"\",\"\",IF(I12=1,VLOOKUP(Y12,男子種目コード!$D$1:$E$20,2,FALSE),IF(I12=2,VLOOKUP(Y12,女子種目コード!$D$1:$E$20,2,FALSE))))","v":""},null,"","",null,{"$f":"IF(AD12=\"\",\"\",IF(I12=1,VLOOKUP(AD12,男子種目コード!$A$1:$B$33,2,FALSE),IF(V12=2,VLOOKUP(I12,女子種目コード!$A$1:$B$28,2,FALSE))))","v":""},null,null,{"$f":"IF(AG12=\"\",\"\",IF(I12=1,VLOOKUP(AG12,男子種目コード!$A$1:$B$33,2,FALSE),IF(AA12=2,VLOOKUP(I12,女子種目コード!$A$1:$B$28,2,FALSE))))","v":""},null,null,null,null,"共通200","",0,0,3000,{"$f":"COUNTIF($P$7:P$116,106)+COUNTIF($U$7:$U$116,106)","v":0},null,"","","","",null,null,"110H","走幅跳",null,null,null,0,"","",null,null,null,null,null,{"$f":"[1]!VLookUpX(12,$A$7:$F$116,4,5)","v":{"$error":"#NAME?"}},{"$f":"[1]!VLookUpX(12,$A$7:$F$116,4,6)","v":{"$error":"#NAME?"}},{"$f":"[1]!VLookUpX(13,$A$7:$F$116,4,5)","v":{"$error":"#NAME?"}},{"$f":"[1]!VLookUpX(13,$A$7:$F$116,4,6)","v":{"$error":"#NAME?"}}]
["",{"$f":"名簿!P10","v":""},null,null,{"$f":"名簿!E10","v":0},{"$f":"名簿!CM10","v":""},{"$f":"名簿!Z10","v":""},{"$f":"名簿!CM10","v":""},{"$f":"名簿!Y10","v":""},{"$f":"名簿!CN10","v":""},{"$f":"名簿!CP10","v":0},{"$f":"名簿!CU10","v":"00"},{"$f":"名簿!Q10","v":""},{"$f":"名簿!D10","v":0},null,{"$f":"IF(O13=\"\",\"\",IF(I13=1,VLOOKUP(O13,男子種目コード!$M$1:$N$13,2,FALSE),IF(I13=2,VLOOKUP(O13,女子種目コード!$M$1:$N$10,2,FALSE))))","v":""},{"$f":"IF(O13=\"\",\"\",HLOOKUP(O13,名簿!$AH$3:$CH$118,8,FALSE))","v":""},"","",null,{"$f":"IF(T13=\"\",\"\",IF(I13=1,VLOOKUP(T13,男子種目コード!$M$1:$N$13,2,FALSE),IF(I13=2,VLOOKUP(T13,女子種目コード!$M$1:$N$10,2,FALSE))))","v":""},{"$f":"IF(T13=\"\",\"\",HLOOKUP(T13,名簿!$AH$3:$CH$118,8,FALSE))","v":""},"","",null,{"$f":"IF(Y13=\"\",\"\",IF(I13=1,VLOOKUP(Y13,男子種目コード!$D$1:$E$20,2,FALSE),IF(I13=2,VLOOKUP(Y13,女子種目コード!$D$1:$E$20,2,FALSE))))","v":""},null,"","",null,{"$f":"IF(AD13=\"\",\"\",IF(I13=1,VLOOKUP(AD13,男子種目コード!$A$1:$B$33,2,FALSE),IF(V13=2,VLOOKUP(I13,女子種目コード!$A$1:$B$28,2,FALSE))))","v":""},null,null,{"$f":"IF(AG13=\"\",\"\",IF(I13=1,VLOOKUP(AG13,男子種目コード!$A$1:$B$33,2,FALSE),IF(AA13=2,VLOOKUP(I13,女子種目コード!$A$1:$B$28,2,FALSE))))","v":""},null,null,null,null,"共通400","",0,0,"110H",{"$f":"COUNTIF($P$7:P$116,107)+COUNTIF($U$7:$U$116,107)","v":0},null,"","","","",null,null,"走高跳","砲丸投",null,null,null,0,"","",null,null,null,null,null,{"$f":"[1]!VLookUpX(12,$A$7:$F$116,5,5)","v":{"$error":"#NAME?"}},{"$f":"[1]!VLookUpX(12,$A$7:$F$116,5,6)","v":{"$error":"#NAME?"}},{"$f":"[1]!VLookUpX(13,$A$7:$F$116,5,5)","v":{"$error":"#NAME?"}},{"$f":"[1]!VLookUpX(13,$A$7:$F$116,5,6)","v":{"$error":"#NAME?"}}]
["",{"$f":"名簿!P11","v":""},null,null,{"$f":"名簿!E11","v":0},{"$f":"名簿!CM11","v":""},{"$f":"名簿!Z11","v":""},{"$f":"名簿!CM11","v":""},{"$f":"名簿!Y11","v":""},{"$f":"名簿!CN11","v":""},{"$f":"名簿!CP11","v":0},{"$f":"名簿!CU11","v":"00"},{"$f":"名簿!Q11","v":""},{"$f":"名簿!D11","v":0},null,{"$f":"IF(O14=\"\",\"\",IF(I14=1,VLOOKUP(O14,男子種目コード!$M$1:$N$13,2,FALSE),IF(I14=2,VLOOKUP(O14,女子種目コード!$M$1:$N$10,2,FALSE))))","v":""},{"$f":"IF(O14=\"\",\"\",HLOOKUP(O14,名簿!$AH$3:$CH$118,9,FALSE))","v":""},"","",null,{"$f":"IF(T14=\"\",\"\",IF(I14=1,VLOOKUP(T14,男子種目コード!$M$1:$N$13,2,FALSE),IF(I14=2,VLOOKUP(T14,女子種目コード!$M$1:$N$10,2,FALSE))))","v":""},{"$f":"IF(T14=\"\",\"\",HLOOKUP(T14,名簿!$AH$3:$CH$118,9,FALSE))","v":""},"","",null,{"$f":"IF(Y14=\"\",\"\",IF(I14=1,VLOOKUP(Y14,男子種目コード!$D$1:$E$20,2,FALSE),IF(I14=2,VLOOKUP(Y14,女子種目コード!$D$1:$E$20,2,FALSE))))","v":""},null,"","",null,{"$f":"IF(AD14=\"\",\"\",IF(I14=1,VLOOKUP(AD14,男子種目コード!$A$1:$B$33,2,FALSE),IF(V14=2,VLOOKUP(I14,女子種目コード!$A$1:$B$28,2,FALSE))))","v":""},null,null,{"$f":"IF(AG14=\"\",\"\",IF(I14=1,VLOOKUP(AG14,男子種目コード!$A$1:$B$33,2,FALSE),IF(AA14=2,VLOOKUP(I14,女子種目コード!$A$1:$B$28,2,FALSE))))","v":""},null,null,null,null,"共通800","",0,0,"走高跳",{"$f":"COUNTIF($P$7:P$116,108)+COUNTIF($U$7:$U$116,108)","v":0},null,"","","","",null,null,"棒高跳","四種",null,null,null,0,"","",null,null,null,null,null,{"$f":"[1]!VLookUpX(12,$A$7:$F$116,6,5)","v":{"$error":"#NAME?"}},{"$f":"[1]!VLookUpX(12,$A$7:$F$116,6,6)","v":{"$error":"#NAME?"}},{"$f":"[1]!VLookUpX(13,$A$7:$F$116,6,5)","v":{"$error":"#NAME?"}},{"$f":"[1]!VLookUpX(13,$A$7:$F$116,6,6)","v":{"$error":"#NAME?"}}]
["",{"$f":"名簿!P12","v":""},null,null,{"$f":"名簿!E12","v":0},{"$f":"名簿!CM12","v":""},{"$f":"名簿!Z12","v":""},{"$f":"名簿!CM12","v":""},{"$f":"名簿!Y12","v":""},{"$f":"名簿!CN12","v":""},{"$f":"名簿!CP12","v":0},{"$f":"名簿!CU12","v":"00"},{"$f":"名簿!Q12","v":""},{"$f":"名簿!D12","v":0},null,{"$f":"IF(O15=\"\",\"\",IF(I15=1,VLOOKUP(O15,男子種目コード!$M$1:$N$13,2,FALSE),IF(I15=2,VLOOKUP(O15,女子種目コード!$M$1:$N$10,2,FALSE))))","v":""},{"$f":"IF(O15=\"\",\"\",HLOOKUP(O15,名簿!$AH$3:$CH$118,10,FALSE))","v":""},"","",null,{"$f":"IF(T15=\"\",\"\",IF(I15=1,VLOOKUP(T15,男子種目コード!$M$1:$N$13,2,FALSE),IF(I15=2,VLOOKUP(T15,女子種目コード!$M$1:$N$10,2,FALSE))))","v":""},{"$f":"IF(T15=\"\",\"\",HLOOKUP(T15,名簿!$AH$3:$CH$118,10,FALSE))","v":""},"","",null,{"$f":"IF(Y15=\"\",\"\",IF(I15=1,VLOOKUP(Y15,男子種目コード!$D$1:$E$20,2,FALSE),IF(I15=2,VLOOKUP(Y15,女子種目コード!$D$1:$E$20,2,FALSE))))","v":""},null,"","",null,{"$f":"IF(AD15=\"\",\"\",IF(I15=1,VLOOKUP(AD15,男子種目コード!$A$1:$B$33,2,FALSE),IF(V15=2,VLOOKUP(I15,女子種目コード!$A$1:$B$28,2,FALSE))))","v":""},null,null,{"$f":"IF(AG15=\"\",\"\",IF(I15=1,VLOOKUP(AG15,男子種目コード!$A$1:$B$33,2,FALSE),IF(AA15=2,VLOOKUP(I15,女子種目コード!$A$1:$B$28,2,FALSE))))","v":""},null,null,null,null,"共通1500","",0,0,"棒高跳",{"$f":"COUNTIF($P$7:P$116,109)+COUNTIF($U$7:$U$116,109)","v":0},null,"低学年",null,"高学年",null,null,null,"走幅跳",null,null,null,null,0,"",""]
["",{"$f":"名簿!P13","v":""},null,null,{"$f":"名簿!E13","v":0},{"$f":"名簿!CM13","v":""},{"$f":"名簿!Z13","v":""},{"$f":"名簿!CM13","v":""},{"$f":"名簿!Y13","v":""},{"$f":"名簿!CN13","v":""},{"$f":"名簿!CP13","v":0},{"$f":"名簿!CU13","v":"00"},{"$f":"名簿!Q13","v":""},{"$f":"名簿!D13","v":0},null,{"$f":"IF(O16=\"\",\"\",IF(I16=1,VLOOKUP(O16,男子種目コード!$M$1:$N$13,2,FALSE),IF(I16=2,VLOOKUP(O16,女子種目コード!$M$1:$N$10,2,FALSE))))","v":""},{"$f":"IF(O16=\"\",\"\",HLOOKUP(O16,名簿!$AH$3:$CH$118,11,FALSE))","v":""},"","",null,{"$f":"IF(T16=\"\",\"\",IF(I16=1,VLOOKUP(T16,男子種目コード!$M$1:$N$13,2,FALSE),IF(I16=2,VLOOKUP(T16,女子種目コード!$M$1:$N$10,2,FALSE))))","v":""},{"$f":"IF(T16=\"\",\"\",HLOOKUP(T16,名簿!$AH$3:$CH$118,11,FALSE))","v":""},"","",null,{"$f":"IF(Y16=\"\",\"\",IF(I16=1,VLOOKUP(Y16,男子種目コード!$D$1:$E$20,2,FALSE),IF(I16=2,VLOOKUP(Y16,女子種目コード!$D$1:$E$20,2,FALSE))))","v":""},null,"","",null,{"$f":"IF(AD16=\"\",\"\",IF(I16=1,VLOOKUP(AD16,男子種目コード!$A$1:$B$33,2,FALSE),IF(V16=2,VLOOKUP(I16,女子種目コード!$A$1:$B$28,2,FALSE))))","v":""},null,null,{"$f":"IF(AG16=\"\",\"\",IF(I16=1,VLOOKUP(AG16,男子種目コード!$A$1:$B$33,2,FALSE),IF(AA16=2,VLOOKUP(I16,女子種目コード!$A$1:$B$28,2,FALSE))))","v":""},null,null,null,null,"共通3000","",0,0,"走幅跳",{"$f":"COUNTIF($P$7:P$116,110)+COUNTIF($U$7:$U$116,110)","v":0},null,"記録",null,"記録",null,null,null,"砲丸投",null,null,null,null,0,"",""]
["",{"$f":"名簿!P14","v":""},null,null,{"$f":"名簿!E14","v":0},{"$f":"名簿!CM14","v":""},{"$f":"名簿!Z14","v":""},{"$f":"名簿!CM14","v":""},{"$f":"名簿!Y14","v":""},{"$f":"名簿!CN14","v":""},{"$f":"名簿!CP14","v":0},{"$f":"名簿!CU14","v":"00"},{"$f":"名簿!Q14","v":""},{"$f":"名簿!D14","v":0},null,{"$f":"IF(O17=\"\",\"\",IF(I17=1,VLOOKUP(O17,男子種目コード!$M$1:$N$13,2,FALSE),IF(I17=2,VLOOKUP(O17,女子種目コード!$M$1:$N$10,2,FALSE))))","v":""},{"$f":"IF(O17=\"\",\"\",HLOOKUP(O17,名簿!$AH$3:$CH$118,12,FALSE))","v":""},"","",null,{"$f":"IF(T17=\"\",\"\",IF(I17=1,VLOOKUP(T17,男子種目コード!$M$1:$N$13,2,FALSE),IF(I17=2,VLOOKUP(T17,女子種目コード!$M$1:$N$10,2,FALSE))))","v":""},{"$f":"IF(T17=\"\",\"\",HLOOKUP(T17,名簿!$AH$3:$CH$118,12,FALSE))","v":""},"","",null,{"$f":"IF(Y17=\"\",\"\",IF(I17=1,VLOOKUP(Y17,男子種目コード!$D$1:$E$20,2,FALSE),IF(I17=2,VLOOKUP(Y17,女子種目コード!$D$1:$E$20,2,FALSE))))","v":""},null,"","",null,{"$f":"IF(AD17=\"\",\"\",IF(I17=1,VLOOKUP(AD17,男子種目コード!$A$1:$B$33,2,FALSE),IF(V17=2,VLOOKUP(I17,女子種目コード!$A$1:$B$28,2,FALSE))))","v":""},null,null,{"$f":"IF(AG17=\"\",\"\",IF(I17=1,VLOOKUP(AG17,男子種目コード!$A$1:$B$33,2,FALSE),IF(AA17=2,VLOOKUP(I17,女子種目コード!$A$1:$B$28,2,FALSE))))","v":""},null,null,null,null,"共通110H","",0,0,"砲丸投",{"$f":"COUNTIF($P$7:P$116,111)+COUNTIF($U$7:$U$116,111)","v":0},null,{"$f":"COUNTIF($Z16:$Z125,38)","v":0},null,{"$f":"COUNTIF($Z16:$Z125,39)","v":0},null,null,null,"四種",null,null,null,null,0,"",""]
["",{"$f":"名簿!P15","v":""},null,null,{"$f":"名簿!E15","v":0},{"$f":"名簿!CM15","v":""},{"$f":"名簿!Z15","v":""},{"$f":"名簿!CM15","v":""},{"$f":"名簿!Y15","v":""},{"$f":"名簿!CN15","v":""},{"$f":"名簿!CP15","v":0},{"$f":"名簿!CU15","v":"00"},{"$f":"名簿!Q15","v":""},{"$f":"名簿!D15","v":0},null,{"$f":"IF(O18=\"\",\"\",IF(I18=1,VLOOKUP(O18,男子種目コード!$M$1:$N$13,2,FALSE),IF(I18=2,VLOOKUP(O18,女子種目コード!$M$1:$N$10,2,FALSE))))","v":""},{"$f":"IF(O18=\"\",\"\",HLOOKUP(O18,名簿!$AH$3:$CH$118,13,FALSE))","v":""},"","",null,{"$f":"IF(T18=\"\",\"\",IF(I18=1,VLOOKUP(T18,男子種目コード!$M$1:$N$13,2,FALSE),IF(I18=2,VLOOKUP(T18,女子種目コード!$M$1:$N$10,2,FALSE))))","v":""},{"$f":"IF(T18=\"\",\"\",HLOOKUP(T18,名簿!$AH$3:$CH$118,13,FALSE))","v":""},"","",null,{"$f":"IF(Y18=\"\",\"\",IF(I18=1,VLOOKUP(Y18,男子種目コード!$D$1:$E$20,2,FALSE),IF(I18=2,VLOOKUP(Y18,女子種目コード!$D$1:$E$20,2,FALSE))))","v":""},null,"","",null,{"$f":"IF(AD18=\"\",\"\",IF(I18=1,VLOOKUP(AD18,男子種目コード!$A$1:$B$33,2,FALSE),IF(V18=2,VLOOKUP(I18,女子種目コード!$A$1:$B$28,2,FALSE))))","v":""},null,null,{"$f":"IF(AG18=\"\",\"\",IF(I18=1,VLOOKUP(AG18,男子種目コード!$A$1:$B$33,2,FALSE),IF(AA18=2,VLOOKUP(I18,女子種目コード!$A$1:$B$28,2,FALSE))))","v":""},null,null,null,null,"共通100H","",0,0,"四種",{"$f":"COUNTIF($P$7:P$116,112)+COUNTIF($U$7:$U$116,112)","v":0},null,{"$f":"IF(ISERROR(BM18),\"\",BM18)","v":""},"","","",null,null,null,null,null,null,null,0,"","",null,null,null,null,null,{"$f":"[1]!VLookUpX(38,$A$7:$F$116,1,5)","v":{"$error":"#NAME?"}},{"$f":"[1]!VLookUpX(38,$A$7:$F$116,1,6)","v":{"$error":"#NAME?"}},{"$f":"[1]!VLookUpX(39,$A$7:$F$116,1,5)","v":{"$error":"#NAME?"}},{"$f":"[1]!VLookUpX(39,$A$7:$F$116,1,6)","v":{"$error":"#NAME?"}}]
["",{"$f":"名簿!P16","v":""},null,null,{"$f":"名簿!E16","v":0},{"$f":"名簿!CM16","v":""},{"$f":"名簿!Z16","v":""},{"$f":"名簿!CM16","v":""},{"$f":"名簿!Y16","v":""},{"$f":"名簿!CN16","v":""},{"$f":"名簿!CP16","v":0},{"$f":"名簿!CU16","v":"00"},{"$f":"名簿!Q16","v":""},{"$f":"名簿!D16","v":0},null,{"$f":"IF(O19=\"\",\"\",IF(I19=1,VLOOKUP(O19,男子種目コード!$M$1:$N$13,2,FALSE),IF(I19=2,VLOOKUP(O19,女子種目コード!$M$1:$N$10,2,FALSE))))","v":""},{"$f":"IF(O19=\"\",\"\",HLOOKUP(O19,名簿!$AH$3:$CH$118,14,FALSE))","v":""},"","",null,{"$f":"IF(T19=\"\",\"\",IF(I19=1,VLOOKUP(T19,男子種目コード!$M$1:$N$13,2,FALSE),IF(I19=2,VLOOKUP(T19,女子種目コード!$M$1:$N$10,2,FALSE))))","v":""},{"$f":"IF(T19=\"\",\"\",HLOOKUP(T19,名簿!$AH$3:$CH$118,14,FALSE))","v":""},"","",null,{"$f":"IF(Y19=\"\",\"\",IF(I19=1,VLOOKUP(Y19,男子種目コード!$D$1:$E$20,2,FALSE),IF(I19=2,VLOOKUP(Y19,女子種目コード!$D$1:$E$20,2,FALSE))))","v":""},null,"","",null,{"$f":"IF(AD19=\"\",\"\",IF(I19=1,VLOOKUP(AD19,男子種目コード!$A$1:$B$33,2,FALSE),IF(V19=2,VLOOKUP(I19,女子種目コード!$A$1:$B$28,2,FALSE))))","v":""},null,null,{"$f":"IF(AG19=\"\",\"\",IF(I19=1,VLOOKUP(AG19,男子種目コード!$A$1:$B$33,2,FALSE),IF(AA19=2,VLOOKUP(I19,女子種目コード!$A$1:$B$28,2,FALSE))))","v":""},null,null,null,null,"共通走高跳","",0,0,"計",{"$f":"SUM(AR7:AR18)","v":0},null,"","","","",null,null,null,null,null,null,null,0,"","",null,null,null,null,null,{"$f":"[1]!VLookUpX(38,$A$7:$F$116,2,5)","v":{"$error":"#NAME?"}},{"$f":"[1]!VLookUpX(38,$A$7:$F$116,2,6)","v":{"$error":"#NAME?"}},{"$f":"[1]!VLookUpX(39,$A$7:$F$116,2,5)","v":{"$error":"#NAME?"}},{"$f":"[1]!VLookUpX(39,$A$7:$F$116,2,6)","v":{"$error":"#NAME?"}}]
["",{"$f":"名簿!P17","v":""},null,null,{"$f":"名簿!E17","v":0},{"$f":"名簿!CM17","v":""},{"$f":"名簿!Z17","v":""},{"$f":"名簿!CM17","v":""},{"$f":"名簿!Y17","v":""},{"$f":"名簿!CN17","v":""},{"$f":"名簿!CP17","v":0},{"$f":"名簿!CU17","v":"00"},{"$f":"名簿!Q17","v":""},{"$f":"名簿!D17","v":0},null,{"$f":"IF(O20=\"\",\"\",IF(I20=1,VLOOKUP(O20,男子種目コード!$M$1:$N$13,2,FALSE),IF(I20=2,VLOOKUP(O20,女子種目コード!$M$1:$N$10,2,FALSE))))","v":""},{"$f":"IF(O20=\"\",\"\",HLOOKUP(O20,名簿!$AH$3:$CH$118,15,FALSE))","v":""},"","",null,{"$f":"IF(T20=\"\",\"\",IF(I20=1,VLOOKUP(T20,男子種目コード!$M$1:$N$13,2,FALSE),IF(I20=2,VLOOKUP(T20,女子種目コード!$M$1:$N$10,2,FALSE))))","v":""},{"$f":"IF(T20=\"\",\"\",HLOOKUP(T20,名簿!$AH$3:$CH$118,15,FALSE))","v":""},"","",null,{"$f":"IF(Y20=\"\",\"\",IF(I20=1,VLOOKUP(Y20,男子種目コード!$D$1:$E$20,2,FALSE),IF(I20=2,VLOOKUP(Y20,女子種目コード!$D$1:$E$20,2,FALSE))))","v":""},null,"","",null,{"$f":"IF(AD20=\"\",\"\",IF(I20=1,VLOOKUP(AD20,男子種目コード!$A$1:$B$33,2,FALSE),IF(V20=2,VLOOKUP(I20,女子種目コード!$A$1:$B$28,2,FALSE))))","v":""},null,null,{"$f":"IF(AG20=\"\",\"\",IF(I20=1,VLOOKUP(AG20,男子種目コード!$A$1:$B$33,2,FALSE),IF(AA20=2,VLOOKUP(I20,女子種目コード!$A$1:$B$28,2,FALSE))))","v":""},null,null,null,null,"共通棒高跳","",0,0,100,{"$f":"COUNTIF($P$7:P$116,113)+COUNTIF($U$7:$U$116,113)","v":0},null,"","","","",null,null,null,null,null,null,null,0,"","",null,null,null,null,null,{"$f":"[1]!VLookUpX(38,$A$7:$F$116,3,5)","v":{"$error":"#NAME?"}},{"$f":"[1]!VLookUpX(38,$A$7:$F$116,3,6)","v":{"$error":"#NAME?"}},{"$f":"[1]!VLookUpX(39,$A$7:$F$116,3,5)","v":{"$error":"#NAME?"}},{"$f":"[1]!VLookUpX(39,$A$7:$F$116,3,6)","v":{"$error":"#NAME?"}}]
["",{"$f":"名簿!P18","v":""},null,null,{"$f":"名簿!E18","v":0},{"$f":"名簿!CM18","v":""},{"$f":"名簿!Z18","v":""},{"$f":"名簿!CM18","v":""},{"$f":"名簿!Y18","v":""},{"$f":"名簿!CN18","v":""},{"$f":"名簿!CP18","v":0},{"$f":"名簿!CU18","v":"00"},{"$f":"名簿!Q18","v":""},{"$f":"名簿!D18","v":0},null,{"$f":"IF(O21=\"\",\"\",IF(I21=1,VLOOKUP(O21,男子種目コード!$M$1:$N$13,2,FALSE),IF(I21=2,VLOOKUP(O21,女子種目コード!$M$1:$N$10,2,FALSE))))","v":""},{"$f":"IF(O21=\"\",\"\",HLOOKUP(O21,名簿!$AH$3:$CH$118,16,FALSE))","v":""},"","",null,{"$f":"IF(T21=\"\",\"\",IF(I21=1,VLOOKUP(T21,男子種目コード!$M$1:$N$13,2,FALSE),IF(I21=2,VLOOKUP(T21,女子種目コード!$M$1:$N$10,2,FALSE))))","v":""},{"$f":"IF(T21=\"\",\"\",HLOOKUP(T21,名簿!$AH$3:$CH$118,16,FALSE))","v":""},"","",null,{"$f":"IF(Y21=\"\",\"\",IF(I21=1,VLOOKUP(Y21,男子種目コード!$D$1:$E$20,2,FALSE),IF(I21=2,VLOOKUP(Y21,女子種目コード!$D$1:$E$20,2,FALSE))))","v":""},null,"","",null,{"$f":"IF(AD21=\"\",\"\",IF(I21=1,VLOOKUP(AD21,男子種目コード!$A$1:$B$33,2,FALSE),IF(V21=2,VLOOKUP(I21,女子種目コード!$A$1:$B$28,2,FALSE))))","v":""},null,null,{"$f":"IF(AG21=\"\",\"\",IF(I21=1,VLOOKUP(AG21,男子種目コード!$A$1:$B$33,2,FALSE),IF(AA21=2,VLOOKUP(I21,女子種目コード!$A$1:$B$28,2,FALSE))))","v":""},null,null,null,null,"共通走幅跳","",0,0,200,{"$f":"COUNTIF($P$7:P$116,114)+COUNTIF($U$7:$U$116,114)","v":0},null,"","","","",null,null,null,null,null,null,null,0,"","",null,null,null,null,null,{"$f":"[1]!VLookUpX(38,$A$7:$F$116,4,5)","v":{"$error":"#NAME?"}},{"$f":"[1]!VLookUpX(38,$A$7:$F$116,4,6)","v":{"$error":"#NAME?"}},{"$f":"[1]!VLookUpX(39,$A$7:$F$116,4,5)","v":{"$error":"#NAME?"}},{"$f":"[1]!VLookUpX(39,$A$7:$F$116,4,6)","v":{"$error":"#NAME?"}}]
["",{"$f":"名簿!P19","v":""},null,null,{"$f":"名簿!E19","v":0},{"$f":"名簿!CM19","v":""},{"$f":"名簿!Z19","v":""},{"$f":"名簿!CM19","v":""},{"$f":"名簿!Y19","v":""},{"$f":"名簿!CN19","v":""},{"$f":"名簿!CP19","v":0},{"$f":"名簿!CU19","v":"00"},{"$f":"名簿!Q19","v":""},{"$f":"名簿!D19","v":0},null,{"$f":"IF(O22=\"\",\"\",IF(I22=1,VLOOKUP(O22,男子種目コード!$M$1:$N$13,2,FALSE),IF(I22=2,VLOOKUP(O22,女子種目コード!$M$1:$N$10,2,FALSE))))","v":""},{"$f":"IF(O22=\"\",\"\",HLOOKUP(O22,名簿!$AH$3:$CH$118,17,FALSE))","v":""},"","",null,{"$f":"IF(T22=\"\",\"\",IF(I22=1,VLOOKUP(T22,男子種目コード!$M$1:$N$13,2,FALSE),IF(I22=2,VLOOKUP(T22,女子種目コード!$M$1:$N$10,2,FALSE))))","v":""},{"$f":"IF(T22=\"\",\"\",HLOOKUP(T22,名簿!$AH$3:$CH$118,17,FALSE))","v":""},"","",null,{"$f":"IF(Y22=\"\",\"\",IF(I22=1,VLOOKUP(Y22,男子種目コード!$D$1:$E$20,2,FALSE),IF(I22=2,VLOOKUP(Y22,女子種目コード!$D$1:$E$20,2,FALSE))))","v":""},null,"","",null,{"$f":"IF(AD22=\"\",\"\",IF(I22=1,VLOOKUP(AD22,男子種目コード!$A$1:$B$33,2,FALSE),IF(V22=2,VLOOKUP(I22,女子種目コード!$A$1:$B$28,2,FALSE))))","v":""},null,null,{"$f":"IF(AG22=\"\",\"\",IF(I22=1,VLOOKUP(AG22,男子種目コード!$A$1:$B$33,2,FALSE),IF(AA22=2,VLOOKUP(I22,女子種目コード!$A$1:$B$28,2,FALSE))))","v":""},null,null,null,null,"共通三段跳","",0,0,800,{"$f":"COUNTIF($P$7:P$116,115)+COUNTIF($U$7:$U$116,115)","v":0},null,"","","","",null,null,null,null,null,null,null,0,"","",null,null,null,null,null,{"$f":"[1]!VLookUpX(38,$A$7:$F$116,5,5)","v":{"$error":"#NAME?"}},{"$f":"[1]!VLookUpX(38,$A$7:$F$116,5,6)","v":{"$error":"#NAME?"}},{"$f":"[1]!VLookUpX(39,$A$7:$F$116,5,5)","v":{"$error":"#NAME?"}},{"$f":"[1]!VLookUpX(39,$A$7:$F$116,5,6)","v":{"$error":"#NAME?"}}]
["",{"$f":"名簿!P20","v":""},null,null,{"$f":"名簿!E20","v":0},{"$f":"名簿!CM20","v":""},{"$f":"名簿!Z20","v":""},{"$f":"名簿!CM20","v":""},{"$f":"名簿!Y20","v":""},{"$f":"名簿!CN20","v":""},{"$f":"名簿!CP20","v":0},{"$f":"名簿!CU20","v":"00"},{"$f":"名簿!Q20","v":""},{"$f":"名簿!D20","v":0},null,{"$f":"IF(O23=\"\",\"\",IF(I23=1,VLOOKUP(O23,男子種目コード!$M$1:$N$13,2,FALSE),IF(I23=2,VLOOKUP(O23,女子種目コード!$M$1:$N$10,2,FALSE))))","v":""},{"$f":"IF(O23=\"\",\"\",HLOOKUP(O23,名簿!$AH$3:$CH$118,18,FALSE))","v":""},"","",null,{"$f":"IF(T23=\"\",\"\",IF(I23=1,VLOOKUP(T23,男子種目コード!$M$1:$N$13,2,FALSE),IF(I23=2,VLOOKUP(T23,女子種目コード!$M$1:$N$10,2,FALSE))))","v":""},{"$f":"IF(T23=\"\",\"\",HLOOKUP(T23,名簿!$AH$3:$CH$118,18,FALSE))","v":""},"","",null,{"$f":"IF(Y23=\"\",\"\",IF(I23=1,VLOOKUP(Y23,男子種目コード!$D$1:$E$20,2,FALSE),IF(I23=2,VLOOKUP(Y23,女子種目コード!$D$1:$E$20,2,FALSE))))","v":""},null,"","",null,{"$f":"IF(AD23=\"\",\"\",IF(I23=1,VLOOKUP(AD23,男子種目コード!$A$1:$B$33,2,FALSE),IF(V23=2,VLOOKUP(I23,女子種目コード!$A$1:$B$28,2,FALSE))))","v":""},null,null,{"$f":"IF(AG23=\"\",\"\",IF(I23=1,VLOOKUP(AG23,男子種目コード!$A$1:$B$33,2,FALSE),IF(AA23=2,VLOOKUP(I23,女子種目コード!$A$1:$B$28,2,FALSE))))","v":""},null,null,null,null,"共通砲丸投","",0,0,1500,{"$f":"COUNTIF($P$7:P$116,116)+COUNTIF($U$7:$U$116,116)","v":0},null,"","","","",null,null,null,null,null,null,null,0,"","",null,null,null,null,null,{"$f":"[1]!VLookUpX(38,$A$7:$F$116,6,5)","v":{"$error":"#NAME?"}},{"$f":"[1]!VLookUpX(38,$A$7:$F$116,6,6)","v":{"$error":"#NAME?"}},{"$f":"[1]!VLookUpX(39,$A$7:$F$116,6,5)","v":{"$error":"#NAME?"}},{"$f":"[1]!VLookUpX(39,$A$7:$F$116,6,6)","v":{"$error":"#NAME?"}}]
["",{"$f":"名簿!P21","v":""},null,null,{"$f":"名簿!E21","v":0},{"$f":"名簿!CM21","v":""},{"$f":"名簿!Z21","v":""},{"$f":"名簿!CM21","v":""},{"$f":"名簿!Y21","v":""},{"$f":"名簿!CN21","v":""},{"$f":"名簿!CP21","v":0},{"$f":"名簿!CU21","v":"00"},{"$f":"名簿!Q21","v":""},{"$f":"名簿!D21","v":0},null,{"$f":"IF(O24=\"\",\"\",IF(I24=1,VLOOKUP(O24,男子種目コード!$M$1:$N$13,2,FALSE),IF(I24=2,VLOOKUP(O24,女子種目コード!$M$1:$N$10,2,FALSE))))","v":""},{"$f":"IF(O24=\"\",\"\",HLOOKUP(O24,名簿!$AH$3:$CH$118,19,FALSE))","v":""},"","",null,{"$f":"IF(T24=\"\",\"\",IF(I24=1,VLOOKUP(T24,男子種目コード!$M$1:$N$13,2,FALSE),IF(I24=2,VLOOKUP(T24,女子種目コード!$M$1:$N$10,2,FALSE))))","v":""},{"$f":"IF(T24=\"\",\"\",HLOOKUP(T24,名簿!$AH$3:$CH$118,19,FALSE))","v":""},"","",null,{"$f":"IF(Y24=\"\",\"\",IF(I24=1,VLOOKUP(Y24,男子種目コード!$D$1:$E$20,2,FALSE),IF(I24=2,VLOOKUP(Y24,女子種目コード!$D$1:$E$20,2,FALSE))))","v":""},null,"","",null,{"$f":"IF(AD24=\"\",\"\",IF(I24=1,VLOOKUP(AD24,男子種目コード!$A$1:$B$33,2,FALSE),IF(V24=2,VLOOKUP(I24,女子種目コード!$A$1:$B$28,2,FALSE))))","v":""},null,null,{"$f":"IF(AG24=\"\",\"\",IF(I24=1,VLOOKUP(AG24,男子種目コード!$A$1:$B$33,2,FALSE),IF(AA24=2,VLOOKUP(I24,女子種目コード!$A$1:$B$28,2,FALSE))))","v":""},null,null,null,null,"共通円盤投","",0,0,"100H",{"$f":"COUNTIF($P$7:P$116,117)+COUNTIF($U$7:$U$116,117)","v":0},null,null,null,null,null,null,null,null,null,null,null,null,0,"",""]
["",{"$f":"名簿!P22","v":""},null,null,{"$f":"名簿!E22","v":0},{"$f":"名簿!CM22","v":""},{"$f":"名簿!Z22","v":""},{"$f":"名簿!CM22","v":""},{"$f":"名簿!Y22","v":""},{"$f":"名簿!CN22","v":""},{"$f":"名簿!CP22","v":0},{"$f":"名簿!CU22","v":"00"},{"$f":"名簿!Q22","v":""},{"$f":"名簿!D22","v":0},null,{"$f":"IF(O25=\"\",\"\",IF(I25=1,VLOOKUP(O25,男子種目コード!$M$1:$N$13,2,FALSE),IF(I25=2,VLOOKUP(O25,女子種目コード!$M$1:$N$10,2,FALSE))))","v":""},{"$f":"IF(O25=\"\",\"\",HLOOKUP(O25,名簿!$AH$3:$CH$118,20,FALSE))","v":""},"","",null,{"$f":"IF(T25=\"\",\"\",IF(I25=1,VLOOKUP(T25,男子種目コード!$M$1:$N$13,2,FALSE),IF(I25=2,VLOOKUP(T25,女子種目コード!$M$1:$N$10,2,FALSE))))","v":""},{"$f":"IF(T25=\"\",\"\",HLOOKUP(T25,名簿!$AH$3:$CH$118,20,FALSE))","v":""},"","",null,{"$f":"IF(Y25=\"\",\"\",IF(I25=1,VLOOKUP(Y25,男子種目コード!$D$1:$E$20,2,FALSE),IF(I25=2,VLOOKUP(Y25,女子種目コード!$D$1:$E$20,2,FALSE))))","v":""},null,"","",null,{"$f":"IF(AD25=\"\",\"\",IF(I25=1,VLOOKUP(AD25,男子種目コード!$A$1:$B$33,2,FALSE),IF(V25=2,VLOOKUP(I25,女子種目コード!$A$1:$B$28,2,FALSE))))","v":""},null,null,{"$f":"IF(AG25=\"\",\"\",IF(I25=1,VLOOKUP(AG25,男子種目コード!$A$1:$B$33,2,FALSE),IF(AA25=2,VLOOKUP(I25,女子種目コード!$A$1:$B$28,2,FALSE))))","v":""},null,null,null,null,"低学年R","",0,0,"走高跳",{"$f":"COUNTIF($P$7:P$116,118)+COUNTIF($U$7:$U$116,118)","v":0},null,null,null,null,null,null,null,null,null,null,null,null,0,"",""]
["",{"$f":"名簿!P23","v":""},null,null,{"$f":"名簿!E23","v":0},{"$f":"名簿!CM23","v":""},{"$f":"名簿!Z23","v":""},{"$f":"名簿!CM23","v":""},{"$f":"名簿!Y23","v":""},{"$f":"名簿!CN23","v":""},{"$f":"名簿!CP23","v":0},{"$f":"名簿!CU23","v":"00"},{"$f":"名簿!Q23","v":""},{"$f":"名簿!D23","v":0},null,{"$f":"IF(O26=\"\",\"\",IF(I26=1,VLOOKUP(O26,男子種目コード!$M$1:$N$13,2,FALSE),IF(I26=2,VLOOKUP(O26,女子種目コード!$M$1:$N$10,2,FALSE))))","v":""},{"$f":"IF(O26=\"\",\"\",HLOOKUP(O26,名簿!$AH$3:$CH$118,21,FALSE))","v":""},"","",null,{"$f":"IF(T26=\"\",\"\",IF(I26=1,VLOOKUP(T26,男子種目コード!$M$1:$N$13,2,FALSE),IF(I26=2,VLOOKUP(T26,女子種目コード!$M$1:$N$10,2,FALSE))))","v":""},{"$f":"IF(T26=\"\",\"\",HLOOKUP(T26,名簿!$AH$3:$CH$118,21,FALSE))","v":""},"","",null,{"$f":"IF(Y26=\"\",\"\",IF(I26=1,VLOOKUP(Y26,男子種目コード!$D$1:$E$20,2,FALSE),IF(I26=2,VLOOKUP(Y26,女子種目コード!$D$1:$E$20,2,FALSE))))","v":""},null,"","",null,{"$f":"IF(AD26=\"\",\"\",IF(I26=1,VLOOKUP(AD26,男子種目コード!$A$1:$B$33,2,FALSE),IF(V26=2,VLOOKUP(I26,女子種目コード!$A$1:$B$28,2,FALSE))))","v":""},null,null,{"$f":"IF(AG26=\"\",\"\",IF(I26=1,VLOOKUP(AG26,男子種目コード!$A$1:$B$33,2,FALSE),IF(AA26=2,VLOOKUP(I26,女子種目コード!$A$1:$B$28,2,FALSE))))","v":""},null,null,null,null,"4×100R","",0,0,"走幅跳",{"$f":"COUNTIF($P$7:P$116,119)+COUNTIF($U$7:$U$116,119)","v":0},null,null,null,null,null,null,null,null,null,null,null,null,0,"",""]
["",{"$f":"名簿!P24","v":""},null,null,{"$f":"名簿!E24","v":0},{"$f":"名簿!CM24","v":""},{"$f":"名簿!Z24","v":""},{"$f":"名簿!CM24","v":""},{"$f":"名簿!Y24","v":""},{"$f":"名簿!CN24","v":""},{"$f":"名簿!CP24","v":0},{"$f":"名簿!CU24","v":"00"},{"$f":"名簿!Q24","v":""},{"$f":"名簿!D24","v":0},null,{"$f":"IF(O27=\"\",\"\",IF(I27=1,VLOOKUP(O27,男子種目コード!$M$1:$N$13,2,FALSE),IF(I27=2,VLOOKUP(O27,女子種目コード!$M$1:$N$10,2,FALSE))))","v":""},{"$f":"IF(O27=\"\",\"\",HLOOKUP(O27,名簿!$AH$3:$CH$118,22,FALSE))","v":""},"","",null,{"$f":"IF(T27=\"\",\"\",IF(I27=1,VLOOKUP(T27,男子種目コード!$M$1:$N$13,2,FALSE),IF(I27=2,VLOOKUP(T27,女子種目コード!$M$1:$N$10,2,FALSE))))","v":""},{"$f":"IF(T27=\"\",\"\",HLOOKUP(T27,名簿!$AH$3:$CH$118,22,FALSE))","v":""},"","",null,{"$f":"IF(Y27=\"\",\"\",IF(I27=1,VLOOKUP(Y27,男子種目コード!$D$1:$E$20,2,FALSE),IF(I27=2,VLOOKUP(Y27,女子種目コード!$D$1:$E$20,2,FALSE))))","v":""},null,"","",null,{"$f":"IF(AD27=\"\",\"\",IF(I27=1,VLOOKUP(AD27,男子種目コード!$A$1:$B$33,2,FALSE),IF(V27=2,VLOOKUP(I27,女子種目コード!$A$1:$B$28,2,FALSE))))","v":""},null,null,{"$f":"IF(AG27=\"\",\"\",IF(I27=1,VLOOKUP(AG27,男子種目コード!$A$1:$B$33,2,FALSE),IF(AA27=2,VLOOKUP(I27,女子種目コード!$A$1:$B$28,2,FALSE))))","v":""},null,null,null,null,null,"",0,0,"砲丸投",{"$f":"COUNTIF($P$7:P$116,120)+COUNTIF($U$7:$U$116,120)","v":0},null,null,null,null,null,null,null,null,null,null,null,null,0,"",""]
["",{"$f":"名簿!P25","v":""},null,null,{"$f":"名簿!E25","v":0},{"$f":"名簿!CM25","v":""},{"$f":"名簿!Z25","v":""},{"$f":"名簿!CM25","v":""},{"$f":"名簿!Y25","v":""},{"$f":"名簿!CN25","v":""},{"$f":"名簿!CP25","v":0},{"$f":"名簿!CU25","v":"00"},{"$f":"名簿!Q25","v":""},{"$f":"名簿!D25","v":0},null,{"$f":"IF(O28=\"\",\"\",IF(I28=1,VLOOKUP(O28,男子種目コード!$M$1:$N$13,2,FALSE),IF(I28=2,VLOOKUP(O28,女子種目コード!$M$1:$N$10,2,FALSE))))","v":""},{"$f":"IF(O28=\"\",\"\",HLOOKUP(O28,名簿!$AH$3:$CH$118,23,FALSE))","v":""},"","",null,{"$f":"IF(T28=\"\",\"\",IF(I28=1,VLOOKUP(T28,男子種目コード!$M$1:$N$13,2,FALSE),IF(I28=2,VLOOKUP(T28,女子種目コード!$M$1:$N$10,2,FALSE))))","v":""},{"$f":"IF(T28=\"\",\"\",HLOOKUP(T28,名簿!$AH$3:$CH$118,23,FALSE))","v":""},"","",null,{"$f":"IF(Y28=\"\",\"\",IF(I28=1,VLOOKUP(Y28,男子種目コード!$D$1:$E$20,2,FALSE),IF(I28=2,VLOOKUP(Y28,女子種目コード!$D$1:$E$20,2,FALSE))))","v":""},null,"","",null,{"$f":"IF(AD28=\"\",\"\",IF(I28=1,VLOOKUP(AD28,男子種目コード!$A$1:$B$33,2,FALSE),IF(V28=2,VLOOKUP(I28,女子種目コード!$A$1:$B$28,2,FALSE))))","v":""},null,null,{"$f":"IF(AG28=\"\",\"\",IF(I28=1,VLOOKUP(AG28,男子種目コード!$A$1:$B$33,2,FALSE),IF(AA28=2,VLOOKUP(I28,女子種目コード!$A$1:$B$28,2,FALSE))))","v":""},null,null,null,null,null,"",0,0,"四種",{"$f":"COUNTIF($P$7:P$116,121)+COUNTIF($U$7:$U$116,121)","v":0},null,null,null,null,null,null,null,null,null,null,null,null,0,"",""]
["",{"$f":"名簿!P26","v":""},null,null,{"$f":"名簿!E26","v":0},{"$f":"名簿!CM26","v":""},{"$f":"名簿!Z26","v":""},{"$f":"名簿!CM26","v":""},{"$f":"名簿!Y26","v":""},{"$f":"名簿!CN26","v":""},{"$f":"名簿!CP26","v":0},{"$f":"名簿!CU26","v":"00"},{"$f":"名簿!Q26","v":""},{"$f":"名簿!D26","v":0},null,{"$f":"IF(O29=\"\",\"\",IF(I29=1,VLOOKUP(O29,男子種目コード!$M$1:$N$13,2,FALSE),IF(I29=2,VLOOKUP(O29,女子種目コード!$M$1:$N$10,2,FALSE))))","v":""},{"$f":"IF(O29=\"\",\"\",HLOOKUP(O29,名簿!$AH$3:$CH$118,24,FALSE))","v":""},"","",null,{"$f":"IF(T29=\"\",\"\",IF(I29=1,VLOOKUP(T29,男子種目コード!$M$1:$N$13,2,FALSE),IF(I29=2,VLOOKUP(T29,女子種目コード!$M$1:$N$10,2,FALSE))))","v":""},{"$f":"IF(T29=\"\",\"\",HLOOKUP(T29,名簿!$AH$3:$CH$118,24,FALSE))","v":""},"","",null,{"$f":"IF(Y29=\"\",\"\",IF(I29=1,VLOOKUP(Y29,男子種目コード!$D$1:$E$20,2,FALSE),IF(I29=2,VLOOKUP(Y29,女子種目コード!$D$1:$E$20,2,FALSE))))","v":""},null,"","",null,{"$f":"IF(AD29=\"\",\"\",IF(I29=1,VLOOKUP(AD29,男子種目コード!$A$1:$B$33,2,FALSE),IF(V29=2,VLOOKUP(I29,女子種目コード!$A$1:$B$28,2,FALSE))))","v":""},null,null,{"$f":"IF(AG29=\"\",\"\",IF(I29=1,VLOOKUP(AG29,男子種目コード!$A$1:$B$33,2,FALSE),IF(AA29=2,VLOOKUP(I29,女子種目コード!$A$1:$B$28,2,FALSE))))","v":""},null,null,null,null,null,"",0,0,"計",{"$f":"SUM(AR20:AR28)","v":0},null,null,null,null,null,null,null,null,null,null,null,null,0,"",""]
["",{"$f":"名簿!P27","v":""},null,null,{"$f":"名簿!E27","v":0},{"$f":"名簿!CM27","v":""},{"$f":"名簿!Z27","v":""},{"$f":"名簿!CM27","v":""},{"$f":"名簿!Y27","v":""},{"$f":"名簿!CN27","v":""},{"$f":"名簿!CP27","v":0},{"$f":"名簿!CU27","v":"00"},{"$f":"名簿!Q27","v":""},{"$f":"名簿!D27","v":0},null,{"$f":"IF(O30=\"\",\"\",IF(I30=1,VLOOKUP(O30,男子種目コード!$M$1:$N$13,2,FALSE),IF(I30=2,VLOOKUP(O30,女子種目コード!$M$1:$N$10,2,FALSE))))","v":""},{"$f":"IF(O30=\"\",\"\",HLOOKUP(O30,名簿!$AH$3:$CH$118,25,FALSE))","v":""},"","",null,{"$f":"IF(T30=\"\",\"\",IF(I30=1,VLOOKUP(T30,男子種目コード!$M$1:$N$13,2,FALSE),IF(I30=2,VLOOKUP(T30,女子種目コード!$M$1:$N$10,2,FALSE))))","v":""},{"$f":"IF(T30=\"\",\"\",HLOOKUP(T30,名簿!$AH$3:$CH$118,25,FALSE))","v":""},"","",null,{"$f":"IF(Y30=\"\",\"\",IF(I30=1,VLOOKUP(Y30,男子種目コード!$D$1:$E$20,2,FALSE),IF(I30=2,VLOOKUP(Y30,女子種目コード!$D$1:$E$20,2,FALSE))))","v":""},null,"","",null,{"$f":"IF(AD30=\"\",\"\",IF(I30=1,VLOOKUP(AD30,男子種目コード!$A$1:$B$33,2,FALSE),IF(V30=2,VLOOKUP(I30,女子種目コード!$A$1:$B$28,2,FALSE))))","v":""},null,null,{"$f":"IF(AG30=\"\",\"\",IF(I30=1,VLOOKUP(AG30,男子種目コード!$A$1:$B$33,2,FALSE),IF(AA30=2,VLOOKUP(I30,女子種目コード!$A$1:$B$28,2,FALSE))))","v":""},null,null,null,null,null,"",0,0,"参加標準記録",null,null,null,null,null,null,null,null,null,null,null,null,null,0,"",""]
["",{"$f":"名簿!P28","v":""},null,null,{"$f":"名簿!E28","v":0},{"$f":"名簿!CM28","v":""},{"$f":"名簿!Z28","v":""},{"$f":"名簿!CM28","v":""},{"$f":"名簿!Y28","v":""},{"$f":"名簿!CN28","v":""},{"$f":"名簿!CP28","v":0},{"$f":"名簿!CU28","v":"00"},{"$f":"名簿!Q28","v":""},{"$f":"名簿!D28","v":0},null,{"$f":"IF(O31=\"\",\"\",IF(I31=1,VLOOKUP(O31,男子種目コード!$M$1:$N$13,2,FALSE),IF(I31=2,VLOOKUP(O31,女子種目コード!$M$1:$N$10,2,FALSE))))","v":""},{"$f":"IF(O31=\"\",\"\",HLOOKUP(O31,名簿!$AH$3:$CH$118,26,FALSE))","v":""},"","",null,{"$f":"IF(T31=\"\",\"\",IF(I31=1,VLOOKUP(T31,男子種目コード!$M$1:$N$13,2,FALSE),IF(I31=2,VLOOKUP(T31,女子種目コード!$M$1:$N$10,2,FALSE))))","v":""},{"$f":"IF(T31=\"\",\"\",HLOOKUP(T31,名簿!$AH$3:$CH$118,26,FALSE))","v":""},"","",null,{"$f":"IF(Y31=\"\",\"\",IF(I31=1,VLOOKUP(Y31,男子種目コード!$D$1:$E$20,2,FALSE),IF(I31=2,VLOOKUP(Y31,女子種目コード!$D$1:$E$20,2,FALSE))))","v":""},null,"","",null,{"$f":"IF(AD31=\"\",\"\",IF(I31=1,VLOOKUP(AD31,男子種目コード!$A$1:$B$33,2,FALSE),IF(V31=2,VLOOKUP(I31,女子種目コード!$A$1:$B$28,2,FALSE))))","v":""},null,null,{"$f":"IF(AG31=\"\",\"\",IF(I31=1,VLOOKUP(AG31,男子種目コード!$A$1:$B$33,2,FALSE),IF(AA31=2,VLOOKUP(I31,女子種目コード!$A$1:$B$28,2,FALSE))))","v":""},null,null,null,null,null,"",0,0,"男子",null,null,null,null,null,null,null,null,null,null,null,null,null,0,"",""]
["",{"$f":"名簿!P29","v":""},null,null,{"$f":"名簿!E29","v":0},{"$f":"名簿!CM29","v":""},{"$f":"名簿!Z29","v":""},{"$f":"名簿!CM29","v":""},{"$f":"名簿!Y29","v":""},{"$f":"名簿!CN29","v":""},{"$f":"名簿!CP29","v":0},{"$f":"名簿!CU29","v":"00"},{"$f":"名簿!Q29","v":""},{"$f":"名簿!D29","v":0},null,{"$f":"IF(O32=\"\",\"\",IF(I32=1,VLOOKUP(O32,男子種目コード!$M$1:$N$13,2,FALSE),IF(I32=2,VLOOKUP(O32,女子種目コード!$M$1:$N$10,2,FALSE))))","v":""},{"$f":"IF(O32=\"\",\"\",HLOOKUP(O32,名簿!$AH$3:$CH$118,27,FALSE))","v":""},"","",null,{"$f":"IF(T32=\"\",\"\",IF(I32=1,VLOOKUP(T32,男子種目コード!$M$1:$N$13,2,FALSE),IF(I32=2,VLOOKUP(T32,女子種目コード!$M$1:$N$10,2,FALSE))))","v":""},{"$f":"IF(T32=\"\",\"\",HLOOKUP(T32,名簿!$AH$3:$CH$118,27,FALSE))","v":""},"","",null,{"$f":"IF(Y32=\"\",\"\",IF(I32=1,VLOOKUP(Y32,男子種目コード!$D$1:$E$20,2,FALSE),IF(I32=2,VLOOKUP(Y32,女子種目コード!$D$1:$E$20,2,FALSE))))","v":""},null,"","",null,{"$f":"IF(AD32=\"\",\"\",IF(I32=1,VLOOKUP(AD32,男子種目コード!$A$1:$B$33,2,FALSE),IF(V32=2,VLOOKUP(I32,女子種目コード!$A$1:$B$28,2,FALSE))))","v":""},null,null,{"$f":"IF(AG32=\"\",\"\",IF(I32=1,VLOOKUP(AG32,男子種目コード!$A$1:$B$33,2,FALSE),IF(AA32=2,VLOOKUP(I32,女子種目コード!$A$1:$B$28,2,FALSE))))","v":""},null,null,null,null,null,"",0,0,100,"11.90",null,null,null,null,null,null,null,null,null,null,null,null,0,"",""]
["",{"$f":"名簿!P30","v":""},null,null,{"$f":"名簿!E30","v":0},{"$f":"名簿!CM30","v":""},{"$f":"名簿!Z30","v":""},{"$f":"名簿!CM30","v":""},{"$f":"名簿!Y30","v":""},{"$f":"名簿!CN30","v":""},{"$f":"名簿!CP30","v":0},{"$f":"名簿!CU30","v":"00"},{"$f":"名簿!Q30","v":""},{"$f":"名簿!D30","v":0},null,{"$f":"IF(O33=\"\",\"\",IF(I33=1,VLOOKUP(O33,男子種目コード!$M$1:$N$13,2,FALSE),IF(I33=2,VLOOKUP(O33,女子種目コード!$M$1:$N$10,2,FALSE))))","v":""},{"$f":"IF(O33=\"\",\"\",HLOOKUP(O33,名簿!$AH$3:$CH$118,28,FALSE))","v":""},"","",null,{"$f":"IF(T33=\"\",\"\",IF(I33=1,VLOOKUP(T33,男子種目コード!$M$1:$N$13,2,FALSE),IF(I33=2,VLOOKUP(T33,女子種目コード!$M$1:$N$10,2,FALSE))))","v":""},{"$f":"IF(T33=\"\",\"\",HLOOKUP(T33,名簿!$AH$3:$CH$118,28,FALSE))","v":""},"","",null,{"$f":"IF(Y33=\"\",\"\",IF(I33=1,VLOOKUP(Y33,男子種目コード!$D$1:$E$20,2,FALSE),IF(I33=2,VLOOKUP(Y33,女子種目コード!$D$1:$E$20,2,FALSE))))","v":""},null,"","",null,{"$f":"IF(AD33=\"\",\"\",IF(I33=1,VLOOKUP(AD33,男子種目コード!$A$1:$B$33,2,FALSE),IF(V33=2,VLOOKUP(I33,女子種目コード!$A$1:$B$28,2,FALSE))))","v":""},null,null,{"$f":"IF(AG33=\"\",\"\",IF(I33=1,VLOOKUP(AG33,男子種目コード!$A$1:$B$33,2,FALSE),IF(AA33=2,VLOOKUP(I33,女子種目コード!$A$1:$B$28,2,FALSE))))","v":""},null,null,null,null,null,"",0,0,200,"24.10",null,null,null,null,null,null,null,null,null,null,null,null,0,"",""]
["",{"$f":"名簿!P31","v":""},null,null,{"$f":"名簿!E31","v":0},{"$f":"名簿!CM31","v":""},{"$f":"名簿!Z31","v":""},{"$f":"名簿!CM31","v":""},{"$f":"名簿!Y31","v":""},{"$f":"名簿!CN31","v":""},{"$f":"名簿!CP31","v":0},{"$f":"名簿!CU31","v":"00"},{"$f":"名簿!Q31","v":""},{"$f":"名簿!D31","v":0},null,{"$f":"IF(O34=\"\",\"\",IF(I34=1,VLOOKUP(O34,男子種目コード!$M$1:$N$13,2,FALSE),IF(I34=2,VLOOKUP(O34,女子種目コード!$M$1:$N$10,2,FALSE))))","v":""},{"$f":"IF(O34=\"\",\"\",HLOOKUP(O34,名簿!$AH$3:$CH$118,29,FALSE))","v":""},"","",null,{"$f":"IF(T34=\"\",\"\",IF(I34=1,VLOOKUP(T34,男子種目コード!$M$1:$N$13,2,FALSE),IF(I34=2,VLOOKUP(T34,女子種目コード!$M$1:$N$10,2,FALSE))))","v":""},{"$f":"IF(T34=\"\",\"\",HLOOKUP(T34,名簿!$AH$3:$CH$118,29,FALSE))","v":""},"","",null,{"$f":"IF(Y34=\"\",\"\",IF(I34=1,VLOOKUP(Y34,男子種目コード!$D$1:$E$20,2,FALSE),IF(I34=2,VLOOKUP(Y34,女子種目コード!$D$1:$E$20,2,FALSE))))","v":""},null,"","",null,{"$f":"IF(AD34=\"\",\"\",IF(I34=1,VLOOKUP(AD34,男子種目コード!$A$1:$B$33,2,FALSE),IF(V34=2,VLOOKUP(I34,女子種目コード!$A$1:$B$28,2,FALSE))))","v":""},null,null,{"$f":"IF(AG34=\"\",\"\",IF(I34=1,VLOOKUP(AG34,男子種目コード!$A$1:$B$33,2,FALSE),IF(AA34=2,VLOOKUP(I34,女子種目コード!$A$1:$B$28,2,FALSE))))","v":""},null,null,null,null,null,"",0,0,400,"54.90",null,null,null,null,null,null,null,null,null,null,null,null,0,"",""]
["",{"$f":"名簿!P32","v":""},null,null,{"$f":"名簿!E32","v":0},{"$f":"名簿!CM32","v":""},{"$f":"名簿!Z32","v":""},{"$f":"名簿!CM32","v":""},{"$f":"名簿!Y32","v":""},{"$f":"名簿!CN32","v":""},{"$f":"名簿!CP32","v":0},{"$f":"名簿!CU32","v":"00"},{"$f":"名簿!Q32","v":""},{"$f":"名簿!D32","v":0},null,{"$f":"IF(O35=\"\",\"\",IF(I35=1,VLOOKUP(O35,男子種目コード!$M$1:$N$13,2,FALSE),IF(I35=2,VLOOKUP(O35,女子種目コード!$M$1:$N$10,2,FALSE))))","v":""},{"$f":"IF(O35=\"\",\"\",HLOOKUP(O35,名簿!$AH$3:$CH$118,30,FALSE))","v":""},"","",null,{"$f":"IF(T35=\"\",\"\",IF(I35=1,VLOOKUP(T35,男子種目コード!$M$1:$N$13,2,FALSE),IF(I35=2,VLOOKUP(T35,女子種目コード!$M$1:$N$10,2,FALSE))))","v":""},{"$f":"IF(T35=\"\",\"\",HLOOKUP(T35,名簿!$AH$3:$CH$118,30,FALSE))","v":""},"","",null,{"$f":"IF(Y35=\"\",\"\",IF(I35=1,VLOOKUP(Y35,男子種目コード!$D$1:$E$20,2,FALSE),IF(I35=2,VLOOKUP(Y35,女子種目コード!$D$1:$E$20,2,FALSE))))","v":""},null,"","",null,{"$f":"IF(AD35=\"\",\"\",IF(I35=1,VLOOKUP(AD35,男子種目コード!$A$1:$B$33,2,FALSE),IF(V35=2,VLOOKUP(I35,女子種目コード!$A$1:$B$28,2,FALSE))))","v":""},null,null,{"$f":"IF(AG35=\"\",\"\",IF(I35=1,VLOOKUP(AG35,男子種目コード!$A$1:$B$33,2,FALSE),IF(AA35=2,VLOOKUP(I35,女子種目コード!$A$1:$B$28,2,FALSE))))","v":""},null,null,null,null,null,"",0,0,800,"2.09.0",null,null,null,null,null,null,null,null,null,null,null,null,0,"",""]
["",{"$f":"名簿!P33","v":""},null,null,{"$f":"名簿!E33","v":0},{"$f":"名簿!CM33","v":""},{"$f":"名簿!Z33","v":""},{"$f":"名簿!CM33","v":""},{"$f":"名簿!Y33","v":""},{"$f":"名簿!CN33","v":""},{"$f":"名簿!CP33","v":0},{"$f":"名簿!CU33","v":"00"},{"$f":"名簿!Q33","v":""},{"$f":"名簿!D33","v":0},null,{"$f":"IF(O36=\"\",\"\",IF(I36=1,VLOOKUP(O36,男子種目コード!$M$1:$N$13,2,FALSE),IF(I36=2,VLOOKUP(O36,女子種目コード!$M$1:$N$10,2,FALSE))))","v":""},{"$f":"IF(O36=\"\",\"\",HLOOKUP(O36,名簿!$AH$3:$CH$118,31,FALSE))","v":""},"","",null,{"$f":"IF(T36=\"\",\"\",IF(I36=1,VLOOKUP(T36,男子種目コード!$M$1:$N$13,2,FALSE),IF(I36=2,VLOOKUP(T36,女子種目コード!$M$1:$N$10,2,FALSE))))","v":""},{"$f":"IF(T36=\"\",\"\",HLOOKUP(T36,名簿!$AH$3:$CH$118,31,FALSE))","v":""},"","",null,{"$f":"IF(Y36=\"\",\"\",IF(I36=1,VLOOKUP(Y36,男子種目コード!$D$1:$E$20,2,FALSE),IF(I36=2,VLOOKUP(Y36,女子種目コード!$D$1:$E$20,2,FALSE))))","v":""},null,"","",null,{"$f":"IF(AD36=\"\",\"\",IF(I36=1,VLOOKUP(AD36,男子種目コード!$A$1:$B$33,2,FALSE),IF(V36=2,VLOOKUP(I36,女子種目コード!$A$1:$B$28,2,FALSE))))","v":""},null,null,{"$f":"IF(AG36=\"\",\"\",IF(I36=1,VLOOKUP(AG36,男子種目コード!$A$1:$B$33,2,FALSE),IF(AA36=2,VLOOKUP(I36,女子種目コード!$A$1:$B$28,2,FALSE))))","v":""},null,null,null,null,null,"",0,0,1500,"4.30.0",null,null,null,null,null,null,null,null,null,null,null,null,0,"",""]
["",{"$f":"名簿!P34","v":""},null,null,{"$f":"名簿!E34","v":0},{"$f":"名簿!CM34","v":""},{"$f":"名簿!Z34","v":""},{"$f":"名簿!CM34","v":""},{"$f":"名簿!Y34","v":""},{"$f":"名簿!CN34","v":""},{"$f":"名簿!CP34","v":0},{"$f":"名簿!CU34","v":"00"},{"$f":"名簿!Q34","v":""},{"$f":"名簿!D34","v":0},null,{"$f":"IF(O37=\"\",\"\",IF(I37=1,VLOOKUP(O37,男子種目コード!$M$1:$N$13,2,FALSE),IF(I37=2,VLOOKUP(O37,女子種目コード!$M$1:$N$10,2,FALSE))))","v":""},{"$f":"IF(O37=\"\",\"\",HLOOKUP(O37,名簿!$AH$3:$CH$118,32,FALSE))","v":""},"","",null,{"$f":"IF(T37=\"\",\"\",IF(I37=1,VLOOKUP(T37,男子種目コード!$M$1:$N$13,2,FALSE),IF(I37=2,VLOOKUP(T37,女子種目コード!$M$1:$N$10,2,FALSE))))","v":""},{"$f":"IF(T37=\"\",\"\",HLOOKUP(T37,名簿!$AH$3:$CH$118,32,FALSE))","v":""},"","",null,{"$f":"IF(Y37=\"\",\"\",IF(I37=1,VLOOKUP(Y37,男子種目コード!$D$1:$E$20,2,FALSE),IF(I37=2,VLOOKUP(Y37,女子種目コード!$D$1:$E$20,2,FALSE))))","v":""},null,"","",null,{"$f":"IF(AD37=\"\",\"\",IF(I37=1,VLOOKUP(AD37,男子種目コード!$A$1:$B$33,2,FALSE),IF(V37=2,VLOOKUP(I37,女子種目コード!$A$1:$B$28,2,FALSE))))","v":""},null,null,{"$f":"IF(AG37=\"\",\"\",IF(I37=1,VLOOKUP(AG37,男子種目コード!$A$1:$B$33,2,FALSE),IF(AA37=2,VLOOKUP(I37,女子種目コード!$A$1:$B$28,2,FALSE))))","v":""},null,null,null,null,null,"",0,0,3000,"9.45.0",null,null,null,null,null,null,null,null,null,null,null,null,0,"",""]
["",{"$f":"名簿!P35","v":""},null,null,{"$f":"名簿!E35","v":0},{"$f":"名簿!CM35","v":""},{"$f":"名簿!Z35","v":""},{"$f":"名簿!CM35","v":""},{"$f":"名簿!Y35","v":""},{"$f":"名簿!CN35","v":""},{"$f":"名簿!CP35","v":0},{"$f":"名簿!CU35","v":"00"},{"$f":"名簿!Q35","v":""},{"$f":"名簿!D35","v":0},null,{"$f":"IF(O38=\"\",\"\",IF(I38=1,VLOOKUP(O38,男子種目コード!$M$1:$N$13,2,FALSE),IF(I38=2,VLOOKUP(O38,女子種目コード!$M$1:$N$10,2,FALSE))))","v":""},{"$f":"IF(O38=\"\",\"\",HLOOKUP(O38,名簿!$AH$3:$CH$118,33,FALSE))","v":""},"","",null,{"$f":"IF(T38=\"\",\"\",IF(I38=1,VLOOKUP(T38,男子種目コード!$M$1:$N$13,2,FALSE),IF(I38=2,VLOOKUP(T38,女子種目コード!$M$1:$N$10,2,FALSE))))","v":""},{"$f":"IF(T38=\"\",\"\",HLOOKUP(T38,名簿!$AH$3:$CH$118,33,FALSE))","v":""},"","",null,{"$f":"IF(Y38=\"\",\"\",IF(I38=1,VLOOKUP(Y38,男子種目コード!$D$1:$E$20,2,FALSE),IF(I38=2,VLOOKUP(Y38,女子種目コード!$D$1:$E$20,2,FALSE))))","v":""},null,"","",null,{"$f":"IF(AD38=\"\",\"\",IF(I38=1,VLOOKUP(AD38,男子種目コード!$A$1:$B$33,2,FALSE),IF(V38=2,VLOOKUP(I38,女子種目コード!$A$1:$B$28,2,FALSE))))","v":""},null,null,{"$f":"IF(AG38=\"\",\"\",IF(I38=1,VLOOKUP(AG38,男子種目コード!$A$1:$B$33,2,FALSE),IF(AA38=2,VLOOKUP(I38,女子種目コード!$A$1:$B$28,2,FALSE))))","v":""},null,null,null,null,null,"",0,0,"110YH","16.70",null,null,null,null,null,null,null,null,null,null,null,null,0,"",""]
[{"$f":"Z39","v":""},{"$f":"名簿!P36","v":""},null,null,{"$f":"名簿!E36","v":0},{"$f":"名簿!CM36","v":""},{"$f":"名簿!Z36","v":""},{"$f":"名簿!CM36","v":""},{"$f":"名簿!Y36","v":""},{"$f":"名簿!CN36","v":""},{"$f":"名簿!CP36","v":0},{"$f":"名簿!CU36","v":"00"},{"$f":"名簿!Q36","v":""},{"$f":"名簿!D36","v":0},null,{"$f":"IF(O39=\"\",\"\",IF(I39=1,VLOOKUP(O39,男子種目コード!$M$1:$N$13,2,FALSE),IF(I39=2,VLOOKUP(O39,女子種目コード!$M$1:$N$10,2,FALSE))))","v":""},{"$f":"IF(O39=\"\",\"\",HLOOKUP(O39,名簿!$AH$3:$CH$118,34,FALSE))","v":""},{"$f":"IF(O39=\"\",\"\",0)","v":""},{"$f":"IF(O39=\"\",\"\",2)","v":""},null,{"$f":"IF(T39=\"\",\"\",IF(I39=1,VLOOKUP(T39,男子種目コード!$M$1:$N$13,2,FALSE),IF(I39=2,VLOOKUP(T39,女子種目コード!$M$1:$N$10,2,FALSE))))","v":""},{"$f":"IF(T39=\"\",\"\",HLOOKUP(T39,名簿!$AH$3:$CH$118,34,FALSE))","v":""},{"$f":"IF(T39=\"\",\"\",0)","v":""},{"$f":"IF(T39=\"\",\"\",2)","v":""},null,{"$f":"IF(Y39=\"\",\"\",IF(I39=1,VLOOKUP(Y39,男子種目コード!$D$1:$E$20,2,FALSE),IF(I39=2,VLOOKUP(Y39,女子種目コード!$D$1:$E$20,2,FALSE))))","v":""},null,{"$f":"IF(Y39=\"\",\"\",0)","v":""},{"$f":"IF(Y39=\"\",\"\",2)","v":""},null,{"$f":"IF(AD39=\"\",\"\",IF(I39=1,VLOOKUP(AD39,男子種目コード!$A$1:$B$33,2,FALSE),IF(V39=2,VLOOKUP(I39,女子種目コード!$A$1:$B$28,2,FALSE))))","v":""},null,null,{"$f":"IF(AG39=\"\",\"\",IF(I39=1,VLOOKUP(AG39,男子種目コード!$A$1:$B$33,2,FALSE),IF(AA39=2,VLOOKUP(I39,女子種目コード!$A$1:$B$28,2,FALSE))))","v":""},null,null,null,null,null,{"$f":"IF(O39=\"\",\"\",1)","v":""},{"$f":"IF(OR(AN39=1,T39=\"\"),0,1)","v":0},{"$f":"IF(OR(AN39=1,AO39=1,Y39=\"\"),0,1)","v":0},"走高跳","1m70",null,null,null,null,null,null,null,null,null,null,null,null,{"$f":"COUNT(P39,U39,Z39)","v":0},{"$f":"IF(I39=1,BE39,\"\")","v":""},{"$f":"IF(I39=2,BE39,\"\")","v":""}]
["",{"$f":"名簿!P37","v":""},null,null,{"$f":"名簿!E37","v":0},{"$f":"名簿!CM37","v":""},{"$f":"名簿!Z37","v":""},{"$f":"名簿!CM37","v":""},{"$f":"名簿!Y37","v":""},{"$f":"名簿!CN37","v":""},{"$f":"名簿!CP37","v":0},{"$f":"名簿!CU37","v":"00"},{"$f":"名簿!Q37","v":""},{"$f":"名簿!D37","v":0},null,{"$f":"IF(O40=\"\",\"\",IF(I40=1,VLOOKUP(O40,男子種目コード!$M$1:$N$13,2,FALSE),IF(I40=2,VLOOKUP(O40,女子種目コード!$M$1:$N$10,2,FALSE))))","v":""},{"$f":"IF(O40=\"\",\"\",HLOOKUP(O40,名簿!$AH$3:$CH$118,35,FALSE))","v":""},"","",null,{"$f":"IF(T40=\"\",\"\",IF(I40=1,VLOOKUP(T40,男子種目コード!$M$1:$N$13,2,FALSE),IF(I40=2,VLOOKUP(T40,女子種目コード!$M$1:$N$10,2,FALSE))))","v":""},{"$f":"IF(T40=\"\",\"\",HLOOKUP(T40,名簿!$AH$3:$CH$118,35,FALSE))","v":""},"","",null,{"$f":"IF(Y40=\"\",\"\",IF(I40=1,VLOOKUP(Y40,男子種目コード!$D$1:$E$20,2,FALSE),IF(I40=2,VLOOKUP(Y40,女子種目コード!$D$1:$E$20,2,FALSE))))","v":""},null,"","",null,{"$f":"IF(AD40=\"\",\"\",IF(I40=1,VLOOKUP(AD40,男子種目コード!$A$1:$B$33,2,FALSE),IF(V40=2,VLOOKUP(I40,女子種目コード!$A$1:$B$28,2,FALSE))))","v":""},null,null,{"$f":"IF(AG40=\"\",\"\",IF(I40=1,VLOOKUP(AG40,男子種目コード!$A$1:$B$33,2,FALSE),IF(AA40=2,VLOOKUP(I40,女子種目コード!$A$1:$B$28,2,FALSE))))","v":""},null,null,null,null,null,"",0,0,"棒高跳","3m30",null,null,null,null,null,null,null,null,null,null,null,null,0,"",""]
["",{"$f":"名簿!P38","v":""},null,null,{"$f":"名簿!E38","v":0},{"$f":"名簿!CM38","v":""},{"$f":"名簿!Z38","v":""},{"$f":"名簿!CM38","v":""},{"$f":"名簿!Y38","v":""},{"$f":"名簿!CN38","v":""},{"$f":"名簿!CP38","v":0},{"$f":"名簿!CU38","v":"00"},{"$f":"名簿!Q38","v":""},{"$f":"名簿!D38","v":0},null,{"$f":"IF(O41=\"\",\"\",IF(I41=1,VLOOKUP(O41,男子種目コード!$M$1:$N$13,2,FALSE),IF(I41=2,VLOOKUP(O41,女子種目コード!$M$1:$N$10,2,FALSE))))","v":""},{"$f":"IF(O41=\"\",\"\",HLOOKUP(O41,名簿!$AH$3:$CH$118,36,FALSE))","v":""},"","",null,{"$f":"IF(T41=\"\",\"\",IF(I41=1,VLOOKUP(T41,男子種目コード!$M$1:$N$13,2,FALSE),IF(I41=2,VLOOKUP(T41,女子種目コード!$M$1:$N$10,2,FALSE))))","v":""},{"$f":"IF(T41=\"\",\"\",HLOOKUP(T41,名簿!$AH$3:$CH$118,36,FALSE))","v":""},"","",null,{"$f":"IF(Y41=\"\",\"\",IF(I41=1,VLOOKUP(Y41,男子種目コード!$D$1:$E$20,2,FALSE),IF(I41=2,VLOOKUP(Y41,女子種目コード!$D$1:$E$20,2,FALSE))))","v":""},null,"","",null,{"$f":"IF(AD41=\"\",\"\",IF(I41=1,VLOOKUP(AD41,男子種目コード!$A$1:$B$33,2,FALSE),IF(V41=2,VLOOKUP(I41,女子種目コード!$A$1:$B$28,2,FALSE))))","v":""},null,null,{"$f":"IF(AG41=\"\",\"\",IF(I41=1,VLOOKUP(AG41,男子種目コード!$A$1:$B$33,2,FALSE),IF(AA41=2,VLOOKUP(I41,女子種目コード!$A$1:$B$28,2,FALSE))))","v":""},null,null,null,null,null,"",0,0,"走幅跳","6m00",null,null,null,null,null,null,null,null,null,null,null,null,0,"",""]
["",{"$f":"名簿!P39","v":""},null,null,{"$f":"名簿!E39","v":0},{"$f":"名簿!CM39","v":""},{"$f":"名簿!Z39","v":""},{"$f":"名簿!CM39","v":""},{"$f":"名簿!Y39","v":""},{"$f":"名簿!CN39","v":""},{"$f":"名簿!CP39","v":0},{"$f":"名簿!CU39","v":"00"},{"$f":"名簿!Q39","v":""},{"$f":"名簿!D39","v":0},null,{"$f":"IF(O42=\"\",\"\",IF(I42=1,VLOOKUP(O42,男子種目コード!$M$1:$N$13,2,FALSE),IF(I42=2,VLOOKUP(O42,女子種目コード!$M$1:$N$10,2,FALSE))))","v":""},{"$f":"IF(O42=\"\",\"\",HLOOKUP(O42,名簿!$AH$3:$CH$118,37,FALSE))","v":""},"","",null,{"$f":"IF(T42=\"\",\"\",IF(I42=1,VLOOKUP(T42,男子種目コード!$M$1:$N$13,2,FALSE),IF(I42=2,VLOOKUP(T42,女子種目コード!$M$1:$N$10,2,FALSE))))","v":""},{"$f":"IF(T42=\"\",\"\",HLOOKUP(T42,名簿!$AH$3:$CH$118,37,FALSE))","v":""},"","",null,{"$f":"IF(Y42=\"\",\"\",IF(I42=1,VLOOKUP(Y42,男子種目コード!$D$1:$E$20,2,FALSE),IF(I42=2,VLOOKUP(Y42,女子種目コード!$D$1:$E$20,2,FALSE))))","v":""},null,"","",null,{"$f":"IF(AD42=\"\",\"\",IF(I42=1,VLOOKUP(AD42,男子種目コード!$A$1:$B$33,2,FALSE),IF(V42=2,VLOOKUP(I42,女子種目コード!$A$1:$B$28,2,FALSE))))","v":""},null,null,{"$f":"IF(AG42=\"\",\"\",IF(I42=1,VLOOKUP(AG42,男子種目コード!$A$1:$B$33,2,FALSE),IF(AA42=2,VLOOKUP(I42,女子種目コード!$A$1:$B$28,2,FALSE))))","v":""},null,null,null,null,null,"",0,0,"砲丸投","11m50",null,null,null,null,null,null,null,null,null,null,null,null,0,"",""]
["",{"$f":"名簿!P40","v":""},null,null,{"$f":"名簿!E40","v":0},{"$f":"名簿!CM40","v":""},{"$f":"名簿!Z40","v":""},{"$f":"名簿!CM40","v":""},{"$f":"名簿!Y40","v":""},{"$f":"名簿!CN40","v":""},{"$f":"名簿!CP40","v":0},{"$f":"名簿!CU40","v":"00"},{"$f":"名簿!Q40","v":""},{"$f":"名簿!D40","v":0},null,{"$f":"IF(O43=\"\",\"\",IF(I43=1,VLOOKUP(O43,男子種目コード!$M$1:$N$13,2,FALSE),IF(I43=2,VLOOKUP(O43,女子種目コード!$M$1:$N$10,2,FALSE))))","v":""},{"$f":"IF(O43=\"\",\"\",HLOOKUP(O43,名簿!$AH$3:$CH$118,38,FALSE))","v":""},"","",null,{"$f":"IF(T43=\"\",\"\",IF(I43=1,VLOOKUP(T43,男子種目コード!$M$1:$N$13,2,FALSE),IF(I43=2,VLOOKUP(T43,女子種目コード!$M$1:$N$10,2,FALSE))))","v":""},{"$f":"IF(T43=\"\",\"\",HLOOKUP(T43,名簿!$AH$3:$CH$118,38,FALSE))","v":""},"","",null,{"$f":"IF(Y43=\"\",\"\",IF(I43=1,VLOOKUP(Y43,男子種目コード!$D$1:$E$20,2,FALSE),IF(I43=2,VLOOKUP(Y43,女子種目コード!$D$1:$E$20,2,FALSE))))","v":""},null,"","",null,{"$f":"IF(AD43=\"\",\"\",IF(I43=1,VLOOKUP(AD43,男子種目コード!$A$1:$B$33,2,FALSE),IF(V43=2,VLOOKUP(I43,女子種目コード!$A$1:$B$28,2,FALSE))))","v":""},null,null,{"$f":"IF(AG43=\"\",\"\",IF(I43=1,VLOOKUP(AG43,男子種目コード!$A$1:$B$33,2,FALSE),IF(AA43=2,VLOOKUP(I43,女子種目コード!$A$1:$B$28,2,FALSE))))","v":""},null,null,null,null,null,"",0,0,"女子",null,null,null,null,null,null,null,null,null,null,null,null,null,0,"",""]
["",{"$f":"名簿!P41","v":""},null,null,{"$f":"名簿!E41","v":0},{"$f":"名簿!CM41","v":""},{"$f":"名簿!Z41","v":""},{"$f":"名簿!CM41","v":""},{"$f":"名簿!Y41","v":""},{"$f":"名簿!CN41","v":""},{"$f":"名簿!CP41","v":0},{"$f":"名簿!CU41","v":"00"},{"$f":"名簿!Q41","v":""},{"$f":"名簿!D41","v":0},null,{"$f":"IF(O44=\"\",\"\",IF(I44=1,VLOOKUP(O44,男子種目コード!$M$1:$N$13,2,FALSE),IF(I44=2,VLOOKUP(O44,女子種目コード!$M$1:$N$10,2,FALSE))))","v":""},{"$f":"IF(O44=\"\",\"\",HLOOKUP(O44,名簿!$AH$3:$CH$118,39,FALSE))","v":""},"","",null,{"$f":"IF(T44=\"\",\"\",IF(I44=1,VLOOKUP(T44,男子種目コード!$M$1:$N$13,2,FALSE),IF(I44=2,VLOOKUP(T44,女子種目コード!$M$1:$N$10,2,FALSE))))","v":""},{"$f":"IF(T44=\"\",\"\",HLOOKUP(T44,名簿!$AH$3:$CH$118,39,FALSE))","v":""},"","",null,{"$f":"IF(Y44=\"\",\"\",IF(I44=1,VLOOKUP(Y44,男子種目コード!$D$1:$E$20,2,FALSE),IF(I44=2,VLOOKUP(Y44,女子種目コード!$D$1:$E$20,2,FALSE))))","v":""},null,"","",null,{"$f":"IF(AD44=\"\",\"\",IF(I44=1,VLOOKUP(AD44,男子種目コード!$A$1:$B$33,2,FALSE),IF(V44=2,VLOOKUP(I44,女子種目コード!$A$1:$B$28,2,FALSE))))","v":""},null,null,{"$f":"IF(AG44=\"\",\"\",IF(I44=1,VLOOKUP(AG44,男子種目コード!$A$1:$B$33,2,FALSE),IF(AA44=2,VLOOKUP(I44,女子種目コード!$A$1:$B$28,2,FALSE))))","v":""},null,null,null,null,null,"",0,0,100,"13.40",null,null,null,null,null,null,null,null,null,null,null,null,0,"",""]
["",{"$f":"名簿!P42","v":""},null,null,{"$f":"名簿!E42","v":0},{"$f":"名簿!CM42","v":""},{"$f":"名簿!Z42","v":""},{"$f":"名簿!CM42","v":""},{"$f":"名簿!Y42","v":""},{"$f":"名簿!CN42","v":""},{"$f":"名簿!CP42","v":0},{"$f":"名簿!CU42","v":"00"},{"$f":"名簿!Q42","v":""},{"$f":"名簿!D42","v":0},null,{"$f":"IF(O45=\"\",\"\",IF(I45=1,VLOOKUP(O45,男子種目コード!$M$1:$N$13,2,FALSE),IF(I45=2,VLOOKUP(O45,女子種目コード!$M$1:$N$10,2,FALSE))))","v":""},{"$f":"IF(O45=\"\",\"\",HLOOKUP(O45,名簿!$AH$3:$CH$118,40,FALSE))","v":""},"","",null,{"$f":"IF(T45=\"\",\"\",IF(I45=1,VLOOKUP(T45,男子種目コード!$M$1:$N$13,2,FALSE),IF(I45=2,VLOOKUP(T45,女子種目コード!$M$1:$N$10,2,FALSE))))","v":""},{"$f":"IF(T45=\"\",\"\",HLOOKUP(T45,名簿!$AH$3:$CH$118,40,FALSE))","v":""},"","",null,{"$f":"IF(Y45=\"\",\"\",IF(I45=1,VLOOKUP(Y45,男子種目コード!$D$1:$E$20,2,FALSE),IF(I45=2,VLOOKUP(Y45,女子種目コード!$D$1:$E$20,2,FALSE))))","v":""},null,"","",null,{"$f":"IF(AD45=\"\",\"\",IF(I45=1,VLOOKUP(AD45,男子種目コード!$A$1:$B$33,2,FALSE),IF(V45=2,VLOOKUP(I45,女子種目コード!$A$1:$B$28,2,FALSE))))","v":""},null,null,{"$f":"IF(AG45=\"\",\"\",IF(I45=1,VLOOKUP(AG45,男子種目コード!$A$1:$B$33,2,FALSE),IF(AA45=2,VLOOKUP(I45,女子種目コード!$A$1:$B$28,2,FALSE))))","v":""},null,null,null,null,null,"",0,0,200,"27.60",null,null,null,null,null,null,null,null,null,null,null,null,0,"",""]
["",{"$f":"名簿!P43","v":""},null,null,{"$f":"名簿!E43","v":0},{"$f":"名簿!CM43","v":""},{"$f":"名簿!Z43","v":""},{"$f":"名簿!CM43","v":""},{"$f":"名簿!Y43","v":""},{"$f":"名簿!CN43","v":""},{"$f":"名簿!CP43","v":0},{"$f":"名簿!CU43","v":"00"},{"$f":"名簿!Q43","v":""},{"$f":"名簿!D43","v":0},null,{"$f":"IF(O46=\"\",\"\",IF(I46=1,VLOOKUP(O46,男子種目コード!$M$1:$N$13,2,FALSE),IF(I46=2,VLOOKUP(O46,女子種目コード!$M$1:$N$10,2,FALSE))))","v":""},{"$f":"IF(O46=\"\",\"\",HLOOKUP(O46,名簿!$AH$3:$CH$118,41,FALSE))","v":""},"","",null,{"$f":"IF(T46=\"\",\"\",IF(I46=1,VLOOKUP(T46,男子種目コード!$M$1:$N$13,2,FALSE),IF(I46=2,VLOOKUP(T46,女子種目コード!$M$1:$N$10,2,FALSE))))","v":""},{"$f":"IF(T46=\"\",\"\",HLOOKUP(T46,名簿!$AH$3:$CH$118,41,FALSE))","v":""},"","",null,{"$f":"IF(Y46=\"\",\"\",IF(I46=1,VLOOKUP(Y46,男子種目コード!$D$1:$E$20,2,FALSE),IF(I46=2,VLOOKUP(Y46,女子種目コード!$D$1:$E$20,2,FALSE))))","v":""},null,"","",null,{"$f":"IF(AD46=\"\",\"\",IF(I46=1,VLOOKUP(AD46,男子種目コード!$A$1:$B$33,2,FALSE),IF(V46=2,VLOOKUP(I46,女子種目コード!$A$1:$B$28,2,FALSE))))","v":""},null,null,{"$f":"IF(AG46=\"\",\"\",IF(I46=1,VLOOKUP(AG46,男子種目コード!$A$1:$B$33,2,FALSE),IF(AA46=2,VLOOKUP(I46,女子種目コード!$A$1:$B$28,2,FALSE))))","v":""},null,null,null,null,null,"",0,0,800,"2.27.0",null,null,null,null,null,null,null,null,null,null,null,null,0,"",""]
["",{"$f":"名簿!P44","v":""},null,null,{"$f":"名簿!E44","v":0},{"$f":"名簿!CM44","v":""},{"$f":"名簿!Z44","v":""},{"$f":"名簿!CM44","v":""},{"$f":"名簿!Y44","v":""},{"$f":"名簿!CN44","v":""},{"$f":"名簿!CP44","v":0},{"$f":"名簿!CU44","v":"00"},{"$f":"名簿!Q44","v":""},{"$f":"名簿!D44","v":0},null,{"$f":"IF(O47=\"\",\"\",IF(I47=1,VLOOKUP(O47,男子種目コード!$M$1:$N$13,2,FALSE),IF(I47=2,VLOOKUP(O47,女子種目コード!$M$1:$N$10,2,FALSE))))","v":""},{"$f":"IF(O47=\"\",\"\",HLOOKUP(O47,名簿!$AH$3:$CH$118,42,FALSE))","v":""},"","",null,{"$f":"IF(T47=\"\",\"\",IF(I47=1,VLOOKUP(T47,男子種目コード!$M$1:$N$13,2,FALSE),IF(I47=2,VLOOKUP(T47,女子種目コード!$M$1:$N$10,2,FALSE))))","v":""},{"$f":"IF(T47=\"\",\"\",HLOOKUP(T47,名簿!$AH$3:$CH$118,42,FALSE))","v":""},"","",null,{"$f":"IF(Y47=\"\",\"\",IF(I47=1,VLOOKUP(Y47,男子種目コード!$D$1:$E$20,2,FALSE),IF(I47=2,VLOOKUP(Y47,女子種目コード!$D$1:$E$20,2,FALSE))))","v":""},null,"","",null,{"$f":"IF(AD47=\"\",\"\",IF(I47=1,VLOOKUP(AD47,男子種目コード!$A$1:$B$33,2,FALSE),IF(V47=2,VLOOKUP(I47,女子種目コード!$A$1:$B$28,2,FALSE))))","v":""},null,null,{"$f":"IF(AG47=\"\",\"\",IF(I47=1,VLOOKUP(AG47,男子種目コード!$A$1:$B$33,2,FALSE),IF(AA47=2,VLOOKUP(I47,女子種目コード!$A$1:$B$28,2,FALSE))))","v":""},null,null,null,null,null,"",0,0,1500,"5.10.0",null,null,null,null,null,null,null,null,null,null,null,null,0,"",""]
["",{"$f":"名簿!P45","v":""},null,null,{"$f":"名簿!E45","v":0},{"$f":"名簿!CM45","v":""},{"$f":"名簿!Z45","v":""},{"$f":"名簿!CM45","v":""},{"$f":"名簿!Y45","v":""},{"$f":"名簿!CN45","v":""},{"$f":"名簿!CP45","v":0},{"$f":"名簿!CU45","v":"00"},{"$f":"名簿!Q45","v":""},{"$f":"名簿!D45","v":0},null,{"$f":"IF(O48=\"\",\"\",IF(I48=1,VLOOKUP(O48,男子種目コード!$M$1:$N$13,2,FALSE),IF(I48=2,VLOOKUP(O48,女子種目コード!$M$1:$N$10,2,FALSE))))","v":""},{"$f":"IF(O48=\"\",\"\",HLOOKUP(O48,名簿!$AH$3:$CH$118,43,FALSE))","v":""},"","",null,{"$f":"IF(T48=\"\",\"\",IF(I48=1,VLOOKUP(T48,男子種目コード!$M$1:$N$13,2,FALSE),IF(I48=2,VLOOKUP(T48,女子種目コード!$M$1:$N$10,2,FALSE))))","v":""},{"$f":"IF(T48=\"\",\"\",HLOOKUP(T48,名簿!$AH$3:$CH$118,43,FALSE))","v":""},"","",null,{"$f":"IF(Y48=\"\",\"\",IF(I48=1,VLOOKUP(Y48,男子種目コード!$D$1:$E$20,2,FALSE),IF(I48=2,VLOOKUP(Y48,女子種目コード!$D$1:$E$20,2,FALSE))))","v":""},null,"","",null,{"$f":"IF(AD48=\"\",\"\",IF(I48=1,VLOOKUP(AD48,男子種目コード!$A$1:$B$33,2,FALSE),IF(V48=2,VLOOKUP(I48,女子種目コード!$A$1:$B$28,2,FALSE))))","v":""},null,null,{"$f":"IF(AG48=\"\",\"\",IF(I48=1,VLOOKUP(AG48,男子種目コード!$A$1:$B$33,2,FALSE),IF(AA48=2,VLOOKUP(I48,女子種目コード!$A$1:$B$28,2,FALSE))))","v":""},null,null,null,null,null,"",0,0,"100H","16.70",null,null,null,null,null,null,null,null,null,null,null,null,0,"",""]
["",{"$f":"名簿!P46","v":""},null,null,{"$f":"名簿!E46","v":0},{"$f":"名簿!CM46","v":""},{"$f":"名簿!Z46","v":""},{"$f":"名簿!CM46","v":""},{"$f":"名簿!Y46","v":""},{"$f":"名簿!CN46","v":""},{"$f":"名簿!CP46","v":0},{"$f":"名簿!CU46","v":"00"},{"$f":"名簿!Q46","v":""},{"$f":"名簿!D46","v":0},null,{"$f":"IF(O49=\"\",\"\",IF(I49=1,VLOOKUP(O49,男子種目コード!$M$1:$N$13,2,FALSE),IF(I49=2,VLOOKUP(O49,女子種目コード!$M$1:$N$10,2,FALSE))))","v":""},{"$f":"IF(O49=\"\",\"\",HLOOKUP(O49,名簿!$AH$3:$CH$118,44,FALSE))","v":""},"","",null,{"$f":"IF(T49=\"\",\"\",IF(I49=1,VLOOKUP(T49,男子種目コード!$M$1:$N$13,2,FALSE),IF(I49=2,VLOOKUP(T49,女子種目コード!$M$1:$N$10,2,FALSE))))","v":""},{"$f":"IF(T49=\"\",\"\",HLOOKUP(T49,名簿!$AH$3:$CH$118,44,FALSE))","v":""},"","",null,{"$f":"IF(Y49=\"\",\"\",IF(I49=1,VLOOKUP(Y49,男子種目コード!$D$1:$E$20,2,FALSE),IF(I49=2,VLOOKUP(Y49,女子種目コード!$D$1:$E$20,2,FALSE))))","v":""},null,"","",null,{"$f":"IF(AD49=\"\",\"\",IF(I49=1,VLOOKUP(AD49,男子種目コード!$A$1:$B$33,2,FALSE),IF(V49=2,VLOOKUP(I49,女子種目コード!$A$1:$B$28,2,FALSE))))","v":""},null,null,{"$f":"IF(AG49=\"\",\"\",IF(I49=1,VLOOKUP(AG49,男子種目コード!$A$1:$B$33,2,FALSE),IF(AA49=2,VLOOKUP(I49,女子種目コード!$A$1:$B$28,2,FALSE))))","v":""},null,null,null,null,null,"",0,0,"走高跳","1m43",null,null,null,null,null,null,null,null,null,null,null,null,0,"",""]
["",{"$f":"名簿!P47","v":""},null,null,{"$f":"名簿!E47","v":0},{"$f":"名簿!CM47","v":""},{"$f":"名簿!Z47","v":""},{"$f":"名簿!CM47","v":""},{"$f":"名簿!Y47","v":""},{"$f":"名簿!CN47","v":""},{"$f":"名簿!CP47","v":0},{"$f":"名簿!CU47","v":"00"},{"$f":"名簿!Q47","v":""},{"$f":"名簿!D47","v":0},null,{"$f":"IF(O50=\"\",\"\",IF(I50=1,VLOOKUP(O50,男子種目コード!$M$1:$N$13,2,FALSE),IF(I50=2,VLOOKUP(O50,女子種目コード!$M$1:$N$10,2,FALSE))))","v":""},{"$f":"IF(O50=\"\",\"\",HLOOKUP(O50,名簿!$AH$3:$CH$118,45,FALSE))","v":""},"","",null,{"$f":"IF(T50=\"\",\"\",IF(I50=1,VLOOKUP(T50,男子種目コード!$M$1:$N$13,2,FALSE),IF(I50=2,VLOOKUP(T50,女子種目コード!$M$1:$N$10,2,FALSE))))","v":""},{"$f":"IF(T50=\"\",\"\",HLOOKUP(T50,名簿!$AH$3:$CH$118,45,FALSE))","v":""},"","",null,{"$f":"IF(Y50=\"\",\"\",IF(I50=1,VLOOKUP(Y50,男子種目コード!$D$1:$E$20,2,FALSE),IF(I50=2,VLOOKUP(Y50,女子種目コード!$D$1:$E$20,2,FALSE))))","v":""},null,"","",null,{"$f":"IF(AD50=\"\",\"\",IF(I50=1,VLOOKUP(AD50,男子種目コード!$A$1:$B$33,2,FALSE),IF(V50=2,VLOOKUP(I50,女子種目コード!$A$1:$B$28,2,FALSE))))","v":""},null,null,{"$f":"IF(AG50=\"\",\"\",IF(I50=1,VLOOKUP(AG50,男子種目コード!$A$1:$B$33,2,FALSE),IF(AA50=2,VLOOKUP(I50,女子種目コード!$A$1:$B$28,2,FALSE))))","v":""},null,null,null,null,null,"",0,0,"走幅跳","4m90",null,null,null,null,null,null,null,null,null,null,null,null,0,"",""]
["",{"$f":"名簿!P48","v":""},null,null,{"$f":"名簿!E48","v":0},{"$f":"名簿!CM48","v":""},{"$f":"名簿!Z48","v":""},{"$f":"名簿!CM48","v":""},{"$f":"名簿!Y48","v":""},{"$f":"名簿!CN48","v":""},{"$f":"名簿!CP48","v":0},{"$f":"名簿!CU48","v":"00"},{"$f":"名簿!Q48","v":""},{"$f":"名簿!D48","v":0},null,{"$f":"IF(O51=\"\",\"\",IF(I51=1,VLOOKUP(O51,男子種目コード!$M$1:$N$13,2,FALSE),IF(I51=2,VLOOKUP(O51,女子種目コード!$M$1:$N$10,2,FALSE))))","v":""},{"$f":"IF(O51=\"\",\"\",HLOOKUP(O51,名簿!$AH$3:$CH$118,46,FALSE))","v":""},"","",null,{"$f":"IF(T51=\"\",\"\",IF(I51=1,VLOOKUP(T51,男子種目コード!$M$1:$N$13,2,FALSE),IF(I51=2,VLOOKUP(T51,女子種目コード!$M$1:$N$10,2,FALSE))))","v":""},{"$f":"IF(T51=\"\",\"\",HLOOKUP(T51,名簿!$AH$3:$CH$118,46,FALSE))","v":""},"","",null,{"$f":"IF(Y51=\"\",\"\",IF(I51=1,VLOOKUP(Y51,男子種目コード!$D$1:$E$20,2,FALSE),IF(I51=2,VLOOKUP(Y51,女子種目コード!$D$1:$E$20,2,FALSE))))","v":""},null,"","",null,{"$f":"IF(AD51=\"\",\"\",IF(I51=1,VLOOKUP(AD51,男子種目コード!$A$1:$B$33,2,FALSE),IF(V51=2,VLOOKUP(I51,女子種目コード!$A$1:$B$28,2,FALSE))))","v":""},null,null,{"$f":"IF(AG51=\"\",\"\",IF(I51=1,VLOOKUP(AG51,男子種目コード!$A$1:$B$33,2,FALSE),IF(AA51=2,VLOOKUP(I51,女子種目コード!$A$1:$B$28,2,FALSE))))","v":""},null,null,null,null,null,"",0,0,"砲丸投","10m50",null,null,null,null,null,null,null,null,null,null,null,null,0,"",""]
["",{"$f":"名簿!P49","v":""},null,null,{"$f":"名簿!E49","v":0},{"$f":"名簿!CM49","v":""},{"$f":"名簿!Z49","v":""},{"$f":"名簿!CM49","v":""},{"$f":"名簿!Y49","v":""},{"$f":"名簿!CN49","v":""},{"$f":"名簿!CP49","v":0},{"$f":"名簿!CU49","v":"00"},{"$f":"名簿!Q49","v":""},{"$f":"名簿!D49","v":0},null,{"$f":"IF(O52=\"\",\"\",IF(I52=1,VLOOKUP(O52,男子種目コード!$M$1:$N$13,2,FALSE),IF(I52=2,VLOOKUP(O52,女子種目コード!$M$1:$N$10,2,FALSE))))","v":""},{"$f":"IF(O52=\"\",\"\",HLOOKUP(O52,名簿!$AH$3:$CH$118,47,FALSE))","v":""},"","",null,{"$f":"IF(T52=\"\",\"\",IF(I52=1,VLOOKUP(T52,男子種目コード!$M$1:$N$13,2,FALSE),IF(I52=2,VLOOKUP(T52,女子種目コード!$M$1:$N$10,2,FALSE))))","v":""},{"$f":"IF(T52=\"\",\"\",HLOOKUP(T52,名簿!$AH$3:$CH$118,47,FALSE))","v":""},"","",null,{"$f":"IF(Y52=\"\",\"\",IF(I52=1,VLOOKUP(Y52,男子種目コード!$D$1:$E$20,2,FALSE),IF(I52=2,VLOOKUP(Y52,女子種目コード!$D$1:$E$20,2,FALSE))))","v":""},null,"","",null,{"$f":"IF(AD52=\"\",\"\",IF(I52=1,VLOOKUP(AD52,男子種目コード!$A$1:$B$33,2,FALSE),IF(V52=2,VLOOKUP(I52,女子種目コード!$A$1:$B$28,2,FALSE))))","v":""},null,null,{"$f":"IF(AG52=\"\",\"\",IF(I52=1,VLOOKUP(AG52,男子種目コード!$A$1:$B$33,2,FALSE),IF(AA52=2,VLOOKUP(I52,女子種目コード!$A$1:$B$28,2,FALSE))))","v":""},null,null,null,null,null,"",0,0,null,null,null,null,null,null,null,null,null,null,null,null,null,null,0,"",""]
["",{"$f":"名簿!P50","v":""},null,null,{"$f":"名簿!E50","v":0},{"$f":"名簿!CM50","v":""},{"$f":"名簿!Z50","v":""},{"$f":"名簿!CM50","v":""},{"$f":"名簿!Y50","v":""},{"$f":"名簿!CN50","v":""},{"$f":"名簿!CP50","v":0},{"$f":"名簿!CU50","v":"00"},{"$f":"名簿!Q50","v":""},{"$f":"名簿!D50","v":0},null,{"$f":"IF(O53=\"\",\"\",IF(I53=1,VLOOKUP(O53,男子種目コード!$M$1:$N$13,2,FALSE),IF(I53=2,VLOOKUP(O53,女子種目コード!$M$1:$N$10,2,FALSE))))","v":""},{"$f":"IF(O53=\"\",\"\",HLOOKUP(O53,名簿!$AH$3:$CH$118,48,FALSE))","v":""},"","",null,{"$f":"IF(T53=\"\",\"\",IF(I53=1,VLOOKUP(T53,男子種目コード!$M$1:$N$13,2,FALSE),IF(I53=2,VLOOKUP(T53,女子種目コード!$M$1:$N$10,2,FALSE))))","v":""},{"$f":"IF(T53=\"\",\"\",HLOOKUP(T53,名簿!$AH$3:$CH$118,48,FALSE))","v":""},"","",null,{"$f":"IF(Y53=\"\",\"\",IF(I53=1,VLOOKUP(Y53,男子種目コード!$D$1:$E$20,2,FALSE),IF(I53=2,VLOOKUP(Y53,女子種目コード!$D$1:$E$20,2,FALSE))))","v":""},null,"","",null,{"$f":"IF(AD53=\"\",\"\",IF(I53=1,VLOOKUP(AD53,男子種目コード!$A$1:$B$33,2,FALSE),IF(V53=2,VLOOKUP(I53,女子種目コード!$A$1:$B$28,2,FALSE))))","v":""},null,null,{"$f":"IF(AG53=\"\",\"\",IF(I53=1,VLOOKUP(AG53,男子種目コード!$A$1:$B$33,2,FALSE),IF(AA53=2,VLOOKUP(I53,女子種目コード!$A$1:$B$28,2,FALSE))))","v":""},null,null,null,null,null,"",0,0,null,null,null,null,null,null,null,null,null,null,null,null,null,null,0,"",""]
["",{"$f":"名簿!P51","v":""},null,null,{"$f":"名簿!E51","v":0},{"$f":"名簿!CM51","v":""},{"$f":"名簿!Z51","v":""},{"$f":"名簿!CM51","v":""},{"$f":"名簿!Y51","v":""},{"$f":"名簿!CN51","v":""},{"$f":"名簿!CP51","v":0},{"$f":"名簿!CU51","v":"00"},{"$f":"名簿!Q51","v":""},{"$f":"名簿!D51","v":0},null,{"$f":"IF(O54=\"\",\"\",IF(I54=1,VLOOKUP(O54,男子種目コード!$M$1:$N$13,2,FALSE),IF(I54=2,VLOOKUP(O54,女子種目コード!$M$1:$N$10,2,FALSE))))","v":""},{"$f":"IF(O54=\"\",\"\",HLOOKUP(O54,名簿!$AH$3:$CH$118,49,FALSE))","v":""},"","",null,{"$f":"IF(T54=\"\",\"\",IF(I54=1,VLOOKUP(T54,男子種目コード!$M$1:$N$13,2,FALSE),IF(I54=2,VLOOKUP(T54,女子種目コード!$M$1:$N$10,2,FALSE))))","v":""},{"$f":"IF(T54=\"\",\"\",HLOOKUP(T54,名簿!$AH$3:$CH$118,49,FALSE))","v":""},"","",null,{"$f":"IF(Y54=\"\",\"\",IF(I54=1,VLOOKUP(Y54,男子種目コード!$D$1:$E$20,2,FALSE),IF(I54=2,VLOOKUP(Y54,女子種目コード!$D$1:$E$20,2,FALSE))))","v":""},null,"","",null,{"$f":"IF(AD54=\"\",\"\",IF(I54=1,VLOOKUP(AD54,男子種目コード!$A$1:$B$33,2,FALSE),IF(V54=2,VLOOKUP(I54,女子種目コード!$A$1:$B$28,2,FALSE))))","v":""},null,null,{"$f":"IF(AG54=\"\",\"\",IF(I54=1,VLOOKUP(AG54,男子種目コード!$A$1:$B$33,2,FALSE),IF(AA54=2,VLOOKUP(I54,女子種目コード!$A$1:$B$28,2,FALSE))))","v":""},null,null,null,null,null,"",0,0,null,null,null,null,null,null,null,null,null,null,null,null,null,null,0,"",""]
["",{"$f":"名簿!P52","v":""},null,null,{"$f":"名簿!E52","v":0},{"$f":"名簿!CM52","v":""},{"$f":"名簿!Z52","v":""},{"$f":"名簿!CM52","v":""},{"$f":"名簿!Y52","v":""},{"$f":"名簿!CN52","v":""},{"$f":"名簿!CP52","v":0},{"$f":"名簿!CU52","v":"00"},{"$f":"名簿!Q52","v":""},{"$f":"名簿!D52","v":0},null,{"$f":"IF(O55=\"\",\"\",IF(I55=1,VLOOKUP(O55,男子種目コード!$M$1:$N$13,2,FALSE),IF(I55=2,VLOOKUP(O55,女子種目コード!$M$1:$N$10,2,FALSE))))","v":""},{"$f":"IF(O55=\"\",\"\",HLOOKUP(O55,名簿!$AH$3:$CH$118,50,FALSE))","v":""},"","",null,{"$f":"IF(T55=\"\",\"\",IF(I55=1,VLOOKUP(T55,男子種目コード!$M$1:$N$13,2,FALSE),IF(I55=2,VLOOKUP(T55,女子種目コード!$M$1:$N$10,2,FALSE))))","v":""},{"$f":"IF(T55=\"\",\"\",HLOOKUP(T55,名簿!$AH$3:$CH$118,50,FALSE))","v":""},"","",null,{"$f":"IF(Y55=\"\",\"\",IF(I55=1,VLOOKUP(Y55,男子種目コード!$D$1:$E$20,2,FALSE),IF(I55=2,VLOOKUP(Y55,女子種目コード!$D$1:$E$20,2,FALSE))))","v":""},null,"","",null,{"$f":"IF(AD55=\"\",\"\",IF(I55=1,VLOOKUP(AD55,男子種目コード!$A$1:$B$33,2,FALSE),IF(V55=2,VLOOKUP(I55,女子種目コード!$A$1:$B$28,2,FALSE))))","v":""},null,null,{"$f":"IF(AG55=\"\",\"\",IF(I55=1,VLOOKUP(AG55,男子種目コード!$A$1:$B$33,2,FALSE),IF(AA55=2,VLOOKUP(I55,女子種目コード!$A$1:$B$28,2,FALSE))))","v":""},null,null,null,null,null,"",0,0,null,null,null,null,null,null,null,null,null,null,null,null,null,null,0,"",""]
["",{"$f":"名簿!P53","v":""},null,null,{"$f":"名簿!E53","v":0},{"$f":"名簿!CM53","v":""},{"$f":"名簿!Z53","v":""},{"$f":"名簿!CM53","v":""},{"$f":"名簿!Y53","v":""},{"$f":"名簿!CN53","v":""},{"$f":"名簿!CP53","v":0},{"$f":"名簿!CU53","v":"00"},{"$f":"名簿!Q53","v":""},{"$f":"名簿!D53","v":0},null,{"$f":"IF(O56=\"\",\"\",IF(I56=1,VLOOKUP(O56,男子種目コード!$M$1:$N$13,2,FALSE),IF(I56=2,VLOOKUP(O56,女子種目コード!$M$1:$N$10,2,FALSE))))","v":""},{"$f":"IF(O56=\"\",\"\",HLOOKUP(O56,名簿!$AH$3:$CH$118,51,FALSE))","v":""},"","",null,{"$f":"IF(T56=\"\",\"\",IF(I56=1,VLOOKUP(T56,男子種目コード!$M$1:$N$13,2,FALSE),IF(I56=2,VLOOKUP(T56,女子種目コード!$M$1:$N$10,2,FALSE))))","v":""},{"$f":"IF(T56=\"\",\"\",HLOOKUP(T56,名簿!$AH$3:$CH$118,51,FALSE))","v":""},"","",null,{"$f":"IF(Y56=\"\",\"\",IF(I56=1,VLOOKUP(Y56,男子種目コード!$D$1:$E$20,2,FALSE),IF(I56=2,VLOOKUP(Y56,女子種目コード!$D$1:$E$20,2,FALSE))))","v":""},null,"","",null,{"$f":"IF(AD56=\"\",\"\",IF(I56=1,VLOOKUP(AD56,男子種目コード!$A$1:$B$33,2,FALSE),IF(V56=2,VLOOKUP(I56,女子種目コード!$A$1:$B$28,2,FALSE))))","v":""},null,null,{"$f":"IF(AG56=\"\",\"\",IF(I56=1,VLOOKUP(AG56,男子種目コード!$A$1:$B$33,2,FALSE),IF(AA56=2,VLOOKUP(I56,女子種目コード!$A$1:$B$28,2,FALSE))))","v":""},null,null,null,null,null,"",0,0,null,null,null,null,null,null,null,null,null,null,null,null,null,null,0,"",""]
["",{"$f":"名簿!P54","v":""},null,null,{"$f":"名簿!E54","v":0},{"$f":"名簿!CM54","v":""},{"$f":"名簿!Z54","v":""},{"$f":"名簿!CM54","v":""},{"$f":"名簿!Y54","v":""},{"$f":"名簿!CN54","v":""},{"$f":"名簿!CP54","v":0},{"$f":"名簿!CU54","v":"00"},{"$f":"名簿!Q54","v":""},{"$f":"名簿!D54","v":0},null,{"$f":"IF(O57=\"\",\"\",IF(I57=1,VLOOKUP(O57,男子種目コード!$M$1:$N$13,2,FALSE),IF(I57=2,VLOOKUP(O57,女子種目コード!$M$1:$N$10,2,FALSE))))","v":""},{"$f":"IF(O57=\"\",\"\",HLOOKUP(O57,名簿!$AH$3:$CH$118,52,FALSE))","v":""},"","",null,{"$f":"IF(T57=\"\",\"\",IF(I57=1,VLOOKUP(T57,男子種目コード!$M$1:$N$13,2,FALSE),IF(I57=2,VLOOKUP(T57,女子種目コード!$M$1:$N$10,2,FALSE))))","v":""},{"$f":"IF(T57=\"\",\"\",HLOOKUP(T57,名簿!$AH$3:$CH$118,52,FALSE))","v":""},"","",null,{"$f":"IF(Y57=\"\",\"\",IF(I57=1,VLOOKUP(Y57,男子種目コード!$D$1:$E$20,2,FALSE),IF(I57=2,VLOOKUP(Y57,女子種目コード!$D$1:$E$20,2,FALSE))))","v":""},null,"","",null,{"$f":"IF(AD57=\"\",\"\",IF(I57=1,VLOOKUP(AD57,男子種目コード!$A$1:$B$33,2,FALSE),IF(V57=2,VLOOKUP(I57,女子種目コード!$A$1:$B$28,2,FALSE))))","v":""},null,null,{"$f":"IF(AG57=\"\",\"\",IF(I57=1,VLOOKUP(AG57,男子種目コード!$A$1:$B$33,2,FALSE),IF(AA57=2,VLOOKUP(I57,女子種目コード!$A$1:$B$28,2,FALSE))))","v":""},null,null,null,null,null,"",0,0,null,null,null,null,null,null,null,null,null,null,null,null,null,null,0,"",""]
["",{"$f":"名簿!P55","v":""},null,null,{"$f":"名簿!E55","v":0},{"$f":"名簿!CM55","v":""},{"$f":"名簿!Z55","v":""},{"$f":"名簿!CM55","v":""},{"$f":"名簿!Y55","v":""},{"$f":"名簿!CN55","v":""},{"$f":"名簿!CP55","v":0},{"$f":"名簿!CU55","v":"00"},{"$f":"名簿!Q55","v":""},{"$f":"名簿!D55","v":0},null,{"$f":"IF(O58=\"\",\"\",IF(I58=1,VLOOKUP(O58,男子種目コード!$M$1:$N$13,2,FALSE),IF(I58=2,VLOOKUP(O58,女子種目コード!$M$1:$N$10,2,FALSE))))","v":""},{"$f":"IF(O58=\"\",\"\",HLOOKUP(O58,名簿!$AH$3:$CH$118,53,FALSE))","v":""},"","",null,{"$f":"IF(T58=\"\",\"\",IF(I58=1,VLOOKUP(T58,男子種目コード!$M$1:$N$13,2,FALSE),IF(I58=2,VLOOKUP(T58,女子種目コード!$M$1:$N$10,2,FALSE))))","v":""},{"$f":"IF(T58=\"\",\"\",HLOOKUP(T58,名簿!$AH$3:$CH$118,53,FALSE))","v":""},"","",null,{"$f":"IF(Y58=\"\",\"\",IF(I58=1,VLOOKUP(Y58,男子種目コード!$D$1:$E$20,2,FALSE),IF(I58=2,VLOOKUP(Y58,女子種目コード!$D$1:$E$20,2,FALSE))))","v":""},null,"","",null,{"$f":"IF(AD58=\"\",\"\",IF(I58=1,VLOOKUP(AD58,男子種目コード!$A$1:$B$33,2,FALSE),IF(V58=2,VLOOKUP(I58,女子種目コード!$A$1:$B$28,2,FALSE))))","v":""},null,null,{"$f":"IF(AG58=\"\",\"\",IF(I58=1,VLOOKUP(AG58,男子種目コード!$A$1:$B$33,2,FALSE),IF(AA58=2,VLOOKUP(I58,女子種目コード!$A$1:$B$28,2,FALSE))))","v":""},null,null,null,null,null,"",0,0,null,null,null,null,null,null,null,null,null,null,null,null,null,null,0,"",""]
["",{"$f":"名簿!P56","v":""},null,null,{"$f":"名簿!E56","v":0},{"$f":"名簿!CM56","v":""},{"$f":"名簿!Z56","v":""},{"$f":"名簿!CM56","v":""},{"$f":"名簿!Y56","v":""},{"$f":"名簿!CN56","v":""},{"$f":"名簿!CP56","v":0},{"$f":"名簿!CU56","v":"00"},{"$f":"名簿!Q56","v":""},{"$f":"名簿!D56","v":0},null,{"$f":"IF(O59=\"\",\"\",IF(I59=1,VLOOKUP(O59,男子種目コード!$M$1:$N$13,2,FALSE),IF(I59=2,VLOOKUP(O59,女子種目コード!$M$1:$N$10,2,FALSE))))","v":""},{"$f":"IF(O59=\"\",\"\",HLOOKUP(O59,名簿!$AH$3:$CH$118,54,FALSE))","v":""},"","",null,{"$f":"IF(T59=\"\",\"\",IF(I59=1,VLOOKUP(T59,男子種目コード!$M$1:$N$13,2,FALSE),IF(I59=2,VLOOKUP(T59,女子種目コード!$M$1:$N$10,2,FALSE))))","v":""},{"$f":"IF(T59=\"\",\"\",HLOOKUP(T59,名簿!$AH$3:$CH$118,54,FALSE))","v":""},"","",null,{"$f":"IF(Y59=\"\",\"\",IF(I59=1,VLOOKUP(Y59,男子種目コード!$D$1:$E$20,2,FALSE),IF(I59=2,VLOOKUP(Y59,女子種目コード!$D$1:$E$20,2,FALSE))))","v":""},null,"","",null,{"$f":"IF(AD59=\"\",\"\",IF(I59=1,VLOOKUP(AD59,男子種目コード!$A$1:$B$33,2,FALSE),IF(V59=2,VLOOKUP(I59,女子種目コード!$A$1:$B$28,2,FALSE))))","v":""},null,null,{"$f":"IF(AG59=\"\",\"\",IF(I59=1,VLOOKUP(AG59,男子種目コード!$A$1:$B$33,2,FALSE),IF(AA59=2,VLOOKUP(I59,女子種目コード!$A$1:$B$28,2,FALSE))))","v":""},null,null,null,null,null,"",0,0,null,null,null,null,null,null,null,null,null,null,null,null,null,null,0,"",""]
["",{"$f":"名簿!P57","v":""},null,null,{"$f":"名簿!E57","v":0},{"$f":"名簿!CM57","v":""},{"$f":"名簿!Z57","v":""},{"$f":"名簿!CM57","v":""},{"$f":"名簿!Y57","v":""},{"$f":"名簿!CN57","v":""},{"$f":"名簿!CP57","v":0},{"$f":"名簿!CU57","v":"00"},{"$f":"名簿!Q57","v":""},{"$f":"名簿!D57","v":0},null,{"$f":"IF(O60=\"\",\"\",IF(I60=1,VLOOKUP(O60,男子種目コード!$M$1:$N$13,2,FALSE),IF(I60=2,VLOOKUP(O60,女子種目コード!$M$1:$N$10,2,FALSE))))","v":""},{"$f":"IF(O60=\"\",\"\",HLOOKUP(O60,名簿!$AH$3:$CH$118,55,FALSE))","v":""},"","",null,{"$f":"IF(T60=\"\",\"\",IF(I60=1,VLOOKUP(T60,男子種目コード!$M$1:$N$13,2,FALSE),IF(I60=2,VLOOKUP(T60,女子種目コード!$M$1:$N$10,2,FALSE))))","v":""},{"$f":"IF(T60=\"\",\"\",HLOOKUP(T60,名簿!$AH$3:$CH$118,55,FALSE))","v":""},"","",null,{"$f":"IF(Y60=\"\",\"\",IF(I60=1,VLOOKUP(Y60,男子種目コード!$D$1:$E$20,2,FALSE),IF(I60=2,VLOOKUP(Y60,女子種目コード!$D$1:$E$20,2,FALSE))))","v":""},null,"","",null,{"$f":"IF(AD60=\"\",\"\",IF(I60=1,VLOOKUP(AD60,男子種目コード!$A$1:$B$33,2,FALSE),IF(V60=2,VLOOKUP(I60,女子種目コード!$A$1:$B$28,2,FALSE))))","v":""},null,null,{"$f":"IF(AG60=\"\",\"\",IF(I60=1,VLOOKUP(AG60,男子種目コード!$A$1:$B$33,2,FALSE),IF(AA60=2,VLOOKUP(I60,女子種目コード!$A$1:$B$28,2,FALSE))))","v":""},null,null,null,null,null,"",0,0,null,null,null,null,null,null,null,null,null,null,null,null,null,null,0,"",""]
["",{"$f":"名簿!P58","v":""},null,null,{"$f":"名簿!E58","v":0},{"$f":"名簿!CM58","v":""},{"$f":"名簿!Z58","v":""},{"$f":"名簿!CM58","v":""},{"$f":"名簿!Y58","v":""},{"$f":"名簿!CN58","v":""},{"$f":"名簿!CP58","v":0},{"$f":"名簿!CU58","v":"00"},{"$f":"名簿!Q58","v":""},{"$f":"名簿!D58","v":0},null,{"$f":"IF(O61=\"\",\"\",IF(I61=1,VLOOKUP(O61,男子種目コード!$M$1:$N$13,2,FALSE),IF(I61=2,VLOOKUP(O61,女子種目コード!$M$1:$N$10,2,FALSE))))","v":""},{"$f":"IF(O61=\"\",\"\",HLOOKUP(O61,名簿!$AH$3:$CH$118,56,FALSE))","v":""},"","",null,{"$f":"IF(T61=\"\",\"\",IF(I61=1,VLOOKUP(T61,男子種目コード!$M$1:$N$13,2,FALSE),IF(I61=2,VLOOKUP(T61,女子種目コード!$M$1:$N$10,2,FALSE))))","v":""},{"$f":"IF(T61=\"\",\"\",HLOOKUP(T61,名簿!$AH$3:$CH$118,56,FALSE))","v":""},"","",null,{"$f":"IF(Y61=\"\",\"\",IF(I61=1,VLOOKUP(Y61,男子種目コード!$D$1:$E$20,2,FALSE),IF(I61=2,VLOOKUP(Y61,女子種目コード!$D$1:$E$20,2,FALSE))))","v":""},null,"","",null,{"$f":"IF(AD61=\"\",\"\",IF(I61=1,VLOOKUP(AD61,男子種目コード!$A$1:$B$33,2,FALSE),IF(V61=2,VLOOKUP(I61,女子種目コード!$A$1:$B$28,2,FALSE))))","v":""},null,null,{"$f":"IF(AG61=\"\",\"\",IF(I61=1,VLOOKUP(AG61,男子種目コード!$A$1:$B$33,2,FALSE),IF(AA61=2,VLOOKUP(I61,女子種目コード!$A$1:$B$28,2,FALSE))))","v":""},null,null,null,null,null,"",0,0,null,null,null,null,null,null,null,null,null,null,null,null,null,null,0,"",""]
["",{"$f":"名簿!P59","v":""},null,null,{"$f":"名簿!E59","v":0},{"$f":"名簿!CM59","v":""},{"$f":"名簿!Z59","v":""},{"$f":"名簿!CM59","v":""},{"$f":"名簿!Y59","v":""},{"$f":"名簿!CN59","v":""},{"$f":"名簿!CP59","v":0},{"$f":"名簿!CU59","v":"00"},{"$f":"名簿!Q59","v":""},{"$f":"名簿!D59","v":0},null,{"$f":"IF(O62=\"\",\"\",IF(I62=1,VLOOKUP(O62,男子種目コード!$M$1:$N$13,2,FALSE),IF(I62=2,VLOOKUP(O62,女子種目コード!$M$1:$N$10,2,FALSE))))","v":""},{"$f":"IF(O62=\"\",\"\",HLOOKUP(O62,名簿!$AH$3:$CH$118,57,FALSE))","v":""},"","",null,{"$f":"IF(T62=\"\",\"\",IF(I62=1,VLOOKUP(T62,男子種目コード!$M$1:$N$13,2,FALSE),IF(I62=2,VLOOKUP(T62,女子種目コード!$M$1:$N$10,2,FALSE))))","v":""},{"$f":"IF(T62=\"\",\"\",HLOOKUP(T62,名簿!$AH$3:$CH$118,57,FALSE))","v":""},"","",null,{"$f":"IF(Y62=\"\",\"\",IF(I62=1,VLOOKUP(Y62,男子種目コード!$D$1:$E$20,2,FALSE),IF(I62=2,VLOOKUP(Y62,女子種目コード!$D$1:$E$20,2,FALSE))))","v":""},null,"","",null,{"$f":"IF(AD62=\"\",\"\",IF(I62=1,VLOOKUP(AD62,男子種目コード!$A$1:$B$33,2,FALSE),IF(V62=2,VLOOKUP(I62,女子種目コード!$A$1:$B$28,2,FALSE))))","v":""},null,null,{"$f":"IF(AG62=\"\",\"\",IF(I62=1,VLOOKUP(AG62,男子種目コード!$A$1:$B$33,2,FALSE),IF(AA62=2,VLOOKUP(I62,女子種目コード!$A$1:$B$28,2,FALSE))))","v":""},null,null,null,null,null,"",0,0,null,null,null,null,null,null,null,null,null,null,null,null,null,null,0,"",""]
["",{"$f":"名簿!P60","v":""},null,null,{"$f":"名簿!E60","v":0},{"$f":"名簿!CM60","v":""},{"$f":"名簿!Z60","v":""},{"$f":"名簿!CM60","v":""},{"$f":"名簿!Y60","v":""},{"$f":"名簿!CN60","v":""},{"$f":"名簿!CP60","v":0},{"$f":"名簿!CU60","v":"00"},{"$f":"名簿!Q60","v":""},{"$f":"名簿!D60","v":0},null,{"$f":"IF(O63=\"\",\"\",IF(I63=1,VLOOKUP(O63,男子種目コード!$M$1:$N$13,2,FALSE),IF(I63=2,VLOOKUP(O63,女子種目コード!$M$1:$N$10,2,FALSE))))","v":""},{"$f":"IF(O63=\"\",\"\",HLOOKUP(O63,名簿!$AH$3:$CH$118,58,FALSE))","v":""},"","",null,{"$f":"IF(T63=\"\",\"\",IF(I63=1,VLOOKUP(T63,男子種目コード!$M$1:$N$13,2,FALSE),IF(I63=2,VLOOKUP(T63,女子種目コード!$M$1:$N$10,2,FALSE))))","v":""},{"$f":"IF(T63=\"\",\"\",HLOOKUP(T63,名簿!$AH$3:$CH$118,58,FALSE))","v":""},"","",null,{"$f":"IF(Y63=\"\",\"\",IF(I63=1,VLOOKUP(Y63,男子種目コード!$D$1:$E$20,2,FALSE),IF(I63=2,VLOOKUP(Y63,女子種目コード!$D$1:$E$20,2,FALSE))))","v":""},null,"","",null,{"$f":"IF(AD63=\"\",\"\",IF(I63=1,VLOOKUP(AD63,男子種目コード!$A$1:$B$33,2,FALSE),IF(V63=2,VLOOKUP(I63,女子種目コード!$A$1:$B$28,2,FALSE))))","v":""},null,null,{"$f":"IF(AG63=\"\",\"\",IF(I63=1,VLOOKUP(AG63,男子種目コード!$A$1:$B$33,2,FALSE),IF(AA63=2,VLOOKUP(I63,女子種目コード!$A$1:$B$28,2,FALSE))))","v":""},null,null,null,null,null,"",0,0,null,null,null,null,null,null,null,null,null,null,null,null,null,null,0,"",""]
["",{"$f":"名簿!P61","v":""},null,null,{"$f":"名簿!E61","v":0},{"$f":"名簿!CM61","v":""},{"$f":"名簿!Z61","v":""},{"$f":"名簿!CM61","v":""},{"$f":"名簿!Y61","v":""},{"$f":"名簿!CN61","v":""},{"$f":"名簿!CP61","v":0},{"$f":"名簿!CU61","v":"00"},{"$f":"名簿!Q61","v":""},{"$f":"名簿!D61","v":0},null,{"$f":"IF(O64=\"\",\"\",IF(I64=1,VLOOKUP(O64,男子種目コード!$M$1:$N$13,2,FALSE),IF(I64=2,VLOOKUP(O64,女子種目コード!$M$1:$N$10,2,FALSE))))","v":""},{"$f":"IF(O64=\"\",\"\",HLOOKUP(O64,名簿!$AH$3:$CH$118,59,FALSE))","v":""},"","",null,{"$f":"IF(T64=\"\",\"\",IF(I64=1,VLOOKUP(T64,男子種目コード!$M$1:$N$13,2,FALSE),IF(I64=2,VLOOKUP(T64,女子種目コード!$M$1:$N$10,2,FALSE))))","v":""},{"$f":"IF(T64=\"\",\"\",HLOOKUP(T64,名簿!$AH$3:$CH$118,59,FALSE))","v":""},"","",null,{"$f":"IF(Y64=\"\",\"\",IF(I64=1,VLOOKUP(Y64,男子種目コード!$D$1:$E$20,2,FALSE),IF(I64=2,VLOOKUP(Y64,女子種目コード!$D$1:$E$20,2,FALSE))))","v":""},null,"","",null,{"$f":"IF(AD64=\"\",\"\",IF(I64=1,VLOOKUP(AD64,男子種目コード!$A$1:$B$33,2,FALSE),IF(V64=2,VLOOKUP(I64,女子種目コード!$A$1:$B$28,2,FALSE))))","v":""},null,null,{"$f":"IF(AG64=\"\",\"\",IF(I64=1,VLOOKUP(AG64,男子種目コード!$A$1:$B$33,2,FALSE),IF(AA64=2,VLOOKUP(I64,女子種目コード!$A$1:$B$28,2,FALSE))))","v":""},null,null,null,null,null,"",0,0,null,null,null,null,null,null,null,null,null,null,null,null,null,null,0,"",""]
["",{"$f":"名簿!P62","v":""},null,null,{"$f":"名簿!E62","v":0},{"$f":"名簿!CM62","v":""},{"$f":"名簿!Z62","v":""},{"$f":"名簿!CM62","v":""},{"$f":"名簿!Y62","v":""},{"$f":"名簿!CN62","v":""},{"$f":"名簿!CP62","v":0},{"$f":"名簿!CU62","v":"00"},{"$f":"名簿!Q62","v":""},{"$f":"名簿!D62","v":0},null,{"$f":"IF(O65=\"\",\"\",IF(I65=1,VLOOKUP(O65,男子種目コード!$M$1:$N$13,2,FALSE),IF(I65=2,VLOOKUP(O65,女子種目コード!$M$1:$N$10,2,FALSE))))","v":""},{"$f":"IF(O65=\"\",\"\",HLOOKUP(O65,名簿!$AH$3:$CH$118,60,FALSE))","v":""},"","",null,{"$f":"IF(T65=\"\",\"\",IF(I65=1,VLOOKUP(T65,男子種目コード!$M$1:$N$13,2,FALSE),IF(I65=2,VLOOKUP(T65,女子種目コード!$M$1:$N$10,2,FALSE))))","v":""},{"$f":"IF(T65=\"\",\"\",HLOOKUP(T65,名簿!$AH$3:$CH$118,60,FALSE))","v":""},"","",null,{"$f":"IF(Y65=\"\",\"\",IF(I65=1,VLOOKUP(Y65,男子種目コード!$D$1:$E$20,2,FALSE),IF(I65=2,VLOOKUP(Y65,女子種目コード!$D$1:$E$20,2,FALSE))))","v":""},null,"","",null,{"$f":"IF(AD65=\"\",\"\",IF(I65=1,VLOOKUP(AD65,男子種目コード!$A$1:$B$33,2,FALSE),IF(V65=2,VLOOKUP(I65,女子種目コード!$A$1:$B$28,2,FALSE))))","v":""},null,null,{"$f":"IF(AG65=\"\",\"\",IF(I65=1,VLOOKUP(AG65,男子種目コード!$A$1:$B$33,2,FALSE),IF(AA65=2,VLOOKUP(I65,女子種目コード!$A$1:$B$28,2,FALSE))))","v":""},null,null,null,null,null,"",0,0,null,null,null,null,null,null,null,null,null,null,null,null,null,null,0,"",""]
["",{"$f":"名簿!P63","v":""},null,null,{"$f":"名簿!E63","v":0},{"$f":"名簿!CM63","v":""},{"$f":"名簿!Z63","v":""},{"$f":"名簿!CM63","v":""},{"$f":"名簿!Y63","v":""},{"$f":"名簿!CN63","v":""},{"$f":"名簿!CP63","v":0},{"$f":"名簿!CU63","v":"00"},{"$f":"名簿!Q63","v":""},{"$f":"名簿!D63","v":0},null,{"$f":"IF(O66=\"\",\"\",IF(I66=1,VLOOKUP(O66,男子種目コード!$M$1:$N$13,2,FALSE),IF(I66=2,VLOOKUP(O66,女子種目コード!$M$1:$N$10,2,FALSE))))","v":""},{"$f":"IF(O66=\"\",\"\",HLOOKUP(O66,名簿!$AH$3:$CH$118,61,FALSE))","v":""},"","",null,{"$f":"IF(T66=\"\",\"\",IF(I66=1,VLOOKUP(T66,男子種目コード!$M$1:$N$13,2,FALSE),IF(I66=2,VLOOKUP(T66,女子種目コード!$M$1:$N$10,2,FALSE))))","v":""},{"$f":"IF(T66=\"\",\"\",HLOOKUP(T66,名簿!$AH$3:$CH$118,61,FALSE))","v":""},"","",null,{"$f":"IF(Y66=\"\",\"\",IF(I66=1,VLOOKUP(Y66,男子種目コード!$D$1:$E$20,2,FALSE),IF(I66=2,VLOOKUP(Y66,女子種目コード!$D$1:$E$20,2,FALSE))))","v":""},null,"","",null,{"$f":"IF(AD66=\"\",\"\",IF(I66=1,VLOOKUP(AD66,男子種目コード!$A$1:$B$33,2,FALSE),IF(V66=2,VLOOKUP(I66,女子種目コード!$A$1:$B$28,2,FALSE))))","v":""},null,null,{"$f":"IF(AG66=\"\",\"\",IF(I66=1,VLOOKUP(AG66,男子種目コード!$A$1:$B$33,2,FALSE),IF(AA66=2,VLOOKUP(I66,女子種目コード!$A$1:$B$28,2,FALSE))))","v":""},null,null,null,null,null,"",0,0,null,null,null,null,null,null,null,null,null,null,null,null,null,null,0,"",""]
["",{"$f":"名簿!P64","v":""},null,null,{"$f":"名簿!E64","v":0},{"$f":"名簿!CM64","v":""},{"$f":"名簿!Z64","v":""},{"$f":"名簿!CM64","v":""},{"$f":"名簿!Y64","v":""},{"$f":"名簿!CN64","v":""},{"$f":"名簿!CP64","v":0},{"$f":"名簿!CU64","v":"00"},{"$f":"名簿!Q64","v":""},{"$f":"名簿!D64","v":0},null,{"$f":"IF(O67=\"\",\"\",IF(I67=1,VLOOKUP(O67,男子種目コード!$M$1:$N$13,2,FALSE),IF(I67=2,VLOOKUP(O67,女子種目コード!$M$1:$N$10,2,FALSE))))","v":""},{"$f":"IF(O67=\"\",\"\",HLOOKUP(O67,名簿!$AH$3:$CH$118,62,FALSE))","v":""},"","",null,{"$f":"IF(T67=\"\",\"\",IF(I67=1,VLOOKUP(T67,男子種目コード!$M$1:$N$13,2,FALSE),IF(I67=2,VLOOKUP(T67,女子種目コード!$M$1:$N$10,2,FALSE))))","v":""},{"$f":"IF(T67=\"\",\"\",HLOOKUP(T67,名簿!$AH$3:$CH$118,62,FALSE))","v":""},"","",null,{"$f":"IF(Y67=\"\",\"\",IF(I67=1,VLOOKUP(Y67,男子種目コード!$D$1:$E$20,2,FALSE),IF(I67=2,VLOOKUP(Y67,女子種目コード!$D$1:$E$20,2,FALSE))))","v":""},null,"","",null,{"$f":"IF(AD67=\"\",\"\",IF(I67=1,VLOOKUP(AD67,男子種目コード!$A$1:$B$33,2,FALSE),IF(V67=2,VLOOKUP(I67,女子種目コード!$A$1:$B$28,2,FALSE))))","v":""},null,null,{"$f":"IF(AG67=\"\",\"\",IF(I67=1,VLOOKUP(AG67,男子種目コード!$A$1:$B$33,2,FALSE),IF(AA67=2,VLOOKUP(I67,女子種目コード!$A$1:$B$28,2,FALSE))))","v":""},null,null,null,null,null,"",0,0,null,null,null,null,null,null,null,null,null,null,null,null,null,null,0,"",""]
["",{"$f":"名簿!P65","v":""},null,null,{"$f":"名簿!E65","v":0},{"$f":"名簿!CM65","v":""},{"$f":"名簿!Z65","v":""},{"$f":"名簿!CM65","v":""},{"$f":"名簿!Y65","v":""},{"$f":"名簿!CN65","v":""},{"$f":"名簿!CP65","v":0},{"$f":"名簿!CU65","v":"00"},{"$f":"名簿!Q65","v":""},{"$f":"名簿!D65","v":0},null,{"$f":"IF(O68=\"\",\"\",IF(I68=1,VLOOKUP(O68,男子種目コード!$M$1:$N$13,2,FALSE),IF(I68=2,VLOOKUP(O68,女子種目コード!$M$1:$N$10,2,FALSE))))","v":""},{"$f":"IF(O68=\"\",\"\",HLOOKUP(O68,名簿!$AH$3:$CH$118,63,FALSE))","v":""},"","",null,{"$f":"IF(T68=\"\",\"\",IF(I68=1,VLOOKUP(T68,男子種目コード!$M$1:$N$13,2,FALSE),IF(I68=2,VLOOKUP(T68,女子種目コード!$M$1:$N$10,2,FALSE))))","v":""},{"$f":"IF(T68=\"\",\"\",HLOOKUP(T68,名簿!$AH$3:$CH$118,63,FALSE))","v":""},"","",null,{"$f":"IF(Y68=\"\",\"\",IF(I68=1,VLOOKUP(Y68,男子種目コード!$D$1:$E$20,2,FALSE),IF(I68=2,VLOOKUP(Y68,女子種目コード!$D$1:$E$20,2,FALSE))))","v":""},null,"","",null,{"$f":"IF(AD68=\"\",\"\",IF(I68=1,VLOOKUP(AD68,男子種目コード!$A$1:$B$33,2,FALSE),IF(V68=2,VLOOKUP(I68,女子種目コード!$A$1:$B$28,2,FALSE))))","v":""},null,null,{"$f":"IF(AG68=\"\",\"\",IF(I68=1,VLOOKUP(AG68,男子種目コード!$A$1:$B$33,2,FALSE),IF(AA68=2,VLOOKUP(I68,女子種目コード!$A$1:$B$28,2,FALSE))))","v":""},null,null,null,null,null,"",0,0,null,null,null,null,null,null,null,null,null,null,null,null,null,null,0,"",""]
["",{"$f":"名簿!P66","v":""},null,null,{"$f":"名簿!E66","v":0},{"$f":"名簿!CM66","v":""},{"$f":"名簿!Z66","v":""},{"$f":"名簿!CM66","v":""},{"$f":"名簿!Y66","v":""},{"$f":"名簿!CN66","v":""},{"$f":"名簿!CP66","v":0},{"$f":"名簿!CU66","v":"00"},{"$f":"名簿!Q66","v":""},{"$f":"名簿!D66","v":0},null,{"$f":"IF(O69=\"\",\"\",IF(I69=1,VLOOKUP(O69,男子種目コード!$M$1:$N$13,2,FALSE),IF(I69=2,VLOOKUP(O69,女子種目コード!$M$1:$N$10,2,FALSE))))","v":""},{"$f":"IF(O69=\"\",\"\",HLOOKUP(O69,名簿!$AH$3:$CH$118,64,FALSE))","v":""},"","",null,{"$f":"IF(T69=\"\",\"\",IF(I69=1,VLOOKUP(T69,男子種目コード!$M$1:$N$13,2,FALSE),IF(I69=2,VLOOKUP(T69,女子種目コード!$M$1:$N$10,2,FALSE))))","v":""},{"$f":"IF(T69=\"\",\"\",HLOOKUP(T69,名簿!$AH$3:$CH$118,64,FALSE))","v":""},"","",null,{"$f":"IF(Y69=\"\",\"\",IF(I69=1,VLOOKUP(Y69,男子種目コード!$D$1:$E$20,2,FALSE),IF(I69=2,VLOOKUP(Y69,女子種目コード!$D$1:$E$20,2,FALSE))))","v":""},null,"","",null,{"$f":"IF(AD69=\"\",\"\",IF(I69=1,VLOOKUP(AD69,男子種目コード!$A$1:$B$33,2,FALSE),IF(V69=2,VLOOKUP(I69,女子種目コード!$A$1:$B$28,2,FALSE))))","v":""},null,null,{"$f":"IF(AG69=\"\",\"\",IF(I69=1,VLOOKUP(AG69,男子種目コード!$A$1:$B$33,2,FALSE),IF(AA69=2,VLOOKUP(I69,女子種目コード!$A$1:$B$28,2,FALSE))))","v":""},null,null,null,null,null,"",0,0,null,null,null,null,null,null,null,null,null,null,null,null,null,null,0,"",""]
["",{"$f":"名簿!P67","v":""},null,null,{"$f":"名簿!E67","v":0},{"$f":"名簿!CM67","v":""},{"$f":"名簿!Z67","v":""},{"$f":"名簿!CM67","v":""},{"$f":"名簿!Y67","v":""},{"$f":"名簿!CN67","v":""},{"$f":"名簿!CP67","v":0},{"$f":"名簿!CU67","v":"00"},{"$f":"名簿!Q67","v":""},{"$f":"名簿!D67","v":0},null,{"$f":"IF(O70=\"\",\"\",IF(I70=1,VLOOKUP(O70,男子種目コード!$M$1:$N$13,2,FALSE),IF(I70=2,VLOOKUP(O70,女子種目コード!$M$1:$N$10,2,FALSE))))","v":""},{"$f":"IF(O70=\"\",\"\",HLOOKUP(O70,名簿!$AH$3:$CH$118,65,FALSE))","v":""},"","",null,{"$f":"IF(T70=\"\",\"\",IF(I70=1,VLOOKUP(T70,男子種目コード!$M$1:$N$13,2,FALSE),IF(I70=2,VLOOKUP(T70,女子種目コード!$M$1:$N$10,2,FALSE))))","v":""},{"$f":"IF(T70=\"\",\"\",HLOOKUP(T70,名簿!$AH$3:$CH$118,65,FALSE))","v":""},"","",null,{"$f":"IF(Y70=\"\",\"\",IF(I70=1,VLOOKUP(Y70,男子種目コード!$D$1:$E$20,2,FALSE),IF(I70=2,VLOOKUP(Y70,女子種目コード!$D$1:$E$20,2,FALSE))))","v":""},null,"","",null,{"$f":"IF(AD70=\"\",\"\",IF(I70=1,VLOOKUP(AD70,男子種目コード!$A$1:$B$33,2,FALSE),IF(V70=2,VLOOKUP(I70,女子種目コード!$A$1:$B$28,2,FALSE))))","v":""},null,null,{"$f":"IF(AG70=\"\",\"\",IF(I70=1,VLOOKUP(AG70,男子種目コード!$A$1:$B$33,2,FALSE),IF(AA70=2,VLOOKUP(I70,女子種目コード!$A$1:$B$28,2,FALSE))))","v":""},null,null,null,null,null,"",0,0,null,null,null,null,null,null,null,null,null,null,null,null,null,null,0,"",""]
[{"$f":"Z71","v":""},{"$f":"名簿!P68","v":""},null,null,{"$f":"名簿!E68","v":0},{"$f":"名簿!CM68","v":""},{"$f":"名簿!Z68","v":""},{"$f":"名簿!CM68","v":""},{"$f":"名簿!Y68","v":""},{"$f":"名簿!CN68","v":""},{"$f":"名簿!CP68","v":0},{"$f":"名簿!CU68","v":"00"},{"$f":"名簿!Q68","v":""},{"$f":"名簿!D68","v":0},null,{"$f":"IF(O71=\"\",\"\",IF(I71=1,VLOOKUP(O71,男子種目コード!$M$1:$N$13,2,FALSE),IF(I71=2,VLOOKUP(O71,女子種目コード!$M$1:$N$10,2,FALSE))))","v":""},{"$f":"IF(O71=\"\",\"\",HLOOKUP(O71,名簿!$AH$3:$CH$118,66,FALSE))","v":""},{"$f":"IF(O71=\"\",\"\",0)","v":""},{"$f":"IF(O71=\"\",\"\",2)","v":""},null,{"$f":"IF(T71=\"\",\"\",IF(I71=1,VLOOKUP(T71,男子種目コード!$M$1:$N$13,2,FALSE),IF(I71=2,VLOOKUP(T71,女子種目コード!$M$1:$N$10,2,FALSE))))","v":""},{"$f":"IF(T71=\"\",\"\",HLOOKUP(T71,名簿!$AH$3:$CH$118,66,FALSE))","v":""},{"$f":"IF(T71=\"\",\"\",0)","v":""},{"$f":"IF(T71=\"\",\"\",2)","v":""},null,{"$f":"IF(Y71=\"\",\"\",IF(I71=1,VLOOKUP(Y71,男子種目コード!$D$1:$E$20,2,FALSE),IF(I71=2,VLOOKUP(Y71,女子種目コード!$D$1:$E$20,2,FALSE))))","v":""},null,{"$f":"IF(Y71=\"\",\"\",0)","v":""},{"$f":"IF(Y71=\"\",\"\",2)","v":""},null,{"$f":"IF(AD71=\"\",\"\",IF(I71=1,VLOOKUP(AD71,男子種目コード!$A$1:$B$33,2,FALSE),IF(V71=2,VLOOKUP(I71,女子種目コード!$A$1:$B$28,2,FALSE))))","v":""},null,null,{"$f":"IF(AG71=\"\",\"\",IF(I71=1,VLOOKUP(AG71,男子種目コード!$A$1:$B$33,2,FALSE),IF(AA71=2,VLOOKUP(I71,女子種目コード!$A$1:$B$28,2,FALSE))))","v":""},null,null,null,null,null,{"$f":"IF(O71=\"\",\"\",1)","v":""},{"$f":"IF(OR(AN71=1,T71=\"\"),0,1)","v":0},{"$f":"IF(OR(AN71=1,AO71=1,Y71=\"\"),0,1)","v":0},null,null,null,null,null,null,null,null,null,null,null,null,null,null,{"$f":"COUNT(P71,U71,Z71)","v":0},{"$f":"IF(I71=1,BE71,\"\")","v":""},{"$f":"IF(I71=2,BE71,\"\")","v":""}]
["",{"$f":"名簿!P69","v":""},null,null,{"$f":"名簿!E69","v":0},{"$f":"名簿!CM69","v":""},{"$f":"名簿!Z69","v":""},{"$f":"名簿!CM69","v":""},{"$f":"名簿!Y69","v":""},{"$f":"名簿!CN69","v":""},{"$f":"名簿!CP69","v":0},{"$f":"名簿!CU69","v":"00"},{"$f":"名簿!Q69","v":""},{"$f":"名簿!D69","v":0},null,{"$f":"IF(O72=\"\",\"\",IF(I72=1,VLOOKUP(O72,男子種目コード!$M$1:$N$13,2,FALSE),IF(I72=2,VLOOKUP(O72,女子種目コード!$M$1:$N$10,2,FALSE))))","v":""},{"$f":"IF(O72=\"\",\"\",HLOOKUP(O72,名簿!$AH$3:$CH$118,67,FALSE))","v":""},"","",null,{"$f":"IF(T72=\"\",\"\",IF(I72=1,VLOOKUP(T72,男子種目コード!$M$1:$N$13,2,FALSE),IF(I72=2,VLOOKUP(T72,女子種目コード!$M$1:$N$10,2,FALSE))))","v":""},{"$f":"IF(T72=\"\",\"\",HLOOKUP(T72,名簿!$AH$3:$CH$118,67,FALSE))","v":""},"","",null,{"$f":"IF(Y72=\"\",\"\",IF(I72=1,VLOOKUP(Y72,男子種目コード!$D$1:$E$20,2,FALSE),IF(I72=2,VLOOKUP(Y72,女子種目コード!$D$1:$E$20,2,FALSE))))","v":""},null,"","",null,{"$f":"IF(AD72=\"\",\"\",IF(I72=1,VLOOKUP(AD72,男子種目コード!$A$1:$B$33,2,FALSE),IF(V72=2,VLOOKUP(I72,女子種目コード!$A$1:$B$28,2,FALSE))))","v":""},null,null,{"$f":"IF(AG72=\"\",\"\",IF(I72=1,VLOOKUP(AG72,男子種目コード!$A$1:$B$33,2,FALSE),IF(AA72=2,VLOOKUP(I72,女子種目コード!$A$1:$B$28,2,FALSE))))","v":""},null,null,null,null,null,"",0,0,null,null,null,null,null,null,null,null,null,null,null,null,null,null,0,"",""]
["",{"$f":"名簿!P70","v":""},null,null,{"$f":"名簿!E70","v":0},{"$f":"名簿!CM70","v":""},{"$f":"名簿!Z70","v":""},{"$f":"名簿!CM70","v":""},{"$f":"名簿!Y70","v":""},{"$f":"名簿!CN70","v":""},{"$f":"名簿!CP70","v":0},{"$f":"名簿!CU70","v":"00"},{"$f":"名簿!Q70","v":""},{"$f":"名簿!D70","v":0},null,{"$f":"IF(O73=\"\",\"\",IF(I73=1,VLOOKUP(O73,男子種目コード!$M$1:$N$13,2,FALSE),IF(I73=2,VLOOKUP(O73,女子種目コード!$M$1:$N$10,2,FALSE))))","v":""},{"$f":"IF(O73=\"\",\"\",HLOOKUP(O73,名簿!$AH$3:$CH$118,68,FALSE))","v":""},"","",null,{"$f":"IF(T73=\"\",\"\",IF(I73=1,VLOOKUP(T73,男子種目コード!$M$1:$N$13,2,FALSE),IF(I73=2,VLOOKUP(T73,女子種目コード!$M$1:$N$10,2,FALSE))))","v":""},{"$f":"IF(T73=\"\",\"\",HLOOKUP(T73,名簿!$AH$3:$CH$118,68,FALSE))","v":""},"","",null,{"$f":"IF(Y73=\"\",\"\",IF(I73=1,VLOOKUP(Y73,男子種目コード!$D$1:$E$20,2,FALSE),IF(I73=2,VLOOKUP(Y73,女子種目コード!$D$1:$E$20,2,FALSE))))","v":""},null,"","",null,{"$f":"IF(AD73=\"\",\"\",IF(I73=1,VLOOKUP(AD73,男子種目コード!$A$1:$B$33,2,FALSE),IF(V73=2,VLOOKUP(I73,女子種目コード!$A$1:$B$28,2,FALSE))))","v":""},null,null,{"$f":"IF(AG73=\"\",\"\",IF(I73=1,VLOOKUP(AG73,男子種目コード!$A$1:$B$33,2,FALSE),IF(AA73=2,VLOOKUP(I73,女子種目コード!$A$1:$B$28,2,FALSE))))","v":""},null,null,null,null,null,"",0,0,null,null,null,null,null,null,null,null,null,null,null,null,null,null,0,"",""]
["",{"$f":"名簿!P71","v":""},null,null,{"$f":"名簿!E71","v":0},{"$f":"名簿!CM71","v":""},{"$f":"名簿!Z71","v":""},{"$f":"名簿!CM71","v":""},{"$f":"名簿!Y71","v":""},{"$f":"名簿!CN71","v":""},{"$f":"名簿!CP71","v":0},{"$f":"名簿!CU71","v":"00"},{"$f":"名簿!Q71","v":""},{"$f":"名簿!D71","v":0},null,{"$f":"IF(O74=\"\",\"\",IF(I74=1,VLOOKUP(O74,男子種目コード!$M$1:$N$13,2,FALSE),IF(I74=2,VLOOKUP(O74,女子種目コード!$M$1:$N$10,2,FALSE))))","v":""},{"$f":"IF(O74=\"\",\"\",HLOOKUP(O74,名簿!$AH$3:$CH$118,69,FALSE))","v":""},"","",null,{"$f":"IF(T74=\"\",\"\",IF(I74=1,VLOOKUP(T74,男子種目コード!$M$1:$N$13,2,FALSE),IF(I74=2,VLOOKUP(T74,女子種目コード!$M$1:$N$10,2,FALSE))))","v":""},{"$f":"IF(T74=\"\",\"\",HLOOKUP(T74,名簿!$AH$3:$CH$118,69,FALSE))","v":""},"","",null,{"$f":"IF(Y74=\"\",\"\",IF(I74=1,VLOOKUP(Y74,男子種目コード!$D$1:$E$20,2,FALSE),IF(I74=2,VLOOKUP(Y74,女子種目コード!$D$1:$E$20,2,FALSE))))","v":""},null,"","",null,{"$f":"IF(AD74=\"\",\"\",IF(I74=1,VLOOKUP(AD74,男子種目コード!$A$1:$B$33,2,FALSE),IF(V74=2,VLOOKUP(I74,女子種目コード!$A$1:$B$28,2,FALSE))))","v":""},null,null,{"$f":"IF(AG74=\"\",\"\",IF(I74=1,VLOOKUP(AG74,男子種目コード!$A$1:$B$33,2,FALSE),IF(AA74=2,VLOOKUP(I74,女子種目コード!$A$1:$B$28,2,FALSE))))","v":""},null,null,null,null,null,"",0,0,null,null,null,null,null,null,null,null,null,null,null,null,null,null,0,"",""]
["",{"$f":"名簿!P72","v":""},null,null,{"$f":"名簿!E72","v":0},{"$f":"名簿!CM72","v":""},{"$f":"名簿!Z72","v":""},{"$f":"名簿!CM72","v":""},{"$f":"名簿!Y72","v":""},{"$f":"名簿!CN72","v":""},{"$f":"名簿!CP72","v":0},{"$f":"名簿!CU72","v":"00"},{"$f":"名簿!Q72","v":""},{"$f":"名簿!D72","v":0},null,{"$f":"IF(O75=\"\",\"\",IF(I75=1,VLOOKUP(O75,男子種目コード!$M$1:$N$13,2,FALSE),IF(I75=2,VLOOKUP(O75,女子種目コード!$M$1:$N$10,2,FALSE))))","v":""},{"$f":"IF(O75=\"\",\"\",HLOOKUP(O75,名簿!$AH$3:$CH$118,70,FALSE))","v":""},"","",null,{"$f":"IF(T75=\"\",\"\",IF(I75=1,VLOOKUP(T75,男子種目コード!$M$1:$N$13,2,FALSE),IF(I75=2,VLOOKUP(T75,女子種目コード!$M$1:$N$10,2,FALSE))))","v":""},{"$f":"IF(T75=\"\",\"\",HLOOKUP(T75,名簿!$AH$3:$CH$118,70,FALSE))","v":""},"","",null,{"$f":"IF(Y75=\"\",\"\",IF(I75=1,VLOOKUP(Y75,男子種目コード!$D$1:$E$20,2,FALSE),IF(I75=2,VLOOKUP(Y75,女子種目コード!$D$1:$E$20,2,FALSE))))","v":""},null,"","",null,{"$f":"IF(AD75=\"\",\"\",IF(I75=1,VLOOKUP(AD75,男子種目コード!$A$1:$B$33,2,FALSE),IF(V75=2,VLOOKUP(I75,女子種目コード!$A$1:$B$28,2,FALSE))))","v":""},null,null,{"$f":"IF(AG75=\"\",\"\",IF(I75=1,VLOOKUP(AG75,男子種目コード!$A$1:$B$33,2,FALSE),IF(AA75=2,VLOOKUP(I75,女子種目コード!$A$1:$B$28,2,FALSE))))","v":""},null,null,null,null,null,"",0,0,null,null,null,null,null,null,null,null,null,null,null,null,null,null,0,"",""]
["",{"$f":"名簿!P73","v":""},null,null,{"$f":"名簿!E73","v":0},{"$f":"名簿!CM73","v":""},{"$f":"名簿!Z73","v":""},{"$f":"名簿!CM73","v":""},{"$f":"名簿!Y73","v":""},{"$f":"名簿!CN73","v":""},{"$f":"名簿!CP73","v":0},{"$f":"名簿!CU73","v":"00"},{"$f":"名簿!Q73","v":""},{"$f":"名簿!D73","v":0},null,{"$f":"IF(O76=\"\",\"\",IF(I76=1,VLOOKUP(O76,男子種目コード!$M$1:$N$13,2,FALSE),IF(I76=2,VLOOKUP(O76,女子種目コード!$M$1:$N$10,2,FALSE))))","v":""},{"$f":"IF(O76=\"\",\"\",HLOOKUP(O76,名簿!$AH$3:$CH$118,71,FALSE))","v":""},"","",null,{"$f":"IF(T76=\"\",\"\",IF(I76=1,VLOOKUP(T76,男子種目コード!$M$1:$N$13,2,FALSE),IF(I76=2,VLOOKUP(T76,女子種目コード!$M$1:$N$10,2,FALSE))))","v":""},{"$f":"IF(T76=\"\",\"\",HLOOKUP(T76,名簿!$AH$3:$CH$118,71,FALSE))","v":""},"","",null,{"$f":"IF(Y76=\"\",\"\",IF(I76=1,VLOOKUP(Y76,男子種目コード!$D$1:$E$20,2,FALSE),IF(I76=2,VLOOKUP(Y76,女子種目コード!$D$1:$E$20,2,FALSE))))","v":""},null,"","",null,{"$f":"IF(AD76=\"\",\"\",IF(I76=1,VLOOKUP(AD76,男子種目コード!$A$1:$B$33,2,FALSE),IF(V76=2,VLOOKUP(I76,女子種目コード!$A$1:$B$28,2,FALSE))))","v":""},null,null,{"$f":"IF(AG76=\"\",\"\",IF(I76=1,VLOOKUP(AG76,男子種目コード!$A$1:$B$33,2,FALSE),IF(AA76=2,VLOOKUP(I76,女子種目コード!$A$1:$B$28,2,FALSE))))","v":""},null,null,null,null,null,"",0,0,null,null,null,null,null,null,null,null,null,null,null,null,null,null,0,"",""]
["",{"$f":"名簿!P74","v":""},null,null,{"$f":"名簿!E74","v":0},{"$f":"名簿!CM74","v":""},{"$f":"名簿!Z74","v":""},{"$f":"名簿!CM74","v":""},{"$f":"名簿!Y74","v":""},{"$f":"名簿!CN74","v":""},{"$f":"名簿!CP74","v":0},{"$f":"名簿!CU74","v":"00"},{"$f":"名簿!Q74","v":""},{"$f":"名簿!D74","v":0},null,{"$f":"IF(O77=\"\",\"\",IF(I77=1,VLOOKUP(O77,男子種目コード!$M$1:$N$13,2,FALSE),IF(I77=2,VLOOKUP(O77,女子種目コード!$M$1:$N$10,2,FALSE))))","v":""},{"$f":"IF(O77=\"\",\"\",HLOOKUP(O77,名簿!$AH$3:$CH$118,72,FALSE))","v":""},"","",null,{"$f":"IF(T77=\"\",\"\",IF(I77=1,VLOOKUP(T77,男子種目コード!$M$1:$N$13,2,FALSE),IF(I77=2,VLOOKUP(T77,女子種目コード!$M$1:$N$10,2,FALSE))))","v":""},{"$f":"IF(T77=\"\",\"\",HLOOKUP(T77,名簿!$AH$3:$CH$118,72,FALSE))","v":""},"","",null,{"$f":"IF(Y77=\"\",\"\",IF(I77=1,VLOOKUP(Y77,男子種目コード!$D$1:$E$20,2,FALSE),IF(I77=2,VLOOKUP(Y77,女子種目コード!$D$1:$E$20,2,FALSE))))","v":""},null,"","",null,{"$f":"IF(AD77=\"\",\"\",IF(I77=1,VLOOKUP(AD77,男子種目コード!$A$1:$B$33,2,FALSE),IF(V77=2,VLOOKUP(I77,女子種目コード!$A$1:$B$28,2,FALSE))))","v":""},null,null,{"$f":"IF(AG77=\"\",\"\",IF(I77=1,VLOOKUP(AG77,男子種目コード!$A$1:$B$33,2,FALSE),IF(AA77=2,VLOOKUP(I77,女子種目コード!$A$1:$B$28,2,FALSE))))","v":""},null,null,null,null,null,"",0,0,null,null,null,null,null,null,null,null,null,null,null,null,null,null,0,"",""]
["",{"$f":"名簿!P75","v":""},null,null,{"$f":"名簿!E75","v":0},{"$f":"名簿!CM75","v":""},{"$f":"名簿!Z75","v":""},{"$f":"名簿!CM75","v":""},{"$f":"名簿!Y75","v":""},{"$f":"名簿!CN75","v":""},{"$f":"名簿!CP75","v":0},{"$f":"名簿!CU75","v":"00"},{"$f":"名簿!Q75","v":""},{"$f":"名簿!D75","v":0},null,{"$f":"IF(O78=\"\",\"\",IF(I78=1,VLOOKUP(O78,男子種目コード!$M$1:$N$13,2,FALSE),IF(I78=2,VLOOKUP(O78,女子種目コード!$M$1:$N$10,2,FALSE))))","v":""},{"$f":"IF(O78=\"\",\"\",HLOOKUP(O78,名簿!$AH$3:$CH$118,73,FALSE))","v":""},"","",null,{"$f":"IF(T78=\"\",\"\",IF(I78=1,VLOOKUP(T78,男子種目コード!$M$1:$N$13,2,FALSE),IF(I78=2,VLOOKUP(T78,女子種目コード!$M$1:$N$10,2,FALSE))))","v":""},{"$f":"IF(T78=\"\",\"\",HLOOKUP(T78,名簿!$AH$3:$CH$118,73,FALSE))","v":""},"","",null,{"$f":"IF(Y78=\"\",\"\",IF(I78=1,VLOOKUP(Y78,男子種目コード!$D$1:$E$20,2,FALSE),IF(I78=2,VLOOKUP(Y78,女子種目コード!$D$1:$E$20,2,FALSE))))","v":""},null,"","",null,{"$f":"IF(AD78=\"\",\"\",IF(I78=1,VLOOKUP(AD78,男子種目コード!$A$1:$B$33,2,FALSE),IF(V78=2,VLOOKUP(I78,女子種目コード!$A$1:$B$28,2,FALSE))))","v":""},null,null,{"$f":"IF(AG78=\"\",\"\",IF(I78=1,VLOOKUP(AG78,男子種目コード!$A$1:$B$33,2,FALSE),IF(AA78=2,VLOOKUP(I78,女子種目コード!$A$1:$B$28,2,FALSE))))","v":""},null,null,null,null,null,"",0,0,null,null,null,null,null,null,null,null,null,null,null,null,null,null,0,"",""]
["",{"$f":"名簿!P76","v":""},null,null,{"$f":"名簿!E76","v":0},{"$f":"名簿!CM76","v":""},{"$f":"名簿!Z76","v":""},{"$f":"名簿!CM76","v":""},{"$f":"名簿!Y76","v":""},{"$f":"名簿!CN76","v":""},{"$f":"名簿!CP76","v":0},{"$f":"名簿!CU76","v":"00"},{"$f":"名簿!Q76","v":""},{"$f":"名簿!D76","v":0},null,{"$f":"IF(O79=\"\",\"\",IF(I79=1,VLOOKUP(O79,男子種目コード!$M$1:$N$13,2,FALSE),IF(I79=2,VLOOKUP(O79,女子種目コード!$M$1:$N$10,2,FALSE))))","v":""},{"$f":"IF(O79=\"\",\"\",HLOOKUP(O79,名簿!$AH$3:$CH$118,74,FALSE))","v":""},"","",null,{"$f":"IF(T79=\"\",\"\",IF(I79=1,VLOOKUP(T79,男子種目コード!$M$1:$N$13,2,FALSE),IF(I79=2,VLOOKUP(T79,女子種目コード!$M$1:$N$10,2,FALSE))))","v":""},{"$f":"IF(T79=\"\",\"\",HLOOKUP(T79,名簿!$AH$3:$CH$118,74,FALSE))","v":""},"","",null,{"$f":"IF(Y79=\"\",\"\",IF(I79=1,VLOOKUP(Y79,男子種目コード!$D$1:$E$20,2,FALSE),IF(I79=2,VLOOKUP(Y79,女子種目コード!$D$1:$E$20,2,FALSE))))","v":""},null,"","",null,{"$f":"IF(AD79=\"\",\"\",IF(I79=1,VLOOKUP(AD79,男子種目コード!$A$1:$B$33,2,FALSE),IF(V79=2,VLOOKUP(I79,女子種目コード!$A$1:$B$28,2,FALSE))))","v":""},null,null,{"$f":"IF(AG79=\"\",\"\",IF(I79=1,VLOOKUP(AG79,男子種目コード!$A$1:$B$33,2,FALSE),IF(AA79=2,VLOOKUP(I79,女子種目コード!$A$1:$B$28,2,FALSE))))","v":""},null,null,null,null,null,"",0,0,null,null,null,null,null,null,null,null,null,null,null,null,null,null,0,"",""]
["",{"$f":"名簿!P77","v":""},null,null,{"$f":"名簿!E77","v":0},{"$f":"名簿!CM77","v":""},{"$f":"名簿!Z77","v":""},{"$f":"名簿!CM77","v":""},{"$f":"名簿!Y77","v":""},{"$f":"名簿!CN77","v":""},{"$f":"名簿!CP77","v":0},{"$f":"名簿!CU77","v":"00"},{"$f":"名簿!Q77","v":""},{"$f":"名簿!D77","v":0},null,{"$f":"IF(O80=\"\",\"\",IF(I80=1,VLOOKUP(O80,男子種目コード!$M$1:$N$13,2,FALSE),IF(I80=2,VLOOKUP(O80,女子種目コード!$M$1:$N$10,2,FALSE))))","v":""},{"$f":"IF(O80=\"\",\"\",HLOOKUP(O80,名簿!$AH$3:$CH$118,75,FALSE))","v":""},"","",null,{"$f":"IF(T80=\"\",\"\",IF(I80=1,VLOOKUP(T80,男子種目コード!$M$1:$N$13,2,FALSE),IF(I80=2,VLOOKUP(T80,女子種目コード!$M$1:$N$10,2,FALSE))))","v":""},{"$f":"IF(T80=\"\",\"\",HLOOKUP(T80,名簿!$AH$3:$CH$118,75,FALSE))","v":""},"","",null,{"$f":"IF(Y80=\"\",\"\",IF(I80=1,VLOOKUP(Y80,男子種目コード!$D$1:$E$20,2,FALSE),IF(I80=2,VLOOKUP(Y80,女子種目コード!$D$1:$E$20,2,FALSE))))","v":""},null,"","",null,{"$f":"IF(AD80=\"\",\"\",IF(I80=1,VLOOKUP(AD80,男子種目コード!$A$1:$B$33,2,FALSE),IF(V80=2,VLOOKUP(I80,女子種目コード!$A$1:$B$28,2,FALSE))))","v":""},null,null,{"$f":"IF(AG80=\"\",\"\",IF(I80=1,VLOOKUP(AG80,男子種目コード!$A$1:$B$33,2,FALSE),IF(AA80=2,VLOOKUP(I80,女子種目コード!$A$1:$B$28,2,FALSE))))","v":""},null,null,null,null,null,"",0,0,null,null,null,null,null,null,null,null,null,null,null,null,null,null,0,"",""]
["",{"$f":"名簿!P78","v":""},null,null,{"$f":"名簿!E78","v":0},{"$f":"名簿!CM78","v":""},{"$f":"名簿!Z78","v":""},{"$f":"名簿!CM78","v":""},{"$f":"名簿!Y78","v":""},{"$f":"名簿!CN78","v":""},{"$f":"名簿!CP78","v":0},{"$f":"名簿!CU78","v":"00"},{"$f":"名簿!Q78","v":""},{"$f":"名簿!D78","v":0},null,{"$f":"IF(O81=\"\",\"\",IF(I81=1,VLOOKUP(O81,男子種目コード!$M$1:$N$13,2,FALSE),IF(I81=2,VLOOKUP(O81,女子種目コード!$M$1:$N$10,2,FALSE))))","v":""},{"$f":"IF(O81=\"\",\"\",HLOOKUP(O81,名簿!$AH$3:$CH$118,76,FALSE))","v":""},"","",null,{"$f":"IF(T81=\"\",\"\",IF(I81=1,VLOOKUP(T81,男子種目コード!$M$1:$N$13,2,FALSE),IF(I81=2,VLOOKUP(T81,女子種目コード!$M$1:$N$10,2,FALSE))))","v":""},{"$f":"IF(T81=\"\",\"\",HLOOKUP(T81,名簿!$AH$3:$CH$118,76,FALSE))","v":""},"","",null,{"$f":"IF(Y81=\"\",\"\",IF(I81=1,VLOOKUP(Y81,男子種目コード!$D$1:$E$20,2,FALSE),IF(I81=2,VLOOKUP(Y81,女子種目コード!$D$1:$E$20,2,FALSE))))","v":""},null,"","",null,{"$f":"IF(AD81=\"\",\"\",IF(I81=1,VLOOKUP(AD81,男子種目コード!$A$1:$B$33,2,FALSE),IF(V81=2,VLOOKUP(I81,女子種目コード!$A$1:$B$28,2,FALSE))))","v":""},null,null,{"$f":"IF(AG81=\"\",\"\",IF(I81=1,VLOOKUP(AG81,男子種目コード!$A$1:$B$33,2,FALSE),IF(AA81=2,VLOOKUP(I81,女子種目コード!$A$1:$B$28,2,FALSE))))","v":""},null,null,null,null,null,"",0,0,null,null,null,null,null,null,null,null,null,null,null,null,null,null,0,"",""]
["",{"$f":"名簿!P79","v":""},null,null,{"$f":"名簿!E79","v":0},{"$f":"名簿!CM79","v":""},{"$f":"名簿!Z79","v":""},{"$f":"名簿!CM79","v":""},{"$f":"名簿!Y79","v":""},{"$f":"名簿!CN79","v":""},{"$f":"名簿!CP79","v":0},{"$f":"名簿!CU79","v":"00"},{"$f":"名簿!Q79","v":""},{"$f":"名簿!D79","v":0},null,{"$f":"IF(O82=\"\",\"\",IF(I82=1,VLOOKUP(O82,男子種目コード!$M$1:$N$13,2,FALSE),IF(I82=2,VLOOKUP(O82,女子種目コード!$M$1:$N$10,2,FALSE))))","v":""},{"$f":"IF(O82=\"\",\"\",HLOOKUP(O82,名簿!$AH$3:$CH$118,77,FALSE))","v":""},"","",null,{"$f":"IF(T82=\"\",\"\",IF(I82=1,VLOOKUP(T82,男子種目コード!$M$1:$N$13,2,FALSE),IF(I82=2,VLOOKUP(T82,女子種目コード!$M$1:$N$10,2,FALSE))))","v":""},{"$f":"IF(T82=\"\",\"\",HLOOKUP(T82,名簿!$AH$3:$CH$118,77,FALSE))","v":""},"","",null,{"$f":"IF(Y82=\"\",\"\",IF(I82=1,VLOOKUP(Y82,男子種目コード!$D$1:$E$20,2,FALSE),IF(I82=2,VLOOKUP(Y82,女子種目コード!$D$1:$E$20,2,FALSE))))","v":""},null,"","",null,{"$f":"IF(AD82=\"\",\"\",IF(I82=1,VLOOKUP(AD82,男子種目コード!$A$1:$B$33,2,FALSE),IF(V82=2,VLOOKUP(I82,女子種目コード!$A$1:$B$28,2,FALSE))))","v":""},null,null,{"$f":"IF(AG82=\"\",\"\",IF(I82=1,VLOOKUP(AG82,男子種目コード!$A$1:$B$33,2,FALSE),IF(AA82=2,VLOOKUP(I82,女子種目コード!$A$1:$B$28,2,FALSE))))","v":""},null,null,null,null,null,"",0,0,null,null,null,null,null,null,null,null,null,null,null,null,null,null,0,"",""]
["",{"$f":"名簿!P80","v":""},null,null,{"$f":"名簿!E80","v":0},{"$f":"名簿!CM80","v":""},{"$f":"名簿!Z80","v":""},{"$f":"名簿!CM80","v":""},{"$f":"名簿!Y80","v":""},{"$f":"名簿!CN80","v":""},{"$f":"名簿!CP80","v":0},{"$f":"名簿!CU80","v":"00"},{"$f":"名簿!Q80","v":""},{"$f":"名簿!D80","v":0},null,{"$f":"IF(O83=\"\",\"\",IF(I83=1,VLOOKUP(O83,男子種目コード!$M$1:$N$13,2,FALSE),IF(I83=2,VLOOKUP(O83,女子種目コード!$M$1:$N$10,2,FALSE))))","v":""},{"$f":"IF(O83=\"\",\"\",HLOOKUP(O83,名簿!$AH$3:$CH$118,78,FALSE))","v":""},"","",null,{"$f":"IF(T83=\"\",\"\",IF(I83=1,VLOOKUP(T83,男子種目コード!$M$1:$N$13,2,FALSE),IF(I83=2,VLOOKUP(T83,女子種目コード!$M$1:$N$10,2,FALSE))))","v":""},{"$f":"IF(T83=\"\",\"\",HLOOKUP(T83,名簿!$AH$3:$CH$118,78,FALSE))","v":""},"","",null,{"$f":"IF(Y83=\"\",\"\",IF(I83=1,VLOOKUP(Y83,男子種目コード!$D$1:$E$20,2,FALSE),IF(I83=2,VLOOKUP(Y83,女子種目コード!$D$1:$E$20,2,FALSE))))","v":""},null,"","",null,{"$f":"IF(AD83=\"\",\"\",IF(I83=1,VLOOKUP(AD83,男子種目コード!$A$1:$B$33,2,FALSE),IF(V83=2,VLOOKUP(I83,女子種目コード!$A$1:$B$28,2,FALSE))))","v":""},null,null,{"$f":"IF(AG83=\"\",\"\",IF(I83=1,VLOOKUP(AG83,男子種目コード!$A$1:$B$33,2,FALSE),IF(AA83=2,VLOOKUP(I83,女子種目コード!$A$1:$B$28,2,FALSE))))","v":""},null,null,null,null,null,"",0,0,null,null,null,null,null,null,null,null,null,null,null,null,null,null,0,"",""]
["",{"$f":"名簿!P81","v":""},null,null,{"$f":"名簿!E81","v":0},{"$f":"名簿!CM81","v":""},{"$f":"名簿!Z81","v":""},{"$f":"名簿!CM81","v":""},{"$f":"名簿!Y81","v":""},{"$f":"名簿!CN81","v":""},{"$f":"名簿!CP81","v":0},{"$f":"名簿!CU81","v":"00"},{"$f":"名簿!Q81","v":""},{"$f":"名簿!D81","v":0},null,{"$f":"IF(O84=\"\",\"\",IF(I84=1,VLOOKUP(O84,男子種目コード!$M$1:$N$13,2,FALSE),IF(I84=2,VLOOKUP(O84,女子種目コード!$M$1:$N$10,2,FALSE))))","v":""},{"$f":"IF(O84=\"\",\"\",HLOOKUP(O84,名簿!$AH$3:$CH$118,79,FALSE))","v":""},"","",null,{"$f":"IF(T84=\"\",\"\",IF(I84=1,VLOOKUP(T84,男子種目コード!$M$1:$N$13,2,FALSE),IF(I84=2,VLOOKUP(T84,女子種目コード!$M$1:$N$10,2,FALSE))))","v":""},{"$f":"IF(T84=\"\",\"\",HLOOKUP(T84,名簿!$AH$3:$CH$118,79,FALSE))","v":""},"","",null,{"$f":"IF(Y84=\"\",\"\",IF(I84=1,VLOOKUP(Y84,男子種目コード!$D$1:$E$20,2,FALSE),IF(I84=2,VLOOKUP(Y84,女子種目コード!$D$1:$E$20,2,FALSE))))","v":""},null,"","",null,{"$f":"IF(AD84=\"\",\"\",IF(I84=1,VLOOKUP(AD84,男子種目コード!$A$1:$B$33,2,FALSE),IF(V84=2,VLOOKUP(I84,女子種目コード!$A$1:$B$28,2,FALSE))))","v":""},null,null,{"$f":"IF(AG84=\"\",\"\",IF(I84=1,VLOOKUP(AG84,男子種目コード!$A$1:$B$33,2,FALSE),IF(AA84=2,VLOOKUP(I84,女子種目コード!$A$1:$B$28,2,FALSE))))","v":""},null,null,null,null,null,"",0,0,null,null,null,null,null,null,null,null,null,null,null,null,null,null,0,"",""]
["",{"$f":"名簿!P82","v":""},null,null,{"$f":"名簿!E82","v":0},{"$f":"名簿!CM82","v":""},{"$f":"名簿!Z82","v":""},{"$f":"名簿!CM82","v":""},{"$f":"名簿!Y82","v":""},{"$f":"名簿!CN82","v":""},{"$f":"名簿!CP82","v":0},{"$f":"名簿!CU82","v":"00"},{"$f":"名簿!Q82","v":""},{"$f":"名簿!D82","v":0},null,{"$f":"IF(O85=\"\",\"\",IF(I85=1,VLOOKUP(O85,男子種目コード!$M$1:$N$13,2,FALSE),IF(I85=2,VLOOKUP(O85,女子種目コード!$M$1:$N$10,2,FALSE))))","v":""},{"$f":"IF(O85=\"\",\"\",HLOOKUP(O85,名簿!$AH$3:$CH$118,80,FALSE))","v":""},"","",null,{"$f":"IF(T85=\"\",\"\",IF(I85=1,VLOOKUP(T85,男子種目コード!$M$1:$N$13,2,FALSE),IF(I85=2,VLOOKUP(T85,女子種目コード!$M$1:$N$10,2,FALSE))))","v":""},{"$f":"IF(T85=\"\",\"\",HLOOKUP(T85,名簿!$AH$3:$CH$118,80,FALSE))","v":""},"","",null,{"$f":"IF(Y85=\"\",\"\",IF(I85=1,VLOOKUP(Y85,男子種目コード!$D$1:$E$20,2,FALSE),IF(I85=2,VLOOKUP(Y85,女子種目コード!$D$1:$E$20,2,FALSE))))","v":""},null,"","",null,{"$f":"IF(AD85=\"\",\"\",IF(I85=1,VLOOKUP(AD85,男子種目コード!$A$1:$B$33,2,FALSE),IF(V85=2,VLOOKUP(I85,女子種目コード!$A$1:$B$28,2,FALSE))))","v":""},null,null,{"$f":"IF(AG85=\"\",\"\",IF(I85=1,VLOOKUP(AG85,男子種目コード!$A$1:$B$33,2,FALSE),IF(AA85=2,VLOOKUP(I85,女子種目コード!$A$1:$B$28,2,FALSE))))","v":""},null,null,null,null,null,"",0,0,null,null,null,null,null,null,null,null,null,null,null,null,null,null,0,"",""]
["",{"$f":"名簿!P83","v":""},null,null,{"$f":"名簿!E83","v":0},{"$f":"名簿!CM83","v":""},{"$f":"名簿!Z83","v":""},{"$f":"名簿!CM83","v":""},{"$f":"名簿!Y83","v":""},{"$f":"名簿!CN83","v":""},{"$f":"名簿!CP83","v":0},{"$f":"名簿!CU83","v":"00"},{"$f":"名簿!Q83","v":""},{"$f":"名簿!D83","v":0},null,{"$f":"IF(O86=\"\",\"\",IF(I86=1,VLOOKUP(O86,男子種目コード!$M$1:$N$13,2,FALSE),IF(I86=2,VLOOKUP(O86,女子種目コード!$M$1:$N$10,2,FALSE))))","v":""},{"$f":"IF(O86=\"\",\"\",HLOOKUP(O86,名簿!$AH$3:$CH$118,81,FALSE))","v":""},"","",null,{"$f":"IF(T86=\"\",\"\",IF(I86=1,VLOOKUP(T86,男子種目コード!$M$1:$N$13,2,FALSE),IF(I86=2,VLOOKUP(T86,女子種目コード!$M$1:$N$10,2,FALSE))))","v":""},{"$f":"IF(T86=\"\",\"\",HLOOKUP(T86,名簿!$AH$3:$CH$118,81,FALSE))","v":""},"","",null,{"$f":"IF(Y86=\"\",\"\",IF(I86=1,VLOOKUP(Y86,男子種目コード!$D$1:$E$20,2,FALSE),IF(I86=2,VLOOKUP(Y86,女子種目コード!$D$1:$E$20,2,FALSE))))","v":""},null,"","",null,{"$f":"IF(AD86=\"\",\"\",IF(I86=1,VLOOKUP(AD86,男子種目コード!$A$1:$B$33,2,FALSE),IF(V86=2,VLOOKUP(I86,女子種目コード!$A$1:$B$28,2,FALSE))))","v":""},null,null,{"$f":"IF(AG86=\"\",\"\",IF(I86=1,VLOOKUP(AG86,男子種目コード!$A$1:$B$33,2,FALSE),IF(AA86=2,VLOOKUP(I86,女子種目コード!$A$1:$B$28,2,FALSE))))","v":""},null,null,null,null,null,"",0,0,null,null,null,null,null,null,null,null,null,null,null,null,null,null,0,"",""]
["",{"$f":"名簿!P84","v":""},null,null,{"$f":"名簿!E84","v":0},{"$f":"名簿!CM84","v":""},{"$f":"名簿!Z84","v":""},{"$f":"名簿!CM84","v":""},{"$f":"名簿!Y84","v":""},{"$f":"名簿!CN84","v":""},{"$f":"名簿!CP84","v":0},{"$f":"名簿!CU84","v":"00"},{"$f":"名簿!Q84","v":""},{"$f":"名簿!D84","v":0},null,{"$f":"IF(O87=\"\",\"\",IF(I87=1,VLOOKUP(O87,男子種目コード!$M$1:$N$13,2,FALSE),IF(I87=2,VLOOKUP(O87,女子種目コード!$M$1:$N$10,2,FALSE))))","v":""},{"$f":"IF(O87=\"\",\"\",HLOOKUP(O87,名簿!$AH$3:$CH$118,82,FALSE))","v":""},"","",null,{"$f":"IF(T87=\"\",\"\",IF(I87=1,VLOOKUP(T87,男子種目コード!$M$1:$N$13,2,FALSE),IF(I87=2,VLOOKUP(T87,女子種目コード!$M$1:$N$10,2,FALSE))))","v":""},{"$f":"IF(T87=\"\",\"\",HLOOKUP(T87,名簿!$AH$3:$CH$118,82,FALSE))","v":""},"","",null,{"$f":"IF(Y87=\"\",\"\",IF(I87=1,VLOOKUP(Y87,男子種目コード!$D$1:$E$20,2,FALSE),IF(I87=2,VLOOKUP(Y87,女子種目コード!$D$1:$E$20,2,FALSE))))","v":""},null,"","",null,{"$f":"IF(AD87=\"\",\"\",IF(I87=1,VLOOKUP(AD87,男子種目コード!$A$1:$B$33,2,FALSE),IF(V87=2,VLOOKUP(I87,女子種目コード!$A$1:$B$28,2,FALSE))))","v":""},null,null,{"$f":"IF(AG87=\"\",\"\",IF(I87=1,VLOOKUP(AG87,男子種目コード!$A$1:$B$33,2,FALSE),IF(AA87=2,VLOOKUP(I87,女子種目コード!$A$1:$B$28,2,FALSE))))","v":""},null,null,null,null,null,"",0,0,null,null,null,null,null,null,null,null,null,null,null,null,null,null,0,"",""]
["",{"$f":"名簿!P85","v":""},null,null,{"$f":"名簿!E85","v":0},{"$f":"名簿!CM85","v":""},{"$f":"名簿!Z85","v":""},{"$f":"名簿!CM85","v":""},{"$f":"名簿!Y85","v":""},{"$f":"名簿!CN85","v":""},{"$f":"名簿!CP85","v":0},{"$f":"名簿!CU85","v":"00"},{"$f":"名簿!Q85","v":""},{"$f":"名簿!D85","v":0},null,{"$f":"IF(O88=\"\",\"\",IF(I88=1,VLOOKUP(O88,男子種目コード!$M$1:$N$13,2,FALSE),IF(I88=2,VLOOKUP(O88,女子種目コード!$M$1:$N$10,2,FALSE))))","v":""},{"$f":"IF(O88=\"\",\"\",HLOOKUP(O88,名簿!$AH$3:$CH$118,83,FALSE))","v":""},"","",null,{"$f":"IF(T88=\"\",\"\",IF(I88=1,VLOOKUP(T88,男子種目コード!$M$1:$N$13,2,FALSE),IF(I88=2,VLOOKUP(T88,女子種目コード!$M$1:$N$10,2,FALSE))))","v":""},{"$f":"IF(T88=\"\",\"\",HLOOKUP(T88,名簿!$AH$3:$CH$118,83,FALSE))","v":""},"","",null,{"$f":"IF(Y88=\"\",\"\",IF(I88=1,VLOOKUP(Y88,男子種目コード!$D$1:$E$20,2,FALSE),IF(I88=2,VLOOKUP(Y88,女子種目コード!$D$1:$E$20,2,FALSE))))","v":""},null,"","",null,{"$f":"IF(AD88=\"\",\"\",IF(I88=1,VLOOKUP(AD88,男子種目コード!$A$1:$B$33,2,FALSE),IF(V88=2,VLOOKUP(I88,女子種目コード!$A$1:$B$28,2,FALSE))))","v":""},null,null,{"$f":"IF(AG88=\"\",\"\",IF(I88=1,VLOOKUP(AG88,男子種目コード!$A$1:$B$33,2,FALSE),IF(AA88=2,VLOOKUP(I88,女子種目コード!$A$1:$B$28,2,FALSE))))","v":""},null,null,null,null,null,"",0,0,null,null,null,null,null,null,null,null,null,null,null,null,null,null,0,"",""]
["",{"$f":"名簿!P86","v":""},null,null,{"$f":"名簿!E86","v":0},{"$f":"名簿!CM86","v":""},{"$f":"名簿!Z86","v":""},{"$f":"名簿!CM86","v":""},{"$f":"名簿!Y86","v":""},{"$f":"名簿!CN86","v":""},{"$f":"名簿!CP86","v":0},{"$f":"名簿!CU86","v":"00"},{"$f":"名簿!Q86","v":""},{"$f":"名簿!D86","v":0},null,{"$f":"IF(O89=\"\",\"\",IF(I89=1,VLOOKUP(O89,男子種目コード!$M$1:$N$13,2,FALSE),IF(I89=2,VLOOKUP(O89,女子種目コード!$M$1:$N$10,2,FALSE))))","v":""},{"$f":"IF(O89=\"\",\"\",HLOOKUP(O89,名簿!$AH$3:$CH$118,84,FALSE))","v":""},"","",null,{"$f":"IF(T89=\"\",\"\",IF(I89=1,VLOOKUP(T89,男子種目コード!$M$1:$N$13,2,FALSE),IF(I89=2,VLOOKUP(T89,女子種目コード!$M$1:$N$10,2,FALSE))))","v":""},{"$f":"IF(T89=\"\",\"\",HLOOKUP(T89,名簿!$AH$3:$CH$118,84,FALSE))","v":""},"","",null,{"$f":"IF(Y89=\"\",\"\",IF(I89=1,VLOOKUP(Y89,男子種目コード!$D$1:$E$20,2,FALSE),IF(I89=2,VLOOKUP(Y89,女子種目コード!$D$1:$E$20,2,FALSE))))","v":""},null,"","",null,{"$f":"IF(AD89=\"\",\"\",IF(I89=1,VLOOKUP(AD89,男子種目コード!$A$1:$B$33,2,FALSE),IF(V89=2,VLOOKUP(I89,女子種目コード!$A$1:$B$28,2,FALSE))))","v":""},null,null,{"$f":"IF(AG89=\"\",\"\",IF(I89=1,VLOOKUP(AG89,男子種目コード!$A$1:$B$33,2,FALSE),IF(AA89=2,VLOOKUP(I89,女子種目コード!$A$1:$B$28,2,FALSE))))","v":""},null,null,null,null,null,"",0,0,null,null,null,null,null,null,null,null,null,null,null,null,null,null,0,"",""]
["",{"$f":"名簿!P87","v":""},null,null,{"$f":"名簿!E87","v":0},{"$f":"名簿!CM87","v":""},{"$f":"名簿!Z87","v":""},{"$f":"名簿!CM87","v":""},{"$f":"名簿!Y87","v":""},{"$f":"名簿!CN87","v":""},{"$f":"名簿!CP87","v":0},{"$f":"名簿!CU87","v":"00"},{"$f":"名簿!Q87","v":""},{"$f":"名簿!D87","v":0},null,{"$f":"IF(O90=\"\",\"\",IF(I90=1,VLOOKUP(O90,男子種目コード!$M$1:$N$13,2,FALSE),IF(I90=2,VLOOKUP(O90,女子種目コード!$M$1:$N$10,2,FALSE))))","v":""},{"$f":"IF(O90=\"\",\"\",HLOOKUP(O90,名簿!$AH$3:$CH$118,85,FALSE))","v":""},"","",null,{"$f":"IF(T90=\"\",\"\",IF(I90=1,VLOOKUP(T90,男子種目コード!$M$1:$N$13,2,FALSE),IF(I90=2,VLOOKUP(T90,女子種目コード!$M$1:$N$10,2,FALSE))))","v":""},{"$f":"IF(T90=\"\",\"\",HLOOKUP(T90,名簿!$AH$3:$CH$118,85,FALSE))","v":""},"","",null,{"$f":"IF(Y90=\"\",\"\",IF(I90=1,VLOOKUP(Y90,男子種目コード!$D$1:$E$20,2,FALSE),IF(I90=2,VLOOKUP(Y90,女子種目コード!$D$1:$E$20,2,FALSE))))","v":""},null,"","",null,{"$f":"IF(AD90=\"\",\"\",IF(I90=1,VLOOKUP(AD90,男子種目コード!$A$1:$B$33,2,FALSE),IF(V90=2,VLOOKUP(I90,女子種目コード!$A$1:$B$28,2,FALSE))))","v":""},null,null,{"$f":"IF(AG90=\"\",\"\",IF(I90=1,VLOOKUP(AG90,男子種目コード!$A$1:$B$33,2,FALSE),IF(AA90=2,VLOOKUP(I90,女子種目コード!$A$1:$B$28,2,FALSE))))","v":""},null,null,null,null,null,"",0,0,null,null,null,null,null,null,null,null,null,null,null,null,null,null,0,"",""]
["",{"$f":"名簿!P88","v":""},null,null,{"$f":"名簿!E88","v":0},{"$f":"名簿!CM88","v":""},{"$f":"名簿!Z88","v":""},{"$f":"名簿!CM88","v":""},{"$f":"名簿!Y88","v":""},{"$f":"名簿!CN88","v":""},{"$f":"名簿!CP88","v":0},{"$f":"名簿!CU88","v":"00"},{"$f":"名簿!Q88","v":""},{"$f":"名簿!D88","v":0},null,{"$f":"IF(O91=\"\",\"\",IF(I91=1,VLOOKUP(O91,男子種目コード!$M$1:$N$13,2,FALSE),IF(I91=2,VLOOKUP(O91,女子種目コード!$M$1:$N$10,2,FALSE))))","v":""},{"$f":"IF(O91=\"\",\"\",HLOOKUP(O91,名簿!$AH$3:$CH$118,86,FALSE))","v":""},"","",null,{"$f":"IF(T91=\"\",\"\",IF(I91=1,VLOOKUP(T91,男子種目コード!$M$1:$N$13,2,FALSE),IF(I91=2,VLOOKUP(T91,女子種目コード!$M$1:$N$10,2,FALSE))))","v":""},{"$f":"IF(T91=\"\",\"\",HLOOKUP(T91,名簿!$AH$3:$CH$118,86,FALSE))","v":""},"","",null,{"$f":"IF(Y91=\"\",\"\",IF(I91=1,VLOOKUP(Y91,男子種目コード!$D$1:$E$20,2,FALSE),IF(I91=2,VLOOKUP(Y91,女子種目コード!$D$1:$E$20,2,FALSE))))","v":""},null,"","",null,{"$f":"IF(AD91=\"\",\"\",IF(I91=1,VLOOKUP(AD91,男子種目コード!$A$1:$B$33,2,FALSE),IF(V91=2,VLOOKUP(I91,女子種目コード!$A$1:$B$28,2,FALSE))))","v":""},null,null,{"$f":"IF(AG91=\"\",\"\",IF(I91=1,VLOOKUP(AG91,男子種目コード!$A$1:$B$33,2,FALSE),IF(AA91=2,VLOOKUP(I91,女子種目コード!$A$1:$B$28,2,FALSE))))","v":""},null,null,null,null,null,"",0,0,null,null,null,null,null,null,null,null,null,null,null,null,null,null,0,"",""]
["",{"$f":"名簿!P89","v":""},null,null,{"$f":"名簿!E89","v":0},{"$f":"名簿!CM89","v":""},{"$f":"名簿!Z89","v":""},{"$f":"名簿!CM89","v":""},{"$f":"名簿!Y89","v":""},{"$f":"名簿!CN89","v":""},{"$f":"名簿!CP89","v":0},{"$f":"名簿!CU89","v":"00"},{"$f":"名簿!Q89","v":""},{"$f":"名簿!D89","v":0},null,{"$f":"IF(O92=\"\",\"\",IF(I92=1,VLOOKUP(O92,男子種目コード!$M$1:$N$13,2,FALSE),IF(I92=2,VLOOKUP(O92,女子種目コード!$M$1:$N$10,2,FALSE))))","v":""},{"$f":"IF(O92=\"\",\"\",HLOOKUP(O92,名簿!$AH$3:$CH$118,87,FALSE))","v":""},"","",null,{"$f":"IF(T92=\"\",\"\",IF(I92=1,VLOOKUP(T92,男子種目コード!$M$1:$N$13,2,FALSE),IF(I92=2,VLOOKUP(T92,女子種目コード!$M$1:$N$10,2,FALSE))))","v":""},{"$f":"IF(T92=\"\",\"\",HLOOKUP(T92,名簿!$AH$3:$CH$118,87,FALSE))","v":""},"","",null,{"$f":"IF(Y92=\"\",\"\",IF(I92=1,VLOOKUP(Y92,男子種目コード!$D$1:$E$20,2,FALSE),IF(I92=2,VLOOKUP(Y92,女子種目コード!$D$1:$E$20,2,FALSE))))","v":""},null,"","",null,{"$f":"IF(AD92=\"\",\"\",IF(I92=1,VLOOKUP(AD92,男子種目コード!$A$1:$B$33,2,FALSE),IF(V92=2,VLOOKUP(I92,女子種目コード!$A$1:$B$28,2,FALSE))))","v":""},null,null,{"$f":"IF(AG92=\"\",\"\",IF(I92=1,VLOOKUP(AG92,男子種目コード!$A$1:$B$33,2,FALSE),IF(AA92=2,VLOOKUP(I92,女子種目コード!$A$1:$B$28,2,FALSE))))","v":""},null,null,null,null,null,"",0,0,null,null,null,null,null,null,null,null,null,null,null,null,null,null,0,"",""]
["",{"$f":"名簿!P90","v":""},null,null,{"$f":"名簿!E90","v":0},{"$f":"名簿!CM90","v":""},{"$f":"名簿!Z90","v":""},{"$f":"名簿!CM90","v":""},{"$f":"名簿!Y90","v":""},{"$f":"名簿!CN90","v":""},{"$f":"名簿!CP90","v":0},{"$f":"名簿!CU90","v":"00"},{"$f":"名簿!Q90","v":""},{"$f":"名簿!D90","v":0},null,{"$f":"IF(O93=\"\",\"\",IF(I93=1,VLOOKUP(O93,男子種目コード!$M$1:$N$13,2,FALSE),IF(I93=2,VLOOKUP(O93,女子種目コード!$M$1:$N$10,2,FALSE))))","v":""},{"$f":"IF(O93=\"\",\"\",HLOOKUP(O93,名簿!$AH$3:$CH$118,88,FALSE))","v":""},"","",null,{"$f":"IF(T93=\"\",\"\",IF(I93=1,VLOOKUP(T93,男子種目コード!$M$1:$N$13,2,FALSE),IF(I93=2,VLOOKUP(T93,女子種目コード!$M$1:$N$10,2,FALSE))))","v":""},{"$f":"IF(T93=\"\",\"\",HLOOKUP(T93,名簿!$AH$3:$CH$118,88,FALSE))","v":""},"","",null,{"$f":"IF(Y93=\"\",\"\",IF(I93=1,VLOOKUP(Y93,男子種目コード!$D$1:$E$20,2,FALSE),IF(I93=2,VLOOKUP(Y93,女子種目コード!$D$1:$E$20,2,FALSE))))","v":""},null,"","",null,{"$f":"IF(AD93=\"\",\"\",IF(I93=1,VLOOKUP(AD93,男子種目コード!$A$1:$B$33,2,FALSE),IF(V93=2,VLOOKUP(I93,女子種目コード!$A$1:$B$28,2,FALSE))))","v":""},null,null,{"$f":"IF(AG93=\"\",\"\",IF(I93=1,VLOOKUP(AG93,男子種目コード!$A$1:$B$33,2,FALSE),IF(AA93=2,VLOOKUP(I93,女子種目コード!$A$1:$B$28,2,FALSE))))","v":""},null,null,null,null,null,"",0,0,null,null,null,null,null,null,null,null,null,null,null,null,null,null,0,"",""]
["",{"$f":"名簿!P91","v":""},null,null,{"$f":"名簿!E91","v":0},{"$f":"名簿!CM91","v":""},{"$f":"名簿!Z91","v":""},{"$f":"名簿!CM91","v":""},{"$f":"名簿!Y91","v":""},{"$f":"名簿!CN91","v":""},{"$f":"名簿!CP91","v":0},{"$f":"名簿!CU91","v":"00"},{"$f":"名簿!Q91","v":""},{"$f":"名簿!D91","v":0},null,{"$f":"IF(O94=\"\",\"\",IF(I94=1,VLOOKUP(O94,男子種目コード!$M$1:$N$13,2,FALSE),IF(I94=2,VLOOKUP(O94,女子種目コード!$M$1:$N$10,2,FALSE))))","v":""},{"$f":"IF(O94=\"\",\"\",HLOOKUP(O94,名簿!$AH$3:$CH$118,89,FALSE))","v":""},"","",null,{"$f":"IF(T94=\"\",\"\",IF(I94=1,VLOOKUP(T94,男子種目コード!$M$1:$N$13,2,FALSE),IF(I94=2,VLOOKUP(T94,女子種目コード!$M$1:$N$10,2,FALSE))))","v":""},{"$f":"IF(T94=\"\",\"\",HLOOKUP(T94,名簿!$AH$3:$CH$118,89,FALSE))","v":""},"","",null,{"$f":"IF(Y94=\"\",\"\",IF(I94=1,VLOOKUP(Y94,男子種目コード!$D$1:$E$20,2,FALSE),IF(I94=2,VLOOKUP(Y94,女子種目コード!$D$1:$E$20,2,FALSE))))","v":""},null,"","",null,{"$f":"IF(AD94=\"\",\"\",IF(I94=1,VLOOKUP(AD94,男子種目コード!$A$1:$B$33,2,FALSE),IF(V94=2,VLOOKUP(I94,女子種目コード!$A$1:$B$28,2,FALSE))))","v":""},null,null,{"$f":"IF(AG94=\"\",\"\",IF(I94=1,VLOOKUP(AG94,男子種目コード!$A$1:$B$33,2,FALSE),IF(AA94=2,VLOOKUP(I94,女子種目コード!$A$1:$B$28,2,FALSE))))","v":""},null,null,null,null,null,"",0,0,null,null,null,null,null,null,null,null,null,null,null,null,null,null,0,"",""]
["",{"$f":"名簿!P92","v":""},null,null,{"$f":"名簿!E92","v":0},{"$f":"名簿!CM92","v":""},{"$f":"名簿!Z92","v":""},{"$f":"名簿!CM92","v":""},{"$f":"名簿!Y92","v":""},{"$f":"名簿!CN92","v":""},{"$f":"名簿!CP92","v":0},{"$f":"名簿!CU92","v":"00"},{"$f":"名簿!Q92","v":""},{"$f":"名簿!D92","v":0},null,{"$f":"IF(O95=\"\",\"\",IF(I95=1,VLOOKUP(O95,男子種目コード!$M$1:$N$13,2,FALSE),IF(I95=2,VLOOKUP(O95,女子種目コード!$M$1:$N$10,2,FALSE))))","v":""},{"$f":"IF(O95=\"\",\"\",HLOOKUP(O95,名簿!$AH$3:$CH$118,90,FALSE))","v":""},"","",null,{"$f":"IF(T95=\"\",\"\",IF(I95=1,VLOOKUP(T95,男子種目コード!$M$1:$N$13,2,FALSE),IF(I95=2,VLOOKUP(T95,女子種目コード!$M$1:$N$10,2,FALSE))))","v":""},{"$f":"IF(T95=\"\",\"\",HLOOKUP(T95,名簿!$AH$3:$CH$118,90,FALSE))","v":""},"","",null,{"$f":"IF(Y95=\"\",\"\",IF(I95=1,VLOOKUP(Y95,男子種目コード!$D$1:$E$20,2,FALSE),IF(I95=2,VLOOKUP(Y95,女子種目コード!$D$1:$E$20,2,FALSE))))","v":""},null,"","",null,{"$f":"IF(AD95=\"\",\"\",IF(I95=1,VLOOKUP(AD95,男子種目コード!$A$1:$B$33,2,FALSE),IF(V95=2,VLOOKUP(I95,女子種目コード!$A$1:$B$28,2,FALSE))))","v":""},null,null,{"$f":"IF(AG95=\"\",\"\",IF(I95=1,VLOOKUP(AG95,男子種目コード!$A$1:$B$33,2,FALSE),IF(AA95=2,VLOOKUP(I95,女子種目コード!$A$1:$B$28,2,FALSE))))","v":""},null,null,null,null,null,"",0,0,null,null,null,null,null,null,null,null,null,null,null,null,null,null,0,"",""]
["",{"$f":"名簿!P93","v":""},null,null,{"$f":"名簿!E93","v":0},{"$f":"名簿!CM93","v":""},{"$f":"名簿!Z93","v":""},{"$f":"名簿!CM93","v":""},{"$f":"名簿!Y93","v":""},{"$f":"名簿!CN93","v":""},{"$f":"名簿!CP93","v":0},{"$f":"名簿!CU93","v":"00"},{"$f":"名簿!Q93","v":""},{"$f":"名簿!D93","v":0},null,{"$f":"IF(O96=\"\",\"\",IF(I96=1,VLOOKUP(O96,男子種目コード!$M$1:$N$13,2,FALSE),IF(I96=2,VLOOKUP(O96,女子種目コード!$M$1:$N$10,2,FALSE))))","v":""},{"$f":"IF(O96=\"\",\"\",HLOOKUP(O96,名簿!$AH$3:$CH$118,91,FALSE))","v":""},"","",null,{"$f":"IF(T96=\"\",\"\",IF(I96=1,VLOOKUP(T96,男子種目コード!$M$1:$N$13,2,FALSE),IF(I96=2,VLOOKUP(T96,女子種目コード!$M$1:$N$10,2,FALSE))))","v":""},{"$f":"IF(T96=\"\",\"\",HLOOKUP(T96,名簿!$AH$3:$CH$118,91,FALSE))","v":""},"","",null,{"$f":"IF(Y96=\"\",\"\",IF(I96=1,VLOOKUP(Y96,男子種目コード!$D$1:$E$20,2,FALSE),IF(I96=2,VLOOKUP(Y96,女子種目コード!$D$1:$E$20,2,FALSE))))","v":""},null,"","",null,{"$f":"IF(AD96=\"\",\"\",IF(I96=1,VLOOKUP(AD96,男子種目コード!$A$1:$B$33,2,FALSE),IF(V96=2,VLOOKUP(I96,女子種目コード!$A$1:$B$28,2,FALSE))))","v":""},null,null,{"$f":"IF(AG96=\"\",\"\",IF(I96=1,VLOOKUP(AG96,男子種目コード!$A$1:$B$33,2,FALSE),IF(AA96=2,VLOOKUP(I96,女子種目コード!$A$1:$B$28,2,FALSE))))","v":""},null,null,null,null,null,"",0,0,null,null,null,null,null,null,null,null,null,null,null,null,null,null,0,"",""]
["",{"$f":"名簿!P94","v":""},null,null,{"$f":"名簿!E94","v":0},{"$f":"名簿!CM94","v":""},{"$f":"名簿!Z94","v":""},{"$f":"名簿!CM94","v":""},{"$f":"名簿!Y94","v":""},{"$f":"名簿!CN94","v":""},{"$f":"名簿!CP94","v":0},{"$f":"名簿!CU94","v":"00"},{"$f":"名簿!Q94","v":""},{"$f":"名簿!D94","v":0},null,{"$f":"IF(O97=\"\",\"\",IF(I97=1,VLOOKUP(O97,男子種目コード!$M$1:$N$13,2,FALSE),IF(I97=2,VLOOKUP(O97,女子種目コード!$M$1:$N$10,2,FALSE))))","v":""},{"$f":"IF(O97=\"\",\"\",HLOOKUP(O97,名簿!$AH$3:$CH$118,92,FALSE))","v":""},"","",null,{"$f":"IF(T97=\"\",\"\",IF(I97=1,VLOOKUP(T97,男子種目コード!$M$1:$N$13,2,FALSE),IF(I97=2,VLOOKUP(T97,女子種目コード!$M$1:$N$10,2,FALSE))))","v":""},{"$f":"IF(T97=\"\",\"\",HLOOKUP(T97,名簿!$AH$3:$CH$118,92,FALSE))","v":""},"","",null,{"$f":"IF(Y97=\"\",\"\",IF(I97=1,VLOOKUP(Y97,男子種目コード!$D$1:$E$20,2,FALSE),IF(I97=2,VLOOKUP(Y97,女子種目コード!$D$1:$E$20,2,FALSE))))","v":""},null,"","",null,{"$f":"IF(AD97=\"\",\"\",IF(I97=1,VLOOKUP(AD97,男子種目コード!$A$1:$B$33,2,FALSE),IF(V97=2,VLOOKUP(I97,女子種目コード!$A$1:$B$28,2,FALSE))))","v":""},null,null,{"$f":"IF(AG97=\"\",\"\",IF(I97=1,VLOOKUP(AG97,男子種目コード!$A$1:$B$33,2,FALSE),IF(AA97=2,VLOOKUP(I97,女子種目コード!$A$1:$B$28,2,FALSE))))","v":""},null,null,null,null,null,"",0,0,null,null,null,null,null,null,null,null,null,null,null,null,null,null,0,"",""]
["",{"$f":"名簿!P95","v":""},null,null,{"$f":"名簿!E95","v":0},{"$f":"名簿!CM95","v":""},{"$f":"名簿!Z95","v":""},{"$f":"名簿!CM95","v":""},{"$f":"名簿!Y95","v":""},{"$f":"名簿!CN95","v":""},{"$f":"名簿!CP95","v":0},{"$f":"名簿!CU95","v":"00"},{"$f":"名簿!Q95","v":""},{"$f":"名簿!D95","v":0},null,{"$f":"IF(O98=\"\",\"\",IF(I98=1,VLOOKUP(O98,男子種目コード!$M$1:$N$13,2,FALSE),IF(I98=2,VLOOKUP(O98,女子種目コード!$M$1:$N$10,2,FALSE))))","v":""},{"$f":"IF(O98=\"\",\"\",HLOOKUP(O98,名簿!$AH$3:$CH$118,93,FALSE))","v":""},"","",null,{"$f":"IF(T98=\"\",\"\",IF(I98=1,VLOOKUP(T98,男子種目コード!$M$1:$N$13,2,FALSE),IF(I98=2,VLOOKUP(T98,女子種目コード!$M$1:$N$10,2,FALSE))))","v":""},{"$f":"IF(T98=\"\",\"\",HLOOKUP(T98,名簿!$AH$3:$CH$118,93,FALSE))","v":""},"","",null,{"$f":"IF(Y98=\"\",\"\",IF(I98=1,VLOOKUP(Y98,男子種目コード!$D$1:$E$20,2,FALSE),IF(I98=2,VLOOKUP(Y98,女子種目コード!$D$1:$E$20,2,FALSE))))","v":""},null,"","",null,{"$f":"IF(AD98=\"\",\"\",IF(I98=1,VLOOKUP(AD98,男子種目コード!$A$1:$B$33,2,FALSE),IF(V98=2,VLOOKUP(I98,女子種目コード!$A$1:$B$28,2,FALSE))))","v":""},null,null,{"$f":"IF(AG98=\"\",\"\",IF(I98=1,VLOOKUP(AG98,男子種目コード!$A$1:$B$33,2,FALSE),IF(AA98=2,VLOOKUP(I98,女子種目コード!$A$1:$B$28,2,FALSE))))","v":""},null,null,null,null,null,"",0,0,null,null,null,null,null,null,null,null,null,null,null,null,null,null,0,"",""]
["",{"$f":"名簿!P96","v":""},null,null,{"$f":"名簿!E96","v":0},{"$f":"名簿!CM96","v":""},{"$f":"名簿!Z96","v":""},{"$f":"名簿!CM96","v":""},{"$f":"名簿!Y96","v":""},{"$f":"名簿!CN96","v":""},{"$f":"名簿!CP96","v":0},{"$f":"名簿!CU96","v":"00"},{"$f":"名簿!Q96","v":""},{"$f":"名簿!D96","v":0},null,{"$f":"IF(O99=\"\",\"\",IF(I99=1,VLOOKUP(O99,男子種目コード!$M$1:$N$13,2,FALSE),IF(I99=2,VLOOKUP(O99,女子種目コード!$M$1:$N$10,2,FALSE))))","v":""},{"$f":"IF(O99=\"\",\"\",HLOOKUP(O99,名簿!$AH$3:$CH$118,94,FALSE))","v":""},"","",null,{"$f":"IF(T99=\"\",\"\",IF(I99=1,VLOOKUP(T99,男子種目コード!$M$1:$N$13,2,FALSE),IF(I99=2,VLOOKUP(T99,女子種目コード!$M$1:$N$10,2,FALSE))))","v":""},{"$f":"IF(T99=\"\",\"\",HLOOKUP(T99,名簿!$AH$3:$CH$118,94,FALSE))","v":""},"","",null,{"$f":"IF(Y99=\"\",\"\",IF(I99=1,VLOOKUP(Y99,男子種目コード!$D$1:$E$20,2,FALSE),IF(I99=2,VLOOKUP(Y99,女子種目コード!$D$1:$E$20,2,FALSE))))","v":""},null,"","",null,{"$f":"IF(AD99=\"\",\"\",IF(I99=1,VLOOKUP(AD99,男子種目コード!$A$1:$B$33,2,FALSE),IF(V99=2,VLOOKUP(I99,女子種目コード!$A$1:$B$28,2,FALSE))))","v":""},null,null,{"$f":"IF(AG99=\"\",\"\",IF(I99=1,VLOOKUP(AG99,男子種目コード!$A$1:$B$33,2,FALSE),IF(AA99=2,VLOOKUP(I99,女子種目コード!$A$1:$B$28,2,FALSE))))","v":""},null,null,null,null,null,"",0,0,null,null,null,null,null,null,null,null,null,null,null,null,null,null,0,"",""]
["",{"$f":"名簿!P97","v":""},null,null,{"$f":"名簿!E97","v":0},{"$f":"名簿!CM97","v":""},{"$f":"名簿!Z97","v":""},{"$f":"名簿!CM97","v":""},{"$f":"名簿!Y97","v":""},{"$f":"名簿!CN97","v":""},{"$f":"名簿!CP97","v":0},{"$f":"名簿!CU97","v":"00"},{"$f":"名簿!Q97","v":""},{"$f":"名簿!D97","v":0},null,{"$f":"IF(O100=\"\",\"\",IF(I100=1,VLOOKUP(O100,男子種目コード!$M$1:$N$13,2,FALSE),IF(I100=2,VLOOKUP(O100,女子種目コード!$M$1:$N$10,2,FALSE))))","v":""},{"$f":"IF(O100=\"\",\"\",HLOOKUP(O100,名簿!$AH$3:$CH$118,95,FALSE))","v":""},"","",null,{"$f":"IF(T100=\"\",\"\",IF(I100=1,VLOOKUP(T100,男子種目コード!$M$1:$N$13,2,FALSE),IF(I100=2,VLOOKUP(T100,女子種目コード!$M$1:$N$10,2,FALSE))))","v":""},{"$f":"IF(T100=\"\",\"\",HLOOKUP(T100,名簿!$AH$3:$CH$118,95,FALSE))","v":""},"","",null,{"$f":"IF(Y100=\"\",\"\",IF(I100=1,VLOOKUP(Y100,男子種目コード!$D$1:$E$20,2,FALSE),IF(I100=2,VLOOKUP(Y100,女子種目コード!$D$1:$E$20,2,FALSE))))","v":""},null,"","",null,{"$f":"IF(AD100=\"\",\"\",IF(I100=1,VLOOKUP(AD100,男子種目コード!$A$1:$B$33,2,FALSE),IF(V100=2,VLOOKUP(I100,女子種目コード!$A$1:$B$28,2,FALSE))))","v":""},null,null,{"$f":"IF(AG100=\"\",\"\",IF(I100=1,VLOOKUP(AG100,男子種目コード!$A$1:$B$33,2,FALSE),IF(AA100=2,VLOOKUP(I100,女子種目コード!$A$1:$B$28,2,FALSE))))","v":""},null,null,null,null,null,"",0,0,null,null,null,null,null,null,null,null,null,null,null,null,null,null,0,"",""]
["",{"$f":"名簿!P98","v":""},null,null,{"$f":"名簿!E98","v":0},{"$f":"名簿!CM98","v":""},{"$f":"名簿!Z98","v":""},{"$f":"名簿!CM98","v":""},{"$f":"名簿!Y98","v":""},{"$f":"名簿!CN98","v":""},{"$f":"名簿!CP98","v":0},{"$f":"名簿!CU98","v":"00"},{"$f":"名簿!Q98","v":""},{"$f":"名簿!D98","v":0},null,{"$f":"IF(O101=\"\",\"\",IF(I101=1,VLOOKUP(O101,男子種目コード!$M$1:$N$13,2,FALSE),IF(I101=2,VLOOKUP(O101,女子種目コード!$M$1:$N$10,2,FALSE))))","v":""},{"$f":"IF(O101=\"\",\"\",HLOOKUP(O101,名簿!$AH$3:$CH$118,96,FALSE))","v":""},"","",null,{"$f":"IF(T101=\"\",\"\",IF(I101=1,VLOOKUP(T101,男子種目コード!$M$1:$N$13,2,FALSE),IF(I101=2,VLOOKUP(T101,女子種目コード!$M$1:$N$10,2,FALSE))))","v":""},{"$f":"IF(T101=\"\",\"\",HLOOKUP(T101,名簿!$AH$3:$CH$118,96,FALSE))","v":""},"","",null,{"$f":"IF(Y101=\"\",\"\",IF(I101=1,VLOOKUP(Y101,男子種目コード!$D$1:$E$20,2,FALSE),IF(I101=2,VLOOKUP(Y101,女子種目コード!$D$1:$E$20,2,FALSE))))","v":""},null,"","",null,{"$f":"IF(AD101=\"\",\"\",IF(I101=1,VLOOKUP(AD101,男子種目コード!$A$1:$B$33,2,FALSE),IF(V101=2,VLOOKUP(I101,女子種目コード!$A$1:$B$28,2,FALSE))))","v":""},null,null,{"$f":"IF(AG101=\"\",\"\",IF(I101=1,VLOOKUP(AG101,男子種目コード!$A$1:$B$33,2,FALSE),IF(AA101=2,VLOOKUP(I101,女子種目コード!$A$1:$B$28,2,FALSE))))","v":""},null,null,null,null,null,"",0,0,null,null,null,null,null,null,null,null,null,null,null,null,null,null,0,"",""]
["",{"$f":"名簿!P99","v":""},null,null,{"$f":"名簿!E99","v":0},{"$f":"名簿!CM99","v":""},{"$f":"名簿!Z99","v":""},{"$f":"名簿!CM99","v":""},{"$f":"名簿!Y99","v":""},{"$f":"名簿!CN99","v":""},{"$f":"名簿!CP99","v":0},{"$f":"名簿!CU99","v":"00"},{"$f":"名簿!Q99","v":""},{"$f":"名簿!D99","v":0},null,{"$f":"IF(O102=\"\",\"\",IF(I102=1,VLOOKUP(O102,男子種目コード!$M$1:$N$13,2,FALSE),IF(I102=2,VLOOKUP(O102,女子種目コード!$M$1:$N$10,2,FALSE))))","v":""},{"$f":"IF(O102=\"\",\"\",HLOOKUP(O102,名簿!$AH$3:$CH$118,97,FALSE))","v":""},"","",null,{"$f":"IF(T102=\"\",\"\",IF(I102=1,VLOOKUP(T102,男子種目コード!$M$1:$N$13,2,FALSE),IF(I102=2,VLOOKUP(T102,女子種目コード!$M$1:$N$10,2,FALSE))))","v":""},{"$f":"IF(T102=\"\",\"\",HLOOKUP(T102,名簿!$AH$3:$CH$118,97,FALSE))","v":""},"","",null,{"$f":"IF(Y102=\"\",\"\",IF(I102=1,VLOOKUP(Y102,男子種目コード!$D$1:$E$20,2,FALSE),IF(I102=2,VLOOKUP(Y102,女子種目コード!$D$1:$E$20,2,FALSE))))","v":""},null,"","",null,{"$f":"IF(AD102=\"\",\"\",IF(I102=1,VLOOKUP(AD102,男子種目コード!$A$1:$B$33,2,FALSE),IF(V102=2,VLOOKUP(I102,女子種目コード!$A$1:$B$28,2,FALSE))))","v":""},null,null,{"$f":"IF(AG102=\"\",\"\",IF(I102=1,VLOOKUP(AG102,男子種目コード!$A$1:$B$33,2,FALSE),IF(AA102=2,VLOOKUP(I102,女子種目コード!$A$1:$B$28,2,FALSE))))","v":""},null,null,null,null,null,"",0,0,null,null,null,null,null,null,null,null,null,null,null,null,null,null,0,"",""]
[{"$f":"Z103","v":""},{"$f":"名簿!P100","v":""},null,null,{"$f":"名簿!E100","v":0},{"$f":"名簿!CM100","v":""},{"$f":"名簿!Z100","v":""},{"$f":"名簿!CM100","v":""},{"$f":"名簿!Y100","v":""},{"$f":"名簿!CN100","v":""},{"$f":"名簿!CP100","v":0},{"$f":"名簿!CU100","v":"00"},{"$f":"名簿!Q100","v":""},{"$f":"名簿!D100","v":0},null,{"$f":"IF(O103=\"\",\"\",IF(I103=1,VLOOKUP(O103,男子種目コード!$M$1:$N$13,2,FALSE),IF(I103=2,VLOOKUP(O103,女子種目コード!$M$1:$N$10,2,FALSE))))","v":""},{"$f":"IF(O103=\"\",\"\",HLOOKUP(O103,名簿!$AH$3:$CH$118,98,FALSE))","v":""},{"$f":"IF(O103=\"\",\"\",0)","v":""},{"$f":"IF(O103=\"\",\"\",2)","v":""},null,{"$f":"IF(T103=\"\",\"\",IF(I103=1,VLOOKUP(T103,男子種目コード!$M$1:$N$13,2,FALSE),IF(I103=2,VLOOKUP(T103,女子種目コード!$M$1:$N$10,2,FALSE))))","v":""},{"$f":"IF(T103=\"\",\"\",HLOOKUP(T103,名簿!$AH$3:$CH$118,98,FALSE))","v":""},{"$f":"IF(T103=\"\",\"\",0)","v":""},{"$f":"IF(T103=\"\",\"\",2)","v":""},null,{"$f":"IF(Y103=\"\",\"\",IF(I103=1,VLOOKUP(Y103,男子種目コード!$D$1:$E$20,2,FALSE),IF(I103=2,VLOOKUP(Y103,女子種目コード!$D$1:$E$20,2,FALSE))))","v":""},null,{"$f":"IF(Y103=\"\",\"\",0)","v":""},{"$f":"IF(Y103=\"\",\"\",2)","v":""},null,{"$f":"IF(AD103=\"\",\"\",IF(I103=1,VLOOKUP(AD103,男子種目コード!$A$1:$B$33,2,FALSE),IF(V103=2,VLOOKUP(I103,女子種目コード!$A$1:$B$28,2,FALSE))))","v":""},null,null,{"$f":"IF(AG103=\"\",\"\",IF(I103=1,VLOOKUP(AG103,男子種目コード!$A$1:$B$33,2,FALSE),IF(AA103=2,VLOOKUP(I103,女子種目コード!$A$1:$B$28,2,FALSE))))","v":""},null,null,null,null,null,"",{"$f":"IF(OR(AN103=1,T103=\"\"),0,1)","v":0},{"$f":"IF(OR(AN103=1,AO103=1,Y103=\"\"),0,1)","v":0},null,null,null,null,null,null,null,null,null,null,null,null,null,null,{"$f":"COUNT(P103,U103,Z103)","v":0},{"$f":"IF(I103=1,BE103,\"\")","v":""},{"$f":"IF(I103=2,BE103,\"\")","v":""}]
["",{"$f":"名簿!P101","v":""},null,null,{"$f":"名簿!E101","v":0},{"$f":"名簿!CM101","v":""},{"$f":"名簿!Z101","v":""},{"$f":"名簿!CM101","v":""},{"$f":"名簿!Y101","v":""},{"$f":"名簿!CN101","v":""},{"$f":"名簿!CP101","v":0},{"$f":"名簿!CU101","v":"00"},{"$f":"名簿!Q101","v":""},{"$f":"名簿!D101","v":0},null,{"$f":"IF(O104=\"\",\"\",IF(I104=1,VLOOKUP(O104,男子種目コード!$M$1:$N$13,2,FALSE),IF(I104=2,VLOOKUP(O104,女子種目コード!$M$1:$N$10,2,FALSE))))","v":""},{"$f":"IF(O104=\"\",\"\",HLOOKUP(O104,名簿!$AH$3:$CH$118,99,FALSE))","v":""},"","",null,{"$f":"IF(T104=\"\",\"\",IF(I104=1,VLOOKUP(T104,男子種目コード!$M$1:$N$13,2,FALSE),IF(I104=2,VLOOKUP(T104,女子種目コード!$M$1:$N$10,2,FALSE))))","v":""},{"$f":"IF(T104=\"\",\"\",HLOOKUP(T104,名簿!$AH$3:$CH$118,99,FALSE))","v":""},"","",null,{"$f":"IF(Y104=\"\",\"\",IF(I104=1,VLOOKUP(Y104,男子種目コード!$D$1:$E$20,2,FALSE),IF(I104=2,VLOOKUP(Y104,女子種目コード!$D$1:$E$20,2,FALSE))))","v":""},null,"","",null,{"$f":"IF(AD104=\"\",\"\",IF(I104=1,VLOOKUP(AD104,男子種目コード!$A$1:$B$33,2,FALSE),IF(V104=2,VLOOKUP(I104,女子種目コード!$A$1:$B$28,2,FALSE))))","v":""},null,null,{"$f":"IF(AG104=\"\",\"\",IF(I104=1,VLOOKUP(AG104,男子種目コード!$A$1:$B$33,2,FALSE),IF(AA104=2,VLOOKUP(I104,女子種目コード!$A$1:$B$28,2,FALSE))))","v":""},null,null,null,null,null,"",{"$f":"IF(OR(AN104=1,T104=\"\"),0,1)","v":0},{"$f":"IF(OR(AN104=1,AO104=1,Y104=\"\"),0,1)","v":0},null,null,null,null,null,null,null,null,null,null,null,null,null,null,0,"",""]
["",{"$f":"名簿!P102","v":""},null,null,{"$f":"名簿!E102","v":0},{"$f":"名簿!CM102","v":""},{"$f":"名簿!Z102","v":""},{"$f":"名簿!CM102","v":""},{"$f":"名簿!Y102","v":""},{"$f":"名簿!CN102","v":""},{"$f":"名簿!CP102","v":0},{"$f":"名簿!CU102","v":"00"},{"$f":"名簿!Q102","v":""},{"$f":"名簿!D102","v":0},null,{"$f":"IF(O105=\"\",\"\",IF(I105=1,VLOOKUP(O105,男子種目コード!$M$1:$N$13,2,FALSE),IF(I105=2,VLOOKUP(O105,女子種目コード!$M$1:$N$10,2,FALSE))))","v":""},{"$f":"IF(O105=\"\",\"\",HLOOKUP(O105,名簿!$AH$3:$CH$118,100,FALSE))","v":""},"","",null,{"$f":"IF(T105=\"\",\"\",IF(I105=1,VLOOKUP(T105,男子種目コード!$M$1:$N$13,2,FALSE),IF(I105=2,VLOOKUP(T105,女子種目コード!$M$1:$N$10,2,FALSE))))","v":""},{"$f":"IF(T105=\"\",\"\",HLOOKUP(T105,名簿!$AH$3:$CH$118,100,FALSE))","v":""},"","",null,{"$f":"IF(Y105=\"\",\"\",IF(I105=1,VLOOKUP(Y105,男子種目コード!$D$1:$E$20,2,FALSE),IF(I105=2,VLOOKUP(Y105,女子種目コード!$D$1:$E$20,2,FALSE))))","v":""},null,"","",null,{"$f":"IF(AD105=\"\",\"\",IF(I105=1,VLOOKUP(AD105,男子種目コード!$A$1:$B$33,2,FALSE),IF(V105=2,VLOOKUP(I105,女子種目コード!$A$1:$B$28,2,FALSE))))","v":""},null,null,{"$f":"IF(AG105=\"\",\"\",IF(I105=1,VLOOKUP(AG105,男子種目コード!$A$1:$B$33,2,FALSE),IF(AA105=2,VLOOKUP(I105,女子種目コード!$A$1:$B$28,2,FALSE))))","v":""},null,null,null,null,null,"",{"$f":"IF(OR(AN105=1,T105=\"\"),0,1)","v":0},{"$f":"IF(OR(AN105=1,AO105=1,Y105=\"\"),0,1)","v":0},null,null,null,null,null,null,null,null,null,null,null,null,null,null,0,"",""]
["",{"$f":"名簿!P103","v":""},null,null,{"$f":"名簿!E103","v":0},{"$f":"名簿!CM103","v":""},{"$f":"名簿!Z103","v":""},{"$f":"名簿!CM103","v":""},{"$f":"名簿!Y103","v":""},{"$f":"名簿!CN103","v":""},{"$f":"名簿!CP103","v":0},{"$f":"名簿!CU103","v":"00"},{"$f":"名簿!Q103","v":""},{"$f":"名簿!D103","v":0},null,{"$f":"IF(O106=\"\",\"\",IF(I106=1,VLOOKUP(O106,男子種目コード!$M$1:$N$13,2,FALSE),IF(I106=2,VLOOKUP(O106,女子種目コード!$M$1:$N$10,2,FALSE))))","v":""},{"$f":"IF(O106=\"\",\"\",HLOOKUP(O106,名簿!$AH$3:$CH$118,101,FALSE))","v":""},"","",null,{"$f":"IF(T106=\"\",\"\",IF(I106=1,VLOOKUP(T106,男子種目コード!$M$1:$N$13,2,FALSE),IF(I106=2,VLOOKUP(T106,女子種目コード!$M$1:$N$10,2,FALSE))))","v":""},{"$f":"IF(T106=\"\",\"\",HLOOKUP(T106,名簿!$AH$3:$CH$118,101,FALSE))","v":""},"","",null,{"$f":"IF(Y106=\"\",\"\",IF(I106=1,VLOOKUP(Y106,男子種目コード!$D$1:$E$20,2,FALSE),IF(I106=2,VLOOKUP(Y106,女子種目コード!$D$1:$E$20,2,FALSE))))","v":""},null,"","",null,null,null,null,null,null,null,null,null,null,null,null,null,null,null,null,null,null,null,null,null,null,null,null,null,null,null,0,"",""]
["",{"$f":"名簿!P104","v":""},null,null,{"$f":"名簿!E104","v":0},{"$f":"名簿!CM104","v":""},{"$f":"名簿!Z104","v":""},{"$f":"名簿!CM104","v":""},{"$f":"名簿!Y104","v":""},{"$f":"名簿!CN104","v":""},{"$f":"名簿!CP104","v":0},{"$f":"名簿!CU104","v":"00"},{"$f":"名簿!Q104","v":""},{"$f":"名簿!D104","v":0},null,{"$f":"IF(O107=\"\",\"\",IF(I107=1,VLOOKUP(O107,男子種目コード!$M$1:$N$13,2,FALSE),IF(I107=2,VLOOKUP(O107,女子種目コード!$M$1:$N$10,2,FALSE))))","v":""},{"$f":"IF(O107=\"\",\"\",HLOOKUP(O107,名簿!$AH$3:$CH$118,102,FALSE))","v":""},"","",null,{"$f":"IF(T107=\"\",\"\",IF(I107=1,VLOOKUP(T107,男子種目コード!$M$1:$N$13,2,FALSE),IF(I107=2,VLOOKUP(T107,女子種目コード!$M$1:$N$10,2,FALSE))))","v":""},{"$f":"IF(T107=\"\",\"\",HLOOKUP(T107,名簿!$AH$3:$CH$118,102,FALSE))","v":""},"","",null,{"$f":"IF(Y107=\"\",\"\",IF(I107=1,VLOOKUP(Y107,男子種目コード!$D$1:$E$20,2,FALSE),IF(I107=2,VLOOKUP(Y107,女子種目コード!$D$1:$E$20,2,FALSE))))","v":""},null,"","",null,null,null,null,null,null,null,null,null,null,null,null,null,null,null,null,null,null,null,null,null,null,null,null,null,null,null,0,"",""]
["",{"$f":"名簿!P105","v":""},null,null,{"$f":"名簿!E105","v":0},{"$f":"名簿!CM105","v":""},{"$f":"名簿!Z105","v":""},{"$f":"名簿!CM105","v":""},{"$f":"名簿!Y105","v":""},{"$f":"名簿!CN105","v":""},{"$f":"名簿!CP105","v":0},{"$f":"名簿!CU105","v":"00"},{"$f":"名簿!Q105","v":""},{"$f":"名簿!D105","v":0},null,{"$f":"IF(O108=\"\",\"\",IF(I108=1,VLOOKUP(O108,男子種目コード!$M$1:$N$13,2,FALSE),IF(I108=2,VLOOKUP(O108,女子種目コード!$M$1:$N$10,2,FALSE))))","v":""},{"$f":"IF(O108=\"\",\"\",HLOOKUP(O108,名簿!$AH$3:$CH$118,103,FALSE))","v":""},"","",null,{"$f":"IF(T108=\"\",\"\",IF(I108=1,VLOOKUP(T108,男子種目コード!$M$1:$N$13,2,FALSE),IF(I108=2,VLOOKUP(T108,女子種目コード!$M$1:$N$10,2,FALSE))))","v":""},{"$f":"IF(T108=\"\",\"\",HLOOKUP(T108,名簿!$AH$3:$CH$118,103,FALSE))","v":""},"","",null,{"$f":"IF(Y108=\"\",\"\",IF(I108=1,VLOOKUP(Y108,男子種目コード!$D$1:$E$20,2,FALSE),IF(I108=2,VLOOKUP(Y108,女子種目コード!$D$1:$E$20,2,FALSE))))","v":""},null,"","",null,null,null,null,null,null,null,null,null,null,null,null,null,null,null,null,null,null,null,null,null,null,null,null,null,null,null,0,"",""]
["",{"$f":"名簿!P106","v":""},null,null,{"$f":"名簿!E106","v":0},{"$f":"名簿!CM106","v":""},{"$f":"名簿!Z106","v":""},{"$f":"名簿!CM106","v":""},{"$f":"名簿!Y106","v":""},{"$f":"名簿!CN106","v":""},{"$f":"名簿!CP106","v":0},{"$f":"名簿!CU106","v":"00"},{"$f":"名簿!Q106","v":""},{"$f":"名簿!D106","v":0},null,{"$f":"IF(O109=\"\",\"\",IF(I109=1,VLOOKUP(O109,男子種目コード!$M$1:$N$13,2,FALSE),IF(I109=2,VLOOKUP(O109,女子種目コード!$M$1:$N$10,2,FALSE))))","v":""},{"$f":"IF(O109=\"\",\"\",HLOOKUP(O109,名簿!$AH$3:$CH$118,104,FALSE))","v":""},"","",null,{"$f":"IF(T109=\"\",\"\",IF(I109=1,VLOOKUP(T109,男子種目コード!$M$1:$N$13,2,FALSE),IF(I109=2,VLOOKUP(T109,女子種目コード!$M$1:$N$10,2,FALSE))))","v":""},{"$f":"IF(T109=\"\",\"\",HLOOKUP(T109,名簿!$AH$3:$CH$118,104,FALSE))","v":""},"","",null,{"$f":"IF(Y109=\"\",\"\",IF(I109=1,VLOOKUP(Y109,男子種目コード!$D$1:$E$20,2,FALSE),IF(I109=2,VLOOKUP(Y109,女子種目コード!$D$1:$E$20,2,FALSE))))","v":""},null,"","",null,null,null,null,null,null,null,null,null,null,null,null,null,null,null,null,null,null,null,null,null,null,null,null,null,null,null,0,"",""]
["",{"$f":"名簿!P107","v":""},null,null,{"$f":"名簿!E107","v":0},{"$f":"名簿!CM107","v":""},{"$f":"名簿!Z107","v":""},{"$f":"名簿!CM107","v":""},{"$f":"名簿!Y107","v":""},{"$f":"名簿!CN107","v":""},{"$f":"名簿!CP107","v":0},{"$f":"名簿!CU107","v":"00"},{"$f":"名簿!Q107","v":""},{"$f":"名簿!D107","v":0},null,{"$f":"IF(O110=\"\",\"\",IF(I110=1,VLOOKUP(O110,男子種目コード!$M$1:$N$13,2,FALSE),IF(I110=2,VLOOKUP(O110,女子種目コード!$M$1:$N$10,2,FALSE))))","v":""},{"$f":"IF(O110=\"\",\"\",HLOOKUP(O110,名簿!$AH$3:$CH$118,105,FALSE))","v":""},"","",null,{"$f":"IF(T110=\"\",\"\",IF(I110=1,VLOOKUP(T110,男子種目コード!$M$1:$N$13,2,FALSE),IF(I110=2,VLOOKUP(T110,女子種目コード!$M$1:$N$10,2,FALSE))))","v":""},{"$f":"IF(T110=\"\",\"\",HLOOKUP(T110,名簿!$AH$3:$CH$118,105,FALSE))","v":""},"","",null,{"$f":"IF(Y110=\"\",\"\",IF(I110=1,VLOOKUP(Y110,男子種目コード!$D$1:$E$20,2,FALSE),IF(I110=2,VLOOKUP(Y110,女子種目コード!$D$1:$E$20,2,FALSE))))","v":""},null,"","",null,null,null,null,null,null,null,null,null,null,null,null,null,null,null,null,null,null,null,null,null,null,null,null,null,null,null,0,"",""]
["",{"$f":"名簿!P108","v":""},null,null,{"$f":"名簿!E108","v":0},{"$f":"名簿!CM108","v":""},{"$f":"名簿!Z108","v":""},{"$f":"名簿!CM108","v":""},{"$f":"名簿!Y108","v":""},{"$f":"名簿!CN108","v":""},{"$f":"名簿!CP108","v":0},{"$f":"名簿!CU108","v":"00"},{"$f":"名簿!Q108","v":""},{"$f":"名簿!D108","v":0},null,{"$f":"IF(O111=\"\",\"\",IF(I111=1,VLOOKUP(O111,男子種目コード!$M$1:$N$13,2,FALSE),IF(I111=2,VLOOKUP(O111,女子種目コード!$M$1:$N$10,2,FALSE))))","v":""},{"$f":"IF(O111=\"\",\"\",HLOOKUP(O111,名簿!$AH$3:$CH$118,106,FALSE))","v":""},"","",null,{"$f":"IF(T111=\"\",\"\",IF(I111=1,VLOOKUP(T111,男子種目コード!$M$1:$N$13,2,FALSE),IF(I111=2,VLOOKUP(T111,女子種目コード!$M$1:$N$10,2,FALSE))))","v":""},{"$f":"IF(T111=\"\",\"\",HLOOKUP(T111,名簿!$AH$3:$CH$118,106,FALSE))","v":""},"","",null,{"$f":"IF(Y111=\"\",\"\",IF(I111=1,VLOOKUP(Y111,男子種目コード!$D$1:$E$20,2,FALSE),IF(I111=2,VLOOKUP(Y111,女子種目コード!$D$1:$E$20,2,FALSE))))","v":""},null,"","",null,null,null,null,null,null,null,null,null,null,null,null,null,null,null,null,null,null,null,null,null,null,null,null,null,null,null,0,"",""]
["",{"$f":"名簿!P109","v":""},null,null,{"$f":"名簿!E109","v":0},{"$f":"名簿!CM109","v":""},{"$f":"名簿!Z109","v":""},{"$f":"名簿!CM109","v":""},{"$f":"名簿!Y109","v":""},{"$f":"名簿!CN109","v":""},{"$f":"名簿!CP109","v":0},{"$f":"名簿!CU109","v":"00"},{"$f":"名簿!Q109","v":""},{"$f":"名簿!D109","v":0},null,{"$f":"IF(O112=\"\",\"\",IF(I112=1,VLOOKUP(O112,男子種目コード!$M$1:$N$13,2,FALSE),IF(I112=2,VLOOKUP(O112,女子種目コード!$M$1:$N$10,2,FALSE))))","v":""},{"$f":"IF(O112=\"\",\"\",HLOOKUP(O112,名簿!$AH$3:$CH$118,107,FALSE))","v":""},"","",null,{"$f":"IF(T112=\"\",\"\",IF(I112=1,VLOOKUP(T112,男子種目コード!$M$1:$N$13,2,FALSE),IF(I112=2,VLOOKUP(T112,女子種目コード!$M$1:$N$10,2,FALSE))))","v":""},{"$f":"IF(T112=\"\",\"\",HLOOKUP(T112,名簿!$AH$3:$CH$118,107,FALSE))","v":""},"","",null,{"$f":"IF(Y112=\"\",\"\",IF(I112=1,VLOOKUP(Y112,男子種目コード!$D$1:$E$20,2,FALSE),IF(I112=2,VLOOKUP(Y112,女子種目コード!$D$1:$E$20,2,FALSE))))","v":""},null,"","",null,null,null,null,null,null,null,null,null,null,null,null,null,null,null,null,null,null,null,null,null,null,null,null,null,null,null,0,"",""]
["",{"$f":"名簿!P110","v":""},null,null,{"$f":"名簿!E110","v":0},{"$f":"名簿!CM110","v":""},{"$f":"名簿!Z110","v":""},{"$f":"名簿!CM110","v":""},{"$f":"名簿!Y110","v":""},{"$f":"名簿!CN110","v":""},{"$f":"名簿!CP110","v":0},{"$f":"名簿!CU110","v":"00"},{"$f":"名簿!Q110","v":""},{"$f":"名簿!D110","v":0},null,{"$f":"IF(O113=\"\",\"\",IF(I113=1,VLOOKUP(O113,男子種目コード!$M$1:$N$13,2,FALSE),IF(I113=2,VLOOKUP(O113,女子種目コード!$M$1:$N$10,2,FALSE))))","v":""},{"$f":"IF(O113=\"\",\"\",HLOOKUP(O113,名簿!$AH$3:$CH$118,108,FALSE))","v":""},"","",null,{"$f":"IF(T113=\"\",\"\",IF(I113=1,VLOOKUP(T113,男子種目コード!$M$1:$N$13,2,FALSE),IF(I113=2,VLOOKUP(T113,女子種目コード!$M$1:$N$10,2,FALSE))))","v":""},{"$f":"IF(T113=\"\",\"\",HLOOKUP(T113,名簿!$AH$3:$CH$118,108,FALSE))","v":""},"","",null,{"$f":"IF(Y113=\"\",\"\",IF(I113=1,VLOOKUP(Y113,男子種目コード!$D$1:$E$20,2,FALSE),IF(I113=2,VLOOKUP(Y113,女子種目コード!$D$1:$E$20,2,FALSE))))","v":""},null,"","",null,null,null,null,null,null,null,null,null,null,null,null,null,null,null,null,null,null,null,null,null,null,null,null,null,null,null,0,"",""]
["",{"$f":"名簿!P111","v":""},null,null,{"$f":"名簿!E111","v":0},{"$f":"名簿!CM111","v":""},{"$f":"名簿!Z111","v":""},{"$f":"名簿!CM111","v":""},{"$f":"名簿!Y111","v":""},{"$f":"名簿!CN111","v":""},{"$f":"名簿!CP111","v":0},{"$f":"名簿!CU111","v":"00"},{"$f":"名簿!Q111","v":""},{"$f":"名簿!D111","v":0},null,{"$f":"IF(O114=\"\",\"\",IF(I114=1,VLOOKUP(O114,男子種目コード!$M$1:$N$13,2,FALSE),IF(I114=2,VLOOKUP(O114,女子種目コード!$M$1:$N$10,2,FALSE))))","v":""},{"$f":"IF(O114=\"\",\"\",HLOOKUP(O114,名簿!$AH$3:$CH$118,109,FALSE))","v":""},"","",null,{"$f":"IF(T114=\"\",\"\",IF(I114=1,VLOOKUP(T114,男子種目コード!$M$1:$N$13,2,FALSE),IF(I114=2,VLOOKUP(T114,女子種目コード!$M$1:$N$10,2,FALSE))))","v":""},{"$f":"IF(T114=\"\",\"\",HLOOKUP(T114,名簿!$AH$3:$CH$118,109,FALSE))","v":""},"","",null,{"$f":"IF(Y114=\"\",\"\",IF(I114=1,VLOOKUP(Y114,男子種目コード!$D$1:$E$20,2,FALSE),IF(I114=2,VLOOKUP(Y114,女子種目コード!$D$1:$E$20,2,FALSE))))","v":""},null,"","",null,null,null,null,null,null,null,null,null,null,null,null,null,null,null,null,null,null,null,null,null,null,null,null,null,null,null,0,"",""]
["",{"$f":"名簿!P112","v":""},null,null,{"$f":"名簿!E112","v":0},{"$f":"名簿!CM112","v":""},{"$f":"名簿!Z112","v":""},{"$f":"名簿!CM112","v":""},{"$f":"名簿!Y112","v":""},{"$f":"名簿!CN112","v":""},{"$f":"名簿!CP112","v":0},{"$f":"名簿!CU112","v":"00"},{"$f":"名簿!Q112","v":""},{"$f":"名簿!D112","v":0},null,{"$f":"IF(O115=\"\",\"\",IF(I115=1,VLOOKUP(O115,男子種目コード!$M$1:$N$13,2,FALSE),IF(I115=2,VLOOKUP(O115,女子種目コード!$M$1:$N$10,2,FALSE))))","v":""},{"$f":"IF(O115=\"\",\"\",HLOOKUP(O115,名簿!$AH$3:$CH$118,110,FALSE))","v":""},"","",null,{"$f":"IF(T115=\"\",\"\",IF(I115=1,VLOOKUP(T115,男子種目コード!$M$1:$N$13,2,FALSE),IF(I115=2,VLOOKUP(T115,女子種目コード!$M$1:$N$10,2,FALSE))))","v":""},{"$f":"IF(T115=\"\",\"\",HLOOKUP(T115,名簿!$AH$3:$CH$118,110,FALSE))","v":""},"","",null,{"$f":"IF(Y115=\"\",\"\",IF(I115=1,VLOOKUP(Y115,男子種目コード!$D$1:$E$20,2,FALSE),IF(I115=2,VLOOKUP(Y115,女子種目コード!$D$1:$E$20,2,FALSE))))","v":""},null,"","",null,null,null,null,null,null,null,null,null,null,null,null,null,null,null,null,null,null,null,null,null,null,null,null,null,null,null,0,"",""]
["",{"$f":"名簿!P113","v":""},null,null,{"$f":"名簿!E113","v":0},{"$f":"名簿!CM113","v":""},{"$f":"名簿!Z113","v":""},{"$f":"名簿!CM113","v":""},{"$f":"名簿!Y113","v":""},{"$f":"名簿!CN113","v":""},{"$f":"名簿!CP113","v":0},{"$f":"名簿!CU113","v":"00"},{"$f":"名簿!Q113","v":""},{"$f":"名簿!D113","v":0},null,{"$f":"IF(O116=\"\",\"\",IF(I116=1,VLOOKUP(O116,男子種目コード!$M$1:$N$13,2,FALSE),IF(I116=2,VLOOKUP(O116,女子種目コード!$M$1:$N$10,2,FALSE))))","v":""},{"$f":"IF(O116=\"\",\"\",HLOOKUP(O116,名簿!$AH$3:$CH$118,111,FALSE))","v":""},"","",null,{"$f":"IF(T116=\"\",\"\",IF(I116=1,VLOOKUP(T116,男子種目コード!$M$1:$N$13,2,FALSE),IF(I116=2,VLOOKUP(T116,女子種目コード!$M$1:$N$10,2,FALSE))))","v":""},{"$f":"IF(T116=\"\",\"\",HLOOKUP(T116,名簿!$AH$3:$CH$118,111,FALSE))","v":""},"","",null,{"$f":"IF(Y116=\"\",\"\",IF(I116=1,VLOOKUP(Y116,男子種目コード!$D$1:$E$20,2,FALSE),IF(I116=2,VLOOKUP(Y116,女子種目コード!$D$1:$E$20,2,FALSE))))","v":""},null,"","",null,{"$f":"IF(AD116=\"\",\"\",IF(I116=1,VLOOKUP(AD116,男子種目コード!$A$1:$B$33,2,FALSE),IF(V116=2,VLOOKUP(I116,女子種目コード!$A$1:$B$28,2,FALSE))))","v":""},null,null,{"$f":"IF(AG116=\"\",\"\",IF(I116=1,VLOOKUP(AG116,男子種目コード!$A$1:$B$33,2,FALSE),IF(AA116=2,VLOOKUP(I116,女子種目コード!$A$1:$B$28,2,FALSE))))","v":""},null,null,null,null,null,{"$f":"IF(O116=\"\",\"\",1)","v":""},{"$f":"IF(OR(AN116=1,T116=\"\"),0,1)","v":0},{"$f":"IF(OR(AN116=1,AO116=1,Y116=\"\"),0,1)","v":0},null,null,null,null,null,null,null,null,null,null,null,null,null,null,0,"",""]
[null,null,null,null,null,null,null,null,null,null,null,null,null,null,null,null,null,null,null,null,null,null,null,null,null,null,null,null,null,null,null,null,null,null,null,null,null,null,null,{"$f":"SUM(AN7:AN116)","v":0},{"$f":"SUM(AO7:AO116)","v":0},null,null,null,null,null,null,null,null,{"$f":"COUNT(P115,U115,Z115)","v":0},{"$f":"IF(I115=1,AX117,\"\")","v":""},{"$f":"IF(I115=2,AX117,\"\")","v":""}]
[null,null,null,null,null,null,null,null,null,null,null,null,null,null,null,null,null,null,null,null,null,null,null,null,null,null,null,null,null,null,null,null,null,null,null,null,null,null,null,null,null,null,null,null,null,null,null,null,null,{"$f":"COUNT(P116,U116,Z116)","v":0},{"$f":"IF(I116=1,AX118,\"\")","v":""},{"$f":"IF(I116=2,AX118,\"\")","v":""}]

{"sheet":"ジュニアO","index":13,"n_rows":118,"n_cols":57,"rows_kept":118,"cut":false,"hidden":false,"merged":[[85,40,85,41],[44,40,44,41],[55,40,55,41],[62,40,62,41],[68,40,68,41],[24,40,24,41],[76,40,76,41],[47,43,47,44],[29,43,29,44],[1,6,1,18],[6,40,6,41],[5,40,5,41],[15,43,15,44],[5,43,5,44],[6,43,6,44],[39,43,39,44],[43,40,43,41],[35,43,36,43],[24,43,24,44],[20,43,21,43]]}
[null,null,null,null,"所属名",{"$f":"IF(名簿!$O$4=\"\",\"\",名簿!$O$4)","v":0}]
[null,null,null,null,"所属コード",{"$f":"名簿!$P$4","v":{"$error":"#N/A"}},"三重県ジュニアオリンピック"]
[null,null,null,null,"顧問名",{"$f":"IF(名簿!$D$1=\"\",\"\",名簿!$D$1)","v":""},null,null,null,"男子",null,null,null,null,{"$f":"COUNTIF($I$7:$I$116,1)-COUNTIF($BD$7:$BD$116,0)","v":0},null,null,"プログラム冊数",null,null,null,null,"冊"]
[null,null,null,null,"顧問連絡先",{"$f":"IF(名簿!$I$1=\"\",\"\",名簿!$I$1)","v":""},null,null,null,"女子",null,null,null,null,{"$f":"COUNTIF($I$7:$I$116,2)-COUNTIF($BE$7:$BE$116,0)","v":0},null,{"$f":"O3+O4","v":0}]
[null,null,null,null,null,null,"大会参加費",null,null,null,null,null,null,null,{"$f":"$AG$118*1000+U3*800","v":0},null,{"$f":"$AG$118","v":0},"地区推薦は大会名に推薦と入力して下さい。それ以外は受理致しません。"]
["競技者コード","所属コード",null,null,"ナンバー","名前","カナ名","掲示板名","性別","学年","生年","月日","個人所属地コード","陸連ID","1種目","コード","記録","大会名",null,null,"2種目","コード","記録","大会名",null,null,"コード","自己記録3","種目","コード","自己記録4","種目","コード","自己記録5",null,null,null,"A-100",null,null,"種目別人数",null,null,"参加標準記録",null,null,"A-100","A-100",null,null,null,null,null,null,"種目数","男子","女子"]
[null,{"$f":"名簿!P4","v":{"$error":"#N/A"}},null,null,{"$f":"名簿!E4","v":0},{"$f":"名簿!CM4","v":""},{"$f":"名簿!Z4","v":""},{"$f":"名簿!CM4","v":""},{"$f":"名簿!Y4","v":""},{"$f":"名簿!CN4","v":""},{"$f":"名簿!CP4","v":0},{"$f":"名簿!CU4","v":"00"},{"$f":"名簿!Q4","v":{"$error":"#N/A"}},{"$f":"名簿!D4","v":0},null,{"$f":"IF(O7=\"\",\"\",IF(I7=1,VLOOKUP(O7,男子種目コード!$P$1:$Q$26,2,FALSE),IF(I7=2,VLOOKUP(O7,女子種目コード!$P$1:$Q$26,2,FALSE))))","v":""},{"$f":"IF(O7=\"\",\"\",HLOOKUP(O7,名簿!$AH$3:$CH$118,2,FALSE))","v":""},null,{"$f":"IF(O7=\"\",\"\",0)","v":""},{"$f":"IF(O7=\"\",\"\",2)","v":""},null,{"$f":"IF(U7=\"\",\"\",IF(I7=1,VLOOKUP(U7,男子種目コード!$P$1:$Q$26,2,FALSE),IF(I7=2,VLOOKUP(U7,女子種目コード!$P$1:$Q$26,2,FALSE))))","v":""},{"$f":"IF(U7=\"\",\"\",HLOOKUP(U7,名簿!$AH$3:$CH$118,2,FALSE))","v":""},null,{"$f":"IF(U7=\"\",\"\",0)","v":""},{"$f":"IF(U7=\"\",\"\",2)","v":""},{"$f":"IF(X7=\"\",\"\",IF(I7=1,VLOOKUP(X7,男子種目コード!$J$2:$K$30,2,FALSE),IF(I7=2,VLOOKUP(X7,女子種目コード!$J$2:$K$28,2,FALSE))))","v":""},null,null,{"$f":"IF(AC7=\"\",\"\",IF(I7=1,VLOOKUP(AC7,男子種目コード!$J$2:$K$30,2,FALSE),IF(I7=2,VLOOKUP(AC7,女子種目コード!$J$2:$K$28,2,FALSE))))","v":""},null,null,{"$f":"IF(AF7=\"\",\"\",IF(I7=1,VLOOKUP(AF7,男子種目コード!$J$2:$K$30,2,FALSE),IF(I7=2,VLOOKUP(AF7,女子種目コード!$J$2:$K$28,2,FALSE))))","v":""},null,null,null,null,"A-200",{"$f":"IF(O7=\"\",\"\",1)","v":""},{"$f":"IF(U7=\"\",\"\",1)","v":""},"男子",null,null,"男子A(3年）",null,null,"A-200","A-200",null,{"$f":"IF(OR(AM7=1,U7=\"\"),0,1)","v":0},null,null,null,null,{"$f":"COUNT(P7,V7,AA7)","v":0},{"$f":"IF(I7=1,BC7,\"\")","v":""},{"$f":"IF(I7=2,BC7,\"\")","v":""}]
[null,{"$f":"名簿!P5","v":""},null,null,{"$f":"名簿!E5","v":0},{"$f":"名簿!CM5","v":""},{"$f":"名簿!Z5","v":""},{"$f":"名簿!CM5","v":""},{"$f":"名簿!Y5","v":""},{"$f":"名簿!CN5","v":""},{"$f":"名簿!CP5","v":0},{"$f":"名簿!CU5","v":"00"},{"$f":"名簿!Q5","v":""},{"$f":"名簿!D5","v":0},null,{"$f":"IF(O8=\"\",\"\",IF(I8=1,VLOOKUP(O8,男子種目コード!$P$1:$Q$26,2,FALSE),IF(I8=2,VLOOKUP(O8,女子種目コード!$P$1:$Q$26,2,FALSE))))","v":""},{"$f":"IF(O8=\"\",\"\",HLOOKUP(O8,名簿!$AH$3:$CH$118,3,FALSE))","v":""},null,{"$f":"IF(O8=\"\",\"\",0)","v":""},{"$f":"IF(O8=\"\",\"\",2)","v":""},null,{"$f":"IF(U8=\"\",\"\",IF(I8=1,VLOOKUP(U8,男子種目コード!$P$1:$Q$26,2,FALSE),IF(I8=2,VLOOKUP(U8,女子種目コード!$P$1:$Q$26,2,FALSE))))","v":""},{"$f":"IF(U8=\"\",\"\",HLOOKUP(U8,名簿!$AH$3:$CH$118,3,FALSE))","v":""},null,{"$f":"IF(U8=\"\",\"\",0)","v":""},{"$f":"IF(U8=\"\",\"\",2)","v":""},{"$f":"IF(X8=\"\",\"\",IF(I8=1,VLOOKUP(X8,男子種目コード!$J$2:$K$30,2,FALSE),IF(I8=2,VLOOKUP(X8,女子種目コード!$J$2:$K$28,2,FALSE))))","v":""},null,null,{"$f":"IF(AC8=\"\",\"\",IF(I8=1,VLOOKUP(AC8,男子種目コード!$J$2:$K$30,2,FALSE),IF(I8=2,VLOOKUP(AC8,女子種目コード!$J$2:$K$28,2,FALSE))))","v":""},null,null,{"$f":"IF(AF8=\"\",\"\",IF(I8=1,VLOOKUP(AF8,男子種目コード!$J$2:$K$30,2,FALSE),IF(I8=2,VLOOKUP(AF8,女子種目コード!$J$2:$K$28,2,FALSE))))","v":""},null,null,null,null,"A-400",{"$f":"IF(O8=\"\",\"\",1)","v":""},{"$f":"IF(U8=\"\",\"\",1)","v":""},"A-100",{"$f":"COUNTIF($P$7:$P$116,6)+COUNTIF($V$7:$V$116,6)","v":0},null,100,"11.90",null,"A-3000","A-3000",null,0,null,null,null,null,0,"",""]
[null,{"$f":"名簿!P6","v":""},null,null,{"$f":"名簿!E6","v":0},{"$f":"名簿!CM6","v":""},{"$f":"名簿!Z6","v":""},{"$f":"名簿!CM6","v":""},{"$f":"名簿!Y6","v":""},{"$f":"名簿!CN6","v":""},{"$f":"名簿!CP6","v":0},{"$f":"名簿!CU6","v":"00"},{"$f":"名簿!Q6","v":""},{"$f":"名簿!D6","v":0},null,{"$f":"IF(O9=\"\",\"\",IF(I9=1,VLOOKUP(O9,男子種目コード!$P$1:$Q$26,2,FALSE),IF(I9=2,VLOOKUP(O9,女子種目コード!$P$1:$Q$26,2,FALSE))))","v":""},{"$f":"IF(O9=\"\",\"\",HLOOKUP(O9,名簿!$AH$3:$CH$118,4,FALSE))","v":""},null,"","",null,{"$f":"IF(U9=\"\",\"\",IF(I9=1,VLOOKUP(U9,男子種目コード!$P$1:$Q$26,2,FALSE),IF(I9=2,VLOOKUP(U9,女子種目コード!$P$1:$Q$26,2,FALSE))))","v":""},{"$f":"IF(U9=\"\",\"\",HLOOKUP(U9,名簿!$AH$3:$CH$118,4,FALSE))","v":""},null,"","",{"$f":"IF(X9=\"\",\"\",IF(I9=1,VLOOKUP(X9,男子種目コード!$J$2:$K$30,2,FALSE),IF(I9=2,VLOOKUP(X9,女子種目コード!$J$2:$K$28,2,FALSE))))","v":""},null,null,{"$f":"IF(AC9=\"\",\"\",IF(I9=1,VLOOKUP(AC9,男子種目コード!$J$2:$K$30,2,FALSE),IF(I9=2,VLOOKUP(AC9,女子種目コード!$J$2:$K$28,2,FALSE))))","v":""},null,null,{"$f":"IF(AF9=\"\",\"\",IF(I9=1,VLOOKUP(AF9,男子種目コード!$J$2:$K$30,2,FALSE),IF(I9=2,VLOOKUP(AF9,女子種目コード!$J$2:$K$28,2,FALSE))))","v":""},null,null,null,null,"A-800","","","A-200",{"$f":"COUNTIF($P$7:$P$116,7)+COUNTIF($V$7:$V$116,7)","v":0},null,200,"24.10",null,"A-110H","A-100H",null,0,null,null,null,null,0,"",""]
[null,{"$f":"名簿!P7","v":""},null,null,{"$f":"名簿!E7","v":0},{"$f":"名簿!CM7","v":""},{"$f":"名簿!Z7","v":""},{"$f":"名簿!CM7","v":""},{"$f":"名簿!Y7","v":""},{"$f":"名簿!CN7","v":""},{"$f":"名簿!CP7","v":0},{"$f":"名簿!CU7","v":"00"},{"$f":"名簿!Q7","v":""},{"$f":"名簿!D7","v":0},null,{"$f":"IF(O10=\"\",\"\",IF(I10=1,VLOOKUP(O10,男子種目コード!$P$1:$Q$26,2,FALSE),IF(I10=2,VLOOKUP(O10,女子種目コード!$P$1:$Q$26,2,FALSE))))","v":""},{"$f":"IF(O10=\"\",\"\",HLOOKUP(O10,名簿!$AH$3:$CH$118,5,FALSE))","v":""},null,"","",null,{"$f":"IF(U10=\"\",\"\",IF(I10=1,VLOOKUP(U10,男子種目コード!$P$1:$Q$26,2,FALSE),IF(I10=2,VLOOKUP(U10,女子種目コード!$P$1:$Q$26,2,FALSE))))","v":""},{"$f":"IF(U10=\"\",\"\",HLOOKUP(U10,名簿!$AH$3:$CH$118,5,FALSE))","v":""},null,"","",{"$f":"IF(X10=\"\",\"\",IF(I10=1,VLOOKUP(X10,男子種目コード!$J$2:$K$30,2,FALSE),IF(I10=2,VLOOKUP(X10,女子種目コード!$J$2:$K$28,2,FALSE))))","v":""},null,null,{"$f":"IF(AC10=\"\",\"\",IF(I10=1,VLOOKUP(AC10,男子種目コード!$J$2:$K$30,2,FALSE),IF(I10=2,VLOOKUP(AC10,女子種目コード!$J$2:$K$28,2,FALSE))))","v":""},null,null,{"$f":"IF(AF10=\"\",\"\",IF(I10=1,VLOOKUP(AF10,男子種目コード!$J$2:$K$30,2,FALSE),IF(I10=2,VLOOKUP(AF10,女子種目コード!$J$2:$K$28,2,FALSE))))","v":""},null,null,null,null,"A-3000","","","A-3000",{"$f":"COUNTIF($P$7:$P$116,10)+COUNTIF($V$7:$V$116,10)","v":0},null,3000,"9.50.00",null,"A-走高跳","A-走高跳",null,0,null,null,null,null,0,"",""]
[null,{"$f":"名簿!P8","v":""},null,null,{"$f":"名簿!E8","v":0},{"$f":"名簿!CM8","v":""},{"$f":"名簿!Z8","v":""},{"$f":"名簿!CM8","v":""},{"$f":"名簿!Y8","v":""},{"$f":"名簿!CN8","v":""},{"$f":"名簿!CP8","v":0},{"$f":"名簿!CU8","v":"00"},{"$f":"名簿!Q8","v":""},{"$f":"名簿!D8","v":0},null,{"$f":"IF(O11=\"\",\"\",IF(I11=1,VLOOKUP(O11,男子種目コード!$P$1:$Q$26,2,FALSE),IF(I11=2,VLOOKUP(O11,女子種目コード!$P$1:$Q$26,2,FALSE))))","v":""},{"$f":"IF(O11=\"\",\"\",HLOOKUP(O11,名簿!$AH$3:$CH$118,6,FALSE))","v":""},null,"","",null,{"$f":"IF(U11=\"\",\"\",IF(I11=1,VLOOKUP(U11,男子種目コード!$P$1:$Q$26,2,FALSE),IF(I11=2,VLOOKUP(U11,女子種目コード!$P$1:$Q$26,2,FALSE))))","v":""},{"$f":"IF(U11=\"\",\"\",HLOOKUP(U11,名簿!$AH$3:$CH$118,6,FALSE))","v":""},null,"","",{"$f":"IF(X11=\"\",\"\",IF(I11=1,VLOOKUP(X11,男子種目コード!$J$2:$K$30,2,FALSE),IF(I11=2,VLOOKUP(X11,女子種目コード!$J$2:$K$28,2,FALSE))))","v":""},null,null,{"$f":"IF(AC11=\"\",\"\",IF(I11=1,VLOOKUP(AC11,男子種目コード!$J$2:$K$30,2,FALSE),IF(I11=2,VLOOKUP(AC11,女子種目コード!$J$2:$K$28,2,FALSE))))","v":""},null,null,{"$f":"IF(AF11=\"\",\"\",IF(I11=1,VLOOKUP(AF11,男子種目コード!$J$2:$K$30,2,FALSE),IF(I11=2,VLOOKUP(AF11,女子種目コード!$J$2:$K$28,2,FALSE))))","v":""},null,null,null,null,"A-100H","","","A-110H",{"$f":"COUNTIF($P$7:$P$116,11)+COUNTIF($V$7:$V$116,11)","v":0},null,"110JH","18.00",null,"A-砲丸投","A-砲丸投",null,0,null,null,null,null,0,"",""]
[null,{"$f":"名簿!P9","v":""},null,null,{"$f":"名簿!E9","v":0},{"$f":"名簿!CM9","v":""},{"$f":"名簿!Z9","v":""},{"$f":"名簿!CM9","v":""},{"$f":"名簿!Y9","v":""},{"$f":"名簿!CN9","v":""},{"$f":"名簿!CP9","v":0},{"$f":"名簿!CU9","v":"00"},{"$f":"名簿!Q9","v":""},{"$f":"名簿!D9","v":0},null,{"$f":"IF(O12=\"\",\"\",IF(I12=1,VLOOKUP(O12,男子種目コード!$P$1:$Q$26,2,FALSE),IF(I12=2,VLOOKUP(O12,女子種目コード!$P$1:$Q$26,2,FALSE))))","v":""},{"$f":"IF(O12=\"\",\"\",HLOOKUP(O12,名簿!$AH$3:$CH$118,7,FALSE))","v":""},null,"","",null,{"$f":"IF(U12=\"\",\"\",IF(I12=1,VLOOKUP(U12,男子種目コード!$P$1:$Q$26,2,FALSE),IF(I12=2,VLOOKUP(U12,女子種目コード!$P$1:$Q$26,2,FALSE))))","v":""},{"$f":"IF(U12=\"\",\"\",HLOOKUP(U12,名簿!$AH$3:$CH$118,7,FALSE))","v":""},null,"","",{"$f":"IF(X12=\"\",\"\",IF(I12=1,VLOOKUP(X12,男子種目コード!$J$2:$K$30,2,FALSE),IF(I12=2,VLOOKUP(X12,女子種目コード!$J$2:$K$28,2,FALSE))))","v":""},null,null,{"$f":"IF(AC12=\"\",\"\",IF(I12=1,VLOOKUP(AC12,男子種目コード!$J$2:$K$30,2,FALSE),IF(I12=2,VLOOKUP(AC12,女子種目コード!$J$2:$K$28,2,FALSE))))","v":""},null,null,{"$f":"IF(AF12=\"\",\"\",IF(I12=1,VLOOKUP(AF12,男子種目コード!$J$2:$K$30,2,FALSE),IF(I12=2,VLOOKUP(AF12,女子種目コード!$J$2:$K$28,2,FALSE))))","v":""},null,null,null,null,"A-110H","","","A-走高跳",{"$f":"COUNTIF($P$7:$P$116,12)+COUNTIF($V$7:$V$116,12)","v":0},null,"走高跳","1m60",null,"AB円盤投","AB円盤投",null,0,null,null,null,null,0,"",""]
[null,{"$f":"名簿!P10","v":""},null,null,{"$f":"名簿!E10","v":0},{"$f":"名簿!CM10","v":""},{"$f":"名簿!Z10","v":""},{"$f":"名簿!CM10","v":""},{"$f":"名簿!Y10","v":""},{"$f":"名簿!CN10","v":""},{"$f":"名簿!CP10","v":0},{"$f":"名簿!CU10","v":"00"},{"$f":"名簿!Q10","v":""},{"$f":"名簿!D10","v":0},null,{"$f":"IF(O13=\"\",\"\",IF(I13=1,VLOOKUP(O13,男子種目コード!$P$1:$Q$26,2,FALSE),IF(I13=2,VLOOKUP(O13,女子種目コード!$P$1:$Q$26,2,FALSE))))","v":""},{"$f":"IF(O13=\"\",\"\",HLOOKUP(O13,名簿!$AH$3:$CH$118,8,FALSE))","v":""},null,"","",null,{"$f":"IF(U13=\"\",\"\",IF(I13=1,VLOOKUP(U13,男子種目コード!$P$1:$Q$26,2,FALSE),IF(I13=2,VLOOKUP(U13,女子種目コード!$P$1:$Q$26,2,FALSE))))","v":""},{"$f":"IF(U13=\"\",\"\",HLOOKUP(U13,名簿!$AH$3:$CH$118,8,FALSE))","v":""},null,"","",{"$f":"IF(X13=\"\",\"\",IF(I13=1,VLOOKUP(X13,男子種目コード!$J$2:$K$30,2,FALSE),IF(I13=2,VLOOKUP(X13,女子種目コード!$J$2:$K$28,2,FALSE))))","v":""},null,null,{"$f":"IF(AC13=\"\",\"\",IF(I13=1,VLOOKUP(AC13,男子種目コード!$J$2:$K$30,2,FALSE),IF(I13=2,VLOOKUP(AC13,女子種目コード!$J$2:$K$28,2,FALSE))))","v":""},null,null,{"$f":"IF(AF13=\"\",\"\",IF(I13=1,VLOOKUP(AF13,男子種目コード!$J$2:$K$30,2,FALSE),IF(I13=2,VLOOKUP(AF13,女子種目コード!$J$2:$K$28,2,FALSE))))","v":""},null,null,null,null,"A-走高跳","","","A-砲丸投",{"$f":"COUNTIF($P$7:$P$116,13)+COUNTIF($V$7:$V$116,13)","v":0},null,"砲丸投","10m00",null,"ABCｼﾞｬﾍﾞﾘｯｸ","ABCｼﾞｬﾍﾞﾘｯｸ",null,0,null,null,null,null,0,"",""]
[null,{"$f":"名簿!P11","v":""},null,null,{"$f":"名簿!E11","v":0},{"$f":"名簿!CM11","v":""},{"$f":"名簿!Z11","v":""},{"$f":"名簿!CM11","v":""},{"$f":"名簿!Y11","v":""},{"$f":"名簿!CN11","v":""},{"$f":"名簿!CP11","v":0},{"$f":"名簿!CU11","v":"00"},{"$f":"名簿!Q11","v":""},{"$f":"名簿!D11","v":0},null,{"$f":"IF(O14=\"\",\"\",IF(I14=1,VLOOKUP(O14,男子種目コード!$P$1:$Q$26,2,FALSE),IF(I14=2,VLOOKUP(O14,女子種目コード!$P$1:$Q$26,2,FALSE))))","v":""},{"$f":"IF(O14=\"\",\"\",HLOOKUP(O14,名簿!$AH$3:$CH$118,9,FALSE))","v":""},null,"","",null,{"$f":"IF(U14=\"\",\"\",IF(I14=1,VLOOKUP(U14,男子種目コード!$P$1:$Q$26,2,FALSE),IF(I14=2,VLOOKUP(U14,女子種目コード!$P$1:$Q$26,2,FALSE))))","v":""},{"$f":"IF(U14=\"\",\"\",HLOOKUP(U14,名簿!$AH$3:$CH$118,9,FALSE))","v":""},null,"","",{"$f":"IF(X14=\"\",\"\",IF(I14=1,VLOOKUP(X14,男子種目コード!$J$2:$K$30,2,FALSE),IF(I14=2,VLOOKUP(X14,女子種目コード!$J$2:$K$28,2,FALSE))))","v":""},null,null,{"$f":"IF(AC14=\"\",\"\",IF(I14=1,VLOOKUP(AC14,男子種目コード!$J$2:$K$30,2,FALSE),IF(I14=2,VLOOKUP(AC14,女子種目コード!$J$2:$K$28,2,FALSE))))","v":""},null,null,{"$f":"IF(AF14=\"\",\"\",IF(I14=1,VLOOKUP(AF14,男子種目コード!$J$2:$K$30,2,FALSE),IF(I14=2,VLOOKUP(AF14,女子種目コード!$J$2:$K$28,2,FALSE))))","v":""},null,null,null,null,"A-砲丸投","","","B－100",{"$f":"COUNTIF($P$7:$P$116,14)+COUNTIF($V$7:$V$116,14)","v":0},null,"円盤投","29m00",null,"B-100","B-100",null,0,null,null,null,null,0,"",""]
[null,{"$f":"名簿!P12","v":""},null,null,{"$f":"名簿!E12","v":0},{"$f":"名簿!CM12","v":""},{"$f":"名簿!Z12","v":""},{"$f":"名簿!CM12","v":""},{"$f":"名簿!Y12","v":""},{"$f":"名簿!CN12","v":""},{"$f":"名簿!CP12","v":0},{"$f":"名簿!CU12","v":"00"},{"$f":"名簿!Q12","v":""},{"$f":"名簿!D12","v":0},null,{"$f":"IF(O15=\"\",\"\",IF(I15=1,VLOOKUP(O15,男子種目コード!$P$1:$Q$26,2,FALSE),IF(I15=2,VLOOKUP(O15,女子種目コード!$P$1:$Q$26,2,FALSE))))","v":""},{"$f":"IF(O15=\"\",\"\",HLOOKUP(O15,名簿!$AH$3:$CH$118,10,FALSE))","v":""},null,"","",null,{"$f":"IF(U15=\"\",\"\",IF(I15=1,VLOOKUP(U15,男子種目コード!$P$1:$Q$26,2,FALSE),IF(I15=2,VLOOKUP(U15,女子種目コード!$P$1:$Q$26,2,FALSE))))","v":""},{"$f":"IF(U15=\"\",\"\",HLOOKUP(U15,名簿!$AH$3:$CH$118,10,FALSE))","v":""},null,"","",{"$f":"IF(X15=\"\",\"\",IF(I15=1,VLOOKUP(X15,男子種目コード!$J$2:$K$30,2,FALSE),IF(I15=2,VLOOKUP(X15,女子種目コード!$J$2:$K$28,2,FALSE))))","v":""},null,null,{"$f":"IF(AC15=\"\",\"\",IF(I15=1,VLOOKUP(AC15,男子種目コード!$J$2:$K$30,2,FALSE),IF(I15=2,VLOOKUP(AC15,女子種目コード!$J$2:$K$28,2,FALSE))))","v":""},null,null,{"$f":"IF(AF15=\"\",\"\",IF(I15=1,VLOOKUP(AF15,男子種目コード!$J$2:$K$30,2,FALSE),IF(I15=2,VLOOKUP(AF15,女子種目コード!$J$2:$K$28,2,FALSE))))","v":""},null,null,null,null,"B-100","","","B-1500",{"$f":"COUNTIF($P$7:$P$116,15)+COUNTIF($V$7:$V$116,15)","v":0},null,"ｼﾞｬﾍﾞﾘｯｸ","40m00",null,"B-1500","B-1500",null,0,null,null,null,null,0,"",""]
[null,{"$f":"名簿!P13","v":""},null,null,{"$f":"名簿!E13","v":0},{"$f":"名簿!CM13","v":""},{"$f":"名簿!Z13","v":""},{"$f":"名簿!CM13","v":""},{"$f":"名簿!Y13","v":""},{"$f":"名簿!CN13","v":""},{"$f":"名簿!CP13","v":0},{"$f":"名簿!CU13","v":"00"},{"$f":"名簿!Q13","v":""},{"$f":"名簿!D13","v":0},null,{"$f":"IF(O16=\"\",\"\",IF(I16=1,VLOOKUP(O16,男子種目コード!$P$1:$Q$26,2,FALSE),IF(I16=2,VLOOKUP(O16,女子種目コード!$P$1:$Q$26,2,FALSE))))","v":""},{"$f":"IF(O16=\"\",\"\",HLOOKUP(O16,名簿!$AH$3:$CH$118,11,FALSE))","v":""},null,"","",null,{"$f":"IF(U16=\"\",\"\",IF(I16=1,VLOOKUP(U16,男子種目コード!$P$1:$Q$26,2,FALSE),IF(I16=2,VLOOKUP(U16,女子種目コード!$P$1:$Q$26,2,FALSE))))","v":""},{"$f":"IF(U16=\"\",\"\",HLOOKUP(U16,名簿!$AH$3:$CH$118,11,FALSE))","v":""},null,"","",{"$f":"IF(X16=\"\",\"\",IF(I16=1,VLOOKUP(X16,男子種目コード!$J$2:$K$30,2,FALSE),IF(I16=2,VLOOKUP(X16,女子種目コード!$J$2:$K$28,2,FALSE))))","v":""},null,null,{"$f":"IF(AC16=\"\",\"\",IF(I16=1,VLOOKUP(AC16,男子種目コード!$J$2:$K$30,2,FALSE),IF(I16=2,VLOOKUP(AC16,女子種目コード!$J$2:$K$28,2,FALSE))))","v":""},null,null,{"$f":"IF(AF16=\"\",\"\",IF(I16=1,VLOOKUP(AF16,男子種目コード!$J$2:$K$30,2,FALSE),IF(I16=2,VLOOKUP(AF16,女子種目コード!$J$2:$K$28,2,FALSE))))","v":""},null,null,null,null,"B-1500","","","B-110H",{"$f":"COUNTIF($P$7:$P$116,16)+COUNTIF($V$7:$V$116,16)","v":0},null,"男子B(2年）",null,null,"B-110H","B-100H",null,0,null,null,null,null,0,"",""]
[null,{"$f":"名簿!P14","v":""},null,null,{"$f":"名簿!E14","v":0},{"$f":"名簿!CM14","v":""},{"$f":"名簿!Z14","v":""},{"$f":"名簿!CM14","v":""},{"$f":"名簿!Y14","v":""},{"$f":"名簿!CN14","v":""},{"$f":"名簿!CP14","v":0},{"$f":"名簿!CU14","v":"00"},{"$f":"名簿!Q14","v":""},{"$f":"名簿!D14","v":0},null,{"$f":"IF(O17=\"\",\"\",IF(I17=1,VLOOKUP(O17,男子種目コード!$P$1:$Q$26,2,FALSE),IF(I17=2,VLOOKUP(O17,女子種目コード!$P$1:$Q$26,2,FALSE))))","v":""},{"$f":"IF(O17=\"\",\"\",HLOOKUP(O17,名簿!$AH$3:$CH$118,12,FALSE))","v":""},null,"","",null,{"$f":"IF(U17=\"\",\"\",IF(I17=1,VLOOKUP(U17,男子種目コード!$P$1:$Q$26,2,FALSE),IF(I17=2,VLOOKUP(U17,女子種目コード!$P$1:$Q$26,2,FALSE))))","v":""},{"$f":"IF(U17=\"\",\"\",HLOOKUP(U17,名簿!$AH$3:$CH$118,12,FALSE))","v":""},null,"","",{"$f":"IF(X17=\"\",\"\",IF(I17=1,VLOOKUP(X17,男子種目コード!$J$2:$K$30,2,FALSE),IF(I17=2,VLOOKUP(X17,女子種目コード!$J$2:$K$28,2,FALSE))))","v":""},null,null,{"$f":"IF(AC17=\"\",\"\",IF(I17=1,VLOOKUP(AC17,男子種目コード!$J$2:$K$30,2,FALSE),IF(I17=2,VLOOKUP(AC17,女子種目コード!$J$2:$K$28,2,FALSE))))","v":""},null,null,{"$f":"IF(AF17=\"\",\"\",IF(I17=1,VLOOKUP(AF17,男子種目コード!$J$2:$K$30,2,FALSE),IF(I17=2,VLOOKUP(AF17,女子種目コード!$J$2:$K$28,2,FALSE))))","v":""},null,null,null,null,"B-100H","","","B-走幅跳",{"$f":"COUNTIF($P$7:$P$116,17)+COUNTIF($V$7:$V$116,17)","v":0},null,100,"12.30",null,"B-走幅跳","B-走幅跳",null,0,null,null,null,null,0,"",""]
[null,{"$f":"名簿!P15","v":""},null,null,{"$f":"名簿!E15","v":0},{"$f":"名簿!CM15","v":""},{"$f":"名簿!Z15","v":""},{"$f":"名簿!CM15","v":""},{"$f":"名簿!Y15","v":""},{"$f":"名簿!CN15","v":""},{"$f":"名簿!CP15","v":0},{"$f":"名簿!CU15","v":"00"},{"$f":"名簿!Q15","v":""},{"$f":"名簿!D15","v":0},null,{"$f":"IF(O18=\"\",\"\",IF(I18=1,VLOOKUP(O18,男子種目コード!$P$1:$Q$26,2,FALSE),IF(I18=2,VLOOKUP(O18,女子種目コード!$P$1:$Q$26,2,FALSE))))","v":""},{"$f":"IF(O18=\"\",\"\",HLOOKUP(O18,名簿!$AH$3:$CH$118,13,FALSE))","v":""},null,"","",null,{"$f":"IF(U18=\"\",\"\",IF(I18=1,VLOOKUP(U18,男子種目コード!$P$1:$Q$26,2,FALSE),IF(I18=2,VLOOKUP(U18,女子種目コード!$P$1:$Q$26,2,FALSE))))","v":""},{"$f":"IF(U18=\"\",\"\",HLOOKUP(U18,名簿!$AH$3:$CH$118,13,FALSE))","v":""},null,"","",{"$f":"IF(X18=\"\",\"\",IF(I18=1,VLOOKUP(X18,男子種目コード!$J$2:$K$30,2,FALSE),IF(I18=2,VLOOKUP(X18,女子種目コード!$J$2:$K$28,2,FALSE))))","v":""},null,null,{"$f":"IF(AC18=\"\",\"\",IF(I18=1,VLOOKUP(AC18,男子種目コード!$J$2:$K$30,2,FALSE),IF(I18=2,VLOOKUP(AC18,女子種目コード!$J$2:$K$28,2,FALSE))))","v":""},null,null,{"$f":"IF(AF18=\"\",\"\",IF(I18=1,VLOOKUP(AF18,男子種目コード!$J$2:$K$30,2,FALSE),IF(I18=2,VLOOKUP(AF18,女子種目コード!$J$2:$K$28,2,FALSE))))","v":""},null,null,null,null,"B-110H","","","B-砲丸投",{"$f":"COUNTIF($P$7:$P$116,25)+COUNTIF($V$7:$V$116,25)","v":0},null,1500,"4.45.00",null,"B-砲丸投","B-砲丸投",null,0,null,null,null,null,0,"",""]
[null,{"$f":"名簿!P16","v":""},null,null,{"$f":"名簿!E16","v":0},{"$f":"名簿!CM16","v":""},{"$f":"名簿!Z16","v":""},{"$f":"名簿!CM16","v":""},{"$f":"名簿!Y16","v":""},{"$f":"名簿!CN16","v":""},{"$f":"名簿!CP16","v":0},{"$f":"名簿!CU16","v":"00"},{"$f":"名簿!Q16","v":""},{"$f":"名簿!D16","v":0},null,{"$f":"IF(O19=\"\",\"\",IF(I19=1,VLOOKUP(O19,男子種目コード!$P$1:$Q$26,2,FALSE),IF(I19=2,VLOOKUP(O19,女子種目コード!$P$1:$Q$26,2,FALSE))))","v":""},{"$f":"IF(O19=\"\",\"\",HLOOKUP(O19,名簿!$AH$3:$CH$118,14,FALSE))","v":""},null,"","",null,{"$f":"IF(U19=\"\",\"\",IF(I19=1,VLOOKUP(U19,男子種目コード!$P$1:$Q$26,2,FALSE),IF(I19=2,VLOOKUP(U19,女子種目コード!$P$1:$Q$26,2,FALSE))))","v":""},{"$f":"IF(U19=\"\",\"\",HLOOKUP(U19,名簿!$AH$3:$CH$118,14,FALSE))","v":""},null,"","",{"$f":"IF(X19=\"\",\"\",IF(I19=1,VLOOKUP(X19,男子種目コード!$J$2:$K$30,2,FALSE),IF(I19=2,VLOOKUP(X19,女子種目コード!$J$2:$K$28,2,FALSE))))","v":""},null,null,{"$f":"IF(AC19=\"\",\"\",IF(I19=1,VLOOKUP(AC19,男子種目コード!$J$2:$K$30,2,FALSE),IF(I19=2,VLOOKUP(AC19,女子種目コード!$J$2:$K$28,2,FALSE))))","v":""},null,null,{"$f":"IF(AF19=\"\",\"\",IF(I19=1,VLOOKUP(AF19,男子種目コード!$J$2:$K$30,2,FALSE),IF(I19=2,VLOOKUP(AF19,女子種目コード!$J$2:$K$28,2,FALSE))))","v":""},null,null,null,null,"B-走高跳","","","C-100",{"$f":"COUNTIF($P$7:$P$116,18)+COUNTIF($V$7:$V$116,18)","v":0},null,"110JH","20.50",null,"AB円盤投","AB円盤投",null,0,null,null,null,null,0,"",""]
[null,{"$f":"名簿!P17","v":""},null,null,{"$f":"名簿!E17","v":0},{"$f":"名簿!CM17","v":""},{"$f":"名簿!Z17","v":""},{"$f":"名簿!CM17","v":""},{"$f":"名簿!Y17","v":""},{"$f":"名簿!CN17","v":""},{"$f":"名簿!CP17","v":0},{"$f":"名簿!CU17","v":"00"},{"$f":"名簿!Q17","v":""},{"$f":"名簿!D17","v":0},null,{"$f":"IF(O20=\"\",\"\",IF(I20=1,VLOOKUP(O20,男子種目コード!$P$1:$Q$26,2,FALSE),IF(I20=2,VLOOKUP(O20,女子種目コード!$P$1:$Q$26,2,FALSE))))","v":""},{"$f":"IF(O20=\"\",\"\",HLOOKUP(O20,名簿!$AH$3:$CH$118,15,FALSE))","v":""},null,"","",null,{"$f":"IF(U20=\"\",\"\",IF(I20=1,VLOOKUP(U20,男子種目コード!$P$1:$Q$26,2,FALSE),IF(I20=2,VLOOKUP(U20,女子種目コード!$P$1:$Q$26,2,FALSE))))","v":""},{"$f":"IF(U20=\"\",\"\",HLOOKUP(U20,名簿!$AH$3:$CH$118,15,FALSE))","v":""},null,"","",{"$f":"IF(X20=\"\",\"\",IF(I20=1,VLOOKUP(X20,男子種目コード!$J$2:$K$30,2,FALSE),IF(I20=2,VLOOKUP(X20,女子種目コード!$J$2:$K$28,2,FALSE))))","v":""},null,null,{"$f":"IF(AC20=\"\",\"\",IF(I20=1,VLOOKUP(AC20,男子種目コード!$J$2:$K$30,2,FALSE),IF(I20=2,VLOOKUP(AC20,女子種目コード!$J$2:$K$28,2,FALSE))))","v":""},null,null,{"$f":"IF(AF20=\"\",\"\",IF(I20=1,VLOOKUP(AF20,男子種目コード!$J$2:$K$30,2,FALSE),IF(I20=2,VLOOKUP(AF20,女子種目コード!$J$2:$K$28,2,FALSE))))","v":""},null,null,null,null,"B-走幅跳","","","C-1500",{"$f":"COUNTIF($P$7:$P$116,24)+COUNTIF($V$7:$V$116,24)","v":0},null,"走幅跳","5m20",null,"ABCｼﾞｬﾍﾞﾘｯｸ","ABCｼﾞｬﾍﾞﾘｯｸ",null,0,null,null,null,null,0,"",""]
[null,{"$f":"名簿!P18","v":""},null,null,{"$f":"名簿!E18","v":0},{"$f":"名簿!CM18","v":""},{"$f":"名簿!Z18","v":""},{"$f":"名簿!CM18","v":""},{"$f":"名簿!Y18","v":""},{"$f":"名簿!CN18","v":""},{"$f":"名簿!CP18","v":0},{"$f":"名簿!CU18","v":"00"},{"$f":"名簿!Q18","v":""},{"$f":"名簿!D18","v":0},null,{"$f":"IF(O21=\"\",\"\",IF(I21=1,VLOOKUP(O21,男子種目コード!$P$1:$Q$26,2,FALSE),IF(I21=2,VLOOKUP(O21,女子種目コード!$P$1:$Q$26,2,FALSE))))","v":""},{"$f":"IF(O21=\"\",\"\",HLOOKUP(O21,名簿!$AH$3:$CH$118,16,FALSE))","v":""},null,"","",null,{"$f":"IF(U21=\"\",\"\",IF(I21=1,VLOOKUP(U21,男子種目コード!$P$1:$Q$26,2,FALSE),IF(I21=2,VLOOKUP(U21,女子種目コード!$P$1:$Q$26,2,FALSE))))","v":""},{"$f":"IF(U21=\"\",\"\",HLOOKUP(U21,名簿!$AH$3:$CH$118,16,FALSE))","v":""},null,"","",{"$f":"IF(X21=\"\",\"\",IF(I21=1,VLOOKUP(X21,男子種目コード!$J$2:$K$30,2,FALSE),IF(I21=2,VLOOKUP(X21,女子種目コード!$J$2:$K$28,2,FALSE))))","v":""},null,null,{"$f":"IF(AC21=\"\",\"\",IF(I21=1,VLOOKUP(AC21,男子種目コード!$J$2:$K$30,2,FALSE),IF(I21=2,VLOOKUP(AC21,女子種目コード!$J$2:$K$28,2,FALSE))))","v":""},null,null,{"$f":"IF(AF21=\"\",\"\",IF(I21=1,VLOOKUP(AF21,男子種目コード!$J$2:$K$30,2,FALSE),IF(I21=2,VLOOKUP(AF21,女子種目コード!$J$2:$K$28,2,FALSE))))","v":""},null,null,null,null,"B-砲丸投","","","C-走幅跳",{"$f":"COUNTIF($P$7:$P$116,20)+COUNTIF($V$7:$V$116,20)","v":0},null,"砲丸投","5k  8m50",null,"C-100","C-100",null,0,null,null,null,null,0,"",""]
[null,{"$f":"名簿!P19","v":""},null,null,{"$f":"名簿!E19","v":0},{"$f":"名簿!CM19","v":""},{"$f":"名簿!Z19","v":""},{"$f":"名簿!CM19","v":""},{"$f":"名簿!Y19","v":""},{"$f":"名簿!CN19","v":""},{"$f":"名簿!CP19","v":0},{"$f":"名簿!CU19","v":"00"},{"$f":"名簿!Q19","v":""},{"$f":"名簿!D19","v":0},null,{"$f":"IF(O22=\"\",\"\",IF(I22=1,VLOOKUP(O22,男子種目コード!$P$1:$Q$26,2,FALSE),IF(I22=2,VLOOKUP(O22,女子種目コード!$P$1:$Q$26,2,FALSE))))","v":""},{"$f":"IF(O22=\"\",\"\",HLOOKUP(O22,名簿!$AH$3:$CH$118,17,FALSE))","v":""},null,"","",null,{"$f":"IF(U22=\"\",\"\",IF(I22=1,VLOOKUP(U22,男子種目コード!$P$1:$Q$26,2,FALSE),IF(I22=2,VLOOKUP(U22,女子種目コード!$P$1:$Q$26,2,FALSE))))","v":""},{"$f":"IF(U22=\"\",\"\",HLOOKUP(U22,名簿!$AH$3:$CH$118,17,FALSE))","v":""},null,"","",{"$f":"IF(X22=\"\",\"\",IF(I22=1,VLOOKUP(X22,男子種目コード!$J$2:$K$30,2,FALSE),IF(I22=2,VLOOKUP(X22,女子種目コード!$J$2:$K$28,2,FALSE))))","v":""},null,null,{"$f":"IF(AC22=\"\",\"\",IF(I22=1,VLOOKUP(AC22,男子種目コード!$J$2:$K$30,2,FALSE),IF(I22=2,VLOOKUP(AC22,女子種目コード!$J$2:$K$28,2,FALSE))))","v":""},null,null,{"$f":"IF(AF22=\"\",\"\",IF(I22=1,VLOOKUP(AF22,男子種目コード!$J$2:$K$30,2,FALSE),IF(I22=2,VLOOKUP(AF22,女子種目コード!$J$2:$K$28,2,FALSE))))","v":""},null,null,null,null,"C-100","","","AB円盤投",{"$f":"COUNTIF($P$7:$P$116,22)+COUNTIF($V$7:$V$116,22)","v":0},null,null,"4k 10m50",null,"C-1500","C-800",null,0,null,null,null,null,0,"",""]
[null,{"$f":"名簿!P20","v":""},null,null,{"$f":"名簿!E20","v":0},{"$f":"名簿!CM20","v":""},{"$f":"名簿!Z20","v":""},{"$f":"名簿!CM20","v":""},{"$f":"名簿!Y20","v":""},{"$f":"名簿!CN20","v":""},{"$f":"名簿!CP20","v":0},{"$f":"名簿!CU20","v":"00"},{"$f":"名簿!Q20","v":""},{"$f":"名簿!D20","v":0},null,{"$f":"IF(O23=\"\",\"\",IF(I23=1,VLOOKUP(O23,男子種目コード!$P$1:$Q$26,2,FALSE),IF(I23=2,VLOOKUP(O23,女子種目コード!$P$1:$Q$26,2,FALSE))))","v":""},{"$f":"IF(O23=\"\",\"\",HLOOKUP(O23,名簿!$AH$3:$CH$118,18,FALSE))","v":""},null,"","",null,{"$f":"IF(U23=\"\",\"\",IF(I23=1,VLOOKUP(U23,男子種目コード!$P$1:$Q$26,2,FALSE),IF(I23=2,VLOOKUP(U23,女子種目コード!$P$1:$Q$26,2,FALSE))))","v":""},{"$f":"IF(U23=\"\",\"\",HLOOKUP(U23,名簿!$AH$3:$CH$118,18,FALSE))","v":""},null,"","",{"$f":"IF(X23=\"\",\"\",IF(I23=1,VLOOKUP(X23,男子種目コード!$J$2:$K$30,2,FALSE),IF(I23=2,VLOOKUP(X23,女子種目コード!$J$2:$K$28,2,FALSE))))","v":""},null,null,{"$f":"IF(AC23=\"\",\"\",IF(I23=1,VLOOKUP(AC23,男子種目コード!$J$2:$K$30,2,FALSE),IF(I23=2,VLOOKUP(AC23,女子種目コード!$J$2:$K$28,2,FALSE))))","v":""},null,null,{"$f":"IF(AF23=\"\",\"\",IF(I23=1,VLOOKUP(AF23,男子種目コード!$J$2:$K$30,2,FALSE),IF(I23=2,VLOOKUP(AF23,女子種目コード!$J$2:$K$28,2,FALSE))))","v":""},null,null,null,null,"C-100H","","","ABCｼﾞｬﾍﾞﾘｯｸ",{"$f":"COUNTIF($P$7:$P$116,23)+COUNTIF($V$7:$V$116,23)","v":0},null,"円盤投","29m00",null,"C-走幅跳","C-走幅跳",null,0,null,null,null,null,0,"",""]
[null,{"$f":"名簿!P21","v":""},null,null,{"$f":"名簿!E21","v":0},{"$f":"名簿!CM21","v":""},{"$f":"名簿!Z21","v":""},{"$f":"名簿!CM21","v":""},{"$f":"名簿!Y21","v":""},{"$f":"名簿!CN21","v":""},{"$f":"名簿!CP21","v":0},{"$f":"名簿!CU21","v":"00"},{"$f":"名簿!Q21","v":""},{"$f":"名簿!D21","v":0},null,{"$f":"IF(O24=\"\",\"\",IF(I24=1,VLOOKUP(O24,男子種目コード!$P$1:$Q$26,2,FALSE),IF(I24=2,VLOOKUP(O24,女子種目コード!$P$1:$Q$26,2,FALSE))))","v":""},{"$f":"IF(O24=\"\",\"\",HLOOKUP(O24,名簿!$AH$3:$CH$118,19,FALSE))","v":""},null,"","",null,{"$f":"IF(U24=\"\",\"\",IF(I24=1,VLOOKUP(U24,男子種目コード!$P$1:$Q$26,2,FALSE),IF(I24=2,VLOOKUP(U24,女子種目コード!$P$1:$Q$26,2,FALSE))))","v":""},{"$f":"IF(U24=\"\",\"\",HLOOKUP(U24,名簿!$AH$3:$CH$118,19,FALSE))","v":""},null,"","",{"$f":"IF(X24=\"\",\"\",IF(I24=1,VLOOKUP(X24,男子種目コード!$J$2:$K$30,2,FALSE),IF(I24=2,VLOOKUP(X24,女子種目コード!$J$2:$K$28,2,FALSE))))","v":""},null,null,{"$f":"IF(AC24=\"\",\"\",IF(I24=1,VLOOKUP(AC24,男子種目コード!$J$2:$K$30,2,FALSE),IF(I24=2,VLOOKUP(AC24,女子種目コード!$J$2:$K$28,2,FALSE))))","v":""},null,null,{"$f":"IF(AF24=\"\",\"\",IF(I24=1,VLOOKUP(AF24,男子種目コード!$J$2:$K$30,2,FALSE),IF(I24=2,VLOOKUP(AF24,女子種目コード!$J$2:$K$28,2,FALSE))))","v":""},null,null,null,null,"C-走幅跳","","","計",{"$f":"SUM(AP8:AP23)","v":0},null,"ｼﾞｬﾍﾞﾘｯｸ","40m00",null,"ABCｼﾞｬﾍﾞﾘｯｸ","ABCｼﾞｬﾍﾞﾘｯｸ",null,0,null,null,null,null,0,"",""]
[null,{"$f":"名簿!P22","v":""},null,null,{"$f":"名簿!E22","v":0},{"$f":"名簿!CM22","v":""},{"$f":"名簿!Z22","v":""},{"$f":"名簿!CM22","v":""},{"$f":"名簿!Y22","v":""},{"$f":"名簿!CN22","v":""},{"$f":"名簿!CP22","v":0},{"$f":"名簿!CU22","v":"00"},{"$f":"名簿!Q22","v":""},{"$f":"名簿!D22","v":0},null,{"$f":"IF(O25=\"\",\"\",IF(I25=1,VLOOKUP(O25,男子種目コード!$P$1:$Q$26,2,FALSE),IF(I25=2,VLOOKUP(O25,女子種目コード!$P$1:$Q$26,2,FALSE))))","v":""},{"$f":"IF(O25=\"\",\"\",HLOOKUP(O25,名簿!$AH$3:$CH$118,20,FALSE))","v":""},null,"","",null,{"$f":"IF(U25=\"\",\"\",IF(I25=1,VLOOKUP(U25,男子種目コード!$P$1:$Q$26,2,FALSE),IF(I25=2,VLOOKUP(U25,女子種目コード!$P$1:$Q$26,2,FALSE))))","v":""},{"$f":"IF(U25=\"\",\"\",HLOOKUP(U25,名簿!$AH$3:$CH$118,20,FALSE))","v":""},null,"","",{"$f":"IF(X25=\"\",\"\",IF(I25=1,VLOOKUP(X25,男子種目コード!$J$2:$K$30,2,FALSE),IF(I25=2,VLOOKUP(X25,女子種目コード!$J$2:$K$28,2,FALSE))))","v":""},null,null,{"$f":"IF(AC25=\"\",\"\",IF(I25=1,VLOOKUP(AC25,男子種目コード!$J$2:$K$30,2,FALSE),IF(I25=2,VLOOKUP(AC25,女子種目コード!$J$2:$K$28,2,FALSE))))","v":""},null,null,{"$f":"IF(AF25=\"\",\"\",IF(I25=1,VLOOKUP(AF25,男子種目コード!$J$2:$K$30,2,FALSE),IF(I25=2,VLOOKUP(AF25,女子種目コード!$J$2:$K$28,2,FALSE))))","v":""},null,null,null,null,"C-砲丸投","","","女子",null,null,"男子C(1年）",null,null,null,null,null,0,null,null,null,null,0,"",""]
[null,{"$f":"名簿!P23","v":""},null,null,{"$f":"名簿!E23","v":0},{"$f":"名簿!CM23","v":""},{"$f":"名簿!Z23","v":""},{"$f":"名簿!CM23","v":""},{"$f":"名簿!Y23","v":""},{"$f":"名簿!CN23","v":""},{"$f":"名簿!CP23","v":0},{"$f":"名簿!CU23","v":"00"},{"$f":"名簿!Q23","v":""},{"$f":"名簿!D23","v":0},null,{"$f":"IF(O26=\"\",\"\",IF(I26=1,VLOOKUP(O26,男子種目コード!$P$1:$Q$26,2,FALSE),IF(I26=2,VLOOKUP(O26,女子種目コード!$P$1:$Q$26,2,FALSE))))","v":""},{"$f":"IF(O26=\"\",\"\",HLOOKUP(O26,名簿!$AH$3:$CH$118,21,FALSE))","v":""},null,"","",null,{"$f":"IF(U26=\"\",\"\",IF(I26=1,VLOOKUP(U26,男子種目コード!$P$1:$Q$26,2,FALSE),IF(I26=2,VLOOKUP(U26,女子種目コード!$P$1:$Q$26,2,FALSE))))","v":""},{"$f":"IF(U26=\"\",\"\",HLOOKUP(U26,名簿!$AH$3:$CH$118,21,FALSE))","v":""},null,"","",{"$f":"IF(X26=\"\",\"\",IF(I26=1,VLOOKUP(X26,男子種目コード!$J$2:$K$30,2,FALSE),IF(I26=2,VLOOKUP(X26,女子種目コード!$J$2:$K$28,2,FALSE))))","v":""},null,null,{"$f":"IF(AC26=\"\",\"\",IF(I26=1,VLOOKUP(AC26,男子種目コード!$J$2:$K$30,2,FALSE),IF(I26=2,VLOOKUP(AC26,女子種目コード!$J$2:$K$28,2,FALSE))))","v":""},null,null,{"$f":"IF(AF26=\"\",\"\",IF(I26=1,VLOOKUP(AF26,男子種目コード!$J$2:$K$30,2,FALSE),IF(I26=2,VLOOKUP(AF26,女子種目コード!$J$2:$K$28,2,FALSE))))","v":""},null,null,null,null,"AB円盤投","","","A-100",{"$f":"COUNTIF($P$7:$P$116,35)+COUNTIF($V$7:$V$116,35)","v":0},null,100,"13.10",null,null,null,null,0,null,null,null,null,0,"",""]
[null,{"$f":"名簿!P24","v":""},null,null,{"$f":"名簿!E24","v":0},{"$f":"名簿!CM24","v":""},{"$f":"名簿!Z24","v":""},{"$f":"名簿!CM24","v":""},{"$f":"名簿!Y24","v":""},{"$f":"名簿!CN24","v":""},{"$f":"名簿!CP24","v":0},{"$f":"名簿!CU24","v":"00"},{"$f":"名簿!Q24","v":""},{"$f":"名簿!D24","v":0},null,{"$f":"IF(O27=\"\",\"\",IF(I27=1,VLOOKUP(O27,男子種目コード!$P$1:$Q$26,2,FALSE),IF(I27=2,VLOOKUP(O27,女子種目コード!$P$1:$Q$26,2,FALSE))))","v":""},{"$f":"IF(O27=\"\",\"\",HLOOKUP(O27,名簿!$AH$3:$CH$118,22,FALSE))","v":""},null,"","",null,{"$f":"IF(U27=\"\",\"\",IF(I27=1,VLOOKUP(U27,男子種目コード!$P$1:$Q$26,2,FALSE),IF(I27=2,VLOOKUP(U27,女子種目コード!$P$1:$Q$26,2,FALSE))))","v":""},{"$f":"IF(U27=\"\",\"\",HLOOKUP(U27,名簿!$AH$3:$CH$118,22,FALSE))","v":""},null,"","",{"$f":"IF(X27=\"\",\"\",IF(I27=1,VLOOKUP(X27,男子種目コード!$J$2:$K$30,2,FALSE),IF(I27=2,VLOOKUP(X27,女子種目コード!$J$2:$K$28,2,FALSE))))","v":""},null,null,{"$f":"IF(AC27=\"\",\"\",IF(I27=1,VLOOKUP(AC27,男子種目コード!$J$2:$K$30,2,FALSE),IF(I27=2,VLOOKUP(AC27,女子種目コード!$J$2:$K$28,2,FALSE))))","v":""},null,null,{"$f":"IF(AF27=\"\",\"\",IF(I27=1,VLOOKUP(AF27,男子種目コード!$J$2:$K$30,2,FALSE),IF(I27=2,VLOOKUP(AF27,女子種目コード!$J$2:$K$28,2,FALSE))))","v":""},null,null,null,null,"ABｼﾞｬﾍﾞﾘｯｸ","","","A-200",{"$f":"COUNTIF($P$7:$P$116,36)+COUNTIF($V$7:$V$116,36)","v":0},null,1500,"5.10.00",null,null,null,null,0,null,null,null,null,0,"",""]
[null,{"$f":"名簿!P25","v":""},null,null,{"$f":"名簿!E25","v":0},{"$f":"名簿!CM25","v":""},{"$f":"名簿!Z25","v":""},{"$f":"名簿!CM25","v":""},{"$f":"名簿!Y25","v":""},{"$f":"名簿!CN25","v":""},{"$f":"名簿!CP25","v":0},{"$f":"名簿!CU25","v":"00"},{"$f":"名簿!Q25","v":""},{"$f":"名簿!D25","v":0},null,{"$f":"IF(O28=\"\",\"\",IF(I28=1,VLOOKUP(O28,男子種目コード!$P$1:$Q$26,2,FALSE),IF(I28=2,VLOOKUP(O28,女子種目コード!$P$1:$Q$26,2,FALSE))))","v":""},{"$f":"IF(O28=\"\",\"\",HLOOKUP(O28,名簿!$AH$3:$CH$118,23,FALSE))","v":""},null,"","",null,{"$f":"IF(U28=\"\",\"\",IF(I28=1,VLOOKUP(U28,男子種目コード!$P$1:$Q$26,2,FALSE),IF(I28=2,VLOOKUP(U28,女子種目コード!$P$1:$Q$26,2,FALSE))))","v":""},{"$f":"IF(U28=\"\",\"\",HLOOKUP(U28,名簿!$AH$3:$CH$118,23,FALSE))","v":""},null,"","",{"$f":"IF(X28=\"\",\"\",IF(I28=1,VLOOKUP(X28,男子種目コード!$J$2:$K$30,2,FALSE),IF(I28=2,VLOOKUP(X28,女子種目コード!$J$2:$K$28,2,FALSE))))","v":""},null,null,{"$f":"IF(AC28=\"\",\"\",IF(I28=1,VLOOKUP(AC28,男子種目コード!$J$2:$K$30,2,FALSE),IF(I28=2,VLOOKUP(AC28,女子種目コード!$J$2:$K$28,2,FALSE))))","v":""},null,null,{"$f":"IF(AF28=\"\",\"\",IF(I28=1,VLOOKUP(AF28,男子種目コード!$J$2:$K$30,2,FALSE),IF(I28=2,VLOOKUP(AF28,女子種目コード!$J$2:$K$28,2,FALSE))))","v":""},null,null,null,null,null,"","","A-3000",{"$f":"COUNTIF($P$7:$P$116,37)+COUNTIF($V$7:$V$116,37)","v":0},null,"走幅跳","4m40",null,null,null,null,0,null,null,null,null,0,"",""]
[null,{"$f":"名簿!P26","v":""},null,null,{"$f":"名簿!E26","v":0},{"$f":"名簿!CM26","v":""},{"$f":"名簿!Z26","v":""},{"$f":"名簿!CM26","v":""},{"$f":"名簿!Y26","v":""},{"$f":"名簿!CN26","v":""},{"$f":"名簿!CP26","v":0},{"$f":"名簿!CU26","v":"00"},{"$f":"名簿!Q26","v":""},{"$f":"名簿!D26","v":0},null,{"$f":"IF(O29=\"\",\"\",IF(I29=1,VLOOKUP(O29,男子種目コード!$P$1:$Q$26,2,FALSE),IF(I29=2,VLOOKUP(O29,女子種目コード!$P$1:$Q$26,2,FALSE))))","v":""},{"$f":"IF(O29=\"\",\"\",HLOOKUP(O29,名簿!$AH$3:$CH$118,24,FALSE))","v":""},null,"","",null,{"$f":"IF(U29=\"\",\"\",IF(I29=1,VLOOKUP(U29,男子種目コード!$P$1:$Q$26,2,FALSE),IF(I29=2,VLOOKUP(U29,女子種目コード!$P$1:$Q$26,2,FALSE))))","v":""},{"$f":"IF(U29=\"\",\"\",HLOOKUP(U29,名簿!$AH$3:$CH$118,24,FALSE))","v":""},null,"","",{"$f":"IF(X29=\"\",\"\",IF(I29=1,VLOOKUP(X29,男子種目コード!$J$2:$K$30,2,FALSE),IF(I29=2,VLOOKUP(X29,女子種目コード!$J$2:$K$28,2,FALSE))))","v":""},null,null,{"$f":"IF(AC29=\"\",\"\",IF(I29=1,VLOOKUP(AC29,男子種目コード!$J$2:$K$30,2,FALSE),IF(I29=2,VLOOKUP(AC29,女子種目コード!$J$2:$K$28,2,FALSE))))","v":""},null,null,{"$f":"IF(AF29=\"\",\"\",IF(I29=1,VLOOKUP(AF29,男子種目コード!$J$2:$K$30,2,FALSE),IF(I29=2,VLOOKUP(AF29,女子種目コード!$J$2:$K$28,2,FALSE))))","v":""},null,null,null,null,null,"","","A-100H",{"$f":"COUNTIF($P$7:$P$116,38)+COUNTIF($V$7:$V$116,38)","v":0},null,"ｼﾞｬﾍﾞﾘｯｸ","40m00",null,null,null,null,0,null,null,null,null,0,"",""]
[null,{"$f":"名簿!P27","v":""},null,null,{"$f":"名簿!E27","v":0},{"$f":"名簿!CM27","v":""},{"$f":"名簿!Z27","v":""},{"$f":"名簿!CM27","v":""},{"$f":"名簿!Y27","v":""},{"$f":"名簿!CN27","v":""},{"$f":"名簿!CP27","v":0},{"$f":"名簿!CU27","v":"00"},{"$f":"名簿!Q27","v":""},{"$f":"名簿!D27","v":0},null,{"$f":"IF(O30=\"\",\"\",IF(I30=1,VLOOKUP(O30,男子種目コード!$P$1:$Q$26,2,FALSE),IF(I30=2,VLOOKUP(O30,女子種目コード!$P$1:$Q$26,2,FALSE))))","v":""},{"$f":"IF(O30=\"\",\"\",HLOOKUP(O30,名簿!$AH$3:$CH$118,25,FALSE))","v":""},null,"","",null,{"$f":"IF(U30=\"\",\"\",IF(I30=1,VLOOKUP(U30,男子種目コード!$P$1:$Q$26,2,FALSE),IF(I30=2,VLOOKUP(U30,女子種目コード!$P$1:$Q$26,2,FALSE))))","v":""},{"$f":"IF(U30=\"\",\"\",HLOOKUP(U30,名簿!$AH$3:$CH$118,25,FALSE))","v":""},null,"","",{"$f":"IF(X30=\"\",\"\",IF(I30=1,VLOOKUP(X30,男子種目コード!$J$2:$K$30,2,FALSE),IF(I30=2,VLOOKUP(X30,女子種目コード!$J$2:$K$28,2,FALSE))))","v":""},null,null,{"$f":"IF(AC30=\"\",\"\",IF(I30=1,VLOOKUP(AC30,男子種目コード!$J$2:$K$30,2,FALSE),IF(I30=2,VLOOKUP(AC30,女子種目コード!$J$2:$K$28,2,FALSE))))","v":""},null,null,{"$f":"IF(AF30=\"\",\"\",IF(I30=1,VLOOKUP(AF30,男子種目コード!$J$2:$K$30,2,FALSE),IF(I30=2,VLOOKUP(AF30,女子種目コード!$J$2:$K$28,2,FALSE))))","v":""},null,null,null,null,null,"","","A-走高跳",{"$f":"COUNTIF($P$7:$P$116,39)+COUNTIF($V$7:$V$116,39)","v":0},null,"女子A(3年）",null,null,null,null,null,0,null,null,null,null,0,"",""]
[null,{"$f":"名簿!P28","v":""},null,null,{"$f":"名簿!E28","v":0},{"$f":"名簿!CM28","v":""},{"$f":"名簿!Z28","v":""},{"$f":"名簿!CM28","v":""},{"$f":"名簿!Y28","v":""},{"$f":"名簿!CN28","v":""},{"$f":"名簿!CP28","v":0},{"$f":"名簿!CU28","v":"00"},{"$f":"名簿!Q28","v":""},{"$f":"名簿!D28","v":0},null,{"$f":"IF(O31=\"\",\"\",IF(I31=1,VLOOKUP(O31,男子種目コード!$P$1:$Q$26,2,FALSE),IF(I31=2,VLOOKUP(O31,女子種目コード!$P$1:$Q$26,2,FALSE))))","v":""},{"$f":"IF(O31=\"\",\"\",HLOOKUP(O31,名簿!$AH$3:$CH$118,26,FALSE))","v":""},null,"","",null,{"$f":"IF(U31=\"\",\"\",IF(I31=1,VLOOKUP(U31,男子種目コード!$P$1:$Q$26,2,FALSE),IF(I31=2,VLOOKUP(U31,女子種目コード!$P$1:$Q$26,2,FALSE))))","v":""},{"$f":"IF(U31=\"\",\"\",HLOOKUP(U31,名簿!$AH$3:$CH$118,26,FALSE))","v":""},null,"","",{"$f":"IF(X31=\"\",\"\",IF(I31=1,VLOOKUP(X31,男子種目コード!$J$2:$K$30,2,FALSE),IF(I31=2,VLOOKUP(X31,女子種目コード!$J$2:$K$28,2,FALSE))))","v":""},null,null,{"$f":"IF(AC31=\"\",\"\",IF(I31=1,VLOOKUP(AC31,男子種目コード!$J$2:$K$30,2,FALSE),IF(I31=2,VLOOKUP(AC31,女子種目コード!$J$2:$K$28,2,FALSE))))","v":""},null,null,{"$f":"IF(AF31=\"\",\"\",IF(I31=1,VLOOKUP(AF31,男子種目コード!$J$2:$K$30,2,FALSE),IF(I31=2,VLOOKUP(AF31,女子種目コード!$J$2:$K$28,2,FALSE))))","v":""},null,null,null,null,null,"","","A-砲丸投",{"$f":"COUNTIF($P$7:$P$116,53)+COUNTIF($V$7:$V$116,53)","v":0},null,100,"13.40",null,null,null,null,0,null,null,null,null,0,"",""]
[null,{"$f":"名簿!P29","v":""},null,null,{"$f":"名簿!E29","v":0},{"$f":"名簿!CM29","v":""},{"$f":"名簿!Z29","v":""},{"$f":"名簿!CM29","v":""},{"$f":"名簿!Y29","v":""},{"$f":"名簿!CN29","v":""},{"$f":"名簿!CP29","v":0},{"$f":"名簿!CU29","v":"00"},{"$f":"名簿!Q29","v":""},{"$f":"名簿!D29","v":0},null,{"$f":"IF(O32=\"\",\"\",IF(I32=1,VLOOKUP(O32,男子種目コード!$P$1:$Q$26,2,FALSE),IF(I32=2,VLOOKUP(O32,女子種目コード!$P$1:$Q$26,2,FALSE))))","v":""},{"$f":"IF(O32=\"\",\"\",HLOOKUP(O32,名簿!$AH$3:$CH$118,27,FALSE))","v":""},null,"","",null,{"$f":"IF(U32=\"\",\"\",IF(I32=1,VLOOKUP(U32,男子種目コード!$P$1:$Q$26,2,FALSE),IF(I32=2,VLOOKUP(U32,女子種目コード!$P$1:$Q$26,2,FALSE))))","v":""},{"$f":"IF(U32=\"\",\"\",HLOOKUP(U32,名簿!$AH$3:$CH$118,27,FALSE))","v":""},null,"","",{"$f":"IF(X32=\"\",\"\",IF(I32=1,VLOOKUP(X32,男子種目コード!$J$2:$K$30,2,FALSE),IF(I32=2,VLOOKUP(X32,女子種目コード!$J$2:$K$28,2,FALSE))))","v":""},null,null,{"$f":"IF(AC32=\"\",\"\",IF(I32=1,VLOOKUP(AC32,男子種目コード!$J$2:$K$30,2,FALSE),IF(I32=2,VLOOKUP(AC32,女子種目コード!$J$2:$K$28,2,FALSE))))","v":""},null,null,{"$f":"IF(AF32=\"\",\"\",IF(I32=1,VLOOKUP(AF32,男子種目コード!$J$2:$K$30,2,FALSE),IF(I32=2,VLOOKUP(AF32,女子種目コード!$J$2:$K$28,2,FALSE))))","v":""},null,null,null,null,null,"","","B-100",{"$f":"COUNTIF($P$7:$P$116,40)+COUNTIF($V$7:$V$116,40)","v":0},null,200,"28.30",null,null,null,null,0,null,null,null,null,0,"",""]
[null,{"$f":"名簿!P30","v":""},null,null,{"$f":"名簿!E30","v":0},{"$f":"名簿!CM30","v":""},{"$f":"名簿!Z30","v":""},{"$f":"名簿!CM30","v":""},{"$f":"名簿!Y30","v":""},{"$f":"名簿!CN30","v":""},{"$f":"名簿!CP30","v":0},{"$f":"名簿!CU30","v":"00"},{"$f":"名簿!Q30","v":""},{"$f":"名簿!D30","v":0},null,{"$f":"IF(O33=\"\",\"\",IF(I33=1,VLOOKUP(O33,男子種目コード!$P$1:$Q$26,2,FALSE),IF(I33=2,VLOOKUP(O33,女子種目コード!$P$1:$Q$26,2,FALSE))))","v":""},{"$f":"IF(O33=\"\",\"\",HLOOKUP(O33,名簿!$AH$3:$CH$118,28,FALSE))","v":""},null,"","",null,{"$f":"IF(U33=\"\",\"\",IF(I33=1,VLOOKUP(U33,男子種目コード!$P$1:$Q$26,2,FALSE),IF(I33=2,VLOOKUP(U33,女子種目コード!$P$1:$Q$26,2,FALSE))))","v":""},{"$f":"IF(U33=\"\",\"\",HLOOKUP(U33,名簿!$AH$3:$CH$118,28,FALSE))","v":""},null,"","",null,null,null,null,null,null,null,null,null,null,null,null,"","","B-1500",{"$f":"COUNTIF($P$7:$P$116,41)+COUNTIF($V$7:$V$116,41)","v":0},null,3000,"11.20.00",null,null,null,null,0,null,null,null,null,0,"",""]
[null,{"$f":"名簿!P31","v":""},null,null,{"$f":"名簿!E31","v":0},{"$f":"名簿!CM31","v":""},{"$f":"名簿!Z31","v":""},{"$f":"名簿!CM31","v":""},{"$f":"名簿!Y31","v":""},{"$f":"名簿!CN31","v":""},{"$f":"名簿!CP31","v":0},{"$f":"名簿!CU31","v":"00"},{"$f":"名簿!Q31","v":""},{"$f":"名簿!D31","v":0},null,{"$f":"IF(O34=\"\",\"\",IF(I34=1,VLOOKUP(O34,男子種目コード!$P$1:$Q$26,2,FALSE),IF(I34=2,VLOOKUP(O34,女子種目コード!$P$1:$Q$26,2,FALSE))))","v":""},{"$f":"IF(O34=\"\",\"\",HLOOKUP(O34,名簿!$AH$3:$CH$118,29,FALSE))","v":""},null,"","",null,{"$f":"IF(U34=\"\",\"\",IF(I34=1,VLOOKUP(U34,男子種目コード!$P$1:$Q$26,2,FALSE),IF(I34=2,VLOOKUP(U34,女子種目コード!$P$1:$Q$26,2,FALSE))))","v":""},{"$f":"IF(U34=\"\",\"\",HLOOKUP(U34,名簿!$AH$3:$CH$118,29,FALSE))","v":""},null,"","",null,null,null,null,null,null,null,null,null,null,null,null,"","","B-100H",{"$f":"COUNTIF($P$7:$P$116,42)+COUNTIF($V$7:$V$116,42)","v":0},null,"100H","17.00",null,null,null,null,0,null,null,null,null,0,"",""]
[null,{"$f":"名簿!P32","v":""},null,null,{"$f":"名簿!E32","v":0},{"$f":"名簿!CM32","v":""},{"$f":"名簿!Z32","v":""},{"$f":"名簿!CM32","v":""},{"$f":"名簿!Y32","v":""},{"$f":"名簿!CN32","v":""},{"$f":"名簿!CP32","v":0},{"$f":"名簿!CU32","v":"00"},{"$f":"名簿!Q32","v":""},{"$f":"名簿!D32","v":0},null,{"$f":"IF(O35=\"\",\"\",IF(I35=1,VLOOKUP(O35,男子種目コード!$P$1:$Q$26,2,FALSE),IF(I35=2,VLOOKUP(O35,女子種目コード!$P$1:$Q$26,2,FALSE))))","v":""},{"$f":"IF(O35=\"\",\"\",HLOOKUP(O35,名簿!$AH$3:$CH$118,30,FALSE))","v":""},null,"","",null,{"$f":"IF(U35=\"\",\"\",IF(I35=1,VLOOKUP(U35,男子種目コード!$P$1:$Q$26,2,FALSE),IF(I35=2,VLOOKUP(U35,女子種目コード!$P$1:$Q$26,2,FALSE))))","v":""},{"$f":"IF(U35=\"\",\"\",HLOOKUP(U35,名簿!$AH$3:$CH$118,30,FALSE))","v":""},null,"","",{"$f":"IF(X35=\"\",\"\",IF(I35=1,VLOOKUP(X35,男子種目コード!$J$2:$K$30,2,FALSE),IF(I35=2,VLOOKUP(X35,女子種目コード!$J$2:$K$28,2,FALSE))))","v":""},null,null,{"$f":"IF(AC35=\"\",\"\",IF(I35=1,VLOOKUP(AC35,男子種目コード!$J$2:$K$30,2,FALSE),IF(I35=2,VLOOKUP(AC35,女子種目コード!$J$2:$K$28,2,FALSE))))","v":""},null,null,{"$f":"IF(AF35=\"\",\"\",IF(I35=1,VLOOKUP(AF35,男子種目コード!$J$2:$K$30,2,FALSE),IF(I35=2,VLOOKUP(AF35,女子種目コード!$J$2:$K$28,2,FALSE))))","v":""},null,null,null,null,null,"","","B-走幅跳",{"$f":"COUNTIF($P$7:$P$116,44)+COUNTIF($V$7:$V$116,44)","v":0},null,"走高跳","1m35",null,null,null,null,0,null,null,null,null,0,"",""]
[null,{"$f":"名簿!P33","v":""},null,null,{"$f":"名簿!E33","v":0},{"$f":"名簿!CM33","v":""},{"$f":"名簿!Z33","v":""},{"$f":"名簿!CM33","v":""},{"$f":"名簿!Y33","v":""},{"$f":"名簿!CN33","v":""},{"$f":"名簿!CP33","v":0},{"$f":"名簿!CU33","v":"00"},{"$f":"名簿!Q33","v":""},{"$f":"名簿!D33","v":0},null,{"$f":"IF(O36=\"\",\"\",IF(I36=1,VLOOKUP(O36,男子種目コード!$P$1:$Q$26,2,FALSE),IF(I36=2,VLOOKUP(O36,女子種目コード!$P$1:$Q$26,2,FALSE))))","v":""},{"$f":"IF(O36=\"\",\"\",HLOOKUP(O36,名簿!$AH$3:$CH$118,31,FALSE))","v":""},null,"","",null,{"$f":"IF(U36=\"\",\"\",IF(I36=1,VLOOKUP(U36,男子種目コード!$P$1:$Q$26,2,FALSE),IF(I36=2,VLOOKUP(U36,女子種目コード!$P$1:$Q$26,2,FALSE))))","v":""},{"$f":"IF(U36=\"\",\"\",HLOOKUP(U36,名簿!$AH$3:$CH$118,31,FALSE))","v":""},null,"","",{"$f":"IF(X36=\"\",\"\",IF(I36=1,VLOOKUP(X36,男子種目コード!$J$2:$K$30,2,FALSE),IF(I36=2,VLOOKUP(X36,女子種目コード!$J$2:$K$28,2,FALSE))))","v":""},null,null,{"$f":"IF(AC36=\"\",\"\",IF(I36=1,VLOOKUP(AC36,男子種目コード!$J$2:$K$30,2,FALSE),IF(I36=2,VLOOKUP(AC36,女子種目コード!$J$2:$K$28,2,FALSE))))","v":""},null,null,{"$f":"IF(AF36=\"\",\"\",IF(I36=1,VLOOKUP(AF36,男子種目コード!$J$2:$K$30,2,FALSE),IF(I36=2,VLOOKUP(AF36,女子種目コード!$J$2:$K$28,2,FALSE))))","v":""},null,null,null,null,null,"","","B-砲丸投",{"$f":"COUNTIF($P$7:$P$116,45)+COUNTIF($V$7:$V$116,45)","v":0},null,"砲丸投","4k  7m50",null,null,null,null,0,null,null,null,null,0,"",""]
[null,{"$f":"名簿!P34","v":""},null,null,{"$f":"名簿!E34","v":0},{"$f":"名簿!CM34","v":""},{"$f":"名簿!Z34","v":""},{"$f":"名簿!CM34","v":""},{"$f":"名簿!Y34","v":""},{"$f":"名簿!CN34","v":""},{"$f":"名簿!CP34","v":0},{"$f":"名簿!CU34","v":"00"},{"$f":"名簿!Q34","v":""},{"$f":"名簿!D34","v":0},null,{"$f":"IF(O37=\"\",\"\",IF(I37=1,VLOOKUP(O37,男子種目コード!$P$1:$Q$26,2,FALSE),IF(I37=2,VLOOKUP(O37,女子種目コード!$P$1:$Q$26,2,FALSE))))","v":""},{"$f":"IF(O37=\"\",\"\",HLOOKUP(O37,名簿!$AH$3:$CH$118,32,FALSE))","v":""},null,"","",null,{"$f":"IF(U37=\"\",\"\",IF(I37=1,VLOOKUP(U37,男子種目コード!$P$1:$Q$26,2,FALSE),IF(I37=2,VLOOKUP(U37,女子種目コード!$P$1:$Q$26,2,FALSE))))","v":""},{"$f":"IF(U37=\"\",\"\",HLOOKUP(U37,名簿!$AH$3:$CH$118,32,FALSE))","v":""},null,"","",{"$f":"IF(X37=\"\",\"\",IF(I37=1,VLOOKUP(X37,男子種目コード!$J$2:$K$30,2,FALSE),IF(I37=2,VLOOKUP(X37,女子種目コード!$J$2:$K$28,2,FALSE))))","v":""},null,null,{"$f":"IF(AC37=\"\",\"\",IF(I37=1,VLOOKUP(AC37,男子種目コード!$J$2:$K$30,2,FALSE),IF(I37=2,VLOOKUP(AC37,女子種目コード!$J$2:$K$28,2,FALSE))))","v":""},null,null,{"$f":"IF(AF37=\"\",\"\",IF(I37=1,VLOOKUP(AF37,男子種目コード!$J$2:$K$30,2,FALSE),IF(I37=2,VLOOKUP(AF37,女子種目コード!$J$2:$K$28,2,FALSE))))","v":""},null,null,null,null,null,"","","C-100",{"$f":"COUNTIF($P$7:$P$116,46)+COUNTIF($V$7:$V$116,46)","v":0},null,null,"2.7k 10m00",null,null,null,null,0,null,null,null,null,0,"",""]
[null,{"$f":"名簿!P35","v":""},null,null,{"$f":"名簿!E35","v":0},{"$f":"名簿!CM35","v":""},{"$f":"名簿!Z35","v":""},{"$f":"名簿!CM35","v":""},{"$f":"名簿!Y35","v":""},{"$f":"名簿!CN35","v":""},{"$f":"名簿!CP35","v":0},{"$f":"名簿!CU35","v":"00"},{"$f":"名簿!Q35","v":""},{"$f":"名簿!D35","v":0},null,{"$f":"IF(O38=\"\",\"\",IF(I38=1,VLOOKUP(O38,男子種目コード!$P$1:$Q$26,2,FALSE),IF(I38=2,VLOOKUP(O38,女子種目コード!$P$1:$Q$26,2,FALSE))))","v":""},{"$f":"IF(O38=\"\",\"\",HLOOKUP(O38,名簿!$AH$3:$CH$118,33,FALSE))","v":""},null,"","",null,{"$f":"IF(U38=\"\",\"\",IF(I38=1,VLOOKUP(U38,男子種目コード!$P$1:$Q$26,2,FALSE),IF(I38=2,VLOOKUP(U38,女子種目コード!$P$1:$Q$26,2,FALSE))))","v":""},{"$f":"IF(U38=\"\",\"\",HLOOKUP(U38,名簿!$AH$3:$CH$118,33,FALSE))","v":""},null,"","",{"$f":"IF(X38=\"\",\"\",IF(I38=1,VLOOKUP(X38,男子種目コード!$J$2:$K$30,2,FALSE),IF(I38=2,VLOOKUP(X38,女子種目コード!$J$2:$K$28,2,FALSE))))","v":""},null,null,{"$f":"IF(AC38=\"\",\"\",IF(I38=1,VLOOKUP(AC38,男子種目コード!$J$2:$K$30,2,FALSE),IF(I38=2,VLOOKUP(AC38,女子種目コード!$J$2:$K$28,2,FALSE))))","v":""},null,null,{"$f":"IF(AF38=\"\",\"\",IF(I38=1,VLOOKUP(AF38,男子種目コード!$J$2:$K$30,2,FALSE),IF(I38=2,VLOOKUP(AF38,女子種目コード!$J$2:$K$28,2,FALSE))))","v":""},null,null,null,null,null,"","","C-800",{"$f":"COUNTIF($P$7:$P$116,52)+COUNTIF($V$7:$V$116,52)","v":0},null,"円盤投","23m00",null,null,null,null,0,null,null,null,null,0,"",""]
[null,{"$f":"名簿!P36","v":""},null,null,{"$f":"名簿!E36","v":0},{"$f":"名簿!CM36","v":""},{"$f":"名簿!Z36","v":""},{"$f":"名簿!CM36","v":""},{"$f":"名簿!Y36","v":""},{"$f":"名簿!CN36","v":""},{"$f":"名簿!CP36","v":0},{"$f":"名簿!CU36","v":"00"},{"$f":"名簿!Q36","v":""},{"$f":"名簿!D36","v":0},null,{"$f":"IF(O39=\"\",\"\",IF(I39=1,VLOOKUP(O39,男子種目コード!$P$1:$Q$26,2,FALSE),IF(I39=2,VLOOKUP(O39,女子種目コード!$P$1:$Q$26,2,FALSE))))","v":""},{"$f":"IF(O39=\"\",\"\",HLOOKUP(O39,名簿!$AH$3:$CH$118,34,FALSE))","v":""},null,"","",null,{"$f":"IF(U39=\"\",\"\",IF(I39=1,VLOOKUP(U39,男子種目コード!$P$1:$Q$26,2,FALSE),IF(I39=2,VLOOKUP(U39,女子種目コード!$P$1:$Q$26,2,FALSE))))","v":""},{"$f":"IF(U39=\"\",\"\",HLOOKUP(U39,名簿!$AH$3:$CH$118,34,FALSE))","v":""},null,"","",{"$f":"IF(X39=\"\",\"\",IF(I39=1,VLOOKUP(X39,男子種目コード!$J$2:$K$30,2,FALSE),IF(I39=2,VLOOKUP(X39,女子種目コード!$J$2:$K$28,2,FALSE))))","v":""},null,null,{"$f":"IF(AC39=\"\",\"\",IF(I39=1,VLOOKUP(AC39,男子種目コード!$J$2:$K$30,2,FALSE),IF(I39=2,VLOOKUP(AC39,女子種目コード!$J$2:$K$28,2,FALSE))))","v":""},null,null,{"$f":"IF(AF39=\"\",\"\",IF(I39=1,VLOOKUP(AF39,男子種目コード!$J$2:$K$30,2,FALSE),IF(I39=2,VLOOKUP(AF39,女子種目コード!$J$2:$K$28,2,FALSE))))","v":""},null,null,null,null,null,"","","C-走幅跳",{"$f":"COUNTIF($P$7:$P$116,48)+COUNTIF($V$7:$V$116,48)","v":0},null,"ｼﾞｬﾍﾞﾘｯｸ","28m00",null,null,null,null,{"$f":"IF(OR(AM39=1,U39=\"\"),0,1)","v":0},null,null,null,null,{"$f":"COUNT(P39,V39,AA39)","v":0},{"$f":"IF(I39=1,BC39,\"\")","v":""},{"$f":"IF(I39=2,BC39,\"\")","v":""}]
[null,{"$f":"名簿!P37","v":""},null,null,{"$f":"名簿!E37","v":0},{"$f":"名簿!CM37","v":""},{"$f":"名簿!Z37","v":""},{"$f":"名簿!CM37","v":""},{"$f":"名簿!Y37","v":""},{"$f":"名簿!CN37","v":""},{"$f":"名簿!CP37","v":0},{"$f":"名簿!CU37","v":"00"},{"$f":"名簿!Q37","v":""},{"$f":"名簿!D37","v":0},null,{"$f":"IF(O40=\"\",\"\",IF(I40=1,VLOOKUP(O40,男子種目コード!$P$1:$Q$26,2,FALSE),IF(I40=2,VLOOKUP(O40,女子種目コード!$P$1:$Q$26,2,FALSE))))","v":""},{"$f":"IF(O40=\"\",\"\",HLOOKUP(O40,名簿!$AH$3:$CH$118,35,FALSE))","v":""},null,"","",null,{"$f":"IF(U40=\"\",\"\",IF(I40=1,VLOOKUP(U40,男子種目コード!$P$1:$Q$26,2,FALSE),IF(I40=2,VLOOKUP(U40,女子種目コード!$P$1:$Q$26,2,FALSE))))","v":""},{"$f":"IF(U40=\"\",\"\",HLOOKUP(U40,名簿!$AH$3:$CH$118,35,FALSE))","v":""},null,"","",{"$f":"IF(X40=\"\",\"\",IF(I40=1,VLOOKUP(X40,男子種目コード!$J$2:$K$30,2,FALSE),IF(I40=2,VLOOKUP(X40,女子種目コード!$J$2:$K$28,2,FALSE))))","v":""},null,null,{"$f":"IF(AC40=\"\",\"\",IF(I40=1,VLOOKUP(AC40,男子種目コード!$J$2:$K$30,2,FALSE),IF(I40=2,VLOOKUP(AC40,女子種目コード!$J$2:$K$28,2,FALSE))))","v":""},null,null,{"$f":"IF(AF40=\"\",\"\",IF(I40=1,VLOOKUP(AF40,男子種目コード!$J$2:$K$30,2,FALSE),IF(I40=2,VLOOKUP(AF40,女子種目コード!$J$2:$K$28,2,FALSE))))","v":""},null,null,null,null,null,"","","AB円盤投",{"$f":"COUNTIF($P$7:$P$116,50)+COUNTIF($V$7:$V$116,50)","v":0},null,"女子B(2年）",null,null,null,null,null,0,null,null,null,null,0,"",""]
[null,{"$f":"名簿!P38","v":""},null,null,{"$f":"名簿!E38","v":0},{"$f":"名簿!CM38","v":""},{"$f":"名簿!Z38","v":""},{"$f":"名簿!CM38","v":""},{"$f":"名簿!Y38","v":""},{"$f":"名簿!CN38","v":""},{"$f":"名簿!CP38","v":0},{"$f":"名簿!CU38","v":"00"},{"$f":"名簿!Q38","v":""},{"$f":"名簿!D38","v":0},null,{"$f":"IF(O41=\"\",\"\",IF(I41=1,VLOOKUP(O41,男子種目コード!$P$1:$Q$26,2,FALSE),IF(I41=2,VLOOKUP(O41,女子種目コード!$P$1:$Q$26,2,FALSE))))","v":""},{"$f":"IF(O41=\"\",\"\",HLOOKUP(O41,名簿!$AH$3:$CH$118,36,FALSE))","v":""},null,"","",null,{"$f":"IF(U41=\"\",\"\",IF(I41=1,VLOOKUP(U41,男子種目コード!$P$1:$Q$26,2,FALSE),IF(I41=2,VLOOKUP(U41,女子種目コード!$P$1:$Q$26,2,FALSE))))","v":""},{"$f":"IF(U41=\"\",\"\",HLOOKUP(U41,名簿!$AH$3:$CH$118,36,FALSE))","v":""},null,"","",{"$f":"IF(X41=\"\",\"\",IF(I41=1,VLOOKUP(X41,男子種目コード!$J$2:$K$30,2,FALSE),IF(I41=2,VLOOKUP(X41,女子種目コード!$J$2:$K$28,2,FALSE))))","v":""},null,null,{"$f":"IF(AC41=\"\",\"\",IF(I41=1,VLOOKUP(AC41,男子種目コード!$J$2:$K$30,2,FALSE),IF(I41=2,VLOOKUP(AC41,女子種目コード!$J$2:$K$28,2,FALSE))))","v":""},null,null,{"$f":"IF(AF41=\"\",\"\",IF(I41=1,VLOOKUP(AF41,男子種目コード!$J$2:$K$30,2,FALSE),IF(I41=2,VLOOKUP(AF41,女子種目コード!$J$2:$K$28,2,FALSE))))","v":""},null,null,null,null,null,"","","ABCｼﾞｬﾍﾞﾘｯｸ",{"$f":"COUNTIF($P$7:$P$116,51)+COUNTIF($V$7:$V$116,51)","v":0},null,100,"13.70",null,null,null,null,0,null,null,null,null,0,"",""]
[null,{"$f":"名簿!P39","v":""},null,null,{"$f":"名簿!E39","v":0},{"$f":"名簿!CM39","v":""},{"$f":"名簿!Z39","v":""},{"$f":"名簿!CM39","v":""},{"$f":"名簿!Y39","v":""},{"$f":"名簿!CN39","v":""},{"$f":"名簿!CP39","v":0},{"$f":"名簿!CU39","v":"00"},{"$f":"名簿!Q39","v":""},{"$f":"名簿!D39","v":0},null,{"$f":"IF(O42=\"\",\"\",IF(I42=1,VLOOKUP(O42,男子種目コード!$P$1:$Q$26,2,FALSE),IF(I42=2,VLOOKUP(O42,女子種目コード!$P$1:$Q$26,2,FALSE))))","v":""},{"$f":"IF(O42=\"\",\"\",HLOOKUP(O42,名簿!$AH$3:$CH$118,37,FALSE))","v":""},null,"","",null,{"$f":"IF(U42=\"\",\"\",IF(I42=1,VLOOKUP(U42,男子種目コード!$P$1:$Q$26,2,FALSE),IF(I42=2,VLOOKUP(U42,女子種目コード!$P$1:$Q$26,2,FALSE))))","v":""},{"$f":"IF(U42=\"\",\"\",HLOOKUP(U42,名簿!$AH$3:$CH$118,37,FALSE))","v":""},null,"","",{"$f":"IF(X42=\"\",\"\",IF(I42=1,VLOOKUP(X42,男子種目コード!$J$2:$K$30,2,FALSE),IF(I42=2,VLOOKUP(X42,女子種目コード!$J$2:$K$28,2,FALSE))))","v":""},null,null,{"$f":"IF(AC42=\"\",\"\",IF(I42=1,VLOOKUP(AC42,男子種目コード!$J$2:$K$30,2,FALSE),IF(I42=2,VLOOKUP(AC42,女子種目コード!$J$2:$K$28,2,FALSE))))","v":""},null,null,{"$f":"IF(AF42=\"\",\"\",IF(I42=1,VLOOKUP(AF42,男子種目コード!$J$2:$K$30,2,FALSE),IF(I42=2,VLOOKUP(AF42,女子種目コード!$J$2:$K$28,2,FALSE))))","v":""},null,null,null,null,null,"","","計",{"$f":"SUM(AP26:AP41)","v":0},null,1500,"5.25.00",null,null,null,null,0,null,null,null,null,0,"",""]
[null,{"$f":"名簿!P40","v":""},null,null,{"$f":"名簿!E40","v":0},{"$f":"名簿!CM40","v":""},{"$f":"名簿!Z40","v":""},{"$f":"名簿!CM40","v":""},{"$f":"名簿!Y40","v":""},{"$f":"名簿!CN40","v":""},{"$f":"名簿!CP40","v":0},{"$f":"名簿!CU40","v":"00"},{"$f":"名簿!Q40","v":""},{"$f":"名簿!D40","v":0},null,{"$f":"IF(O43=\"\",\"\",IF(I43=1,VLOOKUP(O43,男子種目コード!$P$1:$Q$26,2,FALSE),IF(I43=2,VLOOKUP(O43,女子種目コード!$P$1:$Q$26,2,FALSE))))","v":""},{"$f":"IF(O43=\"\",\"\",HLOOKUP(O43,名簿!$AH$3:$CH$118,38,FALSE))","v":""},null,"","",null,{"$f":"IF(U43=\"\",\"\",IF(I43=1,VLOOKUP(U43,男子種目コード!$P$1:$Q$26,2,FALSE),IF(I43=2,VLOOKUP(U43,女子種目コード!$P$1:$Q$26,2,FALSE))))","v":""},{"$f":"IF(U43=\"\",\"\",HLOOKUP(U43,名簿!$AH$3:$CH$118,38,FALSE))","v":""},null,"","",{"$f":"IF(X43=\"\",\"\",IF(I43=1,VLOOKUP(X43,男子種目コード!$J$2:$K$30,2,FALSE),IF(I43=2,VLOOKUP(X43,女子種目コード!$J$2:$K$28,2,FALSE))))","v":""},null,null,{"$f":"IF(AC43=\"\",\"\",IF(I43=1,VLOOKUP(AC43,男子種目コード!$J$2:$K$30,2,FALSE),IF(I43=2,VLOOKUP(AC43,女子種目コード!$J$2:$K$28,2,FALSE))))","v":""},null,null,{"$f":"IF(AF43=\"\",\"\",IF(I43=1,VLOOKUP(AF43,男子種目コード!$J$2:$K$30,2,FALSE),IF(I43=2,VLOOKUP(AF43,女子種目コード!$J$2:$K$28,2,FALSE))))","v":""},null,null,null,null,null,"","",null,null,null,"100H","19.00",null,null,null,null,0,null,null,null,null,0,"",""]
[null,{"$f":"名簿!P41","v":""},null,null,{"$f":"名簿!E41","v":0},{"$f":"名簿!CM41","v":""},{"$f":"名簿!Z41","v":""},{"$f":"名簿!CM41","v":""},{"$f":"名簿!Y41","v":""},{"$f":"名簿!CN41","v":""},{"$f":"名簿!CP41","v":0},{"$f":"名簿!CU41","v":"00"},{"$f":"名簿!Q41","v":""},{"$f":"名簿!D41","v":0},null,{"$f":"IF(O44=\"\",\"\",IF(I44=1,VLOOKUP(O44,男子種目コード!$P$1:$Q$26,2,FALSE),IF(I44=2,VLOOKUP(O44,女子種目コード!$P$1:$Q$26,2,FALSE))))","v":""},{"$f":"IF(O44=\"\",\"\",HLOOKUP(O44,名簿!$AH$3:$CH$118,39,FALSE))","v":""},null,"","",null,{"$f":"IF(U44=\"\",\"\",IF(I44=1,VLOOKUP(U44,男子種目コード!$P$1:$Q$26,2,FALSE),IF(I44=2,VLOOKUP(U44,女子種目コード!$P$1:$Q$26,2,FALSE))))","v":""},{"$f":"IF(U44=\"\",\"\",HLOOKUP(U44,名簿!$AH$3:$CH$118,39,FALSE))","v":""},null,"","",{"$f":"IF(X44=\"\",\"\",IF(I44=1,VLOOKUP(X44,男子種目コード!$J$2:$K$30,2,FALSE),IF(I44=2,VLOOKUP(X44,女子種目コード!$J$2:$K$28,2,FALSE))))","v":""},null,null,{"$f":"IF(AC44=\"\",\"\",IF(I44=1,VLOOKUP(AC44,男子種目コード!$J$2:$K$30,2,FALSE),IF(I44=2,VLOOKUP(AC44,女子種目コード!$J$2:$K$28,2,FALSE))))","v":""},null,null,{"$f":"IF(AF44=\"\",\"\",IF(I44=1,VLOOKUP(AF44,男子種目コード!$J$2:$K$30,2,FALSE),IF(I44=2,VLOOKUP(AF44,女子種目コード!$J$2:$K$28,2,FALSE))))","v":""},null,null,null,null,null,"","",null,null,null,"走幅跳","4m30",null,null,null,null,0,null,null,null,null,0,"",""]
[null,{"$f":"名簿!P42","v":""},null,null,{"$f":"名簿!E42","v":0},{"$f":"名簿!CM42","v":""},{"$f":"名簿!Z42","v":""},{"$f":"名簿!CM42","v":""},{"$f":"名簿!Y42","v":""},{"$f":"名簿!CN42","v":""},{"$f":"名簿!CP42","v":0},{"$f":"名簿!CU42","v":"00"},{"$f":"名簿!Q42","v":""},{"$f":"名簿!D42","v":0},null,{"$f":"IF(O45=\"\",\"\",IF(I45=1,VLOOKUP(O45,男子種目コード!$P$1:$Q$26,2,FALSE),IF(I45=2,VLOOKUP(O45,女子種目コード!$P$1:$Q$26,2,FALSE))))","v":""},{"$f":"IF(O45=\"\",\"\",HLOOKUP(O45,名簿!$AH$3:$CH$118,40,FALSE))","v":""},null,"","",null,{"$f":"IF(U45=\"\",\"\",IF(I45=1,VLOOKUP(U45,男子種目コード!$P$1:$Q$26,2,FALSE),IF(I45=2,VLOOKUP(U45,女子種目コード!$P$1:$Q$26,2,FALSE))))","v":""},{"$f":"IF(U45=\"\",\"\",HLOOKUP(U45,名簿!$AH$3:$CH$118,40,FALSE))","v":""},null,"","",{"$f":"IF(X45=\"\",\"\",IF(I45=1,VLOOKUP(X45,男子種目コード!$J$2:$K$30,2,FALSE),IF(I45=2,VLOOKUP(X45,女子種目コード!$J$2:$K$28,2,FALSE))))","v":""},null,null,{"$f":"IF(AC45=\"\",\"\",IF(I45=1,VLOOKUP(AC45,男子種目コード!$J$2:$K$30,2,FALSE),IF(I45=2,VLOOKUP(AC45,女子種目コード!$J$2:$K$28,2,FALSE))))","v":""},null,null,{"$f":"IF(AF45=\"\",\"\",IF(I45=1,VLOOKUP(AF45,男子種目コード!$J$2:$K$30,2,FALSE),IF(I45=2,VLOOKUP(AF45,女子種目コード!$J$2:$K$28,2,FALSE))))","v":""},null,null,null,null,null,"","",null,null,null,"砲丸投","8m00",null,null,null,null,0,null,null,null,null,0,"",""]
[null,{"$f":"名簿!P43","v":""},null,null,{"$f":"名簿!E43","v":0},{"$f":"名簿!CM43","v":""},{"$f":"名簿!Z43","v":""},{"$f":"名簿!CM43","v":""},{"$f":"名簿!Y43","v":""},{"$f":"名簿!CN43","v":""},{"$f":"名簿!CP43","v":0},{"$f":"名簿!CU43","v":"00"},{"$f":"名簿!Q43","v":""},{"$f":"名簿!D43","v":0},null,{"$f":"IF(O46=\"\",\"\",IF(I46=1,VLOOKUP(O46,男子種目コード!$P$1:$Q$26,2,FALSE),IF(I46=2,VLOOKUP(O46,女子種目コード!$P$1:$Q$26,2,FALSE))))","v":""},{"$f":"IF(O46=\"\",\"\",HLOOKUP(O46,名簿!$AH$3:$CH$118,41,FALSE))","v":""},null,"","",null,{"$f":"IF(U46=\"\",\"\",IF(I46=1,VLOOKUP(U46,男子種目コード!$P$1:$Q$26,2,FALSE),IF(I46=2,VLOOKUP(U46,女子種目コード!$P$1:$Q$26,2,FALSE))))","v":""},{"$f":"IF(U46=\"\",\"\",HLOOKUP(U46,名簿!$AH$3:$CH$118,41,FALSE))","v":""},null,"","",{"$f":"IF(X46=\"\",\"\",IF(I46=1,VLOOKUP(X46,男子種目コード!$J$2:$K$30,2,FALSE),IF(I46=2,VLOOKUP(X46,女子種目コード!$J$2:$K$28,2,FALSE))))","v":""},null,null,{"$f":"IF(AC46=\"\",\"\",IF(I46=1,VLOOKUP(AC46,男子種目コード!$J$2:$K$30,2,FALSE),IF(I46=2,VLOOKUP(AC46,女子種目コード!$J$2:$K$28,2,FALSE))))","v":""},null,null,{"$f":"IF(AF46=\"\",\"\",IF(I46=1,VLOOKUP(AF46,男子種目コード!$J$2:$K$30,2,FALSE),IF(I46=2,VLOOKUP(AF46,女子種目コード!$J$2:$K$28,2,FALSE))))","v":""},null,null,null,null,null,"","",null,null,null,"円盤投","23m00",null,null,null,null,0,null,null,null,null,0,"",""]
[null,{"$f":"名簿!P44","v":""},null,null,{"$f":"名簿!E44","v":0},{"$f":"名簿!CM44","v":""},{"$f":"名簿!Z44","v":""},{"$f":"名簿!CM44","v":""},{"$f":"名簿!Y44","v":""},{"$f":"名簿!CN44","v":""},{"$f":"名簿!CP44","v":0},{"$f":"名簿!CU44","v":"00"},{"$f":"名簿!Q44","v":""},{"$f":"名簿!D44","v":0},null,{"$f":"IF(O47=\"\",\"\",IF(I47=1,VLOOKUP(O47,男子種目コード!$P$1:$Q$26,2,FALSE),IF(I47=2,VLOOKUP(O47,女子種目コード!$P$1:$Q$26,2,FALSE))))","v":""},{"$f":"IF(O47=\"\",\"\",HLOOKUP(O47,名簿!$AH$3:$CH$118,42,FALSE))","v":""},null,"","",null,{"$f":"IF(U47=\"\",\"\",IF(I47=1,VLOOKUP(U47,男子種目コード!$P$1:$Q$26,2,FALSE),IF(I47=2,VLOOKUP(U47,女子種目コード!$P$1:$Q$26,2,FALSE))))","v":""},{"$f":"IF(U47=\"\",\"\",HLOOKUP(U47,名簿!$AH$3:$CH$118,42,FALSE))","v":""},null,"","",{"$f":"IF(X47=\"\",\"\",IF(I47=1,VLOOKUP(X47,男子種目コード!$J$2:$K$30,2,FALSE),IF(I47=2,VLOOKUP(X47,女子種目コード!$J$2:$K$28,2,FALSE))))","v":""},null,null,{"$f":"IF(AC47=\"\",\"\",IF(I47=1,VLOOKUP(AC47,男子種目コード!$J$2:$K$30,2,FALSE),IF(I47=2,VLOOKUP(AC47,女子種目コード!$J$2:$K$28,2,FALSE))))","v":""},null,null,{"$f":"IF(AF47=\"\",\"\",IF(I47=1,VLOOKUP(AF47,男子種目コード!$J$2:$K$30,2,FALSE),IF(I47=2,VLOOKUP(AF47,女子種目コード!$J$2:$K$28,2,FALSE))))","v":""},null,null,null,null,null,"","",null,null,null,"ｼﾞｬﾍﾞﾘｯｸ","28m00",null,null,null,null,0,null,null,null,null,0,"",""]
[null,{"$f":"名簿!P45","v":""},null,null,{"$f":"名簿!E45","v":0},{"$f":"名簿!CM45","v":""},{"$f":"名簿!Z45","v":""},{"$f":"名簿!CM45","v":""},{"$f":"名簿!Y45","v":""},{"$f":"名簿!CN45","v":""},{"$f":"名簿!CP45","v":0},{"$f":"名簿!CU45","v":"00"},{"$f":"名簿!Q45","v":""},{"$f":"名簿!D45","v":0},null,{"$f":"IF(O48=\"\",\"\",IF(I48=1,VLOOKUP(O48,男子種目コード!$P$1:$Q$26,2,FALSE),IF(I48=2,VLOOKUP(O48,女子種目コード!$P$1:$Q$26,2,FALSE))))","v":""},{"$f":"IF(O48=\"\",\"\",HLOOKUP(O48,名簿!$AH$3:$CH$118,43,FALSE))","v":""},null,"","",null,{"$f":"IF(U48=\"\",\"\",IF(I48=1,VLOOKUP(U48,男子種目コード!$P$1:$Q$26,2,FALSE),IF(I48=2,VLOOKUP(U48,女子種目コード!$P$1:$Q$26,2,FALSE))))","v":""},{"$f":"IF(U48=\"\",\"\",HLOOKUP(U48,名簿!$AH$3:$CH$118,43,FALSE))","v":""},null,"","",{"$f":"IF(X48=\"\",\"\",IF(I48=1,VLOOKUP(X48,男子種目コード!$J$2:$K$30,2,FALSE),IF(I48=2,VLOOKUP(X48,女子種目コード!$J$2:$K$28,2,FALSE))))","v":""},null,null,{"$f":"IF(AC48=\"\",\"\",IF(I48=1,VLOOKUP(AC48,男子種目コード!$J$2:$K$30,2,FALSE),IF(I48=2,VLOOKUP(AC48,女子種目コード!$J$2:$K$28,2,FALSE))))","v":""},null,null,{"$f":"IF(AF48=\"\",\"\",IF(I48=1,VLOOKUP(AF48,男子種目コード!$J$2:$K$30,2,FALSE),IF(I48=2,VLOOKUP(AF48,女子種目コード!$J$2:$K$28,2,FALSE))))","v":""},null,null,null,null,null,"","",null,null,null,"女子C(1年）",null,null,null,null,null,0,null,null,null,null,0,"",""]
[null,{"$f":"名簿!P46","v":""},null,null,{"$f":"名簿!E46","v":0},{"$f":"名簿!CM46","v":""},{"$f":"名簿!Z46","v":""},{"$f":"名簿!CM46","v":""},{"$f":"名簿!Y46","v":""},{"$f":"名簿!CN46","v":""},{"$f":"名簿!CP46","v":0},{"$f":"名簿!CU46","v":"00"},{"$f":"名簿!Q46","v":""},{"$f":"名簿!D46","v":0},null,{"$f":"IF(O49=\"\",\"\",IF(I49=1,VLOOKUP(O49,男子種目コード!$P$1:$Q$26,2,FALSE),IF(I49=2,VLOOKUP(O49,女子種目コード!$P$1:$Q$26,2,FALSE))))","v":""},{"$f":"IF(O49=\"\",\"\",HLOOKUP(O49,名簿!$AH$3:$CH$118,44,FALSE))","v":""},null,"","",null,{"$f":"IF(U49=\"\",\"\",IF(I49=1,VLOOKUP(U49,男子種目コード!$P$1:$Q$26,2,FALSE),IF(I49=2,VLOOKUP(U49,女子種目コード!$P$1:$Q$26,2,FALSE))))","v":""},{"$f":"IF(U49=\"\",\"\",HLOOKUP(U49,名簿!$AH$3:$CH$118,44,FALSE))","v":""},null,"","",{"$f":"IF(X49=\"\",\"\",IF(I49=1,VLOOKUP(X49,男子種目コード!$J$2:$K$30,2,FALSE),IF(I49=2,VLOOKUP(X49,女子種目コード!$J$2:$K$28,2,FALSE))))","v":""},null,null,{"$f":"IF(AC49=\"\",\"\",IF(I49=1,VLOOKUP(AC49,男子種目コード!$J$2:$K$30,2,FALSE),IF(I49=2,VLOOKUP(AC49,女子種目コード!$J$2:$K$28,2,FALSE))))","v":""},null,null,{"$f":"IF(AF49=\"\",\"\",IF(I49=1,VLOOKUP(AF49,男子種目コード!$J$2:$K$30,2,FALSE),IF(I49=2,VLOOKUP(AF49,女子種目コード!$J$2:$K$28,2,FALSE))))","v":""},null,null,null,null,null,"","",null,null,null,100,"14.20",null,null,null,null,0,null,null,null,null,0,"",""]
[null,{"$f":"名簿!P47","v":""},null,null,{"$f":"名簿!E47","v":0},{"$f":"名簿!CM47","v":""},{"$f":"名簿!Z47","v":""},{"$f":"名簿!CM47","v":""},{"$f":"名簿!Y47","v":""},{"$f":"名簿!CN47","v":""},{"$f":"名簿!CP47","v":0},{"$f":"名簿!CU47","v":"00"},{"$f":"名簿!Q47","v":""},{"$f":"名簿!D47","v":0},null,{"$f":"IF(O50=\"\",\"\",IF(I50=1,VLOOKUP(O50,男子種目コード!$P$1:$Q$26,2,FALSE),IF(I50=2,VLOOKUP(O50,女子種目コード!$P$1:$Q$26,2,FALSE))))","v":""},{"$f":"IF(O50=\"\",\"\",HLOOKUP(O50,名簿!$AH$3:$CH$118,45,FALSE))","v":""},null,"","",null,{"$f":"IF(U50=\"\",\"\",IF(I50=1,VLOOKUP(U50,男子種目コード!$P$1:$Q$26,2,FALSE),IF(I50=2,VLOOKUP(U50,女子種目コード!$P$1:$Q$26,2,FALSE))))","v":""},{"$f":"IF(U50=\"\",\"\",HLOOKUP(U50,名簿!$AH$3:$CH$118,45,FALSE))","v":""},null,"","",{"$f":"IF(X50=\"\",\"\",IF(I50=1,VLOOKUP(X50,男子種目コード!$J$2:$K$30,2,FALSE),IF(I50=2,VLOOKUP(X50,女子種目コード!$J$2:$K$28,2,FALSE))))","v":""},null,null,{"$f":"IF(AC50=\"\",\"\",IF(I50=1,VLOOKUP(AC50,男子種目コード!$J$2:$K$30,2,FALSE),IF(I50=2,VLOOKUP(AC50,女子種目コード!$J$2:$K$28,2,FALSE))))","v":""},null,null,{"$f":"IF(AF50=\"\",\"\",IF(I50=1,VLOOKUP(AF50,男子種目コード!$J$2:$K$30,2,FALSE),IF(I50=2,VLOOKUP(AF50,女子種目コード!$J$2:$K$28,2,FALSE))))","v":""},null,null,null,null,null,"","",null,null,null,800,"2.45.00",null,null,null,null,0,null,null,null,null,0,"",""]
[null,{"$f":"名簿!P48","v":""},null,null,{"$f":"名簿!E48","v":0},{"$f":"名簿!CM48","v":""},{"$f":"名簿!Z48","v":""},{"$f":"名簿!CM48","v":""},{"$f":"名簿!Y48","v":""},{"$f":"名簿!CN48","v":""},{"$f":"名簿!CP48","v":0},{"$f":"名簿!CU48","v":"00"},{"$f":"名簿!Q48","v":""},{"$f":"名簿!D48","v":0},null,{"$f":"IF(O51=\"\",\"\",IF(I51=1,VLOOKUP(O51,男子種目コード!$P$1:$Q$26,2,FALSE),IF(I51=2,VLOOKUP(O51,女子種目コード!$P$1:$Q$26,2,FALSE))))","v":""},{"$f":"IF(O51=\"\",\"\",HLOOKUP(O51,名簿!$AH$3:$CH$118,46,FALSE))","v":""},null,"","",null,{"$f":"IF(U51=\"\",\"\",IF(I51=1,VLOOKUP(U51,男子種目コード!$P$1:$Q$26,2,FALSE),IF(I51=2,VLOOKUP(U51,女子種目コード!$P$1:$Q$26,2,FALSE))))","v":""},{"$f":"IF(U51=\"\",\"\",HLOOKUP(U51,名簿!$AH$3:$CH$118,46,FALSE))","v":""},null,"","",{"$f":"IF(X51=\"\",\"\",IF(I51=1,VLOOKUP(X51,男子種目コード!$J$2:$K$30,2,FALSE),IF(I51=2,VLOOKUP(X51,女子種目コード!$J$2:$K$28,2,FALSE))))","v":""},null,null,{"$f":"IF(AC51=\"\",\"\",IF(I51=1,VLOOKUP(AC51,男子種目コード!$J$2:$K$30,2,FALSE),IF(I51=2,VLOOKUP(AC51,女子種目コード!$J$2:$K$28,2,FALSE))))","v":""},null,null,{"$f":"IF(AF51=\"\",\"\",IF(I51=1,VLOOKUP(AF51,男子種目コード!$J$2:$K$30,2,FALSE),IF(I51=2,VLOOKUP(AF51,女子種目コード!$J$2:$K$28,2,FALSE))))","v":""},null,null,null,null,null,"","",null,null,null,"走幅跳","4m00",null,null,null,null,0,null,null,null,null,0,"",""]
[null,{"$f":"名簿!P49","v":""},null,null,{"$f":"名簿!E49","v":0},{"$f":"名簿!CM49","v":""},{"$f":"名簿!Z49","v":""},{"$f":"名簿!CM49","v":""},{"$f":"名簿!Y49","v":""},{"$f":"名簿!CN49","v":""},{"$f":"名簿!CP49","v":0},{"$f":"名簿!CU49","v":"00"},{"$f":"名簿!Q49","v":""},{"$f":"名簿!D49","v":0},null,{"$f":"IF(O52=\"\",\"\",IF(I52=1,VLOOKUP(O52,男子種目コード!$P$1:$Q$26,2,FALSE),IF(I52=2,VLOOKUP(O52,女子種目コード!$P$1:$Q$26,2,FALSE))))","v":""},{"$f":"IF(O52=\"\",\"\",HLOOKUP(O52,名簿!$AH$3:$CH$118,47,FALSE))","v":""},null,"","",null,{"$f":"IF(U52=\"\",\"\",IF(I52=1,VLOOKUP(U52,男子種目コード!$P$1:$Q$26,2,FALSE),IF(I52=2,VLOOKUP(U52,女子種目コード!$P$1:$Q$26,2,FALSE))))","v":""},{"$f":"IF(U52=\"\",\"\",HLOOKUP(U52,名簿!$AH$3:$CH$118,47,FALSE))","v":""},null,"","",{"$f":"IF(X52=\"\",\"\",IF(I52=1,VLOOKUP(X52,男子種目コード!$J$2:$K$30,2,FALSE),IF(I52=2,VLOOKUP(X52,女子種目コード!$J$2:$K$28,2,FALSE))))","v":""},null,null,{"$f":"IF(AC52=\"\",\"\",IF(I52=1,VLOOKUP(AC52,男子種目コード!$J$2:$K$30,2,FALSE),IF(I52=2,VLOOKUP(AC52,女子種目コード!$J$2:$K$28,2,FALSE))))","v":""},null,null,{"$f":"IF(AF52=\"\",\"\",IF(I52=1,VLOOKUP(AF52,男子種目コード!$J$2:$K$30,2,FALSE),IF(I52=2,VLOOKUP(AF52,女子種目コード!$J$2:$K$28,2,FALSE))))","v":""},null,null,null,null,null,"","",null,null,null,"ｼﾞｬﾍﾞﾘｯｸ","28m00",null,null,null,null,0,null,null,null,null,0,"",""]
[null,{"$f":"名簿!P50","v":""},null,null,{"$f":"名簿!E50","v":0},{"$f":"名簿!CM50","v":""},{"$f":"名簿!Z50","v":""},{"$f":"名簿!CM50","v":""},{"$f":"名簿!Y50","v":""},{"$f":"名簿!CN50","v":""},{"$f":"名簿!CP50","v":0},{"$f":"名簿!CU50","v":"00"},{"$f":"名簿!Q50","v":""},{"$f":"名簿!D50","v":0},null,{"$f":"IF(O53=\"\",\"\",IF(I53=1,VLOOKUP(O53,男子種目コード!$P$1:$Q$26,2,FALSE),IF(I53=2,VLOOKUP(O53,女子種目コード!$P$1:$Q$26,2,FALSE))))","v":""},{"$f":"IF(O53=\"\",\"\",HLOOKUP(O53,名簿!$AH$3:$CH$118,48,FALSE))","v":""},null,"","",null,{"$f":"IF(U53=\"\",\"\",IF(I53=1,VLOOKUP(U53,男子種目コード!$P$1:$Q$26,2,FALSE),IF(I53=2,VLOOKUP(U53,女子種目コード!$P$1:$Q$26,2,FALSE))))","v":""},{"$f":"IF(U53=\"\",\"\",HLOOKUP(U53,名簿!$AH$3:$CH$118,48,FALSE))","v":""},null,"","",{"$f":"IF(X53=\"\",\"\",IF(I53=1,VLOOKUP(X53,男子種目コード!$J$2:$K$30,2,FALSE),IF(I53=2,VLOOKUP(X53,女子種目コード!$J$2:$K$28,2,FALSE))))","v":""},null,null,{"$f":"IF(AC53=\"\",\"\",IF(I53=1,VLOOKUP(AC53,男子種目コード!$J$2:$K$30,2,FALSE),IF(I53=2,VLOOKUP(AC53,女子種目コード!$J$2:$K$28,2,FALSE))))","v":""},null,null,{"$f":"IF(AF53=\"\",\"\",IF(I53=1,VLOOKUP(AF53,男子種目コード!$J$2:$K$30,2,FALSE),IF(I53=2,VLOOKUP(AF53,女子種目コード!$J$2:$K$28,2,FALSE))))","v":""},null,null,null,null,null,"","",null,null,null,null,null,null,null,null,null,0,null,null,null,null,0,"",""]
[null,{"$f":"名簿!P51","v":""},null,null,{"$f":"名簿!E51","v":0},{"$f":"名簿!CM51","v":""},{"$f":"名簿!Z51","v":""},{"$f":"名簿!CM51","v":""},{"$f":"名簿!Y51","v":""},{"$f":"名簿!CN51","v":""},{"$f":"名簿!CP51","v":0},{"$f":"名簿!CU51","v":"00"},{"$f":"名簿!Q51","v":""},{"$f":"名簿!D51","v":0},null,{"$f":"IF(O54=\"\",\"\",IF(I54=1,VLOOKUP(O54,男子種目コード!$P$1:$Q$26,2,FALSE),IF(I54=2,VLOOKUP(O54,女子種目コード!$P$1:$Q$26,2,FALSE))))","v":""},{"$f":"IF(O54=\"\",\"\",HLOOKUP(O54,名簿!$AH$3:$CH$118,49,FALSE))","v":""},null,"","",null,{"$f":"IF(U54=\"\",\"\",IF(I54=1,VLOOKUP(U54,男子種目コード!$P$1:$Q$26,2,FALSE),IF(I54=2,VLOOKUP(U54,女子種目コード!$P$1:$Q$26,2,FALSE))))","v":""},{"$f":"IF(U54=\"\",\"\",HLOOKUP(U54,名簿!$AH$3:$CH$118,49,FALSE))","v":""},null,"","",{"$f":"IF(X54=\"\",\"\",IF(I54=1,VLOOKUP(X54,男子種目コード!$J$2:$K$30,2,FALSE),IF(I54=2,VLOOKUP(X54,女子種目コード!$J$2:$K$28,2,FALSE))))","v":""},null,null,{"$f":"IF(AC54=\"\",\"\",IF(I54=1,VLOOKUP(AC54,男子種目コード!$J$2:$K$30,2,FALSE),IF(I54=2,VLOOKUP(AC54,女子種目コード!$J$2:$K$28,2,FALSE))))","v":""},null,null,{"$f":"IF(AF54=\"\",\"\",IF(I54=1,VLOOKUP(AF54,男子種目コード!$J$2:$K$30,2,FALSE),IF(I54=2,VLOOKUP(AF54,女子種目コード!$J$2:$K$28,2,FALSE))))","v":""},null,null,null,null,null,"","",null,null,null,null,null,null,null,null,null,0,null,null,null,null,0,"",""]
[null,{"$f":"名簿!P52","v":""},null,null,{"$f":"名簿!E52","v":0},{"$f":"名簿!CM52","v":""},{"$f":"名簿!Z52","v":""},{"$f":"名簿!CM52","v":""},{"$f":"名簿!Y52","v":""},{"$f":"名簿!CN52","v":""},{"$f":"名簿!CP52","v":0},{"$f":"名簿!CU52","v":"00"},{"$f":"名簿!Q52","v":""},{"$f":"名簿!D52","v":0},null,{"$f":"IF(O55=\"\",\"\",IF(I55=1,VLOOKUP(O55,男子種目コード!$P$1:$Q$26,2,FALSE),IF(I55=2,VLOOKUP(O55,女子種目コード!$P$1:$Q$26,2,FALSE))))","v":""},{"$f":"IF(O55=\"\",\"\",HLOOKUP(O55,名簿!$AH$3:$CH$118,50,FALSE))","v":""},null,"","",null,{"$f":"IF(U55=\"\",\"\",IF(I55=1,VLOOKUP(U55,男子種目コード!$P$1:$Q$26,2,FALSE),IF(I55=2,VLOOKUP(U55,女子種目コード!$P$1:$Q$26,2,FALSE))))","v":""},{"$f":"IF(U55=\"\",\"\",HLOOKUP(U55,名簿!$AH$3:$CH$118,50,FALSE))","v":""},null,"","",{"$f":"IF(X55=\"\",\"\",IF(I55=1,VLOOKUP(X55,男子種目コード!$J$2:$K$30,2,FALSE),IF(I55=2,VLOOKUP(X55,女子種目コード!$J$2:$K$28,2,FALSE))))","v":""},null,null,{"$f":"IF(AC55=\"\",\"\",IF(I55=1,VLOOKUP(AC55,男子種目コード!$J$2:$K$30,2,FALSE),IF(I55=2,VLOOKUP(AC55,女子種目コード!$J$2:$K$28,2,FALSE))))","v":""},null,null,{"$f":"IF(AF55=\"\",\"\",IF(I55=1,VLOOKUP(AF55,男子種目コード!$J$2:$K$30,2,FALSE),IF(I55=2,VLOOKUP(AF55,女子種目コード!$J$2:$K$28,2,FALSE))))","v":""},null,null,null,null,null,"","",null,null,null,null,null,null,null,null,null,0,null,null,null,null,0,"",""]
[null,{"$f":"名簿!P53","v":""},null,null,{"$f":"名簿!E53","v":0},{"$f":"名簿!CM53","v":""},{"$f":"名簿!Z53","v":""},{"$f":"名簿!CM53","v":""},{"$f":"名簿!Y53","v":""},{"$f":"名簿!CN53","v":""},{"$f":"名簿!CP53","v":0},{"$f":"名簿!CU53","v":"00"},{"$f":"名簿!Q53","v":""},{"$f":"名簿!D53","v":0},null,{"$f":"IF(O56=\"\",\"\",IF(I56=1,VLOOKUP(O56,男子種目コード!$P$1:$Q$26,2,FALSE),IF(I56=2,VLOOKUP(O56,女子種目コード!$P$1:$Q$26,2,FALSE))))","v":""},{"$f":"IF(O56=\"\",\"\",HLOOKUP(O56,名簿!$AH$3:$CH$118,51,FALSE))","v":""},null,"","",null,{"$f":"IF(U56=\"\",\"\",IF(I56=1,VLOOKUP(U56,男子種目コード!$P$1:$Q$26,2,FALSE),IF(I56=2,VLOOKUP(U56,女子種目コード!$P$1:$Q$26,2,FALSE))))","v":""},{"$f":"IF(U56=\"\",\"\",HLOOKUP(U56,名簿!$AH$3:$CH$118,51,FALSE))","v":""},null,"","",{"$f":"IF(X56=\"\",\"\",IF(I56=1,VLOOKUP(X56,男子種目コード!$J$2:$K$30,2,FALSE),IF(I56=2,VLOOKUP(X56,女子種目コード!$J$2:$K$28,2,FALSE))))","v":""},null,null,{"$f":"IF(AC56=\"\",\"\",IF(I56=1,VLOOKUP(AC56,男子種目コード!$J$2:$K$30,2,FALSE),IF(I56=2,VLOOKUP(AC56,女子種目コード!$J$2:$K$28,2,FALSE))))","v":""},null,null,{"$f":"IF(AF56=\"\",\"\",IF(I56=1,VLOOKUP(AF56,男子種目コード!$J$2:$K$30,2,FALSE),IF(I56=2,VLOOKUP(AF56,女子種目コード!$J$2:$K$28,2,FALSE))))","v":""},null,null,null,null,null,"","",null,null,null,null,null,null,null,null,null,0,null,null,null,null,0,"",""]
[null,{"$f":"名簿!P54","v":""},null,null,{"$f":"名簿!E54","v":0},{"$f":"名簿!CM54","v":""},{"$f":"名簿!Z54","v":""},{"$f":"名簿!CM54","v":""},{"$f":"名簿!Y54","v":""},{"$f":"名簿!CN54","v":""},{"$f":"名簿!CP54","v":0},{"$f":"名簿!CU54","v":"00"},{"$f":"名簿!Q54","v":""},{"$f":"名簿!D54","v":0},null,{"$f":"IF(O57=\"\",\"\",IF(I57=1,VLOOKUP(O57,男子種目コード!$P$1:$Q$26,2,FALSE),IF(I57=2,VLOOKUP(O57,女子種目コード!$P$1:$Q$26,2,FALSE))))","v":""},{"$f":"IF(O57=\"\",\"\",HLOOKUP(O57,名簿!$AH$3:$CH$118,52,FALSE))","v":""},null,"","",null,{"$f":"IF(U57=\"\",\"\",IF(I57=1,VLOOKUP(U57,男子種目コード!$P$1:$Q$26,2,FALSE),IF(I57=2,VLOOKUP(U57,女子種目コード!$P$1:$Q$26,2,FALSE))))","v":""},{"$f":"IF(U57=\"\",\"\",HLOOKUP(U57,名簿!$AH$3:$CH$118,52,FALSE))","v":""},null,"","",{"$f":"IF(X57=\"\",\"\",IF(I57=1,VLOOKUP(X57,男子種目コード!$J$2:$K$30,2,FALSE),IF(I57=2,VLOOKUP(X57,女子種目コード!$J$2:$K$28,2,FALSE))))","v":""},null,null,{"$f":"IF(AC57=\"\",\"\",IF(I57=1,VLOOKUP(AC57,男子種目コード!$J$2:$K$30,2,FALSE),IF(I57=2,VLOOKUP(AC57,女子種目コード!$J$2:$K$28,2,FALSE))))","v":""},null,null,{"$f":"IF(AF57=\"\",\"\",IF(I57=1,VLOOKUP(AF57,男子種目コード!$J$2:$K$30,2,FALSE),IF(I57=2,VLOOKUP(AF57,女子種目コード!$J$2:$K$28,2,FALSE))))","v":""},null,null,null,null,null,"","",null,null,null,null,null,null,null,null,null,0,null,null,null,null,0,"",""]
[null,{"$f":"名簿!P55","v":""},null,null,{"$f":"名簿!E55","v":0},{"$f":"名簿!CM55","v":""},{"$f":"名簿!Z55","v":""},{"$f":"名簿!CM55","v":""},{"$f":"名簿!Y55","v":""},{"$f":"名簿!CN55","v":""},{"$f":"名簿!CP55","v":0},{"$f":"名簿!CU55","v":"00"},{"$f":"名簿!Q55","v":""},{"$f":"名簿!D55","v":0},null,{"$f":"IF(O58=\"\",\"\",IF(I58=1,VLOOKUP(O58,男子種目コード!$P$1:$Q$26,2,FALSE),IF(I58=2,VLOOKUP(O58,女子種目コード!$P$1:$Q$26,2,FALSE))))","v":""},{"$f":"IF(O58=\"\",\"\",HLOOKUP(O58,名簿!$AH$3:$CH$118,53,FALSE))","v":""},null,"","",null,{"$f":"IF(U58=\"\",\"\",IF(I58=1,VLOOKUP(U58,男子種目コード!$P$1:$Q$26,2,FALSE),IF(I58=2,VLOOKUP(U58,女子種目コード!$P$1:$Q$26,2,FALSE))))","v":""},{"$f":"IF(U58=\"\",\"\",HLOOKUP(U58,名簿!$AH$3:$CH$118,53,FALSE))","v":""},null,"","",{"$f":"IF(X58=\"\",\"\",IF(I58=1,VLOOKUP(X58,男子種目コード!$J$2:$K$30,2,FALSE),IF(I58=2,VLOOKUP(X58,女子種目コード!$J$2:$K$28,2,FALSE))))","v":""},null,null,{"$f":"IF(AC58=\"\",\"\",IF(I58=1,VLOOKUP(AC58,男子種目コード!$J$2:$K$30,2,FALSE),IF(I58=2,VLOOKUP(AC58,女子種目コード!$J$2:$K$28,2,FALSE))))","v":""},null,null,{"$f":"IF(AF58=\"\",\"\",IF(I58=1,VLOOKUP(AF58,男子種目コード!$J$2:$K$30,2,FALSE),IF(I58=2,VLOOKUP(AF58,女子種目コード!$J$2:$K$28,2,FALSE))))","v":""},null,null,null,null,null,"","",null,null,null,null,null,null,null,null,null,0,null,null,null,null,0,"",""]
[null,{"$f":"名簿!P56","v":""},null,null,{"$f":"名簿!E56","v":0},{"$f":"名簿!CM56","v":""},{"$f":"名簿!Z56","v":""},{"$f":"名簿!CM56","v":""},{"$f":"名簿!Y56","v":""},{"$f":"名簿!CN56","v":""},{"$f":"名簿!CP56","v":0},{"$f":"名簿!CU56","v":"00"},{"$f":"名簿!Q56","v":""},{"$f":"名簿!D56","v":0},null,{"$f":"IF(O59=\"\",\"\",IF(I59=1,VLOOKUP(O59,男子種目コード!$P$1:$Q$26,2,FALSE),IF(I59=2,VLOOKUP(O59,女子種目コード!$P$1:$Q$26,2,FALSE))))","v":""},{"$f":"IF(O59=\"\",\"\",HLOOKUP(O59,名簿!$AH$3:$CH$118,54,FALSE))","v":""},null,"","",null,{"$f":"IF(U59=\"\",\"\",IF(I59=1,VLOOKUP(U59,男子種目コード!$P$1:$Q$26,2,FALSE),IF(I59=2,VLOOKUP(U59,女子種目コード!$P$1:$Q$26,2,FALSE))))","v":""},{"$f":"IF(U59=\"\",\"\",HLOOKUP(U59,名簿!$AH$3:$CH$118,54,FALSE))","v":""},null,"","",{"$f":"IF(X59=\"\",\"\",IF(I59=1,VLOOKUP(X59,男子種目コード!$J$2:$K$30,2,FALSE),IF(I59=2,VLOOKUP(X59,女子種目コード!$J$2:$K$28,2,FALSE))))","v":""},null,null,{"$f":"IF(AC59=\"\",\"\",IF(I59=1,VLOOKUP(AC59,男子種目コード!$J$2:$K$30,2,FALSE),IF(I59=2,VLOOKUP(AC59,女子種目コード!$J$2:$K$28,2,FALSE))))","v":""},null,null,{"$f":"IF(AF59=\"\",\"\",IF(I59=1,VLOOKUP(AF59,男子種目コード!$J$2:$K$30,2,FALSE),IF(I59=2,VLOOKUP(AF59,女子種目コード!$J$2:$K$28,2,FALSE))))","v":""},null,null,null,null,null,"","",null,null,null,null,null,null,null,null,null,0,null,null,null,null,0,"",""]
[null,{"$f":"名簿!P57","v":""},null,null,{"$f":"名簿!E57","v":0},{"$f":"名簿!CM57","v":""},{"$f":"名簿!Z57","v":""},{"$f":"名簿!CM57","v":""},{"$f":"名簿!Y57","v":""},{"$f":"名簿!CN57","v":""},{"$f":"名簿!CP57","v":0},{"$f":"名簿!CU57","v":"00"},{"$f":"名簿!Q57","v":""},{"$f":"名簿!D57","v":0},null,{"$f":"IF(O60=\"\",\"\",IF(I60=1,VLOOKUP(O60,男子種目コード!$P$1:$Q$26,2,FALSE),IF(I60=2,VLOOKUP(O60,女子種目コード!$P$1:$Q$26,2,FALSE))))","v":""},{"$f":"IF(O60=\"\",\"\",HLOOKUP(O60,名簿!$AH$3:$CH$118,55,FALSE))","v":""},null,"","",null,{"$f":"IF(U60=\"\",\"\",IF(I60=1,VLOOKUP(U60,男子種目コード!$P$1:$Q$26,2,FALSE),IF(I60=2,VLOOKUP(U60,女子種目コード!$P$1:$Q$26,2,FALSE))))","v":""},{"$f":"IF(U60=\"\",\"\",HLOOKUP(U60,名簿!$AH$3:$CH$118,55,FALSE))","v":""},null,"","",{"$f":"IF(X60=\"\",\"\",IF(I60=1,VLOOKUP(X60,男子種目コード!$J$2:$K$30,2,FALSE),IF(I60=2,VLOOKUP(X60,女子種目コード!$J$2:$K$28,2,FALSE))))","v":""},null,null,{"$f":"IF(AC60=\"\",\"\",IF(I60=1,VLOOKUP(AC60,男子種目コード!$J$2:$K$30,2,FALSE),IF(I60=2,VLOOKUP(AC60,女子種目コード!$J$2:$K$28,2,FALSE))))","v":""},null,null,{"$f":"IF(AF60=\"\",\"\",IF(I60=1,VLOOKUP(AF60,男子種目コード!$J$2:$K$30,2,FALSE),IF(I60=2,VLOOKUP(AF60,女子種目コード!$J$2:$K$28,2,FALSE))))","v":""},null,null,null,null,null,"","",null,null,null,null,null,null,null,null,null,0,null,null,null,null,0,"",""]
[null,{"$f":"名簿!P58","v":""},null,null,{"$f":"名簿!E58","v":0},{"$f":"名簿!CM58","v":""},{"$f":"名簿!Z58","v":""},{"$f":"名簿!CM58","v":""},{"$f":"名簿!Y58","v":""},{"$f":"名簿!CN58","v":""},{"$f":"名簿!CP58","v":0},{"$f":"名簿!CU58","v":"00"},{"$f":"名簿!Q58","v":""},{"$f":"名簿!D58","v":0},null,{"$f":"IF(O61=\"\",\"\",IF(I61=1,VLOOKUP(O61,男子種目コード!$P$1:$Q$26,2,FALSE),IF(I61=2,VLOOKUP(O61,女子種目コード!$P$1:$Q$26,2,FALSE))))","v":""},{"$f":"IF(O61=\"\",\"\",HLOOKUP(O61,名簿!$AH$3:$CH$118,56,FALSE))","v":""},null,"","",null,{"$f":"IF(U61=\"\",\"\",IF(I61=1,VLOOKUP(U61,男子種目コード!$P$1:$Q$26,2,FALSE),IF(I61=2,VLOOKUP(U61,女子種目コード!$P$1:$Q$26,2,FALSE))))","v":""},{"$f":"IF(U61=\"\",\"\",HLOOKUP(U61,名簿!$AH$3:$CH$118,56,FALSE))","v":""},null,"","",{"$f":"IF(X61=\"\",\"\",IF(I61=1,VLOOKUP(X61,男子種目コード!$J$2:$K$30,2,FALSE),IF(I61=2,VLOOKUP(X61,女子種目コード!$J$2:$K$28,2,FALSE))))","v":""},null,null,{"$f":"IF(AC61=\"\",\"\",IF(I61=1,VLOOKUP(AC61,男子種目コード!$J$2:$K$30,2,FALSE),IF(I61=2,VLOOKUP(AC61,女子種目コード!$J$2:$K$28,2,FALSE))))","v":""},null,null,{"$f":"IF(AF61=\"\",\"\",IF(I61=1,VLOOKUP(AF61,男子種目コード!$J$2:$K$30,2,FALSE),IF(I61=2,VLOOKUP(AF61,女子種目コード!$J$2:$K$28,2,FALSE))))","v":""},null,null,null,null,null,"","",null,null,null,null,null,null,null,null,null,0,null,null,null,null,0,"",""]
[null,{"$f":"名簿!P59","v":""},null,null,{"$f":"名簿!E59","v":0},{"$f":"名簿!CM59","v":""},{"$f":"名簿!Z59","v":""},{"$f":"名簿!CM59","v":""},{"$f":"名簿!Y59","v":""},{"$f":"名簿!CN59","v":""},{"$f":"名簿!CP59","v":0},{"$f":"名簿!CU59","v":"00"},{"$f":"名簿!Q59","v":""},{"$f":"名簿!D59","v":0},null,{"$f":"IF(O62=\"\",\"\",IF(I62=1,VLOOKUP(O62,男子種目コード!$P$1:$Q$26,2,FALSE),IF(I62=2,VLOOKUP(O62,女子種目コード!$P$1:$Q$26,2,FALSE))))","v":""},{"$f":"IF(O62=\"\",\"\",HLOOKUP(O62,名簿!$AH$3:$CH$118,57,FALSE))","v":""},null,"","",null,{"$f":"IF(U62=\"\",\"\",IF(I62=1,VLOOKUP(U62,男子種目コード!$P$1:$Q$26,2,FALSE),IF(I62=2,VLOOKUP(U62,女子種目コード!$P$1:$Q$26,2,FALSE))))","v":""},{"$f":"IF(U62=\"\",\"\",HLOOKUP(U62,名簿!$AH$3:$CH$118,57,FALSE))","v":""},null,"","",{"$f":"IF(X62=\"\",\"\",IF(I62=1,VLOOKUP(X62,男子種目コード!$J$2:$K$30,2,FALSE),IF(I62=2,VLOOKUP(X62,女子種目コード!$J$2:$K$28,2,FALSE))))","v":""},null,null,{"$f":"IF(AC62=\"\",\"\",IF(I62=1,VLOOKUP(AC62,男子種目コード!$J$2:$K$30,2,FALSE),IF(I62=2,VLOOKUP(AC62,女子種目コード!$J$2:$K$28,2,FALSE))))","v":""},null,null,{"$f":"IF(AF62=\"\",\"\",IF(I62=1,VLOOKUP(AF62,男子種目コード!$J$2:$K$30,2,FALSE),IF(I62=2,VLOOKUP(AF62,女子種目コード!$J$2:$K$28,2,FALSE))))","v":""},null,null,null,null,null,"","",null,null,null,null,null,null,null,null,null,0,null,null,null,null,0,"",""]
[null,{"$f":"名簿!P60","v":""},null,null,{"$f":"名簿!E60","v":0},{"$f":"名簿!CM60","v":""},{"$f":"名簿!Z60","v":""},{"$f":"名簿!CM60","v":""},{"$f":"名簿!Y60","v":""},{"$f":"名簿!CN60","v":""},{"$f":"名簿!CP60","v":0},{"$f":"名簿!CU60","v":"00"},{"$f":"名簿!Q60","v":""},{"$f":"名簿!D60","v":0},null,{"$f":"IF(O63=\"\",\"\",IF(I63=1,VLOOKUP(O63,男子種目コード!$P$1:$Q$26,2,FALSE),IF(I63=2,VLOOKUP(O63,女子種目コード!$P$1:$Q$26,2,FALSE))))","v":""},{"$f":"IF(O63=\"\",\"\",HLOOKUP(O63,名簿!$AH$3:$CH$118,58,FALSE))","v":""},null,"","",null,{"$f":"IF(U63=\"\",\"\",IF(I63=1,VLOOKUP(U63,男子種目コード!$P$1:$Q$26,2,FALSE),IF(I63=2,VLOOKUP(U63,女子種目コード!$P$1:$Q$26,2,FALSE))))","v":""},{"$f":"IF(U63=\"\",\"\",HLOOKUP(U63,名簿!$AH$3:$CH$118,58,FALSE))","v":""},null,"","",{"$f":"IF(X63=\"\",\"\",IF(I63=1,VLOOKUP(X63,男子種目コード!$J$2:$K$30,2,FALSE),IF(I63=2,VLOOKUP(X63,女子種目コード!$J$2:$K$28,2,FALSE))))","v":""},null,null,{"$f":"IF(AC63=\"\",\"\",IF(I63=1,VLOOKUP(AC63,男子種目コード!$J$2:$K$30,2,FALSE),IF(I63=2,VLOOKUP(AC63,女子種目コード!$J$2:$K$28,2,FALSE))))","v":""},null,null,{"$f":"IF(AF63=\"\",\"\",IF(I63=1,VLOOKUP(AF63,男子種目コード!$J$2:$K$30,2,FALSE),IF(I63=2,VLOOKUP(AF63,女子種目コード!$J$2:$K$28,2,FALSE))))","v":""},null,null,null,null,null,"","",null,null,null,null,null,null,null,null,null,0,null,null,null,null,0,"",""]
[null,{"$f":"名簿!P61","v":""},null,null,{"$f":"名簿!E61","v":0},{"$f":"名簿!CM61","v":""},{"$f":"名簿!Z61","v":""},{"$f":"名簿!CM61","v":""},{"$f":"名簿!Y61","v":""},{"$f":"名簿!CN61","v":""},{"$f":"名簿!CP61","v":0},{"$f":"名簿!CU61","v":"00"},{"$f":"名簿!Q61","v":""},{"$f":"名簿!D61","v":0},null,{"$f":"IF(O64=\"\",\"\",IF(I64=1,VLOOKUP(O64,男子種目コード!$P$1:$Q$26,2,FALSE),IF(I64=2,VLOOKUP(O64,女子種目コード!$P$1:$Q$26,2,FALSE))))","v":""},{"$f":"IF(O64=\"\",\"\",HLOOKUP(O64,名簿!$AH$3:$CH$118,59,FALSE))","v":""},null,"","",null,{"$f":"IF(U64=\"\",\"\",IF(I64=1,VLOOKUP(U64,男子種目コード!$P$1:$Q$26,2,FALSE),IF(I64=2,VLOOKUP(U64,女子種目コード!$P$1:$Q$26,2,FALSE))))","v":""},{"$f":"IF(U64=\"\",\"\",HLOOKUP(U64,名簿!$AH$3:$CH$118,59,FALSE))","v":""},null,"","",{"$f":"IF(X64=\"\",\"\",IF(I64=1,VLOOKUP(X64,男子種目コード!$J$2:$K$30,2,FALSE),IF(I64=2,VLOOKUP(X64,女子種目コード!$J$2:$K$28,2,FALSE))))","v":""},null,null,{"$f":"IF(AC64=\"\",\"\",IF(I64=1,VLOOKUP(AC64,男子種目コード!$J$2:$K$30,2,FALSE),IF(I64=2,VLOOKUP(AC64,女子種目コード!$J$2:$K$28,2,FALSE))))","v":""},null,null,{"$f":"IF(AF64=\"\",\"\",IF(I64=1,VLOOKUP(AF64,男子種目コード!$J$2:$K$30,2,FALSE),IF(I64=2,VLOOKUP(AF64,女子種目コード!$J$2:$K$28,2,FALSE))))","v":""},null,null,null,null,null,"","",null,null,null,null,null,null,null,null,null,0,null,null,null,null,0,"",""]
[null,{"$f":"名簿!P62","v":""},null,null,{"$f":"名簿!E62","v":0},{"$f":"名簿!CM62","v":""},{"$f":"名簿!Z62","v":""},{"$f":"名簿!CM62","v":""},{"$f":"名簿!Y62","v":""},{"$f":"名簿!CN62","v":""},{"$f":"名簿!CP62","v":0},{"$f":"名簿!CU62","v":"00"},{"$f":"名簿!Q62","v":""},{"$f":"名簿!D62","v":0},null,{"$f":"IF(O65=\"\",\"\",IF(I65=1,VLOOKUP(O65,男子種目コード!$P$1:$Q$26,2,FALSE),IF(I65=2,VLOOKUP(O65,女子種目コード!$P$1:$Q$26,2,FALSE))))","v":""},{"$f":"IF(O65=\"\",\"\",HLOOKUP(O65,名簿!$AH$3:$CH$118,60,FALSE))","v":""},null,"","",null,{"$f":"IF(U65=\"\",\"\",IF(I65=1,VLOOKUP(U65,男子種目コード!$P$1:$Q$26,2,FALSE),IF(I65=2,VLOOKUP(U65,女子種目コード!$P$1:$Q$26,2,FALSE))))","v":""},{"$f":"IF(U65=\"\",\"\",HLOOKUP(U65,名簿!$AH$3:$CH$118,60,FALSE))","v":""},null,"","",{"$f":"IF(X65=\"\",\"\",IF(I65=1,VLOOKUP(X65,男子種目コード!$J$2:$K$30,2,FALSE),IF(I65=2,VLOOKUP(X65,女子種目コード!$J$2:$K$28,2,FALSE))))","v":""},null,null,{"$f":"IF(AC65=\"\",\"\",IF(I65=1,VLOOKUP(AC65,男子種目コード!$J$2:$K$30,2,FALSE),IF(I65=2,VLOOKUP(AC65,女子種目コード!$J$2:$K$28,2,FALSE))))","v":""},null,null,{"$f":"IF(AF65=\"\",\"\",IF(I65=1,VLOOKUP(AF65,男子種目コード!$J$2:$K$30,2,FALSE),IF(I65=2,VLOOKUP(AF65,女子種目コード!$J$2:$K$28,2,FALSE))))","v":""},null,null,null,null,null,"","",null,null,null,null,null,null,null,null,null,0,null,null,null,null,0,"",""]
[null,{"$f":"名簿!P63","v":""},null,null,{"$f":"名簿!E63","v":0},{"$f":"名簿!CM63","v":""},{"$f":"名簿!Z63","v":""},{"$f":"名簿!CM63","v":""},{"$f":"名簿!Y63","v":""},{"$f":"名簿!CN63","v":""},{"$f":"名簿!CP63","v":0},{"$f":"名簿!CU63","v":"00"},{"$f":"名簿!Q63","v":""},{"$f":"名簿!D63","v":0},null,{"$f":"IF(O66=\"\",\"\",IF(I66=1,VLOOKUP(O66,男子種目コード!$P$1:$Q$26,2,FALSE),IF(I66=2,VLOOKUP(O66,女子種目コード!$P$1:$Q$26,2,FALSE))))","v":""},{"$f":"IF(O66=\"\",\"\",HLOOKUP(O66,名簿!$AH$3:$CH$118,61,FALSE))","v":""},null,"","",null,{"$f":"IF(U66=\"\",\"\",IF(I66=1,VLOOKUP(U66,男子種目コード!$P$1:$Q$26,2,FALSE),IF(I66=2,VLOOKUP(U66,女子種目コード!$P$1:$Q$26,2,FALSE))))","v":""},{"$f":"IF(U66=\"\",\"\",HLOOKUP(U66,名簿!$AH$3:$CH$118,61,FALSE))","v":""},null,"","",{"$f":"IF(X66=\"\",\"\",IF(I66=1,VLOOKUP(X66,男子種目コード!$J$2:$K$30,2,FALSE),IF(I66=2,VLOOKUP(X66,女子種目コード!$J$2:$K$28,2,FALSE))))","v":""},null,null,{"$f":"IF(AC66=\"\",\"\",IF(I66=1,VLOOKUP(AC66,男子種目コード!$J$2:$K$30,2,FALSE),IF(I66=2,VLOOKUP(AC66,女子種目コード!$J$2:$K$28,2,FALSE))))","v":""},null,null,{"$f":"IF(AF66=\"\",\"\",IF(I66=1,VLOOKUP(AF66,男子種目コード!$J$2:$K$30,2,FALSE),IF(I66=2,VLOOKUP(AF66,女子種目コード!$J$2:$K$28,2,FALSE))))","v":""},null,null,null,null,null,"","",null,null,null,null,null,null,null,null,null,0,null,null,null,null,0,"",""]
[null,{"$f":"名簿!P64","v":""},null,null,{"$f":"名簿!E64","v":0},{"$f":"名簿!CM64","v":""},{"$f":"名簿!Z64","v":""},{"$f":"名簿!CM64","v":""},{"$f":"名簿!Y64","v":""},{"$f":"名簿!CN64","v":""},{"$f":"名簿!CP64","v":0},{"$f":"名簿!CU64","v":"00"},{"$f":"名簿!Q64","v":""},{"$f":"名簿!D64","v":0},null,{"$f":"IF(O67=\"\",\"\",IF(I67=1,VLOOKUP(O67,男子種目コード!$P$1:$Q$26,2,FALSE),IF(I67=2,VLOOKUP(O67,女子種目コード!$P$1:$Q$26,2,FALSE))))","v":""},{"$f":"IF(O67=\"\",\"\",HLOOKUP(O67,名簿!$AH$3:$CH$118,62,FALSE))","v":""},null,"","",null,{"$f":"IF(U67=\"\",\"\",IF(I67=1,VLOOKUP(U67,男子種目コード!$P$1:$Q$26,2,FALSE),IF(I67=2,VLOOKUP(U67,女子種目コード!$P$1:$Q$26,2,FALSE))))","v":""},{"$f":"IF(U67=\"\",\"\",HLOOKUP(U67,名簿!$AH$3:$CH$118,62,FALSE))","v":""},null,"","",{"$f":"IF(X67=\"\",\"\",IF(I67=1,VLOOKUP(X67,男子種目コード!$J$2:$K$30,2,FALSE),IF(I67=2,VLOOKUP(X67,女子種目コード!$J$2:$K$28,2,FALSE))))","v":""},null,null,{"$f":"IF(AC67=\"\",\"\",IF(I67=1,VLOOKUP(AC67,男子種目コード!$J$2:$K$30,2,FALSE),IF(I67=2,VLOOKUP(AC67,女子種目コード!$J$2:$K$28,2,FALSE))))","v":""},null,null,{"$f":"IF(AF67=\"\",\"\",IF(I67=1,VLOOKUP(AF67,男子種目コード!$J$2:$K$30,2,FALSE),IF(I67=2,VLOOKUP(AF67,女子種目コード!$J$2:$K$28,2,FALSE))))","v":""},null,null,null,null,null,"","",null,null,null,null,null,null,null,null,null,0,null,null,null,null,0,"",""]
[null,{"$f":"名簿!P65","v":""},null,null,{"$f":"名簿!E65","v":0},{"$f":"名簿!CM65","v":""},{"$f":"名簿!Z65","v":""},{"$f":"名簿!CM65","v":""},{"$f":"名簿!Y65","v":""},{"$f":"名簿!CN65","v":""},{"$f":"名簿!CP65","v":0},{"$f":"名簿!CU65","v":"00"},{"$f":"名簿!Q65","v":""},{"$f":"名簿!D65","v":0},null,{"$f":"IF(O68=\"\",\"\",IF(I68=1,VLOOKUP(O68,男子種目コード!$P$1:$Q$26,2,FALSE),IF(I68=2,VLOOKUP(O68,女子種目コード!$P$1:$Q$26,2,FALSE))))","v":""},{"$f":"IF(O68=\"\",\"\",HLOOKUP(O68,名簿!$AH$3:$CH$118,63,FALSE))","v":""},null,"","",null,{"$f":"IF(U68=\"\",\"\",IF(I68=1,VLOOKUP(U68,男子種目コード!$P$1:$Q$26,2,FALSE),IF(I68=2,VLOOKUP(U68,女子種目コード!$P$1:$Q$26,2,FALSE))))","v":""},{"$f":"IF(U68=\"\",\"\",HLOOKUP(U68,名簿!$AH$3:$CH$118,63,FALSE))","v":""},null,"","",{"$f":"IF(X68=\"\",\"\",IF(I68=1,VLOOKUP(X68,男子種目コード!$J$2:$K$30,2,FALSE),IF(I68=2,VLOOKUP(X68,女子種目コード!$J$2:$K$28,2,FALSE))))","v":""},null,null,{"$f":"IF(AC68=\"\",\"\",IF(I68=1,VLOOKUP(AC68,男子種目コード!$J$2:$K$30,2,FALSE),IF(I68=2,VLOOKUP(AC68,女子種目コード!$J$2:$K$28,2,FALSE))))","v":""},null,null,{"$f":"IF(AF68=\"\",\"\",IF(I68=1,VLOOKUP(AF68,男子種目コード!$J$2:$K$30,2,FALSE),IF(I68=2,VLOOKUP(AF68,女子種目コード!$J$2:$K$28,2,FALSE))))","v":""},null,null,null,null,null,"","",null,null,null,null,null,null,null,null,null,0,null,null,null,null,0,"",""]
[null,{"$f":"名簿!P66","v":""},null,null,{"$f":"名簿!E66","v":0},{"$f":"名簿!CM66","v":""},{"$f":"名簿!Z66","v":""},{"$f":"名簿!CM66","v":""},{"$f":"名簿!Y66","v":""},{"$f":"名簿!CN66","v":""},{"$f":"名簿!CP66","v":0},{"$f":"名簿!CU66","v":"00"},{"$f":"名簿!Q66","v":""},{"$f":"名簿!D66","v":0},null,{"$f":"IF(O69=\"\",\"\",IF(I69=1,VLOOKUP(O69,男子種目コード!$P$1:$Q$26,2,FALSE),IF(I69=2,VLOOKUP(O69,女子種目コード!$P$1:$Q$26,2,FALSE))))","v":""},{"$f":"IF(O69=\"\",\"\",HLOOKUP(O69,名簿!$AH$3:$CH$118,64,FALSE))","v":""},null,"","",null,{"$f":"IF(U69=\"\",\"\",IF(I69=1,VLOOKUP(U69,男子種目コード!$P$1:$Q$26,2,FALSE),IF(I69=2,VLOOKUP(U69,女子種目コード!$P$1:$Q$26,2,FALSE))))","v":""},{"$f":"IF(U69=\"\",\"\",HLOOKUP(U69,名簿!$AH$3:$CH$118,64,FALSE))","v":""},null,"","",{"$f":"IF(X69=\"\",\"\",IF(I69=1,VLOOKUP(X69,男子種目コード!$J$2:$K$30,2,FALSE),IF(I69=2,VLOOKUP(X69,女子種目コード!$J$2:$K$28,2,FALSE))))","v":""},null,null,{"$f":"IF(AC69=\"\",\"\",IF(I69=1,VLOOKUP(AC69,男子種目コード!$J$2:$K$30,2,FALSE),IF(I69=2,VLOOKUP(AC69,女子種目コード!$J$2:$K$28,2,FALSE))))","v":""},null,null,{"$f":"IF(AF69=\"\",\"\",IF(I69=1,VLOOKUP(AF69,男子種目コード!$J$2:$K$30,2,FALSE),IF(I69=2,VLOOKUP(AF69,女子種目コード!$J$2:$K$28,2,FALSE))))","v":""},null,null,null,null,null,"","",null,null,null,null,null,null,null,null,null,0,null,null,null,null,0,"",""]
[null,{"$f":"名簿!P67","v":""},null,null,{"$f":"名簿!E67","v":0},{"$f":"名簿!CM67","v":""},{"$f":"名簿!Z67","v":""},{"$f":"名簿!CM67","v":""},{"$f":"名簿!Y67","v":""},{"$f":"名簿!CN67","v":""},{"$f":"名簿!CP67","v":0},{"$f":"名簿!CU67","v":"00"},{"$f":"名簿!Q67","v":""},{"$f":"名簿!D67","v":0},null,{"$f":"IF(O70=\"\",\"\",IF(I70=1,VLOOKUP(O70,男子種目コード!$P$1:$Q$26,2,FALSE),IF(I70=2,VLOOKUP(O70,女子種目コード!$P$1:$Q$26,2,FALSE))))","v":""},{"$f":"IF(O70=\"\",\"\",HLOOKUP(O70,名簿!$AH$3:$CH$118,65,FALSE))","v":""},null,"","",null,{"$f":"IF(U70=\"\",\"\",IF(I70=1,VLOOKUP(U70,男子種目コード!$P$1:$Q$26,2,FALSE),IF(I70=2,VLOOKUP(U70,女子種目コード!$P$1:$Q$26,2,FALSE))))","v":""},{"$f":"IF(U70=\"\",\"\",HLOOKUP(U70,名簿!$AH$3:$CH$118,65,FALSE))","v":""},null,"","",{"$f":"IF(X70=\"\",\"\",IF(I70=1,VLOOKUP(X70,男子種目コード!$J$2:$K$30,2,FALSE),IF(I70=2,VLOOKUP(X70,女子種目コード!$J$2:$K$28,2,FALSE))))","v":""},null,null,{"$f":"IF(AC70=\"\",\"\",IF(I70=1,VLOOKUP(AC70,男子種目コード!$J$2:$K$30,2,FALSE),IF(I70=2,VLOOKUP(AC70,女子種目コード!$J$2:$K$28,2,FALSE))))","v":""},null,null,{"$f":"IF(AF70=\"\",\"\",IF(I70=1,VLOOKUP(AF70,男子種目コード!$J$2:$K$30,2,FALSE),IF(I70=2,VLOOKUP(AF70,女子種目コード!$J$2:$K$28,2,FALSE))))","v":""},null,null,null,null,null,"","",null,null,null,null,null,null,null,null,null,0,null,null,null,null,0,"",""]
[null,{"$f":"名簿!P68","v":""},null,null,{"$f":"名簿!E68","v":0},{"$f":"名簿!CM68","v":""},{"$f":"名簿!Z68","v":""},{"$f":"名簿!CM68","v":""},{"$f":"名簿!Y68","v":""},{"$f":"名簿!CN68","v":""},{"$f":"名簿!CP68","v":0},{"$f":"名簿!CU68","v":"00"},{"$f":"名簿!Q68","v":""},{"$f":"名簿!D68","v":0},null,{"$f":"IF(O71=\"\",\"\",IF(I71=1,VLOOKUP(O71,男子種目コード!$P$1:$Q$26,2,FALSE),IF(I71=2,VLOOKUP(O71,女子種目コード!$P$1:$Q$26,2,FALSE))))","v":""},{"$f":"IF(O71=\"\",\"\",HLOOKUP(O71,名簿!$AH$3:$CH$118,66,FALSE))","v":""},null,"","",null,{"$f":"IF(U71=\"\",\"\",IF(I71=1,VLOOKUP(U71,男子種目コード!$P$1:$Q$26,2,FALSE),IF(I71=2,VLOOKUP(U71,女子種目コード!$P$1:$Q$26,2,FALSE))))","v":""},{"$f":"IF(U71=\"\",\"\",HLOOKUP(U71,名簿!$AH$3:$CH$118,66,FALSE))","v":""},null,"","",{"$f":"IF(X71=\"\",\"\",IF(I71=1,VLOOKUP(X71,男子種目コード!$J$2:$K$30,2,FALSE),IF(I71=2,VLOOKUP(X71,女子種目コード!$J$2:$K$28,2,FALSE))))","v":""},null,null,{"$f":"IF(AC71=\"\",\"\",IF(I71=1,VLOOKUP(AC71,男子種目コード!$J$2:$K$30,2,FALSE),IF(I71=2,VLOOKUP(AC71,女子種目コード!$J$2:$K$28,2,FALSE))))","v":""},null,null,{"$f":"IF(AF71=\"\",\"\",IF(I71=1,VLOOKUP(AF71,男子種目コード!$J$2:$K$30,2,FALSE),IF(I71=2,VLOOKUP(AF71,女子種目コード!$J$2:$K$28,2,FALSE))))","v":""},null,null,null,null,null,"","",null,null,null,null,null,null,null,null,null,{"$f":"IF(OR(AM71=1,U71=\"\"),0,1)","v":0},null,null,null,null,{"$f":"COUNT(P71,V71,AA71)","v":0},{"$f":"IF(I71=1,BC71,\"\")","v":""},{"$f":"IF(I71=2,BC71,\"\")","v":""}]
[null,{"$f":"名簿!P69","v":""},null,null,{"$f":"名簿!E69","v":0},{"$f":"名簿!CM69","v":""},{"$f":"名簿!Z69","v":""},{"$f":"名簿!CM69","v":""},{"$f":"名簿!Y69","v":""},{"$f":"名簿!CN69","v":""},{"$f":"名簿!CP69","v":0},{"$f":"名簿!CU69","v":"00"},{"$f":"名簿!Q69","v":""},{"$f":"名簿!D69","v":0},null,{"$f":"IF(O72=\"\",\"\",IF(I72=1,VLOOKUP(O72,男子種目コード!$P$1:$Q$26,2,FALSE),IF(I72=2,VLOOKUP(O72,女子種目コード!$P$1:$Q$26,2,FALSE))))","v":""},{"$f":"IF(O72=\"\",\"\",HLOOKUP(O72,名簿!$AH$3:$CH$118,67,FALSE))","v":""},null,{"$f":"IF(O72=\"\",\"\",0)","v":""},{"$f":"IF(O72=\"\",\"\",2)","v":""},null,{"$f":"IF(U72=\"\",\"\",IF(I72=1,VLOOKUP(U72,男子種目コード!$P$1:$Q$26,2,FALSE),IF(I72=2,VLOOKUP(U72,女子種目コード!$P$1:$Q$26,2,FALSE))))","v":""},{"$f":"IF(U72=\"\",\"\",HLOOKUP(U72,名簿!$AH$3:$CH$118,67,FALSE))","v":""},null,{"$f":"IF(U72=\"\",\"\",0)","v":""},{"$f":"IF(U72=\"\",\"\",2)","v":""},{"$f":"IF(X72=\"\",\"\",IF(I72=1,VLOOKUP(X72,男子種目コード!$J$2:$K$30,2,FALSE),IF(I72=2,VLOOKUP(X72,女子種目コード!$J$2:$K$28,2,FALSE))))","v":""},null,null,{"$f":"IF(AC72=\"\",\"\",IF(I72=1,VLOOKUP(AC72,男子種目コード!$J$2:$K$30,2,FALSE),IF(I72=2,VLOOKUP(AC72,女子種目コード!$J$2:$K$28,2,FALSE))))","v":""},null,null,{"$f":"IF(AF72=\"\",\"\",IF(I72=1,VLOOKUP(AF72,男子種目コード!$J$2:$K$30,2,FALSE),IF(I72=2,VLOOKUP(AF72,女子種目コード!$J$2:$K$28,2,FALSE))))","v":""},null,null,null,null,null,"","",null,null,null,null,null,null,null,null,null,0,null,null,null,null,0,"",""]
[null,{"$f":"名簿!P70","v":""},null,null,{"$f":"名簿!E70","v":0},{"$f":"名簿!CM70","v":""},{"$f":"名簿!Z70","v":""},{"$f":"名簿!CM70","v":""},{"$f":"名簿!Y70","v":""},{"$f":"名簿!CN70","v":""},{"$f":"名簿!CP70","v":0},{"$f":"名簿!CU70","v":"00"},{"$f":"名簿!Q70","v":""},{"$f":"名簿!D70","v":0},null,{"$f":"IF(O73=\"\",\"\",IF(I73=1,VLOOKUP(O73,男子種目コード!$P$1:$Q$26,2,FALSE),IF(I73=2,VLOOKUP(O73,女子種目コード!$P$1:$Q$26,2,FALSE))))","v":""},{"$f":"IF(O73=\"\",\"\",HLOOKUP(O73,名簿!$AH$3:$CH$118,68,FALSE))","v":""},null,"","",null,{"$f":"IF(U73=\"\",\"\",IF(I73=1,VLOOKUP(U73,男子種目コード!$P$1:$Q$26,2,FALSE),IF(I73=2,VLOOKUP(U73,女子種目コード!$P$1:$Q$26,2,FALSE))))","v":""},{"$f":"IF(U73=\"\",\"\",HLOOKUP(U73,名簿!$AH$3:$CH$118,68,FALSE))","v":""},null,"","",{"$f":"IF(X73=\"\",\"\",IF(I73=1,VLOOKUP(X73,男子種目コード!$J$2:$K$30,2,FALSE),IF(I73=2,VLOOKUP(X73,女子種目コード!$J$2:$K$28,2,FALSE))))","v":""},null,null,{"$f":"IF(AC73=\"\",\"\",IF(I73=1,VLOOKUP(AC73,男子種目コード!$J$2:$K$30,2,FALSE),IF(I73=2,VLOOKUP(AC73,女子種目コード!$J$2:$K$28,2,FALSE))))","v":""},null,null,{"$f":"IF(AF73=\"\",\"\",IF(I73=1,VLOOKUP(AF73,男子種目コード!$J$2:$K$30,2,FALSE),IF(I73=2,VLOOKUP(AF73,女子種目コード!$J$2:$K$28,2,FALSE))))","v":""},null,null,null,null,null,"","",null,null,null,null,null,null,null,null,null,0,null,null,null,null,0,"",""]
[null,{"$f":"名簿!P71","v":""},null,null,{"$f":"名簿!E71","v":0},{"$f":"名簿!CM71","v":""},{"$f":"名簿!Z71","v":""},{"$f":"名簿!CM71","v":""},{"$f":"名簿!Y71","v":""},{"$f":"名簿!CN71","v":""},{"$f":"名簿!CP71","v":0},{"$f":"名簿!CU71","v":"00"},{"$f":"名簿!Q71","v":""},{"$f":"名簿!D71","v":0},null,{"$f":"IF(O74=\"\",\"\",IF(I74=1,VLOOKUP(O74,男子種目コード!$P$1:$Q$26,2,FALSE),IF(I74=2,VLOOKUP(O74,女子種目コード!$P$1:$Q$26,2,FALSE))))","v":""},{"$f":"IF(O74=\"\",\"\",HLOOKUP(O74,名簿!$AH$3:$CH$118,69,FALSE))","v":""},null,"","",null,{"$f":"IF(U74=\"\",\"\",IF(I74=1,VLOOKUP(U74,男子種目コード!$P$1:$Q$26,2,FALSE),IF(I74=2,VLOOKUP(U74,女子種目コード!$P$1:$Q$26,2,FALSE))))","v":""},{"$f":"IF(U74=\"\",\"\",HLOOKUP(U74,名簿!$AH$3:$CH$118,69,FALSE))","v":""},null,"","",{"$f":"IF(X74=\"\",\"\",IF(I74=1,VLOOKUP(X74,男子種目コード!$J$2:$K$30,2,FALSE),IF(I74=2,VLOOKUP(X74,女子種目コード!$J$2:$K$28,2,FALSE))))","v":""},null,null,{"$f":"IF(AC74=\"\",\"\",IF(I74=1,VLOOKUP(AC74,男子種目コード!$J$2:$K$30,2,FALSE),IF(I74=2,VLOOKUP(AC74,女子種目コード!$J$2:$K$28,2,FALSE))))","v":""},null,null,{"$f":"IF(AF74=\"\",\"\",IF(I74=1,VLOOKUP(AF74,男子種目コード!$J$2:$K$30,2,FALSE),IF(I74=2,VLOOKUP(AF74,女子種目コード!$J$2:$K$28,2,FALSE))))","v":""},null,null,null,null,null,{"$f":"IF(O74=\"\",\"\",1)","v":""},{"$f":"IF(U74=\"\",\"\",1)","v":""},null,null,null,null,null,null,null,null,null,0,null,null,null,null,0,"",""]
[null,{"$f":"名簿!P72","v":""},null,null,{"$f":"名簿!E72","v":0},{"$f":"名簿!CM72","v":""},{"$f":"名簿!Z72","v":""},{"$f":"名簿!CM72","v":""},{"$f":"名簿!Y72","v":""},{"$f":"名簿!CN72","v":""},{"$f":"名簿!CP72","v":0},{"$f":"名簿!CU72","v":"00"},{"$f":"名簿!Q72","v":""},{"$f":"名簿!D72","v":0},null,{"$f":"IF(O75=\"\",\"\",IF(I75=1,VLOOKUP(O75,男子種目コード!$P$1:$Q$26,2,FALSE),IF(I75=2,VLOOKUP(O75,女子種目コード!$P$1:$Q$26,2,FALSE))))","v":""},{"$f":"IF(O75=\"\",\"\",HLOOKUP(O75,名簿!$AH$3:$CH$118,70,FALSE))","v":""},null,"","",null,{"$f":"IF(U75=\"\",\"\",IF(I75=1,VLOOKUP(U75,男子種目コード!$P$1:$Q$26,2,FALSE),IF(I75=2,VLOOKUP(U75,女子種目コード!$P$1:$Q$26,2,FALSE))))","v":""},{"$f":"IF(U75=\"\",\"\",HLOOKUP(U75,名簿!$AH$3:$CH$118,70,FALSE))","v":""},null,"","",{"$f":"IF(X75=\"\",\"\",IF(I75=1,VLOOKUP(X75,男子種目コード!$J$2:$K$30,2,FALSE),IF(I75=2,VLOOKUP(X75,女子種目コード!$J$2:$K$28,2,FALSE))))","v":""},null,null,{"$f":"IF(AC75=\"\",\"\",IF(I75=1,VLOOKUP(AC75,男子種目コード!$J$2:$K$30,2,FALSE),IF(I75=2,VLOOKUP(AC75,女子種目コード!$J$2:$K$28,2,FALSE))))","v":""},null,null,{"$f":"IF(AF75=\"\",\"\",IF(I75=1,VLOOKUP(AF75,男子種目コード!$J$2:$K$30,2,FALSE),IF(I75=2,VLOOKUP(AF75,女子種目コード!$J$2:$K$28,2,FALSE))))","v":""},null,null,null,null,null,"","",null,null,null,null,null,null,null,null,null,0,null,null,null,null,0,"",""]
[null,{"$f":"名簿!P73","v":""},null,null,{"$f":"名簿!E73","v":0},{"$f":"名簿!CM73","v":""},{"$f":"名簿!Z73","v":""},{"$f":"名簿!CM73","v":""},{"$f":"名簿!Y73","v":""},{"$f":"名簿!CN73","v":""},{"$f":"名簿!CP73","v":0},{"$f":"名簿!CU73","v":"00"},{"$f":"名簿!Q73","v":""},{"$f":"名簿!D73","v":0},null,{"$f":"IF(O76=\"\",\"\",IF(I76=1,VLOOKUP(O76,男子種目コード!$P$1:$Q$26,2,FALSE),IF(I76=2,VLOOKUP(O76,女子種目コード!$P$1:$Q$26,2,FALSE))))","v":""},{"$f":"IF(O76=\"\",\"\",HLOOKUP(O76,名簿!$AH$3:$CH$118,71,FALSE))","v":""},null,"","",null,{"$f":"IF(U76=\"\",\"\",IF(I76=1,VLOOKUP(U76,男子種目コード!$P$1:$Q$26,2,FALSE),IF(I76=2,VLOOKUP(U76,女子種目コード!$P$1:$Q$26,2,FALSE))))","v":""},{"$f":"IF(U76=\"\",\"\",HLOOKUP(U76,名簿!$AH$3:$CH$118,71,FALSE))","v":""},null,"","",{"$f":"IF(X76=\"\",\"\",IF(I76=1,VLOOKUP(X76,男子種目コード!$J$2:$K$30,2,FALSE),IF(I76=2,VLOOKUP(X76,女子種目コード!$J$2:$K$28,2,FALSE))))","v":""},null,null,{"$f":"IF(AC76=\"\",\"\",IF(I76=1,VLOOKUP(AC76,男子種目コード!$J$2:$K$30,2,FALSE),IF(I76=2,VLOOKUP(AC76,女子種目コード!$J$2:$K$28,2,FALSE))))","v":""},null,null,{"$f":"IF(AF76=\"\",\"\",IF(I76=1,VLOOKUP(AF76,男子種目コード!$J$2:$K$30,2,FALSE),IF(I76=2,VLOOKUP(AF76,女子種目コード!$J$2:$K$28,2,FALSE))))","v":""},null,null,null,null,null,"","",null,null,null,null,null,null,null,null,null,0,null,null,null,null,0,"",""]
[null,{"$f":"名簿!P74","v":""},null,null,{"$f":"名簿!E74","v":0},{"$f":"名簿!CM74","v":""},{"$f":"名簿!Z74","v":""},{"$f":"名簿!CM74","v":""},{"$f":"名簿!Y74","v":""},{"$f":"名簿!CN74","v":""},{"$f":"名簿!CP74","v":0},{"$f":"名簿!CU74","v":"00"},{"$f":"名簿!Q74","v":""},{"$f":"名簿!D74","v":0},null,{"$f":"IF(O77=\"\",\"\",IF(I77=1,VLOOKUP(O77,男子種目コード!$P$1:$Q$26,2,FALSE),IF(I77=2,VLOOKUP(O77,女子種目コード!$P$1:$Q$26,2,FALSE))))","v":""},{"$f":"IF(O77=\"\",\"\",HLOOKUP(O77,名簿!$AH$3:$CH$118,72,FALSE))","v":""},null,"","",null,{"$f":"IF(U77=\"\",\"\",IF(I77=1,VLOOKUP(U77,男子種目コード!$P$1:$Q$26,2,FALSE),IF(I77=2,VLOOKUP(U77,女子種目コード!$P$1:$Q$26,2,FALSE))))","v":""},{"$f":"IF(U77=\"\",\"\",HLOOKUP(U77,名簿!$AH$3:$CH$118,72,FALSE))","v":""},null,"","",{"$f":"IF(X77=\"\",\"\",IF(I77=1,VLOOKUP(X77,男子種目コード!$J$2:$K$30,2,FALSE),IF(I77=2,VLOOKUP(X77,女子種目コード!$J$2:$K$28,2,FALSE))))","v":""},null,null,{"$f":"IF(AC77=\"\",\"\",IF(I77=1,VLOOKUP(AC77,男子種目コード!$J$2:$K$30,2,FALSE),IF(I77=2,VLOOKUP(AC77,女子種目コード!$J$2:$K$28,2,FALSE))))","v":""},null,null,{"$f":"IF(AF77=\"\",\"\",IF(I77=1,VLOOKUP(AF77,男子種目コード!$J$2:$K$30,2,FALSE),IF(I77=2,VLOOKUP(AF77,女子種目コード!$J$2:$K$28,2,FALSE))))","v":""},null,null,null,null,null,"","",null,null,null,null,null,null,null,null,null,0,null,null,null,null,0,"",""]
[null,{"$f":"名簿!P75","v":""},null,null,{"$f":"名簿!E75","v":0},{"$f":"名簿!CM75","v":""},{"$f":"名簿!Z75","v":""},{"$f":"名簿!CM75","v":""},{"$f":"名簿!Y75","v":""},{"$f":"名簿!CN75","v":""},{"$f":"名簿!CP75","v":0},{"$f":"名簿!CU75","v":"00"},{"$f":"名簿!Q75","v":""},{"$f":"名簿!D75","v":0},null,{"$f":"IF(O78=\"\",\"\",IF(I78=1,VLOOKUP(O78,男子種目コード!$P$1:$Q$26,2,FALSE),IF(I78=2,VLOOKUP(O78,女子種目コード!$P$1:$Q$26,2,FALSE))))","v":""},{"$f":"IF(O78=\"\",\"\",HLOOKUP(O78,名簿!$AH$3:$CH$118,73,FALSE))","v":""},null,"","",null,{"$f":"IF(U78=\"\",\"\",IF(I78=1,VLOOKUP(U78,男子種目コード!$P$1:$Q$26,2,FALSE),IF(I78=2,VLOOKUP(U78,女子種目コード!$P$1:$Q$26,2,FALSE))))","v":""},{"$f":"IF(U78=\"\",\"\",HLOOKUP(U78,名簿!$AH$3:$CH$118,73,FALSE))","v":""},null,"","",{"$f":"IF(X78=\"\",\"\",IF(I78=1,VLOOKUP(X78,男子種目コード!$J$2:$K$30,2,FALSE),IF(I78=2,VLOOKUP(X78,女子種目コード!$J$2:$K$28,2,FALSE))))","v":""},null,null,{"$f":"IF(AC78=\"\",\"\",IF(I78=1,VLOOKUP(AC78,男子種目コード!$J$2:$K$30,2,FALSE),IF(I78=2,VLOOKUP(AC78,女子種目コード!$J$2:$K$28,2,FALSE))))","v":""},null,null,{"$f":"IF(AF78=\"\",\"\",IF(I78=1,VLOOKUP(AF78,男子種目コード!$J$2:$K$30,2,FALSE),IF(I78=2,VLOOKUP(AF78,女子種目コード!$J$2:$K$28,2,FALSE))))","v":""},null,null,null,null,null,"","",null,null,null,null,null,null,null,null,null,0,null,null,null,null,0,"",""]
[null,{"$f":"名簿!P76","v":""},null,null,{"$f":"名簿!E76","v":0},{"$f":"名簿!CM76","v":""},{"$f":"名簿!Z76","v":""},{"$f":"名簿!CM76","v":""},{"$f":"名簿!Y76","v":""},{"$f":"名簿!CN76","v":""},{"$f":"名簿!CP76","v":0},{"$f":"名簿!CU76","v":"00"},{"$f":"名簿!Q76","v":""},{"$f":"名簿!D76","v":0},null,{"$f":"IF(O79=\"\",\"\",IF(I79=1,VLOOKUP(O79,男子種目コード!$P$1:$Q$26,2,FALSE),IF(I79=2,VLOOKUP(O79,女子種目コード!$P$1:$Q$26,2,FALSE))))","v":""},{"$f":"IF(O79=\"\",\"\",HLOOKUP(O79,名簿!$AH$3:$CH$118,74,FALSE))","v":""},null,"","",null,{"$f":"IF(U79=\"\",\"\",IF(I79=1,VLOOKUP(U79,男子種目コード!$P$1:$Q$26,2,FALSE),IF(I79=2,VLOOKUP(U79,女子種目コード!$P$1:$Q$26,2,FALSE))))","v":""},{"$f":"IF(U79=\"\",\"\",HLOOKUP(U79,名簿!$AH$3:$CH$118,74,FALSE))","v":""},null,"","",{"$f":"IF(X79=\"\",\"\",IF(I79=1,VLOOKUP(X79,男子種目コード!$J$2:$K$30,2,FALSE),IF(I79=2,VLOOKUP(X79,女子種目コード!$J$2:$K$28,2,FALSE))))","v":""},null,null,{"$f":"IF(AC79=\"\",\"\",IF(I79=1,VLOOKUP(AC79,男子種目コード!$J$2:$K$30,2,FALSE),IF(I79=2,VLOOKUP(AC79,女子種目コード!$J$2:$K$28,2,FALSE))))","v":""},null,null,{"$f":"IF(AF79=\"\",\"\",IF(I79=1,VLOOKUP(AF79,男子種目コード!$J$2:$K$30,2,FALSE),IF(I79=2,VLOOKUP(AF79,女子種目コード!$J$2:$K$28,2,FALSE))))","v":""},null,null,null,null,null,"","",null,null,null,null,null,null,null,null,null,0,null,null,null,null,0,"",""]
[null,{"$f":"名簿!P77","v":""},null,null,{"$f":"名簿!E77","v":0},{"$f":"名簿!CM77","v":""},{"$f":"名簿!Z77","v":""},{"$f":"名簿!CM77","v":""},{"$f":"名簿!Y77","v":""},{"$f":"名簿!CN77","v":""},{"$f":"名簿!CP77","v":0},{"$f":"名簿!CU77","v":"00"},{"$f":"名簿!Q77","v":""},{"$f":"名簿!D77","v":0},null,{"$f":"IF(O80=\"\",\"\",IF(I80=1,VLOOKUP(O80,男子種目コード!$P$1:$Q$26,2,FALSE),IF(I80=2,VLOOKUP(O80,女子種目コード!$P$1:$Q$26,2,FALSE))))","v":""},{"$f":"IF(O80=\"\",\"\",HLOOKUP(O80,名簿!$AH$3:$CH$118,75,FALSE))","v":""},null,"","",null,{"$f":"IF(U80=\"\",\"\",IF(I80=1,VLOOKUP(U80,男子種目コード!$P$1:$Q$26,2,FALSE),IF(I80=2,VLOOKUP(U80,女子種目コード!$P$1:$Q$26,2,FALSE))))","v":""},{"$f":"IF(U80=\"\",\"\",HLOOKUP(U80,名簿!$AH$3:$CH$118,75,FALSE))","v":""},null,"","",{"$f":"IF(X80=\"\",\"\",IF(I80=1,VLOOKUP(X80,男子種目コード!$J$2:$K$30,2,FALSE),IF(I80=2,VLOOKUP(X80,女子種目コード!$J$2:$K$28,2,FALSE))))","v":""},null,null,{"$f":"IF(AC80=\"\",\"\",IF(I80=1,VLOOKUP(AC80,男子種目コード!$J$2:$K$30,2,FALSE),IF(I80=2,VLOOKUP(AC80,女子種目コード!$J$2:$K$28,2,FALSE))))","v":""},null,null,{"$f":"IF(AF80=\"\",\"\",IF(I80=1,VLOOKUP(AF80,男子種目コード!$J$2:$K$30,2,FALSE),IF(I80=2,VLOOKUP(AF80,女子種目コード!$J$2:$K$28,2,FALSE))))","v":""},null,null,null,null,null,"","",null,null,null,null,null,null,null,null,null,0,null,null,null,null,0,"",""]
[null,{"$f":"名簿!P78","v":""},null,null,{"$f":"名簿!E78","v":0},{"$f":"名簿!CM78","v":""},{"$f":"名簿!Z78","v":""},{"$f":"名簿!CM78","v":""},{"$f":"名簿!Y78","v":""},{"$f":"名簿!CN78","v":""},{"$f":"名簿!CP78","v":0},{"$f":"名簿!CU78","v":"00"},{"$f":"名簿!Q78","v":""},{"$f":"名簿!D78","v":0},null,{"$f":"IF(O81=\"\",\"\",IF(I81=1,VLOOKUP(O81,男子種目コード!$P$1:$Q$26,2,FALSE),IF(I81=2,VLOOKUP(O81,女子種目コード!$P$1:$Q$26,2,FALSE))))","v":""},{"$f":"IF(O81=\"\",\"\",HLOOKUP(O81,名簿!$AH$3:$CH$118,76,FALSE))","v":""},null,"","",null,{"$f":"IF(U81=\"\",\"\",IF(I81=1,VLOOKUP(U81,男子種目コード!$P$1:$Q$26,2,FALSE),IF(I81=2,VLOOKUP(U81,女子種目コード!$P$1:$Q$26,2,FALSE))))","v":""},{"$f":"IF(U81=\"\",\"\",HLOOKUP(U81,名簿!$AH$3:$CH$118,76,FALSE))","v":""},null,"","",{"$f":"IF(X81=\"\",\"\",IF(I81=1,VLOOKUP(X81,男子種目コード!$J$2:$K$30,2,FALSE),IF(I81=2,VLOOKUP(X81,女子種目コード!$J$2:$K$28,2,FALSE))))","v":""},null,null,{"$f":"IF(AC81=\"\",\"\",IF(I81=1,VLOOKUP(AC81,男子種目コード!$J$2:$K$30,2,FALSE),IF(I81=2,VLOOKUP(AC81,女子種目コード!$J$2:$K$28,2,FALSE))))","v":""},null,null,{"$f":"IF(AF81=\"\",\"\",IF(I81=1,VLOOKUP(AF81,男子種目コード!$J$2:$K$30,2,FALSE),IF(I81=2,VLOOKUP(AF81,女子種目コード!$J$2:$K$28,2,FALSE))))","v":""},null,null,null,null,null,"","",null,null,null,null,null,null,null,null,null,0,null,null,null,null,0,"",""]
[null,{"$f":"名簿!P79","v":""},null,null,{"$f":"名簿!E79","v":0},{"$f":"名簿!CM79","v":""},{"$f":"名簿!Z79","v":""},{"$f":"名簿!CM79","v":""},{"$f":"名簿!Y79","v":""},{"$f":"名簿!CN79","v":""},{"$f":"名簿!CP79","v":0},{"$f":"名簿!CU79","v":"00"},{"$f":"名簿!Q79","v":""},{"$f":"名簿!D79","v":0},null,{"$f":"IF(O82=\"\",\"\",IF(I82=1,VLOOKUP(O82,男子種目コード!$P$1:$Q$26,2,FALSE),IF(I82=2,VLOOKUP(O82,女子種目コード!$P$1:$Q$26,2,FALSE))))","v":""},{"$f":"IF(O82=\"\",\"\",HLOOKUP(O82,名簿!$AH$3:$CH$118,77,FALSE))","v":""},null,"","",null,{"$f":"IF(U82=\"\",\"\",IF(I82=1,VLOOKUP(U82,男子種目コード!$P$1:$Q$26,2,FALSE),IF(I82=2,VLOOKUP(U82,女子種目コード!$P$1:$Q$26,2,FALSE))))","v":""},{"$f":"IF(U82=\"\",\"\",HLOOKUP(U82,名簿!$AH$3:$CH$118,77,FALSE))","v":""},null,"","",{"$f":"IF(X82=\"\",\"\",IF(I82=1,VLOOKUP(X82,男子種目コード!$J$2:$K$30,2,FALSE),IF(I82=2,VLOOKUP(X82,女子種目コード!$J$2:$K$28,2,FALSE))))","v":""},null,null,{"$f":"IF(AC82=\"\",\"\",IF(I82=1,VLOOKUP(AC82,男子種目コード!$J$2:$K$30,2,FALSE),IF(I82=2,VLOOKUP(AC82,女子種目コード!$J$2:$K$28,2,FALSE))))","v":""},null,null,{"$f":"IF(AF82=\"\",\"\",IF(I82=1,VLOOKUP(AF82,男子種目コード!$J$2:$K$30,2,FALSE),IF(I82=2,VLOOKUP(AF82,女子種目コード!$J$2:$K$28,2,FALSE))))","v":""},null,null,null,null,null,"","",null,null,null,null,null,null,null,null,null,0,null,null,null,null,0,"",""]
[null,{"$f":"名簿!P80","v":""},null,null,{"$f":"名簿!E80","v":0},{"$f":"名簿!CM80","v":""},{"$f":"名簿!Z80","v":""},{"$f":"名簿!CM80","v":""},{"$f":"名簿!Y80","v":""},{"$f":"名簿!CN80","v":""},{"$f":"名簿!CP80","v":0},{"$f":"名簿!CU80","v":"00"},{"$f":"名簿!Q80","v":""},{"$f":"名簿!D80","v":0},null,{"$f":"IF(O83=\"\",\"\",IF(I83=1,VLOOKUP(O83,男子種目コード!$P$1:$Q$26,2,FALSE),IF(I83=2,VLOOKUP(O83,女子種目コード!$P$1:$Q$26,2,FALSE))))","v":""},{"$f":"IF(O83=\"\",\"\",HLOOKUP(O83,名簿!$AH$3:$CH$118,78,FALSE))","v":""},null,"","",null,{"$f":"IF(U83=\"\",\"\",IF(I83=1,VLOOKUP(U83,男子種目コード!$P$1:$Q$26,2,FALSE),IF(I83=2,VLOOKUP(U83,女子種目コード!$P$1:$Q$26,2,FALSE))))","v":""},{"$f":"IF(U83=\"\",\"\",HLOOKUP(U83,名簿!$AH$3:$CH$118,78,FALSE))","v":""},null,"","",{"$f":"IF(X83=\"\",\"\",IF(I83=1,VLOOKUP(X83,男子種目コード!$J$2:$K$30,2,FALSE),IF(I83=2,VLOOKUP(X83,女子種目コード!$J$2:$K$28,2,FALSE))))","v":""},null,null,{"$f":"IF(AC83=\"\",\"\",IF(I83=1,VLOOKUP(AC83,男子種目コード!$J$2:$K$30,2,FALSE),IF(I83=2,VLOOKUP(AC83,女子種目コード!$J$2:$K$28,2,FALSE))))","v":""},null,null,{"$f":"IF(AF83=\"\",\"\",IF(I83=1,VLOOKUP(AF83,男子種目コード!$J$2:$K$30,2,FALSE),IF(I83=2,VLOOKUP(AF83,女子種目コード!$J$2:$K$28,2,FALSE))))","v":""},null,null,null,null,null,"","",null,null,null,null,null,null,null,null,null,0,null,null,null,null,0,"",""]
[null,{"$f":"名簿!P81","v":""},null,null,{"$f":"名簿!E81","v":0},{"$f":"名簿!CM81","v":""},{"$f":"名簿!Z81","v":""},{"$f":"名簿!CM81","v":""},{"$f":"名簿!Y81","v":""},{"$f":"名簿!CN81","v":""},{"$f":"名簿!CP81","v":0},{"$f":"名簿!CU81","v":"00"},{"$f":"名簿!Q81","v":""},{"$f":"名簿!D81","v":0},null,{"$f":"IF(O84=\"\",\"\",IF(I84=1,VLOOKUP(O84,男子種目コード!$P$1:$Q$26,2,FALSE),IF(I84=2,VLOOKUP(O84,女子種目コード!$P$1:$Q$26,2,FALSE))))","v":""},{"$f":"IF(O84=\"\",\"\",HLOOKUP(O84,名簿!$AH$3:$CH$118,79,FALSE))","v":""},null,"","",null,{"$f":"IF(U84=\"\",\"\",IF(I84=1,VLOOKUP(U84,男子種目コード!$P$1:$Q$26,2,FALSE),IF(I84=2,VLOOKUP(U84,女子種目コード!$P$1:$Q$26,2,FALSE))))","v":""},{"$f":"IF(U84=\"\",\"\",HLOOKUP(U84,名簿!$AH$3:$CH$118,79,FALSE))","v":""},null,"","",{"$f":"IF(X84=\"\",\"\",IF(I84=1,VLOOKUP(X84,男子種目コード!$J$2:$K$30,2,FALSE),IF(I84=2,VLOOKUP(X84,女子種目コード!$J$2:$K$28,2,FALSE))))","v":""},null,null,{"$f":"IF(AC84=\"\",\"\",IF(I84=1,VLOOKUP(AC84,男子種目コード!$J$2:$K$30,2,FALSE),IF(I84=2,VLOOKUP(AC84,女子種目コード!$J$2:$K$28,2,FALSE))))","v":""},null,null,{"$f":"IF(AF84=\"\",\"\",IF(I84=1,VLOOKUP(AF84,男子種目コード!$J$2:$K$30,2,FALSE),IF(I84=2,VLOOKUP(AF84,女子種目コード!$J$2:$K$28,2,FALSE))))","v":""},null,null,null,null,null,"","",null,null,null,null,null,null,null,null,null,0,null,null,null,null,0,"",""]
[null,{"$f":"名簿!P82","v":""},null,null,{"$f":"名簿!E82","v":0},{"$f":"名簿!CM82","v":""},{"$f":"名簿!Z82","v":""},{"$f":"名簿!CM82","v":""},{"$f":"名簿!Y82","v":""},{"$f":"名簿!CN82","v":""},{"$f":"名簿!CP82","v":0},{"$f":"名簿!CU82","v":"00"},{"$f":"名簿!Q82","v":""},{"$f":"名簿!D82","v":0},null,{"$f":"IF(O85=\"\",\"\",IF(I85=1,VLOOKUP(O85,男子種目コード!$P$1:$Q$26,2,FALSE),IF(I85=2,VLOOKUP(O85,女子種目コード!$P$1:$Q$26,2,FALSE))))","v":""},{"$f":"IF(O85=\"\",\"\",HLOOKUP(O85,名簿!$AH$3:$CH$118,80,FALSE))","v":""},null,"","",null,{"$f":"IF(U85=\"\",\"\",IF(I85=1,VLOOKUP(U85,男子種目コード!$P$1:$Q$26,2,FALSE),IF(I85=2,VLOOKUP(U85,女子種目コード!$P$1:$Q$26,2,FALSE))))","v":""},{"$f":"IF(U85=\"\",\"\",HLOOKUP(U85,名簿!$AH$3:$CH$118,80,FALSE))","v":""},null,"","",{"$f":"IF(X85=\"\",\"\",IF(I85=1,VLOOKUP(X85,男子種目コード!$J$2:$K$30,2,FALSE),IF(I85=2,VLOOKUP(X85,女子種目コード!$J$2:$K$28,2,FALSE))))","v":""},null,null,{"$f":"IF(AC85=\"\",\"\",IF(I85=1,VLOOKUP(AC85,男子種目コード!$J$2:$K$30,2,FALSE),IF(I85=2,VLOOKUP(AC85,女子種目コード!$J$2:$K$28,2,FALSE))))","v":""},null,null,{"$f":"IF(AF85=\"\",\"\",IF(I85=1,VLOOKUP(AF85,男子種目コード!$J$2:$K$30,2,FALSE),IF(I85=2,VLOOKUP(AF85,女子種目コード!$J$2:$K$28,2,FALSE))))","v":""},null,null,null,null,null,"","",null,null,null,null,null,null,null,null,null,0,null,null,null,null,0,"",""]
[null,{"$f":"名簿!P83","v":""},null,null,{"$f":"名簿!E83","v":0},{"$f":"名簿!CM83","v":""},{"$f":"名簿!Z83","v":""},{"$f":"名簿!CM83","v":""},{"$f":"名簿!Y83","v":""},{"$f":"名簿!CN83","v":""},{"$f":"名簿!CP83","v":0},{"$f":"名簿!CU83","v":"00"},{"$f":"名簿!Q83","v":""},{"$f":"名簿!D83","v":0},null,{"$f":"IF(O86=\"\",\"\",IF(I86=1,VLOOKUP(O86,男子種目コード!$P$1:$Q$26,2,FALSE),IF(I86=2,VLOOKUP(O86,女子種目コード!$P$1:$Q$26,2,FALSE))))","v":""},{"$f":"IF(O86=\"\",\"\",HLOOKUP(O86,名簿!$AH$3:$CH$118,81,FALSE))","v":""},null,"","",null,{"$f":"IF(U86=\"\",\"\",IF(I86=1,VLOOKUP(U86,男子種目コード!$P$1:$Q$26,2,FALSE),IF(I86=2,VLOOKUP(U86,女子種目コード!$P$1:$Q$26,2,FALSE))))","v":""},{"$f":"IF(U86=\"\",\"\",HLOOKUP(U86,名簿!$AH$3:$CH$118,81,FALSE))","v":""},null,"","",{"$f":"IF(X86=\"\",\"\",IF(I86=1,VLOOKUP(X86,男子種目コード!$J$2:$K$30,2,FALSE),IF(I86=2,VLOOKUP(X86,女子種目コード!$J$2:$K$28,2,FALSE))))","v":""},null,null,{"$f":"IF(AC86=\"\",\"\",IF(I86=1,VLOOKUP(AC86,男子種目コード!$J$2:$K$30,2,FALSE),IF(I86=2,VLOOKUP(AC86,女子種目コード!$J$2:$K$28,2,FALSE))))","v":""},null,null,{"$f":"IF(AF86=\"\",\"\",IF(I86=1,VLOOKUP(AF86,男子種目コード!$J$2:$K$30,2,FALSE),IF(I86=2,VLOOKUP(AF86,女子種目コード!$J$2:$K$28,2,FALSE))))","v":""},null,null,null,null,null,"","",null,null,null,null,null,null,null,null,null,0,null,null,null,null,0,"",""]
[null,{"$f":"名簿!P84","v":""},null,null,{"$f":"名簿!E84","v":0},{"$f":"名簿!CM84","v":""},{"$f":"名簿!Z84","v":""},{"$f":"名簿!CM84","v":""},{"$f":"名簿!Y84","v":""},{"$f":"名簿!CN84","v":""},{"$f":"名簿!CP84","v":0},{"$f":"名簿!CU84","v":"00"},{"$f":"名簿!Q84","v":""},{"$f":"名簿!D84","v":0},null,{"$f":"IF(O87=\"\",\"\",IF(I87=1,VLOOKUP(O87,男子種目コード!$P$1:$Q$26,2,FALSE),IF(I87=2,VLOOKUP(O87,女子種目コード!$P$1:$Q$26,2,FALSE))))","v":""},{"$f":"IF(O87=\"\",\"\",HLOOKUP(O87,名簿!$AH$3:$CH$118,82,FALSE))","v":""},null,"","",null,{"$f":"IF(U87=\"\",\"\",IF(I87=1,VLOOKUP(U87,男子種目コード!$P$1:$Q$26,2,FALSE),IF(I87=2,VLOOKUP(U87,女子種目コード!$P$1:$Q$26,2,FALSE))))","v":""},{"$f":"IF(U87=\"\",\"\",HLOOKUP(U87,名簿!$AH$3:$CH$118,82,FALSE))","v":""},null,"","",{"$f":"IF(X87=\"\",\"\",IF(I87=1,VLOOKUP(X87,男子種目コード!$J$2:$K$30,2,FALSE),IF(I87=2,VLOOKUP(X87,女子種目コード!$J$2:$K$28,2,FALSE))))","v":""},null,null,{"$f":"IF(AC87=\"\",\"\",IF(I87=1,VLOOKUP(AC87,男子種目コード!$J$2:$K$30,2,FALSE),IF(I87=2,VLOOKUP(AC87,女子種目コード!$J$2:$K$28,2,FALSE))))","v":""},null,null,{"$f":"IF(AF87=\"\",\"\",IF(I87=1,VLOOKUP(AF87,男子種目コード!$J$2:$K$30,2,FALSE),IF(I87=2,VLOOKUP(AF87,女子種目コード!$J$2:$K$28,2,FALSE))))","v":""},null,null,null,null,null,"","",null,null,null,null,null,null,null,null,null,0,null,null,null,null,0,"",""]
[null,{"$f":"名簿!P85","v":""},null,null,{"$f":"名簿!E85","v":0},{"$f":"名簿!CM85","v":""},{"$f":"名簿!Z85","v":""},{"$f":"名簿!CM85","v":""},{"$f":"名簿!Y85","v":""},{"$f":"名簿!CN85","v":""},{"$f":"名簿!CP85","v":0},{"$f":"名簿!CU85","v":"00"},{"$f":"名簿!Q85","v":""},{"$f":"名簿!D85","v":0},null,{"$f":"IF(O88=\"\",\"\",IF(I88=1,VLOOKUP(O88,男子種目コード!$P$1:$Q$26,2,FALSE),IF(I88=2,VLOOKUP(O88,女子種目コード!$P$1:$Q$26,2,FALSE))))","v":""},{"$f":"IF(O88=\"\",\"\",HLOOKUP(O88,名簿!$AH$3:$CH$118,83,FALSE))","v":""},null,"","",null,{"$f":"IF(U88=\"\",\"\",IF(I88=1,VLOOKUP(U88,男子種目コード!$P$1:$Q$26,2,FALSE),IF(I88=2,VLOOKUP(U88,女子種目コード!$P$1:$Q$26,2,FALSE))))","v":""},{"$f":"IF(U88=\"\",\"\",HLOOKUP(U88,名簿!$AH$3:$CH$118,83,FALSE))","v":""},null,"","",{"$f":"IF(X88=\"\",\"\",IF(I88=1,VLOOKUP(X88,男子種目コード!$J$2:$K$30,2,FALSE),IF(I88=2,VLOOKUP(X88,女子種目コード!$J$2:$K$28,2,FALSE))))","v":""},null,null,{"$f":"IF(AC88=\"\",\"\",IF(I88=1,VLOOKUP(AC88,男子種目コード!$J$2:$K$30,2,FALSE),IF(I88=2,VLOOKUP(AC88,女子種目コード!$J$2:$K$28,2,FALSE))))","v":""},null,null,{"$f":"IF(AF88=\"\",\"\",IF(I88=1,VLOOKUP(AF88,男子種目コード!$J$2:$K$30,2,FALSE),IF(I88=2,VLOOKUP(AF88,女子種目コード!$J$2:$K$28,2,FALSE))))","v":""},null,null,null,null,null,"","",null,null,null,null,null,null,null,null,null,0,null,null,null,null,0,"",""]
[null,{"$f":"名簿!P86","v":""},null,null,{"$f":"名簿!E86","v":0},{"$f":"名簿!CM86","v":""},{"$f":"名簿!Z86","v":""},{"$f":"名簿!CM86","v":""},{"$f":"名簿!Y86","v":""},{"$f":"名簿!CN86","v":""},{"$f":"名簿!CP86","v":0},{"$f":"名簿!CU86","v":"00"},{"$f":"名簿!Q86","v":""},{"$f":"名簿!D86","v":0},null,{"$f":"IF(O89=\"\",\"\",IF(I89=1,VLOOKUP(O89,男子種目コード!$P$1:$Q$26,2,FALSE),IF(I89=2,VLOOKUP(O89,女子種目コード!$P$1:$Q$26,2,FALSE))))","v":""},{"$f":"IF(O89=\"\",\"\",HLOOKUP(O89,名簿!$AH$3:$CH$118,84,FALSE))","v":""},null,"","",null,{"$f":"IF(U89=\"\",\"\",IF(I89=1,VLOOKUP(U89,男子種目コード!$P$1:$Q$26,2,FALSE),IF(I89=2,VLOOKUP(U89,女子種目コード!$P$1:$Q$26,2,FALSE))))","v":""},{"$f":"IF(U89=\"\",\"\",HLOOKUP(U89,名簿!$AH$3:$CH$118,84,FALSE))","v":""},null,"","",{"$f":"IF(X89=\"\",\"\",IF(I89=1,VLOOKUP(X89,男子種目コード!$J$2:$K$30,2,FALSE),IF(I89=2,VLOOKUP(X89,女子種目コード!$J$2:$K$28,2,FALSE))))","v":""},null,null,{"$f":"IF(AC89=\"\",\"\",IF(I89=1,VLOOKUP(AC89,男子種目コード!$J$2:$K$30,2,FALSE),IF(I89=2,VLOOKUP(AC89,女子種目コード!$J$2:$K$28,2,FALSE))))","v":""},null,null,{"$f":"IF(AF89=\"\",\"\",IF(I89=1,VLOOKUP(AF89,男子種目コード!$J$2:$K$30,2,FALSE),IF(I89=2,VLOOKUP(AF89,女子種目コード!$J$2:$K$28,2,FALSE))))","v":""},null,null,null,null,null,"","",null,null,null,null,null,null,null,null,null,0,null,null,null,null,0,"",""]
[null,{"$f":"名簿!P87","v":""},null,null,{"$f":"名簿!E87","v":0},{"$f":"名簿!CM87","v":""},{"$f":"名簿!Z87","v":""},{"$f":"名簿!CM87","v":""},{"$f":"名簿!Y87","v":""},{"$f":"名簿!CN87","v":""},{"$f":"名簿!CP87","v":0},{"$f":"名簿!CU87","v":"00"},{"$f":"名簿!Q87","v":""},{"$f":"名簿!D87","v":0},null,{"$f":"IF(O90=\"\",\"\",IF(I90=1,VLOOKUP(O90,男子種目コード!$P$1:$Q$26,2,FALSE),IF(I90=2,VLOOKUP(O90,女子種目コード!$P$1:$Q$26,2,FALSE))))","v":""},{"$f":"IF(O90=\"\",\"\",HLOOKUP(O90,名簿!$AH$3:$CH$118,85,FALSE))","v":""},null,"","",null,{"$f":"IF(U90=\"\",\"\",IF(I90=1,VLOOKUP(U90,男子種目コード!$P$1:$Q$26,2,FALSE),IF(I90=2,VLOOKUP(U90,女子種目コード!$P$1:$Q$26,2,FALSE))))","v":""},{"$f":"IF(U90=\"\",\"\",HLOOKUP(U90,名簿!$AH$3:$CH$118,85,FALSE))","v":""},null,"","",{"$f":"IF(X90=\"\",\"\",IF(I90=1,VLOOKUP(X90,男子種目コード!$J$2:$K$30,2,FALSE),IF(I90=2,VLOOKUP(X90,女子種目コード!$J$2:$K$28,2,FALSE))))","v":""},null,null,{"$f":"IF(AC90=\"\",\"\",IF(I90=1,VLOOKUP(AC90,男子種目コード!$J$2:$K$30,2,FALSE),IF(I90=2,VLOOKUP(AC90,女子種目コード!$J$2:$K$28,2,FALSE))))","v":""},null,null,{"$f":"IF(AF90=\"\",\"\",IF(I90=1,VLOOKUP(AF90,男子種目コード!$J$2:$K$30,2,FALSE),IF(I90=2,VLOOKUP(AF90,女子種目コード!$J$2:$K$28,2,FALSE))))","v":""},null,null,null,null,null,"","",null,null,null,null,null,null,null,null,null,0,null,null,null,null,0,"",""]
[null,{"$f":"名簿!P88","v":""},null,null,{"$f":"名簿!E88","v":0},{"$f":"名簿!CM88","v":""},{"$f":"名簿!Z88","v":""},{"$f":"名簿!CM88","v":""},{"$f":"名簿!Y88","v":""},{"$f":"名簿!CN88","v":""},{"$f":"名簿!CP88","v":0},{"$f":"名簿!CU88","v":"00"},{"$f":"名簿!Q88","v":""},{"$f":"名簿!D88","v":0},null,{"$f":"IF(O91=\"\",\"\",IF(I91=1,VLOOKUP(O91,男子種目コード!$P$1:$Q$26,2,FALSE),IF(I91=2,VLOOKUP(O91,女子種目コード!$P$1:$Q$26,2,FALSE))))","v":""},{"$f":"IF(O91=\"\",\"\",HLOOKUP(O91,名簿!$AH$3:$CH$118,86,FALSE))","v":""},null,"","",null,{"$f":"IF(U91=\"\",\"\",IF(I91=1,VLOOKUP(U91,男子種目コード!$P$1:$Q$26,2,FALSE),IF(I91=2,VLOOKUP(U91,女子種目コード!$P$1:$Q$26,2,FALSE))))","v":""},{"$f":"IF(U91=\"\",\"\",HLOOKUP(U91,名簿!$AH$3:$CH$118,86,FALSE))","v":""},null,"","",{"$f":"IF(X91=\"\",\"\",IF(I91=1,VLOOKUP(X91,男子種目コード!$J$2:$K$30,2,FALSE),IF(I91=2,VLOOKUP(X91,女子種目コード!$J$2:$K$28,2,FALSE))))","v":""},null,null,{"$f":"IF(AC91=\"\",\"\",IF(I91=1,VLOOKUP(AC91,男子種目コード!$J$2:$K$30,2,FALSE),IF(I91=2,VLOOKUP(AC91,女子種目コード!$J$2:$K$28,2,FALSE))))","v":""},null,null,{"$f":"IF(AF91=\"\",\"\",IF(I91=1,VLOOKUP(AF91,男子種目コード!$J$2:$K$30,2,FALSE),IF(I91=2,VLOOKUP(AF91,女子種目コード!$J$2:$K$28,2,FALSE))))","v":""},null,null,null,null,null,"","",null,null,null,null,null,null,null,null,null,0,null,null,null,null,0,"",""]
[null,{"$f":"名簿!P89","v":""},null,null,{"$f":"名簿!E89","v":0},{"$f":"名簿!CM89","v":""},{"$f":"名簿!Z89","v":""},{"$f":"名簿!CM89","v":""},{"$f":"名簿!Y89","v":""},{"$f":"名簿!CN89","v":""},{"$f":"名簿!CP89","v":0},{"$f":"名簿!CU89","v":"00"},{"$f":"名簿!Q89","v":""},{"$f":"名簿!D89","v":0},null,{"$f":"IF(O92=\"\",\"\",IF(I92=1,VLOOKUP(O92,男子種目コード!$P$1:$Q$26,2,FALSE),IF(I92=2,VLOOKUP(O92,女子種目コード!$P$1:$Q$26,2,FALSE))))","v":""},{"$f":"IF(O92=\"\",\"\",HLOOKUP(O92,名簿!$AH$3:$CH$118,87,FALSE))","v":""},null,"","",null,{"$f":"IF(U92=\"\",\"\",IF(I92=1,VLOOKUP(U92,男子種目コード!$P$1:$Q$26,2,FALSE),IF(I92=2,VLOOKUP(U92,女子種目コード!$P$1:$Q$26,2,FALSE))))","v":""},{"$f":"IF(U92=\"\",\"\",HLOOKUP(U92,名簿!$AH$3:$CH$118,87,FALSE))","v":""},null,"","",{"$f":"IF(X92=\"\",\"\",IF(I92=1,VLOOKUP(X92,男子種目コード!$J$2:$K$30,2,FALSE),IF(I92=2,VLOOKUP(X92,女子種目コード!$J$2:$K$28,2,FALSE))))","v":""},null,null,{"$f":"IF(AC92=\"\",\"\",IF(I92=1,VLOOKUP(AC92,男子種目コード!$J$2:$K$30,2,FALSE),IF(I92=2,VLOOKUP(AC92,女子種目コード!$J$2:$K$28,2,FALSE))))","v":""},null,null,{"$f":"IF(AF92=\"\",\"\",IF(I92=1,VLOOKUP(AF92,男子種目コード!$J$2:$K$30,2,FALSE),IF(I92=2,VLOOKUP(AF92,女子種目コード!$J$2:$K$28,2,FALSE))))","v":""},null,null,null,null,null,"","",null,null,null,null,null,null,null,null,null,0,null,null,null,null,0,"",""]
[null,{"$f":"名簿!P90","v":""},null,null,{"$f":"名簿!E90","v":0},{"$f":"名簿!CM90","v":""},{"$f":"名簿!Z90","v":""},{"$f":"名簿!CM90","v":""},{"$f":"名簿!Y90","v":""},{"$f":"名簿!CN90","v":""},{"$f":"名簿!CP90","v":0},{"$f":"名簿!CU90","v":"00"},{"$f":"名簿!Q90","v":""},{"$f":"名簿!D90","v":0},null,{"$f":"IF(O93=\"\",\"\",IF(I93=1,VLOOKUP(O93,男子種目コード!$P$1:$Q$26,2,FALSE),IF(I93=2,VLOOKUP(O93,女子種目コード!$P$1:$Q$26,2,FALSE))))","v":""},{"$f":"IF(O93=\"\",\"\",HLOOKUP(O93,名簿!$AH$3:$CH$118,88,FALSE))","v":""},null,"","",null,{"$f":"IF(U93=\"\",\"\",IF(I93=1,VLOOKUP(U93,男子種目コード!$P$1:$Q$26,2,FALSE),IF(I93=2,VLOOKUP(U93,女子種目コード!$P$1:$Q$26,2,FALSE))))","v":""},{"$f":"IF(U93=\"\",\"\",HLOOKUP(U93,名簿!$AH$3:$CH$118,88,FALSE))","v":""},null,"","",{"$f":"IF(X93=\"\",\"\",IF(I93=1,VLOOKUP(X93,男子種目コード!$J$2:$K$30,2,FALSE),IF(I93=2,VLOOKUP(X93,女子種目コード!$J$2:$K$28,2,FALSE))))","v":""},null,null,{"$f":"IF(AC93=\"\",\"\",IF(I93=1,VLOOKUP(AC93,男子種目コード!$J$2:$K$30,2,FALSE),IF(I93=2,VLOOKUP(AC93,女子種目コード!$J$2:$K$28,2,FALSE))))","v":""},null,null,{"$f":"IF(AF93=\"\",\"\",IF(I93=1,VLOOKUP(AF93,男子種目コード!$J$2:$K$30,2,FALSE),IF(I93=2,VLOOKUP(AF93,女子種目コード!$J$2:$K$28,2,FALSE))))","v":""},null,null,null,null,null,"","",null,null,null,null,null,null,null,null,null,0,null,null,null,null,0,"",""]
[null,{"$f":"名簿!P91","v":""},null,null,{"$f":"名簿!E91","v":0},{"$f":"名簿!CM91","v":""},{"$f":"名簿!Z91","v":""},{"$f":"名簿!CM91","v":""},{"$f":"名簿!Y91","v":""},{"$f":"名簿!CN91","v":""},{"$f":"名簿!CP91","v":0},{"$f":"名簿!CU91","v":"00"},{"$f":"名簿!Q91","v":""},{"$f":"名簿!D91","v":0},null,{"$f":"IF(O94=\"\",\"\",IF(I94=1,VLOOKUP(O94,男子種目コード!$P$1:$Q$26,2,FALSE),IF(I94=2,VLOOKUP(O94,女子種目コード!$P$1:$Q$26,2,FALSE))))","v":""},{"$f":"IF(O94=\"\",\"\",HLOOKUP(O94,名簿!$AH$3:$CH$118,89,FALSE))","v":""},null,"","",null,{"$f":"IF(U94=\"\",\"\",IF(I94=1,VLOOKUP(U94,男子種目コード!$P$1:$Q$26,2,FALSE),IF(I94=2,VLOOKUP(U94,女子種目コード!$P$1:$Q$26,2,FALSE))))","v":""},{"$f":"IF(U94=\"\",\"\",HLOOKUP(U94,名簿!$AH$3:$CH$118,89,FALSE))","v":""},null,"","",{"$f":"IF(X94=\"\",\"\",IF(I94=1,VLOOKUP(X94,男子種目コード!$J$2:$K$30,2,FALSE),IF(I94=2,VLOOKUP(X94,女子種目コード!$J$2:$K$28,2,FALSE))))","v":""},null,null,{"$f":"IF(AC94=\"\",\"\",IF(I94=1,VLOOKUP(AC94,男子種目コード!$J$2:$K$30,2,FALSE),IF(I94=2,VLOOKUP(AC94,女子種目コード!$J$2:$K$28,2,FALSE))))","v":""},null,null,{"$f":"IF(AF94=\"\",\"\",IF(I94=1,VLOOKUP(AF94,男子種目コード!$J$2:$K$30,2,FALSE),IF(I94=2,VLOOKUP(AF94,女子種目コード!$J$2:$K$28,2,FALSE))))","v":""},null,null,null,null,null,"","",null,null,null,null,null,null,null,null,null,0,null,null,null,null,0,"",""]
[null,{"$f":"名簿!P92","v":""},null,null,{"$f":"名簿!E92","v":0},{"$f":"名簿!CM92","v":""},{"$f":"名簿!Z92","v":""},{"$f":"名簿!CM92","v":""},{"$f":"名簿!Y92","v":""},{"$f":"名簿!CN92","v":""},{"$f":"名簿!CP92","v":0},{"$f":"名簿!CU92","v":"00"},{"$f":"名簿!Q92","v":""},{"$f":"名簿!D92","v":0},null,{"$f":"IF(O95=\"\",\"\",IF(I95=1,VLOOKUP(O95,男子種目コード!$P$1:$Q$26,2,FALSE),IF(I95=2,VLOOKUP(O95,女子種目コード!$P$1:$Q$26,2,FALSE))))","v":""},{"$f":"IF(O95=\"\",\"\",HLOOKUP(O95,名簿!$AH$3:$CH$118,90,FALSE))","v":""},null,"","",null,{"$f":"IF(U95=\"\",\"\",IF(I95=1,VLOOKUP(U95,男子種目コード!$P$1:$Q$26,2,FALSE),IF(I95=2,VLOOKUP(U95,女子種目コード!$P$1:$Q$26,2,FALSE))))","v":""},{"$f":"IF(U95=\"\",\"\",HLOOKUP(U95,名簿!$AH$3:$CH$118,90,FALSE))","v":""},null,"","",{"$f":"IF(X95=\"\",\"\",IF(I95=1,VLOOKUP(X95,男子種目コード!$J$2:$K$30,2,FALSE),IF(I95=2,VLOOKUP(X95,女子種目コード!$J$2:$K$28,2,FALSE))))","v":""},null,null,{"$f":"IF(AC95=\"\",\"\",IF(I95=1,VLOOKUP(AC95,男子種目コード!$J$2:$K$30,2,FALSE),IF(I95=2,VLOOKUP(AC95,女子種目コード!$J$2:$K$28,2,FALSE))))","v":""},null,null,{"$f":"IF(AF95=\"\",\"\",IF(I95=1,VLOOKUP(AF95,男子種目コード!$J$2:$K$30,2,FALSE),IF(I95=2,VLOOKUP(AF95,女子種目コード!$J$2:$K$28,2,FALSE))))","v":""},null,null,null,null,null,"","",null,null,null,null,null,null,null,null,null,0,null,null,null,null,0,"",""]
[null,{"$f":"名簿!P93","v":""},null,null,{"$f":"名簿!E93","v":0},{"$f":"名簿!CM93","v":""},{"$f":"名簿!Z93","v":""},{"$f":"名簿!CM93","v":""},{"$f":"名簿!Y93","v":""},{"$f":"名簿!CN93","v":""},{"$f":"名簿!CP93","v":0},{"$f":"名簿!CU93","v":"00"},{"$f":"名簿!Q93","v":""},{"$f":"名簿!D93","v":0},null,{"$f":"IF(O96=\"\",\"\",IF(I96=1,VLOOKUP(O96,男子種目コード!$P$1:$Q$26,2,FALSE),IF(I96=2,VLOOKUP(O96,女子種目コード!$P$1:$Q$26,2,FALSE))))","v":""},{"$f":"IF(O96=\"\",\"\",HLOOKUP(O96,名簿!$AH$3:$CH$118,91,FALSE))","v":""},null,"","",null,{"$f":"IF(U96=\"\",\"\",IF(I96=1,VLOOKUP(U96,男子種目コード!$P$1:$Q$26,2,FALSE),IF(I96=2,VLOOKUP(U96,女子種目コード!$P$1:$Q$26,2,FALSE))))","v":""},{"$f":"IF(U96=\"\",\"\",HLOOKUP(U96,名簿!$AH$3:$CH$118,91,FALSE))","v":""},null,"","",{"$f":"IF(X96=\"\",\"\",IF(I96=1,VLOOKUP(X96,男子種目コード!$J$2:$K$30,2,FALSE),IF(I96=2,VLOOKUP(X96,女子種目コード!$J$2:$K$28,2,FALSE))))","v":""},null,null,{"$f":"IF(AC96=\"\",\"\",IF(I96=1,VLOOKUP(AC96,男子種目コード!$J$2:$K$30,2,FALSE),IF(I96=2,VLOOKUP(AC96,女子種目コード!$J$2:$K$28,2,FALSE))))","v":""},null,null,{"$f":"IF(AF96=\"\",\"\",IF(I96=1,VLOOKUP(AF96,男子種目コード!$J$2:$K$30,2,FALSE),IF(I96=2,VLOOKUP(AF96,女子種目コード!$J$2:$K$28,2,FALSE))))","v":""},null,null,null,null,null,"","",null,null,null,null,null,null,null,null,null,0,null,null,null,null,0,"",""]
[null,{"$f":"名簿!P94","v":""},null,null,{"$f":"名簿!E94","v":0},{"$f":"名簿!CM94","v":""},{"$f":"名簿!Z94","v":""},{"$f":"名簿!CM94","v":""},{"$f":"名簿!Y94","v":""},{"$f":"名簿!CN94","v":""},{"$f":"名簿!CP94","v":0},{"$f":"名簿!CU94","v":"00"},{"$f":"名簿!Q94","v":""},{"$f":"名簿!D94","v":0},null,{"$f":"IF(O97=\"\",\"\",IF(I97=1,VLOOKUP(O97,男子種目コード!$P$1:$Q$26,2,FALSE),IF(I97=2,VLOOKUP(O97,女子種目コード!$P$1:$Q$26,2,FALSE))))","v":""},{"$f":"IF(O97=\"\",\"\",HLOOKUP(O97,名簿!$AH$3:$CH$118,92,FALSE))","v":""},null,"","",null,{"$f":"IF(U97=\"\",\"\",IF(I97=1,VLOOKUP(U97,男子種目コード!$P$1:$Q$26,2,FALSE),IF(I97=2,VLOOKUP(U97,女子種目コード!$P$1:$Q$26,2,FALSE))))","v":""},{"$f":"IF(U97=\"\",\"\",HLOOKUP(U97,名簿!$AH$3:$CH$118,92,FALSE))","v":""},null,"","",{"$f":"IF(X97=\"\",\"\",IF(I97=1,VLOOKUP(X97,男子種目コード!$J$2:$K$30,2,FALSE),IF(I97=2,VLOOKUP(X97,女子種目コード!$J$2:$K$28,2,FALSE))))","v":""},null,null,{"$f":"IF(AC97=\"\",\"\",IF(I97=1,VLOOKUP(AC97,男子種目コード!$J$2:$K$30,2,FALSE),IF(I97=2,VLOOKUP(AC97,女子種目コード!$J$2:$K$28,2,FALSE))))","v":""},null,null,{"$f":"IF(AF97=\"\",\"\",IF(I97=1,VLOOKUP(AF97,男子種目コード!$J$2:$K$30,2,FALSE),IF(I97=2,VLOOKUP(AF97,女子種目コード!$J$2:$K$28,2,FALSE))))","v":""},null,null,null,null,null,"","",null,null,null,null,null,null,null,null,null,0,null,null,null,null,0,"",""]
[null,{"$f":"名簿!P95","v":""},null,null,{"$f":"名簿!E95","v":0},{"$f":"名簿!CM95","v":""},{"$f":"名簿!Z95","v":""},{"$f":"名簿!CM95","v":""},{"$f":"名簿!Y95","v":""},{"$f":"名簿!CN95","v":""},{"$f":"名簿!CP95","v":0},{"$f":"名簿!CU95","v":"00"},{"$f":"名簿!Q95","v":""},{"$f":"名簿!D95","v":0},null,{"$f":"IF(O98=\"\",\"\",IF(I98=1,VLOOKUP(O98,男子種目コード!$P$1:$Q$26,2,FALSE),IF(I98=2,VLOOKUP(O98,女子種目コード!$P$1:$Q$26,2,FALSE))))","v":""},{"$f":"IF(O98=\"\",\"\",HLOOKUP(O98,名簿!$AH$3:$CH$118,93,FALSE))","v":""},null,"","",null,{"$f":"IF(U98=\"\",\"\",IF(I98=1,VLOOKUP(U98,男子種目コード!$P$1:$Q$26,2,FALSE),IF(I98=2,VLOOKUP(U98,女子種目コード!$P$1:$Q$26,2,FALSE))))","v":""},{"$f":"IF(U98=\"\",\"\",HLOOKUP(U98,名簿!$AH$3:$CH$118,93,FALSE))","v":""},null,"","",{"$f":"IF(X98=\"\",\"\",IF(I98=1,VLOOKUP(X98,男子種目コード!$J$2:$K$30,2,FALSE),IF(I98=2,VLOOKUP(X98,女子種目コード!$J$2:$K$28,2,FALSE))))","v":""},null,null,{"$f":"IF(AC98=\"\",\"\",IF(I98=1,VLOOKUP(AC98,男子種目コード!$J$2:$K$30,2,FALSE),IF(I98=2,VLOOKUP(AC98,女子種目コード!$J$2:$K$28,2,FALSE))))","v":""},null,null,{"$f":"IF(AF98=\"\",\"\",IF(I98=1,VLOOKUP(AF98,男子種目コード!$J$2:$K$30,2,FALSE),IF(I98=2,VLOOKUP(AF98,女子種目コード!$J$2:$K$28,2,FALSE))))","v":""},null,null,null,null,null,"","",null,null,null,null,null,null,null,null,null,0,null,null,null,null,0,"",""]
[null,{"$f":"名簿!P96","v":""},null,null,{"$f":"名簿!E96","v":0},{"$f":"名簿!CM96","v":""},{"$f":"名簿!Z96","v":""},{"$f":"名簿!CM96","v":""},{"$f":"名簿!Y96","v":""},{"$f":"名簿!CN96","v":""},{"$f":"名簿!CP96","v":0},{"$f":"名簿!CU96","v":"00"},{"$f":"名簿!Q96","v":""},{"$f":"名簿!D96","v":0},null,{"$f":"IF(O99=\"\",\"\",IF(I99=1,VLOOKUP(O99,男子種目コード!$P$1:$Q$26,2,FALSE),IF(I99=2,VLOOKUP(O99,女子種目コード!$P$1:$Q$26,2,FALSE))))","v":""},{"$f":"IF(O99=\"\",\"\",HLOOKUP(O99,名簿!$AH$3:$CH$118,94,FALSE))","v":""},null,"","",null,{"$f":"IF(U99=\"\",\"\",IF(I99=1,VLOOKUP(U99,男子種目コード!$P$1:$Q$26,2,FALSE),IF(I99=2,VLOOKUP(U99,女子種目コード!$P$1:$Q$26,2,FALSE))))","v":""},{"$f":"IF(U99=\"\",\"\",HLOOKUP(U99,名簿!$AH$3:$CH$118,94,FALSE))","v":""},null,"","",{"$f":"IF(X99=\"\",\"\",IF(I99=1,VLOOKUP(X99,男子種目コード!$J$2:$K$30,2,FALSE),IF(I99=2,VLOOKUP(X99,女子種目コード!$J$2:$K$28,2,FALSE))))","v":""},null,null,{"$f":"IF(AC99=\"\",\"\",IF(I99=1,VLOOKUP(AC99,男子種目コード!$J$2:$K$30,2,FALSE),IF(I99=2,VLOOKUP(AC99,女子種目コード!$J$2:$K$28,2,FALSE))))","v":""},null,null,{"$f":"IF(AF99=\"\",\"\",IF(I99=1,VLOOKUP(AF99,男子種目コード!$J$2:$K$30,2,FALSE),IF(I99=2,VLOOKUP(AF99,女子種目コード!$J$2:$K$28,2,FALSE))))","v":""},null,null,null,null,null,"","",null,null,null,null,null,null,null,null,null,0,null,null,null,null,0,"",""]
[null,{"$f":"名簿!P97","v":""},null,null,{"$f":"名簿!E97","v":0},{"$f":"名簿!CM97","v":""},{"$f":"名簿!Z97","v":""},{"$f":"名簿!CM97","v":""},{"$f":"名簿!Y97","v":""},{"$f":"名簿!CN97","v":""},{"$f":"名簿!CP97","v":0},{"$f":"名簿!CU97","v":"00"},{"$f":"名簿!Q97","v":""},{"$f":"名簿!D97","v":0},null,{"$f":"IF(O100=\"\",\"\",IF(I100=1,VLOOKUP(O100,男子種目コード!$P$1:$Q$26,2,FALSE),IF(I100=2,VLOOKUP(O100,女子種目コード!$P$1:$Q$26,2,FALSE))))","v":""},{"$f":"IF(O100=\"\",\"\",HLOOKUP(O100,名簿!$AH$3:$CH$118,95,FALSE))","v":""},null,"","",null,{"$f":"IF(U100=\"\",\"\",IF(I100=1,VLOOKUP(U100,男子種目コード!$P$1:$Q$26,2,FALSE),IF(I100=2,VLOOKUP(U100,女子種目コード!$P$1:$Q$26,2,FALSE))))","v":""},{"$f":"IF(U100=\"\",\"\",HLOOKUP(U100,名簿!$AH$3:$CH$118,95,FALSE))","v":""},null,"","",{"$f":"IF(X100=\"\",\"\",IF(I100=1,VLOOKUP(X100,男子種目コード!$J$2:$K$30,2,FALSE),IF(I100=2,VLOOKUP(X100,女子種目コード!$J$2:$K$28,2,FALSE))))","v":""},null,null,{"$f":"IF(AC100=\"\",\"\",IF(I100=1,VLOOKUP(AC100,男子種目コード!$J$2:$K$30,2,FALSE),IF(I100=2,VLOOKUP(AC100,女子種目コード!$J$2:$K$28,2,FALSE))))","v":""},null,null,{"$f":"IF(AF100=\"\",\"\",IF(I100=1,VLOOKUP(AF100,男子種目コード!$J$2:$K$30,2,FALSE),IF(I100=2,VLOOKUP(AF100,女子種目コード!$J$2:$K$28,2,FALSE))))","v":""},null,null,null,null,null,"","",null,null,null,null,null,null,null,null,null,0,null,null,null,null,0,"",""]
[null,{"$f":"名簿!P98","v":""},null,null,{"$f":"名簿!E98","v":0},{"$f":"名簿!CM98","v":""},{"$f":"名簿!Z98","v":""},{"$f":"名簿!CM98","v":""},{"$f":"名簿!Y98","v":""},{"$f":"名簿!CN98","v":""},{"$f":"名簿!CP98","v":0},{"$f":"名簿!CU98","v":"00"},{"$f":"名簿!Q98","v":""},{"$f":"名簿!D98","v":0},null,{"$f":"IF(O101=\"\",\"\",IF(I101=1,VLOOKUP(O101,男子種目コード!$P$1:$Q$26,2,FALSE),IF(I101=2,VLOOKUP(O101,女子種目コード!$P$1:$Q$26,2,FALSE))))","v":""},{"$f":"IF(O101=\"\",\"\",HLOOKUP(O101,名簿!$AH$3:$CH$118,96,FALSE))","v":""},null,"","",null,{"$f":"IF(U101=\"\",\"\",IF(I101=1,VLOOKUP(U101,男子種目コード!$P$1:$Q$26,2,FALSE),IF(I101=2,VLOOKUP(U101,女子種目コード!$P$1:$Q$26,2,FALSE))))","v":""},{"$f":"IF(U101=\"\",\"\",HLOOKUP(U101,名簿!$AH$3:$CH$118,96,FALSE))","v":""},null,"","",{"$f":"IF(X101=\"\",\"\",IF(I101=1,VLOOKUP(X101,男子種目コード!$J$2:$K$30,2,FALSE),IF(I101=2,VLOOKUP(X101,女子種目コード!$J$2:$K$28,2,FALSE))))","v":""},null,null,{"$f":"IF(AC101=\"\",\"\",IF(I101=1,VLOOKUP(AC101,男子種目コード!$J$2:$K$30,2,FALSE),IF(I101=2,VLOOKUP(AC101,女子種目コード!$J$2:$K$28,2,FALSE))))","v":""},null,null,{"$f":"IF(AF101=\"\",\"\",IF(I101=1,VLOOKUP(AF101,男子種目コード!$J$2:$K$30,2,FALSE),IF(I101=2,VLOOKUP(AF101,女子種目コード!$J$2:$K$28,2,FALSE))))","v":""},null,null,null,null,null,"","",null,null,null,null,null,null,null,null,null,0,null,null,null,null,0,"",""]
[null,{"$f":"名簿!P99","v":""},null,null,{"$f":"名簿!E99","v":0},{"$f":"名簿!CM99","v":""},{"$f":"名簿!Z99","v":""},{"$f":"名簿!CM99","v":""},{"$f":"名簿!Y99","v":""},{"$f":"名簿!CN99","v":""},{"$f":"名簿!CP99","v":0},{"$f":"名簿!CU99","v":"00"},{"$f":"名簿!Q99","v":""},{"$f":"名簿!D99","v":0},null,{"$f":"IF(O102=\"\",\"\",IF(I102=1,VLOOKUP(O102,男子種目コード!$P$1:$Q$26,2,FALSE),IF(I102=2,VLOOKUP(O102,女子種目コード!$P$1:$Q$26,2,FALSE))))","v":""},{"$f":"IF(O102=\"\",\"\",HLOOKUP(O102,名簿!$AH$3:$CH$118,97,FALSE))","v":""},null,"","",null,{"$f":"IF(U102=\"\",\"\",IF(I102=1,VLOOKUP(U102,男子種目コード!$P$1:$Q$26,2,FALSE),IF(I102=2,VLOOKUP(U102,女子種目コード!$P$1:$Q$26,2,FALSE))))","v":""},{"$f":"IF(U102=\"\",\"\",HLOOKUP(U102,名簿!$AH$3:$CH$118,97,FALSE))","v":""},null,"","",{"$f":"IF(X102=\"\",\"\",IF(I102=1,VLOOKUP(X102,男子種目コード!$J$2:$K$30,2,FALSE),IF(I102=2,VLOOKUP(X102,女子種目コード!$J$2:$K$28,2,FALSE))))","v":""},null,null,{"$f":"IF(AC102=\"\",\"\",IF(I102=1,VLOOKUP(AC102,男子種目コード!$J$2:$K$30,2,FALSE),IF(I102=2,VLOOKUP(AC102,女子種目コード!$J$2:$K$28,2,FALSE))))","v":""},null,null,{"$f":"IF(AF102=\"\",\"\",IF(I102=1,VLOOKUP(AF102,男子種目コード!$J$2:$K$30,2,FALSE),IF(I102=2,VLOOKUP(AF102,女子種目コード!$J$2:$K$28,2,FALSE))))","v":""},null,null,null,null,null,"","",null,null,null,null,null,null,null,null,null,0,null,null,null,null,0,"",""]
[null,{"$f":"名簿!P100","v":""},null,null,{"$f":"名簿!E100","v":0},{"$f":"名簿!CM100","v":""},{"$f":"名簿!Z100","v":""},{"$f":"名簿!CM100","v":""},{"$f":"名簿!Y100","v":""},{"$f":"名簿!CN100","v":""},{"$f":"名簿!CP100","v":0},{"$f":"名簿!CU100","v":"00"},{"$f":"名簿!Q100","v":""},{"$f":"名簿!D100","v":0},null,{"$f":"IF(O103=\"\",\"\",IF(I103=1,VLOOKUP(O103,男子種目コード!$P$1:$Q$26,2,FALSE),IF(I103=2,VLOOKUP(O103,女子種目コード!$P$1:$Q$26,2,FALSE))))","v":""},{"$f":"IF(O103=\"\",\"\",HLOOKUP(O103,名簿!$AH$3:$CH$118,98,FALSE))","v":""},null,"","",null,{"$f":"IF(U103=\"\",\"\",IF(I103=1,VLOOKUP(U103,男子種目コード!$P$1:$Q$26,2,FALSE),IF(I103=2,VLOOKUP(U103,女子種目コード!$P$1:$Q$26,2,FALSE))))","v":""},{"$f":"IF(U103=\"\",\"\",HLOOKUP(U103,名簿!$AH$3:$CH$118,98,FALSE))","v":""},null,"","",{"$f":"IF(X103=\"\",\"\",IF(I103=1,VLOOKUP(X103,男子種目コード!$J$2:$K$30,2,FALSE),IF(I103=2,VLOOKUP(X103,女子種目コード!$J$2:$K$28,2,FALSE))))","v":""},null,null,{"$f":"IF(AC103=\"\",\"\",IF(I103=1,VLOOKUP(AC103,男子種目コード!$J$2:$K$30,2,FALSE),IF(I103=2,VLOOKUP(AC103,女子種目コード!$J$2:$K$28,2,FALSE))))","v":""},null,null,{"$f":"IF(AF103=\"\",\"\",IF(I103=1,VLOOKUP(AF103,男子種目コード!$J$2:$K$30,2,FALSE),IF(I103=2,VLOOKUP(AF103,女子種目コード!$J$2:$K$28,2,FALSE))))","v":""},null,null,null,null,null,"","",null,null,null,null,null,null,null,null,null,{"$f":"IF(OR(AM103=1,U103=\"\"),0,1)","v":0},null,null,null,null,{"$f":"COUNT(P103,V103,AA103)","v":0},{"$f":"IF(I103=1,BC103,\"\")","v":""},{"$f":"IF(I103=2,BC103,\"\")","v":""}]
[null,{"$f":"名簿!P101","v":""},null,null,{"$f":"名簿!E101","v":0},{"$f":"名簿!CM101","v":""},{"$f":"名簿!Z101","v":""},{"$f":"名簿!CM101","v":""},{"$f":"名簿!Y101","v":""},{"$f":"名簿!CN101","v":""},{"$f":"名簿!CP101","v":0},{"$f":"名簿!CU101","v":"00"},{"$f":"名簿!Q101","v":""},{"$f":"名簿!D101","v":0},null,{"$f":"IF(O104=\"\",\"\",IF(I104=1,VLOOKUP(O104,男子種目コード!$P$1:$Q$26,2,FALSE),IF(I104=2,VLOOKUP(O104,女子種目コード!$P$1:$Q$26,2,FALSE))))","v":""},{"$f":"IF(O104=\"\",\"\",HLOOKUP(O104,名簿!$AH$3:$CH$118,99,FALSE))","v":""},null,"","",null,{"$f":"IF(U104=\"\",\"\",IF(I104=1,VLOOKUP(U104,男子種目コード!$P$1:$Q$26,2,FALSE),IF(I104=2,VLOOKUP(U104,女子種目コード!$P$1:$Q$26,2,FALSE))))","v":""},{"$f":"IF(U104=\"\",\"\",HLOOKUP(U104,名簿!$AH$3:$CH$118,99,FALSE))","v":""},null,"","",{"$f":"IF(X104=\"\",\"\",IF(I104=1,VLOOKUP(X104,男子種目コード!$J$2:$K$30,2,FALSE),IF(I104=2,VLOOKUP(X104,女子種目コード!$J$2:$K$28,2,FALSE))))","v":""},null,null,{"$f":"IF(AC104=\"\",\"\",IF(I104=1,VLOOKUP(AC104,男子種目コード!$J$2:$K$30,2,FALSE),IF(I104=2,VLOOKUP(AC104,女子種目コード!$J$2:$K$28,2,FALSE))))","v":""},null,null,{"$f":"IF(AF104=\"\",\"\",IF(I104=1,VLOOKUP(AF104,男子種目コード!$J$2:$K$30,2,FALSE),IF(I104=2,VLOOKUP(AF104,女子種目コード!$J$2:$K$28,2,FALSE))))","v":""},null,null,null,null,null,"","",null,null,null,null,null,null,null,null,null,0,null,null,null,null,0,"",""]
[null,{"$f":"名簿!P102","v":""},null,null,{"$f":"名簿!E102","v":0},{"$f":"名簿!CM102","v":""},{"$f":"名簿!Z102","v":""},{"$f":"名簿!CM102","v":""},{"$f":"名簿!Y102","v":""},{"$f":"名簿!CN102","v":""},{"$f":"名簿!CP102","v":0},{"$f":"名簿!CU102","v":"00"},{"$f":"名簿!Q102","v":""},{"$f":"名簿!D102","v":0},null,{"$f":"IF(O105=\"\",\"\",IF(I105=1,VLOOKUP(O105,男子種目コード!$P$1:$Q$26,2,FALSE),IF(I105=2,VLOOKUP(O105,女子種目コード!$P$1:$Q$26,2,FALSE))))","v":""},{"$f":"IF(O105=\"\",\"\",HLOOKUP(O105,名簿!$AH$3:$CH$118,100,FALSE))","v":""},null,"","",null,{"$f":"IF(U105=\"\",\"\",IF(I105=1,VLOOKUP(U105,男子種目コード!$P$1:$Q$26,2,FALSE),IF(I105=2,VLOOKUP(U105,女子種目コード!$P$1:$Q$26,2,FALSE))))","v":""},{"$f":"IF(U105=\"\",\"\",HLOOKUP(U105,名簿!$AH$3:$CH$118,100,FALSE))","v":""},null,"","",{"$f":"IF(X105=\"\",\"\",IF(I105=1,VLOOKUP(X105,男子種目コード!$J$2:$K$30,2,FALSE),IF(I105=2,VLOOKUP(X105,女子種目コード!$J$2:$K$28,2,FALSE))))","v":""},null,null,{"$f":"IF(AC105=\"\",\"\",IF(I105=1,VLOOKUP(AC105,男子種目コード!$J$2:$K$30,2,FALSE),IF(I105=2,VLOOKUP(AC105,女子種目コード!$J$2:$K$28,2,FALSE))))","v":""},null,null,{"$f":"IF(AF105=\"\",\"\",IF(I105=1,VLOOKUP(AF105,男子種目コード!$J$2:$K$30,2,FALSE),IF(I105=2,VLOOKUP(AF105,女子種目コード!$J$2:$K$28,2,FALSE))))","v":""},null,null,null,null,null,"","",null,null,null,null,null,null,null,null,null,0,null,null,null,null,0,"",""]
[null,{"$f":"名簿!P103","v":""},null,null,{"$f":"名簿!E103","v":0},{"$f":"名簿!CM103","v":""},{"$f":"名簿!Z103","v":""},{"$f":"名簿!CM103","v":""},{"$f":"名簿!Y103","v":""},{"$f":"名簿!CN103","v":""},{"$f":"名簿!CP103","v":0},{"$f":"名簿!CU103","v":"00"},{"$f":"名簿!Q103","v":""},{"$f":"名簿!D103","v":0},null,{"$f":"IF(O106=\"\",\"\",IF(I106=1,VLOOKUP(O106,男子種目コード!$P$1:$Q$26,2,FALSE),IF(I106=2,VLOOKUP(O106,女子種目コード!$P$1:$Q$26,2,FALSE))))","v":""},{"$f":"IF(O106=\"\",\"\",HLOOKUP(O106,名簿!$AH$3:$CH$118,101,FALSE))","v":""},null,"","",null,{"$f":"IF(U106=\"\",\"\",IF(I106=1,VLOOKUP(U106,男子種目コード!$P$1:$Q$26,2,FALSE),IF(I106=2,VLOOKUP(U106,女子種目コード!$P$1:$Q$26,2,FALSE))))","v":""},{"$f":"IF(U106=\"\",\"\",HLOOKUP(U106,名簿!$AH$3:$CH$118,101,FALSE))","v":""},null,"","",{"$f":"IF(X106=\"\",\"\",IF(I106=1,VLOOKUP(X106,男子種目コード!$J$2:$K$30,2,FALSE),IF(I106=2,VLOOKUP(X106,女子種目コード!$J$2:$K$28,2,FALSE))))","v":""},null,null,{"$f":"IF(AC106=\"\",\"\",IF(I106=1,VLOOKUP(AC106,男子種目コード!$J$2:$K$30,2,FALSE),IF(I106=2,VLOOKUP(AC106,女子種目コード!$J$2:$K$28,2,FALSE))))","v":""},null,null,{"$f":"IF(AF106=\"\",\"\",IF(I106=1,VLOOKUP(AF106,男子種目コード!$J$2:$K$30,2,FALSE),IF(I106=2,VLOOKUP(AF106,女子種目コード!$J$2:$K$28,2,FALSE))))","v":""},null,null,null,null,null,"","",null,null,null,null,null,null,null,null,null,0,null,null,null,null,0,"",""]
[null,{"$f":"名簿!P104","v":""},null,null,{"$f":"名簿!E104","v":0},{"$f":"名簿!CM104","v":""},{"$f":"名簿!Z104","v":""},{"$f":"名簿!CM104","v":""},{"$f":"名簿!Y104","v":""},{"$f":"名簿!CN104","v":""},{"$f":"名簿!CP104","v":0},{"$f":"名簿!CU104","v":"00"},{"$f":"名簿!Q104","v":""},{"$f":"名簿!D104","v":0},null,{"$f":"IF(O107=\"\",\"\",IF(I107=1,VLOOKUP(O107,男子種目コード!$P$1:$Q$26,2,FALSE),IF(I107=2,VLOOKUP(O107,女子種目コード!$P$1:$Q$26,2,FALSE))))","v":""},{"$f":"IF(O107=\"\",\"\",HLOOKUP(O107,名簿!$AH$3:$CH$118,102,FALSE))","v":""},null,"","",null,{"$f":"IF(U107=\"\",\"\",IF(I107=1,VLOOKUP(U107,男子種目コード!$P$1:$Q$26,2,FALSE),IF(I107=2,VLOOKUP(U107,女子種目コード!$P$1:$Q$26,2,FALSE))))","v":""},{"$f":"IF(U107=\"\",\"\",HLOOKUP(U107,名簿!$AH$3:$CH$118,102,FALSE))","v":""},null,"","",{"$f":"IF(X107=\"\",\"\",IF(I107=1,VLOOKUP(X107,男子種目コード!$J$2:$K$30,2,FALSE),IF(I107=2,VLOOKUP(X107,女子種目コード!$J$2:$K$28,2,FALSE))))","v":""},null,null,{"$f":"IF(AC107=\"\",\"\",IF(I107=1,VLOOKUP(AC107,男子種目コード!$J$2:$K$30,2,FALSE),IF(I107=2,VLOOKUP(AC107,女子種目コード!$J$2:$K$28,2,FALSE))))","v":""},null,null,{"$f":"IF(AF107=\"\",\"\",IF(I107=1,VLOOKUP(AF107,男子種目コード!$J$2:$K$30,2,FALSE),IF(I107=2,VLOOKUP(AF107,女子種目コード!$J$2:$K$28,2,FALSE))))","v":""},null,null,null,null,null,"","",null,null,null,null,null,null,null,null,null,0,null,null,null,null,0,"",""]
[null,{"$f":"名簿!P105","v":""},null,null,{"$f":"名簿!E105","v":0},{"$f":"名簿!CM105","v":""},{"$f":"名簿!Z105","v":""},{"$f":"名簿!CM105","v":""},{"$f":"名簿!Y105","v":""},{"$f":"名簿!CN105","v":""},{"$f":"名簿!CP105","v":0},{"$f":"名簿!CU105","v":"00"},{"$f":"名簿!Q105","v":""},{"$f":"名簿!D105","v":0},null,{"$f":"IF(O108=\"\",\"\",IF(I108=1,VLOOKUP(O108,男子種目コード!$P$1:$Q$26,2,FALSE),IF(I108=2,VLOOKUP(O108,女子種目コード!$P$1:$Q$26,2,FALSE))))","v":""},{"$f":"IF(O108=\"\",\"\",HLOOKUP(O108,名簿!$AH$3:$CH$118,103,FALSE))","v":""},null,"","",null,{"$f":"IF(U108=\"\",\"\",IF(I108=1,VLOOKUP(U108,男子種目コード!$P$1:$Q$26,2,FALSE),IF(I108=2,VLOOKUP(U108,女子種目コード!$P$1:$Q$26,2,FALSE))))","v":""},{"$f":"IF(U108=\"\",\"\",HLOOKUP(U108,名簿!$AH$3:$CH$118,103,FALSE))","v":""},null,"","",null,null,null,null,null,null,null,null,null,null,null,null,"","",null,null,null,null,null,null,null,null,null,0,null,null,null,null,0,"",""]
[null,{"$f":"名簿!P106","v":""},null,null,{"$f":"名簿!E106","v":0},{"$f":"名簿!CM106","v":""},{"$f":"名簿!Z106","v":""},{"$f":"名簿!CM106","v":""},{"$f":"名簿!Y106","v":""},{"$f":"名簿!CN106","v":""},{"$f":"名簿!CP106","v":0},{"$f":"名簿!CU106","v":"00"},{"$f":"名簿!Q106","v":""},{"$f":"名簿!D106","v":0},null,{"$f":"IF(O109=\"\",\"\",IF(I109=1,VLOOKUP(O109,男子種目コード!$P$1:$Q$26,2,FALSE),IF(I109=2,VLOOKUP(O109,女子種目コード!$P$1:$Q$26,2,FALSE))))","v":""},{"$f":"IF(O109=\"\",\"\",HLOOKUP(O109,名簿!$AH$3:$CH$118,104,FALSE))","v":""},null,"","",null,{"$f":"IF(U109=\"\",\"\",IF(I109=1,VLOOKUP(U109,男子種目コード!$P$1:$Q$26,2,FALSE),IF(I109=2,VLOOKUP(U109,女子種目コード!$P$1:$Q$26,2,FALSE))))","v":""},{"$f":"IF(U109=\"\",\"\",HLOOKUP(U109,名簿!$AH$3:$CH$118,104,FALSE))","v":""},null,"","",null,null,null,null,null,null,null,null,null,null,null,null,"","",null,null,null,null,null,null,null,null,null,0,null,null,null,null,0,"",""]
[null,{"$f":"名簿!P107","v":""},null,null,{"$f":"名簿!E107","v":0},{"$f":"名簿!CM107","v":""},{"$f":"名簿!Z107","v":""},{"$f":"名簿!CM107","v":""},{"$f":"名簿!Y107","v":""},{"$f":"名簿!CN107","v":""},{"$f":"名簿!CP107","v":0},{"$f":"名簿!CU107","v":"00"},{"$f":"名簿!Q107","v":""},{"$f":"名簿!D107","v":0},null,{"$f":"IF(O110=\"\",\"\",IF(I110=1,VLOOKUP(O110,男子種目コード!$P$1:$Q$26,2,FALSE),IF(I110=2,VLOOKUP(O110,女子種目コード!$P$1:$Q$26,2,FALSE))))","v":""},{"$f":"IF(O110=\"\",\"\",HLOOKUP(O110,名簿!$AH$3:$CH$118,105,FALSE))","v":""},null,"","",null,{"$f":"IF(U110=\"\",\"\",IF(I110=1,VLOOKUP(U110,男子種目コード!$P$1:$Q$26,2,FALSE),IF(I110=2,VLOOKUP(U110,女子種目コード!$P$1:$Q$26,2,FALSE))))","v":""},{"$f":"IF(U110=\"\",\"\",HLOOKUP(U110,名簿!$AH$3:$CH$118,105,FALSE))","v":""},null,"","",null,null,null,null,null,null,null,null,null,null,null,null,"","",null,null,null,null,null,null,null,null,null,0,null,null,null,null,0,"",""]
[null,{"$f":"名簿!P108","v":""},null,null,{"$f":"名簿!E108","v":0},{"$f":"名簿!CM108","v":""},{"$f":"名簿!Z108","v":""},{"$f":"名簿!CM108","v":""},{"$f":"名簿!Y108","v":""},{"$f":"名簿!CN108","v":""},{"$f":"名簿!CP108","v":0},{"$f":"名簿!CU108","v":"00"},{"$f":"名簿!Q108","v":""},{"$f":"名簿!D108","v":0},null,{"$f":"IF(O111=\"\",\"\",IF(I111=1,VLOOKUP(O111,男子種目コード!$P$1:$Q$26,2,FALSE),IF(I111=2,VLOOKUP(O111,女子種目コード!$P$1:$Q$26,2,FALSE))))","v":""},{"$f":"IF(O111=\"\",\"\",HLOOKUP(O111,名簿!$AH$3:$CH$118,106,FALSE))","v":""},null,"","",null,{"$f":"IF(U111=\"\",\"\",IF(I111=1,VLOOKUP(U111,男子種目コード!$P$1:$Q$26,2,FALSE),IF(I111=2,VLOOKUP(U111,女子種目コード!$P$1:$Q$26,2,FALSE))))","v":""},{"$f":"IF(U111=\"\",\"\",HLOOKUP(U111,名簿!$AH$3:$CH$118,106,FALSE))","v":""},null,"","",null,null,null,null,null,null,null,null,null,null,null,null,"","",null,null,null,null,null,null,null,null,null,0,null,null,null,null,0,"",""]
[null,{"$f":"名簿!P109","v":""},null,null,{"$f":"名簿!E109","v":0},{"$f":"名簿!CM109","v":""},{"$f":"名簿!Z109","v":""},{"$f":"名簿!CM109","v":""},{"$f":"名簿!Y109","v":""},{"$f":"名簿!CN109","v":""},{"$f":"名簿!CP109","v":0},{"$f":"名簿!CU109","v":"00"},{"$f":"名簿!Q109","v":""},{"$f":"名簿!D109","v":0},null,{"$f":"IF(O112=\"\",\"\",IF(I112=1,VLOOKUP(O112,男子種目コード!$P$1:$Q$26,2,FALSE),IF(I112=2,VLOOKUP(O112,女子種目コード!$P$1:$Q$26,2,FALSE))))","v":""},{"$f":"IF(O112=\"\",\"\",HLOOKUP(O112,名簿!$AH$3:$CH$118,107,FALSE))","v":""},null,"","",null,{"$f":"IF(U112=\"\",\"\",IF(I112=1,VLOOKUP(U112,男子種目コード!$P$1:$Q$26,2,FALSE),IF(I112=2,VLOOKUP(U112,女子種目コード!$P$1:$Q$26,2,FALSE))))","v":""},{"$f":"IF(U112=\"\",\"\",HLOOKUP(U112,名簿!$AH$3:$CH$118,107,FALSE))","v":""},null,"","",null,null,null,null,null,null,null,null,null,null,null,null,"","",null,null,null,null,null,null,null,null,null,0,null,null,null,null,0,"",""]
[null,{"$f":"名簿!P110","v":""},null,null,{"$f":"名簿!E110","v":0},{"$f":"名簿!CM110","v":""},{"$f":"名簿!Z110","v":""},{"$f":"名簿!CM110","v":""},{"$f":"名簿!Y110","v":""},{"$f":"名簿!CN110","v":""},{"$f":"名簿!CP110","v":0},{"$f":"名簿!CU110","v":"00"},{"$f":"名簿!Q110","v":""},{"$f":"名簿!D110","v":0},null,{"$f":"IF(O113=\"\",\"\",IF(I113=1,VLOOKUP(O113,男子種目コード!$P$1:$Q$26,2,FALSE),IF(I113=2,VLOOKUP(O113,女子種目コード!$P$1:$Q$26,2,FALSE))))","v":""},{"$f":"IF(O113=\"\",\"\",HLOOKUP(O113,名簿!$AH$3:$CH$118,108,FALSE))","v":""},null,"","",null,{"$f":"IF(U113=\"\",\"\",IF(I113=1,VLOOKUP(U113,男子種目コード!$P$1:$Q$26,2,FALSE),IF(I113=2,VLOOKUP(U113,女子種目コード!$P$1:$Q$26,2,FALSE))))","v":""},{"$f":"IF(U113=\"\",\"\",HLOOKUP(U113,名簿!$AH$3:$CH$118,108,FALSE))","v":""},null,"","",null,null,null,null,null,null,null,null,null,null,null,null,"","",null,null,null,null,null,null,null,null,null,0,null,null,null,null,0,"",""]
[null,{"$f":"名簿!P111","v":""},null,null,{"$f":"名簿!E111","v":0},{"$f":"名簿!CM111","v":""},{"$f":"名簿!Z111","v":""},{"$f":"名簿!CM111","v":""},{"$f":"名簿!Y111","v":""},{"$f":"名簿!CN111","v":""},{"$f":"名簿!CP111","v":0},{"$f":"名簿!CU111","v":"00"},{"$f":"名簿!Q111","v":""},{"$f":"名簿!D111","v":0},null,{"$f":"IF(O114=\"\",\"\",IF(I114=1,VLOOKUP(O114,男子種目コード!$P$1:$Q$26,2,FALSE),IF(I114=2,VLOOKUP(O114,女子種目コード!$P$1:$Q$26,2,FALSE))))","v":""},{"$f":"IF(O114=\"\",\"\",HLOOKUP(O114,名簿!$AH$3:$CH$118,109,FALSE))","v":""},null,"","",null,{"$f":"IF(U114=\"\",\"\",IF(I114=1,VLOOKUP(U114,男子種目コード!$P$1:$Q$26,2,FALSE),IF(I114=2,VLOOKUP(U114,女子種目コード!$P$1:$Q$26,2,FALSE))))","v":""},{"$f":"IF(U114=\"\",\"\",HLOOKUP(U114,名簿!$AH$3:$CH$118,109,FALSE))","v":""},null,"","",null,null,null,null,null,null,null,null,null,null,null,null,"","",null,null,null,null,null,null,null,null,null,0,null,null,null,null,0,"",""]
[null,{"$f":"名簿!P112","v":""},null,null,{"$f":"名簿!E112","v":0},{"$f":"名簿!CM112","v":""},{"$f":"名簿!Z112","v":""},{"$f":"名簿!CM112","v":""},{"$f":"名簿!Y112","v":""},{"$f":"名簿!CN112","v":""},{"$f":"名簿!CP112","v":0},{"$f":"名簿!CU112","v":"00"},{"$f":"名簿!Q112","v":""},{"$f":"名簿!D112","v":0},null,{"$f":"IF(O115=\"\",\"\",IF(I115=1,VLOOKUP(O115,男子種目コード!$P$1:$Q$26,2,FALSE),IF(I115=2,VLOOKUP(O115,女子種目コード!$P$1:$Q$26,2,FALSE))))","v":""},{"$f":"IF(O115=\"\",\"\",HLOOKUP(O115,名簿!$AH$3:$CH$118,110,FALSE))","v":""},null,"","",null,{"$f":"IF(U115=\"\",\"\",IF(I115=1,VLOOKUP(U115,男子種目コード!$P$1:$Q$26,2,FALSE),IF(I115=2,VLOOKUP(U115,女子種目コード!$P$1:$Q$26,2,FALSE))))","v":""},{"$f":"IF(U115=\"\",\"\",HLOOKUP(U115,名簿!$AH$3:$CH$118,110,FALSE))","v":""},null,"","",null,null,null,null,null,null,null,null,null,null,null,null,"","",null,null,null,null,null,null,null,null,null,0,null,null,null,null,0,"",""]
[null,{"$f":"名簿!P113","v":""},null,null,{"$f":"名簿!E113","v":0},{"$f":"名簿!CM113","v":""},{"$f":"名簿!Z113","v":""},{"$f":"名簿!CM113","v":""},{"$f":"名簿!Y113","v":""},{"$f":"名簿!CN113","v":""},{"$f":"名簿!CP113","v":0},{"$f":"名簿!CU113","v":"00"},{"$f":"名簿!Q113","v":""},{"$f":"名簿!D113","v":0},null,{"$f":"IF(O116=\"\",\"\",IF(I116=1,VLOOKUP(O116,男子種目コード!$P$1:$Q$26,2,FALSE),IF(I116=2,VLOOKUP(O116,女子種目コード!$P$1:$Q$26,2,FALSE))))","v":""},{"$f":"IF(O116=\"\",\"\",HLOOKUP(O116,名簿!$AH$3:$CH$118,111,FALSE))","v":""},null,"","",null,{"$f":"IF(U116=\"\",\"\",IF(I116=1,VLOOKUP(U116,男子種目コード!$P$1:$Q$26,2,FALSE),IF(I116=2,VLOOKUP(U116,女子種目コード!$P$1:$Q$26,2,FALSE))))","v":""},{"$f":"IF(U116=\"\",\"\",HLOOKUP(U116,名簿!$AH$3:$CH$118,111,FALSE))","v":""},null,"","",null,null,null,null,null,null,null,null,null,null,null,null,"","",null,null,null,null,null,null,null,null,null,0,null,null,null,null,0,"",""]
[null,null,null,null,null,null,null,null,null,null,null,null,null,null,null,null,null,null,null,null,null,null,null,null,null,null,null,null,null,null,null,null,{"$f":"SUM(AM7:AM116)","v":0},{"$f":"SUM(AN7:AN116)","v":0}]
[null,null,null,null,null,null,null,null,null,null,null,null,null,null,null,null,null,null,null,null,null,null,null,null,null,null,null,null,null,null,null,null,{"$f":"SUM(AG117:AH117)","v":0}]

{"sheet":"所属コード","index":14,"n_rows":189,"n_cols":7,"rows_kept":189,"cut":false,"hidden":true,"merged":[]}
["所属名","所属NO","所属名","所属名略称","所属地NO"]
["成徳","235001","成徳","桑名市",100,null,"桑員"]
["明正","235002","明正","桑名市",100,null,"桑員"]
["光風","235003","光風","桑名市",100,null,"桑員"]
["陽和","235004","陽和","桑名市",100,null,"桑員"]
["正和","235005","正和","桑名市",100,null,"桑員"]
["陵成","235006","陵成","桑名市",100,null,"桑員"]
["光陵","235007","光陵","桑名市",100,null,"桑員"]
["多度","235008","多度","桑名市",100,null,"桑員"]
["長島","235009","長島","桑名市",100,null,"桑員"]
["津田学園","235010","津田学園","桑名市",100,null,"桑員"]
["木曽岬","235011","木曽岬","桑名郡",100,null,"桑員"]
["北勢","235012","北勢","いなべ市",100,null,"桑員"]
["員弁","235013","員弁","いなべ市",100,null,"桑員"]
["大安","235014","大安","いなべ市",100,null,"桑員"]
["東員第一","235015","東員第一","員弁郡",100,null,"桑員"]
["東員第二","235016","東員第二","員弁郡",100,null,"桑員"]
["藤原","235017","藤原","いなべ市",100,null,"桑員"]
["中部","235018","中部","四日市",101,null,"三泗"]
["港","235019","港","四日市",101,null,"三泗"]
["塩浜","235020","塩浜","四日市",101,null,"三泗"]
["山手","235021","山手","四日市",101,null,"三泗"]
["富洲原","235022","富洲原","四日市",101,null,"三泗"]
["富田","235023","富田","四日市",101,null,"三泗"]
["笹川","235024","笹川","四日市",101,null,"三泗"]
["四日市南","235025","四日市南","四日市",101,null,"三泗"]
["西陵","235026","西陵","四日市",101,null,"三泗"]
["三滝","235027","三滝","四日市",101,null,"三泗"]
["大池","235028","大池","四日市",101,null,"三泗"]
["朝明","235029","朝明","四日市",101,null,"三泗"]
["保々","235030","保々","四日市",101,null,"三泗"]
["常磐","235031","常磐","四日市",101,null,"三泗"]
["西笹川","235032","西笹川","四日市",101,null,"三泗"]
["三重平","235033","三重平","四日市",101,null,"三泗"]
["羽津","235034","羽津","四日市",101,null,"三泗"]
["西朝明","235035","西朝明","四日市",101,null,"三泗"]
["桜","235036","桜","四日市",101,null,"三泗"]
["内部","235037","内部","四日市",101,null,"三泗"]
["暁","235038","暁","四日市",101,null,"三泗"]
["海星","235039","海星","四日市",101,null,"三泗"]
["ﾒﾘﾉｰﾙ","235040","ﾒﾘﾉｰﾙ","四日市",101,null,"三泗"]
["菰野","235041","菰野","三重郡",101,null,"三泗"]
["八風","235042","八風","三重郡",101,null,"三泗"]
["楠","235043","楠","四日市",101,null,"三泗"]
["朝日","235044","朝日","三重郡",101,null,"三泗"]
["川越","235045","川越","三重郡",101,null,"三泗"]
["平田野","235046","平田野","鈴鹿市",103,null,"鈴亀"]
["白鳥","235047","白鳥","鈴鹿市",103,null,"鈴亀"]
["神戸","235048","神戸","鈴鹿市",103,null,"鈴亀"]
["大木","235049","大木","鈴鹿市",103,null,"鈴亀"]
["千代崎","235050","千代崎","鈴鹿市",103,null,"鈴亀"]
["白子","235051","白子","鈴鹿市",103,null,"鈴亀"]
["天栄","235052","天栄","鈴鹿市",103,null,"鈴亀"]
["鈴峰","235053","鈴峰","鈴鹿市",103,null,"鈴亀"]
["鼓ヶ浦","235054","鼓ヶ浦","鈴鹿市",103,null,"鈴亀"]
["創徳","235055","創徳","鈴鹿市",103,null,"鈴亀"]
["鈴鹿","235056","鈴鹿","鈴鹿市",103,null,"鈴亀"]
["亀山","235057","亀山","亀山市",103,null,"鈴亀"]
["亀山中部","235058","亀山中部","亀山市",103,null,"鈴亀"]
["関","235059","関","亀山市",103,null,"鈴亀"]
["橋北","235060","橋北","津市",104,null,"津"]
["東橋内","235061","東橋内","津市",104,null,"津"]
["西橋内","235062","西橋内","津市",104,null,"津"]
["橋南","235063","橋南","津市",104,null,"津"]
["南郊","235064","南郊","津市",104,null,"津"]
["西郊","235065","西郊","津市",104,null,"津"]
["一身田","235066","一身田","津市",104,null,"津"]
["一身田国児","235067","一身田国児","津市",104,null,"津"]
["南が丘","235068","南が丘","津市",104,null,"津"]
["高田","235069","高田","津市",104,null,"津"]
["セントヨゼフ","235070","セントヨゼフ","津市",104,null,"津"]
["三重大附属","235071","三重大附属","津市",104,null,"津"]
["豊里","235072","豊里","津市",104,null,"津"]
["朝陽","235073","朝陽","津市",104,null,"津"]
["芸濃","235074","芸濃","津市",104,null,"津"]
["美里","235075","美里","津市",104,null,"津"]
["東観","235076","東観","津市",104,null,"津"]
["久居","235077","久居","津市",104,null,"津"]
["久居西","235078","久居西","津市",104,null,"津"]
["久居東","235079","久居東","津市",104,null,"津"]
["香海","235080","香海","津市",104,null,"津"]
["一志","235081","一志","津市",104,null,"津"]
["白山","235082","白山","津市",104,null,"津"]
["嬉野","235083","嬉野","松阪市",105,null,"松多"]
["美杉","235084","美杉","津市",104,null,"津"]
["三雲","235085","三雲","松阪市",105,null,"松多"]
["殿町","235086","殿町","松阪市",105,null,"松多"]
["鎌田","235087","鎌田","松阪市",105,null,"松多"]
["久保","235088","久保","松阪市",105,null,"松多"]
["松阪東部","235089","松阪東部","松阪市",105,null,"松多"]
["松阪中部","235090","松阪中部","松阪市",105,null,"松多"]
["大江","235091","大江","松阪市",105,null,"松多"]
["西","235092","西","松阪市",105,null,"松多"]
["三重","235093","三重","松阪市",105,null,"松多"]
["飯南","235094","飯南","松阪市",105,null,"松多"]
["飯高西","235095","飯高西","松阪市",105,null,"松多"]
["飯高東","235096","飯高東","松阪市",105,null,"松多"]
["多気","235097","多気","多気郡",105,null,"松多"]
["明和","235098","明和","多気郡",105,null,"松多"]
["協和","235099","協和","多気郡",105,null,"松多"]
["大台","235100","大台","多気郡",105,null,"松多"]
["勢和","235101","勢和","多気郡",105,null,"松多"]
["多気宮川","235102","多気宮川","多気郡",105,null,"松多"]
["倉田山","235103","倉田山","伊勢市",106,null,"伊度"]
["厚生","235104","厚生","伊勢市",106,null,"伊度"]
["伊勢宮川","235105","伊勢宮川","伊勢市",106,null,"伊度"]
["伊勢港","235106","伊勢港","伊勢市",106,null,"伊度"]
["豊浜","235107","豊浜","伊勢市",106,null,"伊度"]
["北浜","235108","北浜","伊勢市",106,null,"伊度"]
["沼木","235109","沼木","伊勢市",106,null,"伊度"]
["城田","235110","城田","伊勢市",106,null,"伊度"]
["五十鈴","235111","五十鈴","伊勢市",106,null,"伊度"]
["皇學館","235112","皇學館","伊勢市",106,null,"伊度"]
["二見","235113","二見","伊勢市",106,null,"伊度"]
["御薗","235114","御薗","伊勢市",106,null,"伊度"]
["小俣","235115","小俣","伊勢市",106,null,"伊度"]
["玉城","235116","玉城","度会郡",106,null,"伊度"]
["大宮","235117","大宮","度会郡",106,null,"伊度"]
["大紀","235119","大紀","度会郡",106,null,"伊度"]
["南島","235121","南島","度会郡",106,null,"伊度"]
["南島西","235122","南島西","度会郡",106,null,"伊度"]
["南勢","235123","南勢","度会郡",106,null,"伊度"]
["度会","235124","度会","度会郡",106,null,"伊度"]
["鳥羽東","235125","鳥羽東","鳥羽市",107,null,"鳥志"]
["答志","235126","答志","鳥羽市",107,null,"鳥志"]
["神島","235127","神島","鳥羽市",107,null,"鳥志"]
["加茂","235128","加茂","鳥羽市",107,null,"鳥志"]
["鏡浦","235129","鏡浦","鳥羽市",107,null,"鳥志"]
["長岡","235130","長岡","鳥羽市",107,null,"鳥志"]
["浜島","235131","浜島","志摩市",107,null,"鳥志"]
["波切","235132","波切","志摩市",107,null,"鳥志"]
["船越","235133","船越","志摩市",107,null,"鳥志"]
["片田","235134","片田","志摩市",107,null,"鳥志"]
["和具","235135","和具","志摩市",107,null,"鳥志"]
["越賀","235136","越賀","志摩市",107,null,"鳥志"]
["文岡","235137","文岡","志摩市",107,null,"鳥志"]
["東海","235138","東海","志摩市",107,null,"鳥志"]
["安乗","235139","安乗","志摩市",107,null,"鳥志"]
["磯部","235140","磯部","志摩市",107,null,"鳥志"]
["的矢","235141","的矢","志摩市",107,null,"鳥志"]
["崇広","235142","崇広","伊賀市",108,null,"伊賀"]
["城東","235143","城東","伊賀市",108,null,"伊賀"]
["緑ヶ丘","235144","緑ヶ丘","伊賀市",108,null,"伊賀"]
["成和","235146","成和","伊賀市",108,null,"伊賀"]
["丸山","235147","丸山","伊賀市",108,null,"伊賀"]
["日生付属","235148","日生付属","伊賀市",108,null,"伊賀"]
["名張","235149","名張","名張市",109,null,"名張"]
["赤目","235150","赤目","名張市",109,null,"名張"]
["桔梗が丘","235151","桔梗が丘","名張市",109,null,"名張"]
["名張北","235152","名張北","名張市",109,null,"名張"]
["南","235153","南","名張市",109,null,"名張"]
["青山","235154","青山","伊賀市",109,null,"名張"]
["柘植","235155","柘植","伊賀市",109,null,"名張"]
["霊峰","235156","霊峰","伊賀市",109,null,"名張"]
["島ヶ原","235157","島ヶ原","伊賀市",109,null,"名張"]
["阿山","235158","阿山","伊賀市",109,null,"名張"]
["大山田","235159","大山田","伊賀市",109,null,"名張"]
["尾鷲","235160","尾鷲","尾鷲市",109,null,"名張"]
["九鬼","235161","九鬼","尾鷲市",110,null,"尾北"]
["北輪内","235162","北輪内","尾鷲市",110,null,"尾北"]
["輪内","235163","輪内","尾鷲市",110,null,"尾北"]
["紀北","235164","紀北","北牟婁",110,null,"尾北"]
["赤羽","235165","赤羽","北牟婁",110,null,"尾北"]
["潮南","235166","潮南","北牟婁",110,null,"尾北"]
["三船","235167","三船","北牟婁",110,null,"尾北"]
["荒坂","235168","荒坂","熊野市",111,null,"熊南"]
["新鹿","235169","新鹿","熊野市",111,null,"熊南"]
["木本","235170","木本","熊野市",111,null,"熊南"]
["有馬","235171","有馬","熊野市",111,null,"熊南"]
["育生","235172","育生","熊野市",111,null,"熊南"]
["神上","235173","神上","熊野市",111,null,"熊南"]
["五郷","235174","五郷","熊野市",111,null,"熊南"]
["飛鳥","235175","飛鳥","熊野市",111,null,"熊南"]
["御浜","235176","御浜","南牟婁",111,null,"熊南"]
["阿田和","235177","阿田和","南牟婁",111,null,"熊南"]
["尾呂志学園","235178","尾呂志学園","南牟婁",111,null,"熊南"]
["相野谷","235179","相野谷","南牟婁",111,null,"熊南"]
["入鹿","235180","入鹿","南牟婁",111,null,"熊南"]
["矢渕","235181","矢渕","南牟婁",111,null,"熊南"]
["Y_W_C","230082","Y_W_C","三重",101,null,"三泗"]
["四日市陸上","239128","四日市陸上","三重",101,null,"三泗"]
["ASSA-TC","230081","ASSA-TC","三重",103,null,"鈴亀"]
["イムラＡＡ","239125","イムラＡＡ","三重",103,null,"鈴亀"]
["橋南スポク","230096","橋南スポク","三重",104,null,"津"]
["J＆E久居","239127","J＆E久居","三重",104,null,"津"]
["伊賀TC","230092","伊賀ＴＣ","三重",108,null,"伊賀"]
["上野ＡＣ","239125","上野ＡＣ","三重",108,null,"伊賀"]
["名張ｸﾗﾌﾞ","230116","名張クラブ","三重",109,null,"名張"]
["熊野ＲＣ","230115","熊野ＲＣ","三重",111,null,"熊南"]

{"sheet":"県駅伝オーダー用紙","index":15,"n_rows":53,"n_cols":14,"rows_kept":53,"cut":false,"hidden":false,"merged":[[47,3,47,5],[4,1,4,2],[6,1,6,2],[8,1,8,2],[43,1,43,3]]}
["三重県中学校駅伝競走大会　",null,null,null,"オーダー用紙"]
[]
[]
[]
["学校名",{"$f":"名簿!O4","v":0}]
[]
["顧問名",{"$f":"名簿!D1","v":0}]
[]
["連絡先",{"$f":"名簿!I1","v":0}]
[]
[]
[]
["男子"]
[null,"No","氏名","フリガナ","学年","備考",null,null,null,null,null,null,"(",")"]
["1区",null,{"$f":"IF(M15=\"\",\"\",N15)","v":""},{"$f":"IF(B15=\"\",\"\",VLOOKUP(B15,名簿!$E$4:$Z$113,22,FALSE))","v":""},{"$f":"IF(B15=\"\",\"\",VLOOKUP(B15,名簿!$E$4:$J$113,5,FALSE))","v":""},null,null,"Noを入力して下さい。",null,null,null,null,{"$f":"IF(B15=\"\",\"\",VLOOKUP(B15,名簿!$E$4:$CN$113,87,FALSE))","v":""},{"$f":"CONCATENATE(M15,$M$14,E15,$N$14)","v":"()"}]
["2区",null,{"$f":"IF(M16=\"\",\"\",N16)","v":""},{"$f":"IF(B16=\"\",\"\",VLOOKUP(B16,名簿!$E$4:$Z$113,22,FALSE))","v":""},{"$f":"IF(B16=\"\",\"\",VLOOKUP(B16,名簿!$E$4:$J$113,5,FALSE))","v":""},null,null,"氏名、フリガナ、学年が転記されます。",null,null,null,null,{"$f":"IF(B16=\"\",\"\",VLOOKUP(B16,名簿!$E$4:$CN$113,87,FALSE))","v":""},{"$f":"CONCATENATE(M16,$M$14,E16,$N$14)","v":"()"}]
["3区",null,"",{"$f":"IF(B17=\"\",\"\",VLOOKUP(B17,名簿!$E$4:$Z$113,22,FALSE))","v":""},{"$f":"IF(B17=\"\",\"\",VLOOKUP(B17,名簿!$E$4:$J$113,5,FALSE))","v":""},null,null,null,null,null,null,null,{"$f":"IF(B17=\"\",\"\",VLOOKUP(B17,名簿!$E$4:$CN$113,87,FALSE))","v":""},"()"]
["4区",null,"",{"$f":"IF(B18=\"\",\"\",VLOOKUP(B18,名簿!$E$4:$Z$113,22,FALSE))","v":""},{"$f":"IF(B18=\"\",\"\",VLOOKUP(B18,名簿!$E$4:$J$113,5,FALSE))","v":""},null,null,"登録外の選手は直接入力して下さい。",null,null,null,null,{"$f":"IF(B18=\"\",\"\",VLOOKUP(B18,名簿!$E$4:$CN$113,87,FALSE))","v":""},"()"]
["5区",null,"",{"$f":"IF(B19=\"\",\"\",VLOOKUP(B19,名簿!$E$4:$Z$113,22,FALSE))","v":""},{"$f":"IF(B19=\"\",\"\",VLOOKUP(B19,名簿!$E$4:$J$113,5,FALSE))","v":""},null,null,"申込み済のメンバー変更はできません。",null,null,null,null,{"$f":"IF(B19=\"\",\"\",VLOOKUP(B19,名簿!$E$4:$CN$113,87,FALSE))","v":""},"()"]
["6区",null,"",{"$f":"IF(B20=\"\",\"\",VLOOKUP(B20,名簿!$E$4:$Z$113,22,FALSE))","v":""},{"$f":"IF(B20=\"\",\"\",VLOOKUP(B20,名簿!$E$4:$J$113,5,FALSE))","v":""},null,null,null,null,null,null,null,{"$f":"IF(B20=\"\",\"\",VLOOKUP(B20,名簿!$E$4:$CN$113,87,FALSE))","v":""},"()"]
[]
[]
[]
[]
["女子"]
[null,"No","氏名","フリガナ","学年","備考"]
["1区",null,{"$f":"IF(M27=\"\",\"\",N27)","v":""},{"$f":"IF(B27=\"\",\"\",VLOOKUP(B27,名簿!$E$4:$Z$113,22,FALSE))","v":""},{"$f":"IF(B27=\"\",\"\",VLOOKUP(B27,名簿!$E$4:$J$113,5,FALSE))","v":""},null,null,null,null,null,null,null,{"$f":"IF(B27=\"\",\"\",VLOOKUP(B27,名簿!$E$4:$CN$113,87,FALSE))","v":""},{"$f":"CONCATENATE(M27,$M$14,E27,$N$14)","v":"()"}]
["2区",null,{"$f":"IF(M28=\"\",\"\",N28)","v":""},{"$f":"IF(B28=\"\",\"\",VLOOKUP(B28,名簿!$E$4:$Z$113,22,FALSE))","v":""},{"$f":"IF(B28=\"\",\"\",VLOOKUP(B28,名簿!$E$4:$J$113,5,FALSE))","v":""},null,null,null,null,null,null,null,{"$f":"IF(B28=\"\",\"\",VLOOKUP(B28,名簿!$E$4:$CN$113,87,FALSE))","v":""},{"$f":"CONCATENATE(M28,$M$14,E28,$N$14)","v":"()"}]
["3区",null,"",{"$f":"IF(B29=\"\",\"\",VLOOKUP(B29,名簿!$E$4:$Z$113,22,FALSE))","v":""},{"$f":"IF(B29=\"\",\"\",VLOOKUP(B29,名簿!$E$4:$J$113,5,FALSE))","v":""},null,null,null,null,null,null,null,{"$f":"IF(B29=\"\",\"\",VLOOKUP(B29,名簿!$E$4:$CN$113,87,FALSE))","v":""},"()"]
["4区",null,"",{"$f":"IF(B30=\"\",\"\",VLOOKUP(B30,名簿!$E$4:$Z$113,22,FALSE))","v":""},{"$f":"IF(B30=\"\",\"\",VLOOKUP(B30,名簿!$E$4:$J$113,5,FALSE))","v":""},null,null,null,null,null,null,null,{"$f":"IF(B30=\"\",\"\",VLOOKUP(B30,名簿!$E$4:$CN$113,87,FALSE))","v":""},"()"]
["5区",null,"",{"$f":"IF(B31=\"\",\"\",VLOOKUP(B31,名簿!$E$4:$Z$113,22,FALSE))","v":""},{"$f":"IF(B31=\"\",\"\",VLOOKUP(B31,名簿!$E$4:$J$113,5,FALSE))","v":""},null,null,null,null,null,null,null,{"$f":"IF(B31=\"\",\"\",VLOOKUP(B31,名簿!$E$4:$CN$113,87,FALSE))","v":""},"()"]
[null,null,null,null,null,null,null,null,null,null,null,null,{"$f":"IF(B32=\"\",\"\",VLOOKUP(B32,名簿!$E$4:$CN$113,87,FALSE))","v":""},"()"]
[]
[]
[]
[]
[]
[]
[]
[]
[]
["上記、本校生徒の出場を認めます。"]
[]
[null,{"$f":"TODAY()","v":"2017-05-23"}]
[]
[null,null,{"$f":"名簿!O4","v":0},"中学校"]
[]
[null,null,"学校長",null,null,null,"印"]
[]
[]
["学校長名入力の上、捺印し監督会議にて提出のこと。"]
[]
[null,null,null,null,"チームN0"]

{"sheet":"タスキリレー","index":16,"n_rows":75,"n_cols":19,"rows_kept":75,"cut":false,"hidden":false,"merged":[[70,3,70,6],[4,1,4,2],[6,1,6,2],[8,1,8,2],[66,1,66,2]]}
["三重タスキリレー大会　",null,null,null,null,null,"申し込み用紙",null,null,null,null,null,null,null,null,null,null,"(",")"]
[]
[]
[]
["学校名",{"$f":"名簿!O4","v":0}]
[null,null,null,null,null,null,"プログラム冊数",null,"冊"]
["監督名",{"$f":"名簿!D1","v":0}]
[null,null,null,"参加費"]
["連絡先",{"$f":"名簿!I1","v":0},null,{"$f":"P58*4000+H6*800","v":0}]
[]
[]
["監督",{"$f":"$B$7","v":0},null,"(監督が違う場合は直接入力)",null,null,null,"監督",{"$f":"$B$7","v":0},null,"(監督が違う場合は直接入力)"]
["男子Ａ",null,null,null,null,null,null,"男子Ｂ"]
[null,"No","氏名","フリガナ","学年","性別",null,null,"No","氏名","フリガナ","学年","性別",null,null,null,null,{"$f":"B12","v":0},{"$f":"I12","v":0}]
[1,null,{"$f":"IF(B15=\"\",\"\",VLOOKUP(B15,名簿!$E$4:$CN$113,87,FALSE))","v":""},{"$f":"IF(B15=\"\",\"\",VLOOKUP(B15,名簿!$E$4:$Z$113,22,FALSE))","v":""},{"$f":"IF(B15=\"\",\"\",VLOOKUP(B15,名簿!$E$4:$J$113,5,FALSE))","v":""},{"$f":"IF(B15=\"\",\"\",VLOOKUP(B15,名簿!$E$4:$J$113,4,FALSE))","v":""},null,1,null,{"$f":"IF(I15=\"\",\"\",VLOOKUP(I15,名簿!$E$4:$CN$113,87,FALSE))","v":""},{"$f":"IF(I15=\"\",\"\",VLOOKUP(I15,名簿!$E$4:$Z$113,22,FALSE))","v":""},{"$f":"IF(I15=\"\",\"\",VLOOKUP(I15,名簿!$E$4:$J$113,5,FALSE))","v":""},{"$f":"IF(I15=\"\",\"\",VLOOKUP(I15,名簿!$E$4:$J$113,4,FALSE))","v":""},{"$f":"IF(C15=\"\",\"\",1)","v":""},{"$f":"IF(J15=\"\",\"\",1)","v":""},null,null,{"$f":"CONCATENATE(C15,$R$1,E15,$S$1)","v":"()"},{"$f":"CONCATENATE(J15,$R$1,L15,$S$1)","v":"()"}]
[2,null,{"$f":"IF(B16=\"\",\"\",VLOOKUP(B16,名簿!$E$4:$CN$113,87,FALSE))","v":""},{"$f":"IF(B16=\"\",\"\",VLOOKUP(B16,名簿!$E$4:$Z$113,22,FALSE))","v":""},{"$f":"IF(B16=\"\",\"\",VLOOKUP(B16,名簿!$E$4:$J$113,5,FALSE))","v":""},{"$f":"IF(B16=\"\",\"\",VLOOKUP(B16,名簿!$E$4:$J$113,4,FALSE))","v":""},null,2,null,{"$f":"IF(I16=\"\",\"\",VLOOKUP(I16,名簿!$E$4:$CN$113,87,FALSE))","v":""},{"$f":"IF(I16=\"\",\"\",VLOOKUP(I16,名簿!$E$4:$Z$113,22,FALSE))","v":""},{"$f":"IF(I16=\"\",\"\",VLOOKUP(I16,名簿!$E$4:$J$113,5,FALSE))","v":""},{"$f":"IF(I16=\"\",\"\",VLOOKUP(I16,名簿!$E$4:$J$113,4,FALSE))","v":""},null,null,null,null,{"$f":"CONCATENATE(C16,$R$1,E16,$S$1)","v":"()"},{"$f":"CONCATENATE(J16,$R$1,L16,$S$1)","v":"()"}]
[3,null,{"$f":"IF(B17=\"\",\"\",VLOOKUP(B17,名簿!$E$4:$CN$113,87,FALSE))","v":""},{"$f":"IF(B17=\"\",\"\",VLOOKUP(B17,名簿!$E$4:$Z$113,22,FALSE))","v":""},{"$f":"IF(B17=\"\",\"\",VLOOKUP(B17,名簿!$E$4:$J$113,5,FALSE))","v":""},{"$f":"IF(B17=\"\",\"\",VLOOKUP(B17,名簿!$E$4:$J$113,4,FALSE))","v":""},null,3,null,{"$f":"IF(I17=\"\",\"\",VLOOKUP(I17,名簿!$E$4:$CN$113,87,FALSE))","v":""},{"$f":"IF(I17=\"\",\"\",VLOOKUP(I17,名簿!$E$4:$Z$113,22,FALSE))","v":""},{"$f":"IF(I17=\"\",\"\",VLOOKUP(I17,名簿!$E$4:$J$113,5,FALSE))","v":""},{"$f":"IF(I17=\"\",\"\",VLOOKUP(I17,名簿!$E$4:$J$113,4,FALSE))","v":""},null,null,null,null,"()","()"]
[4,null,{"$f":"IF(B18=\"\",\"\",VLOOKUP(B18,名簿!$E$4:$CN$113,87,FALSE))","v":""},{"$f":"IF(B18=\"\",\"\",VLOOKUP(B18,名簿!$E$4:$Z$113,22,FALSE))","v":""},{"$f":"IF(B18=\"\",\"\",VLOOKUP(B18,名簿!$E$4:$J$113,5,FALSE))","v":""},{"$f":"IF(B18=\"\",\"\",VLOOKUP(B18,名簿!$E$4:$J$113,4,FALSE))","v":""},null,4,null,{"$f":"IF(I18=\"\",\"\",VLOOKUP(I18,名簿!$E$4:$CN$113,87,FALSE))","v":""},{"$f":"IF(I18=\"\",\"\",VLOOKUP(I18,名簿!$E$4:$Z$113,22,FALSE))","v":""},{"$f":"IF(I18=\"\",\"\",VLOOKUP(I18,名簿!$E$4:$J$113,5,FALSE))","v":""},{"$f":"IF(I18=\"\",\"\",VLOOKUP(I18,名簿!$E$4:$J$113,4,FALSE))","v":""},null,null,null,null,"()","()"]
[5,null,{"$f":"IF(B19=\"\",\"\",VLOOKUP(B19,名簿!$E$4:$CN$113,87,FALSE))","v":""},{"$f":"IF(B19=\"\",\"\",VLOOKUP(B19,名簿!$E$4:$Z$113,22,FALSE))","v":""},{"$f":"IF(B19=\"\",\"\",VLOOKUP(B19,名簿!$E$4:$J$113,5,FALSE))","v":""},{"$f":"IF(B19=\"\",\"\",VLOOKUP(B19,名簿!$E$4:$J$113,4,FALSE))","v":""},null,5,null,{"$f":"IF(I19=\"\",\"\",VLOOKUP(I19,名簿!$E$4:$CN$113,87,FALSE))","v":""},{"$f":"IF(I19=\"\",\"\",VLOOKUP(I19,名簿!$E$4:$Z$113,22,FALSE))","v":""},{"$f":"IF(I19=\"\",\"\",VLOOKUP(I19,名簿!$E$4:$J$113,5,FALSE))","v":""},{"$f":"IF(I19=\"\",\"\",VLOOKUP(I19,名簿!$E$4:$J$113,4,FALSE))","v":""},null,null,null,null,"()","()"]
[6,null,{"$f":"IF(B20=\"\",\"\",VLOOKUP(B20,名簿!$E$4:$CN$113,87,FALSE))","v":""},{"$f":"IF(B20=\"\",\"\",VLOOKUP(B20,名簿!$E$4:$Z$113,22,FALSE))","v":""},{"$f":"IF(B20=\"\",\"\",VLOOKUP(B20,名簿!$E$4:$J$113,5,FALSE))","v":""},{"$f":"IF(B20=\"\",\"\",VLOOKUP(B20,名簿!$E$4:$J$113,4,FALSE))","v":""},null,6,null,{"$f":"IF(I20=\"\",\"\",VLOOKUP(I20,名簿!$E$4:$CN$113,87,FALSE))","v":""},{"$f":"IF(I20=\"\",\"\",VLOOKUP(I20,名簿!$E$4:$Z$113,22,FALSE))","v":""},{"$f":"IF(I20=\"\",\"\",VLOOKUP(I20,名簿!$E$4:$J$113,5,FALSE))","v":""},{"$f":"IF(I20=\"\",\"\",VLOOKUP(I20,名簿!$E$4:$J$113,4,FALSE))","v":""},null,null,null,null,"()","()"]
[7,null,{"$f":"IF(B21=\"\",\"\",VLOOKUP(B21,名簿!$E$4:$CN$113,87,FALSE))","v":""},{"$f":"IF(B21=\"\",\"\",VLOOKUP(B21,名簿!$E$4:$Z$113,22,FALSE))","v":""},{"$f":"IF(B21=\"\",\"\",VLOOKUP(B21,名簿!$E$4:$J$113,5,FALSE))","v":""},{"$f":"IF(B21=\"\",\"\",VLOOKUP(B21,名簿!$E$4:$J$113,4,FALSE))","v":""},null,7,null,{"$f":"IF(I21=\"\",\"\",VLOOKUP(I21,名簿!$E$4:$CN$113,87,FALSE))","v":""},{"$f":"IF(I21=\"\",\"\",VLOOKUP(I21,名簿!$E$4:$Z$113,22,FALSE))","v":""},{"$f":"IF(I21=\"\",\"\",VLOOKUP(I21,名簿!$E$4:$J$113,5,FALSE))","v":""},{"$f":"IF(I21=\"\",\"\",VLOOKUP(I21,名簿!$E$4:$J$113,4,FALSE))","v":""},null,null,null,null,"()","()"]
[8,null,{"$f":"IF(B22=\"\",\"\",VLOOKUP(B22,名簿!$E$4:$CN$113,87,FALSE))","v":""},{"$f":"IF(B22=\"\",\"\",VLOOKUP(B22,名簿!$E$4:$Z$113,22,FALSE))","v":""},{"$f":"IF(B22=\"\",\"\",VLOOKUP(B22,名簿!$E$4:$J$113,5,FALSE))","v":""},{"$f":"IF(B22=\"\",\"\",VLOOKUP(B22,名簿!$E$4:$J$113,4,FALSE))","v":""},null,8,null,{"$f":"IF(I22=\"\",\"\",VLOOKUP(I22,名簿!$E$4:$CN$113,87,FALSE))","v":""},{"$f":"IF(I22=\"\",\"\",VLOOKUP(I22,名簿!$E$4:$Z$113,22,FALSE))","v":""},{"$f":"IF(I22=\"\",\"\",VLOOKUP(I22,名簿!$E$4:$J$113,5,FALSE))","v":""},{"$f":"IF(I22=\"\",\"\",VLOOKUP(I22,名簿!$E$4:$J$113,4,FALSE))","v":""},null,null,null,null,"()","()"]
[]
["監督",{"$f":"$B$7","v":0},null,"(監督が違う場合は直接入力)",null,null,null,"監督",{"$f":"$B$7","v":0},null,"(監督が違う場合は直接入力)"]
["男子Ｃ",null,null,null,null,null,null,"男子Ｄ"]
[null,"No","氏名","フリガナ","学年","性別",null,null,"No","氏名","フリガナ","学年","性別",null,null,null,null,{"$f":"B24","v":0},{"$f":"I24","v":0}]
[1,null,{"$f":"IF(B27=\"\",\"\",VLOOKUP(B27,名簿!$E$4:$CN$113,87,FALSE))","v":""},{"$f":"IF(B27=\"\",\"\",VLOOKUP(B27,名簿!$E$4:$Z$113,22,FALSE))","v":""},{"$f":"IF(B27=\"\",\"\",VLOOKUP(B27,名簿!$E$4:$J$113,5,FALSE))","v":""},{"$f":"IF(B27=\"\",\"\",VLOOKUP(B27,名簿!$E$4:$J$113,4,FALSE))","v":""},null,1,null,{"$f":"IF(I27=\"\",\"\",VLOOKUP(I27,名簿!$E$4:$CN$113,87,FALSE))","v":""},{"$f":"IF(I27=\"\",\"\",VLOOKUP(I27,名簿!$E$4:$Z$113,22,FALSE))","v":""},{"$f":"IF(I27=\"\",\"\",VLOOKUP(I27,名簿!$E$4:$J$113,5,FALSE))","v":""},{"$f":"IF(I27=\"\",\"\",VLOOKUP(I27,名簿!$E$4:$J$113,4,FALSE))","v":""},{"$f":"IF(C27=\"\",\"\",1)","v":""},{"$f":"IF(J27=\"\",\"\",1)","v":""},null,null,"()","()"]
[2,null,{"$f":"IF(B28=\"\",\"\",VLOOKUP(B28,名簿!$E$4:$CN$113,87,FALSE))","v":""},{"$f":"IF(B28=\"\",\"\",VLOOKUP(B28,名簿!$E$4:$Z$113,22,FALSE))","v":""},{"$f":"IF(B28=\"\",\"\",VLOOKUP(B28,名簿!$E$4:$J$113,5,FALSE))","v":""},{"$f":"IF(B28=\"\",\"\",VLOOKUP(B28,名簿!$E$4:$J$113,4,FALSE))","v":""},null,2,null,{"$f":"IF(I28=\"\",\"\",VLOOKUP(I28,名簿!$E$4:$CN$113,87,FALSE))","v":""},{"$f":"IF(I28=\"\",\"\",VLOOKUP(I28,名簿!$E$4:$Z$113,22,FALSE))","v":""},{"$f":"IF(I28=\"\",\"\",VLOOKUP(I28,名簿!$E$4:$J$113,5,FALSE))","v":""},{"$f":"IF(I28=\"\",\"\",VLOOKUP(I28,名簿!$E$4:$J$113,4,FALSE))","v":""},null,null,null,null,"()","()"]
[3,null,{"$f":"IF(B29=\"\",\"\",VLOOKUP(B29,名簿!$E$4:$CN$113,87,FALSE))","v":""},{"$f":"IF(B29=\"\",\"\",VLOOKUP(B29,名簿!$E$4:$Z$113,22,FALSE))","v":""},{"$f":"IF(B29=\"\",\"\",VLOOKUP(B29,名簿!$E$4:$J$113,5,FALSE))","v":""},{"$f":"IF(B29=\"\",\"\",VLOOKUP(B29,名簿!$E$4:$J$113,4,FALSE))","v":""},null,3,null,{"$f":"IF(I29=\"\",\"\",VLOOKUP(I29,名簿!$E$4:$CN$113,87,FALSE))","v":""},{"$f":"IF(I29=\"\",\"\",VLOOKUP(I29,名簿!$E$4:$Z$113,22,FALSE))","v":""},{"$f":"IF(I29=\"\",\"\",VLOOKUP(I29,名簿!$E$4:$J$113,5,FALSE))","v":""},{"$f":"IF(I29=\"\",\"\",VLOOKUP(I29,名簿!$E$4:$J$113,4,FALSE))","v":""},null,null,null,null,"()","()"]
[4,null,{"$f":"IF(B30=\"\",\"\",VLOOKUP(B30,名簿!$E$4:$CN$113,87,FALSE))","v":""},{"$f":"IF(B30=\"\",\"\",VLOOKUP(B30,名簿!$E$4:$Z$113,22,FALSE))","v":""},{"$f":"IF(B30=\"\",\"\",VLOOKUP(B30,名簿!$E$4:$J$113,5,FALSE))","v":""},{"$f":"IF(B30=\"\",\"\",VLOOKUP(B30,名簿!$E$4:$J$113,4,FALSE))","v":""},null,4,null,{"$f":"IF(I30=\"\",\"\",VLOOKUP(I30,名簿!$E$4:$CN$113,87,FALSE))","v":""},{"$f":"IF(I30=\"\",\"\",VLOOKUP(I30,名簿!$E$4:$Z$113,22,FALSE))","v":""},{"$f":"IF(I30=\"\",\"\",VLOOKUP(I30,名簿!$E$4:$J$113,5,FALSE))","v":""},{"$f":"IF(I30=\"\",\"\",VLOOKUP(I30,名簿!$E$4:$J$113,4,FALSE))","v":""},null,null,null,null,"()","()"]
[5,null,{"$f":"IF(B31=\"\",\"\",VLOOKUP(B31,名簿!$E$4:$CN$113,87,FALSE))","v":""},{"$f":"IF(B31=\"\",\"\",VLOOKUP(B31,名簿!$E$4:$Z$113,22,FALSE))","v":""},{"$f":"IF(B31=\"\",\"\",VLOOKUP(B31,名簿!$E$4:$J$113,5,FALSE))","v":""},{"$f":"IF(B31=\"\",\"\",VLOOKUP(B31,名簿!$E$4:$J$113,4,FALSE))","v":""},null,5,null,{"$f":"IF(I31=\"\",\"\",VLOOKUP(I31,名簿!$E$4:$CN$113,87,FALSE))","v":""},{"$f":"IF(I31=\"\",\"\",VLOOKUP(I31,名簿!$E$4:$Z$113,22,FALSE))","v":""},{"$f":"IF(I31=\"\",\"\",VLOOKUP(I31,名簿!$E$4:$J$113,5,FALSE))","v":""},{"$f":"IF(I31=\"\",\"\",VLOOKUP(I31,名簿!$E$4:$J$113,4,FALSE))","v":""},null,null,null,null,"()","()"]
[6,null,{"$f":"IF(B32=\"\",\"\",VLOOKUP(B32,名簿!$E$4:$CN$113,87,FALSE))","v":""},{"$f":"IF(B32=\"\",\"\",VLOOKUP(B32,名簿!$E$4:$Z$113,22,FALSE))","v":""},{"$f":"IF(B32=\"\",\"\",VLOOKUP(B32,名簿!$E$4:$J$113,5,FALSE))","v":""},{"$f":"IF(B32=\"\",\"\",VLOOKUP(B32,名簿!$E$4:$J$113,4,FALSE))","v":""},null,6,null,{"$f":"IF(I32=\"\",\"\",VLOOKUP(I32,名簿!$E$4:$CN$113,87,FALSE))","v":""},{"$f":"IF(I32=\"\",\"\",VLOOKUP(I32,名簿!$E$4:$Z$113,22,FALSE))","v":""},{"$f":"IF(I32=\"\",\"\",VLOOKUP(I32,名簿!$E$4:$J$113,5,FALSE))","v":""},{"$f":"IF(I32=\"\",\"\",VLOOKUP(I32,名簿!$E$4:$J$113,4,FALSE))","v":""},null,null,null,null,"()","()"]
[7,null,{"$f":"IF(B33=\"\",\"\",VLOOKUP(B33,名簿!$E$4:$CN$113,87,FALSE))","v":""},{"$f":"IF(B33=\"\",\"\",VLOOKUP(B33,名簿!$E$4:$Z$113,22,FALSE))","v":""},{"$f":"IF(B33=\"\",\"\",VLOOKUP(B33,名簿!$E$4:$J$113,5,FALSE))","v":""},{"$f":"IF(B33=\"\",\"\",VLOOKUP(B33,名簿!$E$4:$J$113,4,FALSE))","v":""},null,7,null,{"$f":"IF(I33=\"\",\"\",VLOOKUP(I33,名簿!$E$4:$CN$113,87,FALSE))","v":""},{"$f":"IF(I33=\"\",\"\",VLOOKUP(I33,名簿!$E$4:$Z$113,22,FALSE))","v":""},{"$f":"IF(I33=\"\",\"\",VLOOKUP(I33,名簿!$E$4:$J$113,5,FALSE))","v":""},{"$f":"IF(I33=\"\",\"\",VLOOKUP(I33,名簿!$E$4:$J$113,4,FALSE))","v":""},null,null,null,null,"()","()"]
[8,null,{"$f":"IF(B34=\"\",\"\",VLOOKUP(B34,名簿!$E$4:$CN$113,87,FALSE))","v":""},{"$f":"IF(B34=\"\",\"\",VLOOKUP(B34,名簿!$E$4:$Z$113,22,FALSE))","v":""},{"$f":"IF(B34=\"\",\"\",VLOOKUP(B34,名簿!$E$4:$J$113,5,FALSE))","v":""},{"$f":"IF(B34=\"\",\"\",VLOOKUP(B34,名簿!$E$4:$J$113,4,FALSE))","v":""},null,8,null,{"$f":"IF(I34=\"\",\"\",VLOOKUP(I34,名簿!$E$4:$CN$113,87,FALSE))","v":""},{"$f":"IF(I34=\"\",\"\",VLOOKUP(I34,名簿!$E$4:$Z$113,22,FALSE))","v":""},{"$f":"IF(I34=\"\",\"\",VLOOKUP(I34,名簿!$E$4:$J$113,5,FALSE))","v":""},{"$f":"IF(I34=\"\",\"\",VLOOKUP(I34,名簿!$E$4:$J$113,4,FALSE))","v":""},null,null,null,null,"()","()"]
[]
["監督",{"$f":"$B$7","v":0},null,"(監督が違う場合は直接入力)",null,null,null,"監督",{"$f":"$B$7","v":0},null,"(監督が違う場合は直接入力)"]
["女子Ａ",null,null,null,null,null,null,"女子Ｂ"]
[null,"No","氏名","フリガナ","学年","性別",null,null,"No","氏名","フリガナ","学年","性別",null,null,null,null,{"$f":"B36","v":0},{"$f":"I36","v":0}]
[1,null,{"$f":"IF(B39=\"\",\"\",VLOOKUP(B39,名簿!$E$4:$CN$113,87,FALSE))","v":""},{"$f":"IF(B39=\"\",\"\",VLOOKUP(B39,名簿!$E$4:$Z$113,22,FALSE))","v":""},{"$f":"IF(B39=\"\",\"\",VLOOKUP(B39,名簿!$E$4:$J$113,5,FALSE))","v":""},{"$f":"IF(B39=\"\",\"\",VLOOKUP(B39,名簿!$E$4:$J$113,4,FALSE))","v":""},null,1,null,{"$f":"IF(I39=\"\",\"\",VLOOKUP(I39,名簿!$E$4:$CN$113,87,FALSE))","v":""},{"$f":"IF(I39=\"\",\"\",VLOOKUP(I39,名簿!$E$4:$Z$113,22,FALSE))","v":""},{"$f":"IF(I39=\"\",\"\",VLOOKUP(I39,名簿!$E$4:$J$113,5,FALSE))","v":""},{"$f":"IF(I39=\"\",\"\",VLOOKUP(I39,名簿!$E$4:$J$113,4,FALSE))","v":""},{"$f":"IF(C39=\"\",\"\",1)","v":""},{"$f":"IF(J39=\"\",\"\",1)","v":""},null,null,"()","()"]
[2,null,{"$f":"IF(B40=\"\",\"\",VLOOKUP(B40,名簿!$E$4:$CN$113,87,FALSE))","v":""},{"$f":"IF(B40=\"\",\"\",VLOOKUP(B40,名簿!$E$4:$Z$113,22,FALSE))","v":""},{"$f":"IF(B40=\"\",\"\",VLOOKUP(B40,名簿!$E$4:$J$113,5,FALSE))","v":""},{"$f":"IF(B40=\"\",\"\",VLOOKUP(B40,名簿!$E$4:$J$113,4,FALSE))","v":""},null,2,null,{"$f":"IF(I40=\"\",\"\",VLOOKUP(I40,名簿!$E$4:$CN$113,87,FALSE))","v":""},{"$f":"IF(I40=\"\",\"\",VLOOKUP(I40,名簿!$E$4:$Z$113,22,FALSE))","v":""},{"$f":"IF(I40=\"\",\"\",VLOOKUP(I40,名簿!$E$4:$J$113,5,FALSE))","v":""},{"$f":"IF(I40=\"\",\"\",VLOOKUP(I40,名簿!$E$4:$J$113,4,FALSE))","v":""},null,null,null,null,"()","()"]
[3,null,{"$f":"IF(B41=\"\",\"\",VLOOKUP(B41,名簿!$E$4:$CN$113,87,FALSE))","v":""},{"$f":"IF(B41=\"\",\"\",VLOOKUP(B41,名簿!$E$4:$Z$113,22,FALSE))","v":""},{"$f":"IF(B41=\"\",\"\",VLOOKUP(B41,名簿!$E$4:$J$113,5,FALSE))","v":""},{"$f":"IF(B41=\"\",\"\",VLOOKUP(B41,名簿!$E$4:$J$113,4,FALSE))","v":""},null,3,null,{"$f":"IF(I41=\"\",\"\",VLOOKUP(I41,名簿!$E$4:$CN$113,87,FALSE))","v":""},{"$f":"IF(I41=\"\",\"\",VLOOKUP(I41,名簿!$E$4:$Z$113,22,FALSE))","v":""},{"$f":"IF(I41=\"\",\"\",VLOOKUP(I41,名簿!$E$4:$J$113,5,FALSE))","v":""},{"$f":"IF(I41=\"\",\"\",VLOOKUP(I41,名簿!$E$4:$J$113,4,FALSE))","v":""},null,null,null,null,"()","()"]
[4,null,{"$f":"IF(B42=\"\",\"\",VLOOKUP(B42,名簿!$E$4:$CN$113,87,FALSE))","v":""},{"$f":"IF(B42=\"\",\"\",VLOOKUP(B42,名簿!$E$4:$Z$113,22,FALSE))","v":""},{"$f":"IF(B42=\"\",\"\",VLOOKUP(B42,名簿!$E$4:$J$113,5,FALSE))","v":""},{"$f":"IF(B42=\"\",\"\",VLOOKUP(B42,名簿!$E$4:$J$113,4,FALSE))","v":""},null,4,null,{"$f":"IF(I42=\"\",\"\",VLOOKUP(I42,名簿!$E$4:$CN$113,87,FALSE))","v":""},{"$f":"IF(I42=\"\",\"\",VLOOKUP(I42,名簿!$E$4:$Z$113,22,FALSE))","v":""},{"$f":"IF(I42=\"\",\"\",VLOOKUP(I42,名簿!$E$4:$J$113,5,FALSE))","v":""},{"$f":"IF(I42=\"\",\"\",VLOOKUP(I42,名簿!$E$4:$J$113,4,FALSE))","v":""},null,null,null,null,"()","()"]
[5,null,{"$f":"IF(B43=\"\",\"\",VLOOKUP(B43,名簿!$E$4:$CN$113,87,FALSE))","v":""},{"$f":"IF(B43=\"\",\"\",VLOOKUP(B43,名簿!$E$4:$Z$113,22,FALSE))","v":""},{"$f":"IF(B43=\"\",\"\",VLOOKUP(B43,名簿!$E$4:$J$113,5,FALSE))","v":""},{"$f":"IF(B43=\"\",\"\",VLOOKUP(B43,名簿!$E$4:$J$113,4,FALSE))","v":""},null,5,null,{"$f":"IF(I43=\"\",\"\",VLOOKUP(I43,名簿!$E$4:$CN$113,87,FALSE))","v":""},{"$f":"IF(I43=\"\",\"\",VLOOKUP(I43,名簿!$E$4:$Z$113,22,FALSE))","v":""},{"$f":"IF(I43=\"\",\"\",VLOOKUP(I43,名簿!$E$4:$J$113,5,FALSE))","v":""},{"$f":"IF(I43=\"\",\"\",VLOOKUP(I43,名簿!$E$4:$J$113,4,FALSE))","v":""},null,null,null,null,"()","()"]
[6,null,{"$f":"IF(B44=\"\",\"\",VLOOKUP(B44,名簿!$E$4:$CN$113,87,FALSE))","v":""},{"$f":"IF(B44=\"\",\"\",VLOOKUP(B44,名簿!$E$4:$Z$113,22,FALSE))","v":""},{"$f":"IF(B44=\"\",\"\",VLOOKUP(B44,名簿!$E$4:$J$113,5,FALSE))","v":""},{"$f":"IF(B44=\"\",\"\",VLOOKUP(B44,名簿!$E$4:$J$113,4,FALSE))","v":""},null,6,null,{"$f":"IF(I44=\"\",\"\",VLOOKUP(I44,名簿!$E$4:$CN$113,87,FALSE))","v":""},{"$f":"IF(I44=\"\",\"\",VLOOKUP(I44,名簿!$E$4:$Z$113,22,FALSE))","v":""},{"$f":"IF(I44=\"\",\"\",VLOOKUP(I44,名簿!$E$4:$J$113,5,FALSE))","v":""},{"$f":"IF(I44=\"\",\"\",VLOOKUP(I44,名簿!$E$4:$J$113,4,FALSE))","v":""},null,null,null,null,"()","()"]
[7,null,{"$f":"IF(B45=\"\",\"\",VLOOKUP(B45,名簿!$E$4:$CN$113,87,FALSE))","v":""},{"$f":"IF(B45=\"\",\"\",VLOOKUP(B45,名簿!$E$4:$Z$113,22,FALSE))","v":""},{"$f":"IF(B45=\"\",\"\",VLOOKUP(B45,名簿!$E$4:$J$113,5,FALSE))","v":""},{"$f":"IF(B45=\"\",\"\",VLOOKUP(B45,名簿!$E$4:$J$113,4,FALSE))","v":""},null,7,null,{"$f":"IF(I45=\"\",\"\",VLOOKUP(I45,名簿!$E$4:$CN$113,87,FALSE))","v":""},{"$f":"IF(I45=\"\",\"\",VLOOKUP(I45,名簿!$E$4:$Z$113,22,FALSE))","v":""},{"$f":"IF(I45=\"\",\"\",VLOOKUP(I45,名簿!$E$4:$J$113,5,FALSE))","v":""},{"$f":"IF(I45=\"\",\"\",VLOOKUP(I45,名簿!$E$4:$J$113,4,FALSE))","v":""},null,null,null,null,"()","()"]
[8,null,{"$f":"IF(B46=\"\",\"\",VLOOKUP(B46,名簿!$E$4:$CN$113,87,FALSE))","v":""},{"$f":"IF(B46=\"\",\"\",VLOOKUP(B46,名簿!$E$4:$Z$113,22,FALSE))","v":""},{"$f":"IF(B46=\"\",\"\",VLOOKUP(B46,名簿!$E$4:$J$113,5,FALSE))","v":""},{"$f":"IF(B46=\"\",\"\",VLOOKUP(B46,名簿!$E$4:$J$113,4,FALSE))","v":""},null,8,null,{"$f":"IF(I46=\"\",\"\",VLOOKUP(I46,名簿!$E$4:$CN$113,87,FALSE))","v":""},{"$f":"IF(I46=\"\",\"\",VLOOKUP(I46,名簿!$E$4:$Z$113,22,FALSE))","v":""},{"$f":"IF(I46=\"\",\"\",VLOOKUP(I46,名簿!$E$4:$J$113,5,FALSE))","v":""},{"$f":"IF(I46=\"\",\"\",VLOOKUP(I46,名簿!$E$4:$J$113,4,FALSE))","v":""},null,null,null,null,"()","()"]
[]
["監督",{"$f":"$B$7","v":0},null,"(監督が違う場合は直接入力)",null,null,null,"監督",{"$f":"$B$7","v":0},null,"(監督が違う場合は直接入力)"]
["女子Ｃ",null,null,null,null,null,null,"女子Ｄ"]
[null,"No","氏名","フリガナ","学年","性別",null,null,"No","氏名","フリガナ","学年","性別",null,null,null,null,{"$f":"B48","v":0},{"$f":"I48","v":0}]
[1,null,{"$f":"IF(B51=\"\",\"\",VLOOKUP(B51,名簿!$E$4:$CN$113,87,FALSE))","v":""},{"$f":"IF(B51=\"\",\"\",VLOOKUP(B51,名簿!$E$4:$Z$113,22,FALSE))","v":""},{"$f":"IF(B51=\"\",\"\",VLOOKUP(B51,名簿!$E$4:$J$113,5,FALSE))","v":""},{"$f":"IF(B51=\"\",\"\",VLOOKUP(B51,名簿!$E$4:$J$113,4,FALSE))","v":""},null,1,null,{"$f":"IF(I51=\"\",\"\",VLOOKUP(I51,名簿!$E$4:$CN$113,87,FALSE))","v":""},{"$f":"IF(I51=\"\",\"\",VLOOKUP(I51,名簿!$E$4:$Z$113,22,FALSE))","v":""},{"$f":"IF(I51=\"\",\"\",VLOOKUP(I51,名簿!$E$4:$J$113,5,FALSE))","v":""},{"$f":"IF(I51=\"\",\"\",VLOOKUP(I51,名簿!$E$4:$J$113,4,FALSE))","v":""},{"$f":"IF(C51=\"\",\"\",1)","v":""},{"$f":"IF(J51=\"\",\"\",1)","v":""},null,null,"()","()"]
[2,null,{"$f":"IF(B52=\"\",\"\",VLOOKUP(B52,名簿!$E$4:$CN$113,87,FALSE))","v":""},{"$f":"IF(B52=\"\",\"\",VLOOKUP(B52,名簿!$E$4:$Z$113,22,FALSE))","v":""},{"$f":"IF(B52=\"\",\"\",VLOOKUP(B52,名簿!$E$4:$J$113,5,FALSE))","v":""},{"$f":"IF(B52=\"\",\"\",VLOOKUP(B52,名簿!$E$4:$J$113,4,FALSE))","v":""},null,2,null,{"$f":"IF(I52=\"\",\"\",VLOOKUP(I52,名簿!$E$4:$CN$113,87,FALSE))","v":""},{"$f":"IF(I52=\"\",\"\",VLOOKUP(I52,名簿!$E$4:$Z$113,22,FALSE))","v":""},{"$f":"IF(I52=\"\",\"\",VLOOKUP(I52,名簿!$E$4:$J$113,5,FALSE))","v":""},{"$f":"IF(I52=\"\",\"\",VLOOKUP(I52,名簿!$E$4:$J$113,4,FALSE))","v":""},null,null,null,null,"()","()"]
[3,null,{"$f":"IF(B53=\"\",\"\",VLOOKUP(B53,名簿!$E$4:$CN$113,87,FALSE))","v":""},{"$f":"IF(B53=\"\",\"\",VLOOKUP(B53,名簿!$E$4:$Z$113,22,FALSE))","v":""},{"$f":"IF(B53=\"\",\"\",VLOOKUP(B53,名簿!$E$4:$J$113,5,FALSE))","v":""},{"$f":"IF(B53=\"\",\"\",VLOOKUP(B53,名簿!$E$4:$J$113,4,FALSE))","v":""},null,3,null,{"$f":"IF(I53=\"\",\"\",VLOOKUP(I53,名簿!$E$4:$CN$113,87,FALSE))","v":""},{"$f":"IF(I53=\"\",\"\",VLOOKUP(I53,名簿!$E$4:$Z$113,22,FALSE))","v":""},{"$f":"IF(I53=\"\",\"\",VLOOKUP(I53,名簿!$E$4:$J$113,5,FALSE))","v":""},{"$f":"IF(I53=\"\",\"\",VLOOKUP(I53,名簿!$E$4:$J$113,4,FALSE))","v":""},null,null,null,null,"()","()"]
[4,null,{"$f":"IF(B54=\"\",\"\",VLOOKUP(B54,名簿!$E$4:$CN$113,87,FALSE))","v":""},{"$f":"IF(B54=\"\",\"\",VLOOKUP(B54,名簿!$E$4:$Z$113,22,FALSE))","v":""},{"$f":"IF(B54=\"\",\"\",VLOOKUP(B54,名簿!$E$4:$J$113,5,FALSE))","v":""},{"$f":"IF(B54=\"\",\"\",VLOOKUP(B54,名簿!$E$4:$J$113,4,FALSE))","v":""},null,4,null,{"$f":"IF(I54=\"\",\"\",VLOOKUP(I54,名簿!$E$4:$CN$113,87,FALSE))","v":""},{"$f":"IF(I54=\"\",\"\",VLOOKUP(I54,名簿!$E$4:$Z$113,22,FALSE))","v":""},{"$f":"IF(I54=\"\",\"\",VLOOKUP(I54,名簿!$E$4:$J$113,5,FALSE))","v":""},{"$f":"IF(I54=\"\",\"\",VLOOKUP(I54,名簿!$E$4:$J$113,4,FALSE))","v":""},null,null,null,null,"()","()"]
[5,null,{"$f":"IF(B55=\"\",\"\",VLOOKUP(B55,名簿!$E$4:$CN$113,87,FALSE))","v":""},{"$f":"IF(B55=\"\",\"\",VLOOKUP(B55,名簿!$E$4:$Z$113,22,FALSE))","v":""},{"$f":"IF(B55=\"\",\"\",VLOOKUP(B55,名簿!$E$4:$J$113,5,FALSE))","v":""},{"$f":"IF(B55=\"\",\"\",VLOOKUP(B55,名簿!$E$4:$J$113,4,FALSE))","v":""},null,5,null,{"$f":"IF(I55=\"\",\"\",VLOOKUP(I55,名簿!$E$4:$CN$113,87,FALSE))","v":""},{"$f":"IF(I55=\"\",\"\",VLOOKUP(I55,名簿!$E$4:$Z$113,22,FALSE))","v":""},{"$f":"IF(I55=\"\",\"\",VLOOKUP(I55,名簿!$E$4:$J$113,5,FALSE))","v":""},{"$f":"IF(I55=\"\",\"\",VLOOKUP(I55,名簿!$E$4:$J$113,4,FALSE))","v":""},null,null,null,null,"()","()"]
[6,null,{"$f":"IF(B56=\"\",\"\",VLOOKUP(B56,名簿!$E$4:$CN$113,87,FALSE))","v":""},{"$f":"IF(B56=\"\",\"\",VLOOKUP(B56,名簿!$E$4:$Z$113,22,FALSE))","v":""},{"$f":"IF(B56=\"\",\"\",VLOOKUP(B56,名簿!$E$4:$J$113,5,FALSE))","v":""},{"$f":"IF(B56=\"\",\"\",VLOOKUP(B56,名簿!$E$4:$J$113,4,FALSE))","v":""},null,6,null,{"$f":"IF(I56=\"\",\"\",VLOOKUP(I56,名簿!$E$4:$CN$113,87,FALSE))","v":""},{"$f":"IF(I56=\"\",\"\",VLOOKUP(I56,名簿!$E$4:$Z$113,22,FALSE))","v":""},{"$f":"IF(I56=\"\",\"\",VLOOKUP(I56,名簿!$E$4:$J$113,5,FALSE))","v":""},{"$f":"IF(I56=\"\",\"\",VLOOKUP(I56,名簿!$E$4:$J$113,4,FALSE))","v":""},null,null,null,null,"()","()"]
[7,null,{"$f":"IF(B57=\"\",\"\",VLOOKUP(B57,名簿!$E$4:$CN$113,87,FALSE))","v":""},{"$f":"IF(B57=\"\",\"\",VLOOKUP(B57,名簿!$E$4:$Z$113,22,FALSE))","v":""},{"$f":"IF(B57=\"\",\"\",VLOOKUP(B57,名簿!$E$4:$J$113,5,FALSE))","v":""},{"$f":"IF(B57=\"\",\"\",VLOOKUP(B57,名簿!$E$4:$J$113,4,FALSE))","v":""},null,7,null,{"$f":"IF(I57=\"\",\"\",VLOOKUP(I57,名簿!$E$4:$CN$113,87,FALSE))","v":""},{"$f":"IF(I57=\"\",\"\",VLOOKUP(I57,名簿!$E$4:$Z$113,22,FALSE))","v":""},{"$f":"IF(I57=\"\",\"\",VLOOKUP(I57,名簿!$E$4:$J$113,5,FALSE))","v":""},{"$f":"IF(I57=\"\",\"\",VLOOKUP(I57,名簿!$E$4:$J$113,4,FALSE))","v":""},null,null,null,null,"()","()"]
[8,null,{"$f":"IF(B58=\"\",\"\",VLOOKUP(B58,名簿!$E$4:$CN$113,87,FALSE))","v":""},{"$f":"IF(B58=\"\",\"\",VLOOKUP(B58,名簿!$E$4:$Z$113,22,FALSE))","v":""},{"$f":"IF(B58=\"\",\"\",VLOOKUP(B58,名簿!$E$4:$J$113,5,FALSE))","v":""},{"$f":"IF(B58=\"\",\"\",VLOOKUP(B58,名簿!$E$4:$J$113,4,FALSE))","v":""},null,8,null,{"$f":"IF(I58=\"\",\"\",VLOOKUP(I58,名簿!$E$4:$CN$113,87,FALSE))","v":""},{"$f":"IF(I58=\"\",\"\",VLOOKUP(I58,名簿!$E$4:$Z$113,22,FALSE))","v":""},{"$f":"IF(I58=\"\",\"\",VLOOKUP(I58,名簿!$E$4:$J$113,5,FALSE))","v":""},{"$f":"IF(I58=\"\",\"\",VLOOKUP(I58,名簿!$E$4:$J$113,4,FALSE))","v":""},{"$f":"SUM(N15:N57)","v":0},{"$f":"SUM(O15:O57)","v":0},{"$f":"SUM(N58:O58)","v":0},null,"()","()"]
[]
["Noを入力して下さい。氏名、フリガナ、学年が転記されます。"]
["登録外の選手は直接入力して下さい。"]
[]
[]
[]
["上記、本校生徒の出場を認めます。"]
[]
[null,{"$f":"TODAY()","v":"2017-05-23"}]
[]
[null,null,{"$f":"名簿!O4","v":0},"中学校"]
[]
[null,null,"学校長",null,null,null,null,"印"]
[]
[]
["学校長氏名捺印の上、印刷し大会当日受付へ提出て下さい。"]
[null,null,null,null,null,null,"チームN0"]

{"sheet":"タスキリレーオーダー","index":17,"n_rows":61,"n_cols":13,"rows_kept":61,"cut":false,"hidden":false,"merged":[[4,1,4,2],[6,1,6,2],[8,1,8,2]]}
["三重タスキリレー大会　",null,null,null,null,"オーダー用紙"]
[]
[]
[]
["学校名",{"$f":"名簿!O4","v":0}]
[]
["監督名",{"$f":"名簿!D1","v":0}]
[]
["連絡先",{"$f":"名簿!I1","v":0}]
[]
[]
[]
["男子A",null,"決定No",null,null,null,null,"男子B",null,"決定No"]
[null,"No","氏名","フリガナ","学年","区間を入力して下さい",null,null,"No","氏名","フリガナ","学年","区間を入力して下さい"]
[1,{"$f":"タスキリレー!B15","v":0},{"$f":"タスキリレー!C15","v":""},{"$f":"タスキリレー!D15","v":""},{"$f":"タスキリレー!E15","v":""},null,null,1,{"$f":"タスキリレー!I15","v":0},{"$f":"タスキリレー!J15","v":""},{"$f":"タスキリレー!K15","v":""},{"$f":"タスキリレー!L15","v":""}]
[2,{"$f":"タスキリレー!B16","v":0},{"$f":"タスキリレー!C16","v":""},{"$f":"タスキリレー!D16","v":""},{"$f":"タスキリレー!E16","v":""},null,null,2,{"$f":"タスキリレー!I16","v":0},{"$f":"タスキリレー!J16","v":""},{"$f":"タスキリレー!K16","v":""},{"$f":"タスキリレー!L16","v":""}]
[3,{"$f":"タスキリレー!B17","v":0},{"$f":"タスキリレー!C17","v":""},{"$f":"タスキリレー!D17","v":""},{"$f":"タスキリレー!E17","v":""},null,null,3,{"$f":"タスキリレー!I17","v":0},{"$f":"タスキリレー!J17","v":""},{"$f":"タスキリレー!K17","v":""},{"$f":"タスキリレー!L17","v":""}]
[4,{"$f":"タスキリレー!B18","v":0},{"$f":"タスキリレー!C18","v":""},{"$f":"タスキリレー!D18","v":""},{"$f":"タスキリレー!E18","v":""},null,null,4,{"$f":"タスキリレー!I18","v":0},{"$f":"タスキリレー!J18","v":""},{"$f":"タスキリレー!K18","v":""},{"$f":"タスキリレー!L18","v":""}]
[5,{"$f":"タスキリレー!B19","v":0},{"$f":"タスキリレー!C19","v":""},{"$f":"タスキリレー!D19","v":""},{"$f":"タスキリレー!E19","v":""},null,null,5,{"$f":"タスキリレー!I19","v":0},{"$f":"タスキリレー!J19","v":""},{"$f":"タスキリレー!K19","v":""},{"$f":"タスキリレー!L19","v":""}]
[6,{"$f":"タスキリレー!B20","v":0},{"$f":"タスキリレー!C20","v":""},{"$f":"タスキリレー!D20","v":""},{"$f":"タスキリレー!E20","v":""},null,null,6,{"$f":"タスキリレー!I20","v":0},{"$f":"タスキリレー!J20","v":""},{"$f":"タスキリレー!K20","v":""},{"$f":"タスキリレー!L20","v":""}]
[7,{"$f":"タスキリレー!B21","v":0},{"$f":"タスキリレー!C21","v":""},{"$f":"タスキリレー!D21","v":""},{"$f":"タスキリレー!E21","v":""},null,null,7,{"$f":"タスキリレー!I21","v":0},{"$f":"タスキリレー!J21","v":""},{"$f":"タスキリレー!K21","v":""},{"$f":"タスキリレー!L21","v":""}]
[8,{"$f":"タスキリレー!B22","v":0},{"$f":"タスキリレー!C22","v":""},{"$f":"タスキリレー!D22","v":""},{"$f":"タスキリレー!E22","v":""},null,null,8,{"$f":"タスキリレー!I22","v":0},{"$f":"タスキリレー!J22","v":""},{"$f":"タスキリレー!K22","v":""},{"$f":"タスキリレー!L22","v":""}]
[]
["男子C",null,"決定No",null,null,null,null,"男子D",null,"決定No"]
[null,"No","氏名","フリガナ","学年","区間を入力して下さい",null,null,"No","氏名","フリガナ","学年","区間を入力して下さい"]
[1,{"$f":"タスキリレー!B27","v":0},{"$f":"タスキリレー!C27","v":""},{"$f":"タスキリレー!D27","v":""},{"$f":"タスキリレー!E27","v":""},null,null,1,{"$f":"タスキリレー!I27","v":0},{"$f":"タスキリレー!J27","v":""},{"$f":"タスキリレー!K27","v":""},{"$f":"タスキリレー!L27","v":""}]
[2,{"$f":"タスキリレー!B28","v":0},{"$f":"タスキリレー!C28","v":""},{"$f":"タスキリレー!D28","v":""},{"$f":"タスキリレー!E28","v":""},null,null,2,{"$f":"タスキリレー!I28","v":0},{"$f":"タスキリレー!J28","v":""},{"$f":"タスキリレー!K28","v":""},{"$f":"タスキリレー!L28","v":""}]
[3,{"$f":"タスキリレー!B29","v":0},{"$f":"タスキリレー!C29","v":""},{"$f":"タスキリレー!D29","v":""},{"$f":"タスキリレー!E29","v":""},null,null,3,{"$f":"タスキリレー!I29","v":0},{"$f":"タスキリレー!J29","v":""},{"$f":"タスキリレー!K29","v":""},{"$f":"タスキリレー!L29","v":""}]
[4,{"$f":"タスキリレー!B30","v":0},{"$f":"タスキリレー!C30","v":""},{"$f":"タスキリレー!D30","v":""},{"$f":"タスキリレー!E30","v":""},null,null,4,{"$f":"タスキリレー!I30","v":0},{"$f":"タスキリレー!J30","v":""},{"$f":"タスキリレー!K30","v":""},{"$f":"タスキリレー!L30","v":""}]
[5,{"$f":"タスキリレー!B31","v":0},{"$f":"タスキリレー!C31","v":""},{"$f":"タスキリレー!D31","v":""},{"$f":"タスキリレー!E31","v":""},null,null,5,{"$f":"タスキリレー!I31","v":0},{"$f":"タスキリレー!J31","v":""},{"$f":"タスキリレー!K31","v":""},{"$f":"タスキリレー!L31","v":""}]
[6,{"$f":"タスキリレー!B32","v":0},{"$f":"タスキリレー!C32","v":""},{"$f":"タスキリレー!D32","v":""},{"$f":"タスキリレー!E32","v":""},null,null,6,{"$f":"タスキリレー!I32","v":0},{"$f":"タスキリレー!J32","v":""},{"$f":"タスキリレー!K32","v":""},{"$f":"タスキリレー!L32","v":""}]
[7,{"$f":"タスキリレー!B33","v":0},{"$f":"タスキリレー!C33","v":""},{"$f":"タスキリレー!D33","v":""},{"$f":"タスキリレー!E33","v":""},null,null,7,{"$f":"タスキリレー!I33","v":0},{"$f":"タスキリレー!J33","v":""},{"$f":"タスキリレー!K33","v":""},{"$f":"タスキリレー!L33","v":""}]
[8,{"$f":"タスキリレー!B34","v":0},{"$f":"タスキリレー!C34","v":""},{"$f":"タスキリレー!D34","v":""},{"$f":"タスキリレー!E34","v":""},null,null,8,{"$f":"タスキリレー!I34","v":0},{"$f":"タスキリレー!J34","v":""},{"$f":"タスキリレー!K34","v":""},{"$f":"タスキリレー!L34","v":""}]
[]
["女子A",null,"決定No",null,null,null,null,"女子B",null,"決定No"]
[null,"No","氏名","フリガナ","学年","区間を入力して下さい",null,null,"No","氏名","フリガナ","学年","区間を入力して下さい"]
[1,{"$f":"タスキリレー!B39","v":0},{"$f":"タスキリレー!C39","v":""},{"$f":"タスキリレー!D39","v":""},{"$f":"タスキリレー!E39","v":""},null,null,1,{"$f":"タスキリレー!I39","v":0},{"$f":"タスキリレー!J39","v":""},{"$f":"タスキリレー!K39","v":""},{"$f":"タスキリレー!L39","v":""}]
[2,{"$f":"タスキリレー!B40","v":0},{"$f":"タスキリレー!C40","v":""},{"$f":"タスキリレー!D40","v":""},{"$f":"タスキリレー!E40","v":""},null,null,2,{"$f":"タスキリレー!I40","v":0},{"$f":"タスキリレー!J40","v":""},{"$f":"タスキリレー!K40","v":""},{"$f":"タスキリレー!L40","v":""}]
[3,{"$f":"タスキリレー!B41","v":0},{"$f":"タスキリレー!C41","v":""},{"$f":"タスキリレー!D41","v":""},{"$f":"タスキリレー!E41","v":""},null,null,3,{"$f":"タスキリレー!I41","v":0},{"$f":"タスキリレー!J41","v":""},{"$f":"タスキリレー!K41","v":""},{"$f":"タスキリレー!L41","v":""}]
[4,{"$f":"タスキリレー!B42","v":0},{"$f":"タスキリレー!C42","v":""},{"$f":"タスキリレー!D42","v":""},{"$f":"タスキリレー!E42","v":""},null,null,4,{"$f":"タスキリレー!I42","v":0},{"$f":"タスキリレー!J42","v":""},{"$f":"タスキリレー!K42","v":""},{"$f":"タスキリレー!L42","v":""}]
[5,{"$f":"タスキリレー!B43","v":0},{"$f":"タスキリレー!C43","v":""},{"$f":"タスキリレー!D43","v":""},{"$f":"タスキリレー!E43","v":""},null,null,5,{"$f":"タスキリレー!I43","v":0},{"$f":"タスキリレー!J43","v":""},{"$f":"タスキリレー!K43","v":""},{"$f":"タスキリレー!L43","v":""}]
[6,{"$f":"タスキリレー!B44","v":0},{"$f":"タスキリレー!C44","v":""},{"$f":"タスキリレー!D44","v":""},{"$f":"タスキリレー!E44","v":""},null,null,6,{"$f":"タスキリレー!I44","v":0},{"$f":"タスキリレー!J44","v":""},{"$f":"タスキリレー!K44","v":""},{"$f":"タスキリレー!L44","v":""}]
[7,{"$f":"タスキリレー!B45","v":0},{"$f":"タスキリレー!C45","v":""},{"$f":"タスキリレー!D45","v":""},{"$f":"タスキリレー!E45","v":""},null,null,7,{"$f":"タスキリレー!I45","v":0},{"$f":"タスキリレー!J45","v":""},{"$f":"タスキリレー!K45","v":""},{"$f":"タスキリレー!L45","v":""}]
[8,{"$f":"タスキリレー!B46","v":0},{"$f":"タスキリレー!C46","v":""},{"$f":"タスキリレー!D46","v":""},{"$f":"タスキリレー!E46","v":""},null,null,8,{"$f":"タスキリレー!I46","v":0},{"$f":"タスキリレー!J46","v":""},{"$f":"タスキリレー!K46","v":""},{"$f":"タスキリレー!L46","v":""}]
[]
["女子C",null,"決定No",null,null,null,null,"女子D",null,"決定No"]
[null,"No","氏名","フリガナ","学年","区間を入力して下さい",null,null,"No","氏名","フリガナ","学年","区間を入力して下さい"]
[1,{"$f":"タスキリレー!B51","v":0},{"$f":"タスキリレー!C51","v":""},{"$f":"タスキリレー!D51","v":""},{"$f":"タスキリレー!E51","v":""},null,null,1,{"$f":"タスキリレー!I51","v":0},{"$f":"タスキリレー!J51","v":""},{"$f":"タスキリレー!K51","v":""},{"$f":"タスキリレー!L51","v":""}]
[2,{"$f":"タスキリレー!B52","v":0},{"$f":"タスキリレー!C52","v":""},{"$f":"タスキリレー!D52","v":""},{"$f":"タスキリレー!E52","v":""},null,null,2,{"$f":"タスキリレー!I52","v":0},{"$f":"タスキリレー!J52","v":""},{"$f":"タスキリレー!K52","v":""},{"$f":"タスキリレー!L52","v":""}]
[3,{"$f":"タスキリレー!B53","v":0},{"$f":"タスキリレー!C53","v":""},{"$f":"タスキリレー!D53","v":""},{"$f":"タスキリレー!E53","v":""},null,null,3,{"$f":"タスキリレー!I53","v":0},{"$f":"タスキリレー!J53","v":""},{"$f":"タスキリレー!K53","v":""},{"$f":"タスキリレー!L53","v":""}]
[4,{"$f":"タスキリレー!B54","v":0},{"$f":"タスキリレー!C54","v":""},{"$f":"タスキリレー!D54","v":""},{"$f":"タスキリレー!E54","v":""},null,null,4,{"$f":"タスキリレー!I54","v":0},{"$f":"タスキリレー!J54","v":""},{"$f":"タスキリレー!K54","v":""},{"$f":"タスキリレー!L54","v":""}]
[5,{"$f":"タスキリレー!B55","v":0},{"$f":"タスキリレー!C55","v":""},{"$f":"タスキリレー!D55","v":""},{"$f":"タスキリレー!E55","v":""},null,null,5,{"$f":"タスキリレー!I55","v":0},{"$f":"タスキリレー!J55","v":""},{"$f":"タスキリレー!K55","v":""},{"$f":"タスキリレー!L55","v":""}]
[6,{"$f":"タスキリレー!B56","v":0},{"$f":"タスキリレー!C56","v":""},{"$f":"タスキリレー!D56","v":""},{"$f":"タスキリレー!E56","v":""},null,null,6,{"$f":"タスキリレー!I56","v":0},{"$f":"タスキリレー!J56","v":""},{"$f":"タスキリレー!K56","v":""},{"$f":"タスキリレー!L56","v":""}]
[7,{"$f":"タスキリレー!B57","v":0},{"$f":"タスキリレー!C57","v":""},{"$f":"タスキリレー!D57","v":""},{"$f":"タスキリレー!E57","v":""},null,null,7,{"$f":"タスキリレー!I57","v":0},{"$f":"タスキリレー!J57","v":""},{"$f":"タスキリレー!K57","v":""},{"$f":"タスキリレー!L57","v":""}]
[8,{"$f":"タスキリレー!B58","v":0},{"$f":"タスキリレー!C58","v":""},{"$f":"タスキリレー!D58","v":""},{"$f":"タスキリレー!E58","v":""},null,null,8,{"$f":"タスキリレー!I58","v":0},{"$f":"タスキリレー!J58","v":""},{"$f":"タスキリレー!K58","v":""},{"$f":"タスキリレー!L58","v":""}]
[]
["選手の変更はできません。走順のみ入力して下さい。"]
["補欠は空白で構いません。"]
[]
[]
[null,null,null,null,null,null,null,null,null,null,null,"チームN0"]

{"sheet":"ロードレース","index":18,"n_rows":117,"n_cols":35,"rows_kept":117,"cut":false,"hidden":false,"merged":[[5,33,5,34],[1,4,1,16]]}
[null,"所属名",{"$f":"IF(名簿!$O$4=\"\",\"\",名簿!$O$4)","v":0},null,{"$f":"IF(名簿!$O$4=\"\",\"所属名がありません選手入力に戻り、入力して下さい\",\"\")","v":""}]
[null,"所属コード",{"$f":"名簿!$P$4","v":{"$error":"#N/A"}},null,"中日三重お伊勢さんマラソン"]
[null,"顧問名",{"$f":"IF(名簿!$D$1=\"\",\"\",名簿!$D$1)","v":""},null,null,null,null,null,"参加人数",null,null,null,null,{"$f":"AG117","v":0}]
[null,"顧問連絡先",{"$f":"IF(名簿!$I$1=\"\",\"\",名簿!$I$1)","v":""},null,null,null,null,null,"大会参加費",null,null,null,null,{"$f":"AG117*500","v":0}]
[]
["競技者コード","ナンバー","名　前","掲示板名","カナ名","所属コード","個人所属地コード","性別","学年","年","生年月日(年)",null,"陸連ID","種目","コード","記録","リレー","コード","記録","種目3","コード","記録3","種目4","コード","自己記録4","種目5","コード","自己記録5","オープン参加フラグ",null,null,"中学男子5ｋ",null,"種目別人数"]
[null,{"$f":"名簿!E4","v":0},{"$f":"名簿!CM4","v":""},{"$f":"名簿!CM4","v":""},{"$f":"名簿!Z4","v":""},{"$f":"名簿!P4","v":{"$error":"#N/A"}},{"$f":"名簿!Q4","v":{"$error":"#N/A"}},{"$f":"名簿!Y4","v":""},{"$f":"名簿!CN4","v":""},{"$f":"名簿!CP4","v":0},{"$f":"名簿!CU4","v":"00"},{"$f":"名簿!CU4","v":"00"},{"$f":"名簿!D4","v":0},null,{"$f":"IF(N7=\"\",\"\",IF(H7=1,VLOOKUP(N7,男子種目コード!$V$23:$W$25,2,FALSE),IF(H7=2,VLOOKUP(N7,女子種目コード!$V$23:$W$25,2,FALSE))))","v":""},{"$f":"IF(N7=\"\",\"\",HLOOKUP(N7,名簿!$AH$3:$CH$118,2,FALSE))","v":""},{"$f":"$C$1","v":0},"中学",{"$f":"CONCATENATE(Q7,R7)","v":"0中学"},null,null,null,null,null,null,null,null,null,0,null,null,"中学女子3ｋ",{"$f":"IF(N7=\"\",\"\",1)","v":""},"男子5k",{"$f":"COUNTIF($O$7:$O$116,4)","v":0}]
[null,{"$f":"名簿!E5","v":0},{"$f":"名簿!CM5","v":""},{"$f":"名簿!CM5","v":""},{"$f":"名簿!Z5","v":""},{"$f":"名簿!P5","v":""},{"$f":"名簿!Q5","v":""},{"$f":"名簿!Y5","v":""},{"$f":"名簿!CN5","v":""},{"$f":"名簿!CP5","v":0},{"$f":"名簿!CU5","v":"00"},{"$f":"名簿!CU5","v":"00"},{"$f":"名簿!D5","v":0},null,{"$f":"IF(N8=\"\",\"\",IF(H8=1,VLOOKUP(N8,男子種目コード!$V$23:$W$25,2,FALSE),IF(H8=2,VLOOKUP(N8,女子種目コード!$V$23:$W$25,2,FALSE))))","v":""},{"$f":"IF(N8=\"\",\"\",HLOOKUP(N8,名簿!$AH$3:$CH$118,3,FALSE))","v":""},{"$f":"$C$1","v":0},"中学",{"$f":"CONCATENATE(Q8,R8)","v":"0中学"},null,null,null,null,null,null,null,null,null,0,null,null,null,{"$f":"IF(N8=\"\",\"\",1)","v":""},"女子3k",{"$f":"COUNTIF($O$7:$O$116,8)","v":0}]
[null,{"$f":"名簿!E6","v":0},{"$f":"名簿!CM6","v":""},{"$f":"名簿!CM6","v":""},{"$f":"名簿!Z6","v":""},{"$f":"名簿!P6","v":""},{"$f":"名簿!Q6","v":""},{"$f":"名簿!Y6","v":""},{"$f":"名簿!CN6","v":""},{"$f":"名簿!CP6","v":0},{"$f":"名簿!CU6","v":"00"},{"$f":"名簿!CU6","v":"00"},{"$f":"名簿!D6","v":0},null,{"$f":"IF(N9=\"\",\"\",IF(H9=1,VLOOKUP(N9,男子種目コード!$V$23:$W$25,2,FALSE),IF(H9=2,VLOOKUP(N9,女子種目コード!$V$23:$W$25,2,FALSE))))","v":""},{"$f":"IF(N9=\"\",\"\",HLOOKUP(N9,名簿!$AH$3:$CH$118,4,FALSE))","v":""},0,"中学","0中学",null,null,null,null,null,null,null,null,null,0,null,null,null,"","計",{"$f":"SUM(AI7:AI8)","v":0}]
[null,{"$f":"名簿!E7","v":0},{"$f":"名簿!CM7","v":""},{"$f":"名簿!CM7","v":""},{"$f":"名簿!Z7","v":""},{"$f":"名簿!P7","v":""},{"$f":"名簿!Q7","v":""},{"$f":"名簿!Y7","v":""},{"$f":"名簿!CN7","v":""},{"$f":"名簿!CP7","v":0},{"$f":"名簿!CU7","v":"00"},{"$f":"名簿!CU7","v":"00"},{"$f":"名簿!D7","v":0},null,{"$f":"IF(N10=\"\",\"\",IF(H10=1,VLOOKUP(N10,男子種目コード!$V$23:$W$25,2,FALSE),IF(H10=2,VLOOKUP(N10,女子種目コード!$V$23:$W$25,2,FALSE))))","v":""},{"$f":"IF(N10=\"\",\"\",HLOOKUP(N10,名簿!$AH$3:$CH$118,5,FALSE))","v":""},0,"中学","0中学",null,null,null,null,null,null,null,null,null,0,null,null,null,""]
[null,{"$f":"名簿!E8","v":0},{"$f":"名簿!CM8","v":""},{"$f":"名簿!CM8","v":""},{"$f":"名簿!Z8","v":""},{"$f":"名簿!P8","v":""},{"$f":"名簿!Q8","v":""},{"$f":"名簿!Y8","v":""},{"$f":"名簿!CN8","v":""},{"$f":"名簿!CP8","v":0},{"$f":"名簿!CU8","v":"00"},{"$f":"名簿!CU8","v":"00"},{"$f":"名簿!D8","v":0},null,{"$f":"IF(N11=\"\",\"\",IF(H11=1,VLOOKUP(N11,男子種目コード!$V$23:$W$25,2,FALSE),IF(H11=2,VLOOKUP(N11,女子種目コード!$V$23:$W$25,2,FALSE))))","v":""},{"$f":"IF(N11=\"\",\"\",HLOOKUP(N11,名簿!$AH$3:$CH$118,6,FALSE))","v":""},0,"中学","0中学",null,null,null,null,null,null,null,null,null,0,null,null,null,"","男子は3000mの記録"]
[null,{"$f":"名簿!E9","v":0},{"$f":"名簿!CM9","v":""},{"$f":"名簿!CM9","v":""},{"$f":"名簿!Z9","v":""},{"$f":"名簿!P9","v":""},{"$f":"名簿!Q9","v":""},{"$f":"名簿!Y9","v":""},{"$f":"名簿!CN9","v":""},{"$f":"名簿!CP9","v":0},{"$f":"名簿!CU9","v":"00"},{"$f":"名簿!CU9","v":"00"},{"$f":"名簿!D9","v":0},null,{"$f":"IF(N12=\"\",\"\",IF(H12=1,VLOOKUP(N12,男子種目コード!$V$23:$W$25,2,FALSE),IF(H12=2,VLOOKUP(N12,女子種目コード!$V$23:$W$25,2,FALSE))))","v":""},{"$f":"IF(N12=\"\",\"\",HLOOKUP(N12,名簿!$AH$3:$CH$118,7,FALSE))","v":""},0,"中学","0中学",null,null,null,null,null,null,null,null,null,0,null,null,null,"","女子は2000mの記録"]
[null,{"$f":"名簿!E10","v":0},{"$f":"名簿!CM10","v":""},{"$f":"名簿!CM10","v":""},{"$f":"名簿!Z10","v":""},{"$f":"名簿!P10","v":""},{"$f":"名簿!Q10","v":""},{"$f":"名簿!Y10","v":""},{"$f":"名簿!CN10","v":""},{"$f":"名簿!CP10","v":0},{"$f":"名簿!CU10","v":"00"},{"$f":"名簿!CU10","v":"00"},{"$f":"名簿!D10","v":0},null,{"$f":"IF(N13=\"\",\"\",IF(H13=1,VLOOKUP(N13,男子種目コード!$V$23:$W$25,2,FALSE),IF(H13=2,VLOOKUP(N13,女子種目コード!$V$23:$W$25,2,FALSE))))","v":""},{"$f":"IF(N13=\"\",\"\",HLOOKUP(N13,名簿!$AH$3:$CH$118,8,FALSE))","v":""},0,"中学","0中学",null,null,null,null,null,null,null,null,null,0,null,null,null,""]
[null,{"$f":"名簿!E11","v":0},{"$f":"名簿!CM11","v":""},{"$f":"名簿!CM11","v":""},{"$f":"名簿!Z11","v":""},{"$f":"名簿!P11","v":""},{"$f":"名簿!Q11","v":""},{"$f":"名簿!Y11","v":""},{"$f":"名簿!CN11","v":""},{"$f":"名簿!CP11","v":0},{"$f":"名簿!CU11","v":"00"},{"$f":"名簿!CU11","v":"00"},{"$f":"名簿!D11","v":0},null,{"$f":"IF(N14=\"\",\"\",IF(H14=1,VLOOKUP(N14,男子種目コード!$V$23:$W$25,2,FALSE),IF(H14=2,VLOOKUP(N14,女子種目コード!$V$23:$W$25,2,FALSE))))","v":""},{"$f":"IF(N14=\"\",\"\",HLOOKUP(N14,名簿!$AH$3:$CH$118,9,FALSE))","v":""},0,"中学","0中学",null,null,null,null,null,null,null,null,null,0,null,null,null,""]
[null,{"$f":"名簿!E12","v":0},{"$f":"名簿!CM12","v":""},{"$f":"名簿!CM12","v":""},{"$f":"名簿!Z12","v":""},{"$f":"名簿!P12","v":""},{"$f":"名簿!Q12","v":""},{"$f":"名簿!Y12","v":""},{"$f":"名簿!CN12","v":""},{"$f":"名簿!CP12","v":0},{"$f":"名簿!CU12","v":"00"},{"$f":"名簿!CU12","v":"00"},{"$f":"名簿!D12","v":0},null,{"$f":"IF(N15=\"\",\"\",IF(H15=1,VLOOKUP(N15,男子種目コード!$V$23:$W$25,2,FALSE),IF(H15=2,VLOOKUP(N15,女子種目コード!$V$23:$W$25,2,FALSE))))","v":""},{"$f":"IF(N15=\"\",\"\",HLOOKUP(N15,名簿!$AH$3:$CH$118,10,FALSE))","v":""},0,"中学","0中学",null,null,null,null,null,null,null,null,null,0,null,null,null,""]
[null,{"$f":"名簿!E13","v":0},{"$f":"名簿!CM13","v":""},{"$f":"名簿!CM13","v":""},{"$f":"名簿!Z13","v":""},{"$f":"名簿!P13","v":""},{"$f":"名簿!Q13","v":""},{"$f":"名簿!Y13","v":""},{"$f":"名簿!CN13","v":""},{"$f":"名簿!CP13","v":0},{"$f":"名簿!CU13","v":"00"},{"$f":"名簿!CU13","v":"00"},{"$f":"名簿!D13","v":0},null,{"$f":"IF(N16=\"\",\"\",IF(H16=1,VLOOKUP(N16,男子種目コード!$V$23:$W$25,2,FALSE),IF(H16=2,VLOOKUP(N16,女子種目コード!$V$23:$W$25,2,FALSE))))","v":""},{"$f":"IF(N16=\"\",\"\",HLOOKUP(N16,名簿!$AH$3:$CH$118,11,FALSE))","v":""},0,"中学","0中学",null,null,null,null,null,null,null,null,null,0,null,null,null,""]
[null,{"$f":"名簿!E14","v":0},{"$f":"名簿!CM14","v":""},{"$f":"名簿!CM14","v":""},{"$f":"名簿!Z14","v":""},{"$f":"名簿!P14","v":""},{"$f":"名簿!Q14","v":""},{"$f":"名簿!Y14","v":""},{"$f":"名簿!CN14","v":""},{"$f":"名簿!CP14","v":0},{"$f":"名簿!CU14","v":"00"},{"$f":"名簿!CU14","v":"00"},{"$f":"名簿!D14","v":0},null,{"$f":"IF(N17=\"\",\"\",IF(H17=1,VLOOKUP(N17,男子種目コード!$V$23:$W$25,2,FALSE),IF(H17=2,VLOOKUP(N17,女子種目コード!$V$23:$W$25,2,FALSE))))","v":""},{"$f":"IF(N17=\"\",\"\",HLOOKUP(N17,名簿!$AH$3:$CH$118,12,FALSE))","v":""},0,"中学","0中学",null,null,null,null,null,null,null,null,null,0,null,null,null,""]
[null,{"$f":"名簿!E15","v":0},{"$f":"名簿!CM15","v":""},{"$f":"名簿!CM15","v":""},{"$f":"名簿!Z15","v":""},{"$f":"名簿!P15","v":""},{"$f":"名簿!Q15","v":""},{"$f":"名簿!Y15","v":""},{"$f":"名簿!CN15","v":""},{"$f":"名簿!CP15","v":0},{"$f":"名簿!CU15","v":"00"},{"$f":"名簿!CU15","v":"00"},{"$f":"名簿!D15","v":0},null,{"$f":"IF(N18=\"\",\"\",IF(H18=1,VLOOKUP(N18,男子種目コード!$V$23:$W$25,2,FALSE),IF(H18=2,VLOOKUP(N18,女子種目コード!$V$23:$W$25,2,FALSE))))","v":""},{"$f":"IF(N18=\"\",\"\",HLOOKUP(N18,名簿!$AH$3:$CH$118,13,FALSE))","v":""},0,"中学","0中学",null,null,null,null,null,null,null,null,null,0,null,null,null,""]
[null,{"$f":"名簿!E16","v":0},{"$f":"名簿!CM16","v":""},{"$f":"名簿!CM16","v":""},{"$f":"名簿!Z16","v":""},{"$f":"名簿!P16","v":""},{"$f":"名簿!Q16","v":""},{"$f":"名簿!Y16","v":""},{"$f":"名簿!CN16","v":""},{"$f":"名簿!CP16","v":0},{"$f":"名簿!CU16","v":"00"},{"$f":"名簿!CU16","v":"00"},{"$f":"名簿!D16","v":0},null,{"$f":"IF(N19=\"\",\"\",IF(H19=1,VLOOKUP(N19,男子種目コード!$V$23:$W$25,2,FALSE),IF(H19=2,VLOOKUP(N19,女子種目コード!$V$23:$W$25,2,FALSE))))","v":""},{"$f":"IF(N19=\"\",\"\",HLOOKUP(N19,名簿!$AH$3:$CH$118,14,FALSE))","v":""},0,"中学","0中学",null,null,null,null,null,null,null,null,null,0,null,null,null,""]
[null,{"$f":"名簿!E17","v":0},{"$f":"名簿!CM17","v":""},{"$f":"名簿!CM17","v":""},{"$f":"名簿!Z17","v":""},{"$f":"名簿!P17","v":""},{"$f":"名簿!Q17","v":""},{"$f":"名簿!Y17","v":""},{"$f":"名簿!CN17","v":""},{"$f":"名簿!CP17","v":0},{"$f":"名簿!CU17","v":"00"},{"$f":"名簿!CU17","v":"00"},{"$f":"名簿!D17","v":0},null,{"$f":"IF(N20=\"\",\"\",IF(H20=1,VLOOKUP(N20,男子種目コード!$V$23:$W$25,2,FALSE),IF(H20=2,VLOOKUP(N20,女子種目コード!$V$23:$W$25,2,FALSE))))","v":""},{"$f":"IF(N20=\"\",\"\",HLOOKUP(N20,名簿!$AH$3:$CH$118,15,FALSE))","v":""},0,"中学","0中学",null,null,null,null,null,null,null,null,null,0,null,null,null,""]
[null,{"$f":"名簿!E18","v":0},{"$f":"名簿!CM18","v":""},{"$f":"名簿!CM18","v":""},{"$f":"名簿!Z18","v":""},{"$f":"名簿!P18","v":""},{"$f":"名簿!Q18","v":""},{"$f":"名簿!Y18","v":""},{"$f":"名簿!CN18","v":""},{"$f":"名簿!CP18","v":0},{"$f":"名簿!CU18","v":"00"},{"$f":"名簿!CU18","v":"00"},{"$f":"名簿!D18","v":0},null,{"$f":"IF(N21=\"\",\"\",IF(H21=1,VLOOKUP(N21,男子種目コード!$V$23:$W$25,2,FALSE),IF(H21=2,VLOOKUP(N21,女子種目コード!$V$23:$W$25,2,FALSE))))","v":""},{"$f":"IF(N21=\"\",\"\",HLOOKUP(N21,名簿!$AH$3:$CH$118,16,FALSE))","v":""},0,"中学","0中学",null,null,null,null,null,null,null,null,null,0,null,null,null,{"$f":"IF(N21=\"\",\"\",1)","v":""}]
[null,{"$f":"名簿!E19","v":0},{"$f":"名簿!CM19","v":""},{"$f":"名簿!CM19","v":""},{"$f":"名簿!Z19","v":""},{"$f":"名簿!P19","v":""},{"$f":"名簿!Q19","v":""},{"$f":"名簿!Y19","v":""},{"$f":"名簿!CN19","v":""},{"$f":"名簿!CP19","v":0},{"$f":"名簿!CU19","v":"00"},{"$f":"名簿!CU19","v":"00"},{"$f":"名簿!D19","v":0},null,{"$f":"IF(N22=\"\",\"\",IF(H22=1,VLOOKUP(N22,男子種目コード!$V$23:$W$25,2,FALSE),IF(H22=2,VLOOKUP(N22,女子種目コード!$V$23:$W$25,2,FALSE))))","v":""},{"$f":"IF(N22=\"\",\"\",HLOOKUP(N22,名簿!$AH$3:$CH$118,17,FALSE))","v":""},0,"中学","0中学",null,null,null,null,null,null,null,null,null,0,null,null,null,""]
[null,{"$f":"名簿!E20","v":0},{"$f":"名簿!CM20","v":""},{"$f":"名簿!CM20","v":""},{"$f":"名簿!Z20","v":""},{"$f":"名簿!P20","v":""},{"$f":"名簿!Q20","v":""},{"$f":"名簿!Y20","v":""},{"$f":"名簿!CN20","v":""},{"$f":"名簿!CP20","v":0},{"$f":"名簿!CU20","v":"00"},{"$f":"名簿!CU20","v":"00"},{"$f":"名簿!D20","v":0},null,{"$f":"IF(N23=\"\",\"\",IF(H23=1,VLOOKUP(N23,男子種目コード!$V$23:$W$25,2,FALSE),IF(H23=2,VLOOKUP(N23,女子種目コード!$V$23:$W$25,2,FALSE))))","v":""},{"$f":"IF(N23=\"\",\"\",HLOOKUP(N23,名簿!$AH$3:$CH$118,18,FALSE))","v":""},0,"中学","0中学",null,null,null,null,null,null,null,null,null,0,null,null,null,""]
[null,{"$f":"名簿!E21","v":0},{"$f":"名簿!CM21","v":""},{"$f":"名簿!CM21","v":""},{"$f":"名簿!Z21","v":""},{"$f":"名簿!P21","v":""},{"$f":"名簿!Q21","v":""},{"$f":"名簿!Y21","v":""},{"$f":"名簿!CN21","v":""},{"$f":"名簿!CP21","v":0},{"$f":"名簿!CU21","v":"00"},{"$f":"名簿!CU21","v":"00"},{"$f":"名簿!D21","v":0},null,{"$f":"IF(N24=\"\",\"\",IF(H24=1,VLOOKUP(N24,男子種目コード!$V$23:$W$25,2,FALSE),IF(H24=2,VLOOKUP(N24,女子種目コード!$V$23:$W$25,2,FALSE))))","v":""},{"$f":"IF(N24=\"\",\"\",HLOOKUP(N24,名簿!$AH$3:$CH$118,19,FALSE))","v":""},0,"中学","0中学",null,null,null,null,null,null,null,null,null,0,null,null,null,""]
[null,{"$f":"名簿!E22","v":0},{"$f":"名簿!CM22","v":""},{"$f":"名簿!CM22","v":""},{"$f":"名簿!Z22","v":""},{"$f":"名簿!P22","v":""},{"$f":"名簿!Q22","v":""},{"$f":"名簿!Y22","v":""},{"$f":"名簿!CN22","v":""},{"$f":"名簿!CP22","v":0},{"$f":"名簿!CU22","v":"00"},{"$f":"名簿!CU22","v":"00"},{"$f":"名簿!D22","v":0},null,{"$f":"IF(N25=\"\",\"\",IF(H25=1,VLOOKUP(N25,男子種目コード!$V$23:$W$25,2,FALSE),IF(H25=2,VLOOKUP(N25,女子種目コード!$V$23:$W$25,2,FALSE))))","v":""},{"$f":"IF(N25=\"\",\"\",HLOOKUP(N25,名簿!$AH$3:$CH$118,20,FALSE))","v":""},0,"中学","0中学",null,null,null,null,null,null,null,null,null,0,null,null,null,""]
[null,{"$f":"名簿!E23","v":0},{"$f":"名簿!CM23","v":""},{"$f":"名簿!CM23","v":""},{"$f":"名簿!Z23","v":""},{"$f":"名簿!P23","v":""},{"$f":"名簿!Q23","v":""},{"$f":"名簿!Y23","v":""},{"$f":"名簿!CN23","v":""},{"$f":"名簿!CP23","v":0},{"$f":"名簿!CU23","v":"00"},{"$f":"名簿!CU23","v":"00"},{"$f":"名簿!D23","v":0},null,{"$f":"IF(N26=\"\",\"\",IF(H26=1,VLOOKUP(N26,男子種目コード!$V$23:$W$25,2,FALSE),IF(H26=2,VLOOKUP(N26,女子種目コード!$V$23:$W$25,2,FALSE))))","v":""},{"$f":"IF(N26=\"\",\"\",HLOOKUP(N26,名簿!$AH$3:$CH$118,21,FALSE))","v":""},0,"中学","0中学",null,null,null,null,null,null,null,null,null,0,null,null,null,""]
[null,{"$f":"名簿!E24","v":0},{"$f":"名簿!CM24","v":""},{"$f":"名簿!CM24","v":""},{"$f":"名簿!Z24","v":""},{"$f":"名簿!P24","v":""},{"$f":"名簿!Q24","v":""},{"$f":"名簿!Y24","v":""},{"$f":"名簿!CN24","v":""},{"$f":"名簿!CP24","v":0},{"$f":"名簿!CU24","v":"00"},{"$f":"名簿!CU24","v":"00"},{"$f":"名簿!D24","v":0},null,{"$f":"IF(N27=\"\",\"\",IF(H27=1,VLOOKUP(N27,男子種目コード!$V$23:$W$25,2,FALSE),IF(H27=2,VLOOKUP(N27,女子種目コード!$V$23:$W$25,2,FALSE))))","v":""},{"$f":"IF(N27=\"\",\"\",HLOOKUP(N27,名簿!$AH$3:$CH$118,22,FALSE))","v":""},0,"中学","0中学",null,null,null,null,null,null,null,null,null,0,null,null,null,""]
[null,{"$f":"名簿!E25","v":0},{"$f":"名簿!CM25","v":""},{"$f":"名簿!CM25","v":""},{"$f":"名簿!Z25","v":""},{"$f":"名簿!P25","v":""},{"$f":"名簿!Q25","v":""},{"$f":"名簿!Y25","v":""},{"$f":"名簿!CN25","v":""},{"$f":"名簿!CP25","v":0},{"$f":"名簿!CU25","v":"00"},{"$f":"名簿!CU25","v":"00"},{"$f":"名簿!D25","v":0},null,{"$f":"IF(N28=\"\",\"\",IF(H28=1,VLOOKUP(N28,男子種目コード!$V$23:$W$25,2,FALSE),IF(H28=2,VLOOKUP(N28,女子種目コード!$V$23:$W$25,2,FALSE))))","v":""},{"$f":"IF(N28=\"\",\"\",HLOOKUP(N28,名簿!$AH$3:$CH$118,23,FALSE))","v":""},0,"中学","0中学",null,null,null,null,null,null,null,null,null,0,null,null,null,""]
[null,{"$f":"名簿!E26","v":0},{"$f":"名簿!CM26","v":""},{"$f":"名簿!CM26","v":""},{"$f":"名簿!Z26","v":""},{"$f":"名簿!P26","v":""},{"$f":"名簿!Q26","v":""},{"$f":"名簿!Y26","v":""},{"$f":"名簿!CN26","v":""},{"$f":"名簿!CP26","v":0},{"$f":"名簿!CU26","v":"00"},{"$f":"名簿!CU26","v":"00"},{"$f":"名簿!D26","v":0},null,{"$f":"IF(N29=\"\",\"\",IF(H29=1,VLOOKUP(N29,男子種目コード!$V$23:$W$25,2,FALSE),IF(H29=2,VLOOKUP(N29,女子種目コード!$V$23:$W$25,2,FALSE))))","v":""},{"$f":"IF(N29=\"\",\"\",HLOOKUP(N29,名簿!$AH$3:$CH$118,24,FALSE))","v":""},0,"中学","0中学",null,null,null,null,null,null,null,null,null,0,null,null,null,""]
[null,{"$f":"名簿!E27","v":0},{"$f":"名簿!CM27","v":""},{"$f":"名簿!CM27","v":""},{"$f":"名簿!Z27","v":""},{"$f":"名簿!P27","v":""},{"$f":"名簿!Q27","v":""},{"$f":"名簿!Y27","v":""},{"$f":"名簿!CN27","v":""},{"$f":"名簿!CP27","v":0},{"$f":"名簿!CU27","v":"00"},{"$f":"名簿!CU27","v":"00"},{"$f":"名簿!D27","v":0},null,{"$f":"IF(N30=\"\",\"\",IF(H30=1,VLOOKUP(N30,男子種目コード!$V$23:$W$25,2,FALSE),IF(H30=2,VLOOKUP(N30,女子種目コード!$V$23:$W$25,2,FALSE))))","v":""},{"$f":"IF(N30=\"\",\"\",HLOOKUP(N30,名簿!$AH$3:$CH$118,25,FALSE))","v":""},0,"中学","0中学",null,null,null,null,null,null,null,null,null,0,null,null,null,""]
[null,{"$f":"名簿!E28","v":0},{"$f":"名簿!CM28","v":""},{"$f":"名簿!CM28","v":""},{"$f":"名簿!Z28","v":""},{"$f":"名簿!P28","v":""},{"$f":"名簿!Q28","v":""},{"$f":"名簿!Y28","v":""},{"$f":"名簿!CN28","v":""},{"$f":"名簿!CP28","v":0},{"$f":"名簿!CU28","v":"00"},{"$f":"名簿!CU28","v":"00"},{"$f":"名簿!D28","v":0},null,{"$f":"IF(N31=\"\",\"\",IF(H31=1,VLOOKUP(N31,男子種目コード!$V$23:$W$25,2,FALSE),IF(H31=2,VLOOKUP(N31,女子種目コード!$V$23:$W$25,2,FALSE))))","v":""},{"$f":"IF(N31=\"\",\"\",HLOOKUP(N31,名簿!$AH$3:$CH$118,26,FALSE))","v":""},0,"中学","0中学",null,null,null,null,null,null,null,null,null,0,null,null,null,""]
[null,{"$f":"名簿!E29","v":0},{"$f":"名簿!CM29","v":""},{"$f":"名簿!CM29","v":""},{"$f":"名簿!Z29","v":""},{"$f":"名簿!P29","v":""},{"$f":"名簿!Q29","v":""},{"$f":"名簿!Y29","v":""},{"$f":"名簿!CN29","v":""},{"$f":"名簿!CP29","v":0},{"$f":"名簿!CU29","v":"00"},{"$f":"名簿!CU29","v":"00"},{"$f":"名簿!D29","v":0},null,{"$f":"IF(N32=\"\",\"\",IF(H32=1,VLOOKUP(N32,男子種目コード!$V$23:$W$25,2,FALSE),IF(H32=2,VLOOKUP(N32,女子種目コード!$V$23:$W$25,2,FALSE))))","v":""},{"$f":"IF(N32=\"\",\"\",HLOOKUP(N32,名簿!$AH$3:$CH$118,27,FALSE))","v":""},0,"中学","0中学",null,null,null,null,null,null,null,null,null,0,null,null,null,""]
[null,{"$f":"名簿!E30","v":0},{"$f":"名簿!CM30","v":""},{"$f":"名簿!CM30","v":""},{"$f":"名簿!Z30","v":""},{"$f":"名簿!P30","v":""},{"$f":"名簿!Q30","v":""},{"$f":"名簿!Y30","v":""},{"$f":"名簿!CN30","v":""},{"$f":"名簿!CP30","v":0},{"$f":"名簿!CU30","v":"00"},{"$f":"名簿!CU30","v":"00"},{"$f":"名簿!D30","v":0},null,{"$f":"IF(N33=\"\",\"\",IF(H33=1,VLOOKUP(N33,男子種目コード!$V$23:$W$25,2,FALSE),IF(H33=2,VLOOKUP(N33,女子種目コード!$V$23:$W$25,2,FALSE))))","v":""},{"$f":"IF(N33=\"\",\"\",HLOOKUP(N33,名簿!$AH$3:$CH$118,28,FALSE))","v":""},0,"中学","0中学",null,null,null,null,null,null,null,null,null,0,null,null,null,""]
[null,{"$f":"名簿!E31","v":0},{"$f":"名簿!CM31","v":""},{"$f":"名簿!CM31","v":""},{"$f":"名簿!Z31","v":""},{"$f":"名簿!P31","v":""},{"$f":"名簿!Q31","v":""},{"$f":"名簿!Y31","v":""},{"$f":"名簿!CN31","v":""},{"$f":"名簿!CP31","v":0},{"$f":"名簿!CU31","v":"00"},{"$f":"名簿!CU31","v":"00"},{"$f":"名簿!D31","v":0},null,{"$f":"IF(N34=\"\",\"\",IF(H34=1,VLOOKUP(N34,男子種目コード!$V$23:$W$25,2,FALSE),IF(H34=2,VLOOKUP(N34,女子種目コード!$V$23:$W$25,2,FALSE))))","v":""},{"$f":"IF(N34=\"\",\"\",HLOOKUP(N34,名簿!$AH$3:$CH$118,29,FALSE))","v":""},0,"中学","0中学",null,null,null,null,null,null,null,null,null,0,null,null,null,""]
[null,{"$f":"名簿!E32","v":0},{"$f":"名簿!CM32","v":""},{"$f":"名簿!CM32","v":""},{"$f":"名簿!Z32","v":""},{"$f":"名簿!P32","v":""},{"$f":"名簿!Q32","v":""},{"$f":"名簿!Y32","v":""},{"$f":"名簿!CN32","v":""},{"$f":"名簿!CP32","v":0},{"$f":"名簿!CU32","v":"00"},{"$f":"名簿!CU32","v":"00"},{"$f":"名簿!D32","v":0},null,{"$f":"IF(N35=\"\",\"\",IF(H35=1,VLOOKUP(N35,男子種目コード!$V$23:$W$25,2,FALSE),IF(H35=2,VLOOKUP(N35,女子種目コード!$V$23:$W$25,2,FALSE))))","v":""},{"$f":"IF(N35=\"\",\"\",HLOOKUP(N35,名簿!$AH$3:$CH$118,30,FALSE))","v":""},0,"中学","0中学",null,null,null,null,null,null,null,null,null,0,null,null,null,""]
[null,{"$f":"名簿!E33","v":0},{"$f":"名簿!CM33","v":""},{"$f":"名簿!CM33","v":""},{"$f":"名簿!Z33","v":""},{"$f":"名簿!P33","v":""},{"$f":"名簿!Q33","v":""},{"$f":"名簿!Y33","v":""},{"$f":"名簿!CN33","v":""},{"$f":"名簿!CP33","v":0},{"$f":"名簿!CU33","v":"00"},{"$f":"名簿!CU33","v":"00"},{"$f":"名簿!D33","v":0},null,{"$f":"IF(N36=\"\",\"\",IF(H36=1,VLOOKUP(N36,男子種目コード!$V$23:$W$25,2,FALSE),IF(H36=2,VLOOKUP(N36,女子種目コード!$V$23:$W$25,2,FALSE))))","v":""},{"$f":"IF(N36=\"\",\"\",HLOOKUP(N36,名簿!$AH$3:$CH$118,31,FALSE))","v":""},0,"中学","0中学",null,null,null,null,null,null,null,null,null,0,null,null,null,""]
[null,{"$f":"名簿!E34","v":0},{"$f":"名簿!CM34","v":""},{"$f":"名簿!CM34","v":""},{"$f":"名簿!Z34","v":""},{"$f":"名簿!P34","v":""},{"$f":"名簿!Q34","v":""},{"$f":"名簿!Y34","v":""},{"$f":"名簿!CN34","v":""},{"$f":"名簿!CP34","v":0},{"$f":"名簿!CU34","v":"00"},{"$f":"名簿!CU34","v":"00"},{"$f":"名簿!D34","v":0},null,{"$f":"IF(N37=\"\",\"\",IF(H37=1,VLOOKUP(N37,男子種目コード!$V$23:$W$25,2,FALSE),IF(H37=2,VLOOKUP(N37,女子種目コード!$V$23:$W$25,2,FALSE))))","v":""},{"$f":"IF(N37=\"\",\"\",HLOOKUP(N37,名簿!$AH$3:$CH$118,32,FALSE))","v":""},0,"中学","0中学",null,null,null,null,null,null,null,null,null,0,null,null,null,""]
[null,{"$f":"名簿!E35","v":0},{"$f":"名簿!CM35","v":""},{"$f":"名簿!CM35","v":""},{"$f":"名簿!Z35","v":""},{"$f":"名簿!P35","v":""},{"$f":"名簿!Q35","v":""},{"$f":"名簿!Y35","v":""},{"$f":"名簿!CN35","v":""},{"$f":"名簿!CP35","v":0},{"$f":"名簿!CU35","v":"00"},{"$f":"名簿!CU35","v":"00"},{"$f":"名簿!D35","v":0},null,{"$f":"IF(N38=\"\",\"\",IF(H38=1,VLOOKUP(N38,男子種目コード!$V$23:$W$25,2,FALSE),IF(H38=2,VLOOKUP(N38,女子種目コード!$V$23:$W$25,2,FALSE))))","v":""},{"$f":"IF(N38=\"\",\"\",HLOOKUP(N38,名簿!$AH$3:$CH$118,33,FALSE))","v":""},0,"中学","0中学",null,null,null,null,null,null,null,null,null,0,null,null,null,""]
[null,{"$f":"名簿!E36","v":0},{"$f":"名簿!CM36","v":""},{"$f":"名簿!CM36","v":""},{"$f":"名簿!Z36","v":""},{"$f":"名簿!P36","v":""},{"$f":"名簿!Q36","v":""},{"$f":"名簿!Y36","v":""},{"$f":"名簿!CN36","v":""},{"$f":"名簿!CP36","v":0},{"$f":"名簿!CU36","v":"00"},{"$f":"名簿!CU36","v":"00"},{"$f":"名簿!D36","v":0},null,{"$f":"IF(N39=\"\",\"\",IF(H39=1,VLOOKUP(N39,男子種目コード!$V$23:$W$25,2,FALSE),IF(H39=2,VLOOKUP(N39,女子種目コード!$V$23:$W$25,2,FALSE))))","v":""},{"$f":"IF(N39=\"\",\"\",HLOOKUP(N39,名簿!$AH$3:$CH$118,34,FALSE))","v":""},0,"中学","0中学",null,null,null,null,null,null,null,null,null,0,null,null,null,{"$f":"IF(N39=\"\",\"\",1)","v":""}]
[null,{"$f":"名簿!E37","v":0},{"$f":"名簿!CM37","v":""},{"$f":"名簿!CM37","v":""},{"$f":"名簿!Z37","v":""},{"$f":"名簿!P37","v":""},{"$f":"名簿!Q37","v":""},{"$f":"名簿!Y37","v":""},{"$f":"名簿!CN37","v":""},{"$f":"名簿!CP37","v":0},{"$f":"名簿!CU37","v":"00"},{"$f":"名簿!CU37","v":"00"},{"$f":"名簿!D37","v":0},null,{"$f":"IF(N40=\"\",\"\",IF(H40=1,VLOOKUP(N40,男子種目コード!$V$23:$W$25,2,FALSE),IF(H40=2,VLOOKUP(N40,女子種目コード!$V$23:$W$25,2,FALSE))))","v":""},{"$f":"IF(N40=\"\",\"\",HLOOKUP(N40,名簿!$AH$3:$CH$118,35,FALSE))","v":""},0,"中学","0中学",null,null,null,null,null,null,null,null,null,0,null,null,null,""]
[null,{"$f":"名簿!E38","v":0},{"$f":"名簿!CM38","v":""},{"$f":"名簿!CM38","v":""},{"$f":"名簿!Z38","v":""},{"$f":"名簿!P38","v":""},{"$f":"名簿!Q38","v":""},{"$f":"名簿!Y38","v":""},{"$f":"名簿!CN38","v":""},{"$f":"名簿!CP38","v":0},{"$f":"名簿!CU38","v":"00"},{"$f":"名簿!CU38","v":"00"},{"$f":"名簿!D38","v":0},null,{"$f":"IF(N41=\"\",\"\",IF(H41=1,VLOOKUP(N41,男子種目コード!$V$23:$W$25,2,FALSE),IF(H41=2,VLOOKUP(N41,女子種目コード!$V$23:$W$25,2,FALSE))))","v":""},{"$f":"IF(N41=\"\",\"\",HLOOKUP(N41,名簿!$AH$3:$CH$118,36,FALSE))","v":""},0,"中学","0中学",null,null,null,null,null,null,null,null,null,0,null,null,null,""]
[null,{"$f":"名簿!E39","v":0},{"$f":"名簿!CM39","v":""},{"$f":"名簿!CM39","v":""},{"$f":"名簿!Z39","v":""},{"$f":"名簿!P39","v":""},{"$f":"名簿!Q39","v":""},{"$f":"名簿!Y39","v":""},{"$f":"名簿!CN39","v":""},{"$f":"名簿!CP39","v":0},{"$f":"名簿!CU39","v":"00"},{"$f":"名簿!CU39","v":"00"},{"$f":"名簿!D39","v":0},null,{"$f":"IF(N42=\"\",\"\",IF(H42=1,VLOOKUP(N42,男子種目コード!$V$23:$W$25,2,FALSE),IF(H42=2,VLOOKUP(N42,女子種目コード!$V$23:$W$25,2,FALSE))))","v":""},{"$f":"IF(N42=\"\",\"\",HLOOKUP(N42,名簿!$AH$3:$CH$118,37,FALSE))","v":""},0,"中学","0中学",null,null,null,null,null,null,null,null,null,0,null,null,null,""]
[null,{"$f":"名簿!E40","v":0},{"$f":"名簿!CM40","v":""},{"$f":"名簿!CM40","v":""},{"$f":"名簿!Z40","v":""},{"$f":"名簿!P40","v":""},{"$f":"名簿!Q40","v":""},{"$f":"名簿!Y40","v":""},{"$f":"名簿!CN40","v":""},{"$f":"名簿!CP40","v":0},{"$f":"名簿!CU40","v":"00"},{"$f":"名簿!CU40","v":"00"},{"$f":"名簿!D40","v":0},null,{"$f":"IF(N43=\"\",\"\",IF(H43=1,VLOOKUP(N43,男子種目コード!$V$23:$W$25,2,FALSE),IF(H43=2,VLOOKUP(N43,女子種目コード!$V$23:$W$25,2,FALSE))))","v":""},{"$f":"IF(N43=\"\",\"\",HLOOKUP(N43,名簿!$AH$3:$CH$118,38,FALSE))","v":""},0,"中学","0中学",null,null,null,null,null,null,null,null,null,0,null,null,null,""]
[null,{"$f":"名簿!E41","v":0},{"$f":"名簿!CM41","v":""},{"$f":"名簿!CM41","v":""},{"$f":"名簿!Z41","v":""},{"$f":"名簿!P41","v":""},{"$f":"名簿!Q41","v":""},{"$f":"名簿!Y41","v":""},{"$f":"名簿!CN41","v":""},{"$f":"名簿!CP41","v":0},{"$f":"名簿!CU41","v":"00"},{"$f":"名簿!CU41","v":"00"},{"$f":"名簿!D41","v":0},null,{"$f":"IF(N44=\"\",\"\",IF(H44=1,VLOOKUP(N44,男子種目コード!$V$23:$W$25,2,FALSE),IF(H44=2,VLOOKUP(N44,女子種目コード!$V$23:$W$25,2,FALSE))))","v":""},{"$f":"IF(N44=\"\",\"\",HLOOKUP(N44,名簿!$AH$3:$CH$118,39,FALSE))","v":""},0,"中学","0中学",null,null,null,null,null,null,null,null,null,0,null,null,null,""]
[null,{"$f":"名簿!E42","v":0},{"$f":"名簿!CM42","v":""},{"$f":"名簿!CM42","v":""},{"$f":"名簿!Z42","v":""},{"$f":"名簿!P42","v":""},{"$f":"名簿!Q42","v":""},{"$f":"名簿!Y42","v":""},{"$f":"名簿!CN42","v":""},{"$f":"名簿!CP42","v":0},{"$f":"名簿!CU42","v":"00"},{"$f":"名簿!CU42","v":"00"},{"$f":"名簿!D42","v":0},null,{"$f":"IF(N45=\"\",\"\",IF(H45=1,VLOOKUP(N45,男子種目コード!$V$23:$W$25,2,FALSE),IF(H45=2,VLOOKUP(N45,女子種目コード!$V$23:$W$25,2,FALSE))))","v":""},{"$f":"IF(N45=\"\",\"\",HLOOKUP(N45,名簿!$AH$3:$CH$118,40,FALSE))","v":""},0,"中学","0中学",null,null,null,null,null,null,null,null,null,0,null,null,null,""]
[null,{"$f":"名簿!E43","v":0},{"$f":"名簿!CM43","v":""},{"$f":"名簿!CM43","v":""},{"$f":"名簿!Z43","v":""},{"$f":"名簿!P43","v":""},{"$f":"名簿!Q43","v":""},{"$f":"名簿!Y43","v":""},{"$f":"名簿!CN43","v":""},{"$f":"名簿!CP43","v":0},{"$f":"名簿!CU43","v":"00"},{"$f":"名簿!CU43","v":"00"},{"$f":"名簿!D43","v":0},null,{"$f":"IF(N46=\"\",\"\",IF(H46=1,VLOOKUP(N46,男子種目コード!$V$23:$W$25,2,FALSE),IF(H46=2,VLOOKUP(N46,女子種目コード!$V$23:$W$25,2,FALSE))))","v":""},{"$f":"IF(N46=\"\",\"\",HLOOKUP(N46,名簿!$AH$3:$CH$118,41,FALSE))","v":""},0,"中学","0中学",null,null,null,null,null,null,null,null,null,0,null,null,null,""]
[null,{"$f":"名簿!E44","v":0},{"$f":"名簿!CM44","v":""},{"$f":"名簿!CM44","v":""},{"$f":"名簿!Z44","v":""},{"$f":"名簿!P44","v":""},{"$f":"名簿!Q44","v":""},{"$f":"名簿!Y44","v":""},{"$f":"名簿!CN44","v":""},{"$f":"名簿!CP44","v":0},{"$f":"名簿!CU44","v":"00"},{"$f":"名簿!CU44","v":"00"},{"$f":"名簿!D44","v":0},null,{"$f":"IF(N47=\"\",\"\",IF(H47=1,VLOOKUP(N47,男子種目コード!$V$23:$W$25,2,FALSE),IF(H47=2,VLOOKUP(N47,女子種目コード!$V$23:$W$25,2,FALSE))))","v":""},{"$f":"IF(N47=\"\",\"\",HLOOKUP(N47,名簿!$AH$3:$CH$118,42,FALSE))","v":""},0,"中学","0中学",null,null,null,null,null,null,null,null,null,0,null,null,null,""]
[null,{"$f":"名簿!E45","v":0},{"$f":"名簿!CM45","v":""},{"$f":"名簿!CM45","v":""},{"$f":"名簿!Z45","v":""},{"$f":"名簿!P45","v":""},{"$f":"名簿!Q45","v":""},{"$f":"名簿!Y45","v":""},{"$f":"名簿!CN45","v":""},{"$f":"名簿!CP45","v":0},{"$f":"名簿!CU45","v":"00"},{"$f":"名簿!CU45","v":"00"},{"$f":"名簿!D45","v":0},null,{"$f":"IF(N48=\"\",\"\",IF(H48=1,VLOOKUP(N48,男子種目コード!$V$23:$W$25,2,FALSE),IF(H48=2,VLOOKUP(N48,女子種目コード!$V$23:$W$25,2,FALSE))))","v":""},{"$f":"IF(N48=\"\",\"\",HLOOKUP(N48,名簿!$AH$3:$CH$118,43,FALSE))","v":""},0,"中学","0中学",null,null,null,null,null,null,null,null,null,0,null,null,null,""]
[null,{"$f":"名簿!E46","v":0},{"$f":"名簿!CM46","v":""},{"$f":"名簿!CM46","v":""},{"$f":"名簿!Z46","v":""},{"$f":"名簿!P46","v":""},{"$f":"名簿!Q46","v":""},{"$f":"名簿!Y46","v":""},{"$f":"名簿!CN46","v":""},{"$f":"名簿!CP46","v":0},{"$f":"名簿!CU46","v":"00"},{"$f":"名簿!CU46","v":"00"},{"$f":"名簿!D46","v":0},null,{"$f":"IF(N49=\"\",\"\",IF(H49=1,VLOOKUP(N49,男子種目コード!$V$23:$W$25,2,FALSE),IF(H49=2,VLOOKUP(N49,女子種目コード!$V$23:$W$25,2,FALSE))))","v":""},{"$f":"IF(N49=\"\",\"\",HLOOKUP(N49,名簿!$AH$3:$CH$118,44,FALSE))","v":""},0,"中学","0中学",null,null,null,null,null,null,null,null,null,0,null,null,null,""]
[null,{"$f":"名簿!E47","v":0},{"$f":"名簿!CM47","v":""},{"$f":"名簿!CM47","v":""},{"$f":"名簿!Z47","v":""},{"$f":"名簿!P47","v":""},{"$f":"名簿!Q47","v":""},{"$f":"名簿!Y47","v":""},{"$f":"名簿!CN47","v":""},{"$f":"名簿!CP47","v":0},{"$f":"名簿!CU47","v":"00"},{"$f":"名簿!CU47","v":"00"},{"$f":"名簿!D47","v":0},null,{"$f":"IF(N50=\"\",\"\",IF(H50=1,VLOOKUP(N50,男子種目コード!$V$23:$W$25,2,FALSE),IF(H50=2,VLOOKUP(N50,女子種目コード!$V$23:$W$25,2,FALSE))))","v":""},{"$f":"IF(N50=\"\",\"\",HLOOKUP(N50,名簿!$AH$3:$CH$118,45,FALSE))","v":""},0,"中学","0中学",null,null,null,null,null,null,null,null,null,0,null,null,null,""]
[null,{"$f":"名簿!E48","v":0},{"$f":"名簿!CM48","v":""},{"$f":"名簿!CM48","v":""},{"$f":"名簿!Z48","v":""},{"$f":"名簿!P48","v":""},{"$f":"名簿!Q48","v":""},{"$f":"名簿!Y48","v":""},{"$f":"名簿!CN48","v":""},{"$f":"名簿!CP48","v":0},{"$f":"名簿!CU48","v":"00"},{"$f":"名簿!CU48","v":"00"},{"$f":"名簿!D48","v":0},null,{"$f":"IF(N51=\"\",\"\",IF(H51=1,VLOOKUP(N51,男子種目コード!$V$23:$W$25,2,FALSE),IF(H51=2,VLOOKUP(N51,女子種目コード!$V$23:$W$25,2,FALSE))))","v":""},{"$f":"IF(N51=\"\",\"\",HLOOKUP(N51,名簿!$AH$3:$CH$118,46,FALSE))","v":""},0,"中学","0中学",null,null,null,null,null,null,null,null,null,0,null,null,null,""]
[null,{"$f":"名簿!E49","v":0},{"$f":"名簿!CM49","v":""},{"$f":"名簿!CM49","v":""},{"$f":"名簿!Z49","v":""},{"$f":"名簿!P49","v":""},{"$f":"名簿!Q49","v":""},{"$f":"名簿!Y49","v":""},{"$f":"名簿!CN49","v":""},{"$f":"名簿!CP49","v":0},{"$f":"名簿!CU49","v":"00"},{"$f":"名簿!CU49","v":"00"},{"$f":"名簿!D49","v":0},null,{"$f":"IF(N52=\"\",\"\",IF(H52=1,VLOOKUP(N52,男子種目コード!$V$23:$W$25,2,FALSE),IF(H52=2,VLOOKUP(N52,女子種目コード!$V$23:$W$25,2,FALSE))))","v":""},{"$f":"IF(N52=\"\",\"\",HLOOKUP(N52,名簿!$AH$3:$CH$118,47,FALSE))","v":""},0,"中学","0中学",null,null,null,null,null,null,null,null,null,0,null,null,null,""]
[null,{"$f":"名簿!E50","v":0},{"$f":"名簿!CM50","v":""},{"$f":"名簿!CM50","v":""},{"$f":"名簿!Z50","v":""},{"$f":"名簿!P50","v":""},{"$f":"名簿!Q50","v":""},{"$f":"名簿!Y50","v":""},{"$f":"名簿!CN50","v":""},{"$f":"名簿!CP50","v":0},{"$f":"名簿!CU50","v":"00"},{"$f":"名簿!CU50","v":"00"},{"$f":"名簿!D50","v":0},null,{"$f":"IF(N53=\"\",\"\",IF(H53=1,VLOOKUP(N53,男子種目コード!$V$23:$W$25,2,FALSE),IF(H53=2,VLOOKUP(N53,女子種目コード!$V$23:$W$25,2,FALSE))))","v":""},{"$f":"IF(N53=\"\",\"\",HLOOKUP(N53,名簿!$AH$3:$CH$118,48,FALSE))","v":""},0,"中学","0中学",null,null,null,null,null,null,null,null,null,0,null,null,null,""]
[null,{"$f":"名簿!E51","v":0},{"$f":"名簿!CM51","v":""},{"$f":"名簿!CM51","v":""},{"$f":"名簿!Z51","v":""},{"$f":"名簿!P51","v":""},{"$f":"名簿!Q51","v":""},{"$f":"名簿!Y51","v":""},{"$f":"名簿!CN51","v":""},{"$f":"名簿!CP51","v":0},{"$f":"名簿!CU51","v":"00"},{"$f":"名簿!CU51","v":"00"},{"$f":"名簿!D51","v":0},null,{"$f":"IF(N54=\"\",\"\",IF(H54=1,VLOOKUP(N54,男子種目コード!$V$23:$W$25,2,FALSE),IF(H54=2,VLOOKUP(N54,女子種目コード!$V$23:$W$25,2,FALSE))))","v":""},{"$f":"IF(N54=\"\",\"\",HLOOKUP(N54,名簿!$AH$3:$CH$118,49,FALSE))","v":""},0,"中学","0中学",null,null,null,null,null,null,null,null,null,0,null,null,null,""]
[null,{"$f":"名簿!E52","v":0},{"$f":"名簿!CM52","v":""},{"$f":"名簿!CM52","v":""},{"$f":"名簿!Z52","v":""},{"$f":"名簿!P52","v":""},{"$f":"名簿!Q52","v":""},{"$f":"名簿!Y52","v":""},{"$f":"名簿!CN52","v":""},{"$f":"名簿!CP52","v":0},{"$f":"名簿!CU52","v":"00"},{"$f":"名簿!CU52","v":"00"},{"$f":"名簿!D52","v":0},null,{"$f":"IF(N55=\"\",\"\",IF(H55=1,VLOOKUP(N55,男子種目コード!$V$23:$W$25,2,FALSE),IF(H55=2,VLOOKUP(N55,女子種目コード!$V$23:$W$25,2,FALSE))))","v":""},{"$f":"IF(N55=\"\",\"\",HLOOKUP(N55,名簿!$AH$3:$CH$118,50,FALSE))","v":""},0,"中学","0中学",null,null,null,null,null,null,null,null,null,0,null,null,null,""]
[null,{"$f":"名簿!E53","v":0},{"$f":"名簿!CM53","v":""},{"$f":"名簿!CM53","v":""},{"$f":"名簿!Z53","v":""},{"$f":"名簿!P53","v":""},{"$f":"名簿!Q53","v":""},{"$f":"名簿!Y53","v":""},{"$f":"名簿!CN53","v":""},{"$f":"名簿!CP53","v":0},{"$f":"名簿!CU53","v":"00"},{"$f":"名簿!CU53","v":"00"},{"$f":"名簿!D53","v":0},null,{"$f":"IF(N56=\"\",\"\",IF(H56=1,VLOOKUP(N56,男子種目コード!$V$23:$W$25,2,FALSE),IF(H56=2,VLOOKUP(N56,女子種目コード!$V$23:$W$25,2,FALSE))))","v":""},{"$f":"IF(N56=\"\",\"\",HLOOKUP(N56,名簿!$AH$3:$CH$118,51,FALSE))","v":""},0,"中学","0中学",null,null,null,null,null,null,null,null,null,0,null,null,null,""]
[null,{"$f":"名簿!E54","v":0},{"$f":"名簿!CM54","v":""},{"$f":"名簿!CM54","v":""},{"$f":"名簿!Z54","v":""},{"$f":"名簿!P54","v":""},{"$f":"名簿!Q54","v":""},{"$f":"名簿!Y54","v":""},{"$f":"名簿!CN54","v":""},{"$f":"名簿!CP54","v":0},{"$f":"名簿!CU54","v":"00"},{"$f":"名簿!CU54","v":"00"},{"$f":"名簿!D54","v":0},null,{"$f":"IF(N57=\"\",\"\",IF(H57=1,VLOOKUP(N57,男子種目コード!$V$23:$W$25,2,FALSE),IF(H57=2,VLOOKUP(N57,女子種目コード!$V$23:$W$25,2,FALSE))))","v":""},{"$f":"IF(N57=\"\",\"\",HLOOKUP(N57,名簿!$AH$3:$CH$118,52,FALSE))","v":""},0,"中学","0中学",null,null,null,null,null,null,null,null,null,0,null,null,null,""]
[null,{"$f":"名簿!E55","v":0},{"$f":"名簿!CM55","v":""},{"$f":"名簿!CM55","v":""},{"$f":"名簿!Z55","v":""},{"$f":"名簿!P55","v":""},{"$f":"名簿!Q55","v":""},{"$f":"名簿!Y55","v":""},{"$f":"名簿!CN55","v":""},{"$f":"名簿!CP55","v":0},{"$f":"名簿!CU55","v":"00"},{"$f":"名簿!CU55","v":"00"},{"$f":"名簿!D55","v":0},null,{"$f":"IF(N58=\"\",\"\",IF(H58=1,VLOOKUP(N58,男子種目コード!$V$23:$W$25,2,FALSE),IF(H58=2,VLOOKUP(N58,女子種目コード!$V$23:$W$25,2,FALSE))))","v":""},{"$f":"IF(N58=\"\",\"\",HLOOKUP(N58,名簿!$AH$3:$CH$118,53,FALSE))","v":""},0,"中学","0中学",null,null,null,null,null,null,null,null,null,0,null,null,null,""]
[null,{"$f":"名簿!E56","v":0},{"$f":"名簿!CM56","v":""},{"$f":"名簿!CM56","v":""},{"$f":"名簿!Z56","v":""},{"$f":"名簿!P56","v":""},{"$f":"名簿!Q56","v":""},{"$f":"名簿!Y56","v":""},{"$f":"名簿!CN56","v":""},{"$f":"名簿!CP56","v":0},{"$f":"名簿!CU56","v":"00"},{"$f":"名簿!CU56","v":"00"},{"$f":"名簿!D56","v":0},null,{"$f":"IF(N59=\"\",\"\",IF(H59=1,VLOOKUP(N59,男子種目コード!$V$23:$W$25,2,FALSE),IF(H59=2,VLOOKUP(N59,女子種目コード!$V$23:$W$25,2,FALSE))))","v":""},{"$f":"IF(N59=\"\",\"\",HLOOKUP(N59,名簿!$AH$3:$CH$118,54,FALSE))","v":""},0,"中学","0中学",null,null,null,null,null,null,null,null,null,0,null,null,null,""]
[null,{"$f":"名簿!E57","v":0},{"$f":"名簿!CM57","v":""},{"$f":"名簿!CM57","v":""},{"$f":"名簿!Z57","v":""},{"$f":"名簿!P57","v":""},{"$f":"名簿!Q57","v":""},{"$f":"名簿!Y57","v":""},{"$f":"名簿!CN57","v":""},{"$f":"名簿!CP57","v":0},{"$f":"名簿!CU57","v":"00"},{"$f":"名簿!CU57","v":"00"},{"$f":"名簿!D57","v":0},null,{"$f":"IF(N60=\"\",\"\",IF(H60=1,VLOOKUP(N60,男子種目コード!$V$23:$W$25,2,FALSE),IF(H60=2,VLOOKUP(N60,女子種目コード!$V$23:$W$25,2,FALSE))))","v":""},{"$f":"IF(N60=\"\",\"\",HLOOKUP(N60,名簿!$AH$3:$CH$118,55,FALSE))","v":""},0,"中学","0中学",null,null,null,null,null,null,null,null,null,0,null,null,null,""]
[null,{"$f":"名簿!E58","v":0},{"$f":"名簿!CM58","v":""},{"$f":"名簿!CM58","v":""},{"$f":"名簿!Z58","v":""},{"$f":"名簿!P58","v":""},{"$f":"名簿!Q58","v":""},{"$f":"名簿!Y58","v":""},{"$f":"名簿!CN58","v":""},{"$f":"名簿!CP58","v":0},{"$f":"名簿!CU58","v":"00"},{"$f":"名簿!CU58","v":"00"},{"$f":"名簿!D58","v":0},null,{"$f":"IF(N61=\"\",\"\",IF(H61=1,VLOOKUP(N61,男子種目コード!$V$23:$W$25,2,FALSE),IF(H61=2,VLOOKUP(N61,女子種目コード!$V$23:$W$25,2,FALSE))))","v":""},{"$f":"IF(N61=\"\",\"\",HLOOKUP(N61,名簿!$AH$3:$CH$118,56,FALSE))","v":""},0,"中学","0中学",null,null,null,null,null,null,null,null,null,0,null,null,null,""]
[null,{"$f":"名簿!E59","v":0},{"$f":"名簿!CM59","v":""},{"$f":"名簿!CM59","v":""},{"$f":"名簿!Z59","v":""},{"$f":"名簿!P59","v":""},{"$f":"名簿!Q59","v":""},{"$f":"名簿!Y59","v":""},{"$f":"名簿!CN59","v":""},{"$f":"名簿!CP59","v":0},{"$f":"名簿!CU59","v":"00"},{"$f":"名簿!CU59","v":"00"},{"$f":"名簿!D59","v":0},null,{"$f":"IF(N62=\"\",\"\",IF(H62=1,VLOOKUP(N62,男子種目コード!$V$23:$W$25,2,FALSE),IF(H62=2,VLOOKUP(N62,女子種目コード!$V$23:$W$25,2,FALSE))))","v":""},{"$f":"IF(N62=\"\",\"\",HLOOKUP(N62,名簿!$AH$3:$CH$118,57,FALSE))","v":""},0,"中学","0中学",null,null,null,null,null,null,null,null,null,0,null,null,null,""]
[null,{"$f":"名簿!E60","v":0},{"$f":"名簿!CM60","v":""},{"$f":"名簿!CM60","v":""},{"$f":"名簿!Z60","v":""},{"$f":"名簿!P60","v":""},{"$f":"名簿!Q60","v":""},{"$f":"名簿!Y60","v":""},{"$f":"名簿!CN60","v":""},{"$f":"名簿!CP60","v":0},{"$f":"名簿!CU60","v":"00"},{"$f":"名簿!CU60","v":"00"},{"$f":"名簿!D60","v":0},null,{"$f":"IF(N63=\"\",\"\",IF(H63=1,VLOOKUP(N63,男子種目コード!$V$23:$W$25,2,FALSE),IF(H63=2,VLOOKUP(N63,女子種目コード!$V$23:$W$25,2,FALSE))))","v":""},{"$f":"IF(N63=\"\",\"\",HLOOKUP(N63,名簿!$AH$3:$CH$118,58,FALSE))","v":""},0,"中学","0中学",null,null,null,null,null,null,null,null,null,0,null,null,null,""]
[null,{"$f":"名簿!E61","v":0},{"$f":"名簿!CM61","v":""},{"$f":"名簿!CM61","v":""},{"$f":"名簿!Z61","v":""},{"$f":"名簿!P61","v":""},{"$f":"名簿!Q61","v":""},{"$f":"名簿!Y61","v":""},{"$f":"名簿!CN61","v":""},{"$f":"名簿!CP61","v":0},{"$f":"名簿!CU61","v":"00"},{"$f":"名簿!CU61","v":"00"},{"$f":"名簿!D61","v":0},null,{"$f":"IF(N64=\"\",\"\",IF(H64=1,VLOOKUP(N64,男子種目コード!$V$23:$W$25,2,FALSE),IF(H64=2,VLOOKUP(N64,女子種目コード!$V$23:$W$25,2,FALSE))))","v":""},{"$f":"IF(N64=\"\",\"\",HLOOKUP(N64,名簿!$AH$3:$CH$118,59,FALSE))","v":""},0,"中学","0中学",null,null,null,null,null,null,null,null,null,0,null,null,null,""]
[null,{"$f":"名簿!E62","v":0},{"$f":"名簿!CM62","v":""},{"$f":"名簿!CM62","v":""},{"$f":"名簿!Z62","v":""},{"$f":"名簿!P62","v":""},{"$f":"名簿!Q62","v":""},{"$f":"名簿!Y62","v":""},{"$f":"名簿!CN62","v":""},{"$f":"名簿!CP62","v":0},{"$f":"名簿!CU62","v":"00"},{"$f":"名簿!CU62","v":"00"},{"$f":"名簿!D62","v":0},null,{"$f":"IF(N65=\"\",\"\",IF(H65=1,VLOOKUP(N65,男子種目コード!$V$23:$W$25,2,FALSE),IF(H65=2,VLOOKUP(N65,女子種目コード!$V$23:$W$25,2,FALSE))))","v":""},{"$f":"IF(N65=\"\",\"\",HLOOKUP(N65,名簿!$AH$3:$CH$118,60,FALSE))","v":""},0,"中学","0中学",null,null,null,null,null,null,null,null,null,0,null,null,null,""]
[null,{"$f":"名簿!E63","v":0},{"$f":"名簿!CM63","v":""},{"$f":"名簿!CM63","v":""},{"$f":"名簿!Z63","v":""},{"$f":"名簿!P63","v":""},{"$f":"名簿!Q63","v":""},{"$f":"名簿!Y63","v":""},{"$f":"名簿!CN63","v":""},{"$f":"名簿!CP63","v":0},{"$f":"名簿!CU63","v":"00"},{"$f":"名簿!CU63","v":"00"},{"$f":"名簿!D63","v":0},null,{"$f":"IF(N66=\"\",\"\",IF(H66=1,VLOOKUP(N66,男子種目コード!$V$23:$W$25,2,FALSE),IF(H66=2,VLOOKUP(N66,女子種目コード!$V$23:$W$25,2,FALSE))))","v":""},{"$f":"IF(N66=\"\",\"\",HLOOKUP(N66,名簿!$AH$3:$CH$118,61,FALSE))","v":""},0,"中学","0中学",null,null,null,null,null,null,null,null,null,0,null,null,null,""]
[null,{"$f":"名簿!E64","v":0},{"$f":"名簿!CM64","v":""},{"$f":"名簿!CM64","v":""},{"$f":"名簿!Z64","v":""},{"$f":"名簿!P64","v":""},{"$f":"名簿!Q64","v":""},{"$f":"名簿!Y64","v":""},{"$f":"名簿!CN64","v":""},{"$f":"名簿!CP64","v":0},{"$f":"名簿!CU64","v":"00"},{"$f":"名簿!CU64","v":"00"},{"$f":"名簿!D64","v":0},null,{"$f":"IF(N67=\"\",\"\",IF(H67=1,VLOOKUP(N67,男子種目コード!$V$23:$W$25,2,FALSE),IF(H67=2,VLOOKUP(N67,女子種目コード!$V$23:$W$25,2,FALSE))))","v":""},{"$f":"IF(N67=\"\",\"\",HLOOKUP(N67,名簿!$AH$3:$CH$118,62,FALSE))","v":""},0,"中学","0中学",null,null,null,null,null,null,null,null,null,0,null,null,null,""]
[null,{"$f":"名簿!E65","v":0},{"$f":"名簿!CM65","v":""},{"$f":"名簿!CM65","v":""},{"$f":"名簿!Z65","v":""},{"$f":"名簿!P65","v":""},{"$f":"名簿!Q65","v":""},{"$f":"名簿!Y65","v":""},{"$f":"名簿!CN65","v":""},{"$f":"名簿!CP65","v":0},{"$f":"名簿!CU65","v":"00"},{"$f":"名簿!CU65","v":"00"},{"$f":"名簿!D65","v":0},null,{"$f":"IF(N68=\"\",\"\",IF(H68=1,VLOOKUP(N68,男子種目コード!$V$23:$W$25,2,FALSE),IF(H68=2,VLOOKUP(N68,女子種目コード!$V$23:$W$25,2,FALSE))))","v":""},{"$f":"IF(N68=\"\",\"\",HLOOKUP(N68,名簿!$AH$3:$CH$118,63,FALSE))","v":""},0,"中学","0中学",null,null,null,null,null,null,null,null,null,0,null,null,null,""]
[null,{"$f":"名簿!E66","v":0},{"$f":"名簿!CM66","v":""},{"$f":"名簿!CM66","v":""},{"$f":"名簿!Z66","v":""},{"$f":"名簿!P66","v":""},{"$f":"名簿!Q66","v":""},{"$f":"名簿!Y66","v":""},{"$f":"名簿!CN66","v":""},{"$f":"名簿!CP66","v":0},{"$f":"名簿!CU66","v":"00"},{"$f":"名簿!CU66","v":"00"},{"$f":"名簿!D66","v":0},null,{"$f":"IF(N69=\"\",\"\",IF(H69=1,VLOOKUP(N69,男子種目コード!$V$23:$W$25,2,FALSE),IF(H69=2,VLOOKUP(N69,女子種目コード!$V$23:$W$25,2,FALSE))))","v":""},{"$f":"IF(N69=\"\",\"\",HLOOKUP(N69,名簿!$AH$3:$CH$118,64,FALSE))","v":""},0,"中学","0中学",null,null,null,null,null,null,null,null,null,0,null,null,null,""]
[null,{"$f":"名簿!E67","v":0},{"$f":"名簿!CM67","v":""},{"$f":"名簿!CM67","v":""},{"$f":"名簿!Z67","v":""},{"$f":"名簿!P67","v":""},{"$f":"名簿!Q67","v":""},{"$f":"名簿!Y67","v":""},{"$f":"名簿!CN67","v":""},{"$f":"名簿!CP67","v":0},{"$f":"名簿!CU67","v":"00"},{"$f":"名簿!CU67","v":"00"},{"$f":"名簿!D67","v":0},null,{"$f":"IF(N70=\"\",\"\",IF(H70=1,VLOOKUP(N70,男子種目コード!$V$23:$W$25,2,FALSE),IF(H70=2,VLOOKUP(N70,女子種目コード!$V$23:$W$25,2,FALSE))))","v":""},{"$f":"IF(N70=\"\",\"\",HLOOKUP(N70,名簿!$AH$3:$CH$118,65,FALSE))","v":""},0,"中学","0中学",null,null,null,null,null,null,null,null,null,0,null,null,null,""]
[null,{"$f":"名簿!E68","v":0},{"$f":"名簿!CM68","v":""},{"$f":"名簿!CM68","v":""},{"$f":"名簿!Z68","v":""},{"$f":"名簿!P68","v":""},{"$f":"名簿!Q68","v":""},{"$f":"名簿!Y68","v":""},{"$f":"名簿!CN68","v":""},{"$f":"名簿!CP68","v":0},{"$f":"名簿!CU68","v":"00"},{"$f":"名簿!CU68","v":"00"},{"$f":"名簿!D68","v":0},null,{"$f":"IF(N71=\"\",\"\",IF(H71=1,VLOOKUP(N71,男子種目コード!$V$23:$W$25,2,FALSE),IF(H71=2,VLOOKUP(N71,女子種目コード!$V$23:$W$25,2,FALSE))))","v":""},{"$f":"IF(N71=\"\",\"\",HLOOKUP(N71,名簿!$AH$3:$CH$118,66,FALSE))","v":""},0,"中学","0中学",null,null,null,null,null,null,null,null,null,0,null,null,null,{"$f":"IF(N71=\"\",\"\",1)","v":""}]
[null,{"$f":"名簿!E69","v":0},{"$f":"名簿!CM69","v":""},{"$f":"名簿!CM69","v":""},{"$f":"名簿!Z69","v":""},{"$f":"名簿!P69","v":""},{"$f":"名簿!Q69","v":""},{"$f":"名簿!Y69","v":""},{"$f":"名簿!CN69","v":""},{"$f":"名簿!CP69","v":0},{"$f":"名簿!CU69","v":"00"},{"$f":"名簿!CU69","v":"00"},{"$f":"名簿!D69","v":0},null,{"$f":"IF(N72=\"\",\"\",IF(H72=1,VLOOKUP(N72,男子種目コード!$V$23:$W$25,2,FALSE),IF(H72=2,VLOOKUP(N72,女子種目コード!$V$23:$W$25,2,FALSE))))","v":""},{"$f":"IF(N72=\"\",\"\",HLOOKUP(N72,名簿!$AH$3:$CH$118,67,FALSE))","v":""},{"$f":"$C$1","v":0},"中学",{"$f":"CONCATENATE(Q72,R72)","v":"0中学"},null,null,null,null,null,null,null,null,null,0,null,null,null,""]
[null,{"$f":"名簿!E70","v":0},{"$f":"名簿!CM70","v":""},{"$f":"名簿!CM70","v":""},{"$f":"名簿!Z70","v":""},{"$f":"名簿!P70","v":""},{"$f":"名簿!Q70","v":""},{"$f":"名簿!Y70","v":""},{"$f":"名簿!CN70","v":""},{"$f":"名簿!CP70","v":0},{"$f":"名簿!CU70","v":"00"},{"$f":"名簿!CU70","v":"00"},{"$f":"名簿!D70","v":0},null,{"$f":"IF(N73=\"\",\"\",IF(H73=1,VLOOKUP(N73,男子種目コード!$V$23:$W$25,2,FALSE),IF(H73=2,VLOOKUP(N73,女子種目コード!$V$23:$W$25,2,FALSE))))","v":""},{"$f":"IF(N73=\"\",\"\",HLOOKUP(N73,名簿!$AH$3:$CH$118,68,FALSE))","v":""},0,"中学","0中学",null,null,null,null,null,null,null,null,null,0,null,null,null,""]
[null,{"$f":"名簿!E71","v":0},{"$f":"名簿!CM71","v":""},{"$f":"名簿!CM71","v":""},{"$f":"名簿!Z71","v":""},{"$f":"名簿!P71","v":""},{"$f":"名簿!Q71","v":""},{"$f":"名簿!Y71","v":""},{"$f":"名簿!CN71","v":""},{"$f":"名簿!CP71","v":0},{"$f":"名簿!CU71","v":"00"},{"$f":"名簿!CU71","v":"00"},{"$f":"名簿!D71","v":0},null,{"$f":"IF(N74=\"\",\"\",IF(H74=1,VLOOKUP(N74,男子種目コード!$V$23:$W$25,2,FALSE),IF(H74=2,VLOOKUP(N74,女子種目コード!$V$23:$W$25,2,FALSE))))","v":""},{"$f":"IF(N74=\"\",\"\",HLOOKUP(N74,名簿!$AH$3:$CH$118,69,FALSE))","v":""},0,"中学","0中学",null,null,null,null,null,null,null,null,null,0,null,null,null,""]
[null,{"$f":"名簿!E72","v":0},{"$f":"名簿!CM72","v":""},{"$f":"名簿!CM72","v":""},{"$f":"名簿!Z72","v":""},{"$f":"名簿!P72","v":""},{"$f":"名簿!Q72","v":""},{"$f":"名簿!Y72","v":""},{"$f":"名簿!CN72","v":""},{"$f":"名簿!CP72","v":0},{"$f":"名簿!CU72","v":"00"},{"$f":"名簿!CU72","v":"00"},{"$f":"名簿!D72","v":0},null,{"$f":"IF(N75=\"\",\"\",IF(H75=1,VLOOKUP(N75,男子種目コード!$V$23:$W$25,2,FALSE),IF(H75=2,VLOOKUP(N75,女子種目コード!$V$23:$W$25,2,FALSE))))","v":""},{"$f":"IF(N75=\"\",\"\",HLOOKUP(N75,名簿!$AH$3:$CH$118,70,FALSE))","v":""},0,"中学","0中学",null,null,null,null,null,null,null,null,null,0,null,null,null,""]
[null,{"$f":"名簿!E73","v":0},{"$f":"名簿!CM73","v":""},{"$f":"名簿!CM73","v":""},{"$f":"名簿!Z73","v":""},{"$f":"名簿!P73","v":""},{"$f":"名簿!Q73","v":""},{"$f":"名簿!Y73","v":""},{"$f":"名簿!CN73","v":""},{"$f":"名簿!CP73","v":0},{"$f":"名簿!CU73","v":"00"},{"$f":"名簿!CU73","v":"00"},{"$f":"名簿!D73","v":0},null,{"$f":"IF(N76=\"\",\"\",IF(H76=1,VLOOKUP(N76,男子種目コード!$V$23:$W$25,2,FALSE),IF(H76=2,VLOOKUP(N76,女子種目コード!$V$23:$W$25,2,FALSE))))","v":""},{"$f":"IF(N76=\"\",\"\",HLOOKUP(N76,名簿!$AH$3:$CH$118,71,FALSE))","v":""},0,"中学","0中学",null,null,null,null,null,null,null,null,null,0,null,null,null,""]
[null,{"$f":"名簿!E74","v":0},{"$f":"名簿!CM74","v":""},{"$f":"名簿!CM74","v":""},{"$f":"名簿!Z74","v":""},{"$f":"名簿!P74","v":""},{"$f":"名簿!Q74","v":""},{"$f":"名簿!Y74","v":""},{"$f":"名簿!CN74","v":""},{"$f":"名簿!CP74","v":0},{"$f":"名簿!CU74","v":"00"},{"$f":"名簿!CU74","v":"00"},{"$f":"名簿!D74","v":0},null,{"$f":"IF(N77=\"\",\"\",IF(H77=1,VLOOKUP(N77,男子種目コード!$V$23:$W$25,2,FALSE),IF(H77=2,VLOOKUP(N77,女子種目コード!$V$23:$W$25,2,FALSE))))","v":""},{"$f":"IF(N77=\"\",\"\",HLOOKUP(N77,名簿!$AH$3:$CH$118,72,FALSE))","v":""},0,"中学","0中学",null,null,null,null,null,null,null,null,null,0,null,null,null,""]
[null,{"$f":"名簿!E75","v":0},{"$f":"名簿!CM75","v":""},{"$f":"名簿!CM75","v":""},{"$f":"名簿!Z75","v":""},{"$f":"名簿!P75","v":""},{"$f":"名簿!Q75","v":""},{"$f":"名簿!Y75","v":""},{"$f":"名簿!CN75","v":""},{"$f":"名簿!CP75","v":0},{"$f":"名簿!CU75","v":"00"},{"$f":"名簿!CU75","v":"00"},{"$f":"名簿!D75","v":0},null,{"$f":"IF(N78=\"\",\"\",IF(H78=1,VLOOKUP(N78,男子種目コード!$V$23:$W$25,2,FALSE),IF(H78=2,VLOOKUP(N78,女子種目コード!$V$23:$W$25,2,FALSE))))","v":""},{"$f":"IF(N78=\"\",\"\",HLOOKUP(N78,名簿!$AH$3:$CH$118,73,FALSE))","v":""},0,"中学","0中学",null,null,null,null,null,null,null,null,null,0,null,null,null,""]
[null,{"$f":"名簿!E76","v":0},{"$f":"名簿!CM76","v":""},{"$f":"名簿!CM76","v":""},{"$f":"名簿!Z76","v":""},{"$f":"名簿!P76","v":""},{"$f":"名簿!Q76","v":""},{"$f":"名簿!Y76","v":""},{"$f":"名簿!CN76","v":""},{"$f":"名簿!CP76","v":0},{"$f":"名簿!CU76","v":"00"},{"$f":"名簿!CU76","v":"00"},{"$f":"名簿!D76","v":0},null,{"$f":"IF(N79=\"\",\"\",IF(H79=1,VLOOKUP(N79,男子種目コード!$V$23:$W$25,2,FALSE),IF(H79=2,VLOOKUP(N79,女子種目コード!$V$23:$W$25,2,FALSE))))","v":""},{"$f":"IF(N79=\"\",\"\",HLOOKUP(N79,名簿!$AH$3:$CH$118,74,FALSE))","v":""},0,"中学","0中学",null,null,null,null,null,null,null,null,null,0,null,null,null,""]
[null,{"$f":"名簿!E77","v":0},{"$f":"名簿!CM77","v":""},{"$f":"名簿!CM77","v":""},{"$f":"名簿!Z77","v":""},{"$f":"名簿!P77","v":""},{"$f":"名簿!Q77","v":""},{"$f":"名簿!Y77","v":""},{"$f":"名簿!CN77","v":""},{"$f":"名簿!CP77","v":0},{"$f":"名簿!CU77","v":"00"},{"$f":"名簿!CU77","v":"00"},{"$f":"名簿!D77","v":0},null,{"$f":"IF(N80=\"\",\"\",IF(H80=1,VLOOKUP(N80,男子種目コード!$V$23:$W$25,2,FALSE),IF(H80=2,VLOOKUP(N80,女子種目コード!$V$23:$W$25,2,FALSE))))","v":""},{"$f":"IF(N80=\"\",\"\",HLOOKUP(N80,名簿!$AH$3:$CH$118,75,FALSE))","v":""},0,"中学","0中学",null,null,null,null,null,null,null,null,null,0,null,null,null,""]
[null,{"$f":"名簿!E78","v":0},{"$f":"名簿!CM78","v":""},{"$f":"名簿!CM78","v":""},{"$f":"名簿!Z78","v":""},{"$f":"名簿!P78","v":""},{"$f":"名簿!Q78","v":""},{"$f":"名簿!Y78","v":""},{"$f":"名簿!CN78","v":""},{"$f":"名簿!CP78","v":0},{"$f":"名簿!CU78","v":"00"},{"$f":"名簿!CU78","v":"00"},{"$f":"名簿!D78","v":0},null,{"$f":"IF(N81=\"\",\"\",IF(H81=1,VLOOKUP(N81,男子種目コード!$V$23:$W$25,2,FALSE),IF(H81=2,VLOOKUP(N81,女子種目コード!$V$23:$W$25,2,FALSE))))","v":""},{"$f":"IF(N81=\"\",\"\",HLOOKUP(N81,名簿!$AH$3:$CH$118,76,FALSE))","v":""},0,"中学","0中学",null,null,null,null,null,null,null,null,null,0,null,null,null,""]
[null,{"$f":"名簿!E79","v":0},{"$f":"名簿!CM79","v":""},{"$f":"名簿!CM79","v":""},{"$f":"名簿!Z79","v":""},{"$f":"名簿!P79","v":""},{"$f":"名簿!Q79","v":""},{"$f":"名簿!Y79","v":""},{"$f":"名簿!CN79","v":""},{"$f":"名簿!CP79","v":0},{"$f":"名簿!CU79","v":"00"},{"$f":"名簿!CU79","v":"00"},{"$f":"名簿!D79","v":0},null,{"$f":"IF(N82=\"\",\"\",IF(H82=1,VLOOKUP(N82,男子種目コード!$V$23:$W$25,2,FALSE),IF(H82=2,VLOOKUP(N82,女子種目コード!$V$23:$W$25,2,FALSE))))","v":""},{"$f":"IF(N82=\"\",\"\",HLOOKUP(N82,名簿!$AH$3:$CH$118,77,FALSE))","v":""},0,"中学","0中学",null,null,null,null,null,null,null,null,null,0,null,null,null,""]
[null,{"$f":"名簿!E80","v":0},{"$f":"名簿!CM80","v":""},{"$f":"名簿!CM80","v":""},{"$f":"名簿!Z80","v":""},{"$f":"名簿!P80","v":""},{"$f":"名簿!Q80","v":""},{"$f":"名簿!Y80","v":""},{"$f":"名簿!CN80","v":""},{"$f":"名簿!CP80","v":0},{"$f":"名簿!CU80","v":"00"},{"$f":"名簿!CU80","v":"00"},{"$f":"名簿!D80","v":0},null,{"$f":"IF(N83=\"\",\"\",IF(H83=1,VLOOKUP(N83,男子種目コード!$V$23:$W$25,2,FALSE),IF(H83=2,VLOOKUP(N83,女子種目コード!$V$23:$W$25,2,FALSE))))","v":""},{"$f":"IF(N83=\"\",\"\",HLOOKUP(N83,名簿!$AH$3:$CH$118,78,FALSE))","v":""},0,"中学","0中学",null,null,null,null,null,null,null,null,null,0,null,null,null,""]
[null,{"$f":"名簿!E81","v":0},{"$f":"名簿!CM81","v":""},{"$f":"名簿!CM81","v":""},{"$f":"名簿!Z81","v":""},{"$f":"名簿!P81","v":""},{"$f":"名簿!Q81","v":""},{"$f":"名簿!Y81","v":""},{"$f":"名簿!CN81","v":""},{"$f":"名簿!CP81","v":0},{"$f":"名簿!CU81","v":"00"},{"$f":"名簿!CU81","v":"00"},{"$f":"名簿!D81","v":0},null,{"$f":"IF(N84=\"\",\"\",IF(H84=1,VLOOKUP(N84,男子種目コード!$V$23:$W$25,2,FALSE),IF(H84=2,VLOOKUP(N84,女子種目コード!$V$23:$W$25,2,FALSE))))","v":""},{"$f":"IF(N84=\"\",\"\",HLOOKUP(N84,名簿!$AH$3:$CH$118,79,FALSE))","v":""},0,"中学","0中学",null,null,null,null,null,null,null,null,null,0,null,null,null,""]
[null,{"$f":"名簿!E82","v":0},{"$f":"名簿!CM82","v":""},{"$f":"名簿!CM82","v":""},{"$f":"名簿!Z82","v":""},{"$f":"名簿!P82","v":""},{"$f":"名簿!Q82","v":""},{"$f":"名簿!Y82","v":""},{"$f":"名簿!CN82","v":""},{"$f":"名簿!CP82","v":0},{"$f":"名簿!CU82","v":"00"},{"$f":"名簿!CU82","v":"00"},{"$f":"名簿!D82","v":0},null,{"$f":"IF(N85=\"\",\"\",IF(H85=1,VLOOKUP(N85,男子種目コード!$V$23:$W$25,2,FALSE),IF(H85=2,VLOOKUP(N85,女子種目コード!$V$23:$W$25,2,FALSE))))","v":""},{"$f":"IF(N85=\"\",\"\",HLOOKUP(N85,名簿!$AH$3:$CH$118,80,FALSE))","v":""},0,"中学","0中学",null,null,null,null,null,null,null,null,null,0,null,null,null,""]
[null,{"$f":"名簿!E83","v":0},{"$f":"名簿!CM83","v":""},{"$f":"名簿!CM83","v":""},{"$f":"名簿!Z83","v":""},{"$f":"名簿!P83","v":""},{"$f":"名簿!Q83","v":""},{"$f":"名簿!Y83","v":""},{"$f":"名簿!CN83","v":""},{"$f":"名簿!CP83","v":0},{"$f":"名簿!CU83","v":"00"},{"$f":"名簿!CU83","v":"00"},{"$f":"名簿!D83","v":0},null,{"$f":"IF(N86=\"\",\"\",IF(H86=1,VLOOKUP(N86,男子種目コード!$V$23:$W$25,2,FALSE),IF(H86=2,VLOOKUP(N86,女子種目コード!$V$23:$W$25,2,FALSE))))","v":""},{"$f":"IF(N86=\"\",\"\",HLOOKUP(N86,名簿!$AH$3:$CH$118,81,FALSE))","v":""},0,"中学","0中学",null,null,null,null,null,null,null,null,null,0,null,null,null,""]
[null,{"$f":"名簿!E84","v":0},{"$f":"名簿!CM84","v":""},{"$f":"名簿!CM84","v":""},{"$f":"名簿!Z84","v":""},{"$f":"名簿!P84","v":""},{"$f":"名簿!Q84","v":""},{"$f":"名簿!Y84","v":""},{"$f":"名簿!CN84","v":""},{"$f":"名簿!CP84","v":0},{"$f":"名簿!CU84","v":"00"},{"$f":"名簿!CU84","v":"00"},{"$f":"名簿!D84","v":0},null,{"$f":"IF(N87=\"\",\"\",IF(H87=1,VLOOKUP(N87,男子種目コード!$V$23:$W$25,2,FALSE),IF(H87=2,VLOOKUP(N87,女子種目コード!$V$23:$W$25,2,FALSE))))","v":""},{"$f":"IF(N87=\"\",\"\",HLOOKUP(N87,名簿!$AH$3:$CH$118,82,FALSE))","v":""},0,"中学","0中学",null,null,null,null,null,null,null,null,null,0,null,null,null,""]
[null,{"$f":"名簿!E85","v":0},{"$f":"名簿!CM85","v":""},{"$f":"名簿!CM85","v":""},{"$f":"名簿!Z85","v":""},{"$f":"名簿!P85","v":""},{"$f":"名簿!Q85","v":""},{"$f":"名簿!Y85","v":""},{"$f":"名簿!CN85","v":""},{"$f":"名簿!CP85","v":0},{"$f":"名簿!CU85","v":"00"},{"$f":"名簿!CU85","v":"00"},{"$f":"名簿!D85","v":0},null,{"$f":"IF(N88=\"\",\"\",IF(H88=1,VLOOKUP(N88,男子種目コード!$V$23:$W$25,2,FALSE),IF(H88=2,VLOOKUP(N88,女子種目コード!$V$23:$W$25,2,FALSE))))","v":""},{"$f":"IF(N88=\"\",\"\",HLOOKUP(N88,名簿!$AH$3:$CH$118,83,FALSE))","v":""},0,"中学","0中学",null,null,null,null,null,null,null,null,null,0,null,null,null,""]
[null,{"$f":"名簿!E86","v":0},{"$f":"名簿!CM86","v":""},{"$f":"名簿!CM86","v":""},{"$f":"名簿!Z86","v":""},{"$f":"名簿!P86","v":""},{"$f":"名簿!Q86","v":""},{"$f":"名簿!Y86","v":""},{"$f":"名簿!CN86","v":""},{"$f":"名簿!CP86","v":0},{"$f":"名簿!CU86","v":"00"},{"$f":"名簿!CU86","v":"00"},{"$f":"名簿!D86","v":0},null,{"$f":"IF(N89=\"\",\"\",IF(H89=1,VLOOKUP(N89,男子種目コード!$V$23:$W$25,2,FALSE),IF(H89=2,VLOOKUP(N89,女子種目コード!$V$23:$W$25,2,FALSE))))","v":""},{"$f":"IF(N89=\"\",\"\",HLOOKUP(N89,名簿!$AH$3:$CH$118,84,FALSE))","v":""},0,"中学","0中学",null,null,null,null,null,null,null,null,null,0,null,null,null,""]
[null,{"$f":"名簿!E87","v":0},{"$f":"名簿!CM87","v":""},{"$f":"名簿!CM87","v":""},{"$f":"名簿!Z87","v":""},{"$f":"名簿!P87","v":""},{"$f":"名簿!Q87","v":""},{"$f":"名簿!Y87","v":""},{"$f":"名簿!CN87","v":""},{"$f":"名簿!CP87","v":0},{"$f":"名簿!CU87","v":"00"},{"$f":"名簿!CU87","v":"00"},{"$f":"名簿!D87","v":0},null,{"$f":"IF(N90=\"\",\"\",IF(H90=1,VLOOKUP(N90,男子種目コード!$V$23:$W$25,2,FALSE),IF(H90=2,VLOOKUP(N90,女子種目コード!$V$23:$W$25,2,FALSE))))","v":""},{"$f":"IF(N90=\"\",\"\",HLOOKUP(N90,名簿!$AH$3:$CH$118,85,FALSE))","v":""},0,"中学","0中学",null,null,null,null,null,null,null,null,null,0,null,null,null,""]
[null,{"$f":"名簿!E88","v":0},{"$f":"名簿!CM88","v":""},{"$f":"名簿!CM88","v":""},{"$f":"名簿!Z88","v":""},{"$f":"名簿!P88","v":""},{"$f":"名簿!Q88","v":""},{"$f":"名簿!Y88","v":""},{"$f":"名簿!CN88","v":""},{"$f":"名簿!CP88","v":0},{"$f":"名簿!CU88","v":"00"},{"$f":"名簿!CU88","v":"00"},{"$f":"名簿!D88","v":0},null,{"$f":"IF(N91=\"\",\"\",IF(H91=1,VLOOKUP(N91,男子種目コード!$V$23:$W$25,2,FALSE),IF(H91=2,VLOOKUP(N91,女子種目コード!$V$23:$W$25,2,FALSE))))","v":""},{"$f":"IF(N91=\"\",\"\",HLOOKUP(N91,名簿!$AH$3:$CH$118,86,FALSE))","v":""},0,"中学","0中学",null,null,null,null,null,null,null,null,null,0,null,null,null,""]
[null,{"$f":"名簿!E89","v":0},{"$f":"名簿!CM89","v":""},{"$f":"名簿!CM89","v":""},{"$f":"名簿!Z89","v":""},{"$f":"名簿!P89","v":""},{"$f":"名簿!Q89","v":""},{"$f":"名簿!Y89","v":""},{"$f":"名簿!CN89","v":""},{"$f":"名簿!CP89","v":0},{"$f":"名簿!CU89","v":"00"},{"$f":"名簿!CU89","v":"00"},{"$f":"名簿!D89","v":0},null,{"$f":"IF(N92=\"\",\"\",IF(H92=1,VLOOKUP(N92,男子種目コード!$V$23:$W$25,2,FALSE),IF(H92=2,VLOOKUP(N92,女子種目コード!$V$23:$W$25,2,FALSE))))","v":""},{"$f":"IF(N92=\"\",\"\",HLOOKUP(N92,名簿!$AH$3:$CH$118,87,FALSE))","v":""},0,"中学","0中学",null,null,null,null,null,null,null,null,null,0,null,null,null,""]
[null,{"$f":"名簿!E90","v":0},{"$f":"名簿!CM90","v":""},{"$f":"名簿!CM90","v":""},{"$f":"名簿!Z90","v":""},{"$f":"名簿!P90","v":""},{"$f":"名簿!Q90","v":""},{"$f":"名簿!Y90","v":""},{"$f":"名簿!CN90","v":""},{"$f":"名簿!CP90","v":0},{"$f":"名簿!CU90","v":"00"},{"$f":"名簿!CU90","v":"00"},{"$f":"名簿!D90","v":0},null,{"$f":"IF(N93=\"\",\"\",IF(H93=1,VLOOKUP(N93,男子種目コード!$V$23:$W$25,2,FALSE),IF(H93=2,VLOOKUP(N93,女子種目コード!$V$23:$W$25,2,FALSE))))","v":""},{"$f":"IF(N93=\"\",\"\",HLOOKUP(N93,名簿!$AH$3:$CH$118,88,FALSE))","v":""},0,"中学","0中学",null,null,null,null,null,null,null,null,null,0,null,null,null,""]
[null,{"$f":"名簿!E91","v":0},{"$f":"名簿!CM91","v":""},{"$f":"名簿!CM91","v":""},{"$f":"名簿!Z91","v":""},{"$f":"名簿!P91","v":""},{"$f":"名簿!Q91","v":""},{"$f":"名簿!Y91","v":""},{"$f":"名簿!CN91","v":""},{"$f":"名簿!CP91","v":0},{"$f":"名簿!CU91","v":"00"},{"$f":"名簿!CU91","v":"00"},{"$f":"名簿!D91","v":0},null,{"$f":"IF(N94=\"\",\"\",IF(H94=1,VLOOKUP(N94,男子種目コード!$V$23:$W$25,2,FALSE),IF(H94=2,VLOOKUP(N94,女子種目コード!$V$23:$W$25,2,FALSE))))","v":""},{"$f":"IF(N94=\"\",\"\",HLOOKUP(N94,名簿!$AH$3:$CH$118,89,FALSE))","v":""},0,"中学","0中学",null,null,null,null,null,null,null,null,null,0,null,null,null,""]
[null,{"$f":"名簿!E92","v":0},{"$f":"名簿!CM92","v":""},{"$f":"名簿!CM92","v":""},{"$f":"名簿!Z92","v":""},{"$f":"名簿!P92","v":""},{"$f":"名簿!Q92","v":""},{"$f":"名簿!Y92","v":""},{"$f":"名簿!CN92","v":""},{"$f":"名簿!CP92","v":0},{"$f":"名簿!CU92","v":"00"},{"$f":"名簿!CU92","v":"00"},{"$f":"名簿!D92","v":0},null,{"$f":"IF(N95=\"\",\"\",IF(H95=1,VLOOKUP(N95,男子種目コード!$V$23:$W$25,2,FALSE),IF(H95=2,VLOOKUP(N95,女子種目コード!$V$23:$W$25,2,FALSE))))","v":""},{"$f":"IF(N95=\"\",\"\",HLOOKUP(N95,名簿!$AH$3:$CH$118,90,FALSE))","v":""},0,"中学","0中学",null,null,null,null,null,null,null,null,null,0,null,null,null,""]
[null,{"$f":"名簿!E93","v":0},{"$f":"名簿!CM93","v":""},{"$f":"名簿!CM93","v":""},{"$f":"名簿!Z93","v":""},{"$f":"名簿!P93","v":""},{"$f":"名簿!Q93","v":""},{"$f":"名簿!Y93","v":""},{"$f":"名簿!CN93","v":""},{"$f":"名簿!CP93","v":0},{"$f":"名簿!CU93","v":"00"},{"$f":"名簿!CU93","v":"00"},{"$f":"名簿!D93","v":0},null,{"$f":"IF(N96=\"\",\"\",IF(H96=1,VLOOKUP(N96,男子種目コード!$V$23:$W$25,2,FALSE),IF(H96=2,VLOOKUP(N96,女子種目コード!$V$23:$W$25,2,FALSE))))","v":""},{"$f":"IF(N96=\"\",\"\",HLOOKUP(N96,名簿!$AH$3:$CH$118,91,FALSE))","v":""},0,"中学","0中学",null,null,null,null,null,null,null,null,null,0,null,null,null,""]
[null,{"$f":"名簿!E94","v":0},{"$f":"名簿!CM94","v":""},{"$f":"名簿!CM94","v":""},{"$f":"名簿!Z94","v":""},{"$f":"名簿!P94","v":""},{"$f":"名簿!Q94","v":""},{"$f":"名簿!Y94","v":""},{"$f":"名簿!CN94","v":""},{"$f":"名簿!CP94","v":0},{"$f":"名簿!CU94","v":"00"},{"$f":"名簿!CU94","v":"00"},{"$f":"名簿!D94","v":0},null,{"$f":"IF(N97=\"\",\"\",IF(H97=1,VLOOKUP(N97,男子種目コード!$V$23:$W$25,2,FALSE),IF(H97=2,VLOOKUP(N97,女子種目コード!$V$23:$W$25,2,FALSE))))","v":""},{"$f":"IF(N97=\"\",\"\",HLOOKUP(N97,名簿!$AH$3:$CH$118,92,FALSE))","v":""},0,"中学","0中学",null,null,null,null,null,null,null,null,null,0,null,null,null,""]
[null,{"$f":"名簿!E95","v":0},{"$f":"名簿!CM95","v":""},{"$f":"名簿!CM95","v":""},{"$f":"名簿!Z95","v":""},{"$f":"名簿!P95","v":""},{"$f":"名簿!Q95","v":""},{"$f":"名簿!Y95","v":""},{"$f":"名簿!CN95","v":""},{"$f":"名簿!CP95","v":0},{"$f":"名簿!CU95","v":"00"},{"$f":"名簿!CU95","v":"00"},{"$f":"名簿!D95","v":0},null,{"$f":"IF(N98=\"\",\"\",IF(H98=1,VLOOKUP(N98,男子種目コード!$V$23:$W$25,2,FALSE),IF(H98=2,VLOOKUP(N98,女子種目コード!$V$23:$W$25,2,FALSE))))","v":""},{"$f":"IF(N98=\"\",\"\",HLOOKUP(N98,名簿!$AH$3:$CH$118,93,FALSE))","v":""},0,"中学","0中学",null,null,null,null,null,null,null,null,null,0,null,null,null,""]
[null,{"$f":"名簿!E96","v":0},{"$f":"名簿!CM96","v":""},{"$f":"名簿!CM96","v":""},{"$f":"名簿!Z96","v":""},{"$f":"名簿!P96","v":""},{"$f":"名簿!Q96","v":""},{"$f":"名簿!Y96","v":""},{"$f":"名簿!CN96","v":""},{"$f":"名簿!CP96","v":0},{"$f":"名簿!CU96","v":"00"},{"$f":"名簿!CU96","v":"00"},{"$f":"名簿!D96","v":0},null,{"$f":"IF(N99=\"\",\"\",IF(H99=1,VLOOKUP(N99,男子種目コード!$V$23:$W$25,2,FALSE),IF(H99=2,VLOOKUP(N99,女子種目コード!$V$23:$W$25,2,FALSE))))","v":""},{"$f":"IF(N99=\"\",\"\",HLOOKUP(N99,名簿!$AH$3:$CH$118,94,FALSE))","v":""},0,"中学","0中学",null,null,null,null,null,null,null,null,null,0,null,null,null,""]
[null,{"$f":"名簿!E97","v":0},{"$f":"名簿!CM97","v":""},{"$f":"名簿!CM97","v":""},{"$f":"名簿!Z97","v":""},{"$f":"名簿!P97","v":""},{"$f":"名簿!Q97","v":""},{"$f":"名簿!Y97","v":""},{"$f":"名簿!CN97","v":""},{"$f":"名簿!CP97","v":0},{"$f":"名簿!CU97","v":"00"},{"$f":"名簿!CU97","v":"00"},{"$f":"名簿!D97","v":0},null,{"$f":"IF(N100=\"\",\"\",IF(H100=1,VLOOKUP(N100,男子種目コード!$V$23:$W$25,2,FALSE),IF(H100=2,VLOOKUP(N100,女子種目コード!$V$23:$W$25,2,FALSE))))","v":""},{"$f":"IF(N100=\"\",\"\",HLOOKUP(N100,名簿!$AH$3:$CH$118,95,FALSE))","v":""},0,"中学","0中学",null,null,null,null,null,null,null,null,null,0,null,null,null,""]
[null,{"$f":"名簿!E98","v":0},{"$f":"名簿!CM98","v":""},{"$f":"名簿!CM98","v":""},{"$f":"名簿!Z98","v":""},{"$f":"名簿!P98","v":""},{"$f":"名簿!Q98","v":""},{"$f":"名簿!Y98","v":""},{"$f":"名簿!CN98","v":""},{"$f":"名簿!CP98","v":0},{"$f":"名簿!CU98","v":"00"},{"$f":"名簿!CU98","v":"00"},{"$f":"名簿!D98","v":0},null,{"$f":"IF(N101=\"\",\"\",IF(H101=1,VLOOKUP(N101,男子種目コード!$V$23:$W$25,2,FALSE),IF(H101=2,VLOOKUP(N101,女子種目コード!$V$23:$W$25,2,FALSE))))","v":""},{"$f":"IF(N101=\"\",\"\",HLOOKUP(N101,名簿!$AH$3:$CH$118,96,FALSE))","v":""},0,"中学","0中学",null,null,null,null,null,null,null,null,null,0,null,null,null,""]
[null,{"$f":"名簿!E99","v":0},{"$f":"名簿!CM99","v":""},{"$f":"名簿!CM99","v":""},{"$f":"名簿!Z99","v":""},{"$f":"名簿!P99","v":""},{"$f":"名簿!Q99","v":""},{"$f":"名簿!Y99","v":""},{"$f":"名簿!CN99","v":""},{"$f":"名簿!CP99","v":0},{"$f":"名簿!CU99","v":"00"},{"$f":"名簿!CU99","v":"00"},{"$f":"名簿!D99","v":0},null,{"$f":"IF(N102=\"\",\"\",IF(H102=1,VLOOKUP(N102,男子種目コード!$V$23:$W$25,2,FALSE),IF(H102=2,VLOOKUP(N102,女子種目コード!$V$23:$W$25,2,FALSE))))","v":""},{"$f":"IF(N102=\"\",\"\",HLOOKUP(N102,名簿!$AH$3:$CH$118,97,FALSE))","v":""},0,"中学","0中学",null,null,null,null,null,null,null,null,null,0,null,null,null,""]
[null,{"$f":"名簿!E100","v":0},{"$f":"名簿!CM100","v":""},{"$f":"名簿!CM100","v":""},{"$f":"名簿!Z100","v":""},{"$f":"名簿!P100","v":""},{"$f":"名簿!Q100","v":""},{"$f":"名簿!Y100","v":""},{"$f":"名簿!CN100","v":""},{"$f":"名簿!CP100","v":0},{"$f":"名簿!CU100","v":"00"},{"$f":"名簿!CU100","v":"00"},{"$f":"名簿!D100","v":0},null,{"$f":"IF(N103=\"\",\"\",IF(H103=1,VLOOKUP(N103,男子種目コード!$V$23:$W$25,2,FALSE),IF(H103=2,VLOOKUP(N103,女子種目コード!$V$23:$W$25,2,FALSE))))","v":""},{"$f":"IF(N103=\"\",\"\",HLOOKUP(N103,名簿!$AH$3:$CH$118,98,FALSE))","v":""},0,"中学","0中学",null,null,null,null,null,null,null,null,null,0,null,null,null,{"$f":"IF(N103=\"\",\"\",1)","v":""}]
[null,{"$f":"名簿!E101","v":0},{"$f":"名簿!CM101","v":""},{"$f":"名簿!CM101","v":""},{"$f":"名簿!Z101","v":""},{"$f":"名簿!P101","v":""},{"$f":"名簿!Q101","v":""},{"$f":"名簿!Y101","v":""},{"$f":"名簿!CN101","v":""},{"$f":"名簿!CP101","v":0},{"$f":"名簿!CU101","v":"00"},{"$f":"名簿!CU101","v":"00"},{"$f":"名簿!D101","v":0},null,{"$f":"IF(N104=\"\",\"\",IF(H104=1,VLOOKUP(N104,男子種目コード!$V$23:$W$25,2,FALSE),IF(H104=2,VLOOKUP(N104,女子種目コード!$V$23:$W$25,2,FALSE))))","v":""},{"$f":"IF(N104=\"\",\"\",HLOOKUP(N104,名簿!$AH$3:$CH$118,99,FALSE))","v":""},0,"中学","0中学",null,null,null,null,null,null,null,null,null,0,null,null,null,""]
[null,{"$f":"名簿!E102","v":0},{"$f":"名簿!CM102","v":""},{"$f":"名簿!CM102","v":""},{"$f":"名簿!Z102","v":""},{"$f":"名簿!P102","v":""},{"$f":"名簿!Q102","v":""},{"$f":"名簿!Y102","v":""},{"$f":"名簿!CN102","v":""},{"$f":"名簿!CP102","v":0},{"$f":"名簿!CU102","v":"00"},{"$f":"名簿!CU102","v":"00"},{"$f":"名簿!D102","v":0},null,{"$f":"IF(N105=\"\",\"\",IF(H105=1,VLOOKUP(N105,男子種目コード!$V$23:$W$25,2,FALSE),IF(H105=2,VLOOKUP(N105,女子種目コード!$V$23:$W$25,2,FALSE))))","v":""},{"$f":"IF(N105=\"\",\"\",HLOOKUP(N105,名簿!$AH$3:$CH$118,100,FALSE))","v":""},0,"中学","0中学",null,null,null,null,null,null,null,null,null,0,null,null,null,""]
[null,{"$f":"名簿!E103","v":0},{"$f":"名簿!CM103","v":""},{"$f":"名簿!CM103","v":""},{"$f":"名簿!Z103","v":""},{"$f":"名簿!P103","v":""},{"$f":"名簿!Q103","v":""},{"$f":"名簿!Y103","v":""},{"$f":"名簿!CN103","v":""},{"$f":"名簿!CP103","v":0},{"$f":"名簿!CU103","v":"00"},{"$f":"名簿!CU103","v":"00"},{"$f":"名簿!D103","v":0},null,{"$f":"IF(N106=\"\",\"\",IF(H106=1,VLOOKUP(N106,男子種目コード!$V$23:$W$25,2,FALSE),IF(H106=2,VLOOKUP(N106,女子種目コード!$V$23:$W$25,2,FALSE))))","v":""},{"$f":"IF(N106=\"\",\"\",HLOOKUP(N106,名簿!$AH$3:$CH$118,101,FALSE))","v":""},0,"中学","0中学",null,null,null,null,null,null,null,null,null,0,null,null,null,""]
[null,{"$f":"名簿!E104","v":0},{"$f":"名簿!CM104","v":""},{"$f":"名簿!CM104","v":""},{"$f":"名簿!Z104","v":""},{"$f":"名簿!P104","v":""},{"$f":"名簿!Q104","v":""},{"$f":"名簿!Y104","v":""},{"$f":"名簿!CN104","v":""},{"$f":"名簿!CP104","v":0},{"$f":"名簿!CU104","v":"00"},{"$f":"名簿!CU104","v":"00"},{"$f":"名簿!D104","v":0},null,{"$f":"IF(N107=\"\",\"\",IF(H107=1,VLOOKUP(N107,男子種目コード!$V$23:$W$25,2,FALSE),IF(H107=2,VLOOKUP(N107,女子種目コード!$V$23:$W$25,2,FALSE))))","v":""},{"$f":"IF(N107=\"\",\"\",HLOOKUP(N107,名簿!$AH$3:$CH$118,102,FALSE))","v":""},0,"中学","0中学",null,null,null,null,null,null,null,null,null,0,null,null,null,""]
[null,{"$f":"名簿!E105","v":0},{"$f":"名簿!CM105","v":""},{"$f":"名簿!CM105","v":""},{"$f":"名簿!Z105","v":""},{"$f":"名簿!P105","v":""},{"$f":"名簿!Q105","v":""},{"$f":"名簿!Y105","v":""},{"$f":"名簿!CN105","v":""},{"$f":"名簿!CP105","v":0},{"$f":"名簿!CU105","v":"00"},{"$f":"名簿!CU105","v":"00"},{"$f":"名簿!D105","v":0},null,{"$f":"IF(N108=\"\",\"\",IF(H108=1,VLOOKUP(N108,男子種目コード!$V$23:$W$25,2,FALSE),IF(H108=2,VLOOKUP(N108,女子種目コード!$V$23:$W$25,2,FALSE))))","v":""},{"$f":"IF(N108=\"\",\"\",HLOOKUP(N108,名簿!$AH$3:$CH$118,103,FALSE))","v":""},0,"中学","0中学",null,null,null,null,null,null,null,null,null,0,null,null,null,""]
[null,{"$f":"名簿!E106","v":0},{"$f":"名簿!CM106","v":""},{"$f":"名簿!CM106","v":""},{"$f":"名簿!Z106","v":""},{"$f":"名簿!P106","v":""},{"$f":"名簿!Q106","v":""},{"$f":"名簿!Y106","v":""},{"$f":"名簿!CN106","v":""},{"$f":"名簿!CP106","v":0},{"$f":"名簿!CU106","v":"00"},{"$f":"名簿!CU106","v":"00"},{"$f":"名簿!D106","v":0},null,{"$f":"IF(N109=\"\",\"\",IF(H109=1,VLOOKUP(N109,男子種目コード!$V$23:$W$25,2,FALSE),IF(H109=2,VLOOKUP(N109,女子種目コード!$V$23:$W$25,2,FALSE))))","v":""},{"$f":"IF(N109=\"\",\"\",HLOOKUP(N109,名簿!$AH$3:$CH$118,104,FALSE))","v":""},0,"中学","0中学",null,null,null,null,null,null,null,null,null,0,null,null,null,""]
[null,{"$f":"名簿!E107","v":0},{"$f":"名簿!CM107","v":""},{"$f":"名簿!CM107","v":""},{"$f":"名簿!Z107","v":""},{"$f":"名簿!P107","v":""},{"$f":"名簿!Q107","v":""},{"$f":"名簿!Y107","v":""},{"$f":"名簿!CN107","v":""},{"$f":"名簿!CP107","v":0},{"$f":"名簿!CU107","v":"00"},{"$f":"名簿!CU107","v":"00"},{"$f":"名簿!D107","v":0},null,{"$f":"IF(N110=\"\",\"\",IF(H110=1,VLOOKUP(N110,男子種目コード!$V$23:$W$25,2,FALSE),IF(H110=2,VLOOKUP(N110,女子種目コード!$V$23:$W$25,2,FALSE))))","v":""},{"$f":"IF(N110=\"\",\"\",HLOOKUP(N110,名簿!$AH$3:$CH$118,105,FALSE))","v":""},0,"中学","0中学",null,null,null,null,null,null,null,null,null,0,null,null,null,""]
[null,{"$f":"名簿!E108","v":0},{"$f":"名簿!CM108","v":""},{"$f":"名簿!CM108","v":""},{"$f":"名簿!Z108","v":""},{"$f":"名簿!P108","v":""},{"$f":"名簿!Q108","v":""},{"$f":"名簿!Y108","v":""},{"$f":"名簿!CN108","v":""},{"$f":"名簿!CP108","v":0},{"$f":"名簿!CU108","v":"00"},{"$f":"名簿!CU108","v":"00"},{"$f":"名簿!D108","v":0},null,{"$f":"IF(N111=\"\",\"\",IF(H111=1,VLOOKUP(N111,男子種目コード!$V$23:$W$25,2,FALSE),IF(H111=2,VLOOKUP(N111,女子種目コード!$V$23:$W$25,2,FALSE))))","v":""},{"$f":"IF(N111=\"\",\"\",HLOOKUP(N111,名簿!$AH$3:$CH$118,106,FALSE))","v":""},0,"中学","0中学",null,null,null,null,null,null,null,null,null,0,null,null,null,""]
[null,{"$f":"名簿!E109","v":0},{"$f":"名簿!CM109","v":""},{"$f":"名簿!CM109","v":""},{"$f":"名簿!Z109","v":""},{"$f":"名簿!P109","v":""},{"$f":"名簿!Q109","v":""},{"$f":"名簿!Y109","v":""},{"$f":"名簿!CN109","v":""},{"$f":"名簿!CP109","v":0},{"$f":"名簿!CU109","v":"00"},{"$f":"名簿!CU109","v":"00"},{"$f":"名簿!D109","v":0},null,{"$f":"IF(N112=\"\",\"\",IF(H112=1,VLOOKUP(N112,男子種目コード!$V$23:$W$25,2,FALSE),IF(H112=2,VLOOKUP(N112,女子種目コード!$V$23:$W$25,2,FALSE))))","v":""},{"$f":"IF(N112=\"\",\"\",HLOOKUP(N112,名簿!$AH$3:$CH$118,107,FALSE))","v":""},0,"中学","0中学",null,null,null,null,null,null,null,null,null,0,null,null,null,""]
[null,{"$f":"名簿!E110","v":0},{"$f":"名簿!CM110","v":""},{"$f":"名簿!CM110","v":""},{"$f":"名簿!Z110","v":""},{"$f":"名簿!P110","v":""},{"$f":"名簿!Q110","v":""},{"$f":"名簿!Y110","v":""},{"$f":"名簿!CN110","v":""},{"$f":"名簿!CP110","v":0},{"$f":"名簿!CU110","v":"00"},{"$f":"名簿!CU110","v":"00"},{"$f":"名簿!D110","v":0},null,{"$f":"IF(N113=\"\",\"\",IF(H113=1,VLOOKUP(N113,男子種目コード!$V$23:$W$25,2,FALSE),IF(H113=2,VLOOKUP(N113,女子種目コード!$V$23:$W$25,2,FALSE))))","v":""},{"$f":"IF(N113=\"\",\"\",HLOOKUP(N113,名簿!$AH$3:$CH$118,108,FALSE))","v":""},0,"中学","0中学",null,null,null,null,null,null,null,null,null,0,null,null,null,""]
[null,{"$f":"名簿!E111","v":0},{"$f":"名簿!CM111","v":""},{"$f":"名簿!CM111","v":""},{"$f":"名簿!Z111","v":""},{"$f":"名簿!P111","v":""},{"$f":"名簿!Q111","v":""},{"$f":"名簿!Y111","v":""},{"$f":"名簿!CN111","v":""},{"$f":"名簿!CP111","v":0},{"$f":"名簿!CU111","v":"00"},{"$f":"名簿!CU111","v":"00"},{"$f":"名簿!D111","v":0},null,{"$f":"IF(N114=\"\",\"\",IF(H114=1,VLOOKUP(N114,男子種目コード!$V$23:$W$25,2,FALSE),IF(H114=2,VLOOKUP(N114,女子種目コード!$V$23:$W$25,2,FALSE))))","v":""},{"$f":"IF(N114=\"\",\"\",HLOOKUP(N114,名簿!$AH$3:$CH$118,109,FALSE))","v":""},0,"中学","0中学",null,null,null,null,null,null,null,null,null,0,null,null,null,""]
[null,{"$f":"名簿!E112","v":0},{"$f":"名簿!CM112","v":""},{"$f":"名簿!CM112","v":""},{"$f":"名簿!Z112","v":""},{"$f":"名簿!P112","v":""},{"$f":"名簿!Q112","v":""},{"$f":"名簿!Y112","v":""},{"$f":"名簿!CN112","v":""},{"$f":"名簿!CP112","v":0},{"$f":"名簿!CU112","v":"00"},{"$f":"名簿!CU112","v":"00"},{"$f":"名簿!D112","v":0},null,{"$f":"IF(N115=\"\",\"\",IF(H115=1,VLOOKUP(N115,男子種目コード!$V$23:$W$25,2,FALSE),IF(H115=2,VLOOKUP(N115,女子種目コード!$V$23:$W$25,2,FALSE))))","v":""},{"$f":"IF(N115=\"\",\"\",HLOOKUP(N115,名簿!$AH$3:$CH$118,110,FALSE))","v":""},0,"中学","0中学",null,null,null,null,null,null,null,null,null,0,null,null,null,""]
[null,{"$f":"名簿!E113","v":0},{"$f":"名簿!CM113","v":""},{"$f":"名簿!CM113","v":""},{"$f":"名簿!Z113","v":""},{"$f":"名簿!P113","v":""},{"$f":"名簿!Q113","v":""},{"$f":"名簿!Y113","v":""},{"$f":"名簿!CN113","v":""},{"$f":"名簿!CP113","v":0},{"$f":"名簿!CU113","v":"00"},{"$f":"名簿!CU113","v":"00"},{"$f":"名簿!D113","v":0},null,{"$f":"IF(N116=\"\",\"\",IF(H116=1,VLOOKUP(N116,男子種目コード!$V$23:$W$25,2,FALSE),IF(H116=2,VLOOKUP(N116,女子種目コード!$V$23:$W$25,2,FALSE))))","v":""},{"$f":"IF(N116=\"\",\"\",HLOOKUP(N116,名簿!$AH$3:$CH$118,111,FALSE))","v":""},0,"中学","0中学",null,null,null,null,null,null,null,null,null,0,null,null,null,""]
[null,null,null,null,null,null,null,null,null,null,null,null,null,null,null,null,null,null,null,null,null,null,null,null,null,null,null,null,null,null,null,null,{"$f":"SUM(AG7:AG116)","v":0}]

{"sheet":"振込票貼付用紙","index":19,"n_rows":46,"n_cols":11,"rows_kept":46,"cut":false,"hidden":false,"merged":[[10,10,39,10],[0,0,0,9],[45,4,45,5],[46,4,46,5],[44,4,44,5],[44,6,44,7]]}
["大会参加料　振込票貼付用紙"]
[]
["大会名"]
[]
["所属名",null,{"$f":"IF(名簿!O4=\"\",\"\",名簿!O4)","v":0},null,null,null,null,null,{"$f":"名簿!P4","v":{"$error":"#N/A"}}]
[]
["責任者",null,{"$f":"IF(名簿!D1=\"\",\"\",名簿!D1)","v":""},null,null,"連絡先",{"$f":"IF(名簿!I1=\"\",\"\",名簿!I1)","v":""}]
[]
[]
[]
[null,null,null,null,null,null,null,null,null,null,"メニューへ戻り上書き保存して下さい"]
[]
[]
[]
[]
[]
[]
[]
[]
[]
[]
[]
[]
[]
[]
[]
[]
[]
[]
[]
[]
[]
[]
[]
[]
[]
[]
[]
[]
[]
[]
[]
[null,"人数(種目)",null,0]
[]
[null,"リレー"]
[null,null,null,null,"参加費合計",null,0,null,"円"]

{"sheet":"男子一覧表","index":20,"n_rows":81,"n_cols":29,"rows_kept":81,"cut":false,"hidden":false,"merged":[[1,0,1,1],[3,0,3,2],[3,3,3,8],[4,0,5,2],[4,8,5,8],[2,0,2,1],[10,10,10,12],[8,9,8,13],[6,0,7,2],[6,3,8,6],[8,0,8,2],[9,0,10,0],[9,2,10,2],[9,1,10,1],[9,3,10,4],[9,5,10,5],[13,3,13,4],[10,7,10,9],[11,3,11,4],[14,3,14,4],[2,9,2,13],[4,3,5,7],[6,7,8,7],[12,3,12,4],[9,6,10,6],[4,9,5,11],[4,12,5,12],[4,13,5,13],[9,8,9,12],[7,9,7,13],[43,9,43,13],[44,3,44,8],[36,3,36,4],[34,3,34,4],[39,12,39,13],[21,3,21,4],[37,11,37,13],[32,3,32,4],[15,3,15,4],[16,3,16,4],[17,3,17,4],[49,0,49,2],[47,3,49,6],[44,0,44,2],[29,3,29,4],[20,3,20,4],[28,3,28,4],[25,3,25,4],[18,3,18,4],[22,3,22,4],[23,3,23,4],[19,3,19,4],[24,3,24,4],[27,3,27,4],[26,3,26,4],[30,3,30,4],[42,0,42,1],[43,0,43,1],[31,3,31,4],[35,3,35,4],[33,3,33,4],[54,3,54,4],[67,3,67,4],[45,0,46,2],[57,3,57,4],[56,3,56,4],[55,3,55,4],[45,12,46,12],[51,10,51,12],[45,3,46,7],[45,9,46,11],[50,8,50,12],[47,9,47,11],[48,9,48,13],[47,7,49,7],[49,9,49,13],[51,7,51,9],[45,13,46,13],[45,8,46,8],[52,3,52,4],[53,3,53,4],[50,0,51,0],[50,1,51,1],[50,2,51,2],[47,0,48,2],[65,3,65,4],[63,3,63,4],[58,3,58,4],[50,3,51,4],[61,3,61,4],[60,3,60,4],[78,11,78,13],[80,12,80,13],[76,3,76,4],[77,3,77,4],[68,3,68,4],[69,3,69,4],[50,5,51,5],[50,6,51,6],[75,3,75,4],[70,3,70,4],[71,3,71,4],[72,3,72,4],[73,3,73,4],[74,3,74,4],[64,3,64,4],[66,3,66,4],[62,3,62,4],[59,3,59,4]]}
[null,null,null,null,null,"陸上競技大会申込者一覧表",null,null,null,null,null,null,null,"様式③",null,null,null,null,null,null,null,null,null,null,null,null,"中学生"]
["様式③",null,null,null,null,null,null,null,null,null,null,"参加料",null,"円",null,null,null,null,null,null,null,null,null,null,null,null,"1年"]
["男子",null,null,null,null,null,null,null,"大会名",null,null,null,null,null,null,null,null,null,null,null,null,null,null,null,null,null,"2年"]
["※女子は別紙に記入願います。",null,null,null,null,null,null,null,null,null,null,null,null,null,null,null,null,null,null,null,null,null,null,null,null,null,"3年"]
["所属団体名",null,null,"所属長名・印",null,null,null,null,"監督名",{"$f":"IF(名簿!$D$1=\"\",\"\",名簿!$D$1)","v":""},null,null,"所属　　コード",{"$f":"名簿!C4","v":0},null,null,null,null,null,null,null,null,null,null,null,null,"共通"]
[]
[{"$f":"IF(名簿!$O$4=\"\",\"\",名簿!$O$4)","v":0},null,null,null,null,null,null,"印","監督連絡",{"$f":"IF(名簿!$I$1=\"\",\"\",名簿!I1)","v":""},null,null,"FAX"]
[null,null,null,null,null,null,null,null,"携帯電話",{"$f":"J7","v":""}]
["略称５文字以内で",null,null,null,null,null,null,null,"mailアドレス"]
[null,"NO","競技者名（漢字）","学年",null,"競技者名（カナ）","姓",null,"種目",null,null,null,null,"リレー",null,null,null,null,null,null,null,null,null,null,null,null,"100m",null,"400R　A"]
[null,null,null,null,null,null,null,"種目１",null,null,"種目２",null,null,null,null,null,null,null,null,null,null,null,null,null,null,null,"200m",null,"400R　B"]
["※","記入例","三重太郎",3,null,"ﾐｴﾀﾛｳ","男","中学","100ｍ","記録","中学","200m","記録","4×100R",null,null,null,null,null,null,null,null,null,null,null,null,"400m",null,"400R　C"]
[1,null,{"$f":"IF(B13=\"\",\"\",VLOOKUP(B13,名簿!$E$4:$J$184,3,FALSE))","v":""},{"$f":"IF(B13=\"\",\"\",VLOOKUP(B13,名簿!$E$4:$J$184,5,FALSE))","v":""},null,{"$f":"IF(B13=\"\",\"\",VLOOKUP(B13,名簿!$E$4:$W$184,4,FALSE))","v":""},{"$f":"IF(B13=\"\",\"\",VLOOKUP(B13,名簿!$E$4:$J$184,6,FALSE))","v":""},null,null,null,null,null,null,null,null,null,null,null,null,null,null,null,null,null,{"$f":"CONCATENATE(H13,I13)","v":""},{"$f":"CONCATENATE(K13,L13)","v":""},"800m",null,"400R　D"]
[2,null,{"$f":"IF(B14=\"\",\"\",VLOOKUP(B14,名簿!$E$4:$J$184,3,FALSE))","v":""},{"$f":"IF(B14=\"\",\"\",VLOOKUP(B14,名簿!$E$4:$J$184,5,FALSE))","v":""},null,{"$f":"IF(B14=\"\",\"\",VLOOKUP(B14,名簿!$E$4:$W$184,4,FALSE))","v":""},{"$f":"IF(B14=\"\",\"\",VLOOKUP(B14,名簿!$E$4:$J$184,6,FALSE))","v":""},null,null,null,null,null,null,null,null,null,null,null,null,null,null,null,null,null,"","","1500m",null,"800R　A"]
[3,null,{"$f":"IF(B15=\"\",\"\",VLOOKUP(B15,名簿!$E$4:$J$184,3,FALSE))","v":""},{"$f":"IF(B15=\"\",\"\",VLOOKUP(B15,名簿!$E$4:$J$184,5,FALSE))","v":""},null,{"$f":"IF(B15=\"\",\"\",VLOOKUP(B15,名簿!$E$4:$W$184,4,FALSE))","v":""},{"$f":"IF(B15=\"\",\"\",VLOOKUP(B15,名簿!$E$4:$J$184,6,FALSE))","v":""},null,null,null,null,null,null,null,null,null,null,null,null,null,null,null,null,null,"","","2000m",null,"800R　B"]
[4,null,{"$f":"IF(B16=\"\",\"\",VLOOKUP(B16,名簿!$E$4:$J$184,3,FALSE))","v":""},{"$f":"IF(B16=\"\",\"\",VLOOKUP(B16,名簿!$E$4:$J$184,5,FALSE))","v":""},null,{"$f":"IF(B16=\"\",\"\",VLOOKUP(B16,名簿!$E$4:$W$184,4,FALSE))","v":""},{"$f":"IF(B16=\"\",\"\",VLOOKUP(B16,名簿!$E$4:$J$184,6,FALSE))","v":""},null,null,null,null,null,null,null,null,null,null,null,null,null,null,null,null,null,"","","3000m",null,"800R　C"]
[5,null,{"$f":"IF(B17=\"\",\"\",VLOOKUP(B17,名簿!$E$4:$J$184,3,FALSE))","v":""},{"$f":"IF(B17=\"\",\"\",VLOOKUP(B17,名簿!$E$4:$J$184,5,FALSE))","v":""},null,{"$f":"IF(B17=\"\",\"\",VLOOKUP(B17,名簿!$E$4:$W$184,4,FALSE))","v":""},{"$f":"IF(B17=\"\",\"\",VLOOKUP(B17,名簿!$E$4:$J$184,6,FALSE))","v":""},null,null,null,null,null,null,null,null,null,null,null,null,null,null,null,null,null,"","","5000m",null,"800R　D"]
[6,null,{"$f":"IF(B18=\"\",\"\",VLOOKUP(B18,名簿!$E$4:$J$184,3,FALSE))","v":""},{"$f":"IF(B18=\"\",\"\",VLOOKUP(B18,名簿!$E$4:$J$184,5,FALSE))","v":""},null,{"$f":"IF(B18=\"\",\"\",VLOOKUP(B18,名簿!$E$4:$W$184,4,FALSE))","v":""},{"$f":"IF(B18=\"\",\"\",VLOOKUP(B18,名簿!$E$4:$J$184,6,FALSE))","v":""},null,null,null,null,null,null,null,null,null,null,null,null,null,null,null,null,null,"","","110mJH",null,"低学年　A"]
[7,null,{"$f":"IF(B19=\"\",\"\",VLOOKUP(B19,名簿!$E$4:$J$184,3,FALSE))","v":""},{"$f":"IF(B19=\"\",\"\",VLOOKUP(B19,名簿!$E$4:$J$184,5,FALSE))","v":""},null,{"$f":"IF(B19=\"\",\"\",VLOOKUP(B19,名簿!$E$4:$W$184,4,FALSE))","v":""},{"$f":"IF(B19=\"\",\"\",VLOOKUP(B19,名簿!$E$4:$J$184,6,FALSE))","v":""},null,null,null,null,null,null,null,null,null,null,null,null,null,null,null,null,null,"","","110mMH",null,"低学年　B"]
[8,null,{"$f":"IF(B20=\"\",\"\",VLOOKUP(B20,名簿!$E$4:$J$184,3,FALSE))","v":""},{"$f":"IF(B20=\"\",\"\",VLOOKUP(B20,名簿!$E$4:$J$184,5,FALSE))","v":""},null,{"$f":"IF(B20=\"\",\"\",VLOOKUP(B20,名簿!$E$4:$W$184,4,FALSE))","v":""},{"$f":"IF(B20=\"\",\"\",VLOOKUP(B20,名簿!$E$4:$J$184,6,FALSE))","v":""},null,null,null,null,null,null,null,null,null,null,null,null,null,null,null,null,null,"","","100mH",null,"低学年　C"]
[9,null,{"$f":"IF(B21=\"\",\"\",VLOOKUP(B21,名簿!$E$4:$J$184,3,FALSE))","v":""},{"$f":"IF(B21=\"\",\"\",VLOOKUP(B21,名簿!$E$4:$J$184,5,FALSE))","v":""},null,{"$f":"IF(B21=\"\",\"\",VLOOKUP(B21,名簿!$E$4:$W$184,4,FALSE))","v":""},{"$f":"IF(B21=\"\",\"\",VLOOKUP(B21,名簿!$E$4:$J$184,6,FALSE))","v":""},null,null,null,null,null,null,null,null,null,null,null,null,null,null,null,null,null,"","","走高跳",null,"低学年　D"]
[10,null,{"$f":"IF(B22=\"\",\"\",VLOOKUP(B22,名簿!$E$4:$J$184,3,FALSE))","v":""},{"$f":"IF(B22=\"\",\"\",VLOOKUP(B22,名簿!$E$4:$J$184,5,FALSE))","v":""},null,{"$f":"IF(B22=\"\",\"\",VLOOKUP(B22,名簿!$E$4:$W$184,4,FALSE))","v":""},{"$f":"IF(B22=\"\",\"\",VLOOKUP(B22,名簿!$E$4:$J$184,6,FALSE))","v":""},null,null,null,null,null,null,null,null,null,null,null,null,null,null,null,null,null,"","","棒高跳"]
[11,null,{"$f":"IF(B23=\"\",\"\",VLOOKUP(B23,名簿!$E$4:$J$184,3,FALSE))","v":""},{"$f":"IF(B23=\"\",\"\",VLOOKUP(B23,名簿!$E$4:$J$184,5,FALSE))","v":""},null,{"$f":"IF(B23=\"\",\"\",VLOOKUP(B23,名簿!$E$4:$W$184,4,FALSE))","v":""},{"$f":"IF(B23=\"\",\"\",VLOOKUP(B23,名簿!$E$4:$J$184,6,FALSE))","v":""},null,null,null,null,null,null,null,null,null,null,null,null,null,null,null,null,null,"","","走幅跳"]
[12,null,{"$f":"IF(B24=\"\",\"\",VLOOKUP(B24,名簿!$E$4:$J$184,3,FALSE))","v":""},{"$f":"IF(B24=\"\",\"\",VLOOKUP(B24,名簿!$E$4:$J$184,5,FALSE))","v":""},null,{"$f":"IF(B24=\"\",\"\",VLOOKUP(B24,名簿!$E$4:$W$184,4,FALSE))","v":""},{"$f":"IF(B24=\"\",\"\",VLOOKUP(B24,名簿!$E$4:$J$184,6,FALSE))","v":""},null,null,null,null,null,null,null,null,null,null,null,null,null,null,null,null,null,"","","三段跳"]
[13,null,{"$f":"IF(B25=\"\",\"\",VLOOKUP(B25,名簿!$E$4:$J$184,3,FALSE))","v":""},{"$f":"IF(B25=\"\",\"\",VLOOKUP(B25,名簿!$E$4:$J$184,5,FALSE))","v":""},null,{"$f":"IF(B25=\"\",\"\",VLOOKUP(B25,名簿!$E$4:$W$184,4,FALSE))","v":""},{"$f":"IF(B25=\"\",\"\",VLOOKUP(B25,名簿!$E$4:$J$184,6,FALSE))","v":""},null,null,null,null,null,null,null,null,null,null,null,null,null,null,null,null,null,"","","砲丸投"]
[14,null,{"$f":"IF(B26=\"\",\"\",VLOOKUP(B26,名簿!$E$4:$J$184,3,FALSE))","v":""},{"$f":"IF(B26=\"\",\"\",VLOOKUP(B26,名簿!$E$4:$J$184,5,FALSE))","v":""},null,{"$f":"IF(B26=\"\",\"\",VLOOKUP(B26,名簿!$E$4:$W$184,4,FALSE))","v":""},{"$f":"IF(B26=\"\",\"\",VLOOKUP(B26,名簿!$E$4:$J$184,6,FALSE))","v":""},null,null,null,null,null,null,null,null,null,null,null,null,null,null,null,null,null,"","","円盤投"]
[15,null,{"$f":"IF(B27=\"\",\"\",VLOOKUP(B27,名簿!$E$4:$J$184,3,FALSE))","v":""},{"$f":"IF(B27=\"\",\"\",VLOOKUP(B27,名簿!$E$4:$J$184,5,FALSE))","v":""},null,{"$f":"IF(B27=\"\",\"\",VLOOKUP(B27,名簿!$E$4:$W$184,4,FALSE))","v":""},{"$f":"IF(B27=\"\",\"\",VLOOKUP(B27,名簿!$E$4:$J$184,6,FALSE))","v":""},null,null,null,null,null,null,null,null,null,null,null,null,null,null,null,null,null,"","","ｼﾞｬﾍﾞﾘｯｸ"]
[16,null,{"$f":"IF(B28=\"\",\"\",VLOOKUP(B28,名簿!$E$4:$J$184,3,FALSE))","v":""},{"$f":"IF(B28=\"\",\"\",VLOOKUP(B28,名簿!$E$4:$J$184,5,FALSE))","v":""},null,{"$f":"IF(B28=\"\",\"\",VLOOKUP(B28,名簿!$E$4:$W$184,4,FALSE))","v":""},{"$f":"IF(B28=\"\",\"\",VLOOKUP(B28,名簿!$E$4:$J$184,6,FALSE))","v":""},null,null,null,null,null,null,null,null,null,null,null,null,null,null,null,null,null,"","","4種競技"]
[17,null,{"$f":"IF(B29=\"\",\"\",VLOOKUP(B29,名簿!$E$4:$J$184,3,FALSE))","v":""},{"$f":"IF(B29=\"\",\"\",VLOOKUP(B29,名簿!$E$4:$J$184,5,FALSE))","v":""},null,{"$f":"IF(B29=\"\",\"\",VLOOKUP(B29,名簿!$E$4:$W$184,4,FALSE))","v":""},{"$f":"IF(B29=\"\",\"\",VLOOKUP(B29,名簿!$E$4:$J$184,6,FALSE))","v":""},null,null,null,null,null,null,null,null,null,null,null,null,null,null,null,null,null,"",""]
[18,null,{"$f":"IF(B30=\"\",\"\",VLOOKUP(B30,名簿!$E$4:$J$184,3,FALSE))","v":""},{"$f":"IF(B30=\"\",\"\",VLOOKUP(B30,名簿!$E$4:$J$184,5,FALSE))","v":""},null,{"$f":"IF(B30=\"\",\"\",VLOOKUP(B30,名簿!$E$4:$W$184,4,FALSE))","v":""},{"$f":"IF(B30=\"\",\"\",VLOOKUP(B30,名簿!$E$4:$J$184,6,FALSE))","v":""},null,null,null,null,null,null,null,null,null,null,null,null,null,null,null,null,null,"",""]
[19,null,{"$f":"IF(B31=\"\",\"\",VLOOKUP(B31,名簿!$E$4:$J$184,3,FALSE))","v":""},{"$f":"IF(B31=\"\",\"\",VLOOKUP(B31,名簿!$E$4:$J$184,5,FALSE))","v":""},null,{"$f":"IF(B31=\"\",\"\",VLOOKUP(B31,名簿!$E$4:$W$184,4,FALSE))","v":""},{"$f":"IF(B31=\"\",\"\",VLOOKUP(B31,名簿!$E$4:$J$184,6,FALSE))","v":""},null,null,null,null,null,null,null,null,null,null,null,null,null,null,null,null,null,"",""]
[20,null,{"$f":"IF(B32=\"\",\"\",VLOOKUP(B32,名簿!$E$4:$J$184,3,FALSE))","v":""},{"$f":"IF(B32=\"\",\"\",VLOOKUP(B32,名簿!$E$4:$J$184,5,FALSE))","v":""},null,{"$f":"IF(B32=\"\",\"\",VLOOKUP(B32,名簿!$E$4:$W$184,4,FALSE))","v":""},{"$f":"IF(B32=\"\",\"\",VLOOKUP(B32,名簿!$E$4:$J$184,6,FALSE))","v":""},null,null,null,null,null,null,null,null,null,null,null,null,null,null,null,null,null,"",""]
[21,null,{"$f":"IF(B33=\"\",\"\",VLOOKUP(B33,名簿!$E$4:$J$184,3,FALSE))","v":""},{"$f":"IF(B33=\"\",\"\",VLOOKUP(B33,名簿!$E$4:$J$184,5,FALSE))","v":""},null,{"$f":"IF(B33=\"\",\"\",VLOOKUP(B33,名簿!$E$4:$W$184,4,FALSE))","v":""},{"$f":"IF(B33=\"\",\"\",VLOOKUP(B33,名簿!$E$4:$J$184,6,FALSE))","v":""},null,null,null,null,null,null,null,null,null,null,null,null,null,null,null,null,null,"",""]
[22,null,{"$f":"IF(B34=\"\",\"\",VLOOKUP(B34,名簿!$E$4:$J$184,3,FALSE))","v":""},{"$f":"IF(B34=\"\",\"\",VLOOKUP(B34,名簿!$E$4:$J$184,5,FALSE))","v":""},null,{"$f":"IF(B34=\"\",\"\",VLOOKUP(B34,名簿!$E$4:$W$184,4,FALSE))","v":""},{"$f":"IF(B34=\"\",\"\",VLOOKUP(B34,名簿!$E$4:$J$184,6,FALSE))","v":""},null,null,null,null,null,null,null,null,null,null,null,null,null,null,null,null,null,"",""]
[23,null,{"$f":"IF(B35=\"\",\"\",VLOOKUP(B35,名簿!$E$4:$J$184,3,FALSE))","v":""},{"$f":"IF(B35=\"\",\"\",VLOOKUP(B35,名簿!$E$4:$J$184,5,FALSE))","v":""},null,{"$f":"IF(B35=\"\",\"\",VLOOKUP(B35,名簿!$E$4:$W$184,4,FALSE))","v":""},{"$f":"IF(B35=\"\",\"\",VLOOKUP(B35,名簿!$E$4:$J$184,6,FALSE))","v":""},null,null,null,null,null,null,null,null,null,null,null,null,null,null,null,null,null,"",""]
[24,null,{"$f":"IF(B36=\"\",\"\",VLOOKUP(B36,名簿!$E$4:$J$184,3,FALSE))","v":""},{"$f":"IF(B36=\"\",\"\",VLOOKUP(B36,名簿!$E$4:$J$184,5,FALSE))","v":""},null,{"$f":"IF(B36=\"\",\"\",VLOOKUP(B36,名簿!$E$4:$W$184,4,FALSE))","v":""},{"$f":"IF(B36=\"\",\"\",VLOOKUP(B36,名簿!$E$4:$J$184,6,FALSE))","v":""},null,null,null,null,null,null,null,null,null,null,null,null,null,null,null,null,null,"",""]
[25,null,{"$f":"IF(B37=\"\",\"\",VLOOKUP(B37,名簿!$E$4:$J$184,3,FALSE))","v":""},{"$f":"IF(B37=\"\",\"\",VLOOKUP(B37,名簿!$E$4:$J$184,5,FALSE))","v":""},null,{"$f":"IF(B37=\"\",\"\",VLOOKUP(B37,名簿!$E$4:$W$184,4,FALSE))","v":""},{"$f":"IF(B37=\"\",\"\",VLOOKUP(B37,名簿!$E$4:$J$184,6,FALSE))","v":""},null,null,null,null,null,null,null,null,null,null,null,null,null,null,null,null,null,"",""]
[null,null,null,null,null,null,null,null,null,null,null,"公認記録がない場合は記入しない"]
[]
[null,null,null,null,null,null,null,null,null,null,null,null,"三重陸上競技協会"]
[null,null,null,null,null,null,null,null,null,null,null,{"$f":"(O38+P38+Q38)*1000+(O40+P40)*2000","v":0}]
[null,null,null,null,null,"陸上競技大会申込者一覧表",null,null,null,null,null,null,null,"様式③"]
["様式③",null,null,null,null,null,null,null,null,null,null,"参加料",null,"円"]
["男子",null,null,null,null,null,null,null,"大会名"]
["※女子は別紙に記入願います。"]
["所属団体名",null,null,"所属長名・印",null,null,null,null,"監督名",{"$f":"名簿!$Q$1","v":0},null,null,"所属　　コード",{"$f":"名簿!C4","v":0}]
[]
[{"$f":"名簿!$O$4","v":0},null,null,null,null,null,null,"印","監督連絡",{"$f":"名簿!$I$1","v":0},null,null,"FAX"]
[null,null,null,null,null,null,null,null,"携帯電話",{"$f":"J48","v":0}]
["略称５文字以内で",null,null,null,null,null,null,null,"mailアドレス"]
[null,"NO","競技者名（漢字）","学年",null,"競技者名（カナ）","姓",null,"種目",null,null,null,null,"リレー"]
[null,null,null,null,null,null,null,"種目１",null,null,"種目２"]
["※","記入例","三重太郎",3,null,"ﾐｴﾀﾛｳ","男","中学","100ｍ","記録","中学","200m","記録","4×100R"]
[26,null,{"$f":"IF(B54=\"\",\"\",VLOOKUP(B54,名簿!$E$4:$J$184,3,FALSE))","v":""},{"$f":"IF(B54=\"\",\"\",VLOOKUP(B54,名簿!$E$4:$J$184,5,FALSE))","v":""},null,{"$f":"IF(B54=\"\",\"\",VLOOKUP(B54,名簿!$E$4:$W$184,4,FALSE))","v":""},{"$f":"IF(B54=\"\",\"\",VLOOKUP(B54,名簿!$E$4:$J$184,6,FALSE))","v":""},null,null,null,null,null,null,null,null,null,null,null,null,null,null,null,null,null,{"$f":"CONCATENATE(H54,I54)","v":""},{"$f":"CONCATENATE(K54,L54)","v":""}]
[27,null,{"$f":"IF(B55=\"\",\"\",VLOOKUP(B55,名簿!$E$4:$J$184,3,FALSE))","v":""},{"$f":"IF(B55=\"\",\"\",VLOOKUP(B55,名簿!$E$4:$J$184,5,FALSE))","v":""},null,{"$f":"IF(B55=\"\",\"\",VLOOKUP(B55,名簿!$E$4:$W$184,4,FALSE))","v":""},{"$f":"IF(B55=\"\",\"\",VLOOKUP(B55,名簿!$E$4:$J$184,6,FALSE))","v":""},null,null,null,null,null,null,null,null,null,null,null,null,null,null,null,null,null,"",""]
[28,null,{"$f":"IF(B56=\"\",\"\",VLOOKUP(B56,名簿!$E$4:$J$184,3,FALSE))","v":""},{"$f":"IF(B56=\"\",\"\",VLOOKUP(B56,名簿!$E$4:$J$184,5,FALSE))","v":""},null,{"$f":"IF(B56=\"\",\"\",VLOOKUP(B56,名簿!$E$4:$W$184,4,FALSE))","v":""},{"$f":"IF(B56=\"\",\"\",VLOOKUP(B56,名簿!$E$4:$J$184,6,FALSE))","v":""},null,null,null,null,null,null,null,null,null,null,null,null,null,null,null,null,null,"",""]
[29,null,{"$f":"IF(B57=\"\",\"\",VLOOKUP(B57,名簿!$E$4:$J$184,3,FALSE))","v":""},{"$f":"IF(B57=\"\",\"\",VLOOKUP(B57,名簿!$E$4:$J$184,5,FALSE))","v":""},null,{"$f":"IF(B57=\"\",\"\",VLOOKUP(B57,名簿!$E$4:$W$184,4,FALSE))","v":""},{"$f":"IF(B57=\"\",\"\",VLOOKUP(B57,名簿!$E$4:$J$184,6,FALSE))","v":""},null,null,null,null,null,null,null,null,null,null,null,null,null,null,null,null,null,"",""]
[30,null,{"$f":"IF(B58=\"\",\"\",VLOOKUP(B58,名簿!$E$4:$J$184,3,FALSE))","v":""},{"$f":"IF(B58=\"\",\"\",VLOOKUP(B58,名簿!$E$4:$J$184,5,FALSE))","v":""},null,{"$f":"IF(B58=\"\",\"\",VLOOKUP(B58,名簿!$E$4:$W$184,4,FALSE))","v":""},{"$f":"IF(B58=\"\",\"\",VLOOKUP(B58,名簿!$E$4:$J$184,6,FALSE))","v":""},null,null,null,null,null,null,null,null,null,null,null,null,null,null,null,null,null,"",""]
[31,null,{"$f":"IF(B59=\"\",\"\",VLOOKUP(B59,名簿!$E$4:$J$184,3,FALSE))","v":""},{"$f":"IF(B59=\"\",\"\",VLOOKUP(B59,名簿!$E$4:$J$184,5,FALSE))","v":""},null,{"$f":"IF(B59=\"\",\"\",VLOOKUP(B59,名簿!$E$4:$W$184,4,FALSE))","v":""},{"$f":"IF(B59=\"\",\"\",VLOOKUP(B59,名簿!$E$4:$J$184,6,FALSE))","v":""},null,null,null,null,null,null,null,null,null,null,null,null,null,null,null,null,null,"",""]
[32,null,{"$f":"IF(B60=\"\",\"\",VLOOKUP(B60,名簿!$E$4:$J$184,3,FALSE))","v":""},{"$f":"IF(B60=\"\",\"\",VLOOKUP(B60,名簿!$E$4:$J$184,5,FALSE))","v":""},null,{"$f":"IF(B60=\"\",\"\",VLOOKUP(B60,名簿!$E$4:$W$184,4,FALSE))","v":""},{"$f":"IF(B60=\"\",\"\",VLOOKUP(B60,名簿!$E$4:$J$184,6,FALSE))","v":""},null,null,null,null,null,null,null,null,null,null,null,null,null,null,null,null,null,"",""]
[33,null,{"$f":"IF(B61=\"\",\"\",VLOOKUP(B61,名簿!$E$4:$J$184,3,FALSE))","v":""},{"$f":"IF(B61=\"\",\"\",VLOOKUP(B61,名簿!$E$4:$J$184,5,FALSE))","v":""},null,{"$f":"IF(B61=\"\",\"\",VLOOKUP(B61,名簿!$E$4:$W$184,4,FALSE))","v":""},{"$f":"IF(B61=\"\",\"\",VLOOKUP(B61,名簿!$E$4:$J$184,6,FALSE))","v":""},null,null,null,null,null,null,null,null,null,null,null,null,null,null,null,null,null,"",""]
[34,null,{"$f":"IF(B62=\"\",\"\",VLOOKUP(B62,名簿!$E$4:$J$184,3,FALSE))","v":""},{"$f":"IF(B62=\"\",\"\",VLOOKUP(B62,名簿!$E$4:$J$184,5,FALSE))","v":""},null,{"$f":"IF(B62=\"\",\"\",VLOOKUP(B62,名簿!$E$4:$W$184,4,FALSE))","v":""},{"$f":"IF(B62=\"\",\"\",VLOOKUP(B62,名簿!$E$4:$J$184,6,FALSE))","v":""},null,null,null,null,null,null,null,null,null,null,null,null,null,null,null,null,null,"",""]
[35,null,{"$f":"IF(B63=\"\",\"\",VLOOKUP(B63,名簿!$E$4:$J$184,3,FALSE))","v":""},{"$f":"IF(B63=\"\",\"\",VLOOKUP(B63,名簿!$E$4:$J$184,5,FALSE))","v":""},null,{"$f":"IF(B63=\"\",\"\",VLOOKUP(B63,名簿!$E$4:$W$184,4,FALSE))","v":""},{"$f":"IF(B63=\"\",\"\",VLOOKUP(B63,名簿!$E$4:$J$184,6,FALSE))","v":""},null,null,null,null,null,null,null,null,null,null,null,null,null,null,null,null,null,"",""]
[36,null,{"$f":"IF(B64=\"\",\"\",VLOOKUP(B64,名簿!$E$4:$J$184,3,FALSE))","v":""},{"$f":"IF(B64=\"\",\"\",VLOOKUP(B64,名簿!$E$4:$J$184,5,FALSE))","v":""},null,{"$f":"IF(B64=\"\",\"\",VLOOKUP(B64,名簿!$E$4:$W$184,4,FALSE))","v":""},{"$f":"IF(B64=\"\",\"\",VLOOKUP(B64,名簿!$E$4:$J$184,6,FALSE))","v":""},null,null,null,null,null,null,null,null,null,null,null,null,null,null,null,null,null,"",""]
[37,null,{"$f":"IF(B65=\"\",\"\",VLOOKUP(B65,名簿!$E$4:$J$184,3,FALSE))","v":""},{"$f":"IF(B65=\"\",\"\",VLOOKUP(B65,名簿!$E$4:$J$184,5,FALSE))","v":""},null,{"$f":"IF(B65=\"\",\"\",VLOOKUP(B65,名簿!$E$4:$W$184,4,FALSE))","v":""},{"$f":"IF(B65=\"\",\"\",VLOOKUP(B65,名簿!$E$4:$J$184,6,FALSE))","v":""},null,null,null,null,null,null,null,null,null,null,null,null,null,null,null,null,null,"",""]
[38,null,{"$f":"IF(B66=\"\",\"\",VLOOKUP(B66,名簿!$E$4:$J$184,3,FALSE))","v":""},{"$f":"IF(B66=\"\",\"\",VLOOKUP(B66,名簿!$E$4:$J$184,5,FALSE))","v":""},null,{"$f":"IF(B66=\"\",\"\",VLOOKUP(B66,名簿!$E$4:$W$184,4,FALSE))","v":""},{"$f":"IF(B66=\"\",\"\",VLOOKUP(B66,名簿!$E$4:$J$184,6,FALSE))","v":""},null,null,null,null,null,null,null,null,null,null,null,null,null,null,null,null,null,"",""]
[39,null,{"$f":"IF(B67=\"\",\"\",VLOOKUP(B67,名簿!$E$4:$J$184,3,FALSE))","v":""},{"$f":"IF(B67=\"\",\"\",VLOOKUP(B67,名簿!$E$4:$J$184,5,FALSE))","v":""},null,{"$f":"IF(B67=\"\",\"\",VLOOKUP(B67,名簿!$E$4:$W$184,4,FALSE))","v":""},{"$f":"IF(B67=\"\",\"\",VLOOKUP(B67,名簿!$E$4:$J$184,6,FALSE))","v":""},null,null,null,null,null,null,null,null,null,null,null,null,null,null,null,null,null,"",""]
[40,null,{"$f":"IF(B68=\"\",\"\",VLOOKUP(B68,名簿!$E$4:$J$184,3,FALSE))","v":""},{"$f":"IF(B68=\"\",\"\",VLOOKUP(B68,名簿!$E$4:$J$184,5,FALSE))","v":""},null,{"$f":"IF(B68=\"\",\"\",VLOOKUP(B68,名簿!$E$4:$W$184,4,FALSE))","v":""},{"$f":"IF(B68=\"\",\"\",VLOOKUP(B68,名簿!$E$4:$J$184,6,FALSE))","v":""},null,null,null,null,null,null,null,null,null,null,null,null,null,null,null,null,null,"",""]
[41,null,{"$f":"IF(B69=\"\",\"\",VLOOKUP(B69,名簿!$E$4:$J$184,3,FALSE))","v":""},{"$f":"IF(B69=\"\",\"\",VLOOKUP(B69,名簿!$E$4:$J$184,5,FALSE))","v":""},null,{"$f":"IF(B69=\"\",\"\",VLOOKUP(B69,名簿!$E$4:$W$184,4,FALSE))","v":""},{"$f":"IF(B69=\"\",\"\",VLOOKUP(B69,名簿!$E$4:$J$184,6,FALSE))","v":""},null,null,null,null,null,null,null,null,null,null,null,null,null,null,null,null,null,"",""]
[42,null,{"$f":"IF(B70=\"\",\"\",VLOOKUP(B70,名簿!$E$4:$J$184,3,FALSE))","v":""},{"$f":"IF(B70=\"\",\"\",VLOOKUP(B70,名簿!$E$4:$J$184,5,FALSE))","v":""},null,{"$f":"IF(B70=\"\",\"\",VLOOKUP(B70,名簿!$E$4:$W$184,4,FALSE))","v":""},{"$f":"IF(B70=\"\",\"\",VLOOKUP(B70,名簿!$E$4:$J$184,6,FALSE))","v":""},null,null,null,null,null,null,null,null,null,null,null,null,null,null,null,null,null,"",""]
[43,null,{"$f":"IF(B71=\"\",\"\",VLOOKUP(B71,名簿!$E$4:$J$184,3,FALSE))","v":""},{"$f":"IF(B71=\"\",\"\",VLOOKUP(B71,名簿!$E$4:$J$184,5,FALSE))","v":""},null,{"$f":"IF(B71=\"\",\"\",VLOOKUP(B71,名簿!$E$4:$W$184,4,FALSE))","v":""},{"$f":"IF(B71=\"\",\"\",VLOOKUP(B71,名簿!$E$4:$J$184,6,FALSE))","v":""},null,null,null,null,null,null,null,null,null,null,null,null,null,null,null,null,null,"",""]
[44,null,{"$f":"IF(B72=\"\",\"\",VLOOKUP(B72,名簿!$E$4:$J$184,3,FALSE))","v":""},{"$f":"IF(B72=\"\",\"\",VLOOKUP(B72,名簿!$E$4:$J$184,5,FALSE))","v":""},null,{"$f":"IF(B72=\"\",\"\",VLOOKUP(B72,名簿!$E$4:$W$184,4,FALSE))","v":""},{"$f":"IF(B72=\"\",\"\",VLOOKUP(B72,名簿!$E$4:$J$184,6,FALSE))","v":""},null,null,null,null,null,null,null,null,null,null,null,null,null,null,null,null,null,"",""]
[45,null,{"$f":"IF(B73=\"\",\"\",VLOOKUP(B73,名簿!$E$4:$J$184,3,FALSE))","v":""},{"$f":"IF(B73=\"\",\"\",VLOOKUP(B73,名簿!$E$4:$J$184,5,FALSE))","v":""},null,{"$f":"IF(B73=\"\",\"\",VLOOKUP(B73,名簿!$E$4:$W$184,4,FALSE))","v":""},{"$f":"IF(B73=\"\",\"\",VLOOKUP(B73,名簿!$E$4:$J$184,6,FALSE))","v":""},null,null,null,null,null,null,null,null,null,null,null,null,null,null,null,null,null,"",""]
[46,null,{"$f":"IF(B74=\"\",\"\",VLOOKUP(B74,名簿!$E$4:$J$184,3,FALSE))","v":""},{"$f":"IF(B74=\"\",\"\",VLOOKUP(B74,名簿!$E$4:$J$184,5,FALSE))","v":""},null,{"$f":"IF(B74=\"\",\"\",VLOOKUP(B74,名簿!$E$4:$W$184,4,FALSE))","v":""},{"$f":"IF(B74=\"\",\"\",VLOOKUP(B74,名簿!$E$4:$J$184,6,FALSE))","v":""},null,null,null,null,null,null,null,null,null,null,null,null,null,null,null,null,null,"",""]
[47,null,{"$f":"IF(B75=\"\",\"\",VLOOKUP(B75,名簿!$E$4:$J$184,3,FALSE))","v":""},{"$f":"IF(B75=\"\",\"\",VLOOKUP(B75,名簿!$E$4:$J$184,5,FALSE))","v":""},null,{"$f":"IF(B75=\"\",\"\",VLOOKUP(B75,名簿!$E$4:$W$184,4,FALSE))","v":""},{"$f":"IF(B75=\"\",\"\",VLOOKUP(B75,名簿!$E$4:$J$184,6,FALSE))","v":""},null,null,null,null,null,null,null,null,null,null,null,null,null,null,null,null,null,"",""]
[48,null,{"$f":"IF(B76=\"\",\"\",VLOOKUP(B76,名簿!$E$4:$J$184,3,FALSE))","v":""},{"$f":"IF(B76=\"\",\"\",VLOOKUP(B76,名簿!$E$4:$J$184,5,FALSE))","v":""},null,{"$f":"IF(B76=\"\",\"\",VLOOKUP(B76,名簿!$E$4:$W$184,4,FALSE))","v":""},{"$f":"IF(B76=\"\",\"\",VLOOKUP(B76,名簿!$E$4:$J$184,6,FALSE))","v":""},null,null,null,null,null,null,null,null,null,null,null,null,null,null,null,null,null,"",""]
[49,null,{"$f":"IF(B77=\"\",\"\",VLOOKUP(B77,名簿!$E$4:$J$184,3,FALSE))","v":""},{"$f":"IF(B77=\"\",\"\",VLOOKUP(B77,名簿!$E$4:$J$184,5,FALSE))","v":""},null,{"$f":"IF(B77=\"\",\"\",VLOOKUP(B77,名簿!$E$4:$W$184,4,FALSE))","v":""},{"$f":"IF(B77=\"\",\"\",VLOOKUP(B77,名簿!$E$4:$J$184,6,FALSE))","v":""},null,null,null,null,null,null,null,null,null,null,null,null,null,null,null,null,null,"",""]
[50,null,{"$f":"IF(B78=\"\",\"\",VLOOKUP(B78,名簿!$E$4:$J$184,3,FALSE))","v":""},{"$f":"IF(B78=\"\",\"\",VLOOKUP(B78,名簿!$E$4:$J$184,5,FALSE))","v":""},null,{"$f":"IF(B78=\"\",\"\",VLOOKUP(B78,名簿!$E$4:$W$184,4,FALSE))","v":""},{"$f":"IF(B78=\"\",\"\",VLOOKUP(B78,名簿!$E$4:$J$184,6,FALSE))","v":""},null,null,null,null,null,null,null,null,null,null,null,null,null,null,null,null,null,"",""]
[null,null,null,null,null,null,null,null,null,null,null,"公認記録がない場合は記入しない"]
[]
[null,null,null,null,null,null,null,null,null,null,null,null,"三重陸上競技協会"]

{"sheet":"男子個票","index":21,"n_rows":195,"n_cols":24,"rows_kept":195,"cut":false,"hidden":false,"merged":[[101,10,101,11],[102,0,102,1],[102,2,102,3],[102,5,102,6],[102,7,102,8],[102,9,102,10],[108,0,108,1],[77,8,77,9],[87,12,87,13],[93,0,93,1],[88,1,88,2],[93,12,93,13],[83,10,83,11],[90,2,90,3],[90,5,90,6],[90,7,90,8],[86,3,86,4],[85,1,85,2],[90,0,90,1],[90,9,90,10],[90,12,90,13],[92,1,92,2],[92,3,92,4],[92,8,92,9],[81,9,81,10],[78,3,78,4],[82,8,82,9],[81,7,81,8],[79,0,79,13],[81,2,81,3],[84,12,84,13],[78,10,78,11],[82,3,82,4],[78,8,78,9],[81,12,81,13],[81,5,81,6],[77,1,77,2],[77,3,77,4],[77,10,77,11],[76,5,76,6],[84,7,84,8],[83,8,83,9],[81,0,81,1],[84,0,84,1],[75,1,75,2],[75,3,75,4],[83,1,83,2],[83,3,83,4],[84,2,84,3],[78,1,78,2],[82,10,82,11],[80,7,80,13],[76,12,76,13],[76,9,76,10],[75,8,75,9],[75,10,75,11],[76,7,76,8],[84,9,84,10],[80,0,80,6],[82,1,82,2],[76,0,76,1],[76,2,76,3],[73,9,73,10],[73,5,73,6],[71,1,71,2],[71,3,71,4],[71,8,71,9],[71,10,71,11],[70,2,70,3],[70,0,70,1],[70,5,70,6],[73,7,73,8],[73,0,73,1],[73,2,73,3],[70,7,70,8],[72,3,72,4],[72,1,72,2],[72,10,72,11],[72,8,72,9],[74,10,74,11],[74,8,74,9],[74,1,74,2],[74,3,74,4],[55,9,55,10],[58,5,58,6],[54,8,54,9],[55,7,55,8],[53,8,53,9],[53,10,53,11],[52,7,52,8],[58,12,58,13],[55,12,55,13],[58,0,58,1],[58,2,58,3],[60,10,60,11],[59,8,59,9],[60,3,60,4],[59,1,59,2],[64,7,64,8],[63,8,63,9],[66,1,66,2],[61,5,61,6],[63,3,63,4],[64,0,64,1],[64,2,64,3],[63,1,63,2],[62,10,62,11],[62,3,62,4],[63,10,63,11],[64,9,64,10],[64,5,64,6],[62,1,62,2],[66,10,66,11],[66,3,66,4],[66,8,66,9],[65,1,65,2],[60,1,60,2],[61,0,61,1],[61,2,61,3],[60,8,60,9],[68,3,68,4],[68,8,68,9],[70,9,70,10],[68,1,68,2],[65,3,65,4],[65,8,65,9],[65,10,65,11],[67,0,67,1],[67,2,67,3],[67,5,67,6],[67,7,67,8],[67,9,67,10],[69,1,69,2],[34,2,34,3],[34,5,34,6],[29,1,29,2],[29,3,29,4],[50,8,50,9],[49,7,49,8],[49,5,49,6],[46,7,46,8],[44,8,44,9],[42,8,42,9],[43,5,43,6],[46,9,46,10],[46,0,46,1],[41,1,41,2],[46,5,46,6],[43,0,43,1],[37,5,37,6],[40,0,40,1],[40,5,40,6],[40,2,40,3],[39,1,39,2],[39,3,39,4],[39,8,39,9],[39,10,39,11],[9,3,9,4],[4,12,4,13],[25,0,25,1],[5,1,5,2],[7,9,7,10],[9,10,9,11],[59,10,59,11],[56,1,56,2],[56,3,56,4],[54,1,54,2],[57,3,57,4],[52,9,52,10],[54,10,54,11],[55,5,55,6],[56,8,56,9],[57,10,57,11],[58,9,58,10],[56,10,56,11],[50,10,50,11],[36,10,36,11],[33,8,33,9],[36,1,36,2],[36,3,36,4],[36,8,36,9],[2,0,2,13],[7,12,7,13],[5,8,5,9],[5,10,5,11],[7,7,7,8],[3,7,3,13],[4,7,4,8],[4,9,4,10],[8,10,8,11],[8,3,8,4],[8,8,8,9],[10,9,10,10],[16,5,16,6],[13,9,13,10],[10,2,10,3],[25,2,25,3],[25,9,25,10],[25,7,25,8],[28,12,28,13],[12,3,12,4],[14,3,14,4],[16,2,16,3],[25,5,25,6],[11,3,11,4],[17,3,17,4],[17,1,17,2],[26,3,26,4],[13,12,13,13],[15,10,15,11],[15,8,15,9],[25,12,25,13],[12,8,12,9],[22,2,22,3],[22,5,22,6],[24,8,24,9],[73,12,73,13],[64,12,64,13],[69,3,69,4],[57,8,57,9],[58,7,58,8],[62,8,62,9],[61,7,61,8],[67,12,67,13],[40,9,40,10],[40,7,40,8],[49,9,49,10],[42,10,42,11],[61,12,61,13],[68,10,68,11],[69,8,69,9],[69,10,69,11],[70,12,70,13],[41,8,41,9],[51,10,51,11],[51,3,51,4],[51,8,51,9],[61,9,61,10],[59,3,59,4],[52,12,52,13],[57,1,57,2],[29,10,29,11],[33,1,33,2],[33,3,33,4],[33,10,33,11],[30,1,30,2],[30,3,30,4],[27,1,27,2],[27,3,27,4],[27,10,27,11],[30,8,30,9],[30,10,30,11],[28,9,28,10],[55,0,55,1],[55,2,55,3],[53,3,53,4],[48,1,48,2],[47,1,47,2],[44,3,44,4],[53,1,53,2],[46,2,46,3],[45,3,45,4],[48,3,48,4],[41,10,41,11],[24,3,24,4],[19,9,19,10],[21,10,21,11],[18,3,18,4],[20,8,20,9],[22,0,22,1],[22,7,22,8],[19,7,19,8],[20,3,20,4],[23,8,23,9],[23,10,23,11],[23,3,23,4],[21,3,21,4],[21,8,21,9],[41,3,41,4],[49,12,49,13],[50,1,50,2],[49,2,49,3],[47,8,47,9],[48,8,48,9],[47,3,47,4],[16,7,16,8],[16,9,16,10],[38,1,38,2],[38,3,38,4],[26,10,26,11],[28,0,28,1],[28,5,28,6],[28,7,28,8],[27,8,27,9],[26,8,26,9],[28,2,28,3],[26,1,26,2],[29,8,29,9],[22,9,22,10],[23,1,23,2],[24,1,24,2],[24,10,24,11],[52,0,52,1],[54,3,54,4],[52,2,52,3],[52,5,52,6],[51,1,51,2],[43,12,43,13],[48,10,48,11],[46,12,46,13],[44,10,44,11],[47,10,47,11],[43,7,43,8],[49,0,49,1],[50,3,50,4],[34,12,34,13],[35,1,35,2],[35,3,35,4],[42,1,42,2],[42,3,42,4],[45,8,45,9],[44,1,44,2],[43,2,43,3],[34,0,34,1],[38,8,38,9],[38,10,38,11],[37,7,37,8],[37,0,37,1],[37,2,37,3],[35,10,35,11],[34,9,34,10],[34,7,34,8],[35,8,35,9],[37,12,37,13],[45,1,45,2],[43,9,43,10],[45,10,45,11],[37,9,37,10],[40,12,40,13],[31,12,31,13],[32,1,32,2],[32,3,32,4],[32,8,32,9],[32,10,32,11],[31,0,31,1],[31,9,31,10],[31,2,31,3],[31,5,31,6],[31,7,31,8],[15,3,15,4],[3,0,3,6],[4,0,4,1],[4,2,4,3],[4,5,4,6],[11,8,11,9],[11,10,11,11],[5,3,5,4],[6,3,6,4],[6,8,6,9],[6,10,6,11],[7,2,7,3],[7,5,7,6],[9,8,9,9],[9,1,9,2],[12,10,12,11],[13,2,13,3],[13,7,13,8],[10,0,10,1],[10,5,10,6],[10,7,10,8],[13,0,13,1],[13,5,13,6],[12,1,12,2],[22,12,22,13],[18,10,18,11],[17,8,17,9],[17,10,17,11],[18,8,18,9],[10,12,10,13],[6,1,6,2],[21,1,21,2],[7,0,7,1],[8,1,8,2],[18,1,18,2],[11,1,11,2],[20,1,20,2],[16,0,16,1],[19,0,19,1],[19,12,19,13],[19,2,19,3],[19,5,19,6],[16,12,16,13],[20,10,20,11],[14,10,14,11],[14,8,14,9],[14,1,14,2],[15,1,15,2],[89,8,89,9],[84,5,84,6],[87,7,87,8],[88,3,88,4],[88,8,88,9],[92,10,92,11],[85,3,85,4],[85,8,85,9],[89,1,89,2],[89,3,89,4],[88,10,88,11],[89,10,89,11],[86,10,86,11],[87,2,87,3],[87,5,87,6],[87,9,87,10],[86,1,86,2],[86,8,86,9],[87,0,87,1],[85,10,85,11],[98,1,98,2],[99,9,99,10],[98,10,98,11],[96,9,96,10],[98,3,98,4],[98,8,98,9],[99,12,99,13],[96,12,96,13],[91,1,91,2],[91,3,91,4],[91,8,91,9],[91,10,91,11],[94,1,94,2],[94,3,94,4],[94,8,94,9],[93,9,93,10],[93,2,93,3],[93,5,93,6],[93,7,93,8],[94,10,94,11],[102,12,102,13],[100,1,100,2],[100,3,100,4],[100,8,100,9],[100,10,100,11],[101,1,101,2],[101,3,101,4],[101,8,101,9],[95,10,95,11],[95,1,95,2],[95,3,95,4],[95,8,95,9],[96,5,96,6],[96,7,96,8],[96,0,96,1],[96,2,96,3],[97,1,97,2],[97,3,97,4],[97,8,97,9],[97,10,97,11],[99,0,99,1],[99,2,99,3],[99,5,99,6],[99,7,99,8],[105,12,105,13],[103,1,103,2],[103,3,103,4],[103,8,103,9],[103,10,103,11],[105,0,105,1],[108,12,108,13],[106,1,106,2],[106,3,106,4],[106,8,106,9],[106,10,106,11],[107,1,107,2],[107,3,107,4],[107,8,107,9],[107,10,107,11],[105,5,105,6],[105,7,105,8],[104,1,104,2],[104,3,104,4],[104,8,104,9],[105,2,105,3],[104,10,104,11],[105,9,105,10],[108,9,108,10],[108,5,108,6],[108,7,108,8],[114,0,114,1],[117,9,117,10],[116,3,116,4],[116,8,116,9],[116,10,116,11],[114,7,114,8],[108,2,108,3],[110,3,110,4],[110,8,110,9],[110,10,110,11],[109,3,109,4],[109,8,109,9],[109,10,109,11],[115,10,115,11],[117,0,117,1],[117,2,117,3],[117,5,117,6],[117,7,117,8],[116,1,116,2],[114,12,114,13],[112,1,112,2],[112,3,112,4],[112,8,112,9],[112,10,112,11],[113,1,113,2],[113,3,113,4],[113,8,113,9],[114,2,114,3],[114,5,114,6],[113,10,113,11],[114,9,114,10],[111,12,111,13],[109,1,109,2],[111,0,111,1],[111,2,111,3],[111,5,111,6],[111,7,111,8],[110,1,110,2],[111,9,111,10],[120,12,120,13],[118,1,118,2],[118,3,118,4],[118,8,118,9],[118,10,118,11],[119,1,119,2],[119,3,119,4],[119,8,119,9],[119,10,119,11],[120,0,120,1],[120,5,120,6],[120,7,120,8],[117,12,117,13],[115,1,115,2],[115,3,115,4],[115,8,115,9],[120,2,120,3],[121,3,121,4],[121,8,121,9],[123,9,123,10],[122,3,122,4],[122,8,122,9],[122,10,122,11],[125,10,125,11],[123,2,123,3],[123,5,123,6],[123,7,123,8],[122,1,122,2],[121,10,121,11],[120,9,120,10],[124,1,124,2],[124,3,124,4],[124,8,124,9],[130,10,130,11],[131,1,131,2],[131,3,131,4],[131,8,131,9],[132,5,132,6],[132,7,132,8],[131,10,131,11],[132,0,132,1],[132,2,132,3],[132,9,132,10],[123,12,123,13],[121,1,121,2],[129,9,129,10],[129,12,129,13],[127,1,127,2],[127,3,127,4],[127,8,127,9],[127,10,127,11],[129,0,129,1],[123,0,123,1],[126,0,126,1],[126,12,126,13],[124,10,124,11],[125,1,125,2],[125,3,125,4],[125,8,125,9],[128,10,128,11],[126,2,126,3],[126,5,126,6],[126,7,126,8],[126,9,126,10],[133,3,133,4],[133,8,133,9],[135,7,135,8],[129,2,129,3],[129,5,129,6],[129,7,129,8],[128,1,128,2],[128,3,128,4],[128,8,128,9],[130,1,130,2],[130,3,130,4],[130,8,130,9],[136,1,136,2],[136,3,136,4],[136,8,136,9],[136,10,136,11],[137,1,137,2],[137,3,137,4],[135,9,135,10],[134,3,134,4],[134,8,134,9],[134,10,134,11],[132,12,132,13],[139,1,139,2],[139,3,139,4],[139,8,139,9],[139,10,139,11],[140,1,140,2],[140,3,140,4],[140,8,140,9],[140,10,140,11],[138,7,138,8],[138,9,138,10],[138,0,138,1],[135,12,135,13],[133,1,133,2],[135,0,135,1],[135,2,135,3],[135,5,135,6],[134,1,134,2],[137,8,137,9],[137,10,137,11],[138,2,138,3],[138,5,138,6],[133,10,133,11],[138,12,138,13],[144,12,144,13],[144,9,144,10],[144,5,144,6],[144,7,144,8],[143,1,143,2],[143,3,143,4],[143,8,143,9],[143,10,143,11],[141,0,141,1],[141,2,141,3],[141,5,141,6],[141,7,141,8],[141,9,141,10],[141,12,141,13],[142,1,142,2],[142,3,142,4],[142,8,142,9],[142,10,142,11],[144,2,144,3],[145,3,145,4],[145,8,145,9],[145,10,145,11],[144,0,144,1],[145,1,145,2],[149,10,149,11],[150,0,150,1],[150,2,150,3],[150,5,150,6],[150,7,150,8],[147,0,147,1],[146,8,146,9],[146,10,146,11],[146,1,146,2],[146,3,146,4],[153,12,153,13],[151,1,151,2],[151,3,151,4],[151,8,151,9],[151,10,151,11],[147,12,147,13],[153,9,153,10],[152,10,152,11],[153,0,153,1],[150,12,150,13],[148,1,148,2],[148,3,148,4],[148,8,148,9],[148,10,148,11],[149,1,149,2],[149,3,149,4],[149,8,149,9],[152,3,152,4],[152,8,152,9],[155,10,155,11],[155,8,155,9],[152,1,152,2],[147,2,147,3],[147,5,147,6],[147,7,147,8],[147,9,147,10],[154,3,154,4],[154,8,154,9],[154,10,154,11],[153,2,153,3],[153,5,153,6],[153,7,153,8],[154,1,154,2],[150,9,150,10],[160,3,160,5],[159,9,159,10],[160,10,160,12],[159,5,159,6],[157,0,157,13],[159,12,159,13],[160,7,160,9],[159,0,159,1],[159,2,159,3],[159,7,159,8],[169,10,169,12],[163,10,163,12],[164,8,164,9],[164,10,164,12],[165,10,165,12],[163,8,163,9],[161,3,161,5],[155,1,155,2],[155,3,155,4],[168,0,168,1],[168,2,168,3],[161,0,167,0],[163,3,163,5],[162,3,162,5],[162,1,162,2],[163,1,163,2],[160,0,160,2],[168,5,168,6],[167,1,167,2],[166,3,166,5],[161,8,161,9],[168,9,168,10],[161,7,167,7],[165,8,165,9],[167,10,167,12],[165,1,165,2],[165,3,165,5],[168,7,168,8],[164,1,164,2],[161,10,161,12],[166,8,166,9],[166,10,166,12],[164,3,164,5],[162,10,162,12],[162,8,162,9],[168,12,168,13],[166,1,166,2],[161,1,161,2],[171,1,171,2],[174,3,174,5],[170,1,170,2],[170,3,170,5],[171,3,171,5],[170,8,170,9],[174,8,174,9],[167,3,167,5],[167,8,167,9],[171,8,171,9],[171,10,171,12],[170,10,170,12],[172,10,172,12],[172,1,172,2],[176,10,176,12],[177,9,177,10],[169,7,169,9],[178,7,178,9],[178,0,178,2],[178,3,178,5],[175,1,175,2],[173,1,173,2],[173,3,173,5],[174,1,174,2],[169,3,169,5],[169,0,169,2],[178,10,178,12],[177,12,177,13],[174,10,174,12],[177,0,177,1],[177,2,177,3],[177,5,177,6],[177,7,177,8],[176,3,176,5],[176,1,176,2],[175,10,175,12],[173,10,173,12],[176,8,176,9],[172,3,172,5],[172,8,172,9],[173,8,173,9],[175,8,175,9],[175,3,175,5],[170,0,176,0],[170,7,176,7],[186,12,186,13],[187,0,187,2],[186,9,186,10],[186,0,186,1],[186,5,186,6],[182,8,182,9],[185,8,185,9],[183,3,183,5],[185,10,185,12],[179,10,179,12],[180,10,180,12],[184,10,184,12],[181,10,181,12],[182,10,182,12],[183,10,183,12],[183,8,183,9],[187,10,187,12],[179,0,185,0],[179,1,179,2],[179,3,179,5],[179,8,179,9],[180,8,180,9],[180,1,180,2],[180,3,180,5],[184,1,184,2],[184,3,184,5],[181,1,181,2],[185,1,185,2],[186,7,186,8],[191,8,191,9],[187,3,187,5],[187,7,187,9],[185,3,185,5],[179,7,185,7],[182,3,182,5],[186,2,186,3],[182,1,182,2],[181,8,181,9],[184,8,184,9],[183,1,183,2],[189,3,189,5],[188,0,194,0],[188,1,188,2],[188,3,188,5],[188,7,194,7],[189,1,189,2],[181,3,181,5],[191,1,191,2],[191,3,191,5],[190,1,190,2],[190,3,190,5],[193,1,193,2],[194,10,194,12],[192,1,192,2],[192,3,192,5],[193,3,193,5],[190,8,190,9],[189,8,189,9],[188,10,188,12],[192,8,192,9],[192,10,192,12],[193,8,193,9],[193,10,193,12],[194,8,194,9],[191,10,191,12],[188,8,188,9],[189,10,189,12],[190,10,190,12],[194,1,194,2],[194,3,194,5]]}
[null,null,null,null,null,null,null,null,null,null,null,null,null,"様式⑤"]
[]
["男　子　個　　票　(1～25人）"]
["1種目目",null,null,null,null,null,null,"2種目目"]
["種目",null,{"$f":"男子一覧表!Y13","v":""},null,"記録",{"$f":"男子一覧表!J13","v":0},null,"種目",null,{"$f":"男子一覧表!Z13","v":""},null,"記録",{"$f":"男子一覧表!M13","v":0}]
["性","ゼッケン",null,"氏名",null,"学年","所属","性","ゼッケン",null,"氏名",null,"学年","所属"]
["男",{"$f":"男子一覧表!B13","v":0},null,{"$f":"IF(男子一覧表!B13=\"\",\"\",VLOOKUP(B7,男子一覧表!$B$13:$F$37,2,FALSE))","v":""},null,{"$f":"IF(男子一覧表!B13=\"\",\"\",VLOOKUP(B7,男子一覧表!$B$13:$F$37,3,FALSE))","v":""},{"$f":"IF(D7=\"\",\"\",男子一覧表!$A$7)","v":""},"男",{"$f":"IF(男子一覧表!L13=\"\",\"\",男子一覧表!B13)","v":""},null,{"$f":"IF(男子一覧表!L13=\"\",\"\",VLOOKUP(I7,男子一覧表!$B$13:$F$37,2,FALSE))","v":""},null,{"$f":"IF(男子一覧表!L13=\"\",\"\",VLOOKUP(I7,男子一覧表!$B$13:$F$37,3,FALSE))","v":""},{"$f":"IF(K7=\"\",\"\",男子一覧表!$A$7)","v":""}]
["種目",null,{"$f":"男子一覧表!Y14","v":""},null,"記録",{"$f":"男子一覧表!J14","v":0},null,"種目",null,{"$f":"男子一覧表!Z14","v":""},null,"記録",{"$f":"男子一覧表!M14","v":0}]
["性","ゼッケン",null,"氏名",null,"学年","所属","性","ゼッケン",null,"氏名",null,"学年","所属"]
["男",{"$f":"男子一覧表!B14","v":0},null,{"$f":"IF(男子一覧表!B14=\"\",\"\",VLOOKUP(B10,男子一覧表!$B$13:$F$37,2,FALSE))","v":""},null,{"$f":"IF(男子一覧表!B14=\"\",\"\",VLOOKUP(B10,男子一覧表!$B$13:$F$37,3,FALSE))","v":""},{"$f":"IF(D10=\"\",\"\",男子一覧表!$A$7)","v":""},"男",{"$f":"IF(男子一覧表!L14=\"\",\"\",男子一覧表!B14)","v":""},null,{"$f":"IF(男子一覧表!L14=\"\",\"\",VLOOKUP(I10,男子一覧表!$B$13:$F$37,2,FALSE))","v":""},null,{"$f":"IF(男子一覧表!L14=\"\",\"\",VLOOKUP(I10,男子一覧表!$B$13:$F$37,3,FALSE))","v":""},{"$f":"IF(K10=\"\",\"\",男子一覧表!$A$7)","v":""}]
["種目",null,{"$f":"男子一覧表!Y15","v":""},null,"記録",{"$f":"男子一覧表!J15","v":0},null,"種目",null,{"$f":"男子一覧表!Z15","v":""},null,"記録",{"$f":"男子一覧表!M15","v":0}]
["性","ゼッケン",null,"氏名",null,"学年","所属","性","ゼッケン",null,"氏名",null,"学年","所属"]
["男",{"$f":"男子一覧表!B15","v":0},null,{"$f":"IF(男子一覧表!B15=\"\",\"\",VLOOKUP(B13,男子一覧表!$B$13:$F$37,2,FALSE))","v":""},null,{"$f":"IF(男子一覧表!B15=\"\",\"\",VLOOKUP(B13,男子一覧表!$B$13:$F$37,3,FALSE))","v":""},{"$f":"IF(D13=\"\",\"\",男子一覧表!$A$7)","v":""},"男",{"$f":"IF(男子一覧表!L15=\"\",\"\",男子一覧表!B15)","v":""},null,{"$f":"IF(男子一覧表!L15=\"\",\"\",VLOOKUP(I13,男子一覧表!$B$13:$F$37,2,FALSE))","v":""},null,{"$f":"IF(男子一覧表!L15=\"\",\"\",VLOOKUP(I13,男子一覧表!$B$13:$F$37,3,FALSE))","v":""},{"$f":"IF(K13=\"\",\"\",男子一覧表!$A$7)","v":""}]
["種目",null,{"$f":"男子一覧表!Y16","v":""},null,"記録",{"$f":"男子一覧表!J16","v":0},null,"種目",null,{"$f":"男子一覧表!Z16","v":""},null,"記録",{"$f":"男子一覧表!M16","v":0}]
["性","ゼッケン",null,"氏名",null,"学年","所属","性","ゼッケン",null,"氏名",null,"学年","所属"]
["男",{"$f":"男子一覧表!B16","v":0},null,{"$f":"IF(男子一覧表!B16=\"\",\"\",VLOOKUP(B16,男子一覧表!$B$13:$F$37,2,FALSE))","v":""},null,{"$f":"IF(男子一覧表!B16=\"\",\"\",VLOOKUP(B16,男子一覧表!$B$13:$F$37,3,FALSE))","v":""},{"$f":"IF(D16=\"\",\"\",男子一覧表!$A$7)","v":""},"男",{"$f":"IF(男子一覧表!L16=\"\",\"\",男子一覧表!B16)","v":""},null,{"$f":"IF(男子一覧表!L16=\"\",\"\",VLOOKUP(I16,男子一覧表!$B$13:$F$37,2,FALSE))","v":""},null,{"$f":"IF(男子一覧表!L16=\"\",\"\",VLOOKUP(I16,男子一覧表!$B$13:$F$37,3,FALSE))","v":""},{"$f":"IF(K16=\"\",\"\",男子一覧表!$A$7)","v":""}]
["種目",null,{"$f":"男子一覧表!Y17","v":""},null,"記録",{"$f":"男子一覧表!J17","v":0},null,"種目",null,{"$f":"男子一覧表!Z17","v":""},null,"記録",{"$f":"男子一覧表!M17","v":0}]
["性","ゼッケン",null,"氏名",null,"学年","所属","性","ゼッケン",null,"氏名",null,"学年","所属"]
["男",{"$f":"男子一覧表!B17","v":0},null,{"$f":"IF(男子一覧表!B17=\"\",\"\",VLOOKUP(B19,男子一覧表!$B$13:$F$37,2,FALSE))","v":""},null,{"$f":"IF(男子一覧表!B17=\"\",\"\",VLOOKUP(B19,男子一覧表!$B$13:$F$37,3,FALSE))","v":""},{"$f":"IF(D19=\"\",\"\",男子一覧表!$A$7)","v":""},"男",{"$f":"IF(男子一覧表!L17=\"\",\"\",男子一覧表!B17)","v":""},null,{"$f":"IF(男子一覧表!L17=\"\",\"\",VLOOKUP(I19,男子一覧表!$B$13:$F$37,2,FALSE))","v":""},null,{"$f":"IF(男子一覧表!L17=\"\",\"\",VLOOKUP(I19,男子一覧表!$B$13:$F$37,3,FALSE))","v":""},{"$f":"IF(K19=\"\",\"\",男子一覧表!$A$7)","v":""}]
["種目",null,{"$f":"男子一覧表!Y18","v":""},null,"記録",{"$f":"男子一覧表!J18","v":0},null,"種目",null,{"$f":"男子一覧表!Z18","v":""},null,"記録",{"$f":"男子一覧表!M18","v":0}]
["性","ゼッケン",null,"氏名",null,"学年","所属","性","ゼッケン",null,"氏名",null,"学年","所属"]
["男",{"$f":"男子一覧表!B18","v":0},null,{"$f":"IF(男子一覧表!B18=\"\",\"\",VLOOKUP(B22,男子一覧表!$B$13:$F$37,2,FALSE))","v":""},null,{"$f":"IF(男子一覧表!B18=\"\",\"\",VLOOKUP(B22,男子一覧表!$B$13:$F$37,3,FALSE))","v":""},{"$f":"IF(D22=\"\",\"\",男子一覧表!$A$7)","v":""},"男",{"$f":"IF(男子一覧表!L18=\"\",\"\",男子一覧表!B18)","v":""},null,{"$f":"IF(男子一覧表!L18=\"\",\"\",VLOOKUP(I22,男子一覧表!$B$13:$F$37,2,FALSE))","v":""},null,{"$f":"IF(男子一覧表!L18=\"\",\"\",VLOOKUP(I22,男子一覧表!$B$13:$F$37,3,FALSE))","v":""},{"$f":"IF(K22=\"\",\"\",男子一覧表!$A$7)","v":""}]
["種目",null,{"$f":"男子一覧表!Y19","v":""},null,"記録",{"$f":"男子一覧表!J19","v":0},null,"種目",null,{"$f":"男子一覧表!Z19","v":""},null,"記録",{"$f":"男子一覧表!M19","v":0}]
["性","ゼッケン",null,"氏名",null,"学年","所属","性","ゼッケン",null,"氏名",null,"学年","所属"]
["男",{"$f":"男子一覧表!B19","v":0},null,{"$f":"IF(男子一覧表!B19=\"\",\"\",VLOOKUP(B25,男子一覧表!$B$13:$F$37,2,FALSE))","v":""},null,{"$f":"IF(男子一覧表!B19=\"\",\"\",VLOOKUP(B25,男子一覧表!$B$13:$F$37,3,FALSE))","v":""},{"$f":"IF(D25=\"\",\"\",男子一覧表!$A$7)","v":""},"男",{"$f":"IF(男子一覧表!L19=\"\",\"\",男子一覧表!B19)","v":""},null,{"$f":"IF(男子一覧表!L19=\"\",\"\",VLOOKUP(I25,男子一覧表!$B$13:$F$37,2,FALSE))","v":""},null,{"$f":"IF(男子一覧表!L19=\"\",\"\",VLOOKUP(I25,男子一覧表!$B$13:$F$37,3,FALSE))","v":""},{"$f":"IF(K25=\"\",\"\",男子一覧表!$A$7)","v":""}]
["種目",null,{"$f":"男子一覧表!Y20","v":""},null,"記録",{"$f":"男子一覧表!J20","v":0},null,"種目",null,{"$f":"男子一覧表!Z20","v":""},null,"記録",{"$f":"男子一覧表!M20","v":0}]
["性","ゼッケン",null,"氏名",null,"学年","所属","性","ゼッケン",null,"氏名",null,"学年","所属"]
["男",{"$f":"男子一覧表!B20","v":0},null,{"$f":"IF(男子一覧表!B20=\"\",\"\",VLOOKUP(B28,男子一覧表!$B$13:$F$37,2,FALSE))","v":""},null,{"$f":"IF(男子一覧表!B20=\"\",\"\",VLOOKUP(B28,男子一覧表!$B$13:$F$37,3,FALSE))","v":""},{"$f":"IF(D28=\"\",\"\",男子一覧表!$A$7)","v":""},"男",{"$f":"IF(男子一覧表!L20=\"\",\"\",男子一覧表!B20)","v":""},null,{"$f":"IF(男子一覧表!L20=\"\",\"\",VLOOKUP(I28,男子一覧表!$B$13:$F$37,2,FALSE))","v":""},null,{"$f":"IF(男子一覧表!L20=\"\",\"\",VLOOKUP(I28,男子一覧表!$B$13:$F$37,3,FALSE))","v":""},{"$f":"IF(K28=\"\",\"\",男子一覧表!$A$7)","v":""}]
["種目",null,{"$f":"男子一覧表!Y21","v":""},null,"記録",{"$f":"男子一覧表!J21","v":0},null,"種目",null,{"$f":"男子一覧表!Z21","v":""},null,"記録",{"$f":"男子一覧表!M21","v":0}]
["性","ゼッケン",null,"氏名",null,"学年","所属","性","ゼッケン",null,"氏名",null,"学年","所属"]
["男",{"$f":"男子一覧表!B21","v":0},null,{"$f":"IF(男子一覧表!B21=\"\",\"\",VLOOKUP(B31,男子一覧表!$B$13:$F$37,2,FALSE))","v":""},null,{"$f":"IF(男子一覧表!B21=\"\",\"\",VLOOKUP(B31,男子一覧表!$B$13:$F$37,3,FALSE))","v":""},{"$f":"IF(D31=\"\",\"\",男子一覧表!$A$7)","v":""},"男",{"$f":"IF(男子一覧表!L21=\"\",\"\",男子一覧表!B21)","v":""},null,{"$f":"IF(男子一覧表!L21=\"\",\"\",VLOOKUP(I31,男子一覧表!$B$13:$F$37,2,FALSE))","v":""},null,{"$f":"IF(男子一覧表!L21=\"\",\"\",VLOOKUP(I31,男子一覧表!$B$13:$F$37,3,FALSE))","v":""},{"$f":"IF(K31=\"\",\"\",男子一覧表!$A$7)","v":""}]
["種目",null,{"$f":"男子一覧表!Y22","v":""},null,"記録",{"$f":"男子一覧表!J22","v":0},null,"種目",null,{"$f":"男子一覧表!Z22","v":""},null,"記録",{"$f":"男子一覧表!M22","v":0}]
["性","ゼッケン",null,"氏名",null,"学年","所属","性","ゼッケン",null,"氏名",null,"学年","所属"]
["男",{"$f":"男子一覧表!B22","v":0},null,{"$f":"IF(男子一覧表!B22=\"\",\"\",VLOOKUP(B34,男子一覧表!$B$13:$F$37,2,FALSE))","v":""},null,{"$f":"IF(男子一覧表!B22=\"\",\"\",VLOOKUP(B34,男子一覧表!$B$13:$F$37,3,FALSE))","v":""},{"$f":"IF(D34=\"\",\"\",男子一覧表!$A$7)","v":""},"男",{"$f":"IF(男子一覧表!L22=\"\",\"\",男子一覧表!B22)","v":""},null,{"$f":"IF(男子一覧表!L22=\"\",\"\",VLOOKUP(I34,男子一覧表!$B$13:$F$37,2,FALSE))","v":""},null,{"$f":"IF(男子一覧表!L22=\"\",\"\",VLOOKUP(I34,男子一覧表!$B$13:$F$37,3,FALSE))","v":""},{"$f":"IF(K34=\"\",\"\",男子一覧表!$A$7)","v":""}]
["種目",null,{"$f":"男子一覧表!Y23","v":""},null,"記録",{"$f":"男子一覧表!J23","v":0},null,"種目",null,{"$f":"男子一覧表!Z23","v":""},null,"記録",{"$f":"男子一覧表!M23","v":0}]
["性","ゼッケン",null,"氏名",null,"学年","所属","性","ゼッケン",null,"氏名",null,"学年","所属"]
["男",{"$f":"男子一覧表!B23","v":0},null,{"$f":"IF(男子一覧表!B23=\"\",\"\",VLOOKUP(B37,男子一覧表!$B$13:$F$37,2,FALSE))","v":""},null,{"$f":"IF(男子一覧表!B23=\"\",\"\",VLOOKUP(B37,男子一覧表!$B$13:$F$37,3,FALSE))","v":""},{"$f":"IF(D37=\"\",\"\",男子一覧表!$A$7)","v":""},"男",{"$f":"IF(男子一覧表!L23=\"\",\"\",男子一覧表!B23)","v":""},null,{"$f":"IF(男子一覧表!L23=\"\",\"\",VLOOKUP(I37,男子一覧表!$B$13:$F$37,2,FALSE))","v":""},null,{"$f":"IF(男子一覧表!L23=\"\",\"\",VLOOKUP(I37,男子一覧表!$B$13:$F$37,3,FALSE))","v":""},{"$f":"IF(K37=\"\",\"\",男子一覧表!$A$7)","v":""}]
["種目",null,{"$f":"男子一覧表!Y24","v":""},null,"記録",{"$f":"男子一覧表!J24","v":0},null,"種目",null,{"$f":"男子一覧表!Z24","v":""},null,"記録",{"$f":"男子一覧表!M24","v":0}]
["性","ゼッケン",null,"氏名",null,"学年","所属","性","ゼッケン",null,"氏名",null,"学年","所属"]
["男",{"$f":"男子一覧表!B24","v":0},null,{"$f":"IF(男子一覧表!B24=\"\",\"\",VLOOKUP(B40,男子一覧表!$B$13:$F$37,2,FALSE))","v":""},null,{"$f":"IF(男子一覧表!B24=\"\",\"\",VLOOKUP(B40,男子一覧表!$B$13:$F$37,3,FALSE))","v":""},{"$f":"IF(D40=\"\",\"\",男子一覧表!$A$7)","v":""},"男",{"$f":"IF(男子一覧表!L24=\"\",\"\",男子一覧表!B24)","v":""},null,{"$f":"IF(男子一覧表!L24=\"\",\"\",VLOOKUP(I40,男子一覧表!$B$13:$F$37,2,FALSE))","v":""},null,{"$f":"IF(男子一覧表!L24=\"\",\"\",VLOOKUP(I40,男子一覧表!$B$13:$F$37,3,FALSE))","v":""},{"$f":"IF(K40=\"\",\"\",男子一覧表!$A$7)","v":""}]
["種目",null,{"$f":"男子一覧表!Y25","v":""},null,"記録",{"$f":"男子一覧表!J25","v":0},null,"種目",null,{"$f":"男子一覧表!Z25","v":""},null,"記録",{"$f":"男子一覧表!M25","v":0}]
["性","ゼッケン",null,"氏名",null,"学年","所属","性","ゼッケン",null,"氏名",null,"学年","所属"]
["男",{"$f":"男子一覧表!B25","v":0},null,{"$f":"IF(男子一覧表!B25=\"\",\"\",VLOOKUP(B43,男子一覧表!$B$13:$F$37,2,FALSE))","v":""},null,{"$f":"IF(男子一覧表!B25=\"\",\"\",VLOOKUP(B43,男子一覧表!$B$13:$F$37,3,FALSE))","v":""},{"$f":"IF(D43=\"\",\"\",男子一覧表!$A$7)","v":""},"男",{"$f":"IF(男子一覧表!L25=\"\",\"\",男子一覧表!B25)","v":""},null,{"$f":"IF(男子一覧表!L25=\"\",\"\",VLOOKUP(I43,男子一覧表!$B$13:$F$37,2,FALSE))","v":""},null,{"$f":"IF(男子一覧表!L25=\"\",\"\",VLOOKUP(I43,男子一覧表!$B$13:$F$37,3,FALSE))","v":""},{"$f":"IF(K43=\"\",\"\",男子一覧表!$A$7)","v":""}]
["種目",null,{"$f":"男子一覧表!Y26","v":""},null,"記録",{"$f":"男子一覧表!J26","v":0},null,"種目",null,{"$f":"男子一覧表!Z26","v":""},null,"記録",{"$f":"男子一覧表!M26","v":0}]
["性","ゼッケン",null,"氏名",null,"学年","所属","性","ゼッケン",null,"氏名",null,"学年","所属"]
["男",{"$f":"男子一覧表!B26","v":0},null,{"$f":"IF(男子一覧表!B26=\"\",\"\",VLOOKUP(B46,男子一覧表!$B$13:$F$37,2,FALSE))","v":""},null,{"$f":"IF(男子一覧表!B26=\"\",\"\",VLOOKUP(B46,男子一覧表!$B$13:$F$37,3,FALSE))","v":""},{"$f":"IF(D46=\"\",\"\",男子一覧表!$A$7)","v":""},"男",{"$f":"IF(男子一覧表!L26=\"\",\"\",男子一覧表!B26)","v":""},null,{"$f":"IF(男子一覧表!L26=\"\",\"\",VLOOKUP(I46,男子一覧表!$B$13:$F$37,2,FALSE))","v":""},null,{"$f":"IF(男子一覧表!L26=\"\",\"\",VLOOKUP(I46,男子一覧表!$B$13:$F$37,3,FALSE))","v":""},{"$f":"IF(K46=\"\",\"\",男子一覧表!$A$7)","v":""}]
["種目",null,{"$f":"男子一覧表!Y27","v":""},null,"記録",{"$f":"男子一覧表!J27","v":0},null,"種目",null,{"$f":"男子一覧表!Z27","v":""},null,"記録",{"$f":"男子一覧表!M27","v":0}]
["性","ゼッケン",null,"氏名",null,"学年","所属","性","ゼッケン",null,"氏名",null,"学年","所属"]
["男",{"$f":"男子一覧表!B27","v":0},null,{"$f":"IF(男子一覧表!B27=\"\",\"\",VLOOKUP(B49,男子一覧表!$B$13:$F$37,2,FALSE))","v":""},null,{"$f":"IF(男子一覧表!B27=\"\",\"\",VLOOKUP(B49,男子一覧表!$B$13:$F$37,3,FALSE))","v":""},{"$f":"IF(D49=\"\",\"\",男子一覧表!$A$7)","v":""},"男",{"$f":"IF(男子一覧表!L27=\"\",\"\",男子一覧表!B27)","v":""},null,{"$f":"IF(男子一覧表!L27=\"\",\"\",VLOOKUP(I49,男子一覧表!$B$13:$F$37,2,FALSE))","v":""},null,{"$f":"IF(男子一覧表!L27=\"\",\"\",VLOOKUP(I49,男子一覧表!$B$13:$F$37,3,FALSE))","v":""},{"$f":"IF(K49=\"\",\"\",男子一覧表!$A$7)","v":""}]
["種目",null,{"$f":"男子一覧表!Y28","v":""},null,"記録",{"$f":"男子一覧表!J28","v":0},null,"種目",null,{"$f":"男子一覧表!Z28","v":""},null,"記録",{"$f":"男子一覧表!M28","v":0}]
["性","ゼッケン",null,"氏名",null,"学年","所属","性","ゼッケン",null,"氏名",null,"学年","所属"]
["男",{"$f":"男子一覧表!B28","v":0},null,{"$f":"IF(男子一覧表!B28=\"\",\"\",VLOOKUP(B52,男子一覧表!$B$13:$F$37,2,FALSE))","v":""},null,{"$f":"IF(男子一覧表!B28=\"\",\"\",VLOOKUP(B52,男子一覧表!$B$13:$F$37,3,FALSE))","v":""},{"$f":"IF(D52=\"\",\"\",男子一覧表!$A$7)","v":""},"男",{"$f":"IF(男子一覧表!L28=\"\",\"\",男子一覧表!B28)","v":""},null,{"$f":"IF(男子一覧表!L28=\"\",\"\",VLOOKUP(I52,男子一覧表!$B$13:$F$37,2,FALSE))","v":""},null,{"$f":"IF(男子一覧表!L28=\"\",\"\",VLOOKUP(I52,男子一覧表!$B$13:$F$37,3,FALSE))","v":""},{"$f":"IF(K52=\"\",\"\",男子一覧表!$A$7)","v":""}]
["種目",null,{"$f":"男子一覧表!Y29","v":""},null,"記録",{"$f":"男子一覧表!J29","v":0},null,"種目",null,{"$f":"男子一覧表!Z29","v":""},null,"記録",{"$f":"男子一覧表!M29","v":0}]
["性","ゼッケン",null,"氏名",null,"学年","所属","性","ゼッケン",null,"氏名",null,"学年","所属"]
["男",{"$f":"男子一覧表!B29","v":0},null,{"$f":"IF(男子一覧表!B29=\"\",\"\",VLOOKUP(B55,男子一覧表!$B$13:$F$37,2,FALSE))","v":""},null,{"$f":"IF(男子一覧表!B29=\"\",\"\",VLOOKUP(B55,男子一覧表!$B$13:$F$37,3,FALSE))","v":""},{"$f":"IF(D55=\"\",\"\",男子一覧表!$A$7)","v":""},"男",{"$f":"IF(男子一覧表!L29=\"\",\"\",男子一覧表!B29)","v":""},null,{"$f":"IF(男子一覧表!L29=\"\",\"\",VLOOKUP(I55,男子一覧表!$B$13:$F$37,2,FALSE))","v":""},null,{"$f":"IF(男子一覧表!L29=\"\",\"\",VLOOKUP(I55,男子一覧表!$B$13:$F$37,3,FALSE))","v":""},{"$f":"IF(K55=\"\",\"\",男子一覧表!$A$7)","v":""}]
["種目",null,{"$f":"男子一覧表!Y30","v":""},null,"記録",{"$f":"男子一覧表!J30","v":0},null,"種目",null,{"$f":"男子一覧表!Z30","v":""},null,"記録",{"$f":"男子一覧表!M30","v":0}]
["性","ゼッケン",null,"氏名",null,"学年","所属","性","ゼッケン",null,"氏名",null,"学年","所属"]
["男",{"$f":"男子一覧表!B30","v":0},null,{"$f":"IF(男子一覧表!B30=\"\",\"\",VLOOKUP(B58,男子一覧表!$B$13:$F$37,2,FALSE))","v":""},null,{"$f":"IF(男子一覧表!B30=\"\",\"\",VLOOKUP(B58,男子一覧表!$B$13:$F$37,3,FALSE))","v":""},{"$f":"IF(D58=\"\",\"\",男子一覧表!$A$7)","v":""},"男",{"$f":"IF(男子一覧表!L30=\"\",\"\",男子一覧表!B30)","v":""},null,{"$f":"IF(男子一覧表!L30=\"\",\"\",VLOOKUP(I58,男子一覧表!$B$13:$F$37,2,FALSE))","v":""},null,{"$f":"IF(男子一覧表!L30=\"\",\"\",VLOOKUP(I58,男子一覧表!$B$13:$F$37,3,FALSE))","v":""},{"$f":"IF(K58=\"\",\"\",男子一覧表!$A$7)","v":""}]
["種目",null,{"$f":"男子一覧表!Y31","v":""},null,"記録",{"$f":"男子一覧表!J31","v":0},null,"種目",null,{"$f":"男子一覧表!Z31","v":""},null,"記録",{"$f":"男子一覧表!M31","v":0}]
["性","ゼッケン",null,"氏名",null,"学年","所属","性","ゼッケン",null,"氏名",null,"学年","所属"]
["男",{"$f":"男子一覧表!B31","v":0},null,{"$f":"IF(男子一覧表!B31=\"\",\"\",VLOOKUP(B61,男子一覧表!$B$13:$F$37,2,FALSE))","v":""},null,{"$f":"IF(男子一覧表!B31=\"\",\"\",VLOOKUP(B61,男子一覧表!$B$13:$F$37,3,FALSE))","v":""},{"$f":"IF(D61=\"\",\"\",男子一覧表!$A$7)","v":""},"男",{"$f":"IF(男子一覧表!L31=\"\",\"\",男子一覧表!B31)","v":""},null,{"$f":"IF(男子一覧表!L31=\"\",\"\",VLOOKUP(I61,男子一覧表!$B$13:$F$37,2,FALSE))","v":""},null,{"$f":"IF(男子一覧表!L31=\"\",\"\",VLOOKUP(I61,男子一覧表!$B$13:$F$37,3,FALSE))","v":""},{"$f":"IF(K61=\"\",\"\",男子一覧表!$A$7)","v":""}]
["種目",null,{"$f":"男子一覧表!Y32","v":""},null,"記録",{"$f":"男子一覧表!J32","v":0},null,"種目",null,{"$f":"男子一覧表!Z32","v":""},null,"記録",{"$f":"男子一覧表!M32","v":0}]
["性","ゼッケン",null,"氏名",null,"学年","所属","性","ゼッケン",null,"氏名",null,"学年","所属"]
["男",{"$f":"男子一覧表!B32","v":0},null,{"$f":"IF(男子一覧表!B32=\"\",\"\",VLOOKUP(B64,男子一覧表!$B$13:$F$37,2,FALSE))","v":""},null,{"$f":"IF(男子一覧表!B32=\"\",\"\",VLOOKUP(B64,男子一覧表!$B$13:$F$37,3,FALSE))","v":""},{"$f":"IF(D64=\"\",\"\",男子一覧表!$A$7)","v":""},"男",{"$f":"IF(男子一覧表!L32=\"\",\"\",男子一覧表!B32)","v":""},null,{"$f":"IF(男子一覧表!L32=\"\",\"\",VLOOKUP(I64,男子一覧表!$B$13:$F$37,2,FALSE))","v":""},null,{"$f":"IF(男子一覧表!L32=\"\",\"\",VLOOKUP(I64,男子一覧表!$B$13:$F$37,3,FALSE))","v":""},{"$f":"IF(K64=\"\",\"\",男子一覧表!$A$7)","v":""}]
["種目",null,{"$f":"男子一覧表!Y33","v":""},null,"記録",{"$f":"男子一覧表!J33","v":0},null,"種目",null,{"$f":"男子一覧表!Z33","v":""},null,"記録",{"$f":"男子一覧表!M33","v":0}]
["性","ゼッケン",null,"氏名",null,"学年","所属","性","ゼッケン",null,"氏名",null,"学年","所属"]
["男",{"$f":"男子一覧表!B33","v":0},null,{"$f":"IF(男子一覧表!B33=\"\",\"\",VLOOKUP(B67,男子一覧表!$B$13:$F$37,2,FALSE))","v":""},null,{"$f":"IF(男子一覧表!B33=\"\",\"\",VLOOKUP(B67,男子一覧表!$B$13:$F$37,3,FALSE))","v":""},{"$f":"IF(D67=\"\",\"\",男子一覧表!$A$7)","v":""},"男",{"$f":"IF(男子一覧表!L33=\"\",\"\",男子一覧表!B33)","v":""},null,{"$f":"IF(男子一覧表!L33=\"\",\"\",VLOOKUP(I67,男子一覧表!$B$13:$F$37,2,FALSE))","v":""},null,{"$f":"IF(男子一覧表!L33=\"\",\"\",VLOOKUP(I67,男子一覧表!$B$13:$F$37,3,FALSE))","v":""},{"$f":"IF(K67=\"\",\"\",男子一覧表!$A$7)","v":""}]
["種目",null,{"$f":"男子一覧表!Y34","v":""},null,"記録",{"$f":"男子一覧表!J34","v":0},null,"種目",null,{"$f":"男子一覧表!Z34","v":""},null,"記録",{"$f":"男子一覧表!M34","v":0}]
["性","ゼッケン",null,"氏名",null,"学年","所属","性","ゼッケン",null,"氏名",null,"学年","所属"]
["男",{"$f":"男子一覧表!B34","v":0},null,{"$f":"IF(男子一覧表!B34=\"\",\"\",VLOOKUP(B70,男子一覧表!$B$13:$F$37,2,FALSE))","v":""},null,{"$f":"IF(男子一覧表!B34=\"\",\"\",VLOOKUP(B70,男子一覧表!$B$13:$F$37,3,FALSE))","v":""},{"$f":"IF(D70=\"\",\"\",男子一覧表!$A$7)","v":""},"男",{"$f":"IF(男子一覧表!L34=\"\",\"\",男子一覧表!B34)","v":""},null,{"$f":"IF(男子一覧表!L34=\"\",\"\",VLOOKUP(I70,男子一覧表!$B$13:$F$37,2,FALSE))","v":""},null,{"$f":"IF(男子一覧表!L34=\"\",\"\",VLOOKUP(I70,男子一覧表!$B$13:$F$37,3,FALSE))","v":""},{"$f":"IF(K70=\"\",\"\",男子一覧表!$A$7)","v":""}]
["種目",null,{"$f":"男子一覧表!Y35","v":""},null,"記録",{"$f":"男子一覧表!J35","v":0},null,"種目",null,{"$f":"男子一覧表!Z35","v":""},null,"記録",{"$f":"男子一覧表!M35","v":0}]
["性","ゼッケン",null,"氏名",null,"学年","所属","性","ゼッケン",null,"氏名",null,"学年","所属"]
["男",{"$f":"男子一覧表!B35","v":0},null,{"$f":"IF(男子一覧表!B35=\"\",\"\",VLOOKUP(B73,男子一覧表!$B$13:$F$37,2,FALSE))","v":""},null,{"$f":"IF(男子一覧表!B35=\"\",\"\",VLOOKUP(B73,男子一覧表!$B$13:$F$37,3,FALSE))","v":""},{"$f":"IF(D73=\"\",\"\",男子一覧表!$A$7)","v":""},"男",{"$f":"IF(男子一覧表!L35=\"\",\"\",男子一覧表!B35)","v":""},null,{"$f":"IF(男子一覧表!L35=\"\",\"\",VLOOKUP(I73,男子一覧表!$B$13:$F$37,2,FALSE))","v":""},null,{"$f":"IF(男子一覧表!L35=\"\",\"\",VLOOKUP(I73,男子一覧表!$B$13:$F$37,3,FALSE))","v":""},{"$f":"IF(K73=\"\",\"\",男子一覧表!$A$7)","v":""}]
["種目",null,{"$f":"男子一覧表!Y36","v":""},null,"記録",{"$f":"男子一覧表!J36","v":0},null,"種目",null,{"$f":"男子一覧表!Z36","v":""},null,"記録",{"$f":"男子一覧表!M36","v":0}]
["性","ゼッケン",null,"氏名",null,"学年","所属","性","ゼッケン",null,"氏名",null,"学年","所属"]
["男",{"$f":"男子一覧表!B36","v":0},null,{"$f":"IF(男子一覧表!B36=\"\",\"\",VLOOKUP(B76,男子一覧表!$B$13:$F$37,2,FALSE))","v":""},null,{"$f":"IF(男子一覧表!B36=\"\",\"\",VLOOKUP(B76,男子一覧表!$B$13:$F$37,3,FALSE))","v":""},{"$f":"IF(D76=\"\",\"\",男子一覧表!$A$7)","v":""},"男",{"$f":"IF(男子一覧表!L36=\"\",\"\",男子一覧表!B36)","v":""},null,{"$f":"IF(男子一覧表!L36=\"\",\"\",VLOOKUP(I76,男子一覧表!$B$13:$F$37,2,FALSE))","v":""},null,{"$f":"IF(男子一覧表!L36=\"\",\"\",VLOOKUP(I76,男子一覧表!$B$13:$F$37,3,FALSE))","v":""},{"$f":"IF(K76=\"\",\"\",男子一覧表!$A$7)","v":""}]
["種目",null,{"$f":"男子一覧表!Y37","v":""},null,"記録",{"$f":"男子一覧表!J37","v":0},null,"種目",null,{"$f":"男子一覧表!Z37","v":""},null,"記録",{"$f":"男子一覧表!M37","v":0}]
["性","ゼッケン",null,"氏名",null,"学年","所属","性","ゼッケン",null,"氏名",null,"学年","所属"]
["男",{"$f":"男子一覧表!B37","v":0},null,{"$f":"IF(男子一覧表!B37=\"\",\"\",VLOOKUP(B79,男子一覧表!$B$13:$F$37,2,FALSE))","v":""},null,{"$f":"IF(男子一覧表!B37=\"\",\"\",VLOOKUP(B79,男子一覧表!$B$13:$F$37,3,FALSE))","v":""},{"$f":"IF(D79=\"\",\"\",男子一覧表!$A$7)","v":""},"男",{"$f":"IF(男子一覧表!L37=\"\",\"\",男子一覧表!B37)","v":""},null,{"$f":"IF(男子一覧表!L37=\"\",\"\",VLOOKUP(I79,男子一覧表!$B$13:$F$37,2,FALSE))","v":""},null,{"$f":"IF(男子一覧表!L37=\"\",\"\",VLOOKUP(I79,男子一覧表!$B$13:$F$37,3,FALSE))","v":""},{"$f":"IF(K79=\"\",\"\",男子一覧表!$A$7)","v":""}]
["男　子　個　　票　(26～50人）"]
["1種目目",null,null,null,null,null,null,"2種目目"]
["種目",null,{"$f":"男子一覧表!Y54","v":""},null,"記録",{"$f":"男子一覧表!J54","v":0},null,"種目",null,{"$f":"男子一覧表!Z54","v":""},null,"記録",{"$f":"男子一覧表!M54","v":0}]
["性","ゼッケン",null,"氏名",null,"学年","所属","性","ゼッケン",null,"氏名",null,"学年","所属"]
["男",{"$f":"男子一覧表!B54","v":0},null,{"$f":"IF(男子一覧表!B54=\"\",\"\",VLOOKUP(B84,男子一覧表!$B$13:$F$78,2,FALSE))","v":""},null,{"$f":"IF(男子一覧表!B54=\"\",\"\",VLOOKUP(B84,男子一覧表!$B$13:$F$78,3,FALSE))","v":""},{"$f":"IF(D84=\"\",\"\",男子一覧表!$A$7)","v":""},"男",{"$f":"IF(男子一覧表!L54=\"\",\"\",男子一覧表!B54)","v":""},null,{"$f":"IF(男子一覧表!L54=\"\",\"\",VLOOKUP(I84,男子一覧表!$B$13:$F$78,2,FALSE))","v":""},null,{"$f":"IF(男子一覧表!L54=\"\",\"\",VLOOKUP(I84,男子一覧表!$B$13:$F$78,3,FALSE))","v":""},{"$f":"IF(K84=\"\",\"\",男子一覧表!$A$7)","v":""}]
["種目",null,{"$f":"男子一覧表!Y55","v":""},null,"記録",{"$f":"男子一覧表!J55","v":0},null,"種目",null,{"$f":"男子一覧表!Z55","v":""},null,"記録",{"$f":"男子一覧表!M55","v":0}]
["性","ゼッケン",null,"氏名",null,"学年","所属","性","ゼッケン",null,"氏名",null,"学年","所属"]
["男",{"$f":"男子一覧表!B55","v":0},null,{"$f":"IF(男子一覧表!B55=\"\",\"\",VLOOKUP(B87,男子一覧表!$B$13:$F$78,2,FALSE))","v":""},null,{"$f":"IF(男子一覧表!B55=\"\",\"\",VLOOKUP(B87,男子一覧表!$B$13:$F$78,3,FALSE))","v":""},{"$f":"IF(D87=\"\",\"\",男子一覧表!$A$7)","v":""},"男",{"$f":"IF(男子一覧表!L55=\"\",\"\",男子一覧表!B55)","v":""},null,{"$f":"IF(男子一覧表!L55=\"\",\"\",VLOOKUP(I87,男子一覧表!$B$13:$F$78,2,FALSE))","v":""},null,{"$f":"IF(男子一覧表!L55=\"\",\"\",VLOOKUP(I87,男子一覧表!$B$13:$F$78,3,FALSE))","v":""},{"$f":"IF(K87=\"\",\"\",男子一覧表!$A$7)","v":""}]
["種目",null,{"$f":"男子一覧表!Y56","v":""},null,"記録",{"$f":"男子一覧表!J56","v":0},null,"種目",null,{"$f":"男子一覧表!Z56","v":""},null,"記録",{"$f":"男子一覧表!M56","v":0}]
["性","ゼッケン",null,"氏名",null,"学年","所属","性","ゼッケン",null,"氏名",null,"学年","所属"]
["男",{"$f":"男子一覧表!B56","v":0},null,{"$f":"IF(男子一覧表!B56=\"\",\"\",VLOOKUP(B90,男子一覧表!$B$13:$F$78,2,FALSE))","v":""},null,{"$f":"IF(男子一覧表!B56=\"\",\"\",VLOOKUP(B90,男子一覧表!$B$13:$F$78,3,FALSE))","v":""},{"$f":"IF(D90=\"\",\"\",男子一覧表!$A$7)","v":""},"男",{"$f":"IF(男子一覧表!L56=\"\",\"\",男子一覧表!B56)","v":""},null,{"$f":"IF(男子一覧表!L56=\"\",\"\",VLOOKUP(I90,男子一覧表!$B$13:$F$78,2,FALSE))","v":""},null,{"$f":"IF(男子一覧表!L56=\"\",\"\",VLOOKUP(I90,男子一覧表!$B$13:$F$78,3,FALSE))","v":""},{"$f":"IF(K90=\"\",\"\",男子一覧表!$A$7)","v":""}]
["種目",null,{"$f":"男子一覧表!Y57","v":""},null,"記録",{"$f":"男子一覧表!J57","v":0},null,"種目",null,{"$f":"男子一覧表!Z57","v":""},null,"記録",{"$f":"男子一覧表!M57","v":0}]
["性","ゼッケン",null,"氏名",null,"学年","所属","性","ゼッケン",null,"氏名",null,"学年","所属"]
["男",{"$f":"男子一覧表!B57","v":0},null,{"$f":"IF(男子一覧表!B57=\"\",\"\",VLOOKUP(B93,男子一覧表!$B$13:$F$78,2,FALSE))","v":""},null,{"$f":"IF(男子一覧表!B57=\"\",\"\",VLOOKUP(B93,男子一覧表!$B$13:$F$78,3,FALSE))","v":""},{"$f":"IF(D93=\"\",\"\",男子一覧表!$A$7)","v":""},"男",{"$f":"IF(男子一覧表!L57=\"\",\"\",男子一覧表!B57)","v":""},null,{"$f":"IF(男子一覧表!L57=\"\",\"\",VLOOKUP(I93,男子一覧表!$B$13:$F$78,2,FALSE))","v":""},null,{"$f":"IF(男子一覧表!L57=\"\",\"\",VLOOKUP(I93,男子一覧表!$B$13:$F$78,3,FALSE))","v":""},{"$f":"IF(K93=\"\",\"\",男子一覧表!$A$7)","v":""}]
["種目",null,{"$f":"男子一覧表!Y58","v":""},null,"記録",{"$f":"男子一覧表!J58","v":0},null,"種目",null,{"$f":"男子一覧表!Z58","v":""},null,"記録",{"$f":"男子一覧表!M58","v":0}]
["性","ゼッケン",null,"氏名",null,"学年","所属","性","ゼッケン",null,"氏名",null,"学年","所属"]
["男",{"$f":"男子一覧表!B58","v":0},null,{"$f":"IF(男子一覧表!B58=\"\",\"\",VLOOKUP(B96,男子一覧表!$B$13:$F$78,2,FALSE))","v":""},null,{"$f":"IF(男子一覧表!B58=\"\",\"\",VLOOKUP(B96,男子一覧表!$B$13:$F$78,3,FALSE))","v":""},{"$f":"IF(D96=\"\",\"\",男子一覧表!$A$7)","v":""},"男",{"$f":"IF(男子一覧表!L58=\"\",\"\",男子一覧表!B58)","v":""},null,{"$f":"IF(男子一覧表!L58=\"\",\"\",VLOOKUP(I96,男子一覧表!$B$13:$F$78,2,FALSE))","v":""},null,{"$f":"IF(男子一覧表!L58=\"\",\"\",VLOOKUP(I96,男子一覧表!$B$13:$F$78,3,FALSE))","v":""},{"$f":"IF(K96=\"\",\"\",男子一覧表!$A$7)","v":""}]
["種目",null,{"$f":"男子一覧表!Y59","v":""},null,"記録",{"$f":"男子一覧表!J59","v":0},null,"種目",null,{"$f":"男子一覧表!Z59","v":""},null,"記録",{"$f":"男子一覧表!M59","v":0}]
["性","ゼッケン",null,"氏名",null,"学年","所属","性","ゼッケン",null,"氏名",null,"学年","所属"]
["男",{"$f":"男子一覧表!B59","v":0},null,{"$f":"IF(男子一覧表!B59=\"\",\"\",VLOOKUP(B99,男子一覧表!$B$13:$F$78,2,FALSE))","v":""},null,{"$f":"IF(男子一覧表!B59=\"\",\"\",VLOOKUP(B99,男子一覧表!$B$13:$F$78,3,FALSE))","v":""},{"$f":"IF(D99=\"\",\"\",男子一覧表!$A$7)","v":""},"男",{"$f":"IF(男子一覧表!L59=\"\",\"\",男子一覧表!B59)","v":""},null,{"$f":"IF(男子一覧表!L59=\"\",\"\",VLOOKUP(I99,男子一覧表!$B$13:$F$78,2,FALSE))","v":""},null,{"$f":"IF(男子一覧表!L59=\"\",\"\",VLOOKUP(I99,男子一覧表!$B$13:$F$78,3,FALSE))","v":""},{"$f":"IF(K99=\"\",\"\",男子一覧表!$A$7)","v":""}]
["種目",null,{"$f":"男子一覧表!Y60","v":""},null,"記録",{"$f":"男子一覧表!J60","v":0},null,"種目",null,{"$f":"男子一覧表!Z60","v":""},null,"記録",{"$f":"男子一覧表!M60","v":0}]
["性","ゼッケン",null,"氏名",null,"学年","所属","性","ゼッケン",null,"氏名",null,"学年","所属"]
["男",{"$f":"男子一覧表!B60","v":0},null,{"$f":"IF(男子一覧表!B60=\"\",\"\",VLOOKUP(B102,男子一覧表!$B$13:$F$78,2,FALSE))","v":""},null,{"$f":"IF(男子一覧表!B60=\"\",\"\",VLOOKUP(B102,男子一覧表!$B$13:$F$78,3,FALSE))","v":""},{"$f":"IF(D102=\"\",\"\",男子一覧表!$A$7)","v":""},"男",{"$f":"IF(男子一覧表!L60=\"\",\"\",男子一覧表!B60)","v":""},null,{"$f":"IF(男子一覧表!L60=\"\",\"\",VLOOKUP(I102,男子一覧表!$B$13:$F$78,2,FALSE))","v":""},null,{"$f":"IF(男子一覧表!L60=\"\",\"\",VLOOKUP(I102,男子一覧表!$B$13:$F$78,3,FALSE))","v":""},{"$f":"IF(K102=\"\",\"\",男子一覧表!$A$7)","v":""}]
["種目",null,{"$f":"男子一覧表!Y61","v":""},null,"記録",{"$f":"男子一覧表!J61","v":0},null,"種目",null,{"$f":"男子一覧表!Z61","v":""},null,"記録",{"$f":"男子一覧表!M61","v":0}]
["性","ゼッケン",null,"氏名",null,"学年","所属","性","ゼッケン",null,"氏名",null,"学年","所属"]
["男",{"$f":"男子一覧表!B61","v":0},null,{"$f":"IF(男子一覧表!B61=\"\",\"\",VLOOKUP(B105,男子一覧表!$B$13:$F$78,2,FALSE))","v":""},null,{"$f":"IF(男子一覧表!B61=\"\",\"\",VLOOKUP(B105,男子一覧表!$B$13:$F$78,3,FALSE))","v":""},{"$f":"IF(D105=\"\",\"\",男子一覧表!$A$7)","v":""},"男",{"$f":"IF(男子一覧表!L61=\"\",\"\",男子一覧表!B61)","v":""},null,{"$f":"IF(男子一覧表!L61=\"\",\"\",VLOOKUP(I105,男子一覧表!$B$13:$F$78,2,FALSE))","v":""},null,{"$f":"IF(男子一覧表!L61=\"\",\"\",VLOOKUP(I105,男子一覧表!$B$13:$F$78,3,FALSE))","v":""},{"$f":"IF(K105=\"\",\"\",男子一覧表!$A$7)","v":""}]
["種目",null,{"$f":"男子一覧表!Y62","v":""},null,"記録",{"$f":"男子一覧表!J62","v":0},null,"種目",null,{"$f":"男子一覧表!Z62","v":""},null,"記録",{"$f":"男子一覧表!M62","v":0}]
["性","ゼッケン",null,"氏名",null,"学年","所属","性","ゼッケン",null,"氏名",null,"学年","所属"]
["男",{"$f":"男子一覧表!B62","v":0},null,{"$f":"IF(男子一覧表!B62=\"\",\"\",VLOOKUP(B108,男子一覧表!$B$13:$F$78,2,FALSE))","v":""},null,{"$f":"IF(男子一覧表!B62=\"\",\"\",VLOOKUP(B108,男子一覧表!$B$13:$F$78,3,FALSE))","v":""},{"$f":"IF(D108=\"\",\"\",男子一覧表!$A$7)","v":""},"男",{"$f":"IF(男子一覧表!L62=\"\",\"\",男子一覧表!B62)","v":""},null,{"$f":"IF(男子一覧表!L62=\"\",\"\",VLOOKUP(I108,男子一覧表!$B$13:$F$78,2,FALSE))","v":""},null,{"$f":"IF(男子一覧表!L62=\"\",\"\",VLOOKUP(I108,男子一覧表!$B$13:$F$78,3,FALSE))","v":""},{"$f":"IF(K108=\"\",\"\",男子一覧表!$A$7)","v":""}]
["種目",null,{"$f":"男子一覧表!Y63","v":""},null,"記録",{"$f":"男子一覧表!J63","v":0},null,"種目",null,{"$f":"男子一覧表!Z63","v":""},null,"記録",{"$f":"男子一覧表!M63","v":0}]
["性","ゼッケン",null,"氏名",null,"学年","所属","性","ゼッケン",null,"氏名",null,"学年","所属"]
["男",{"$f":"男子一覧表!B63","v":0},null,{"$f":"IF(男子一覧表!B63=\"\",\"\",VLOOKUP(B111,男子一覧表!$B$13:$F$78,2,FALSE))","v":""},null,{"$f":"IF(男子一覧表!B63=\"\",\"\",VLOOKUP(B111,男子一覧表!$B$13:$F$78,3,FALSE))","v":""},{"$f":"IF(D111=\"\",\"\",男子一覧表!$A$7)","v":""},"男",{"$f":"IF(男子一覧表!L63=\"\",\"\",男子一覧表!B63)","v":""},null,{"$f":"IF(男子一覧表!L63=\"\",\"\",VLOOKUP(I111,男子一覧表!$B$13:$F$78,2,FALSE))","v":""},null,{"$f":"IF(男子一覧表!L63=\"\",\"\",VLOOKUP(I111,男子一覧表!$B$13:$F$78,3,FALSE))","v":""},{"$f":"IF(K111=\"\",\"\",男子一覧表!$A$7)","v":""}]
["種目",null,{"$f":"男子一覧表!Y64","v":""},null,"記録",{"$f":"男子一覧表!J64","v":0},null,"種目",null,{"$f":"男子一覧表!Z64","v":""},null,"記録",{"$f":"男子一覧表!M64","v":0}]
["性","ゼッケン",null,"氏名",null,"学年","所属","性","ゼッケン",null,"氏名",null,"学年","所属"]
["男",{"$f":"男子一覧表!B64","v":0},null,{"$f":"IF(男子一覧表!B64=\"\",\"\",VLOOKUP(B114,男子一覧表!$B$13:$F$78,2,FALSE))","v":""},null,{"$f":"IF(男子一覧表!B64=\"\",\"\",VLOOKUP(B114,男子一覧表!$B$13:$F$78,3,FALSE))","v":""},{"$f":"IF(D114=\"\",\"\",男子一覧表!$A$7)","v":""},"男",{"$f":"IF(男子一覧表!L64=\"\",\"\",男子一覧表!B64)","v":""},null,{"$f":"IF(男子一覧表!L64=\"\",\"\",VLOOKUP(I114,男子一覧表!$B$13:$F$78,2,FALSE))","v":""},null,{"$f":"IF(男子一覧表!L64=\"\",\"\",VLOOKUP(I114,男子一覧表!$B$13:$F$78,3,FALSE))","v":""},{"$f":"IF(K114=\"\",\"\",男子一覧表!$A$7)","v":""}]
["種目",null,{"$f":"男子一覧表!Y65","v":""},null,"記録",{"$f":"男子一覧表!J65","v":0},null,"種目",null,{"$f":"男子一覧表!Z65","v":""},null,"記録",{"$f":"男子一覧表!M65","v":0}]
["性","ゼッケン",null,"氏名",null,"学年","所属","性","ゼッケン",null,"氏名",null,"学年","所属"]
["男",{"$f":"男子一覧表!B65","v":0},null,{"$f":"IF(男子一覧表!B65=\"\",\"\",VLOOKUP(B117,男子一覧表!$B$13:$F$78,2,FALSE))","v":""},null,{"$f":"IF(男子一覧表!B65=\"\",\"\",VLOOKUP(B117,男子一覧表!$B$13:$F$78,3,FALSE))","v":""},{"$f":"IF(D117=\"\",\"\",男子一覧表!$A$7)","v":""},"男",{"$f":"IF(男子一覧表!L65=\"\",\"\",男子一覧表!B65)","v":""},null,{"$f":"IF(男子一覧表!L65=\"\",\"\",VLOOKUP(I117,男子一覧表!$B$13:$F$78,2,FALSE))","v":""},null,{"$f":"IF(男子一覧表!L65=\"\",\"\",VLOOKUP(I117,男子一覧表!$B$13:$F$78,3,FALSE))","v":""},{"$f":"IF(K117=\"\",\"\",男子一覧表!$A$7)","v":""}]
["種目",null,{"$f":"男子一覧表!Y66","v":""},null,"記録",{"$f":"男子一覧表!J66","v":0},null,"種目",null,{"$f":"男子一覧表!Z66","v":""},null,"記録",{"$f":"男子一覧表!M66","v":0}]
["性","ゼッケン",null,"氏名",null,"学年","所属","性","ゼッケン",null,"氏名",null,"学年","所属"]
["男",{"$f":"男子一覧表!B66","v":0},null,{"$f":"IF(男子一覧表!B66=\"\",\"\",VLOOKUP(B120,男子一覧表!$B$13:$F$78,2,FALSE))","v":""},null,{"$f":"IF(男子一覧表!B66=\"\",\"\",VLOOKUP(B120,男子一覧表!$B$13:$F$78,3,FALSE))","v":""},{"$f":"IF(D120=\"\",\"\",男子一覧表!$A$7)","v":""},"男",{"$f":"IF(男子一覧表!L66=\"\",\"\",男子一覧表!B66)","v":""},null,{"$f":"IF(男子一覧表!L66=\"\",\"\",VLOOKUP(I120,男子一覧表!$B$13:$F$78,2,FALSE))","v":""},null,{"$f":"IF(男子一覧表!L66=\"\",\"\",VLOOKUP(I120,男子一覧表!$B$13:$F$78,3,FALSE))","v":""},{"$f":"IF(K120=\"\",\"\",男子一覧表!$A$7)","v":""}]
["種目",null,{"$f":"男子一覧表!Y67","v":""},null,"記録",{"$f":"男子一覧表!J67","v":0},null,"種目",null,{"$f":"男子一覧表!Z67","v":""},null,"記録",{"$f":"男子一覧表!M67","v":0}]
["性","ゼッケン",null,"氏名",null,"学年","所属","性","ゼッケン",null,"氏名",null,"学年","所属"]
["男",{"$f":"男子一覧表!B67","v":0},null,{"$f":"IF(男子一覧表!B67=\"\",\"\",VLOOKUP(B123,男子一覧表!$B$13:$F$78,2,FALSE))","v":""},null,{"$f":"IF(男子一覧表!B67=\"\",\"\",VLOOKUP(B123,男子一覧表!$B$13:$F$78,3,FALSE))","v":""},{"$f":"IF(D123=\"\",\"\",男子一覧表!$A$7)","v":""},"男",{"$f":"IF(男子一覧表!L67=\"\",\"\",男子一覧表!B67)","v":""},null,{"$f":"IF(男子一覧表!L67=\"\",\"\",VLOOKUP(I123,男子一覧表!$B$13:$F$78,2,FALSE))","v":""},null,{"$f":"IF(男子一覧表!L67=\"\",\"\",VLOOKUP(I123,男子一覧表!$B$13:$F$78,3,FALSE))","v":""},{"$f":"IF(K123=\"\",\"\",男子一覧表!$A$7)","v":""}]
["種目",null,{"$f":"男子一覧表!Y68","v":""},null,"記録",{"$f":"男子一覧表!J68","v":0},null,"種目",null,{"$f":"男子一覧表!Z68","v":""},null,"記録",{"$f":"男子一覧表!M68","v":0}]
["性","ゼッケン",null,"氏名",null,"学年","所属","性","ゼッケン",null,"氏名",null,"学年","所属"]
["男",{"$f":"男子一覧表!B68","v":0},null,{"$f":"IF(男子一覧表!B68=\"\",\"\",VLOOKUP(B126,男子一覧表!$B$13:$F$78,2,FALSE))","v":""},null,{"$f":"IF(男子一覧表!B68=\"\",\"\",VLOOKUP(B126,男子一覧表!$B$13:$F$78,3,FALSE))","v":""},{"$f":"IF(D126=\"\",\"\",男子一覧表!$A$7)","v":""},"男",{"$f":"IF(男子一覧表!L68=\"\",\"\",男子一覧表!B68)","v":""},null,{"$f":"IF(男子一覧表!L68=\"\",\"\",VLOOKUP(I126,男子一覧表!$B$13:$F$78,2,FALSE))","v":""},null,{"$f":"IF(男子一覧表!L68=\"\",\"\",VLOOKUP(I126,男子一覧表!$B$13:$F$78,3,FALSE))","v":""},{"$f":"IF(K126=\"\",\"\",男子一覧表!$A$7)","v":""}]
["種目",null,{"$f":"男子一覧表!Y69","v":""},null,"記録",{"$f":"男子一覧表!J69","v":0},null,"種目",null,{"$f":"男子一覧表!Z69","v":""},null,"記録",{"$f":"男子一覧表!M69","v":0}]
["性","ゼッケン",null,"氏名",null,"学年","所属","性","ゼッケン",null,"氏名",null,"学年","所属"]
["男",{"$f":"男子一覧表!B69","v":0},null,{"$f":"IF(男子一覧表!B69=\"\",\"\",VLOOKUP(B129,男子一覧表!$B$13:$F$78,2,FALSE))","v":""},null,{"$f":"IF(男子一覧表!B69=\"\",\"\",VLOOKUP(B129,男子一覧表!$B$13:$F$78,3,FALSE))","v":""},{"$f":"IF(D129=\"\",\"\",男子一覧表!$A$7)","v":""},"男",{"$f":"IF(男子一覧表!L69=\"\",\"\",男子一覧表!B69)","v":""},null,{"$f":"IF(男子一覧表!L69=\"\",\"\",VLOOKUP(I129,男子一覧表!$B$13:$F$78,2,FALSE))","v":""},null,{"$f":"IF(男子一覧表!L69=\"\",\"\",VLOOKUP(I129,男子一覧表!$B$13:$F$78,3,FALSE))","v":""},{"$f":"IF(K129=\"\",\"\",男子一覧表!$A$7)","v":""}]
["種目",null,{"$f":"男子一覧表!Y70","v":""},null,"記録",{"$f":"男子一覧表!J70","v":0},null,"種目",null,{"$f":"男子一覧表!Z70","v":""},null,"記録",{"$f":"男子一覧表!M70","v":0}]
["性","ゼッケン",null,"氏名",null,"学年","所属","性","ゼッケン",null,"氏名",null,"学年","所属"]
["男",{"$f":"男子一覧表!B70","v":0},null,{"$f":"IF(男子一覧表!B70=\"\",\"\",VLOOKUP(B132,男子一覧表!$B$13:$F$78,2,FALSE))","v":""},null,{"$f":"IF(男子一覧表!B70=\"\",\"\",VLOOKUP(B132,男子一覧表!$B$13:$F$78,3,FALSE))","v":""},{"$f":"IF(D132=\"\",\"\",男子一覧表!$A$7)","v":""},"男",{"$f":"IF(男子一覧表!L70=\"\",\"\",男子一覧表!B70)","v":""},null,{"$f":"IF(男子一覧表!L70=\"\",\"\",VLOOKUP(I132,男子一覧表!$B$13:$F$78,2,FALSE))","v":""},null,{"$f":"IF(男子一覧表!L70=\"\",\"\",VLOOKUP(I132,男子一覧表!$B$13:$F$78,3,FALSE))","v":""},{"$f":"IF(K132=\"\",\"\",男子一覧表!$A$7)","v":""}]
["種目",null,{"$f":"男子一覧表!Y71","v":""},null,"記録",{"$f":"男子一覧表!J71","v":0},null,"種目",null,{"$f":"男子一覧表!Z71","v":""},null,"記録",{"$f":"男子一覧表!M71","v":0}]
["性","ゼッケン",null,"氏名",null,"学年","所属","性","ゼッケン",null,"氏名",null,"学年","所属"]
["男",{"$f":"男子一覧表!B71","v":0},null,{"$f":"IF(男子一覧表!B71=\"\",\"\",VLOOKUP(B135,男子一覧表!$B$13:$F$78,2,FALSE))","v":""},null,{"$f":"IF(男子一覧表!B71=\"\",\"\",VLOOKUP(B135,男子一覧表!$B$13:$F$78,3,FALSE))","v":""},{"$f":"IF(D135=\"\",\"\",男子一覧表!$A$7)","v":""},"男",{"$f":"IF(男子一覧表!L71=\"\",\"\",男子一覧表!B71)","v":""},null,{"$f":"IF(男子一覧表!L71=\"\",\"\",VLOOKUP(I135,男子一覧表!$B$13:$F$78,2,FALSE))","v":""},null,{"$f":"IF(男子一覧表!L71=\"\",\"\",VLOOKUP(I135,男子一覧表!$B$13:$F$78,3,FALSE))","v":""},{"$f":"IF(K135=\"\",\"\",男子一覧表!$A$7)","v":""}]
["種目",null,{"$f":"男子一覧表!Y72","v":""},null,"記録",{"$f":"男子一覧表!J72","v":0},null,"種目",null,{"$f":"男子一覧表!Z72","v":""},null,"記録",{"$f":"男子一覧表!M72","v":0}]
["性","ゼッケン",null,"氏名",null,"学年","所属","性","ゼッケン",null,"氏名",null,"学年","所属"]
["男",{"$f":"男子一覧表!B72","v":0},null,{"$f":"IF(男子一覧表!B72=\"\",\"\",VLOOKUP(B138,男子一覧表!$B$13:$F$78,2,FALSE))","v":""},null,{"$f":"IF(男子一覧表!B72=\"\",\"\",VLOOKUP(B138,男子一覧表!$B$13:$F$78,3,FALSE))","v":""},{"$f":"IF(D138=\"\",\"\",男子一覧表!$A$7)","v":""},"男",{"$f":"IF(男子一覧表!L72=\"\",\"\",男子一覧表!B72)","v":""},null,{"$f":"IF(男子一覧表!L72=\"\",\"\",VLOOKUP(I138,男子一覧表!$B$13:$F$78,2,FALSE))","v":""},null,{"$f":"IF(男子一覧表!L72=\"\",\"\",VLOOKUP(I138,男子一覧表!$B$13:$F$78,3,FALSE))","v":""},{"$f":"IF(K138=\"\",\"\",男子一覧表!$A$7)","v":""}]
["種目",null,{"$f":"男子一覧表!Y73","v":""},null,"記録",{"$f":"男子一覧表!J73","v":0},null,"種目",null,{"$f":"男子一覧表!Z73","v":""},null,"記録",{"$f":"男子一覧表!M73","v":0}]
["性","ゼッケン",null,"氏名",null,"学年","所属","性","ゼッケン",null,"氏名",null,"学年","所属"]
["男",{"$f":"男子一覧表!B73","v":0},null,{"$f":"IF(男子一覧表!B73=\"\",\"\",VLOOKUP(B141,男子一覧表!$B$13:$F$78,2,FALSE))","v":""},null,{"$f":"IF(男子一覧表!B73=\"\",\"\",VLOOKUP(B141,男子一覧表!$B$13:$F$78,3,FALSE))","v":""},{"$f":"IF(D141=\"\",\"\",男子一覧表!$A$7)","v":""},"男",{"$f":"IF(男子一覧表!L73=\"\",\"\",男子一覧表!B73)","v":""},null,{"$f":"IF(男子一覧表!L73=\"\",\"\",VLOOKUP(I141,男子一覧表!$B$13:$F$78,2,FALSE))","v":""},null,{"$f":"IF(男子一覧表!L73=\"\",\"\",VLOOKUP(I141,男子一覧表!$B$13:$F$78,3,FALSE))","v":""},{"$f":"IF(K141=\"\",\"\",男子一覧表!$A$7)","v":""}]
["種目",null,{"$f":"男子一覧表!Y74","v":""},null,"記録",{"$f":"男子一覧表!J74","v":0},null,"種目",null,{"$f":"男子一覧表!Z74","v":""},null,"記録",{"$f":"男子一覧表!M74","v":0}]
["性","ゼッケン",null,"氏名",null,"学年","所属","性","ゼッケン",null,"氏名",null,"学年","所属"]
["男",{"$f":"男子一覧表!B74","v":0},null,{"$f":"IF(男子一覧表!B74=\"\",\"\",VLOOKUP(B144,男子一覧表!$B$13:$F$78,2,FALSE))","v":""},null,{"$f":"IF(男子一覧表!B74=\"\",\"\",VLOOKUP(B144,男子一覧表!$B$13:$F$78,3,FALSE))","v":""},{"$f":"IF(D144=\"\",\"\",男子一覧表!$A$7)","v":""},"男",{"$f":"IF(男子一覧表!L74=\"\",\"\",男子一覧表!B74)","v":""},null,{"$f":"IF(男子一覧表!L74=\"\",\"\",VLOOKUP(I144,男子一覧表!$B$13:$F$78,2,FALSE))","v":""},null,{"$f":"IF(男子一覧表!L74=\"\",\"\",VLOOKUP(I144,男子一覧表!$B$13:$F$78,3,FALSE))","v":""},{"$f":"IF(K144=\"\",\"\",男子一覧表!$A$7)","v":""}]
["種目",null,{"$f":"男子一覧表!Y75","v":""},null,"記録",{"$f":"男子一覧表!J75","v":0},null,"種目",null,{"$f":"男子一覧表!Z75","v":""},null,"記録",{"$f":"男子一覧表!M75","v":0}]
["性","ゼッケン",null,"氏名",null,"学年","所属","性","ゼッケン",null,"氏名",null,"学年","所属"]
["男",{"$f":"男子一覧表!B75","v":0},null,{"$f":"IF(男子一覧表!B75=\"\",\"\",VLOOKUP(B147,男子一覧表!$B$13:$F$78,2,FALSE))","v":""},null,{"$f":"IF(男子一覧表!B75=\"\",\"\",VLOOKUP(B147,男子一覧表!$B$13:$F$78,3,FALSE))","v":""},{"$f":"IF(D147=\"\",\"\",男子一覧表!$A$7)","v":""},"男",{"$f":"IF(男子一覧表!L75=\"\",\"\",男子一覧表!B75)","v":""},null,{"$f":"IF(男子一覧表!L75=\"\",\"\",VLOOKUP(I147,男子一覧表!$B$13:$F$78,2,FALSE))","v":""},null,{"$f":"IF(男子一覧表!L75=\"\",\"\",VLOOKUP(I147,男子一覧表!$B$13:$F$78,3,FALSE))","v":""},{"$f":"IF(K147=\"\",\"\",男子一覧表!$A$7)","v":""}]
["種目",null,{"$f":"男子一覧表!Y76","v":""},null,"記録",{"$f":"男子一覧表!J76","v":0},null,"種目",null,{"$f":"男子一覧表!Z76","v":""},null,"記録",{"$f":"男子一覧表!M76","v":0}]
["性","ゼッケン",null,"氏名",null,"学年","所属","性","ゼッケン",null,"氏名",null,"学年","所属"]
["男",{"$f":"男子一覧表!B76","v":0},null,{"$f":"IF(男子一覧表!B76=\"\",\"\",VLOOKUP(B150,男子一覧表!$B$13:$F$78,2,FALSE))","v":""},null,{"$f":"IF(男子一覧表!B76=\"\",\"\",VLOOKUP(B150,男子一覧表!$B$13:$F$78,3,FALSE))","v":""},{"$f":"IF(D150=\"\",\"\",男子一覧表!$A$7)","v":""},"男",{"$f":"IF(男子一覧表!L76=\"\",\"\",男子一覧表!B76)","v":""},null,{"$f":"IF(男子一覧表!L76=\"\",\"\",VLOOKUP(I150,男子一覧表!$B$13:$F$78,2,FALSE))","v":""},null,{"$f":"IF(男子一覧表!L76=\"\",\"\",VLOOKUP(I150,男子一覧表!$B$13:$F$78,3,FALSE))","v":""},{"$f":"IF(K150=\"\",\"\",男子一覧表!$A$7)","v":""}]
["種目",null,{"$f":"男子一覧表!Y77","v":""},null,"記録",{"$f":"男子一覧表!J77","v":0},null,"種目",null,{"$f":"男子一覧表!Z77","v":""},null,"記録",{"$f":"男子一覧表!M77","v":0}]
["性","ゼッケン",null,"氏名",null,"学年","所属","性","ゼッケン",null,"氏名",null,"学年","所属"]
["男",{"$f":"男子一覧表!B77","v":0},null,{"$f":"IF(男子一覧表!B77=\"\",\"\",VLOOKUP(B153,男子一覧表!$B$13:$F$78,2,FALSE))","v":""},null,{"$f":"IF(男子一覧表!B77=\"\",\"\",VLOOKUP(B153,男子一覧表!$B$13:$F$78,3,FALSE))","v":""},{"$f":"IF(D153=\"\",\"\",男子一覧表!$A$7)","v":""},"男",{"$f":"IF(男子一覧表!L77=\"\",\"\",男子一覧表!B77)","v":""},null,{"$f":"IF(男子一覧表!L77=\"\",\"\",VLOOKUP(I153,男子一覧表!$B$13:$F$78,2,FALSE))","v":""},null,{"$f":"IF(男子一覧表!L77=\"\",\"\",VLOOKUP(I153,男子一覧表!$B$13:$F$78,3,FALSE))","v":""},{"$f":"IF(K153=\"\",\"\",男子一覧表!$A$7)","v":""}]
["種目",null,{"$f":"男子一覧表!Y78","v":""},null,"記録",{"$f":"男子一覧表!J78","v":0},null,"種目",null,{"$f":"男子一覧表!Z78","v":""},null,"記録",{"$f":"男子一覧表!M78","v":0}]
["性","ゼッケン",null,"氏名",null,"学年","所属","性","ゼッケン",null,"氏名",null,"学年","所属"]
["男",{"$f":"男子一覧表!B78","v":0},null,{"$f":"IF(男子一覧表!B78=\"\",\"\",VLOOKUP(B156,男子一覧表!$B$13:$F$78,2,FALSE))","v":""},null,{"$f":"IF(男子一覧表!B78=\"\",\"\",VLOOKUP(B156,男子一覧表!$B$13:$F$78,3,FALSE))","v":""},{"$f":"IF(D156=\"\",\"\",男子一覧表!$A$7)","v":""},"男",{"$f":"IF(男子一覧表!L78=\"\",\"\",男子一覧表!B78)","v":""},null,{"$f":"IF(男子一覧表!L78=\"\",\"\",VLOOKUP(I156,男子一覧表!$B$13:$F$78,2,FALSE))","v":""},null,{"$f":"IF(男子一覧表!L78=\"\",\"\",VLOOKUP(I156,男子一覧表!$B$13:$F$78,3,FALSE))","v":""},{"$f":"IF(K156=\"\",\"\",男子一覧表!$A$7)","v":""}]
[]
["リレー個票"]
[]
["種目",null,null,null,"記録",null,null,"種目",null,null,null,"記録",null,null,null,null,"A",null,null,null,null,null,null,"4×100R"]
["所属",null,null,{"$f":"男子一覧表!$A$7","v":0},null,null,null,"所属",null,null,{"$f":"男子一覧表!$A$7","v":0},null,null,null,null,null,"B",null,null,null,null,null,null,"4×200R"]
["男","ゼッケン",null,"氏　　名",null,null,"学年","男","ゼッケン",null,"氏　　名",null,null,"学年",null,null,"C",null,null,null,null,null,null,"低学年400R"]
[null,null,null,{"$f":"IF(B163=\"\",\"\",VLOOKUP(B163,男子一覧表!$B$13:$C$78,2,FALSE))","v":""},null,null,{"$f":"IF(B163=\"\",\"\",VLOOKUP(B163,男子一覧表!$B$13:$E$78,3,FALSE))","v":""},null,null,null,{"$f":"IF(I163=\"\",\"\",VLOOKUP(I163,男子一覧表!$B$13:$C$78,2,FALSE))","v":""},null,null,{"$f":"IF(I163=\"\",\"\",VLOOKUP(I163,男子一覧表!$B$13:$E$78,3,FALSE))","v":""},null,null,"D"]
[null,null,null,{"$f":"IF(B164=\"\",\"\",VLOOKUP(B164,男子一覧表!$B$13:$C$78,2,FALSE))","v":""},null,null,{"$f":"IF(B164=\"\",\"\",VLOOKUP(B164,男子一覧表!$B$13:$E$78,3,FALSE))","v":""},null,null,null,{"$f":"IF(I164=\"\",\"\",VLOOKUP(I164,男子一覧表!$B$13:$C$78,2,FALSE))","v":""},null,null,{"$f":"IF(I164=\"\",\"\",VLOOKUP(I164,男子一覧表!$B$13:$E$78,3,FALSE))","v":""},null,null,"E"]
[null,null,null,{"$f":"IF(B165=\"\",\"\",VLOOKUP(B165,男子一覧表!$B$13:$C$78,2,FALSE))","v":""},null,null,{"$f":"IF(B165=\"\",\"\",VLOOKUP(B165,男子一覧表!$B$13:$E$78,3,FALSE))","v":""},null,null,null,{"$f":"IF(I165=\"\",\"\",VLOOKUP(I165,男子一覧表!$B$13:$C$78,2,FALSE))","v":""},null,null,{"$f":"IF(I165=\"\",\"\",VLOOKUP(I165,男子一覧表!$B$13:$E$78,3,FALSE))","v":""}]
[null,null,null,{"$f":"IF(B166=\"\",\"\",VLOOKUP(B166,男子一覧表!$B$13:$C$78,2,FALSE))","v":""},null,null,{"$f":"IF(B166=\"\",\"\",VLOOKUP(B166,男子一覧表!$B$13:$E$78,3,FALSE))","v":""},null,null,null,{"$f":"IF(I166=\"\",\"\",VLOOKUP(I166,男子一覧表!$B$13:$C$78,2,FALSE))","v":""},null,null,{"$f":"IF(I166=\"\",\"\",VLOOKUP(I166,男子一覧表!$B$13:$E$78,3,FALSE))","v":""}]
[null,null,null,{"$f":"IF(B167=\"\",\"\",VLOOKUP(B167,男子一覧表!$B$13:$C$78,2,FALSE))","v":""},null,null,{"$f":"IF(B167=\"\",\"\",VLOOKUP(B167,男子一覧表!$B$13:$E$78,3,FALSE))","v":""},null,null,null,{"$f":"IF(I167=\"\",\"\",VLOOKUP(I167,男子一覧表!$B$13:$C$78,2,FALSE))","v":""},null,null,{"$f":"IF(I167=\"\",\"\",VLOOKUP(I167,男子一覧表!$B$13:$E$78,3,FALSE))","v":""}]
[null,null,null,{"$f":"IF(B168=\"\",\"\",VLOOKUP(B168,男子一覧表!$B$13:$C$78,2,FALSE))","v":""},null,null,{"$f":"IF(B168=\"\",\"\",VLOOKUP(B168,男子一覧表!$B$13:$E$78,3,FALSE))","v":""},null,null,null,{"$f":"IF(I168=\"\",\"\",VLOOKUP(I168,男子一覧表!$B$13:$C$78,2,FALSE))","v":""},null,null,{"$f":"IF(I168=\"\",\"\",VLOOKUP(I168,男子一覧表!$B$13:$E$78,3,FALSE))","v":""}]
["種目",null,null,null,"記録",null,null,"種目",null,null,null,"記録"]
["所属",null,null,{"$f":"男子一覧表!$A$7","v":0},null,null,null,"所属",null,null,{"$f":"男子一覧表!$A$7","v":0}]
["男","ゼッケン",null,"氏　　名",null,null,"学年","男","ゼッケン",null,"氏　　名",null,null,"学年"]
[null,null,null,{"$f":"IF(B172=\"\",\"\",VLOOKUP(B172,男子一覧表!$B$13:$C$78,2,FALSE))","v":""},null,null,{"$f":"IF(B172=\"\",\"\",VLOOKUP(B172,男子一覧表!$B$13:$E$78,3,FALSE))","v":""},null,null,null,{"$f":"IF(I172=\"\",\"\",VLOOKUP(I172,男子一覧表!$B$13:$C$78,2,FALSE))","v":""},null,null,{"$f":"IF(I172=\"\",\"\",VLOOKUP(I172,男子一覧表!$B$13:$E$78,3,FALSE))","v":""}]
[null,null,null,{"$f":"IF(B173=\"\",\"\",VLOOKUP(B173,男子一覧表!$B$13:$C$78,2,FALSE))","v":""},null,null,{"$f":"IF(B173=\"\",\"\",VLOOKUP(B173,男子一覧表!$B$13:$E$78,3,FALSE))","v":""},null,null,null,{"$f":"IF(I173=\"\",\"\",VLOOKUP(I173,男子一覧表!$B$13:$C$78,2,FALSE))","v":""},null,null,{"$f":"IF(I173=\"\",\"\",VLOOKUP(I173,男子一覧表!$B$13:$E$78,3,FALSE))","v":""}]
[null,null,null,{"$f":"IF(B174=\"\",\"\",VLOOKUP(B174,男子一覧表!$B$13:$C$78,2,FALSE))","v":""},null,null,{"$f":"IF(B174=\"\",\"\",VLOOKUP(B174,男子一覧表!$B$13:$E$78,3,FALSE))","v":""},null,null,null,{"$f":"IF(I174=\"\",\"\",VLOOKUP(I174,男子一覧表!$B$13:$C$78,2,FALSE))","v":""},null,null,{"$f":"IF(I174=\"\",\"\",VLOOKUP(I174,男子一覧表!$B$13:$E$78,3,FALSE))","v":""}]
[null,null,null,{"$f":"IF(B175=\"\",\"\",VLOOKUP(B175,男子一覧表!$B$13:$C$78,2,FALSE))","v":""},null,null,{"$f":"IF(B175=\"\",\"\",VLOOKUP(B175,男子一覧表!$B$13:$E$78,3,FALSE))","v":""},null,null,null,{"$f":"IF(I175=\"\",\"\",VLOOKUP(I175,男子一覧表!$B$13:$C$78,2,FALSE))","v":""},null,null,{"$f":"IF(I175=\"\",\"\",VLOOKUP(I175,男子一覧表!$B$13:$E$78,3,FALSE))","v":""}]
[null,null,null,{"$f":"IF(B176=\"\",\"\",VLOOKUP(B176,男子一覧表!$B$13:$C$78,2,FALSE))","v":""},null,null,{"$f":"IF(B176=\"\",\"\",VLOOKUP(B176,男子一覧表!$B$13:$E$78,3,FALSE))","v":""},null,null,null,{"$f":"IF(I176=\"\",\"\",VLOOKUP(I176,男子一覧表!$B$13:$C$78,2,FALSE))","v":""},null,null,{"$f":"IF(I176=\"\",\"\",VLOOKUP(I176,男子一覧表!$B$13:$E$78,3,FALSE))","v":""}]
[null,null,null,{"$f":"IF(B177=\"\",\"\",VLOOKUP(B177,男子一覧表!$B$13:$C$78,2,FALSE))","v":""},null,null,{"$f":"IF(B177=\"\",\"\",VLOOKUP(B177,男子一覧表!$B$13:$E$78,3,FALSE))","v":""},null,null,null,{"$f":"IF(I177=\"\",\"\",VLOOKUP(I177,男子一覧表!$B$13:$C$78,2,FALSE))","v":""},null,null,{"$f":"IF(I177=\"\",\"\",VLOOKUP(I177,男子一覧表!$B$13:$E$78,3,FALSE))","v":""}]
["種目",null,null,null,"記録",null,null,"種目",null,null,null,"記録"]
["所属",null,null,{"$f":"男子一覧表!$A$7","v":0},null,null,null,"所属",null,null,{"$f":"男子一覧表!$A$7","v":0}]
["男","ゼッケン",null,"氏　　名",null,null,"学年","男","ゼッケン",null,"氏　　名",null,null,"学年"]
[null,null,null,{"$f":"IF(B181=\"\",\"\",VLOOKUP(B181,男子一覧表!$B$13:$C$78,2,FALSE))","v":""},null,null,{"$f":"IF(B181=\"\",\"\",VLOOKUP(B181,男子一覧表!$B$13:$E$78,3,FALSE))","v":""},null,null,null,{"$f":"IF(I181=\"\",\"\",VLOOKUP(I181,男子一覧表!$B$13:$C$78,2,FALSE))","v":""},null,null,{"$f":"IF(I181=\"\",\"\",VLOOKUP(I181,男子一覧表!$B$13:$E$78,3,FALSE))","v":""}]
[null,null,null,{"$f":"IF(B182=\"\",\"\",VLOOKUP(B182,男子一覧表!$B$13:$C$78,2,FALSE))","v":""},null,null,{"$f":"IF(B182=\"\",\"\",VLOOKUP(B182,男子一覧表!$B$13:$E$78,3,FALSE))","v":""},null,null,null,{"$f":"IF(I182=\"\",\"\",VLOOKUP(I182,男子一覧表!$B$13:$C$78,2,FALSE))","v":""},null,null,{"$f":"IF(I182=\"\",\"\",VLOOKUP(I182,男子一覧表!$B$13:$E$78,3,FALSE))","v":""}]
[null,null,null,{"$f":"IF(B183=\"\",\"\",VLOOKUP(B183,男子一覧表!$B$13:$C$78,2,FALSE))","v":""},null,null,{"$f":"IF(B183=\"\",\"\",VLOOKUP(B183,男子一覧表!$B$13:$E$78,3,FALSE))","v":""},null,null,null,{"$f":"IF(I183=\"\",\"\",VLOOKUP(I183,男子一覧表!$B$13:$C$78,2,FALSE))","v":""},null,null,{"$f":"IF(I183=\"\",\"\",VLOOKUP(I183,男子一覧表!$B$13:$E$78,3,FALSE))","v":""}]
[null,null,null,{"$f":"IF(B184=\"\",\"\",VLOOKUP(B184,男子一覧表!$B$13:$C$78,2,FALSE))","v":""},null,null,{"$f":"IF(B184=\"\",\"\",VLOOKUP(B184,男子一覧表!$B$13:$E$78,3,FALSE))","v":""},null,null,null,{"$f":"IF(I184=\"\",\"\",VLOOKUP(I184,男子一覧表!$B$13:$C$78,2,FALSE))","v":""},null,null,{"$f":"IF(I184=\"\",\"\",VLOOKUP(I184,男子一覧表!$B$13:$E$78,3,FALSE))","v":""}]
[null,null,null,{"$f":"IF(B185=\"\",\"\",VLOOKUP(B185,男子一覧表!$B$13:$C$78,2,FALSE))","v":""},null,null,{"$f":"IF(B185=\"\",\"\",VLOOKUP(B185,男子一覧表!$B$13:$E$78,3,FALSE))","v":""},null,null,null,{"$f":"IF(I185=\"\",\"\",VLOOKUP(I185,男子一覧表!$B$13:$C$78,2,FALSE))","v":""},null,null,{"$f":"IF(I185=\"\",\"\",VLOOKUP(I185,男子一覧表!$B$13:$E$78,3,FALSE))","v":""}]
[null,null,null,{"$f":"IF(B186=\"\",\"\",VLOOKUP(B186,男子一覧表!$B$13:$C$78,2,FALSE))","v":""},null,null,{"$f":"IF(B186=\"\",\"\",VLOOKUP(B186,男子一覧表!$B$13:$E$78,3,FALSE))","v":""},null,null,null,{"$f":"IF(I186=\"\",\"\",VLOOKUP(I186,男子一覧表!$B$13:$C$78,2,FALSE))","v":""},null,null,{"$f":"IF(I186=\"\",\"\",VLOOKUP(I186,男子一覧表!$B$13:$E$78,3,FALSE))","v":""}]
["種目",null,null,null,"記録",null,null,"種目",null,null,null,"記録",null,null,null,null,"A"]
["所属",null,null,{"$f":"男子一覧表!$A$7","v":0},null,null,null,"所属",null,null,{"$f":"男子一覧表!$A$7","v":0},null,null,null,null,null,"B"]
[null,"ゼッケン",null,"氏　　名",null,null,"学年",null,"ゼッケン",null,"氏　　名",null,null,"学年",null,null,"C"]
[null,null,null,{"$f":"IF(B190=\"\",\"\",VLOOKUP(B190,男子一覧表!$B$13:$C$78,2,FALSE))","v":""},null,null,{"$f":"IF(B190=\"\",\"\",VLOOKUP(B190,男子一覧表!$B$13:$E$78,3,FALSE))","v":""},null,null,null,{"$f":"IF(I190=\"\",\"\",VLOOKUP(I190,男子一覧表!$B$13:$C$78,2,FALSE))","v":""},null,null,{"$f":"IF(I190=\"\",\"\",VLOOKUP(I190,男子一覧表!$B$13:$E$78,3,FALSE))","v":""},null,null,"D"]
[null,null,null,{"$f":"IF(B191=\"\",\"\",VLOOKUP(B191,男子一覧表!$B$13:$C$78,2,FALSE))","v":""},null,null,{"$f":"IF(B191=\"\",\"\",VLOOKUP(B191,男子一覧表!$B$13:$E$78,3,FALSE))","v":""},null,null,null,{"$f":"IF(I191=\"\",\"\",VLOOKUP(I191,男子一覧表!$B$13:$C$78,2,FALSE))","v":""},null,null,{"$f":"IF(I191=\"\",\"\",VLOOKUP(I191,男子一覧表!$B$13:$E$78,3,FALSE))","v":""},null,null,"E"]
[null,null,null,{"$f":"IF(B192=\"\",\"\",VLOOKUP(B192,男子一覧表!$B$13:$C$78,2,FALSE))","v":""},null,null,{"$f":"IF(B192=\"\",\"\",VLOOKUP(B192,男子一覧表!$B$13:$E$78,3,FALSE))","v":""},null,null,null,{"$f":"IF(I192=\"\",\"\",VLOOKUP(I192,男子一覧表!$B$13:$C$78,2,FALSE))","v":""},null,null,{"$f":"IF(I192=\"\",\"\",VLOOKUP(I192,男子一覧表!$B$13:$E$78,3,FALSE))","v":""}]
[null,null,null,{"$f":"IF(B193=\"\",\"\",VLOOKUP(B193,男子一覧表!$B$13:$C$78,2,FALSE))","v":""},null,null,{"$f":"IF(B193=\"\",\"\",VLOOKUP(B193,男子一覧表!$B$13:$E$78,3,FALSE))","v":""},null,null,null,{"$f":"IF(I193=\"\",\"\",VLOOKUP(I193,男子一覧表!$B$13:$C$78,2,FALSE))","v":""},null,null,{"$f":"IF(I193=\"\",\"\",VLOOKUP(I193,男子一覧表!$B$13:$E$78,3,FALSE))","v":""}]
[null,null,null,{"$f":"IF(B194=\"\",\"\",VLOOKUP(B194,男子一覧表!$B$13:$C$78,2,FALSE))","v":""},null,null,{"$f":"IF(B194=\"\",\"\",VLOOKUP(B194,男子一覧表!$B$13:$E$78,3,FALSE))","v":""},null,null,null,{"$f":"IF(I194=\"\",\"\",VLOOKUP(I194,男子一覧表!$B$13:$C$78,2,FALSE))","v":""},null,null,{"$f":"IF(I194=\"\",\"\",VLOOKUP(I194,男子一覧表!$B$13:$E$78,3,FALSE))","v":""}]
[null,null,null,{"$f":"IF(B195=\"\",\"\",VLOOKUP(B195,男子一覧表!$B$13:$C$78,2,FALSE))","v":""},null,null,{"$f":"IF(B195=\"\",\"\",VLOOKUP(B195,男子一覧表!$B$13:$E$78,3,FALSE))","v":""},null,null,null,{"$f":"IF(I195=\"\",\"\",VLOOKUP(I195,男子一覧表!$B$13:$C$78,2,FALSE))","v":""},null,null,{"$f":"IF(I195=\"\",\"\",VLOOKUP(I195,男子一覧表!$B$13:$E$78,3,FALSE))","v":""}]

{"sheet":"女子一覧表","index":22,"n_rows":81,"n_cols":29,"rows_kept":81,"cut":false,"hidden":false,"merged":[[58,3,58,4],[54,3,54,4],[53,3,53,4],[64,3,64,4],[56,3,56,4],[57,3,57,4],[59,3,59,4],[60,3,60,4],[62,3,62,4],[37,11,37,13],[39,12,39,13],[43,9,43,13],[50,1,51,1],[45,0,46,2],[52,3,52,4],[55,3,55,4],[78,11,78,13],[80,12,80,13],[76,3,76,4],[77,3,77,4],[74,3,74,4],[75,3,75,4],[68,3,68,4],[61,3,61,4],[73,3,73,4],[70,3,70,4],[69,3,69,4],[71,3,71,4],[67,3,67,4],[63,3,63,4],[72,3,72,4],[66,3,66,4],[65,3,65,4],[50,2,51,2],[50,3,51,4],[45,3,46,7],[47,0,48,2],[47,3,49,6],[49,0,49,2],[50,0,51,0],[47,7,49,7],[51,10,51,12],[50,6,51,6],[45,12,46,12],[50,8,50,12],[51,7,51,9],[50,5,51,5],[49,9,49,13],[47,9,47,11],[45,9,46,11],[45,13,46,13],[45,8,46,8],[48,9,48,13],[34,3,34,4],[35,3,35,4],[29,3,29,4],[44,0,44,2],[44,3,44,8],[33,3,33,4],[31,3,31,4],[43,0,43,1],[32,3,32,4],[30,3,30,4],[36,3,36,4],[42,0,42,1],[24,3,24,4],[26,3,26,4],[28,3,28,4],[25,3,25,4],[27,3,27,4],[9,1,10,1],[11,3,11,4],[14,3,14,4],[20,3,20,4],[19,3,19,4],[22,3,22,4],[23,3,23,4],[15,3,15,4],[13,3,13,4],[16,3,16,4],[17,3,17,4],[21,3,21,4],[18,3,18,4],[12,3,12,4],[9,8,9,12],[8,0,8,2],[9,0,10,0],[9,3,10,4],[9,6,10,6],[10,10,10,12],[9,5,10,5],[10,7,10,9],[6,3,8,6],[9,2,10,2],[6,0,7,2],[1,0,1,1],[3,0,3,2],[3,3,3,8],[4,0,5,2],[4,8,5,8],[2,0,2,1],[2,9,2,13],[4,3,5,7],[6,7,8,7],[4,13,5,13],[8,9,8,13],[6,9,6,11],[7,9,7,13],[4,9,5,11],[4,12,5,12]]}
[null,null,null,null,null,"陸上競技大会申込者一覧表",null,null,null,null,null,null,null,"様式④",null,null,null,null,null,null,null,null,null,null,null,null,"中学生"]
["様式④",null,null,null,null,null,null,null,null,null,null,"参加料",null,"円",null,null,null,null,null,null,null,null,null,null,null,null,"1年"]
["女子",null,null,null,null,null,null,null,"大会名",null,null,null,null,null,null,null,null,null,null,null,null,null,null,null,null,null,"2年"]
["※男子は別紙に記入願います。",null,null,null,null,null,null,null,null,null,null,null,null,null,null,null,null,null,null,null,null,null,null,null,null,null,"3年"]
["所属団体名",null,null,"所属長名・印",null,null,null,null,"監督名",{"$f":"名簿!$D$1","v":0},null,null,"所属　　コード",{"$f":"名簿!C4","v":0},null,null,null,null,null,null,null,null,null,null,null,null,"共通"]
[]
[{"$f":"名簿!$O$4","v":0},null,null,null,null,null,null,"印","監督連絡",{"$f":"名簿!$I$1","v":0},null,null,"FAX"]
[null,null,null,null,null,null,null,null,"携帯電話",{"$f":"J7","v":0}]
["略称５文字以内で",null,null,null,null,null,null,null,"mailアドレス"]
[null,"NO","競技者名（漢字）","学年",null,"競技者名（カナ）","姓",null,"種目",null,null,null,null,"リレー",null,null,null,null,null,null,null,null,null,null,null,null,"100m",null,"400R　A"]
[null,null,null,null,null,null,null,"種目１",null,null,"種目２",null,null,null,null,null,null,null,null,null,null,null,null,null,null,null,"200m",null,"400R　B"]
["※","記入例","三重一子",3,null,"ﾐｴﾀﾛｳ","女","中学","100ｍ","記録","中学","80mH","記録","4×100R",null,null,null,null,null,null,null,null,null,null,null,null,"800m",null,"400R　C"]
[1,null,{"$f":"IF(B13=\"\",\"\",VLOOKUP(B13,名簿!$E$4:$J$184,3,FALSE))","v":""},{"$f":"IF(B13=\"\",\"\",VLOOKUP(B13,名簿!$E$4:$J$184,5,FALSE))","v":""},null,{"$f":"IF(B13=\"\",\"\",VLOOKUP(B13,名簿!$E$4:$W$184,4,FALSE))","v":""},{"$f":"IF(B13=\"\",\"\",VLOOKUP(B13,名簿!$E$4:$J$184,6,FALSE))","v":""},null,null,null,null,null,null,null,null,null,null,null,"60m","A",null,null,null,null,{"$f":"CONCATENATE(H13,I13)","v":""},{"$f":"CONCATENATE(K13,L13)","v":""},"1500m",null,"400R　D"]
[2,null,{"$f":"IF(B14=\"\",\"\",VLOOKUP(B14,名簿!$E$4:$J$184,3,FALSE))","v":""},{"$f":"IF(B14=\"\",\"\",VLOOKUP(B14,名簿!$E$4:$J$184,5,FALSE))","v":""},null,{"$f":"IF(B14=\"\",\"\",VLOOKUP(B14,名簿!$E$4:$W$184,4,FALSE))","v":""},{"$f":"IF(B14=\"\",\"\",VLOOKUP(B14,名簿!$E$4:$J$184,6,FALSE))","v":""},null,null,null,null,null,null,null,null,null,null,null,"100m","B",null,null,null,null,"","","2000m",null,"低学年　A"]
[3,null,{"$f":"IF(B15=\"\",\"\",VLOOKUP(B15,名簿!$E$4:$J$184,3,FALSE))","v":""},{"$f":"IF(B15=\"\",\"\",VLOOKUP(B15,名簿!$E$4:$J$184,5,FALSE))","v":""},null,{"$f":"IF(B15=\"\",\"\",VLOOKUP(B15,名簿!$E$4:$W$184,4,FALSE))","v":""},{"$f":"IF(B15=\"\",\"\",VLOOKUP(B15,名簿!$E$4:$J$184,6,FALSE))","v":""},null,null,null,null,null,null,null,null,null,null,null,"800m","C",null,null,null,null,"","","3000m",null,"低学年　B"]
[4,null,{"$f":"IF(B16=\"\",\"\",VLOOKUP(B16,名簿!$E$4:$J$184,3,FALSE))","v":""},{"$f":"IF(B16=\"\",\"\",VLOOKUP(B16,名簿!$E$4:$J$184,5,FALSE))","v":""},null,{"$f":"IF(B16=\"\",\"\",VLOOKUP(B16,名簿!$E$4:$W$184,4,FALSE))","v":""},{"$f":"IF(B16=\"\",\"\",VLOOKUP(B16,名簿!$E$4:$J$184,6,FALSE))","v":""},null,null,null,null,null,null,null,null,null,null,null,"1000m","D",null,null,null,null,"","","100mYH",null,"低学年　C"]
[5,null,{"$f":"IF(B17=\"\",\"\",VLOOKUP(B17,名簿!$E$4:$J$184,3,FALSE))","v":""},{"$f":"IF(B17=\"\",\"\",VLOOKUP(B17,名簿!$E$4:$J$184,5,FALSE))","v":""},null,{"$f":"IF(B17=\"\",\"\",VLOOKUP(B17,名簿!$E$4:$W$184,4,FALSE))","v":""},{"$f":"IF(B17=\"\",\"\",VLOOKUP(B17,名簿!$E$4:$J$184,6,FALSE))","v":""},null,null,null,null,null,null,null,null,null,null,null,"1500m","E",null,null,null,null,"","","100mJH",null,"低学年　D"]
[6,null,{"$f":"IF(B18=\"\",\"\",VLOOKUP(B18,名簿!$E$4:$J$184,3,FALSE))","v":""},{"$f":"IF(B18=\"\",\"\",VLOOKUP(B18,名簿!$E$4:$J$184,5,FALSE))","v":""},null,{"$f":"IF(B18=\"\",\"\",VLOOKUP(B18,名簿!$E$4:$W$184,4,FALSE))","v":""},{"$f":"IF(B18=\"\",\"\",VLOOKUP(B18,名簿!$E$4:$J$184,6,FALSE))","v":""},null,null,null,null,null,null,null,null,null,null,null,"80mH","混成A",null,null,null,null,"","","100mH"]
[7,null,{"$f":"IF(B19=\"\",\"\",VLOOKUP(B19,名簿!$E$4:$J$184,3,FALSE))","v":""},{"$f":"IF(B19=\"\",\"\",VLOOKUP(B19,名簿!$E$4:$J$184,5,FALSE))","v":""},null,{"$f":"IF(B19=\"\",\"\",VLOOKUP(B19,名簿!$E$4:$W$184,4,FALSE))","v":""},{"$f":"IF(B19=\"\",\"\",VLOOKUP(B19,名簿!$E$4:$J$184,6,FALSE))","v":""},null,null,null,null,null,null,null,null,null,null,null,"走高跳","混成B",null,null,null,null,"","","走高跳"]
[8,null,{"$f":"IF(B20=\"\",\"\",VLOOKUP(B20,名簿!$E$4:$J$184,3,FALSE))","v":""},{"$f":"IF(B20=\"\",\"\",VLOOKUP(B20,名簿!$E$4:$J$184,5,FALSE))","v":""},null,{"$f":"IF(B20=\"\",\"\",VLOOKUP(B20,名簿!$E$4:$W$184,4,FALSE))","v":""},{"$f":"IF(B20=\"\",\"\",VLOOKUP(B20,名簿!$E$4:$J$184,6,FALSE))","v":""},null,null,null,null,null,null,null,null,null,null,null,"走幅跳","混成C",null,null,null,null,"","","棒高跳"]
[9,null,{"$f":"IF(B21=\"\",\"\",VLOOKUP(B21,名簿!$E$4:$J$184,3,FALSE))","v":""},{"$f":"IF(B21=\"\",\"\",VLOOKUP(B21,名簿!$E$4:$J$184,5,FALSE))","v":""},null,{"$f":"IF(B21=\"\",\"\",VLOOKUP(B21,名簿!$E$4:$W$184,4,FALSE))","v":""},{"$f":"IF(B21=\"\",\"\",VLOOKUP(B21,名簿!$E$4:$J$184,6,FALSE))","v":""},null,null,null,null,null,null,null,null,null,null,null,"ボール投","混成D",null,null,null,null,"","","走幅跳"]
[10,null,{"$f":"IF(B22=\"\",\"\",VLOOKUP(B22,名簿!$E$4:$J$184,3,FALSE))","v":""},{"$f":"IF(B22=\"\",\"\",VLOOKUP(B22,名簿!$E$4:$J$184,5,FALSE))","v":""},null,{"$f":"IF(B22=\"\",\"\",VLOOKUP(B22,名簿!$E$4:$W$184,4,FALSE))","v":""},{"$f":"IF(B22=\"\",\"\",VLOOKUP(B22,名簿!$E$4:$J$184,6,FALSE))","v":""},null,null,null,null,null,null,null,null,null,null,null,null,"混成E",null,null,null,null,"","","三段跳"]
[11,null,{"$f":"IF(B23=\"\",\"\",VLOOKUP(B23,名簿!$E$4:$J$184,3,FALSE))","v":""},{"$f":"IF(B23=\"\",\"\",VLOOKUP(B23,名簿!$E$4:$J$184,5,FALSE))","v":""},null,{"$f":"IF(B23=\"\",\"\",VLOOKUP(B23,名簿!$E$4:$W$184,4,FALSE))","v":""},{"$f":"IF(B23=\"\",\"\",VLOOKUP(B23,名簿!$E$4:$J$184,6,FALSE))","v":""},null,null,null,null,null,null,null,null,null,null,null,null,null,null,null,null,null,"","","砲丸投"]
[12,null,{"$f":"IF(B24=\"\",\"\",VLOOKUP(B24,名簿!$E$4:$J$184,3,FALSE))","v":""},{"$f":"IF(B24=\"\",\"\",VLOOKUP(B24,名簿!$E$4:$J$184,5,FALSE))","v":""},null,{"$f":"IF(B24=\"\",\"\",VLOOKUP(B24,名簿!$E$4:$W$184,4,FALSE))","v":""},{"$f":"IF(B24=\"\",\"\",VLOOKUP(B24,名簿!$E$4:$J$184,6,FALSE))","v":""},null,null,null,null,null,null,null,null,null,null,null,null,null,null,null,null,null,"","","円盤投"]
[13,null,{"$f":"IF(B25=\"\",\"\",VLOOKUP(B25,名簿!$E$4:$J$184,3,FALSE))","v":""},{"$f":"IF(B25=\"\",\"\",VLOOKUP(B25,名簿!$E$4:$J$184,5,FALSE))","v":""},null,{"$f":"IF(B25=\"\",\"\",VLOOKUP(B25,名簿!$E$4:$W$184,4,FALSE))","v":""},{"$f":"IF(B25=\"\",\"\",VLOOKUP(B25,名簿!$E$4:$J$184,6,FALSE))","v":""},null,null,null,null,null,null,null,null,null,null,null,null,null,null,null,null,null,"","","ｼﾞｬﾍﾞﾘｯｸ"]
[14,null,{"$f":"IF(B26=\"\",\"\",VLOOKUP(B26,名簿!$E$4:$J$184,3,FALSE))","v":""},{"$f":"IF(B26=\"\",\"\",VLOOKUP(B26,名簿!$E$4:$J$184,5,FALSE))","v":""},null,{"$f":"IF(B26=\"\",\"\",VLOOKUP(B26,名簿!$E$4:$W$184,4,FALSE))","v":""},{"$f":"IF(B26=\"\",\"\",VLOOKUP(B26,名簿!$E$4:$J$184,6,FALSE))","v":""},null,null,null,null,null,null,null,null,null,null,null,null,null,null,null,null,null,"","","4種競技"]
[15,null,{"$f":"IF(B27=\"\",\"\",VLOOKUP(B27,名簿!$E$4:$J$184,3,FALSE))","v":""},{"$f":"IF(B27=\"\",\"\",VLOOKUP(B27,名簿!$E$4:$J$184,5,FALSE))","v":""},null,{"$f":"IF(B27=\"\",\"\",VLOOKUP(B27,名簿!$E$4:$W$184,4,FALSE))","v":""},{"$f":"IF(B27=\"\",\"\",VLOOKUP(B27,名簿!$E$4:$J$184,6,FALSE))","v":""},null,null,null,null,null,null,null,null,null,null,null,null,null,null,null,null,null,"",""]
[16,null,{"$f":"IF(B28=\"\",\"\",VLOOKUP(B28,名簿!$E$4:$J$184,3,FALSE))","v":""},{"$f":"IF(B28=\"\",\"\",VLOOKUP(B28,名簿!$E$4:$J$184,5,FALSE))","v":""},null,{"$f":"IF(B28=\"\",\"\",VLOOKUP(B28,名簿!$E$4:$W$184,4,FALSE))","v":""},{"$f":"IF(B28=\"\",\"\",VLOOKUP(B28,名簿!$E$4:$J$184,6,FALSE))","v":""},null,null,null,null,null,null,null,null,null,null,null,null,null,null,null,null,null,"",""]
[17,null,{"$f":"IF(B29=\"\",\"\",VLOOKUP(B29,名簿!$E$4:$J$184,3,FALSE))","v":""},{"$f":"IF(B29=\"\",\"\",VLOOKUP(B29,名簿!$E$4:$J$184,5,FALSE))","v":""},null,{"$f":"IF(B29=\"\",\"\",VLOOKUP(B29,名簿!$E$4:$W$184,4,FALSE))","v":""},{"$f":"IF(B29=\"\",\"\",VLOOKUP(B29,名簿!$E$4:$J$184,6,FALSE))","v":""},null,null,null,null,null,null,null,null,null,null,null,null,null,null,null,null,null,"",""]
[18,null,{"$f":"IF(B30=\"\",\"\",VLOOKUP(B30,名簿!$E$4:$J$184,3,FALSE))","v":""},{"$f":"IF(B30=\"\",\"\",VLOOKUP(B30,名簿!$E$4:$J$184,5,FALSE))","v":""},null,{"$f":"IF(B30=\"\",\"\",VLOOKUP(B30,名簿!$E$4:$W$184,4,FALSE))","v":""},{"$f":"IF(B30=\"\",\"\",VLOOKUP(B30,名簿!$E$4:$J$184,6,FALSE))","v":""},null,null,null,null,null,null,null,null,null,null,null,null,null,null,null,null,null,"",""]
[19,null,{"$f":"IF(B31=\"\",\"\",VLOOKUP(B31,名簿!$E$4:$J$184,3,FALSE))","v":""},{"$f":"IF(B31=\"\",\"\",VLOOKUP(B31,名簿!$E$4:$J$184,5,FALSE))","v":""},null,{"$f":"IF(B31=\"\",\"\",VLOOKUP(B31,名簿!$E$4:$W$184,4,FALSE))","v":""},{"$f":"IF(B31=\"\",\"\",VLOOKUP(B31,名簿!$E$4:$J$184,6,FALSE))","v":""},null,null,null,null,null,null,null,null,null,null,null,null,null,null,null,null,null,"",""]
[20,null,{"$f":"IF(B32=\"\",\"\",VLOOKUP(B32,名簿!$E$4:$J$184,3,FALSE))","v":""},{"$f":"IF(B32=\"\",\"\",VLOOKUP(B32,名簿!$E$4:$J$184,5,FALSE))","v":""},null,{"$f":"IF(B32=\"\",\"\",VLOOKUP(B32,名簿!$E$4:$W$184,4,FALSE))","v":""},{"$f":"IF(B32=\"\",\"\",VLOOKUP(B32,名簿!$E$4:$J$184,6,FALSE))","v":""},null,null,null,null,null,null,null,null,null,null,null,null,null,null,null,null,null,"",""]
[21,null,{"$f":"IF(B33=\"\",\"\",VLOOKUP(B33,名簿!$E$4:$J$184,3,FALSE))","v":""},{"$f":"IF(B33=\"\",\"\",VLOOKUP(B33,名簿!$E$4:$J$184,5,FALSE))","v":""},null,{"$f":"IF(B33=\"\",\"\",VLOOKUP(B33,名簿!$E$4:$W$184,4,FALSE))","v":""},{"$f":"IF(B33=\"\",\"\",VLOOKUP(B33,名簿!$E$4:$J$184,6,FALSE))","v":""},null,null,null,null,null,null,null,null,null,null,null,null,null,null,null,null,null,"",""]
[22,null,{"$f":"IF(B34=\"\",\"\",VLOOKUP(B34,名簿!$E$4:$J$184,3,FALSE))","v":""},{"$f":"IF(B34=\"\",\"\",VLOOKUP(B34,名簿!$E$4:$J$184,5,FALSE))","v":""},null,{"$f":"IF(B34=\"\",\"\",VLOOKUP(B34,名簿!$E$4:$W$184,4,FALSE))","v":""},{"$f":"IF(B34=\"\",\"\",VLOOKUP(B34,名簿!$E$4:$J$184,6,FALSE))","v":""},null,null,null,null,null,null,null,null,null,null,null,null,null,null,null,null,null,"",""]
[23,null,{"$f":"IF(B35=\"\",\"\",VLOOKUP(B35,名簿!$E$4:$J$184,3,FALSE))","v":""},{"$f":"IF(B35=\"\",\"\",VLOOKUP(B35,名簿!$E$4:$J$184,5,FALSE))","v":""},null,{"$f":"IF(B35=\"\",\"\",VLOOKUP(B35,名簿!$E$4:$W$184,4,FALSE))","v":""},{"$f":"IF(B35=\"\",\"\",VLOOKUP(B35,名簿!$E$4:$J$184,6,FALSE))","v":""},null,null,null,null,null,null,null,null,null,null,null,null,null,null,null,null,null,"",""]
[24,null,{"$f":"IF(B36=\"\",\"\",VLOOKUP(B36,名簿!$E$4:$J$184,3,FALSE))","v":""},{"$f":"IF(B36=\"\",\"\",VLOOKUP(B36,名簿!$E$4:$J$184,5,FALSE))","v":""},null,{"$f":"IF(B36=\"\",\"\",VLOOKUP(B36,名簿!$E$4:$W$184,4,FALSE))","v":""},{"$f":"IF(B36=\"\",\"\",VLOOKUP(B36,名簿!$E$4:$J$184,6,FALSE))","v":""},null,null,null,null,null,null,null,null,null,null,null,null,null,null,null,null,null,"",""]
[25,null,{"$f":"IF(B37=\"\",\"\",VLOOKUP(B37,名簿!$E$4:$J$184,3,FALSE))","v":""},{"$f":"IF(B37=\"\",\"\",VLOOKUP(B37,名簿!$E$4:$J$184,5,FALSE))","v":""},null,{"$f":"IF(B37=\"\",\"\",VLOOKUP(B37,名簿!$E$4:$W$184,4,FALSE))","v":""},{"$f":"IF(B37=\"\",\"\",VLOOKUP(B37,名簿!$E$4:$J$184,6,FALSE))","v":""},null,null,null,null,null,null,null,null,null,null,null,null,null,null,null,null,null,"",""]
[null,null,null,null,null,null,null,null,null,null,null,"公認記録がない場合は記入しない"]
[]
[null,null,null,null,null,null,null,null,null,null,null,null,"三重陸上競技協会"]
[null,null,null,null,null,null,null,null,null,null,null,{"$f":"(O38+P38+Q38)*1000+(O40+P40)*2000","v":0}]
[null,null,null,null,null,"陸上競技大会申込者一覧表",null,null,null,null,null,null,null,"様式④"]
["様式④",null,null,null,null,null,null,null,null,null,null,"参加料",null,"円"]
["女子",null,null,null,null,null,null,null,"大会名"]
["※男子は別紙に記入願います。"]
["所属団体名",null,null,"所属長名・印",null,null,null,null,"監督名",{"$f":"名簿!$Q$1","v":0},null,null,"所属　　コード",{"$f":"名簿!C4","v":0}]
[]
[{"$f":"名簿!$O$4","v":0},null,null,null,null,null,null,"印","監督連絡",{"$f":"名簿!$I$1","v":0},null,null,"FAX"]
[null,null,null,null,null,null,null,null,"携帯電話",{"$f":"J48","v":0}]
["略称５文字以内で",null,null,null,null,null,null,null,"mailアドレス"]
[null,"NO","競技者名（漢字）","学年",null,"競技者名（カナ）","姓",null,"種目",null,null,null,null,"リレー"]
[null,null,null,null,null,null,null,"種目１",null,null,"種目２"]
["※","記入例","三重一子",3,null,"ﾐｴﾀﾛｳ","女","中学","100ｍ","記録","中学","80mH","記録","4×100R"]
[26,null,{"$f":"IF(B54=\"\",\"\",VLOOKUP(B54,名簿!$E$4:$J$184,3,FALSE))","v":""},{"$f":"IF(B54=\"\",\"\",VLOOKUP(B54,名簿!$E$4:$J$184,5,FALSE))","v":""},null,{"$f":"IF(B54=\"\",\"\",VLOOKUP(B54,名簿!$E$4:$W$184,4,FALSE))","v":""},{"$f":"IF(B54=\"\",\"\",VLOOKUP(B54,名簿!$E$4:$J$184,6,FALSE))","v":""},null,null,null,null,null,null,null,null,null,null,null,"60m","A",null,null,null,null,{"$f":"CONCATENATE(H54,I54)","v":""},{"$f":"CONCATENATE(K54,L54)","v":""}]
[27,null,{"$f":"IF(B55=\"\",\"\",VLOOKUP(B55,名簿!$E$4:$J$184,3,FALSE))","v":""},{"$f":"IF(B55=\"\",\"\",VLOOKUP(B55,名簿!$E$4:$J$184,5,FALSE))","v":""},null,{"$f":"IF(B55=\"\",\"\",VLOOKUP(B55,名簿!$E$4:$W$184,4,FALSE))","v":""},{"$f":"IF(B55=\"\",\"\",VLOOKUP(B55,名簿!$E$4:$J$184,6,FALSE))","v":""},null,null,null,null,null,null,null,null,null,null,null,"100m","B",null,null,null,null,"",""]
[28,null,{"$f":"IF(B56=\"\",\"\",VLOOKUP(B56,名簿!$E$4:$J$184,3,FALSE))","v":""},{"$f":"IF(B56=\"\",\"\",VLOOKUP(B56,名簿!$E$4:$J$184,5,FALSE))","v":""},null,{"$f":"IF(B56=\"\",\"\",VLOOKUP(B56,名簿!$E$4:$W$184,4,FALSE))","v":""},{"$f":"IF(B56=\"\",\"\",VLOOKUP(B56,名簿!$E$4:$J$184,6,FALSE))","v":""},null,null,null,null,null,null,null,null,null,null,null,"800m","C",null,null,null,null,"",""]
[29,null,{"$f":"IF(B57=\"\",\"\",VLOOKUP(B57,名簿!$E$4:$J$184,3,FALSE))","v":""},{"$f":"IF(B57=\"\",\"\",VLOOKUP(B57,名簿!$E$4:$J$184,5,FALSE))","v":""},null,{"$f":"IF(B57=\"\",\"\",VLOOKUP(B57,名簿!$E$4:$W$184,4,FALSE))","v":""},{"$f":"IF(B57=\"\",\"\",VLOOKUP(B57,名簿!$E$4:$J$184,6,FALSE))","v":""},null,null,null,null,null,null,null,null,null,null,null,"1000m","D",null,null,null,null,"",""]
[30,null,{"$f":"IF(B58=\"\",\"\",VLOOKUP(B58,名簿!$E$4:$J$184,3,FALSE))","v":""},{"$f":"IF(B58=\"\",\"\",VLOOKUP(B58,名簿!$E$4:$J$184,5,FALSE))","v":""},null,{"$f":"IF(B58=\"\",\"\",VLOOKUP(B58,名簿!$E$4:$W$184,4,FALSE))","v":""},{"$f":"IF(B58=\"\",\"\",VLOOKUP(B58,名簿!$E$4:$J$184,6,FALSE))","v":""},null,null,null,null,null,null,null,null,null,null,null,"80mH","E",null,null,null,null,"",""]
[31,null,{"$f":"IF(B59=\"\",\"\",VLOOKUP(B59,名簿!$E$4:$J$184,3,FALSE))","v":""},{"$f":"IF(B59=\"\",\"\",VLOOKUP(B59,名簿!$E$4:$J$184,5,FALSE))","v":""},null,{"$f":"IF(B59=\"\",\"\",VLOOKUP(B59,名簿!$E$4:$W$184,4,FALSE))","v":""},{"$f":"IF(B59=\"\",\"\",VLOOKUP(B59,名簿!$E$4:$J$184,6,FALSE))","v":""},null,null,null,null,null,null,null,null,null,null,null,"走高跳","混成A",null,null,null,null,"",""]
[32,null,{"$f":"IF(B60=\"\",\"\",VLOOKUP(B60,名簿!$E$4:$J$184,3,FALSE))","v":""},{"$f":"IF(B60=\"\",\"\",VLOOKUP(B60,名簿!$E$4:$J$184,5,FALSE))","v":""},null,{"$f":"IF(B60=\"\",\"\",VLOOKUP(B60,名簿!$E$4:$W$184,4,FALSE))","v":""},{"$f":"IF(B60=\"\",\"\",VLOOKUP(B60,名簿!$E$4:$J$184,6,FALSE))","v":""},null,null,null,null,null,null,null,null,null,null,null,"走幅跳","混成B",null,null,null,null,"",""]
[33,null,{"$f":"IF(B61=\"\",\"\",VLOOKUP(B61,名簿!$E$4:$J$184,3,FALSE))","v":""},{"$f":"IF(B61=\"\",\"\",VLOOKUP(B61,名簿!$E$4:$J$184,5,FALSE))","v":""},null,{"$f":"IF(B61=\"\",\"\",VLOOKUP(B61,名簿!$E$4:$W$184,4,FALSE))","v":""},{"$f":"IF(B61=\"\",\"\",VLOOKUP(B61,名簿!$E$4:$J$184,6,FALSE))","v":""},null,null,null,null,null,null,null,null,null,null,null,"ボール投","混成C",null,null,null,null,"",""]
[34,null,{"$f":"IF(B62=\"\",\"\",VLOOKUP(B62,名簿!$E$4:$J$184,3,FALSE))","v":""},{"$f":"IF(B62=\"\",\"\",VLOOKUP(B62,名簿!$E$4:$J$184,5,FALSE))","v":""},null,{"$f":"IF(B62=\"\",\"\",VLOOKUP(B62,名簿!$E$4:$W$184,4,FALSE))","v":""},{"$f":"IF(B62=\"\",\"\",VLOOKUP(B62,名簿!$E$4:$J$184,6,FALSE))","v":""},null,null,null,null,null,null,null,null,null,null,null,null,"混成D",null,null,null,null,"",""]
[35,null,{"$f":"IF(B63=\"\",\"\",VLOOKUP(B63,名簿!$E$4:$J$184,3,FALSE))","v":""},{"$f":"IF(B63=\"\",\"\",VLOOKUP(B63,名簿!$E$4:$J$184,5,FALSE))","v":""},null,{"$f":"IF(B63=\"\",\"\",VLOOKUP(B63,名簿!$E$4:$W$184,4,FALSE))","v":""},{"$f":"IF(B63=\"\",\"\",VLOOKUP(B63,名簿!$E$4:$J$184,6,FALSE))","v":""},null,null,null,null,null,null,null,null,null,null,null,null,"混成E",null,null,null,null,"",""]
[36,null,{"$f":"IF(B64=\"\",\"\",VLOOKUP(B64,名簿!$E$4:$J$184,3,FALSE))","v":""},{"$f":"IF(B64=\"\",\"\",VLOOKUP(B64,名簿!$E$4:$J$184,5,FALSE))","v":""},null,{"$f":"IF(B64=\"\",\"\",VLOOKUP(B64,名簿!$E$4:$W$184,4,FALSE))","v":""},{"$f":"IF(B64=\"\",\"\",VLOOKUP(B64,名簿!$E$4:$J$184,6,FALSE))","v":""},null,null,null,null,null,null,null,null,null,null,null,null,null,null,null,null,null,"",""]
[37,null,{"$f":"IF(B65=\"\",\"\",VLOOKUP(B65,名簿!$E$4:$J$184,3,FALSE))","v":""},{"$f":"IF(B65=\"\",\"\",VLOOKUP(B65,名簿!$E$4:$J$184,5,FALSE))","v":""},null,{"$f":"IF(B65=\"\",\"\",VLOOKUP(B65,名簿!$E$4:$W$184,4,FALSE))","v":""},{"$f":"IF(B65=\"\",\"\",VLOOKUP(B65,名簿!$E$4:$J$184,6,FALSE))","v":""},null,null,null,null,null,null,null,null,null,null,null,null,null,null,null,null,null,"",""]
[38,null,{"$f":"IF(B66=\"\",\"\",VLOOKUP(B66,名簿!$E$4:$J$184,3,FALSE))","v":""},{"$f":"IF(B66=\"\",\"\",VLOOKUP(B66,名簿!$E$4:$J$184,5,FALSE))","v":""},null,{"$f":"IF(B66=\"\",\"\",VLOOKUP(B66,名簿!$E$4:$W$184,4,FALSE))","v":""},{"$f":"IF(B66=\"\",\"\",VLOOKUP(B66,名簿!$E$4:$J$184,6,FALSE))","v":""},null,null,null,null,null,null,null,null,null,null,null,null,null,null,null,null,null,"",""]
[39,null,{"$f":"IF(B67=\"\",\"\",VLOOKUP(B67,名簿!$E$4:$J$184,3,FALSE))","v":""},{"$f":"IF(B67=\"\",\"\",VLOOKUP(B67,名簿!$E$4:$J$184,5,FALSE))","v":""},null,{"$f":"IF(B67=\"\",\"\",VLOOKUP(B67,名簿!$E$4:$W$184,4,FALSE))","v":""},{"$f":"IF(B67=\"\",\"\",VLOOKUP(B67,名簿!$E$4:$J$184,6,FALSE))","v":""},null,null,null,null,null,null,null,null,null,null,null,null,null,null,null,null,null,"",""]
[40,null,{"$f":"IF(B68=\"\",\"\",VLOOKUP(B68,名簿!$E$4:$J$184,3,FALSE))","v":""},{"$f":"IF(B68=\"\",\"\",VLOOKUP(B68,名簿!$E$4:$J$184,5,FALSE))","v":""},null,{"$f":"IF(B68=\"\",\"\",VLOOKUP(B68,名簿!$E$4:$W$184,4,FALSE))","v":""},{"$f":"IF(B68=\"\",\"\",VLOOKUP(B68,名簿!$E$4:$J$184,6,FALSE))","v":""},null,null,null,null,null,null,null,null,null,null,null,null,null,null,null,null,null,"",""]
[41,null,{"$f":"IF(B69=\"\",\"\",VLOOKUP(B69,名簿!$E$4:$J$184,3,FALSE))","v":""},{"$f":"IF(B69=\"\",\"\",VLOOKUP(B69,名簿!$E$4:$J$184,5,FALSE))","v":""},null,{"$f":"IF(B69=\"\",\"\",VLOOKUP(B69,名簿!$E$4:$W$184,4,FALSE))","v":""},{"$f":"IF(B69=\"\",\"\",VLOOKUP(B69,名簿!$E$4:$J$184,6,FALSE))","v":""},null,null,null,null,null,null,null,null,null,null,null,null,null,null,null,null,null,"",""]
[42,null,{"$f":"IF(B70=\"\",\"\",VLOOKUP(B70,名簿!$E$4:$J$184,3,FALSE))","v":""},{"$f":"IF(B70=\"\",\"\",VLOOKUP(B70,名簿!$E$4:$J$184,5,FALSE))","v":""},null,{"$f":"IF(B70=\"\",\"\",VLOOKUP(B70,名簿!$E$4:$W$184,4,FALSE))","v":""},{"$f":"IF(B70=\"\",\"\",VLOOKUP(B70,名簿!$E$4:$J$184,6,FALSE))","v":""},null,null,null,null,null,null,null,null,null,null,null,null,null,null,null,null,null,"",""]
[43,null,{"$f":"IF(B71=\"\",\"\",VLOOKUP(B71,名簿!$E$4:$J$184,3,FALSE))","v":""},{"$f":"IF(B71=\"\",\"\",VLOOKUP(B71,名簿!$E$4:$J$184,5,FALSE))","v":""},null,{"$f":"IF(B71=\"\",\"\",VLOOKUP(B71,名簿!$E$4:$W$184,4,FALSE))","v":""},{"$f":"IF(B71=\"\",\"\",VLOOKUP(B71,名簿!$E$4:$J$184,6,FALSE))","v":""},null,null,null,null,null,null,null,null,null,null,null,null,null,null,null,null,null,"",""]
[44,null,{"$f":"IF(B72=\"\",\"\",VLOOKUP(B72,名簿!$E$4:$J$184,3,FALSE))","v":""},{"$f":"IF(B72=\"\",\"\",VLOOKUP(B72,名簿!$E$4:$J$184,5,FALSE))","v":""},null,{"$f":"IF(B72=\"\",\"\",VLOOKUP(B72,名簿!$E$4:$W$184,4,FALSE))","v":""},{"$f":"IF(B72=\"\",\"\",VLOOKUP(B72,名簿!$E$4:$J$184,6,FALSE))","v":""},null,null,null,null,null,null,null,null,null,null,null,null,null,null,null,null,null,"",""]
[45,null,{"$f":"IF(B73=\"\",\"\",VLOOKUP(B73,名簿!$E$4:$J$184,3,FALSE))","v":""},{"$f":"IF(B73=\"\",\"\",VLOOKUP(B73,名簿!$E$4:$J$184,5,FALSE))","v":""},null,{"$f":"IF(B73=\"\",\"\",VLOOKUP(B73,名簿!$E$4:$W$184,4,FALSE))","v":""},{"$f":"IF(B73=\"\",\"\",VLOOKUP(B73,名簿!$E$4:$J$184,6,FALSE))","v":""},null,null,null,null,null,null,null,null,null,null,null,null,null,null,null,null,null,"",""]
[46,null,{"$f":"IF(B74=\"\",\"\",VLOOKUP(B74,名簿!$E$4:$J$184,3,FALSE))","v":""},{"$f":"IF(B74=\"\",\"\",VLOOKUP(B74,名簿!$E$4:$J$184,5,FALSE))","v":""},null,{"$f":"IF(B74=\"\",\"\",VLOOKUP(B74,名簿!$E$4:$W$184,4,FALSE))","v":""},{"$f":"IF(B74=\"\",\"\",VLOOKUP(B74,名簿!$E$4:$J$184,6,FALSE))","v":""},null,null,null,null,null,null,null,null,null,null,null,null,null,null,null,null,null,"",""]
[47,null,{"$f":"IF(B75=\"\",\"\",VLOOKUP(B75,名簿!$E$4:$J$184,3,FALSE))","v":""},{"$f":"IF(B75=\"\",\"\",VLOOKUP(B75,名簿!$E$4:$J$184,5,FALSE))","v":""},null,{"$f":"IF(B75=\"\",\"\",VLOOKUP(B75,名簿!$E$4:$W$184,4,FALSE))","v":""},{"$f":"IF(B75=\"\",\"\",VLOOKUP(B75,名簿!$E$4:$J$184,6,FALSE))","v":""},null,null,null,null,null,null,null,null,null,null,null,null,null,null,null,null,null,"",""]
[48,null,{"$f":"IF(B76=\"\",\"\",VLOOKUP(B76,名簿!$E$4:$J$184,3,FALSE))","v":""},{"$f":"IF(B76=\"\",\"\",VLOOKUP(B76,名簿!$E$4:$J$184,5,FALSE))","v":""},null,{"$f":"IF(B76=\"\",\"\",VLOOKUP(B76,名簿!$E$4:$W$184,4,FALSE))","v":""},{"$f":"IF(B76=\"\",\"\",VLOOKUP(B76,名簿!$E$4:$J$184,6,FALSE))","v":""},null,null,null,null,null,null,null,null,null,null,null,null,null,null,null,null,null,"",""]
[49,null,{"$f":"IF(B77=\"\",\"\",VLOOKUP(B77,名簿!$E$4:$J$184,3,FALSE))","v":""},{"$f":"IF(B77=\"\",\"\",VLOOKUP(B77,名簿!$E$4:$J$184,5,FALSE))","v":""},null,{"$f":"IF(B77=\"\",\"\",VLOOKUP(B77,名簿!$E$4:$W$184,4,FALSE))","v":""},{"$f":"IF(B77=\"\",\"\",VLOOKUP(B77,名簿!$E$4:$J$184,6,FALSE))","v":""},null,null,null,null,null,null,null,null,null,null,null,null,null,null,null,null,null,"",""]
[50,null,{"$f":"IF(B78=\"\",\"\",VLOOKUP(B78,名簿!$E$4:$J$184,3,FALSE))","v":""},{"$f":"IF(B78=\"\",\"\",VLOOKUP(B78,名簿!$E$4:$J$184,5,FALSE))","v":""},null,{"$f":"IF(B78=\"\",\"\",VLOOKUP(B78,名簿!$E$4:$W$184,4,FALSE))","v":""},{"$f":"IF(B78=\"\",\"\",VLOOKUP(B78,名簿!$E$4:$J$184,6,FALSE))","v":""},null,null,null,null,null,null,null,null,null,null,null,null,null,null,null,null,null,"",""]
[null,null,null,null,null,null,null,null,null,null,null,"公認記録がない場合は記入しない"]
[]
[null,null,null,null,null,null,null,null,null,null,null,null,"三重陸上競技協会"]

{"sheet":"女子個票","index":23,"n_rows":195,"n_cols":24,"rows_kept":195,"cut":false,"hidden":false,"merged":[[171,8,171,9],[173,8,173,9],[174,10,174,12],[175,10,175,12],[173,10,173,12],[172,10,172,12],[182,1,182,2],[183,3,183,5],[177,0,177,1],[181,8,181,9],[181,1,181,2],[177,9,177,10],[178,0,178,2],[179,0,185,0],[182,3,182,5],[177,5,177,6],[178,3,178,5],[179,1,179,2],[180,1,180,2],[179,10,179,12],[180,10,180,12],[178,10,178,12],[177,7,177,8],[177,12,177,13],[170,7,176,7],[173,3,173,5],[174,1,174,2],[174,3,174,5],[171,1,171,2],[175,1,175,2],[172,1,172,2],[173,1,173,2],[171,3,171,5],[184,1,184,2],[180,8,180,9],[179,8,179,9],[185,8,185,9],[185,10,185,12],[182,8,182,9],[181,10,181,12],[178,7,178,9],[184,3,184,5],[180,3,180,5],[179,7,185,7],[181,3,181,5],[184,8,184,9],[185,1,185,2],[185,3,185,5],[182,10,182,12],[183,8,183,9],[183,10,183,12],[184,10,184,12],[177,2,177,3],[183,1,183,2],[179,3,179,5],[168,7,168,8],[163,3,163,5],[169,7,169,9],[166,3,166,5],[168,9,168,10],[168,2,168,3],[168,5,168,6],[169,0,169,2],[169,3,169,5],[167,10,167,12],[166,8,166,9],[166,10,166,12],[163,8,163,9],[163,10,163,12],[176,1,176,2],[174,8,174,9],[176,8,176,9],[175,8,175,9],[175,3,175,5],[176,3,176,5],[176,10,176,12],[162,3,162,5],[164,3,164,5],[170,0,176,0],[169,10,169,12],[170,1,170,2],[170,3,170,5],[167,1,167,2],[167,3,167,5],[166,1,166,2],[170,8,170,9],[161,0,167,0],[162,8,162,9],[168,12,168,13],[164,10,164,12],[165,10,165,12],[162,10,162,12],[163,1,163,2],[167,8,167,9],[165,3,165,5],[170,10,170,12],[171,10,171,12],[165,8,165,9],[165,1,165,2],[172,8,172,9],[160,0,160,2],[152,1,152,2],[164,1,164,2],[161,8,161,9],[162,1,162,2],[161,1,161,2],[161,3,161,5],[152,3,152,4],[152,10,152,11],[152,8,152,9],[161,10,161,12],[157,0,157,13],[154,8,154,9],[154,10,154,11],[153,7,153,8],[153,9,153,10],[153,5,153,6],[154,3,154,4],[154,1,154,2],[159,0,159,1],[159,2,159,3],[159,5,159,6],[160,3,160,5],[161,7,167,7],[151,1,151,2],[151,3,151,4],[151,8,151,9],[151,10,151,11],[150,5,150,6],[150,0,150,1],[150,2,150,3],[150,9,150,10],[155,1,155,2],[155,3,155,4],[153,0,153,1],[153,2,153,3],[155,10,155,11],[148,1,148,2],[148,3,148,4],[148,8,148,9],[148,10,148,11],[147,0,147,1],[149,8,149,9],[145,10,145,11],[146,8,146,9],[149,1,149,2],[149,3,149,4],[147,9,147,10],[145,1,145,2],[145,3,145,4],[145,8,145,9],[149,10,149,11],[143,1,143,2],[143,3,143,4],[144,12,144,13],[144,7,144,8],[144,9,144,10],[144,2,144,3],[144,0,144,1],[144,5,144,6],[147,12,147,13],[146,1,146,2],[146,3,146,4],[147,2,147,3],[147,5,147,6],[147,7,147,8],[146,10,146,11],[140,1,140,2],[140,3,140,4],[141,5,141,6],[141,0,141,1],[141,2,141,3],[140,8,140,9],[140,10,140,11],[142,1,142,2],[142,3,142,4],[142,8,142,9],[142,10,142,11],[139,1,139,2],[139,3,139,4],[139,8,139,9],[139,10,139,11],[134,1,134,2],[133,1,133,2],[133,3,133,4],[133,8,133,9],[138,12,138,13],[137,1,137,2],[137,3,137,4],[138,2,138,3],[138,5,138,6],[135,0,135,1],[135,2,135,3],[135,5,135,6],[137,8,137,9],[137,10,137,11],[138,9,138,10],[138,0,138,1],[138,7,138,8],[136,10,136,11],[136,1,136,2],[135,12,135,13],[132,5,132,6],[132,0,132,1],[132,2,132,3],[132,7,132,8],[133,10,133,11],[136,8,136,9],[132,9,132,10],[134,3,134,4],[134,10,134,11],[134,8,134,9],[136,3,136,4],[135,7,135,8],[135,9,135,10],[131,1,131,2],[131,3,131,4],[128,8,128,9],[129,12,129,13],[128,1,128,2],[126,12,126,13],[126,7,126,8],[130,1,130,2],[130,3,130,4],[130,8,130,9],[130,10,130,11],[131,8,131,9],[131,10,131,11],[128,10,128,11],[129,9,129,10],[129,0,129,1],[126,0,126,1],[126,2,126,3],[126,5,126,6],[129,2,129,3],[129,5,129,6],[128,3,128,4],[129,7,129,8],[123,5,123,6],[123,0,123,1],[123,2,123,3],[123,7,123,8],[124,3,124,4],[124,8,124,9],[124,10,124,11],[127,8,127,9],[123,9,123,10],[125,3,125,4],[125,10,125,11],[125,8,125,9],[124,1,124,2],[127,10,127,11],[126,9,126,10],[125,1,125,2],[121,1,121,2],[121,3,121,4],[121,8,121,9],[121,10,121,11],[122,8,122,9],[122,10,122,11],[127,1,127,2],[127,3,127,4],[117,12,117,13],[117,7,117,8],[117,9,117,10],[118,10,118,11],[123,12,123,13],[122,1,122,2],[122,3,122,4],[119,8,119,9],[120,12,120,13],[119,1,119,2],[120,9,120,10],[120,0,120,1],[119,10,119,11],[117,0,117,1],[117,2,117,3],[117,5,117,6],[118,1,118,2],[118,3,118,4],[118,8,118,9],[111,5,111,6],[111,7,111,8],[115,1,115,2],[116,1,116,2],[116,3,116,4],[115,3,115,4],[115,8,115,9],[113,1,113,2],[113,3,113,4],[114,5,114,6],[114,0,114,1],[114,2,114,3],[113,8,113,9],[114,7,114,8],[108,12,108,13],[108,7,108,8],[108,9,108,10],[112,1,112,2],[112,3,112,4],[112,8,112,9],[112,10,112,11],[110,8,110,9],[111,12,111,13],[110,1,110,2],[109,10,109,11],[108,0,108,1],[108,2,108,3],[108,5,108,6],[109,1,109,2],[101,10,101,11],[107,8,107,9],[103,10,103,11],[102,7,102,8],[102,9,102,10],[103,8,103,9],[106,8,106,9],[106,10,106,11],[107,10,107,11],[101,8,101,9],[102,12,102,13],[105,12,105,13],[105,7,105,8],[105,5,105,6],[105,9,105,10],[102,2,102,3],[102,5,102,6],[104,8,104,9],[104,10,104,11],[103,1,103,2],[103,3,103,4],[105,0,105,1],[105,2,105,3],[104,1,104,2],[104,3,104,4],[102,0,102,1],[96,12,96,13],[96,7,96,8],[99,12,99,13],[100,10,100,11],[100,8,100,9],[96,9,96,10],[99,9,99,10],[97,10,97,11],[97,8,97,9],[98,10,98,11],[98,8,98,9],[99,7,99,8],[93,12,93,13],[92,1,92,2],[92,3,92,4],[92,8,92,9],[92,10,92,11],[90,12,90,13],[91,1,91,2],[91,3,91,4],[91,8,91,9],[90,2,90,3],[90,5,90,6],[93,2,93,3],[93,5,93,6],[90,0,90,1],[90,9,90,10],[93,0,93,1],[93,7,93,8],[18,3,18,4],[46,12,46,13],[42,1,42,2],[42,3,42,4],[42,8,42,9],[42,10,42,11],[44,1,44,2],[43,12,43,13],[43,7,43,8],[44,3,44,4],[43,5,43,6],[45,1,45,2],[25,0,25,1],[25,2,25,3],[34,7,34,8],[34,0,34,1],[29,8,29,9],[29,10,29,11],[25,9,25,10],[28,5,28,6],[28,7,28,8],[28,9,28,10],[26,8,26,9],[26,10,26,11],[10,7,10,8],[14,1,14,2],[14,3,14,4],[24,8,24,9],[16,9,16,10],[19,2,19,3],[19,5,19,6],[24,3,24,4],[20,1,20,2],[20,3,20,4],[21,1,21,2],[21,3,21,4],[21,8,21,9],[21,10,21,11],[15,3,15,4],[16,0,16,1],[16,2,16,3],[22,0,22,1],[18,1,18,2],[17,3,17,4],[22,2,22,3],[17,1,17,2],[23,1,23,2],[23,3,23,4],[13,7,13,8],[31,5,31,6],[31,7,31,8],[31,9,31,10],[30,8,30,9],[30,10,30,11],[28,12,28,13],[13,12,13,13],[10,5,10,6],[18,8,18,9],[17,8,17,9],[22,5,22,6],[22,7,22,8],[24,10,24,11],[23,8,23,9],[23,10,23,11],[17,10,17,11],[22,9,22,10],[18,10,18,11],[19,7,19,8],[20,8,20,9],[20,10,20,11],[11,10,11,11],[12,8,12,9],[3,0,3,6],[3,7,3,13],[40,9,40,10],[4,0,4,1],[5,1,5,2],[6,1,6,2],[10,9,10,10],[9,8,9,9],[8,8,8,9],[16,12,16,13],[19,9,19,10],[19,12,19,13],[13,2,13,3],[16,7,16,8],[16,5,16,6],[15,8,15,9],[14,10,14,11],[15,10,15,11],[14,8,14,9],[22,12,22,13],[33,8,33,9],[33,10,33,11],[25,12,25,13],[31,12,31,13],[27,8,27,9],[27,10,27,11],[25,5,25,6],[25,7,25,8],[32,8,32,9],[32,10,32,11],[34,12,34,13],[37,12,37,13],[35,1,35,2],[35,3,35,4],[35,8,35,9],[35,10,35,11],[36,3,36,4],[34,2,34,3],[36,8,36,9],[36,1,36,2],[34,9,34,10],[36,10,36,11],[34,5,34,6],[37,9,37,10],[31,2,31,3],[29,1,29,2],[29,3,29,4],[31,0,31,1],[50,3,50,4],[53,8,53,9],[59,1,59,2],[56,1,56,2],[37,2,37,3],[38,1,38,2],[38,3,38,4],[37,5,37,6],[37,7,37,8],[56,8,56,9],[55,2,55,3],[57,8,57,9],[58,2,58,3],[54,3,54,4],[59,3,59,4],[54,1,54,2],[55,5,55,6],[58,5,58,6],[58,0,58,1],[55,0,55,1],[57,3,57,4],[56,3,56,4],[39,1,39,2],[43,0,43,1],[5,3,5,4],[10,12,10,13],[13,9,13,10],[12,10,12,11],[55,12,55,13],[4,5,4,6],[7,5,7,6],[5,10,5,11],[7,2,7,3],[6,8,6,9],[6,10,6,11],[5,8,5,9],[6,3,6,4],[9,10,9,11],[7,9,7,10],[7,7,7,8],[8,3,8,4],[8,10,8,11],[9,3,9,4],[40,12,40,13],[41,1,41,2],[41,3,41,4],[41,8,41,9],[41,10,41,11],[19,0,19,1],[27,3,27,4],[28,0,28,1],[30,1,30,2],[2,0,2,13],[7,12,7,13],[11,1,11,2],[11,3,11,4],[11,8,11,9],[4,7,4,8],[4,9,4,10],[4,12,4,13],[24,1,24,2],[13,5,13,6],[7,0,7,1],[10,0,10,1],[8,1,8,2],[12,3,12,4],[9,1,9,2],[12,1,12,2],[13,0,13,1],[15,1,15,2],[10,2,10,3],[4,2,4,3],[30,3,30,4],[26,1,26,2],[26,3,26,4],[32,1,32,2],[33,3,33,4],[32,3,32,4],[28,2,28,3],[27,1,27,2],[40,0,40,1],[33,1,33,2],[40,2,40,3],[37,0,37,1],[38,10,38,11],[39,10,39,11],[39,8,39,9],[38,8,38,9],[43,9,43,10],[46,9,46,10],[45,3,45,4],[44,8,44,9],[44,10,44,11],[45,8,45,9],[45,10,45,11],[39,3,39,4],[40,7,40,8],[40,5,40,6],[43,2,43,3],[52,12,52,13],[52,2,52,3],[47,3,47,4],[48,10,48,11],[51,1,51,2],[52,9,52,10],[52,7,52,8],[52,5,52,6],[49,0,49,1],[50,1,50,2],[48,8,48,9],[49,5,49,6],[49,7,49,8],[48,1,48,2],[50,8,50,9],[49,9,49,10],[49,2,49,3],[51,8,51,9],[50,10,50,11],[52,0,52,1],[47,8,47,9],[49,12,49,13],[47,10,47,11],[47,1,47,2],[53,10,53,11],[54,8,54,9],[62,10,62,11],[65,8,65,9],[65,10,65,11],[67,9,67,10],[56,10,56,11],[53,3,53,4],[46,0,46,1],[46,2,46,3],[46,5,46,6],[46,7,46,8],[48,3,48,4],[57,1,57,2],[51,3,51,4],[51,10,51,11],[53,1,53,2],[54,10,54,11],[62,1,62,2],[62,3,62,4],[62,8,62,9],[60,1,60,2],[61,7,61,8],[58,9,58,10],[55,9,55,10],[55,7,55,8],[66,3,66,4],[66,8,66,9],[66,10,66,11],[75,1,75,2],[73,9,73,10],[72,1,72,2],[72,3,72,4],[72,8,72,9],[75,3,75,4],[75,8,75,9],[75,10,75,11],[64,2,64,3],[61,2,61,3],[57,10,57,11],[66,1,66,2],[60,3,60,4],[64,5,64,6],[70,0,70,1],[71,1,71,2],[71,3,71,4],[70,2,70,3],[70,5,70,6],[73,12,73,13],[72,10,72,11],[61,9,61,10],[59,8,59,9],[59,10,59,11],[60,10,60,11],[70,12,70,13],[76,12,76,13],[68,10,68,11],[69,10,69,11],[71,10,71,11],[70,7,70,8],[70,9,70,10],[63,8,63,9],[61,12,61,13],[67,12,67,13],[63,10,63,11],[64,9,64,10],[64,12,64,13],[69,8,69,9],[71,8,71,9],[58,12,58,13],[58,7,58,8],[60,8,60,9],[61,5,61,6],[63,1,63,2],[63,3,63,4],[61,0,61,1],[73,5,73,6],[73,7,73,8],[68,8,68,9],[67,7,67,8],[64,7,64,8],[67,5,67,6],[65,1,65,2],[65,3,65,4],[73,0,73,1],[73,2,73,3],[69,3,69,4],[68,1,68,2],[68,3,68,4],[67,2,67,3],[67,0,67,1],[64,0,64,1],[69,1,69,2],[74,1,74,2],[74,3,74,4],[85,1,85,2],[85,3,85,4],[85,8,85,9],[76,7,76,8],[76,9,76,10],[74,8,74,9],[74,10,74,11],[82,3,82,4],[82,8,82,9],[84,12,84,13],[84,7,84,8],[82,10,82,11],[76,2,76,3],[76,0,76,1],[76,5,76,6],[83,8,83,9],[81,0,81,1],[81,5,81,6],[81,7,81,8],[77,1,77,2],[77,3,77,4],[77,8,77,9],[83,3,83,4],[81,12,81,13],[87,12,87,13],[77,10,77,11],[85,10,85,11],[80,0,80,6],[79,0,79,13],[78,1,78,2],[78,3,78,4],[78,8,78,9],[80,7,80,13],[87,0,87,1],[86,10,86,11],[86,1,86,2],[81,2,81,3],[84,0,84,1],[84,2,84,3],[86,3,86,4],[86,8,86,9],[84,5,84,6],[84,9,84,10],[83,1,83,2],[78,10,78,11],[82,1,82,2],[83,10,83,11],[81,9,81,10],[87,2,87,3],[87,5,87,6],[89,1,89,2],[89,3,89,4],[87,9,87,10],[89,8,89,9],[87,7,87,8],[88,1,88,2],[88,3,88,4],[88,8,88,9],[88,10,88,11],[164,8,164,9],[109,8,109,9],[114,9,114,10],[141,9,141,10],[141,7,141,8],[143,10,143,11],[143,8,143,9],[150,7,150,8],[160,7,160,9],[159,7,159,8],[160,10,160,12],[159,9,159,10],[153,12,153,13],[155,8,155,9],[150,12,150,13],[159,12,159,13],[114,12,114,13],[120,7,120,8],[132,12,132,13],[141,12,141,13],[113,10,113,11],[94,1,94,2],[94,3,94,4],[95,3,95,4],[96,0,96,1],[96,2,96,3],[95,1,95,2],[95,10,95,11],[93,9,93,10],[89,10,89,11],[91,10,91,11],[94,8,94,9],[95,8,95,9],[94,10,94,11],[90,7,90,8],[96,5,96,6],[99,5,99,6],[98,1,98,2],[98,3,98,4],[97,1,97,2],[97,3,97,4],[100,1,100,2],[99,0,99,1],[101,1,101,2],[101,3,101,4],[99,2,99,3],[100,3,100,4],[106,1,106,2],[106,3,106,4],[107,1,107,2],[186,0,186,1],[186,2,186,3],[186,5,186,6],[172,3,172,5],[168,0,168,1],[188,8,188,9],[186,7,186,8],[186,9,186,10],[107,3,107,4],[115,10,115,11],[116,10,116,11],[116,8,116,9],[109,3,109,4],[110,10,110,11],[111,9,111,10],[111,0,111,1],[110,3,110,4],[111,2,111,3],[119,3,119,4],[120,2,120,3],[120,5,120,6],[194,10,194,12],[191,8,191,9],[191,10,191,12],[192,8,192,9],[187,0,187,2],[187,3,187,5],[190,8,190,9],[190,10,190,12],[189,8,189,9],[189,10,189,12],[186,12,186,13],[188,0,194,0],[188,1,188,2],[188,3,188,5],[190,3,190,5],[194,1,194,2],[187,10,187,12],[190,1,190,2],[188,10,188,12],[188,7,194,7],[194,8,194,9],[192,10,192,12],[193,8,193,9],[193,10,193,12],[192,1,192,2],[192,3,192,5],[191,1,191,2],[191,3,191,5],[189,3,189,5],[187,7,187,9],[194,3,194,5],[193,1,193,2],[193,3,193,5],[189,1,189,2]]}
[null,null,null,null,null,null,null,null,null,null,null,null,null,"様式⑤"]
[]
["女　子　個　　票　(1～25人）"]
["1種目目",null,null,null,null,null,null,"2種目目"]
["種目",null,{"$f":"女子一覧表!Y13","v":""},null,"記録",{"$f":"女子一覧表!J13","v":0},null,"種目",null,{"$f":"女子一覧表!Z13","v":""},null,"記録",{"$f":"女子一覧表!M13","v":0}]
["性","ゼッケン",null,"氏名",null,"学年","所属","性","ゼッケン",null,"氏名",null,"学年","所属"]
["女",{"$f":"女子一覧表!B13","v":0},null,{"$f":"IF(女子一覧表!B13=\"\",\"\",VLOOKUP(B7,女子一覧表!$B$13:$F$37,2,FALSE))","v":""},null,{"$f":"IF(女子一覧表!B13=\"\",\"\",VLOOKUP(B7,女子一覧表!$B$13:$F$37,3,FALSE))","v":""},{"$f":"IF(D7=\"\",\"\",女子一覧表!$A$7)","v":""},"女",{"$f":"IF(女子一覧表!L13=\"\",\"\",女子一覧表!B13)","v":""},null,{"$f":"IF(女子一覧表!L13=\"\",\"\",VLOOKUP(I7,女子一覧表!$B$13:$F$37,2,FALSE))","v":""},null,{"$f":"IF(女子一覧表!L13=\"\",\"\",VLOOKUP(I7,女子一覧表!$B$13:$F$37,3,FALSE))","v":""},{"$f":"IF(K7=\"\",\"\",女子一覧表!$A$7)","v":""}]
["種目",null,{"$f":"女子一覧表!Y14","v":""},null,"記録",{"$f":"女子一覧表!J14","v":0},null,"種目",null,{"$f":"女子一覧表!Z14","v":""},null,"記録",{"$f":"女子一覧表!M14","v":0}]
["性","ゼッケン",null,"氏名",null,"学年","所属","性","ゼッケン",null,"氏名",null,"学年","所属"]
["女",{"$f":"女子一覧表!B14","v":0},null,{"$f":"IF(女子一覧表!B14=\"\",\"\",VLOOKUP(B10,女子一覧表!$B$13:$F$37,2,FALSE))","v":""},null,{"$f":"IF(女子一覧表!B14=\"\",\"\",VLOOKUP(B10,女子一覧表!$B$13:$F$37,3,FALSE))","v":""},{"$f":"IF(D10=\"\",\"\",女子一覧表!$A$7)","v":""},"女",{"$f":"IF(女子一覧表!L14=\"\",\"\",女子一覧表!B14)","v":""},null,{"$f":"IF(女子一覧表!L14=\"\",\"\",VLOOKUP(I10,女子一覧表!$B$13:$F$37,2,FALSE))","v":""},null,{"$f":"IF(女子一覧表!L14=\"\",\"\",VLOOKUP(I10,女子一覧表!$B$13:$F$37,3,FALSE))","v":""},{"$f":"IF(K10=\"\",\"\",女子一覧表!$A$7)","v":""}]
["種目",null,{"$f":"女子一覧表!Y15","v":""},null,"記録",{"$f":"女子一覧表!J15","v":0},null,"種目",null,{"$f":"女子一覧表!Z15","v":""},null,"記録",{"$f":"女子一覧表!M15","v":0}]
["性","ゼッケン",null,"氏名",null,"学年","所属","性","ゼッケン",null,"氏名",null,"学年","所属"]
["女",{"$f":"女子一覧表!B15","v":0},null,{"$f":"IF(女子一覧表!B15=\"\",\"\",VLOOKUP(B13,女子一覧表!$B$13:$F$37,2,FALSE))","v":""},null,{"$f":"IF(女子一覧表!B15=\"\",\"\",VLOOKUP(B13,女子一覧表!$B$13:$F$37,3,FALSE))","v":""},{"$f":"IF(D13=\"\",\"\",女子一覧表!$A$7)","v":""},"女",{"$f":"IF(女子一覧表!L15=\"\",\"\",女子一覧表!B15)","v":""},null,{"$f":"IF(女子一覧表!L15=\"\",\"\",VLOOKUP(I13,女子一覧表!$B$13:$F$37,2,FALSE))","v":""},null,{"$f":"IF(女子一覧表!L15=\"\",\"\",VLOOKUP(I13,女子一覧表!$B$13:$F$37,3,FALSE))","v":""},{"$f":"IF(K13=\"\",\"\",女子一覧表!$A$7)","v":""}]
["種目",null,{"$f":"女子一覧表!Y16","v":""},null,"記録",{"$f":"女子一覧表!J16","v":0},null,"種目",null,{"$f":"女子一覧表!Z16","v":""},null,"記録",{"$f":"女子一覧表!M16","v":0}]
["性","ゼッケン",null,"氏名",null,"学年","所属","性","ゼッケン",null,"氏名",null,"学年","所属"]
["女",{"$f":"女子一覧表!B16","v":0},null,{"$f":"IF(女子一覧表!B16=\"\",\"\",VLOOKUP(B16,女子一覧表!$B$13:$F$37,2,FALSE))","v":""},null,{"$f":"IF(女子一覧表!B16=\"\",\"\",VLOOKUP(B16,女子一覧表!$B$13:$F$37,3,FALSE))","v":""},{"$f":"IF(D16=\"\",\"\",女子一覧表!$A$7)","v":""},"女",{"$f":"IF(女子一覧表!L16=\"\",\"\",女子一覧表!B16)","v":""},null,{"$f":"IF(女子一覧表!L16=\"\",\"\",VLOOKUP(I16,女子一覧表!$B$13:$F$37,2,FALSE))","v":""},null,{"$f":"IF(女子一覧表!L16=\"\",\"\",VLOOKUP(I16,女子一覧表!$B$13:$F$37,3,FALSE))","v":""},{"$f":"IF(K16=\"\",\"\",女子一覧表!$A$7)","v":""}]
["種目",null,{"$f":"女子一覧表!Y17","v":""},null,"記録",{"$f":"女子一覧表!J17","v":0},null,"種目",null,{"$f":"女子一覧表!Z17","v":""},null,"記録",{"$f":"女子一覧表!M17","v":0}]
["性","ゼッケン",null,"氏名",null,"学年","所属","性","ゼッケン",null,"氏名",null,"学年","所属"]
["女",{"$f":"女子一覧表!B17","v":0},null,{"$f":"IF(女子一覧表!B17=\"\",\"\",VLOOKUP(B19,女子一覧表!$B$13:$F$37,2,FALSE))","v":""},null,{"$f":"IF(女子一覧表!B17=\"\",\"\",VLOOKUP(B19,女子一覧表!$B$13:$F$37,3,FALSE))","v":""},{"$f":"IF(D19=\"\",\"\",女子一覧表!$A$7)","v":""},"女",{"$f":"IF(女子一覧表!L17=\"\",\"\",女子一覧表!B17)","v":""},null,{"$f":"IF(女子一覧表!L17=\"\",\"\",VLOOKUP(I19,女子一覧表!$B$13:$F$37,2,FALSE))","v":""},null,{"$f":"IF(女子一覧表!L17=\"\",\"\",VLOOKUP(I19,女子一覧表!$B$13:$F$37,3,FALSE))","v":""},{"$f":"IF(K19=\"\",\"\",女子一覧表!$A$7)","v":""}]
["種目",null,{"$f":"女子一覧表!Y18","v":""},null,"記録",{"$f":"女子一覧表!J18","v":0},null,"種目",null,{"$f":"女子一覧表!Z18","v":""},null,"記録",{"$f":"女子一覧表!M18","v":0}]
["性","ゼッケン",null,"氏名",null,"学年","所属","性","ゼッケン",null,"氏名",null,"学年","所属"]
["女",{"$f":"女子一覧表!B18","v":0},null,{"$f":"IF(女子一覧表!B18=\"\",\"\",VLOOKUP(B22,女子一覧表!$B$13:$F$37,2,FALSE))","v":""},null,{"$f":"IF(女子一覧表!B18=\"\",\"\",VLOOKUP(B22,女子一覧表!$B$13:$F$37,3,FALSE))","v":""},{"$f":"IF(D22=\"\",\"\",女子一覧表!$A$7)","v":""},"女",{"$f":"IF(女子一覧表!L18=\"\",\"\",女子一覧表!B18)","v":""},null,{"$f":"IF(女子一覧表!L18=\"\",\"\",VLOOKUP(I22,女子一覧表!$B$13:$F$37,2,FALSE))","v":""},null,{"$f":"IF(女子一覧表!L18=\"\",\"\",VLOOKUP(I22,女子一覧表!$B$13:$F$37,3,FALSE))","v":""},{"$f":"IF(K22=\"\",\"\",女子一覧表!$A$7)","v":""}]
["種目",null,{"$f":"女子一覧表!Y19","v":""},null,"記録",{"$f":"女子一覧表!J19","v":0},null,"種目",null,{"$f":"女子一覧表!Z19","v":""},null,"記録",{"$f":"女子一覧表!M19","v":0}]
["性","ゼッケン",null,"氏名",null,"学年","所属","性","ゼッケン",null,"氏名",null,"学年","所属"]
["女",{"$f":"女子一覧表!B19","v":0},null,{"$f":"IF(女子一覧表!B19=\"\",\"\",VLOOKUP(B25,女子一覧表!$B$13:$F$37,2,FALSE))","v":""},null,{"$f":"IF(女子一覧表!B19=\"\",\"\",VLOOKUP(B25,女子一覧表!$B$13:$F$37,3,FALSE))","v":""},{"$f":"IF(D25=\"\",\"\",女子一覧表!$A$7)","v":""},"女",{"$f":"IF(女子一覧表!L19=\"\",\"\",女子一覧表!B19)","v":""},null,{"$f":"IF(女子一覧表!L19=\"\",\"\",VLOOKUP(I25,女子一覧表!$B$13:$F$37,2,FALSE))","v":""},null,{"$f":"IF(女子一覧表!L19=\"\",\"\",VLOOKUP(I25,女子一覧表!$B$13:$F$37,3,FALSE))","v":""},{"$f":"IF(K25=\"\",\"\",女子一覧表!$A$7)","v":""}]
["種目",null,{"$f":"女子一覧表!Y20","v":""},null,"記録",{"$f":"女子一覧表!J20","v":0},null,"種目",null,{"$f":"女子一覧表!Z20","v":""},null,"記録",{"$f":"女子一覧表!M20","v":0}]
["性","ゼッケン",null,"氏名",null,"学年","所属","性","ゼッケン",null,"氏名",null,"学年","所属"]
["女",{"$f":"女子一覧表!B20","v":0},null,{"$f":"IF(女子一覧表!B20=\"\",\"\",VLOOKUP(B28,女子一覧表!$B$13:$F$37,2,FALSE))","v":""},null,{"$f":"IF(女子一覧表!B20=\"\",\"\",VLOOKUP(B28,女子一覧表!$B$13:$F$37,3,FALSE))","v":""},{"$f":"IF(D28=\"\",\"\",女子一覧表!$A$7)","v":""},"女",{"$f":"IF(女子一覧表!L20=\"\",\"\",女子一覧表!B20)","v":""},null,{"$f":"IF(女子一覧表!L20=\"\",\"\",VLOOKUP(I28,女子一覧表!$B$13:$F$37,2,FALSE))","v":""},null,{"$f":"IF(女子一覧表!L20=\"\",\"\",VLOOKUP(I28,女子一覧表!$B$13:$F$37,3,FALSE))","v":""},{"$f":"IF(K28=\"\",\"\",女子一覧表!$A$7)","v":""}]
["種目",null,{"$f":"女子一覧表!Y21","v":""},null,"記録",{"$f":"女子一覧表!J21","v":0},null,"種目",null,{"$f":"女子一覧表!Z21","v":""},null,"記録",{"$f":"女子一覧表!M21","v":0}]
["性","ゼッケン",null,"氏名",null,"学年","所属","性","ゼッケン",null,"氏名",null,"学年","所属"]
["女",{"$f":"女子一覧表!B21","v":0},null,{"$f":"IF(女子一覧表!B21=\"\",\"\",VLOOKUP(B31,女子一覧表!$B$13:$F$37,2,FALSE))","v":""},null,{"$f":"IF(女子一覧表!B21=\"\",\"\",VLOOKUP(B31,女子一覧表!$B$13:$F$37,3,FALSE))","v":""},{"$f":"IF(D31=\"\",\"\",女子一覧表!$A$7)","v":""},"女",{"$f":"IF(女子一覧表!L21=\"\",\"\",女子一覧表!B21)","v":""},null,{"$f":"IF(女子一覧表!L21=\"\",\"\",VLOOKUP(I31,女子一覧表!$B$13:$F$37,2,FALSE))","v":""},null,{"$f":"IF(女子一覧表!L21=\"\",\"\",VLOOKUP(I31,女子一覧表!$B$13:$F$37,3,FALSE))","v":""},{"$f":"IF(K31=\"\",\"\",女子一覧表!$A$7)","v":""}]
["種目",null,{"$f":"女子一覧表!Y22","v":""},null,"記録",{"$f":"女子一覧表!J22","v":0},null,"種目",null,{"$f":"女子一覧表!Z22","v":""},null,"記録",{"$f":"女子一覧表!M22","v":0}]
["性","ゼッケン",null,"氏名",null,"学年","所属","性","ゼッケン",null,"氏名",null,"学年","所属"]
["女",{"$f":"女子一覧表!B22","v":0},null,{"$f":"IF(女子一覧表!B22=\"\",\"\",VLOOKUP(B34,女子一覧表!$B$13:$F$37,2,FALSE))","v":""},null,{"$f":"IF(女子一覧表!B22=\"\",\"\",VLOOKUP(B34,女子一覧表!$B$13:$F$37,3,FALSE))","v":""},{"$f":"IF(D34=\"\",\"\",女子一覧表!$A$7)","v":""},"女",{"$f":"IF(女子一覧表!L22=\"\",\"\",女子一覧表!B22)","v":""},null,{"$f":"IF(女子一覧表!L22=\"\",\"\",VLOOKUP(I34,女子一覧表!$B$13:$F$37,2,FALSE))","v":""},null,{"$f":"IF(女子一覧表!L22=\"\",\"\",VLOOKUP(I34,女子一覧表!$B$13:$F$37,3,FALSE))","v":""},{"$f":"IF(K34=\"\",\"\",女子一覧表!$A$7)","v":""}]
["種目",null,{"$f":"女子一覧表!Y23","v":""},null,"記録",{"$f":"女子一覧表!J23","v":0},null,"種目",null,{"$f":"女子一覧表!Z23","v":""},null,"記録",{"$f":"女子一覧表!M23","v":0}]
["性","ゼッケン",null,"氏名",null,"学年","所属","性","ゼッケン",null,"氏名",null,"学年","所属"]
["女",{"$f":"女子一覧表!B23","v":0},null,{"$f":"IF(女子一覧表!B23=\"\",\"\",VLOOKUP(B37,女子一覧表!$B$13:$F$37,2,FALSE))","v":""},null,{"$f":"IF(女子一覧表!B23=\"\",\"\",VLOOKUP(B37,女子一覧表!$B$13:$F$37,3,FALSE))","v":""},{"$f":"IF(D37=\"\",\"\",女子一覧表!$A$7)","v":""},"女",{"$f":"IF(女子一覧表!L23=\"\",\"\",女子一覧表!B23)","v":""},null,{"$f":"IF(女子一覧表!L23=\"\",\"\",VLOOKUP(I37,女子一覧表!$B$13:$F$37,2,FALSE))","v":""},null,{"$f":"IF(女子一覧表!L23=\"\",\"\",VLOOKUP(I37,女子一覧表!$B$13:$F$37,3,FALSE))","v":""},{"$f":"IF(K37=\"\",\"\",女子一覧表!$A$7)","v":""}]
["種目",null,{"$f":"女子一覧表!Y24","v":""},null,"記録",{"$f":"女子一覧表!J24","v":0},null,"種目",null,{"$f":"女子一覧表!Z24","v":""},null,"記録",{"$f":"女子一覧表!M24","v":0}]
["性","ゼッケン",null,"氏名",null,"学年","所属","性","ゼッケン",null,"氏名",null,"学年","所属"]
["女",{"$f":"女子一覧表!B24","v":0},null,{"$f":"IF(女子一覧表!B24=\"\",\"\",VLOOKUP(B40,女子一覧表!$B$13:$F$37,2,FALSE))","v":""},null,{"$f":"IF(女子一覧表!B24=\"\",\"\",VLOOKUP(B40,女子一覧表!$B$13:$F$37,3,FALSE))","v":""},{"$f":"IF(D40=\"\",\"\",女子一覧表!$A$7)","v":""},"女",{"$f":"IF(女子一覧表!L24=\"\",\"\",女子一覧表!B24)","v":""},null,{"$f":"IF(女子一覧表!L24=\"\",\"\",VLOOKUP(I40,女子一覧表!$B$13:$F$37,2,FALSE))","v":""},null,{"$f":"IF(女子一覧表!L24=\"\",\"\",VLOOKUP(I40,女子一覧表!$B$13:$F$37,3,FALSE))","v":""},{"$f":"IF(K40=\"\",\"\",女子一覧表!$A$7)","v":""}]
["種目",null,{"$f":"女子一覧表!Y25","v":""},null,"記録",{"$f":"女子一覧表!J25","v":0},null,"種目",null,{"$f":"女子一覧表!Z25","v":""},null,"記録",{"$f":"女子一覧表!M25","v":0}]
["性","ゼッケン",null,"氏名",null,"学年","所属","性","ゼッケン",null,"氏名",null,"学年","所属"]
["女",{"$f":"女子一覧表!B25","v":0},null,{"$f":"IF(女子一覧表!B25=\"\",\"\",VLOOKUP(B43,女子一覧表!$B$13:$F$37,2,FALSE))","v":""},null,{"$f":"IF(女子一覧表!B25=\"\",\"\",VLOOKUP(B43,女子一覧表!$B$13:$F$37,3,FALSE))","v":""},{"$f":"IF(D43=\"\",\"\",女子一覧表!$A$7)","v":""},"女",{"$f":"IF(女子一覧表!L25=\"\",\"\",女子一覧表!B25)","v":""},null,{"$f":"IF(女子一覧表!L25=\"\",\"\",VLOOKUP(I43,女子一覧表!$B$13:$F$37,2,FALSE))","v":""},null,{"$f":"IF(女子一覧表!L25=\"\",\"\",VLOOKUP(I43,女子一覧表!$B$13:$F$37,3,FALSE))","v":""},{"$f":"IF(K43=\"\",\"\",女子一覧表!$A$7)","v":""}]
["種目",null,{"$f":"女子一覧表!Y26","v":""},null,"記録",{"$f":"女子一覧表!J26","v":0},null,"種目",null,{"$f":"女子一覧表!Z26","v":""},null,"記録",{"$f":"女子一覧表!M26","v":0}]
["性","ゼッケン",null,"氏名",null,"学年","所属","性","ゼッケン",null,"氏名",null,"学年","所属"]
["女",{"$f":"女子一覧表!B26","v":0},null,{"$f":"IF(女子一覧表!B26=\"\",\"\",VLOOKUP(B46,女子一覧表!$B$13:$F$37,2,FALSE))","v":""},null,{"$f":"IF(女子一覧表!B26=\"\",\"\",VLOOKUP(B46,女子一覧表!$B$13:$F$37,3,FALSE))","v":""},{"$f":"IF(D46=\"\",\"\",女子一覧表!$A$7)","v":""},"女",{"$f":"IF(女子一覧表!L26=\"\",\"\",女子一覧表!B26)","v":""},null,{"$f":"IF(女子一覧表!L26=\"\",\"\",VLOOKUP(I46,女子一覧表!$B$13:$F$37,2,FALSE))","v":""},null,{"$f":"IF(女子一覧表!L26=\"\",\"\",VLOOKUP(I46,女子一覧表!$B$13:$F$37,3,FALSE))","v":""},{"$f":"IF(K46=\"\",\"\",女子一覧表!$A$7)","v":""}]
["種目",null,{"$f":"女子一覧表!Y27","v":""},null,"記録",{"$f":"女子一覧表!J27","v":0},null,"種目",null,{"$f":"女子一覧表!Z27","v":""},null,"記録",{"$f":"女子一覧表!M27","v":0}]
["性","ゼッケン",null,"氏名",null,"学年","所属","性","ゼッケン",null,"氏名",null,"学年","所属"]
["女",{"$f":"女子一覧表!B27","v":0},null,{"$f":"IF(女子一覧表!B27=\"\",\"\",VLOOKUP(B49,女子一覧表!$B$13:$F$37,2,FALSE))","v":""},null,{"$f":"IF(女子一覧表!B27=\"\",\"\",VLOOKUP(B49,女子一覧表!$B$13:$F$37,3,FALSE))","v":""},{"$f":"IF(D49=\"\",\"\",女子一覧表!$A$7)","v":""},"女",{"$f":"IF(女子一覧表!L27=\"\",\"\",女子一覧表!B27)","v":""},null,{"$f":"IF(女子一覧表!L27=\"\",\"\",VLOOKUP(I49,女子一覧表!$B$13:$F$37,2,FALSE))","v":""},null,{"$f":"IF(女子一覧表!L27=\"\",\"\",VLOOKUP(I49,女子一覧表!$B$13:$F$37,3,FALSE))","v":""},{"$f":"IF(K49=\"\",\"\",女子一覧表!$A$7)","v":""}]
["種目",null,{"$f":"女子一覧表!Y28","v":""},null,"記録",{"$f":"女子一覧表!J28","v":0},null,"種目",null,{"$f":"女子一覧表!Z28","v":""},null,"記録",{"$f":"女子一覧表!M28","v":0}]
["性","ゼッケン",null,"氏名",null,"学年","所属","性","ゼッケン",null,"氏名",null,"学年","所属"]
["女",{"$f":"女子一覧表!B28","v":0},null,{"$f":"IF(女子一覧表!B28=\"\",\"\",VLOOKUP(B52,女子一覧表!$B$13:$F$37,2,FALSE))","v":""},null,{"$f":"IF(女子一覧表!B28=\"\",\"\",VLOOKUP(B52,女子一覧表!$B$13:$F$37,3,FALSE))","v":""},{"$f":"IF(D52=\"\",\"\",女子一覧表!$A$7)","v":""},"女",{"$f":"IF(女子一覧表!L28=\"\",\"\",女子一覧表!B28)","v":""},null,{"$f":"IF(女子一覧表!L28=\"\",\"\",VLOOKUP(I52,女子一覧表!$B$13:$F$37,2,FALSE))","v":""},null,{"$f":"IF(女子一覧表!L28=\"\",\"\",VLOOKUP(I52,女子一覧表!$B$13:$F$37,3,FALSE))","v":""},{"$f":"IF(K52=\"\",\"\",女子一覧表!$A$7)","v":""}]
["種目",null,{"$f":"女子一覧表!Y29","v":""},null,"記録",{"$f":"女子一覧表!J29","v":0},null,"種目",null,{"$f":"女子一覧表!Z29","v":""},null,"記録",{"$f":"女子一覧表!M29","v":0}]
["性","ゼッケン",null,"氏名",null,"学年","所属","性","ゼッケン",null,"氏名",null,"学年","所属"]
["女",{"$f":"女子一覧表!B29","v":0},null,{"$f":"IF(女子一覧表!B29=\"\",\"\",VLOOKUP(B55,女子一覧表!$B$13:$F$37,2,FALSE))","v":""},null,{"$f":"IF(女子一覧表!B29=\"\",\"\",VLOOKUP(B55,女子一覧表!$B$13:$F$37,3,FALSE))","v":""},{"$f":"IF(D55=\"\",\"\",女子一覧表!$A$7)","v":""},"女",{"$f":"IF(女子一覧表!L29=\"\",\"\",女子一覧表!B29)","v":""},null,{"$f":"IF(女子一覧表!L29=\"\",\"\",VLOOKUP(I55,女子一覧表!$B$13:$F$37,2,FALSE))","v":""},null,{"$f":"IF(女子一覧表!L29=\"\",\"\",VLOOKUP(I55,女子一覧表!$B$13:$F$37,3,FALSE))","v":""},{"$f":"IF(K55=\"\",\"\",女子一覧表!$A$7)","v":""}]
["種目",null,{"$f":"女子一覧表!Y30","v":""},null,"記録",{"$f":"女子一覧表!J30","v":0},null,"種目",null,{"$f":"女子一覧表!Z30","v":""},null,"記録",{"$f":"女子一覧表!M30","v":0}]
["性","ゼッケン",null,"氏名",null,"学年","所属","性","ゼッケン",null,"氏名",null,"学年","所属"]
["女",{"$f":"女子一覧表!B30","v":0},null,{"$f":"IF(女子一覧表!B30=\"\",\"\",VLOOKUP(B58,女子一覧表!$B$13:$F$37,2,FALSE))","v":""},null,{"$f":"IF(女子一覧表!B30=\"\",\"\",VLOOKUP(B58,女子一覧表!$B$13:$F$37,3,FALSE))","v":""},{"$f":"IF(D58=\"\",\"\",女子一覧表!$A$7)","v":""},"女",{"$f":"IF(女子一覧表!L30=\"\",\"\",女子一覧表!B30)","v":""},null,{"$f":"IF(女子一覧表!L30=\"\",\"\",VLOOKUP(I58,女子一覧表!$B$13:$F$37,2,FALSE))","v":""},null,{"$f":"IF(女子一覧表!L30=\"\",\"\",VLOOKUP(I58,女子一覧表!$B$13:$F$37,3,FALSE))","v":""},{"$f":"IF(K58=\"\",\"\",女子一覧表!$A$7)","v":""}]
["種目",null,{"$f":"女子一覧表!Y31","v":""},null,"記録",{"$f":"女子一覧表!J31","v":0},null,"種目",null,{"$f":"女子一覧表!Z31","v":""},null,"記録",{"$f":"女子一覧表!M31","v":0}]
["性","ゼッケン",null,"氏名",null,"学年","所属","性","ゼッケン",null,"氏名",null,"学年","所属"]
["女",{"$f":"女子一覧表!B31","v":0},null,{"$f":"IF(女子一覧表!B31=\"\",\"\",VLOOKUP(B61,女子一覧表!$B$13:$F$37,2,FALSE))","v":""},null,{"$f":"IF(女子一覧表!B31=\"\",\"\",VLOOKUP(B61,女子一覧表!$B$13:$F$37,3,FALSE))","v":""},{"$f":"IF(D61=\"\",\"\",女子一覧表!$A$7)","v":""},"女",{"$f":"IF(女子一覧表!L31=\"\",\"\",女子一覧表!B31)","v":""},null,{"$f":"IF(女子一覧表!L31=\"\",\"\",VLOOKUP(I61,女子一覧表!$B$13:$F$37,2,FALSE))","v":""},null,{"$f":"IF(女子一覧表!L31=\"\",\"\",VLOOKUP(I61,女子一覧表!$B$13:$F$37,3,FALSE))","v":""},{"$f":"IF(K61=\"\",\"\",女子一覧表!$A$7)","v":""}]
["種目",null,{"$f":"女子一覧表!Y32","v":""},null,"記録",{"$f":"女子一覧表!J32","v":0},null,"種目",null,{"$f":"女子一覧表!Z32","v":""},null,"記録",{"$f":"女子一覧表!M32","v":0}]
["性","ゼッケン",null,"氏名",null,"学年","所属","性","ゼッケン",null,"氏名",null,"学年","所属"]
["女",{"$f":"女子一覧表!B32","v":0},null,{"$f":"IF(女子一覧表!B32=\"\",\"\",VLOOKUP(B64,女子一覧表!$B$13:$F$37,2,FALSE))","v":""},null,{"$f":"IF(女子一覧表!B32=\"\",\"\",VLOOKUP(B64,女子一覧表!$B$13:$F$37,3,FALSE))","v":""},{"$f":"IF(D64=\"\",\"\",女子一覧表!$A$7)","v":""},"女",{"$f":"IF(女子一覧表!L32=\"\",\"\",女子一覧表!B32)","v":""},null,{"$f":"IF(女子一覧表!L32=\"\",\"\",VLOOKUP(I64,女子一覧表!$B$13:$F$37,2,FALSE))","v":""},null,{"$f":"IF(女子一覧表!L32=\"\",\"\",VLOOKUP(I64,女子一覧表!$B$13:$F$37,3,FALSE))","v":""},{"$f":"IF(K64=\"\",\"\",女子一覧表!$A$7)","v":""}]
["種目",null,{"$f":"女子一覧表!Y33","v":""},null,"記録",{"$f":"女子一覧表!J33","v":0},null,"種目",null,{"$f":"女子一覧表!Z33","v":""},null,"記録",{"$f":"女子一覧表!M33","v":0}]
["性","ゼッケン",null,"氏名",null,"学年","所属","性","ゼッケン",null,"氏名",null,"学年","所属"]
["女",{"$f":"女子一覧表!B33","v":0},null,{"$f":"IF(女子一覧表!B33=\"\",\"\",VLOOKUP(B67,女子一覧表!$B$13:$F$37,2,FALSE))","v":""},null,{"$f":"IF(女子一覧表!B33=\"\",\"\",VLOOKUP(B67,女子一覧表!$B$13:$F$37,3,FALSE))","v":""},{"$f":"IF(D67=\"\",\"\",女子一覧表!$A$7)","v":""},"女",{"$f":"IF(女子一覧表!L33=\"\",\"\",女子一覧表!B33)","v":""},null,{"$f":"IF(女子一覧表!L33=\"\",\"\",VLOOKUP(I67,女子一覧表!$B$13:$F$37,2,FALSE))","v":""},null,{"$f":"IF(女子一覧表!L33=\"\",\"\",VLOOKUP(I67,女子一覧表!$B$13:$F$37,3,FALSE))","v":""},{"$f":"IF(K67=\"\",\"\",女子一覧表!$A$7)","v":""}]
["種目",null,{"$f":"女子一覧表!Y34","v":""},null,"記録",{"$f":"女子一覧表!J34","v":0},null,"種目",null,{"$f":"女子一覧表!Z34","v":""},null,"記録",{"$f":"女子一覧表!M34","v":0}]
["性","ゼッケン",null,"氏名",null,"学年","所属","性","ゼッケン",null,"氏名",null,"学年","所属"]
["女",{"$f":"女子一覧表!B34","v":0},null,{"$f":"IF(女子一覧表!B34=\"\",\"\",VLOOKUP(B70,女子一覧表!$B$13:$F$37,2,FALSE))","v":""},null,{"$f":"IF(女子一覧表!B34=\"\",\"\",VLOOKUP(B70,女子一覧表!$B$13:$F$37,3,FALSE))","v":""},{"$f":"IF(D70=\"\",\"\",女子一覧表!$A$7)","v":""},"女",{"$f":"IF(女子一覧表!L34=\"\",\"\",女子一覧表!B34)","v":""},null,{"$f":"IF(女子一覧表!L34=\"\",\"\",VLOOKUP(I70,女子一覧表!$B$13:$F$37,2,FALSE))","v":""},null,{"$f":"IF(女子一覧表!L34=\"\",\"\",VLOOKUP(I70,女子一覧表!$B$13:$F$37,3,FALSE))","v":""},{"$f":"IF(K70=\"\",\"\",女子一覧表!$A$7)","v":""}]
["種目",null,{"$f":"女子一覧表!Y35","v":""},null,"記録",{"$f":"女子一覧表!J35","v":0},null,"種目",null,{"$f":"女子一覧表!Z35","v":""},null,"記録",{"$f":"女子一覧表!M35","v":0}]
["性","ゼッケン",null,"氏名",null,"学年","所属","性","ゼッケン",null,"氏名",null,"学年","所属"]
["女",{"$f":"女子一覧表!B35","v":0},null,{"$f":"IF(女子一覧表!B35=\"\",\"\",VLOOKUP(B73,女子一覧表!$B$13:$F$37,2,FALSE))","v":""},null,{"$f":"IF(女子一覧表!B35=\"\",\"\",VLOOKUP(B73,女子一覧表!$B$13:$F$37,3,FALSE))","v":""},{"$f":"IF(D73=\"\",\"\",女子一覧表!$A$7)","v":""},"女",{"$f":"IF(女子一覧表!L35=\"\",\"\",女子一覧表!B35)","v":""},null,{"$f":"IF(女子一覧表!L35=\"\",\"\",VLOOKUP(I73,女子一覧表!$B$13:$F$37,2,FALSE))","v":""},null,{"$f":"IF(女子一覧表!L35=\"\",\"\",VLOOKUP(I73,女子一覧表!$B$13:$F$37,3,FALSE))","v":""},{"$f":"IF(K73=\"\",\"\",女子一覧表!$A$7)","v":""}]
["種目",null,{"$f":"女子一覧表!Y36","v":""},null,"記録",{"$f":"女子一覧表!J36","v":0},null,"種目",null,{"$f":"女子一覧表!Z36","v":""},null,"記録",{"$f":"女子一覧表!M36","v":0}]
["性","ゼッケン",null,"氏名",null,"学年","所属","性","ゼッケン",null,"氏名",null,"学年","所属"]
["女",{"$f":"女子一覧表!B36","v":0},null,{"$f":"IF(女子一覧表!B36=\"\",\"\",VLOOKUP(B76,女子一覧表!$B$13:$F$37,2,FALSE))","v":""},null,{"$f":"IF(女子一覧表!B36=\"\",\"\",VLOOKUP(B76,女子一覧表!$B$13:$F$37,3,FALSE))","v":""},{"$f":"IF(D76=\"\",\"\",女子一覧表!$A$7)","v":""},"女",{"$f":"IF(女子一覧表!L36=\"\",\"\",女子一覧表!B36)","v":""},null,{"$f":"IF(女子一覧表!L36=\"\",\"\",VLOOKUP(I76,女子一覧表!$B$13:$F$37,2,FALSE))","v":""},null,{"$f":"IF(女子一覧表!L36=\"\",\"\",VLOOKUP(I76,女子一覧表!$B$13:$F$37,3,FALSE))","v":""},{"$f":"IF(K76=\"\",\"\",女子一覧表!$A$7)","v":""}]
["種目",null,{"$f":"女子一覧表!Y37","v":""},null,"記録",{"$f":"女子一覧表!J37","v":0},null,"種目",null,{"$f":"女子一覧表!Z37","v":""},null,"記録",{"$f":"女子一覧表!M37","v":0}]
["性","ゼッケン",null,"氏名",null,"学年","所属","性","ゼッケン",null,"氏名",null,"学年","所属"]
["女",{"$f":"女子一覧表!B37","v":0},null,{"$f":"IF(女子一覧表!B37=\"\",\"\",VLOOKUP(B79,女子一覧表!$B$13:$F$37,2,FALSE))","v":""},null,{"$f":"IF(女子一覧表!B37=\"\",\"\",VLOOKUP(B79,女子一覧表!$B$13:$F$37,3,FALSE))","v":""},{"$f":"IF(D79=\"\",\"\",女子一覧表!$A$7)","v":""},"女",{"$f":"IF(女子一覧表!L37=\"\",\"\",女子一覧表!B37)","v":""},null,{"$f":"IF(女子一覧表!L37=\"\",\"\",VLOOKUP(I79,女子一覧表!$B$13:$F$37,2,FALSE))","v":""},null,{"$f":"IF(女子一覧表!L37=\"\",\"\",VLOOKUP(I79,女子一覧表!$B$13:$F$37,3,FALSE))","v":""},{"$f":"IF(K79=\"\",\"\",女子一覧表!$A$7)","v":""}]
["女　子　個　　票　(26～50人）"]
["1種目目",null,null,null,null,null,null,"2種目目"]
["種目",null,{"$f":"女子一覧表!Y54","v":""},null,"記録",{"$f":"女子一覧表!J54","v":0},null,"種目",null,{"$f":"女子一覧表!Z54","v":""},null,"記録",{"$f":"女子一覧表!M54","v":0}]
["性","ゼッケン",null,"氏名",null,"学年","所属","性","ゼッケン",null,"氏名",null,"学年","所属"]
["女",{"$f":"女子一覧表!B54","v":0},null,{"$f":"IF(女子一覧表!B54=\"\",\"\",VLOOKUP(B84,女子一覧表!$B$13:$F$78,2,FALSE))","v":""},null,{"$f":"IF(女子一覧表!B54=\"\",\"\",VLOOKUP(B84,女子一覧表!$B$13:$F$78,3,FALSE))","v":""},{"$f":"IF(D84=\"\",\"\",女子一覧表!$A$7)","v":""},"女",{"$f":"IF(女子一覧表!L54=\"\",\"\",女子一覧表!B54)","v":""},null,{"$f":"IF(女子一覧表!L54=\"\",\"\",VLOOKUP(I84,女子一覧表!$B$13:$F$78,2,FALSE))","v":""},null,{"$f":"IF(女子一覧表!L54=\"\",\"\",VLOOKUP(I84,女子一覧表!$B$13:$F$78,3,FALSE))","v":""},{"$f":"IF(K84=\"\",\"\",女子一覧表!$A$7)","v":""}]
["種目",null,{"$f":"女子一覧表!Y55","v":""},null,"記録",{"$f":"女子一覧表!J55","v":0},null,"種目",null,{"$f":"女子一覧表!Z55","v":""},null,"記録",{"$f":"女子一覧表!M55","v":0}]
["性","ゼッケン",null,"氏名",null,"学年","所属","性","ゼッケン",null,"氏名",null,"学年","所属"]
["女",{"$f":"女子一覧表!B55","v":0},null,{"$f":"IF(女子一覧表!B55=\"\",\"\",VLOOKUP(B87,女子一覧表!$B$13:$F$78,2,FALSE))","v":""},null,{"$f":"IF(女子一覧表!B55=\"\",\"\",VLOOKUP(B87,女子一覧表!$B$13:$F$78,3,FALSE))","v":""},{"$f":"IF(D87=\"\",\"\",女子一覧表!$A$7)","v":""},"女",{"$f":"IF(女子一覧表!L55=\"\",\"\",女子一覧表!B55)","v":""},null,{"$f":"IF(女子一覧表!L55=\"\",\"\",VLOOKUP(I87,女子一覧表!$B$13:$F$78,2,FALSE))","v":""},null,{"$f":"IF(女子一覧表!L55=\"\",\"\",VLOOKUP(I87,女子一覧表!$B$13:$F$78,3,FALSE))","v":""},{"$f":"IF(K87=\"\",\"\",女子一覧表!$A$7)","v":""}]
["種目",null,{"$f":"女子一覧表!Y56","v":""},null,"記録",{"$f":"女子一覧表!J56","v":0},null,"種目",null,{"$f":"女子一覧表!Z56","v":""},null,"記録",{"$f":"女子一覧表!M56","v":0}]
["性","ゼッケン",null,"氏名",null,"学年","所属","性","ゼッケン",null,"氏名",null,"学年","所属"]
["女",{"$f":"女子一覧表!B56","v":0},null,{"$f":"IF(女子一覧表!B56=\"\",\"\",VLOOKUP(B90,女子一覧表!$B$13:$F$78,2,FALSE))","v":""},null,{"$f":"IF(女子一覧表!B56=\"\",\"\",VLOOKUP(B90,女子一覧表!$B$13:$F$78,3,FALSE))","v":""},{"$f":"IF(D90=\"\",\"\",女子一覧表!$A$7)","v":""},"女",{"$f":"IF(女子一覧表!L56=\"\",\"\",女子一覧表!B56)","v":""},null,{"$f":"IF(女子一覧表!L56=\"\",\"\",VLOOKUP(I90,女子一覧表!$B$13:$F$78,2,FALSE))","v":""},null,{"$f":"IF(女子一覧表!L56=\"\",\"\",VLOOKUP(I90,女子一覧表!$B$13:$F$78,3,FALSE))","v":""},{"$f":"IF(K90=\"\",\"\",女子一覧表!$A$7)","v":""}]
["種目",null,{"$f":"女子一覧表!Y57","v":""},null,"記録",{"$f":"女子一覧表!J57","v":0},null,"種目",null,{"$f":"女子一覧表!Z57","v":""},null,"記録",{"$f":"女子一覧表!M57","v":0}]
["性","ゼッケン",null,"氏名",null,"学年","所属","性","ゼッケン",null,"氏名",null,"学年","所属"]
["女",{"$f":"女子一覧表!B57","v":0},null,{"$f":"IF(女子一覧表!B57=\"\",\"\",VLOOKUP(B93,女子一覧表!$B$13:$F$78,2,FALSE))","v":""},null,{"$f":"IF(女子一覧表!B57=\"\",\"\",VLOOKUP(B93,女子一覧表!$B$13:$F$78,3,FALSE))","v":""},{"$f":"IF(D93=\"\",\"\",女子一覧表!$A$7)","v":""},"女",{"$f":"IF(女子一覧表!L57=\"\",\"\",女子一覧表!B57)","v":""},null,{"$f":"IF(女子一覧表!L57=\"\",\"\",VLOOKUP(I93,女子一覧表!$B$13:$F$78,2,FALSE))","v":""},null,{"$f":"IF(女子一覧表!L57=\"\",\"\",VLOOKUP(I93,女子一覧表!$B$13:$F$78,3,FALSE))","v":""},{"$f":"IF(K93=\"\",\"\",女子一覧表!$A$7)","v":""}]
["種目",null,{"$f":"女子一覧表!Y58","v":""},null,"記録",{"$f":"女子一覧表!J58","v":0},null,"種目",null,{"$f":"女子一覧表!Z58","v":""},null,"記録",{"$f":"女子一覧表!M58","v":0}]
["性","ゼッケン",null,"氏名",null,"学年","所属","性","ゼッケン",null,"氏名",null,"学年","所属"]
["女",{"$f":"女子一覧表!B58","v":0},null,{"$f":"IF(女子一覧表!B58=\"\",\"\",VLOOKUP(B96,女子一覧表!$B$13:$F$78,2,FALSE))","v":""},null,{"$f":"IF(女子一覧表!B58=\"\",\"\",VLOOKUP(B96,女子一覧表!$B$13:$F$78,3,FALSE))","v":""},{"$f":"IF(D96=\"\",\"\",女子一覧表!$A$7)","v":""},"女",{"$f":"IF(女子一覧表!L58=\"\",\"\",女子一覧表!B58)","v":""},null,{"$f":"IF(女子一覧表!L58=\"\",\"\",VLOOKUP(I96,女子一覧表!$B$13:$F$78,2,FALSE))","v":""},null,{"$f":"IF(女子一覧表!L58=\"\",\"\",VLOOKUP(I96,女子一覧表!$B$13:$F$78,3,FALSE))","v":""},{"$f":"IF(K96=\"\",\"\",女子一覧表!$A$7)","v":""}]
["種目",null,{"$f":"女子一覧表!Y59","v":""},null,"記録",{"$f":"女子一覧表!J59","v":0},null,"種目",null,{"$f":"女子一覧表!Z59","v":""},null,"記録",{"$f":"女子一覧表!M59","v":0}]
["性","ゼッケン",null,"氏名",null,"学年","所属","性","ゼッケン",null,"氏名",null,"学年","所属"]
["女",{"$f":"女子一覧表!B59","v":0},null,{"$f":"IF(女子一覧表!B59=\"\",\"\",VLOOKUP(B99,女子一覧表!$B$13:$F$78,2,FALSE))","v":""},null,{"$f":"IF(女子一覧表!B59=\"\",\"\",VLOOKUP(B99,女子一覧表!$B$13:$F$78,3,FALSE))","v":""},{"$f":"IF(D99=\"\",\"\",女子一覧表!$A$7)","v":""},"女",{"$f":"IF(女子一覧表!L59=\"\",\"\",女子一覧表!B59)","v":""},null,{"$f":"IF(女子一覧表!L59=\"\",\"\",VLOOKUP(I99,女子一覧表!$B$13:$F$78,2,FALSE))","v":""},null,{"$f":"IF(女子一覧表!L59=\"\",\"\",VLOOKUP(I99,女子一覧表!$B$13:$F$78,3,FALSE))","v":""},{"$f":"IF(K99=\"\",\"\",女子一覧表!$A$7)","v":""}]
["種目",null,{"$f":"女子一覧表!Y60","v":""},null,"記録",{"$f":"女子一覧表!J60","v":0},null,"種目",null,{"$f":"女子一覧表!Z60","v":""},null,"記録",{"$f":"女子一覧表!M60","v":0}]
["性","ゼッケン",null,"氏名",null,"学年","所属","性","ゼッケン",null,"氏名",null,"学年","所属"]
["女",{"$f":"女子一覧表!B60","v":0},null,{"$f":"IF(女子一覧表!B60=\"\",\"\",VLOOKUP(B102,女子一覧表!$B$13:$F$78,2,FALSE))","v":""},null,{"$f":"IF(女子一覧表!B60=\"\",\"\",VLOOKUP(B102,女子一覧表!$B$13:$F$78,3,FALSE))","v":""},{"$f":"IF(D102=\"\",\"\",女子一覧表!$A$7)","v":""},"女",{"$f":"IF(女子一覧表!L60=\"\",\"\",女子一覧表!B60)","v":""},null,{"$f":"IF(女子一覧表!L60=\"\",\"\",VLOOKUP(I102,女子一覧表!$B$13:$F$78,2,FALSE))","v":""},null,{"$f":"IF(女子一覧表!L60=\"\",\"\",VLOOKUP(I102,女子一覧表!$B$13:$F$78,3,FALSE))","v":""},{"$f":"IF(K102=\"\",\"\",女子一覧表!$A$7)","v":""}]
["種目",null,{"$f":"女子一覧表!Y61","v":""},null,"記録",{"$f":"女子一覧表!J61","v":0},null,"種目",null,{"$f":"女子一覧表!Z61","v":""},null,"記録",{"$f":"女子一覧表!M61","v":0}]
["性","ゼッケン",null,"氏名",null,"学年","所属","性","ゼッケン",null,"氏名",null,"学年","所属"]
["女",{"$f":"女子一覧表!B61","v":0},null,{"$f":"IF(女子一覧表!B61=\"\",\"\",VLOOKUP(B105,女子一覧表!$B$13:$F$78,2,FALSE))","v":""},null,{"$f":"IF(女子一覧表!B61=\"\",\"\",VLOOKUP(B105,女子一覧表!$B$13:$F$78,3,FALSE))","v":""},{"$f":"IF(D105=\"\",\"\",女子一覧表!$A$7)","v":""},"女",{"$f":"IF(女子一覧表!L61=\"\",\"\",女子一覧表!B61)","v":""},null,{"$f":"IF(女子一覧表!L61=\"\",\"\",VLOOKUP(I105,女子一覧表!$B$13:$F$78,2,FALSE))","v":""},null,{"$f":"IF(女子一覧表!L61=\"\",\"\",VLOOKUP(I105,女子一覧表!$B$13:$F$78,3,FALSE))","v":""},{"$f":"IF(K105=\"\",\"\",女子一覧表!$A$7)","v":""}]
["種目",null,{"$f":"女子一覧表!Y62","v":""},null,"記録",{"$f":"女子一覧表!J62","v":0},null,"種目",null,{"$f":"女子一覧表!Z62","v":""},null,"記録",{"$f":"女子一覧表!M62","v":0}]
["性","ゼッケン",null,"氏名",null,"学年","所属","性","ゼッケン",null,"氏名",null,"学年","所属"]
["女",{"$f":"女子一覧表!B62","v":0},null,{"$f":"IF(女子一覧表!B62=\"\",\"\",VLOOKUP(B108,女子一覧表!$B$13:$F$78,2,FALSE))","v":""},null,{"$f":"IF(女子一覧表!B62=\"\",\"\",VLOOKUP(B108,女子一覧表!$B$13:$F$78,3,FALSE))","v":""},{"$f":"IF(D108=\"\",\"\",女子一覧表!$A$7)","v":""},"女",{"$f":"IF(女子一覧表!L62=\"\",\"\",女子一覧表!B62)","v":""},null,{"$f":"IF(女子一覧表!L62=\"\",\"\",VLOOKUP(I108,女子一覧表!$B$13:$F$78,2,FALSE))","v":""},null,{"$f":"IF(女子一覧表!L62=\"\",\"\",VLOOKUP(I108,女子一覧表!$B$13:$F$78,3,FALSE))","v":""},{"$f":"IF(K108=\"\",\"\",女子一覧表!$A$7)","v":""}]
["種目",null,{"$f":"女子一覧表!Y63","v":""},null,"記録",{"$f":"女子一覧表!J63","v":0},null,"種目",null,{"$f":"女子一覧表!Z63","v":""},null,"記録",{"$f":"女子一覧表!M63","v":0}]
["性","ゼッケン",null,"氏名",null,"学年","所属","性","ゼッケン",null,"氏名",null,"学年","所属"]
["女",{"$f":"女子一覧表!B63","v":0},null,{"$f":"IF(女子一覧表!B63=\"\",\"\",VLOOKUP(B111,女子一覧表!$B$13:$F$78,2,FALSE))","v":""},null,{"$f":"IF(女子一覧表!B63=\"\",\"\",VLOOKUP(B111,女子一覧表!$B$13:$F$78,3,FALSE))","v":""},{"$f":"IF(D111=\"\",\"\",女子一覧表!$A$7)","v":""},"女",{"$f":"IF(女子一覧表!L63=\"\",\"\",女子一覧表!B63)","v":""},null,{"$f":"IF(女子一覧表!L63=\"\",\"\",VLOOKUP(I111,女子一覧表!$B$13:$F$78,2,FALSE))","v":""},null,{"$f":"IF(女子一覧表!L63=\"\",\"\",VLOOKUP(I111,女子一覧表!$B$13:$F$78,3,FALSE))","v":""},{"$f":"IF(K111=\"\",\"\",女子一覧表!$A$7)","v":""}]
["種目",null,{"$f":"女子一覧表!Y64","v":""},null,"記録",{"$f":"女子一覧表!J64","v":0},null,"種目",null,{"$f":"女子一覧表!Z64","v":""},null,"記録",{"$f":"女子一覧表!M64","v":0}]
["性","ゼッケン",null,"氏名",null,"学年","所属","性","ゼッケン",null,"氏名",null,"学年","所属"]
["女",{"$f":"女子一覧表!B64","v":0},null,{"$f":"IF(女子一覧表!B64=\"\",\"\",VLOOKUP(B114,女子一覧表!$B$13:$F$78,2,FALSE))","v":""},null,{"$f":"IF(女子一覧表!B64=\"\",\"\",VLOOKUP(B114,女子一覧表!$B$13:$F$78,3,FALSE))","v":""},{"$f":"IF(D114=\"\",\"\",女子一覧表!$A$7)","v":""},"女",{"$f":"IF(女子一覧表!L64=\"\",\"\",女子一覧表!B64)","v":""},null,{"$f":"IF(女子一覧表!L64=\"\",\"\",VLOOKUP(I114,女子一覧表!$B$13:$F$78,2,FALSE))","v":""},null,{"$f":"IF(女子一覧表!L64=\"\",\"\",VLOOKUP(I114,女子一覧表!$B$13:$F$78,3,FALSE))","v":""},{"$f":"IF(K114=\"\",\"\",女子一覧表!$A$7)","v":""}]
["種目",null,{"$f":"女子一覧表!Y65","v":""},null,"記録",{"$f":"女子一覧表!J65","v":0},null,"種目",null,{"$f":"女子一覧表!Z65","v":""},null,"記録",{"$f":"女子一覧表!M65","v":0}]
["性","ゼッケン",null,"氏名",null,"学年","所属","性","ゼッケン",null,"氏名",null,"学年","所属"]
["女",{"$f":"女子一覧表!B65","v":0},null,{"$f":"IF(女子一覧表!B65=\"\",\"\",VLOOKUP(B117,女子一覧表!$B$13:$F$78,2,FALSE))","v":""},null,{"$f":"IF(女子一覧表!B65=\"\",\"\",VLOOKUP(B117,女子一覧表!$B$13:$F$78,3,FALSE))","v":""},{"$f":"IF(D117=\"\",\"\",女子一覧表!$A$7)","v":""},"女",{"$f":"IF(女子一覧表!L65=\"\",\"\",女子一覧表!B65)","v":""},null,{"$f":"IF(女子一覧表!L65=\"\",\"\",VLOOKUP(I117,女子一覧表!$B$13:$F$78,2,FALSE))","v":""},null,{"$f":"IF(女子一覧表!L65=\"\",\"\",VLOOKUP(I117,女子一覧表!$B$13:$F$78,3,FALSE))","v":""},{"$f":"IF(K117=\"\",\"\",女子一覧表!$A$7)","v":""}]
["種目",null,{"$f":"女子一覧表!Y66","v":""},null,"記録",{"$f":"女子一覧表!J66","v":0},null,"種目",null,{"$f":"女子一覧表!Z66","v":""},null,"記録",{"$f":"女子一覧表!M66","v":0}]
["性","ゼッケン",null,"氏名",null,"学年","所属","性","ゼッケン",null,"氏名",null,"学年","所属"]
["女",{"$f":"女子一覧表!B66","v":0},null,{"$f":"IF(女子一覧表!B66=\"\",\"\",VLOOKUP(B120,女子一覧表!$B$13:$F$78,2,FALSE))","v":""},null,{"$f":"IF(女子一覧表!B66=\"\",\"\",VLOOKUP(B120,女子一覧表!$B$13:$F$78,3,FALSE))","v":""},{"$f":"IF(D120=\"\",\"\",女子一覧表!$A$7)","v":""},"女",{"$f":"IF(女子一覧表!L66=\"\",\"\",女子一覧表!B66)","v":""},null,{"$f":"IF(女子一覧表!L66=\"\",\"\",VLOOKUP(I120,女子一覧表!$B$13:$F$78,2,FALSE))","v":""},null,{"$f":"IF(女子一覧表!L66=\"\",\"\",VLOOKUP(I120,女子一覧表!$B$13:$F$78,3,FALSE))","v":""},{"$f":"IF(K120=\"\",\"\",女子一覧表!$A$7)","v":""}]
["種目",null,{"$f":"女子一覧表!Y67","v":""},null,"記録",{"$f":"女子一覧表!J67","v":0},null,"種目",null,{"$f":"女子一覧表!Z67","v":""},null,"記録",{"$f":"女子一覧表!M67","v":0}]
["性","ゼッケン",null,"氏名",null,"学年","所属","性","ゼッケン",null,"氏名",null,"学年","所属"]
["女",{"$f":"女子一覧表!B67","v":0},null,{"$f":"IF(女子一覧表!B67=\"\",\"\",VLOOKUP(B123,女子一覧表!$B$13:$F$78,2,FALSE))","v":""},null,{"$f":"IF(女子一覧表!B67=\"\",\"\",VLOOKUP(B123,女子一覧表!$B$13:$F$78,3,FALSE))","v":""},{"$f":"IF(D123=\"\",\"\",女子一覧表!$A$7)","v":""},"女",{"$f":"IF(女子一覧表!L67=\"\",\"\",女子一覧表!B67)","v":""},null,{"$f":"IF(女子一覧表!L67=\"\",\"\",VLOOKUP(I123,女子一覧表!$B$13:$F$78,2,FALSE))","v":""},null,{"$f":"IF(女子一覧表!L67=\"\",\"\",VLOOKUP(I123,女子一覧表!$B$13:$F$78,3,FALSE))","v":""},{"$f":"IF(K123=\"\",\"\",女子一覧表!$A$7)","v":""}]
["種目",null,{"$f":"女子一覧表!Y68","v":""},null,"記録",{"$f":"女子一覧表!J68","v":0},null,"種目",null,{"$f":"女子一覧表!Z68","v":""},null,"記録",{"$f":"女子一覧表!M68","v":0}]
["性","ゼッケン",null,"氏名",null,"学年","所属","性","ゼッケン",null,"氏名",null,"学年","所属"]
["女",{"$f":"女子一覧表!B68","v":0},null,{"$f":"IF(女子一覧表!B68=\"\",\"\",VLOOKUP(B126,女子一覧表!$B$13:$F$78,2,FALSE))","v":""},null,{"$f":"IF(女子一覧表!B68=\"\",\"\",VLOOKUP(B126,女子一覧表!$B$13:$F$78,3,FALSE))","v":""},{"$f":"IF(D126=\"\",\"\",女子一覧表!$A$7)","v":""},"女",{"$f":"IF(女子一覧表!L68=\"\",\"\",女子一覧表!B68)","v":""},null,{"$f":"IF(女子一覧表!L68=\"\",\"\",VLOOKUP(I126,女子一覧表!$B$13:$F$78,2,FALSE))","v":""},null,{"$f":"IF(女子一覧表!L68=\"\",\"\",VLOOKUP(I126,女子一覧表!$B$13:$F$78,3,FALSE))","v":""},{"$f":"IF(K126=\"\",\"\",女子一覧表!$A$7)","v":""}]
["種目",null,{"$f":"女子一覧表!Y69","v":""},null,"記録",{"$f":"女子一覧表!J69","v":0},null,"種目",null,{"$f":"女子一覧表!Z69","v":""},null,"記録",{"$f":"女子一覧表!M69","v":0}]
["性","ゼッケン",null,"氏名",null,"学年","所属","性","ゼッケン",null,"氏名",null,"学年","所属"]
["女",{"$f":"女子一覧表!B69","v":0},null,{"$f":"IF(女子一覧表!B69=\"\",\"\",VLOOKUP(B129,女子一覧表!$B$13:$F$78,2,FALSE))","v":""},null,{"$f":"IF(女子一覧表!B69=\"\",\"\",VLOOKUP(B129,女子一覧表!$B$13:$F$78,3,FALSE))","v":""},{"$f":"IF(D129=\"\",\"\",女子一覧表!$A$7)","v":""},"女",{"$f":"IF(女子一覧表!L69=\"\",\"\",女子一覧表!B69)","v":""},null,{"$f":"IF(女子一覧表!L69=\"\",\"\",VLOOKUP(I129,女子一覧表!$B$13:$F$78,2,FALSE))","v":""},null,{"$f":"IF(女子一覧表!L69=\"\",\"\",VLOOKUP(I129,女子一覧表!$B$13:$F$78,3,FALSE))","v":""},{"$f":"IF(K129=\"\",\"\",女子一覧表!$A$7)","v":""}]
["種目",null,{"$f":"女子一覧表!Y70","v":""},null,"記録",{"$f":"女子一覧表!J70","v":0},null,"種目",null,{"$f":"女子一覧表!Z70","v":""},null,"記録",{"$f":"女子一覧表!M70","v":0}]
["性","ゼッケン",null,"氏名",null,"学年","所属","性","ゼッケン",null,"氏名",null,"学年","所属"]
["女",{"$f":"女子一覧表!B70","v":0},null,{"$f":"IF(女子一覧表!B70=\"\",\"\",VLOOKUP(B132,女子一覧表!$B$13:$F$78,2,FALSE))","v":""},null,{"$f":"IF(女子一覧表!B70=\"\",\"\",VLOOKUP(B132,女子一覧表!$B$13:$F$78,3,FALSE))","v":""},{"$f":"IF(D132=\"\",\"\",女子一覧表!$A$7)","v":""},"女",{"$f":"IF(女子一覧表!L70=\"\",\"\",女子一覧表!B70)","v":""},null,{"$f":"IF(女子一覧表!L70=\"\",\"\",VLOOKUP(I132,女子一覧表!$B$13:$F$78,2,FALSE))","v":""},null,{"$f":"IF(女子一覧表!L70=\"\",\"\",VLOOKUP(I132,女子一覧表!$B$13:$F$78,3,FALSE))","v":""},{"$f":"IF(K132=\"\",\"\",女子一覧表!$A$7)","v":""}]
["種目",null,{"$f":"女子一覧表!Y71","v":""},null,"記録",{"$f":"女子一覧表!J71","v":0},null,"種目",null,{"$f":"女子一覧表!Z71","v":""},null,"記録",{"$f":"女子一覧表!M71","v":0}]
["性","ゼッケン",null,"氏名",null,"学年","所属","性","ゼッケン",null,"氏名",null,"学年","所属"]
["女",{"$f":"女子一覧表!B71","v":0},null,{"$f":"IF(女子一覧表!B71=\"\",\"\",VLOOKUP(B135,女子一覧表!$B$13:$F$78,2,FALSE))","v":""},null,{"$f":"IF(女子一覧表!B71=\"\",\"\",VLOOKUP(B135,女子一覧表!$B$13:$F$78,3,FALSE))","v":""},{"$f":"IF(D135=\"\",\"\",女子一覧表!$A$7)","v":""},"女",{"$f":"IF(女子一覧表!L71=\"\",\"\",女子一覧表!B71)","v":""},null,{"$f":"IF(女子一覧表!L71=\"\",\"\",VLOOKUP(I135,女子一覧表!$B$13:$F$78,2,FALSE))","v":""},null,{"$f":"IF(女子一覧表!L71=\"\",\"\",VLOOKUP(I135,女子一覧表!$B$13:$F$78,3,FALSE))","v":""},{"$f":"IF(K135=\"\",\"\",女子一覧表!$A$7)","v":""}]
["種目",null,{"$f":"女子一覧表!Y72","v":""},null,"記録",{"$f":"女子一覧表!J72","v":0},null,"種目",null,{"$f":"女子一覧表!Z72","v":""},null,"記録",{"$f":"女子一覧表!M72","v":0}]
["性","ゼッケン",null,"氏名",null,"学年","所属","性","ゼッケン",null,"氏名",null,"学年","所属"]
["女",{"$f":"女子一覧表!B72","v":0},null,{"$f":"IF(女子一覧表!B72=\"\",\"\",VLOOKUP(B138,女子一覧表!$B$13:$F$78,2,FALSE))","v":""},null,{"$f":"IF(女子一覧表!B72=\"\",\"\",VLOOKUP(B138,女子一覧表!$B$13:$F$78,3,FALSE))","v":""},{"$f":"IF(D138=\"\",\"\",女子一覧表!$A$7)","v":""},"女",{"$f":"IF(女子一覧表!L72=\"\",\"\",女子一覧表!B72)","v":""},null,{"$f":"IF(女子一覧表!L72=\"\",\"\",VLOOKUP(I138,女子一覧表!$B$13:$F$78,2,FALSE))","v":""},null,{"$f":"IF(女子一覧表!L72=\"\",\"\",VLOOKUP(I138,女子一覧表!$B$13:$F$78,3,FALSE))","v":""},{"$f":"IF(K138=\"\",\"\",女子一覧表!$A$7)","v":""}]
["種目",null,{"$f":"女子一覧表!Y73","v":""},null,"記録",{"$f":"女子一覧表!J73","v":0},null,"種目",null,{"$f":"女子一覧表!Z73","v":""},null,"記録",{"$f":"女子一覧表!M73","v":0}]
["性","ゼッケン",null,"氏名",null,"学年","所属","性","ゼッケン",null,"氏名",null,"学年","所属"]
["女",{"$f":"女子一覧表!B73","v":0},null,{"$f":"IF(女子一覧表!B73=\"\",\"\",VLOOKUP(B141,女子一覧表!$B$13:$F$78,2,FALSE))","v":""},null,{"$f":"IF(女子一覧表!B73=\"\",\"\",VLOOKUP(B141,女子一覧表!$B$13:$F$78,3,FALSE))","v":""},{"$f":"IF(D141=\"\",\"\",女子一覧表!$A$7)","v":""},"女",{"$f":"IF(女子一覧表!L73=\"\",\"\",女子一覧表!B73)","v":""},null,{"$f":"IF(女子一覧表!L73=\"\",\"\",VLOOKUP(I141,女子一覧表!$B$13:$F$78,2,FALSE))","v":""},null,{"$f":"IF(女子一覧表!L73=\"\",\"\",VLOOKUP(I141,女子一覧表!$B$13:$F$78,3,FALSE))","v":""},{"$f":"IF(K141=\"\",\"\",女子一覧表!$A$7)","v":""}]
["種目",null,{"$f":"女子一覧表!Y74","v":""},null,"記録",{"$f":"女子一覧表!J74","v":0},null,"種目",null,{"$f":"女子一覧表!Z74","v":""},null,"記録",{"$f":"女子一覧表!M74","v":0}]
["性","ゼッケン",null,"氏名",null,"学年","所属","性","ゼッケン",null,"氏名",null,"学年","所属"]
["女",{"$f":"女子一覧表!B74","v":0},null,{"$f":"IF(女子一覧表!B74=\"\",\"\",VLOOKUP(B144,女子一覧表!$B$13:$F$78,2,FALSE))","v":""},null,{"$f":"IF(女子一覧表!B74=\"\",\"\",VLOOKUP(B144,女子一覧表!$B$13:$F$78,3,FALSE))","v":""},{"$f":"IF(D144=\"\",\"\",女子一覧表!$A$7)","v":""},"女",{"$f":"IF(女子一覧表!L74=\"\",\"\",女子一覧表!B74)","v":""},null,{"$f":"IF(女子一覧表!L74=\"\",\"\",VLOOKUP(I144,女子一覧表!$B$13:$F$78,2,FALSE))","v":""},null,{"$f":"IF(女子一覧表!L74=\"\",\"\",VLOOKUP(I144,女子一覧表!$B$13:$F$78,3,FALSE))","v":""},{"$f":"IF(K144=\"\",\"\",女子一覧表!$A$7)","v":""}]
["種目",null,{"$f":"女子一覧表!Y75","v":""},null,"記録",{"$f":"女子一覧表!J75","v":0},null,"種目",null,{"$f":"女子一覧表!Z75","v":""},null,"記録",{"$f":"女子一覧表!M75","v":0}]
["性","ゼッケン",null,"氏名",null,"学年","所属","性","ゼッケン",null,"氏名",null,"学年","所属"]
["女",{"$f":"女子一覧表!B75","v":0},null,{"$f":"IF(女子一覧表!B75=\"\",\"\",VLOOKUP(B147,女子一覧表!$B$13:$F$78,2,FALSE))","v":""},null,{"$f":"IF(女子一覧表!B75=\"\",\"\",VLOOKUP(B147,女子一覧表!$B$13:$F$78,3,FALSE))","v":""},{"$f":"IF(D147=\"\",\"\",女子一覧表!$A$7)","v":""},"女",{"$f":"IF(女子一覧表!L75=\"\",\"\",女子一覧表!B75)","v":""},null,{"$f":"IF(女子一覧表!L75=\"\",\"\",VLOOKUP(I147,女子一覧表!$B$13:$F$78,2,FALSE))","v":""},null,{"$f":"IF(女子一覧表!L75=\"\",\"\",VLOOKUP(I147,女子一覧表!$B$13:$F$78,3,FALSE))","v":""},{"$f":"IF(K147=\"\",\"\",女子一覧表!$A$7)","v":""}]
["種目",null,{"$f":"女子一覧表!Y76","v":""},null,"記録",{"$f":"女子一覧表!J76","v":0},null,"種目",null,{"$f":"女子一覧表!Z76","v":""},null,"記録",{"$f":"女子一覧表!M76","v":0}]
["性","ゼッケン",null,"氏名",null,"学年","所属","性","ゼッケン",null,"氏名",null,"学年","所属"]
["女",{"$f":"女子一覧表!B76","v":0},null,{"$f":"IF(女子一覧表!B76=\"\",\"\",VLOOKUP(B150,女子一覧表!$B$13:$F$78,2,FALSE))","v":""},null,{"$f":"IF(女子一覧表!B76=\"\",\"\",VLOOKUP(B150,女子一覧表!$B$13:$F$78,3,FALSE))","v":""},{"$f":"IF(D150=\"\",\"\",女子一覧表!$A$7)","v":""},"女",{"$f":"IF(女子一覧表!L76=\"\",\"\",女子一覧表!B76)","v":""},null,{"$f":"IF(女子一覧表!L76=\"\",\"\",VLOOKUP(I150,女子一覧表!$B$13:$F$78,2,FALSE))","v":""},null,{"$f":"IF(女子一覧表!L76=\"\",\"\",VLOOKUP(I150,女子一覧表!$B$13:$F$78,3,FALSE))","v":""},{"$f":"IF(K150=\"\",\"\",女子一覧表!$A$7)","v":""}]
["種目",null,{"$f":"女子一覧表!Y77","v":""},null,"記録",{"$f":"女子一覧表!J77","v":0},null,"種目",null,{"$f":"女子一覧表!Z77","v":""},null,"記録",{"$f":"女子一覧表!M77","v":0}]
["性","ゼッケン",null,"氏名",null,"学年","所属","性","ゼッケン",null,"氏名",null,"学年","所属"]
["女",{"$f":"女子一覧表!B77","v":0},null,{"$f":"IF(女子一覧表!B77=\"\",\"\",VLOOKUP(B153,女子一覧表!$B$13:$F$78,2,FALSE))","v":""},null,{"$f":"IF(女子一覧表!B77=\"\",\"\",VLOOKUP(B153,女子一覧表!$B$13:$F$78,3,FALSE))","v":""},{"$f":"IF(D153=\"\",\"\",女子一覧表!$A$7)","v":""},"女",{"$f":"IF(女子一覧表!L77=\"\",\"\",女子一覧表!B77)","v":""},null,{"$f":"IF(女子一覧表!L77=\"\",\"\",VLOOKUP(I153,女子一覧表!$B$13:$F$78,2,FALSE))","v":""},null,{"$f":"IF(女子一覧表!L77=\"\",\"\",VLOOKUP(I153,女子一覧表!$B$13:$F$78,3,FALSE))","v":""},{"$f":"IF(K153=\"\",\"\",女子一覧表!$A$7)","v":""}]
["種目",null,{"$f":"女子一覧表!Y78","v":""},null,"記録",{"$f":"女子一覧表!J78","v":0},null,"種目",null,{"$f":"女子一覧表!Z78","v":""},null,"記録",{"$f":"女子一覧表!M78","v":0}]
["性","ゼッケン",null,"氏名",null,"学年","所属","性","ゼッケン",null,"氏名",null,"学年","所属"]
["女",{"$f":"女子一覧表!B78","v":0},null,{"$f":"IF(女子一覧表!B78=\"\",\"\",VLOOKUP(B156,女子一覧表!$B$13:$F$78,2,FALSE))","v":""},null,{"$f":"IF(女子一覧表!B78=\"\",\"\",VLOOKUP(B156,女子一覧表!$B$13:$F$78,3,FALSE))","v":""},{"$f":"IF(D156=\"\",\"\",女子一覧表!$A$7)","v":""},"女",{"$f":"IF(女子一覧表!L78=\"\",\"\",女子一覧表!B78)","v":""},null,{"$f":"IF(女子一覧表!L78=\"\",\"\",VLOOKUP(I156,女子一覧表!$B$13:$F$78,2,FALSE))","v":""},null,{"$f":"IF(女子一覧表!L78=\"\",\"\",VLOOKUP(I156,女子一覧表!$B$13:$F$78,3,FALSE))","v":""},{"$f":"IF(K156=\"\",\"\",女子一覧表!$A$7)","v":""}]
[]
["リレー個票"]
[]
["種目",null,null,null,"記録",null,null,"種目",null,null,null,"記録",null,null,null,null,"A",null,null,null,null,null,null,"4×100R"]
["所属",null,null,{"$f":"男子一覧表!$A$7","v":0},null,null,"A","所属",null,null,{"$f":"男子一覧表!$A$7","v":0},null,null,"B",null,null,"B",null,null,null,null,null,null,"4×200R"]
["女","ゼッケン",null,"氏　　名",null,null,"学年","女","ゼッケン",null,"氏　　名",null,null,"学年",null,null,"C",null,null,null,null,null,null,"低学年400R"]
[null,null,null,{"$f":"IF(B163=\"\",\"\",VLOOKUP(B163,女子一覧表!$B$13:$C$78,2,FALSE))","v":""},null,null,{"$f":"IF(B163=\"\",\"\",VLOOKUP(B163,女子一覧表!$B$13:$E$78,3,FALSE))","v":""},null,null,null,{"$f":"IF(I163=\"\",\"\",VLOOKUP(I163,女子一覧表!$B$13:$C$78,2,FALSE))","v":""},null,null,{"$f":"IF(I163=\"\",\"\",VLOOKUP(I163,女子一覧表!$B$13:$E$78,3,FALSE))","v":""},null,null,"D"]
[null,null,null,{"$f":"IF(B164=\"\",\"\",VLOOKUP(B164,女子一覧表!$B$13:$C$78,2,FALSE))","v":""},null,null,{"$f":"IF(B164=\"\",\"\",VLOOKUP(B164,女子一覧表!$B$13:$E$78,3,FALSE))","v":""},null,null,null,{"$f":"IF(I164=\"\",\"\",VLOOKUP(I164,女子一覧表!$B$13:$C$78,2,FALSE))","v":""},null,null,{"$f":"IF(I164=\"\",\"\",VLOOKUP(I164,女子一覧表!$B$13:$E$78,3,FALSE))","v":""},null,null,"E"]
[null,null,null,{"$f":"IF(B165=\"\",\"\",VLOOKUP(B165,女子一覧表!$B$13:$C$78,2,FALSE))","v":""},null,null,{"$f":"IF(B165=\"\",\"\",VLOOKUP(B165,女子一覧表!$B$13:$E$78,3,FALSE))","v":""},null,null,null,{"$f":"IF(I165=\"\",\"\",VLOOKUP(I165,女子一覧表!$B$13:$C$78,2,FALSE))","v":""},null,null,{"$f":"IF(I165=\"\",\"\",VLOOKUP(I165,女子一覧表!$B$13:$E$78,3,FALSE))","v":""}]
[null,null,null,{"$f":"IF(B166=\"\",\"\",VLOOKUP(B166,女子一覧表!$B$13:$C$78,2,FALSE))","v":""},null,null,{"$f":"IF(B166=\"\",\"\",VLOOKUP(B166,女子一覧表!$B$13:$E$78,3,FALSE))","v":""},null,null,null,{"$f":"IF(I166=\"\",\"\",VLOOKUP(I166,女子一覧表!$B$13:$C$78,2,FALSE))","v":""},null,null,{"$f":"IF(I166=\"\",\"\",VLOOKUP(I166,女子一覧表!$B$13:$E$78,3,FALSE))","v":""}]
[null,null,null,{"$f":"IF(B167=\"\",\"\",VLOOKUP(B167,女子一覧表!$B$13:$C$78,2,FALSE))","v":""},null,null,{"$f":"IF(B167=\"\",\"\",VLOOKUP(B167,女子一覧表!$B$13:$E$78,3,FALSE))","v":""},null,null,null,{"$f":"IF(I167=\"\",\"\",VLOOKUP(I167,女子一覧表!$B$13:$C$78,2,FALSE))","v":""},null,null,{"$f":"IF(I167=\"\",\"\",VLOOKUP(I167,女子一覧表!$B$13:$E$78,3,FALSE))","v":""}]
[null,null,null,{"$f":"IF(B168=\"\",\"\",VLOOKUP(B168,女子一覧表!$B$13:$C$78,2,FALSE))","v":""},null,null,{"$f":"IF(B168=\"\",\"\",VLOOKUP(B168,女子一覧表!$B$13:$E$78,3,FALSE))","v":""},null,null,null,{"$f":"IF(I168=\"\",\"\",VLOOKUP(I168,女子一覧表!$B$13:$C$78,2,FALSE))","v":""},null,null,{"$f":"IF(I168=\"\",\"\",VLOOKUP(I168,女子一覧表!$B$13:$E$78,3,FALSE))","v":""}]
["種目",null,null,null,"記録",null,null,"種目",null,null,null,"記録"]
["所属",null,null,{"$f":"男子一覧表!$A$7","v":0},null,null,"C","所属",null,null,{"$f":"男子一覧表!$A$7","v":0},null,null,"D"]
["女","ゼッケン",null,"氏　　名",null,null,"学年","女","ゼッケン",null,"氏　　名",null,null,"学年"]
[null,null,null,{"$f":"IF(B172=\"\",\"\",VLOOKUP(B172,女子一覧表!$B$13:$C$78,2,FALSE))","v":""},null,null,{"$f":"IF(B172=\"\",\"\",VLOOKUP(B172,女子一覧表!$B$13:$E$78,3,FALSE))","v":""},null,null,null,{"$f":"IF(I172=\"\",\"\",VLOOKUP(I172,女子一覧表!$B$13:$C$78,2,FALSE))","v":""},null,null,{"$f":"IF(I172=\"\",\"\",VLOOKUP(I172,女子一覧表!$B$13:$E$78,3,FALSE))","v":""}]
[null,null,null,{"$f":"IF(B173=\"\",\"\",VLOOKUP(B173,女子一覧表!$B$13:$C$78,2,FALSE))","v":""},null,null,{"$f":"IF(B173=\"\",\"\",VLOOKUP(B173,女子一覧表!$B$13:$E$78,3,FALSE))","v":""},null,null,null,{"$f":"IF(I173=\"\",\"\",VLOOKUP(I173,女子一覧表!$B$13:$C$78,2,FALSE))","v":""},null,null,{"$f":"IF(I173=\"\",\"\",VLOOKUP(I173,女子一覧表!$B$13:$E$78,3,FALSE))","v":""}]
[null,null,null,{"$f":"IF(B174=\"\",\"\",VLOOKUP(B174,女子一覧表!$B$13:$C$78,2,FALSE))","v":""},null,null,{"$f":"IF(B174=\"\",\"\",VLOOKUP(B174,女子一覧表!$B$13:$E$78,3,FALSE))","v":""},null,null,null,{"$f":"IF(I174=\"\",\"\",VLOOKUP(I174,女子一覧表!$B$13:$C$78,2,FALSE))","v":""},null,null,{"$f":"IF(I174=\"\",\"\",VLOOKUP(I174,女子一覧表!$B$13:$E$78,3,FALSE))","v":""}]
[null,null,null,{"$f":"IF(B175=\"\",\"\",VLOOKUP(B175,女子一覧表!$B$13:$C$78,2,FALSE))","v":""},null,null,{"$f":"IF(B175=\"\",\"\",VLOOKUP(B175,女子一覧表!$B$13:$E$78,3,FALSE))","v":""},null,null,null,{"$f":"IF(I175=\"\",\"\",VLOOKUP(I175,女子一覧表!$B$13:$C$78,2,FALSE))","v":""},null,null,{"$f":"IF(I175=\"\",\"\",VLOOKUP(I175,女子一覧表!$B$13:$E$78,3,FALSE))","v":""}]
[null,null,null,{"$f":"IF(B176=\"\",\"\",VLOOKUP(B176,女子一覧表!$B$13:$C$78,2,FALSE))","v":""},null,null,{"$f":"IF(B176=\"\",\"\",VLOOKUP(B176,女子一覧表!$B$13:$E$78,3,FALSE))","v":""},null,null,null,{"$f":"IF(I176=\"\",\"\",VLOOKUP(I176,女子一覧表!$B$13:$C$78,2,FALSE))","v":""},null,null,{"$f":"IF(I176=\"\",\"\",VLOOKUP(I176,女子一覧表!$B$13:$E$78,3,FALSE))","v":""}]
[null,null,null,{"$f":"IF(B177=\"\",\"\",VLOOKUP(B177,女子一覧表!$B$13:$C$78,2,FALSE))","v":""},null,null,{"$f":"IF(B177=\"\",\"\",VLOOKUP(B177,女子一覧表!$B$13:$E$78,3,FALSE))","v":""},null,null,null,{"$f":"IF(I177=\"\",\"\",VLOOKUP(I177,女子一覧表!$B$13:$C$78,2,FALSE))","v":""},null,null,{"$f":"IF(I177=\"\",\"\",VLOOKUP(I177,女子一覧表!$B$13:$E$78,3,FALSE))","v":""}]
["種目",null,null,null,"記録",null,null,"種目",null,null,null,"記録"]
["所属",null,null,{"$f":"男子一覧表!$A$7","v":0},null,null,"E","所属",null,null,{"$f":"男子一覧表!$A$7","v":0}]
["女","ゼッケン",null,"氏　　名",null,null,"学年","女","ゼッケン",null,"氏　　名",null,null,"学年"]
[null,null,null,{"$f":"IF(B181=\"\",\"\",VLOOKUP(B181,女子一覧表!$B$13:$C$78,2,FALSE))","v":""},null,null,{"$f":"IF(B181=\"\",\"\",VLOOKUP(B181,女子一覧表!$B$13:$E$78,3,FALSE))","v":""},null,null,null,{"$f":"IF(I181=\"\",\"\",VLOOKUP(I181,女子一覧表!$B$13:$C$78,2,FALSE))","v":""},null,null,{"$f":"IF(I181=\"\",\"\",VLOOKUP(I181,女子一覧表!$B$13:$E$78,3,FALSE))","v":""}]
[null,null,null,{"$f":"IF(B182=\"\",\"\",VLOOKUP(B182,女子一覧表!$B$13:$C$78,2,FALSE))","v":""},null,null,{"$f":"IF(B182=\"\",\"\",VLOOKUP(B182,女子一覧表!$B$13:$E$78,3,FALSE))","v":""},null,null,null,{"$f":"IF(I182=\"\",\"\",VLOOKUP(I182,女子一覧表!$B$13:$C$78,2,FALSE))","v":""},null,null,{"$f":"IF(I182=\"\",\"\",VLOOKUP(I182,女子一覧表!$B$13:$E$78,3,FALSE))","v":""}]
[null,null,null,{"$f":"IF(B183=\"\",\"\",VLOOKUP(B183,女子一覧表!$B$13:$C$78,2,FALSE))","v":""},null,null,{"$f":"IF(B183=\"\",\"\",VLOOKUP(B183,女子一覧表!$B$13:$E$78,3,FALSE))","v":""},null,null,null,{"$f":"IF(I183=\"\",\"\",VLOOKUP(I183,女子一覧表!$B$13:$C$78,2,FALSE))","v":""},null,null,{"$f":"IF(I183=\"\",\"\",VLOOKUP(I183,女子一覧表!$B$13:$E$78,3,FALSE))","v":""}]
[null,null,null,{"$f":"IF(B184=\"\",\"\",VLOOKUP(B184,女子一覧表!$B$13:$C$78,2,FALSE))","v":""},null,null,{"$f":"IF(B184=\"\",\"\",VLOOKUP(B184,女子一覧表!$B$13:$E$78,3,FALSE))","v":""},null,null,null,{"$f":"IF(I184=\"\",\"\",VLOOKUP(I184,女子一覧表!$B$13:$C$78,2,FALSE))","v":""},null,null,{"$f":"IF(I184=\"\",\"\",VLOOKUP(I184,女子一覧表!$B$13:$E$78,3,FALSE))","v":""}]
[null,null,null,{"$f":"IF(B185=\"\",\"\",VLOOKUP(B185,女子一覧表!$B$13:$C$78,2,FALSE))","v":""},null,null,{"$f":"IF(B185=\"\",\"\",VLOOKUP(B185,女子一覧表!$B$13:$E$78,3,FALSE))","v":""},null,null,null,{"$f":"IF(I185=\"\",\"\",VLOOKUP(I185,女子一覧表!$B$13:$C$78,2,FALSE))","v":""},null,null,{"$f":"IF(I185=\"\",\"\",VLOOKUP(I185,女子一覧表!$B$13:$E$78,3,FALSE))","v":""}]
[null,null,null,{"$f":"IF(B186=\"\",\"\",VLOOKUP(B186,女子一覧表!$B$13:$C$78,2,FALSE))","v":""},null,null,{"$f":"IF(B186=\"\",\"\",VLOOKUP(B186,女子一覧表!$B$13:$E$78,3,FALSE))","v":""},null,null,null,{"$f":"IF(I186=\"\",\"\",VLOOKUP(I186,女子一覧表!$B$13:$C$78,2,FALSE))","v":""},null,null,{"$f":"IF(I186=\"\",\"\",VLOOKUP(I186,女子一覧表!$B$13:$E$78,3,FALSE))","v":""}]
["種目",null,null,null,"記録",null,null,"種目",null,null,null,"記録"]
["所属",null,null,{"$f":"男子一覧表!$A$7","v":0},null,null,"E","所属",null,null,{"$f":"男子一覧表!$A$7","v":0}]
["女","ゼッケン",null,"氏　　名",null,null,"学年","女","ゼッケン",null,"氏　　名",null,null,"学年"]
[null,null,null,{"$f":"IF(B190=\"\",\"\",VLOOKUP(B190,女子一覧表!$B$13:$C$78,2,FALSE))","v":""},null,null,{"$f":"IF(B190=\"\",\"\",VLOOKUP(B190,女子一覧表!$B$13:$E$78,3,FALSE))","v":""},null,null,null,{"$f":"IF(I190=\"\",\"\",VLOOKUP(I190,女子一覧表!$B$13:$C$78,2,FALSE))","v":""},null,null,{"$f":"IF(I190=\"\",\"\",VLOOKUP(I190,女子一覧表!$B$13:$E$78,3,FALSE))","v":""}]
[null,null,null,{"$f":"IF(B191=\"\",\"\",VLOOKUP(B191,女子一覧表!$B$13:$C$78,2,FALSE))","v":""},null,null,{"$f":"IF(B191=\"\",\"\",VLOOKUP(B191,女子一覧表!$B$13:$E$78,3,FALSE))","v":""},null,null,null,{"$f":"IF(I191=\"\",\"\",VLOOKUP(I191,女子一覧表!$B$13:$C$78,2,FALSE))","v":""},null,null,{"$f":"IF(I191=\"\",\"\",VLOOKUP(I191,女子一覧表!$B$13:$E$78,3,FALSE))","v":""}]
[null,null,null,{"$f":"IF(B192=\"\",\"\",VLOOKUP(B192,女子一覧表!$B$13:$C$78,2,FALSE))","v":""},null,null,{"$f":"IF(B192=\"\",\"\",VLOOKUP(B192,女子一覧表!$B$13:$E$78,3,FALSE))","v":""},null,null,null,{"$f":"IF(I192=\"\",\"\",VLOOKUP(I192,女子一覧表!$B$13:$C$78,2,FALSE))","v":""},null,null,{"$f":"IF(I192=\"\",\"\",VLOOKUP(I192,女子一覧表!$B$13:$E$78,3,FALSE))","v":""}]
[null,null,null,{"$f":"IF(B193=\"\",\"\",VLOOKUP(B193,女子一覧表!$B$13:$C$78,2,FALSE))","v":""},null,null,{"$f":"IF(B193=\"\",\"\",VLOOKUP(B193,女子一覧表!$B$13:$E$78,3,FALSE))","v":""},null,null,null,{"$f":"IF(I193=\"\",\"\",VLOOKUP(I193,女子一覧表!$B$13:$C$78,2,FALSE))","v":""},null,null,{"$f":"IF(I193=\"\",\"\",VLOOKUP(I193,女子一覧表!$B$13:$E$78,3,FALSE))","v":""}]
[null,null,null,{"$f":"IF(B194=\"\",\"\",VLOOKUP(B194,女子一覧表!$B$13:$C$78,2,FALSE))","v":""},null,null,{"$f":"IF(B194=\"\",\"\",VLOOKUP(B194,女子一覧表!$B$13:$E$78,3,FALSE))","v":""},null,null,null,{"$f":"IF(I194=\"\",\"\",VLOOKUP(I194,女子一覧表!$B$13:$C$78,2,FALSE))","v":""},null,null,{"$f":"IF(I194=\"\",\"\",VLOOKUP(I194,女子一覧表!$B$13:$E$78,3,FALSE))","v":""}]
[null,null,null,{"$f":"IF(B195=\"\",\"\",VLOOKUP(B195,女子一覧表!$B$13:$C$78,2,FALSE))","v":""},null,null,{"$f":"IF(B195=\"\",\"\",VLOOKUP(B195,女子一覧表!$B$13:$E$78,3,FALSE))","v":""},null,null,null,{"$f":"IF(I195=\"\",\"\",VLOOKUP(I195,女子一覧表!$B$13:$C$78,2,FALSE))","v":""},null,null,{"$f":"IF(I195=\"\",\"\",VLOOKUP(I195,女子一覧表!$B$13:$E$78,3,FALSE))","v":""}]

{"sheet":"1","index":24,"n_rows":1,"n_cols":4,"rows_kept":1,"cut":false,"hidden":false,"merged":[]}
[1,"選　手","コード","コード"]

{"sheet":"男子種目コード","index":25,"n_rows":33,"n_cols":23,"rows_kept":33,"cut":false,"hidden":true,"merged":[]}
["国体1次高校県選",null,null,"通信",null,null,"中学混成",null,null,"リレーカーニバル",null,null,"中学選抜",null,null,"ジュニアO",null,null,"中学県大会",null,null,"スポーツF"]
[100,1,null,"1年100",1,null,"四種",1,null,"5年100",null,null,100,101,null,"高校100",1,null,100,1,null,100,3]
[200,2,null,"1年1500",2,null,100,2,null,"6年100",null,null,200,102,null,"高校3000",2,null,200,2,null,3000,6]
[400,3,null,"2年100",3,null,1500,3,null,"5･6年1000",null,null,400,103,null,"高校110JH",3,null,400,3]
[800,4,null,"2年1500",4,null,3000,4,null,"5･6年80H",null,null,800,104,null,"高校走幅跳",4,null,800,4]
[1500,5,null,100,5,null,"棒高跳",5,null,"5･6年走幅跳",null,null,1500,105,null,"高校円盤投",5,null,3000,5]
[5000,6,null,200,6,null,null,null,null,"5･6年ボール投",null,null,3000,106,null,"A-100",6,null,"110H",6]
[10000,7,null,400,7,null,null,null,null,"5･6年4×100R",null,null,"110H",107,null,"A-200",7,null,"低学年R",7]
["110H",8,null,800,8,null,null,null,null,"混成リレー",null,null,"走高跳",108,null,null,8,null,"4×200R",8]
["400H",9,null,1500,9,null,null,null,null,100,101,null,"棒高跳",109,null,null,9,null,"走高跳",9]
["3000SC",10,null,3000,10,null,null,null,null,1500,102,null,"走幅跳",110,null,"A-3000",10,null,"棒高跳",10]
[null,11,null,"110H",11,null,null,null,null,"4×100Ｒ",103,null,"砲丸投",111,null,"A-110H",11,null,"走幅跳",11]
["5000W",12,null,"低学年R",12,null,null,null,null,"走高跳",104,null,"四種",112,null,"A-走高跳",12,null,"三段跳",12]
["4×100",13,null,"4×100R",13,null,null,null,null,"走幅跳",105,null,null,null,null,"A-砲丸投",13,null,"砲丸投",13]
["4×400",14,null,"走高跳",14,null,null,null,null,"砲丸投",106,null,null,null,null,"B-100",14,null,"円盤投",14]
["走高跳",15,null,"棒高跳",15,null,null,null,null,"ｼﾞｬﾍﾞﾘｯｸ",107,null,null,null,null,"B-1500",15]
["棒高跳",16,null,"走幅跳",16,null,null,null,null,"男子A",103,null,null,null,null,"B-110H",16]
["走幅跳",17,null,"三段跳",17,null,null,null,null,"男子B",103,null,null,null,null,"B-走幅跳",17]
["三段跳",18,null,"砲丸投",18,null,null,null,null,"男子C",103,null,null,null,null,"C-100",18]
["砲丸投",19,null,"円盤投",19,null,null,null,null,null,null,null,null,null,null,"C-100H",19]
["円盤投",20,null,null,null,null,null,null,null,null,null,null,null,null,null,"C-走幅跳",20]
["やり投",21,null,null,null,null,null,null,null,null,null,null,null,null,null,"C-砲丸投",21,null,null,null,null,"ロードレース"]
["ハンマー投",22,null,null,null,null,null,null,null,null,null,null,null,null,null,"AB円盤投",22]
["少年B走幅跳",30,null,null,null,null,null,null,null,null,null,null,null,null,null,"ABCｼﾞｬﾍﾞﾘｯｸ",23]
["少年3000",24,null,null,null,null,null,null,null,null,null,null,null,null,null,"C-1500",24,null,null,null,null,"中学男子5ｋ",4]
["少年砲丸投",25,null,null,null,null,null,null,null,null,null,null,null,null,null,"B-砲丸投",25]
["少年円盤投",26]
["少年ハンマー投",27]
["少年B100",28]
["少年B砲丸投",29]
[]
["少年Aハンマー投",31]
[null,32]

{"sheet":"女子種目コード","index":26,"n_rows":28,"n_cols":23,"rows_kept":28,"cut":false,"hidden":true,"merged":[]}
["国体1次高校県選",null,null,"通信",null,null,"中学混成",null,null,"リレーカーニバル",null,null,"中学選抜",null,null,"ジュニアO",null,null,"中学県大会",null,null,"スポーツF"]
[100,40,null,"1年100",30,null,"四種",10,null,"5年100",null,null,100,113,null,"高校100",30,null,100,20,null,100,9]
[200,41,null,"1年800",31,null,100,11,null,"6年100",null,null,200,114,null,"高校3000",31,null,200,21,null,3000,12]
[400,42,null,"2年100",32,null,800,12,null,"5･6年1000",null,null,800,115,null,"高校100H",32,null,800,22]
[800,43,null,100,33,null,1500,13,null,"5･6年80H",null,null,1500,116,null,"高校走幅跳",33,null,2000,23]
[1500,44,null,200,34,null,"棒高跳",14,null,"5･6年走幅跳",null,null,"100H",117,null,"高校円盤投",34,null,"100H",24]
[3000,45,null,800,35,null,null,null,null,"5･6年ボール投",null,null,"走高跳",118,null,"A-100",35,null,"低学年R",25]
[5000,46,null,1500,36,null,null,null,null,"5･6年4×100R",null,null,"走幅跳",119,null,"A-200",36,null,"4×100R",26]
[10000,47,null,"100H",37,null,null,null,null,"混成リレー",null,null,"砲丸投",120,null,"A-3000",37,null,"走高跳",27]
["100H",48,null,"低学年R",38,null,null,null,null,100,110,null,"四種",121,null,"A-100H",38,null,"走幅跳",28]
["400H",49,null,"4×100R",39,null,null,null,null,800,111,null,null,null,null,"A-走高跳",39,null,"砲丸投",29]
[null,50,null,"走高跳",40,null,null,null,null,"4×100Ｒ",112,null,null,null,null,"B-100",40,null,"円盤投",30]
["3000W",51,null,"走幅跳",41,null,null,null,null,"走高跳",113,null,null,null,null,"B-1500",41]
["5000W",52,null,"砲丸投",42,null,null,null,null,"走幅跳",114,null,null,null,null,"B-100H",42]
["4×100",53,null,"円盤投",43,null,null,null,null,"砲丸投",115,null,null,null,null,null,43]
["4×400",54,null,"棒高跳",44,null,null,null,null,"ｼﾞｬﾍﾞﾘｯｸ",116,null,null,null,null,"B-走幅跳",44]
["走高跳",55,null,"三段跳",45,null,null,null,null,"女子A",112,null,null,null,null,"B-砲丸投",45]
["棒高跳",56,null,null,null,null,null,null,null,"女子B",112,null,null,null,null,"C-100",46]
["走幅跳",57,null,null,null,null,null,null,null,"女子C",112,null,null,null,null,null,47]
["三段跳",58,null,null,null,null,null,null,null,null,null,null,null,null,null,"C-走幅跳",48]
["砲丸投",59,null,null,null,null,null,null,null,null,null,null,null,null,null,null,49]
["円盤投",60,null,null,null,null,null,null,null,null,null,null,null,null,null,"AB円盤投",50,null,null,null,null,"ロードレース"]
["やり投",61,null,null,null,null,null,null,null,null,null,null,null,null,null,"ABCｼﾞｬﾍﾞﾘｯｸ",51]
["ハンマー投",62,null,null,null,null,null,null,null,null,null,null,null,null,null,"C-800",52,null,null,null,null,"中学女子3ｋ",8]
["7種",63,null,null,null,null,null,null,null,null,null,null,null,null,null,"A-砲丸投",53]
["少年3000",64,null,null,null,null,null,null,null,null,null,null,null,null,null,null,54]
["少年B100YH",65]
["少年B100",66]