{"text_format":"1","workbook":"xlsx","n_sheets":15,"sheets":["注意","説明","メニュー","名簿","大会申込","国体1次","県選","ロードレース","SF","振込票貼付用紙","男子種目コード","女子種目コード","作業","所属コード","所属地コード"],"not_rendered":{"charts":0,"images":3,"macros":1,"external_links":1,"defined_names":28,"comments":0,"pivot_tables":0},"unopened":[],"bounds":{"document_bytes":16777216,"sheet_cells":100000,"rows_first":2000,"rows_last":500,"rows_between":2000,"halvings":0,"cell_chars":16384,"cell_head_chars":4096},"cells_cut":0,"cells_raw":0,"read":"whole","date_system":"1900"}

{"sheet":"注意","index":0,"n_rows":69,"n_cols":1,"rows_kept":69,"cut":false,"hidden":false,"merged":[]}
["マクロが無効になっています。"]
["最新バージョンのエクセル(2007）使用の場合は、シートの上部にセキュリティの警告が出ますので"]
["右側のオプションをクリックし、「このコンテンツを有効にする」にチェックを入れて下さい。"]
["それ以前のエクセルは下記に従って下さい。"]
["入力を行うには，マクロを有効にする必要があります。"]
["マクロを有効にしてファイルを開いてください。"]
["エクセル2002以前のバージョンでは動作しません。エクセル2002以降のパソコンで作業して下さい"]
["マクロを有効にするには，"]
["１）上部メニューを「ツール(T)→マクロ(M)→セキュリティ(S)」の順に開きます。"]
[]
[]
[]
[]
[]
[]
[]
[]
[]
[]
[]
[]
[]
[]
[]
[]
[]
[]
[]
[]
[]
[]
[]
[]
[]
[]
["２）「セキュリティレベル」を「中」に設定してください。"]
[]
[]
[]
[]
[]
[]
[]
[]
[]
[]
[]
[]
[]
[]
[]
[]
[]
[]
[]
["３）EXCELをいったん終了（ファイルを保存しない）し，再度ファイルを開きます。"]
["４）マクロを有効にするかどうか聞いてきます。ここで「マクロを有効にする」を選択します。"]
[]
[]
[]
[]
[]
[]
[]
[]
[]
[]
[]
["何らかの原因でマクロが停止した場合は，いったんファイルを保存し，再度開き直してください。"]

{"sheet":"説明","index":1,"n_rows":65,"n_cols":7,"rows_kept":65,"cut":false,"hidden":false,"merged":[[64,0,64,11]]}
["一般　チーム用　メール大会申込概要",null,null,null,null,"2017Ver1"]
[]
["エクセル２００２以前のバージョンでは正常に動作しません。"]
[]
[null,null,"前年度のファイルは使用できません。削除のこと。"]
["注意事項①",null,"①参加料は"]
[null,null,"　様式⑨の振込票貼付用紙に貼付の上、三重陸協事務局まで送付のこと。"]
[null,null,"　 期日までの振込みがない場合は出場を認めない。"]
[null,null,"②送信後の選手変更・種目変更は受付けないので、よく確認の上申し込むこと。"]
[null,null,"③振込人の名称は所属名で記載のこと。(個人は個人名とする。）"]
[null,null,"④極端に早い振込みも間違いのもとになりますのでご配慮のこと。"]
[null,null,"⑤認知書が必要な大会は入力印刷の上、捺印の上、当日受付で係員に渡すこと。"]
[]
[]
[null,null,"振込先","　　百五銀行　生桑(ｲｸﾜ)支店　普通預金　口座番号　４４０２６６　口座名　一般財団法人三重陸上競技協会"]
[]
[]
[null,null,"競技時間等は大会1週間前にホームページに掲載するので通知はしない。"]
[null,null,"大会参加費は一覧表に記載されるので確認の上、振り込むこと。"]
[]
["入力について"]
[null,"①メニューより選手入力へのボタンを押して下さい。ここで必要事項を入力して下さい"]
[null,"入力もれがあると、後で申込ファイルが作成できません"]
[]
[null,"②メニューより大会申込へのボタンを押して下さい。"]
[null,null,"参加する選手の種目と記録を入力して下さい。"]
[]
[]
[]
[null,"③各ページに右記のボタンがりますので"]
[null,"　　最後に必ず押して下さい"]
[null,null,"このエクセルファイルが保存されている同じ場所に新しいファイルが作成されます。"]
[]
[null,null,"メニューへ戻り、上書き保存ボタンを押しましょう。"]
[]
[null,"④新しく保存されたファイルをメールに添付してお送り下さい。"]
[]
[]
["申込み送付時の注意点"]
[null,"　　　　　　　①　必ずメールに添付して下さい。(添付を忘れる方が多い）"]
[null,"　　　　　　　②　資格審査の上、正式受理確認メールを返信いたします。"]
[null,"　　　　　　　③　発信ミスが時々あります。必ず正式受理メールを確認して下さい。"]
[null,"　　　　　　　④　１日経っても返信がない場合は、お問合せ下さい。"]
[null,"　　　　　　　⑤　締切日の午後6時必着となっています。"]
[]
[null,null,"メール宛先",null,"mousikomi★mierk.jp"]
[]
[]
["今年の改良点"]
[null,null,"①選手入力画面で選手の公認記録を入力しておくと、自動で反映されます。"]
[]
[]
["連絡事項"]
[null,null,"全ての大会申込及び登録は下記のアドレスとなっています。"]
[]
[null,null,null,"mousikomi★mierk.jp　"]
[]
[]
[null,null,"尚、問い合わせ等は下記のアドレスとなります。"]
[]
[]
[]
[null,null,null,"問い合わせ",null,null,"info★mierk.jp"]
[]
["メールアドレスの★を＠に変えて送信して下さい"]

{"sheet":"メニュー","index":2,"n_rows":16,"n_cols":3,"rows_kept":16,"cut":false,"hidden":false,"merged":[[3,2,3,6],[22,1,22,8]]}
[]
[]
[]
[null,null," "]
[]
[]
[]
[]
[]
[]
[]
[]
[]
["このファイルは団体登録されたチーム専用"]
[]
["個人登録の人は個人用を使用して下さい"]

{"sheet":"名簿","index":3,"n_rows":63,"n_cols":69,"rows_kept":63,"cut":false,"hidden":false,"merged":[[6,57,6,58],[6,17,7,17],[6,8,7,8],[6,9,7,9],[6,10,6,12],[1,12,1,14],[6,0,7,0],[8,24,57,24],[4,4,4,6],[4,8,4,12],[6,5,7,5],[6,4,7,4],[6,15,7,15],[6,16,7,16],[6,6,7,6],[6,7,7,7],[6,3,7,3]]}
[null,null,null,null,"入力上の注意"]
[null,null,null,null,null,null,"①申込者・連絡先は必ず入力のこと"]
[null,null,null,null,null,null,"②選手の一行目は必ず入力して下さい。全てに反映されません。"]
[null,null,null,null,"代表者"]
["申込者",null,null,null,null,null,null,"緊急連絡先(携帯)"]
[null,null,null,null,"所属先を必ず選択して下さい"]
[null,"登録月日",null,"陸連ID","登録ＮＯ","登録の種類","名　前","フリガナ(全角)","学年又は年齢","性別","生年月日",null,null,null,null,"所属先","学校番号","所属地",null,null,null,null,null,null,null,null,"男","公認記録記載欄(随時記録が更新された場合は、変更入力して下さい。全ての申し込みに反映されます。",null,null,null,null,null,null,null,null,null,null,null,null,null,null,null,null,null,null,null,null,null,null,null,null,null,null,null,null,null,"走高跳の記録(予想)"]
[null,"(○／○○）",null,null,null,null,null,null,null,null,"年(西暦）","月","日",null,null,null,null,null,null,null,null,null,null,null,null,null,"女","100m","200m","400m","800m","1500m","3000m","5000m","10000m","110mH","100mH","400mH","3000mSC","3000mW","5000mW","走高跳","棒高跳","走幅跳","三段跳","砲丸投","円盤投","ハンマー投","やり投","少年3000","少年B110mJH","少年B100mYH","110mJH","少年砲丸投","少年B砲丸投","少年円盤投","少年ハンマー投","8種","7種","TRIM","数","空","名","姓","名"]
[1,null,null,"",null,null,null,null,null,null,null,null,null,{"$f":"CONCATENATE(L9,BO9)","v":"0"},{"$f":"IF(J9=\"\",\"\",IF(J9=\"男\",1,2))","v":""},null,{"$f":"IF(P9=\"\",\"\",VLOOKUP(P9,所属コード!$A$2:$E$200,2,FALSE))","v":""},{"$f":"IF(P9=\"\",\"\",VLOOKUP(P9,所属コード!$A:$G,7,FALSE))","v":""},null,null,null,null,null,"IFC RC",null,{"$f":"ASC(H9)","v":""},null,null,null,null,null,null,null,null,null,null,null,null,null,null,null,null,null,null,null,null,null,null,null,{"$f":"AG9","v":0},{"$f":"AJ9","v":0},{"$f":"AK9","v":0},{"$f":"AJ9","v":0},{"$f":"AT9","v":0},{"$f":"AT9","v":0},{"$f":"AU9","v":0},{"$f":"AV9","v":0},{"$f":"AP9","v":0},{"$f":"AP9","v":0},{"$f":"TRIM(G9)","v":""},{"$f":"IF(BH9=\"\",\"\",LEN(BH9))","v":""},{"$f":"IF(BH9=\"\",\"\",FIND(\"　\",BH9,1))","v":""},{"$f":"IF(BH9=\"\",\"\",BI9-BJ9)","v":""},{"$f":"IF(BH9=\"\",\"\",LEFT(BH9,BJ9-1))","v":""},{"$f":"IF(BH9=\"\",\"\",RIGHT(BH9,BK9))","v":""},{"$f":"IF(BH9=\"\",\"\",IF(BI9=4,CONCATENATE(BL9,\"　\",\"　\",BM9),IF(BI9=6,CONCATENATE(BL9,BM9),BH9)))","v":""},{"$f":"IF(L9<10,CONCATENATE(\"0\",L9),L9)","v":"0"},{"$f":"IF(M9<10,CONCATENATE(\"0\",M9),M9)","v":"0"},{"$f":"CONCATENATE(BO9,BP9)","v":"00"}]
[2,null,null,"",null,null,null,null,null,null,null,null,null,"0","",{"$f":"IF(G10=\"\",\"\",$P$9)","v":""},{"$f":"IF(P10=\"\",\"\",VLOOKUP(P10,所属コード!$A$2:$E$200,2,FALSE))","v":""},{"$f":"IF(P10=\"\",\"\",VLOOKUP(P10,所属コード!$A:$G,7,FALSE))","v":""},null,null,null,null,null,"AGF",null,{"$f":"ASC(H10)","v":""},null,null,null,null,null,null,null,null,null,null,null,null,null,null,null,null,null,null,null,null,null,null,null,0,0,0,0,{"$f":"AT10","v":0},{"$f":"AT10","v":0},{"$f":"AU10","v":0},{"$f":"AV10","v":0},{"$f":"AP10","v":0},{"$f":"AP10","v":0},{"$f":"TRIM(G10)","v":""},{"$f":"IF(BH10=\"\",\"\",LEN(BH10))","v":""},{"$f":"IF(BH10=\"\",\"\",FIND(\"　\",BH10,1))","v":""},{"$f":"IF(BH10=\"\",\"\",BI10-BJ10)","v":""},{"$f":"IF(BH10=\"\",\"\",LEFT(BH10,BJ10-1))","v":""},{"$f":"IF(BH10=\"\",\"\",RIGHT(BH10,BK10))","v":""},{"$f":"IF(BH10=\"\",\"\",IF(BI10=4,CONCATENATE(BL10,\"　\",\"　\",BM10),IF(BI10=6,CONCATENATE(BL10,BM10),BH10)))","v":""},{"$f":"IF(L10<10,CONCATENATE(\"0\",L10),L10)","v":"0"},{"$f":"IF(M10<10,CONCATENATE(\"0\",M10),M10)","v":"0"},{"$f":"CONCATENATE(BO10,BP10)","v":"00"}]
[3,null,null,"",null,null,null,null,null,null,null,null,null,"0","",{"$f":"IF(G11=\"\",\"\",$P$9)","v":""},{"$f":"IF(P11=\"\",\"\",VLOOKUP(P11,所属コード!$A$2:$E$200,2,FALSE))","v":""},{"$f":"IF(P11=\"\",\"\",VLOOKUP(P11,所属コード!$A:$G,7,FALSE))","v":""},null,null,null,null,null,"ｱｽﾘｰﾄY",null,"",null,null,null,null,null,null,null,null,null,null,null,null,null,null,null,null,null,null,null,null,null,null,null,0,0,0,0,0,0,0,0,0,0,"","","","","","","","0","0","00"]
[4,null,null,"",null,null,null,null,null,null,null,null,null,"0","","",{"$f":"IF(P12=\"\",\"\",VLOOKUP(P12,所属コード!$A$2:$E$200,2,FALSE))","v":""},{"$f":"IF(P12=\"\",\"\",VLOOKUP(P12,所属コード!$A:$G,7,FALSE))","v":""},null,null,null,null,null,"ASSA-TC",null,"",null,null,null,null,null,null,null,null,null,null,null,null,null,null,null,null,null,null,null,null,null,null,null,0,0,0,0,0,0,0,0,0,0,"","","","","","","","0","0","00"]
[5,null,null,"",null,null,null,null,null,null,null,null,null,"0","","",{"$f":"IF(P13=\"\",\"\",VLOOKUP(P13,所属コード!$A$2:$E$200,2,FALSE))","v":""},{"$f":"IF(P13=\"\",\"\",VLOOKUP(P13,所属コード!$A:$G,7,FALSE))","v":""},null,null,null,null,null,"ULTIMAT",null,"",null,null,null,null,null,null,null,null,null,null,null,null,null,null,null,null,null,null,null,null,null,null,null,0,0,0,0,0,0,0,0,0,0,"","","","","","","","0","0","00"]
[6,null,null,"",null,null,null,null,null,null,null,null,null,"0","","",{"$f":"IF(P14=\"\",\"\",VLOOKUP(P14,所属コード!$A$2:$E$200,2,FALSE))","v":""},{"$f":"IF(P14=\"\",\"\",VLOOKUP(P14,所属コード!$A:$G,7,FALSE))","v":""},null,null,null,null,null,"eA三重",null,"",null,null,null,null,null,null,null,null,null,null,null,null,null,null,null,null,null,null,null,null,null,null,null,0,0,0,0,0,0,0,0,0,0,"","","","","","","","0","0","00"]
[7,null,null,"",null,null,null,null,null,null,null,null,null,"0","","",{"$f":"IF(P15=\"\",\"\",VLOOKUP(P15,所属コード!$A$2:$E$200,2,FALSE))","v":""},{"$f":"IF(P15=\"\",\"\",VLOOKUP(P15,所属コード!$A:$G,7,FALSE))","v":""},null,null,null,null,null,"Ise TC",null,"",null,null,null,null,null,null,null,null,null,null,null,null,null,null,null,null,null,null,null,null,null,null,null,0,0,0,0,0,0,0,0,0,0,"","","","","","","","0","0","00"]
[8,null,null,"",null,null,null,null,null,null,null,null,null,"0","","",{"$f":"IF(P16=\"\",\"\",VLOOKUP(P16,所属コード!$A$2:$E$200,2,FALSE))","v":""},{"$f":"IF(P16=\"\",\"\",VLOOKUP(P16,所属コード!$A:$G,7,FALSE))","v":""},null,null,null,null,null,"ｲﾑﾗAA",null,"",null,null,null,null,null,null,null,null,null,null,null,null,null,null,null,null,null,null,null,null,null,null,null,0,0,0,0,0,0,0,0,0,0,"","","","","","","","0","0","00"]
[9,null,null,"",null,null,null,null,null,null,null,null,null,"0","","",{"$f":"IF(P17=\"\",\"\",VLOOKUP(P17,所属コード!$A$2:$E$200,2,FALSE))","v":""},{"$f":"IF(P17=\"\",\"\",VLOOKUP(P17,所属コード!$A:$G,7,FALSE))","v":""},null,null,null,null,null,"上野AC",null,"",null,null,null,null,null,null,null,null,null,null,null,null,null,null,null,null,null,null,null,null,null,null,null,0,0,0,0,0,0,0,0,0,0,"","","","","","","","0","0","00"]
[10,null,null,"",null,null,null,null,null,null,null,null,null,"0","","",{"$f":"IF(P18=\"\",\"\",VLOOKUP(P18,所属コード!$A$2:$E$200,2,FALSE))","v":""},{"$f":"IF(P18=\"\",\"\",VLOOKUP(P18,所属コード!$A:$G,7,FALSE))","v":""},null,null,null,null,null,"VOLK",null,"",null,null,null,null,null,null,null,null,null,null,null,null,null,null,null,null,null,null,null,null,null,null,null,0,0,0,0,0,0,0,0,0,0,"","","","","","","","0","0","00"]
[11,null,null,"",null,null,null,null,null,null,null,null,null,"0","","",{"$f":"IF(P19=\"\",\"\",VLOOKUP(P19,所属コード!$A$2:$E$200,2,FALSE))","v":""},{"$f":"IF(P19=\"\",\"\",VLOOKUP(P19,所属コード!$A:$G,7,FALSE))","v":""},null,null,null,null,null,"SWAC四日市",null,"",null,null,null,null,null,null,null,null,null,null,null,null,null,null,null,null,null,null,null,null,null,null,null,0,0,0,0,0,0,0,0,0,0,"","","","","","","","0","0","00"]
[12,null,null,"",null,null,null,null,null,null,null,null,null,"0","","",{"$f":"IF(P20=\"\",\"\",VLOOKUP(P20,所属コード!$A$2:$E$200,2,FALSE))","v":""},{"$f":"IF(P20=\"\",\"\",VLOOKUP(P20,所属コード!$A:$G,7,FALSE))","v":""},null,null,null,null,null,"NTN",null,"",null,null,null,null,null,null,null,null,null,null,null,null,null,null,null,null,null,null,null,null,null,null,null,0,0,0,0,0,0,0,0,0,0,"","","","","","","","0","0","00"]
[13,null,null,"",null,null,null,null,null,null,null,null,null,"0","","",{"$f":"IF(P21=\"\",\"\",VLOOKUP(P21,所属コード!$A$2:$E$200,2,FALSE))","v":""},{"$f":"IF(P21=\"\",\"\",VLOOKUP(P21,所属コード!$A:$G,7,FALSE))","v":""},null,null,null,null,null,"鹿族",null,"",null,null,null,null,null,null,null,null,null,null,null,null,null,null,null,null,null,null,null,null,null,null,null,0,0,0,0,0,0,0,0,0,0,"","","","","","","","0","0","00"]
[14,null,null,"",null,null,null,null,null,null,null,null,null,"0","","",{"$f":"IF(P22=\"\",\"\",VLOOKUP(P22,所属コード!$A$2:$E$200,2,FALSE))","v":""},{"$f":"IF(P22=\"\",\"\",VLOOKUP(P22,所属コード!$A:$G,7,FALSE))","v":""},null,null,null,null,null,"橋南ＳＣ",null,"",null,null,null,null,null,null,null,null,null,null,null,null,null,null,null,null,null,null,null,null,null,null,null,0,0,0,0,0,0,0,0,0,0,"","","","","","","","0","0","00"]
[15,null,null,"",null,null,null,null,null,null,null,null,null,"0","","",{"$f":"IF(P23=\"\",\"\",VLOOKUP(P23,所属コード!$A$2:$E$200,2,FALSE))","v":""},{"$f":"IF(P23=\"\",\"\",VLOOKUP(P23,所属コード!$A:$G,7,FALSE))","v":""},null,null,null,null,null,"熊野RC",null,"",null,null,null,null,null,null,null,null,null,null,null,null,null,null,null,null,null,null,null,null,null,null,null,0,0,0,0,0,0,0,0,0,0,"","","","","","","","0","0","00"]
[16,null,null,"",null,null,null,null,null,null,null,null,null,"0","","",{"$f":"IF(P24=\"\",\"\",VLOOKUP(P24,所属コード!$A$2:$E$200,2,FALSE))","v":""},{"$f":"IF(P24=\"\",\"\",VLOOKUP(P24,所属コード!$A:$G,7,FALSE))","v":""},null,null,null,null,null,"K's-AC",null,"",null,null,null,null,null,null,null,null,null,null,null,null,null,null,null,null,null,null,null,null,null,null,null,0,0,0,0,0,0,0,0,0,0,"","","","","","","","0","0","00"]
[17,null,null,"",null,null,null,null,null,null,null,null,null,"0","","",{"$f":"IF(P25=\"\",\"\",VLOOKUP(P25,所属コード!$A$2:$E$200,2,FALSE))","v":""},{"$f":"IF(P25=\"\",\"\",VLOOKUP(P25,所属コード!$A:$G,7,FALSE))","v":""},null,null,null,null,null,"GenkiUp",null,"",null,null,null,null,null,null,null,null,null,null,null,null,null,null,null,null,null,null,null,null,null,null,null,0,0,0,0,0,0,0,0,0,0,"","","","","","","","0","0","00"]
[18,null,null,"",null,null,null,null,null,null,null,null,null,"0","","",{"$f":"IF(P26=\"\",\"\",VLOOKUP(P26,所属コード!$A$2:$E$200,2,FALSE))","v":""},{"$f":"IF(P26=\"\",\"\",VLOOKUP(P26,所属コード!$A:$G,7,FALSE))","v":""},null,null,null,null,null,"J&E久居",null,"",null,null,null,null,null,null,null,null,null,null,null,null,null,null,null,null,null,null,null,null,null,null,null,0,0,0,0,0,0,0,0,0,0,"","","","","","","","0","0","00"]
[19,null,null,"",null,null,null,null,null,null,null,null,null,"0","","",{"$f":"IF(P27=\"\",\"\",VLOOKUP(P27,所属コード!$A$2:$E$200,2,FALSE))","v":""},{"$f":"IF(P27=\"\",\"\",VLOOKUP(P27,所属コード!$A:$G,7,FALSE))","v":""},null,null,null,null,null,"JA三重中央",null,"",null,null,null,null,null,null,null,null,null,null,null,null,null,null,null,null,null,null,null,null,null,null,null,0,0,0,0,0,0,0,0,0,0,"","","","","","","","0","0","00"]
[20,null,null,null,null,null,null,null,null,null,null,null,null,"0","","",{"$f":"IF(P28=\"\",\"\",VLOOKUP(P28,所属コード!$A$2:$E$200,2,FALSE))","v":""},{"$f":"IF(P28=\"\",\"\",VLOOKUP(P28,所属コード!$A:$G,7,FALSE))","v":""},null,null,null,null,null,"志摩ﾎﾟﾀﾗﾝ",null,"",null,null,null,null,null,null,null,null,null,null,null,null,null,null,null,null,null,null,null,null,null,null,null,0,0,0,0,0,0,0,0,0,0,"","","","","","","","0","0","00"]
[21,null,null,null,null,null,null,null,null,null,null,null,null,"0","","",{"$f":"IF(P29=\"\",\"\",VLOOKUP(P29,所属コード!$A$2:$E$200,2,FALSE))","v":""},{"$f":"IF(P29=\"\",\"\",VLOOKUP(P29,所属コード!$A:$G,7,FALSE))","v":""},null,null,null,null,null,"ｼｬｶﾘｷ",null,"",null,null,null,null,null,null,null,null,null,null,null,null,null,null,null,null,null,null,null,null,null,null,null,0,0,0,0,0,0,0,0,0,0,"","","","","","","","0","0","00"]
[22,null,null,null,null,null,null,null,null,null,null,null,null,"0","","",{"$f":"IF(P30=\"\",\"\",VLOOKUP(P30,所属コード!$A$2:$E$200,2,FALSE))","v":""},{"$f":"IF(P30=\"\",\"\",VLOOKUP(P30,所属コード!$A:$G,7,FALSE))","v":""},null,null,null,null,null,"JACK",null,"",null,null,null,null,null,null,null,null,null,null,null,null,null,null,null,null,null,null,null,null,null,null,null,0,0,0,0,0,0,0,0,0,0,"","","","","","","","0","0","00"]
[23,null,null,null,null,null,null,null,null,null,null,null,null,"0","","",{"$f":"IF(P31=\"\",\"\",VLOOKUP(P31,所属コード!$A$2:$E$200,2,FALSE))","v":""},{"$f":"IF(P31=\"\",\"\",VLOOKUP(P31,所属コード!$A:$G,7,FALSE))","v":""},null,null,null,null,null,"審判登録",null,"",null,null,null,null,null,null,null,null,null,null,null,null,null,null,null,null,null,null,null,null,null,null,null,0,0,0,0,0,0,0,0,0,0,"","","","","","","","0","0","00"]
[24,null,null,null,null,null,null,null,null,null,null,null,null,"0","","",{"$f":"IF(P32=\"\",\"\",VLOOKUP(P32,所属コード!$A$2:$E$200,2,FALSE))","v":""},{"$f":"IF(P32=\"\",\"\",VLOOKUP(P32,所属コード!$A:$G,7,FALSE))","v":""},null,null,null,null,null,"ｼﾝﾌｫﾆｱﾃｸﾉﾛｼﾞｰ",null,"",null,null,null,null,null,null,null,null,null,null,null,null,null,null,null,null,null,null,null,null,null,null,null,0,0,0,0,0,0,0,0,0,0,"","","","","","","","0","0","00"]
[25,null,null,null,null,null,null,null,null,null,null,null,null,"0","","",{"$f":"IF(P33=\"\",\"\",VLOOKUP(P33,所属コード!$A$2:$E$200,2,FALSE))","v":""},{"$f":"IF(P33=\"\",\"\",VLOOKUP(P33,所属コード!$A:$G,7,FALSE))","v":""},null,null,null,null,null,"鈴鹿医療大",null,"",null,null,null,null,null,null,null,null,null,null,null,null,null,null,null,null,null,null,null,null,null,null,null,0,0,0,0,0,0,0,0,0,0,"","","","","","","","0","0","00"]
[26,null,null,null,null,null,null,null,null,null,null,null,null,"0","","",{"$f":"IF(P34=\"\",\"\",VLOOKUP(P34,所属コード!$A$2:$E$200,2,FALSE))","v":""},{"$f":"IF(P34=\"\",\"\",VLOOKUP(P34,所属コード!$A:$G,7,FALSE))","v":""},null,null,null,null,null,"ｽﾎﾟｰﾂｵｰｿﾘﾃｨ",null,"",null,null,null,null,null,null,null,null,null,null,null,null,null,null,null,null,null,null,null,null,null,null,null,0,0,0,0,0,0,0,0,0,0,"","","","","","","","0","0","00"]
[27,null,null,null,null,null,null,null,null,null,null,null,null,"0","","",{"$f":"IF(P35=\"\",\"\",VLOOKUP(P35,所属コード!$A$2:$E$200,2,FALSE))","v":""},{"$f":"IF(P35=\"\",\"\",VLOOKUP(P35,所属コード!$A:$G,7,FALSE))","v":""},null,null,null,null,null,"ｽﾎﾟﾙﾄﾏｯｸｽ",null,"",null,null,null,null,null,null,null,null,null,null,null,null,null,null,null,null,null,null,null,null,null,null,null,0,0,0,0,0,0,0,0,0,0,"","","","","","","","0","0","00"]
[28,null,null,null,null,null,null,null,null,null,null,null,null,"0","","",{"$f":"IF(P36=\"\",\"\",VLOOKUP(P36,所属コード!$A$2:$E$200,2,FALSE))","v":""},{"$f":"IF(P36=\"\",\"\",VLOOKUP(P36,所属コード!$A:$G,7,FALSE))","v":""},null,null,null,null,null,"T.G.K",null,"",null,null,null,null,null,null,null,null,null,null,null,null,null,null,null,null,null,null,null,null,null,null,null,0,0,0,0,0,0,0,0,0,0,"","","","","","","","0","0","00"]
[29,null,null,null,null,null,null,null,null,null,null,null,null,"0","","",{"$f":"IF(P37=\"\",\"\",VLOOKUP(P37,所属コード!$A$2:$E$200,2,FALSE))","v":""},{"$f":"IF(P37=\"\",\"\",VLOOKUP(P37,所属コード!$A:$G,7,FALSE))","v":""},null,null,null,null,null,"デンソー",null,"",null,null,null,null,null,null,null,null,null,null,null,null,null,null,null,null,null,null,null,null,null,null,null,0,0,0,0,0,0,0,0,0,0,"","","","","","","","0","0","00"]
[30,null,null,null,null,null,null,null,null,null,null,null,null,"0","","",{"$f":"IF(P38=\"\",\"\",VLOOKUP(P38,所属コード!$A$2:$E$200,2,FALSE))","v":""},{"$f":"IF(P38=\"\",\"\",VLOOKUP(P38,所属コード!$A:$G,7,FALSE))","v":""},null,null,null,null,null,"デンソー大安",null,"",null,null,null,null,null,null,null,null,null,null,null,null,null,null,null,null,null,null,null,null,null,null,null,0,0,0,0,0,0,0,0,0,0,"","","","","","","","0","0","00"]
[31,null,null,null,null,null,null,null,null,null,null,null,null,"0","","",{"$f":"IF(P39=\"\",\"\",VLOOKUP(P39,所属コード!$A$2:$E$200,2,FALSE))","v":""},{"$f":"IF(P39=\"\",\"\",VLOOKUP(P39,所属コード!$A:$G,7,FALSE))","v":""},null,null,null,null,null,"ｲﾙ　ﾃﾙﾉ",null,"",null,null,null,null,null,null,null,null,null,null,null,null,null,null,null,null,null,null,null,null,null,null,null,0,0,0,0,0,0,0,0,0,0,"","","","","","","","0","0","00"]
[32,null,null,null,null,null,null,null,null,null,null,null,null,"0","","",{"$f":"IF(P40=\"\",\"\",VLOOKUP(P40,所属コード!$A$2:$E$200,2,FALSE))","v":""},{"$f":"IF(P40=\"\",\"\",VLOOKUP(P40,所属コード!$A:$G,7,FALSE))","v":""},null,null,null,null,null,"N.F.A",null,"",null,null,null,null,null,null,null,null,null,null,null,null,null,null,null,null,null,null,null,null,null,null,null,0,0,0,0,0,0,0,0,0,0,"","","","","","","","0","0","00"]
[33,null,null,null,null,null,null,null,null,null,null,null,null,{"$f":"CONCATENATE(L41,BO41)","v":"0"},"","",{"$f":"IF(P41=\"\",\"\",VLOOKUP(P41,所属コード!$A$2:$E$200,2,FALSE))","v":""},{"$f":"IF(P41=\"\",\"\",VLOOKUP(P41,所属コード!$A:$G,7,FALSE))","v":""},null,null,null,null,null,"NURF",null,"",null,null,null,null,null,null,null,null,null,null,null,null,null,null,null,null,null,null,null,null,null,null,null,{"$f":"AG41","v":0},{"$f":"AJ41","v":0},{"$f":"AK41","v":0},{"$f":"AJ41","v":0},0,0,0,0,0,0,"","","","","","","","0","0","00"]
[34,null,null,null,null,null,null,null,null,null,null,null,null,"0","","",{"$f":"IF(P42=\"\",\"\",VLOOKUP(P42,所属コード!$A$2:$E$200,2,FALSE))","v":""},{"$f":"IF(P42=\"\",\"\",VLOOKUP(P42,所属コード!$A:$G,7,FALSE))","v":""},null,null,null,null,null,"成瀬鍼灸院",null,"",null,null,null,null,null,null,null,null,null,null,null,null,null,null,null,null,null,null,null,null,null,null,null,0,0,0,0,{"$f":"AT42","v":0},0,0,{"$f":"AV42","v":0},0,0,"","","","","","","","0","0","00"]
[35,null,null,null,null,null,null,null,null,null,null,null,null,"0","","",{"$f":"IF(P43=\"\",\"\",VLOOKUP(P43,所属コード!$A$2:$E$200,2,FALSE))","v":""},{"$f":"IF(P43=\"\",\"\",VLOOKUP(P43,所属コード!$A:$G,7,FALSE))","v":""},null,null,null,null,null,"日本陸送",null,"",null,null,null,null,null,null,null,null,null,null,null,null,null,null,null,null,null,null,null,null,null,null,null,0,0,0,0,0,0,0,0,0,0,"","","","","","","","0","0","00"]
[36,null,null,null,null,null,null,null,null,null,null,null,null,"0","","",{"$f":"IF(P44=\"\",\"\",VLOOKUP(P44,所属コード!$A$2:$E$200,2,FALSE))","v":""},{"$f":"IF(P44=\"\",\"\",VLOOKUP(P44,所属コード!$A:$G,7,FALSE))","v":""},null,null,null,null,null,"ﾊﾟﾅｿﾆｯｸｲｾ",null,"",null,null,null,null,null,null,null,null,null,null,null,null,null,null,null,null,null,null,null,null,null,null,null,0,0,0,0,0,0,0,0,0,0,"","","","","","","","0","0","00"]
[37,null,null,null,null,null,null,null,null,null,null,null,null,"0","","",{"$f":"IF(P45=\"\",\"\",VLOOKUP(P45,所属コード!$A$2:$E$200,2,FALSE))","v":""},{"$f":"IF(P45=\"\",\"\",VLOOKUP(P45,所属コード!$A:$G,7,FALSE))","v":""},null,null,null,null,null,"PBASE",null,"",null,null,null,null,null,null,null,null,null,null,null,null,null,null,null,null,null,null,null,null,null,null,null,0,0,0,0,0,0,0,0,0,0,"","","","","","","","0","0","00"]
[38,null,null,null,null,null,null,null,null,null,null,null,null,"0","","",{"$f":"IF(P46=\"\",\"\",VLOOKUP(P46,所属コード!$A$2:$E$200,2,FALSE))","v":""},{"$f":"IF(P46=\"\",\"\",VLOOKUP(P46,所属コード!$A:$G,7,FALSE))","v":""},null,null,null,null,null,"久居自衛隊",null,"",null,null,null,null,null,null,null,null,null,null,null,null,null,null,null,null,null,null,null,null,null,null,null,0,0,0,0,0,0,0,0,0,0,"","","","","","","","0","0","00"]
[39,null,null,null,null,null,null,null,null,null,null,null,null,"0","","",{"$f":"IF(P47=\"\",\"\",VLOOKUP(P47,所属コード!$A$2:$E$200,2,FALSE))","v":""},{"$f":"IF(P47=\"\",\"\",VLOOKUP(P47,所属コード!$A:$G,7,FALSE))","v":""},null,null,null,null,null,"ﾌﾘｰｽﾀｲﾙ",null,"",null,null,null,null,null,null,null,null,null,null,null,null,null,null,null,null,null,null,null,null,null,null,null,0,0,0,0,0,0,0,0,0,0,"","","","","","","","0","0","00"]
[40,null,null,null,null,null,null,null,null,null,null,null,null,"0","","",{"$f":"IF(P48=\"\",\"\",VLOOKUP(P48,所属コード!$A$2:$E$200,2,FALSE))","v":""},{"$f":"IF(P48=\"\",\"\",VLOOKUP(P48,所属コード!$A:$G,7,FALSE))","v":""},null,null,null,null,null,"PONPING RC",null,"",null,null,null,null,null,null,null,null,null,null,null,null,null,null,null,null,null,null,null,null,null,null,null,0,0,0,0,0,0,0,0,0,0,"","","","","","","","0","0","00"]
[41,null,null,null,null,null,null,null,null,null,null,null,null,"0","","",{"$f":"IF(P49=\"\",\"\",VLOOKUP(P49,所属コード!$A$2:$E$200,2,FALSE))","v":""},{"$f":"IF(P49=\"\",\"\",VLOOKUP(P49,所属コード!$A:$G,7,FALSE))","v":""},null,null,null,null,null,"松阪市役所",null,"",null,null,null,null,null,null,null,null,null,null,null,null,null,null,null,null,null,null,null,null,null,null,null,0,0,0,0,0,0,0,0,0,0,"","","","","","","","0","0","00"]
[42,null,null,null,null,null,null,null,null,null,null,null,null,"0","","",{"$f":"IF(P50=\"\",\"\",VLOOKUP(P50,所属コード!$A$2:$E$200,2,FALSE))","v":""},{"$f":"IF(P50=\"\",\"\",VLOOKUP(P50,所属コード!$A:$G,7,FALSE))","v":""},null,null,null,null,null,"ミエウインド",null,"",null,null,null,null,null,null,null,null,null,null,null,null,null,null,null,null,null,null,null,null,null,null,null,0,0,0,0,0,0,0,0,0,0,"","","","","","","","0","0","00"]
[43,null,null,null,null,null,null,null,null,null,null,null,null,"0","","",{"$f":"IF(P51=\"\",\"\",VLOOKUP(P51,所属コード!$A$2:$E$200,2,FALSE))","v":""},{"$f":"IF(P51=\"\",\"\",VLOOKUP(P51,所属コード!$A:$G,7,FALSE))","v":""},null,null,null,null,null,"三重教員AC",null,"",null,null,null,null,null,null,null,null,null,null,null,null,null,null,null,null,null,null,null,null,null,null,null,0,0,0,0,0,0,0,0,0,0,"","","","","","","","0","0","00"]
[44,null,null,null,null,null,null,null,null,null,null,null,null,"0","","",{"$f":"IF(P52=\"\",\"\",VLOOKUP(P52,所属コード!$A$2:$E$200,2,FALSE))","v":""},{"$f":"IF(P52=\"\",\"\",VLOOKUP(P52,所属コード!$A:$G,7,FALSE))","v":""},null,null,null,null,null,"三重県庁AC",null,"",null,null,null,null,null,null,null,null,null,null,null,null,null,null,null,null,null,null,null,null,null,null,null,0,0,0,0,0,0,0,0,0,0,"","","","","","","","0","0","00"]
[45,null,null,null,null,null,null,null,null,null,null,null,null,"0","","",{"$f":"IF(P53=\"\",\"\",VLOOKUP(P53,所属コード!$A$2:$E$200,2,FALSE))","v":""},{"$f":"IF(P53=\"\",\"\",VLOOKUP(P53,所属コード!$A:$G,7,FALSE))","v":""},null,null,null,null,null,"三重大医陸",null,"",null,null,null,null,null,null,null,null,null,null,null,null,null,null,null,null,null,null,null,null,null,null,null,0,0,0,0,0,0,0,0,0,0,"","","","","","","","0","0","00"]
[46,null,null,null,null,null,null,null,null,null,null,null,null,"0","","",{"$f":"IF(P54=\"\",\"\",VLOOKUP(P54,所属コード!$A$2:$E$200,2,FALSE))","v":""},{"$f":"IF(P54=\"\",\"\",VLOOKUP(P54,所属コード!$A:$G,7,FALSE))","v":""},null,null,null,null,null,"三重TFC",null,"",null,null,null,null,null,null,null,null,null,null,null,null,null,null,null,null,null,null,null,null,null,null,null,0,0,0,0,0,0,0,0,0,0,"","","","","","","","0","0","00"]
[47,null,null,null,null,null,null,null,null,null,null,null,null,"0","","",{"$f":"IF(P55=\"\",\"\",VLOOKUP(P55,所属コード!$A$2:$E$200,2,FALSE))","v":""},{"$f":"IF(P55=\"\",\"\",VLOOKUP(P55,所属コード!$A:$G,7,FALSE))","v":""},null,null,null,null,null,"三重ﾏｽﾀｰｽﾞ",null,"",null,null,null,null,null,null,null,null,null,null,null,null,null,null,null,null,null,null,null,null,null,null,null,0,0,0,0,0,0,0,0,0,0,"","","","","","","","0","0","00"]
[48,null,null,null,null,null,null,null,null,null,null,null,null,"0","","",{"$f":"IF(P56=\"\",\"\",VLOOKUP(P56,所属コード!$A$2:$E$200,2,FALSE))","v":""},{"$f":"IF(P56=\"\",\"\",VLOOKUP(P56,所属コード!$A:$G,7,FALSE))","v":""},null,null,null,null,null,"三重陸協",null,"",null,null,null,null,null,null,null,null,null,null,null,null,null,null,null,null,null,null,null,null,null,null,null,0,0,0,0,0,0,0,0,0,0,"","","","","","","","0","0","00"]
[49,null,null,null,null,null,null,null,null,null,null,null,null,"0","","",{"$f":"IF(P57=\"\",\"\",VLOOKUP(P57,所属コード!$A$2:$E$200,2,FALSE))","v":""},{"$f":"IF(P57=\"\",\"\",VLOOKUP(P57,所属コード!$A:$G,7,FALSE))","v":""},null,null,null,null,null,"八千代翔友会",null,"",null,null,null,null,null,null,null,null,null,null,null,null,null,null,null,null,null,null,null,null,null,null,null,0,0,0,0,0,0,0,0,0,0,"","","","","","","","0","0","00"]
[50,null,null,null,null,null,null,null,null,null,null,null,null,"0","","",{"$f":"IF(P58=\"\",\"\",VLOOKUP(P58,所属コード!$A$2:$E$200,2,FALSE))","v":""},{"$f":"IF(P58=\"\",\"\",VLOOKUP(P58,所属コード!$A:$G,7,FALSE))","v":""},null,null,null,null,null,"Y.W.C",null,"",null,null,null,null,null,null,null,null,null,null,null,null,null,null,null,null,null,null,null,null,null,null,null,0,0,0,0,0,0,0,0,0,0,"","","","","","","","0","0","00"]
[null,null,null,null,null,null,null,null,null,null,null,null,null,null,null,null,null,null,null,null,null,null,null,"四日市TFC"]
[null,null,null,null,null,null,null,null,null,null,null,null,null,null,null,null,null,null,null,null,null,null,null,"米鈴AC"]
[null,null,null,null,null,null,null,null,null,null,null,null,null,null,null,null,null,null,null,null,null,null,null,"ﾘｱﾌﾟﾛ"]
[null,null,null,null,null,null,null,null,null,null,null,null,null,null,null,null,null,null,null,null,null,null,null,"RKTD"]
[null,null,null,null,null,null,null,null,null,null,null,null,null,null,null,null,null,null,null,null,null,null,null,"ＣＲＡＮＥ"]

{"sheet":"大会申込","index":4,"n_rows":15,"n_cols":7,"rows_kept":15,"cut":false,"hidden":false,"merged":[[3,2,3,6],[8,6,8,7]]}
[]
[]
[]
[]
[]
[]
[]
[]
[]
[]
[]
[]
[]
[]
[null,null,null,null,null,null,"インターネットに接続できれば申込できます"]

{"sheet":"国体1次","index":5,"n_rows":58,"n_cols":61,"rows_kept":58,"cut":false,"hidden":false,"merged":[[1,8,1,9],[1,16,1,17],[1,21,1,22],[1,35,1,38],[5,47,5,48],[3,8,3,9],[2,8,2,9],[4,8,4,9],[5,10,5,11]]}
[null,null,null,null,"所属名",{"$f":"IF(名簿!$P$9=\"\",\"\",名簿!$P$9)","v":""},null,null,"国体第一次選考競技会"]
[null,null,null,null,"所属コード",{"$f":"名簿!$Q$9","v":""},"男子参加人数",null,{"$f":"COUNTIF($I$7:$I$56,1)-COUNTIF($BH$7:$BH$56,0)","v":0}]
[null,null,null,null,"申込者名",{"$f":"IF(名簿!$E$5=\"\",\"\",名簿!$E$5)","v":""},"女子参加人数",null,{"$f":"COUNTIF($I$7:$I$56,2)-COUNTIF($BI$7:$BI$56,0)","v":0}]
[null,null,null,null,"連絡先",{"$f":"IF(名簿!$I$5=\"\",\"\",名簿!$I$5)","v":""},"参加費",null,{"$f":"$AF$58*1000+T5*800","v":0},null,null,null,null,null,{"$f":"$AF$58","v":0}]
[null,null,null,null,"名簿を先に入力して下さい",null,"種目",null,{"$f":"AW56","v":0},null,null,null,null,null,null,null,"プログラム必要冊数",null,null,null,null,"冊"]
["競技者コード","所属コード","所属コード2","ナンバーA","ナンバー","競技者名","カナ名","掲示板名","性別","学年又は年齢","生年月日",null,"所属地","陸連ID","1種目","コード","記録","オープンF","記録F","2種目","コード","記録","オープンF","記録F","種目3","コード","記録3","オープンF","記録F","4×400R","コード","記録","オープンF","記録F","リレー","コード","記録5","オープンF","記録F",null,null,null,100,null,null,null,null,"種目別参加人数",null,null,null,null,null,null,null,null,null,null,"種目数","男子","女子"]
[null,{"$f":"名簿!Q9","v":""},null,null,{"$f":"名簿!E9","v":0},{"$f":"名簿!BN9","v":""},{"$f":"名簿!Z9","v":""},{"$f":"F7","v":""},{"$f":"名簿!O9","v":""},{"$f":"名簿!I9","v":0},{"$f":"名簿!K9","v":0},{"$f":"名簿!BQ9","v":"00"},{"$f":"名簿!R9","v":""},{"$f":"名簿!D9","v":""},null,{"$f":"IF(O7=\"\",\"\",IF(I7=1,VLOOKUP(O7,$AV$8:$AX$32,3,FALSE),IF(I7=2,VLOOKUP(O7,$AV$35:$AX$54,3,FALSE))))","v":""},{"$f":"IF(O7=\"\",\"\",HLOOKUP(O7,名簿!$AB$8:$BG$58,2,FALSE))","v":""},0,2,null,{"$f":"IF(T7=\"\",\"\",IF(I7=1,VLOOKUP(T7,$AV$8:$AX$32,3,FALSE),IF(I7=2,VLOOKUP(T7,$AV$35:$AX$54,3,FALSE))))","v":""},{"$f":"IF(T7=\"\",\"\",HLOOKUP(T7,名簿!$AB$8:$BG$58,2,FALSE))","v":""},0,2,null,{"$f":"IF(Y7=\"\",\"\",IF(I7=1,VLOOKUP(Y7,男子種目コード!$A$1:$B$29,2,FALSE),IF(I7=2,VLOOKUP(Y7,女子種目コード!$A$1:$B$30,2,FALSE))))","v":""},null,0,2,null,{"$f":"IF(AD7=\"\",\"\",IF(I7=1,VLOOKUP(AD7,男子種目コード!$A$78:$B$80,2,FALSE),IF(I7=2,VLOOKUP(AD7,女子種目コード!$A$78:$B$80,2,FALSE))))","v":""},null,0,2,null,{"$f":"IF(AI7=\"\",\"\",IF(I7=1,VLOOKUP(AI7,男子種目コード!$A$1:$B$29,2,FALSE),IF(I7=2,VLOOKUP(AI7,女子種目コード!$A$1:$B$30,2,FALSE))))","v":""},null,0,2,null,null,null,200,{"$f":"IF(O7=\"\",\"\",1)","v":""},{"$f":"IF(OR(AR7=1,T7=\"\"),0,1)","v":0},{"$f":"IF(OR(AR7=1,AS7=1,AD7=\"\"),0,1)","v":0},{"$f":"IF(T7=\"\",\"\",1)","v":""},"男子",null,null,null,null,null,null,null,null,null,null,{"$f":"COUNT(AR7,AU7)","v":0},{"$f":"IF(I7=1,BG7,\"\")","v":""},{"$f":"IF(I7=2,BG7,\"\")","v":""}]
[null,{"$f":"名簿!Q10","v":""},null,null,{"$f":"名簿!E10","v":0},{"$f":"名簿!BN10","v":""},{"$f":"名簿!Z10","v":""},"",{"$f":"名簿!O10","v":""},{"$f":"名簿!I10","v":0},{"$f":"名簿!K10","v":0},{"$f":"名簿!BQ10","v":"00"},{"$f":"名簿!R10","v":""},{"$f":"名簿!D10","v":""},null,"",{"$f":"IF(O8=\"\",\"\",HLOOKUP(O8,名簿!$AB$8:$BG$58,3,FALSE))","v":""},0,2,null,"",{"$f":"IF(T8=\"\",\"\",HLOOKUP(T8,名簿!$AB$8:$BG$58,3,FALSE))","v":""},0,2,null,{"$f":"IF(Y8=\"\",\"\",IF(I8=1,VLOOKUP(Y8,男子種目コード!$A$1:$B$29,2,FALSE),IF(I8=2,VLOOKUP(Y8,女子種目コード!$A$1:$B$30,2,FALSE))))","v":""},null,0,2,null,{"$f":"IF(AD8=\"\",\"\",IF(I8=1,VLOOKUP(AD8,男子種目コード!$A$78:$B$80,2,FALSE),IF(I8=2,VLOOKUP(AD8,女子種目コード!$A$78:$B$80,2,FALSE))))","v":""},null,0,2,null,{"$f":"IF(AI8=\"\",\"\",IF(I8=1,VLOOKUP(AI8,男子種目コード!$A$1:$B$29,2,FALSE),IF(I8=2,VLOOKUP(AI8,女子種目コード!$A$1:$B$30,2,FALSE))))","v":""},null,0,2,null,null,null,400,"",0,0,"","100m",{"$f":"COUNTIF($P$7:$P$56,1)+COUNTIF($U$7:$U$56,1)","v":0},1,null,null,null,null,null,null,null,null,{"$f":"COUNT(AR8,AU8)","v":0},"",""]
[null,{"$f":"名簿!Q11","v":""},null,null,{"$f":"名簿!E11","v":0},{"$f":"名簿!BN11","v":""},{"$f":"名簿!Z11","v":""},"",{"$f":"名簿!O11","v":""},{"$f":"名簿!I11","v":0},{"$f":"名簿!K11","v":0},{"$f":"名簿!BQ11","v":"00"},{"$f":"名簿!R11","v":""},{"$f":"名簿!D11","v":""},null,"",{"$f":"IF(O9=\"\",\"\",HLOOKUP(O9,名簿!$AB$8:$BG$58,4,FALSE))","v":""},0,2,null,"",{"$f":"IF(T9=\"\",\"\",HLOOKUP(T9,名簿!$AB$8:$BG$58,4,FALSE))","v":""},0,2,null,{"$f":"IF(Y9=\"\",\"\",IF(I9=1,VLOOKUP(Y9,男子種目コード!$A$1:$B$29,2,FALSE),IF(I9=2,VLOOKUP(Y9,女子種目コード!$A$1:$B$30,2,FALSE))))","v":""},null,0,2,null,{"$f":"IF(AD9=\"\",\"\",IF(I9=1,VLOOKUP(AD9,男子種目コード!$A$78:$B$80,2,FALSE),IF(I9=2,VLOOKUP(AD9,女子種目コード!$A$78:$B$80,2,FALSE))))","v":""},null,0,2,null,{"$f":"IF(AI9=\"\",\"\",IF(I9=1,VLOOKUP(AI9,男子種目コード!$A$1:$B$29,2,FALSE),IF(I9=2,VLOOKUP(AI9,女子種目コード!$A$1:$B$30,2,FALSE))))","v":""},null,0,2,null,null,null,800,"",0,0,"","200m",{"$f":"COUNTIF($P$7:$P$56,2)+COUNTIF($U$7:$U$56,2)","v":0},2,null,null,null,null,null,null,null,null,0,"",""]
[null,{"$f":"名簿!Q12","v":""},null,null,{"$f":"名簿!E12","v":0},{"$f":"名簿!BN12","v":""},{"$f":"名簿!Z12","v":""},"",{"$f":"名簿!O12","v":""},{"$f":"名簿!I12","v":0},{"$f":"名簿!K12","v":0},{"$f":"名簿!BQ12","v":"00"},{"$f":"名簿!R12","v":""},{"$f":"名簿!D12","v":""},null,"",{"$f":"IF(O10=\"\",\"\",HLOOKUP(O10,名簿!$AB$8:$BG$58,5,FALSE))","v":""},0,2,null,"",{"$f":"IF(T10=\"\",\"\",HLOOKUP(T10,名簿!$AB$8:$BG$58,5,FALSE))","v":""},0,2,null,{"$f":"IF(Y10=\"\",\"\",IF(I10=1,VLOOKUP(Y10,男子種目コード!$A$1:$B$29,2,FALSE),IF(I10=2,VLOOKUP(Y10,女子種目コード!$A$1:$B$30,2,FALSE))))","v":""},null,0,2,null,{"$f":"IF(AD10=\"\",\"\",IF(I10=1,VLOOKUP(AD10,男子種目コード!$A$78:$B$80,2,FALSE),IF(I10=2,VLOOKUP(AD10,女子種目コード!$A$78:$B$80,2,FALSE))))","v":""},null,0,2,null,{"$f":"IF(AI10=\"\",\"\",IF(I10=1,VLOOKUP(AI10,男子種目コード!$A$1:$B$29,2,FALSE),IF(I10=2,VLOOKUP(AI10,女子種目コード!$A$1:$B$30,2,FALSE))))","v":""},null,0,2,null,null,null,1500,"",0,0,"","400m",{"$f":"COUNTIF($P$7:$P$56,3)+COUNTIF($U$7:$U$56,3)","v":0},3,null,null,null,null,null,null,null,null,0,"",""]
[null,{"$f":"名簿!Q13","v":""},null,null,{"$f":"名簿!E13","v":0},{"$f":"名簿!BN13","v":""},{"$f":"名簿!Z13","v":""},"",{"$f":"名簿!O13","v":""},{"$f":"名簿!I13","v":0},{"$f":"名簿!K13","v":0},{"$f":"名簿!BQ13","v":"00"},{"$f":"名簿!R13","v":""},{"$f":"名簿!D13","v":""},null,"",{"$f":"IF(O11=\"\",\"\",HLOOKUP(O11,名簿!$AB$8:$BG$58,6,FALSE))","v":""},0,2,null,"",{"$f":"IF(T11=\"\",\"\",HLOOKUP(T11,名簿!$AB$8:$BG$58,6,FALSE))","v":""},0,2,null,{"$f":"IF(Y11=\"\",\"\",IF(I11=1,VLOOKUP(Y11,男子種目コード!$A$1:$B$29,2,FALSE),IF(I11=2,VLOOKUP(Y11,女子種目コード!$A$1:$B$30,2,FALSE))))","v":""},null,0,2,null,{"$f":"IF(AD11=\"\",\"\",IF(I11=1,VLOOKUP(AD11,男子種目コード!$A$78:$B$80,2,FALSE),IF(I11=2,VLOOKUP(AD11,女子種目コード!$A$78:$B$80,2,FALSE))))","v":""},null,0,2,null,{"$f":"IF(AI11=\"\",\"\",IF(I11=1,VLOOKUP(AI11,男子種目コード!$A$1:$B$29,2,FALSE),IF(I11=2,VLOOKUP(AI11,女子種目コード!$A$1:$B$30,2,FALSE))))","v":""},null,0,2,null,null,null,5000,"",0,0,"","800m",{"$f":"COUNTIF($P$7:$P$56,4)+COUNTIF($U$7:$U$56,4)","v":0},4,null,null,null,null,null,null,null,null,0,"",""]
[null,{"$f":"名簿!Q14","v":""},null,null,{"$f":"名簿!E14","v":0},{"$f":"名簿!BN14","v":""},{"$f":"名簿!Z14","v":""},"",{"$f":"名簿!O14","v":""},{"$f":"名簿!I14","v":0},{"$f":"名簿!K14","v":0},{"$f":"名簿!BQ14","v":"00"},{"$f":"名簿!R14","v":""},{"$f":"名簿!D14","v":""},null,"",{"$f":"IF(O12=\"\",\"\",HLOOKUP(O12,名簿!$AB$8:$BG$58,7,FALSE))","v":""},0,2,null,"",{"$f":"IF(T12=\"\",\"\",HLOOKUP(T12,名簿!$AB$8:$BG$58,7,FALSE))","v":""},0,2,null,{"$f":"IF(Y12=\"\",\"\",IF(I12=1,VLOOKUP(Y12,男子種目コード!$A$1:$B$29,2,FALSE),IF(I12=2,VLOOKUP(Y12,女子種目コード!$A$1:$B$30,2,FALSE))))","v":""},null,0,2,null,{"$f":"IF(AD12=\"\",\"\",IF(I12=1,VLOOKUP(AD12,男子種目コード!$A$78:$B$80,2,FALSE),IF(I12=2,VLOOKUP(AD12,女子種目コード!$A$78:$B$80,2,FALSE))))","v":""},null,0,2,null,{"$f":"IF(AI12=\"\",\"\",IF(I12=1,VLOOKUP(AI12,男子種目コード!$A$1:$B$29,2,FALSE),IF(I12=2,VLOOKUP(AI12,女子種目コード!$A$1:$B$30,2,FALSE))))","v":""},null,0,2,null,null,null,10000,"",0,0,"","1500m",{"$f":"COUNTIF($P$7:$P$56,5)+COUNTIF($U$7:$U$56,5)","v":0},5,null,null,null,null,null,null,null,null,0,"",""]
[null,{"$f":"名簿!Q15","v":""},null,null,{"$f":"名簿!E15","v":0},{"$f":"名簿!BN15","v":""},{"$f":"名簿!Z15","v":""},"",{"$f":"名簿!O15","v":""},{"$f":"名簿!I15","v":0},{"$f":"名簿!K15","v":0},{"$f":"名簿!BQ15","v":"00"},{"$f":"名簿!R15","v":""},{"$f":"名簿!D15","v":""},null,"",{"$f":"IF(O13=\"\",\"\",HLOOKUP(O13,名簿!$AB$8:$BG$58,8,FALSE))","v":""},0,2,null,"",{"$f":"IF(T13=\"\",\"\",HLOOKUP(T13,名簿!$AB$8:$BG$58,8,FALSE))","v":""},0,2,null,{"$f":"IF(Y13=\"\",\"\",IF(I13=1,VLOOKUP(Y13,男子種目コード!$A$1:$B$29,2,FALSE),IF(I13=2,VLOOKUP(Y13,女子種目コード!$A$1:$B$30,2,FALSE))))","v":""},null,0,2,null,{"$f":"IF(AD13=\"\",\"\",IF(I13=1,VLOOKUP(AD13,男子種目コード!$A$78:$B$80,2,FALSE),IF(I13=2,VLOOKUP(AD13,女子種目コード!$A$78:$B$80,2,FALSE))))","v":""},null,0,2,null,{"$f":"IF(AI13=\"\",\"\",IF(I13=1,VLOOKUP(AI13,男子種目コード!$A$1:$B$29,2,FALSE),IF(I13=2,VLOOKUP(AI13,女子種目コード!$A$1:$B$30,2,FALSE))))","v":""},null,0,2,null,null,null,"100H","",0,0,"","5000m",{"$f":"COUNTIF($P$7:$P$56,6)+COUNTIF($U$7:$U$56,6)","v":0},6,null,null,null,null,null,null,null,null,0,"",""]
[null,{"$f":"名簿!Q16","v":""},null,null,{"$f":"名簿!E16","v":0},{"$f":"名簿!BN16","v":""},{"$f":"名簿!Z16","v":""},"",{"$f":"名簿!O16","v":""},{"$f":"名簿!I16","v":0},{"$f":"名簿!K16","v":0},{"$f":"名簿!BQ16","v":"00"},{"$f":"名簿!R16","v":""},{"$f":"名簿!D16","v":""},null,"",{"$f":"IF(O14=\"\",\"\",HLOOKUP(O14,名簿!$AB$8:$BG$58,9,FALSE))","v":""},0,2,null,"",{"$f":"IF(T14=\"\",\"\",HLOOKUP(T14,名簿!$AB$8:$BG$58,9,FALSE))","v":""},0,2,null,{"$f":"IF(Y14=\"\",\"\",IF(I14=1,VLOOKUP(Y14,男子種目コード!$A$1:$B$29,2,FALSE),IF(I14=2,VLOOKUP(Y14,女子種目コード!$A$1:$B$30,2,FALSE))))","v":""},null,0,2,null,{"$f":"IF(AD14=\"\",\"\",IF(I14=1,VLOOKUP(AD14,男子種目コード!$A$78:$B$80,2,FALSE),IF(I14=2,VLOOKUP(AD14,女子種目コード!$A$78:$B$80,2,FALSE))))","v":""},null,0,2,null,{"$f":"IF(AI14=\"\",\"\",IF(I14=1,VLOOKUP(AI14,男子種目コード!$A$1:$B$29,2,FALSE),IF(I14=2,VLOOKUP(AI14,女子種目コード!$A$1:$B$30,2,FALSE))))","v":""},null,0,2,null,null,null,"110H","",0,0,"","10000m",{"$f":"COUNTIF($P$7:$P$56,7)+COUNTIF($U$7:$U$56,7)","v":0},7,null,null,null,null,null,null,null,null,0,"",""]
[null,{"$f":"名簿!Q17","v":""},null,null,{"$f":"名簿!E17","v":0},{"$f":"名簿!BN17","v":""},{"$f":"名簿!Z17","v":""},"",{"$f":"名簿!O17","v":""},{"$f":"名簿!I17","v":0},{"$f":"名簿!K17","v":0},{"$f":"名簿!BQ17","v":"00"},{"$f":"名簿!R17","v":""},{"$f":"名簿!D17","v":""},null,"",{"$f":"IF(O15=\"\",\"\",HLOOKUP(O15,名簿!$AB$8:$BG$58,10,FALSE))","v":""},0,2,null,"",{"$f":"IF(T15=\"\",\"\",HLOOKUP(T15,名簿!$AB$8:$BG$58,10,FALSE))","v":""},0,2,null,{"$f":"IF(Y15=\"\",\"\",IF(I15=1,VLOOKUP(Y15,男子種目コード!$A$1:$B$29,2,FALSE),IF(I15=2,VLOOKUP(Y15,女子種目コード!$A$1:$B$30,2,FALSE))))","v":""},null,0,2,null,{"$f":"IF(AD15=\"\",\"\",IF(I15=1,VLOOKUP(AD15,男子種目コード!$A$78:$B$80,2,FALSE),IF(I15=2,VLOOKUP(AD15,女子種目コード!$A$78:$B$80,2,FALSE))))","v":""},null,0,2,null,{"$f":"IF(AI15=\"\",\"\",IF(I15=1,VLOOKUP(AI15,男子種目コード!$A$1:$B$29,2,FALSE),IF(I15=2,VLOOKUP(AI15,女子種目コード!$A$1:$B$30,2,FALSE))))","v":""},null,0,2,null,null,null,"400H","",0,0,"","110mH",{"$f":"COUNTIF($P$7:$P$56,8)+COUNTIF($U$7:$U$56,8)","v":0},8,null,null,null,null,null,null,null,null,0,"",""]
[null,{"$f":"名簿!Q18","v":""},null,null,{"$f":"名簿!E18","v":0},{"$f":"名簿!BN18","v":""},{"$f":"名簿!Z18","v":""},"",{"$f":"名簿!O18","v":""},{"$f":"名簿!I18","v":0},{"$f":"名簿!K18","v":0},{"$f":"名簿!BQ18","v":"00"},{"$f":"名簿!R18","v":""},{"$f":"名簿!D18","v":""},null,"",{"$f":"IF(O16=\"\",\"\",HLOOKUP(O16,名簿!$AB$8:$BG$58,11,FALSE))","v":""},0,2,null,"",{"$f":"IF(T16=\"\",\"\",HLOOKUP(T16,名簿!$AB$8:$BG$58,11,FALSE))","v":""},0,2,null,{"$f":"IF(Y16=\"\",\"\",IF(I16=1,VLOOKUP(Y16,男子種目コード!$A$1:$B$29,2,FALSE),IF(I16=2,VLOOKUP(Y16,女子種目コード!$A$1:$B$30,2,FALSE))))","v":""},null,0,2,null,{"$f":"IF(AD16=\"\",\"\",IF(I16=1,VLOOKUP(AD16,男子種目コード!$A$78:$B$80,2,FALSE),IF(I16=2,VLOOKUP(AD16,女子種目コード!$A$78:$B$80,2,FALSE))))","v":""},null,0,2,null,{"$f":"IF(AI16=\"\",\"\",IF(I16=1,VLOOKUP(AI16,男子種目コード!$A$1:$B$29,2,FALSE),IF(I16=2,VLOOKUP(AI16,女子種目コード!$A$1:$B$30,2,FALSE))))","v":""},null,0,2,null,null,null,"3000SC","",0,0,"","400mH",{"$f":"COUNTIF($P$7:$P$56,9)+COUNTIF($U$7:$U$56,9)","v":0},9,null,null,null,null,null,null,null,null,0,"",""]
[null,{"$f":"名簿!Q19","v":""},null,null,{"$f":"名簿!E19","v":0},{"$f":"名簿!BN19","v":""},{"$f":"名簿!Z19","v":""},"",{"$f":"名簿!O19","v":""},{"$f":"名簿!I19","v":0},{"$f":"名簿!K19","v":0},{"$f":"名簿!BQ19","v":"00"},{"$f":"名簿!R19","v":""},{"$f":"名簿!D19","v":""},null,"",{"$f":"IF(O17=\"\",\"\",HLOOKUP(O17,名簿!$AB$8:$BG$58,12,FALSE))","v":""},0,2,null,"",{"$f":"IF(T17=\"\",\"\",HLOOKUP(T17,名簿!$AB$8:$BG$58,12,FALSE))","v":""},0,2,null,{"$f":"IF(Y17=\"\",\"\",IF(I17=1,VLOOKUP(Y17,男子種目コード!$A$1:$B$29,2,FALSE),IF(I17=2,VLOOKUP(Y17,女子種目コード!$A$1:$B$30,2,FALSE))))","v":""},null,0,2,null,{"$f":"IF(AD17=\"\",\"\",IF(I17=1,VLOOKUP(AD17,男子種目コード!$A$78:$B$80,2,FALSE),IF(I17=2,VLOOKUP(AD17,女子種目コード!$A$78:$B$80,2,FALSE))))","v":""},null,0,2,null,{"$f":"IF(AI17=\"\",\"\",IF(I17=1,VLOOKUP(AI17,男子種目コード!$A$1:$B$29,2,FALSE),IF(I17=2,VLOOKUP(AI17,女子種目コード!$A$1:$B$30,2,FALSE))))","v":""},null,0,2,null,null,null,"5000W","",0,0,"","3000mSC",{"$f":"COUNTIF($P$7:$P$56,10)+COUNTIF($U$7:$U$56,10)","v":0},10,null,null,null,null,null,null,null,null,0,"",""]
[null,{"$f":"名簿!Q20","v":""},null,null,{"$f":"名簿!E20","v":0},{"$f":"名簿!BN20","v":""},{"$f":"名簿!Z20","v":""},"",{"$f":"名簿!O20","v":""},{"$f":"名簿!I20","v":0},{"$f":"名簿!K20","v":0},{"$f":"名簿!BQ20","v":"00"},{"$f":"名簿!R20","v":""},{"$f":"名簿!D20","v":""},null,"",{"$f":"IF(O18=\"\",\"\",HLOOKUP(O18,名簿!$AB$8:$BG$58,13,FALSE))","v":""},0,2,null,"",{"$f":"IF(T18=\"\",\"\",HLOOKUP(T18,名簿!$AB$8:$BG$58,13,FALSE))","v":""},0,2,null,{"$f":"IF(Y18=\"\",\"\",IF(I18=1,VLOOKUP(Y18,男子種目コード!$A$1:$B$29,2,FALSE),IF(I18=2,VLOOKUP(Y18,女子種目コード!$A$1:$B$30,2,FALSE))))","v":""},null,0,2,null,{"$f":"IF(AD18=\"\",\"\",IF(I18=1,VLOOKUP(AD18,男子種目コード!$A$78:$B$80,2,FALSE),IF(I18=2,VLOOKUP(AD18,女子種目コード!$A$78:$B$80,2,FALSE))))","v":""},null,0,2,null,{"$f":"IF(AI18=\"\",\"\",IF(I18=1,VLOOKUP(AI18,男子種目コード!$A$1:$B$29,2,FALSE),IF(I18=2,VLOOKUP(AI18,女子種目コード!$A$1:$B$30,2,FALSE))))","v":""},null,0,2,null,null,null,"走高跳","",0,0,"","5000mW",{"$f":"COUNTIF($P$7:$P$56,12)+COUNTIF($U$7:$U$56,12)","v":0},12,null,null,null,null,null,null,null,null,0,"",""]
[null,{"$f":"名簿!Q21","v":""},null,null,{"$f":"名簿!E21","v":0},{"$f":"名簿!BN21","v":""},{"$f":"名簿!Z21","v":""},"",{"$f":"名簿!O21","v":""},{"$f":"名簿!I21","v":0},{"$f":"名簿!K21","v":0},{"$f":"名簿!BQ21","v":"00"},{"$f":"名簿!R21","v":""},{"$f":"名簿!D21","v":""},null,"",{"$f":"IF(O19=\"\",\"\",HLOOKUP(O19,名簿!$AB$8:$BG$58,14,FALSE))","v":""},0,2,null,"",{"$f":"IF(T19=\"\",\"\",HLOOKUP(T19,名簿!$AB$8:$BG$58,14,FALSE))","v":""},0,2,null,{"$f":"IF(Y19=\"\",\"\",IF(I19=1,VLOOKUP(Y19,男子種目コード!$A$1:$B$29,2,FALSE),IF(I19=2,VLOOKUP(Y19,女子種目コード!$A$1:$B$30,2,FALSE))))","v":""},null,0,2,null,{"$f":"IF(AD19=\"\",\"\",IF(I19=1,VLOOKUP(AD19,男子種目コード!$A$78:$B$80,2,FALSE),IF(I19=2,VLOOKUP(AD19,女子種目コード!$A$78:$B$80,2,FALSE))))","v":""},null,0,2,null,{"$f":"IF(AI19=\"\",\"\",IF(I19=1,VLOOKUP(AI19,男子種目コード!$A$1:$B$29,2,FALSE),IF(I19=2,VLOOKUP(AI19,女子種目コード!$A$1:$B$30,2,FALSE))))","v":""},null,0,2,null,null,null,"棒高跳","",0,0,"","走高跳",{"$f":"COUNTIF($P$7:$P$56,15)+COUNTIF($U$7:$U$56,15)","v":0},15,null,null,null,null,null,null,null,null,0,"",""]
[null,{"$f":"名簿!Q22","v":""},null,null,{"$f":"名簿!E22","v":0},{"$f":"名簿!BN22","v":""},{"$f":"名簿!Z22","v":""},"",{"$f":"名簿!O22","v":""},{"$f":"名簿!I22","v":0},{"$f":"名簿!K22","v":0},{"$f":"名簿!BQ22","v":"00"},{"$f":"名簿!R22","v":""},{"$f":"名簿!D22","v":""},null,"",{"$f":"IF(O20=\"\",\"\",HLOOKUP(O20,名簿!$AB$8:$BG$58,15,FALSE))","v":""},0,2,null,"",{"$f":"IF(T20=\"\",\"\",HLOOKUP(T20,名簿!$AB$8:$BG$58,15,FALSE))","v":""},0,2,null,{"$f":"IF(Y20=\"\",\"\",IF(I20=1,VLOOKUP(Y20,男子種目コード!$A$1:$B$29,2,FALSE),IF(I20=2,VLOOKUP(Y20,女子種目コード!$A$1:$B$30,2,FALSE))))","v":""},null,0,2,null,{"$f":"IF(AD20=\"\",\"\",IF(I20=1,VLOOKUP(AD20,男子種目コード!$A$78:$B$80,2,FALSE),IF(I20=2,VLOOKUP(AD20,女子種目コード!$A$78:$B$80,2,FALSE))))","v":""},null,0,2,null,{"$f":"IF(AI20=\"\",\"\",IF(I20=1,VLOOKUP(AI20,男子種目コード!$A$1:$B$29,2,FALSE),IF(I20=2,VLOOKUP(AI20,女子種目コード!$A$1:$B$30,2,FALSE))))","v":""},null,0,2,null,null,null,"走幅跳","",0,0,"","棒高跳",{"$f":"COUNTIF($P$7:$P$56,16)+COUNTIF($U$7:$U$56,16)","v":0},16,null,null,null,null,null,null,null,null,0,"",""]
[null,{"$f":"名簿!Q23","v":""},null,null,{"$f":"名簿!E23","v":0},{"$f":"名簿!BN23","v":""},{"$f":"名簿!Z23","v":""},"",{"$f":"名簿!O23","v":""},{"$f":"名簿!I23","v":0},{"$f":"名簿!K23","v":0},{"$f":"名簿!BQ23","v":"00"},{"$f":"名簿!R23","v":""},{"$f":"名簿!D23","v":""},null,"",{"$f":"IF(O21=\"\",\"\",HLOOKUP(O21,名簿!$AB$8:$BG$58,16,FALSE))","v":""},0,2,null,"",{"$f":"IF(T21=\"\",\"\",HLOOKUP(T21,名簿!$AB$8:$BG$58,16,FALSE))","v":""},0,2,null,{"$f":"IF(Y21=\"\",\"\",IF(I21=1,VLOOKUP(Y21,男子種目コード!$A$1:$B$29,2,FALSE),IF(I21=2,VLOOKUP(Y21,女子種目コード!$A$1:$B$30,2,FALSE))))","v":""},null,0,2,null,{"$f":"IF(AD21=\"\",\"\",IF(I21=1,VLOOKUP(AD21,男子種目コード!$A$78:$B$80,2,FALSE),IF(I21=2,VLOOKUP(AD21,女子種目コード!$A$78:$B$80,2,FALSE))))","v":""},null,0,2,null,{"$f":"IF(AI21=\"\",\"\",IF(I21=1,VLOOKUP(AI21,男子種目コード!$A$1:$B$29,2,FALSE),IF(I21=2,VLOOKUP(AI21,女子種目コード!$A$1:$B$30,2,FALSE))))","v":""},null,0,2,null,null,null,"三段跳","",0,0,"","走幅跳",{"$f":"COUNTIF($P$7:$P$56,17)+COUNTIF($U$7:$U$56,17)","v":0},17,null,null,null,null,null,null,null,null,0,"",""]
[null,{"$f":"名簿!Q24","v":""},null,null,{"$f":"名簿!E24","v":0},{"$f":"名簿!BN24","v":""},{"$f":"名簿!Z24","v":""},"",{"$f":"名簿!O24","v":""},{"$f":"名簿!I24","v":0},{"$f":"名簿!K24","v":0},{"$f":"名簿!BQ24","v":"00"},{"$f":"名簿!R24","v":""},{"$f":"名簿!D24","v":""},null,"",{"$f":"IF(O22=\"\",\"\",HLOOKUP(O22,名簿!$AB$8:$BG$58,17,FALSE))","v":""},0,2,null,"",{"$f":"IF(T22=\"\",\"\",HLOOKUP(T22,名簿!$AB$8:$BG$58,17,FALSE))","v":""},0,2,null,{"$f":"IF(Y22=\"\",\"\",IF(I22=1,VLOOKUP(Y22,男子種目コード!$A$1:$B$29,2,FALSE),IF(I22=2,VLOOKUP(Y22,女子種目コード!$A$1:$B$30,2,FALSE))))","v":""},null,0,2,null,{"$f":"IF(AD22=\"\",\"\",IF(I22=1,VLOOKUP(AD22,男子種目コード!$A$78:$B$80,2,FALSE),IF(I22=2,VLOOKUP(AD22,女子種目コード!$A$78:$B$80,2,FALSE))))","v":""},null,0,2,null,{"$f":"IF(AI22=\"\",\"\",IF(I22=1,VLOOKUP(AI22,男子種目コード!$A$1:$B$29,2,FALSE),IF(I22=2,VLOOKUP(AI22,女子種目コード!$A$1:$B$30,2,FALSE))))","v":""},null,0,2,null,null,null,"砲丸投","",0,0,"","三段跳",{"$f":"COUNTIF($P$7:$P$56,18)+COUNTIF($U$7:$U$56,18)","v":0},18,null,null,null,null,null,null,null,null,0,"",""]
[null,{"$f":"名簿!Q25","v":""},null,null,{"$f":"名簿!E25","v":0},{"$f":"名簿!BN25","v":""},{"$f":"名簿!Z25","v":""},"",{"$f":"名簿!O25","v":""},{"$f":"名簿!I25","v":0},{"$f":"名簿!K25","v":0},{"$f":"名簿!BQ25","v":"00"},{"$f":"名簿!R25","v":""},{"$f":"名簿!D25","v":""},null,"",{"$f":"IF(O23=\"\",\"\",HLOOKUP(O23,名簿!$AB$8:$BG$58,18,FALSE))","v":""},0,2,null,"",{"$f":"IF(T23=\"\",\"\",HLOOKUP(T23,名簿!$AB$8:$BG$58,18,FALSE))","v":""},0,2,null,{"$f":"IF(Y23=\"\",\"\",IF(I23=1,VLOOKUP(Y23,男子種目コード!$A$1:$B$29,2,FALSE),IF(I23=2,VLOOKUP(Y23,女子種目コード!$A$1:$B$30,2,FALSE))))","v":""},null,0,2,null,{"$f":"IF(AD23=\"\",\"\",IF(I23=1,VLOOKUP(AD23,男子種目コード!$A$78:$B$80,2,FALSE),IF(I23=2,VLOOKUP(AD23,女子種目コード!$A$78:$B$80,2,FALSE))))","v":""},null,0,2,null,{"$f":"IF(AI23=\"\",\"\",IF(I23=1,VLOOKUP(AI23,男子種目コード!$A$1:$B$29,2,FALSE),IF(I23=2,VLOOKUP(AI23,女子種目コード!$A$1:$B$30,2,FALSE))))","v":""},null,0,2,null,null,null,"円盤投","",0,0,"","砲丸投",{"$f":"COUNTIF($P$7:$P$56,19)+COUNTIF($U$7:$U$56,19)","v":0},19,null,null,null,null,null,null,null,null,0,"",""]
[null,{"$f":"名簿!Q26","v":""},null,null,{"$f":"名簿!E26","v":0},{"$f":"名簿!BN26","v":""},{"$f":"名簿!Z26","v":""},"",{"$f":"名簿!O26","v":""},{"$f":"名簿!I26","v":0},{"$f":"名簿!K26","v":0},{"$f":"名簿!BQ26","v":"00"},{"$f":"名簿!R26","v":""},{"$f":"名簿!D26","v":""},null,"",{"$f":"IF(O24=\"\",\"\",HLOOKUP(O24,名簿!$AB$8:$BG$58,19,FALSE))","v":""},0,2,null,"",{"$f":"IF(T24=\"\",\"\",HLOOKUP(T24,名簿!$AB$8:$BG$58,19,FALSE))","v":""},0,2,null,{"$f":"IF(Y24=\"\",\"\",IF(I24=1,VLOOKUP(Y24,男子種目コード!$A$1:$B$29,2,FALSE),IF(I24=2,VLOOKUP(Y24,女子種目コード!$A$1:$B$30,2,FALSE))))","v":""},null,0,2,null,{"$f":"IF(AD24=\"\",\"\",IF(I24=1,VLOOKUP(AD24,男子種目コード!$A$78:$B$80,2,FALSE),IF(I24=2,VLOOKUP(AD24,女子種目コード!$A$78:$B$80,2,FALSE))))","v":""},null,0,2,null,{"$f":"IF(AI24=\"\",\"\",IF(I24=1,VLOOKUP(AI24,男子種目コード!$A$1:$B$29,2,FALSE),IF(I24=2,VLOOKUP(AI24,女子種目コード!$A$1:$B$30,2,FALSE))))","v":""},null,0,2,null,null,null,"ハンマー投","",0,0,"","円盤投",{"$f":"COUNTIF($P$7:$P$56,20)+COUNTIF($U$7:$U$56,20)","v":0},20,null,null,null,null,null,null,null,null,0,"",""]
[null,{"$f":"名簿!Q27","v":""},null,null,{"$f":"名簿!E27","v":0},{"$f":"名簿!BN27","v":""},{"$f":"名簿!Z27","v":""},"",{"$f":"名簿!O27","v":""},{"$f":"名簿!I27","v":0},{"$f":"名簿!K27","v":0},{"$f":"名簿!BQ27","v":"00"},{"$f":"名簿!R27","v":""},{"$f":"名簿!D27","v":""},null,"",{"$f":"IF(O25=\"\",\"\",HLOOKUP(O25,名簿!$AB$8:$BG$58,20,FALSE))","v":""},0,2,null,"",{"$f":"IF(T25=\"\",\"\",HLOOKUP(T25,名簿!$AB$8:$BG$58,20,FALSE))","v":""},0,2,null,{"$f":"IF(Y25=\"\",\"\",IF(I25=1,VLOOKUP(Y25,男子種目コード!$A$1:$B$29,2,FALSE),IF(I25=2,VLOOKUP(Y25,女子種目コード!$A$1:$B$30,2,FALSE))))","v":""},null,0,2,null,{"$f":"IF(AD25=\"\",\"\",IF(I25=1,VLOOKUP(AD25,男子種目コード!$A$78:$B$80,2,FALSE),IF(I25=2,VLOOKUP(AD25,女子種目コード!$A$78:$B$80,2,FALSE))))","v":""},null,0,2,null,{"$f":"IF(AI25=\"\",\"\",IF(I25=1,VLOOKUP(AI25,男子種目コード!$A$1:$B$29,2,FALSE),IF(I25=2,VLOOKUP(AI25,女子種目コード!$A$1:$B$30,2,FALSE))))","v":""},null,0,2,null,null,null,"やり投","",0,0,"","ハンマー投",{"$f":"COUNTIF($P$7:$P$56,21)+COUNTIF($U$7:$U$56,21)","v":0},21,null,null,null,null,null,null,null,null,0,"",""]
[null,{"$f":"名簿!Q28","v":""},null,null,{"$f":"名簿!E28","v":0},{"$f":"名簿!BN28","v":""},{"$f":"名簿!Z28","v":""},"",{"$f":"名簿!O28","v":""},{"$f":"名簿!I28","v":0},{"$f":"名簿!K28","v":0},{"$f":"名簿!BQ28","v":"00"},{"$f":"名簿!R28","v":""},{"$f":"名簿!D28","v":0},null,"",{"$f":"IF(O26=\"\",\"\",HLOOKUP(O26,名簿!$AB$8:$BG$58,21,FALSE))","v":""},0,2,null,"",{"$f":"IF(T26=\"\",\"\",HLOOKUP(T26,名簿!$AB$8:$BG$58,21,FALSE))","v":""},0,2,null,{"$f":"IF(Y26=\"\",\"\",IF(I26=1,VLOOKUP(Y26,男子種目コード!$A$1:$B$29,2,FALSE),IF(I26=2,VLOOKUP(Y26,女子種目コード!$A$1:$B$30,2,FALSE))))","v":""},null,0,2,null,{"$f":"IF(AD26=\"\",\"\",IF(I26=1,VLOOKUP(AD26,男子種目コード!$A$78:$B$80,2,FALSE),IF(I26=2,VLOOKUP(AD26,女子種目コード!$A$78:$B$80,2,FALSE))))","v":""},null,0,2,null,{"$f":"IF(AI26=\"\",\"\",IF(I26=1,VLOOKUP(AI26,男子種目コード!$A$1:$B$29,2,FALSE),IF(I26=2,VLOOKUP(AI26,女子種目コード!$A$1:$B$30,2,FALSE))))","v":""},null,0,2,null,null,null,"少年B100H","",0,0,"","やり投",{"$f":"COUNTIF($P$7:$P$56,22)+COUNTIF($U$7:$U$56,22)","v":0},22,null,null,null,null,null,null,null,null,0,"",""]
[null,{"$f":"名簿!Q29","v":""},null,null,{"$f":"名簿!E29","v":0},{"$f":"名簿!BN29","v":""},{"$f":"名簿!Z29","v":""},"",{"$f":"名簿!O29","v":""},{"$f":"名簿!I29","v":0},{"$f":"名簿!K29","v":0},{"$f":"名簿!BQ29","v":"00"},{"$f":"名簿!R29","v":""},{"$f":"名簿!D29","v":0},null,"",{"$f":"IF(O27=\"\",\"\",HLOOKUP(O27,名簿!$AB$8:$BG$58,22,FALSE))","v":""},0,2,null,"",{"$f":"IF(T27=\"\",\"\",HLOOKUP(T27,名簿!$AB$8:$BG$58,22,FALSE))","v":""},0,2,null,{"$f":"IF(Y27=\"\",\"\",IF(I27=1,VLOOKUP(Y27,男子種目コード!$A$1:$B$29,2,FALSE),IF(I27=2,VLOOKUP(Y27,女子種目コード!$A$1:$B$30,2,FALSE))))","v":""},null,0,2,null,{"$f":"IF(AD27=\"\",\"\",IF(I27=1,VLOOKUP(AD27,男子種目コード!$A$78:$B$80,2,FALSE),IF(I27=2,VLOOKUP(AD27,女子種目コード!$A$78:$B$80,2,FALSE))))","v":""},null,0,2,null,{"$f":"IF(AI27=\"\",\"\",IF(I27=1,VLOOKUP(AI27,男子種目コード!$A$1:$B$29,2,FALSE),IF(I27=2,VLOOKUP(AI27,女子種目コード!$A$1:$B$30,2,FALSE))))","v":""},null,0,2,null,null,null,"少年3000","",0,0,"","少年3000m",{"$f":"COUNTIF($P$7:$P$56,24)+COUNTIF($U$7:$U$56,24)","v":0},24,null,null,null,null,null,null,null,null,0,"",""]
[null,{"$f":"名簿!Q30","v":""},null,null,{"$f":"名簿!E30","v":0},{"$f":"名簿!BN30","v":""},{"$f":"名簿!Z30","v":""},"",{"$f":"名簿!O30","v":""},{"$f":"名簿!I30","v":0},{"$f":"名簿!K30","v":0},{"$f":"名簿!BQ30","v":"00"},{"$f":"名簿!R30","v":""},{"$f":"名簿!D30","v":0},null,"",{"$f":"IF(O28=\"\",\"\",HLOOKUP(O28,名簿!$AB$8:$BG$58,23,FALSE))","v":""},0,2,null,"",{"$f":"IF(T28=\"\",\"\",HLOOKUP(T28,名簿!$AB$8:$BG$58,23,FALSE))","v":""},0,2,null,{"$f":"IF(Y28=\"\",\"\",IF(I28=1,VLOOKUP(Y28,男子種目コード!$A$1:$B$29,2,FALSE),IF(I28=2,VLOOKUP(Y28,女子種目コード!$A$1:$B$30,2,FALSE))))","v":""},null,0,2,null,{"$f":"IF(AD28=\"\",\"\",IF(I28=1,VLOOKUP(AD28,男子種目コード!$A$78:$B$80,2,FALSE),IF(I28=2,VLOOKUP(AD28,女子種目コード!$A$78:$B$80,2,FALSE))))","v":""},null,0,2,null,{"$f":"IF(AI28=\"\",\"\",IF(I28=1,VLOOKUP(AI28,男子種目コード!$A$1:$B$29,2,FALSE),IF(I28=2,VLOOKUP(AI28,女子種目コード!$A$1:$B$30,2,FALSE))))","v":""},null,0,2,null,null,null,"少年砲丸投","",0,0,"","少年B走幅跳",{"$f":"COUNTIF($P$7:$P$56,23)+COUNTIF($U$7:$U$56,23)","v":0},23,null,null,null,null,null,null,null,null,0,"",""]
[null,{"$f":"名簿!Q31","v":""},null,null,{"$f":"名簿!E31","v":0},{"$f":"名簿!BN31","v":""},{"$f":"名簿!Z31","v":""},"",{"$f":"名簿!O31","v":""},{"$f":"名簿!I31","v":0},{"$f":"名簿!K31","v":0},{"$f":"名簿!BQ31","v":"00"},{"$f":"名簿!R31","v":""},{"$f":"名簿!D31","v":0},null,"",{"$f":"IF(O29=\"\",\"\",HLOOKUP(O29,名簿!$AB$8:$BG$58,24,FALSE))","v":""},0,2,null,"",{"$f":"IF(T29=\"\",\"\",HLOOKUP(T29,名簿!$AB$8:$BG$58,24,FALSE))","v":""},0,2,null,{"$f":"IF(Y29=\"\",\"\",IF(I29=1,VLOOKUP(Y29,男子種目コード!$A$1:$B$29,2,FALSE),IF(I29=2,VLOOKUP(Y29,女子種目コード!$A$1:$B$30,2,FALSE))))","v":""},null,0,2,null,{"$f":"IF(AD29=\"\",\"\",IF(I29=1,VLOOKUP(AD29,男子種目コード!$A$78:$B$80,2,FALSE),IF(I29=2,VLOOKUP(AD29,女子種目コード!$A$78:$B$80,2,FALSE))))","v":""},null,0,2,null,{"$f":"IF(AI29=\"\",\"\",IF(I29=1,VLOOKUP(AI29,男子種目コード!$A$1:$B$29,2,FALSE),IF(I29=2,VLOOKUP(AI29,女子種目コード!$A$1:$B$30,2,FALSE))))","v":""},null,0,2,null,null,null,"少年円盤投","",0,0,"","少年砲丸投",{"$f":"COUNTIF($P$7:$P$56,25)+COUNTIF($U$7:$U$56,25)","v":0},25,null,null,null,null,null,null,null,null,0,"",""]
[null,{"$f":"名簿!Q32","v":""},null,null,{"$f":"名簿!E32","v":0},{"$f":"名簿!BN32","v":""},{"$f":"名簿!Z32","v":""},"",{"$f":"名簿!O32","v":""},{"$f":"名簿!I32","v":0},{"$f":"名簿!K32","v":0},{"$f":"名簿!BQ32","v":"00"},{"$f":"名簿!R32","v":""},{"$f":"名簿!D32","v":0},null,"",{"$f":"IF(O30=\"\",\"\",HLOOKUP(O30,名簿!$AB$8:$BG$58,25,FALSE))","v":""},0,2,null,"",{"$f":"IF(T30=\"\",\"\",HLOOKUP(T30,名簿!$AB$8:$BG$58,25,FALSE))","v":""},0,2,null,{"$f":"IF(Y30=\"\",\"\",IF(I30=1,VLOOKUP(Y30,男子種目コード!$A$1:$B$29,2,FALSE),IF(I30=2,VLOOKUP(Y30,女子種目コード!$A$1:$B$30,2,FALSE))))","v":""},null,0,2,null,{"$f":"IF(AD30=\"\",\"\",IF(I30=1,VLOOKUP(AD30,男子種目コード!$A$78:$B$80,2,FALSE),IF(I30=2,VLOOKUP(AD30,女子種目コード!$A$78:$B$80,2,FALSE))))","v":""},null,0,2,null,{"$f":"IF(AI30=\"\",\"\",IF(I30=1,VLOOKUP(AI30,男子種目コード!$A$1:$B$29,2,FALSE),IF(I30=2,VLOOKUP(AI30,女子種目コード!$A$1:$B$30,2,FALSE))))","v":""},null,0,2,null,null,null,"少年ハンマー投","",0,0,"","少年B砲丸投",{"$f":"COUNTIF($P$7:$P$56,29)+COUNTIF($U$7:$U$56,29)","v":0},29,null,null,null,null,null,null,null,null,0,"",""]
[null,{"$f":"名簿!Q33","v":""},null,null,{"$f":"名簿!E33","v":0},{"$f":"名簿!BN33","v":""},{"$f":"名簿!Z33","v":""},"",{"$f":"名簿!O33","v":""},{"$f":"名簿!I33","v":0},{"$f":"名簿!K33","v":0},{"$f":"名簿!BQ33","v":"00"},{"$f":"名簿!R33","v":""},{"$f":"名簿!D33","v":0},null,"",{"$f":"IF(O31=\"\",\"\",HLOOKUP(O31,名簿!$AB$8:$BG$58,26,FALSE))","v":""},0,2,null,"",{"$f":"IF(T31=\"\",\"\",HLOOKUP(T31,名簿!$AB$8:$BG$58,26,FALSE))","v":""},0,2,null,{"$f":"IF(Y31=\"\",\"\",IF(I31=1,VLOOKUP(Y31,男子種目コード!$A$1:$B$29,2,FALSE),IF(I31=2,VLOOKUP(Y31,女子種目コード!$A$1:$B$30,2,FALSE))))","v":""},null,0,2,null,{"$f":"IF(AD31=\"\",\"\",IF(I31=1,VLOOKUP(AD31,男子種目コード!$A$78:$B$80,2,FALSE),IF(I31=2,VLOOKUP(AD31,女子種目コード!$A$78:$B$80,2,FALSE))))","v":""},null,0,2,null,{"$f":"IF(AI31=\"\",\"\",IF(I31=1,VLOOKUP(AI31,男子種目コード!$A$1:$B$29,2,FALSE),IF(I31=2,VLOOKUP(AI31,女子種目コード!$A$1:$B$30,2,FALSE))))","v":""},null,0,2,null,null,null,"男子A","",0,0,"","少年円盤投",{"$f":"COUNTIF($P$7:$P$56,26)+COUNTIF($U$7:$U$56,26)","v":0},26,null,null,null,null,null,null,null,null,0,"",""]
[null,{"$f":"名簿!Q34","v":""},null,null,{"$f":"名簿!E34","v":0},{"$f":"名簿!BN34","v":""},{"$f":"名簿!Z34","v":""},"",{"$f":"名簿!O34","v":""},{"$f":"名簿!I34","v":0},{"$f":"名簿!K34","v":0},{"$f":"名簿!BQ34","v":"00"},{"$f":"名簿!R34","v":""},{"$f":"名簿!D34","v":0},null,"",{"$f":"IF(O32=\"\",\"\",HLOOKUP(O32,名簿!$AB$8:$BG$58,27,FALSE))","v":""},0,2,null,"",{"$f":"IF(T32=\"\",\"\",HLOOKUP(T32,名簿!$AB$8:$BG$58,27,FALSE))","v":""},0,2,null,{"$f":"IF(Y32=\"\",\"\",IF(I32=1,VLOOKUP(Y32,男子種目コード!$A$1:$B$29,2,FALSE),IF(I32=2,VLOOKUP(Y32,女子種目コード!$A$1:$B$30,2,FALSE))))","v":""},null,0,2,null,{"$f":"IF(AD32=\"\",\"\",IF(I32=1,VLOOKUP(AD32,男子種目コード!$A$78:$B$80,2,FALSE),IF(I32=2,VLOOKUP(AD32,女子種目コード!$A$78:$B$80,2,FALSE))))","v":""},null,0,2,null,{"$f":"IF(AI32=\"\",\"\",IF(I32=1,VLOOKUP(AI32,男子種目コード!$A$1:$B$29,2,FALSE),IF(I32=2,VLOOKUP(AI32,女子種目コード!$A$1:$B$30,2,FALSE))))","v":""},null,0,2,null,null,null,"男子B","",0,0,"","少年ハンマー投",{"$f":"COUNTIF($P$7:$P$56,27)+COUNTIF($U$7:$U$56,27)","v":0},27,null,null,null,null,null,null,null,null,0,"",""]
[null,{"$f":"名簿!Q35","v":""},null,null,{"$f":"名簿!E35","v":0},{"$f":"名簿!BN35","v":""},{"$f":"名簿!Z35","v":""},"",{"$f":"名簿!O35","v":""},{"$f":"名簿!I35","v":0},{"$f":"名簿!K35","v":0},{"$f":"名簿!BQ35","v":"00"},{"$f":"名簿!R35","v":""},{"$f":"名簿!D35","v":0},null,"",{"$f":"IF(O33=\"\",\"\",HLOOKUP(O33,名簿!$AB$8:$BG$58,28,FALSE))","v":""},0,2,null,"",{"$f":"IF(T33=\"\",\"\",HLOOKUP(T33,名簿!$AB$8:$BG$58,28,FALSE))","v":""},0,2,null,{"$f":"IF(Y33=\"\",\"\",IF(I33=1,VLOOKUP(Y33,男子種目コード!$A$1:$B$29,2,FALSE),IF(I33=2,VLOOKUP(Y33,女子種目コード!$A$1:$B$30,2,FALSE))))","v":""},null,0,2,null,{"$f":"IF(AD33=\"\",\"\",IF(I33=1,VLOOKUP(AD33,男子種目コード!$A$78:$B$80,2,FALSE),IF(I33=2,VLOOKUP(AD33,女子種目コード!$A$78:$B$80,2,FALSE))))","v":""},null,0,2,null,{"$f":"IF(AI33=\"\",\"\",IF(I33=1,VLOOKUP(AI33,男子種目コード!$A$1:$B$29,2,FALSE),IF(I33=2,VLOOKUP(AI33,女子種目コード!$A$1:$B$30,2,FALSE))))","v":""},null,0,2,null,null,null,"男子C","",0,0,"","計",{"$f":"SUM($AW$8:$AW$32)","v":0},null,null,null,null,null,null,null,null,null,0,"",""]
[null,{"$f":"名簿!Q36","v":""},null,null,{"$f":"名簿!E36","v":0},{"$f":"名簿!BN36","v":""},{"$f":"名簿!Z36","v":""},"",{"$f":"名簿!O36","v":""},{"$f":"名簿!I36","v":0},{"$f":"名簿!K36","v":0},{"$f":"名簿!BQ36","v":"00"},{"$f":"名簿!R36","v":""},{"$f":"名簿!D36","v":0},null,"",{"$f":"IF(O34=\"\",\"\",HLOOKUP(O34,名簿!$AB$8:$BG$58,29,FALSE))","v":""},0,2,null,"",{"$f":"IF(T34=\"\",\"\",HLOOKUP(T34,名簿!$AB$8:$BG$58,29,FALSE))","v":""},0,2,null,{"$f":"IF(Y34=\"\",\"\",IF(I34=1,VLOOKUP(Y34,男子種目コード!$A$1:$B$29,2,FALSE),IF(I34=2,VLOOKUP(Y34,女子種目コード!$A$1:$B$30,2,FALSE))))","v":""},null,0,2,null,{"$f":"IF(AD34=\"\",\"\",IF(I34=1,VLOOKUP(AD34,男子種目コード!$A$78:$B$80,2,FALSE),IF(I34=2,VLOOKUP(AD34,女子種目コード!$A$78:$B$80,2,FALSE))))","v":""},null,0,2,null,{"$f":"IF(AI34=\"\",\"\",IF(I34=1,VLOOKUP(AI34,男子種目コード!$A$1:$B$29,2,FALSE),IF(I34=2,VLOOKUP(AI34,女子種目コード!$A$1:$B$30,2,FALSE))))","v":""},null,0,2,null,null,null,"女子A","",0,0,"","女子",null,null,null,null,null,null,null,null,null,null,0,"",""]
[null,{"$f":"名簿!Q37","v":""},null,null,{"$f":"名簿!E37","v":0},{"$f":"名簿!BN37","v":""},{"$f":"名簿!Z37","v":""},"",{"$f":"名簿!O37","v":""},{"$f":"名簿!I37","v":0},{"$f":"名簿!K37","v":0},{"$f":"名簿!BQ37","v":"00"},{"$f":"名簿!R37","v":""},{"$f":"名簿!D37","v":0},null,"",{"$f":"IF(O35=\"\",\"\",HLOOKUP(O35,名簿!$AB$8:$BG$58,30,FALSE))","v":""},0,2,null,"",{"$f":"IF(T35=\"\",\"\",HLOOKUP(T35,名簿!$AB$8:$BG$58,30,FALSE))","v":""},0,2,null,{"$f":"IF(Y35=\"\",\"\",IF(I35=1,VLOOKUP(Y35,男子種目コード!$A$1:$B$29,2,FALSE),IF(I35=2,VLOOKUP(Y35,女子種目コード!$A$1:$B$30,2,FALSE))))","v":""},null,0,2,null,{"$f":"IF(AD35=\"\",\"\",IF(I35=1,VLOOKUP(AD35,男子種目コード!$A$78:$B$80,2,FALSE),IF(I35=2,VLOOKUP(AD35,女子種目コード!$A$78:$B$80,2,FALSE))))","v":""},null,0,2,null,{"$f":"IF(AI35=\"\",\"\",IF(I35=1,VLOOKUP(AI35,男子種目コード!$A$1:$B$29,2,FALSE),IF(I35=2,VLOOKUP(AI35,女子種目コード!$A$1:$B$30,2,FALSE))))","v":""},null,0,2,null,null,null,"女子B","",0,0,"","100m",{"$f":"COUNTIF($P$7:$P$56,40)+COUNTIF($U$7:$U$56,40)","v":0},40,null,null,null,null,null,null,null,null,0,"",""]
[null,{"$f":"名簿!Q38","v":""},null,null,{"$f":"名簿!E38","v":0},{"$f":"名簿!BN38","v":""},{"$f":"名簿!Z38","v":""},"",{"$f":"名簿!O38","v":""},{"$f":"名簿!I38","v":0},{"$f":"名簿!K38","v":0},{"$f":"名簿!BQ38","v":"00"},{"$f":"名簿!R38","v":""},{"$f":"名簿!D38","v":0},null,"",{"$f":"IF(O36=\"\",\"\",HLOOKUP(O36,名簿!$AB$8:$BG$58,31,FALSE))","v":""},0,2,null,"",{"$f":"IF(T36=\"\",\"\",HLOOKUP(T36,名簿!$AB$8:$BG$58,31,FALSE))","v":""},0,2,null,{"$f":"IF(Y36=\"\",\"\",IF(I36=1,VLOOKUP(Y36,男子種目コード!$A$1:$B$29,2,FALSE),IF(I36=2,VLOOKUP(Y36,女子種目コード!$A$1:$B$30,2,FALSE))))","v":""},null,0,2,null,{"$f":"IF(AD36=\"\",\"\",IF(I36=1,VLOOKUP(AD36,男子種目コード!$A$78:$B$80,2,FALSE),IF(I36=2,VLOOKUP(AD36,女子種目コード!$A$78:$B$80,2,FALSE))))","v":""},null,0,2,null,{"$f":"IF(AI36=\"\",\"\",IF(I36=1,VLOOKUP(AI36,男子種目コード!$A$1:$B$29,2,FALSE),IF(I36=2,VLOOKUP(AI36,女子種目コード!$A$1:$B$30,2,FALSE))))","v":""},null,0,2,null,null,null,"女子C","",0,0,"","200m",{"$f":"COUNTIF($P$7:$P$56,41)+COUNTIF($U$7:$U$56,41)","v":0},41,null,null,null,null,null,null,null,null,0,"",""]
[null,{"$f":"名簿!Q39","v":""},null,null,{"$f":"名簿!E39","v":0},{"$f":"名簿!BN39","v":""},{"$f":"名簿!Z39","v":""},"",{"$f":"名簿!O39","v":""},{"$f":"名簿!I39","v":0},{"$f":"名簿!K39","v":0},{"$f":"名簿!BQ39","v":"00"},{"$f":"名簿!R39","v":""},{"$f":"名簿!D39","v":0},null,"",{"$f":"IF(O37=\"\",\"\",HLOOKUP(O37,名簿!$AB$8:$BG$58,32,FALSE))","v":""},0,2,null,"",{"$f":"IF(T37=\"\",\"\",HLOOKUP(T37,名簿!$AB$8:$BG$58,32,FALSE))","v":""},0,2,null,{"$f":"IF(Y37=\"\",\"\",IF(I37=1,VLOOKUP(Y37,男子種目コード!$A$1:$B$29,2,FALSE),IF(I37=2,VLOOKUP(Y37,女子種目コード!$A$1:$B$30,2,FALSE))))","v":""},null,0,2,null,{"$f":"IF(AD37=\"\",\"\",IF(I37=1,VLOOKUP(AD37,男子種目コード!$A$78:$B$80,2,FALSE),IF(I37=2,VLOOKUP(AD37,女子種目コード!$A$78:$B$80,2,FALSE))))","v":""},null,0,2,null,{"$f":"IF(AI37=\"\",\"\",IF(I37=1,VLOOKUP(AI37,男子種目コード!$A$1:$B$29,2,FALSE),IF(I37=2,VLOOKUP(AI37,女子種目コード!$A$1:$B$30,2,FALSE))))","v":""},null,0,2,null,null,null,null,"",0,0,"","400m",{"$f":"COUNTIF($P$7:$P$56,42)+COUNTIF($U$7:$U$56,42)","v":0},42,null,null,null,null,null,null,null,null,0,"",""]
[null,{"$f":"名簿!Q40","v":""},null,null,{"$f":"名簿!E40","v":0},{"$f":"名簿!BN40","v":""},{"$f":"名簿!Z40","v":""},"",{"$f":"名簿!O40","v":""},{"$f":"名簿!I40","v":0},{"$f":"名簿!K40","v":0},{"$f":"名簿!BQ40","v":"00"},{"$f":"名簿!R40","v":""},{"$f":"名簿!D40","v":0},null,"",{"$f":"IF(O38=\"\",\"\",HLOOKUP(O38,名簿!$AB$8:$BG$58,33,FALSE))","v":""},0,2,null,"",{"$f":"IF(T38=\"\",\"\",HLOOKUP(T38,名簿!$AB$8:$BG$58,33,FALSE))","v":""},0,2,null,{"$f":"IF(Y38=\"\",\"\",IF(I38=1,VLOOKUP(Y38,男子種目コード!$A$1:$B$29,2,FALSE),IF(I38=2,VLOOKUP(Y38,女子種目コード!$A$1:$B$30,2,FALSE))))","v":""},null,0,2,null,{"$f":"IF(AD38=\"\",\"\",IF(I38=1,VLOOKUP(AD38,男子種目コード!$A$78:$B$80,2,FALSE),IF(I38=2,VLOOKUP(AD38,女子種目コード!$A$78:$B$80,2,FALSE))))","v":""},null,0,2,null,{"$f":"IF(AI38=\"\",\"\",IF(I38=1,VLOOKUP(AI38,男子種目コード!$A$1:$B$29,2,FALSE),IF(I38=2,VLOOKUP(AI38,女子種目コード!$A$1:$B$30,2,FALSE))))","v":""},null,0,2,null,null,null,null,"",0,0,"","800m",{"$f":"COUNTIF($P$7:$P$56,43)+COUNTIF($U$7:$U$56,43)","v":0},43,null,null,null,null,null,null,null,null,0,"",""]
[null,{"$f":"名簿!Q41","v":""},null,null,{"$f":"名簿!E41","v":0},{"$f":"名簿!BN41","v":""},{"$f":"名簿!Z41","v":""},"",{"$f":"名簿!O41","v":""},{"$f":"名簿!I41","v":0},{"$f":"名簿!K41","v":0},{"$f":"名簿!BQ41","v":"00"},{"$f":"名簿!R41","v":""},{"$f":"名簿!D41","v":0},null,{"$f":"IF(O39=\"\",\"\",IF(I39=1,VLOOKUP(O39,$AV$8:$AX$32,3,FALSE),IF(I39=2,VLOOKUP(O39,$AV$35:$AX$54,3,FALSE))))","v":""},{"$f":"IF(O39=\"\",\"\",HLOOKUP(O39,名簿!$AB$8:$BG$58,34,FALSE))","v":""},0,2,null,{"$f":"IF(T39=\"\",\"\",IF(I39=1,VLOOKUP(T39,$AV$8:$AX$32,3,FALSE),IF(I39=2,VLOOKUP(T39,$AV$35:$AX$54,3,FALSE))))","v":""},{"$f":"IF(T39=\"\",\"\",HLOOKUP(T39,名簿!$AB$8:$BG$58,34,FALSE))","v":""},0,2,null,{"$f":"IF(Y39=\"\",\"\",IF(I39=1,VLOOKUP(Y39,男子種目コード!$A$1:$B$29,2,FALSE),IF(I39=2,VLOOKUP(Y39,女子種目コード!$A$1:$B$30,2,FALSE))))","v":""},null,0,2,null,{"$f":"IF(AD39=\"\",\"\",IF(I39=1,VLOOKUP(AD39,男子種目コード!$A$78:$B$80,2,FALSE),IF(I39=2,VLOOKUP(AD39,女子種目コード!$A$78:$B$80,2,FALSE))))","v":""},null,0,2,null,{"$f":"IF(AI39=\"\",\"\",IF(I39=1,VLOOKUP(AI39,男子種目コード!$A$1:$B$29,2,FALSE),IF(I39=2,VLOOKUP(AI39,女子種目コード!$A$1:$B$30,2,FALSE))))","v":""},null,0,2,null,null,null,null,"",{"$f":"IF(OR(AR39=1,T39=\"\"),0,1)","v":0},{"$f":"IF(OR(AR39=1,AS39=1,AD39=\"\"),0,1)","v":0},"","1500m",{"$f":"COUNTIF($P$7:$P$56,44)+COUNTIF($U$7:$U$56,44)","v":0},44,null,null,null,null,null,null,null,null,0,{"$f":"IF(I39=1,BG39,\"\")","v":""},{"$f":"IF(I39=2,BG39,\"\")","v":""}]
[null,{"$f":"名簿!Q42","v":""},null,null,{"$f":"名簿!E42","v":0},{"$f":"名簿!BN42","v":""},{"$f":"名簿!Z42","v":""},"",{"$f":"名簿!O42","v":""},{"$f":"名簿!I42","v":0},{"$f":"名簿!K42","v":0},{"$f":"名簿!BQ42","v":"00"},{"$f":"名簿!R42","v":""},{"$f":"名簿!D42","v":0},null,"",{"$f":"IF(O40=\"\",\"\",HLOOKUP(O40,名簿!$AB$8:$BG$58,35,FALSE))","v":""},0,2,null,"",{"$f":"IF(T40=\"\",\"\",HLOOKUP(T40,名簿!$AB$8:$BG$58,35,FALSE))","v":""},0,2,null,{"$f":"IF(Y40=\"\",\"\",IF(I40=1,VLOOKUP(Y40,男子種目コード!$A$1:$B$29,2,FALSE),IF(I40=2,VLOOKUP(Y40,女子種目コード!$A$1:$B$30,2,FALSE))))","v":""},null,0,2,null,{"$f":"IF(AD40=\"\",\"\",IF(I40=1,VLOOKUP(AD40,男子種目コード!$A$78:$B$80,2,FALSE),IF(I40=2,VLOOKUP(AD40,女子種目コード!$A$78:$B$80,2,FALSE))))","v":""},null,0,2,null,{"$f":"IF(AI40=\"\",\"\",IF(I40=1,VLOOKUP(AI40,男子種目コード!$A$1:$B$29,2,FALSE),IF(I40=2,VLOOKUP(AI40,女子種目コード!$A$1:$B$30,2,FALSE))))","v":""},null,0,2,null,null,null,null,"",0,0,"","3000m",{"$f":"COUNTIF($P$7:$P$56,64)+COUNTIF($U$7:$U$56,64)","v":0},64,null,null,null,null,null,null,null,null,0,"",""]
[null,{"$f":"名簿!Q43","v":""},null,null,{"$f":"名簿!E43","v":0},{"$f":"名簿!BN43","v":""},{"$f":"名簿!Z43","v":""},"",{"$f":"名簿!O43","v":""},{"$f":"名簿!I43","v":0},{"$f":"名簿!K43","v":0},{"$f":"名簿!BQ43","v":"00"},{"$f":"名簿!R43","v":""},{"$f":"名簿!D43","v":0},null,"",{"$f":"IF(O41=\"\",\"\",HLOOKUP(O41,名簿!$AB$8:$BG$58,36,FALSE))","v":""},0,2,null,"",{"$f":"IF(T41=\"\",\"\",HLOOKUP(T41,名簿!$AB$8:$BG$58,36,FALSE))","v":""},0,2,null,{"$f":"IF(Y41=\"\",\"\",IF(I41=1,VLOOKUP(Y41,男子種目コード!$A$1:$B$29,2,FALSE),IF(I41=2,VLOOKUP(Y41,女子種目コード!$A$1:$B$30,2,FALSE))))","v":""},null,0,2,null,{"$f":"IF(AD41=\"\",\"\",IF(I41=1,VLOOKUP(AD41,男子種目コード!$A$78:$B$80,2,FALSE),IF(I41=2,VLOOKUP(AD41,女子種目コード!$A$78:$B$80,2,FALSE))))","v":""},null,0,2,null,{"$f":"IF(AI41=\"\",\"\",IF(I41=1,VLOOKUP(AI41,男子種目コード!$A$1:$B$29,2,FALSE),IF(I41=2,VLOOKUP(AI41,女子種目コード!$A$1:$B$30,2,FALSE))))","v":""},null,0,2,null,null,null,null,"",0,0,"","5000m",{"$f":"COUNTIF($P$7:$P$56,45)+COUNTIF($U$7:$U$56,45)","v":0},46,null,null,null,null,null,null,null,null,0,"",""]
[null,{"$f":"名簿!Q44","v":""},null,null,{"$f":"名簿!E44","v":0},{"$f":"名簿!BN44","v":""},{"$f":"名簿!Z44","v":""},"",{"$f":"名簿!O44","v":""},{"$f":"名簿!I44","v":0},{"$f":"名簿!K44","v":0},{"$f":"名簿!BQ44","v":"00"},{"$f":"名簿!R44","v":""},{"$f":"名簿!D44","v":0},null,"",{"$f":"IF(O42=\"\",\"\",HLOOKUP(O42,名簿!$AB$8:$BG$58,37,FALSE))","v":""},0,2,null,"",{"$f":"IF(T42=\"\",\"\",HLOOKUP(T42,名簿!$AB$8:$BG$58,37,FALSE))","v":""},0,2,null,{"$f":"IF(Y42=\"\",\"\",IF(I42=1,VLOOKUP(Y42,男子種目コード!$A$1:$B$29,2,FALSE),IF(I42=2,VLOOKUP(Y42,女子種目コード!$A$1:$B$30,2,FALSE))))","v":""},null,0,2,null,{"$f":"IF(AD42=\"\",\"\",IF(I42=1,VLOOKUP(AD42,男子種目コード!$A$78:$B$80,2,FALSE),IF(I42=2,VLOOKUP(AD42,女子種目コード!$A$78:$B$80,2,FALSE))))","v":""},null,0,2,null,{"$f":"IF(AI42=\"\",\"\",IF(I42=1,VLOOKUP(AI42,男子種目コード!$A$1:$B$29,2,FALSE),IF(I42=2,VLOOKUP(AI42,女子種目コード!$A$1:$B$30,2,FALSE))))","v":""},null,0,2,null,null,null,null,"",0,0,"","10000m",{"$f":"COUNTIF($P$7:$P$56,47)+COUNTIF($U$7:$U$56,47)","v":0},47,null,null,null,null,null,null,null,null,0,"",""]
[null,{"$f":"名簿!Q45","v":""},null,null,{"$f":"名簿!E45","v":0},{"$f":"名簿!BN45","v":""},{"$f":"名簿!Z45","v":""},"",{"$f":"名簿!O45","v":""},{"$f":"名簿!I45","v":0},{"$f":"名簿!K45","v":0},{"$f":"名簿!BQ45","v":"00"},{"$f":"名簿!R45","v":""},{"$f":"名簿!D45","v":0},null,"",{"$f":"IF(O43=\"\",\"\",HLOOKUP(O43,名簿!$AB$8:$BG$58,38,FALSE))","v":""},0,2,null,"",{"$f":"IF(T43=\"\",\"\",HLOOKUP(T43,名簿!$AB$8:$BG$58,38,FALSE))","v":""},0,2,null,{"$f":"IF(Y43=\"\",\"\",IF(I43=1,VLOOKUP(Y43,男子種目コード!$A$1:$B$29,2,FALSE),IF(I43=2,VLOOKUP(Y43,女子種目コード!$A$1:$B$30,2,FALSE))))","v":""},null,0,2,null,{"$f":"IF(AD43=\"\",\"\",IF(I43=1,VLOOKUP(AD43,男子種目コード!$A$78:$B$80,2,FALSE),IF(I43=2,VLOOKUP(AD43,女子種目コード!$A$78:$B$80,2,FALSE))))","v":""},null,0,2,null,{"$f":"IF(AI43=\"\",\"\",IF(I43=1,VLOOKUP(AI43,男子種目コード!$A$1:$B$29,2,FALSE),IF(I43=2,VLOOKUP(AI43,女子種目コード!$A$1:$B$30,2,FALSE))))","v":""},null,0,2,null,null,null,null,"",0,0,"","100mH",{"$f":"COUNTIF($P$7:$P$56,48)+COUNTIF($U$7:$U$56,48)","v":0},48,null,null,null,null,null,null,null,null,0,"",""]
[null,{"$f":"名簿!Q46","v":""},null,null,{"$f":"名簿!E46","v":0},{"$f":"名簿!BN46","v":""},{"$f":"名簿!Z46","v":""},"",{"$f":"名簿!O46","v":""},{"$f":"名簿!I46","v":0},{"$f":"名簿!K46","v":0},{"$f":"名簿!BQ46","v":"00"},{"$f":"名簿!R46","v":""},{"$f":"名簿!D46","v":0},null,"",{"$f":"IF(O44=\"\",\"\",HLOOKUP(O44,名簿!$AB$8:$BG$58,39,FALSE))","v":""},0,2,null,"",{"$f":"IF(T44=\"\",\"\",HLOOKUP(T44,名簿!$AB$8:$BG$58,39,FALSE))","v":""},0,2,null,{"$f":"IF(Y44=\"\",\"\",IF(I44=1,VLOOKUP(Y44,男子種目コード!$A$1:$B$29,2,FALSE),IF(I44=2,VLOOKUP(Y44,女子種目コード!$A$1:$B$30,2,FALSE))))","v":""},null,0,2,null,{"$f":"IF(AD44=\"\",\"\",IF(I44=1,VLOOKUP(AD44,男子種目コード!$A$78:$B$80,2,FALSE),IF(I44=2,VLOOKUP(AD44,女子種目コード!$A$78:$B$80,2,FALSE))))","v":""},null,0,2,null,{"$f":"IF(AI44=\"\",\"\",IF(I44=1,VLOOKUP(AI44,男子種目コード!$A$1:$B$29,2,FALSE),IF(I44=2,VLOOKUP(AI44,女子種目コード!$A$1:$B$30,2,FALSE))))","v":""},null,0,2,null,null,null,null,"",0,0,"","400mH",{"$f":"COUNTIF($P$7:$P$56,49)+COUNTIF($U$7:$U$56,49)","v":0},49,null,null,null,null,null,null,null,null,0,"",""]
[null,{"$f":"名簿!Q47","v":""},null,null,{"$f":"名簿!E47","v":0},{"$f":"名簿!BN47","v":""},{"$f":"名簿!Z47","v":""},"",{"$f":"名簿!O47","v":""},{"$f":"名簿!I47","v":0},{"$f":"名簿!K47","v":0},{"$f":"名簿!BQ47","v":"00"},{"$f":"名簿!R47","v":""},{"$f":"名簿!D47","v":0},null,"",{"$f":"IF(O45=\"\",\"\",HLOOKUP(O45,名簿!$AB$8:$BG$58,40,FALSE))","v":""},0,2,null,"",{"$f":"IF(T45=\"\",\"\",HLOOKUP(T45,名簿!$AB$8:$BG$58,40,FALSE))","v":""},0,2,null,{"$f":"IF(Y45=\"\",\"\",IF(I45=1,VLOOKUP(Y45,男子種目コード!$A$1:$B$29,2,FALSE),IF(I45=2,VLOOKUP(Y45,女子種目コード!$A$1:$B$30,2,FALSE))))","v":""},null,0,2,null,{"$f":"IF(AD45=\"\",\"\",IF(I45=1,VLOOKUP(AD45,男子種目コード!$A$78:$B$80,2,FALSE),IF(I45=2,VLOOKUP(AD45,女子種目コード!$A$78:$B$80,2,FALSE))))","v":""},null,0,2,null,{"$f":"IF(AI45=\"\",\"\",IF(I45=1,VLOOKUP(AI45,男子種目コード!$A$1:$B$29,2,FALSE),IF(I45=2,VLOOKUP(AI45,女子種目コード!$A$1:$B$30,2,FALSE))))","v":""},null,0,2,null,null,null,null,"",0,0,"","5000mW",{"$f":"COUNTIF($P$7:$P$56,52)+COUNTIF($U$7:$U$56,52)","v":0},52,null,null,null,null,null,null,null,null,0,"",""]
[null,{"$f":"名簿!Q48","v":""},null,null,{"$f":"名簿!E48","v":0},{"$f":"名簿!BN48","v":""},{"$f":"名簿!Z48","v":""},"",{"$f":"名簿!O48","v":""},{"$f":"名簿!I48","v":0},{"$f":"名簿!K48","v":0},{"$f":"名簿!BQ48","v":"00"},{"$f":"名簿!R48","v":""},{"$f":"名簿!D48","v":0},null,"",{"$f":"IF(O46=\"\",\"\",HLOOKUP(O46,名簿!$AB$8:$BG$58,41,FALSE))","v":""},0,2,null,"",{"$f":"IF(T46=\"\",\"\",HLOOKUP(T46,名簿!$AB$8:$BG$58,41,FALSE))","v":""},0,2,null,{"$f":"IF(Y46=\"\",\"\",IF(I46=1,VLOOKUP(Y46,男子種目コード!$A$1:$B$29,2,FALSE),IF(I46=2,VLOOKUP(Y46,女子種目コード!$A$1:$B$30,2,FALSE))))","v":""},null,0,2,null,{"$f":"IF(AD46=\"\",\"\",IF(I46=1,VLOOKUP(AD46,男子種目コード!$A$78:$B$80,2,FALSE),IF(I46=2,VLOOKUP(AD46,女子種目コード!$A$78:$B$80,2,FALSE))))","v":""},null,0,2,null,{"$f":"IF(AI46=\"\",\"\",IF(I46=1,VLOOKUP(AI46,男子種目コード!$A$1:$B$29,2,FALSE),IF(I46=2,VLOOKUP(AI46,女子種目コード!$A$1:$B$30,2,FALSE))))","v":""},null,0,2,null,null,null,null,"",0,0,"","走高跳",{"$f":"COUNTIF($P$7:$P$56,55)+COUNTIF($U$7:$U$56,55)","v":0},55,null,null,null,null,null,null,null,null,0,"",""]
[null,{"$f":"名簿!Q49","v":""},null,null,{"$f":"名簿!E49","v":0},{"$f":"名簿!BN49","v":""},{"$f":"名簿!Z49","v":""},"",{"$f":"名簿!O49","v":""},{"$f":"名簿!I49","v":0},{"$f":"名簿!K49","v":0},{"$f":"名簿!BQ49","v":"00"},{"$f":"名簿!R49","v":""},{"$f":"名簿!D49","v":0},null,"",{"$f":"IF(O47=\"\",\"\",HLOOKUP(O47,名簿!$AB$8:$BG$58,42,FALSE))","v":""},0,2,null,"",{"$f":"IF(T47=\"\",\"\",HLOOKUP(T47,名簿!$AB$8:$BG$58,42,FALSE))","v":""},0,2,null,{"$f":"IF(Y47=\"\",\"\",IF(I47=1,VLOOKUP(Y47,男子種目コード!$A$1:$B$29,2,FALSE),IF(I47=2,VLOOKUP(Y47,女子種目コード!$A$1:$B$30,2,FALSE))))","v":""},null,0,2,null,{"$f":"IF(AD47=\"\",\"\",IF(I47=1,VLOOKUP(AD47,男子種目コード!$A$78:$B$80,2,FALSE),IF(I47=2,VLOOKUP(AD47,女子種目コード!$A$78:$B$80,2,FALSE))))","v":""},null,0,2,null,{"$f":"IF(AI47=\"\",\"\",IF(I47=1,VLOOKUP(AI47,男子種目コード!$A$1:$B$29,2,FALSE),IF(I47=2,VLOOKUP(AI47,女子種目コード!$A$1:$B$30,2,FALSE))))","v":""},null,0,2,null,null,null,null,"",0,0,"","棒高跳",{"$f":"COUNTIF($P$7:$P$56,56)+COUNTIF($U$7:$U$56,56)","v":0},56,null,null,null,null,null,null,null,null,0,"",""]
[null,{"$f":"名簿!Q50","v":""},null,null,{"$f":"名簿!E50","v":0},{"$f":"名簿!BN50","v":""},{"$f":"名簿!Z50","v":""},"",{"$f":"名簿!O50","v":""},{"$f":"名簿!I50","v":0},{"$f":"名簿!K50","v":0},{"$f":"名簿!BQ50","v":"00"},{"$f":"名簿!R50","v":""},{"$f":"名簿!D50","v":0},null,"",{"$f":"IF(O48=\"\",\"\",HLOOKUP(O48,名簿!$AB$8:$BG$58,43,FALSE))","v":""},0,2,null,"",{"$f":"IF(T48=\"\",\"\",HLOOKUP(T48,名簿!$AB$8:$BG$58,43,FALSE))","v":""},0,2,null,{"$f":"IF(Y48=\"\",\"\",IF(I48=1,VLOOKUP(Y48,男子種目コード!$A$1:$B$29,2,FALSE),IF(I48=2,VLOOKUP(Y48,女子種目コード!$A$1:$B$30,2,FALSE))))","v":""},null,0,2,null,{"$f":"IF(AD48=\"\",\"\",IF(I48=1,VLOOKUP(AD48,男子種目コード!$A$78:$B$80,2,FALSE),IF(I48=2,VLOOKUP(AD48,女子種目コード!$A$78:$B$80,2,FALSE))))","v":""},null,0,2,null,{"$f":"IF(AI48=\"\",\"\",IF(I48=1,VLOOKUP(AI48,男子種目コード!$A$1:$B$29,2,FALSE),IF(I48=2,VLOOKUP(AI48,女子種目コード!$A$1:$B$30,2,FALSE))))","v":""},null,0,2,null,null,null,null,"",0,0,"","走幅跳",{"$f":"COUNTIF($P$7:$P$56,57)+COUNTIF($U$7:$U$56,57)","v":0},57,null,null,null,null,null,null,null,null,0,"",""]
[null,{"$f":"名簿!Q51","v":""},null,null,{"$f":"名簿!E51","v":0},{"$f":"名簿!BN51","v":""},{"$f":"名簿!Z51","v":""},"",{"$f":"名簿!O51","v":""},{"$f":"名簿!I51","v":0},{"$f":"名簿!K51","v":0},{"$f":"名簿!BQ51","v":"00"},{"$f":"名簿!R51","v":""},{"$f":"名簿!D51","v":0},null,"",{"$f":"IF(O49=\"\",\"\",HLOOKUP(O49,名簿!$AB$8:$BG$58,44,FALSE))","v":""},0,2,null,"",{"$f":"IF(T49=\"\",\"\",HLOOKUP(T49,名簿!$AB$8:$BG$58,44,FALSE))","v":""},0,2,null,{"$f":"IF(Y49=\"\",\"\",IF(I49=1,VLOOKUP(Y49,男子種目コード!$A$1:$B$29,2,FALSE),IF(I49=2,VLOOKUP(Y49,女子種目コード!$A$1:$B$30,2,FALSE))))","v":""},null,0,2,null,{"$f":"IF(AD49=\"\",\"\",IF(I49=1,VLOOKUP(AD49,男子種目コード!$A$78:$B$80,2,FALSE),IF(I49=2,VLOOKUP(AD49,女子種目コード!$A$78:$B$80,2,FALSE))))","v":""},null,0,2,null,{"$f":"IF(AI49=\"\",\"\",IF(I49=1,VLOOKUP(AI49,男子種目コード!$A$1:$B$29,2,FALSE),IF(I49=2,VLOOKUP(AI49,女子種目コード!$A$1:$B$30,2,FALSE))))","v":""},null,0,2,null,null,null,null,"",0,0,"","三段跳",{"$f":"COUNTIF($P$7:$P$56,58)+COUNTIF($U$7:$U$56,58)","v":0},58,null,null,null,null,null,null,null,null,0,"",""]
[null,{"$f":"名簿!Q52","v":""},null,null,{"$f":"名簿!E52","v":0},{"$f":"名簿!BN52","v":""},{"$f":"名簿!Z52","v":""},"",{"$f":"名簿!O52","v":""},{"$f":"名簿!I52","v":0},{"$f":"名簿!K52","v":0},{"$f":"名簿!BQ52","v":"00"},{"$f":"名簿!R52","v":""},{"$f":"名簿!D52","v":0},null,"",{"$f":"IF(O50=\"\",\"\",HLOOKUP(O50,名簿!$AB$8:$BG$58,45,FALSE))","v":""},0,2,null,"",{"$f":"IF(T50=\"\",\"\",HLOOKUP(T50,名簿!$AB$8:$BG$58,45,FALSE))","v":""},0,2,null,{"$f":"IF(Y50=\"\",\"\",IF(I50=1,VLOOKUP(Y50,男子種目コード!$A$1:$B$29,2,FALSE),IF(I50=2,VLOOKUP(Y50,女子種目コード!$A$1:$B$30,2,FALSE))))","v":""},null,0,2,null,{"$f":"IF(AD50=\"\",\"\",IF(I50=1,VLOOKUP(AD50,男子種目コード!$A$78:$B$80,2,FALSE),IF(I50=2,VLOOKUP(AD50,女子種目コード!$A$78:$B$80,2,FALSE))))","v":""},null,0,2,null,{"$f":"IF(AI50=\"\",\"\",IF(I50=1,VLOOKUP(AI50,男子種目コード!$A$1:$B$29,2,FALSE),IF(I50=2,VLOOKUP(AI50,女子種目コード!$A$1:$B$30,2,FALSE))))","v":""},null,0,2,null,null,null,null,"",0,0,"","砲丸投",{"$f":"COUNTIF($P$7:$P$56,59)+COUNTIF($U$7:$U$56,59)","v":0},59,null,null,null,null,null,null,null,null,0,"",""]
[null,{"$f":"名簿!Q53","v":""},null,null,{"$f":"名簿!E53","v":0},{"$f":"名簿!BN53","v":""},{"$f":"名簿!Z53","v":""},"",{"$f":"名簿!O53","v":""},{"$f":"名簿!I53","v":0},{"$f":"名簿!K53","v":0},{"$f":"名簿!BQ53","v":"00"},{"$f":"名簿!R53","v":""},{"$f":"名簿!D53","v":0},null,"",{"$f":"IF(O51=\"\",\"\",HLOOKUP(O51,名簿!$AB$8:$BG$58,46,FALSE))","v":""},0,2,null,"",{"$f":"IF(T51=\"\",\"\",HLOOKUP(T51,名簿!$AB$8:$BG$58,46,FALSE))","v":""},0,2,null,{"$f":"IF(Y51=\"\",\"\",IF(I51=1,VLOOKUP(Y51,男子種目コード!$A$1:$B$29,2,FALSE),IF(I51=2,VLOOKUP(Y51,女子種目コード!$A$1:$B$30,2,FALSE))))","v":""},null,0,2,null,{"$f":"IF(AD51=\"\",\"\",IF(I51=1,VLOOKUP(AD51,男子種目コード!$A$78:$B$80,2,FALSE),IF(I51=2,VLOOKUP(AD51,女子種目コード!$A$78:$B$80,2,FALSE))))","v":""},null,0,2,null,{"$f":"IF(AI51=\"\",\"\",IF(I51=1,VLOOKUP(AI51,男子種目コード!$A$1:$B$29,2,FALSE),IF(I51=2,VLOOKUP(AI51,女子種目コード!$A$1:$B$30,2,FALSE))))","v":""},null,0,2,null,null,null,null,"",0,0,"","円盤投",{"$f":"COUNTIF($P$7:$P$56,60)+COUNTIF($U$7:$U$56,60)","v":0},60,null,null,null,null,null,null,null,null,0,"",""]
[null,{"$f":"名簿!Q54","v":""},null,null,{"$f":"名簿!E54","v":0},{"$f":"名簿!BN54","v":""},{"$f":"名簿!Z54","v":""},"",{"$f":"名簿!O54","v":""},{"$f":"名簿!I54","v":0},{"$f":"名簿!K54","v":0},{"$f":"名簿!BQ54","v":"00"},{"$f":"名簿!R54","v":""},{"$f":"名簿!D54","v":0},null,"",{"$f":"IF(O52=\"\",\"\",HLOOKUP(O52,名簿!$AB$8:$BG$58,47,FALSE))","v":""},0,2,null,"",{"$f":"IF(T52=\"\",\"\",HLOOKUP(T52,名簿!$AB$8:$BG$58,47,FALSE))","v":""},0,2,null,{"$f":"IF(Y52=\"\",\"\",IF(I52=1,VLOOKUP(Y52,男子種目コード!$A$1:$B$29,2,FALSE),IF(I52=2,VLOOKUP(Y52,女子種目コード!$A$1:$B$30,2,FALSE))))","v":""},null,0,2,null,{"$f":"IF(AD52=\"\",\"\",IF(I52=1,VLOOKUP(AD52,男子種目コード!$A$78:$B$80,2,FALSE),IF(I52=2,VLOOKUP(AD52,女子種目コード!$A$78:$B$80,2,FALSE))))","v":""},null,0,2,null,{"$f":"IF(AI52=\"\",\"\",IF(I52=1,VLOOKUP(AI52,男子種目コード!$A$1:$B$29,2,FALSE),IF(I52=2,VLOOKUP(AI52,女子種目コード!$A$1:$B$30,2,FALSE))))","v":""},null,0,2,null,null,null,null,"",0,0,"","ハンマー投",{"$f":"COUNTIF($P$7:$P$56,61)+COUNTIF($U$7:$U$56,61)","v":0},61,null,null,null,null,null,null,null,null,0,"",""]
[null,{"$f":"名簿!Q55","v":""},null,null,{"$f":"名簿!E55","v":0},{"$f":"名簿!BN55","v":""},{"$f":"名簿!Z55","v":""},"",{"$f":"名簿!O55","v":""},{"$f":"名簿!I55","v":0},{"$f":"名簿!K55","v":0},{"$f":"名簿!BQ55","v":"00"},{"$f":"名簿!R55","v":""},{"$f":"名簿!D55","v":0},null,"",{"$f":"IF(O53=\"\",\"\",HLOOKUP(O53,名簿!$AB$8:$BG$58,48,FALSE))","v":""},0,2,null,"",{"$f":"IF(T53=\"\",\"\",HLOOKUP(T53,名簿!$AB$8:$BG$58,48,FALSE))","v":""},0,2,null,{"$f":"IF(Y53=\"\",\"\",IF(I53=1,VLOOKUP(Y53,男子種目コード!$A$1:$B$29,2,FALSE),IF(I53=2,VLOOKUP(Y53,女子種目コード!$A$1:$B$30,2,FALSE))))","v":""},null,0,2,null,{"$f":"IF(AD53=\"\",\"\",IF(I53=1,VLOOKUP(AD53,男子種目コード!$A$78:$B$80,2,FALSE),IF(I53=2,VLOOKUP(AD53,女子種目コード!$A$78:$B$80,2,FALSE))))","v":""},null,0,2,null,{"$f":"IF(AI53=\"\",\"\",IF(I53=1,VLOOKUP(AI53,男子種目コード!$A$1:$B$29,2,FALSE),IF(I53=2,VLOOKUP(AI53,女子種目コード!$A$1:$B$30,2,FALSE))))","v":""},null,0,2,null,null,null,null,"",0,0,"","やり投",{"$f":"COUNTIF($P$7:$P$56,62)+COUNTIF($U$7:$U$56,62)","v":0},62,null,null,null,null,null,null,null,null,0,"",""]
[null,{"$f":"名簿!Q56","v":""},null,null,{"$f":"名簿!E56","v":0},{"$f":"名簿!BN56","v":""},{"$f":"名簿!Z56","v":""},"",{"$f":"名簿!O56","v":""},{"$f":"名簿!I56","v":0},{"$f":"名簿!K56","v":0},{"$f":"名簿!BQ56","v":"00"},{"$f":"名簿!R56","v":""},{"$f":"名簿!D56","v":0},null,"",{"$f":"IF(O54=\"\",\"\",HLOOKUP(O54,名簿!$AB$8:$BG$58,49,FALSE))","v":""},0,2,null,"",{"$f":"IF(T54=\"\",\"\",HLOOKUP(T54,名簿!$AB$8:$BG$58,49,FALSE))","v":""},0,2,null,{"$f":"IF(Y54=\"\",\"\",IF(I54=1,VLOOKUP(Y54,男子種目コード!$A$1:$B$29,2,FALSE),IF(I54=2,VLOOKUP(Y54,女子種目コード!$A$1:$B$30,2,FALSE))))","v":""},null,0,2,null,{"$f":"IF(AD54=\"\",\"\",IF(I54=1,VLOOKUP(AD54,男子種目コード!$A$78:$B$80,2,FALSE),IF(I54=2,VLOOKUP(AD54,女子種目コード!$A$78:$B$80,2,FALSE))))","v":""},null,0,2,null,{"$f":"IF(AI54=\"\",\"\",IF(I54=1,VLOOKUP(AI54,男子種目コード!$A$1:$B$29,2,FALSE),IF(I54=2,VLOOKUP(AI54,女子種目コード!$A$1:$B$30,2,FALSE))))","v":""},null,0,2,null,null,null,null,"",0,0,"","少年B100mYH",{"$f":"COUNTIF($P$7:$P$56,65)+COUNTIF($U$7:$U$56,65)","v":0},65,null,null,null,null,null,null,null,null,0,"",""]
[null,{"$f":"名簿!Q57","v":""},null,null,{"$f":"名簿!E57","v":0},{"$f":"名簿!BN57","v":""},{"$f":"名簿!Z57","v":""},"",{"$f":"名簿!O57","v":""},{"$f":"名簿!I57","v":0},{"$f":"名簿!K57","v":0},{"$f":"名簿!BQ57","v":"00"},{"$f":"名簿!R57","v":""},{"$f":"名簿!D57","v":0},null,"",{"$f":"IF(O55=\"\",\"\",HLOOKUP(O55,名簿!$AB$8:$BG$58,50,FALSE))","v":""},0,2,null,"",{"$f":"IF(T55=\"\",\"\",HLOOKUP(T55,名簿!$AB$8:$BG$58,50,FALSE))","v":""},0,2,null,{"$f":"IF(Y55=\"\",\"\",IF(I55=1,VLOOKUP(Y55,男子種目コード!$A$1:$B$29,2,FALSE),IF(I55=2,VLOOKUP(Y55,女子種目コード!$A$1:$B$30,2,FALSE))))","v":""},null,0,2,null,{"$f":"IF(AD55=\"\",\"\",IF(I55=1,VLOOKUP(AD55,男子種目コード!$A$78:$B$80,2,FALSE),IF(I55=2,VLOOKUP(AD55,女子種目コード!$A$78:$B$80,2,FALSE))))","v":""},null,0,2,null,{"$f":"IF(AI55=\"\",\"\",IF(I55=1,VLOOKUP(AI55,男子種目コード!$A$1:$B$29,2,FALSE),IF(I55=2,VLOOKUP(AI55,女子種目コード!$A$1:$B$30,2,FALSE))))","v":""},null,0,2,null,null,null,null,"",0,0,"","計",{"$f":"SUM($AW$35:$AW$54)","v":0},null,null,null,null,null,null,null,null,null,0,"",""]
[null,{"$f":"名簿!Q58","v":""},null,null,{"$f":"名簿!E58","v":0},{"$f":"名簿!BN58","v":""},{"$f":"名簿!Z58","v":""},"",{"$f":"名簿!O58","v":""},{"$f":"名簿!I58","v":0},{"$f":"名簿!K58","v":0},{"$f":"名簿!BQ58","v":"00"},{"$f":"名簿!R58","v":""},{"$f":"名簿!D58","v":0},null,"",{"$f":"IF(O56=\"\",\"\",HLOOKUP(O56,名簿!$AB$8:$BG$58,51,FALSE))","v":""},0,2,null,"",{"$f":"IF(T56=\"\",\"\",HLOOKUP(T56,名簿!$AB$8:$BG$58,51,FALSE))","v":""},0,2,null,{"$f":"IF(Y56=\"\",\"\",IF(I56=1,VLOOKUP(Y56,男子種目コード!$A$1:$B$29,2,FALSE),IF(I56=2,VLOOKUP(Y56,女子種目コード!$A$1:$B$30,2,FALSE))))","v":""},null,0,2,null,{"$f":"IF(AD56=\"\",\"\",IF(I56=1,VLOOKUP(AD56,男子種目コード!$A$78:$B$80,2,FALSE),IF(I56=2,VLOOKUP(AD56,女子種目コード!$A$78:$B$80,2,FALSE))))","v":""},null,0,2,null,{"$f":"IF(AI56=\"\",\"\",IF(I56=1,VLOOKUP(AI56,男子種目コード!$A$1:$B$29,2,FALSE),IF(I56=2,VLOOKUP(AI56,女子種目コード!$A$1:$B$30,2,FALSE))))","v":""},null,0,2,null,null,null,null,"",0,0,"","合計",{"$f":"AW33+AW55","v":0},null,null,null,null,null,null,null,null,null,0,"",""]
[null,null,null,null,null,null,null,null,null,null,null,null,null,23,null,null,null,null,0,2,null,null,null,null,null,null,null,null,null,null,null,{"$f":"SUM(AR7:AR56)","v":0},{"$f":"SUM(AS7:AS56)","v":0},{"$f":"SUM(AT7:AT56)","v":0},{"$f":"SUM(AU7:AU56)","v":0}]
[null,null,null,null,null,null,null,null,null,null,null,null,null,23,null,null,null,null,0,2,null,null,null,null,null,null,null,null,null,null,null,{"$f":"SUM(AF57:AH57)","v":0},null,null,{"$f":"(AF57+AI57)","v":0}]

{"sheet":"県選","index":6,"n_rows":73,"n_cols":80,"rows_kept":73,"cut":false,"hidden":false,"merged":[[0,19,0,21],[5,57,5,58],[3,14,3,16]]}
[null,null,null,null,"所属名",{"$f":"IF(名簿!$P$9=\"\",\"\",名簿!$P$9)","v":""},null,null,"三重県選手権",null,null,null,null,null,null,null,null,null,null,"参加人数"]
[null,null,null,null,"所属コード",{"$f":"名簿!$Q$9","v":""},null,null,"個人種目数",null,null,null,null,null,{"$f":"$BB$57","v":0},null,null,null,null,"男子",null,{"$f":"COUNTIF($I$7:$I$56,1)-COUNTIF($BD$7:$BD$56,0)","v":0},null,null,null,null,null,null,null,null,null,null,null,null,null,null,null,null,null,null,null,null,null,null,null,null,null,null,null,null,null,null,null,null,null,null,null,null,"今年度の公認記録がない場合は去年の記録を記載のこと"]
[null,null,null,null,"申込者名",{"$f":"IF(名簿!$E$5=\"\",\"\",名簿!$E$5)","v":""},null,null,"リレー",null,null,null,null,null,{"$f":"$CB$38","v":0},null,null,null,null,"女子",null,{"$f":"COUNTIF($I$7:$I$56,2)-COUNTIF($BE$7:$BE$56,0)","v":0}]
[null,null,null,null,"連絡先",{"$f":"IF(名簿!$I$5=\"\",\"\",名簿!$I$5)","v":""},null,null,"大会参加費",null,null,null,null,null,{"$f":"O2*1000+O3*2000+Q5*800","v":0},null,null,null,null,"計",null,{"$f":"V2+V3","v":0},null,null,null,null,null,null,null,null,null,null,null,null,null,null,null,null,null,null,null,null,null,null,null,null,null,null,null,null,null,null,null,null,null,null,null,null,"過去の記録及び過去の自己ベスト記録は認めません"]
[null,null,null,null,"今年の登録を選手名入力に入力して下さい",null,null,null,null,null,null,null,null,null,"プログラム冊数",null,null,null,null,"冊"]
["競技者コード","所属コード","所属コード２","ナンバーA","ナンバー","名前","カナ名","掲示板名","性別","学年又は年齢","生年","月日","個人所属地コード","陸連ID","1種目","コード","今年度　　　公認記録",null,null,"2種目","コード","今年度　　　公認記録","種目3","コード","記録3",null,null,"4×100R","コード","記録",null,null,"4×400R","コード","記録",null,null,null,null,null,100,null,null,null,null,null,null,null,null,null,100,100,"男子A","個人種目","種目","男子","女子","種目別人数",null,"男子4×100mR　Ａ",null,"男子4×400mR　Ａ",null,"女子4×100mR　Ａ",null,"女子4×400mR　Ａ"]
[{"$f":"AB7","v":0},{"$f":"名簿!Q9","v":""},{"$f":"AG7","v":0},null,{"$f":"名簿!E9","v":0},{"$f":"名簿!BN9","v":""},{"$f":"名簿!Z9","v":""},{"$f":"F7","v":""},{"$f":"名簿!O9","v":""},{"$f":"名簿!I9","v":0},{"$f":"名簿!K9","v":0},{"$f":"名簿!BQ9","v":"00"},{"$f":"名簿!R9","v":""},{"$f":"名簿!D9","v":""},null,{"$f":"IF(O7=\"\",\"\",IF(I7=1,VLOOKUP(O7,男子種目コード!$A$1:$B$33,2,FALSE),IF(I7=2,VLOOKUP(O7,女子種目コード!$A$1:$B$28,2,FALSE))))","v":""},{"$f":"IF(O7=\"\",\"\",HLOOKUP(O7,名簿!$AB$8:$BG$58,2,FALSE))","v":""},0,2,null,{"$f":"IF(T7=\"\",\"\",IF(I7=1,VLOOKUP(T7,男子種目コード!$A$1:$B$33,2,FALSE),IF(I7=2,VLOOKUP(T7,女子種目コード!$A$1:$B$28,2,FALSE))))","v":""},{"$f":"IF(T7=\"\",\"\",HLOOKUP(T7,名簿!$AB$8:$BG$58,2,FALSE))","v":""},null,{"$f":"IF(W7=\"\",\"\",IF(I7=1,VLOOKUP(W7,男子種目コード!$D$2:$E$30,2,FALSE),IF(I7=2,VLOOKUP(W7,女子種目コード!$D$2:$E$30,2,FALSE))))","v":""},null,null,null,null,{"$f":"IF(AB7=\"\",\"\",IF(I7=1,VLOOKUP(AB7,男子種目コード!$A$82:$B$85,2,FALSE),IF(I7=2,VLOOKUP(AB7,女子種目コード!$A$82:$B$85,2,FALSE))))","v":""},null,0,2,null,{"$f":"IF(AG7=\"\",\"\",IF(I7=1,VLOOKUP(AG7,男子種目コード!$A$78:$B$81,2,FALSE),IF(I7=2,VLOOKUP(AG7,女子種目コード!$A$78:$B$81,2,FALSE))))","v":""},null,0,2,0,null,null,200,{"$f":"IF(O7=\"\",\"\",1)","v":""},{"$f":"IF(T7=\"\",\"\",1)","v":""},null,null,{"$f":"IF(O7=\"\",\"\",1)","v":""},{"$f":"IF(OR(AT7=1,T7=\"\"),0,1)","v":0},{"$f":"IF(OR(AT7=1,AU7=1,AB7=\"\"),0,1)","v":0},{"$f":"IF(OR(AT7=1,AU7=1,AV7=1,AG7=\"\"),0,1)","v":0},{"$f":"SUM(AT7:AW7)","v":0},200,200,"男子B",{"$f":"COUNT(P7,U7)","v":0},{"$f":"COUNT(P7,U7,AC7,AH7)","v":0},{"$f":"IF(I7=1,BC7,\"\")","v":""},{"$f":"IF(I7=2,BC7,\"\")","v":""},"男子",null,"記録",null,"記録",null,"記録",null,"記録"]
[{"$f":"AB8","v":0},{"$f":"名簿!Q10","v":""},{"$f":"AG8","v":0},null,{"$f":"名簿!E10","v":0},{"$f":"名簿!BN10","v":""},{"$f":"名簿!Z10","v":""},"",{"$f":"名簿!O10","v":""},{"$f":"名簿!I10","v":0},{"$f":"名簿!K10","v":0},{"$f":"名簿!BQ10","v":"00"},{"$f":"名簿!R10","v":""},{"$f":"名簿!D10","v":""},null,{"$f":"IF(O8=\"\",\"\",IF(I8=1,VLOOKUP(O8,男子種目コード!$A$1:$B$33,2,FALSE),IF(I8=2,VLOOKUP(O8,女子種目コード!$A$1:$B$28,2,FALSE))))","v":""},{"$f":"IF(O8=\"\",\"\",HLOOKUP(O8,名簿!$AB$8:$BG$58,3,FALSE))","v":""},0,2,null,{"$f":"IF(T8=\"\",\"\",IF(I8=1,VLOOKUP(T8,男子種目コード!$A$1:$B$33,2,FALSE),IF(I8=2,VLOOKUP(T8,女子種目コード!$A$1:$B$28,2,FALSE))))","v":""},{"$f":"IF(T8=\"\",\"\",HLOOKUP(T8,名簿!$AB$8:$BG$58,3,FALSE))","v":""},null,{"$f":"IF(W8=\"\",\"\",IF(I8=1,VLOOKUP(W8,男子種目コード!$D$2:$E$30,2,FALSE),IF(I8=2,VLOOKUP(W8,女子種目コード!$D$2:$E$30,2,FALSE))))","v":""},null,null,null,null,{"$f":"IF(AB8=\"\",\"\",IF(I8=1,VLOOKUP(AB8,男子種目コード!$A$82:$B$85,2,FALSE),IF(I8=2,VLOOKUP(AB8,女子種目コード!$A$82:$B$85,2,FALSE))))","v":""},null,0,2,null,{"$f":"IF(AG8=\"\",\"\",IF(I8=1,VLOOKUP(AG8,男子種目コード!$A$78:$B$81,2,FALSE),IF(I8=2,VLOOKUP(AG8,女子種目コード!$A$78:$B$81,2,FALSE))))","v":""},null,0,2,0,null,null,400,{"$f":"IF(O8=\"\",\"\",1)","v":""},{"$f":"IF(T8=\"\",\"\",1)","v":""},null,null,{"$f":"IF(O8=\"\",\"\",1)","v":""},0,0,0,{"$f":"SUM(AT8:AW8)","v":0},400,400,"男子C",{"$f":"COUNT(P8,U8)","v":0},{"$f":"COUNT(P8,U8,AC8,AH8)","v":0},{"$f":"IF(I8=1,BC8,\"\")","v":""},{"$f":"IF(I8=2,BC8,\"\")","v":""},100,{"$f":"COUNTIF($P$7:$P$56,1)+COUNTIF($U$7:$U$56,1)","v":0},{"$f":"IF(ISERROR(BP8),\"\",BP8)","v":""},{"$f":"IF(ISERROR(BQ8),\"\",BQ8)","v":""},{"$f":"IF(ISERROR(BR8),\"\",BR8)","v":""},{"$f":"IF(ISERROR(BS8),\"\",BS8)","v":""},{"$f":"IF(ISERROR(BT8),\"\",BT8)","v":""},{"$f":"IF(ISERROR(BU8),\"\",BU8)","v":""},{"$f":"IF(ISERROR(BV8),\"\",BV8)","v":""},{"$f":"IF(ISERROR(BW8),\"\",BW8)","v":""},{"$f":"VLookUpX(\"男子A\",$A$7:$F$56,1,5)","v":{"$error":"#N/A"}},{"$f":"VLookUpX(\"男子A\",$A$7:$F$56,1,6)","v":{"$error":"#N/A"}},{"$f":"VLookUpX(\"男子A\",$C$7:$F$56,1,3)","v":{"$error":"#N/A"}},{"$f":"VLookUpX(\"男子A\",$C$7:$F$56,1,4)","v":{"$error":"#N/A"}},{"$f":"VLookUpX(\"女子A\",$A$7:$F$56,1,5)","v":{"$error":"#N/A"}},{"$f":"VLookUpX(\"女子A\",$A$7:$F$56,1,6)","v":{"$error":"#N/A"}},{"$f":"VLookUpX(\"女子A\",$C$7:$F$56,1,3)","v":{"$error":"#N/A"}},{"$f":"VLookUpX(\"女子A\",$C$7:$F$56,1,4)","v":{"$error":"#N/A"}},{"$f":"IF(BH8=\"\",\"\",1)","v":""},{"$f":"IF(BJ8=\"\",\"\",1)","v":""},{"$f":"IF(BL8=\"\",\"\",1)","v":""},{"$f":"IF(BN8=\"\",\"\",1)","v":""}]
[0,{"$f":"名簿!Q11","v":""},0,null,{"$f":"名簿!E11","v":0},{"$f":"名簿!BN11","v":""},{"$f":"名簿!Z11","v":""},"",{"$f":"名簿!O11","v":""},{"$f":"名簿!I11","v":0},{"$f":"名簿!K11","v":0},{"$f":"名簿!BQ11","v":"00"},{"$f":"名簿!R11","v":""},{"$f":"名簿!D11","v":""},null,{"$f":"IF(O9=\"\",\"\",IF(I9=1,VLOOKUP(O9,男子種目コード!$A$1:$B$33,2,FALSE),IF(I9=2,VLOOKUP(O9,女子種目コード!$A$1:$B$28,2,FALSE))))","v":""},{"$f":"IF(O9=\"\",\"\",HLOOKUP(O9,名簿!$AB$8:$BG$58,4,FALSE))","v":""},0,2,null,{"$f":"IF(T9=\"\",\"\",IF(I9=1,VLOOKUP(T9,男子種目コード!$A$1:$B$33,2,FALSE),IF(I9=2,VLOOKUP(T9,女子種目コード!$A$1:$B$28,2,FALSE))))","v":""},{"$f":"IF(T9=\"\",\"\",HLOOKUP(T9,名簿!$AB$8:$BG$58,4,FALSE))","v":""},null,{"$f":"IF(W9=\"\",\"\",IF(I9=1,VLOOKUP(W9,男子種目コード!$D$2:$E$30,2,FALSE),IF(I9=2,VLOOKUP(W9,女子種目コード!$D$2:$E$30,2,FALSE))))","v":""},null,null,null,null,{"$f":"IF(AB9=\"\",\"\",IF(I9=1,VLOOKUP(AB9,男子種目コード!$A$82:$B$85,2,FALSE),IF(I9=2,VLOOKUP(AB9,女子種目コード!$A$82:$B$85,2,FALSE))))","v":""},null,0,2,null,{"$f":"IF(AG9=\"\",\"\",IF(I9=1,VLOOKUP(AG9,男子種目コード!$A$78:$B$81,2,FALSE),IF(I9=2,VLOOKUP(AG9,女子種目コード!$A$78:$B$81,2,FALSE))))","v":""},null,0,2,0,null,null,800,{"$f":"IF(O9=\"\",\"\",1)","v":""},"",null,null,"",0,0,0,0,800,800,"男子D",0,0,"","",200,{"$f":"COUNTIF($P$7:$P$56,2)+COUNTIF($U$7:$U$56,2)","v":0},"","","","","","","","",{"$f":"VLookUpX(\"男子A\",$A$7:$F$56,2,5)","v":{"$error":"#N/A"}},{"$f":"VLookUpX(\"男子A\",$A$7:$F$56,2,6)","v":{"$error":"#N/A"}},{"$f":"VLookUpX(\"男子A\",$C$7:$F$56,2,3)","v":{"$error":"#N/A"}},{"$f":"VLookUpX(\"男子A\",$C$7:$F$56,2,4)","v":{"$error":"#N/A"}},{"$f":"VLookUpX(\"女子A\",$A$7:$F$56,2,5)","v":{"$error":"#N/A"}},{"$f":"VLookUpX(\"女子A\",$A$7:$F$56,2,6)","v":{"$error":"#N/A"}},{"$f":"VLookUpX(\"女子A\",$C$7:$F$56,2,3)","v":{"$error":"#N/A"}},{"$f":"VLookUpX(\"女子A\",$C$7:$F$56,2,4)","v":{"$error":"#N/A"}}]
[0,{"$f":"名簿!Q12","v":""},0,null,{"$f":"名簿!E12","v":0},{"$f":"名簿!BN12","v":""},{"$f":"名簿!Z12","v":""},"",{"$f":"名簿!O12","v":""},{"$f":"名簿!I12","v":0},{"$f":"名簿!K12","v":0},{"$f":"名簿!BQ12","v":"00"},{"$f":"名簿!R12","v":""},{"$f":"名簿!D12","v":""},null,{"$f":"IF(O10=\"\",\"\",IF(I10=1,VLOOKUP(O10,男子種目コード!$A$1:$B$33,2,FALSE),IF(I10=2,VLOOKUP(O10,女子種目コード!$A$1:$B$28,2,FALSE))))","v":""},{"$f":"IF(O10=\"\",\"\",HLOOKUP(O10,名簿!$AB$8:$BG$58,5,FALSE))","v":""},0,2,null,{"$f":"IF(T10=\"\",\"\",IF(I10=1,VLOOKUP(T10,男子種目コード!$A$1:$B$33,2,FALSE),IF(I10=2,VLOOKUP(T10,女子種目コード!$A$1:$B$28,2,FALSE))))","v":""},{"$f":"IF(T10=\"\",\"\",HLOOKUP(T10,名簿!$AB$8:$BG$58,5,FALSE))","v":""},null,{"$f":"IF(W10=\"\",\"\",IF(I10=1,VLOOKUP(W10,男子種目コード!$D$2:$E$30,2,FALSE),IF(I10=2,VLOOKUP(W10,女子種目コード!$D$2:$E$30,2,FALSE))))","v":""},null,null,null,null,{"$f":"IF(AB10=\"\",\"\",IF(I10=1,VLOOKUP(AB10,男子種目コード!$A$82:$B$85,2,FALSE),IF(I10=2,VLOOKUP(AB10,女子種目コード!$A$82:$B$85,2,FALSE))))","v":""},null,0,2,null,{"$f":"IF(AG10=\"\",\"\",IF(I10=1,VLOOKUP(AG10,男子種目コード!$A$78:$B$81,2,FALSE),IF(I10=2,VLOOKUP(AG10,女子種目コード!$A$78:$B$81,2,FALSE))))","v":""},null,0,2,0,null,null,1500,"","",null,null,"",0,0,0,0,1500,1500,"女子A",0,0,"","",400,{"$f":"COUNTIF($P$7:$P$56,3)+COUNTIF($U$7:$U$56,3)","v":0},"","","","","","","","",{"$f":"VLookUpX(\"男子A\",$A$7:$F$56,3,5)","v":{"$error":"#N/A"}},{"$f":"VLookUpX(\"男子A\",$A$7:$F$56,3,6)","v":{"$error":"#N/A"}},{"$f":"VLookUpX(\"男子A\",$C$7:$F$56,3,3)","v":{"$error":"#N/A"}},{"$f":"VLookUpX(\"男子A\",$C$7:$F$56,3,4)","v":{"$error":"#N/A"}},{"$f":"VLookUpX(\"女子A\",$A$7:$F$56,3,5)","v":{"$error":"#N/A"}},{"$f":"VLookUpX(\"女子A\",$A$7:$F$56,3,6)","v":{"$error":"#N/A"}},{"$f":"VLookUpX(\"女子A\",$C$7:$F$56,3,3)","v":{"$error":"#N/A"}},{"$f":"VLookUpX(\"女子A\",$C$7:$F$56,3,4)","v":{"$error":"#N/A"}}]
[0,{"$f":"名簿!Q13","v":""},0,null,{"$f":"名簿!E13","v":0},{"$f":"名簿!BN13","v":""},{"$f":"名簿!Z13","v":""},"",{"$f":"名簿!O13","v":""},{"$f":"名簿!I13","v":0},{"$f":"名簿!K13","v":0},{"$f":"名簿!BQ13","v":"00"},{"$f":"名簿!R13","v":""},{"$f":"名簿!D13","v":""},null,{"$f":"IF(O11=\"\",\"\",IF(I11=1,VLOOKUP(O11,男子種目コード!$A$1:$B$33,2,FALSE),IF(I11=2,VLOOKUP(O11,女子種目コード!$A$1:$B$28,2,FALSE))))","v":""},{"$f":"IF(O11=\"\",\"\",HLOOKUP(O11,名簿!$AB$8:$BG$58,6,FALSE))","v":""},0,2,null,{"$f":"IF(T11=\"\",\"\",IF(I11=1,VLOOKUP(T11,男子種目コード!$A$1:$B$33,2,FALSE),IF(I11=2,VLOOKUP(T11,女子種目コード!$A$1:$B$28,2,FALSE))))","v":""},{"$f":"IF(T11=\"\",\"\",HLOOKUP(T11,名簿!$AB$8:$BG$58,6,FALSE))","v":""},null,{"$f":"IF(W11=\"\",\"\",IF(I11=1,VLOOKUP(W11,男子種目コード!$D$2:$E$30,2,FALSE),IF(I11=2,VLOOKUP(W11,女子種目コード!$D$2:$E$30,2,FALSE))))","v":""},null,null,null,null,{"$f":"IF(AB11=\"\",\"\",IF(I11=1,VLOOKUP(AB11,男子種目コード!$A$82:$B$85,2,FALSE),IF(I11=2,VLOOKUP(AB11,女子種目コード!$A$82:$B$85,2,FALSE))))","v":""},null,0,2,null,{"$f":"IF(AG11=\"\",\"\",IF(I11=1,VLOOKUP(AG11,男子種目コード!$A$78:$B$81,2,FALSE),IF(I11=2,VLOOKUP(AG11,女子種目コード!$A$78:$B$81,2,FALSE))))","v":""},null,0,2,0,null,null,5000,"","",null,null,"",0,0,0,0,"少年3000","少年3000","女子B",0,0,"","",800,{"$f":"COUNTIF($P$7:$P$56,4)+COUNTIF($U$7:$U$56,4)","v":0},"","","","","","","","",{"$f":"VLookUpX(\"男子A\",$A$7:$F$56,4,5)","v":{"$error":"#N/A"}},{"$f":"VLookUpX(\"男子A\",$A$7:$F$56,4,6)","v":{"$error":"#N/A"}},{"$f":"VLookUpX(\"男子A\",$C$7:$F$56,4,3)","v":{"$error":"#N/A"}},{"$f":"VLookUpX(\"男子A\",$C$7:$F$56,4,4)","v":{"$error":"#N/A"}},{"$f":"VLookUpX(\"女子A\",$A$7:$F$56,4,5)","v":{"$error":"#N/A"}},{"$f":"VLookUpX(\"女子A\",$A$7:$F$56,4,6)","v":{"$error":"#N/A"}},{"$f":"VLookUpX(\"女子A\",$C$7:$F$56,4,3)","v":{"$error":"#N/A"}},{"$f":"VLookUpX(\"女子A\",$C$7:$F$56,4,4)","v":{"$error":"#N/A"}}]
[0,{"$f":"名簿!Q14","v":""},0,null,{"$f":"名簿!E14","v":0},{"$f":"名簿!BN14","v":""},{"$f":"名簿!Z14","v":""},"",{"$f":"名簿!O14","v":""},{"$f":"名簿!I14","v":0},{"$f":"名簿!K14","v":0},{"$f":"名簿!BQ14","v":"00"},{"$f":"名簿!R14","v":""},{"$f":"名簿!D14","v":""},null,{"$f":"IF(O12=\"\",\"\",IF(I12=1,VLOOKUP(O12,男子種目コード!$A$1:$B$33,2,FALSE),IF(I12=2,VLOOKUP(O12,女子種目コード!$A$1:$B$28,2,FALSE))))","v":""},{"$f":"IF(O12=\"\",\"\",HLOOKUP(O12,名簿!$AB$8:$BG$58,7,FALSE))","v":""},0,2,null,{"$f":"IF(T12=\"\",\"\",IF(I12=1,VLOOKUP(T12,男子種目コード!$A$1:$B$33,2,FALSE),IF(I12=2,VLOOKUP(T12,女子種目コード!$A$1:$B$28,2,FALSE))))","v":""},{"$f":"IF(T12=\"\",\"\",HLOOKUP(T12,名簿!$AB$8:$BG$58,7,FALSE))","v":""},null,{"$f":"IF(W12=\"\",\"\",IF(I12=1,VLOOKUP(W12,男子種目コード!$D$2:$E$30,2,FALSE),IF(I12=2,VLOOKUP(W12,女子種目コード!$D$2:$E$30,2,FALSE))))","v":""},null,null,null,null,{"$f":"IF(AB12=\"\",\"\",IF(I12=1,VLOOKUP(AB12,男子種目コード!$A$82:$B$85,2,FALSE),IF(I12=2,VLOOKUP(AB12,女子種目コード!$A$82:$B$85,2,FALSE))))","v":""},null,0,2,null,{"$f":"IF(AG12=\"\",\"\",IF(I12=1,VLOOKUP(AG12,男子種目コード!$A$78:$B$81,2,FALSE),IF(I12=2,VLOOKUP(AG12,女子種目コード!$A$78:$B$81,2,FALSE))))","v":""},null,0,2,0,null,null,10000,"","",null,null,"",0,0,0,0,5000,5000,"女子C",0,0,"","",1500,{"$f":"COUNTIF($P$7:$P$56,5)+COUNTIF($U$7:$U$56,5)","v":0},"","","","","","","","",{"$f":"VLookUpX(\"男子A\",$A$7:$F$56,5,5)","v":{"$error":"#N/A"}},{"$f":"VLookUpX(\"男子A\",$A$7:$F$56,5,6)","v":{"$error":"#N/A"}},{"$f":"VLookUpX(\"男子A\",$C$7:$F$56,5,3)","v":{"$error":"#N/A"}},{"$f":"VLookUpX(\"男子A\",$C$7:$F$56,5,4)","v":{"$error":"#N/A"}},{"$f":"VLookUpX(\"女子A\",$A$7:$F$56,5,5)","v":{"$error":"#N/A"}},{"$f":"VLookUpX(\"女子A\",$A$7:$F$56,5,6)","v":{"$error":"#N/A"}},{"$f":"VLookUpX(\"女子A\",$C$7:$F$56,5,3)","v":{"$error":"#N/A"}},{"$f":"VLookUpX(\"女子A\",$C$7:$F$56,5,4)","v":{"$error":"#N/A"}}]
[0,{"$f":"名簿!Q15","v":""},0,null,{"$f":"名簿!E15","v":0},{"$f":"名簿!BN15","v":""},{"$f":"名簿!Z15","v":""},"",{"$f":"名簿!O15","v":""},{"$f":"名簿!I15","v":0},{"$f":"名簿!K15","v":0},{"$f":"名簿!BQ15","v":"00"},{"$f":"名簿!R15","v":""},{"$f":"名簿!D15","v":""},null,{"$f":"IF(O13=\"\",\"\",IF(I13=1,VLOOKUP(O13,男子種目コード!$A$1:$B$33,2,FALSE),IF(I13=2,VLOOKUP(O13,女子種目コード!$A$1:$B$28,2,FALSE))))","v":""},{"$f":"IF(O13=\"\",\"\",HLOOKUP(O13,名簿!$AB$8:$BG$58,8,FALSE))","v":""},0,2,null,{"$f":"IF(T13=\"\",\"\",IF(I13=1,VLOOKUP(T13,男子種目コード!$A$1:$B$33,2,FALSE),IF(I13=2,VLOOKUP(T13,女子種目コード!$A$1:$B$28,2,FALSE))))","v":""},{"$f":"IF(T13=\"\",\"\",HLOOKUP(T13,名簿!$AB$8:$BG$58,8,FALSE))","v":""},null,{"$f":"IF(W13=\"\",\"\",IF(I13=1,VLOOKUP(W13,男子種目コード!$D$2:$E$30,2,FALSE),IF(I13=2,VLOOKUP(W13,女子種目コード!$D$2:$E$30,2,FALSE))))","v":""},null,null,null,null,{"$f":"IF(AB13=\"\",\"\",IF(I13=1,VLOOKUP(AB13,男子種目コード!$A$82:$B$85,2,FALSE),IF(I13=2,VLOOKUP(AB13,女子種目コード!$A$82:$B$85,2,FALSE))))","v":""},null,0,2,null,{"$f":"IF(AG13=\"\",\"\",IF(I13=1,VLOOKUP(AG13,男子種目コード!$A$78:$B$81,2,FALSE),IF(I13=2,VLOOKUP(AG13,女子種目コード!$A$78:$B$81,2,FALSE))))","v":""},null,0,2,0,null,null,"100H","","",null,null,"",0,0,0,0,10000,10000,"女子D",0,0,"","","少3000",{"$f":"COUNTIF($P$7:$P$56,24)+COUNTIF($U$7:$U$56,24)","v":0},"","","","","","","","",{"$f":"VLookUpX(\"男子A\",$A$7:$F$56,6,5)","v":{"$error":"#N/A"}},{"$f":"VLookUpX(\"男子A\",$A$7:$F$56,6,6)","v":{"$error":"#N/A"}},{"$f":"VLookUpX(\"男子A\",$C$7:$F$56,6,3)","v":{"$error":"#N/A"}},{"$f":"VLookUpX(\"男子A\",$C$7:$F$56,6,4)","v":{"$error":"#N/A"}},{"$f":"VLookUpX(\"女子A\",$A$7:$F$56,6,5)","v":{"$error":"#N/A"}},{"$f":"VLookUpX(\"女子A\",$A$7:$F$56,6,6)","v":{"$error":"#N/A"}},{"$f":"VLookUpX(\"女子A\",$C$7:$F$56,6,3)","v":{"$error":"#N/A"}},{"$f":"VLookUpX(\"女子A\",$C$7:$F$56,6,4)","v":{"$error":"#N/A"}}]
[0,{"$f":"名簿!Q16","v":""},0,null,{"$f":"名簿!E16","v":0},{"$f":"名簿!BN16","v":""},{"$f":"名簿!Z16","v":""},"",{"$f":"名簿!O16","v":""},{"$f":"名簿!I16","v":0},{"$f":"名簿!K16","v":0},{"$f":"名簿!BQ16","v":"00"},{"$f":"名簿!R16","v":""},{"$f":"名簿!D16","v":""},null,{"$f":"IF(O14=\"\",\"\",IF(I14=1,VLOOKUP(O14,男子種目コード!$A$1:$B$33,2,FALSE),IF(I14=2,VLOOKUP(O14,女子種目コード!$A$1:$B$28,2,FALSE))))","v":""},{"$f":"IF(O14=\"\",\"\",HLOOKUP(O14,名簿!$AB$8:$BG$58,9,FALSE))","v":""},0,2,null,{"$f":"IF(T14=\"\",\"\",IF(I14=1,VLOOKUP(T14,男子種目コード!$A$1:$B$33,2,FALSE),IF(I14=2,VLOOKUP(T14,女子種目コード!$A$1:$B$28,2,FALSE))))","v":""},{"$f":"IF(T14=\"\",\"\",HLOOKUP(T14,名簿!$AB$8:$BG$58,9,FALSE))","v":""},null,{"$f":"IF(W14=\"\",\"\",IF(I14=1,VLOOKUP(W14,男子種目コード!$D$2:$E$30,2,FALSE),IF(I14=2,VLOOKUP(W14,女子種目コード!$D$2:$E$30,2,FALSE))))","v":""},null,null,null,null,{"$f":"IF(AB14=\"\",\"\",IF(I14=1,VLOOKUP(AB14,男子種目コード!$A$82:$B$85,2,FALSE),IF(I14=2,VLOOKUP(AB14,女子種目コード!$A$82:$B$85,2,FALSE))))","v":""},null,0,2,null,{"$f":"IF(AG14=\"\",\"\",IF(I14=1,VLOOKUP(AG14,男子種目コード!$A$78:$B$81,2,FALSE),IF(I14=2,VLOOKUP(AG14,女子種目コード!$A$78:$B$81,2,FALSE))))","v":""},null,0,2,0,null,null,"110H","","",null,null,"",0,0,0,0,"110H","100H",null,0,0,"","",5000,{"$f":"COUNTIF($P$7:$P$56,6)+COUNTIF($U$7:$U$56,6)","v":0},"男子4×100mR　Ｂ",null,"男子4×400mR　Ｂ",null,"女子4×100mR　Ｂ",null,"女子4×400mR　Ｂ"]
[0,{"$f":"名簿!Q17","v":""},0,null,{"$f":"名簿!E17","v":0},{"$f":"名簿!BN17","v":""},{"$f":"名簿!Z17","v":""},"",{"$f":"名簿!O17","v":""},{"$f":"名簿!I17","v":0},{"$f":"名簿!K17","v":0},{"$f":"名簿!BQ17","v":"00"},{"$f":"名簿!R17","v":""},{"$f":"名簿!D17","v":""},null,{"$f":"IF(O15=\"\",\"\",IF(I15=1,VLOOKUP(O15,男子種目コード!$A$1:$B$33,2,FALSE),IF(I15=2,VLOOKUP(O15,女子種目コード!$A$1:$B$28,2,FALSE))))","v":""},{"$f":"IF(O15=\"\",\"\",HLOOKUP(O15,名簿!$AB$8:$BG$58,10,FALSE))","v":""},0,2,null,{"$f":"IF(T15=\"\",\"\",IF(I15=1,VLOOKUP(T15,男子種目コード!$A$1:$B$33,2,FALSE),IF(I15=2,VLOOKUP(T15,女子種目コード!$A$1:$B$28,2,FALSE))))","v":""},{"$f":"IF(T15=\"\",\"\",HLOOKUP(T15,名簿!$AB$8:$BG$58,10,FALSE))","v":""},null,{"$f":"IF(W15=\"\",\"\",IF(I15=1,VLOOKUP(W15,男子種目コード!$D$2:$E$30,2,FALSE),IF(I15=2,VLOOKUP(W15,女子種目コード!$D$2:$E$30,2,FALSE))))","v":""},null,null,null,null,{"$f":"IF(AB15=\"\",\"\",IF(I15=1,VLOOKUP(AB15,男子種目コード!$A$82:$B$85,2,FALSE),IF(I15=2,VLOOKUP(AB15,女子種目コード!$A$82:$B$85,2,FALSE))))","v":""},null,0,2,null,{"$f":"IF(AG15=\"\",\"\",IF(I15=1,VLOOKUP(AG15,男子種目コード!$A$78:$B$81,2,FALSE),IF(I15=2,VLOOKUP(AG15,女子種目コード!$A$78:$B$81,2,FALSE))))","v":""},null,0,2,0,null,null,"400H","","",null,null,"",0,0,0,0,"400H","400H",null,0,0,"","",10000,{"$f":"COUNTIF($P$7:$P$56,7)+COUNTIF($U$7:$U$56,7)","v":0},"記録",null,"記録",null,"記録",null,"記録"]
[0,{"$f":"名簿!Q18","v":""},0,null,{"$f":"名簿!E18","v":0},{"$f":"名簿!BN18","v":""},{"$f":"名簿!Z18","v":""},"",{"$f":"名簿!O18","v":""},{"$f":"名簿!I18","v":0},{"$f":"名簿!K18","v":0},{"$f":"名簿!BQ18","v":"00"},{"$f":"名簿!R18","v":""},{"$f":"名簿!D18","v":""},null,{"$f":"IF(O16=\"\",\"\",IF(I16=1,VLOOKUP(O16,男子種目コード!$A$1:$B$33,2,FALSE),IF(I16=2,VLOOKUP(O16,女子種目コード!$A$1:$B$28,2,FALSE))))","v":""},{"$f":"IF(O16=\"\",\"\",HLOOKUP(O16,名簿!$AB$8:$BG$58,11,FALSE))","v":""},0,2,null,{"$f":"IF(T16=\"\",\"\",IF(I16=1,VLOOKUP(T16,男子種目コード!$A$1:$B$33,2,FALSE),IF(I16=2,VLOOKUP(T16,女子種目コード!$A$1:$B$28,2,FALSE))))","v":""},{"$f":"IF(T16=\"\",\"\",HLOOKUP(T16,名簿!$AB$8:$BG$58,11,FALSE))","v":""},null,{"$f":"IF(W16=\"\",\"\",IF(I16=1,VLOOKUP(W16,男子種目コード!$D$2:$E$30,2,FALSE),IF(I16=2,VLOOKUP(W16,女子種目コード!$D$2:$E$30,2,FALSE))))","v":""},null,null,null,null,{"$f":"IF(AB16=\"\",\"\",IF(I16=1,VLOOKUP(AB16,男子種目コード!$A$82:$B$85,2,FALSE),IF(I16=2,VLOOKUP(AB16,女子種目コード!$A$82:$B$85,2,FALSE))))","v":""},null,0,2,null,{"$f":"IF(AG16=\"\",\"\",IF(I16=1,VLOOKUP(AG16,男子種目コード!$A$78:$B$81,2,FALSE),IF(I16=2,VLOOKUP(AG16,女子種目コード!$A$78:$B$81,2,FALSE))))","v":""},null,0,2,0,null,null,"3000SC","","",null,null,"",0,0,0,0,"3000SC","3000SC",null,0,0,"","","110H",{"$f":"COUNTIF($P$7:$P$56,8)+COUNTIF($U$7:$U$56,8)","v":0},{"$f":"IF(ISERROR(BP16),\"\",BP16)","v":""},{"$f":"IF(ISERROR(BQ16),\"\",BQ16)","v":""},{"$f":"IF(ISERROR(BR16),\"\",BR16)","v":""},{"$f":"IF(ISERROR(BS16),\"\",BS16)","v":""},{"$f":"IF(ISERROR(BT16),\"\",BT16)","v":""},{"$f":"IF(ISERROR(BU16),\"\",BU16)","v":""},{"$f":"IF(ISERROR(BV16),\"\",BV16)","v":""},{"$f":"IF(ISERROR(BW16),\"\",BW16)","v":""},{"$f":"VLookUpX(\"男子B\",$A$7:$F$56,1,5)","v":{"$error":"#N/A"}},{"$f":"VLookUpX(\"男子B\",$A$7:$F$56,1,6)","v":{"$error":"#N/A"}},{"$f":"VLookUpX(\"男子B\",$C$7:$F$56,1,3)","v":{"$error":"#N/A"}},{"$f":"VLookUpX(\"男子B\",$C$7:$F$56,1,4)","v":{"$error":"#N/A"}},{"$f":"VLookUpX(\"女子B\",$A$7:$F$56,1,5)","v":{"$error":"#N/A"}},{"$f":"VLookUpX(\"女子B\",$A$7:$F$56,1,6)","v":{"$error":"#N/A"}},{"$f":"VLookUpX(\"女子B\",$C$7:$F$56,1,3)","v":{"$error":"#N/A"}},{"$f":"VLookUpX(\"女子B\",$C$7:$F$56,1,4)","v":{"$error":"#N/A"}},{"$f":"IF(BH16=\"\",\"\",1)","v":""},{"$f":"IF(BJ16=\"\",\"\",1)","v":""},{"$f":"IF(BL16=\"\",\"\",1)","v":""},{"$f":"IF(BN16=\"\",\"\",1)","v":""}]
[0,{"$f":"名簿!Q19","v":""},0,null,{"$f":"名簿!E19","v":0},{"$f":"名簿!BN19","v":""},{"$f":"名簿!Z19","v":""},"",{"$f":"名簿!O19","v":""},{"$f":"名簿!I19","v":0},{"$f":"名簿!K19","v":0},{"$f":"名簿!BQ19","v":"00"},{"$f":"名簿!R19","v":""},{"$f":"名簿!D19","v":""},null,{"$f":"IF(O17=\"\",\"\",IF(I17=1,VLOOKUP(O17,男子種目コード!$A$1:$B$33,2,FALSE),IF(I17=2,VLOOKUP(O17,女子種目コード!$A$1:$B$28,2,FALSE))))","v":""},{"$f":"IF(O17=\"\",\"\",HLOOKUP(O17,名簿!$AB$8:$BG$58,12,FALSE))","v":""},0,2,null,{"$f":"IF(T17=\"\",\"\",IF(I17=1,VLOOKUP(T17,男子種目コード!$A$1:$B$33,2,FALSE),IF(I17=2,VLOOKUP(T17,女子種目コード!$A$1:$B$28,2,FALSE))))","v":""},{"$f":"IF(T17=\"\",\"\",HLOOKUP(T17,名簿!$AB$8:$BG$58,12,FALSE))","v":""},null,{"$f":"IF(W17=\"\",\"\",IF(I17=1,VLOOKUP(W17,男子種目コード!$D$2:$E$30,2,FALSE),IF(I17=2,VLOOKUP(W17,女子種目コード!$D$2:$E$30,2,FALSE))))","v":""},null,null,null,null,{"$f":"IF(AB17=\"\",\"\",IF(I17=1,VLOOKUP(AB17,男子種目コード!$A$82:$B$85,2,FALSE),IF(I17=2,VLOOKUP(AB17,女子種目コード!$A$82:$B$85,2,FALSE))))","v":""},null,0,2,null,{"$f":"IF(AG17=\"\",\"\",IF(I17=1,VLOOKUP(AG17,男子種目コード!$A$78:$B$81,2,FALSE),IF(I17=2,VLOOKUP(AG17,女子種目コード!$A$78:$B$81,2,FALSE))))","v":""},null,0,2,0,null,null,"5000W","","",null,null,"",0,0,0,0,"5000W","5000W",null,0,0,"","","400H",{"$f":"COUNTIF($P$7:$P$56,9)+COUNTIF($U$7:$U$56,9)","v":0},"","","","","","","","",{"$f":"VLookUpX(\"男子B\",$A$7:$F$56,2,5)","v":{"$error":"#N/A"}},{"$f":"VLookUpX(\"男子B\",$A$7:$F$56,2,6)","v":{"$error":"#N/A"}},{"$f":"VLookUpX(\"男子B\",$C$7:$F$56,2,3)","v":{"$error":"#N/A"}},{"$f":"VLookUpX(\"男子B\",$C$7:$F$56,2,4)","v":{"$error":"#N/A"}},{"$f":"VLookUpX(\"女子B\",$A$7:$F$56,2,5)","v":{"$error":"#N/A"}},{"$f":"VLookUpX(\"女子B\",$A$7:$F$56,2,6)","v":{"$error":"#N/A"}},{"$f":"VLookUpX(\"女子B\",$C$7:$F$56,2,3)","v":{"$error":"#N/A"}},{"$f":"VLookUpX(\"女子B\",$C$7:$F$56,2,4)","v":{"$error":"#N/A"}}]
[0,{"$f":"名簿!Q20","v":""},0,null,{"$f":"名簿!E20","v":0},{"$f":"名簿!BN20","v":""},{"$f":"名簿!Z20","v":""},"",{"$f":"名簿!O20","v":""},{"$f":"名簿!I20","v":0},{"$f":"名簿!K20","v":0},{"$f":"名簿!BQ20","v":"00"},{"$f":"名簿!R20","v":""},{"$f":"名簿!D20","v":""},null,{"$f":"IF(O18=\"\",\"\",IF(I18=1,VLOOKUP(O18,男子種目コード!$A$1:$B$33,2,FALSE),IF(I18=2,VLOOKUP(O18,女子種目コード!$A$1:$B$28,2,FALSE))))","v":""},{"$f":"IF(O18=\"\",\"\",HLOOKUP(O18,名簿!$AB$8:$BG$58,13,FALSE))","v":""},0,2,null,{"$f":"IF(T18=\"\",\"\",IF(I18=1,VLOOKUP(T18,男子種目コード!$A$1:$B$33,2,FALSE),IF(I18=2,VLOOKUP(T18,女子種目コード!$A$1:$B$28,2,FALSE))))","v":""},{"$f":"IF(T18=\"\",\"\",HLOOKUP(T18,名簿!$AB$8:$BG$58,13,FALSE))","v":""},null,{"$f":"IF(W18=\"\",\"\",IF(I18=1,VLOOKUP(W18,男子種目コード!$D$2:$E$30,2,FALSE),IF(I18=2,VLOOKUP(W18,女子種目コード!$D$2:$E$30,2,FALSE))))","v":""},null,null,null,null,{"$f":"IF(AB18=\"\",\"\",IF(I18=1,VLOOKUP(AB18,男子種目コード!$A$82:$B$85,2,FALSE),IF(I18=2,VLOOKUP(AB18,女子種目コード!$A$82:$B$85,2,FALSE))))","v":""},null,0,2,null,{"$f":"IF(AG18=\"\",\"\",IF(I18=1,VLOOKUP(AG18,男子種目コード!$A$78:$B$81,2,FALSE),IF(I18=2,VLOOKUP(AG18,女子種目コード!$A$78:$B$81,2,FALSE))))","v":""},null,0,2,0,null,null,"走高跳","","",null,null,"",0,0,0,0,"走高跳","走高跳",null,0,0,"","","3000SC",{"$f":"COUNTIF($P$7:$P$56,10)+COUNTIF($U$7:$U$56,10)","v":0},"","","","","","","","",{"$f":"VLookUpX(\"男子B\",$A$7:$F$56,3,5)","v":{"$error":"#N/A"}},{"$f":"VLookUpX(\"男子B\",$A$7:$F$56,3,6)","v":{"$error":"#N/A"}},{"$f":"VLookUpX(\"男子B\",$C$7:$F$56,3,3)","v":{"$error":"#N/A"}},{"$f":"VLookUpX(\"男子B\",$C$7:$F$56,3,4)","v":{"$error":"#N/A"}},{"$f":"VLookUpX(\"女子B\",$A$7:$F$56,3,5)","v":{"$error":"#N/A"}},{"$f":"VLookUpX(\"女子B\",$A$7:$F$56,3,6)","v":{"$error":"#N/A"}},{"$f":"VLookUpX(\"女子B\",$C$7:$F$56,3,3)","v":{"$error":"#N/A"}},{"$f":"VLookUpX(\"女子B\",$C$7:$F$56,3,4)","v":{"$error":"#N/A"}}]
[0,{"$f":"名簿!Q21","v":""},0,null,{"$f":"名簿!E21","v":0},{"$f":"名簿!BN21","v":""},{"$f":"名簿!Z21","v":""},"",{"$f":"名簿!O21","v":""},{"$f":"名簿!I21","v":0},{"$f":"名簿!K21","v":0},{"$f":"名簿!BQ21","v":"00"},{"$f":"名簿!R21","v":""},{"$f":"名簿!D21","v":""},null,{"$f":"IF(O19=\"\",\"\",IF(I19=1,VLOOKUP(O19,男子種目コード!$A$1:$B$33,2,FALSE),IF(I19=2,VLOOKUP(O19,女子種目コード!$A$1:$B$28,2,FALSE))))","v":""},{"$f":"IF(O19=\"\",\"\",HLOOKUP(O19,名簿!$AB$8:$BG$58,14,FALSE))","v":""},0,2,null,{"$f":"IF(T19=\"\",\"\",IF(I19=1,VLOOKUP(T19,男子種目コード!$A$1:$B$33,2,FALSE),IF(I19=2,VLOOKUP(T19,女子種目コード!$A$1:$B$28,2,FALSE))))","v":""},{"$f":"IF(T19=\"\",\"\",HLOOKUP(T19,名簿!$AB$8:$BG$58,14,FALSE))","v":""},null,{"$f":"IF(W19=\"\",\"\",IF(I19=1,VLOOKUP(W19,男子種目コード!$D$2:$E$30,2,FALSE),IF(I19=2,VLOOKUP(W19,女子種目コード!$D$2:$E$30,2,FALSE))))","v":""},null,null,null,null,{"$f":"IF(AB19=\"\",\"\",IF(I19=1,VLOOKUP(AB19,男子種目コード!$A$82:$B$85,2,FALSE),IF(I19=2,VLOOKUP(AB19,女子種目コード!$A$82:$B$85,2,FALSE))))","v":""},null,0,2,null,{"$f":"IF(AG19=\"\",\"\",IF(I19=1,VLOOKUP(AG19,男子種目コード!$A$78:$B$81,2,FALSE),IF(I19=2,VLOOKUP(AG19,女子種目コード!$A$78:$B$81,2,FALSE))))","v":""},null,0,2,0,null,null,"棒高跳","","",null,null,"",0,0,0,0,"棒高跳","棒高跳",null,0,0,"","","5000W",{"$f":"COUNTIF($P$7:$P$56,12)+COUNTIF($U$7:$U$56,12)","v":0},"","","","","","","","",{"$f":"VLookUpX(\"男子B\",$A$7:$F$56,4,5)","v":{"$error":"#N/A"}},{"$f":"VLookUpX(\"男子B\",$A$7:$F$56,4,6)","v":{"$error":"#N/A"}},{"$f":"VLookUpX(\"男子B\",$C$7:$F$56,4,3)","v":{"$error":"#N/A"}},{"$f":"VLookUpX(\"男子B\",$C$7:$F$56,4,4)","v":{"$error":"#N/A"}},{"$f":"VLookUpX(\"女子B\",$A$7:$F$56,4,5)","v":{"$error":"#N/A"}},{"$f":"VLookUpX(\"女子B\",$A$7:$F$56,4,6)","v":{"$error":"#N/A"}},{"$f":"VLookUpX(\"女子B\",$C$7:$F$56,4,3)","v":{"$error":"#N/A"}},{"$f":"VLookUpX(\"女子B\",$C$7:$F$56,4,4)","v":{"$error":"#N/A"}}]
[0,{"$f":"名簿!Q22","v":""},0,null,{"$f":"名簿!E22","v":0},{"$f":"名簿!BN22","v":""},{"$f":"名簿!Z22","v":""},"",{"$f":"名簿!O22","v":""},{"$f":"名簿!I22","v":0},{"$f":"名簿!K22","v":0},{"$f":"名簿!BQ22","v":"00"},{"$f":"名簿!R22","v":""},{"$f":"名簿!D22","v":""},null,{"$f":"IF(O20=\"\",\"\",IF(I20=1,VLOOKUP(O20,男子種目コード!$A$1:$B$33,2,FALSE),IF(I20=2,VLOOKUP(O20,女子種目コード!$A$1:$B$28,2,FALSE))))","v":""},{"$f":"IF(O20=\"\",\"\",HLOOKUP(O20,名簿!$AB$8:$BG$58,15,FALSE))","v":""},0,2,null,{"$f":"IF(T20=\"\",\"\",IF(I20=1,VLOOKUP(T20,男子種目コード!$A$1:$B$33,2,FALSE),IF(I20=2,VLOOKUP(T20,女子種目コード!$A$1:$B$28,2,FALSE))))","v":""},{"$f":"IF(T20=\"\",\"\",HLOOKUP(T20,名簿!$AB$8:$BG$58,15,FALSE))","v":""},null,{"$f":"IF(W20=\"\",\"\",IF(I20=1,VLOOKUP(W20,男子種目コード!$D$2:$E$30,2,FALSE),IF(I20=2,VLOOKUP(W20,女子種目コード!$D$2:$E$30,2,FALSE))))","v":""},null,null,null,null,{"$f":"IF(AB20=\"\",\"\",IF(I20=1,VLOOKUP(AB20,男子種目コード!$A$82:$B$85,2,FALSE),IF(I20=2,VLOOKUP(AB20,女子種目コード!$A$82:$B$85,2,FALSE))))","v":""},null,0,2,null,{"$f":"IF(AG20=\"\",\"\",IF(I20=1,VLOOKUP(AG20,男子種目コード!$A$78:$B$81,2,FALSE),IF(I20=2,VLOOKUP(AG20,女子種目コード!$A$78:$B$81,2,FALSE))))","v":""},null,0,2,0,null,null,"走幅跳","","",null,null,"",0,0,0,0,"走幅跳","走幅跳",null,0,0,"","","走高跳",{"$f":"COUNTIF($P$7:$P$56,15)+COUNTIF($U$7:$U$56,15)","v":0},"","","","","","","","",{"$f":"VLookUpX(\"男子B\",$A$7:$F$56,5,5)","v":{"$error":"#N/A"}},{"$f":"VLookUpX(\"男子B\",$A$7:$F$56,5,6)","v":{"$error":"#N/A"}},{"$f":"VLookUpX(\"男子B\",$C$7:$F$56,5,3)","v":{"$error":"#N/A"}},{"$f":"VLookUpX(\"男子B\",$C$7:$F$56,5,4)","v":{"$error":"#N/A"}},{"$f":"VLookUpX(\"女子B\",$A$7:$F$56,5,5)","v":{"$error":"#N/A"}},{"$f":"VLookUpX(\"女子B\",$A$7:$F$56,5,6)","v":{"$error":"#N/A"}},{"$f":"VLookUpX(\"女子B\",$C$7:$F$56,5,3)","v":{"$error":"#N/A"}},{"$f":"VLookUpX(\"女子B\",$C$7:$F$56,5,4)","v":{"$error":"#N/A"}}]
[0,{"$f":"名簿!Q23","v":""},0,null,{"$f":"名簿!E23","v":0},{"$f":"名簿!BN23","v":""},{"$f":"名簿!Z23","v":""},"",{"$f":"名簿!O23","v":""},{"$f":"名簿!I23","v":0},{"$f":"名簿!K23","v":0},{"$f":"名簿!BQ23","v":"00"},{"$f":"名簿!R23","v":""},{"$f":"名簿!D23","v":""},null,{"$f":"IF(O21=\"\",\"\",IF(I21=1,VLOOKUP(O21,男子種目コード!$A$1:$B$33,2,FALSE),IF(I21=2,VLOOKUP(O21,女子種目コード!$A$1:$B$28,2,FALSE))))","v":""},{"$f":"IF(O21=\"\",\"\",HLOOKUP(O21,名簿!$AB$8:$BG$58,16,FALSE))","v":""},0,2,null,{"$f":"IF(T21=\"\",\"\",IF(I21=1,VLOOKUP(T21,男子種目コード!$A$1:$B$33,2,FALSE),IF(I21=2,VLOOKUP(T21,女子種目コード!$A$1:$B$28,2,FALSE))))","v":""},{"$f":"IF(T21=\"\",\"\",HLOOKUP(T21,名簿!$AB$8:$BG$58,16,FALSE))","v":""},null,{"$f":"IF(W21=\"\",\"\",IF(I21=1,VLOOKUP(W21,男子種目コード!$D$2:$E$30,2,FALSE),IF(I21=2,VLOOKUP(W21,女子種目コード!$D$2:$E$30,2,FALSE))))","v":""},null,null,null,null,{"$f":"IF(AB21=\"\",\"\",IF(I21=1,VLOOKUP(AB21,男子種目コード!$A$82:$B$85,2,FALSE),IF(I21=2,VLOOKUP(AB21,女子種目コード!$A$82:$B$85,2,FALSE))))","v":""},null,0,2,null,{"$f":"IF(AG21=\"\",\"\",IF(I21=1,VLOOKUP(AG21,男子種目コード!$A$78:$B$81,2,FALSE),IF(I21=2,VLOOKUP(AG21,女子種目コード!$A$78:$B$81,2,FALSE))))","v":""},null,0,2,0,null,null,"三段跳","","",null,null,"",0,0,0,0,"三段跳","三段跳",null,0,0,"","","棒高跳",{"$f":"COUNTIF($P$7:$P$56,16)+COUNTIF($U$7:$U$56,16)","v":0},"","","","","","","","",{"$f":"VLookUpX(\"男子B\",$A$7:$F$56,6,5)","v":{"$error":"#N/A"}},{"$f":"VLookUpX(\"男子B\",$A$7:$F$56,6,6)","v":{"$error":"#N/A"}},{"$f":"VLookUpX(\"男子B\",$C$7:$F$56,6,3)","v":{"$error":"#N/A"}},{"$f":"VLookUpX(\"男子B\",$C$7:$F$56,6,4)","v":{"$error":"#N/A"}},{"$f":"VLookUpX(\"女子B\",$A$7:$F$56,6,5)","v":{"$error":"#N/A"}},{"$f":"VLookUpX(\"女子B\",$A$7:$F$56,6,6)","v":{"$error":"#N/A"}},{"$f":"VLookUpX(\"女子B\",$C$7:$F$56,6,3)","v":{"$error":"#N/A"}},{"$f":"VLookUpX(\"女子B\",$C$7:$F$56,6,4)","v":{"$error":"#N/A"}}]
[0,{"$f":"名簿!Q24","v":""},0,null,{"$f":"名簿!E24","v":0},{"$f":"名簿!BN24","v":""},{"$f":"名簿!Z24","v":""},"",{"$f":"名簿!O24","v":""},{"$f":"名簿!I24","v":0},{"$f":"名簿!K24","v":0},{"$f":"名簿!BQ24","v":"00"},{"$f":"名簿!R24","v":""},{"$f":"名簿!D24","v":""},null,{"$f":"IF(O22=\"\",\"\",IF(I22=1,VLOOKUP(O22,男子種目コード!$A$1:$B$33,2,FALSE),IF(I22=2,VLOOKUP(O22,女子種目コード!$A$1:$B$28,2,FALSE))))","v":""},{"$f":"IF(O22=\"\",\"\",HLOOKUP(O22,名簿!$AB$8:$BG$58,17,FALSE))","v":""},0,2,null,{"$f":"IF(T22=\"\",\"\",IF(I22=1,VLOOKUP(T22,男子種目コード!$A$1:$B$33,2,FALSE),IF(I22=2,VLOOKUP(T22,女子種目コード!$A$1:$B$28,2,FALSE))))","v":""},{"$f":"IF(T22=\"\",\"\",HLOOKUP(T22,名簿!$AB$8:$BG$58,17,FALSE))","v":""},null,{"$f":"IF(W22=\"\",\"\",IF(I22=1,VLOOKUP(W22,男子種目コード!$D$2:$E$30,2,FALSE),IF(I22=2,VLOOKUP(W22,女子種目コード!$D$2:$E$30,2,FALSE))))","v":""},null,null,null,null,{"$f":"IF(AB22=\"\",\"\",IF(I22=1,VLOOKUP(AB22,男子種目コード!$A$82:$B$85,2,FALSE),IF(I22=2,VLOOKUP(AB22,女子種目コード!$A$82:$B$85,2,FALSE))))","v":""},null,0,2,null,{"$f":"IF(AG22=\"\",\"\",IF(I22=1,VLOOKUP(AG22,男子種目コード!$A$78:$B$81,2,FALSE),IF(I22=2,VLOOKUP(AG22,女子種目コード!$A$78:$B$81,2,FALSE))))","v":""},null,0,2,0,null,null,"砲丸投","","",null,null,"",0,0,0,0,"砲丸投","砲丸投",null,0,0,"","","走幅跳",{"$f":"COUNTIF($P$7:$P$56,17)+COUNTIF($U$7:$U$56,17)","v":0},"男子4×100mR　Ｃ",null,"男子4×400mR　Ｃ",null,"女子4×100mR　Ｃ",null,"女子4×400mR　Ｃ"]
[0,{"$f":"名簿!Q25","v":""},0,null,{"$f":"名簿!E25","v":0},{"$f":"名簿!BN25","v":""},{"$f":"名簿!Z25","v":""},"",{"$f":"名簿!O25","v":""},{"$f":"名簿!I25","v":0},{"$f":"名簿!K25","v":0},{"$f":"名簿!BQ25","v":"00"},{"$f":"名簿!R25","v":""},{"$f":"名簿!D25","v":""},null,{"$f":"IF(O23=\"\",\"\",IF(I23=1,VLOOKUP(O23,男子種目コード!$A$1:$B$33,2,FALSE),IF(I23=2,VLOOKUP(O23,女子種目コード!$A$1:$B$28,2,FALSE))))","v":""},{"$f":"IF(O23=\"\",\"\",HLOOKUP(O23,名簿!$AB$8:$BG$58,18,FALSE))","v":""},0,2,null,{"$f":"IF(T23=\"\",\"\",IF(I23=1,VLOOKUP(T23,男子種目コード!$A$1:$B$33,2,FALSE),IF(I23=2,VLOOKUP(T23,女子種目コード!$A$1:$B$28,2,FALSE))))","v":""},{"$f":"IF(T23=\"\",\"\",HLOOKUP(T23,名簿!$AB$8:$BG$58,18,FALSE))","v":""},null,{"$f":"IF(W23=\"\",\"\",IF(I23=1,VLOOKUP(W23,男子種目コード!$D$2:$E$30,2,FALSE),IF(I23=2,VLOOKUP(W23,女子種目コード!$D$2:$E$30,2,FALSE))))","v":""},null,null,null,null,{"$f":"IF(AB23=\"\",\"\",IF(I23=1,VLOOKUP(AB23,男子種目コード!$A$82:$B$85,2,FALSE),IF(I23=2,VLOOKUP(AB23,女子種目コード!$A$82:$B$85,2,FALSE))))","v":""},null,0,2,null,{"$f":"IF(AG23=\"\",\"\",IF(I23=1,VLOOKUP(AG23,男子種目コード!$A$78:$B$81,2,FALSE),IF(I23=2,VLOOKUP(AG23,女子種目コード!$A$78:$B$81,2,FALSE))))","v":""},null,0,2,0,null,null,"円盤投","","",null,null,"",0,0,0,0,"少年砲丸投","円盤投",null,0,0,"","","三段跳",{"$f":"COUNTIF($P$7:$P$56,18)+COUNTIF($U$7:$U$56,18)","v":0},"記録",null,"記録",null,"記録",null,"記録"]
[0,{"$f":"名簿!Q26","v":""},0,null,{"$f":"名簿!E26","v":0},{"$f":"名簿!BN26","v":""},{"$f":"名簿!Z26","v":""},"",{"$f":"名簿!O26","v":""},{"$f":"名簿!I26","v":0},{"$f":"名簿!K26","v":0},{"$f":"名簿!BQ26","v":"00"},{"$f":"名簿!R26","v":""},{"$f":"名簿!D26","v":""},null,{"$f":"IF(O24=\"\",\"\",IF(I24=1,VLOOKUP(O24,男子種目コード!$A$1:$B$33,2,FALSE),IF(I24=2,VLOOKUP(O24,女子種目コード!$A$1:$B$28,2,FALSE))))","v":""},{"$f":"IF(O24=\"\",\"\",HLOOKUP(O24,名簿!$AB$8:$BG$58,19,FALSE))","v":""},0,2,null,{"$f":"IF(T24=\"\",\"\",IF(I24=1,VLOOKUP(T24,男子種目コード!$A$1:$B$33,2,FALSE),IF(I24=2,VLOOKUP(T24,女子種目コード!$A$1:$B$28,2,FALSE))))","v":""},{"$f":"IF(T24=\"\",\"\",HLOOKUP(T24,名簿!$AB$8:$BG$58,19,FALSE))","v":""},null,{"$f":"IF(W24=\"\",\"\",IF(I24=1,VLOOKUP(W24,男子種目コード!$D$2:$E$30,2,FALSE),IF(I24=2,VLOOKUP(W24,女子種目コード!$D$2:$E$30,2,FALSE))))","v":""},null,null,null,null,{"$f":"IF(AB24=\"\",\"\",IF(I24=1,VLOOKUP(AB24,男子種目コード!$A$82:$B$85,2,FALSE),IF(I24=2,VLOOKUP(AB24,女子種目コード!$A$82:$B$85,2,FALSE))))","v":""},null,0,2,null,{"$f":"IF(AG24=\"\",\"\",IF(I24=1,VLOOKUP(AG24,男子種目コード!$A$78:$B$81,2,FALSE),IF(I24=2,VLOOKUP(AG24,女子種目コード!$A$78:$B$81,2,FALSE))))","v":""},null,0,2,0,null,null,"ハンマー投","","",null,null,"",0,0,0,0,"円盤投","ハンマー投",null,0,0,"","","砲丸投",{"$f":"COUNTIF($P$7:$P$56,19)+COUNTIF($U$7:$U$56,19)","v":0},{"$f":"IF(ISERROR(BP24),\"\",BP24)","v":""},{"$f":"IF(ISERROR(BQ24),\"\",BQ24)","v":""},{"$f":"IF(ISERROR(BR24),\"\",BR24)","v":""},{"$f":"IF(ISERROR(BS24),\"\",BS24)","v":""},{"$f":"IF(ISERROR(BT24),\"\",BT24)","v":""},{"$f":"IF(ISERROR(BU24),\"\",BU24)","v":""},{"$f":"IF(ISERROR(BV24),\"\",BV24)","v":""},{"$f":"IF(ISERROR(BW24),\"\",BW24)","v":""},{"$f":"VLookUpX(\"男子C\",$A$7:$F$56,1,5)","v":{"$error":"#N/A"}},{"$f":"VLookUpX(\"男子C\",$A$7:$F$56,1,6)","v":{"$error":"#N/A"}},{"$f":"VLookUpX(\"男子C\",$C$7:$F$56,1,3)","v":{"$error":"#N/A"}},{"$f":"VLookUpX(\"男子C\",$C$7:$F$56,1,4)","v":{"$error":"#N/A"}},{"$f":"VLookUpX(\"女子C\",$A$7:$F$56,1,5)","v":{"$error":"#N/A"}},{"$f":"VLookUpX(\"女子C\",$A$7:$F$56,1,6)","v":{"$error":"#N/A"}},{"$f":"VLookUpX(\"女子C\",$C$7:$F$56,1,3)","v":{"$error":"#N/A"}},{"$f":"VLookUpX(\"女子C\",$C$7:$F$56,1,4)","v":{"$error":"#N/A"}},{"$f":"IF(BH24=\"\",\"\",1)","v":""},{"$f":"IF(BJ24=\"\",\"\",1)","v":""},{"$f":"IF(BL24=\"\",\"\",1)","v":""},{"$f":"IF(BN24=\"\",\"\",1)","v":""}]
[0,{"$f":"名簿!Q27","v":""},0,null,{"$f":"名簿!E27","v":0},{"$f":"名簿!BN27","v":""},{"$f":"名簿!Z27","v":""},"",{"$f":"名簿!O27","v":""},{"$f":"名簿!I27","v":0},{"$f":"名簿!K27","v":0},{"$f":"名簿!BQ27","v":"00"},{"$f":"名簿!R27","v":""},{"$f":"名簿!D27","v":""},null,{"$f":"IF(O25=\"\",\"\",IF(I25=1,VLOOKUP(O25,男子種目コード!$A$1:$B$33,2,FALSE),IF(I25=2,VLOOKUP(O25,女子種目コード!$A$1:$B$28,2,FALSE))))","v":""},{"$f":"IF(O25=\"\",\"\",HLOOKUP(O25,名簿!$AB$8:$BG$58,20,FALSE))","v":""},0,2,null,{"$f":"IF(T25=\"\",\"\",IF(I25=1,VLOOKUP(T25,男子種目コード!$A$1:$B$33,2,FALSE),IF(I25=2,VLOOKUP(T25,女子種目コード!$A$1:$B$28,2,FALSE))))","v":""},{"$f":"IF(T25=\"\",\"\",HLOOKUP(T25,名簿!$AB$8:$BG$58,20,FALSE))","v":""},null,{"$f":"IF(W25=\"\",\"\",IF(I25=1,VLOOKUP(W25,男子種目コード!$D$2:$E$30,2,FALSE),IF(I25=2,VLOOKUP(W25,女子種目コード!$D$2:$E$30,2,FALSE))))","v":""},null,null,null,null,{"$f":"IF(AB25=\"\",\"\",IF(I25=1,VLOOKUP(AB25,男子種目コード!$A$82:$B$85,2,FALSE),IF(I25=2,VLOOKUP(AB25,女子種目コード!$A$82:$B$85,2,FALSE))))","v":""},null,0,2,null,{"$f":"IF(AG25=\"\",\"\",IF(I25=1,VLOOKUP(AG25,男子種目コード!$A$78:$B$81,2,FALSE),IF(I25=2,VLOOKUP(AG25,女子種目コード!$A$78:$B$81,2,FALSE))))","v":""},null,0,2,0,null,null,"やり投","","",null,null,"",0,0,0,0,"少年円盤投","やり投",null,0,0,"","","円盤投",{"$f":"COUNTIF($P$7:$P$56,20)+COUNTIF($U$7:$U$56,20)","v":0},"","","","","","","","",{"$f":"VLookUpX(\"男子C\",$A$7:$F$56,2,5)","v":{"$error":"#N/A"}},{"$f":"VLookUpX(\"男子C\",$A$7:$F$56,2,6)","v":{"$error":"#N/A"}},{"$f":"VLookUpX(\"男子C\",$C$7:$F$56,2,3)","v":{"$error":"#N/A"}},{"$f":"VLookUpX(\"男子C\",$C$7:$F$56,2,4)","v":{"$error":"#N/A"}},{"$f":"VLookUpX(\"女子C\",$A$7:$F$56,2,5)","v":{"$error":"#N/A"}},{"$f":"VLookUpX(\"女子C\",$A$7:$F$56,2,6)","v":{"$error":"#N/A"}},{"$f":"VLookUpX(\"女子C\",$C$7:$F$56,2,3)","v":{"$error":"#N/A"}},{"$f":"VLookUpX(\"女子C\",$C$7:$F$56,2,4)","v":{"$error":"#N/A"}}]
[0,{"$f":"名簿!Q28","v":""},0,null,{"$f":"名簿!E28","v":0},{"$f":"名簿!BN28","v":""},{"$f":"名簿!Z28","v":""},"",{"$f":"名簿!O28","v":""},{"$f":"名簿!I28","v":0},{"$f":"名簿!K28","v":0},{"$f":"名簿!BQ28","v":"00"},{"$f":"名簿!R28","v":""},{"$f":"名簿!D28","v":0},null,{"$f":"IF(O26=\"\",\"\",IF(I26=1,VLOOKUP(O26,男子種目コード!$A$1:$B$33,2,FALSE),IF(I26=2,VLOOKUP(O26,女子種目コード!$A$1:$B$28,2,FALSE))))","v":""},{"$f":"IF(O26=\"\",\"\",HLOOKUP(O26,名簿!$AB$8:$BG$58,21,FALSE))","v":""},0,2,null,{"$f":"IF(T26=\"\",\"\",IF(I26=1,VLOOKUP(T26,男子種目コード!$A$1:$B$33,2,FALSE),IF(I26=2,VLOOKUP(T26,女子種目コード!$A$1:$B$28,2,FALSE))))","v":""},{"$f":"IF(T26=\"\",\"\",HLOOKUP(T26,名簿!$AB$8:$BG$58,21,FALSE))","v":""},null,{"$f":"IF(W26=\"\",\"\",IF(I26=1,VLOOKUP(W26,男子種目コード!$D$2:$E$30,2,FALSE),IF(I26=2,VLOOKUP(W26,女子種目コード!$D$2:$E$30,2,FALSE))))","v":""},null,null,null,null,{"$f":"IF(AB26=\"\",\"\",IF(I26=1,VLOOKUP(AB26,男子種目コード!$A$82:$B$85,2,FALSE),IF(I26=2,VLOOKUP(AB26,女子種目コード!$A$82:$B$85,2,FALSE))))","v":""},null,0,2,null,{"$f":"IF(AG26=\"\",\"\",IF(I26=1,VLOOKUP(AG26,男子種目コード!$A$78:$B$81,2,FALSE),IF(I26=2,VLOOKUP(AG26,女子種目コード!$A$78:$B$81,2,FALSE))))","v":""},null,0,2,0,null,null,"少年3000","","",null,null,"",0,0,0,0,"ハンマー投","少年B100",null,0,0,"","","ハンマー投",{"$f":"COUNTIF($P$7:$P$56,21)+COUNTIF($U$7:$U$56,21)","v":0},"","","","","","","","",{"$f":"VLookUpX(\"男子C\",$A$7:$F$56,3,5)","v":{"$error":"#N/A"}},{"$f":"VLookUpX(\"男子C\",$A$7:$F$56,3,6)","v":{"$error":"#N/A"}},{"$f":"VLookUpX(\"男子C\",$C$7:$F$56,3,3)","v":{"$error":"#N/A"}},{"$f":"VLookUpX(\"男子C\",$C$7:$F$56,3,4)","v":{"$error":"#N/A"}},{"$f":"VLookUpX(\"女子C\",$A$7:$F$56,3,5)","v":{"$error":"#N/A"}},{"$f":"VLookUpX(\"女子C\",$A$7:$F$56,3,6)","v":{"$error":"#N/A"}},{"$f":"VLookUpX(\"女子C\",$C$7:$F$56,3,3)","v":{"$error":"#N/A"}},{"$f":"VLookUpX(\"女子C\",$C$7:$F$56,3,4)","v":{"$error":"#N/A"}}]
[0,{"$f":"名簿!Q29","v":""},0,null,{"$f":"名簿!E29","v":0},{"$f":"名簿!BN29","v":""},{"$f":"名簿!Z29","v":""},"",{"$f":"名簿!O29","v":""},{"$f":"名簿!I29","v":0},{"$f":"名簿!K29","v":0},{"$f":"名簿!BQ29","v":"00"},{"$f":"名簿!R29","v":""},{"$f":"名簿!D29","v":0},null,{"$f":"IF(O27=\"\",\"\",IF(I27=1,VLOOKUP(O27,男子種目コード!$A$1:$B$33,2,FALSE),IF(I27=2,VLOOKUP(O27,女子種目コード!$A$1:$B$28,2,FALSE))))","v":""},{"$f":"IF(O27=\"\",\"\",HLOOKUP(O27,名簿!$AB$8:$BG$58,22,FALSE))","v":""},0,2,null,{"$f":"IF(T27=\"\",\"\",IF(I27=1,VLOOKUP(T27,男子種目コード!$A$1:$B$33,2,FALSE),IF(I27=2,VLOOKUP(T27,女子種目コード!$A$1:$B$28,2,FALSE))))","v":""},{"$f":"IF(T27=\"\",\"\",HLOOKUP(T27,名簿!$AB$8:$BG$58,22,FALSE))","v":""},null,{"$f":"IF(W27=\"\",\"\",IF(I27=1,VLOOKUP(W27,男子種目コード!$D$2:$E$30,2,FALSE),IF(I27=2,VLOOKUP(W27,女子種目コード!$D$2:$E$30,2,FALSE))))","v":""},null,null,null,null,{"$f":"IF(AB27=\"\",\"\",IF(I27=1,VLOOKUP(AB27,男子種目コード!$A$82:$B$85,2,FALSE),IF(I27=2,VLOOKUP(AB27,女子種目コード!$A$82:$B$85,2,FALSE))))","v":""},null,0,2,null,{"$f":"IF(AG27=\"\",\"\",IF(I27=1,VLOOKUP(AG27,男子種目コード!$A$78:$B$81,2,FALSE),IF(I27=2,VLOOKUP(AG27,女子種目コード!$A$78:$B$81,2,FALSE))))","v":""},null,0,2,0,null,null,"少年B100H","","",null,null,"",0,0,0,0,"少年ハンマー投",null,null,0,0,"","","やり投",{"$f":"COUNTIF($P$7:$P$56,22)+COUNTIF($U$7:$U$56,22)","v":0},"","","","","","","","",{"$f":"VLookUpX(\"男子C\",$A$7:$F$56,4,5)","v":{"$error":"#N/A"}},{"$f":"VLookUpX(\"男子C\",$A$7:$F$56,4,6)","v":{"$error":"#N/A"}},{"$f":"VLookUpX(\"男子C\",$C$7:$F$56,4,3)","v":{"$error":"#N/A"}},{"$f":"VLookUpX(\"男子C\",$C$7:$F$56,4,4)","v":{"$error":"#N/A"}},{"$f":"VLookUpX(\"女子C\",$A$7:$F$56,4,5)","v":{"$error":"#N/A"}},{"$f":"VLookUpX(\"女子C\",$A$7:$F$56,4,6)","v":{"$error":"#N/A"}},{"$f":"VLookUpX(\"女子C\",$C$7:$F$56,4,3)","v":{"$error":"#N/A"}},{"$f":"VLookUpX(\"女子C\",$C$7:$F$56,4,4)","v":{"$error":"#N/A"}}]
[0,{"$f":"名簿!Q30","v":""},0,null,{"$f":"名簿!E30","v":0},{"$f":"名簿!BN30","v":""},{"$f":"名簿!Z30","v":""},"",{"$f":"名簿!O30","v":""},{"$f":"名簿!I30","v":0},{"$f":"名簿!K30","v":0},{"$f":"名簿!BQ30","v":"00"},{"$f":"名簿!R30","v":""},{"$f":"名簿!D30","v":0},null,{"$f":"IF(O28=\"\",\"\",IF(I28=1,VLOOKUP(O28,男子種目コード!$A$1:$B$33,2,FALSE),IF(I28=2,VLOOKUP(O28,女子種目コード!$A$1:$B$28,2,FALSE))))","v":""},{"$f":"IF(O28=\"\",\"\",HLOOKUP(O28,名簿!$AB$8:$BG$58,23,FALSE))","v":""},0,2,null,{"$f":"IF(T28=\"\",\"\",IF(I28=1,VLOOKUP(T28,男子種目コード!$A$1:$B$33,2,FALSE),IF(I28=2,VLOOKUP(T28,女子種目コード!$A$1:$B$28,2,FALSE))))","v":""},{"$f":"IF(T28=\"\",\"\",HLOOKUP(T28,名簿!$AB$8:$BG$58,23,FALSE))","v":""},null,{"$f":"IF(W28=\"\",\"\",IF(I28=1,VLOOKUP(W28,男子種目コード!$D$2:$E$30,2,FALSE),IF(I28=2,VLOOKUP(W28,女子種目コード!$D$2:$E$30,2,FALSE))))","v":""},null,null,null,null,{"$f":"IF(AB28=\"\",\"\",IF(I28=1,VLOOKUP(AB28,男子種目コード!$A$82:$B$85,2,FALSE),IF(I28=2,VLOOKUP(AB28,女子種目コード!$A$82:$B$85,2,FALSE))))","v":""},null,0,2,null,{"$f":"IF(AG28=\"\",\"\",IF(I28=1,VLOOKUP(AG28,男子種目コード!$A$78:$B$81,2,FALSE),IF(I28=2,VLOOKUP(AG28,女子種目コード!$A$78:$B$81,2,FALSE))))","v":""},null,0,2,0,null,null,"少年B110JH","","",null,null,"",0,0,0,0,"やり投",null,null,0,0,"","","少年B100",{"$f":"COUNTIF($P$7:$P$56,28)+COUNTIF($U$7:$U$56,28)","v":0},"","","","","","","","",{"$f":"VLookUpX(\"男子C\",$A$7:$F$56,5,5)","v":{"$error":"#N/A"}},{"$f":"VLookUpX(\"男子C\",$A$7:$F$56,5,6)","v":{"$error":"#N/A"}},{"$f":"VLookUpX(\"男子C\",$C$7:$F$56,5,3)","v":{"$error":"#N/A"}},{"$f":"VLookUpX(\"男子C\",$C$7:$F$56,5,4)","v":{"$error":"#N/A"}},{"$f":"VLookUpX(\"女子C\",$A$7:$F$56,5,5)","v":{"$error":"#N/A"}},{"$f":"VLookUpX(\"女子C\",$A$7:$F$56,5,6)","v":{"$error":"#N/A"}},{"$f":"VLookUpX(\"女子C\",$C$7:$F$56,5,3)","v":{"$error":"#N/A"}},{"$f":"VLookUpX(\"女子C\",$C$7:$F$56,5,4)","v":{"$error":"#N/A"}}]
[0,{"$f":"名簿!Q31","v":""},0,null,{"$f":"名簿!E31","v":0},{"$f":"名簿!BN31","v":""},{"$f":"名簿!Z31","v":""},"",{"$f":"名簿!O31","v":""},{"$f":"名簿!I31","v":0},{"$f":"名簿!K31","v":0},{"$f":"名簿!BQ31","v":"00"},{"$f":"名簿!R31","v":""},{"$f":"名簿!D31","v":0},null,{"$f":"IF(O29=\"\",\"\",IF(I29=1,VLOOKUP(O29,男子種目コード!$A$1:$B$33,2,FALSE),IF(I29=2,VLOOKUP(O29,女子種目コード!$A$1:$B$28,2,FALSE))))","v":""},{"$f":"IF(O29=\"\",\"\",HLOOKUP(O29,名簿!$AB$8:$BG$58,24,FALSE))","v":""},0,2,null,{"$f":"IF(T29=\"\",\"\",IF(I29=1,VLOOKUP(T29,男子種目コード!$A$1:$B$33,2,FALSE),IF(I29=2,VLOOKUP(T29,女子種目コード!$A$1:$B$28,2,FALSE))))","v":""},{"$f":"IF(T29=\"\",\"\",HLOOKUP(T29,名簿!$AB$8:$BG$58,24,FALSE))","v":""},null,{"$f":"IF(W29=\"\",\"\",IF(I29=1,VLOOKUP(W29,男子種目コード!$D$2:$E$30,2,FALSE),IF(I29=2,VLOOKUP(W29,女子種目コード!$D$2:$E$30,2,FALSE))))","v":""},null,null,null,null,{"$f":"IF(AB29=\"\",\"\",IF(I29=1,VLOOKUP(AB29,男子種目コード!$A$82:$B$85,2,FALSE),IF(I29=2,VLOOKUP(AB29,女子種目コード!$A$82:$B$85,2,FALSE))))","v":""},null,0,2,null,{"$f":"IF(AG29=\"\",\"\",IF(I29=1,VLOOKUP(AG29,男子種目コード!$A$78:$B$81,2,FALSE),IF(I29=2,VLOOKUP(AG29,女子種目コード!$A$78:$B$81,2,FALSE))))","v":""},null,0,2,0,null,null,"少年砲丸投","","",null,null,"",0,0,0,0,null,null,null,0,0,"","","少年B走幅跳",{"$f":"COUNTIF($P$7:$P$56,30)+COUNTIF($U$7:$U$56,30)","v":0},"","","","","","","","",{"$f":"VLookUpX(\"男子C\",$A$7:$F$56,6,5)","v":{"$error":"#N/A"}},{"$f":"VLookUpX(\"男子C\",$A$7:$F$56,6,6)","v":{"$error":"#N/A"}},{"$f":"VLookUpX(\"男子C\",$C$7:$F$56,6,3)","v":{"$error":"#N/A"}},{"$f":"VLookUpX(\"男子C\",$C$7:$F$56,6,4)","v":{"$error":"#N/A"}},{"$f":"VLookUpX(\"女子C\",$A$7:$F$56,6,5)","v":{"$error":"#N/A"}},{"$f":"VLookUpX(\"女子C\",$A$7:$F$56,6,6)","v":{"$error":"#N/A"}},{"$f":"VLookUpX(\"女子C\",$C$7:$F$56,6,3)","v":{"$error":"#N/A"}},{"$f":"VLookUpX(\"女子C\",$C$7:$F$56,6,4)","v":{"$error":"#N/A"}}]
[0,{"$f":"名簿!Q32","v":""},0,null,{"$f":"名簿!E32","v":0},{"$f":"名簿!BN32","v":""},{"$f":"名簿!Z32","v":""},"",{"$f":"名簿!O32","v":""},{"$f":"名簿!I32","v":0},{"$f":"名簿!K32","v":0},{"$f":"名簿!BQ32","v":"00"},{"$f":"名簿!R32","v":""},{"$f":"名簿!D32","v":0},null,{"$f":"IF(O30=\"\",\"\",IF(I30=1,VLOOKUP(O30,男子種目コード!$A$1:$B$33,2,FALSE),IF(I30=2,VLOOKUP(O30,女子種目コード!$A$1:$B$28,2,FALSE))))","v":""},{"$f":"IF(O30=\"\",\"\",HLOOKUP(O30,名簿!$AB$8:$BG$58,25,FALSE))","v":""},0,2,null,{"$f":"IF(T30=\"\",\"\",IF(I30=1,VLOOKUP(T30,男子種目コード!$A$1:$B$33,2,FALSE),IF(I30=2,VLOOKUP(T30,女子種目コード!$A$1:$B$28,2,FALSE))))","v":""},{"$f":"IF(T30=\"\",\"\",HLOOKUP(T30,名簿!$AB$8:$BG$58,25,FALSE))","v":""},null,{"$f":"IF(W30=\"\",\"\",IF(I30=1,VLOOKUP(W30,男子種目コード!$D$2:$E$30,2,FALSE),IF(I30=2,VLOOKUP(W30,女子種目コード!$D$2:$E$30,2,FALSE))))","v":""},null,null,null,null,{"$f":"IF(AB30=\"\",\"\",IF(I30=1,VLOOKUP(AB30,男子種目コード!$A$82:$B$85,2,FALSE),IF(I30=2,VLOOKUP(AB30,女子種目コード!$A$82:$B$85,2,FALSE))))","v":""},null,0,2,null,{"$f":"IF(AG30=\"\",\"\",IF(I30=1,VLOOKUP(AG30,男子種目コード!$A$78:$B$81,2,FALSE),IF(I30=2,VLOOKUP(AG30,女子種目コード!$A$78:$B$81,2,FALSE))))","v":""},null,0,2,0,null,null,"少年円盤投","","",null,null,"",0,0,0,0,100,100,null,0,0,"","","少年砲丸投",{"$f":"COUNTIF($P$7:$P$56,25)+COUNTIF($U$7:$U$56,25)","v":0},"男子4×100mR　Ｄ",null,"男子4×400mR　Ｄ",null,"女子4×100mR　Ｄ",null,"女子4×400mR　Ｄ"]
[0,{"$f":"名簿!Q33","v":""},0,null,{"$f":"名簿!E33","v":0},{"$f":"名簿!BN33","v":""},{"$f":"名簿!Z33","v":""},"",{"$f":"名簿!O33","v":""},{"$f":"名簿!I33","v":0},{"$f":"名簿!K33","v":0},{"$f":"名簿!BQ33","v":"00"},{"$f":"名簿!R33","v":""},{"$f":"名簿!D33","v":0},null,{"$f":"IF(O31=\"\",\"\",IF(I31=1,VLOOKUP(O31,男子種目コード!$A$1:$B$33,2,FALSE),IF(I31=2,VLOOKUP(O31,女子種目コード!$A$1:$B$28,2,FALSE))))","v":""},{"$f":"IF(O31=\"\",\"\",HLOOKUP(O31,名簿!$AB$8:$BG$58,26,FALSE))","v":""},0,2,null,{"$f":"IF(T31=\"\",\"\",IF(I31=1,VLOOKUP(T31,男子種目コード!$A$1:$B$33,2,FALSE),IF(I31=2,VLOOKUP(T31,女子種目コード!$A$1:$B$28,2,FALSE))))","v":""},{"$f":"IF(T31=\"\",\"\",HLOOKUP(T31,名簿!$AB$8:$BG$58,26,FALSE))","v":""},null,{"$f":"IF(W31=\"\",\"\",IF(I31=1,VLOOKUP(W31,男子種目コード!$D$2:$E$30,2,FALSE),IF(I31=2,VLOOKUP(W31,女子種目コード!$D$2:$E$30,2,FALSE))))","v":""},null,null,null,null,{"$f":"IF(AB31=\"\",\"\",IF(I31=1,VLOOKUP(AB31,男子種目コード!$A$82:$B$85,2,FALSE),IF(I31=2,VLOOKUP(AB31,女子種目コード!$A$82:$B$85,2,FALSE))))","v":""},null,0,2,null,{"$f":"IF(AG31=\"\",\"\",IF(I31=1,VLOOKUP(AG31,男子種目コード!$A$78:$B$81,2,FALSE),IF(I31=2,VLOOKUP(AG31,女子種目コード!$A$78:$B$81,2,FALSE))))","v":""},null,0,2,0,null,null,"少年ハンマー投","","",null,null,"",0,0,0,0,"少年B100","少年B100",null,0,0,"","","少年Ｂ砲丸投",{"$f":"COUNTIF($P$7:$P$56,29)+COUNTIF($U$7:$U$56,29)","v":0},"記録",null,"記録",null,"記録",null,"記録"]
[0,{"$f":"名簿!Q34","v":""},0,null,{"$f":"名簿!E34","v":0},{"$f":"名簿!BN34","v":""},{"$f":"名簿!Z34","v":""},"",{"$f":"名簿!O34","v":""},{"$f":"名簿!I34","v":0},{"$f":"名簿!K34","v":0},{"$f":"名簿!BQ34","v":"00"},{"$f":"名簿!R34","v":""},{"$f":"名簿!D34","v":0},null,{"$f":"IF(O32=\"\",\"\",IF(I32=1,VLOOKUP(O32,男子種目コード!$A$1:$B$33,2,FALSE),IF(I32=2,VLOOKUP(O32,女子種目コード!$A$1:$B$28,2,FALSE))))","v":""},{"$f":"IF(O32=\"\",\"\",HLOOKUP(O32,名簿!$AB$8:$BG$58,27,FALSE))","v":""},0,2,null,{"$f":"IF(T32=\"\",\"\",IF(I32=1,VLOOKUP(T32,男子種目コード!$A$1:$B$33,2,FALSE),IF(I32=2,VLOOKUP(T32,女子種目コード!$A$1:$B$28,2,FALSE))))","v":""},{"$f":"IF(T32=\"\",\"\",HLOOKUP(T32,名簿!$AB$8:$BG$58,27,FALSE))","v":""},null,{"$f":"IF(W32=\"\",\"\",IF(I32=1,VLOOKUP(W32,男子種目コード!$D$2:$E$30,2,FALSE),IF(I32=2,VLOOKUP(W32,女子種目コード!$D$2:$E$30,2,FALSE))))","v":""},null,null,null,null,{"$f":"IF(AB32=\"\",\"\",IF(I32=1,VLOOKUP(AB32,男子種目コード!$A$82:$B$85,2,FALSE),IF(I32=2,VLOOKUP(AB32,女子種目コード!$A$82:$B$85,2,FALSE))))","v":""},null,0,2,null,{"$f":"IF(AG32=\"\",\"\",IF(I32=1,VLOOKUP(AG32,男子種目コード!$A$78:$B$81,2,FALSE),IF(I32=2,VLOOKUP(AG32,女子種目コード!$A$78:$B$81,2,FALSE))))","v":""},null,0,2,0,null,null,"男子A","","",null,null,"",0,0,0,0,200,200,null,0,0,"","","少年円盤投",{"$f":"COUNTIF($P$7:$P$56,26)+COUNTIF($U$7:$U$56,26)","v":0},{"$f":"IF(ISERROR(BP32),\"\",BP32)","v":""},{"$f":"IF(ISERROR(BQ32),\"\",BQ32)","v":""},{"$f":"IF(ISERROR(BR32),\"\",BR32)","v":""},{"$f":"IF(ISERROR(BS32),\"\",BS32)","v":""},{"$f":"IF(ISERROR(BT32),\"\",BT32)","v":""},{"$f":"IF(ISERROR(BU32),\"\",BU32)","v":""},{"$f":"IF(ISERROR(BV32),\"\",BV32)","v":""},{"$f":"IF(ISERROR(BW32),\"\",BW32)","v":""},{"$f":"VLookUpX(\"男子D\",$A$7:$F$56,1,5)","v":{"$error":"#N/A"}},{"$f":"VLookUpX(\"男子D\",$A$7:$F$56,1,6)","v":{"$error":"#N/A"}},{"$f":"VLookUpX(\"男子D\",$C$7:$F$56,1,3)","v":{"$error":"#N/A"}},{"$f":"VLookUpX(\"男子D\",$C$7:$F$56,1,4)","v":{"$error":"#N/A"}},{"$f":"VLookUpX(\"女子D\",$A$7:$F$56,1,5)","v":{"$error":"#N/A"}},{"$f":"VLookUpX(\"女子D\",$A$7:$F$56,1,6)","v":{"$error":"#N/A"}},{"$f":"VLookUpX(\"女子D\",$C$7:$F$56,1,3)","v":{"$error":"#N/A"}},{"$f":"VLookUpX(\"女子D\",$C$7:$F$56,1,4)","v":{"$error":"#N/A"}},{"$f":"IF(BH32=\"\",\"\",1)","v":""},{"$f":"IF(BJ32=\"\",\"\",1)","v":""},{"$f":"IF(BL32=\"\",\"\",1)","v":""},{"$f":"IF(BN32=\"\",\"\",1)","v":""}]
[0,{"$f":"名簿!Q35","v":""},0,null,{"$f":"名簿!E35","v":0},{"$f":"名簿!BN35","v":""},{"$f":"名簿!Z35","v":""},"",{"$f":"名簿!O35","v":""},{"$f":"名簿!I35","v":0},{"$f":"名簿!K35","v":0},{"$f":"名簿!BQ35","v":"00"},{"$f":"名簿!R35","v":""},{"$f":"名簿!D35","v":0},null,{"$f":"IF(O33=\"\",\"\",IF(I33=1,VLOOKUP(O33,男子種目コード!$A$1:$B$33,2,FALSE),IF(I33=2,VLOOKUP(O33,女子種目コード!$A$1:$B$28,2,FALSE))))","v":""},{"$f":"IF(O33=\"\",\"\",HLOOKUP(O33,名簿!$AB$8:$BG$58,28,FALSE))","v":""},0,2,null,{"$f":"IF(T33=\"\",\"\",IF(I33=1,VLOOKUP(T33,男子種目コード!$A$1:$B$33,2,FALSE),IF(I33=2,VLOOKUP(T33,女子種目コード!$A$1:$B$28,2,FALSE))))","v":""},{"$f":"IF(T33=\"\",\"\",HLOOKUP(T33,名簿!$AB$8:$BG$58,28,FALSE))","v":""},null,{"$f":"IF(W33=\"\",\"\",IF(I33=1,VLOOKUP(W33,男子種目コード!$D$2:$E$30,2,FALSE),IF(I33=2,VLOOKUP(W33,女子種目コード!$D$2:$E$30,2,FALSE))))","v":""},null,null,null,null,{"$f":"IF(AB33=\"\",\"\",IF(I33=1,VLOOKUP(AB33,男子種目コード!$A$82:$B$85,2,FALSE),IF(I33=2,VLOOKUP(AB33,女子種目コード!$A$82:$B$85,2,FALSE))))","v":""},null,0,2,null,{"$f":"IF(AG33=\"\",\"\",IF(I33=1,VLOOKUP(AG33,男子種目コード!$A$78:$B$81,2,FALSE),IF(I33=2,VLOOKUP(AG33,女子種目コード!$A$78:$B$81,2,FALSE))))","v":""},null,0,2,0,null,null,"男子B","","",null,null,"",0,0,0,0,400,400,null,0,0,"","","少年ハンマー",{"$f":"COUNTIF($P$7:$P$56,27)+COUNTIF($U$7:$U$56,27)","v":0},"","","","","","","","",{"$f":"VLookUpX(\"男子D\",$A$7:$F$56,2,5)","v":{"$error":"#N/A"}},{"$f":"VLookUpX(\"男子D\",$A$7:$F$56,2,6)","v":{"$error":"#N/A"}},{"$f":"VLookUpX(\"男子D\",$C$7:$F$56,2,3)","v":{"$error":"#N/A"}},{"$f":"VLookUpX(\"男子D\",$C$7:$F$56,2,4)","v":{"$error":"#N/A"}},{"$f":"VLookUpX(\"女子D\",$A$7:$F$56,2,5)","v":{"$error":"#N/A"}},{"$f":"VLookUpX(\"女子D\",$A$7:$F$56,2,6)","v":{"$error":"#N/A"}},{"$f":"VLookUpX(\"女子D\",$C$7:$F$56,2,3)","v":{"$error":"#N/A"}},{"$f":"VLookUpX(\"女子D\",$C$7:$F$56,2,4)","v":{"$error":"#N/A"}}]
[0,{"$f":"名簿!Q36","v":""},0,null,{"$f":"名簿!E36","v":0},{"$f":"名簿!BN36","v":""},{"$f":"名簿!Z36","v":""},"",{"$f":"名簿!O36","v":""},{"$f":"名簿!I36","v":0},{"$f":"名簿!K36","v":0},{"$f":"名簿!BQ36","v":"00"},{"$f":"名簿!R36","v":""},{"$f":"名簿!D36","v":0},null,{"$f":"IF(O34=\"\",\"\",IF(I34=1,VLOOKUP(O34,男子種目コード!$A$1:$B$33,2,FALSE),IF(I34=2,VLOOKUP(O34,女子種目コード!$A$1:$B$28,2,FALSE))))","v":""},{"$f":"IF(O34=\"\",\"\",HLOOKUP(O34,名簿!$AB$8:$BG$58,29,FALSE))","v":""},0,2,null,{"$f":"IF(T34=\"\",\"\",IF(I34=1,VLOOKUP(T34,男子種目コード!$A$1:$B$33,2,FALSE),IF(I34=2,VLOOKUP(T34,女子種目コード!$A$1:$B$28,2,FALSE))))","v":""},{"$f":"IF(T34=\"\",\"\",HLOOKUP(T34,名簿!$AB$8:$BG$58,29,FALSE))","v":""},null,{"$f":"IF(W34=\"\",\"\",IF(I34=1,VLOOKUP(W34,男子種目コード!$D$2:$E$30,2,FALSE),IF(I34=2,VLOOKUP(W34,女子種目コード!$D$2:$E$30,2,FALSE))))","v":""},null,null,null,null,{"$f":"IF(AB34=\"\",\"\",IF(I34=1,VLOOKUP(AB34,男子種目コード!$A$82:$B$85,2,FALSE),IF(I34=2,VLOOKUP(AB34,女子種目コード!$A$82:$B$85,2,FALSE))))","v":""},null,0,2,null,{"$f":"IF(AG34=\"\",\"\",IF(I34=1,VLOOKUP(AG34,男子種目コード!$A$78:$B$81,2,FALSE),IF(I34=2,VLOOKUP(AG34,女子種目コード!$A$78:$B$81,2,FALSE))))","v":""},null,0,2,0,null,null,"男子C","","",null,null,"",0,0,0,0,800,800,null,0,0,"","","計",{"$f":"SUM(BG8:BG33)","v":0},"","","","","","","","",{"$f":"VLookUpX(\"男子D\",$A$7:$F$56,3,5)","v":{"$error":"#N/A"}},{"$f":"VLookUpX(\"男子D\",$A$7:$F$56,3,6)","v":{"$error":"#N/A"}},{"$f":"VLookUpX(\"男子D\",$C$7:$F$56,3,3)","v":{"$error":"#N/A"}},{"$f":"VLookUpX(\"男子D\",$C$7:$F$56,3,4)","v":{"$error":"#N/A"}},{"$f":"VLookUpX(\"女子D\",$A$7:$F$56,3,5)","v":{"$error":"#N/A"}},{"$f":"VLookUpX(\"女子D\",$A$7:$F$56,3,6)","v":{"$error":"#N/A"}},{"$f":"VLookUpX(\"女子D\",$C$7:$F$56,3,3)","v":{"$error":"#N/A"}},{"$f":"VLookUpX(\"女子D\",$C$7:$F$56,3,4)","v":{"$error":"#N/A"}}]
[0,{"$f":"名簿!Q37","v":""},0,null,{"$f":"名簿!E37","v":0},{"$f":"名簿!BN37","v":""},{"$f":"名簿!Z37","v":""},"",{"$f":"名簿!O37","v":""},{"$f":"名簿!I37","v":0},{"$f":"名簿!K37","v":0},{"$f":"名簿!BQ37","v":"00"},{"$f":"名簿!R37","v":""},{"$f":"名簿!D37","v":0},null,{"$f":"IF(O35=\"\",\"\",IF(I35=1,VLOOKUP(O35,男子種目コード!$A$1:$B$33,2,FALSE),IF(I35=2,VLOOKUP(O35,女子種目コード!$A$1:$B$28,2,FALSE))))","v":""},{"$f":"IF(O35=\"\",\"\",HLOOKUP(O35,名簿!$AB$8:$BG$58,30,FALSE))","v":""},0,2,null,{"$f":"IF(T35=\"\",\"\",IF(I35=1,VLOOKUP(T35,男子種目コード!$A$1:$B$33,2,FALSE),IF(I35=2,VLOOKUP(T35,女子種目コード!$A$1:$B$28,2,FALSE))))","v":""},{"$f":"IF(T35=\"\",\"\",HLOOKUP(T35,名簿!$AB$8:$BG$58,30,FALSE))","v":""},null,{"$f":"IF(W35=\"\",\"\",IF(I35=1,VLOOKUP(W35,男子種目コード!$D$2:$E$30,2,FALSE),IF(I35=2,VLOOKUP(W35,女子種目コード!$D$2:$E$30,2,FALSE))))","v":""},null,null,null,null,{"$f":"IF(AB35=\"\",\"\",IF(I35=1,VLOOKUP(AB35,男子種目コード!$A$82:$B$85,2,FALSE),IF(I35=2,VLOOKUP(AB35,女子種目コード!$A$82:$B$85,2,FALSE))))","v":""},null,0,2,null,{"$f":"IF(AG35=\"\",\"\",IF(I35=1,VLOOKUP(AG35,男子種目コード!$A$78:$B$81,2,FALSE),IF(I35=2,VLOOKUP(AG35,女子種目コード!$A$78:$B$81,2,FALSE))))","v":""},null,0,2,0,null,null,"女子A","","",null,null,"",0,0,0,0,1500,1500,null,0,0,"","","女子",null,"","","","","","","","",{"$f":"VLookUpX(\"男子D\",$A$7:$F$56,4,5)","v":{"$error":"#N/A"}},{"$f":"VLookUpX(\"男子D\",$A$7:$F$56,4,6)","v":{"$error":"#N/A"}},{"$f":"VLookUpX(\"男子D\",$C$7:$F$56,4,3)","v":{"$error":"#N/A"}},{"$f":"VLookUpX(\"男子D\",$C$7:$F$56,4,4)","v":{"$error":"#N/A"}},{"$f":"VLookUpX(\"女子D\",$A$7:$F$56,4,5)","v":{"$error":"#N/A"}},{"$f":"VLookUpX(\"女子D\",$A$7:$F$56,4,6)","v":{"$error":"#N/A"}},{"$f":"VLookUpX(\"女子D\",$C$7:$F$56,4,3)","v":{"$error":"#N/A"}},{"$f":"VLookUpX(\"女子D\",$C$7:$F$56,4,4)","v":{"$error":"#N/A"}}]
[0,{"$f":"名簿!Q38","v":""},0,null,{"$f":"名簿!E38","v":0},{"$f":"名簿!BN38","v":""},{"$f":"名簿!Z38","v":""},"",{"$f":"名簿!O38","v":""},{"$f":"名簿!I38","v":0},{"$f":"名簿!K38","v":0},{"$f":"名簿!BQ38","v":"00"},{"$f":"名簿!R38","v":""},{"$f":"名簿!D38","v":0},null,{"$f":"IF(O36=\"\",\"\",IF(I36=1,VLOOKUP(O36,男子種目コード!$A$1:$B$33,2,FALSE),IF(I36=2,VLOOKUP(O36,女子種目コード!$A$1:$B$28,2,FALSE))))","v":""},{"$f":"IF(O36=\"\",\"\",HLOOKUP(O36,名簿!$AB$8:$BG$58,31,FALSE))","v":""},0,2,null,{"$f":"IF(T36=\"\",\"\",IF(I36=1,VLOOKUP(T36,男子種目コード!$A$1:$B$33,2,FALSE),IF(I36=2,VLOOKUP(T36,女子種目コード!$A$1:$B$28,2,FALSE))))","v":""},{"$f":"IF(T36=\"\",\"\",HLOOKUP(T36,名簿!$AB$8:$BG$58,31,FALSE))","v":""},null,{"$f":"IF(W36=\"\",\"\",IF(I36=1,VLOOKUP(W36,男子種目コード!$D$2:$E$30,2,FALSE),IF(I36=2,VLOOKUP(W36,女子種目コード!$D$2:$E$30,2,FALSE))))","v":""},null,null,null,null,{"$f":"IF(AB36=\"\",\"\",IF(I36=1,VLOOKUP(AB36,男子種目コード!$A$82:$B$85,2,FALSE),IF(I36=2,VLOOKUP(AB36,女子種目コード!$A$82:$B$85,2,FALSE))))","v":""},null,0,2,null,{"$f":"IF(AG36=\"\",\"\",IF(I36=1,VLOOKUP(AG36,男子種目コード!$A$78:$B$81,2,FALSE),IF(I36=2,VLOOKUP(AG36,女子種目コード!$A$78:$B$81,2,FALSE))))","v":""},null,0,2,0,null,null,"女子B","","",null,null,"",0,0,0,0,"少年3000","少年3000",null,0,0,"","",100,{"$f":"COUNTIF($P$7:$P$56,40)+COUNTIF($U$7:$U$56,40)","v":0},"","","","","","","","",{"$f":"VLookUpX(\"男子D\",$A$7:$F$56,5,5)","v":{"$error":"#N/A"}},{"$f":"VLookUpX(\"男子D\",$A$7:$F$56,5,6)","v":{"$error":"#N/A"}},{"$f":"VLookUpX(\"男子D\",$C$7:$F$56,5,3)","v":{"$error":"#N/A"}},{"$f":"VLookUpX(\"男子D\",$C$7:$F$56,5,4)","v":{"$error":"#N/A"}},{"$f":"VLookUpX(\"女子D\",$A$7:$F$56,5,5)","v":{"$error":"#N/A"}},{"$f":"VLookUpX(\"女子D\",$A$7:$F$56,5,6)","v":{"$error":"#N/A"}},{"$f":"VLookUpX(\"女子D\",$C$7:$F$56,5,3)","v":{"$error":"#N/A"}},{"$f":"VLookUpX(\"女子D\",$C$7:$F$56,5,4)","v":{"$error":"#N/A"}}]
[0,{"$f":"名簿!Q39","v":""},0,null,{"$f":"名簿!E39","v":0},{"$f":"名簿!BN39","v":""},{"$f":"名簿!Z39","v":""},"",{"$f":"名簿!O39","v":""},{"$f":"名簿!I39","v":0},{"$f":"名簿!K39","v":0},{"$f":"名簿!BQ39","v":"00"},{"$f":"名簿!R39","v":""},{"$f":"名簿!D39","v":0},null,{"$f":"IF(O37=\"\",\"\",IF(I37=1,VLOOKUP(O37,男子種目コード!$A$1:$B$33,2,FALSE),IF(I37=2,VLOOKUP(O37,女子種目コード!$A$1:$B$28,2,FALSE))))","v":""},{"$f":"IF(O37=\"\",\"\",HLOOKUP(O37,名簿!$AB$8:$BG$58,32,FALSE))","v":""},0,2,null,{"$f":"IF(T37=\"\",\"\",IF(I37=1,VLOOKUP(T37,男子種目コード!$A$1:$B$33,2,FALSE),IF(I37=2,VLOOKUP(T37,女子種目コード!$A$1:$B$28,2,FALSE))))","v":""},{"$f":"IF(T37=\"\",\"\",HLOOKUP(T37,名簿!$AB$8:$BG$58,32,FALSE))","v":""},null,{"$f":"IF(W37=\"\",\"\",IF(I37=1,VLOOKUP(W37,男子種目コード!$D$2:$E$30,2,FALSE),IF(I37=2,VLOOKUP(W37,女子種目コード!$D$2:$E$30,2,FALSE))))","v":""},null,null,null,null,{"$f":"IF(AB37=\"\",\"\",IF(I37=1,VLOOKUP(AB37,男子種目コード!$A$82:$B$85,2,FALSE),IF(I37=2,VLOOKUP(AB37,女子種目コード!$A$82:$B$85,2,FALSE))))","v":""},null,0,2,null,{"$f":"IF(AG37=\"\",\"\",IF(I37=1,VLOOKUP(AG37,男子種目コード!$A$78:$B$81,2,FALSE),IF(I37=2,VLOOKUP(AG37,女子種目コード!$A$78:$B$81,2,FALSE))))","v":""},null,0,2,0,null,null,"女子C","","",null,null,"",0,0,0,0,5000,5000,null,0,0,"","","少年B100",{"$f":"COUNTIF($P$7:$P$56,66)+COUNTIF($U$7:$U$56,66)","v":0},"","","","","","","","",{"$f":"VLookUpX(\"男子D\",$A$7:$F$56,6,5)","v":{"$error":"#N/A"}},{"$f":"VLookUpX(\"男子D\",$A$7:$F$56,6,6)","v":{"$error":"#N/A"}},{"$f":"VLookUpX(\"男子D\",$C$7:$F$56,6,3)","v":{"$error":"#N/A"}},{"$f":"VLookUpX(\"男子D\",$C$7:$F$56,6,4)","v":{"$error":"#N/A"}},{"$f":"VLookUpX(\"女子D\",$A$7:$F$56,6,5)","v":{"$error":"#N/A"}},{"$f":"VLookUpX(\"女子D\",$A$7:$F$56,6,6)","v":{"$error":"#N/A"}},{"$f":"VLookUpX(\"女子D\",$C$7:$F$56,6,3)","v":{"$error":"#N/A"}},{"$f":"VLookUpX(\"女子D\",$C$7:$F$56,6,4)","v":{"$error":"#N/A"}}]
[0,{"$f":"名簿!Q40","v":""},0,null,{"$f":"名簿!E40","v":0},{"$f":"名簿!BN40","v":""},{"$f":"名簿!Z40","v":""},"",{"$f":"名簿!O40","v":""},{"$f":"名簿!I40","v":0},{"$f":"名簿!K40","v":0},{"$f":"名簿!BQ40","v":"00"},{"$f":"名簿!R40","v":""},{"$f":"名簿!D40","v":0},null,{"$f":"IF(O38=\"\",\"\",IF(I38=1,VLOOKUP(O38,男子種目コード!$A$1:$B$33,2,FALSE),IF(I38=2,VLOOKUP(O38,女子種目コード!$A$1:$B$28,2,FALSE))))","v":""},{"$f":"IF(O38=\"\",\"\",HLOOKUP(O38,名簿!$AB$8:$BG$58,33,FALSE))","v":""},0,2,null,{"$f":"IF(T38=\"\",\"\",IF(I38=1,VLOOKUP(T38,男子種目コード!$A$1:$B$33,2,FALSE),IF(I38=2,VLOOKUP(T38,女子種目コード!$A$1:$B$28,2,FALSE))))","v":""},{"$f":"IF(T38=\"\",\"\",HLOOKUP(T38,名簿!$AB$8:$BG$58,33,FALSE))","v":""},null,{"$f":"IF(W38=\"\",\"\",IF(I38=1,VLOOKUP(W38,男子種目コード!$D$2:$E$30,2,FALSE),IF(I38=2,VLOOKUP(W38,女子種目コード!$D$2:$E$30,2,FALSE))))","v":""},null,null,null,null,{"$f":"IF(AB38=\"\",\"\",IF(I38=1,VLOOKUP(AB38,男子種目コード!$A$82:$B$85,2,FALSE),IF(I38=2,VLOOKUP(AB38,女子種目コード!$A$82:$B$85,2,FALSE))))","v":""},null,0,2,null,{"$f":"IF(AG38=\"\",\"\",IF(I38=1,VLOOKUP(AG38,男子種目コード!$A$78:$B$81,2,FALSE),IF(I38=2,VLOOKUP(AG38,女子種目コード!$A$78:$B$81,2,FALSE))))","v":""},null,0,2,0,null,null,null,"","",null,null,"",0,0,0,0,10000,10000,null,0,0,"","",200,{"$f":"COUNTIF($P$7:$P$56,41)+COUNTIF($U$7:$U$56,41)","v":0},null,null,null,null,null,null,null,null,null,null,null,null,null,null,null,null,{"$f":"SUM(BX8:BX37)","v":0},{"$f":"SUM(BY8:BY37)","v":0},{"$f":"SUM(BZ8:BZ37)","v":0},{"$f":"SUM(CA8:CA37)","v":0},{"$f":"SUM(BX38:CA38)","v":0}]
[0,{"$f":"名簿!Q41","v":""},0,null,{"$f":"名簿!E41","v":0},{"$f":"名簿!BN41","v":""},{"$f":"名簿!Z41","v":""},{"$f":"F39","v":""},{"$f":"名簿!O41","v":""},{"$f":"名簿!I41","v":0},{"$f":"名簿!K41","v":0},{"$f":"名簿!BQ41","v":"00"},{"$f":"名簿!R41","v":""},{"$f":"名簿!D41","v":0},null,{"$f":"IF(O39=\"\",\"\",IF(I39=1,VLOOKUP(O39,男子種目コード!$A$1:$B$33,2,FALSE),IF(I39=2,VLOOKUP(O39,女子種目コード!$A$1:$B$28,2,FALSE))))","v":""},{"$f":"IF(O39=\"\",\"\",HLOOKUP(O39,名簿!$AB$8:$BG$58,34,FALSE))","v":""},0,2,null,{"$f":"IF(T39=\"\",\"\",IF(I39=1,VLOOKUP(T39,男子種目コード!$A$1:$B$33,2,FALSE),IF(I39=2,VLOOKUP(T39,女子種目コード!$A$1:$B$28,2,FALSE))))","v":""},{"$f":"IF(T39=\"\",\"\",HLOOKUP(T39,名簿!$AB$8:$BG$58,34,FALSE))","v":""},null,{"$f":"IF(W39=\"\",\"\",IF(I39=1,VLOOKUP(W39,男子種目コード!$D$2:$E$30,2,FALSE),IF(I39=2,VLOOKUP(W39,女子種目コード!$D$2:$E$30,2,FALSE))))","v":""},null,null,null,null,{"$f":"IF(AB39=\"\",\"\",IF(I39=1,VLOOKUP(AB39,男子種目コード!$A$82:$B$85,2,FALSE),IF(I39=2,VLOOKUP(AB39,女子種目コード!$A$82:$B$85,2,FALSE))))","v":""},null,0,2,null,{"$f":"IF(AG39=\"\",\"\",IF(I39=1,VLOOKUP(AG39,男子種目コード!$A$78:$B$81,2,FALSE),IF(I39=2,VLOOKUP(AG39,女子種目コード!$A$78:$B$81,2,FALSE))))","v":""},null,0,2,0,null,null,null,{"$f":"IF(O39=\"\",\"\",1)","v":""},"",null,null,"",{"$f":"IF(OR(AT39=1,T39=\"\"),0,1)","v":0},{"$f":"IF(OR(AT39=1,AU39=1,AB39=\"\"),0,1)","v":0},{"$f":"IF(OR(AT39=1,AU39=1,AV39=1,AG39=\"\"),0,1)","v":0},0,"110H","100H",null,0,0,"","",400,{"$f":"COUNTIF($P$7:$P$56,42)+COUNTIF($U$7:$U$56,42)","v":0},"標準記録","男子","女子"]
[0,{"$f":"名簿!Q42","v":""},0,null,{"$f":"名簿!E42","v":0},{"$f":"名簿!BN42","v":""},{"$f":"名簿!Z42","v":""},"",{"$f":"名簿!O42","v":""},{"$f":"名簿!I42","v":0},{"$f":"名簿!K42","v":0},{"$f":"名簿!BQ42","v":"00"},{"$f":"名簿!R42","v":""},{"$f":"名簿!D42","v":0},null,{"$f":"IF(O40=\"\",\"\",IF(I40=1,VLOOKUP(O40,男子種目コード!$A$1:$B$33,2,FALSE),IF(I40=2,VLOOKUP(O40,女子種目コード!$A$1:$B$28,2,FALSE))))","v":""},{"$f":"IF(O40=\"\",\"\",HLOOKUP(O40,名簿!$AB$8:$BG$58,35,FALSE))","v":""},0,2,null,{"$f":"IF(T40=\"\",\"\",IF(I40=1,VLOOKUP(T40,男子種目コード!$A$1:$B$33,2,FALSE),IF(I40=2,VLOOKUP(T40,女子種目コード!$A$1:$B$28,2,FALSE))))","v":""},{"$f":"IF(T40=\"\",\"\",HLOOKUP(T40,名簿!$AB$8:$BG$58,35,FALSE))","v":""},null,{"$f":"IF(W40=\"\",\"\",IF(I40=1,VLOOKUP(W40,男子種目コード!$D$2:$E$30,2,FALSE),IF(I40=2,VLOOKUP(W40,女子種目コード!$D$2:$E$30,2,FALSE))))","v":""},null,null,null,null,{"$f":"IF(AB40=\"\",\"\",IF(I40=1,VLOOKUP(AB40,男子種目コード!$A$82:$B$85,2,FALSE),IF(I40=2,VLOOKUP(AB40,女子種目コード!$A$82:$B$85,2,FALSE))))","v":""},null,0,2,null,{"$f":"IF(AG40=\"\",\"\",IF(I40=1,VLOOKUP(AG40,男子種目コード!$A$78:$B$81,2,FALSE),IF(I40=2,VLOOKUP(AG40,女子種目コード!$A$78:$B$81,2,FALSE))))","v":""},null,0,2,0,null,null,null,"","",null,null,"",0,0,0,0,"少年B110JH","少年B100YH",null,0,0,"","",800,{"$f":"COUNTIF($P$7:$P$56,43)+COUNTIF($U$7:$U$56,43)","v":0},100,"11.70","13.90"]
[0,{"$f":"名簿!Q43","v":""},0,null,{"$f":"名簿!E43","v":0},{"$f":"名簿!BN43","v":""},{"$f":"名簿!Z43","v":""},"",{"$f":"名簿!O43","v":""},{"$f":"名簿!I43","v":0},{"$f":"名簿!K43","v":0},{"$f":"名簿!BQ43","v":"00"},{"$f":"名簿!R43","v":""},{"$f":"名簿!D43","v":0},null,{"$f":"IF(O41=\"\",\"\",IF(I41=1,VLOOKUP(O41,男子種目コード!$A$1:$B$33,2,FALSE),IF(I41=2,VLOOKUP(O41,女子種目コード!$A$1:$B$28,2,FALSE))))","v":""},{"$f":"IF(O41=\"\",\"\",HLOOKUP(O41,名簿!$AB$8:$BG$58,36,FALSE))","v":""},0,2,null,{"$f":"IF(T41=\"\",\"\",IF(I41=1,VLOOKUP(T41,男子種目コード!$A$1:$B$33,2,FALSE),IF(I41=2,VLOOKUP(T41,女子種目コード!$A$1:$B$28,2,FALSE))))","v":""},{"$f":"IF(T41=\"\",\"\",HLOOKUP(T41,名簿!$AB$8:$BG$58,36,FALSE))","v":""},null,{"$f":"IF(W41=\"\",\"\",IF(I41=1,VLOOKUP(W41,男子種目コード!$D$2:$E$30,2,FALSE),IF(I41=2,VLOOKUP(W41,女子種目コード!$D$2:$E$30,2,FALSE))))","v":""},null,null,null,null,{"$f":"IF(AB41=\"\",\"\",IF(I41=1,VLOOKUP(AB41,男子種目コード!$A$82:$B$85,2,FALSE),IF(I41=2,VLOOKUP(AB41,女子種目コード!$A$82:$B$85,2,FALSE))))","v":""},null,0,2,null,{"$f":"IF(AG41=\"\",\"\",IF(I41=1,VLOOKUP(AG41,男子種目コード!$A$78:$B$81,2,FALSE),IF(I41=2,VLOOKUP(AG41,女子種目コード!$A$78:$B$81,2,FALSE))))","v":""},null,0,2,0,null,null,null,"","",null,null,"",0,0,0,0,"400H","400H",null,0,0,"","",1500,{"$f":"COUNTIF($P$7:$P$56,44)+COUNTIF($U$7:$U$56,44)","v":0},200,"23.80","29.00"]
[0,{"$f":"名簿!Q44","v":""},0,null,{"$f":"名簿!E44","v":0},{"$f":"名簿!BN44","v":""},{"$f":"名簿!Z44","v":""},"",{"$f":"名簿!O44","v":""},{"$f":"名簿!I44","v":0},{"$f":"名簿!K44","v":0},{"$f":"名簿!BQ44","v":"00"},{"$f":"名簿!R44","v":""},{"$f":"名簿!D44","v":0},null,{"$f":"IF(O42=\"\",\"\",IF(I42=1,VLOOKUP(O42,男子種目コード!$A$1:$B$33,2,FALSE),IF(I42=2,VLOOKUP(O42,女子種目コード!$A$1:$B$28,2,FALSE))))","v":""},{"$f":"IF(O42=\"\",\"\",HLOOKUP(O42,名簿!$AB$8:$BG$58,37,FALSE))","v":""},0,2,null,{"$f":"IF(T42=\"\",\"\",IF(I42=1,VLOOKUP(T42,男子種目コード!$A$1:$B$33,2,FALSE),IF(I42=2,VLOOKUP(T42,女子種目コード!$A$1:$B$28,2,FALSE))))","v":""},{"$f":"IF(T42=\"\",\"\",HLOOKUP(T42,名簿!$AB$8:$BG$58,37,FALSE))","v":""},null,{"$f":"IF(W42=\"\",\"\",IF(I42=1,VLOOKUP(W42,男子種目コード!$D$2:$E$30,2,FALSE),IF(I42=2,VLOOKUP(W42,女子種目コード!$D$2:$E$30,2,FALSE))))","v":""},null,null,null,null,{"$f":"IF(AB42=\"\",\"\",IF(I42=1,VLOOKUP(AB42,男子種目コード!$A$82:$B$85,2,FALSE),IF(I42=2,VLOOKUP(AB42,女子種目コード!$A$82:$B$85,2,FALSE))))","v":""},null,0,2,null,{"$f":"IF(AG42=\"\",\"\",IF(I42=1,VLOOKUP(AG42,男子種目コード!$A$78:$B$81,2,FALSE),IF(I42=2,VLOOKUP(AG42,女子種目コード!$A$78:$B$81,2,FALSE))))","v":""},null,0,2,0,null,null,null,"","",null,null,"",0,0,0,0,"3000SC","3000SC",null,0,0,"","","少年3000",{"$f":"COUNTIF($P$7:$P$56,64)+COUNTIF($U$7:$U$56,64)","v":0},400,"0.54.00","1.08.00"]
[0,{"$f":"名簿!Q45","v":""},0,null,{"$f":"名簿!E45","v":0},{"$f":"名簿!BN45","v":""},{"$f":"名簿!Z45","v":""},"",{"$f":"名簿!O45","v":""},{"$f":"名簿!I45","v":0},{"$f":"名簿!K45","v":0},{"$f":"名簿!BQ45","v":"00"},{"$f":"名簿!R45","v":""},{"$f":"名簿!D45","v":0},null,{"$f":"IF(O43=\"\",\"\",IF(I43=1,VLOOKUP(O43,男子種目コード!$A$1:$B$33,2,FALSE),IF(I43=2,VLOOKUP(O43,女子種目コード!$A$1:$B$28,2,FALSE))))","v":""},{"$f":"IF(O43=\"\",\"\",HLOOKUP(O43,名簿!$AB$8:$BG$58,38,FALSE))","v":""},0,2,null,{"$f":"IF(T43=\"\",\"\",IF(I43=1,VLOOKUP(T43,男子種目コード!$A$1:$B$33,2,FALSE),IF(I43=2,VLOOKUP(T43,女子種目コード!$A$1:$B$28,2,FALSE))))","v":""},{"$f":"IF(T43=\"\",\"\",HLOOKUP(T43,名簿!$AB$8:$BG$58,38,FALSE))","v":""},null,{"$f":"IF(W43=\"\",\"\",IF(I43=1,VLOOKUP(W43,男子種目コード!$D$2:$E$30,2,FALSE),IF(I43=2,VLOOKUP(W43,女子種目コード!$D$2:$E$30,2,FALSE))))","v":""},null,null,null,null,{"$f":"IF(AB43=\"\",\"\",IF(I43=1,VLOOKUP(AB43,男子種目コード!$A$82:$B$85,2,FALSE),IF(I43=2,VLOOKUP(AB43,女子種目コード!$A$82:$B$85,2,FALSE))))","v":""},null,0,2,null,{"$f":"IF(AG43=\"\",\"\",IF(I43=1,VLOOKUP(AG43,男子種目コード!$A$78:$B$81,2,FALSE),IF(I43=2,VLOOKUP(AG43,女子種目コード!$A$78:$B$81,2,FALSE))))","v":""},null,0,2,0,null,null,null,"","",null,null,"",0,0,0,0,"5000W","5000W",null,0,0,"","",5000,{"$f":"COUNTIF($P$7:$P$56,46)+COUNTIF($U$7:$U$56,46)","v":0},800,"2.10.00","2.40.00"]
[0,{"$f":"名簿!Q46","v":""},0,null,{"$f":"名簿!E46","v":0},{"$f":"名簿!BN46","v":""},{"$f":"名簿!Z46","v":""},"",{"$f":"名簿!O46","v":""},{"$f":"名簿!I46","v":0},{"$f":"名簿!K46","v":0},{"$f":"名簿!BQ46","v":"00"},{"$f":"名簿!R46","v":""},{"$f":"名簿!D46","v":0},null,{"$f":"IF(O44=\"\",\"\",IF(I44=1,VLOOKUP(O44,男子種目コード!$A$1:$B$33,2,FALSE),IF(I44=2,VLOOKUP(O44,女子種目コード!$A$1:$B$28,2,FALSE))))","v":""},{"$f":"IF(O44=\"\",\"\",HLOOKUP(O44,名簿!$AB$8:$BG$58,39,FALSE))","v":""},0,2,null,{"$f":"IF(T44=\"\",\"\",IF(I44=1,VLOOKUP(T44,男子種目コード!$A$1:$B$33,2,FALSE),IF(I44=2,VLOOKUP(T44,女子種目コード!$A$1:$B$28,2,FALSE))))","v":""},{"$f":"IF(T44=\"\",\"\",HLOOKUP(T44,名簿!$AB$8:$BG$58,39,FALSE))","v":""},null,{"$f":"IF(W44=\"\",\"\",IF(I44=1,VLOOKUP(W44,男子種目コード!$D$2:$E$30,2,FALSE),IF(I44=2,VLOOKUP(W44,女子種目コード!$D$2:$E$30,2,FALSE))))","v":""},null,null,null,null,{"$f":"IF(AB44=\"\",\"\",IF(I44=1,VLOOKUP(AB44,男子種目コード!$A$82:$B$85,2,FALSE),IF(I44=2,VLOOKUP(AB44,女子種目コード!$A$82:$B$85,2,FALSE))))","v":""},null,0,2,null,{"$f":"IF(AG44=\"\",\"\",IF(I44=1,VLOOKUP(AG44,男子種目コード!$A$78:$B$81,2,FALSE),IF(I44=2,VLOOKUP(AG44,女子種目コード!$A$78:$B$81,2,FALSE))))","v":""},null,0,2,0,null,null,null,"","",null,null,"",0,0,0,0,"走高跳","走高跳",null,0,0,"","",10000,{"$f":"COUNTIF($P$7:$P$56,47)+COUNTIF($U$7:$U$56,47)","v":0},1500,"4.30.00","5.30.00"]
[0,{"$f":"名簿!Q47","v":""},0,null,{"$f":"名簿!E47","v":0},{"$f":"名簿!BN47","v":""},{"$f":"名簿!Z47","v":""},"",{"$f":"名簿!O47","v":""},{"$f":"名簿!I47","v":0},{"$f":"名簿!K47","v":0},{"$f":"名簿!BQ47","v":"00"},{"$f":"名簿!R47","v":""},{"$f":"名簿!D47","v":0},null,{"$f":"IF(O45=\"\",\"\",IF(I45=1,VLOOKUP(O45,男子種目コード!$A$1:$B$33,2,FALSE),IF(I45=2,VLOOKUP(O45,女子種目コード!$A$1:$B$28,2,FALSE))))","v":""},{"$f":"IF(O45=\"\",\"\",HLOOKUP(O45,名簿!$AB$8:$BG$58,40,FALSE))","v":""},0,2,null,{"$f":"IF(T45=\"\",\"\",IF(I45=1,VLOOKUP(T45,男子種目コード!$A$1:$B$33,2,FALSE),IF(I45=2,VLOOKUP(T45,女子種目コード!$A$1:$B$28,2,FALSE))))","v":""},{"$f":"IF(T45=\"\",\"\",HLOOKUP(T45,名簿!$AB$8:$BG$58,40,FALSE))","v":""},null,{"$f":"IF(W45=\"\",\"\",IF(I45=1,VLOOKUP(W45,男子種目コード!$D$2:$E$30,2,FALSE),IF(I45=2,VLOOKUP(W45,女子種目コード!$D$2:$E$30,2,FALSE))))","v":""},null,null,null,null,{"$f":"IF(AB45=\"\",\"\",IF(I45=1,VLOOKUP(AB45,男子種目コード!$A$82:$B$85,2,FALSE),IF(I45=2,VLOOKUP(AB45,女子種目コード!$A$82:$B$85,2,FALSE))))","v":""},null,0,2,null,{"$f":"IF(AG45=\"\",\"\",IF(I45=1,VLOOKUP(AG45,男子種目コード!$A$78:$B$81,2,FALSE),IF(I45=2,VLOOKUP(AG45,女子種目コード!$A$78:$B$81,2,FALSE))))","v":""},null,0,2,0,null,null,null,"","",null,null,"",0,0,0,0,"棒高跳","棒高跳",null,0,0,"","","100H",{"$f":"COUNTIF($P$7:$P$56,48)+COUNTIF($U$7:$U$56,48)","v":0},5000,"16.30.00","20.00.00"]
[0,{"$f":"名簿!Q48","v":""},0,null,{"$f":"名簿!E48","v":0},{"$f":"名簿!BN48","v":""},{"$f":"名簿!Z48","v":""},"",{"$f":"名簿!O48","v":""},{"$f":"名簿!I48","v":0},{"$f":"名簿!K48","v":0},{"$f":"名簿!BQ48","v":"00"},{"$f":"名簿!R48","v":""},{"$f":"名簿!D48","v":0},null,{"$f":"IF(O46=\"\",\"\",IF(I46=1,VLOOKUP(O46,男子種目コード!$A$1:$B$33,2,FALSE),IF(I46=2,VLOOKUP(O46,女子種目コード!$A$1:$B$28,2,FALSE))))","v":""},{"$f":"IF(O46=\"\",\"\",HLOOKUP(O46,名簿!$AB$8:$BG$58,41,FALSE))","v":""},0,2,null,{"$f":"IF(T46=\"\",\"\",IF(I46=1,VLOOKUP(T46,男子種目コード!$A$1:$B$33,2,FALSE),IF(I46=2,VLOOKUP(T46,女子種目コード!$A$1:$B$28,2,FALSE))))","v":""},{"$f":"IF(T46=\"\",\"\",HLOOKUP(T46,名簿!$AB$8:$BG$58,41,FALSE))","v":""},null,{"$f":"IF(W46=\"\",\"\",IF(I46=1,VLOOKUP(W46,男子種目コード!$D$2:$E$30,2,FALSE),IF(I46=2,VLOOKUP(W46,女子種目コード!$D$2:$E$30,2,FALSE))))","v":""},null,null,null,null,{"$f":"IF(AB46=\"\",\"\",IF(I46=1,VLOOKUP(AB46,男子種目コード!$A$82:$B$85,2,FALSE),IF(I46=2,VLOOKUP(AB46,女子種目コード!$A$82:$B$85,2,FALSE))))","v":""},null,0,2,null,{"$f":"IF(AG46=\"\",\"\",IF(I46=1,VLOOKUP(AG46,男子種目コード!$A$78:$B$81,2,FALSE),IF(I46=2,VLOOKUP(AG46,女子種目コード!$A$78:$B$81,2,FALSE))))","v":""},null,0,2,0,null,null,null,"","",null,null,"",0,0,0,0,"走幅跳","走幅跳",null,0,0,"","","少年B100YH",{"$f":"COUNTIF($P$7:$P$56,65)+COUNTIF($U$7:$U$56,65)","v":0},10000,"37.00","43.00"]
[0,{"$f":"名簿!Q49","v":""},0,null,{"$f":"名簿!E49","v":0},{"$f":"名簿!BN49","v":""},{"$f":"名簿!Z49","v":""},"",{"$f":"名簿!O49","v":""},{"$f":"名簿!I49","v":0},{"$f":"名簿!K49","v":0},{"$f":"名簿!BQ49","v":"00"},{"$f":"名簿!R49","v":""},{"$f":"名簿!D49","v":0},null,{"$f":"IF(O47=\"\",\"\",IF(I47=1,VLOOKUP(O47,男子種目コード!$A$1:$B$33,2,FALSE),IF(I47=2,VLOOKUP(O47,女子種目コード!$A$1:$B$28,2,FALSE))))","v":""},{"$f":"IF(O47=\"\",\"\",HLOOKUP(O47,名簿!$AB$8:$BG$58,42,FALSE))","v":""},0,2,null,{"$f":"IF(T47=\"\",\"\",IF(I47=1,VLOOKUP(T47,男子種目コード!$A$1:$B$33,2,FALSE),IF(I47=2,VLOOKUP(T47,女子種目コード!$A$1:$B$28,2,FALSE))))","v":""},{"$f":"IF(T47=\"\",\"\",HLOOKUP(T47,名簿!$AB$8:$BG$58,42,FALSE))","v":""},null,{"$f":"IF(W47=\"\",\"\",IF(I47=1,VLOOKUP(W47,男子種目コード!$D$2:$E$30,2,FALSE),IF(I47=2,VLOOKUP(W47,女子種目コード!$D$2:$E$30,2,FALSE))))","v":""},null,null,null,null,{"$f":"IF(AB47=\"\",\"\",IF(I47=1,VLOOKUP(AB47,男子種目コード!$A$82:$B$85,2,FALSE),IF(I47=2,VLOOKUP(AB47,女子種目コード!$A$82:$B$85,2,FALSE))))","v":""},null,0,2,null,{"$f":"IF(AG47=\"\",\"\",IF(I47=1,VLOOKUP(AG47,男子種目コード!$A$78:$B$81,2,FALSE),IF(I47=2,VLOOKUP(AG47,女子種目コード!$A$78:$B$81,2,FALSE))))","v":""},null,0,2,0,null,null,null,"","",null,null,"",0,0,0,0,"少年B走幅跳","三段跳",null,0,0,"","","400H",{"$f":"COUNTIF($P$7:$P$56,49)+COUNTIF($U$7:$U$56,49)","v":0},"4×100R"]
[0,{"$f":"名簿!Q50","v":""},0,null,{"$f":"名簿!E50","v":0},{"$f":"名簿!BN50","v":""},{"$f":"名簿!Z50","v":""},"",{"$f":"名簿!O50","v":""},{"$f":"名簿!I50","v":0},{"$f":"名簿!K50","v":0},{"$f":"名簿!BQ50","v":"00"},{"$f":"名簿!R50","v":""},{"$f":"名簿!D50","v":0},null,{"$f":"IF(O48=\"\",\"\",IF(I48=1,VLOOKUP(O48,男子種目コード!$A$1:$B$33,2,FALSE),IF(I48=2,VLOOKUP(O48,女子種目コード!$A$1:$B$28,2,FALSE))))","v":""},{"$f":"IF(O48=\"\",\"\",HLOOKUP(O48,名簿!$AB$8:$BG$58,43,FALSE))","v":""},0,2,null,{"$f":"IF(T48=\"\",\"\",IF(I48=1,VLOOKUP(T48,男子種目コード!$A$1:$B$33,2,FALSE),IF(I48=2,VLOOKUP(T48,女子種目コード!$A$1:$B$28,2,FALSE))))","v":""},{"$f":"IF(T48=\"\",\"\",HLOOKUP(T48,名簿!$AB$8:$BG$58,43,FALSE))","v":""},null,{"$f":"IF(W48=\"\",\"\",IF(I48=1,VLOOKUP(W48,男子種目コード!$D$2:$E$30,2,FALSE),IF(I48=2,VLOOKUP(W48,女子種目コード!$D$2:$E$30,2,FALSE))))","v":""},null,null,null,null,{"$f":"IF(AB48=\"\",\"\",IF(I48=1,VLOOKUP(AB48,男子種目コード!$A$82:$B$85,2,FALSE),IF(I48=2,VLOOKUP(AB48,女子種目コード!$A$82:$B$85,2,FALSE))))","v":""},null,0,2,null,{"$f":"IF(AG48=\"\",\"\",IF(I48=1,VLOOKUP(AG48,男子種目コード!$A$78:$B$81,2,FALSE),IF(I48=2,VLOOKUP(AG48,女子種目コード!$A$78:$B$81,2,FALSE))))","v":""},null,0,2,0,null,null,null,"","",null,null,"",0,0,0,0,"三段跳","砲丸投",null,0,0,"","","3000SC",{"$f":"COUNTIF($P$7:$P$56,50)+COUNTIF($U$7:$U$56,50)","v":0},"4×400R"]
[0,{"$f":"名簿!Q51","v":""},0,null,{"$f":"名簿!E51","v":0},{"$f":"名簿!BN51","v":""},{"$f":"名簿!Z51","v":""},"",{"$f":"名簿!O51","v":""},{"$f":"名簿!I51","v":0},{"$f":"名簿!K51","v":0},{"$f":"名簿!BQ51","v":"00"},{"$f":"名簿!R51","v":""},{"$f":"名簿!D51","v":0},null,{"$f":"IF(O49=\"\",\"\",IF(I49=1,VLOOKUP(O49,男子種目コード!$A$1:$B$33,2,FALSE),IF(I49=2,VLOOKUP(O49,女子種目コード!$A$1:$B$28,2,FALSE))))","v":""},{"$f":"IF(O49=\"\",\"\",HLOOKUP(O49,名簿!$AB$8:$BG$58,44,FALSE))","v":""},0,2,null,{"$f":"IF(T49=\"\",\"\",IF(I49=1,VLOOKUP(T49,男子種目コード!$A$1:$B$33,2,FALSE),IF(I49=2,VLOOKUP(T49,女子種目コード!$A$1:$B$28,2,FALSE))))","v":""},{"$f":"IF(T49=\"\",\"\",HLOOKUP(T49,名簿!$AB$8:$BG$58,44,FALSE))","v":""},null,{"$f":"IF(W49=\"\",\"\",IF(I49=1,VLOOKUP(W49,男子種目コード!$D$2:$E$30,2,FALSE),IF(I49=2,VLOOKUP(W49,女子種目コード!$D$2:$E$30,2,FALSE))))","v":""},null,null,null,null,{"$f":"IF(AB49=\"\",\"\",IF(I49=1,VLOOKUP(AB49,男子種目コード!$A$82:$B$85,2,FALSE),IF(I49=2,VLOOKUP(AB49,女子種目コード!$A$82:$B$85,2,FALSE))))","v":""},null,0,2,null,{"$f":"IF(AG49=\"\",\"\",IF(I49=1,VLOOKUP(AG49,男子種目コード!$A$78:$B$81,2,FALSE),IF(I49=2,VLOOKUP(AG49,女子種目コード!$A$78:$B$81,2,FALSE))))","v":""},null,0,2,0,null,null,null,"","",null,null,"",0,0,0,0,"砲丸投","円盤投",null,0,0,"","","5000W",{"$f":"COUNTIF($P$7:$P$56,52)+COUNTIF($U$7:$U$56,52)","v":0},"110H","20.00","20.00"]
[0,{"$f":"名簿!Q52","v":""},0,null,{"$f":"名簿!E52","v":0},{"$f":"名簿!BN52","v":""},{"$f":"名簿!Z52","v":""},"",{"$f":"名簿!O52","v":""},{"$f":"名簿!I52","v":0},{"$f":"名簿!K52","v":0},{"$f":"名簿!BQ52","v":"00"},{"$f":"名簿!R52","v":""},{"$f":"名簿!D52","v":0},null,{"$f":"IF(O50=\"\",\"\",IF(I50=1,VLOOKUP(O50,男子種目コード!$A$1:$B$33,2,FALSE),IF(I50=2,VLOOKUP(O50,女子種目コード!$A$1:$B$28,2,FALSE))))","v":""},{"$f":"IF(O50=\"\",\"\",HLOOKUP(O50,名簿!$AB$8:$BG$58,45,FALSE))","v":""},0,2,null,{"$f":"IF(T50=\"\",\"\",IF(I50=1,VLOOKUP(T50,男子種目コード!$A$1:$B$33,2,FALSE),IF(I50=2,VLOOKUP(T50,女子種目コード!$A$1:$B$28,2,FALSE))))","v":""},{"$f":"IF(T50=\"\",\"\",HLOOKUP(T50,名簿!$AB$8:$BG$58,45,FALSE))","v":""},null,{"$f":"IF(W50=\"\",\"\",IF(I50=1,VLOOKUP(W50,男子種目コード!$D$2:$E$30,2,FALSE),IF(I50=2,VLOOKUP(W50,女子種目コード!$D$2:$E$30,2,FALSE))))","v":""},null,null,null,null,{"$f":"IF(AB50=\"\",\"\",IF(I50=1,VLOOKUP(AB50,男子種目コード!$A$82:$B$85,2,FALSE),IF(I50=2,VLOOKUP(AB50,女子種目コード!$A$82:$B$85,2,FALSE))))","v":""},null,0,2,null,{"$f":"IF(AG50=\"\",\"\",IF(I50=1,VLOOKUP(AG50,男子種目コード!$A$78:$B$81,2,FALSE),IF(I50=2,VLOOKUP(AG50,女子種目コード!$A$78:$B$81,2,FALSE))))","v":""},null,0,2,0,null,null,null,"","",null,null,"",0,0,0,0,"少年砲丸投","ハンマー投",null,0,0,"","","走高跳",{"$f":"COUNTIF($P$7:$P$56,55)+COUNTIF($U$7:$U$56,55)","v":0},"400H","1.03.00","1.15.00"]
[0,{"$f":"名簿!Q53","v":""},0,null,{"$f":"名簿!E53","v":0},{"$f":"名簿!BN53","v":""},{"$f":"名簿!Z53","v":""},"",{"$f":"名簿!O53","v":""},{"$f":"名簿!I53","v":0},{"$f":"名簿!K53","v":0},{"$f":"名簿!BQ53","v":"00"},{"$f":"名簿!R53","v":""},{"$f":"名簿!D53","v":0},null,{"$f":"IF(O51=\"\",\"\",IF(I51=1,VLOOKUP(O51,男子種目コード!$A$1:$B$33,2,FALSE),IF(I51=2,VLOOKUP(O51,女子種目コード!$A$1:$B$28,2,FALSE))))","v":""},{"$f":"IF(O51=\"\",\"\",HLOOKUP(O51,名簿!$AB$8:$BG$58,46,FALSE))","v":""},0,2,null,{"$f":"IF(T51=\"\",\"\",IF(I51=1,VLOOKUP(T51,男子種目コード!$A$1:$B$33,2,FALSE),IF(I51=2,VLOOKUP(T51,女子種目コード!$A$1:$B$28,2,FALSE))))","v":""},{"$f":"IF(T51=\"\",\"\",HLOOKUP(T51,名簿!$AB$8:$BG$58,46,FALSE))","v":""},null,{"$f":"IF(W51=\"\",\"\",IF(I51=1,VLOOKUP(W51,男子種目コード!$D$2:$E$30,2,FALSE),IF(I51=2,VLOOKUP(W51,女子種目コード!$D$2:$E$30,2,FALSE))))","v":""},null,null,null,null,{"$f":"IF(AB51=\"\",\"\",IF(I51=1,VLOOKUP(AB51,男子種目コード!$A$82:$B$85,2,FALSE),IF(I51=2,VLOOKUP(AB51,女子種目コード!$A$82:$B$85,2,FALSE))))","v":""},null,0,2,null,{"$f":"IF(AG51=\"\",\"\",IF(I51=1,VLOOKUP(AG51,男子種目コード!$A$78:$B$81,2,FALSE),IF(I51=2,VLOOKUP(AG51,女子種目コード!$A$78:$B$81,2,FALSE))))","v":""},null,0,2,0,null,null,null,"","",null,null,"",0,0,0,0,"少年B砲丸投","やり投",null,0,0,"","","棒高跳",{"$f":"COUNTIF($P$7:$P$56,56)+COUNTIF($U$7:$U$56,56)","v":0},"3000SC","11.30.00","　"]
[0,{"$f":"名簿!Q54","v":""},0,null,{"$f":"名簿!E54","v":0},{"$f":"名簿!BN54","v":""},{"$f":"名簿!Z54","v":""},"",{"$f":"名簿!O54","v":""},{"$f":"名簿!I54","v":0},{"$f":"名簿!K54","v":0},{"$f":"名簿!BQ54","v":"00"},{"$f":"名簿!R54","v":""},{"$f":"名簿!D54","v":0},null,{"$f":"IF(O52=\"\",\"\",IF(I52=1,VLOOKUP(O52,男子種目コード!$A$1:$B$33,2,FALSE),IF(I52=2,VLOOKUP(O52,女子種目コード!$A$1:$B$28,2,FALSE))))","v":""},{"$f":"IF(O52=\"\",\"\",HLOOKUP(O52,名簿!$AB$8:$BG$58,47,FALSE))","v":""},0,2,null,{"$f":"IF(T52=\"\",\"\",IF(I52=1,VLOOKUP(T52,男子種目コード!$A$1:$B$33,2,FALSE),IF(I52=2,VLOOKUP(T52,女子種目コード!$A$1:$B$28,2,FALSE))))","v":""},{"$f":"IF(T52=\"\",\"\",HLOOKUP(T52,名簿!$AB$8:$BG$58,47,FALSE))","v":""},null,{"$f":"IF(W52=\"\",\"\",IF(I52=1,VLOOKUP(W52,男子種目コード!$D$2:$E$30,2,FALSE),IF(I52=2,VLOOKUP(W52,女子種目コード!$D$2:$E$30,2,FALSE))))","v":""},null,null,null,null,{"$f":"IF(AB52=\"\",\"\",IF(I52=1,VLOOKUP(AB52,男子種目コード!$A$82:$B$85,2,FALSE),IF(I52=2,VLOOKUP(AB52,女子種目コード!$A$82:$B$85,2,FALSE))))","v":""},null,0,2,null,{"$f":"IF(AG52=\"\",\"\",IF(I52=1,VLOOKUP(AG52,男子種目コード!$A$78:$B$81,2,FALSE),IF(I52=2,VLOOKUP(AG52,女子種目コード!$A$78:$B$81,2,FALSE))))","v":""},null,0,2,0,null,null,null,"","",null,null,"",0,0,0,0,"円盤投",null,null,0,0,"","","走幅跳",{"$f":"COUNTIF($P$7:$P$56,57)+COUNTIF($U$7:$U$56,57)","v":0},"5000W","30.00.00","35.00.00"]
[0,{"$f":"名簿!Q55","v":""},0,null,{"$f":"名簿!E55","v":0},{"$f":"名簿!BN55","v":""},{"$f":"名簿!Z55","v":""},"",{"$f":"名簿!O55","v":""},{"$f":"名簿!I55","v":0},{"$f":"名簿!K55","v":0},{"$f":"名簿!BQ55","v":"00"},{"$f":"名簿!R55","v":""},{"$f":"名簿!D55","v":0},null,{"$f":"IF(O53=\"\",\"\",IF(I53=1,VLOOKUP(O53,男子種目コード!$A$1:$B$33,2,FALSE),IF(I53=2,VLOOKUP(O53,女子種目コード!$A$1:$B$28,2,FALSE))))","v":""},{"$f":"IF(O53=\"\",\"\",HLOOKUP(O53,名簿!$AB$8:$BG$58,48,FALSE))","v":""},0,2,null,{"$f":"IF(T53=\"\",\"\",IF(I53=1,VLOOKUP(T53,男子種目コード!$A$1:$B$33,2,FALSE),IF(I53=2,VLOOKUP(T53,女子種目コード!$A$1:$B$28,2,FALSE))))","v":""},{"$f":"IF(T53=\"\",\"\",HLOOKUP(T53,名簿!$AB$8:$BG$58,48,FALSE))","v":""},null,{"$f":"IF(W53=\"\",\"\",IF(I53=1,VLOOKUP(W53,男子種目コード!$D$2:$E$30,2,FALSE),IF(I53=2,VLOOKUP(W53,女子種目コード!$D$2:$E$30,2,FALSE))))","v":""},null,null,null,null,{"$f":"IF(AB53=\"\",\"\",IF(I53=1,VLOOKUP(AB53,男子種目コード!$A$82:$B$85,2,FALSE),IF(I53=2,VLOOKUP(AB53,女子種目コード!$A$82:$B$85,2,FALSE))))","v":""},null,0,2,null,{"$f":"IF(AG53=\"\",\"\",IF(I53=1,VLOOKUP(AG53,男子種目コード!$A$78:$B$81,2,FALSE),IF(I53=2,VLOOKUP(AG53,女子種目コード!$A$78:$B$81,2,FALSE))))","v":""},null,0,2,0,null,null,null,"","",null,null,"",0,0,0,0,"少年円盤投",null,null,0,0,"","","三段跳",{"$f":"COUNTIF($P$7:$P$56,58)+COUNTIF($U$7:$U$56,58)","v":0},"走高跳","1m70","1m40"]
[0,{"$f":"名簿!Q56","v":""},0,null,{"$f":"名簿!E56","v":0},{"$f":"名簿!BN56","v":""},{"$f":"名簿!Z56","v":""},"",{"$f":"名簿!O56","v":""},{"$f":"名簿!I56","v":0},{"$f":"名簿!K56","v":0},{"$f":"名簿!BQ56","v":"00"},{"$f":"名簿!R56","v":""},{"$f":"名簿!D56","v":0},null,{"$f":"IF(O54=\"\",\"\",IF(I54=1,VLOOKUP(O54,男子種目コード!$A$1:$B$33,2,FALSE),IF(I54=2,VLOOKUP(O54,女子種目コード!$A$1:$B$28,2,FALSE))))","v":""},{"$f":"IF(O54=\"\",\"\",HLOOKUP(O54,名簿!$AB$8:$BG$58,49,FALSE))","v":""},0,2,null,{"$f":"IF(T54=\"\",\"\",IF(I54=1,VLOOKUP(T54,男子種目コード!$A$1:$B$33,2,FALSE),IF(I54=2,VLOOKUP(T54,女子種目コード!$A$1:$B$28,2,FALSE))))","v":""},{"$f":"IF(T54=\"\",\"\",HLOOKUP(T54,名簿!$AB$8:$BG$58,49,FALSE))","v":""},null,{"$f":"IF(W54=\"\",\"\",IF(I54=1,VLOOKUP(W54,男子種目コード!$D$2:$E$30,2,FALSE),IF(I54=2,VLOOKUP(W54,女子種目コード!$D$2:$E$30,2,FALSE))))","v":""},null,null,null,null,{"$f":"IF(AB54=\"\",\"\",IF(I54=1,VLOOKUP(AB54,男子種目コード!$A$82:$B$85,2,FALSE),IF(I54=2,VLOOKUP(AB54,女子種目コード!$A$82:$B$85,2,FALSE))))","v":""},null,0,2,null,{"$f":"IF(AG54=\"\",\"\",IF(I54=1,VLOOKUP(AG54,男子種目コード!$A$78:$B$81,2,FALSE),IF(I54=2,VLOOKUP(AG54,女子種目コード!$A$78:$B$81,2,FALSE))))","v":""},null,0,2,0,null,null,null,"","",null,null,"",0,0,0,0,"ハンマー投",null,null,0,0,"","","砲丸投",{"$f":"COUNTIF($P$7:$P$56,59)+COUNTIF($U$7:$U$56,59)","v":0},"棒高跳","3m00"]
[0,{"$f":"名簿!Q57","v":""},0,null,{"$f":"名簿!E57","v":0},{"$f":"名簿!BN57","v":""},{"$f":"名簿!Z57","v":""},"",{"$f":"名簿!O57","v":""},{"$f":"名簿!I57","v":0},{"$f":"名簿!K57","v":0},{"$f":"名簿!BQ57","v":"00"},{"$f":"名簿!R57","v":""},{"$f":"名簿!D57","v":0},null,{"$f":"IF(O55=\"\",\"\",IF(I55=1,VLOOKUP(O55,男子種目コード!$A$1:$B$33,2,FALSE),IF(I55=2,VLOOKUP(O55,女子種目コード!$A$1:$B$28,2,FALSE))))","v":""},{"$f":"IF(O55=\"\",\"\",HLOOKUP(O55,名簿!$AB$8:$BG$58,50,FALSE))","v":""},0,2,null,{"$f":"IF(T55=\"\",\"\",IF(I55=1,VLOOKUP(T55,男子種目コード!$A$1:$B$33,2,FALSE),IF(I55=2,VLOOKUP(T55,女子種目コード!$A$1:$B$28,2,FALSE))))","v":""},{"$f":"IF(T55=\"\",\"\",HLOOKUP(T55,名簿!$AB$8:$BG$58,50,FALSE))","v":""},null,{"$f":"IF(W55=\"\",\"\",IF(I55=1,VLOOKUP(W55,男子種目コード!$D$2:$E$30,2,FALSE),IF(I55=2,VLOOKUP(W55,女子種目コード!$D$2:$E$30,2,FALSE))))","v":""},null,null,null,null,{"$f":"IF(AB55=\"\",\"\",IF(I55=1,VLOOKUP(AB55,男子種目コード!$A$82:$B$85,2,FALSE),IF(I55=2,VLOOKUP(AB55,女子種目コード!$A$82:$B$85,2,FALSE))))","v":""},null,0,2,null,{"$f":"IF(AG55=\"\",\"\",IF(I55=1,VLOOKUP(AG55,男子種目コード!$A$78:$B$81,2,FALSE),IF(I55=2,VLOOKUP(AG55,女子種目コード!$A$78:$B$81,2,FALSE))))","v":""},null,0,2,0,null,null,null,"","",null,null,"",0,0,0,0,"少年ハンマー投",null,null,0,0,"","","円盤投",{"$f":"COUNTIF($P$7:$P$56,60)+COUNTIF($U$7:$U$56,60)","v":0},"走幅跳","5m80","4m50"]
[0,{"$f":"名簿!Q58","v":""},0,null,{"$f":"名簿!E58","v":0},{"$f":"名簿!BN58","v":""},{"$f":"名簿!Z58","v":""},"",{"$f":"名簿!O58","v":""},{"$f":"名簿!I58","v":0},{"$f":"名簿!K58","v":0},{"$f":"名簿!BQ58","v":"00"},{"$f":"名簿!R58","v":""},{"$f":"名簿!D58","v":0},null,{"$f":"IF(O56=\"\",\"\",IF(I56=1,VLOOKUP(O56,男子種目コード!$A$1:$B$33,2,FALSE),IF(I56=2,VLOOKUP(O56,女子種目コード!$A$1:$B$28,2,FALSE))))","v":""},{"$f":"IF(O56=\"\",\"\",HLOOKUP(O56,名簿!$AB$8:$BG$58,51,FALSE))","v":""},0,2,null,{"$f":"IF(T56=\"\",\"\",IF(I56=1,VLOOKUP(T56,男子種目コード!$A$1:$B$33,2,FALSE),IF(I56=2,VLOOKUP(T56,女子種目コード!$A$1:$B$28,2,FALSE))))","v":""},{"$f":"IF(T56=\"\",\"\",HLOOKUP(T56,名簿!$AB$8:$BG$58,51,FALSE))","v":""},null,{"$f":"IF(W56=\"\",\"\",IF(I56=1,VLOOKUP(W56,男子種目コード!$D$2:$E$30,2,FALSE),IF(I56=2,VLOOKUP(W56,女子種目コード!$D$2:$E$30,2,FALSE))))","v":""},null,null,null,null,{"$f":"IF(AB56=\"\",\"\",IF(I56=1,VLOOKUP(AB56,男子種目コード!$A$82:$B$85,2,FALSE),IF(I56=2,VLOOKUP(AB56,女子種目コード!$A$82:$B$85,2,FALSE))))","v":""},null,0,2,null,{"$f":"IF(AG56=\"\",\"\",IF(I56=1,VLOOKUP(AG56,男子種目コード!$A$78:$B$81,2,FALSE),IF(I56=2,VLOOKUP(AG56,女子種目コード!$A$78:$B$81,2,FALSE))))","v":""},null,0,2,0,null,null,null,"","",null,null,"",0,0,0,0,"やり投",null,null,0,0,"","","ハンマー投",{"$f":"COUNTIF($P$7:$P$56,61)+COUNTIF($U$7:$U$56,61)","v":0},"三段跳","12m50"]
[null,null,null,null,null,null,null,null,null,null,null,null,null,null,null,null,null,null,null,null,null,null,null,null,null,null,null,null,null,null,null,null,null,null,null,null,null,null,null,null,null,null,null,null,null,null,null,null,null,null,null,null,null,{"$f":"SUM(BB7:BB56)","v":0},{"$f":"SUM(BC7:BC56)","v":0},{"$f":"SUM(BD7:BD56)","v":0},{"$f":"SUM(BE7:BE56)","v":0},"やり投",{"$f":"COUNTIF($P$7:$P$56,62)+COUNTIF($U$7:$U$56,62)","v":0},"砲丸投","9m00","8m00"]
[null,null,null,null,null,null,null,null,null,null,null,null,null,null,null,null,null,null,null,null,null,null,null,null,null,null,null,null,null,null,null,null,null,null,null,null,null,null,null,null,null,null,null,null,null,null,null,null,null,null,null,null,null,null,null,null,null,"計",{"$f":"SUM(BG36:BG57)","v":0},"円盤投","30m00","25m00"]
[null,null,null,null,null,null,null,null,null,null,null,null,null,null,null,null,null,null,null,null,null,null,null,null,null,null,null,null,null,null,null,null,null,null,null,null,null,null,null,null,null,null,null,null,null,null,null,null,null,null,null,null,null,null,null,null,null,null,null,"ﾊﾝﾏｰ投","35m00"]
[null,null,null,null,null,null,null,null,null,null,null,null,null,null,null,null,null,null,null,null,null,null,null,null,null,null,null,null,null,null,null,null,null,null,null,null,null,null,null,null,null,null,null,null,null,null,null,null,null,null,null,null,null,null,null,null,null,null,null,"やり投","40m00","25m00"]
[]
[]
[]
[]
[]
[null,null,null,null,null,null,null,null,null,null,null,null,null,null,null,null,null,null,null,null,null,"男子A",null,null,null,null,null,{"$f":"COUNTIF($AB$7:$AB$56,\"男子A\")","v":0},{"$f":"COUNTIF($AB$7:$AB$56,\"男子A\")","v":0},{"$f":"COUNTIF($AB$7:$AB$56,\"男子A\")","v":0},{"$f":"COUNTIF($AB$7:$AB$56,\"男子A\")","v":0},{"$f":"COUNTIF($AB$7:$AB$56,\"男子A\")","v":0},{"$f":"COUNTIF($AG$7:$AG$56,\"男子A\")","v":0}]
[null,null,null,null,null,null,null,null,null,null,null,null,null,null,null,null,null,null,null,null,null,"男子B",null,null,null,null,null,{"$f":"COUNTIF($AB$7:$AB$56,\"男子B\")","v":0},{"$f":"COUNTIF($AB$7:$AB$56,\"男子B\")","v":0},{"$f":"COUNTIF($AB$7:$AB$56,\"男子B\")","v":0},{"$f":"COUNTIF($AB$7:$AB$56,\"男子B\")","v":0},{"$f":"COUNTIF($AB$7:$AB$56,\"男子B\")","v":0},{"$f":"COUNTIF($AG$7:$AG$56,\"男子B\")","v":0}]
[null,null,null,null,null,null,null,null,null,null,null,null,null,null,null,null,null,null,null,null,null,"男子C",null,null,null,null,null,{"$f":"COUNTIF($AB$7:$AB$56,\"男子C\")","v":0},{"$f":"COUNTIF($AB$7:$AB$56,\"男子C\")","v":0},{"$f":"COUNTIF($AB$7:$AB$56,\"男子C\")","v":0},{"$f":"COUNTIF($AB$7:$AB$56,\"男子C\")","v":0},{"$f":"COUNTIF($AB$7:$AB$56,\"男子C\")","v":0},{"$f":"COUNTIF($AG$7:$AG$56,\"男子C\")","v":0}]
[null,null,null,null,null,null,null,null,null,null,null,null,null,null,null,null,null,null,null,null,null,"男子D",null,null,null,null,null,{"$f":"COUNTIF($AB$7:$AB$56,\"男子D\")","v":0},{"$f":"COUNTIF($AB$7:$AB$56,\"男子D\")","v":0},{"$f":"COUNTIF($AB$7:$AB$56,\"男子D\")","v":0},{"$f":"COUNTIF($AB$7:$AB$56,\"男子D\")","v":0},{"$f":"COUNTIF($AB$7:$AB$56,\"男子D\")","v":0},{"$f":"COUNTIF($AG$7:$AG$56,\"男子D\")","v":0}]
[null,null,null,null,null,null,null,null,null,null,null,null,null,null,null,null,null,null,null,null,null,"女子A",null,null,null,null,null,{"$f":"COUNTIF($AB$7:$AB$56,\"女子A\")","v":0},null,null,null,null,{"$f":"COUNTIF($AG$7:$AG$56,\"女子A\")","v":0}]
[null,null,null,null,null,null,null,null,null,null,null,null,null,null,null,null,null,null,null,null,null,"女子B",null,null,null,null,null,{"$f":"COUNTIF($AB$7:$AB$56,\"女子B\")","v":0},null,null,null,null,{"$f":"COUNTIF($AG$7:$AG$56,\"女子B\")","v":0}]
[null,null,null,null,null,null,null,null,null,null,null,null,null,null,null,null,null,null,null,null,null,"女子C",null,null,null,null,null,{"$f":"COUNTIF($AB$7:$AB$56,\"女子C\")","v":0},null,null,null,null,{"$f":"COUNTIF($AG$7:$AG$56,\"女子C\")","v":0}]
[null,null,null,null,null,null,null,null,null,null,null,null,null,null,null,null,null,null,null,null,null,"女子D",null,null,null,null,null,{"$f":"COUNTIF($AB$7:$AB$56,\"女子D\")","v":0},null,null,null,null,{"$f":"COUNTIF($AG$7:$AG$56,\"女子D\")","v":0}]

{"sheet":"ロードレース","index":7,"n_rows":43,"n_cols":19,"rows_kept":43,"cut":false,"hidden":false,"merged":[[40,5,40,17],[42,5,42,17],[1,12,1,13],[1,7,1,8],[1,14,1,15],[8,14,8,18],[8,4,8,10]]}
[null,null,null,null,"所属名",{"$f":"IF(名簿!$P$9=\"\",\"\",名簿!$P$9)","v":""},null,null,"中日三重お伊勢さんマラソン公認の部"]
[null,null,null,null,"所属コード",{"$f":"名簿!$Q$9","v":""}]
[null,null,null,null,"申込者名",{"$f":"IF(名簿!$E$5=\"\",\"\",名簿!$E$5)","v":""}]
[null,null,null,null,"連絡先",{"$f":"IF(名簿!$I$5=\"\",\"\",名簿!$I$5)","v":""},null,null,"大会参加費",null,{"$f":"O4","v":0},null,null,null,{"$f":"G31","v":0}]
[null,null,null,null,"ナンバーカード引換証を代表者へ送付希望の場合は下記へ代表者の記入をお願いします。"]
[null,null,null,null,"郵便番号"]
[null,null,null,null,"住所"]
[null,null,null,null,"代表者名",null,null,"連絡先"]
[null,null,null,null,"登録番号を入力して下さい(選手名入力の詳細が転記されます)",null,null,null,null,null,null,null,null,null,"個人宛てにナンバーカード送付希望の場合は、住所を正確に記載して下さい。　　　　　　　　　　　"]
[null,null,null,null,"性別","種目","名前","フリガナ","学年　　　(年齢)","所属","登録　　　陸協","登録No","公認記録","記録達成大会名","郵便番号","住所","連絡先","今回で連続　　　何回目？","参加費"]
[null,null,null,null,{"$f":"IF(L11=\"\",\"\",VLOOKUP(L11,名簿!$E:$P,6,0))","v":""},"ハーフマラソン",{"$f":"IF(L11=\"\",\"\",VLOOKUP(L11,名簿!$E:$P,3,0))","v":""},{"$f":"IF($L11=\"\",\"\",VLOOKUP($L11,名簿!$E:$P,4,0))","v":""},{"$f":"IF($L11=\"\",\"\",VLOOKUP($L11,名簿!$E:$P,5,0))","v":""},{"$f":"IF($L11=\"\",\"\",VLOOKUP($L11,名簿!$E:$P,12,0))","v":""},"三重",null,null,null,null,null,null,null,{"$f":"IF(L11=\"\",\"\",5000)","v":""}]
[null,null,null,null,null,"ハーフマラソン",{"$f":"IF(L12=\"\",\"\",VLOOKUP(L12,名簿!$E:$P,3,0))","v":""},null,null,null,"三重",null,null,null,null,null,null,null,{"$f":"IF(L12=\"\",\"\",5000)","v":""}]
[null,null,null,null,null,"ハーフマラソン",{"$f":"IF(L13=\"\",\"\",VLOOKUP(L13,名簿!$E:$P,3,0))","v":""},null,null,null,"三重",null,null,null,null,null,null,null,""]
[null,null,null,null,null,"ハーフマラソン",{"$f":"IF(L14=\"\",\"\",VLOOKUP(L14,名簿!$E:$P,3,0))","v":""},null,null,null,"三重",null,null,null,null,null,null,null,""]
[null,null,null,null,null,"ハーフマラソン",{"$f":"IF(L15=\"\",\"\",VLOOKUP(L15,名簿!$E:$P,3,0))","v":""},null,null,null,"三重",null,null,null,null,null,null,null,""]
[null,null,null,null,null,"ハーフマラソン",{"$f":"IF(L16=\"\",\"\",VLOOKUP(L16,名簿!$E:$P,3,0))","v":""},null,null,null,"三重",null,null,null,null,null,null,null,""]
[null,null,null,null,null,"ハーフマラソン",{"$f":"IF(L17=\"\",\"\",VLOOKUP(L17,名簿!$E:$P,3,0))","v":""},null,null,null,"三重",null,null,null,null,null,null,null,""]
[null,null,null,null,null,"ハーフマラソン",{"$f":"IF(L18=\"\",\"\",VLOOKUP(L18,名簿!$E:$P,3,0))","v":""},null,null,null,"三重",null,null,null,null,null,null,null,""]
[null,null,null,null,null,"ハーフマラソン",{"$f":"IF(L19=\"\",\"\",VLOOKUP(L19,名簿!$E:$P,3,0))","v":""},null,null,null,"三重",null,null,null,null,null,null,null,""]
[null,null,null,null,null,"ハーフマラソン",{"$f":"IF(L20=\"\",\"\",VLOOKUP(L20,名簿!$E:$P,3,0))","v":""},null,null,null,"三重",null,null,null,null,null,null,null,""]
[]
[null,null,null,null,null,"※高校生はハーフには出場できません。"]
[null,null,null,null,null,"※公認記録に基づきシードいたします。"]
[]
[null,null,null,null,null,"ハーフ"]
[null,null,null,null,null,"10k"]
[]
[null,null,null,null,null,"ハーフ"]
[null,null,null,null,null,"10k"]
[]
[null,null,null,null,null,"参加費",{"$f":"SUM(S11:S20)","v":0}]
[]
[null,null,null,null,null,"この用紙と振込書（コピー可）と県陸協の出場認知書を同封の上、下記まで送付願います。"]
[]
[null,null,null,null,null,"10月26日(月)までに届いていない場合は出場を取り消します。"]
[]
[null,null,null,null,null,"〒516-0023　伊勢市宇治館町510　三重交通Ｇスポーツの杜伊勢内　三重陸上競技協会"]
[]
[null,null,null,null,null,"参加費振込先：百五銀行　生桑(ｲｸﾜ)支店　普通預金　口座番号440266　口座名　一般財団法人三重陸上競技協会"]
[]
[null,null,null,null,null,"（個人は個人名で、それ以外は所属名で振込むこと）"]
[]
[null,null,null,null,null,"尚、振込人名の前に０８と記入願います。例（０８＊＊大学）"]

{"sheet":"SF","index":8,"n_rows":73,"n_cols":80,"rows_kept":73,"cut":false,"hidden":false,"merged":[[0,19,0,21],[3,14,3,16],[5,57,5,58],[0,6,0,16]]}
[null,null,null,null,"所属名",{"$f":"IF(名簿!$P$9=\"\",\"\",名簿!$P$9)","v":""},"みえスポーツフェスティバル",null,null,null,null,null,null,null,null,null,null,null,null,"参加人数"]
[null,null,null,null,"所属コード",{"$f":"名簿!$Q$9","v":""},null,null,"個人種目数",null,null,null,null,null,{"$f":"$BB$57","v":0},null,null,null,null,"男子",null,{"$f":"COUNTIF($I$7:$I$56,1)-COUNTIF($BD$7:$BD$56,0)","v":0}]
[null,null,null,null,"申込者名",{"$f":"IF(名簿!$E$5=\"\",\"\",名簿!$E$5)","v":""},null,null,"リレー",null,null,null,null,null,{"$f":"$CB$38","v":0},null,null,null,null,"女子",null,{"$f":"COUNTIF($I$7:$I$56,2)-COUNTIF($BE$7:$BE$56,0)","v":0}]
[null,null,null,null,"連絡先",{"$f":"IF(名簿!$I$5=\"\",\"\",名簿!$I$5)","v":""},null,null,"大会参加費",null,null,null,null,null,{"$f":"O2*1000+O3*2000+O5*800","v":0},null,null,null,null,"計",null,{"$f":"V2+V3","v":0}]
[null,null,null,null,null,null,null,null,"プログラム冊数",null,null,null,null,null,null,null,"冊"]
["競技者コード","所属コード","所属コード２","ナンバーA","ナンバー","名前","カナ名","掲示板名","性別","学年又は年齢","生年","月日","個人所属地コード","陸連ID","1種目","コード","記録",null,null,"2種目","コード","記録","種目3","コード","記録3",null,null,"4×100R","コード","記録",null,null,"4×400R","コード","記録",null,null,null,null,null,100,null,null,null,null,null,null,null,null,null,100,100,"男子A","個人種目","種目","男子","女子","種目別人数",null,"男子4×100mR　A",null,"男子4×400mR　Ａ",null,"女子4×100mR",null,"女子4×400mR　Ａ"]
[{"$f":"AB7","v":0},{"$f":"名簿!Q9","v":""},{"$f":"AG7","v":0},null,{"$f":"名簿!E9","v":0},{"$f":"名簿!BN9","v":""},{"$f":"名簿!Z9","v":""},{"$f":"F7","v":""},{"$f":"名簿!O9","v":""},{"$f":"名簿!I9","v":0},{"$f":"名簿!K9","v":0},{"$f":"名簿!BQ9","v":"00"},"三重",{"$f":"名簿!D9","v":""},null,{"$f":"IF(O7=\"\",\"\",IF(I7=1,VLOOKUP(O7,男子種目コード!$V$1:$W$5,2,FALSE),IF(I7=2,VLOOKUP(O7,女子種目コード!$V$1:$W$5,2,FALSE))))","v":""},{"$f":"IF(O7=\"\",\"\",HLOOKUP(O7,名簿!$AB$8:$BG$58,2,FALSE))","v":""},0,2,null,{"$f":"IF(T7=\"\",\"\",IF(I7=1,VLOOKUP(T7,男子種目コード!$V$1:$W$5,2,FALSE),IF(I7=2,VLOOKUP(T7,女子種目コード!$V$1:$W$5,2,FALSE))))","v":""},{"$f":"IF(T7=\"\",\"\",HLOOKUP(T7,名簿!$AB$8:$BG$58,2,FALSE))","v":""},null,{"$f":"IF(W7=\"\",\"\",IF(I7=1,VLOOKUP(W7,男子種目コード!$D$2:$E$30,2,FALSE),IF(I7=2,VLOOKUP(W7,女子種目コード!$D$2:$E$30,2,FALSE))))","v":""},null,null,null,null,{"$f":"IF(AB7=\"\",\"\",IF(I7=1,VLOOKUP(AB7,男子種目コード!$V$1:$W$5,2,FALSE),IF(I7=2,VLOOKUP(AB7,女子種目コード!$V$1:$W$5,2,FALSE))))","v":""},null,0,2,null,{"$f":"IF(AG7=\"\",\"\",IF(I7=1,VLOOKUP(AG7,男子種目コード!$A$78:$B$81,2,FALSE),IF(I7=2,VLOOKUP(AG7,女子種目コード!$A$78:$B$81,2,FALSE))))","v":""},null,0,2,0,null,null,200,{"$f":"IF(O7=\"\",\"\",1)","v":""},{"$f":"IF(T7=\"\",\"\",1)","v":""},null,null,{"$f":"IF(O7=\"\",\"\",1)","v":""},{"$f":"IF(OR(AT7=1,T7=\"\"),0,1)","v":0},{"$f":"IF(OR(AT7=1,AU7=1,AB7=\"\"),0,1)","v":0},{"$f":"IF(OR(AT7=1,AU7=1,AV7=1,AG7=\"\"),0,1)","v":0},{"$f":"SUM(AT7:AW7)","v":0},5000,3000,"女子A",{"$f":"COUNT(P7,U7)","v":0},{"$f":"COUNT(P7,U7,AC7,AH7)","v":0},{"$f":"IF(I7=1,BC7,\"\")","v":""},{"$f":"IF(I7=2,BC7,\"\")","v":""},"男子",null,"記録",null,"記録",null,"記録",null,"記録"]
[{"$f":"AB8","v":0},{"$f":"名簿!Q10","v":""},{"$f":"AG8","v":0},null,{"$f":"名簿!E10","v":0},{"$f":"名簿!BN10","v":""},{"$f":"名簿!Z10","v":""},"",{"$f":"名簿!O10","v":""},{"$f":"名簿!I10","v":0},{"$f":"名簿!K10","v":0},{"$f":"名簿!BQ10","v":"00"},"三重",{"$f":"名簿!D10","v":""},null,{"$f":"IF(O8=\"\",\"\",IF(I8=1,VLOOKUP(O8,男子種目コード!$V$1:$W$5,2,FALSE),IF(I8=2,VLOOKUP(O8,女子種目コード!$V$1:$W$5,2,FALSE))))","v":""},{"$f":"IF(O8=\"\",\"\",HLOOKUP(O8,名簿!$AB$8:$BG$58,3,FALSE))","v":""},0,2,null,{"$f":"IF(T8=\"\",\"\",IF(I8=1,VLOOKUP(T8,男子種目コード!$V$1:$W$5,2,FALSE),IF(I8=2,VLOOKUP(T8,女子種目コード!$V$1:$W$5,2,FALSE))))","v":""},{"$f":"IF(T8=\"\",\"\",HLOOKUP(T8,名簿!$AB$8:$BG$58,3,FALSE))","v":""},null,{"$f":"IF(W8=\"\",\"\",IF(I8=1,VLOOKUP(W8,男子種目コード!$D$2:$E$30,2,FALSE),IF(I8=2,VLOOKUP(W8,女子種目コード!$D$2:$E$30,2,FALSE))))","v":""},null,null,null,null,{"$f":"IF(AB8=\"\",\"\",IF(I8=1,VLOOKUP(AB8,男子種目コード!$V$1:$W$5,2,FALSE),IF(I8=2,VLOOKUP(AB8,女子種目コード!$V$1:$W$5,2,FALSE))))","v":""},null,0,2,null,{"$f":"IF(AG8=\"\",\"\",IF(I8=1,VLOOKUP(AG8,男子種目コード!$A$78:$B$81,2,FALSE),IF(I8=2,VLOOKUP(AG8,女子種目コード!$A$78:$B$81,2,FALSE))))","v":""},null,0,2,0,null,null,400,{"$f":"IF(O8=\"\",\"\",1)","v":""},{"$f":"IF(T8=\"\",\"\",1)","v":""},null,null,{"$f":"IF(O8=\"\",\"\",1)","v":""},0,0,0,{"$f":"SUM(AT8:AW8)","v":0},null,null,null,{"$f":"COUNT(P8,U8)","v":0},{"$f":"COUNT(P8,U8,AC8,AH8)","v":0},{"$f":"IF(I8=1,BC8,\"\")","v":""},{"$f":"IF(I8=2,BC8,\"\")","v":""},100,{"$f":"COUNTIF($P$7:$P$56,1)+COUNTIF($U$7:$U$56,1)","v":0},{"$f":"IF(ISERROR(BP8),\"\",BP8)","v":""},"","","","","","","",{"$f":"VLookUpX(\"男子A\",$A$7:$F$56,1,5)","v":{"$error":"#N/A"}},{"$f":"VLookUpX(\"男子A\",$A$7:$F$56,1,6)","v":{"$error":"#N/A"}},{"$f":"VLookUpX(\"男子A\",$C$7:$F$56,1,3)","v":{"$error":"#N/A"}},{"$f":"VLookUpX(\"男子A\",$C$7:$F$56,1,4)","v":{"$error":"#N/A"}},{"$f":"VLookUpX(\"女子A\",$A$7:$F$56,1,5)","v":{"$error":"#N/A"}},{"$f":"VLookUpX(\"女子A\",$A$7:$F$56,1,6)","v":{"$error":"#N/A"}},{"$f":"VLookUpX(\"女子A\",$C$7:$F$56,1,3)","v":{"$error":"#N/A"}},{"$f":"VLookUpX(\"女子A\",$C$7:$F$56,1,4)","v":{"$error":"#N/A"}},{"$f":"IF(BH8=\"\",\"\",1)","v":""},{"$f":"IF(BJ8=\"\",\"\",1)","v":""},{"$f":"IF(BL8=\"\",\"\",1)","v":""},{"$f":"IF(BN8=\"\",\"\",1)","v":""}]
[0,{"$f":"名簿!Q11","v":""},0,null,{"$f":"名簿!E11","v":0},{"$f":"名簿!BN11","v":""},{"$f":"名簿!Z11","v":""},"",{"$f":"名簿!O11","v":""},{"$f":"名簿!I11","v":0},{"$f":"名簿!K11","v":0},{"$f":"名簿!BQ11","v":"00"},"三重",{"$f":"名簿!D11","v":""},null,{"$f":"IF(O9=\"\",\"\",IF(I9=1,VLOOKUP(O9,男子種目コード!$V$1:$W$5,2,FALSE),IF(I9=2,VLOOKUP(O9,女子種目コード!$V$1:$W$5,2,FALSE))))","v":""},{"$f":"IF(O9=\"\",\"\",HLOOKUP(O9,名簿!$AB$8:$BG$58,4,FALSE))","v":""},0,2,null,{"$f":"IF(T9=\"\",\"\",IF(I9=1,VLOOKUP(T9,男子種目コード!$V$1:$W$5,2,FALSE),IF(I9=2,VLOOKUP(T9,女子種目コード!$V$1:$W$5,2,FALSE))))","v":""},{"$f":"IF(T9=\"\",\"\",HLOOKUP(T9,名簿!$AB$8:$BG$58,4,FALSE))","v":""},null,{"$f":"IF(W9=\"\",\"\",IF(I9=1,VLOOKUP(W9,男子種目コード!$D$2:$E$30,2,FALSE),IF(I9=2,VLOOKUP(W9,女子種目コード!$D$2:$E$30,2,FALSE))))","v":""},null,null,null,null,{"$f":"IF(AB9=\"\",\"\",IF(I9=1,VLOOKUP(AB9,男子種目コード!$V$1:$W$5,2,FALSE),IF(I9=2,VLOOKUP(AB9,女子種目コード!$V$1:$W$5,2,FALSE))))","v":""},null,0,2,null,{"$f":"IF(AG9=\"\",\"\",IF(I9=1,VLOOKUP(AG9,男子種目コード!$A$78:$B$81,2,FALSE),IF(I9=2,VLOOKUP(AG9,女子種目コード!$A$78:$B$81,2,FALSE))))","v":""},null,0,2,0,null,null,800,{"$f":"IF(O9=\"\",\"\",1)","v":""},"",null,null,"",0,0,0,0,null,null,null,0,0,"","",5000,{"$f":"COUNTIF($P$7:$P$56,3)+COUNTIF($U$7:$U$56,3)","v":0},"","","","","","","","",{"$f":"VLookUpX(\"男子A\",$A$7:$F$56,2,5)","v":{"$error":"#N/A"}},{"$f":"VLookUpX(\"男子A\",$A$7:$F$56,2,6)","v":{"$error":"#N/A"}},{"$f":"VLookUpX(\"男子A\",$C$7:$F$56,2,3)","v":{"$error":"#N/A"}},{"$f":"VLookUpX(\"男子A\",$C$7:$F$56,2,4)","v":{"$error":"#N/A"}},{"$f":"VLookUpX(\"女子A\",$A$7:$F$56,2,5)","v":{"$error":"#N/A"}},{"$f":"VLookUpX(\"女子A\",$A$7:$F$56,2,6)","v":{"$error":"#N/A"}},{"$f":"VLookUpX(\"女子A\",$C$7:$F$56,2,3)","v":{"$error":"#N/A"}},{"$f":"VLookUpX(\"女子A\",$C$7:$F$56,2,4)","v":{"$error":"#N/A"}}]
[0,{"$f":"名簿!Q12","v":""},0,null,{"$f":"名簿!E12","v":0},{"$f":"名簿!BN12","v":""},{"$f":"名簿!Z12","v":""},"",{"$f":"名簿!O12","v":""},{"$f":"名簿!I12","v":0},{"$f":"名簿!K12","v":0},{"$f":"名簿!BQ12","v":"00"},"三重",{"$f":"名簿!D12","v":""},null,{"$f":"IF(O10=\"\",\"\",IF(I10=1,VLOOKUP(O10,男子種目コード!$V$1:$W$5,2,FALSE),IF(I10=2,VLOOKUP(O10,女子種目コード!$V$1:$W$5,2,FALSE))))","v":""},{"$f":"IF(O10=\"\",\"\",HLOOKUP(O10,名簿!$AB$8:$BG$58,5,FALSE))","v":""},0,2,null,{"$f":"IF(T10=\"\",\"\",IF(I10=1,VLOOKUP(T10,男子種目コード!$V$1:$W$5,2,FALSE),IF(I10=2,VLOOKUP(T10,女子種目コード!$V$1:$W$5,2,FALSE))))","v":""},{"$f":"IF(T10=\"\",\"\",HLOOKUP(T10,名簿!$AB$8:$BG$58,5,FALSE))","v":""},null,{"$f":"IF(W10=\"\",\"\",IF(I10=1,VLOOKUP(W10,男子種目コード!$D$2:$E$30,2,FALSE),IF(I10=2,VLOOKUP(W10,女子種目コード!$D$2:$E$30,2,FALSE))))","v":""},null,null,null,null,{"$f":"IF(AB10=\"\",\"\",IF(I10=1,VLOOKUP(AB10,男子種目コード!$V$1:$W$5,2,FALSE),IF(I10=2,VLOOKUP(AB10,女子種目コード!$V$1:$W$5,2,FALSE))))","v":""},null,0,2,null,{"$f":"IF(AG10=\"\",\"\",IF(I10=1,VLOOKUP(AG10,男子種目コード!$A$78:$B$81,2,FALSE),IF(I10=2,VLOOKUP(AG10,女子種目コード!$A$78:$B$81,2,FALSE))))","v":""},null,0,2,0,null,null,1500,"","",null,null,"",0,0,0,0,null,null,null,0,0,"","","計",{"$f":"SUM(BG8:BG9)","v":0},"","","","","","","","",{"$f":"VLookUpX(\"男子A\",$A$7:$F$56,3,5)","v":{"$error":"#N/A"}},{"$f":"VLookUpX(\"男子A\",$A$7:$F$56,3,6)","v":{"$error":"#N/A"}},{"$f":"VLookUpX(\"男子A\",$C$7:$F$56,3,3)","v":{"$error":"#N/A"}},{"$f":"VLookUpX(\"男子A\",$C$7:$F$56,3,4)","v":{"$error":"#N/A"}},{"$f":"VLookUpX(\"女子A\",$A$7:$F$56,3,5)","v":{"$error":"#N/A"}},{"$f":"VLookUpX(\"女子A\",$A$7:$F$56,3,6)","v":{"$error":"#N/A"}},{"$f":"VLookUpX(\"女子A\",$C$7:$F$56,3,3)","v":{"$error":"#N/A"}},{"$f":"VLookUpX(\"女子A\",$C$7:$F$56,3,4)","v":{"$error":"#N/A"}}]
[0,{"$f":"名簿!Q13","v":""},0,null,{"$f":"名簿!E13","v":0},{"$f":"名簿!BN13","v":""},{"$f":"名簿!Z13","v":""},"",{"$f":"名簿!O13","v":""},{"$f":"名簿!I13","v":0},{"$f":"名簿!K13","v":0},{"$f":"名簿!BQ13","v":"00"},"三重",{"$f":"名簿!D13","v":""},null,{"$f":"IF(O11=\"\",\"\",IF(I11=1,VLOOKUP(O11,男子種目コード!$V$1:$W$5,2,FALSE),IF(I11=2,VLOOKUP(O11,女子種目コード!$V$1:$W$5,2,FALSE))))","v":""},{"$f":"IF(O11=\"\",\"\",HLOOKUP(O11,名簿!$AB$8:$BG$58,6,FALSE))","v":""},0,2,null,{"$f":"IF(T11=\"\",\"\",IF(I11=1,VLOOKUP(T11,男子種目コード!$V$1:$W$5,2,FALSE),IF(I11=2,VLOOKUP(T11,女子種目コード!$V$1:$W$5,2,FALSE))))","v":""},{"$f":"IF(T11=\"\",\"\",HLOOKUP(T11,名簿!$AB$8:$BG$58,6,FALSE))","v":""},null,{"$f":"IF(W11=\"\",\"\",IF(I11=1,VLOOKUP(W11,男子種目コード!$D$2:$E$30,2,FALSE),IF(I11=2,VLOOKUP(W11,女子種目コード!$D$2:$E$30,2,FALSE))))","v":""},null,null,null,null,{"$f":"IF(AB11=\"\",\"\",IF(I11=1,VLOOKUP(AB11,男子種目コード!$V$1:$W$5,2,FALSE),IF(I11=2,VLOOKUP(AB11,女子種目コード!$V$1:$W$5,2,FALSE))))","v":""},null,0,2,null,{"$f":"IF(AG11=\"\",\"\",IF(I11=1,VLOOKUP(AG11,男子種目コード!$A$78:$B$81,2,FALSE),IF(I11=2,VLOOKUP(AG11,女子種目コード!$A$78:$B$81,2,FALSE))))","v":""},null,0,2,0,null,null,5000,"","",null,null,"",0,0,0,0,null,null,null,0,0,"","","女子",null,"","","","","","","","",{"$f":"VLookUpX(\"男子A\",$A$7:$F$56,4,5)","v":{"$error":"#N/A"}},{"$f":"VLookUpX(\"男子A\",$A$7:$F$56,4,6)","v":{"$error":"#N/A"}},{"$f":"VLookUpX(\"男子A\",$C$7:$F$56,4,3)","v":{"$error":"#N/A"}},{"$f":"VLookUpX(\"男子A\",$C$7:$F$56,4,4)","v":{"$error":"#N/A"}},{"$f":"VLookUpX(\"女子A\",$A$7:$F$56,4,5)","v":{"$error":"#N/A"}},{"$f":"VLookUpX(\"女子A\",$A$7:$F$56,4,6)","v":{"$error":"#N/A"}},{"$f":"VLookUpX(\"女子A\",$C$7:$F$56,4,3)","v":{"$error":"#N/A"}},{"$f":"VLookUpX(\"女子A\",$C$7:$F$56,4,4)","v":{"$error":"#N/A"}}]
[0,{"$f":"名簿!Q14","v":""},0,null,{"$f":"名簿!E14","v":0},{"$f":"名簿!BN14","v":""},{"$f":"名簿!Z14","v":""},"",{"$f":"名簿!O14","v":""},{"$f":"名簿!I14","v":0},{"$f":"名簿!K14","v":0},{"$f":"名簿!BQ14","v":"00"},"三重",{"$f":"名簿!D14","v":""},null,{"$f":"IF(O12=\"\",\"\",IF(I12=1,VLOOKUP(O12,男子種目コード!$V$1:$W$5,2,FALSE),IF(I12=2,VLOOKUP(O12,女子種目コード!$V$1:$W$5,2,FALSE))))","v":""},{"$f":"IF(O12=\"\",\"\",HLOOKUP(O12,名簿!$AB$8:$BG$58,7,FALSE))","v":""},0,2,null,{"$f":"IF(T12=\"\",\"\",IF(I12=1,VLOOKUP(T12,男子種目コード!$V$1:$W$5,2,FALSE),IF(I12=2,VLOOKUP(T12,女子種目コード!$V$1:$W$5,2,FALSE))))","v":""},{"$f":"IF(T12=\"\",\"\",HLOOKUP(T12,名簿!$AB$8:$BG$58,7,FALSE))","v":""},null,{"$f":"IF(W12=\"\",\"\",IF(I12=1,VLOOKUP(W12,男子種目コード!$D$2:$E$30,2,FALSE),IF(I12=2,VLOOKUP(W12,女子種目コード!$D$2:$E$30,2,FALSE))))","v":""},null,null,null,null,{"$f":"IF(AB12=\"\",\"\",IF(I12=1,VLOOKUP(AB12,男子種目コード!$V$1:$W$5,2,FALSE),IF(I12=2,VLOOKUP(AB12,女子種目コード!$V$1:$W$5,2,FALSE))))","v":""},null,0,2,null,{"$f":"IF(AG12=\"\",\"\",IF(I12=1,VLOOKUP(AG12,男子種目コード!$A$78:$B$81,2,FALSE),IF(I12=2,VLOOKUP(AG12,女子種目コード!$A$78:$B$81,2,FALSE))))","v":""},null,0,2,0,null,null,10000,"","",null,null,"",0,0,0,0,null,null,null,0,0,"","",100,{"$f":"COUNTIF($P$7:$P$56,5)+COUNTIF($U$7:$U$56,5)","v":0},"","","","","","","","",{"$f":"VLookUpX(\"男子A\",$A$7:$F$56,5,5)","v":{"$error":"#N/A"}},{"$f":"VLookUpX(\"男子A\",$A$7:$F$56,5,6)","v":{"$error":"#N/A"}},{"$f":"VLookUpX(\"男子A\",$C$7:$F$56,5,3)","v":{"$error":"#N/A"}},{"$f":"VLookUpX(\"男子A\",$C$7:$F$56,5,4)","v":{"$error":"#N/A"}},{"$f":"VLookUpX(\"女子A\",$A$7:$F$56,5,5)","v":{"$error":"#N/A"}},{"$f":"VLookUpX(\"女子A\",$A$7:$F$56,5,6)","v":{"$error":"#N/A"}},{"$f":"VLookUpX(\"女子A\",$C$7:$F$56,5,3)","v":{"$error":"#N/A"}},{"$f":"VLookUpX(\"女子A\",$C$7:$F$56,5,4)","v":{"$error":"#N/A"}}]
[0,{"$f":"名簿!Q15","v":""},0,null,{"$f":"名簿!E15","v":0},{"$f":"名簿!BN15","v":""},{"$f":"名簿!Z15","v":""},"",{"$f":"名簿!O15","v":""},{"$f":"名簿!I15","v":0},{"$f":"名簿!K15","v":0},{"$f":"名簿!BQ15","v":"00"},"三重",{"$f":"名簿!D15","v":""},null,{"$f":"IF(O13=\"\",\"\",IF(I13=1,VLOOKUP(O13,男子種目コード!$V$1:$W$5,2,FALSE),IF(I13=2,VLOOKUP(O13,女子種目コード!$V$1:$W$5,2,FALSE))))","v":""},{"$f":"IF(O13=\"\",\"\",HLOOKUP(O13,名簿!$AB$8:$BG$58,8,FALSE))","v":""},0,2,null,{"$f":"IF(T13=\"\",\"\",IF(I13=1,VLOOKUP(T13,男子種目コード!$V$1:$W$5,2,FALSE),IF(I13=2,VLOOKUP(T13,女子種目コード!$V$1:$W$5,2,FALSE))))","v":""},{"$f":"IF(T13=\"\",\"\",HLOOKUP(T13,名簿!$AB$8:$BG$58,8,FALSE))","v":""},null,{"$f":"IF(W13=\"\",\"\",IF(I13=1,VLOOKUP(W13,男子種目コード!$D$2:$E$30,2,FALSE),IF(I13=2,VLOOKUP(W13,女子種目コード!$D$2:$E$30,2,FALSE))))","v":""},null,null,null,null,{"$f":"IF(AB13=\"\",\"\",IF(I13=1,VLOOKUP(AB13,男子種目コード!$V$1:$W$5,2,FALSE),IF(I13=2,VLOOKUP(AB13,女子種目コード!$V$1:$W$5,2,FALSE))))","v":""},null,0,2,null,{"$f":"IF(AG13=\"\",\"\",IF(I13=1,VLOOKUP(AG13,男子種目コード!$A$78:$B$81,2,FALSE),IF(I13=2,VLOOKUP(AG13,女子種目コード!$A$78:$B$81,2,FALSE))))","v":""},null,0,2,0,null,null,"100H","","",null,null,"",0,0,0,0,null,null,null,0,0,"","",3000,{"$f":"COUNTIF($P$7:$P$56,6)+COUNTIF($U$7:$U$56,6)","v":0},"","","","","","","","",{"$f":"VLookUpX(\"男子A\",$A$7:$F$56,6,5)","v":{"$error":"#N/A"}},{"$f":"VLookUpX(\"男子A\",$A$7:$F$56,6,6)","v":{"$error":"#N/A"}},{"$f":"VLookUpX(\"男子A\",$C$7:$F$56,6,3)","v":{"$error":"#N/A"}},{"$f":"VLookUpX(\"男子A\",$C$7:$F$56,6,4)","v":{"$error":"#N/A"}},{"$f":"VLookUpX(\"女子A\",$A$7:$F$56,6,5)","v":{"$error":"#N/A"}},{"$f":"VLookUpX(\"女子A\",$A$7:$F$56,6,6)","v":{"$error":"#N/A"}},{"$f":"VLookUpX(\"女子A\",$C$7:$F$56,6,3)","v":{"$error":"#N/A"}},{"$f":"VLookUpX(\"女子A\",$C$7:$F$56,6,4)","v":{"$error":"#N/A"}}]
[0,{"$f":"名簿!Q16","v":""},0,null,{"$f":"名簿!E16","v":0},{"$f":"名簿!BN16","v":""},{"$f":"名簿!Z16","v":""},"",{"$f":"名簿!O16","v":""},{"$f":"名簿!I16","v":0},{"$f":"名簿!K16","v":0},{"$f":"名簿!BQ16","v":"00"},"三重",{"$f":"名簿!D16","v":""},null,{"$f":"IF(O14=\"\",\"\",IF(I14=1,VLOOKUP(O14,男子種目コード!$V$1:$W$5,2,FALSE),IF(I14=2,VLOOKUP(O14,女子種目コード!$V$1:$W$5,2,FALSE))))","v":""},{"$f":"IF(O14=\"\",\"\",HLOOKUP(O14,名簿!$AB$8:$BG$58,9,FALSE))","v":""},0,2,null,{"$f":"IF(T14=\"\",\"\",IF(I14=1,VLOOKUP(T14,男子種目コード!$V$1:$W$5,2,FALSE),IF(I14=2,VLOOKUP(T14,女子種目コード!$V$1:$W$5,2,FALSE))))","v":""},{"$f":"IF(T14=\"\",\"\",HLOOKUP(T14,名簿!$AB$8:$BG$58,9,FALSE))","v":""},null,{"$f":"IF(W14=\"\",\"\",IF(I14=1,VLOOKUP(W14,男子種目コード!$D$2:$E$30,2,FALSE),IF(I14=2,VLOOKUP(W14,女子種目コード!$D$2:$E$30,2,FALSE))))","v":""},null,null,null,null,{"$f":"IF(AB14=\"\",\"\",IF(I14=1,VLOOKUP(AB14,男子種目コード!$V$1:$W$5,2,FALSE),IF(I14=2,VLOOKUP(AB14,女子種目コード!$V$1:$W$5,2,FALSE))))","v":""},null,0,2,null,{"$f":"IF(AG14=\"\",\"\",IF(I14=1,VLOOKUP(AG14,男子種目コード!$A$78:$B$81,2,FALSE),IF(I14=2,VLOOKUP(AG14,女子種目コード!$A$78:$B$81,2,FALSE))))","v":""},null,0,2,0,null,null,"110H","","",null,null,"",0,0,0,0,null,null,null,0,0,"","","計",{"$f":"SUM(BG12:BG13)","v":0}]
[0,{"$f":"名簿!Q17","v":""},0,null,{"$f":"名簿!E17","v":0},{"$f":"名簿!BN17","v":""},{"$f":"名簿!Z17","v":""},"",{"$f":"名簿!O17","v":""},{"$f":"名簿!I17","v":0},{"$f":"名簿!K17","v":0},{"$f":"名簿!BQ17","v":"00"},"三重",{"$f":"名簿!D17","v":""},null,{"$f":"IF(O15=\"\",\"\",IF(I15=1,VLOOKUP(O15,男子種目コード!$V$1:$W$5,2,FALSE),IF(I15=2,VLOOKUP(O15,女子種目コード!$V$1:$W$5,2,FALSE))))","v":""},{"$f":"IF(O15=\"\",\"\",HLOOKUP(O15,名簿!$AB$8:$BG$58,10,FALSE))","v":""},0,2,null,{"$f":"IF(T15=\"\",\"\",IF(I15=1,VLOOKUP(T15,男子種目コード!$V$1:$W$5,2,FALSE),IF(I15=2,VLOOKUP(T15,女子種目コード!$V$1:$W$5,2,FALSE))))","v":""},{"$f":"IF(T15=\"\",\"\",HLOOKUP(T15,名簿!$AB$8:$BG$58,10,FALSE))","v":""},null,{"$f":"IF(W15=\"\",\"\",IF(I15=1,VLOOKUP(W15,男子種目コード!$D$2:$E$30,2,FALSE),IF(I15=2,VLOOKUP(W15,女子種目コード!$D$2:$E$30,2,FALSE))))","v":""},null,null,null,null,{"$f":"IF(AB15=\"\",\"\",IF(I15=1,VLOOKUP(AB15,男子種目コード!$V$1:$W$5,2,FALSE),IF(I15=2,VLOOKUP(AB15,女子種目コード!$V$1:$W$5,2,FALSE))))","v":""},null,0,2,null,{"$f":"IF(AG15=\"\",\"\",IF(I15=1,VLOOKUP(AG15,男子種目コード!$A$78:$B$81,2,FALSE),IF(I15=2,VLOOKUP(AG15,女子種目コード!$A$78:$B$81,2,FALSE))))","v":""},null,0,2,0,null,null,"400H","","",null,null,"",0,0,0,0,null,null,null,0,0,"",""]
[0,{"$f":"名簿!Q18","v":""},0,null,{"$f":"名簿!E18","v":0},{"$f":"名簿!BN18","v":""},{"$f":"名簿!Z18","v":""},"",{"$f":"名簿!O18","v":""},{"$f":"名簿!I18","v":0},{"$f":"名簿!K18","v":0},{"$f":"名簿!BQ18","v":"00"},"三重",{"$f":"名簿!D18","v":""},null,{"$f":"IF(O16=\"\",\"\",IF(I16=1,VLOOKUP(O16,男子種目コード!$V$1:$W$5,2,FALSE),IF(I16=2,VLOOKUP(O16,女子種目コード!$V$1:$W$5,2,FALSE))))","v":""},{"$f":"IF(O16=\"\",\"\",HLOOKUP(O16,名簿!$AB$8:$BG$58,11,FALSE))","v":""},0,2,null,{"$f":"IF(T16=\"\",\"\",IF(I16=1,VLOOKUP(T16,男子種目コード!$V$1:$W$5,2,FALSE),IF(I16=2,VLOOKUP(T16,女子種目コード!$V$1:$W$5,2,FALSE))))","v":""},{"$f":"IF(T16=\"\",\"\",HLOOKUP(T16,名簿!$AB$8:$BG$58,11,FALSE))","v":""},null,{"$f":"IF(W16=\"\",\"\",IF(I16=1,VLOOKUP(W16,男子種目コード!$D$2:$E$30,2,FALSE),IF(I16=2,VLOOKUP(W16,女子種目コード!$D$2:$E$30,2,FALSE))))","v":""},null,null,null,null,{"$f":"IF(AB16=\"\",\"\",IF(I16=1,VLOOKUP(AB16,男子種目コード!$V$1:$W$5,2,FALSE),IF(I16=2,VLOOKUP(AB16,女子種目コード!$V$1:$W$5,2,FALSE))))","v":""},null,0,2,null,{"$f":"IF(AG16=\"\",\"\",IF(I16=1,VLOOKUP(AG16,男子種目コード!$A$78:$B$81,2,FALSE),IF(I16=2,VLOOKUP(AG16,女子種目コード!$A$78:$B$81,2,FALSE))))","v":""},null,0,2,0,null,null,"3000SC","","",null,null,"",0,0,0,0,null,null,null,0,0,"","",null,null,null,null,null,null,null,null,null,null,{"$f":"VLookUpX(\"男子B\",$A$7:$F$56,1,5)","v":{"$error":"#N/A"}},{"$f":"VLookUpX(\"男子B\",$A$7:$F$56,1,6)","v":{"$error":"#N/A"}},{"$f":"VLookUpX(\"男子B\",$C$7:$F$56,1,3)","v":{"$error":"#N/A"}},{"$f":"VLookUpX(\"男子B\",$C$7:$F$56,1,4)","v":{"$error":"#N/A"}},{"$f":"VLookUpX(\"女子B\",$A$7:$F$56,1,5)","v":{"$error":"#N/A"}},{"$f":"VLookUpX(\"女子B\",$A$7:$F$56,1,6)","v":{"$error":"#N/A"}},{"$f":"VLookUpX(\"女子B\",$C$7:$F$56,1,3)","v":{"$error":"#N/A"}},{"$f":"VLookUpX(\"女子B\",$C$7:$F$56,1,4)","v":{"$error":"#N/A"}},{"$f":"IF(BH16=\"\",\"\",1)","v":""},{"$f":"IF(BJ16=\"\",\"\",1)","v":""},{"$f":"IF(BL16=\"\",\"\",1)","v":""},{"$f":"IF(BN16=\"\",\"\",1)","v":""}]
[0,{"$f":"名簿!Q19","v":""},0,null,{"$f":"名簿!E19","v":0},{"$f":"名簿!BN19","v":""},{"$f":"名簿!Z19","v":""},"",{"$f":"名簿!O19","v":""},{"$f":"名簿!I19","v":0},{"$f":"名簿!K19","v":0},{"$f":"名簿!BQ19","v":"00"},"三重",{"$f":"名簿!D19","v":""},null,{"$f":"IF(O17=\"\",\"\",IF(I17=1,VLOOKUP(O17,男子種目コード!$V$1:$W$5,2,FALSE),IF(I17=2,VLOOKUP(O17,女子種目コード!$V$1:$W$5,2,FALSE))))","v":""},{"$f":"IF(O17=\"\",\"\",HLOOKUP(O17,名簿!$AB$8:$BG$58,12,FALSE))","v":""},0,2,null,{"$f":"IF(T17=\"\",\"\",IF(I17=1,VLOOKUP(T17,男子種目コード!$V$1:$W$5,2,FALSE),IF(I17=2,VLOOKUP(T17,女子種目コード!$V$1:$W$5,2,FALSE))))","v":""},{"$f":"IF(T17=\"\",\"\",HLOOKUP(T17,名簿!$AB$8:$BG$58,12,FALSE))","v":""},null,{"$f":"IF(W17=\"\",\"\",IF(I17=1,VLOOKUP(W17,男子種目コード!$D$2:$E$30,2,FALSE),IF(I17=2,VLOOKUP(W17,女子種目コード!$D$2:$E$30,2,FALSE))))","v":""},null,null,null,null,{"$f":"IF(AB17=\"\",\"\",IF(I17=1,VLOOKUP(AB17,男子種目コード!$V$1:$W$5,2,FALSE),IF(I17=2,VLOOKUP(AB17,女子種目コード!$V$1:$W$5,2,FALSE))))","v":""},null,0,2,null,{"$f":"IF(AG17=\"\",\"\",IF(I17=1,VLOOKUP(AG17,男子種目コード!$A$78:$B$81,2,FALSE),IF(I17=2,VLOOKUP(AG17,女子種目コード!$A$78:$B$81,2,FALSE))))","v":""},null,0,2,0,null,null,"5000W","","",null,null,"",0,0,0,0,null,null,null,0,0,"","",null,null,null,null,null,null,null,null,null,null,{"$f":"VLookUpX(\"男子B\",$A$7:$F$56,2,5)","v":{"$error":"#N/A"}},{"$f":"VLookUpX(\"男子B\",$A$7:$F$56,2,6)","v":{"$error":"#N/A"}},{"$f":"VLookUpX(\"男子B\",$C$7:$F$56,2,3)","v":{"$error":"#N/A"}},{"$f":"VLookUpX(\"男子B\",$C$7:$F$56,2,4)","v":{"$error":"#N/A"}},{"$f":"VLookUpX(\"女子B\",$A$7:$F$56,2,5)","v":{"$error":"#N/A"}},{"$f":"VLookUpX(\"女子B\",$A$7:$F$56,2,6)","v":{"$error":"#N/A"}},{"$f":"VLookUpX(\"女子B\",$C$7:$F$56,2,3)","v":{"$error":"#N/A"}},{"$f":"VLookUpX(\"女子B\",$C$7:$F$56,2,4)","v":{"$error":"#N/A"}}]
[0,{"$f":"名簿!Q20","v":""},0,null,{"$f":"名簿!E20","v":0},{"$f":"名簿!BN20","v":""},{"$f":"名簿!Z20","v":""},"",{"$f":"名簿!O20","v":""},{"$f":"名簿!I20","v":0},{"$f":"名簿!K20","v":0},{"$f":"名簿!BQ20","v":"00"},"三重",{"$f":"名簿!D20","v":""},null,{"$f":"IF(O18=\"\",\"\",IF(I18=1,VLOOKUP(O18,男子種目コード!$V$1:$W$5,2,FALSE),IF(I18=2,VLOOKUP(O18,女子種目コード!$V$1:$W$5,2,FALSE))))","v":""},{"$f":"IF(O18=\"\",\"\",HLOOKUP(O18,名簿!$AB$8:$BG$58,13,FALSE))","v":""},0,2,null,{"$f":"IF(T18=\"\",\"\",IF(I18=1,VLOOKUP(T18,男子種目コード!$V$1:$W$5,2,FALSE),IF(I18=2,VLOOKUP(T18,女子種目コード!$V$1:$W$5,2,FALSE))))","v":""},{"$f":"IF(T18=\"\",\"\",HLOOKUP(T18,名簿!$AB$8:$BG$58,13,FALSE))","v":""},null,{"$f":"IF(W18=\"\",\"\",IF(I18=1,VLOOKUP(W18,男子種目コード!$D$2:$E$30,2,FALSE),IF(I18=2,VLOOKUP(W18,女子種目コード!$D$2:$E$30,2,FALSE))))","v":""},null,null,null,null,{"$f":"IF(AB18=\"\",\"\",IF(I18=1,VLOOKUP(AB18,男子種目コード!$V$1:$W$5,2,FALSE),IF(I18=2,VLOOKUP(AB18,女子種目コード!$V$1:$W$5,2,FALSE))))","v":""},null,0,2,null,{"$f":"IF(AG18=\"\",\"\",IF(I18=1,VLOOKUP(AG18,男子種目コード!$A$78:$B$81,2,FALSE),IF(I18=2,VLOOKUP(AG18,女子種目コード!$A$78:$B$81,2,FALSE))))","v":""},null,0,2,0,null,null,"走高跳","","",null,null,"",0,0,0,0,null,null,null,0,0,"","",null,null,null,null,null,null,null,null,null,null,{"$f":"VLookUpX(\"男子B\",$A$7:$F$56,3,5)","v":{"$error":"#N/A"}},{"$f":"VLookUpX(\"男子B\",$A$7:$F$56,3,6)","v":{"$error":"#N/A"}},{"$f":"VLookUpX(\"男子B\",$C$7:$F$56,3,3)","v":{"$error":"#N/A"}},{"$f":"VLookUpX(\"男子B\",$C$7:$F$56,3,4)","v":{"$error":"#N/A"}},{"$f":"VLookUpX(\"女子B\",$A$7:$F$56,3,5)","v":{"$error":"#N/A"}},{"$f":"VLookUpX(\"女子B\",$A$7:$F$56,3,6)","v":{"$error":"#N/A"}},{"$f":"VLookUpX(\"女子B\",$C$7:$F$56,3,3)","v":{"$error":"#N/A"}},{"$f":"VLookUpX(\"女子B\",$C$7:$F$56,3,4)","v":{"$error":"#N/A"}}]
[0,{"$f":"名簿!Q21","v":""},0,null,{"$f":"名簿!E21","v":0},{"$f":"名簿!BN21","v":""},{"$f":"名簿!Z21","v":""},"",{"$f":"名簿!O21","v":""},{"$f":"名簿!I21","v":0},{"$f":"名簿!K21","v":0},{"$f":"名簿!BQ21","v":"00"},"三重",{"$f":"名簿!D21","v":""},null,{"$f":"IF(O19=\"\",\"\",IF(I19=1,VLOOKUP(O19,男子種目コード!$V$1:$W$5,2,FALSE),IF(I19=2,VLOOKUP(O19,女子種目コード!$V$1:$W$5,2,FALSE))))","v":""},{"$f":"IF(O19=\"\",\"\",HLOOKUP(O19,名簿!$AB$8:$BG$58,14,FALSE))","v":""},0,2,null,{"$f":"IF(T19=\"\",\"\",IF(I19=1,VLOOKUP(T19,男子種目コード!$V$1:$W$5,2,FALSE),IF(I19=2,VLOOKUP(T19,女子種目コード!$V$1:$W$5,2,FALSE))))","v":""},{"$f":"IF(T19=\"\",\"\",HLOOKUP(T19,名簿!$AB$8:$BG$58,14,FALSE))","v":""},null,{"$f":"IF(W19=\"\",\"\",IF(I19=1,VLOOKUP(W19,男子種目コード!$D$2:$E$30,2,FALSE),IF(I19=2,VLOOKUP(W19,女子種目コード!$D$2:$E$30,2,FALSE))))","v":""},null,null,null,null,{"$f":"IF(AB19=\"\",\"\",IF(I19=1,VLOOKUP(AB19,男子種目コード!$V$1:$W$5,2,FALSE),IF(I19=2,VLOOKUP(AB19,女子種目コード!$V$1:$W$5,2,FALSE))))","v":""},null,0,2,null,{"$f":"IF(AG19=\"\",\"\",IF(I19=1,VLOOKUP(AG19,男子種目コード!$A$78:$B$81,2,FALSE),IF(I19=2,VLOOKUP(AG19,女子種目コード!$A$78:$B$81,2,FALSE))))","v":""},null,0,2,0,null,null,"棒高跳","","",null,null,"",0,0,0,0,null,null,null,0,0,"","",null,null,null,null,null,null,null,null,null,null,{"$f":"VLookUpX(\"男子B\",$A$7:$F$56,4,5)","v":{"$error":"#N/A"}},{"$f":"VLookUpX(\"男子B\",$A$7:$F$56,4,6)","v":{"$error":"#N/A"}},{"$f":"VLookUpX(\"男子B\",$C$7:$F$56,4,3)","v":{"$error":"#N/A"}},{"$f":"VLookUpX(\"男子B\",$C$7:$F$56,4,4)","v":{"$error":"#N/A"}},{"$f":"VLookUpX(\"女子B\",$A$7:$F$56,4,5)","v":{"$error":"#N/A"}},{"$f":"VLookUpX(\"女子B\",$A$7:$F$56,4,6)","v":{"$error":"#N/A"}},{"$f":"VLookUpX(\"女子B\",$C$7:$F$56,4,3)","v":{"$error":"#N/A"}},{"$f":"VLookUpX(\"女子B\",$C$7:$F$56,4,4)","v":{"$error":"#N/A"}}]
[0,{"$f":"名簿!Q22","v":""},0,null,{"$f":"名簿!E22","v":0},{"$f":"名簿!BN22","v":""},{"$f":"名簿!Z22","v":""},"",{"$f":"名簿!O22","v":""},{"$f":"名簿!I22","v":0},{"$f":"名簿!K22","v":0},{"$f":"名簿!BQ22","v":"00"},"三重",{"$f":"名簿!D22","v":""},null,{"$f":"IF(O20=\"\",\"\",IF(I20=1,VLOOKUP(O20,男子種目コード!$V$1:$W$5,2,FALSE),IF(I20=2,VLOOKUP(O20,女子種目コード!$V$1:$W$5,2,FALSE))))","v":""},{"$f":"IF(O20=\"\",\"\",HLOOKUP(O20,名簿!$AB$8:$BG$58,15,FALSE))","v":""},0,2,null,{"$f":"IF(T20=\"\",\"\",IF(I20=1,VLOOKUP(T20,男子種目コード!$V$1:$W$5,2,FALSE),IF(I20=2,VLOOKUP(T20,女子種目コード!$V$1:$W$5,2,FALSE))))","v":""},{"$f":"IF(T20=\"\",\"\",HLOOKUP(T20,名簿!$AB$8:$BG$58,15,FALSE))","v":""},null,{"$f":"IF(W20=\"\",\"\",IF(I20=1,VLOOKUP(W20,男子種目コード!$D$2:$E$30,2,FALSE),IF(I20=2,VLOOKUP(W20,女子種目コード!$D$2:$E$30,2,FALSE))))","v":""},null,null,null,null,{"$f":"IF(AB20=\"\",\"\",IF(I20=1,VLOOKUP(AB20,男子種目コード!$V$1:$W$5,2,FALSE),IF(I20=2,VLOOKUP(AB20,女子種目コード!$V$1:$W$5,2,FALSE))))","v":""},null,0,2,null,{"$f":"IF(AG20=\"\",\"\",IF(I20=1,VLOOKUP(AG20,男子種目コード!$A$78:$B$81,2,FALSE),IF(I20=2,VLOOKUP(AG20,女子種目コード!$A$78:$B$81,2,FALSE))))","v":""},null,0,2,0,null,null,"走幅跳","","",null,null,"",0,0,0,0,null,null,null,0,0,"","",null,null,null,null,null,null,null,null,null,null,{"$f":"VLookUpX(\"男子B\",$A$7:$F$56,5,5)","v":{"$error":"#N/A"}},{"$f":"VLookUpX(\"男子B\",$A$7:$F$56,5,6)","v":{"$error":"#N/A"}},{"$f":"VLookUpX(\"男子B\",$C$7:$F$56,5,3)","v":{"$error":"#N/A"}},{"$f":"VLookUpX(\"男子B\",$C$7:$F$56,5,4)","v":{"$error":"#N/A"}},{"$f":"VLookUpX(\"女子B\",$A$7:$F$56,5,5)","v":{"$error":"#N/A"}},{"$f":"VLookUpX(\"女子B\",$A$7:$F$56,5,6)","v":{"$error":"#N/A"}},{"$f":"VLookUpX(\"女子B\",$C$7:$F$56,5,3)","v":{"$error":"#N/A"}},{"$f":"VLookUpX(\"女子B\",$C$7:$F$56,5,4)","v":{"$error":"#N/A"}}]
[0,{"$f":"名簿!Q23","v":""},0,null,{"$f":"名簿!E23","v":0},{"$f":"名簿!BN23","v":""},{"$f":"名簿!Z23","v":""},"",{"$f":"名簿!O23","v":""},{"$f":"名簿!I23","v":0},{"$f":"名簿!K23","v":0},{"$f":"名簿!BQ23","v":"00"},"三重",{"$f":"名簿!D23","v":""},null,{"$f":"IF(O21=\"\",\"\",IF(I21=1,VLOOKUP(O21,男子種目コード!$V$1:$W$5,2,FALSE),IF(I21=2,VLOOKUP(O21,女子種目コード!$V$1:$W$5,2,FALSE))))","v":""},{"$f":"IF(O21=\"\",\"\",HLOOKUP(O21,名簿!$AB$8:$BG$58,16,FALSE))","v":""},0,2,null,{"$f":"IF(T21=\"\",\"\",IF(I21=1,VLOOKUP(T21,男子種目コード!$V$1:$W$5,2,FALSE),IF(I21=2,VLOOKUP(T21,女子種目コード!$V$1:$W$5,2,FALSE))))","v":""},{"$f":"IF(T21=\"\",\"\",HLOOKUP(T21,名簿!$AB$8:$BG$58,16,FALSE))","v":""},null,{"$f":"IF(W21=\"\",\"\",IF(I21=1,VLOOKUP(W21,男子種目コード!$D$2:$E$30,2,FALSE),IF(I21=2,VLOOKUP(W21,女子種目コード!$D$2:$E$30,2,FALSE))))","v":""},null,null,null,null,{"$f":"IF(AB21=\"\",\"\",IF(I21=1,VLOOKUP(AB21,男子種目コード!$V$1:$W$5,2,FALSE),IF(I21=2,VLOOKUP(AB21,女子種目コード!$V$1:$W$5,2,FALSE))))","v":""},null,0,2,null,{"$f":"IF(AG21=\"\",\"\",IF(I21=1,VLOOKUP(AG21,男子種目コード!$A$78:$B$81,2,FALSE),IF(I21=2,VLOOKUP(AG21,女子種目コード!$A$78:$B$81,2,FALSE))))","v":""},null,0,2,0,null,null,"三段跳","","",null,null,"",0,0,0,0,null,null,null,0,0,"","",null,null,null,null,null,null,null,null,null,null,{"$f":"VLookUpX(\"男子B\",$A$7:$F$56,6,5)","v":{"$error":"#N/A"}},{"$f":"VLookUpX(\"男子B\",$A$7:$F$56,6,6)","v":{"$error":"#N/A"}},{"$f":"VLookUpX(\"男子B\",$C$7:$F$56,6,3)","v":{"$error":"#N/A"}},{"$f":"VLookUpX(\"男子B\",$C$7:$F$56,6,4)","v":{"$error":"#N/A"}},{"$f":"VLookUpX(\"女子B\",$A$7:$F$56,6,5)","v":{"$error":"#N/A"}},{"$f":"VLookUpX(\"女子B\",$A$7:$F$56,6,6)","v":{"$error":"#N/A"}},{"$f":"VLookUpX(\"女子B\",$C$7:$F$56,6,3)","v":{"$error":"#N/A"}},{"$f":"VLookUpX(\"女子B\",$C$7:$F$56,6,4)","v":{"$error":"#N/A"}}]
[0,{"$f":"名簿!Q24","v":""},0,null,{"$f":"名簿!E24","v":0},{"$f":"名簿!BN24","v":""},{"$f":"名簿!Z24","v":""},"",{"$f":"名簿!O24","v":""},{"$f":"名簿!I24","v":0},{"$f":"名簿!K24","v":0},{"$f":"名簿!BQ24","v":"00"},"三重",{"$f":"名簿!D24","v":""},null,{"$f":"IF(O22=\"\",\"\",IF(I22=1,VLOOKUP(O22,男子種目コード!$V$1:$W$5,2,FALSE),IF(I22=2,VLOOKUP(O22,女子種目コード!$V$1:$W$5,2,FALSE))))","v":""},{"$f":"IF(O22=\"\",\"\",HLOOKUP(O22,名簿!$AB$8:$BG$58,17,FALSE))","v":""},0,2,null,{"$f":"IF(T22=\"\",\"\",IF(I22=1,VLOOKUP(T22,男子種目コード!$V$1:$W$5,2,FALSE),IF(I22=2,VLOOKUP(T22,女子種目コード!$V$1:$W$5,2,FALSE))))","v":""},{"$f":"IF(T22=\"\",\"\",HLOOKUP(T22,名簿!$AB$8:$BG$58,17,FALSE))","v":""},null,{"$f":"IF(W22=\"\",\"\",IF(I22=1,VLOOKUP(W22,男子種目コード!$D$2:$E$30,2,FALSE),IF(I22=2,VLOOKUP(W22,女子種目コード!$D$2:$E$30,2,FALSE))))","v":""},null,null,null,null,{"$f":"IF(AB22=\"\",\"\",IF(I22=1,VLOOKUP(AB22,男子種目コード!$V$1:$W$5,2,FALSE),IF(I22=2,VLOOKUP(AB22,女子種目コード!$V$1:$W$5,2,FALSE))))","v":""},null,0,2,null,{"$f":"IF(AG22=\"\",\"\",IF(I22=1,VLOOKUP(AG22,男子種目コード!$A$78:$B$81,2,FALSE),IF(I22=2,VLOOKUP(AG22,女子種目コード!$A$78:$B$81,2,FALSE))))","v":""},null,0,2,0,null,null,"砲丸投","","",null,null,"",0,0,0,0,null,null,null,0,0,"",""]
[0,{"$f":"名簿!Q25","v":""},0,null,{"$f":"名簿!E25","v":0},{"$f":"名簿!BN25","v":""},{"$f":"名簿!Z25","v":""},"",{"$f":"名簿!O25","v":""},{"$f":"名簿!I25","v":0},{"$f":"名簿!K25","v":0},{"$f":"名簿!BQ25","v":"00"},"三重",{"$f":"名簿!D25","v":""},null,{"$f":"IF(O23=\"\",\"\",IF(I23=1,VLOOKUP(O23,男子種目コード!$V$1:$W$5,2,FALSE),IF(I23=2,VLOOKUP(O23,女子種目コード!$V$1:$W$5,2,FALSE))))","v":""},{"$f":"IF(O23=\"\",\"\",HLOOKUP(O23,名簿!$AB$8:$BG$58,18,FALSE))","v":""},0,2,null,{"$f":"IF(T23=\"\",\"\",IF(I23=1,VLOOKUP(T23,男子種目コード!$V$1:$W$5,2,FALSE),IF(I23=2,VLOOKUP(T23,女子種目コード!$V$1:$W$5,2,FALSE))))","v":""},{"$f":"IF(T23=\"\",\"\",HLOOKUP(T23,名簿!$AB$8:$BG$58,18,FALSE))","v":""},null,{"$f":"IF(W23=\"\",\"\",IF(I23=1,VLOOKUP(W23,男子種目コード!$D$2:$E$30,2,FALSE),IF(I23=2,VLOOKUP(W23,女子種目コード!$D$2:$E$30,2,FALSE))))","v":""},null,null,null,null,{"$f":"IF(AB23=\"\",\"\",IF(I23=1,VLOOKUP(AB23,男子種目コード!$V$1:$W$5,2,FALSE),IF(I23=2,VLOOKUP(AB23,女子種目コード!$V$1:$W$5,2,FALSE))))","v":""},null,0,2,null,{"$f":"IF(AG23=\"\",\"\",IF(I23=1,VLOOKUP(AG23,男子種目コード!$A$78:$B$81,2,FALSE),IF(I23=2,VLOOKUP(AG23,女子種目コード!$A$78:$B$81,2,FALSE))))","v":""},null,0,2,0,null,null,"円盤投","","",null,null,"",0,0,0,0,null,null,null,0,0,"",""]
[0,{"$f":"名簿!Q26","v":""},0,null,{"$f":"名簿!E26","v":0},{"$f":"名簿!BN26","v":""},{"$f":"名簿!Z26","v":""},"",{"$f":"名簿!O26","v":""},{"$f":"名簿!I26","v":0},{"$f":"名簿!K26","v":0},{"$f":"名簿!BQ26","v":"00"},"三重",{"$f":"名簿!D26","v":""},null,{"$f":"IF(O24=\"\",\"\",IF(I24=1,VLOOKUP(O24,男子種目コード!$V$1:$W$5,2,FALSE),IF(I24=2,VLOOKUP(O24,女子種目コード!$V$1:$W$5,2,FALSE))))","v":""},{"$f":"IF(O24=\"\",\"\",HLOOKUP(O24,名簿!$AB$8:$BG$58,19,FALSE))","v":""},0,2,null,{"$f":"IF(T24=\"\",\"\",IF(I24=1,VLOOKUP(T24,男子種目コード!$V$1:$W$5,2,FALSE),IF(I24=2,VLOOKUP(T24,女子種目コード!$V$1:$W$5,2,FALSE))))","v":""},{"$f":"IF(T24=\"\",\"\",HLOOKUP(T24,名簿!$AB$8:$BG$58,19,FALSE))","v":""},null,{"$f":"IF(W24=\"\",\"\",IF(I24=1,VLOOKUP(W24,男子種目コード!$D$2:$E$30,2,FALSE),IF(I24=2,VLOOKUP(W24,女子種目コード!$D$2:$E$30,2,FALSE))))","v":""},null,null,null,null,{"$f":"IF(AB24=\"\",\"\",IF(I24=1,VLOOKUP(AB24,男子種目コード!$V$1:$W$5,2,FALSE),IF(I24=2,VLOOKUP(AB24,女子種目コード!$V$1:$W$5,2,FALSE))))","v":""},null,0,2,null,{"$f":"IF(AG24=\"\",\"\",IF(I24=1,VLOOKUP(AG24,男子種目コード!$A$78:$B$81,2,FALSE),IF(I24=2,VLOOKUP(AG24,女子種目コード!$A$78:$B$81,2,FALSE))))","v":""},null,0,2,0,null,null,"ハンマー投","","",null,null,"",0,0,0,0,null,null,null,0,0,"","",null,null,null,null,null,null,null,null,null,null,{"$f":"VLookUpX(\"男子C\",$A$7:$F$56,1,5)","v":{"$error":"#N/A"}},{"$f":"VLookUpX(\"男子C\",$A$7:$F$56,1,6)","v":{"$error":"#N/A"}},{"$f":"VLookUpX(\"男子C\",$C$7:$F$56,1,3)","v":{"$error":"#N/A"}},{"$f":"VLookUpX(\"男子C\",$C$7:$F$56,1,4)","v":{"$error":"#N/A"}},{"$f":"VLookUpX(\"女子C\",$A$7:$F$56,1,5)","v":{"$error":"#N/A"}},{"$f":"VLookUpX(\"女子C\",$A$7:$F$56,1,6)","v":{"$error":"#N/A"}},{"$f":"VLookUpX(\"女子C\",$C$7:$F$56,1,3)","v":{"$error":"#N/A"}},{"$f":"VLookUpX(\"女子C\",$C$7:$F$56,1,4)","v":{"$error":"#N/A"}},{"$f":"IF(BH24=\"\",\"\",1)","v":""},{"$f":"IF(BJ24=\"\",\"\",1)","v":""},{"$f":"IF(BL24=\"\",\"\",1)","v":""},{"$f":"IF(BN24=\"\",\"\",1)","v":""}]
[0,{"$f":"名簿!Q27","v":""},0,null,{"$f":"名簿!E27","v":0},{"$f":"名簿!BN27","v":""},{"$f":"名簿!Z27","v":""},"",{"$f":"名簿!O27","v":""},{"$f":"名簿!I27","v":0},{"$f":"名簿!K27","v":0},{"$f":"名簿!BQ27","v":"00"},"三重",{"$f":"名簿!D27","v":""},null,{"$f":"IF(O25=\"\",\"\",IF(I25=1,VLOOKUP(O25,男子種目コード!$V$1:$W$5,2,FALSE),IF(I25=2,VLOOKUP(O25,女子種目コード!$V$1:$W$5,2,FALSE))))","v":""},{"$f":"IF(O25=\"\",\"\",HLOOKUP(O25,名簿!$AB$8:$BG$58,20,FALSE))","v":""},0,2,null,{"$f":"IF(T25=\"\",\"\",IF(I25=1,VLOOKUP(T25,男子種目コード!$V$1:$W$5,2,FALSE),IF(I25=2,VLOOKUP(T25,女子種目コード!$V$1:$W$5,2,FALSE))))","v":""},{"$f":"IF(T25=\"\",\"\",HLOOKUP(T25,名簿!$AB$8:$BG$58,20,FALSE))","v":""},null,{"$f":"IF(W25=\"\",\"\",IF(I25=1,VLOOKUP(W25,男子種目コード!$D$2:$E$30,2,FALSE),IF(I25=2,VLOOKUP(W25,女子種目コード!$D$2:$E$30,2,FALSE))))","v":""},null,null,null,null,{"$f":"IF(AB25=\"\",\"\",IF(I25=1,VLOOKUP(AB25,男子種目コード!$V$1:$W$5,2,FALSE),IF(I25=2,VLOOKUP(AB25,女子種目コード!$V$1:$W$5,2,FALSE))))","v":""},null,0,2,null,{"$f":"IF(AG25=\"\",\"\",IF(I25=1,VLOOKUP(AG25,男子種目コード!$A$78:$B$81,2,FALSE),IF(I25=2,VLOOKUP(AG25,女子種目コード!$A$78:$B$81,2,FALSE))))","v":""},null,0,2,0,null,null,"やり投","","",null,null,"",0,0,0,0,null,null,null,0,0,"","",null,null,null,null,null,null,null,null,null,null,{"$f":"VLookUpX(\"男子C\",$A$7:$F$56,2,5)","v":{"$error":"#N/A"}},{"$f":"VLookUpX(\"男子C\",$A$7:$F$56,2,6)","v":{"$error":"#N/A"}},{"$f":"VLookUpX(\"男子C\",$C$7:$F$56,2,3)","v":{"$error":"#N/A"}},{"$f":"VLookUpX(\"男子C\",$C$7:$F$56,2,4)","v":{"$error":"#N/A"}},{"$f":"VLookUpX(\"女子C\",$A$7:$F$56,2,5)","v":{"$error":"#N/A"}},{"$f":"VLookUpX(\"女子C\",$A$7:$F$56,2,6)","v":{"$error":"#N/A"}},{"$f":"VLookUpX(\"女子C\",$C$7:$F$56,2,3)","v":{"$error":"#N/A"}},{"$f":"VLookUpX(\"女子C\",$C$7:$F$56,2,4)","v":{"$error":"#N/A"}}]
[0,{"$f":"名簿!Q28","v":""},0,null,{"$f":"名簿!E28","v":0},{"$f":"名簿!BN28","v":""},{"$f":"名簿!Z28","v":""},"",{"$f":"名簿!O28","v":""},{"$f":"名簿!I28","v":0},{"$f":"名簿!K28","v":0},{"$f":"名簿!BQ28","v":"00"},"三重",{"$f":"名簿!D28","v":0},null,{"$f":"IF(O26=\"\",\"\",IF(I26=1,VLOOKUP(O26,男子種目コード!$V$1:$W$5,2,FALSE),IF(I26=2,VLOOKUP(O26,女子種目コード!$V$1:$W$5,2,FALSE))))","v":""},{"$f":"IF(O26=\"\",\"\",HLOOKUP(O26,名簿!$AB$8:$BG$58,21,FALSE))","v":""},0,2,null,{"$f":"IF(T26=\"\",\"\",IF(I26=1,VLOOKUP(T26,男子種目コード!$V$1:$W$5,2,FALSE),IF(I26=2,VLOOKUP(T26,女子種目コード!$V$1:$W$5,2,FALSE))))","v":""},{"$f":"IF(T26=\"\",\"\",HLOOKUP(T26,名簿!$AB$8:$BG$58,21,FALSE))","v":""},null,{"$f":"IF(W26=\"\",\"\",IF(I26=1,VLOOKUP(W26,男子種目コード!$D$2:$E$30,2,FALSE),IF(I26=2,VLOOKUP(W26,女子種目コード!$D$2:$E$30,2,FALSE))))","v":""},null,null,null,null,{"$f":"IF(AB26=\"\",\"\",IF(I26=1,VLOOKUP(AB26,男子種目コード!$V$1:$W$5,2,FALSE),IF(I26=2,VLOOKUP(AB26,女子種目コード!$V$1:$W$5,2,FALSE))))","v":""},null,0,2,null,{"$f":"IF(AG26=\"\",\"\",IF(I26=1,VLOOKUP(AG26,男子種目コード!$A$78:$B$81,2,FALSE),IF(I26=2,VLOOKUP(AG26,女子種目コード!$A$78:$B$81,2,FALSE))))","v":""},null,0,2,0,null,null,"少年3000","","",null,null,"",0,0,0,0,null,null,null,0,0,"","",null,null,null,null,null,null,null,null,null,null,{"$f":"VLookUpX(\"男子C\",$A$7:$F$56,3,5)","v":{"$error":"#N/A"}},{"$f":"VLookUpX(\"男子C\",$A$7:$F$56,3,6)","v":{"$error":"#N/A"}},{"$f":"VLookUpX(\"男子C\",$C$7:$F$56,3,3)","v":{"$error":"#N/A"}},{"$f":"VLookUpX(\"男子C\",$C$7:$F$56,3,4)","v":{"$error":"#N/A"}},{"$f":"VLookUpX(\"女子C\",$A$7:$F$56,3,5)","v":{"$error":"#N/A"}},{"$f":"VLookUpX(\"女子C\",$A$7:$F$56,3,6)","v":{"$error":"#N/A"}},{"$f":"VLookUpX(\"女子C\",$C$7:$F$56,3,3)","v":{"$error":"#N/A"}},{"$f":"VLookUpX(\"女子C\",$C$7:$F$56,3,4)","v":{"$error":"#N/A"}}]
[0,{"$f":"名簿!Q29","v":""},0,null,{"$f":"名簿!E29","v":0},{"$f":"名簿!BN29","v":""},{"$f":"名簿!Z29","v":""},"",{"$f":"名簿!O29","v":""},{"$f":"名簿!I29","v":0},{"$f":"名簿!K29","v":0},{"$f":"名簿!BQ29","v":"00"},"三重",{"$f":"名簿!D29","v":0},null,{"$f":"IF(O27=\"\",\"\",IF(I27=1,VLOOKUP(O27,男子種目コード!$V$1:$W$5,2,FALSE),IF(I27=2,VLOOKUP(O27,女子種目コード!$V$1:$W$5,2,FALSE))))","v":""},{"$f":"IF(O27=\"\",\"\",HLOOKUP(O27,名簿!$AB$8:$BG$58,22,FALSE))","v":""},0,2,null,{"$f":"IF(T27=\"\",\"\",IF(I27=1,VLOOKUP(T27,男子種目コード!$V$1:$W$5,2,FALSE),IF(I27=2,VLOOKUP(T27,女子種目コード!$V$1:$W$5,2,FALSE))))","v":""},{"$f":"IF(T27=\"\",\"\",HLOOKUP(T27,名簿!$AB$8:$BG$58,22,FALSE))","v":""},null,{"$f":"IF(W27=\"\",\"\",IF(I27=1,VLOOKUP(W27,男子種目コード!$D$2:$E$30,2,FALSE),IF(I27=2,VLOOKUP(W27,女子種目コード!$D$2:$E$30,2,FALSE))))","v":""},null,null,null,null,{"$f":"IF(AB27=\"\",\"\",IF(I27=1,VLOOKUP(AB27,男子種目コード!$V$1:$W$5,2,FALSE),IF(I27=2,VLOOKUP(AB27,女子種目コード!$V$1:$W$5,2,FALSE))))","v":""},null,0,2,null,{"$f":"IF(AG27=\"\",\"\",IF(I27=1,VLOOKUP(AG27,男子種目コード!$A$78:$B$81,2,FALSE),IF(I27=2,VLOOKUP(AG27,女子種目コード!$A$78:$B$81,2,FALSE))))","v":""},null,0,2,0,null,null,"少年B100H","","",null,null,"",0,0,0,0,null,null,null,0,0,"","",null,null,null,null,null,null,null,null,null,null,{"$f":"VLookUpX(\"男子C\",$A$7:$F$56,4,5)","v":{"$error":"#N/A"}},{"$f":"VLookUpX(\"男子C\",$A$7:$F$56,4,6)","v":{"$error":"#N/A"}},{"$f":"VLookUpX(\"男子C\",$C$7:$F$56,4,3)","v":{"$error":"#N/A"}},{"$f":"VLookUpX(\"男子C\",$C$7:$F$56,4,4)","v":{"$error":"#N/A"}},{"$f":"VLookUpX(\"女子C\",$A$7:$F$56,4,5)","v":{"$error":"#N/A"}},{"$f":"VLookUpX(\"女子C\",$A$7:$F$56,4,6)","v":{"$error":"#N/A"}},{"$f":"VLookUpX(\"女子C\",$C$7:$F$56,4,3)","v":{"$error":"#N/A"}},{"$f":"VLookUpX(\"女子C\",$C$7:$F$56,4,4)","v":{"$error":"#N/A"}}]
[0,{"$f":"名簿!Q30","v":""},0,null,{"$f":"名簿!E30","v":0},{"$f":"名簿!BN30","v":""},{"$f":"名簿!Z30","v":""},"",{"$f":"名簿!O30","v":""},{"$f":"名簿!I30","v":0},{"$f":"名簿!K30","v":0},{"$f":"名簿!BQ30","v":"00"},"三重",{"$f":"名簿!D30","v":0},null,{"$f":"IF(O28=\"\",\"\",IF(I28=1,VLOOKUP(O28,男子種目コード!$V$1:$W$5,2,FALSE),IF(I28=2,VLOOKUP(O28,女子種目コード!$V$1:$W$5,2,FALSE))))","v":""},{"$f":"IF(O28=\"\",\"\",HLOOKUP(O28,名簿!$AB$8:$BG$58,23,FALSE))","v":""},0,2,null,{"$f":"IF(T28=\"\",\"\",IF(I28=1,VLOOKUP(T28,男子種目コード!$V$1:$W$5,2,FALSE),IF(I28=2,VLOOKUP(T28,女子種目コード!$V$1:$W$5,2,FALSE))))","v":""},{"$f":"IF(T28=\"\",\"\",HLOOKUP(T28,名簿!$AB$8:$BG$58,23,FALSE))","v":""},null,{"$f":"IF(W28=\"\",\"\",IF(I28=1,VLOOKUP(W28,男子種目コード!$D$2:$E$30,2,FALSE),IF(I28=2,VLOOKUP(W28,女子種目コード!$D$2:$E$30,2,FALSE))))","v":""},null,null,null,null,{"$f":"IF(AB28=\"\",\"\",IF(I28=1,VLOOKUP(AB28,男子種目コード!$V$1:$W$5,2,FALSE),IF(I28=2,VLOOKUP(AB28,女子種目コード!$V$1:$W$5,2,FALSE))))","v":""},null,0,2,null,{"$f":"IF(AG28=\"\",\"\",IF(I28=1,VLOOKUP(AG28,男子種目コード!$A$78:$B$81,2,FALSE),IF(I28=2,VLOOKUP(AG28,女子種目コード!$A$78:$B$81,2,FALSE))))","v":""},null,0,2,0,null,null,"少年B110JH","","",null,null,"",0,0,0,0,null,null,null,0,0,"","",null,null,null,null,null,null,null,null,null,null,{"$f":"VLookUpX(\"男子C\",$A$7:$F$56,5,5)","v":{"$error":"#N/A"}},{"$f":"VLookUpX(\"男子C\",$A$7:$F$56,5,6)","v":{"$error":"#N/A"}},{"$f":"VLookUpX(\"男子C\",$C$7:$F$56,5,3)","v":{"$error":"#N/A"}},{"$f":"VLookUpX(\"男子C\",$C$7:$F$56,5,4)","v":{"$error":"#N/A"}},{"$f":"VLookUpX(\"女子C\",$A$7:$F$56,5,5)","v":{"$error":"#N/A"}},{"$f":"VLookUpX(\"女子C\",$A$7:$F$56,5,6)","v":{"$error":"#N/A"}},{"$f":"VLookUpX(\"女子C\",$C$7:$F$56,5,3)","v":{"$error":"#N/A"}},{"$f":"VLookUpX(\"女子C\",$C$7:$F$56,5,4)","v":{"$error":"#N/A"}}]
[0,{"$f":"名簿!Q31","v":""},0,null,{"$f":"名簿!E31","v":0},{"$f":"名簿!BN31","v":""},{"$f":"名簿!Z31","v":""},"",{"$f":"名簿!O31","v":""},{"$f":"名簿!I31","v":0},{"$f":"名簿!K31","v":0},{"$f":"名簿!BQ31","v":"00"},"三重",{"$f":"名簿!D31","v":0},null,{"$f":"IF(O29=\"\",\"\",IF(I29=1,VLOOKUP(O29,男子種目コード!$V$1:$W$5,2,FALSE),IF(I29=2,VLOOKUP(O29,女子種目コード!$V$1:$W$5,2,FALSE))))","v":""},{"$f":"IF(O29=\"\",\"\",HLOOKUP(O29,名簿!$AB$8:$BG$58,24,FALSE))","v":""},0,2,null,{"$f":"IF(T29=\"\",\"\",IF(I29=1,VLOOKUP(T29,男子種目コード!$V$1:$W$5,2,FALSE),IF(I29=2,VLOOKUP(T29,女子種目コード!$V$1:$W$5,2,FALSE))))","v":""},{"$f":"IF(T29=\"\",\"\",HLOOKUP(T29,名簿!$AB$8:$BG$58,24,FALSE))","v":""},null,{"$f":"IF(W29=\"\",\"\",IF(I29=1,VLOOKUP(W29,男子種目コード!$D$2:$E$30,2,FALSE),IF(I29=2,VLOOKUP(W29,女子種目コード!$D$2:$E$30,2,FALSE))))","v":""},null,null,null,null,{"$f":"IF(AB29=\"\",\"\",IF(I29=1,VLOOKUP(AB29,男子種目コード!$V$1:$W$5,2,FALSE),IF(I29=2,VLOOKUP(AB29,女子種目コード!$V$1:$W$5,2,FALSE))))","v":""},null,0,2,null,{"$f":"IF(AG29=\"\",\"\",IF(I29=1,VLOOKUP(AG29,男子種目コード!$A$78:$B$81,2,FALSE),IF(I29=2,VLOOKUP(AG29,女子種目コード!$A$78:$B$81,2,FALSE))))","v":""},null,0,2,0,null,null,"少年砲丸投","","",null,null,"",0,0,0,0,null,null,null,0,0,"","",null,null,null,null,null,null,null,null,null,null,{"$f":"VLookUpX(\"男子C\",$A$7:$F$56,6,5)","v":{"$error":"#N/A"}},{"$f":"VLookUpX(\"男子C\",$A$7:$F$56,6,6)","v":{"$error":"#N/A"}},{"$f":"VLookUpX(\"男子C\",$C$7:$F$56,6,3)","v":{"$error":"#N/A"}},{"$f":"VLookUpX(\"男子C\",$C$7:$F$56,6,4)","v":{"$error":"#N/A"}},{"$f":"VLookUpX(\"女子C\",$A$7:$F$56,6,5)","v":{"$error":"#N/A"}},{"$f":"VLookUpX(\"女子C\",$A$7:$F$56,6,6)","v":{"$error":"#N/A"}},{"$f":"VLookUpX(\"女子C\",$C$7:$F$56,6,3)","v":{"$error":"#N/A"}},{"$f":"VLookUpX(\"女子C\",$C$7:$F$56,6,4)","v":{"$error":"#N/A"}}]
[0,{"$f":"名簿!Q32","v":""},0,null,{"$f":"名簿!E32","v":0},{"$f":"名簿!BN32","v":""},{"$f":"名簿!Z32","v":""},"",{"$f":"名簿!O32","v":""},{"$f":"名簿!I32","v":0},{"$f":"名簿!K32","v":0},{"$f":"名簿!BQ32","v":"00"},"三重",{"$f":"名簿!D32","v":0},null,{"$f":"IF(O30=\"\",\"\",IF(I30=1,VLOOKUP(O30,男子種目コード!$V$1:$W$5,2,FALSE),IF(I30=2,VLOOKUP(O30,女子種目コード!$V$1:$W$5,2,FALSE))))","v":""},{"$f":"IF(O30=\"\",\"\",HLOOKUP(O30,名簿!$AB$8:$BG$58,25,FALSE))","v":""},0,2,null,{"$f":"IF(T30=\"\",\"\",IF(I30=1,VLOOKUP(T30,男子種目コード!$V$1:$W$5,2,FALSE),IF(I30=2,VLOOKUP(T30,女子種目コード!$V$1:$W$5,2,FALSE))))","v":""},{"$f":"IF(T30=\"\",\"\",HLOOKUP(T30,名簿!$AB$8:$BG$58,25,FALSE))","v":""},null,{"$f":"IF(W30=\"\",\"\",IF(I30=1,VLOOKUP(W30,男子種目コード!$D$2:$E$30,2,FALSE),IF(I30=2,VLOOKUP(W30,女子種目コード!$D$2:$E$30,2,FALSE))))","v":""},null,null,null,null,{"$f":"IF(AB30=\"\",\"\",IF(I30=1,VLOOKUP(AB30,男子種目コード!$V$1:$W$5,2,FALSE),IF(I30=2,VLOOKUP(AB30,女子種目コード!$V$1:$W$5,2,FALSE))))","v":""},null,0,2,null,{"$f":"IF(AG30=\"\",\"\",IF(I30=1,VLOOKUP(AG30,男子種目コード!$A$78:$B$81,2,FALSE),IF(I30=2,VLOOKUP(AG30,女子種目コード!$A$78:$B$81,2,FALSE))))","v":""},null,0,2,0,null,null,"少年円盤投","","",null,null,"",0,0,0,0,null,null,null,0,0,"",""]
[0,{"$f":"名簿!Q33","v":""},0,null,{"$f":"名簿!E33","v":0},{"$f":"名簿!BN33","v":""},{"$f":"名簿!Z33","v":""},"",{"$f":"名簿!O33","v":""},{"$f":"名簿!I33","v":0},{"$f":"名簿!K33","v":0},{"$f":"名簿!BQ33","v":"00"},"三重",{"$f":"名簿!D33","v":0},null,{"$f":"IF(O31=\"\",\"\",IF(I31=1,VLOOKUP(O31,男子種目コード!$V$1:$W$5,2,FALSE),IF(I31=2,VLOOKUP(O31,女子種目コード!$V$1:$W$5,2,FALSE))))","v":""},{"$f":"IF(O31=\"\",\"\",HLOOKUP(O31,名簿!$AB$8:$BG$58,26,FALSE))","v":""},0,2,null,{"$f":"IF(T31=\"\",\"\",IF(I31=1,VLOOKUP(T31,男子種目コード!$V$1:$W$5,2,FALSE),IF(I31=2,VLOOKUP(T31,女子種目コード!$V$1:$W$5,2,FALSE))))","v":""},{"$f":"IF(T31=\"\",\"\",HLOOKUP(T31,名簿!$AB$8:$BG$58,26,FALSE))","v":""},null,{"$f":"IF(W31=\"\",\"\",IF(I31=1,VLOOKUP(W31,男子種目コード!$D$2:$E$30,2,FALSE),IF(I31=2,VLOOKUP(W31,女子種目コード!$D$2:$E$30,2,FALSE))))","v":""},null,null,null,null,{"$f":"IF(AB31=\"\",\"\",IF(I31=1,VLOOKUP(AB31,男子種目コード!$V$1:$W$5,2,FALSE),IF(I31=2,VLOOKUP(AB31,女子種目コード!$V$1:$W$5,2,FALSE))))","v":""},null,0,2,null,{"$f":"IF(AG31=\"\",\"\",IF(I31=1,VLOOKUP(AG31,男子種目コード!$A$78:$B$81,2,FALSE),IF(I31=2,VLOOKUP(AG31,女子種目コード!$A$78:$B$81,2,FALSE))))","v":""},null,0,2,0,null,null,"少年ハンマー投","","",null,null,"",0,0,0,0,null,null,null,0,0,"",""]
[0,{"$f":"名簿!Q34","v":""},0,null,{"$f":"名簿!E34","v":0},{"$f":"名簿!BN34","v":""},{"$f":"名簿!Z34","v":""},"",{"$f":"名簿!O34","v":""},{"$f":"名簿!I34","v":0},{"$f":"名簿!K34","v":0},{"$f":"名簿!BQ34","v":"00"},"三重",{"$f":"名簿!D34","v":0},null,{"$f":"IF(O32=\"\",\"\",IF(I32=1,VLOOKUP(O32,男子種目コード!$V$1:$W$5,2,FALSE),IF(I32=2,VLOOKUP(O32,女子種目コード!$V$1:$W$5,2,FALSE))))","v":""},{"$f":"IF(O32=\"\",\"\",HLOOKUP(O32,名簿!$AB$8:$BG$58,27,FALSE))","v":""},0,2,null,{"$f":"IF(T32=\"\",\"\",IF(I32=1,VLOOKUP(T32,男子種目コード!$V$1:$W$5,2,FALSE),IF(I32=2,VLOOKUP(T32,女子種目コード!$V$1:$W$5,2,FALSE))))","v":""},{"$f":"IF(T32=\"\",\"\",HLOOKUP(T32,名簿!$AB$8:$BG$58,27,FALSE))","v":""},null,{"$f":"IF(W32=\"\",\"\",IF(I32=1,VLOOKUP(W32,男子種目コード!$D$2:$E$30,2,FALSE),IF(I32=2,VLOOKUP(W32,女子種目コード!$D$2:$E$30,2,FALSE))))","v":""},null,null,null,null,{"$f":"IF(AB32=\"\",\"\",IF(I32=1,VLOOKUP(AB32,男子種目コード!$V$1:$W$5,2,FALSE),IF(I32=2,VLOOKUP(AB32,女子種目コード!$V$1:$W$5,2,FALSE))))","v":""},null,0,2,null,{"$f":"IF(AG32=\"\",\"\",IF(I32=1,VLOOKUP(AG32,男子種目コード!$A$78:$B$81,2,FALSE),IF(I32=2,VLOOKUP(AG32,女子種目コード!$A$78:$B$81,2,FALSE))))","v":""},null,0,2,0,null,null,"男子A","","",null,null,"",0,0,0,0,null,null,null,0,0,"","",null,null,null,null,null,null,null,null,null,null,{"$f":"VLookUpX(\"男子D\",$A$7:$F$56,1,5)","v":{"$error":"#N/A"}},{"$f":"VLookUpX(\"男子D\",$A$7:$F$56,1,6)","v":{"$error":"#N/A"}},{"$f":"VLookUpX(\"男子D\",$C$7:$F$56,1,3)","v":{"$error":"#N/A"}},{"$f":"VLookUpX(\"男子D\",$C$7:$F$56,1,4)","v":{"$error":"#N/A"}},{"$f":"VLookUpX(\"女子D\",$A$7:$F$56,1,5)","v":{"$error":"#N/A"}},{"$f":"VLookUpX(\"女子D\",$A$7:$F$56,1,6)","v":{"$error":"#N/A"}},{"$f":"VLookUpX(\"女子D\",$C$7:$F$56,1,3)","v":{"$error":"#N/A"}},{"$f":"VLookUpX(\"女子D\",$C$7:$F$56,1,4)","v":{"$error":"#N/A"}},{"$f":"IF(BH32=\"\",\"\",1)","v":""},{"$f":"IF(BJ32=\"\",\"\",1)","v":""},{"$f":"IF(BL32=\"\",\"\",1)","v":""},{"$f":"IF(BN32=\"\",\"\",1)","v":""}]
[0,{"$f":"名簿!Q35","v":""},0,null,{"$f":"名簿!E35","v":0},{"$f":"名簿!BN35","v":""},{"$f":"名簿!Z35","v":""},"",{"$f":"名簿!O35","v":""},{"$f":"名簿!I35","v":0},{"$f":"名簿!K35","v":0},{"$f":"名簿!BQ35","v":"00"},"三重",{"$f":"名簿!D35","v":0},null,{"$f":"IF(O33=\"\",\"\",IF(I33=1,VLOOKUP(O33,男子種目コード!$V$1:$W$5,2,FALSE),IF(I33=2,VLOOKUP(O33,女子種目コード!$V$1:$W$5,2,FALSE))))","v":""},{"$f":"IF(O33=\"\",\"\",HLOOKUP(O33,名簿!$AB$8:$BG$58,28,FALSE))","v":""},0,2,null,{"$f":"IF(T33=\"\",\"\",IF(I33=1,VLOOKUP(T33,男子種目コード!$V$1:$W$5,2,FALSE),IF(I33=2,VLOOKUP(T33,女子種目コード!$V$1:$W$5,2,FALSE))))","v":""},{"$f":"IF(T33=\"\",\"\",HLOOKUP(T33,名簿!$AB$8:$BG$58,28,FALSE))","v":""},null,{"$f":"IF(W33=\"\",\"\",IF(I33=1,VLOOKUP(W33,男子種目コード!$D$2:$E$30,2,FALSE),IF(I33=2,VLOOKUP(W33,女子種目コード!$D$2:$E$30,2,FALSE))))","v":""},null,null,null,null,{"$f":"IF(AB33=\"\",\"\",IF(I33=1,VLOOKUP(AB33,男子種目コード!$V$1:$W$5,2,FALSE),IF(I33=2,VLOOKUP(AB33,女子種目コード!$V$1:$W$5,2,FALSE))))","v":""},null,0,2,null,{"$f":"IF(AG33=\"\",\"\",IF(I33=1,VLOOKUP(AG33,男子種目コード!$A$78:$B$81,2,FALSE),IF(I33=2,VLOOKUP(AG33,女子種目コード!$A$78:$B$81,2,FALSE))))","v":""},null,0,2,0,null,null,"男子B","","",null,null,"",0,0,0,0,null,null,null,0,0,"","",null,null,null,null,null,null,null,null,null,null,{"$f":"VLookUpX(\"男子D\",$A$7:$F$56,2,5)","v":{"$error":"#N/A"}},{"$f":"VLookUpX(\"男子D\",$A$7:$F$56,2,6)","v":{"$error":"#N/A"}},{"$f":"VLookUpX(\"男子D\",$C$7:$F$56,2,3)","v":{"$error":"#N/A"}},{"$f":"VLookUpX(\"男子D\",$C$7:$F$56,2,4)","v":{"$error":"#N/A"}},{"$f":"VLookUpX(\"女子D\",$A$7:$F$56,2,5)","v":{"$error":"#N/A"}},{"$f":"VLookUpX(\"女子D\",$A$7:$F$56,2,6)","v":{"$error":"#N/A"}},{"$f":"VLookUpX(\"女子D\",$C$7:$F$56,2,3)","v":{"$error":"#N/A"}},{"$f":"VLookUpX(\"女子D\",$C$7:$F$56,2,4)","v":{"$error":"#N/A"}}]
[0,{"$f":"名簿!Q36","v":""},0,null,{"$f":"名簿!E36","v":0},{"$f":"名簿!BN36","v":""},{"$f":"名簿!Z36","v":""},"",{"$f":"名簿!O36","v":""},{"$f":"名簿!I36","v":0},{"$f":"名簿!K36","v":0},{"$f":"名簿!BQ36","v":"00"},"三重",{"$f":"名簿!D36","v":0},null,{"$f":"IF(O34=\"\",\"\",IF(I34=1,VLOOKUP(O34,男子種目コード!$V$1:$W$5,2,FALSE),IF(I34=2,VLOOKUP(O34,女子種目コード!$V$1:$W$5,2,FALSE))))","v":""},{"$f":"IF(O34=\"\",\"\",HLOOKUP(O34,名簿!$AB$8:$BG$58,29,FALSE))","v":""},0,2,null,{"$f":"IF(T34=\"\",\"\",IF(I34=1,VLOOKUP(T34,男子種目コード!$V$1:$W$5,2,FALSE),IF(I34=2,VLOOKUP(T34,女子種目コード!$V$1:$W$5,2,FALSE))))","v":""},{"$f":"IF(T34=\"\",\"\",HLOOKUP(T34,名簿!$AB$8:$BG$58,29,FALSE))","v":""},null,{"$f":"IF(W34=\"\",\"\",IF(I34=1,VLOOKUP(W34,男子種目コード!$D$2:$E$30,2,FALSE),IF(I34=2,VLOOKUP(W34,女子種目コード!$D$2:$E$30,2,FALSE))))","v":""},null,null,null,null,{"$f":"IF(AB34=\"\",\"\",IF(I34=1,VLOOKUP(AB34,男子種目コード!$V$1:$W$5,2,FALSE),IF(I34=2,VLOOKUP(AB34,女子種目コード!$V$1:$W$5,2,FALSE))))","v":""},null,0,2,null,{"$f":"IF(AG34=\"\",\"\",IF(I34=1,VLOOKUP(AG34,男子種目コード!$A$78:$B$81,2,FALSE),IF(I34=2,VLOOKUP(AG34,女子種目コード!$A$78:$B$81,2,FALSE))))","v":""},null,0,2,0,null,null,"男子C","","",null,null,"",0,0,0,0,null,null,null,0,0,"","",null,null,null,null,null,null,null,null,null,null,{"$f":"VLookUpX(\"男子D\",$A$7:$F$56,3,5)","v":{"$error":"#N/A"}},{"$f":"VLookUpX(\"男子D\",$A$7:$F$56,3,6)","v":{"$error":"#N/A"}},{"$f":"VLookUpX(\"男子D\",$C$7:$F$56,3,3)","v":{"$error":"#N/A"}},{"$f":"VLookUpX(\"男子D\",$C$7:$F$56,3,4)","v":{"$error":"#N/A"}},{"$f":"VLookUpX(\"女子D\",$A$7:$F$56,3,5)","v":{"$error":"#N/A"}},{"$f":"VLookUpX(\"女子D\",$A$7:$F$56,3,6)","v":{"$error":"#N/A"}},{"$f":"VLookUpX(\"女子D\",$C$7:$F$56,3,3)","v":{"$error":"#N/A"}},{"$f":"VLookUpX(\"女子D\",$C$7:$F$56,3,4)","v":{"$error":"#N/A"}}]
[0,{"$f":"名簿!Q37","v":""},0,null,{"$f":"名簿!E37","v":0},{"$f":"名簿!BN37","v":""},{"$f":"名簿!Z37","v":""},"",{"$f":"名簿!O37","v":""},{"$f":"名簿!I37","v":0},{"$f":"名簿!K37","v":0},{"$f":"名簿!BQ37","v":"00"},"三重",{"$f":"名簿!D37","v":0},null,{"$f":"IF(O35=\"\",\"\",IF(I35=1,VLOOKUP(O35,男子種目コード!$V$1:$W$5,2,FALSE),IF(I35=2,VLOOKUP(O35,女子種目コード!$V$1:$W$5,2,FALSE))))","v":""},{"$f":"IF(O35=\"\",\"\",HLOOKUP(O35,名簿!$AB$8:$BG$58,30,FALSE))","v":""},0,2,null,{"$f":"IF(T35=\"\",\"\",IF(I35=1,VLOOKUP(T35,男子種目コード!$V$1:$W$5,2,FALSE),IF(I35=2,VLOOKUP(T35,女子種目コード!$V$1:$W$5,2,FALSE))))","v":""},{"$f":"IF(T35=\"\",\"\",HLOOKUP(T35,名簿!$AB$8:$BG$58,30,FALSE))","v":""},null,{"$f":"IF(W35=\"\",\"\",IF(I35=1,VLOOKUP(W35,男子種目コード!$D$2:$E$30,2,FALSE),IF(I35=2,VLOOKUP(W35,女子種目コード!$D$2:$E$30,2,FALSE))))","v":""},null,null,null,null,{"$f":"IF(AB35=\"\",\"\",IF(I35=1,VLOOKUP(AB35,男子種目コード!$V$1:$W$5,2,FALSE),IF(I35=2,VLOOKUP(AB35,女子種目コード!$V$1:$W$5,2,FALSE))))","v":""},null,0,2,null,{"$f":"IF(AG35=\"\",\"\",IF(I35=1,VLOOKUP(AG35,男子種目コード!$A$78:$B$81,2,FALSE),IF(I35=2,VLOOKUP(AG35,女子種目コード!$A$78:$B$81,2,FALSE))))","v":""},null,0,2,0,null,null,"女子A","","",null,null,"",0,0,0,0,null,null,null,0,0,"","",null,null,null,null,null,null,null,null,null,null,{"$f":"VLookUpX(\"男子D\",$A$7:$F$56,4,5)","v":{"$error":"#N/A"}},{"$f":"VLookUpX(\"男子D\",$A$7:$F$56,4,6)","v":{"$error":"#N/A"}},{"$f":"VLookUpX(\"男子D\",$C$7:$F$56,4,3)","v":{"$error":"#N/A"}},{"$f":"VLookUpX(\"男子D\",$C$7:$F$56,4,4)","v":{"$error":"#N/A"}},{"$f":"VLookUpX(\"女子D\",$A$7:$F$56,4,5)","v":{"$error":"#N/A"}},{"$f":"VLookUpX(\"女子D\",$A$7:$F$56,4,6)","v":{"$error":"#N/A"}},{"$f":"VLookUpX(\"女子D\",$C$7:$F$56,4,3)","v":{"$error":"#N/A"}},{"$f":"VLookUpX(\"女子D\",$C$7:$F$56,4,4)","v":{"$error":"#N/A"}}]
[0,{"$f":"名簿!Q38","v":""},0,null,{"$f":"名簿!E38","v":0},{"$f":"名簿!BN38","v":""},{"$f":"名簿!Z38","v":""},"",{"$f":"名簿!O38","v":""},{"$f":"名簿!I38","v":0},{"$f":"名簿!K38","v":0},{"$f":"名簿!BQ38","v":"00"},"三重",{"$f":"名簿!D38","v":0},null,{"$f":"IF(O36=\"\",\"\",IF(I36=1,VLOOKUP(O36,男子種目コード!$V$1:$W$5,2,FALSE),IF(I36=2,VLOOKUP(O36,女子種目コード!$V$1:$W$5,2,FALSE))))","v":""},{"$f":"IF(O36=\"\",\"\",HLOOKUP(O36,名簿!$AB$8:$BG$58,31,FALSE))","v":""},0,2,null,{"$f":"IF(T36=\"\",\"\",IF(I36=1,VLOOKUP(T36,男子種目コード!$V$1:$W$5,2,FALSE),IF(I36=2,VLOOKUP(T36,女子種目コード!$V$1:$W$5,2,FALSE))))","v":""},{"$f":"IF(T36=\"\",\"\",HLOOKUP(T36,名簿!$AB$8:$BG$58,31,FALSE))","v":""},null,{"$f":"IF(W36=\"\",\"\",IF(I36=1,VLOOKUP(W36,男子種目コード!$D$2:$E$30,2,FALSE),IF(I36=2,VLOOKUP(W36,女子種目コード!$D$2:$E$30,2,FALSE))))","v":""},null,null,null,null,{"$f":"IF(AB36=\"\",\"\",IF(I36=1,VLOOKUP(AB36,男子種目コード!$V$1:$W$5,2,FALSE),IF(I36=2,VLOOKUP(AB36,女子種目コード!$V$1:$W$5,2,FALSE))))","v":""},null,0,2,null,{"$f":"IF(AG36=\"\",\"\",IF(I36=1,VLOOKUP(AG36,男子種目コード!$A$78:$B$81,2,FALSE),IF(I36=2,VLOOKUP(AG36,女子種目コード!$A$78:$B$81,2,FALSE))))","v":""},null,0,2,0,null,null,"女子B","","",null,null,"",0,0,0,0,null,null,null,0,0,"","",null,null,null,null,null,null,null,null,null,null,{"$f":"VLookUpX(\"男子D\",$A$7:$F$56,5,5)","v":{"$error":"#N/A"}},{"$f":"VLookUpX(\"男子D\",$A$7:$F$56,5,6)","v":{"$error":"#N/A"}},{"$f":"VLookUpX(\"男子D\",$C$7:$F$56,5,3)","v":{"$error":"#N/A"}},{"$f":"VLookUpX(\"男子D\",$C$7:$F$56,5,4)","v":{"$error":"#N/A"}},{"$f":"VLookUpX(\"女子D\",$A$7:$F$56,5,5)","v":{"$error":"#N/A"}},{"$f":"VLookUpX(\"女子D\",$A$7:$F$56,5,6)","v":{"$error":"#N/A"}},{"$f":"VLookUpX(\"女子D\",$C$7:$F$56,5,3)","v":{"$error":"#N/A"}},{"$f":"VLookUpX(\"女子D\",$C$7:$F$56,5,4)","v":{"$error":"#N/A"}}]
[0,{"$f":"名簿!Q39","v":""},0,null,{"$f":"名簿!E39","v":0},{"$f":"名簿!BN39","v":""},{"$f":"名簿!Z39","v":""},"",{"$f":"名簿!O39","v":""},{"$f":"名簿!I39","v":0},{"$f":"名簿!K39","v":0},{"$f":"名簿!BQ39","v":"00"},"三重",{"$f":"名簿!D39","v":0},null,{"$f":"IF(O37=\"\",\"\",IF(I37=1,VLOOKUP(O37,男子種目コード!$V$1:$W$5,2,FALSE),IF(I37=2,VLOOKUP(O37,女子種目コード!$V$1:$W$5,2,FALSE))))","v":""},{"$f":"IF(O37=\"\",\"\",HLOOKUP(O37,名簿!$AB$8:$BG$58,32,FALSE))","v":""},0,2,null,{"$f":"IF(T37=\"\",\"\",IF(I37=1,VLOOKUP(T37,男子種目コード!$V$1:$W$5,2,FALSE),IF(I37=2,VLOOKUP(T37,女子種目コード!$V$1:$W$5,2,FALSE))))","v":""},{"$f":"IF(T37=\"\",\"\",HLOOKUP(T37,名簿!$AB$8:$BG$58,32,FALSE))","v":""},null,{"$f":"IF(W37=\"\",\"\",IF(I37=1,VLOOKUP(W37,男子種目コード!$D$2:$E$30,2,FALSE),IF(I37=2,VLOOKUP(W37,女子種目コード!$D$2:$E$30,2,FALSE))))","v":""},null,null,null,null,{"$f":"IF(AB37=\"\",\"\",IF(I37=1,VLOOKUP(AB37,男子種目コード!$V$1:$W$5,2,FALSE),IF(I37=2,VLOOKUP(AB37,女子種目コード!$V$1:$W$5,2,FALSE))))","v":""},null,0,2,null,{"$f":"IF(AG37=\"\",\"\",IF(I37=1,VLOOKUP(AG37,男子種目コード!$A$78:$B$81,2,FALSE),IF(I37=2,VLOOKUP(AG37,女子種目コード!$A$78:$B$81,2,FALSE))))","v":""},null,0,2,0,null,null,"女子C","","",null,null,"",0,0,0,0,null,null,null,0,0,"","",null,null,null,null,null,null,null,null,null,null,{"$f":"VLookUpX(\"男子D\",$A$7:$F$56,6,5)","v":{"$error":"#N/A"}},{"$f":"VLookUpX(\"男子D\",$A$7:$F$56,6,6)","v":{"$error":"#N/A"}},{"$f":"VLookUpX(\"男子D\",$C$7:$F$56,6,3)","v":{"$error":"#N/A"}},{"$f":"VLookUpX(\"男子D\",$C$7:$F$56,6,4)","v":{"$error":"#N/A"}},{"$f":"VLookUpX(\"女子D\",$A$7:$F$56,6,5)","v":{"$error":"#N/A"}},{"$f":"VLookUpX(\"女子D\",$A$7:$F$56,6,6)","v":{"$error":"#N/A"}},{"$f":"VLookUpX(\"女子D\",$C$7:$F$56,6,3)","v":{"$error":"#N/A"}},{"$f":"VLookUpX(\"女子D\",$C$7:$F$56,6,4)","v":{"$error":"#N/A"}}]
[0,{"$f":"名簿!Q40","v":""},0,null,{"$f":"名簿!E40","v":0},{"$f":"名簿!BN40","v":""},{"$f":"名簿!Z40","v":""},"",{"$f":"名簿!O40","v":""},{"$f":"名簿!I40","v":0},{"$f":"名簿!K40","v":0},{"$f":"名簿!BQ40","v":"00"},"三重",{"$f":"名簿!D40","v":0},null,{"$f":"IF(O38=\"\",\"\",IF(I38=1,VLOOKUP(O38,男子種目コード!$V$1:$W$5,2,FALSE),IF(I38=2,VLOOKUP(O38,女子種目コード!$V$1:$W$5,2,FALSE))))","v":""},{"$f":"IF(O38=\"\",\"\",HLOOKUP(O38,名簿!$AB$8:$BG$58,33,FALSE))","v":""},0,2,null,{"$f":"IF(T38=\"\",\"\",IF(I38=1,VLOOKUP(T38,男子種目コード!$V$1:$W$5,2,FALSE),IF(I38=2,VLOOKUP(T38,女子種目コード!$V$1:$W$5,2,FALSE))))","v":""},{"$f":"IF(T38=\"\",\"\",HLOOKUP(T38,名簿!$AB$8:$BG$58,33,FALSE))","v":""},null,{"$f":"IF(W38=\"\",\"\",IF(I38=1,VLOOKUP(W38,男子種目コード!$D$2:$E$30,2,FALSE),IF(I38=2,VLOOKUP(W38,女子種目コード!$D$2:$E$30,2,FALSE))))","v":""},null,null,null,null,{"$f":"IF(AB38=\"\",\"\",IF(I38=1,VLOOKUP(AB38,男子種目コード!$V$1:$W$5,2,FALSE),IF(I38=2,VLOOKUP(AB38,女子種目コード!$V$1:$W$5,2,FALSE))))","v":""},null,0,2,null,{"$f":"IF(AG38=\"\",\"\",IF(I38=1,VLOOKUP(AG38,男子種目コード!$A$78:$B$81,2,FALSE),IF(I38=2,VLOOKUP(AG38,女子種目コード!$A$78:$B$81,2,FALSE))))","v":""},null,0,2,0,null,null,null,"","",null,null,"",0,0,0,0,null,null,null,0,0,"","",null,null,null,null,null,null,null,null,null,null,null,null,null,null,null,null,null,null,{"$f":"SUM(BX8:BX37)","v":0},{"$f":"SUM(BY8:BY37)","v":0},{"$f":"SUM(BZ8:BZ37)","v":0},{"$f":"SUM(CA8:CA37)","v":0},{"$f":"SUM(BX38:CA38)","v":0}]
[0,{"$f":"名簿!Q41","v":""},0,null,{"$f":"名簿!E41","v":0},{"$f":"名簿!BN41","v":""},{"$f":"名簿!Z41","v":""},"",{"$f":"名簿!O41","v":""},{"$f":"名簿!I41","v":0},{"$f":"名簿!K41","v":0},{"$f":"名簿!BQ41","v":"00"},"三重",{"$f":"名簿!D41","v":0},null,{"$f":"IF(O39=\"\",\"\",IF(I39=1,VLOOKUP(O39,男子種目コード!$V$1:$W$5,2,FALSE),IF(I39=2,VLOOKUP(O39,女子種目コード!$V$1:$W$5,2,FALSE))))","v":""},{"$f":"IF(O39=\"\",\"\",HLOOKUP(O39,名簿!$AB$8:$BG$58,34,FALSE))","v":""},0,2,null,{"$f":"IF(T39=\"\",\"\",IF(I39=1,VLOOKUP(T39,男子種目コード!$V$1:$W$5,2,FALSE),IF(I39=2,VLOOKUP(T39,女子種目コード!$V$1:$W$5,2,FALSE))))","v":""},{"$f":"IF(T39=\"\",\"\",HLOOKUP(T39,名簿!$AB$8:$BG$58,34,FALSE))","v":""},null,{"$f":"IF(W39=\"\",\"\",IF(I39=1,VLOOKUP(W39,男子種目コード!$D$2:$E$30,2,FALSE),IF(I39=2,VLOOKUP(W39,女子種目コード!$D$2:$E$30,2,FALSE))))","v":""},null,null,null,null,{"$f":"IF(AB39=\"\",\"\",IF(I39=1,VLOOKUP(AB39,男子種目コード!$V$1:$W$5,2,FALSE),IF(I39=2,VLOOKUP(AB39,女子種目コード!$V$1:$W$5,2,FALSE))))","v":""},null,0,2,null,{"$f":"IF(AG39=\"\",\"\",IF(I39=1,VLOOKUP(AG39,男子種目コード!$A$78:$B$81,2,FALSE),IF(I39=2,VLOOKUP(AG39,女子種目コード!$A$78:$B$81,2,FALSE))))","v":""},null,0,2,0,null,null,null,{"$f":"IF(O39=\"\",\"\",1)","v":""},"",null,null,"",0,0,0,0,null,null,null,0,0,"",""]
[0,{"$f":"名簿!Q42","v":""},0,null,{"$f":"名簿!E42","v":0},{"$f":"名簿!BN42","v":""},{"$f":"名簿!Z42","v":""},"",{"$f":"名簿!O42","v":""},{"$f":"名簿!I42","v":0},{"$f":"名簿!K42","v":0},{"$f":"名簿!BQ42","v":"00"},"三重",{"$f":"名簿!D42","v":0},null,{"$f":"IF(O40=\"\",\"\",IF(I40=1,VLOOKUP(O40,男子種目コード!$V$1:$W$5,2,FALSE),IF(I40=2,VLOOKUP(O40,女子種目コード!$V$1:$W$5,2,FALSE))))","v":""},{"$f":"IF(O40=\"\",\"\",HLOOKUP(O40,名簿!$AB$8:$BG$58,35,FALSE))","v":""},0,2,null,{"$f":"IF(T40=\"\",\"\",IF(I40=1,VLOOKUP(T40,男子種目コード!$V$1:$W$5,2,FALSE),IF(I40=2,VLOOKUP(T40,女子種目コード!$V$1:$W$5,2,FALSE))))","v":""},{"$f":"IF(T40=\"\",\"\",HLOOKUP(T40,名簿!$AB$8:$BG$58,35,FALSE))","v":""},null,{"$f":"IF(W40=\"\",\"\",IF(I40=1,VLOOKUP(W40,男子種目コード!$D$2:$E$30,2,FALSE),IF(I40=2,VLOOKUP(W40,女子種目コード!$D$2:$E$30,2,FALSE))))","v":""},null,null,null,null,{"$f":"IF(AB40=\"\",\"\",IF(I40=1,VLOOKUP(AB40,男子種目コード!$V$1:$W$5,2,FALSE),IF(I40=2,VLOOKUP(AB40,女子種目コード!$V$1:$W$5,2,FALSE))))","v":""},null,0,2,null,{"$f":"IF(AG40=\"\",\"\",IF(I40=1,VLOOKUP(AG40,男子種目コード!$A$78:$B$81,2,FALSE),IF(I40=2,VLOOKUP(AG40,女子種目コード!$A$78:$B$81,2,FALSE))))","v":""},null,0,2,0,null,null,null,"","",null,null,"",0,0,0,0,null,null,null,0,0,"",""]
[0,{"$f":"名簿!Q43","v":""},0,null,{"$f":"名簿!E43","v":0},{"$f":"名簿!BN43","v":""},{"$f":"名簿!Z43","v":""},"",{"$f":"名簿!O43","v":""},{"$f":"名簿!I43","v":0},{"$f":"名簿!K43","v":0},{"$f":"名簿!BQ43","v":"00"},"三重",{"$f":"名簿!D43","v":0},null,{"$f":"IF(O41=\"\",\"\",IF(I41=1,VLOOKUP(O41,男子種目コード!$V$1:$W$5,2,FALSE),IF(I41=2,VLOOKUP(O41,女子種目コード!$V$1:$W$5,2,FALSE))))","v":""},{"$f":"IF(O41=\"\",\"\",HLOOKUP(O41,名簿!$AB$8:$BG$58,36,FALSE))","v":""},0,2,null,{"$f":"IF(T41=\"\",\"\",IF(I41=1,VLOOKUP(T41,男子種目コード!$V$1:$W$5,2,FALSE),IF(I41=2,VLOOKUP(T41,女子種目コード!$V$1:$W$5,2,FALSE))))","v":""},{"$f":"IF(T41=\"\",\"\",HLOOKUP(T41,名簿!$AB$8:$BG$58,36,FALSE))","v":""},null,{"$f":"IF(W41=\"\",\"\",IF(I41=1,VLOOKUP(W41,男子種目コード!$D$2:$E$30,2,FALSE),IF(I41=2,VLOOKUP(W41,女子種目コード!$D$2:$E$30,2,FALSE))))","v":""},null,null,null,null,{"$f":"IF(AB41=\"\",\"\",IF(I41=1,VLOOKUP(AB41,男子種目コード!$V$1:$W$5,2,FALSE),IF(I41=2,VLOOKUP(AB41,女子種目コード!$V$1:$W$5,2,FALSE))))","v":""},null,0,2,null,{"$f":"IF(AG41=\"\",\"\",IF(I41=1,VLOOKUP(AG41,男子種目コード!$A$78:$B$81,2,FALSE),IF(I41=2,VLOOKUP(AG41,女子種目コード!$A$78:$B$81,2,FALSE))))","v":""},null,0,2,0,null,null,null,"","",null,null,"",0,0,0,0,null,null,null,0,0,"",""]
[0,{"$f":"名簿!Q44","v":""},0,null,{"$f":"名簿!E44","v":0},{"$f":"名簿!BN44","v":""},{"$f":"名簿!Z44","v":""},"",{"$f":"名簿!O44","v":""},{"$f":"名簿!I44","v":0},{"$f":"名簿!K44","v":0},{"$f":"名簿!BQ44","v":"00"},"三重",{"$f":"名簿!D44","v":0},null,{"$f":"IF(O42=\"\",\"\",IF(I42=1,VLOOKUP(O42,男子種目コード!$V$1:$W$5,2,FALSE),IF(I42=2,VLOOKUP(O42,女子種目コード!$V$1:$W$5,2,FALSE))))","v":""},{"$f":"IF(O42=\"\",\"\",HLOOKUP(O42,名簿!$AB$8:$BG$58,37,FALSE))","v":""},0,2,null,{"$f":"IF(T42=\"\",\"\",IF(I42=1,VLOOKUP(T42,男子種目コード!$V$1:$W$5,2,FALSE),IF(I42=2,VLOOKUP(T42,女子種目コード!$V$1:$W$5,2,FALSE))))","v":""},{"$f":"IF(T42=\"\",\"\",HLOOKUP(T42,名簿!$AB$8:$BG$58,37,FALSE))","v":""},null,{"$f":"IF(W42=\"\",\"\",IF(I42=1,VLOOKUP(W42,男子種目コード!$D$2:$E$30,2,FALSE),IF(I42=2,VLOOKUP(W42,女子種目コード!$D$2:$E$30,2,FALSE))))","v":""},null,null,null,null,{"$f":"IF(AB42=\"\",\"\",IF(I42=1,VLOOKUP(AB42,男子種目コード!$V$1:$W$5,2,FALSE),IF(I42=2,VLOOKUP(AB42,女子種目コード!$V$1:$W$5,2,FALSE))))","v":""},null,0,2,null,{"$f":"IF(AG42=\"\",\"\",IF(I42=1,VLOOKUP(AG42,男子種目コード!$A$78:$B$81,2,FALSE),IF(I42=2,VLOOKUP(AG42,女子種目コード!$A$78:$B$81,2,FALSE))))","v":""},null,0,2,0,null,null,null,"","",null,null,"",0,0,0,0,null,null,null,0,0,"",""]
[0,{"$f":"名簿!Q45","v":""},0,null,{"$f":"名簿!E45","v":0},{"$f":"名簿!BN45","v":""},{"$f":"名簿!Z45","v":""},"",{"$f":"名簿!O45","v":""},{"$f":"名簿!I45","v":0},{"$f":"名簿!K45","v":0},{"$f":"名簿!BQ45","v":"00"},"三重",{"$f":"名簿!D45","v":0},null,{"$f":"IF(O43=\"\",\"\",IF(I43=1,VLOOKUP(O43,男子種目コード!$V$1:$W$5,2,FALSE),IF(I43=2,VLOOKUP(O43,女子種目コード!$V$1:$W$5,2,FALSE))))","v":""},{"$f":"IF(O43=\"\",\"\",HLOOKUP(O43,名簿!$AB$8:$BG$58,38,FALSE))","v":""},0,2,null,{"$f":"IF(T43=\"\",\"\",IF(I43=1,VLOOKUP(T43,男子種目コード!$V$1:$W$5,2,FALSE),IF(I43=2,VLOOKUP(T43,女子種目コード!$V$1:$W$5,2,FALSE))))","v":""},{"$f":"IF(T43=\"\",\"\",HLOOKUP(T43,名簿!$AB$8:$BG$58,38,FALSE))","v":""},null,{"$f":"IF(W43=\"\",\"\",IF(I43=1,VLOOKUP(W43,男子種目コード!$D$2:$E$30,2,FALSE),IF(I43=2,VLOOKUP(W43,女子種目コード!$D$2:$E$30,2,FALSE))))","v":""},null,null,null,null,{"$f":"IF(AB43=\"\",\"\",IF(I43=1,VLOOKUP(AB43,男子種目コード!$V$1:$W$5,2,FALSE),IF(I43=2,VLOOKUP(AB43,女子種目コード!$V$1:$W$5,2,FALSE))))","v":""},null,0,2,null,{"$f":"IF(AG43=\"\",\"\",IF(I43=1,VLOOKUP(AG43,男子種目コード!$A$78:$B$81,2,FALSE),IF(I43=2,VLOOKUP(AG43,女子種目コード!$A$78:$B$81,2,FALSE))))","v":""},null,0,2,0,null,null,null,"","",null,null,"",0,0,0,0,null,null,null,0,0,"",""]
[0,{"$f":"名簿!Q46","v":""},0,null,{"$f":"名簿!E46","v":0},{"$f":"名簿!BN46","v":""},{"$f":"名簿!Z46","v":""},"",{"$f":"名簿!O46","v":""},{"$f":"名簿!I46","v":0},{"$f":"名簿!K46","v":0},{"$f":"名簿!BQ46","v":"00"},"三重",{"$f":"名簿!D46","v":0},null,{"$f":"IF(O44=\"\",\"\",IF(I44=1,VLOOKUP(O44,男子種目コード!$V$1:$W$5,2,FALSE),IF(I44=2,VLOOKUP(O44,女子種目コード!$V$1:$W$5,2,FALSE))))","v":""},{"$f":"IF(O44=\"\",\"\",HLOOKUP(O44,名簿!$AB$8:$BG$58,39,FALSE))","v":""},0,2,null,{"$f":"IF(T44=\"\",\"\",IF(I44=1,VLOOKUP(T44,男子種目コード!$V$1:$W$5,2,FALSE),IF(I44=2,VLOOKUP(T44,女子種目コード!$V$1:$W$5,2,FALSE))))","v":""},{"$f":"IF(T44=\"\",\"\",HLOOKUP(T44,名簿!$AB$8:$BG$58,39,FALSE))","v":""},null,{"$f":"IF(W44=\"\",\"\",IF(I44=1,VLOOKUP(W44,男子種目コード!$D$2:$E$30,2,FALSE),IF(I44=2,VLOOKUP(W44,女子種目コード!$D$2:$E$30,2,FALSE))))","v":""},null,null,null,null,{"$f":"IF(AB44=\"\",\"\",IF(I44=1,VLOOKUP(AB44,男子種目コード!$V$1:$W$5,2,FALSE),IF(I44=2,VLOOKUP(AB44,女子種目コード!$V$1:$W$5,2,FALSE))))","v":""},null,0,2,null,{"$f":"IF(AG44=\"\",\"\",IF(I44=1,VLOOKUP(AG44,男子種目コード!$A$78:$B$81,2,FALSE),IF(I44=2,VLOOKUP(AG44,女子種目コード!$A$78:$B$81,2,FALSE))))","v":""},null,0,2,0,null,null,null,"","",null,null,"",0,0,0,0,null,null,null,0,0,"",""]
[0,{"$f":"名簿!Q47","v":""},0,null,{"$f":"名簿!E47","v":0},{"$f":"名簿!BN47","v":""},{"$f":"名簿!Z47","v":""},"",{"$f":"名簿!O47","v":""},{"$f":"名簿!I47","v":0},{"$f":"名簿!K47","v":0},{"$f":"名簿!BQ47","v":"00"},"三重",{"$f":"名簿!D47","v":0},null,{"$f":"IF(O45=\"\",\"\",IF(I45=1,VLOOKUP(O45,男子種目コード!$V$1:$W$5,2,FALSE),IF(I45=2,VLOOKUP(O45,女子種目コード!$V$1:$W$5,2,FALSE))))","v":""},{"$f":"IF(O45=\"\",\"\",HLOOKUP(O45,名簿!$AB$8:$BG$58,40,FALSE))","v":""},0,2,null,{"$f":"IF(T45=\"\",\"\",IF(I45=1,VLOOKUP(T45,男子種目コード!$V$1:$W$5,2,FALSE),IF(I45=2,VLOOKUP(T45,女子種目コード!$V$1:$W$5,2,FALSE))))","v":""},{"$f":"IF(T45=\"\",\"\",HLOOKUP(T45,名簿!$AB$8:$BG$58,40,FALSE))","v":""},null,{"$f":"IF(W45=\"\",\"\",IF(I45=1,VLOOKUP(W45,男子種目コード!$D$2:$E$30,2,FALSE),IF(I45=2,VLOOKUP(W45,女子種目コード!$D$2:$E$30,2,FALSE))))","v":""},null,null,null,null,{"$f":"IF(AB45=\"\",\"\",IF(I45=1,VLOOKUP(AB45,男子種目コード!$V$1:$W$5,2,FALSE),IF(I45=2,VLOOKUP(AB45,女子種目コード!$V$1:$W$5,2,FALSE))))","v":""},null,0,2,null,{"$f":"IF(AG45=\"\",\"\",IF(I45=1,VLOOKUP(AG45,男子種目コード!$A$78:$B$81,2,FALSE),IF(I45=2,VLOOKUP(AG45,女子種目コード!$A$78:$B$81,2,FALSE))))","v":""},null,0,2,0,null,null,null,"","",null,null,"",0,0,0,0,null,null,null,0,0,"",""]
[0,{"$f":"名簿!Q48","v":""},0,null,{"$f":"名簿!E48","v":0},{"$f":"名簿!BN48","v":""},{"$f":"名簿!Z48","v":""},"",{"$f":"名簿!O48","v":""},{"$f":"名簿!I48","v":0},{"$f":"名簿!K48","v":0},{"$f":"名簿!BQ48","v":"00"},"三重",{"$f":"名簿!D48","v":0},null,{"$f":"IF(O46=\"\",\"\",IF(I46=1,VLOOKUP(O46,男子種目コード!$V$1:$W$5,2,FALSE),IF(I46=2,VLOOKUP(O46,女子種目コード!$V$1:$W$5,2,FALSE))))","v":""},{"$f":"IF(O46=\"\",\"\",HLOOKUP(O46,名簿!$AB$8:$BG$58,41,FALSE))","v":""},0,2,null,{"$f":"IF(T46=\"\",\"\",IF(I46=1,VLOOKUP(T46,男子種目コード!$V$1:$W$5,2,FALSE),IF(I46=2,VLOOKUP(T46,女子種目コード!$V$1:$W$5,2,FALSE))))","v":""},{"$f":"IF(T46=\"\",\"\",HLOOKUP(T46,名簿!$AB$8:$BG$58,41,FALSE))","v":""},null,{"$f":"IF(W46=\"\",\"\",IF(I46=1,VLOOKUP(W46,男子種目コード!$D$2:$E$30,2,FALSE),IF(I46=2,VLOOKUP(W46,女子種目コード!$D$2:$E$30,2,FALSE))))","v":""},null,null,null,null,{"$f":"IF(AB46=\"\",\"\",IF(I46=1,VLOOKUP(AB46,男子種目コード!$V$1:$W$5,2,FALSE),IF(I46=2,VLOOKUP(AB46,女子種目コード!$V$1:$W$5,2,FALSE))))","v":""},null,0,2,null,{"$f":"IF(AG46=\"\",\"\",IF(I46=1,VLOOKUP(AG46,男子種目コード!$A$78:$B$81,2,FALSE),IF(I46=2,VLOOKUP(AG46,女子種目コード!$A$78:$B$81,2,FALSE))))","v":""},null,0,2,0,null,null,null,"","",null,null,"",0,0,0,0,null,null,null,0,0,"",""]
[0,{"$f":"名簿!Q49","v":""},0,null,{"$f":"名簿!E49","v":0},{"$f":"名簿!BN49","v":""},{"$f":"名簿!Z49","v":""},"",{"$f":"名簿!O49","v":""},{"$f":"名簿!I49","v":0},{"$f":"名簿!K49","v":0},{"$f":"名簿!BQ49","v":"00"},"三重",{"$f":"名簿!D49","v":0},null,{"$f":"IF(O47=\"\",\"\",IF(I47=1,VLOOKUP(O47,男子種目コード!$V$1:$W$5,2,FALSE),IF(I47=2,VLOOKUP(O47,女子種目コード!$V$1:$W$5,2,FALSE))))","v":""},{"$f":"IF(O47=\"\",\"\",HLOOKUP(O47,名簿!$AB$8:$BG$58,42,FALSE))","v":""},0,2,null,{"$f":"IF(T47=\"\",\"\",IF(I47=1,VLOOKUP(T47,男子種目コード!$V$1:$W$5,2,FALSE),IF(I47=2,VLOOKUP(T47,女子種目コード!$V$1:$W$5,2,FALSE))))","v":""},{"$f":"IF(T47=\"\",\"\",HLOOKUP(T47,名簿!$AB$8:$BG$58,42,FALSE))","v":""},null,{"$f":"IF(W47=\"\",\"\",IF(I47=1,VLOOKUP(W47,男子種目コード!$D$2:$E$30,2,FALSE),IF(I47=2,VLOOKUP(W47,女子種目コード!$D$2:$E$30,2,FALSE))))","v":""},null,null,null,null,{"$f":"IF(AB47=\"\",\"\",IF(I47=1,VLOOKUP(AB47,男子種目コード!$V$1:$W$5,2,FALSE),IF(I47=2,VLOOKUP(AB47,女子種目コード!$V$1:$W$5,2,FALSE))))","v":""},null,0,2,null,{"$f":"IF(AG47=\"\",\"\",IF(I47=1,VLOOKUP(AG47,男子種目コード!$A$78:$B$81,2,FALSE),IF(I47=2,VLOOKUP(AG47,女子種目コード!$A$78:$B$81,2,FALSE))))","v":""},null,0,2,0,null,null,null,"","",null,null,"",0,0,0,0,null,null,null,0,0,"",""]
[0,{"$f":"名簿!Q50","v":""},0,null,{"$f":"名簿!E50","v":0},{"$f":"名簿!BN50","v":""},{"$f":"名簿!Z50","v":""},"",{"$f":"名簿!O50","v":""},{"$f":"名簿!I50","v":0},{"$f":"名簿!K50","v":0},{"$f":"名簿!BQ50","v":"00"},"三重",{"$f":"名簿!D50","v":0},null,{"$f":"IF(O48=\"\",\"\",IF(I48=1,VLOOKUP(O48,男子種目コード!$V$1:$W$5,2,FALSE),IF(I48=2,VLOOKUP(O48,女子種目コード!$V$1:$W$5,2,FALSE))))","v":""},{"$f":"IF(O48=\"\",\"\",HLOOKUP(O48,名簿!$AB$8:$BG$58,43,FALSE))","v":""},0,2,null,{"$f":"IF(T48=\"\",\"\",IF(I48=1,VLOOKUP(T48,男子種目コード!$V$1:$W$5,2,FALSE),IF(I48=2,VLOOKUP(T48,女子種目コード!$V$1:$W$5,2,FALSE))))","v":""},{"$f":"IF(T48=\"\",\"\",HLOOKUP(T48,名簿!$AB$8:$BG$58,43,FALSE))","v":""},null,{"$f":"IF(W48=\"\",\"\",IF(I48=1,VLOOKUP(W48,男子種目コード!$D$2:$E$30,2,FALSE),IF(I48=2,VLOOKUP(W48,女子種目コード!$D$2:$E$30,2,FALSE))))","v":""},null,null,null,null,{"$f":"IF(AB48=\"\",\"\",IF(I48=1,VLOOKUP(AB48,男子種目コード!$V$1:$W$5,2,FALSE),IF(I48=2,VLOOKUP(AB48,女子種目コード!$V$1:$W$5,2,FALSE))))","v":""},null,0,2,null,{"$f":"IF(AG48=\"\",\"\",IF(I48=1,VLOOKUP(AG48,男子種目コード!$A$78:$B$81,2,FALSE),IF(I48=2,VLOOKUP(AG48,女子種目コード!$A$78:$B$81,2,FALSE))))","v":""},null,0,2,0,null,null,null,"","",null,null,"",0,0,0,0,null,null,null,0,0,"",""]
[0,{"$f":"名簿!Q51","v":""},0,null,{"$f":"名簿!E51","v":0},{"$f":"名簿!BN51","v":""},{"$f":"名簿!Z51","v":""},"",{"$f":"名簿!O51","v":""},{"$f":"名簿!I51","v":0},{"$f":"名簿!K51","v":0},{"$f":"名簿!BQ51","v":"00"},"三重",{"$f":"名簿!D51","v":0},null,{"$f":"IF(O49=\"\",\"\",IF(I49=1,VLOOKUP(O49,男子種目コード!$V$1:$W$5,2,FALSE),IF(I49=2,VLOOKUP(O49,女子種目コード!$V$1:$W$5,2,FALSE))))","v":""},{"$f":"IF(O49=\"\",\"\",HLOOKUP(O49,名簿!$AB$8:$BG$58,44,FALSE))","v":""},0,2,null,{"$f":"IF(T49=\"\",\"\",IF(I49=1,VLOOKUP(T49,男子種目コード!$V$1:$W$5,2,FALSE),IF(I49=2,VLOOKUP(T49,女子種目コード!$V$1:$W$5,2,FALSE))))","v":""},{"$f":"IF(T49=\"\",\"\",HLOOKUP(T49,名簿!$AB$8:$BG$58,44,FALSE))","v":""},null,{"$f":"IF(W49=\"\",\"\",IF(I49=1,VLOOKUP(W49,男子種目コード!$D$2:$E$30,2,FALSE),IF(I49=2,VLOOKUP(W49,女子種目コード!$D$2:$E$30,2,FALSE))))","v":""},null,null,null,null,{"$f":"IF(AB49=\"\",\"\",IF(I49=1,VLOOKUP(AB49,男子種目コード!$V$1:$W$5,2,FALSE),IF(I49=2,VLOOKUP(AB49,女子種目コード!$V$1:$W$5,2,FALSE))))","v":""},null,0,2,null,{"$f":"IF(AG49=\"\",\"\",IF(I49=1,VLOOKUP(AG49,男子種目コード!$A$78:$B$81,2,FALSE),IF(I49=2,VLOOKUP(AG49,女子種目コード!$A$78:$B$81,2,FALSE))))","v":""},null,0,2,0,null,null,null,"","",null,null,"",0,0,0,0,null,null,null,0,0,"",""]
[0,{"$f":"名簿!Q52","v":""},0,null,{"$f":"名簿!E52","v":0},{"$f":"名簿!BN52","v":""},{"$f":"名簿!Z52","v":""},"",{"$f":"名簿!O52","v":""},{"$f":"名簿!I52","v":0},{"$f":"名簿!K52","v":0},{"$f":"名簿!BQ52","v":"00"},"三重",{"$f":"名簿!D52","v":0},null,{"$f":"IF(O50=\"\",\"\",IF(I50=1,VLOOKUP(O50,男子種目コード!$V$1:$W$5,2,FALSE),IF(I50=2,VLOOKUP(O50,女子種目コード!$V$1:$W$5,2,FALSE))))","v":""},{"$f":"IF(O50=\"\",\"\",HLOOKUP(O50,名簿!$AB$8:$BG$58,45,FALSE))","v":""},0,2,null,{"$f":"IF(T50=\"\",\"\",IF(I50=1,VLOOKUP(T50,男子種目コード!$V$1:$W$5,2,FALSE),IF(I50=2,VLOOKUP(T50,女子種目コード!$V$1:$W$5,2,FALSE))))","v":""},{"$f":"IF(T50=\"\",\"\",HLOOKUP(T50,名簿!$AB$8:$BG$58,45,FALSE))","v":""},null,{"$f":"IF(W50=\"\",\"\",IF(I50=1,VLOOKUP(W50,男子種目コード!$D$2:$E$30,2,FALSE),IF(I50=2,VLOOKUP(W50,女子種目コード!$D$2:$E$30,2,FALSE))))","v":""},null,null,null,null,{"$f":"IF(AB50=\"\",\"\",IF(I50=1,VLOOKUP(AB50,男子種目コード!$V$1:$W$5,2,FALSE),IF(I50=2,VLOOKUP(AB50,女子種目コード!$V$1:$W$5,2,FALSE))))","v":""},null,0,2,null,{"$f":"IF(AG50=\"\",\"\",IF(I50=1,VLOOKUP(AG50,男子種目コード!$A$78:$B$81,2,FALSE),IF(I50=2,VLOOKUP(AG50,女子種目コード!$A$78:$B$81,2,FALSE))))","v":""},null,0,2,0,null,null,null,"","",null,null,"",0,0,0,0,null,null,null,0,0,"",""]
[0,{"$f":"名簿!Q53","v":""},0,null,{"$f":"名簿!E53","v":0},{"$f":"名簿!BN53","v":""},{"$f":"名簿!Z53","v":""},"",{"$f":"名簿!O53","v":""},{"$f":"名簿!I53","v":0},{"$f":"名簿!K53","v":0},{"$f":"名簿!BQ53","v":"00"},"三重",{"$f":"名簿!D53","v":0},null,{"$f":"IF(O51=\"\",\"\",IF(I51=1,VLOOKUP(O51,男子種目コード!$V$1:$W$5,2,FALSE),IF(I51=2,VLOOKUP(O51,女子種目コード!$V$1:$W$5,2,FALSE))))","v":""},{"$f":"IF(O51=\"\",\"\",HLOOKUP(O51,名簿!$AB$8:$BG$58,46,FALSE))","v":""},0,2,null,{"$f":"IF(T51=\"\",\"\",IF(I51=1,VLOOKUP(T51,男子種目コード!$V$1:$W$5,2,FALSE),IF(I51=2,VLOOKUP(T51,女子種目コード!$V$1:$W$5,2,FALSE))))","v":""},{"$f":"IF(T51=\"\",\"\",HLOOKUP(T51,名簿!$AB$8:$BG$58,46,FALSE))","v":""},null,{"$f":"IF(W51=\"\",\"\",IF(I51=1,VLOOKUP(W51,男子種目コード!$D$2:$E$30,2,FALSE),IF(I51=2,VLOOKUP(W51,女子種目コード!$D$2:$E$30,2,FALSE))))","v":""},null,null,null,null,{"$f":"IF(AB51=\"\",\"\",IF(I51=1,VLOOKUP(AB51,男子種目コード!$V$1:$W$5,2,FALSE),IF(I51=2,VLOOKUP(AB51,女子種目コード!$V$1:$W$5,2,FALSE))))","v":""},null,0,2,null,{"$f":"IF(AG51=\"\",\"\",IF(I51=1,VLOOKUP(AG51,男子種目コード!$A$78:$B$81,2,FALSE),IF(I51=2,VLOOKUP(AG51,女子種目コード!$A$78:$B$81,2,FALSE))))","v":""},null,0,2,0,null,null,null,"","",null,null,"",0,0,0,0,null,null,null,0,0,"",""]
[0,{"$f":"名簿!Q54","v":""},0,null,{"$f":"名簿!E54","v":0},{"$f":"名簿!BN54","v":""},{"$f":"名簿!Z54","v":""},"",{"$f":"名簿!O54","v":""},{"$f":"名簿!I54","v":0},{"$f":"名簿!K54","v":0},{"$f":"名簿!BQ54","v":"00"},"三重",{"$f":"名簿!D54","v":0},null,{"$f":"IF(O52=\"\",\"\",IF(I52=1,VLOOKUP(O52,男子種目コード!$V$1:$W$5,2,FALSE),IF(I52=2,VLOOKUP(O52,女子種目コード!$V$1:$W$5,2,FALSE))))","v":""},{"$f":"IF(O52=\"\",\"\",HLOOKUP(O52,名簿!$AB$8:$BG$58,47,FALSE))","v":""},0,2,null,{"$f":"IF(T52=\"\",\"\",IF(I52=1,VLOOKUP(T52,男子種目コード!$V$1:$W$5,2,FALSE),IF(I52=2,VLOOKUP(T52,女子種目コード!$V$1:$W$5,2,FALSE))))","v":""},{"$f":"IF(T52=\"\",\"\",HLOOKUP(T52,名簿!$AB$8:$BG$58,47,FALSE))","v":""},null,{"$f":"IF(W52=\"\",\"\",IF(I52=1,VLOOKUP(W52,男子種目コード!$D$2:$E$30,2,FALSE),IF(I52=2,VLOOKUP(W52,女子種目コード!$D$2:$E$30,2,FALSE))))","v":""},null,null,null,null,{"$f":"IF(AB52=\"\",\"\",IF(I52=1,VLOOKUP(AB52,男子種目コード!$V$1:$W$5,2,FALSE),IF(I52=2,VLOOKUP(AB52,女子種目コード!$V$1:$W$5,2,FALSE))))","v":""},null,0,2,null,{"$f":"IF(AG52=\"\",\"\",IF(I52=1,VLOOKUP(AG52,男子種目コード!$A$78:$B$81,2,FALSE),IF(I52=2,VLOOKUP(AG52,女子種目コード!$A$78:$B$81,2,FALSE))))","v":""},null,0,2,0,null,null,null,"","",null,null,"",0,0,0,0,null,null,null,0,0,"",""]
[0,{"$f":"名簿!Q55","v":""},0,null,{"$f":"名簿!E55","v":0},{"$f":"名簿!BN55","v":""},{"$f":"名簿!Z55","v":""},"",{"$f":"名簿!O55","v":""},{"$f":"名簿!I55","v":0},{"$f":"名簿!K55","v":0},{"$f":"名簿!BQ55","v":"00"},"三重",{"$f":"名簿!D55","v":0},null,{"$f":"IF(O53=\"\",\"\",IF(I53=1,VLOOKUP(O53,男子種目コード!$V$1:$W$5,2,FALSE),IF(I53=2,VLOOKUP(O53,女子種目コード!$V$1:$W$5,2,FALSE))))","v":""},{"$f":"IF(O53=\"\",\"\",HLOOKUP(O53,名簿!$AB$8:$BG$58,48,FALSE))","v":""},0,2,null,{"$f":"IF(T53=\"\",\"\",IF(I53=1,VLOOKUP(T53,男子種目コード!$V$1:$W$5,2,FALSE),IF(I53=2,VLOOKUP(T53,女子種目コード!$V$1:$W$5,2,FALSE))))","v":""},{"$f":"IF(T53=\"\",\"\",HLOOKUP(T53,名簿!$AB$8:$BG$58,48,FALSE))","v":""},null,{"$f":"IF(W53=\"\",\"\",IF(I53=1,VLOOKUP(W53,男子種目コード!$D$2:$E$30,2,FALSE),IF(I53=2,VLOOKUP(W53,女子種目コード!$D$2:$E$30,2,FALSE))))","v":""},null,null,null,null,{"$f":"IF(AB53=\"\",\"\",IF(I53=1,VLOOKUP(AB53,男子種目コード!$V$1:$W$5,2,FALSE),IF(I53=2,VLOOKUP(AB53,女子種目コード!$V$1:$W$5,2,FALSE))))","v":""},null,0,2,null,{"$f":"IF(AG53=\"\",\"\",IF(I53=1,VLOOKUP(AG53,男子種目コード!$A$78:$B$81,2,FALSE),IF(I53=2,VLOOKUP(AG53,女子種目コード!$A$78:$B$81,2,FALSE))))","v":""},null,0,2,0,null,null,null,"","",null,null,"",0,0,0,0,null,null,null,0,0,"",""]
[0,{"$f":"名簿!Q56","v":""},0,null,{"$f":"名簿!E56","v":0},{"$f":"名簿!BN56","v":""},{"$f":"名簿!Z56","v":""},"",{"$f":"名簿!O56","v":""},{"$f":"名簿!I56","v":0},{"$f":"名簿!K56","v":0},{"$f":"名簿!BQ56","v":"00"},"三重",{"$f":"名簿!D56","v":0},null,{"$f":"IF(O54=\"\",\"\",IF(I54=1,VLOOKUP(O54,男子種目コード!$V$1:$W$5,2,FALSE),IF(I54=2,VLOOKUP(O54,女子種目コード!$V$1:$W$5,2,FALSE))))","v":""},{"$f":"IF(O54=\"\",\"\",HLOOKUP(O54,名簿!$AB$8:$BG$58,49,FALSE))","v":""},0,2,null,{"$f":"IF(T54=\"\",\"\",IF(I54=1,VLOOKUP(T54,男子種目コード!$V$1:$W$5,2,FALSE),IF(I54=2,VLOOKUP(T54,女子種目コード!$V$1:$W$5,2,FALSE))))","v":""},{"$f":"IF(T54=\"\",\"\",HLOOKUP(T54,名簿!$AB$8:$BG$58,49,FALSE))","v":""},null,{"$f":"IF(W54=\"\",\"\",IF(I54=1,VLOOKUP(W54,男子種目コード!$D$2:$E$30,2,FALSE),IF(I54=2,VLOOKUP(W54,女子種目コード!$D$2:$E$30,2,FALSE))))","v":""},null,null,null,null,{"$f":"IF(AB54=\"\",\"\",IF(I54=1,VLOOKUP(AB54,男子種目コード!$V$1:$W$5,2,FALSE),IF(I54=2,VLOOKUP(AB54,女子種目コード!$V$1:$W$5,2,FALSE))))","v":""},null,0,2,null,{"$f":"IF(AG54=\"\",\"\",IF(I54=1,VLOOKUP(AG54,男子種目コード!$A$78:$B$81,2,FALSE),IF(I54=2,VLOOKUP(AG54,女子種目コード!$A$78:$B$81,2,FALSE))))","v":""},null,0,2,0,null,null,null,"","",null,null,"",0,0,0,0,null,null,null,0,0,"",""]
[0,{"$f":"名簿!Q57","v":""},0,null,{"$f":"名簿!E57","v":0},{"$f":"名簿!BN57","v":""},{"$f":"名簿!Z57","v":""},"",{"$f":"名簿!O57","v":""},{"$f":"名簿!I57","v":0},{"$f":"名簿!K57","v":0},{"$f":"名簿!BQ57","v":"00"},"三重",{"$f":"名簿!D57","v":0},null,{"$f":"IF(O55=\"\",\"\",IF(I55=1,VLOOKUP(O55,男子種目コード!$V$1:$W$5,2,FALSE),IF(I55=2,VLOOKUP(O55,女子種目コード!$V$1:$W$5,2,FALSE))))","v":""},{"$f":"IF(O55=\"\",\"\",HLOOKUP(O55,名簿!$AB$8:$BG$58,50,FALSE))","v":""},0,2,null,{"$f":"IF(T55=\"\",\"\",IF(I55=1,VLOOKUP(T55,男子種目コード!$V$1:$W$5,2,FALSE),IF(I55=2,VLOOKUP(T55,女子種目コード!$V$1:$W$5,2,FALSE))))","v":""},{"$f":"IF(T55=\"\",\"\",HLOOKUP(T55,名簿!$AB$8:$BG$58,50,FALSE))","v":""},null,{"$f":"IF(W55=\"\",\"\",IF(I55=1,VLOOKUP(W55,男子種目コード!$D$2:$E$30,2,FALSE),IF(I55=2,VLOOKUP(W55,女子種目コード!$D$2:$E$30,2,FALSE))))","v":""},null,null,null,null,{"$f":"IF(AB55=\"\",\"\",IF(I55=1,VLOOKUP(AB55,男子種目コード!$V$1:$W$5,2,FALSE),IF(I55=2,VLOOKUP(AB55,女子種目コード!$V$1:$W$5,2,FALSE))))","v":""},null,0,2,null,{"$f":"IF(AG55=\"\",\"\",IF(I55=1,VLOOKUP(AG55,男子種目コード!$A$78:$B$81,2,FALSE),IF(I55=2,VLOOKUP(AG55,女子種目コード!$A$78:$B$81,2,FALSE))))","v":""},null,0,2,0,null,null,null,"","",null,null,"",0,0,0,0,null,null,null,0,0,"",""]
[0,{"$f":"名簿!Q58","v":""},0,null,{"$f":"名簿!E58","v":0},{"$f":"名簿!BN58","v":""},{"$f":"名簿!Z58","v":""},"",{"$f":"名簿!O58","v":""},{"$f":"名簿!I58","v":0},{"$f":"名簿!K58","v":0},{"$f":"名簿!BQ58","v":"00"},"三重",{"$f":"名簿!D58","v":0},null,{"$f":"IF(O56=\"\",\"\",IF(I56=1,VLOOKUP(O56,男子種目コード!$V$1:$W$5,2,FALSE),IF(I56=2,VLOOKUP(O56,女子種目コード!$V$1:$W$5,2,FALSE))))","v":""},{"$f":"IF(O56=\"\",\"\",HLOOKUP(O56,名簿!$AB$8:$BG$58,51,FALSE))","v":""},0,2,null,{"$f":"IF(T56=\"\",\"\",IF(I56=1,VLOOKUP(T56,男子種目コード!$V$1:$W$5,2,FALSE),IF(I56=2,VLOOKUP(T56,女子種目コード!$V$1:$W$5,2,FALSE))))","v":""},{"$f":"IF(T56=\"\",\"\",HLOOKUP(T56,名簿!$AB$8:$BG$58,51,FALSE))","v":""},null,{"$f":"IF(W56=\"\",\"\",IF(I56=1,VLOOKUP(W56,男子種目コード!$D$2:$E$30,2,FALSE),IF(I56=2,VLOOKUP(W56,女子種目コード!$D$2:$E$30,2,FALSE))))","v":""},null,null,null,null,{"$f":"IF(AB56=\"\",\"\",IF(I56=1,VLOOKUP(AB56,男子種目コード!$V$1:$W$5,2,FALSE),IF(I56=2,VLOOKUP(AB56,女子種目コード!$V$1:$W$5,2,FALSE))))","v":""},null,0,2,null,{"$f":"IF(AG56=\"\",\"\",IF(I56=1,VLOOKUP(AG56,男子種目コード!$A$78:$B$81,2,FALSE),IF(I56=2,VLOOKUP(AG56,女子種目コード!$A$78:$B$81,2,FALSE))))","v":""},null,0,2,0,null,null,null,"","",null,null,"",0,0,0,0,null,null,null,0,0,"",""]
[null,null,null,null,null,null,null,null,null,null,null,null,null,null,null,null,null,null,null,null,null,null,null,null,null,null,null,null,null,null,null,null,null,null,null,null,null,null,null,null,null,null,null,null,null,null,null,null,null,null,null,null,null,{"$f":"SUM(BB7:BB56)","v":0},{"$f":"SUM(BC7:BC56)","v":0},{"$f":"SUM(BD7:BD56)","v":0},{"$f":"SUM(BE7:BE56)","v":0}]
[]
[]
[]
[]
[]
[]
[]
[]
[null,null,null,null,null,null,null,null,null,null,null,null,null,null,null,null,null,null,null,null,null,"男子A",null,null,null,null,null,{"$f":"COUNTIF($AB$7:$AB$56,\"男子A\")","v":0},{"$f":"COUNTIF($AB$7:$AB$56,\"男子A\")","v":0},{"$f":"COUNTIF($AB$7:$AB$56,\"男子A\")","v":0},{"$f":"COUNTIF($AB$7:$AB$56,\"男子A\")","v":0},{"$f":"COUNTIF($AB$7:$AB$56,\"男子A\")","v":0},{"$f":"COUNTIF($AG$7:$AG$56,\"男子A\")","v":0}]
[null,null,null,null,null,null,null,null,null,null,null,null,null,null,null,null,null,null,null,null,null,"男子B",null,null,null,null,null,{"$f":"COUNTIF($AB$7:$AB$56,\"男子B\")","v":0},{"$f":"COUNTIF($AB$7:$AB$56,\"男子B\")","v":0},{"$f":"COUNTIF($AB$7:$AB$56,\"男子B\")","v":0},{"$f":"COUNTIF($AB$7:$AB$56,\"男子B\")","v":0},{"$f":"COUNTIF($AB$7:$AB$56,\"男子B\")","v":0},{"$f":"COUNTIF($AG$7:$AG$56,\"男子B\")","v":0}]
[null,null,null,null,null,null,null,null,null,null,null,null,null,null,null,null,null,null,null,null,null,"男子C",null,null,null,null,null,{"$f":"COUNTIF($AB$7:$AB$56,\"男子C\")","v":0},{"$f":"COUNTIF($AB$7:$AB$56,\"男子C\")","v":0},{"$f":"COUNTIF($AB$7:$AB$56,\"男子C\")","v":0},{"$f":"COUNTIF($AB$7:$AB$56,\"男子C\")","v":0},{"$f":"COUNTIF($AB$7:$AB$56,\"男子C\")","v":0},{"$f":"COUNTIF($AG$7:$AG$56,\"男子C\")","v":0}]
[null,null,null,null,null,null,null,null,null,null,null,null,null,null,null,null,null,null,null,null,null,"男子D",null,null,null,null,null,{"$f":"COUNTIF($AB$7:$AB$56,\"男子D\")","v":0},{"$f":"COUNTIF($AB$7:$AB$56,\"男子D\")","v":0},{"$f":"COUNTIF($AB$7:$AB$56,\"男子D\")","v":0},{"$f":"COUNTIF($AB$7:$AB$56,\"男子D\")","v":0},{"$f":"COUNTIF($AB$7:$AB$56,\"男子D\")","v":0},{"$f":"COUNTIF($AG$7:$AG$56,\"男子D\")","v":0}]
[null,null,null,null,null,null,null,null,null,null,null,null,null,null,null,null,null,null,null,null,null,"女子A",null,null,null,null,null,{"$f":"COUNTIF($AB$7:$AB$56,\"女子A\")","v":0},null,null,null,null,{"$f":"COUNTIF($AG$7:$AG$56,\"女子A\")","v":0}]
[null,null,null,null,null,null,null,null,null,null,null,null,null,null,null,null,null,null,null,null,null,"女子B",null,null,null,null,null,{"$f":"COUNTIF($AB$7:$AB$56,\"女子B\")","v":0},null,null,null,null,{"$f":"COUNTIF($AG$7:$AG$56,\"女子B\")","v":0}]
[null,null,null,null,null,null,null,null,null,null,null,null,null,null,null,null,null,null,null,null,null,"女子C",null,null,null,null,null,{"$f":"COUNTIF($AB$7:$AB$56,\"女子C\")","v":0},null,null,null,null,{"$f":"COUNTIF($AG$7:$AG$56,\"女子C\")","v":0}]
[null,null,null,null,null,null,null,null,null,null,null,null,null,null,null,null,null,null,null,null,null,"女子D",null,null,null,null,null,{"$f":"COUNTIF($AB$7:$AB$56,\"女子D\")","v":0},null,null,null,null,{"$f":"COUNTIF($AG$7:$AG$56,\"女子D\")","v":0}]

{"sheet":"振込票貼付用紙","index":9,"n_rows":46,"n_cols":11,"rows_kept":46,"cut":false,"hidden":false,"merged":[[7,10,27,10],[0,0,0,9],[45,4,45,5],[46,4,46,5],[44,4,44,5],[44,6,44,7]]}
["大会参加料　振込票貼付用紙"]
[]
["大会名"]
[]
["所属名",null,{"$f":"名簿!P9","v":0},null,null,null,null,null,{"$f":"名簿!Q9","v":""}]
[]
["責任者",null,{"$f":"名簿!E5","v":0},null,null,"連絡先",{"$f":"名簿!I5","v":0}]
[null,null,null,null,null,null,null,null,null,null,"メニューへ戻り、上書き保存して下さい"]
[]
[]
[]
[]
[]
[]
[]
[]
[]
[]
[]
[]
[]
[]
[]
[]
[]
[]
[]
[]
[]
[]
[]
[]
[]
[]
[]
[]
[]
[]
[]
[]
[]
[]
[null,"参加人数",null,null,null,"個人種目"]
[]
[null,"リレー"]
[null,null,null,null,"参加費合計"]

{"sheet":"男子種目コード","index":10,"n_rows":85,"n_cols":23,"rows_kept":85,"cut":false,"hidden":true,"merged":[]}
["国体1次高校県選",null,null,null,null,null,null,null,null,null,null,null,null,null,null,null,null,null,null,null,null,100,1]
[100,1,null,null,null,null,null,null,null,null,null,null,null,null,null,null,null,null,null,null,null,3000,2]
[200,2,null,null,null,null,null,null,null,null,null,null,null,null,null,null,null,null,null,null,null,5000,3]
[400,3,null,null,null,null,null,null,null,null,null,null,null,null,null,null,null,null,null,null,null,"男子A",4]
[800,4]
[1500,5]
[5000,6]
[10000,7]
["110H",8]
["400H",9]
["3000SC",10]
[null,11]
["5000W",12]
["4×100",13]
["4×400",14]
["走高跳",15]
["棒高跳",16]
["走幅跳",17]
["三段跳",18]
["砲丸投",19]
["円盤投",20]
["ハンマー投",21,null,null,null,null,null,null,null,null,null,null,null,null,null,null,null,null,null,null,null,"ロードレース"]
["やり投",22,null,null,null,null,null,null,null,null,null,null,null,null,null,null,null,null,null,null,null,"一般男子ハーフ",1]
["8種",23,null,null,null,null,null,null,null,null,null,null,null,null,null,null,null,null,null,null,null,"一般男子10k",3]
["少年3000",24]
["少年砲丸投",25]
["少年円盤投",26]
["少年ハンマー投",27]
["少年B100",28]
["少年B砲丸投",29,null,"ナイター記録会"]
["少年B走幅跳",30]
["少年Aハンマー投",31,null,"高一般男子5000-1部",2]
[null,32,null,"高一般男子5000-2部",3]
[null,null,null,"高一般男子5000-3部",4]
["三重長距離記録会",null,null,"高一般男子5000-4部",5]
["高男子3000",1,null,"高一般男子5000-5部",6]
["高一般男子5000-1部",2]
["高一般男子5000-2部",3]
["高一般男子5000-3部",4]
["高一般男子5000-4部",5]
["高一般男子5000-5部",6]
[]
["総体・新人"]
[100,1]
[200,2]
[400,3]
[800,4]
[1500,5]
[5000,6]
[10000,7]
["110H",8]
["400H",9]
["3000SC",10]
[null,11]
["5000W",12]
["4×100",13]
["4×400",14]
["走高跳",15]
["棒高跳",16]
["走幅跳",17]
["三段跳",18]
["砲丸投",19]
["円盤投",20]
["ハンマー投",21]
["やり投",22]
["8種",23]
[null,24]
[null,25]
[null,26]
[null,27]
[null,28]
[null,29]
[null,30]
[null,31]
[null,32]
[]
["国体1次リレー"]
["男子A",14]
["男子B",14]
["男子C",14]
["男子D",14]
["男子A",13]
["男子B",13]
["男子C",13]
["男子D",14]

{"sheet":"女子種目コード","index":11,"n_rows":85,"n_cols":23,"rows_kept":85,"cut":false,"hidden":true,"merged":[]}
["国体1次高校県選",null,null,null,null,null,null,null,null,null,null,null,null,null,null,null,null,null,null,null,null,100,5]
[100,40,null,null,null,null,null,null,null,null,null,null,null,null,null,null,null,null,null,null,null,3000,6]
[200,41,null,null,null,null,null,null,null,null,null,null,null,null,null,null,null,null,null,null,null,"女子A",7]
[400,42]
[800,43]
[1500,44]
[3000,45]
[5000,46]
[10000,47]
["100H",48]
["400H",49]
["3000SC",50]
["3000W",51]
["5000W",52]
["4×100",53]
["4×400",54]
["走高跳",55]
["棒高跳",56]
["走幅跳",57]
["三段跳",58]
["砲丸投",59]
["円盤投",60,null,null,null,null,null,null,null,null,null,null,null,null,null,null,null,null,null,null,null,"ロードレース"]
["ハンマー投",61,null,null,null,null,null,null,null,null,null,null,null,null,null,null,null,null,null,null,null,"一般女子ハーフ",2]
["やり投",62,null,null,null,null,null,null,null,null,null,null,null,null,null,null,null,null,null,null,null,"一般女子10k",4]
["7種",63,null,null,null,null,null,null,null,null,null,null,null,null,null,null,null,null,null,null,null,"一般女子5k",6]
["少年3000",64]
["少年B100YH",65]
["少年B100",66]
[]
[]
[null,null,null,"ナイター記録会"]
["三重長距離記録会"]
["高校一般女子3000",10,null,"高校一般女子3000",10]
[]
["春季・高校総体",null,null,"高校新人"]
[100,40,null,100,40]
[200,41,null,200,41]
[400,42,null,400,42]
[800,43,null,800,43]
[1500,44,null,1500,44]
[3000,45,null,3000,45]
[null,46,null,null,46]
[null,47,null,null,47]
["100H",48,null,"100H",48]
["400H",49,null,"400H",49]
[null,50,null,null,50]
["3000W",51,null,"3000W",51]
[null,52,null,null,52]
["4×100",53,null,"4×100",53]
["4×400",54,null,"4×400",54]
["走高跳",55,null,"走高跳",55]
[null,56,null,"棒高跳",56]
["走幅跳",57,null,"走幅跳",57]
["三段跳",58,null,"三段跳",58]
["砲丸投",59,null,"砲丸投",59]
["円盤投",60,null,"円盤投",60]
["ハンマー投",61,null,"ハンマー投",61]
["やり投",62,null,"やり投",62]
["7種",63,null,null,63]
[null,64,null,null,64]
[null,65,null,null,65]
[]
[]
[]
[]
[]
[]
[]
[]
[]
[]
[]
[]
[]
[]
[]
["国体1次リレー"]
["女子A",54]
["女子B",54]
["女子C",54]
["女子D",54]
["女子A",53]
["女子B",53]
["女子C",53]
["女子D",53]

{"sheet":"作業","index":12,"n_rows":1,"n_cols":4,"rows_kept":1,"cut":false,"hidden":false,"merged":[]}
[1,"選　手","コード","コード"]

{"sheet":"所属コード","index":13,"n_rows":56,"n_cols":7,"rows_kept":56,"cut":false,"hidden":true,"merged":[]}
["所属名","所属NO","所属名カナ","所属名略称","所属地NO"]
["三重陸協","230000",null,"三重陸協",23,null,"三重"]
["審判登録","230001",null,"審判登録",23,null,"三重"]
["NTN","230005",null,"NTN",23,null,"三重"]
["AGF","230006",null,"AGF",23,null,"三重"]
["RKTD","230007",null,"RKTD",23,null,"三重"]
["ｲﾙ　ﾃﾙﾉ","230009",null,"ｲﾙ　ﾃﾙﾉ",23,null,"三重"]
["志摩ﾎﾟﾀﾗﾝ","230010",null,"志摩ﾎﾟﾀﾗﾝ",23,null,"三重"]
["四日市TFC","230011",null,"四日市TFC",23,null,"三重"]
["米鈴AC","230026",null,"米鈴AC",23,null,"三重"]
["三重教員AC","230027",null,"三重教員AC",23,null,"三重"]
["三重県庁AC","230035",null,"三重県庁AC",23,null,"三重"]
["三重大医陸","230048",null,"三重大医陸",23,null,"三重"]
["八千代翔友会","230057",null,"八千代翔友会",23,null,"三重"]
["デンソー","230070",null,"デンソー",23,null,"三重"]
["Ise TC","230074",null,"Ise TC",23,null,"三重"]
["日本陸送","230079",null,"日本陸送",23,null,"三重"]
["ASSA-TC","230081",null,"ASSA-TC",23,null,"三重"]
["Y.W.C","230082",null,"Y.W.C",23,null,"三重"]
["三重TFC","230084",null,"三重TFC",23,null,"三重"]
["ｼﾝﾌｫﾆｱﾃｸﾉﾛｼﾞｰ","230085",null,"ｼﾝﾌｫﾆｱﾃｸﾉﾛｼﾞｰ",23,null,"三重"]
["ﾌﾘｰｽﾀｲﾙ","230086",null,"ﾌﾘｰｽﾀｲﾙ",23,null,"三重"]
["ULTIMAT","230088",null,"ULTIMAT",23,null,"三重"]
["松阪市役所","230091",null,"松阪市役所",23,null,"三重"]
["橋南ＳＣ","230096",null,"橋南ＳＣ",23,null,"三重"]
["eA三重","230098",null,"eA三重",23,null,"三重"]
["JACK","230102",null,"JACK",23,null,"三重"]
["K's-AC","230103",null,"K's-AC",23,null,"三重"]
["NURF","230104",null,"NURF",23,null,"三重"]
["ｼｬｶﾘｷ","230108",null,"ｼｬｶﾘｷ",23,null,"三重"]
["T.G.K","230109",null,"T.G.K",23,null,"三重"]
["JA三重中央","230111",null,"JA三重中央",23,null,"三重"]
["GenkiUp","230114",null,"GenkiUp",23,null,"三重"]
["熊野RC","230115",null,"熊野RC",23,null,"三重"]
["ﾊﾟﾅｿﾆｯｸｲｾ","230118",null,"ﾊﾟﾅｿﾆｯｸｲｾ",23,null,"三重"]
["ｽﾎﾟﾙﾄﾏｯｸｽ","230119",null,"ｽﾎﾟﾙﾄﾏｯｸｽ",23,null,"三重"]
["ﾘｱﾌﾟﾛ","230120",null,"ﾘｱﾌﾟﾛ",23,null,"三重"]
["ミエウインド","230125",null,"ミエウインド",23,null,"三重"]
["VOLK","230127",null,"VOLK",23,null,"三重"]
["ｽﾎﾟｰﾂｵｰｿﾘﾃｨ","230129",null,"ｽﾎﾟｰﾂｵｰｿﾘﾃｨ",23,null,"三重"]
["ｲﾑﾗAA","239125",null,"ｲﾑﾗAA",23,null,"三重"]
["上野AC","239126",null,"上野AC",23,null,"三重"]
["J&E久居","239127",null,"J&E久居",23,null,"三重"]
["ｱｽﾘｰﾄY","239128",null,"ｱｽﾘｰﾄY",23,null,"三重"]
["鈴鹿医療大","239129",null,"鈴鹿医療大",23,null,"三重"]
["鹿族",239130,null,"鹿族",23,null,"三重"]
["ＣＲＡＮＥ","239130",null,"ＣＲＡＮＥ",23,null,"三重"]
["SWAC四日市","239131",null,"SWAC四日市",23,null,"三重"]
["デンソー大安","239132",null,"デンソー大安",23,null,"三重"]
["成瀬鍼灸院","239133",null,"成瀬鍼灸院",23,null,"三重"]
["PBASE","239134",null,"PBASE",23,null,"三重"]
["PONPING RC","239135",null,"PONPING RC",23,null,"三重"]
["N.F.A","239136",null,"N.F.A",23,null,"三重"]
["IFC RC","239137",null,"IFC RC",23,null,"三重"]
["久居自衛隊","239994",null,"久居自衛隊",23,null,"三重"]
["三重ﾏｽﾀｰｽﾞ","239998",null,"三重ﾏｽﾀｰｽﾞ",23,null,"三重"]

{"sheet":"所属地コード","index":14,"n_rows":84,"n_cols":3,"rows_kept":84,"cut":false,"hidden":true,"merged":[]}
["地区","地区コード"]
["北海道",1,"ﾎｯｶｲﾄﾞｳ"]
["青森",2,"ｱｵﾓﾘ"]
["岩手",3,"ｲﾜﾃ"]
["宮城",4,"ﾐﾔｷﾞ"]
["秋田",5,"ｱｷﾀ"]
["山形",6,"ﾔﾏｶﾞﾀ"]
["福島",7,"ﾌｸｼﾏ"]
["茨城",8,"ｲﾊﾞﾗｷﾞ"]
["栃木",9,"ﾄﾁｷﾞ"]
["群馬",10,"ｸﾞﾝﾏ"]
["埼玉",11,"ｻｲﾀﾏ"]
["千葉",12,"ﾁﾊﾞ"]
["東京",13,"ﾄｳｷｮｳ"]
["神奈川",14,"ｶﾅｶﾞﾜ"]
["山梨",15,"ﾔﾏﾅｼ"]
["新潟",16,"ﾆｲｶﾞﾀ"]
["長野",17,"ﾅｶﾞﾉ"]
["富山",18,"ﾄﾔﾏ"]
["石川",19,"ｲｼｶﾜ"]
["福井",20,"ﾌｸｲ"]
["静岡",21,"ｼｽﾞｵｶ"]
["愛知",22,"ｱｲﾁ"]
["三重",23,"ﾐｴ"]
["岐阜",24,"ｷﾞﾌ"]
["滋賀",25,"ｼｶﾞ"]
["京都",26,"ｷｮｳﾄ"]
["大阪",27,"ｵｵｻｶ"]
["兵庫",28,"ﾋｮｳｺﾞ"]
["奈良",29,"ﾅﾗ"]
["和歌山",30,"ﾜｶﾔﾏ"]
["鳥取",31,"ﾄｯﾄﾘ"]
["島根",32,"ｼﾏﾈ"]
["岡山",33,"ｵｶﾔﾏ"]
["広島",34,"ﾋﾛｼﾏ"]
["山口",35,"ﾔﾏｸﾞﾁ"]
["徳島",36,"ﾄｸｼﾏ"]
["香川",37,"ｶｶﾞﾜ"]
["愛媛",38,"ｴﾋﾒ"]
["高知",39,"ｺｳﾁ"]
["福岡",40,"ﾌｸｵｶ"]
["佐賀",41,"ｻｶﾞ"]
["長崎",42,"ﾅｶﾞｻｷ"]
["熊本",43,"ｸﾏﾓﾄ"]
["大分",44,"ｵｵｲﾀ"]
["宮崎",45,"ﾐﾔｻﾞｷ"]
["鹿児島",46,"ｶｺﾞｼﾏ"]
["沖縄",47,"ｵｷﾅﾜ"]
["学連",48,"ガクレン"]
["桑名市",100]
["いなべ市",101]
["桑名郡",102]
["員弁郡",103]
["四日市",104]
["三重郡",105]
["鈴鹿市",106]
["亀山市",107]
["鈴鹿郡",108]
["津市",109]
[]
[]
[]
["松阪市",113]
[]
["多気郡",115]
["伊勢市",116]
["度会郡",117]
["鳥羽市",118]
["志摩市",119]
["伊賀市",120]
["名張市",121]
["伊賀郡",122]
["阿山郡",123]
["名賀郡",124]
["尾鷲市",125]
["北牟婁",126]
["熊野市",127]
["南牟婁",128]
[null,129]
[null,130]
[null,131]
[null,132]
[null,133]
[null,134]