{"text_format":"1","workbook":"xlsx","n_sheets":28,"sheets":["注意","説明","メニュー","前年度登録","名簿","大会申込","出場認知書","県外認知書","国体1次","春季","総体","定時制","三重陸協記録会","県選","SF","新人","駅伝申込用紙","男子資料","女子資料","駅伝オーダー用紙","ロードレース","振込票貼付用紙1","振込票貼付用紙","男子種目コード","女子種目コード","作業","所属コード","所属地コード"],"not_rendered":{"charts":0,"images":3,"macros":1,"external_links":1,"defined_names":68,"comments":1,"pivot_tables":0},"unopened":[],"bounds":{"document_bytes":16777216,"sheet_cells":100000,"rows_first":2000,"rows_last":500,"rows_between":2000,"halvings":0,"cell_chars":16384,"cell_head_chars":4096},"cells_cut":0,"cells_raw":0,"read":"whole","date_system":"1900"}

{"sheet":"注意","index":0,"n_rows":69,"n_cols":1,"rows_kept":69,"cut":false,"hidden":false,"merged":[]}
["マクロが無効になっています。"]
["最新バージョンのエクセル(2007）使用の場合は、シートの上部にセキュリティの警告が出ますので"]
["右側のオプションをクリックし、「このコンテンツを有効にする」にチェックを入れて下さい。"]
["それ以前のエクセルは下記に従って下さい。"]
["入力を行うには，マクロを有効にする必要があります。"]
["マクロを有効にしてファイルを開いてください。"]
["エクセル2002以前のバージョンでは動作しません。エクセル2002以降のパソコンで作業して下さい"]
["マクロを有効にするには，"]
["１）上部メニューを「ツール(T)→マクロ(M)→セキュリティ(S)」の順に開きます。"]
[]
[]
[]
[]
[]
[]
[]
[]
[]
[]
[]
[]
[]
[]
[]
[]
[]
[]
[]
[]
[]
[]
[]
[]
[]
[]
["２）「セキュリティレベル」を「中」に設定してください。"]
[]
[]
[]
[]
[]
[]
[]
[]
[]
[]
[]
[]
[]
[]
[]
[]
[]
[]
[]
["３）EXCELをいったん終了（ファイルを保存しない）し，再度ファイルを開きます。"]
["４）マクロを有効にするかどうか聞いてきます。ここで「マクロを有効にする」を選択します。"]
[]
[]
[]
[]
[]
[]
[]
[]
[]
[]
[]
["何らかの原因でマクロが停止した場合は，いったんファイルを保存し，再度開き直してください。"]

{"sheet":"説明","index":1,"n_rows":79,"n_cols":7,"rows_kept":79,"cut":false,"hidden":false,"merged":[[78,0,78,11]]}
["高校用　メール大会申込概要"]
[]
["エクセル２００２以前のバージョンでは正常に動作しません。"]
[]
[null,null,"前年度のファイルは使用できません。削除のこと。"]
["注意事項①",null,"①参加料が必要な大会では、振込証明（振込票の写し）の送付が必要となります。"]
[null,null,"　様式⑨の振込票貼付用紙に貼付の上、三重陸協事務局まで送付のこと。"]
[null,null,"　 期日までの振込みがない場合は出場を認めない。"]
[null,null,"②送信後の選手変更・種目変更は受付けないので、よく確認の上申し込むこと。"]
[null,null,"③振込人の名称は所属名で記載のこと。(個人名は間違いのもとになります。）"]
[null,null,"④極端に早い振込みも間違いのもとになりますのでご配慮のこと。"]
[null,null,"⑤学校長の認知書は入力印刷の上、捺印の上、当日受付で係員に渡すこと。"]
[]
[null,null,"三重陸協主催大会の"]
[null,null,"振込先","　　百五銀行　生桑(ｲｸﾜ)支店　普通預金　口座番号　４４０２６６　口座名　一般財団法人三重陸上競技協会"]
[]
[]
[null,null,"競技時間等は大会1週間前にホームページに掲載するので通知はしない。"]
[null,null,"大会参加費は一覧表に記載されるので確認の上、振り込むこと。"]
[]
[]
[]
[]
[]
["入力について"]
[null,"①メニューより選手入力へのボタンを押して下さい。"]
[]
[null,null,"春季大会までは昨年の登録番号で入力願います"]
[null,null,"全選手の入力が完了したら、メニューへ戻り、上書き保存ボタンを押しましょう。"]
[null,null,"新部員は卒業生のNoを使用のこと。"]
[]
[null,null,"選手入力（県総体から）を開き、新規登録を貼り付けて下さい。"]
[]
[null,"②メニューより大会申込へのボタンを押して下さい。"]
[null,null,"参加する選手の種目と記録を入力して下さい。"]
[]
[]
[]
[null,"③各ページに右記のボタンがりますので"]
[null,"　　最後に必ず押して下さい"]
[null,null,"このエクセルファイルが保存されている同じ場所に新しいファイルが作成されます。"]
[]
[null,null,"メニューへ戻り、上書き保存ボタンを押しましょう。"]
[]
[null,"④新しく保存されたファイルをメールに添付してお送り下さい。"]
[]
[]
["申込み送付時の注意点"]
[null,"　　　　　　　①　必ずメールに添付して下さい。(添付を忘れる方が多い）"]
[null,"　　　　　　　②　資格審査の上、正式受理確認メールを返信いたします。"]
[null,"　　　　　　　③　発信ミスが時々あります。必ず正式受理メールを確認して下さい。"]
[null,"　　　　　　　④　１日経っても返信がない場合は、お問合せ下さい。"]
[null,"　　　　　　　⑤　締切日の午後6時必着となっています。"]
[]
[null,null,"メール宛先",null,"mousikomi★mierk.jp"]
[]
[]
["出場認知書に関して"]
[null,null,"①各大会別に印刷できます。"]
[null,null,"②県外大会等は競技場・大会名は直接入力できます。"]
[]
[]
[]
[null,null,"①選手入力画面で選手の公認記録を入力しておくと、自動で反映されます。"]
[]
[]
["連絡事項"]
[null,null,"全ての大会申込及び登録は下記のアドレスとなっています。"]
[]
[null,null,null,"mousikomi★mierk.jp　"]
[]
[]
[null,null,"尚、問い合わせ等は下記のアドレスとなります。"]
[]
[]
[]
[null,null,null,"問い合わせ",null,null,"info★mierk.jp"]
[]
["メールアドレスの★を＠に変えて送信して下さい"]

{"sheet":"メニュー","index":2,"n_rows":9,"n_cols":7,"rows_kept":9,"cut":false,"hidden":false,"merged":[[3,2,3,6],[22,1,22,8]]}
[]
[]
[]
[null,null," "]
[]
[]
[null,null,null,null,null,null,"去年の登録データを貼り付け"]
[]
[null,null,null,null,null,null,"今年の登録データを貼り付け"]

{"sheet":"前年度登録","index":3,"n_rows":118,"n_cols":73,"rows_kept":118,"cut":false,"hidden":false,"merged":[[8,24,57,24],[6,15,7,15],[6,16,7,16],[6,17,7,17],[1,12,1,14],[4,4,4,6],[4,8,4,12],[6,8,7,8],[1,8,2,10],[6,10,6,12],[6,0,7,0],[6,4,7,4],[6,5,7,5],[6,6,7,6],[6,57,6,58],[6,9,7,9],[6,7,7,7]]}
["前年度登録を貼り付けて下さい　新1年生は卒業生のNoを使用して下さい"]
[null,"①顧問名・連絡先・学校名は必ず入力のこと",null,null,null,null,null,null,"春季大会まで"]
[null,"②選手の一行目は必ず入力して下さい。全てに反映されません。"]
[null,"白枠の部分のみ高体連への登録様式よりコピーして貼り付けて下さい"]
["顧問名",null,null,null,null,null,null,"緊急連絡先(携帯)",null,null,null,null,null,null,null,"-"]
[]
[null,"登録月日",null,null,"登録ＮＯ","登録の種類","名　前","フリガナ(全角)","学年","性別","生年月日",null,null,null,null,"学校名","学校番号","所属地",null,null,null,null,null,null,null,null,"男","公認記録記載欄(随時記録が更新された場合は、変更入力して下さい。全ての申し込みに反映されます。",null,null,null,null,null,null,null,null,null,null,null,null,null,null,null,null,null,null,null,null,null,null,null,null,null,null,null,null,null,"走高跳の記録(予想)"]
[null,"(○／○○）",null,"日本陸連ID",null,null,null,null,null,null,"年(西暦）","月","日",null,null,null,null,null,null,null,null,null,null,null,null,null,"女","100m","200m","400m","800m","1500m","3000m","5000m","10000m","110mH","100mH","400mH","3000mSC","3000mW","5000mW","走高跳","棒高跳","走幅跳","三段跳","砲丸投","円盤投","ハンマー投","やり投","少年3000m","少年B100m","少年B100mYH","110mJH","少年砲丸投","少年B砲丸投","少年円盤投","少年ハンマー投","8種","7種","100mYH","少年B走幅跳","少年3000m","女子5ｋ","TRIM","数","空","名","姓","名"]
[1,null,"233135",null,null,null,null,null,null,null,null,null,null,{"$f":"BU9","v":"00"},{"$f":"IF(J9=\"\",\"\",IF(J9=\"男\",1,2))","v":""},null,{"$f":"IF(P9=\"\",\"\",VLOOKUP(P9,所属コード!$A$2:$E$113,2,FALSE))","v":""},{"$f":"IF(P9=\"\",\"\",VLOOKUP(P9,所属コード!$A$2:$G$113,7,FALSE))","v":""},null,null,null,null,null,"暁",null,{"$f":"ASC(H9)","v":""},null,null,null,null,null,null,null,null,null,null,null,null,null,null,null,null,null,null,null,null,null,null,null,{"$f":"AG9","v":0},{"$f":"AB9","v":0},{"$f":"AK9","v":0},{"$f":"AJ9","v":0},{"$f":"AT9","v":0},{"$f":"AT9","v":0},{"$f":"AU9","v":0},{"$f":"AV9","v":0},{"$f":"AP9","v":0},{"$f":"AP9","v":0},{"$f":"AK9","v":0},{"$f":"AR9","v":0},{"$f":"AG9","v":0},{"$f":"AG9","v":0},{"$f":"TRIM(G9)","v":""},{"$f":"IF(BL9=\"\",\"\",LEN(BL9))","v":""},{"$f":"IF(BL9=\"\",\"\",FIND(\"　\",BL9,1))","v":""},{"$f":"IF(BL9=\"\",\"\",BM9-BN9)","v":""},{"$f":"IF(BL9=\"\",\"\",LEFT(BL9,BN9-1))","v":""},{"$f":"IF(BL9=\"\",\"\",RIGHT(BL9,BO9))","v":""},{"$f":"IF(BL9=\"\",\"\",IF(BM9=4,CONCATENATE(BP9,\"　\",\"　\",BQ9),IF(BM9=6,CONCATENATE(BP9,BQ9),BL9)))","v":""},{"$f":"IF(L9<10,CONCATENATE(\"0\",L9),L9)","v":"0"},{"$f":"IF(M9<10,CONCATENATE(\"0\",M9),M9)","v":"0"},{"$f":"CONCATENATE(BS9,BT9)","v":"00"}]
[2,null,"233135",null,null,null,null,null,null,null,null,null,null,{"$f":"BU10","v":"00"},"",{"$f":"IF(G10=\"\",\"\",$P$9)","v":""},{"$f":"IF(P10=\"\",\"\",VLOOKUP(P10,所属コード!$A$2:$E$113,2,FALSE))","v":""},{"$f":"IF(P10=\"\",\"\",VLOOKUP(P10,所属コード!$A$2:$G$113,7,FALSE))","v":""},null,null,null,null,null,"明野",null,{"$f":"ASC(H10)","v":""},null,null,null,null,null,null,null,null,null,null,null,null,null,null,null,null,null,null,null,null,null,null,null,0,{"$f":"AB10","v":0},0,0,{"$f":"AT10","v":0},{"$f":"AT10","v":0},0,0,{"$f":"AP10","v":0},{"$f":"AP10","v":0},{"$f":"AK10","v":0},{"$f":"AR10","v":0},{"$f":"AG10","v":0},{"$f":"AG10","v":0},{"$f":"TRIM(G10)","v":""},{"$f":"IF(BL10=\"\",\"\",LEN(BL10))","v":""},{"$f":"IF(BL10=\"\",\"\",FIND(\"　\",BL10,1))","v":""},{"$f":"IF(BL10=\"\",\"\",BM10-BN10)","v":""},{"$f":"IF(BL10=\"\",\"\",LEFT(BL10,BN10-1))","v":""},{"$f":"IF(BL10=\"\",\"\",RIGHT(BL10,BO10))","v":""},{"$f":"IF(BL10=\"\",\"\",IF(BM10=4,CONCATENATE(BP10,\"　\",\"　\",BQ10),IF(BM10=6,CONCATENATE(BP10,BQ10),BL10)))","v":""},{"$f":"IF(L10<10,CONCATENATE(\"0\",L10),L10)","v":"0"},{"$f":"IF(M10<10,CONCATENATE(\"0\",M10),M10)","v":"0"},{"$f":"CONCATENATE(BS10,BT10)","v":"00"}]
[3,null,"233135",null,null,null,null,null,null,null,null,null,null,"00","",{"$f":"IF(G11=\"\",\"\",$P$9)","v":""},{"$f":"IF(P11=\"\",\"\",VLOOKUP(P11,所属コード!$A$2:$E$113,2,FALSE))","v":""},{"$f":"IF(P11=\"\",\"\",VLOOKUP(P11,所属コード!$A$2:$G$113,7,FALSE))","v":""},null,null,null,null,null,"朝明",null,"",null,null,null,null,null,null,null,null,null,null,null,null,null,null,null,null,null,null,null,null,null,null,null,0,0,0,0,0,0,0,0,0,0,0,0,0,0,"","","","","","","","0","0","00"]
[4,null,"233135",null,null,null,null,null,null,null,null,null,null,"00","","",{"$f":"IF(P12=\"\",\"\",VLOOKUP(P12,所属コード!$A$2:$E$113,2,FALSE))","v":""},{"$f":"IF(P12=\"\",\"\",VLOOKUP(P12,所属コード!$A$2:$G$113,7,FALSE))","v":""},null,null,null,null,null,"飯南",null,"",null,null,null,null,null,null,null,null,null,null,null,null,null,null,null,null,null,null,null,null,null,null,null,0,0,0,0,0,0,0,0,0,0,0,0,0,0,"","","","","","","","0","0","00"]
[5,null,"233135",null,null,null,null,null,null,null,null,null,null,"00","","",{"$f":"IF(P13=\"\",\"\",VLOOKUP(P13,所属コード!$A$2:$E$113,2,FALSE))","v":""},{"$f":"IF(P13=\"\",\"\",VLOOKUP(P13,所属コード!$A$2:$G$113,7,FALSE))","v":""},null,null,null,null,null,"伊賀白鳳",null,"",null,null,null,null,null,null,null,null,null,null,null,null,null,null,null,null,null,null,null,null,null,null,null,0,0,0,0,0,0,0,0,0,0,0,0,0,0,"","","","","","","","0","0","00"]
[6,null,"233135",null,null,null,null,null,null,null,null,null,null,"00","","",{"$f":"IF(P14=\"\",\"\",VLOOKUP(P14,所属コード!$A$2:$E$113,2,FALSE))","v":""},{"$f":"IF(P14=\"\",\"\",VLOOKUP(P14,所属コード!$A$2:$G$113,7,FALSE))","v":""},null,null,null,null,null,"石薬師",null,"",null,null,null,null,null,null,null,null,null,null,null,null,null,null,null,null,null,null,null,null,null,null,null,0,0,0,0,0,0,0,0,0,0,0,0,0,0,"","","","","","","","0","0","00"]
[7,null,"233135",null,null,null,null,null,null,null,null,null,null,"00","","",{"$f":"IF(P15=\"\",\"\",VLOOKUP(P15,所属コード!$A$2:$E$113,2,FALSE))","v":""},{"$f":"IF(P15=\"\",\"\",VLOOKUP(P15,所属コード!$A$2:$G$113,7,FALSE))","v":""},null,null,null,null,null,"伊勢",null,"",null,null,null,null,null,null,null,null,null,null,null,null,null,null,null,null,null,null,null,null,null,null,null,0,0,0,0,0,0,0,0,0,0,0,0,0,0,"","","","","","","","0","0","00"]
[8,null,"233135",null,null,null,null,null,null,null,null,null,null,"00","","",{"$f":"IF(P16=\"\",\"\",VLOOKUP(P16,所属コード!$A$2:$E$113,2,FALSE))","v":""},{"$f":"IF(P16=\"\",\"\",VLOOKUP(P16,所属コード!$A$2:$G$113,7,FALSE))","v":""},null,null,null,null,null,"伊勢学園",null,"",null,null,null,null,null,null,null,null,null,null,null,null,null,null,null,null,null,null,null,null,null,null,null,0,0,0,0,0,0,0,0,0,0,0,0,0,0,"","","","","","","","0","0","00"]
[9,null,"233135",null,null,null,null,null,null,null,null,null,null,"00","","",{"$f":"IF(P17=\"\",\"\",VLOOKUP(P17,所属コード!$A$2:$E$113,2,FALSE))","v":""},{"$f":"IF(P17=\"\",\"\",VLOOKUP(P17,所属コード!$A$2:$G$113,7,FALSE))","v":""},null,null,null,null,null,"伊勢工",null,"",null,null,null,null,null,null,null,null,null,null,null,null,null,null,null,null,null,null,null,null,null,null,null,0,0,0,0,0,0,0,0,0,0,0,0,0,0,"","","","","","","","0","0","00"]
[10,null,"233135",null,null,null,null,null,null,null,null,null,null,"00","","",{"$f":"IF(P18=\"\",\"\",VLOOKUP(P18,所属コード!$A$2:$E$113,2,FALSE))","v":""},{"$f":"IF(P18=\"\",\"\",VLOOKUP(P18,所属コード!$A$2:$G$113,7,FALSE))","v":""},null,null,null,null,null,"いなべ総合",null,"",null,null,null,null,null,null,null,null,null,null,null,null,null,null,null,null,null,null,null,null,null,null,null,0,0,0,0,0,0,0,0,0,0,0,0,0,0,"","","","","","","","0","0","00"]
[11,null,"233135",null,null,null,null,null,null,null,null,null,null,"00","","",{"$f":"IF(P19=\"\",\"\",VLOOKUP(P19,所属コード!$A$2:$E$113,2,FALSE))","v":""},{"$f":"IF(P19=\"\",\"\",VLOOKUP(P19,所属コード!$A$2:$G$113,7,FALSE))","v":""},null,null,null,null,null,"稲生",null,"",null,null,null,null,null,null,null,null,null,null,null,null,null,null,null,null,null,null,null,null,null,null,null,0,0,0,0,0,0,0,0,0,0,0,0,0,0,"","","","","","","","0","0","00"]
[12,null,"233135",null,null,null,null,null,null,null,null,null,null,"00","","",{"$f":"IF(P20=\"\",\"\",VLOOKUP(P20,所属コード!$A$2:$E$113,2,FALSE))","v":""},{"$f":"IF(P20=\"\",\"\",VLOOKUP(P20,所属コード!$A$2:$G$113,7,FALSE))","v":""},null,null,null,null,null,"上野",null,"",null,null,null,null,null,null,null,null,null,null,null,null,null,null,null,null,null,null,null,null,null,null,null,0,0,0,0,0,0,0,0,0,0,0,0,0,0,"","","","","","","","0","0","00"]
[13,null,"233135",null,null,null,null,null,null,null,null,null,null,"00","","",{"$f":"IF(P21=\"\",\"\",VLOOKUP(P21,所属コード!$A$2:$E$113,2,FALSE))","v":""},{"$f":"IF(P21=\"\",\"\",VLOOKUP(P21,所属コード!$A$2:$G$113,7,FALSE))","v":""},null,null,null,null,null,"宇治山田",null,"",null,null,null,null,null,null,null,null,null,null,null,null,null,null,null,null,null,null,null,null,null,null,null,0,0,0,0,0,0,0,0,0,0,0,0,0,0,"","","","","","","","0","0","00"]
[14,null,"233135",null,null,null,null,null,null,null,null,null,null,"00","","",{"$f":"IF(P22=\"\",\"\",VLOOKUP(P22,所属コード!$A$2:$E$113,2,FALSE))","v":""},{"$f":"IF(P22=\"\",\"\",VLOOKUP(P22,所属コード!$A$2:$G$113,7,FALSE))","v":""},null,null,null,null,null,"宇治山田商",null,"",null,null,null,null,null,null,null,null,null,null,null,null,null,null,null,null,null,null,null,null,null,null,null,0,0,0,0,0,0,0,0,0,0,0,0,0,0,"","","","","","","","0","0","00"]
[15,null,"233135",null,null,null,null,null,null,null,null,null,null,"00","","",{"$f":"IF(P23=\"\",\"\",VLOOKUP(P23,所属コード!$A$2:$E$113,2,FALSE))","v":""},{"$f":"IF(P23=\"\",\"\",VLOOKUP(P23,所属コード!$A$2:$G$113,7,FALSE))","v":""},null,null,null,null,null,"相可",null,"",null,null,null,null,null,null,null,null,null,null,null,null,null,null,null,null,null,null,null,null,null,null,null,0,0,0,0,0,0,0,0,0,0,0,0,0,0,"","","","","","","","0","0","00"]
[16,null,"233135",null,null,null,null,null,null,null,null,null,null,"00","","",{"$f":"IF(P24=\"\",\"\",VLOOKUP(P24,所属コード!$A$2:$E$113,2,FALSE))","v":""},{"$f":"IF(P24=\"\",\"\",VLOOKUP(P24,所属コード!$A$2:$G$113,7,FALSE))","v":""},null,null,null,null,null,"尾鷲",null,"",null,null,null,null,null,null,null,null,null,null,null,null,null,null,null,null,null,null,null,null,null,null,null,0,0,0,0,0,0,0,0,0,0,0,0,0,0,"","","","","","","","0","0","00"]
[17,null,"233135",null,null,null,null,null,null,null,null,null,null,"00","","",{"$f":"IF(P25=\"\",\"\",VLOOKUP(P25,所属コード!$A$2:$E$113,2,FALSE))","v":""},{"$f":"IF(P25=\"\",\"\",VLOOKUP(P25,所属コード!$A$2:$G$113,7,FALSE))","v":""},null,null,null,null,null,"海星",null,"",null,null,null,null,null,null,null,null,null,null,null,null,null,null,null,null,null,null,null,null,null,null,null,0,0,0,0,0,0,0,0,0,0,0,0,0,0,"","","","","","","","0","0","00"]
[18,null,"233135",null,null,null,null,null,null,null,null,null,null,"00","","",{"$f":"IF(P26=\"\",\"\",VLOOKUP(P26,所属コード!$A$2:$E$113,2,FALSE))","v":""},{"$f":"IF(P26=\"\",\"\",VLOOKUP(P26,所属コード!$A$2:$G$113,7,FALSE))","v":""},null,null,null,null,null,"亀山",null,"",null,null,null,null,null,null,null,null,null,null,null,null,null,null,null,null,null,null,null,null,null,null,null,0,0,0,0,0,0,0,0,0,0,0,0,0,0,"","","","","","","","0","0","00"]
[19,null,"233135",null,null,null,null,null,null,null,null,null,null,"00","","",{"$f":"IF(P27=\"\",\"\",VLOOKUP(P27,所属コード!$A$2:$E$113,2,FALSE))","v":""},{"$f":"IF(P27=\"\",\"\",VLOOKUP(P27,所属コード!$A$2:$G$113,7,FALSE))","v":""},null,null,null,null,null,"川越",null,"",null,null,null,null,null,null,null,null,null,null,null,null,null,null,null,null,null,null,null,null,null,null,null,0,0,0,0,0,0,0,0,0,0,0,0,0,0,"","","","","","","","0","0","00"]
[20,null,"233135",null,null,null,null,null,null,null,null,null,null,"00","","",{"$f":"IF(P28=\"\",\"\",VLOOKUP(P28,所属コード!$A$2:$E$113,2,FALSE))","v":""},{"$f":"IF(P28=\"\",\"\",VLOOKUP(P28,所属コード!$A$2:$G$113,7,FALSE))","v":""},null,null,null,null,null,"神戸",null,"",null,null,null,null,null,null,null,null,null,null,null,null,null,null,null,null,null,null,null,null,null,null,null,0,0,0,0,0,0,0,0,0,0,0,0,0,0,"","","","","","","","0","0","00"]
[21,null,"233135",null,null,null,null,null,null,null,null,null,null,"00","","",{"$f":"IF(P29=\"\",\"\",VLOOKUP(P29,所属コード!$A$2:$E$113,2,FALSE))","v":""},{"$f":"IF(P29=\"\",\"\",VLOOKUP(P29,所属コード!$A$2:$G$113,7,FALSE))","v":""},null,null,null,null,null,"紀南",null,"",null,null,null,null,null,null,null,null,null,null,null,null,null,null,null,null,null,null,null,null,null,null,null,0,0,0,0,0,0,0,0,0,0,0,0,0,0,"","","","","","","","0","0","00"]
[22,null,"233135",null,null,null,null,null,null,null,null,null,null,"00","","",{"$f":"IF(P30=\"\",\"\",VLOOKUP(P30,所属コード!$A$2:$E$113,2,FALSE))","v":""},{"$f":"IF(P30=\"\",\"\",VLOOKUP(P30,所属コード!$A$2:$G$113,7,FALSE))","v":""},null,null,null,null,null,"木本",null,"",null,null,null,null,null,null,null,null,null,null,null,null,null,null,null,null,null,null,null,null,null,null,null,0,0,0,0,0,0,0,0,0,0,0,0,0,0,"","","","","","","","0","0","00"]
[23,null,"233135",null,null,null,null,null,null,null,null,null,null,"00","","",{"$f":"IF(P31=\"\",\"\",VLOOKUP(P31,所属コード!$A$2:$E$113,2,FALSE))","v":""},{"$f":"IF(P31=\"\",\"\",VLOOKUP(P31,所属コード!$A$2:$G$113,7,FALSE))","v":""},null,null,null,null,null,"近大高専",null,"",null,null,null,null,null,null,null,null,null,null,null,null,null,null,null,null,null,null,null,null,null,null,null,0,0,0,0,0,0,0,0,0,0,0,0,0,0,"","","","","","","","0","0","00"]
[24,null,"233135",null,null,null,null,null,null,null,null,null,null,"00","","",{"$f":"IF(P32=\"\",\"\",VLOOKUP(P32,所属コード!$A$2:$E$113,2,FALSE))","v":""},{"$f":"IF(P32=\"\",\"\",VLOOKUP(P32,所属コード!$A$2:$G$113,7,FALSE))","v":""},null,null,null,null,null,"桑名",null,"",null,null,null,null,null,null,null,null,null,null,null,null,null,null,null,null,null,null,null,null,null,null,null,0,0,0,0,0,0,0,0,0,0,0,0,0,0,"","","","","","","","0","0","00"]
[25,null,"233135",null,null,null,null,null,null,null,null,null,null,"00","","",{"$f":"IF(P33=\"\",\"\",VLOOKUP(P33,所属コード!$A$2:$E$113,2,FALSE))","v":""},{"$f":"IF(P33=\"\",\"\",VLOOKUP(P33,所属コード!$A$2:$G$113,7,FALSE))","v":""},null,null,null,null,null,"桑名北",null,"",null,null,null,null,null,null,null,null,null,null,null,null,null,null,null,null,null,null,null,null,null,null,null,0,0,0,0,0,0,0,0,0,0,0,0,0,0,"","","","","","","","0","0","00"]
[26,null,"233135",null,null,null,null,null,null,null,null,null,null,"00","","",{"$f":"IF(P34=\"\",\"\",VLOOKUP(P34,所属コード!$A$2:$E$113,2,FALSE))","v":""},{"$f":"IF(P34=\"\",\"\",VLOOKUP(P34,所属コード!$A$2:$G$113,7,FALSE))","v":""},null,null,null,null,null,"桑名工",null,"",null,null,null,null,null,null,null,null,null,null,null,null,null,null,null,null,null,null,null,null,null,null,null,0,0,0,0,0,0,0,0,0,0,0,0,0,0,"","","","","","","","0","0","00"]
[27,null,"233135",null,null,null,null,null,null,null,null,null,null,"00","","",{"$f":"IF(P35=\"\",\"\",VLOOKUP(P35,所属コード!$A$2:$E$113,2,FALSE))","v":""},{"$f":"IF(P35=\"\",\"\",VLOOKUP(P35,所属コード!$A$2:$G$113,7,FALSE))","v":""},null,null,null,null,null,"桑名西",null,"",null,null,null,null,null,null,null,null,null,null,null,null,null,null,null,null,null,null,null,null,null,null,null,0,0,0,0,0,0,0,0,0,0,0,0,0,0,"","","","","","","","0","0","00"]
[28,null,"233135",null,null,null,null,null,null,null,null,null,null,"00","","",{"$f":"IF(P36=\"\",\"\",VLOOKUP(P36,所属コード!$A$2:$E$113,2,FALSE))","v":""},{"$f":"IF(P36=\"\",\"\",VLOOKUP(P36,所属コード!$A$2:$G$113,7,FALSE))","v":""},null,null,null,null,null,"皇學館",null,"",null,null,null,null,null,null,null,null,null,null,null,null,null,null,null,null,null,null,null,null,null,null,null,0,0,0,0,0,0,0,0,0,0,0,0,0,0,"","","","","","","","0","0","00"]
[29,null,"233135",null,null,null,null,null,null,null,null,null,null,"00","","",{"$f":"IF(P37=\"\",\"\",VLOOKUP(P37,所属コード!$A$2:$E$113,2,FALSE))","v":""},{"$f":"IF(P37=\"\",\"\",VLOOKUP(P37,所属コード!$A$2:$G$113,7,FALSE))","v":""},null,null,null,null,null,"菰野",null,"",null,null,null,null,null,null,null,null,null,null,null,null,null,null,null,null,null,null,null,null,null,null,null,0,0,0,0,0,0,0,0,0,0,0,0,0,0,"","","","","","","","0","0","00"]
[30,null,"233135",null,null,null,null,null,null,null,null,null,null,"00","","",{"$f":"IF(P38=\"\",\"\",VLOOKUP(P38,所属コード!$A$2:$E$113,2,FALSE))","v":""},{"$f":"IF(P38=\"\",\"\",VLOOKUP(P38,所属コード!$A$2:$G$113,7,FALSE))","v":""},null,null,null,null,null,"桜丘",null,"",null,null,null,null,null,null,null,null,null,null,null,null,null,null,null,null,null,null,null,null,null,null,null,0,0,0,0,0,0,0,0,0,0,0,0,0,0,"","","","","","","","0","0","00"]
[31,null,"233135",null,null,null,null,null,null,null,null,null,null,"00","","",{"$f":"IF(P39=\"\",\"\",VLOOKUP(P39,所属コード!$A$2:$E$113,2,FALSE))","v":""},{"$f":"IF(P39=\"\",\"\",VLOOKUP(P39,所属コード!$A$2:$G$113,7,FALSE))","v":""},null,null,null,null,null,"志摩",null,"",null,null,null,null,null,null,null,null,null,null,null,null,null,null,null,null,null,null,null,null,null,null,null,0,0,0,0,0,0,0,0,0,0,0,0,0,0,"","","","","","","","0","0","00"]
[32,null,"233135",null,null,null,null,null,null,null,null,null,null,"00","","",{"$f":"IF(P40=\"\",\"\",VLOOKUP(P40,所属コード!$A$2:$E$113,2,FALSE))","v":""},{"$f":"IF(P40=\"\",\"\",VLOOKUP(P40,所属コード!$A$2:$G$113,7,FALSE))","v":""},null,null,null,null,null,"白子",null,"",null,null,null,null,null,null,null,null,null,null,null,null,null,null,null,null,null,null,null,null,null,null,null,0,0,0,0,0,0,0,0,0,0,0,0,0,0,"","","","","","","","0","0","00"]
[33,null,"233135",null,null,null,null,null,null,null,null,null,null,"00","","",{"$f":"IF(P41=\"\",\"\",VLOOKUP(P41,所属コード!$A$2:$E$113,2,FALSE))","v":""},{"$f":"IF(P41=\"\",\"\",VLOOKUP(P41,所属コード!$A$2:$G$113,7,FALSE))","v":""},null,null,null,null,null,"鈴鹿",null,"",null,null,null,null,null,null,null,null,null,null,null,null,null,null,null,null,null,null,null,null,null,null,null,0,0,{"$f":"AK41","v":0},0,0,0,0,0,0,0,0,0,0,0,"","","","","","","","0","0","00"]
[34,null,"233135",null,null,null,null,null,null,null,null,null,null,"00","","",{"$f":"IF(P42=\"\",\"\",VLOOKUP(P42,所属コード!$A$2:$E$113,2,FALSE))","v":""},{"$f":"IF(P42=\"\",\"\",VLOOKUP(P42,所属コード!$A$2:$G$113,7,FALSE))","v":""},null,null,null,null,null,"鈴鹿高専",null,"",null,null,null,null,null,null,null,null,null,null,null,null,null,null,null,null,null,null,null,null,null,null,null,0,0,0,0,0,0,0,0,0,0,0,0,0,0,"","","","","","","","0","0","00"]
[35,null,"233135",null,null,null,null,null,null,null,null,null,null,"00","","",{"$f":"IF(P43=\"\",\"\",VLOOKUP(P43,所属コード!$A$2:$E$113,2,FALSE))","v":""},{"$f":"IF(P43=\"\",\"\",VLOOKUP(P43,所属コード!$A$2:$G$113,7,FALSE))","v":""},null,null,null,null,null,"セントヨゼフ",null,"",null,null,null,null,null,null,null,null,null,null,null,null,null,null,null,null,null,null,null,null,null,null,null,0,0,0,0,0,0,0,0,0,0,0,0,0,0,"","","","","","","","0","0","00"]
[36,null,"233135",null,null,null,null,null,null,null,null,null,null,"00","","",{"$f":"IF(P44=\"\",\"\",VLOOKUP(P44,所属コード!$A$2:$E$113,2,FALSE))","v":""},{"$f":"IF(P44=\"\",\"\",VLOOKUP(P44,所属コード!$A$2:$G$113,7,FALSE))","v":""},null,null,null,null,null,"高田",null,"",null,null,null,null,null,null,null,null,null,null,null,null,null,null,null,null,null,null,null,null,null,null,null,0,0,0,0,0,0,0,0,0,0,0,0,0,0,"","","","","","","","0","0","00"]
[37,null,"233135",null,null,null,null,null,null,null,null,null,null,"00","","",{"$f":"IF(P45=\"\",\"\",VLOOKUP(P45,所属コード!$A$2:$E$113,2,FALSE))","v":""},{"$f":"IF(P45=\"\",\"\",VLOOKUP(P45,所属コード!$A$2:$G$113,7,FALSE))","v":""},null,null,null,null,null,"津",null,"",null,null,null,null,null,null,null,null,null,null,null,null,null,null,null,null,null,null,null,null,null,null,null,0,0,0,0,0,0,0,0,0,0,0,0,0,0,"","","","","","","","0","0","00"]
[38,null,"233135",null,null,null,null,null,null,null,null,null,null,"00","","",{"$f":"IF(P46=\"\",\"\",VLOOKUP(P46,所属コード!$A$2:$E$113,2,FALSE))","v":""},{"$f":"IF(P46=\"\",\"\",VLOOKUP(P46,所属コード!$A$2:$G$113,7,FALSE))","v":""},null,null,null,null,null,"津工",null,"",null,null,null,null,null,null,null,null,null,null,null,null,null,null,null,null,null,null,null,null,null,null,null,0,0,0,0,0,0,0,0,0,0,0,0,0,0,"","","","","","","","0","0","00"]
[39,null,"233135",null,null,null,null,null,null,null,null,null,null,"00","","",{"$f":"IF(P47=\"\",\"\",VLOOKUP(P47,所属コード!$A$2:$E$113,2,FALSE))","v":""},{"$f":"IF(P47=\"\",\"\",VLOOKUP(P47,所属コード!$A$2:$G$113,7,FALSE))","v":""},null,null,null,null,null,"津商",null,"",null,null,null,null,null,null,null,null,null,null,null,null,null,null,null,null,null,null,null,null,null,null,null,0,0,0,0,0,0,0,0,0,0,0,0,0,0,"","","","","","","","0","0","00"]
[40,null,"233135",null,null,null,null,null,null,null,null,null,null,"00","","",{"$f":"IF(P48=\"\",\"\",VLOOKUP(P48,所属コード!$A$2:$E$113,2,FALSE))","v":""},{"$f":"IF(P48=\"\",\"\",VLOOKUP(P48,所属コード!$A$2:$G$113,7,FALSE))","v":""},null,null,null,null,null,"津田学園",null,"",null,null,null,null,null,null,null,null,null,null,null,null,null,null,null,null,null,null,null,null,null,null,null,0,0,0,0,0,0,0,0,0,0,0,0,0,0,"","","","","","","","0","0","00"]
[41,null,"233135",null,null,null,null,null,null,null,null,null,null,"00","","",{"$f":"IF(P49=\"\",\"\",VLOOKUP(P49,所属コード!$A$2:$E$113,2,FALSE))","v":""},{"$f":"IF(P49=\"\",\"\",VLOOKUP(P49,所属コード!$A$2:$G$113,7,FALSE))","v":""},null,null,null,null,null,"津西",null,"",null,null,null,null,null,null,null,null,null,null,null,null,null,null,null,null,null,null,null,null,null,null,null,0,0,0,0,0,0,0,0,0,0,0,0,0,0,"","","","","","","","0","0","00"]
[42,null,"233135",null,null,null,null,null,null,null,null,null,null,"00","","",{"$f":"IF(P50=\"\",\"\",VLOOKUP(P50,所属コード!$A$2:$E$113,2,FALSE))","v":""},{"$f":"IF(P50=\"\",\"\",VLOOKUP(P50,所属コード!$A$2:$G$113,7,FALSE))","v":""},null,null,null,null,null,"津東",null,"",null,null,null,null,null,null,null,null,null,null,null,null,null,null,null,null,null,null,null,null,null,null,null,0,0,0,0,0,0,0,0,0,0,0,0,0,0,"","","","","","","","0","0","00"]
[43,null,"233135",null,null,null,null,null,null,null,null,null,null,"00","","",{"$f":"IF(P51=\"\",\"\",VLOOKUP(P51,所属コード!$A$2:$E$113,2,FALSE))","v":""},{"$f":"IF(P51=\"\",\"\",VLOOKUP(P51,所属コード!$A$2:$G$113,7,FALSE))","v":""},null,null,null,null,null,"鳥羽",null,"",null,null,null,null,null,null,null,null,null,null,null,null,null,null,null,null,null,null,null,null,null,null,null,0,0,0,0,0,0,0,0,0,0,0,0,0,0,"","","","","","","","0","0","00"]
[44,null,"233135",null,null,null,null,null,null,null,null,null,null,"00","","",{"$f":"IF(P52=\"\",\"\",VLOOKUP(P52,所属コード!$A$2:$E$113,2,FALSE))","v":""},{"$f":"IF(P52=\"\",\"\",VLOOKUP(P52,所属コード!$A$2:$G$113,7,FALSE))","v":""},null,null,null,null,null,"鳥羽商船",null,"",null,null,null,null,null,null,null,null,null,null,null,null,null,null,null,null,null,null,null,null,null,null,null,0,0,0,0,0,0,0,0,0,0,0,0,0,0,"","","","","","","","0","0","00"]
[45,null,"233135",null,null,null,null,null,null,null,null,null,null,"00","","",{"$f":"IF(P53=\"\",\"\",VLOOKUP(P53,所属コード!$A$2:$E$113,2,FALSE))","v":""},{"$f":"IF(P53=\"\",\"\",VLOOKUP(P53,所属コード!$A$2:$G$113,7,FALSE))","v":""},null,null,null,null,null,"名張桔梗丘",null,"",null,null,null,null,null,null,null,null,null,null,null,null,null,null,null,null,null,null,null,null,null,null,null,0,0,0,0,0,0,0,0,0,0,0,0,0,0,"","","","","","","","0","0","00"]
[46,null,"233135",null,null,null,null,null,null,null,null,null,null,"00","","",{"$f":"IF(P54=\"\",\"\",VLOOKUP(P54,所属コード!$A$2:$E$113,2,FALSE))","v":""},{"$f":"IF(P54=\"\",\"\",VLOOKUP(P54,所属コード!$A$2:$G$113,7,FALSE))","v":""},null,null,null,null,null,"名張青峰",null,"",null,null,null,null,null,null,null,null,null,null,null,null,null,null,null,null,null,null,null,null,null,null,null,0,0,0,0,0,0,0,0,0,0,0,0,0,0,"","","","","","","","0","0","00"]
[47,null,"233135",null,null,null,null,null,null,null,null,null,null,"00","","",{"$f":"IF(P55=\"\",\"\",VLOOKUP(P55,所属コード!$A$2:$E$113,2,FALSE))","v":""},{"$f":"IF(P55=\"\",\"\",VLOOKUP(P55,所属コード!$A$2:$G$113,7,FALSE))","v":""},null,null,null,null,null,"白山",null,"",null,null,null,null,null,null,null,null,null,null,null,null,null,null,null,null,null,null,null,null,null,null,null,0,0,0,0,0,0,0,0,0,0,0,0,0,0,"","","","","","","","0","0","00"]
[48,null,"233135",null,null,null,null,null,null,null,null,null,null,"00","","",{"$f":"IF(P56=\"\",\"\",VLOOKUP(P56,所属コード!$A$2:$E$113,2,FALSE))","v":""},{"$f":"IF(P56=\"\",\"\",VLOOKUP(P56,所属コード!$A$2:$G$113,7,FALSE))","v":""},null,null,null,null,null,"久居",null,"",null,null,null,null,null,null,null,null,null,null,null,null,null,null,null,null,null,null,null,null,null,null,null,0,0,0,0,0,0,0,0,0,0,0,0,0,0,"","","","","","","","0","0","00"]
[49,null,"233135",null,null,null,null,null,null,null,null,null,null,"00","","",{"$f":"IF(P57=\"\",\"\",VLOOKUP(P57,所属コード!$A$2:$E$113,2,FALSE))","v":""},{"$f":"IF(P57=\"\",\"\",VLOOKUP(P57,所属コード!$A$2:$G$113,7,FALSE))","v":""},null,null,null,null,null,"久居農林",null,"",null,null,null,null,null,null,null,null,null,null,null,null,null,null,null,null,null,null,null,null,null,null,null,0,0,0,0,0,0,0,0,0,0,0,0,0,0,"","","","","","","","0","0","00"]
[50,null,"233135",null,null,null,null,null,null,null,null,null,null,"00","","",{"$f":"IF(P58=\"\",\"\",VLOOKUP(P58,所属コード!$A$2:$E$113,2,FALSE))","v":""},{"$f":"IF(P58=\"\",\"\",VLOOKUP(P58,所属コード!$A$2:$G$113,7,FALSE))","v":""},null,null,null,null,null,"松阪",null,"",null,null,null,null,null,null,null,null,null,null,null,null,null,null,null,null,null,null,null,null,null,null,null,0,0,0,0,0,0,0,0,0,0,0,0,0,0,"","","","","","","","0","0","00"]
[51,null,"233135",null,null,null,null,null,null,null,null,null,null,"00","","",{"$f":"IF(P59=\"\",\"\",VLOOKUP(P59,所属コード!$A$2:$E$113,2,FALSE))","v":""},{"$f":"IF(P59=\"\",\"\",VLOOKUP(P59,所属コード!$A$2:$G$113,7,FALSE))","v":""},null,null,null,null,null,"松阪工",null,"",null,null,null,null,null,null,null,null,null,null,null,null,null,null,null,null,null,null,null,null,null,null,null,0,0,0,0,0,0,0,0,0,0,0,0,0,0,"","","","","","","","0","0","00"]
[52,null,"233135",null,null,null,null,null,null,null,null,null,null,"00","","",{"$f":"IF(P60=\"\",\"\",VLOOKUP(P60,所属コード!$A$2:$E$113,2,FALSE))","v":""},{"$f":"IF(P60=\"\",\"\",VLOOKUP(P60,所属コード!$A$2:$G$113,7,FALSE))","v":""},null,null,null,null,null,"松阪商",null,"",null,null,null,null,null,null,null,null,null,null,null,null,null,null,null,null,null,null,null,null,null,null,null,0,0,0,0,0,0,0,0,0,0,0,0,0,0,"","","","","","","","0","0","00"]
[53,null,"233135",null,null,null,null,null,null,null,null,null,null,"00","","",{"$f":"IF(P61=\"\",\"\",VLOOKUP(P61,所属コード!$A$2:$E$113,2,FALSE))","v":""},{"$f":"IF(P61=\"\",\"\",VLOOKUP(P61,所属コード!$A$2:$G$113,7,FALSE))","v":""},null,null,null,null,null,"三重",null,"",null,null,null,null,null,null,null,null,null,null,null,null,null,null,null,null,null,null,null,null,null,null,null,0,0,0,0,0,0,0,0,0,0,0,0,0,0,"","","","","","","","0","0","00"]
[54,null,"233135",null,null,null,null,null,null,null,null,null,null,"00","","",{"$f":"IF(P62=\"\",\"\",VLOOKUP(P62,所属コード!$A$2:$E$113,2,FALSE))","v":""},{"$f":"IF(P62=\"\",\"\",VLOOKUP(P62,所属コード!$A$2:$G$113,7,FALSE))","v":""},null,null,null,null,null,"南伊勢",null,"",null,null,null,null,null,null,null,null,null,null,null,null,null,null,null,null,null,null,null,null,null,null,null,0,0,0,0,0,0,0,0,0,0,0,0,0,0,"","","","","","","","0","0","00"]
[55,null,"233135",null,null,null,null,null,null,null,null,null,null,"00","","",{"$f":"IF(P63=\"\",\"\",VLOOKUP(P63,所属コード!$A$2:$E$113,2,FALSE))","v":""},{"$f":"IF(P63=\"\",\"\",VLOOKUP(P63,所属コード!$A$2:$G$113,7,FALSE))","v":""},null,null,null,null,null,"四日市",null,"",null,null,null,null,null,null,null,null,null,null,null,null,null,null,null,null,null,null,null,null,null,null,null,0,0,0,0,0,0,0,0,0,0,0,0,0,0,"","","","","","","","0","0","00"]
[56,null,"233135",null,null,null,null,null,null,null,null,null,null,"00","","",{"$f":"IF(P64=\"\",\"\",VLOOKUP(P64,所属コード!$A$2:$E$113,2,FALSE))","v":""},{"$f":"IF(P64=\"\",\"\",VLOOKUP(P64,所属コード!$A$2:$G$113,7,FALSE))","v":""},null,null,null,null,null,"四日市工",null,"",null,null,null,null,null,null,null,null,null,null,null,null,null,null,null,null,null,null,null,null,null,null,null,0,0,0,0,0,0,0,0,0,0,0,0,0,0,"","","","","","","","0","0","00"]
[57,null,"233135",null,null,null,null,null,null,null,null,null,null,"00","","",{"$f":"IF(P65=\"\",\"\",VLOOKUP(P65,所属コード!$A$2:$E$113,2,FALSE))","v":""},{"$f":"IF(P65=\"\",\"\",VLOOKUP(P65,所属コード!$A$2:$G$113,7,FALSE))","v":""},null,null,null,null,null,"四日市商",null,"",null,null,null,null,null,null,null,null,null,null,null,null,null,null,null,null,null,null,null,null,null,null,null,0,0,0,0,0,0,0,0,0,0,0,0,0,0,"","","","","","","","0","0","00"]
[58,null,"233135",null,null,null,null,null,null,null,null,null,null,"00","","",{"$f":"IF(P66=\"\",\"\",VLOOKUP(P66,所属コード!$A$2:$E$113,2,FALSE))","v":""},{"$f":"IF(P66=\"\",\"\",VLOOKUP(P66,所属コード!$A$2:$G$113,7,FALSE))","v":""},null,null,null,null,null,"四中工",null,"",null,null,null,null,null,null,null,null,null,null,null,null,null,null,null,null,null,null,null,null,null,null,null,0,0,0,0,0,0,0,0,0,0,0,0,0,0,"","","","","","","","0","0","00"]
[59,null,"233135",null,null,null,null,null,null,null,null,null,null,"00","","",{"$f":"IF(P67=\"\",\"\",VLOOKUP(P67,所属コード!$A$2:$E$113,2,FALSE))","v":""},{"$f":"IF(P67=\"\",\"\",VLOOKUP(P67,所属コード!$A$2:$G$113,7,FALSE))","v":""},null,null,null,null,null,"四日市西",null,"",null,null,null,null,null,null,null,null,null,null,null,null,null,null,null,null,null,null,null,null,null,null,null,0,0,0,0,0,0,0,0,0,0,0,0,0,0,"","","","","","","","0","0","00"]
[60,null,"233135",null,null,null,null,null,null,null,null,null,null,"00","","",{"$f":"IF(P68=\"\",\"\",VLOOKUP(P68,所属コード!$A$2:$E$113,2,FALSE))","v":""},{"$f":"IF(P68=\"\",\"\",VLOOKUP(P68,所属コード!$A$2:$G$113,7,FALSE))","v":""},null,null,null,null,null,"四日市農芸",null,"",null,null,null,null,null,null,null,null,null,null,null,null,null,null,null,null,null,null,null,null,null,null,null,0,0,0,0,0,0,0,0,0,0,0,0,0,0,"","","","","","","","0","0","00"]
[61,null,"233135",null,null,null,null,null,null,null,null,null,null,"00","","",{"$f":"IF(P69=\"\",\"\",VLOOKUP(P69,所属コード!$A$2:$E$113,2,FALSE))","v":""},{"$f":"IF(P69=\"\",\"\",VLOOKUP(P69,所属コード!$A$2:$G$113,7,FALSE))","v":""},null,null,null,null,null,"四日市南",null,"",null,null,null,null,null,null,null,null,null,null,null,null,null,null,null,null,null,null,null,null,null,null,null,0,0,0,0,0,0,0,0,0,0,0,0,0,0,"","","","","","","","0","0","00"]
[62,null,"233135",null,null,null,null,null,null,null,null,null,null,"00","","",{"$f":"IF(P70=\"\",\"\",VLOOKUP(P70,所属コード!$A$2:$E$113,2,FALSE))","v":""},{"$f":"IF(P70=\"\",\"\",VLOOKUP(P70,所属コード!$A$2:$G$113,7,FALSE))","v":""},null,null,null,null,null,"四日市四郷",null,"",null,null,null,null,null,null,null,null,null,null,null,null,null,null,null,null,null,null,null,null,null,null,null,0,0,0,0,0,0,0,0,0,0,0,0,0,0,"","","","","","","","0","0","00"]
[63,null,"233135",null,null,null,null,null,null,null,null,null,null,"00","","",{"$f":"IF(P71=\"\",\"\",VLOOKUP(P71,所属コード!$A$2:$E$113,2,FALSE))","v":""},{"$f":"IF(P71=\"\",\"\",VLOOKUP(P71,所属コード!$A$2:$G$113,7,FALSE))","v":""},null,null,null,null,null,"まなび",null,"",null,null,null,null,null,null,null,null,null,null,null,null,null,null,null,null,null,null,null,null,null,null,null,0,0,0,0,0,0,0,0,0,0,0,0,0,0,"","","","","","","","0","0","00"]
[64,null,"233135",null,null,null,null,null,null,null,null,null,null,"00","","",{"$f":"IF(P72=\"\",\"\",VLOOKUP(P72,所属コード!$A$2:$E$113,2,FALSE))","v":""},{"$f":"IF(P72=\"\",\"\",VLOOKUP(P72,所属コード!$A$2:$G$113,7,FALSE))","v":""},null,null,null,null,null,"大橋学園",null,"",null,null,null,null,null,null,null,null,null,null,null,null,null,null,null,null,null,null,null,null,null,null,null,0,0,0,0,0,0,0,0,0,0,0,0,0,0,"","","","","","","","0","0","00"]
[65,null,"233135",null,null,null,null,null,null,null,null,null,null,"00","","",{"$f":"IF(P73=\"\",\"\",VLOOKUP(P73,所属コード!$A$2:$E$113,2,FALSE))","v":""},{"$f":"IF(P73=\"\",\"\",VLOOKUP(P73,所属コード!$A$2:$G$113,7,FALSE))","v":""},null,null,null,null,null,"徳風",null,"",null,null,null,null,null,null,null,null,null,null,null,null,null,null,null,null,null,null,null,null,null,null,null,{"$f":"AG73","v":0},0,{"$f":"AK73","v":0},{"$f":"AJ73","v":0},0,0,0,0,0,0,0,0,0,0,"","","","","","","","0","0","00"]
[66,null,"233135",null,null,null,null,null,null,null,null,null,null,{"$f":"BU74","v":"00"},{"$f":"IF(J74=\"\",\"\",IF(J74=\"男\",1,2))","v":""},"",{"$f":"IF(P74=\"\",\"\",VLOOKUP(P74,所属コード!$A$2:$E$113,2,FALSE))","v":""},{"$f":"IF(P74=\"\",\"\",VLOOKUP(P74,所属コード!$A$2:$G$113,7,FALSE))","v":""},null,null,null,null,null,"北星",null,{"$f":"ASC(H74)","v":""},null,null,null,null,null,null,null,null,null,null,null,null,null,null,null,null,null,null,null,null,null,null,null,0,{"$f":"AB74","v":0},0,0,{"$f":"AT74","v":0},{"$f":"AT74","v":0},0,0,{"$f":"AP74","v":0},{"$f":"AP74","v":0},{"$f":"AK74","v":0},{"$f":"AR74","v":0},{"$f":"AG74","v":0},{"$f":"AG74","v":0},{"$f":"TRIM(G74)","v":""},{"$f":"IF(BL74=\"\",\"\",LEN(BL74))","v":""},{"$f":"IF(BL74=\"\",\"\",FIND(\"　\",BL74,1))","v":""},{"$f":"IF(BL74=\"\",\"\",BM74-BN74)","v":""},{"$f":"IF(BL74=\"\",\"\",LEFT(BL74,BN74-1))","v":""},{"$f":"IF(BL74=\"\",\"\",RIGHT(BL74,BO74))","v":""},{"$f":"IF(BL74=\"\",\"\",IF(BM74=4,CONCATENATE(BP74,\"　\",\"　\",BQ74),IF(BM74=6,CONCATENATE(BP74,BQ74),BL74)))","v":""},{"$f":"IF(L74<10,CONCATENATE(\"0\",L74),L74)","v":"0"},{"$f":"IF(M74<10,CONCATENATE(\"0\",M74),M74)","v":"0"},{"$f":"CONCATENATE(BS74,BT74)","v":"00"}]
[67,null,"233135",null,null,null,null,null,null,null,null,null,null,"00","",{"$f":"IF(G75=\"\",\"\",$P$9)","v":""},{"$f":"IF(P75=\"\",\"\",VLOOKUP(P75,所属コード!$A$2:$E$113,2,FALSE))","v":""},{"$f":"IF(P75=\"\",\"\",VLOOKUP(P75,所属コード!$A$2:$G$113,7,FALSE))","v":""},null,null,null,null,null,"松阪(通)",null,"",null,null,null,null,null,null,null,null,null,null,null,null,null,null,null,null,null,null,null,null,null,null,null,0,0,0,0,0,0,0,0,0,0,0,0,0,0,"","","","","","","","0","0","00"]
[68,null,"233135",null,null,null,null,null,null,null,null,null,null,"00","","",{"$f":"IF(P76=\"\",\"\",VLOOKUP(P76,所属コード!$A$2:$E$113,2,FALSE))","v":""},{"$f":"IF(P76=\"\",\"\",VLOOKUP(P76,所属コード!$A$2:$G$113,7,FALSE))","v":""},null,null,null,null,null,"みえ夢学園",null,"",null,null,null,null,null,null,null,null,null,null,null,null,null,null,null,null,null,null,null,null,null,null,null,0,0,0,0,0,0,0,0,0,0,0,0,0,0,"","","","","","","","0","0","00"]
[69,null,"233135",null,null,null,null,null,null,null,null,null,null,"00","","",{"$f":"IF(P77=\"\",\"\",VLOOKUP(P77,所属コード!$A$2:$E$113,2,FALSE))","v":""},{"$f":"IF(P77=\"\",\"\",VLOOKUP(P77,所属コード!$A$2:$G$113,7,FALSE))","v":""},null,null,null,null,null,"四工(定)",null,"",null,null,null,null,null,null,null,null,null,null,null,null,null,null,null,null,null,null,null,null,null,null,null,0,0,0,0,0,0,0,0,0,0,0,0,0,0,"","","","","","","","0","0","00"]
[70,null,"233135",null,null,null,null,null,null,null,null,null,null,"00","","",{"$f":"IF(P78=\"\",\"\",VLOOKUP(P78,所属コード!$A$2:$E$113,2,FALSE))","v":""},{"$f":"IF(P78=\"\",\"\",VLOOKUP(P78,所属コード!$A$2:$G$113,7,FALSE))","v":""},null,null,null,null,null,null,null,"",null,null,null,null,null,null,null,null,null,null,null,null,null,null,null,null,null,null,null,null,null,null,null,0,0,0,0,0,0,0,0,0,0,0,0,0,0,"","","","","","","","0","0","00"]
[71,null,"233135",null,null,null,null,null,null,null,null,null,null,"00","","",{"$f":"IF(P79=\"\",\"\",VLOOKUP(P79,所属コード!$A$2:$E$113,2,FALSE))","v":""},{"$f":"IF(P79=\"\",\"\",VLOOKUP(P79,所属コード!$A$2:$G$113,7,FALSE))","v":""},null,null,null,null,null,null,null,"",null,null,null,null,null,null,null,null,null,null,null,null,null,null,null,null,null,null,null,null,null,null,null,0,0,0,0,0,0,0,0,0,0,0,0,0,0,"","","","","","","","0","0","00"]
[72,null,"233135",null,null,null,null,null,null,null,null,null,null,"00","","",{"$f":"IF(P80=\"\",\"\",VLOOKUP(P80,所属コード!$A$2:$E$113,2,FALSE))","v":""},{"$f":"IF(P80=\"\",\"\",VLOOKUP(P80,所属コード!$A$2:$G$113,7,FALSE))","v":""},null,null,null,null,null,null,null,"",null,null,null,null,null,null,null,null,null,null,null,null,null,null,null,null,null,null,null,null,null,null,null,0,0,0,0,0,0,0,0,0,0,0,0,0,0,"","","","","","","","0","0","00"]
[73,null,null,null,null,null,null,null,null,null,null,null,null,"00","","",{"$f":"IF(P81=\"\",\"\",VLOOKUP(P81,所属コード!$A$2:$E$113,2,FALSE))","v":""},{"$f":"IF(P81=\"\",\"\",VLOOKUP(P81,所属コード!$A$2:$G$113,7,FALSE))","v":""},null,null,null,null,null,null,null,"",null,null,null,null,null,null,null,null,null,null,null,null,null,null,null,null,null,null,null,null,null,null,null,0,0,0,0,0,0,0,0,0,0,0,0,0,0,"","","","","","","","0","0","00"]
[74,null,null,null,null,null,null,null,null,null,null,null,null,"00","","",{"$f":"IF(P82=\"\",\"\",VLOOKUP(P82,所属コード!$A$2:$E$113,2,FALSE))","v":""},{"$f":"IF(P82=\"\",\"\",VLOOKUP(P82,所属コード!$A$2:$G$113,7,FALSE))","v":""},null,null,null,null,null,null,null,"",null,null,null,null,null,null,null,null,null,null,null,null,null,null,null,null,null,null,null,null,null,null,null,0,0,0,0,0,0,0,0,0,0,0,0,0,0,"","","","","","","","0","0","00"]
[75,null,null,null,null,null,null,null,null,null,null,null,null,"00","","",{"$f":"IF(P83=\"\",\"\",VLOOKUP(P83,所属コード!$A$2:$E$113,2,FALSE))","v":""},{"$f":"IF(P83=\"\",\"\",VLOOKUP(P83,所属コード!$A$2:$G$113,7,FALSE))","v":""},null,null,null,null,null,null,null,"",null,null,null,null,null,null,null,null,null,null,null,null,null,null,null,null,null,null,null,null,null,null,null,0,0,0,0,0,0,0,0,0,0,0,0,0,0,"","","","","","","","0","0","00"]
[76,null,null,null,null,null,null,null,null,null,null,null,null,"00","","",{"$f":"IF(P84=\"\",\"\",VLOOKUP(P84,所属コード!$A$2:$E$113,2,FALSE))","v":""},{"$f":"IF(P84=\"\",\"\",VLOOKUP(P84,所属コード!$A$2:$G$113,7,FALSE))","v":""},null,null,null,null,null,null,null,"",null,null,null,null,null,null,null,null,null,null,null,null,null,null,null,null,null,null,null,null,null,null,null,0,0,0,0,0,0,0,0,0,0,0,0,0,0,"","","","","","","","0","0","00"]
[77,null,null,null,null,null,null,null,null,null,null,null,null,"00","","",{"$f":"IF(P85=\"\",\"\",VLOOKUP(P85,所属コード!$A$2:$E$113,2,FALSE))","v":""},{"$f":"IF(P85=\"\",\"\",VLOOKUP(P85,所属コード!$A$2:$G$113,7,FALSE))","v":""},null,null,null,null,null,null,null,"",null,null,null,null,null,null,null,null,null,null,null,null,null,null,null,null,null,null,null,null,null,null,null,0,0,0,0,0,0,0,0,0,0,0,0,0,0,"","","","","","","","0","0","00"]
[78,null,null,null,null,null,null,null,null,null,null,null,null,"00","","",{"$f":"IF(P86=\"\",\"\",VLOOKUP(P86,所属コード!$A$2:$E$113,2,FALSE))","v":""},{"$f":"IF(P86=\"\",\"\",VLOOKUP(P86,所属コード!$A$2:$G$113,7,FALSE))","v":""},null,null,null,null,null,null,null,"",null,null,null,null,null,null,null,null,null,null,null,null,null,null,null,null,null,null,null,null,null,null,null,0,0,0,0,0,0,0,0,0,0,0,0,0,0,"","","","","","","","0","0","00"]
[79,null,null,null,null,null,null,null,null,null,null,null,null,"00","","",{"$f":"IF(P87=\"\",\"\",VLOOKUP(P87,所属コード!$A$2:$E$113,2,FALSE))","v":""},{"$f":"IF(P87=\"\",\"\",VLOOKUP(P87,所属コード!$A$2:$G$113,7,FALSE))","v":""},null,null,null,null,null,null,null,"",null,null,null,null,null,null,null,null,null,null,null,null,null,null,null,null,null,null,null,null,null,null,null,0,0,0,0,0,0,0,0,0,0,0,0,0,0,"","","","","","","","0","0","00"]
[80,null,null,null,null,null,null,null,null,null,null,null,null,"00","","",{"$f":"IF(P88=\"\",\"\",VLOOKUP(P88,所属コード!$A$2:$E$113,2,FALSE))","v":""},{"$f":"IF(P88=\"\",\"\",VLOOKUP(P88,所属コード!$A$2:$G$113,7,FALSE))","v":""},null,null,null,null,null,null,null,"",null,null,null,null,null,null,null,null,null,null,null,null,null,null,null,null,null,null,null,null,null,null,null,0,0,0,0,0,0,0,0,0,0,0,0,0,0,"","","","","","","","0","0","00"]
[81,null,null,null,null,null,null,null,null,null,null,null,null,"00","","",{"$f":"IF(P89=\"\",\"\",VLOOKUP(P89,所属コード!$A$2:$E$113,2,FALSE))","v":""},{"$f":"IF(P89=\"\",\"\",VLOOKUP(P89,所属コード!$A$2:$G$113,7,FALSE))","v":""},null,null,null,null,null,null,null,"",null,null,null,null,null,null,null,null,null,null,null,null,null,null,null,null,null,null,null,null,null,null,null,0,0,0,0,0,0,0,0,0,0,0,0,0,0,"","","","","","","","0","0","00"]
[82,null,null,null,null,null,null,null,null,null,null,null,null,"00","","",{"$f":"IF(P90=\"\",\"\",VLOOKUP(P90,所属コード!$A$2:$E$113,2,FALSE))","v":""},{"$f":"IF(P90=\"\",\"\",VLOOKUP(P90,所属コード!$A$2:$G$113,7,FALSE))","v":""},null,null,null,null,null,null,null,"",null,null,null,null,null,null,null,null,null,null,null,null,null,null,null,null,null,null,null,null,null,null,null,0,0,0,0,0,0,0,0,0,0,0,0,0,0,"","","","","","","","0","0","00"]
[83,null,null,null,null,null,null,null,null,null,null,null,null,"00","","",{"$f":"IF(P91=\"\",\"\",VLOOKUP(P91,所属コード!$A$2:$E$113,2,FALSE))","v":""},{"$f":"IF(P91=\"\",\"\",VLOOKUP(P91,所属コード!$A$2:$G$113,7,FALSE))","v":""},null,null,null,null,null,null,null,"",null,null,null,null,null,null,null,null,null,null,null,null,null,null,null,null,null,null,null,null,null,null,null,0,0,0,0,0,0,0,0,0,0,0,0,0,0,"","","","","","","","0","0","00"]
[84,null,null,null,null,null,null,null,null,null,null,null,null,"00","","",{"$f":"IF(P92=\"\",\"\",VLOOKUP(P92,所属コード!$A$2:$E$113,2,FALSE))","v":""},{"$f":"IF(P92=\"\",\"\",VLOOKUP(P92,所属コード!$A$2:$G$113,7,FALSE))","v":""},null,null,null,null,null,null,null,"",null,null,null,null,null,null,null,null,null,null,null,null,null,null,null,null,null,null,null,null,null,null,null,0,0,0,0,0,0,0,0,0,0,0,0,0,0,"","","","","","","","0","0","00"]
[85,null,null,null,null,null,null,null,null,null,null,null,null,"00","","",{"$f":"IF(P93=\"\",\"\",VLOOKUP(P93,所属コード!$A$2:$E$113,2,FALSE))","v":""},{"$f":"IF(P93=\"\",\"\",VLOOKUP(P93,所属コード!$A$2:$G$113,7,FALSE))","v":""},null,null,null,null,null,null,null,"",null,null,null,null,null,null,null,null,null,null,null,null,null,null,null,null,null,null,null,null,null,null,null,0,0,0,0,0,0,0,0,0,0,0,0,0,0,"","","","","","","","0","0","00"]
[86,null,null,null,null,null,null,null,null,null,null,null,null,"00","","",{"$f":"IF(P94=\"\",\"\",VLOOKUP(P94,所属コード!$A$2:$E$113,2,FALSE))","v":""},{"$f":"IF(P94=\"\",\"\",VLOOKUP(P94,所属コード!$A$2:$G$113,7,FALSE))","v":""},null,null,null,null,null,null,null,"",null,null,null,null,null,null,null,null,null,null,null,null,null,null,null,null,null,null,null,null,null,null,null,0,0,0,0,0,0,0,0,0,0,0,0,0,0,"","","","","","","","0","0","00"]
[87,null,null,null,null,null,null,null,null,null,null,null,null,"00","","",{"$f":"IF(P95=\"\",\"\",VLOOKUP(P95,所属コード!$A$2:$E$113,2,FALSE))","v":""},{"$f":"IF(P95=\"\",\"\",VLOOKUP(P95,所属コード!$A$2:$G$113,7,FALSE))","v":""},null,null,null,null,null,null,null,"",null,null,null,null,null,null,null,null,null,null,null,null,null,null,null,null,null,null,null,null,null,null,null,0,0,0,0,0,0,0,0,0,0,0,0,0,0,"","","","","","","","0","0","00"]
[88,null,null,null,null,null,null,null,null,null,null,null,null,"00","","",{"$f":"IF(P96=\"\",\"\",VLOOKUP(P96,所属コード!$A$2:$E$113,2,FALSE))","v":""},{"$f":"IF(P96=\"\",\"\",VLOOKUP(P96,所属コード!$A$2:$G$113,7,FALSE))","v":""},null,null,null,null,null,null,null,"",null,null,null,null,null,null,null,null,null,null,null,null,null,null,null,null,null,null,null,null,null,null,null,0,0,0,0,0,0,0,0,0,0,0,0,0,0,"","","","","","","","0","0","00"]
[89,null,null,null,null,null,null,null,null,null,null,null,null,"00","","",{"$f":"IF(P97=\"\",\"\",VLOOKUP(P97,所属コード!$A$2:$E$113,2,FALSE))","v":""},{"$f":"IF(P97=\"\",\"\",VLOOKUP(P97,所属コード!$A$2:$G$113,7,FALSE))","v":""},null,null,null,null,null,null,null,"",null,null,null,null,null,null,null,null,null,null,null,null,null,null,null,null,null,null,null,null,null,null,null,0,0,0,0,0,0,0,0,0,0,0,0,0,0,"","","","","","","","0","0","00"]
[90,null,null,null,null,null,null,null,null,null,null,null,null,"00","","",{"$f":"IF(P98=\"\",\"\",VLOOKUP(P98,所属コード!$A$2:$E$113,2,FALSE))","v":""},{"$f":"IF(P98=\"\",\"\",VLOOKUP(P98,所属コード!$A$2:$G$113,7,FALSE))","v":""},null,null,null,null,null,null,null,"",null,null,null,null,null,null,null,null,null,null,null,null,null,null,null,null,null,null,null,null,null,null,null,0,0,0,0,0,0,0,0,0,0,0,0,0,0,"","","","","","","","0","0","00"]
[91,null,null,null,null,null,null,null,null,null,null,null,null,"00","","",{"$f":"IF(P99=\"\",\"\",VLOOKUP(P99,所属コード!$A$2:$E$113,2,FALSE))","v":""},{"$f":"IF(P99=\"\",\"\",VLOOKUP(P99,所属コード!$A$2:$G$113,7,FALSE))","v":""},null,null,null,null,null,null,null,"",null,null,null,null,null,null,null,null,null,null,null,null,null,null,null,null,null,null,null,null,null,null,null,0,0,0,0,0,0,0,0,0,0,0,0,0,0,"","","","","","","","0","0","00"]
[92,null,null,null,null,null,null,null,null,null,null,null,null,"00","","",{"$f":"IF(P100=\"\",\"\",VLOOKUP(P100,所属コード!$A$2:$E$113,2,FALSE))","v":""},{"$f":"IF(P100=\"\",\"\",VLOOKUP(P100,所属コード!$A$2:$G$113,7,FALSE))","v":""},null,null,null,null,null,null,null,"",null,null,null,null,null,null,null,null,null,null,null,null,null,null,null,null,null,null,null,null,null,null,null,0,0,0,0,0,0,0,0,0,0,0,0,0,0,"","","","","","","","0","0","00"]
[93,null,null,null,null,null,null,null,null,null,null,null,null,"00","","",{"$f":"IF(P101=\"\",\"\",VLOOKUP(P101,所属コード!$A$2:$E$113,2,FALSE))","v":""},{"$f":"IF(P101=\"\",\"\",VLOOKUP(P101,所属コード!$A$2:$G$113,7,FALSE))","v":""},null,null,null,null,null,null,null,"",null,null,null,null,null,null,null,null,null,null,null,null,null,null,null,null,null,null,null,null,null,null,null,0,0,0,0,0,0,0,0,0,0,0,0,0,0,"","","","","","","","0","0","00"]
[94,null,null,null,null,null,null,null,null,null,null,null,null,"00","","",{"$f":"IF(P102=\"\",\"\",VLOOKUP(P102,所属コード!$A$2:$E$113,2,FALSE))","v":""},{"$f":"IF(P102=\"\",\"\",VLOOKUP(P102,所属コード!$A$2:$G$113,7,FALSE))","v":""},null,null,null,null,null,null,null,"",null,null,null,null,null,null,null,null,null,null,null,null,null,null,null,null,null,null,null,null,null,null,null,0,0,0,0,0,0,0,0,0,0,0,0,0,0,"","","","","","","","0","0","00"]
[95,null,null,null,null,null,null,null,null,null,null,null,null,"00","","",{"$f":"IF(P103=\"\",\"\",VLOOKUP(P103,所属コード!$A$2:$E$113,2,FALSE))","v":""},{"$f":"IF(P103=\"\",\"\",VLOOKUP(P103,所属コード!$A$2:$G$113,7,FALSE))","v":""},null,null,null,null,null,null,null,"",null,null,null,null,null,null,null,null,null,null,null,null,null,null,null,null,null,null,null,null,null,null,null,0,0,0,0,0,0,0,0,0,0,0,0,0,0,"","","","","","","","0","0","00"]
[96,null,null,null,null,null,null,null,null,null,null,null,null,"00","","",{"$f":"IF(P104=\"\",\"\",VLOOKUP(P104,所属コード!$A$2:$E$113,2,FALSE))","v":""},{"$f":"IF(P104=\"\",\"\",VLOOKUP(P104,所属コード!$A$2:$G$113,7,FALSE))","v":""},null,null,null,null,null,null,null,"",null,null,null,null,null,null,null,null,null,null,null,null,null,null,null,null,null,null,null,null,null,null,null,0,0,0,0,0,0,0,0,0,0,0,0,0,0,"","","","","","","","0","0","00"]
[97,null,null,null,null,null,null,null,null,null,null,null,null,"00","","",{"$f":"IF(P105=\"\",\"\",VLOOKUP(P105,所属コード!$A$2:$E$113,2,FALSE))","v":""},{"$f":"IF(P105=\"\",\"\",VLOOKUP(P105,所属コード!$A$2:$G$113,7,FALSE))","v":""},null,null,null,null,null,null,null,"",null,null,null,null,null,null,null,null,null,null,null,null,null,null,null,null,null,null,null,null,null,null,null,0,0,{"$f":"AK105","v":0},0,0,0,0,0,0,0,0,0,0,0,"","","","","","","","0","0","00"]
[98,null,null,null,null,null,null,null,null,null,null,null,null,"00","","",{"$f":"IF(P106=\"\",\"\",VLOOKUP(P106,所属コード!$A$2:$E$113,2,FALSE))","v":""},{"$f":"IF(P106=\"\",\"\",VLOOKUP(P106,所属コード!$A$2:$G$113,7,FALSE))","v":""},null,null,null,null,null,null,null,"",null,null,null,null,null,null,null,null,null,null,null,null,null,null,null,null,null,null,null,null,null,null,null,0,0,0,0,0,0,0,0,0,0,0,0,0,0,"","","","","","","","0","0","00"]
[99,null,null,null,null,null,null,null,null,null,null,null,null,"00","","",{"$f":"IF(P107=\"\",\"\",VLOOKUP(P107,所属コード!$A$2:$E$113,2,FALSE))","v":""},{"$f":"IF(P107=\"\",\"\",VLOOKUP(P107,所属コード!$A$2:$G$113,7,FALSE))","v":""},null,null,null,null,null,null,null,"",null,null,null,null,null,null,null,null,null,null,null,null,null,null,null,null,null,null,null,null,null,null,null,0,0,0,0,0,0,0,0,0,0,0,0,0,0,"","","","","","","","0","0","00"]
[100,null,null,null,null,null,null,null,null,null,null,null,null,"00","","",{"$f":"IF(P108=\"\",\"\",VLOOKUP(P108,所属コード!$A$2:$E$113,2,FALSE))","v":""},{"$f":"IF(P108=\"\",\"\",VLOOKUP(P108,所属コード!$A$2:$G$113,7,FALSE))","v":""},null,null,null,null,null,null,null,"",null,null,null,null,null,null,null,null,null,null,null,null,null,null,null,null,null,null,null,null,null,null,null,0,0,0,0,0,0,0,0,0,0,0,0,0,0,"","","","","","","","0","0","00"]
[101,null,null,null,null,null,null,null,null,null,null,null,null,"00","","",{"$f":"IF(P109=\"\",\"\",VLOOKUP(P109,所属コード!$A$2:$E$113,2,FALSE))","v":""},{"$f":"IF(P109=\"\",\"\",VLOOKUP(P109,所属コード!$A$2:$G$113,7,FALSE))","v":""},null,null,null,null,null,null,null,"",null,null,null,null,null,null,null,null,null,null,null,null,null,null,null,null,null,null,null,null,null,null,null,0,0,0,0,0,0,0,0,0,0,0,0,0,0,"","","","","","","","0","0","00"]
[102,null,null,null,null,null,null,null,null,null,null,null,null,"00","","",{"$f":"IF(P110=\"\",\"\",VLOOKUP(P110,所属コード!$A$2:$E$113,2,FALSE))","v":""},{"$f":"IF(P110=\"\",\"\",VLOOKUP(P110,所属コード!$A$2:$G$113,7,FALSE))","v":""},null,null,null,null,null,null,null,"",null,null,null,null,null,null,null,null,null,null,null,null,null,null,null,null,null,null,null,null,null,null,null,0,0,0,0,0,0,0,0,0,0,0,0,0,0,"","","","","","","","0","0","00"]
[103,null,null,null,null,null,null,null,null,null,null,null,null,"00","","",{"$f":"IF(P111=\"\",\"\",VLOOKUP(P111,所属コード!$A$2:$E$113,2,FALSE))","v":""},{"$f":"IF(P111=\"\",\"\",VLOOKUP(P111,所属コード!$A$2:$G$113,7,FALSE))","v":""},null,null,null,null,null,null,null,"",null,null,null,null,null,null,null,null,null,null,null,null,null,null,null,null,null,null,null,null,null,null,null,0,0,0,0,0,0,0,0,0,0,0,0,0,0,"","","","","","","","0","0","00"]
[104,null,null,null,null,null,null,null,null,null,null,null,null,"00","","",{"$f":"IF(P112=\"\",\"\",VLOOKUP(P112,所属コード!$A$2:$E$113,2,FALSE))","v":""},{"$f":"IF(P112=\"\",\"\",VLOOKUP(P112,所属コード!$A$2:$G$113,7,FALSE))","v":""},null,null,null,null,null,null,null,"",null,null,null,null,null,null,null,null,null,null,null,null,null,null,null,null,null,null,null,null,null,null,null,0,0,0,0,0,0,0,0,0,0,0,0,0,0,"","","","","","","","0","0","00"]
[105,null,null,null,null,null,null,null,null,null,null,null,null,"00","","",{"$f":"IF(P113=\"\",\"\",VLOOKUP(P113,所属コード!$A$2:$E$113,2,FALSE))","v":""},{"$f":"IF(P113=\"\",\"\",VLOOKUP(P113,所属コード!$A$2:$G$113,7,FALSE))","v":""},null,null,null,null,null,null,null,"",null,null,null,null,null,null,null,null,null,null,null,null,null,null,null,null,null,null,null,null,null,null,null,0,0,0,0,0,0,0,0,0,0,0,0,0,0,"","","","","","","","0","0","00"]
[106,null,null,null,null,null,null,null,null,null,null,null,null,"00","","",{"$f":"IF(P114=\"\",\"\",VLOOKUP(P114,所属コード!$A$2:$E$113,2,FALSE))","v":""},{"$f":"IF(P114=\"\",\"\",VLOOKUP(P114,所属コード!$A$2:$G$113,7,FALSE))","v":""},null,null,null,null,null,null,null,"",null,null,null,null,null,null,null,null,null,null,null,null,null,null,null,null,null,null,null,null,null,null,null,0,0,0,0,0,0,0,0,0,0,0,0,0,0,"","","","","","","","0","0","00"]
[107,null,null,null,null,null,null,null,null,null,null,null,null,"00","","",{"$f":"IF(P115=\"\",\"\",VLOOKUP(P115,所属コード!$A$2:$E$113,2,FALSE))","v":""},{"$f":"IF(P115=\"\",\"\",VLOOKUP(P115,所属コード!$A$2:$G$113,7,FALSE))","v":""},null,null,null,null,null,null,null,"",null,null,null,null,null,null,null,null,null,null,null,null,null,null,null,null,null,null,null,null,null,null,null,0,0,0,0,0,0,0,0,0,0,0,0,0,0,"","","","","","","","0","0","00"]
[108,null,null,null,null,null,null,null,null,null,null,null,null,"00","","",{"$f":"IF(P116=\"\",\"\",VLOOKUP(P116,所属コード!$A$2:$E$113,2,FALSE))","v":""},{"$f":"IF(P116=\"\",\"\",VLOOKUP(P116,所属コード!$A$2:$G$113,7,FALSE))","v":""},null,null,null,null,null,null,null,"",null,null,null,null,null,null,null,null,null,null,null,null,null,null,null,null,null,null,null,null,null,null,null,0,0,0,0,0,0,0,0,0,0,0,0,0,0,"","","","","","","","0","0","00"]
[109,null,null,null,null,null,null,null,null,null,null,null,null,"00","","",{"$f":"IF(P117=\"\",\"\",VLOOKUP(P117,所属コード!$A$2:$E$113,2,FALSE))","v":""},{"$f":"IF(P117=\"\",\"\",VLOOKUP(P117,所属コード!$A$2:$G$113,7,FALSE))","v":""},null,null,null,null,null,null,null,"",null,null,null,null,null,null,null,null,null,null,null,null,null,null,null,null,null,null,null,null,null,null,null,0,0,0,0,0,0,0,0,0,0,0,0,0,0,"","","","","","","","0","0","00"]
[110,null,null,null,null,null,null,null,null,null,null,null,null,"00","","",{"$f":"IF(P118=\"\",\"\",VLOOKUP(P118,所属コード!$A$2:$E$113,2,FALSE))","v":""},{"$f":"IF(P118=\"\",\"\",VLOOKUP(P118,所属コード!$A$2:$G$113,7,FALSE))","v":""},null,null,null,null,null,null,null,"",null,null,null,null,null,null,null,null,null,null,null,null,null,null,null,null,null,null,null,null,null,null,null,0,0,0,0,0,0,0,0,0,0,0,0,0,0,"","","","","","","","0","0","00"]

{"sheet":"名簿","index":4,"n_rows":118,"n_cols":73,"rows_kept":118,"cut":false,"hidden":false,"merged":[[6,57,6,58],[6,17,7,17],[6,8,7,8],[6,9,7,9],[6,10,6,12],[1,12,1,14],[1,8,2,11],[6,0,7,0],[8,24,57,24],[4,4,4,6],[4,8,4,12],[6,5,7,5],[6,4,7,4],[6,15,7,15],[6,16,7,16],[6,6,7,6],[6,7,7,7]]}
["入力上の注意"]
[null,"①顧問名・連絡先は必ず入力のこと",null,null,null,null,null,null,"定時制通信制より"]
[null,"②選手の一行目は必ず入力して下さい。全てに反映されません。"]
[null,"白枠の部分のみ高体連への登録様式よりコピーして貼り付けて下さい"]
["顧問名",null,null,null,null,null,null,"緊急連絡先(携帯)"]
[]
[null,"登録月日",null,null,"登録ＮＯ","登録の種類","名　前","フリガナ(全角)","学年","性別","生年月日",null,null,null,null,"学校名","学校番号","所属地",null,null,null,null,null,null,null,null,"男","公認記録記載欄(随時記録が更新された場合は、変更入力して下さい。全ての申し込みに反映されます。",null,null,null,null,null,null,null,null,null,null,null,null,null,null,null,null,null,null,null,null,null,null,null,null,null,null,null,null,null,"走高跳の記録(予想)"]
[null,"(○／○○）",null,"陸連ID",null,null,null,null,null,null,"年(西暦）","月","日",null,null,null,null,null,null,null,null,null,null,null,null,null,"女","100m","200m","400m","800m","1500m","3000m","5000m","10000m","110mH","100mH","400mH","3000mSC","3000mW","5000mW","走高跳","棒高跳","走幅跳","三段跳","砲丸投","円盤投","ハンマー投","やり投","少年3000m","少年B100m","少年B100mYH","110mJH","少年砲丸投","少年B砲丸投","少年円盤投","少年ハンマー投","八種競技","七種競技","100mYH","少年B走幅跳","少年3000m","女子5ｋ","TRIM","数","空","名","姓","名"]
[1,null,"233118",null,null,null,null,null,null,null,null,null,null,{"$f":"BW9","v":0},{"$f":"IF(J9=\"\",\"\",IF(J9=\"男\",1,2))","v":""},null,{"$f":"IF(P9=\"\",\"\",VLOOKUP(P9,所属コード!$A$2:$E$113,2,FALSE))","v":""},{"$f":"IF(P9=\"\",\"\",VLOOKUP(P9,所属コード!$A$2:$G$113,7,FALSE))","v":""},null,null,null,null,23,"暁",null,{"$f":"ASC(H9)","v":""},null,null,null,null,null,null,null,null,null,null,null,null,null,null,null,null,null,null,null,null,null,null,null,{"$f":"AG9","v":0},{"$f":"AB9","v":0},{"$f":"AK9","v":0},{"$f":"AJ9","v":0},{"$f":"AT9","v":0},{"$f":"AT9","v":0},{"$f":"AU9","v":0},{"$f":"AV9","v":0},{"$f":"AP9","v":0},{"$f":"AP9","v":0},{"$f":"AK9","v":0},{"$f":"AB9","v":0},{"$f":"AH9","v":0},{"$f":"AG9","v":0},{"$f":"TRIM(G9)","v":""},{"$f":"IF(BL9=\"\",\"\",LEN(BL9))","v":""},{"$f":"IF(BL9=\"\",\"\",FIND(\"　\",BL9,1))","v":""},{"$f":"IF(BL9=\"\",\"\",BM9-BN9)","v":""},{"$f":"IF(BL9=\"\",\"\",LEFT(BL9,BN9-1))","v":""},{"$f":"IF(BL9=\"\",\"\",RIGHT(BL9,BO9))","v":""},{"$f":"IF(BL9=\"\",\"\",IF(BM9=4,CONCATENATE(BP9,\"　\",\"　\",BQ9),IF(BM9=6,CONCATENATE(BP9,BQ9),BL9)))","v":""},{"$f":"IF(L9<10,CONCATENATE(\"0\",L9),L9)","v":"0"},{"$f":"IF(M9<10,CONCATENATE(\"0\",M9),M9)","v":"0"},{"$f":"CONCATENATE(BS9,BT9)","v":"00"}]
[2,null,"233118",null,null,null,null,null,null,null,null,null,null,{"$f":"BW10","v":0},"",{"$f":"IF(G10=\"\",\"\",$P$9)","v":""},{"$f":"IF(P10=\"\",\"\",VLOOKUP(P10,所属コード!$A$2:$E$113,2,FALSE))","v":""},{"$f":"IF(P10=\"\",\"\",VLOOKUP(P10,所属コード!$A$2:$G$113,7,FALSE))","v":""},null,null,null,null,null,"明野",null,{"$f":"ASC(H10)","v":""},null,null,null,null,null,null,null,null,null,null,null,null,null,null,null,null,null,null,null,null,null,null,null,{"$f":"AG10","v":0},{"$f":"AB10","v":0},{"$f":"AK10","v":0},{"$f":"AJ10","v":0},{"$f":"AT10","v":0},{"$f":"AT10","v":0},{"$f":"AU10","v":0},{"$f":"AV10","v":0},{"$f":"AP10","v":0},{"$f":"AP10","v":0},{"$f":"AK10","v":0},{"$f":"AB10","v":0},{"$f":"AH10","v":0},{"$f":"AG10","v":0},{"$f":"TRIM(G10)","v":""},{"$f":"IF(BL10=\"\",\"\",LEN(BL10))","v":""},{"$f":"IF(BL10=\"\",\"\",FIND(\"　\",BL10,1))","v":""},{"$f":"IF(BL10=\"\",\"\",BM10-BN10)","v":""},{"$f":"IF(BL10=\"\",\"\",LEFT(BL10,BN10-1))","v":""},{"$f":"IF(BL10=\"\",\"\",RIGHT(BL10,BO10))","v":""},{"$f":"IF(BL10=\"\",\"\",IF(BM10=4,CONCATENATE(BP10,\"　\",\"　\",BQ10),IF(BM10=6,CONCATENATE(BP10,BQ10),BL10)))","v":""},{"$f":"IF(L10<10,CONCATENATE(\"0\",L10),L10)","v":"0"},{"$f":"IF(M10<10,CONCATENATE(\"0\",M10),M10)","v":"0"},{"$f":"CONCATENATE(BS10,BT10)","v":"00"}]
[3,null,"233118",null,null,null,null,null,null,null,null,null,null,0,"",{"$f":"IF(G11=\"\",\"\",$P$9)","v":""},{"$f":"IF(P11=\"\",\"\",VLOOKUP(P11,所属コード!$A$2:$E$113,2,FALSE))","v":""},{"$f":"IF(P11=\"\",\"\",VLOOKUP(P11,所属コード!$A$2:$G$113,7,FALSE))","v":""},null,null,null,null,null,"朝明",null,"",null,null,null,null,null,null,null,null,null,null,null,null,null,null,null,null,null,null,null,null,null,null,null,0,0,0,0,0,0,0,0,0,0,0,0,0,0,"","","","","","","","0","0","00"]
[4,null,"233118",null,null,null,null,null,null,null,null,null,null,0,"","",{"$f":"IF(P12=\"\",\"\",VLOOKUP(P12,所属コード!$A$2:$E$113,2,FALSE))","v":""},{"$f":"IF(P12=\"\",\"\",VLOOKUP(P12,所属コード!$A$2:$G$113,7,FALSE))","v":""},null,null,null,null,null,"飯南",null,"",null,null,null,null,null,null,null,null,null,null,null,null,null,null,null,null,null,null,null,null,null,null,null,0,0,0,0,0,0,0,0,0,0,0,0,0,0,"","","","","","","","0","0","00"]
[5,null,"233118",null,null,null,null,null,null,null,null,null,null,0,"","",{"$f":"IF(P13=\"\",\"\",VLOOKUP(P13,所属コード!$A$2:$E$113,2,FALSE))","v":""},{"$f":"IF(P13=\"\",\"\",VLOOKUP(P13,所属コード!$A$2:$G$113,7,FALSE))","v":""},null,null,null,null,null,"伊賀白鳳",null,"",null,null,null,null,null,null,null,null,null,null,null,null,null,null,null,null,null,null,null,null,null,null,null,0,0,0,0,0,0,0,0,0,0,0,0,0,0,"","","","","","","","0","0","00"]
[6,null,"233118",null,null,null,null,null,null,null,null,null,null,0,"","",{"$f":"IF(P14=\"\",\"\",VLOOKUP(P14,所属コード!$A$2:$E$113,2,FALSE))","v":""},{"$f":"IF(P14=\"\",\"\",VLOOKUP(P14,所属コード!$A$2:$G$113,7,FALSE))","v":""},null,null,null,null,null,"石薬師",null,"",null,null,null,null,null,null,null,null,null,null,null,null,null,null,null,null,null,null,null,null,null,null,null,0,0,0,0,0,0,0,0,0,0,0,0,0,0,"","","","","","","","0","0","00"]
[7,null,"233118",null,null,null,null,null,null,null,null,null,null,0,"","",{"$f":"IF(P15=\"\",\"\",VLOOKUP(P15,所属コード!$A$2:$E$113,2,FALSE))","v":""},{"$f":"IF(P15=\"\",\"\",VLOOKUP(P15,所属コード!$A$2:$G$113,7,FALSE))","v":""},null,null,null,null,null,"伊勢",null,"",null,null,null,null,null,null,null,null,null,null,null,null,null,null,null,null,null,null,null,null,null,null,null,0,0,0,0,0,0,0,0,0,0,0,0,0,0,"","","","","","","","0","0","00"]
[8,null,"233118",null,null,null,null,null,null,null,null,null,null,0,"","",{"$f":"IF(P16=\"\",\"\",VLOOKUP(P16,所属コード!$A$2:$E$113,2,FALSE))","v":""},{"$f":"IF(P16=\"\",\"\",VLOOKUP(P16,所属コード!$A$2:$G$113,7,FALSE))","v":""},null,null,null,null,null,"伊勢学園",null,"",null,null,null,null,null,null,null,null,null,null,null,null,null,null,null,null,null,null,null,null,null,null,null,0,0,0,0,0,0,0,0,0,0,0,0,0,0,"","","","","","","","0","0","00"]
[9,null,"233118",null,null,null,null,null,null,null,null,null,null,0,"","",{"$f":"IF(P17=\"\",\"\",VLOOKUP(P17,所属コード!$A$2:$E$113,2,FALSE))","v":""},{"$f":"IF(P17=\"\",\"\",VLOOKUP(P17,所属コード!$A$2:$G$113,7,FALSE))","v":""},null,null,null,null,null,"伊勢工",null,"",null,null,null,null,null,null,null,null,null,null,null,null,null,null,null,null,null,null,null,null,null,null,null,0,0,0,0,0,0,0,0,0,0,0,0,0,0,"","","","","","","","0","0","00"]
[10,null,"233118",null,null,null,null,null,null,null,null,null,null,0,"","",{"$f":"IF(P18=\"\",\"\",VLOOKUP(P18,所属コード!$A$2:$E$113,2,FALSE))","v":""},{"$f":"IF(P18=\"\",\"\",VLOOKUP(P18,所属コード!$A$2:$G$113,7,FALSE))","v":""},null,null,null,null,null,"いなべ総合",null,"",null,null,null,null,null,null,null,null,null,null,null,null,null,null,null,null,null,null,null,null,null,null,null,0,0,0,0,0,0,0,0,0,0,0,0,0,0,"","","","","","","","0","0","00"]
[11,null,"233118",null,null,null,null,null,null,null,null,null,null,0,"","",{"$f":"IF(P19=\"\",\"\",VLOOKUP(P19,所属コード!$A$2:$E$113,2,FALSE))","v":""},{"$f":"IF(P19=\"\",\"\",VLOOKUP(P19,所属コード!$A$2:$G$113,7,FALSE))","v":""},null,null,null,null,null,"稲生",null,"",null,null,null,null,null,null,null,null,null,null,null,null,null,null,null,null,null,null,null,null,null,null,null,0,0,0,0,0,0,0,0,0,0,0,0,0,0,"","","","","","","","0","0","00"]
[12,null,"233118",null,null,null,null,null,null,null,null,null,null,0,"","",{"$f":"IF(P20=\"\",\"\",VLOOKUP(P20,所属コード!$A$2:$E$113,2,FALSE))","v":""},{"$f":"IF(P20=\"\",\"\",VLOOKUP(P20,所属コード!$A$2:$G$113,7,FALSE))","v":""},null,null,null,null,null,"上野",null,"",null,null,null,null,null,null,null,null,null,null,null,null,null,null,null,null,null,null,null,null,null,null,null,0,0,0,0,0,0,0,0,0,0,0,0,0,0,"","","","","","","","0","0","00"]
[13,null,"233118",null,null,null,null,null,null,null,null,null,null,0,"","",{"$f":"IF(P21=\"\",\"\",VLOOKUP(P21,所属コード!$A$2:$E$113,2,FALSE))","v":""},{"$f":"IF(P21=\"\",\"\",VLOOKUP(P21,所属コード!$A$2:$G$113,7,FALSE))","v":""},null,null,null,null,null,"宇治山田",null,"",null,null,null,null,null,null,null,null,null,null,null,null,null,null,null,null,null,null,null,null,null,null,null,0,0,0,0,0,0,0,0,0,0,0,0,0,0,"","","","","","","","0","0","00"]
[14,null,"233118",null,null,null,null,null,null,null,null,null,null,0,"","",{"$f":"IF(P22=\"\",\"\",VLOOKUP(P22,所属コード!$A$2:$E$113,2,FALSE))","v":""},{"$f":"IF(P22=\"\",\"\",VLOOKUP(P22,所属コード!$A$2:$G$113,7,FALSE))","v":""},null,null,null,null,null,"宇治山田商",null,"",null,null,null,null,null,null,null,null,null,null,null,null,null,null,null,null,null,null,null,null,null,null,null,0,0,0,0,0,0,0,0,0,0,0,0,0,0,"","","","","","","","0","0","00"]
[15,null,"233118",null,null,null,null,null,null,null,null,null,null,0,"","",{"$f":"IF(P23=\"\",\"\",VLOOKUP(P23,所属コード!$A$2:$E$113,2,FALSE))","v":""},{"$f":"IF(P23=\"\",\"\",VLOOKUP(P23,所属コード!$A$2:$G$113,7,FALSE))","v":""},null,null,null,null,null,"相可",null,"",null,null,null,null,null,null,null,null,null,null,null,null,null,null,null,null,null,null,null,null,null,null,null,0,0,0,0,0,0,0,0,0,0,0,0,0,0,"","","","","","","","0","0","00"]
[16,null,"233118",null,null,null,null,null,null,null,null,null,null,0,"","",{"$f":"IF(P24=\"\",\"\",VLOOKUP(P24,所属コード!$A$2:$E$113,2,FALSE))","v":""},{"$f":"IF(P24=\"\",\"\",VLOOKUP(P24,所属コード!$A$2:$G$113,7,FALSE))","v":""},null,null,null,null,null,"尾鷲",null,"",null,null,null,null,null,null,null,null,null,null,null,null,null,null,null,null,null,null,null,null,null,null,null,0,0,0,0,0,0,0,0,0,0,0,0,0,0,"","","","","","","","0","0","00"]
[17,null,"233118",null,null,null,null,null,null,null,null,null,null,0,"","",{"$f":"IF(P25=\"\",\"\",VLOOKUP(P25,所属コード!$A$2:$E$113,2,FALSE))","v":""},{"$f":"IF(P25=\"\",\"\",VLOOKUP(P25,所属コード!$A$2:$G$113,7,FALSE))","v":""},null,null,null,null,null,"海星",null,"",null,null,null,null,null,null,null,null,null,null,null,null,null,null,null,null,null,null,null,null,null,null,null,0,0,0,0,0,0,0,0,0,0,0,0,0,0,"","","","","","","","0","0","00"]
[18,null,"233118",null,null,null,null,null,null,null,null,null,null,0,"","",{"$f":"IF(P26=\"\",\"\",VLOOKUP(P26,所属コード!$A$2:$E$113,2,FALSE))","v":""},{"$f":"IF(P26=\"\",\"\",VLOOKUP(P26,所属コード!$A$2:$G$113,7,FALSE))","v":""},null,null,null,null,null,"亀山",null,"",null,null,null,null,null,null,null,null,null,null,null,null,null,null,null,null,null,null,null,null,null,null,null,0,0,0,0,0,0,0,0,0,0,0,0,0,0,"","","","","","","","0","0","00"]
[19,null,"233118",null,null,null,null,null,null,null,null,null,null,0,"","",{"$f":"IF(P27=\"\",\"\",VLOOKUP(P27,所属コード!$A$2:$E$113,2,FALSE))","v":""},{"$f":"IF(P27=\"\",\"\",VLOOKUP(P27,所属コード!$A$2:$G$113,7,FALSE))","v":""},null,null,null,null,null,"川越",null,"",null,null,null,null,null,null,null,null,null,null,null,null,null,null,null,null,null,null,null,null,null,null,null,0,0,0,0,0,0,0,0,0,0,0,0,0,0,"","","","","","","","0","0","00"]
[20,null,"233118",null,null,null,null,null,null,null,null,null,null,0,"","",{"$f":"IF(P28=\"\",\"\",VLOOKUP(P28,所属コード!$A$2:$E$113,2,FALSE))","v":""},{"$f":"IF(P28=\"\",\"\",VLOOKUP(P28,所属コード!$A$2:$G$113,7,FALSE))","v":""},null,null,null,null,null,"神戸",null,"",null,null,null,null,null,null,null,null,null,null,null,null,null,null,null,null,null,null,null,null,null,null,null,0,0,0,0,0,0,0,0,0,0,0,0,0,0,"","","","","","","","0","0","00"]
[21,null,"233118",null,null,null,null,null,null,null,null,null,null,0,"","",{"$f":"IF(P29=\"\",\"\",VLOOKUP(P29,所属コード!$A$2:$E$113,2,FALSE))","v":""},{"$f":"IF(P29=\"\",\"\",VLOOKUP(P29,所属コード!$A$2:$G$113,7,FALSE))","v":""},null,null,null,null,null,"紀南",null,"",null,null,null,null,null,null,null,null,null,null,null,null,null,null,null,null,null,null,null,null,null,null,null,0,0,0,0,0,0,0,0,0,0,0,0,0,0,"","","","","","","","0","0","00"]
[22,null,"233118",null,null,null,null,null,null,null,null,null,null,0,"","",{"$f":"IF(P30=\"\",\"\",VLOOKUP(P30,所属コード!$A$2:$E$113,2,FALSE))","v":""},{"$f":"IF(P30=\"\",\"\",VLOOKUP(P30,所属コード!$A$2:$G$113,7,FALSE))","v":""},null,null,null,null,null,"木本",null,"",null,null,null,null,null,null,null,null,null,null,null,null,null,null,null,null,null,null,null,null,null,null,null,0,0,0,0,0,0,0,0,0,0,0,0,0,0,"","","","","","","","0","0","00"]
[23,null,"233118",null,null,null,null,null,null,null,null,null,null,0,"","",{"$f":"IF(P31=\"\",\"\",VLOOKUP(P31,所属コード!$A$2:$E$113,2,FALSE))","v":""},{"$f":"IF(P31=\"\",\"\",VLOOKUP(P31,所属コード!$A$2:$G$113,7,FALSE))","v":""},null,null,null,null,null,"近大高専",null,"",null,null,null,null,null,null,null,null,null,null,null,null,null,null,null,null,null,null,null,null,null,null,null,0,0,0,0,0,0,0,0,0,0,0,0,0,0,"","","","","","","","0","0","00"]
[24,null,"233118",null,null,null,null,null,null,null,null,null,null,0,"","",{"$f":"IF(P32=\"\",\"\",VLOOKUP(P32,所属コード!$A$2:$E$113,2,FALSE))","v":""},{"$f":"IF(P32=\"\",\"\",VLOOKUP(P32,所属コード!$A$2:$G$113,7,FALSE))","v":""},null,null,null,null,null,"桑名",null,"",null,null,null,null,null,null,null,null,null,null,null,null,null,null,null,null,null,null,null,null,null,null,null,0,0,0,0,0,0,0,0,0,0,0,0,0,0,"","","","","","","","0","0","00"]
[25,null,"233118",null,null,null,null,null,null,null,null,null,null,0,"","",{"$f":"IF(P33=\"\",\"\",VLOOKUP(P33,所属コード!$A$2:$E$113,2,FALSE))","v":""},{"$f":"IF(P33=\"\",\"\",VLOOKUP(P33,所属コード!$A$2:$G$113,7,FALSE))","v":""},null,null,null,null,null,"桑名北",null,"",null,null,null,null,null,null,null,null,null,null,null,null,null,null,null,null,null,null,null,null,null,null,null,0,0,0,0,0,0,0,0,0,0,0,0,0,0,"","","","","","","","0","0","00"]
[26,null,"233118",null,null,null,null,null,null,null,null,null,null,0,"","",{"$f":"IF(P34=\"\",\"\",VLOOKUP(P34,所属コード!$A$2:$E$113,2,FALSE))","v":""},{"$f":"IF(P34=\"\",\"\",VLOOKUP(P34,所属コード!$A$2:$G$113,7,FALSE))","v":""},null,null,null,null,null,"桑名工",null,"",null,null,null,null,null,null,null,null,null,null,null,null,null,null,null,null,null,null,null,null,null,null,null,0,0,0,0,0,0,0,0,0,0,0,0,0,0,"","","","","","","","0","0","00"]
[27,null,"233118",null,null,null,null,null,null,null,null,null,null,0,"","",{"$f":"IF(P35=\"\",\"\",VLOOKUP(P35,所属コード!$A$2:$E$113,2,FALSE))","v":""},{"$f":"IF(P35=\"\",\"\",VLOOKUP(P35,所属コード!$A$2:$G$113,7,FALSE))","v":""},null,null,null,null,null,"桑名西",null,"",null,null,null,null,null,null,null,null,null,null,null,null,null,null,null,null,null,null,null,null,null,null,null,0,0,0,0,0,0,0,0,0,0,0,0,0,0,"","","","","","","","0","0","00"]
[28,null,"233118",null,null,null,null,null,null,null,null,null,null,0,"","",{"$f":"IF(P36=\"\",\"\",VLOOKUP(P36,所属コード!$A$2:$E$113,2,FALSE))","v":""},{"$f":"IF(P36=\"\",\"\",VLOOKUP(P36,所属コード!$A$2:$G$113,7,FALSE))","v":""},null,null,null,null,null,"皇學館",null,"",null,null,null,null,null,null,null,null,null,null,null,null,null,null,null,null,null,null,null,null,null,null,null,0,0,0,0,0,0,0,0,0,0,0,0,0,0,"","","","","","","","0","0","00"]
[29,null,"233118",null,null,null,null,null,null,null,null,null,null,0,"","",{"$f":"IF(P37=\"\",\"\",VLOOKUP(P37,所属コード!$A$2:$E$113,2,FALSE))","v":""},{"$f":"IF(P37=\"\",\"\",VLOOKUP(P37,所属コード!$A$2:$G$113,7,FALSE))","v":""},null,null,null,null,null,"菰野",null,"",null,null,null,null,null,null,null,null,null,null,null,null,null,null,null,null,null,null,null,null,null,null,null,0,0,0,0,0,0,0,0,0,0,0,0,0,0,"","","","","","","","0","0","00"]
[30,null,"233118",null,null,null,null,null,null,null,null,null,null,0,"","",{"$f":"IF(P38=\"\",\"\",VLOOKUP(P38,所属コード!$A$2:$E$113,2,FALSE))","v":""},{"$f":"IF(P38=\"\",\"\",VLOOKUP(P38,所属コード!$A$2:$G$113,7,FALSE))","v":""},null,null,null,null,null,"桜丘",null,"",null,null,null,null,null,null,null,null,null,null,null,null,null,null,null,null,null,null,null,null,null,null,null,0,0,0,0,0,0,0,0,0,0,0,0,0,0,"","","","","","","","0","0","00"]
[31,null,"233118",null,null,null,null,null,null,null,null,null,null,0,"","",{"$f":"IF(P39=\"\",\"\",VLOOKUP(P39,所属コード!$A$2:$E$113,2,FALSE))","v":""},{"$f":"IF(P39=\"\",\"\",VLOOKUP(P39,所属コード!$A$2:$G$113,7,FALSE))","v":""},null,null,null,null,null,"志摩",null,"",null,null,null,null,null,null,null,null,null,null,null,null,null,null,null,null,null,null,null,null,null,null,null,0,0,0,0,0,0,0,0,0,0,0,0,0,0,"","","","","","","","0","0","00"]
[32,null,"233118",null,null,null,null,null,null,null,null,null,null,0,"","",{"$f":"IF(P40=\"\",\"\",VLOOKUP(P40,所属コード!$A$2:$E$113,2,FALSE))","v":""},{"$f":"IF(P40=\"\",\"\",VLOOKUP(P40,所属コード!$A$2:$G$113,7,FALSE))","v":""},null,null,null,null,null,"白子",null,"",null,null,null,null,null,null,null,null,null,null,null,null,null,null,null,null,null,null,null,null,null,null,null,0,0,0,0,0,0,0,0,0,0,0,0,0,0,"","","","","","","","0","0","00"]
[33,null,"233118",null,null,null,null,null,null,null,null,null,null,0,"","",{"$f":"IF(P41=\"\",\"\",VLOOKUP(P41,所属コード!$A$2:$E$113,2,FALSE))","v":""},{"$f":"IF(P41=\"\",\"\",VLOOKUP(P41,所属コード!$A$2:$G$113,7,FALSE))","v":""},null,null,null,null,null,"鈴鹿",null,"",null,null,null,null,null,null,null,null,null,null,null,null,null,null,null,null,null,null,null,null,null,null,null,0,0,0,0,0,0,0,0,0,0,0,0,0,0,"","","","","","","","0","0","00"]
[34,null,"233118",null,null,null,null,null,null,null,null,null,null,0,"","",{"$f":"IF(P42=\"\",\"\",VLOOKUP(P42,所属コード!$A$2:$E$113,2,FALSE))","v":""},{"$f":"IF(P42=\"\",\"\",VLOOKUP(P42,所属コード!$A$2:$G$113,7,FALSE))","v":""},null,null,null,null,null,"鈴鹿高専",null,"",null,null,null,null,null,null,null,null,null,null,null,null,null,null,null,null,null,null,null,null,null,null,null,0,0,0,0,0,0,0,0,0,0,0,0,0,0,"","","","","","","","0","0","00"]
[35,null,"233118",null,null,null,null,null,null,null,null,null,null,0,"","",{"$f":"IF(P43=\"\",\"\",VLOOKUP(P43,所属コード!$A$2:$E$113,2,FALSE))","v":""},{"$f":"IF(P43=\"\",\"\",VLOOKUP(P43,所属コード!$A$2:$G$113,7,FALSE))","v":""},null,null,null,null,null,"セントヨゼフ",null,"",null,null,null,null,null,null,null,null,null,null,null,null,null,null,null,null,null,null,null,null,null,null,null,0,0,0,0,0,0,0,0,0,0,0,0,0,0,"","","","","","","","0","0","00"]
[36,null,"233118",null,null,null,null,null,null,null,null,null,null,0,"","",{"$f":"IF(P44=\"\",\"\",VLOOKUP(P44,所属コード!$A$2:$E$113,2,FALSE))","v":""},{"$f":"IF(P44=\"\",\"\",VLOOKUP(P44,所属コード!$A$2:$G$113,7,FALSE))","v":""},null,null,null,null,null,"高田",null,"",null,null,null,null,null,null,null,null,null,null,null,null,null,null,null,null,null,null,null,null,null,null,null,0,0,0,0,0,0,0,0,0,0,0,0,0,0,"","","","","","","","0","0","00"]
[37,null,"233118",null,null,null,null,null,null,null,null,null,null,0,"","",{"$f":"IF(P45=\"\",\"\",VLOOKUP(P45,所属コード!$A$2:$E$113,2,FALSE))","v":""},{"$f":"IF(P45=\"\",\"\",VLOOKUP(P45,所属コード!$A$2:$G$113,7,FALSE))","v":""},null,null,null,null,null,"津",null,"",null,null,null,null,null,null,null,null,null,null,null,null,null,null,null,null,null,null,null,null,null,null,null,0,0,0,0,0,0,0,0,0,0,0,0,0,0,"","","","","","","","0","0","00"]
[38,null,"233118",null,null,null,null,null,null,null,null,null,null,0,"","",{"$f":"IF(P46=\"\",\"\",VLOOKUP(P46,所属コード!$A$2:$E$113,2,FALSE))","v":""},{"$f":"IF(P46=\"\",\"\",VLOOKUP(P46,所属コード!$A$2:$G$113,7,FALSE))","v":""},null,null,null,null,null,"津工",null,"",null,null,null,null,null,null,null,null,null,null,null,null,null,null,null,null,null,null,null,null,null,null,null,0,0,0,0,0,0,0,0,0,0,0,0,0,0,"","","","","","","","0","0","00"]
[39,null,"233118",null,null,null,null,null,null,null,null,null,null,0,"","",{"$f":"IF(P47=\"\",\"\",VLOOKUP(P47,所属コード!$A$2:$E$113,2,FALSE))","v":""},{"$f":"IF(P47=\"\",\"\",VLOOKUP(P47,所属コード!$A$2:$G$113,7,FALSE))","v":""},null,null,null,null,null,"津商",null,"",null,null,null,null,null,null,null,null,null,null,null,null,null,null,null,null,null,null,null,null,null,null,null,0,0,0,0,0,0,0,0,0,0,0,0,0,0,"","","","","","","","0","0","00"]
[40,43329,"233118",null,null,null,null,null,null,null,null,null,null,0,"","",{"$f":"IF(P48=\"\",\"\",VLOOKUP(P48,所属コード!$A$2:$E$113,2,FALSE))","v":""},{"$f":"IF(P48=\"\",\"\",VLOOKUP(P48,所属コード!$A$2:$G$113,7,FALSE))","v":""},null,null,null,null,null,"津田学園",null,"",null,null,null,null,null,null,null,null,null,null,null,null,null,null,null,null,null,null,null,null,null,null,null,0,0,0,0,0,0,0,0,0,0,0,0,0,0,"","","","","","","","0","0","00"]
[41,null,"233135",null,null,null,null,null,null,null,null,null,null,0,"","",{"$f":"IF(P49=\"\",\"\",VLOOKUP(P49,所属コード!$A$2:$E$113,2,FALSE))","v":""},{"$f":"IF(P49=\"\",\"\",VLOOKUP(P49,所属コード!$A$2:$G$113,7,FALSE))","v":""},null,null,null,null,null,"津西",null,"",null,null,null,null,null,null,null,null,null,null,null,null,null,null,null,null,null,null,null,null,null,null,null,0,0,0,0,0,0,0,0,0,0,0,0,0,0,"","","","","","","","0","0","00"]
[42,null,"233135",null,null,null,null,null,null,null,null,null,null,0,"","",{"$f":"IF(P50=\"\",\"\",VLOOKUP(P50,所属コード!$A$2:$E$113,2,FALSE))","v":""},{"$f":"IF(P50=\"\",\"\",VLOOKUP(P50,所属コード!$A$2:$G$113,7,FALSE))","v":""},null,null,null,null,null,"津東",null,"",null,null,null,null,null,null,null,null,null,null,null,null,null,null,null,null,null,null,null,null,null,null,null,0,0,0,0,0,0,0,0,0,0,0,0,0,0,"","","","","","","","0","0","00"]
[43,null,"233135",null,null,null,null,null,null,null,null,null,null,0,"","",{"$f":"IF(P51=\"\",\"\",VLOOKUP(P51,所属コード!$A$2:$E$113,2,FALSE))","v":""},{"$f":"IF(P51=\"\",\"\",VLOOKUP(P51,所属コード!$A$2:$G$113,7,FALSE))","v":""},null,null,null,null,null,"鳥羽",null,"",null,null,null,null,null,null,null,null,null,null,null,null,null,null,null,null,null,null,null,null,null,null,null,0,0,0,0,0,0,0,0,0,0,0,0,0,0,"","","","","","","","0","0","00"]
[44,null,"233135",null,null,null,null,null,null,null,null,null,null,0,"","",{"$f":"IF(P52=\"\",\"\",VLOOKUP(P52,所属コード!$A$2:$E$113,2,FALSE))","v":""},{"$f":"IF(P52=\"\",\"\",VLOOKUP(P52,所属コード!$A$2:$G$113,7,FALSE))","v":""},null,null,null,null,null,"鳥羽商船",null,"",null,null,null,null,null,null,null,null,null,null,null,null,null,null,null,null,null,null,null,null,null,null,null,0,0,0,0,0,0,0,0,0,0,0,0,0,0,"","","","","","","","0","0","00"]
[45,null,"233135",null,null,null,null,null,null,null,null,null,null,0,"","",{"$f":"IF(P53=\"\",\"\",VLOOKUP(P53,所属コード!$A$2:$E$113,2,FALSE))","v":""},{"$f":"IF(P53=\"\",\"\",VLOOKUP(P53,所属コード!$A$2:$G$113,7,FALSE))","v":""},null,null,null,null,null,"名張桔梗丘",null,"",null,null,null,null,null,null,null,null,null,null,null,null,null,null,null,null,null,null,null,null,null,null,null,0,0,0,0,0,0,0,0,0,0,0,0,0,0,"","","","","","","","0","0","00"]
[46,null,"233135",null,null,null,null,null,null,null,null,null,null,0,"","",{"$f":"IF(P54=\"\",\"\",VLOOKUP(P54,所属コード!$A$2:$E$113,2,FALSE))","v":""},{"$f":"IF(P54=\"\",\"\",VLOOKUP(P54,所属コード!$A$2:$G$113,7,FALSE))","v":""},null,null,null,null,null,"名張青峰",null,"",null,null,null,null,null,null,null,null,null,null,null,null,null,null,null,null,null,null,null,null,null,null,null,0,0,0,0,0,0,0,0,0,0,0,0,0,0,"","","","","","","","0","0","00"]
[47,null,"233135",null,null,null,null,null,null,null,null,null,null,0,"","",{"$f":"IF(P55=\"\",\"\",VLOOKUP(P55,所属コード!$A$2:$E$113,2,FALSE))","v":""},{"$f":"IF(P55=\"\",\"\",VLOOKUP(P55,所属コード!$A$2:$G$113,7,FALSE))","v":""},null,null,null,null,null,"白山",null,"",null,null,null,null,null,null,null,null,null,null,null,null,null,null,null,null,null,null,null,null,null,null,null,0,0,0,0,0,0,0,0,0,0,0,0,0,0,"","","","","","","","0","0","00"]
[48,null,"233135",null,null,null,null,null,null,null,null,null,null,0,"","",{"$f":"IF(P56=\"\",\"\",VLOOKUP(P56,所属コード!$A$2:$E$113,2,FALSE))","v":""},{"$f":"IF(P56=\"\",\"\",VLOOKUP(P56,所属コード!$A$2:$G$113,7,FALSE))","v":""},null,null,null,null,null,"久居",null,"",null,null,null,null,null,null,null,null,null,null,null,null,null,null,null,null,null,null,null,null,null,null,null,0,0,0,0,0,0,0,0,0,0,0,0,0,0,"","","","","","","","0","0","00"]
[49,null,"233135",null,null,null,null,null,null,null,null,null,null,0,"","",{"$f":"IF(P57=\"\",\"\",VLOOKUP(P57,所属コード!$A$2:$E$113,2,FALSE))","v":""},{"$f":"IF(P57=\"\",\"\",VLOOKUP(P57,所属コード!$A$2:$G$113,7,FALSE))","v":""},null,null,null,null,null,"久居農林",null,"",null,null,null,null,null,null,null,null,null,null,null,null,null,null,null,null,null,null,null,null,null,null,null,0,0,0,0,0,0,0,0,0,0,0,0,0,0,"","","","","","","","0","0","00"]
[50,null,"233135",null,null,null,null,null,null,null,null,null,null,0,"","",{"$f":"IF(P58=\"\",\"\",VLOOKUP(P58,所属コード!$A$2:$E$113,2,FALSE))","v":""},{"$f":"IF(P58=\"\",\"\",VLOOKUP(P58,所属コード!$A$2:$G$113,7,FALSE))","v":""},null,null,null,null,null,"松阪",null,"",null,null,null,null,null,null,null,null,null,null,null,null,null,null,null,null,null,null,null,null,null,null,null,0,0,0,0,0,0,0,0,0,0,0,0,0,0,"","","","","","","","0","0","00"]
[51,null,"233135",null,null,null,null,null,null,null,null,null,null,0,"","",{"$f":"IF(P59=\"\",\"\",VLOOKUP(P59,所属コード!$A$2:$E$113,2,FALSE))","v":""},{"$f":"IF(P59=\"\",\"\",VLOOKUP(P59,所属コード!$A$2:$G$113,7,FALSE))","v":""},null,null,null,null,null,"松阪工",null,"",null,null,null,null,null,null,null,null,null,null,null,null,null,null,null,null,null,null,null,null,null,null,null,0,0,0,0,0,0,0,0,0,0,0,0,0,0,"","","","","","","","0","0","00"]
[52,null,"233135",null,null,null,null,null,null,null,null,null,null,0,"","",{"$f":"IF(P60=\"\",\"\",VLOOKUP(P60,所属コード!$A$2:$E$113,2,FALSE))","v":""},{"$f":"IF(P60=\"\",\"\",VLOOKUP(P60,所属コード!$A$2:$G$113,7,FALSE))","v":""},null,null,null,null,null,"松阪商",null,"",null,null,null,null,null,null,null,null,null,null,null,null,null,null,null,null,null,null,null,null,null,null,null,0,0,0,0,0,0,0,0,0,0,0,0,0,0,"","","","","","","","0","0","00"]
[53,null,"233135",null,null,null,null,null,null,null,null,null,null,0,"","",{"$f":"IF(P61=\"\",\"\",VLOOKUP(P61,所属コード!$A$2:$E$113,2,FALSE))","v":""},{"$f":"IF(P61=\"\",\"\",VLOOKUP(P61,所属コード!$A$2:$G$113,7,FALSE))","v":""},null,null,null,null,null,"三重",null,"",null,null,null,null,null,null,null,null,null,null,null,null,null,null,null,null,null,null,null,null,null,null,null,0,0,0,0,0,0,0,0,0,0,0,0,0,0,"","","","","","","","0","0","00"]
[54,null,"233135",null,null,null,null,null,null,null,null,null,null,0,"","",{"$f":"IF(P62=\"\",\"\",VLOOKUP(P62,所属コード!$A$2:$E$113,2,FALSE))","v":""},{"$f":"IF(P62=\"\",\"\",VLOOKUP(P62,所属コード!$A$2:$G$113,7,FALSE))","v":""},null,null,null,null,null,"南伊勢",null,"",null,null,null,null,null,null,null,null,null,null,null,null,null,null,null,null,null,null,null,null,null,null,null,0,0,0,0,0,0,0,0,0,0,0,0,0,0,"","","","","","","","0","0","00"]
[55,null,"233135",null,null,null,null,null,null,null,null,null,null,0,"","",{"$f":"IF(P63=\"\",\"\",VLOOKUP(P63,所属コード!$A$2:$E$113,2,FALSE))","v":""},{"$f":"IF(P63=\"\",\"\",VLOOKUP(P63,所属コード!$A$2:$G$113,7,FALSE))","v":""},null,null,null,null,null,"四日市",null,"",null,null,null,null,null,null,null,null,null,null,null,null,null,null,null,null,null,null,null,null,null,null,null,0,0,0,0,0,0,0,0,0,0,0,0,0,0,"","","","","","","","0","0","00"]
[56,null,"233135",null,null,null,null,null,null,null,null,null,null,0,"","",{"$f":"IF(P64=\"\",\"\",VLOOKUP(P64,所属コード!$A$2:$E$113,2,FALSE))","v":""},{"$f":"IF(P64=\"\",\"\",VLOOKUP(P64,所属コード!$A$2:$G$113,7,FALSE))","v":""},null,null,null,null,null,"四日市工",null,"",null,null,null,null,null,null,null,null,null,null,null,null,null,null,null,null,null,null,null,null,null,null,null,0,0,0,0,0,0,0,0,0,0,0,0,0,0,"","","","","","","","0","0","00"]
[57,null,"233135",null,null,null,null,null,null,null,null,null,null,0,"","",{"$f":"IF(P65=\"\",\"\",VLOOKUP(P65,所属コード!$A$2:$E$113,2,FALSE))","v":""},{"$f":"IF(P65=\"\",\"\",VLOOKUP(P65,所属コード!$A$2:$G$113,7,FALSE))","v":""},null,null,null,null,null,"四日市商",null,"",null,null,null,null,null,null,null,null,null,null,null,null,null,null,null,null,null,null,null,null,null,null,null,0,0,0,0,0,0,0,0,0,0,0,0,0,0,"","","","","","","","0","0","00"]
[58,null,"233135",null,null,null,null,null,null,null,null,null,null,0,"","",{"$f":"IF(P66=\"\",\"\",VLOOKUP(P66,所属コード!$A$2:$E$113,2,FALSE))","v":""},{"$f":"IF(P66=\"\",\"\",VLOOKUP(P66,所属コード!$A$2:$G$113,7,FALSE))","v":""},null,null,null,null,null,"四中工",null,"",null,null,null,null,null,null,null,null,null,null,null,null,null,null,null,null,null,null,null,null,null,null,null,0,0,0,0,0,0,0,0,0,0,0,0,0,0,"","","","","","","","0","0","00"]
[59,null,"233135",null,null,null,null,null,null,null,null,null,null,0,"","",{"$f":"IF(P67=\"\",\"\",VLOOKUP(P67,所属コード!$A$2:$E$113,2,FALSE))","v":""},{"$f":"IF(P67=\"\",\"\",VLOOKUP(P67,所属コード!$A$2:$G$113,7,FALSE))","v":""},null,null,null,null,null,"四日市西",null,"",null,null,null,null,null,null,null,null,null,null,null,null,null,null,null,null,null,null,null,null,null,null,null,0,0,0,0,0,0,0,0,0,0,0,0,0,0,"","","","","","","","0","0","00"]
[60,null,"233135",null,null,null,null,null,null,null,null,null,null,0,"","",{"$f":"IF(P68=\"\",\"\",VLOOKUP(P68,所属コード!$A$2:$E$113,2,FALSE))","v":""},{"$f":"IF(P68=\"\",\"\",VLOOKUP(P68,所属コード!$A$2:$G$113,7,FALSE))","v":""},null,null,null,null,null,"四日市農芸",null,"",null,null,null,null,null,null,null,null,null,null,null,null,null,null,null,null,null,null,null,null,null,null,null,0,0,0,0,0,0,0,0,0,0,0,0,0,0,"","","","","","","","0","0","00"]
[61,null,"233135",null,null,null,null,null,null,null,null,null,null,0,"","",{"$f":"IF(P69=\"\",\"\",VLOOKUP(P69,所属コード!$A$2:$E$113,2,FALSE))","v":""},{"$f":"IF(P69=\"\",\"\",VLOOKUP(P69,所属コード!$A$2:$G$113,7,FALSE))","v":""},null,null,null,null,null,"四日市南",null,"",null,null,null,null,null,null,null,null,null,null,null,null,null,null,null,null,null,null,null,null,null,null,null,0,0,0,0,0,0,0,0,0,0,0,0,0,0,"","","","","","","","0","0","00"]
[62,null,"233135",null,null,null,null,null,null,null,null,null,null,0,"","",{"$f":"IF(P70=\"\",\"\",VLOOKUP(P70,所属コード!$A$2:$E$113,2,FALSE))","v":""},{"$f":"IF(P70=\"\",\"\",VLOOKUP(P70,所属コード!$A$2:$G$113,7,FALSE))","v":""},null,null,null,null,null,"四日市四郷",null,"",null,null,null,null,null,null,null,null,null,null,null,null,null,null,null,null,null,null,null,null,null,null,null,0,0,0,0,0,0,0,0,0,0,0,0,0,0,"","","","","","","","0","0","00"]
[63,null,"233135",null,null,null,null,null,null,null,null,null,null,0,"","",{"$f":"IF(P71=\"\",\"\",VLOOKUP(P71,所属コード!$A$2:$E$113,2,FALSE))","v":""},{"$f":"IF(P71=\"\",\"\",VLOOKUP(P71,所属コード!$A$2:$G$113,7,FALSE))","v":""},null,null,null,null,null,"まなび",null,"",null,null,null,null,null,null,null,null,null,null,null,null,null,null,null,null,null,null,null,null,null,null,null,0,0,0,0,0,0,0,0,0,0,0,0,0,0,"","","","","","","","0","0","00"]
[64,null,"233135",null,null,null,null,null,null,null,null,null,null,0,"","",{"$f":"IF(P72=\"\",\"\",VLOOKUP(P72,所属コード!$A$2:$E$113,2,FALSE))","v":""},{"$f":"IF(P72=\"\",\"\",VLOOKUP(P72,所属コード!$A$2:$G$113,7,FALSE))","v":""},null,null,null,null,null,"大橋学園",null,"",null,null,null,null,null,null,null,null,null,null,null,null,null,null,null,null,null,null,null,null,null,null,null,0,0,0,0,0,0,0,0,0,0,0,0,0,0,"","","","","","","","0","0","00"]
[65,null,"233135",null,null,null,null,null,null,null,null,null,null,0,"","",{"$f":"IF(P73=\"\",\"\",VLOOKUP(P73,所属コード!$A$2:$E$113,2,FALSE))","v":""},{"$f":"IF(P73=\"\",\"\",VLOOKUP(P73,所属コード!$A$2:$G$113,7,FALSE))","v":""},null,null,null,null,null,"徳風",null,"",null,null,null,null,null,null,null,null,null,null,null,null,null,null,null,null,null,null,null,null,null,null,null,0,0,0,0,0,0,0,0,0,0,0,0,0,0,"","","","","","","","0","0","00"]
[66,null,"233135",null,null,null,null,null,null,null,null,null,null,{"$f":"BW74","v":0},{"$f":"IF(J74=\"\",\"\",IF(J74=\"男\",1,2))","v":""},"",{"$f":"IF(P74=\"\",\"\",VLOOKUP(P74,所属コード!$A$2:$E$113,2,FALSE))","v":""},{"$f":"IF(P74=\"\",\"\",VLOOKUP(P74,所属コード!$A$2:$G$113,7,FALSE))","v":""},null,null,null,null,null,"北星",null,{"$f":"ASC(H74)","v":""},null,null,null,null,null,null,null,null,null,null,null,null,null,null,null,null,null,null,null,null,null,null,null,{"$f":"AG74","v":0},{"$f":"AB74","v":0},{"$f":"AK74","v":0},{"$f":"AJ74","v":0},{"$f":"AT74","v":0},{"$f":"AT74","v":0},{"$f":"AU74","v":0},{"$f":"AV74","v":0},{"$f":"AP74","v":0},{"$f":"AP74","v":0},{"$f":"AK74","v":0},{"$f":"AB74","v":0},{"$f":"AH74","v":0},{"$f":"AG74","v":0},{"$f":"TRIM(G74)","v":""},{"$f":"IF(BL74=\"\",\"\",LEN(BL74))","v":""},{"$f":"IF(BL74=\"\",\"\",FIND(\"　\",BL74,1))","v":""},{"$f":"IF(BL74=\"\",\"\",BM74-BN74)","v":""},{"$f":"IF(BL74=\"\",\"\",LEFT(BL74,BN74-1))","v":""},{"$f":"IF(BL74=\"\",\"\",RIGHT(BL74,BO74))","v":""},{"$f":"IF(BL74=\"\",\"\",IF(BM74=4,CONCATENATE(BP74,\"　\",\"　\",BQ74),IF(BM74=6,CONCATENATE(BP74,BQ74),BL74)))","v":""},{"$f":"IF(L74<10,CONCATENATE(\"0\",L74),L74)","v":"0"},{"$f":"IF(M74<10,CONCATENATE(\"0\",M74),M74)","v":"0"},{"$f":"CONCATENATE(BS74,BT74)","v":"00"}]
[67,null,"233135",null,null,null,null,null,null,null,null,null,null,0,"",{"$f":"IF(G75=\"\",\"\",$P$9)","v":""},{"$f":"IF(P75=\"\",\"\",VLOOKUP(P75,所属コード!$A$2:$E$113,2,FALSE))","v":""},{"$f":"IF(P75=\"\",\"\",VLOOKUP(P75,所属コード!$A$2:$G$113,7,FALSE))","v":""},null,null,null,null,null,"松阪(通)",null,"",null,null,null,null,null,null,null,null,null,null,null,null,null,null,null,null,null,null,null,null,null,null,null,0,0,0,0,0,0,0,0,0,0,0,0,0,0,"","","","","","","","0","0","00"]
[68,null,"233135",null,null,null,null,null,null,null,null,null,null,0,"","",{"$f":"IF(P76=\"\",\"\",VLOOKUP(P76,所属コード!$A$2:$E$113,2,FALSE))","v":""},{"$f":"IF(P76=\"\",\"\",VLOOKUP(P76,所属コード!$A$2:$G$113,7,FALSE))","v":""},null,null,null,null,null,"みえ夢学園",null,"",null,null,null,null,null,null,null,null,null,null,null,null,null,null,null,null,null,null,null,null,null,null,null,0,0,0,0,0,0,0,0,0,0,0,0,0,0,"","","","","","","","0","0","00"]
[69,null,"233135",null,null,null,null,null,null,null,null,null,null,0,"","",{"$f":"IF(P77=\"\",\"\",VLOOKUP(P77,所属コード!$A$2:$E$113,2,FALSE))","v":""},{"$f":"IF(P77=\"\",\"\",VLOOKUP(P77,所属コード!$A$2:$G$113,7,FALSE))","v":""},null,null,null,null,null,"四工(定)",null,"",null,null,null,null,null,null,null,null,null,null,null,null,null,null,null,null,null,null,null,null,null,null,null,0,0,0,0,0,0,0,0,0,0,0,0,0,0,"","","","","","","","0","0","00"]
[70,null,"233135",null,null,null,null,null,null,null,null,null,null,0,"","",{"$f":"IF(P78=\"\",\"\",VLOOKUP(P78,所属コード!$A$2:$E$113,2,FALSE))","v":""},{"$f":"IF(P78=\"\",\"\",VLOOKUP(P78,所属コード!$A$2:$G$113,7,FALSE))","v":""},null,null,null,null,null,null,null,"",null,null,null,null,null,null,null,null,null,null,null,null,null,null,null,null,null,null,null,null,null,null,null,0,0,0,0,0,0,0,0,0,0,0,0,0,0,"","","","","","","","0","0","00"]
[71,null,"233135",null,null,null,null,null,null,null,null,null,null,0,"","",{"$f":"IF(P79=\"\",\"\",VLOOKUP(P79,所属コード!$A$2:$E$113,2,FALSE))","v":""},{"$f":"IF(P79=\"\",\"\",VLOOKUP(P79,所属コード!$A$2:$G$113,7,FALSE))","v":""},null,null,null,null,null,null,null,"",null,null,null,null,null,null,null,null,null,null,null,null,null,null,null,null,null,null,null,null,null,null,null,0,0,0,0,0,0,0,0,0,0,0,0,0,0,"","","","","","","","0","0","00"]
[72,null,"233135",null,null,null,null,null,null,null,null,null,null,0,"","",{"$f":"IF(P80=\"\",\"\",VLOOKUP(P80,所属コード!$A$2:$E$113,2,FALSE))","v":""},{"$f":"IF(P80=\"\",\"\",VLOOKUP(P80,所属コード!$A$2:$G$113,7,FALSE))","v":""},null,null,null,null,null,null,null,"",null,null,null,null,null,null,null,null,null,null,null,null,null,null,null,null,null,null,null,null,null,null,null,0,0,0,0,0,0,0,0,0,0,0,0,0,0,"","","","","","","","0","0","00"]
[73,null,null,null,null,null,null,null,null,null,null,null,null,0,"","",{"$f":"IF(P81=\"\",\"\",VLOOKUP(P81,所属コード!$A$2:$E$113,2,FALSE))","v":""},{"$f":"IF(P81=\"\",\"\",VLOOKUP(P81,所属コード!$A$2:$G$113,7,FALSE))","v":""},null,null,null,null,null,null,null,"",null,null,null,null,null,null,null,null,null,null,null,null,null,null,null,null,null,null,null,null,null,null,null,0,0,0,0,0,0,0,0,0,0,0,0,0,0,"","","","","","","","0","0","00"]
[74,null,null,null,null,null,null,null,null,null,null,null,null,0,"","",{"$f":"IF(P82=\"\",\"\",VLOOKUP(P82,所属コード!$A$2:$E$113,2,FALSE))","v":""},{"$f":"IF(P82=\"\",\"\",VLOOKUP(P82,所属コード!$A$2:$G$113,7,FALSE))","v":""},null,null,null,null,null,null,null,"",null,null,null,null,null,null,null,null,null,null,null,null,null,null,null,null,null,null,null,null,null,null,null,0,0,0,0,0,0,0,0,0,0,0,0,0,0,"","","","","","","","0","0","00"]
[75,null,null,null,null,null,null,null,null,null,null,null,null,0,"","",{"$f":"IF(P83=\"\",\"\",VLOOKUP(P83,所属コード!$A$2:$E$113,2,FALSE))","v":""},{"$f":"IF(P83=\"\",\"\",VLOOKUP(P83,所属コード!$A$2:$G$113,7,FALSE))","v":""},null,null,null,null,null,null,null,"",null,null,null,null,null,null,null,null,null,null,null,null,null,null,null,null,null,null,null,null,null,null,null,0,0,0,0,0,0,0,0,0,0,0,0,0,0,"","","","","","","","0","0","00"]
[76,null,null,null,null,null,null,null,null,null,null,null,null,0,"","",{"$f":"IF(P84=\"\",\"\",VLOOKUP(P84,所属コード!$A$2:$E$113,2,FALSE))","v":""},{"$f":"IF(P84=\"\",\"\",VLOOKUP(P84,所属コード!$A$2:$G$113,7,FALSE))","v":""},null,null,null,null,null,null,null,"",null,null,null,null,null,null,null,null,null,null,null,null,null,null,null,null,null,null,null,null,null,null,null,0,0,0,0,0,0,0,0,0,0,0,0,0,0,"","","","","","","","0","0","00"]
[77,null,null,null,null,null,null,null,null,null,null,null,null,0,"","",{"$f":"IF(P85=\"\",\"\",VLOOKUP(P85,所属コード!$A$2:$E$113,2,FALSE))","v":""},{"$f":"IF(P85=\"\",\"\",VLOOKUP(P85,所属コード!$A$2:$G$113,7,FALSE))","v":""},null,null,null,null,null,null,null,"",null,null,null,null,null,null,null,null,null,null,null,null,null,null,null,null,null,null,null,null,null,null,null,0,0,0,0,0,0,0,0,0,0,0,0,0,0,"","","","","","","","0","0","00"]
[78,null,null,null,null,null,null,null,null,null,null,null,null,0,"","",{"$f":"IF(P86=\"\",\"\",VLOOKUP(P86,所属コード!$A$2:$E$113,2,FALSE))","v":""},{"$f":"IF(P86=\"\",\"\",VLOOKUP(P86,所属コード!$A$2:$G$113,7,FALSE))","v":""},null,null,null,null,null,null,null,"",null,null,null,null,null,null,null,null,null,null,null,null,null,null,null,null,null,null,null,null,null,null,null,0,0,0,0,0,0,0,0,0,0,0,0,0,0,"","","","","","","","0","0","00"]
[79,null,null,null,null,null,null,null,null,null,null,null,null,0,"","",{"$f":"IF(P87=\"\",\"\",VLOOKUP(P87,所属コード!$A$2:$E$113,2,FALSE))","v":""},{"$f":"IF(P87=\"\",\"\",VLOOKUP(P87,所属コード!$A$2:$G$113,7,FALSE))","v":""},null,null,null,null,null,null,null,"",null,null,null,null,null,null,null,null,null,null,null,null,null,null,null,null,null,null,null,null,null,null,null,0,0,0,0,0,0,0,0,0,0,0,0,0,0,"","","","","","","","0","0","00"]
[80,null,null,null,null,null,null,null,null,null,null,null,null,0,"","",{"$f":"IF(P88=\"\",\"\",VLOOKUP(P88,所属コード!$A$2:$E$113,2,FALSE))","v":""},{"$f":"IF(P88=\"\",\"\",VLOOKUP(P88,所属コード!$A$2:$G$113,7,FALSE))","v":""},null,null,null,null,null,null,null,"",null,null,null,null,null,null,null,null,null,null,null,null,null,null,null,null,null,null,null,null,null,null,null,0,0,0,0,0,0,0,0,0,0,0,0,0,0,"","","","","","","","0","0","00"]
[81,null,null,null,null,null,null,null,null,null,null,null,null,0,"","",{"$f":"IF(P89=\"\",\"\",VLOOKUP(P89,所属コード!$A$2:$E$113,2,FALSE))","v":""},{"$f":"IF(P89=\"\",\"\",VLOOKUP(P89,所属コード!$A$2:$G$113,7,FALSE))","v":""},null,null,null,null,null,null,null,"",null,null,null,null,null,null,null,null,null,null,null,null,null,null,null,null,null,null,null,null,null,null,null,0,0,0,0,0,0,0,0,0,0,0,0,0,0,"","","","","","","","0","0","00"]
[82,null,null,null,null,null,null,null,null,null,null,null,null,0,"","",{"$f":"IF(P90=\"\",\"\",VLOOKUP(P90,所属コード!$A$2:$E$113,2,FALSE))","v":""},{"$f":"IF(P90=\"\",\"\",VLOOKUP(P90,所属コード!$A$2:$G$113,7,FALSE))","v":""},null,null,null,null,null,null,null,"",null,null,null,null,null,null,null,null,null,null,null,null,null,null,null,null,null,null,null,null,null,null,null,0,0,0,0,0,0,0,0,0,0,0,0,0,0,"","","","","","","","0","0","00"]
[83,null,null,null,null,null,null,null,null,null,null,null,null,0,"","",{"$f":"IF(P91=\"\",\"\",VLOOKUP(P91,所属コード!$A$2:$E$113,2,FALSE))","v":""},{"$f":"IF(P91=\"\",\"\",VLOOKUP(P91,所属コード!$A$2:$G$113,7,FALSE))","v":""},null,null,null,null,null,null,null,"",null,null,null,null,null,null,null,null,null,null,null,null,null,null,null,null,null,null,null,null,null,null,null,0,0,0,0,0,0,0,0,0,0,0,0,0,0,"","","","","","","","0","0","00"]
[84,null,null,null,null,null,null,null,null,null,null,null,null,0,"","",{"$f":"IF(P92=\"\",\"\",VLOOKUP(P92,所属コード!$A$2:$E$113,2,FALSE))","v":""},{"$f":"IF(P92=\"\",\"\",VLOOKUP(P92,所属コード!$A$2:$G$113,7,FALSE))","v":""},null,null,null,null,null,null,null,"",null,null,null,null,null,null,null,null,null,null,null,null,null,null,null,null,null,null,null,null,null,null,null,0,0,0,0,0,0,0,0,0,0,0,0,0,0,"","","","","","","","0","0","00"]
[85,null,null,null,null,null,null,null,null,null,null,null,null,0,"","",{"$f":"IF(P93=\"\",\"\",VLOOKUP(P93,所属コード!$A$2:$E$113,2,FALSE))","v":""},{"$f":"IF(P93=\"\",\"\",VLOOKUP(P93,所属コード!$A$2:$G$113,7,FALSE))","v":""},null,null,null,null,null,null,null,"",null,null,null,null,null,null,null,null,null,null,null,null,null,null,null,null,null,null,null,null,null,null,null,0,0,0,0,0,0,0,0,0,0,0,0,0,0,"","","","","","","","0","0","00"]
[86,null,null,null,null,null,null,null,null,null,null,null,null,0,"","",{"$f":"IF(P94=\"\",\"\",VLOOKUP(P94,所属コード!$A$2:$E$113,2,FALSE))","v":""},{"$f":"IF(P94=\"\",\"\",VLOOKUP(P94,所属コード!$A$2:$G$113,7,FALSE))","v":""},null,null,null,null,null,null,null,"",null,null,null,null,null,null,null,null,null,null,null,null,null,null,null,null,null,null,null,null,null,null,null,0,0,0,0,0,0,0,0,0,0,0,0,0,0,"","","","","","","","0","0","00"]
[87,null,null,null,null,null,null,null,null,null,null,null,null,0,"","",{"$f":"IF(P95=\"\",\"\",VLOOKUP(P95,所属コード!$A$2:$E$113,2,FALSE))","v":""},{"$f":"IF(P95=\"\",\"\",VLOOKUP(P95,所属コード!$A$2:$G$113,7,FALSE))","v":""},null,null,null,null,null,null,null,"",null,null,null,null,null,null,null,null,null,null,null,null,null,null,null,null,null,null,null,null,null,null,null,0,0,0,0,0,0,0,0,0,0,0,0,0,0,"","","","","","","","0","0","00"]
[88,null,null,null,null,null,null,null,null,null,null,null,null,0,"","",{"$f":"IF(P96=\"\",\"\",VLOOKUP(P96,所属コード!$A$2:$E$113,2,FALSE))","v":""},{"$f":"IF(P96=\"\",\"\",VLOOKUP(P96,所属コード!$A$2:$G$113,7,FALSE))","v":""},null,null,null,null,null,null,null,"",null,null,null,null,null,null,null,null,null,null,null,null,null,null,null,null,null,null,null,null,null,null,null,0,0,0,0,0,0,0,0,0,0,0,0,0,0,"","","","","","","","0","0","00"]
[89,null,null,null,null,null,null,null,null,null,null,null,null,0,"","",{"$f":"IF(P97=\"\",\"\",VLOOKUP(P97,所属コード!$A$2:$E$113,2,FALSE))","v":""},{"$f":"IF(P97=\"\",\"\",VLOOKUP(P97,所属コード!$A$2:$G$113,7,FALSE))","v":""},null,null,null,null,null,null,null,"",null,null,null,null,null,null,null,null,null,null,null,null,null,null,null,null,null,null,null,null,null,null,null,0,0,0,0,0,0,0,0,0,0,0,0,0,0,"","","","","","","","0","0","00"]
[90,null,null,null,null,null,null,null,null,null,null,null,null,0,"","",{"$f":"IF(P98=\"\",\"\",VLOOKUP(P98,所属コード!$A$2:$E$113,2,FALSE))","v":""},{"$f":"IF(P98=\"\",\"\",VLOOKUP(P98,所属コード!$A$2:$G$113,7,FALSE))","v":""},null,null,null,null,null,null,null,"",null,null,null,null,null,null,null,null,null,null,null,null,null,null,null,null,null,null,null,null,null,null,null,0,0,0,0,0,0,0,0,0,0,0,0,0,0,"","","","","","","","0","0","00"]
[91,null,null,null,null,null,null,null,null,null,null,null,null,0,"","",{"$f":"IF(P99=\"\",\"\",VLOOKUP(P99,所属コード!$A$2:$E$113,2,FALSE))","v":""},{"$f":"IF(P99=\"\",\"\",VLOOKUP(P99,所属コード!$A$2:$G$113,7,FALSE))","v":""},null,null,null,null,null,null,null,"",null,null,null,null,null,null,null,null,null,null,null,null,null,null,null,null,null,null,null,null,null,null,null,0,0,0,0,0,0,0,0,0,0,0,0,0,0,"","","","","","","","0","0","00"]
[92,null,null,null,null,null,null,null,null,null,null,null,null,0,"","",{"$f":"IF(P100=\"\",\"\",VLOOKUP(P100,所属コード!$A$2:$E$113,2,FALSE))","v":""},{"$f":"IF(P100=\"\",\"\",VLOOKUP(P100,所属コード!$A$2:$G$113,7,FALSE))","v":""},null,null,null,null,null,null,null,"",null,null,null,null,null,null,null,null,null,null,null,null,null,null,null,null,null,null,null,null,null,null,null,0,0,0,0,0,0,0,0,0,0,0,0,0,0,"","","","","","","","0","0","00"]
[93,null,null,null,null,null,null,null,null,null,null,null,null,0,"","",{"$f":"IF(P101=\"\",\"\",VLOOKUP(P101,所属コード!$A$2:$E$113,2,FALSE))","v":""},{"$f":"IF(P101=\"\",\"\",VLOOKUP(P101,所属コード!$A$2:$G$113,7,FALSE))","v":""},null,null,null,null,null,null,null,"",null,null,null,null,null,null,null,null,null,null,null,null,null,null,null,null,null,null,null,null,null,null,null,0,0,0,0,0,0,0,0,0,0,0,0,0,0,"","","","","","","","0","0","00"]
[94,null,null,null,null,null,null,null,null,null,null,null,null,0,"","",{"$f":"IF(P102=\"\",\"\",VLOOKUP(P102,所属コード!$A$2:$E$113,2,FALSE))","v":""},{"$f":"IF(P102=\"\",\"\",VLOOKUP(P102,所属コード!$A$2:$G$113,7,FALSE))","v":""},null,null,null,null,null,null,null,"",null,null,null,null,null,null,null,null,null,null,null,null,null,null,null,null,null,null,null,null,null,null,null,0,0,0,0,0,0,0,0,0,0,0,0,0,0,"","","","","","","","0","0","00"]
[95,null,null,null,null,null,null,null,null,null,null,null,null,0,"","",{"$f":"IF(P103=\"\",\"\",VLOOKUP(P103,所属コード!$A$2:$E$113,2,FALSE))","v":""},{"$f":"IF(P103=\"\",\"\",VLOOKUP(P103,所属コード!$A$2:$G$113,7,FALSE))","v":""},null,null,null,null,null,null,null,"",null,null,null,null,null,null,null,null,null,null,null,null,null,null,null,null,null,null,null,null,null,null,null,0,0,0,0,0,0,0,0,0,0,0,0,0,0,"","","","","","","","0","0","00"]
[96,null,null,null,null,null,null,null,null,null,null,null,null,0,"","",{"$f":"IF(P104=\"\",\"\",VLOOKUP(P104,所属コード!$A$2:$E$113,2,FALSE))","v":""},{"$f":"IF(P104=\"\",\"\",VLOOKUP(P104,所属コード!$A$2:$G$113,7,FALSE))","v":""},null,null,null,null,null,null,null,"",null,null,null,null,null,null,null,null,null,null,null,null,null,null,null,null,null,null,null,null,null,null,null,0,0,0,0,0,0,0,0,0,0,0,0,0,0,"","","","","","","","0","0","00"]
[97,null,null,null,null,null,null,null,null,null,null,null,null,0,"","",{"$f":"IF(P105=\"\",\"\",VLOOKUP(P105,所属コード!$A$2:$E$113,2,FALSE))","v":""},{"$f":"IF(P105=\"\",\"\",VLOOKUP(P105,所属コード!$A$2:$G$113,7,FALSE))","v":""},null,null,null,null,null,null,null,"",null,null,null,null,null,null,null,null,null,null,null,null,null,null,null,null,null,null,null,null,null,null,null,0,0,0,0,0,0,0,0,0,0,0,0,0,0,"","","","","","","","0","0","00"]
[98,null,null,null,null,null,null,null,null,null,null,null,null,0,"","",{"$f":"IF(P106=\"\",\"\",VLOOKUP(P106,所属コード!$A$2:$E$113,2,FALSE))","v":""},{"$f":"IF(P106=\"\",\"\",VLOOKUP(P106,所属コード!$A$2:$G$113,7,FALSE))","v":""},null,null,null,null,null,null,null,"",null,null,null,null,null,null,null,null,null,null,null,null,null,null,null,null,null,null,null,null,null,null,null,0,0,0,0,0,0,0,0,0,0,0,0,0,0,"","","","","","","","0","0","00"]
[99,null,null,null,null,null,null,null,null,null,null,null,null,0,"","",{"$f":"IF(P107=\"\",\"\",VLOOKUP(P107,所属コード!$A$2:$E$113,2,FALSE))","v":""},{"$f":"IF(P107=\"\",\"\",VLOOKUP(P107,所属コード!$A$2:$G$113,7,FALSE))","v":""},null,null,null,null,null,null,null,"",null,null,null,null,null,null,null,null,null,null,null,null,null,null,null,null,null,null,null,null,null,null,null,0,0,0,0,0,0,0,0,0,0,0,0,0,0,"","","","","","","","0","0","00"]
[100,null,null,null,null,null,null,null,null,null,null,null,null,0,"","",{"$f":"IF(P108=\"\",\"\",VLOOKUP(P108,所属コード!$A$2:$E$113,2,FALSE))","v":""},{"$f":"IF(P108=\"\",\"\",VLOOKUP(P108,所属コード!$A$2:$G$113,7,FALSE))","v":""},null,null,null,null,null,null,null,"",null,null,null,null,null,null,null,null,null,null,null,null,null,null,null,null,null,null,null,null,null,null,null,0,0,0,0,0,0,0,0,0,0,0,0,0,0,"","","","","","","","0","0","00"]
[101,null,null,null,null,null,null,null,null,null,null,null,null,0,"","",{"$f":"IF(P109=\"\",\"\",VLOOKUP(P109,所属コード!$A$2:$E$113,2,FALSE))","v":""},{"$f":"IF(P109=\"\",\"\",VLOOKUP(P109,所属コード!$A$2:$G$113,7,FALSE))","v":""},null,null,null,null,null,null,null,"",null,null,null,null,null,null,null,null,null,null,null,null,null,null,null,null,null,null,null,null,null,null,null,0,0,0,0,0,0,0,0,0,0,0,0,0,0,"","","","","","","","0","0","00"]
[102,null,null,null,null,null,null,null,null,null,null,null,null,0,"","",{"$f":"IF(P110=\"\",\"\",VLOOKUP(P110,所属コード!$A$2:$E$113,2,FALSE))","v":""},{"$f":"IF(P110=\"\",\"\",VLOOKUP(P110,所属コード!$A$2:$G$113,7,FALSE))","v":""},null,null,null,null,null,null,null,"",null,null,null,null,null,null,null,null,null,null,null,null,null,null,null,null,null,null,null,null,null,null,null,0,0,0,0,0,0,0,0,0,0,0,0,0,0,"","","","","","","","0","0","00"]
[103,null,null,null,null,null,null,null,null,null,null,null,null,0,"","",{"$f":"IF(P111=\"\",\"\",VLOOKUP(P111,所属コード!$A$2:$E$113,2,FALSE))","v":""},{"$f":"IF(P111=\"\",\"\",VLOOKUP(P111,所属コード!$A$2:$G$113,7,FALSE))","v":""},null,null,null,null,null,null,null,"",null,null,null,null,null,null,null,null,null,null,null,null,null,null,null,null,null,null,null,null,null,null,null,0,0,0,0,0,0,0,0,0,0,0,0,0,0,"","","","","","","","0","0","00"]
[104,null,null,null,null,null,null,null,null,null,null,null,null,0,"","",{"$f":"IF(P112=\"\",\"\",VLOOKUP(P112,所属コード!$A$2:$E$113,2,FALSE))","v":""},{"$f":"IF(P112=\"\",\"\",VLOOKUP(P112,所属コード!$A$2:$G$113,7,FALSE))","v":""},null,null,null,null,null,null,null,"",null,null,null,null,null,null,null,null,null,null,null,null,null,null,null,null,null,null,null,null,null,null,null,0,0,0,0,0,0,0,0,0,0,0,0,0,0,"","","","","","","","0","0","00"]
[105,null,null,null,null,null,null,null,null,null,null,null,null,0,"","",{"$f":"IF(P113=\"\",\"\",VLOOKUP(P113,所属コード!$A$2:$E$113,2,FALSE))","v":""},{"$f":"IF(P113=\"\",\"\",VLOOKUP(P113,所属コード!$A$2:$G$113,7,FALSE))","v":""},null,null,null,null,null,null,null,"",null,null,null,null,null,null,null,null,null,null,null,null,null,null,null,null,null,null,null,null,null,null,null,0,0,0,0,0,0,0,0,0,0,0,0,0,0,"","","","","","","","0","0","00"]
[106,null,null,null,null,null,null,null,null,null,null,null,null,0,"","",{"$f":"IF(P114=\"\",\"\",VLOOKUP(P114,所属コード!$A$2:$E$113,2,FALSE))","v":""},{"$f":"IF(P114=\"\",\"\",VLOOKUP(P114,所属コード!$A$2:$G$113,7,FALSE))","v":""},null,null,null,null,null,null,null,"",null,null,null,null,null,null,null,null,null,null,null,null,null,null,null,null,null,null,null,null,null,null,null,0,0,0,0,0,0,0,0,0,0,0,0,0,0,"","","","","","","","0","0","00"]
[107,null,null,null,null,null,null,null,null,null,null,null,null,0,"","",{"$f":"IF(P115=\"\",\"\",VLOOKUP(P115,所属コード!$A$2:$E$113,2,FALSE))","v":""},{"$f":"IF(P115=\"\",\"\",VLOOKUP(P115,所属コード!$A$2:$G$113,7,FALSE))","v":""},null,null,null,null,null,null,null,"",null,null,null,null,null,null,null,null,null,null,null,null,null,null,null,null,null,null,null,null,null,null,null,0,0,0,0,0,0,0,0,0,0,0,0,0,0,"","","","","","","","0","0","00"]
[108,null,null,null,null,null,null,null,null,null,null,null,null,0,"","",{"$f":"IF(P116=\"\",\"\",VLOOKUP(P116,所属コード!$A$2:$E$113,2,FALSE))","v":""},{"$f":"IF(P116=\"\",\"\",VLOOKUP(P116,所属コード!$A$2:$G$113,7,FALSE))","v":""},null,null,null,null,null,null,null,"",null,null,null,null,null,null,null,null,null,null,null,null,null,null,null,null,null,null,null,null,null,null,null,0,0,0,0,0,0,0,0,0,0,0,0,0,0,"","","","","","","","0","0","00"]
[109,null,null,null,null,null,null,null,null,null,null,null,null,0,"","",{"$f":"IF(P117=\"\",\"\",VLOOKUP(P117,所属コード!$A$2:$E$113,2,FALSE))","v":""},{"$f":"IF(P117=\"\",\"\",VLOOKUP(P117,所属コード!$A$2:$G$113,7,FALSE))","v":""},null,null,null,null,null,null,null,"",null,null,null,null,null,null,null,null,null,null,null,null,null,null,null,null,null,null,null,null,null,null,null,0,0,0,0,0,0,0,0,0,0,0,0,0,0,"","","","","","","","0","0","00"]
[110,null,null,null,null,null,null,null,null,null,null,null,null,0,"","",{"$f":"IF(P118=\"\",\"\",VLOOKUP(P118,所属コード!$A$2:$E$113,2,FALSE))","v":""},{"$f":"IF(P118=\"\",\"\",VLOOKUP(P118,所属コード!$A$2:$G$113,7,FALSE))","v":""},null,null,null,null,null,null,null,"",null,null,null,null,null,null,null,null,null,null,null,null,null,null,null,null,null,null,null,null,null,null,null,0,0,0,0,0,0,0,0,0,0,0,0,0,0,"","","","","","","","0","0","00"]

{"sheet":"大会申込","index":5,"n_rows":8,"n_cols":7,"rows_kept":8,"cut":false,"hidden":false,"merged":[[3,2,3,6],[11,6,11,7]]}
[]
[]
[]
[]
[]
[]
[]
[null,null,null,null,null,null,"インターネットに接続できれば申込できます"]

{"sheet":"出場認知書","index":6,"n_rows":67,"n_cols":14,"rows_kept":67,"cut":false,"hidden":false,"merged":[[39,3,39,9],[2,0,2,10],[11,0,11,10],[17,1,17,10],[28,1,28,10],[35,8,35,10],[14,4,14,5],[35,3,35,7]]}
[]
[]
["大会出場認知書"]
[]
[]
[null,null,null,null,null,null,null,null,null,null,null,1,1,30]
[null,null,null,null,null,null,null,null,null,null,null,2,2,31]
[null,null,null,null,"平成",null,"年","▽","月","▽","日",3,3]
[null,null,null,null,null,null,null,null,null,null,null,4,4]
[null,null,null,null,null,null,null,null,null,null,null,5,5]
[null,null,null,null,null,null,null,null,null,null,null,6,6]
["本校陸上競技部の下記大会に出場することを認知する。",null,null,null,null,null,null,null,null,null,null,7,7]
[null,null,null,null,null,null,null,null,null,null,null,8,8]
[null,null,null,null,null,null,null,null,null,null,null,9,9]
[null,null,null,null,"記",null,null,null,null,null,null,10,10]
[null,null,null,null,null,null,null,null,null,null,null,11,11]
[null,null,null,null,null,null,null,null,null,null,null,12,12]
["大会名","▽",null,null,null,null,null,null,null,null,null,null,13]
[null,null,null,null,null,null,null,null,null,null,null,null,14]
[null,null,null,null,null,null,null,null,null,null,null,null,15]
[null,null,null,null,null,null,null,null,null,null,null,null,16]
[null,null,null,null,null,null,null,null,null,null,null,null,17]
["日　時","平成","▽","年",null,"▽","月","▽","日",null,"から",null,18]
[null,null,null,null,null,null,null,null,null,null,null,null,19]
[null,"平成","▽","年",null,"▽","月","▽","日",null,"まで",null,20]
[null,null,null,null,null,null,null,null,null,null,null,null,21]
[null,null,null,null,null,null,null,null,null,null,null,null,22]
[null,null,null,null,null,null,null,null,null,null,null,null,23]
["場　所","プルダウンメニューから選択か直接入力",null,null,null,null,null,null,null,null,null,null,24]
[null,null,null,null,null,null,null,null,null,null,null,null,25]
[null,null,null,null,null,null,null,null,null,null,null,null,26]
[null,null,null,null,null,null,null,null,null,null,null,null,27]
[null,null,null,null,null,null,null,null,null,null,null,null,28]
[null,null,null,null,null,null,null,null,null,null,null,null,29]
[null,null,null,null,null,null,null,null,null,null,null,null,30]
[null,"所属名称",null,{"$f":"名簿!P9","v":0},null,null,null,null,"高等学校",null,null,null,31]
[]
[]
[]
[null,"学校長",null,null,null,null,null,null,null,null,"印"]
[]
[]
[]
[]
[]
[]
[null,"国体第1次選考競技会"]
[null,"三重県高等学校春季陸上競技大会"]
[null,"三重県高等学校総合体育大会"]
[null,"三重県定時制通信制大会"]
[null,"全国定時制通信制大会"]
[null,"三重陸協記録会"]
[null,"東海高等学校総合体育大会"]
[null,"全国高等学校総合体育大会"]
[null,"三重県陸上競技選手権大会"]
[null,"全国ジュニア・ユース陸上競技選手権大会"]
[null,"三重県高等学校新人陸上競技大会"]
[null,"東海高等学校新人陸上競技大会"]
[null,"三重県高等学校駅伝競走大会"]
[null,"中日三重お伊勢さんマラソン"]
[null,"東海高等学校駅伝競走大会"]
[null,"全国高等学校駅伝競走大会"]
[]
[null,"三重県営総合競技場陸上競技場"]
[null,"四日市中央緑地公園陸上競技場"]
[null,"鈴鹿市営石垣池公園陸上競技場"]
[null,"東員町スポーツ公園陸上競技場"]

{"sheet":"県外認知書","index":7,"n_rows":39,"n_cols":7,"rows_kept":39,"cut":false,"hidden":false,"merged":[[2,5,2,7],[21,2,21,6],[23,2,23,6],[23,0,23,1],[21,0,21,1],[25,0,25,1],[25,2,25,6],[5,0,5,1],[13,0,13,7],[17,0,17,7],[8,4,8,6],[9,4,9,6],[22,0,22,1],[22,2,22,6]]}
[]
[]
[null,null,null,null,null,{"$f":"TODAY()","v":"2018-08-24"}]
[]
[]
[null,null,"陸上競技協会　御中"]
[]
[]
[null,null,null,null,"一般財団法人三重陸上競技協会"]
[null,null,null,null,"　　　　 会 長　　田村　憲久"]
[]
[]
[]
["出　場　認　知　書"]
[]
[]
[]
["　下記の者は当協会の登録競技者ですが、貴協会の標記競技会に出場することを認知いたし"]
["ましたので、ご高配を賜りますようお願い申し上げます。"]
[]
[]
["競技会名"]
["日時",null,"平成　　　年　　　月　　　日　～　　　日"]
["主催陸上競技協会名"]
[]
["所属名"]
[null,"登録番号","競技者名","学年","出場種目①","出場種目②","出場種目③"]
[1,null,{"$f":"IF(B28=\"\",\"\",VLOOKUP(B28,名簿!$E$9:$G$118,3,FALSE))","v":""},{"$f":"IF(B28=\"\",\"\",VLOOKUP(B28,名簿!$E$9:$I$118,5,FALSE))","v":""}]
[2,null,{"$f":"IF(B29=\"\",\"\",VLOOKUP(B29,名簿!$E$9:$G$118,3,FALSE))","v":""},{"$f":"IF(B29=\"\",\"\",VLOOKUP(B29,名簿!$E$9:$I$118,5,FALSE))","v":""}]
[3,null,{"$f":"IF(B30=\"\",\"\",VLOOKUP(B30,名簿!$E$9:$G$118,3,FALSE))","v":""},{"$f":"IF(B30=\"\",\"\",VLOOKUP(B30,名簿!$E$9:$I$118,5,FALSE))","v":""}]
[4,null,{"$f":"IF(B31=\"\",\"\",VLOOKUP(B31,名簿!$E$9:$G$118,3,FALSE))","v":""},{"$f":"IF(B31=\"\",\"\",VLOOKUP(B31,名簿!$E$9:$I$118,5,FALSE))","v":""}]
[5,null,{"$f":"IF(B32=\"\",\"\",VLOOKUP(B32,名簿!$E$9:$G$118,3,FALSE))","v":""},{"$f":"IF(B32=\"\",\"\",VLOOKUP(B32,名簿!$E$9:$I$118,5,FALSE))","v":""}]
[6,null,{"$f":"IF(B33=\"\",\"\",VLOOKUP(B33,名簿!$E$9:$G$118,3,FALSE))","v":""},{"$f":"IF(B33=\"\",\"\",VLOOKUP(B33,名簿!$E$9:$I$118,5,FALSE))","v":""}]
[7,null,{"$f":"IF(B34=\"\",\"\",VLOOKUP(B34,名簿!$E$9:$G$118,3,FALSE))","v":""},{"$f":"IF(B34=\"\",\"\",VLOOKUP(B34,名簿!$E$9:$I$118,5,FALSE))","v":""}]
[8,null,{"$f":"IF(B35=\"\",\"\",VLOOKUP(B35,名簿!$E$9:$G$118,3,FALSE))","v":""},{"$f":"IF(B35=\"\",\"\",VLOOKUP(B35,名簿!$E$9:$I$118,5,FALSE))","v":""}]
[9,null,{"$f":"IF(B36=\"\",\"\",VLOOKUP(B36,名簿!$E$9:$G$118,3,FALSE))","v":""},{"$f":"IF(B36=\"\",\"\",VLOOKUP(B36,名簿!$E$9:$I$118,5,FALSE))","v":""}]
[10,null,{"$f":"IF(B37=\"\",\"\",VLOOKUP(B37,名簿!$E$9:$G$118,3,FALSE))","v":""},{"$f":"IF(B37=\"\",\"\",VLOOKUP(B37,名簿!$E$9:$I$118,5,FALSE))","v":""}]
["※返信用封筒を同封(切手貼付)の上、事務局まで郵送のこと。"]
[null,null,null,null,null,null,"複写してお使い下さい。"]

{"sheet":"国体1次","index":8,"n_rows":118,"n_cols":61,"rows_kept":118,"cut":false,"hidden":false,"merged":[[1,8,1,9],[1,35,1,38],[5,47,5,48],[3,8,3,9],[2,8,2,9],[4,8,4,9],[5,10,5,11],[1,16,1,22],[2,16,2,22],[3,16,3,21]]}
[null,null,null,null,"所属名",{"$f":"IF(前年度登録!$P$9=\"\",\"\",前年度登録!$P$9)","v":""},null,null,"国体一次選考競技会"]
[null,null,null,null,"所属コード",{"$f":"前年度登録!$Q$9","v":""},"男子参加人数",null,{"$f":"COUNTIF($I$7:$I$116,1)-COUNTIF($BH$7:$BH$116,0)","v":0},null,null,null,null,null,null,null,"去年の登録DATAを選手入力(春季まで）へ貼り付けて下さい"]
[null,null,null,null,"顧問名",{"$f":"IF(前年度登録!$E$5=\"\",\"\",前年度登録!$E$5)","v":""},"女子参加人数",null,{"$f":"COUNTIF($I$7:$I$116,2)-COUNTIF($BI$7:$BI$116,0)","v":0},null,null,null,null,null,null,null,"1年生は選手入力(春季まで）のシートへ追記して下さい"]
[null,null,null,null,"顧問連絡先",{"$f":"IF(前年度登録!$I$5=\"\",\"\",前年度登録!$I$5)","v":""},"参加費",null,{"$f":"$AF$118*1000+T4*500+T5*800","v":0},null,null,null,null,null,{"$f":"$AF$118","v":0},null,"選手入力(春季まで）の学年を修正して下さい"]
[null,null,null,null,null,null,"種目",null,{"$f":"AW56","v":0},null,null,null,null,null,null,null,"プログラム必要冊数",null,null,null,null,"冊"]
["競技者コード","所属コード","所属コード2","ナンバーA","ナンバー","競技者名","カナ名","掲示板名","性別","学年","生年月日",null,"所属地","陸連NO","1種目","コード","記録","オープンF","記録F","2種目","コード","記録","オープンF","記録F","種目3","コード","記録3","オープンF","記録F","4×400R","コード","記録","オープンF","記録F","リレー","コード","記録5","オープンF","記録F",null,null,null,100,null,null,null,null,"種目別参加人数",null,null,null,null,null,null,null,null,null,null,"種目数","男子","女子"]
[null,{"$f":"前年度登録!Q9","v":""},null,null,{"$f":"前年度登録!E9","v":0},{"$f":"前年度登録!BR9","v":""},{"$f":"前年度登録!Z9","v":""},{"$f":"F7","v":""},{"$f":"前年度登録!O9","v":""},{"$f":"前年度登録!I9","v":0},{"$f":"前年度登録!K9","v":0},{"$f":"前年度登録!BU9","v":"00"},{"$f":"前年度登録!R9","v":""},{"$f":"前年度登録!D9","v":0},null,{"$f":"IF(O7=\"\",\"\",IF($I7=1,VLOOKUP(O7,$AV$8:$AX$32,3,FALSE),IF($I7=2,VLOOKUP(O7,$AV$35:$AX$54,3,FALSE))))","v":""},{"$f":"IF(O7=\"\",\"\",HLOOKUP(O7,前年度登録!$AB$8:$BK$118,2,FALSE))","v":""},0,2,null,{"$f":"IF(T7=\"\",\"\",IF($I7=1,VLOOKUP(T7,$AV$8:$AX$32,3,FALSE),IF($I7=2,VLOOKUP(T7,$AV$35:$AX$54,3,FALSE))))","v":""},{"$f":"IF(T7=\"\",\"\",HLOOKUP(T7,前年度登録!$AB$8:$BK$118,2,FALSE))","v":""},0,2,null,{"$f":"IF(Y7=\"\",\"\",IF(I7=1,VLOOKUP(Y7,男子種目コード!$A$1:$B$29,2,FALSE),IF(I7=2,VLOOKUP(Y7,女子種目コード!$A$1:$B$30,2,FALSE))))","v":""},null,0,2,null,{"$f":"IF(AD7=\"\",\"\",IF(I7=1,VLOOKUP(AD7,男子種目コード!$A$78:$B$80,2,FALSE),IF(I7=2,VLOOKUP(AD7,女子種目コード!$A$78:$B$80,2,FALSE))))","v":""},null,0,2,null,{"$f":"IF(AI7=\"\",\"\",IF(I7=1,VLOOKUP(AI7,男子種目コード!$A$1:$B$29,2,FALSE),IF(I7=2,VLOOKUP(AI7,女子種目コード!$A$1:$B$30,2,FALSE))))","v":""},null,0,2,null,null,null,200,{"$f":"IF(O7=\"\",\"\",1)","v":""},{"$f":"IF(OR(AR7=1,T7=\"\"),0,1)","v":0},{"$f":"IF(OR(AR7=1,AS7=1,AD7=\"\"),0,1)","v":0},{"$f":"IF(T7=\"\",\"\",1)","v":""},"男子",null,null,null,null,null,null,null,null,null,null,{"$f":"COUNT(AR7,AU7)","v":0},{"$f":"IF(I7=1,BG7,\"\")","v":""},{"$f":"IF(I7=2,BG7,\"\")","v":""}]
[null,{"$f":"前年度登録!Q10","v":""},null,null,{"$f":"前年度登録!E10","v":0},{"$f":"前年度登録!BR10","v":""},{"$f":"前年度登録!Z10","v":""},{"$f":"F8","v":""},{"$f":"前年度登録!O10","v":""},{"$f":"前年度登録!I10","v":0},{"$f":"前年度登録!K10","v":0},{"$f":"前年度登録!BU10","v":"00"},{"$f":"前年度登録!R10","v":""},{"$f":"前年度登録!D10","v":0},null,"",{"$f":"IF(O8=\"\",\"\",HLOOKUP(O8,前年度登録!$AB$8:$BK$118,3,FALSE))","v":""},0,2,null,"",{"$f":"IF(T8=\"\",\"\",HLOOKUP(T8,前年度登録!$AB$8:$BK$118,3,FALSE))","v":""},0,2,null,{"$f":"IF(Y8=\"\",\"\",IF(I8=1,VLOOKUP(Y8,男子種目コード!$A$1:$B$29,2,FALSE),IF(I8=2,VLOOKUP(Y8,女子種目コード!$A$1:$B$30,2,FALSE))))","v":""},null,0,2,null,{"$f":"IF(AD8=\"\",\"\",IF(I8=1,VLOOKUP(AD8,男子種目コード!$A$78:$B$80,2,FALSE),IF(I8=2,VLOOKUP(AD8,女子種目コード!$A$78:$B$80,2,FALSE))))","v":""},null,0,2,null,{"$f":"IF(AI8=\"\",\"\",IF(I8=1,VLOOKUP(AI8,男子種目コード!$A$1:$B$29,2,FALSE),IF(I8=2,VLOOKUP(AI8,女子種目コード!$A$1:$B$30,2,FALSE))))","v":""},null,0,2,null,null,null,400,"",0,0,"","100m",{"$f":"COUNTIF($P$7:$P$116,1)+COUNTIF($U$7:$U$116,1)","v":0},1,null,null,null,null,null,null,null,null,{"$f":"COUNT(AR8,AU8)","v":0},"",""]
[null,{"$f":"前年度登録!Q11","v":""},null,null,{"$f":"前年度登録!E11","v":0},{"$f":"前年度登録!BR11","v":""},{"$f":"前年度登録!Z11","v":""},"",{"$f":"前年度登録!O11","v":""},{"$f":"前年度登録!I11","v":0},{"$f":"前年度登録!K11","v":0},{"$f":"前年度登録!BU11","v":"00"},{"$f":"前年度登録!R11","v":""},{"$f":"前年度登録!D11","v":0},null,"",{"$f":"IF(O9=\"\",\"\",HLOOKUP(O9,前年度登録!$AB$8:$BK$118,4,FALSE))","v":""},0,2,null,"",{"$f":"IF(T9=\"\",\"\",HLOOKUP(T9,前年度登録!$AB$8:$BK$118,4,FALSE))","v":""},0,2,null,{"$f":"IF(Y9=\"\",\"\",IF(I9=1,VLOOKUP(Y9,男子種目コード!$A$1:$B$29,2,FALSE),IF(I9=2,VLOOKUP(Y9,女子種目コード!$A$1:$B$30,2,FALSE))))","v":""},null,0,2,null,{"$f":"IF(AD9=\"\",\"\",IF(I9=1,VLOOKUP(AD9,男子種目コード!$A$78:$B$80,2,FALSE),IF(I9=2,VLOOKUP(AD9,女子種目コード!$A$78:$B$80,2,FALSE))))","v":""},null,0,2,null,{"$f":"IF(AI9=\"\",\"\",IF(I9=1,VLOOKUP(AI9,男子種目コード!$A$1:$B$29,2,FALSE),IF(I9=2,VLOOKUP(AI9,女子種目コード!$A$1:$B$30,2,FALSE))))","v":""},null,0,2,null,null,null,800,"",0,0,"","200m",{"$f":"COUNTIF($P$7:$P$116,2)+COUNTIF($U$7:$U$116,2)","v":0},2,null,null,null,null,null,null,null,null,0,"",""]
[null,{"$f":"前年度登録!Q12","v":""},null,null,{"$f":"前年度登録!E12","v":0},{"$f":"前年度登録!BR12","v":""},{"$f":"前年度登録!Z12","v":""},"",{"$f":"前年度登録!O12","v":""},{"$f":"前年度登録!I12","v":0},{"$f":"前年度登録!K12","v":0},{"$f":"前年度登録!BU12","v":"00"},{"$f":"前年度登録!R12","v":""},{"$f":"前年度登録!D12","v":0},null,"",{"$f":"IF(O10=\"\",\"\",HLOOKUP(O10,前年度登録!$AB$8:$BK$118,5,FALSE))","v":""},0,2,null,"",{"$f":"IF(T10=\"\",\"\",HLOOKUP(T10,前年度登録!$AB$8:$BK$118,5,FALSE))","v":""},0,2,null,{"$f":"IF(Y10=\"\",\"\",IF(I10=1,VLOOKUP(Y10,男子種目コード!$A$1:$B$29,2,FALSE),IF(I10=2,VLOOKUP(Y10,女子種目コード!$A$1:$B$30,2,FALSE))))","v":""},null,0,2,null,{"$f":"IF(AD10=\"\",\"\",IF(I10=1,VLOOKUP(AD10,男子種目コード!$A$78:$B$80,2,FALSE),IF(I10=2,VLOOKUP(AD10,女子種目コード!$A$78:$B$80,2,FALSE))))","v":""},null,0,2,null,{"$f":"IF(AI10=\"\",\"\",IF(I10=1,VLOOKUP(AI10,男子種目コード!$A$1:$B$29,2,FALSE),IF(I10=2,VLOOKUP(AI10,女子種目コード!$A$1:$B$30,2,FALSE))))","v":""},null,0,2,null,null,null,1500,"",0,0,"","400m",{"$f":"COUNTIF($P$7:$P$116,3)+COUNTIF($U$7:$U$116,3)","v":0},3,null,null,null,null,null,null,null,null,0,"",""]
[null,{"$f":"前年度登録!Q13","v":""},null,null,{"$f":"前年度登録!E13","v":0},{"$f":"前年度登録!BR13","v":""},{"$f":"前年度登録!Z13","v":""},"",{"$f":"前年度登録!O13","v":""},{"$f":"前年度登録!I13","v":0},{"$f":"前年度登録!K13","v":0},{"$f":"前年度登録!BU13","v":"00"},{"$f":"前年度登録!R13","v":""},{"$f":"前年度登録!D13","v":0},null,"",{"$f":"IF(O11=\"\",\"\",HLOOKUP(O11,前年度登録!$AB$8:$BK$118,6,FALSE))","v":""},0,2,null,"",{"$f":"IF(T11=\"\",\"\",HLOOKUP(T11,前年度登録!$AB$8:$BK$118,6,FALSE))","v":""},0,2,null,{"$f":"IF(Y11=\"\",\"\",IF(I11=1,VLOOKUP(Y11,男子種目コード!$A$1:$B$29,2,FALSE),IF(I11=2,VLOOKUP(Y11,女子種目コード!$A$1:$B$30,2,FALSE))))","v":""},null,0,2,null,{"$f":"IF(AD11=\"\",\"\",IF(I11=1,VLOOKUP(AD11,男子種目コード!$A$78:$B$80,2,FALSE),IF(I11=2,VLOOKUP(AD11,女子種目コード!$A$78:$B$80,2,FALSE))))","v":""},null,0,2,null,{"$f":"IF(AI11=\"\",\"\",IF(I11=1,VLOOKUP(AI11,男子種目コード!$A$1:$B$29,2,FALSE),IF(I11=2,VLOOKUP(AI11,女子種目コード!$A$1:$B$30,2,FALSE))))","v":""},null,0,2,null,null,null,5000,"",0,0,"","800m",{"$f":"COUNTIF($P$7:$P$116,4)+COUNTIF($U$7:$U$116,4)","v":0},4,null,null,null,null,null,null,null,null,0,"",""]
[null,{"$f":"前年度登録!Q14","v":""},null,null,{"$f":"前年度登録!E14","v":0},{"$f":"前年度登録!BR14","v":""},{"$f":"前年度登録!Z14","v":""},"",{"$f":"前年度登録!O14","v":""},{"$f":"前年度登録!I14","v":0},{"$f":"前年度登録!K14","v":0},{"$f":"前年度登録!BU14","v":"00"},{"$f":"前年度登録!R14","v":""},{"$f":"前年度登録!D14","v":0},null,"",{"$f":"IF(O12=\"\",\"\",HLOOKUP(O12,前年度登録!$AB$8:$BK$118,7,FALSE))","v":""},0,2,null,"",{"$f":"IF(T12=\"\",\"\",HLOOKUP(T12,前年度登録!$AB$8:$BK$118,7,FALSE))","v":""},0,2,null,{"$f":"IF(Y12=\"\",\"\",IF(I12=1,VLOOKUP(Y12,男子種目コード!$A$1:$B$29,2,FALSE),IF(I12=2,VLOOKUP(Y12,女子種目コード!$A$1:$B$30,2,FALSE))))","v":""},null,0,2,null,{"$f":"IF(AD12=\"\",\"\",IF(I12=1,VLOOKUP(AD12,男子種目コード!$A$78:$B$80,2,FALSE),IF(I12=2,VLOOKUP(AD12,女子種目コード!$A$78:$B$80,2,FALSE))))","v":""},null,0,2,null,{"$f":"IF(AI12=\"\",\"\",IF(I12=1,VLOOKUP(AI12,男子種目コード!$A$1:$B$29,2,FALSE),IF(I12=2,VLOOKUP(AI12,女子種目コード!$A$1:$B$30,2,FALSE))))","v":""},null,0,2,null,null,null,10000,"",0,0,"","1500m",{"$f":"COUNTIF($P$7:$P$116,5)+COUNTIF($U$7:$U$116,5)","v":0},5,null,null,null,null,null,null,null,null,0,"",""]
[null,{"$f":"前年度登録!Q15","v":""},null,null,{"$f":"前年度登録!E15","v":0},{"$f":"前年度登録!BR15","v":""},{"$f":"前年度登録!Z15","v":""},"",{"$f":"前年度登録!O15","v":""},{"$f":"前年度登録!I15","v":0},{"$f":"前年度登録!K15","v":0},{"$f":"前年度登録!BU15","v":"00"},{"$f":"前年度登録!R15","v":""},{"$f":"前年度登録!D15","v":0},null,"",{"$f":"IF(O13=\"\",\"\",HLOOKUP(O13,前年度登録!$AB$8:$BK$118,8,FALSE))","v":""},0,2,null,"",{"$f":"IF(T13=\"\",\"\",HLOOKUP(T13,前年度登録!$AB$8:$BK$118,8,FALSE))","v":""},0,2,null,{"$f":"IF(Y13=\"\",\"\",IF(I13=1,VLOOKUP(Y13,男子種目コード!$A$1:$B$29,2,FALSE),IF(I13=2,VLOOKUP(Y13,女子種目コード!$A$1:$B$30,2,FALSE))))","v":""},null,0,2,null,{"$f":"IF(AD13=\"\",\"\",IF(I13=1,VLOOKUP(AD13,男子種目コード!$A$78:$B$80,2,FALSE),IF(I13=2,VLOOKUP(AD13,女子種目コード!$A$78:$B$80,2,FALSE))))","v":""},null,0,2,null,{"$f":"IF(AI13=\"\",\"\",IF(I13=1,VLOOKUP(AI13,男子種目コード!$A$1:$B$29,2,FALSE),IF(I13=2,VLOOKUP(AI13,女子種目コード!$A$1:$B$30,2,FALSE))))","v":""},null,0,2,null,null,null,"100H","",0,0,"","5000m",{"$f":"COUNTIF($P$7:$P$116,6)+COUNTIF($U$7:$U$116,6)","v":0},6,null,null,null,null,null,null,null,null,0,"",""]
[null,{"$f":"前年度登録!Q16","v":""},null,null,{"$f":"前年度登録!E16","v":0},{"$f":"前年度登録!BR16","v":""},{"$f":"前年度登録!Z16","v":""},"",{"$f":"前年度登録!O16","v":""},{"$f":"前年度登録!I16","v":0},{"$f":"前年度登録!K16","v":0},{"$f":"前年度登録!BU16","v":"00"},{"$f":"前年度登録!R16","v":""},{"$f":"前年度登録!D16","v":0},null,"",{"$f":"IF(O14=\"\",\"\",HLOOKUP(O14,前年度登録!$AB$8:$BK$118,9,FALSE))","v":""},0,2,null,"",{"$f":"IF(T14=\"\",\"\",HLOOKUP(T14,前年度登録!$AB$8:$BK$118,9,FALSE))","v":""},0,2,null,{"$f":"IF(Y14=\"\",\"\",IF(I14=1,VLOOKUP(Y14,男子種目コード!$A$1:$B$29,2,FALSE),IF(I14=2,VLOOKUP(Y14,女子種目コード!$A$1:$B$30,2,FALSE))))","v":""},null,0,2,null,{"$f":"IF(AD14=\"\",\"\",IF(I14=1,VLOOKUP(AD14,男子種目コード!$A$78:$B$80,2,FALSE),IF(I14=2,VLOOKUP(AD14,女子種目コード!$A$78:$B$80,2,FALSE))))","v":""},null,0,2,null,{"$f":"IF(AI14=\"\",\"\",IF(I14=1,VLOOKUP(AI14,男子種目コード!$A$1:$B$29,2,FALSE),IF(I14=2,VLOOKUP(AI14,女子種目コード!$A$1:$B$30,2,FALSE))))","v":""},null,0,2,null,null,null,"110H","",0,0,"","10000m",{"$f":"COUNTIF($P$7:$P$116,7)+COUNTIF($U$7:$U$116,7)","v":0},7,null,null,null,null,null,null,null,null,0,"",""]
[null,{"$f":"前年度登録!Q17","v":""},null,null,{"$f":"前年度登録!E17","v":0},{"$f":"前年度登録!BR17","v":""},{"$f":"前年度登録!Z17","v":""},"",{"$f":"前年度登録!O17","v":""},{"$f":"前年度登録!I17","v":0},{"$f":"前年度登録!K17","v":0},{"$f":"前年度登録!BU17","v":"00"},{"$f":"前年度登録!R17","v":""},{"$f":"前年度登録!D17","v":0},null,"",{"$f":"IF(O15=\"\",\"\",HLOOKUP(O15,前年度登録!$AB$8:$BK$118,10,FALSE))","v":""},0,2,null,"",{"$f":"IF(T15=\"\",\"\",HLOOKUP(T15,前年度登録!$AB$8:$BK$118,10,FALSE))","v":""},0,2,null,{"$f":"IF(Y15=\"\",\"\",IF(I15=1,VLOOKUP(Y15,男子種目コード!$A$1:$B$29,2,FALSE),IF(I15=2,VLOOKUP(Y15,女子種目コード!$A$1:$B$30,2,FALSE))))","v":""},null,0,2,null,{"$f":"IF(AD15=\"\",\"\",IF(I15=1,VLOOKUP(AD15,男子種目コード!$A$78:$B$80,2,FALSE),IF(I15=2,VLOOKUP(AD15,女子種目コード!$A$78:$B$80,2,FALSE))))","v":""},null,0,2,null,{"$f":"IF(AI15=\"\",\"\",IF(I15=1,VLOOKUP(AI15,男子種目コード!$A$1:$B$29,2,FALSE),IF(I15=2,VLOOKUP(AI15,女子種目コード!$A$1:$B$30,2,FALSE))))","v":""},null,0,2,null,null,null,"400H","",0,0,"","110mH",{"$f":"COUNTIF($P$7:$P$116,8)+COUNTIF($U$7:$U$116,8)","v":0},8,null,null,null,null,null,null,null,null,0,"",""]
[null,{"$f":"前年度登録!Q18","v":""},null,null,{"$f":"前年度登録!E18","v":0},{"$f":"前年度登録!BR18","v":""},{"$f":"前年度登録!Z18","v":""},"",{"$f":"前年度登録!O18","v":""},{"$f":"前年度登録!I18","v":0},{"$f":"前年度登録!K18","v":0},{"$f":"前年度登録!BU18","v":"00"},{"$f":"前年度登録!R18","v":""},{"$f":"前年度登録!D18","v":0},null,"",{"$f":"IF(O16=\"\",\"\",HLOOKUP(O16,前年度登録!$AB$8:$BK$118,11,FALSE))","v":""},0,2,null,"",{"$f":"IF(T16=\"\",\"\",HLOOKUP(T16,前年度登録!$AB$8:$BK$118,11,FALSE))","v":""},0,2,null,{"$f":"IF(Y16=\"\",\"\",IF(I16=1,VLOOKUP(Y16,男子種目コード!$A$1:$B$29,2,FALSE),IF(I16=2,VLOOKUP(Y16,女子種目コード!$A$1:$B$30,2,FALSE))))","v":""},null,0,2,null,{"$f":"IF(AD16=\"\",\"\",IF(I16=1,VLOOKUP(AD16,男子種目コード!$A$78:$B$80,2,FALSE),IF(I16=2,VLOOKUP(AD16,女子種目コード!$A$78:$B$80,2,FALSE))))","v":""},null,0,2,null,{"$f":"IF(AI16=\"\",\"\",IF(I16=1,VLOOKUP(AI16,男子種目コード!$A$1:$B$29,2,FALSE),IF(I16=2,VLOOKUP(AI16,女子種目コード!$A$1:$B$30,2,FALSE))))","v":""},null,0,2,null,null,null,"3000SC","",0,0,"","400mH",{"$f":"COUNTIF($P$7:$P$116,9)+COUNTIF($U$7:$U$116,9)","v":0},9,null,null,null,null,null,null,null,null,0,"",""]
[null,{"$f":"前年度登録!Q19","v":""},null,null,{"$f":"前年度登録!E19","v":0},{"$f":"前年度登録!BR19","v":""},{"$f":"前年度登録!Z19","v":""},"",{"$f":"前年度登録!O19","v":""},{"$f":"前年度登録!I19","v":0},{"$f":"前年度登録!K19","v":0},{"$f":"前年度登録!BU19","v":"00"},{"$f":"前年度登録!R19","v":""},{"$f":"前年度登録!D19","v":0},null,"",{"$f":"IF(O17=\"\",\"\",HLOOKUP(O17,前年度登録!$AB$8:$BK$118,12,FALSE))","v":""},0,2,null,"",{"$f":"IF(T17=\"\",\"\",HLOOKUP(T17,前年度登録!$AB$8:$BK$118,12,FALSE))","v":""},0,2,null,{"$f":"IF(Y17=\"\",\"\",IF(I17=1,VLOOKUP(Y17,男子種目コード!$A$1:$B$29,2,FALSE),IF(I17=2,VLOOKUP(Y17,女子種目コード!$A$1:$B$30,2,FALSE))))","v":""},null,0,2,null,{"$f":"IF(AD17=\"\",\"\",IF(I17=1,VLOOKUP(AD17,男子種目コード!$A$78:$B$80,2,FALSE),IF(I17=2,VLOOKUP(AD17,女子種目コード!$A$78:$B$80,2,FALSE))))","v":""},null,0,2,null,{"$f":"IF(AI17=\"\",\"\",IF(I17=1,VLOOKUP(AI17,男子種目コード!$A$1:$B$29,2,FALSE),IF(I17=2,VLOOKUP(AI17,女子種目コード!$A$1:$B$30,2,FALSE))))","v":""},null,0,2,null,null,null,"5000W","",0,0,"","3000mSC",{"$f":"COUNTIF($P$7:$P$116,10)+COUNTIF($U$7:$U$116,10)","v":0},10,null,null,null,null,null,null,null,null,0,"",""]
[null,{"$f":"前年度登録!Q20","v":""},null,null,{"$f":"前年度登録!E20","v":0},{"$f":"前年度登録!BR20","v":""},{"$f":"前年度登録!Z20","v":""},"",{"$f":"前年度登録!O20","v":""},{"$f":"前年度登録!I20","v":0},{"$f":"前年度登録!K20","v":0},{"$f":"前年度登録!BU20","v":"00"},{"$f":"前年度登録!R20","v":""},{"$f":"前年度登録!D20","v":0},null,"",{"$f":"IF(O18=\"\",\"\",HLOOKUP(O18,前年度登録!$AB$8:$BK$118,13,FALSE))","v":""},0,2,null,"",{"$f":"IF(T18=\"\",\"\",HLOOKUP(T18,前年度登録!$AB$8:$BK$118,13,FALSE))","v":""},0,2,null,{"$f":"IF(Y18=\"\",\"\",IF(I18=1,VLOOKUP(Y18,男子種目コード!$A$1:$B$29,2,FALSE),IF(I18=2,VLOOKUP(Y18,女子種目コード!$A$1:$B$30,2,FALSE))))","v":""},null,0,2,null,{"$f":"IF(AD18=\"\",\"\",IF(I18=1,VLOOKUP(AD18,男子種目コード!$A$78:$B$80,2,FALSE),IF(I18=2,VLOOKUP(AD18,女子種目コード!$A$78:$B$80,2,FALSE))))","v":""},null,0,2,null,{"$f":"IF(AI18=\"\",\"\",IF(I18=1,VLOOKUP(AI18,男子種目コード!$A$1:$B$29,2,FALSE),IF(I18=2,VLOOKUP(AI18,女子種目コード!$A$1:$B$30,2,FALSE))))","v":""},null,0,2,null,null,null,"走高跳","",0,0,"","5000mW",{"$f":"COUNTIF($P$7:$P$116,12)+COUNTIF($U$7:$U$116,12)","v":0},12,null,null,null,null,null,null,null,null,0,"",""]
[null,{"$f":"前年度登録!Q21","v":""},null,null,{"$f":"前年度登録!E21","v":0},{"$f":"前年度登録!BR21","v":""},{"$f":"前年度登録!Z21","v":""},"",{"$f":"前年度登録!O21","v":""},{"$f":"前年度登録!I21","v":0},{"$f":"前年度登録!K21","v":0},{"$f":"前年度登録!BU21","v":"00"},{"$f":"前年度登録!R21","v":""},{"$f":"前年度登録!D21","v":0},null,"",{"$f":"IF(O19=\"\",\"\",HLOOKUP(O19,前年度登録!$AB$8:$BK$118,14,FALSE))","v":""},0,2,null,"",{"$f":"IF(T19=\"\",\"\",HLOOKUP(T19,前年度登録!$AB$8:$BK$118,14,FALSE))","v":""},0,2,null,{"$f":"IF(Y19=\"\",\"\",IF(I19=1,VLOOKUP(Y19,男子種目コード!$A$1:$B$29,2,FALSE),IF(I19=2,VLOOKUP(Y19,女子種目コード!$A$1:$B$30,2,FALSE))))","v":""},null,0,2,null,{"$f":"IF(AD19=\"\",\"\",IF(I19=1,VLOOKUP(AD19,男子種目コード!$A$78:$B$80,2,FALSE),IF(I19=2,VLOOKUP(AD19,女子種目コード!$A$78:$B$80,2,FALSE))))","v":""},null,0,2,null,{"$f":"IF(AI19=\"\",\"\",IF(I19=1,VLOOKUP(AI19,男子種目コード!$A$1:$B$29,2,FALSE),IF(I19=2,VLOOKUP(AI19,女子種目コード!$A$1:$B$30,2,FALSE))))","v":""},null,0,2,null,null,null,"棒高跳","",0,0,"","走高跳",{"$f":"COUNTIF($P$7:$P$116,15)+COUNTIF($U$7:$U$116,15)","v":0},15,null,null,null,null,null,null,null,null,0,"",""]
[null,{"$f":"前年度登録!Q22","v":""},null,null,{"$f":"前年度登録!E22","v":0},{"$f":"前年度登録!BR22","v":""},{"$f":"前年度登録!Z22","v":""},"",{"$f":"前年度登録!O22","v":""},{"$f":"前年度登録!I22","v":0},{"$f":"前年度登録!K22","v":0},{"$f":"前年度登録!BU22","v":"00"},{"$f":"前年度登録!R22","v":""},{"$f":"前年度登録!D22","v":0},null,"",{"$f":"IF(O20=\"\",\"\",HLOOKUP(O20,前年度登録!$AB$8:$BK$118,15,FALSE))","v":""},0,2,null,"",{"$f":"IF(T20=\"\",\"\",HLOOKUP(T20,前年度登録!$AB$8:$BK$118,15,FALSE))","v":""},0,2,null,{"$f":"IF(Y20=\"\",\"\",IF(I20=1,VLOOKUP(Y20,男子種目コード!$A$1:$B$29,2,FALSE),IF(I20=2,VLOOKUP(Y20,女子種目コード!$A$1:$B$30,2,FALSE))))","v":""},null,0,2,null,{"$f":"IF(AD20=\"\",\"\",IF(I20=1,VLOOKUP(AD20,男子種目コード!$A$78:$B$80,2,FALSE),IF(I20=2,VLOOKUP(AD20,女子種目コード!$A$78:$B$80,2,FALSE))))","v":""},null,0,2,null,{"$f":"IF(AI20=\"\",\"\",IF(I20=1,VLOOKUP(AI20,男子種目コード!$A$1:$B$29,2,FALSE),IF(I20=2,VLOOKUP(AI20,女子種目コード!$A$1:$B$30,2,FALSE))))","v":""},null,0,2,null,null,null,"走幅跳","",0,0,"","棒高跳",{"$f":"COUNTIF($P$7:$P$116,16)+COUNTIF($U$7:$U$116,16)","v":0},16,null,null,null,null,null,null,null,null,0,"",""]
[null,{"$f":"前年度登録!Q23","v":""},null,null,{"$f":"前年度登録!E23","v":0},{"$f":"前年度登録!BR23","v":""},{"$f":"前年度登録!Z23","v":""},"",{"$f":"前年度登録!O23","v":""},{"$f":"前年度登録!I23","v":0},{"$f":"前年度登録!K23","v":0},{"$f":"前年度登録!BU23","v":"00"},{"$f":"前年度登録!R23","v":""},{"$f":"前年度登録!D23","v":0},null,"",{"$f":"IF(O21=\"\",\"\",HLOOKUP(O21,前年度登録!$AB$8:$BK$118,16,FALSE))","v":""},0,2,null,"",{"$f":"IF(T21=\"\",\"\",HLOOKUP(T21,前年度登録!$AB$8:$BK$118,16,FALSE))","v":""},0,2,null,{"$f":"IF(Y21=\"\",\"\",IF(I21=1,VLOOKUP(Y21,男子種目コード!$A$1:$B$29,2,FALSE),IF(I21=2,VLOOKUP(Y21,女子種目コード!$A$1:$B$30,2,FALSE))))","v":""},null,0,2,null,{"$f":"IF(AD21=\"\",\"\",IF(I21=1,VLOOKUP(AD21,男子種目コード!$A$78:$B$80,2,FALSE),IF(I21=2,VLOOKUP(AD21,女子種目コード!$A$78:$B$80,2,FALSE))))","v":""},null,0,2,null,{"$f":"IF(AI21=\"\",\"\",IF(I21=1,VLOOKUP(AI21,男子種目コード!$A$1:$B$29,2,FALSE),IF(I21=2,VLOOKUP(AI21,女子種目コード!$A$1:$B$30,2,FALSE))))","v":""},null,0,2,null,null,null,"三段跳","",0,0,"","走幅跳",{"$f":"COUNTIF($P$7:$P$116,17)+COUNTIF($U$7:$U$116,17)","v":0},17,null,null,null,null,null,null,null,null,0,"",""]
[null,{"$f":"前年度登録!Q24","v":""},null,null,{"$f":"前年度登録!E24","v":0},{"$f":"前年度登録!BR24","v":""},{"$f":"前年度登録!Z24","v":""},"",{"$f":"前年度登録!O24","v":""},{"$f":"前年度登録!I24","v":0},{"$f":"前年度登録!K24","v":0},{"$f":"前年度登録!BU24","v":"00"},{"$f":"前年度登録!R24","v":""},{"$f":"前年度登録!D24","v":0},null,"",{"$f":"IF(O22=\"\",\"\",HLOOKUP(O22,前年度登録!$AB$8:$BK$118,17,FALSE))","v":""},0,2,null,"",{"$f":"IF(T22=\"\",\"\",HLOOKUP(T22,前年度登録!$AB$8:$BK$118,17,FALSE))","v":""},0,2,null,{"$f":"IF(Y22=\"\",\"\",IF(I22=1,VLOOKUP(Y22,男子種目コード!$A$1:$B$29,2,FALSE),IF(I22=2,VLOOKUP(Y22,女子種目コード!$A$1:$B$30,2,FALSE))))","v":""},null,0,2,null,{"$f":"IF(AD22=\"\",\"\",IF(I22=1,VLOOKUP(AD22,男子種目コード!$A$78:$B$80,2,FALSE),IF(I22=2,VLOOKUP(AD22,女子種目コード!$A$78:$B$80,2,FALSE))))","v":""},null,0,2,null,{"$f":"IF(AI22=\"\",\"\",IF(I22=1,VLOOKUP(AI22,男子種目コード!$A$1:$B$29,2,FALSE),IF(I22=2,VLOOKUP(AI22,女子種目コード!$A$1:$B$30,2,FALSE))))","v":""},null,0,2,null,null,null,"砲丸投","",0,0,"","三段跳",{"$f":"COUNTIF($P$7:$P$116,18)+COUNTIF($U$7:$U$116,18)","v":0},18,null,null,null,null,null,null,null,null,0,"",""]
[null,{"$f":"前年度登録!Q25","v":""},null,null,{"$f":"前年度登録!E25","v":0},{"$f":"前年度登録!BR25","v":""},{"$f":"前年度登録!Z25","v":""},"",{"$f":"前年度登録!O25","v":""},{"$f":"前年度登録!I25","v":0},{"$f":"前年度登録!K25","v":0},{"$f":"前年度登録!BU25","v":"00"},{"$f":"前年度登録!R25","v":""},{"$f":"前年度登録!D25","v":0},null,"",{"$f":"IF(O23=\"\",\"\",HLOOKUP(O23,前年度登録!$AB$8:$BK$118,18,FALSE))","v":""},0,2,null,"",{"$f":"IF(T23=\"\",\"\",HLOOKUP(T23,前年度登録!$AB$8:$BK$118,18,FALSE))","v":""},0,2,null,{"$f":"IF(Y23=\"\",\"\",IF(I23=1,VLOOKUP(Y23,男子種目コード!$A$1:$B$29,2,FALSE),IF(I23=2,VLOOKUP(Y23,女子種目コード!$A$1:$B$30,2,FALSE))))","v":""},null,0,2,null,{"$f":"IF(AD23=\"\",\"\",IF(I23=1,VLOOKUP(AD23,男子種目コード!$A$78:$B$80,2,FALSE),IF(I23=2,VLOOKUP(AD23,女子種目コード!$A$78:$B$80,2,FALSE))))","v":""},null,0,2,null,{"$f":"IF(AI23=\"\",\"\",IF(I23=1,VLOOKUP(AI23,男子種目コード!$A$1:$B$29,2,FALSE),IF(I23=2,VLOOKUP(AI23,女子種目コード!$A$1:$B$30,2,FALSE))))","v":""},null,0,2,null,null,null,"円盤投","",0,0,"","砲丸投",{"$f":"COUNTIF($P$7:$P$116,19)+COUNTIF($U$7:$U$116,19)","v":0},19,null,null,null,null,null,null,null,null,0,"",""]
[null,{"$f":"前年度登録!Q26","v":""},null,null,{"$f":"前年度登録!E26","v":0},{"$f":"前年度登録!BR26","v":""},{"$f":"前年度登録!Z26","v":""},"",{"$f":"前年度登録!O26","v":""},{"$f":"前年度登録!I26","v":0},{"$f":"前年度登録!K26","v":0},{"$f":"前年度登録!BU26","v":"00"},{"$f":"前年度登録!R26","v":""},{"$f":"前年度登録!D26","v":0},null,"",{"$f":"IF(O24=\"\",\"\",HLOOKUP(O24,前年度登録!$AB$8:$BK$118,19,FALSE))","v":""},0,2,null,"",{"$f":"IF(T24=\"\",\"\",HLOOKUP(T24,前年度登録!$AB$8:$BK$118,19,FALSE))","v":""},0,2,null,{"$f":"IF(Y24=\"\",\"\",IF(I24=1,VLOOKUP(Y24,男子種目コード!$A$1:$B$29,2,FALSE),IF(I24=2,VLOOKUP(Y24,女子種目コード!$A$1:$B$30,2,FALSE))))","v":""},null,0,2,null,{"$f":"IF(AD24=\"\",\"\",IF(I24=1,VLOOKUP(AD24,男子種目コード!$A$78:$B$80,2,FALSE),IF(I24=2,VLOOKUP(AD24,女子種目コード!$A$78:$B$80,2,FALSE))))","v":""},null,0,2,null,{"$f":"IF(AI24=\"\",\"\",IF(I24=1,VLOOKUP(AI24,男子種目コード!$A$1:$B$29,2,FALSE),IF(I24=2,VLOOKUP(AI24,女子種目コード!$A$1:$B$30,2,FALSE))))","v":""},null,0,2,null,null,null,"ハンマー投","",0,0,"","円盤投",{"$f":"COUNTIF($P$7:$P$116,20)+COUNTIF($U$7:$U$116,20)","v":0},20,null,null,null,null,null,null,null,null,0,"",""]
[null,{"$f":"前年度登録!Q27","v":""},null,null,{"$f":"前年度登録!E27","v":0},{"$f":"前年度登録!BR27","v":""},{"$f":"前年度登録!Z27","v":""},"",{"$f":"前年度登録!O27","v":""},{"$f":"前年度登録!I27","v":0},{"$f":"前年度登録!K27","v":0},{"$f":"前年度登録!BU27","v":"00"},{"$f":"前年度登録!R27","v":""},{"$f":"前年度登録!D27","v":0},null,"",{"$f":"IF(O25=\"\",\"\",HLOOKUP(O25,前年度登録!$AB$8:$BK$118,20,FALSE))","v":""},0,2,null,"",{"$f":"IF(T25=\"\",\"\",HLOOKUP(T25,前年度登録!$AB$8:$BK$118,20,FALSE))","v":""},0,2,null,{"$f":"IF(Y25=\"\",\"\",IF(I25=1,VLOOKUP(Y25,男子種目コード!$A$1:$B$29,2,FALSE),IF(I25=2,VLOOKUP(Y25,女子種目コード!$A$1:$B$30,2,FALSE))))","v":""},null,0,2,null,{"$f":"IF(AD25=\"\",\"\",IF(I25=1,VLOOKUP(AD25,男子種目コード!$A$78:$B$80,2,FALSE),IF(I25=2,VLOOKUP(AD25,女子種目コード!$A$78:$B$80,2,FALSE))))","v":""},null,0,2,null,{"$f":"IF(AI25=\"\",\"\",IF(I25=1,VLOOKUP(AI25,男子種目コード!$A$1:$B$29,2,FALSE),IF(I25=2,VLOOKUP(AI25,女子種目コード!$A$1:$B$30,2,FALSE))))","v":""},null,0,2,null,null,null,"やり投","",0,0,"","ハンマー投",{"$f":"COUNTIF($P$7:$P$116,21)+COUNTIF($U$7:$U$116,21)","v":0},21,null,null,null,null,null,null,null,null,0,"",""]
[null,{"$f":"前年度登録!Q28","v":""},null,null,{"$f":"前年度登録!E28","v":0},{"$f":"前年度登録!BR28","v":""},{"$f":"前年度登録!Z28","v":""},"",{"$f":"前年度登録!O28","v":""},{"$f":"前年度登録!I28","v":0},{"$f":"前年度登録!K28","v":0},{"$f":"前年度登録!BU28","v":"00"},{"$f":"前年度登録!R28","v":""},{"$f":"前年度登録!D28","v":0},null,"",{"$f":"IF(O26=\"\",\"\",HLOOKUP(O26,前年度登録!$AB$8:$BK$118,21,FALSE))","v":""},0,2,null,"",{"$f":"IF(T26=\"\",\"\",HLOOKUP(T26,前年度登録!$AB$8:$BK$118,21,FALSE))","v":""},0,2,null,{"$f":"IF(Y26=\"\",\"\",IF(I26=1,VLOOKUP(Y26,男子種目コード!$A$1:$B$29,2,FALSE),IF(I26=2,VLOOKUP(Y26,女子種目コード!$A$1:$B$30,2,FALSE))))","v":""},null,0,2,null,{"$f":"IF(AD26=\"\",\"\",IF(I26=1,VLOOKUP(AD26,男子種目コード!$A$78:$B$80,2,FALSE),IF(I26=2,VLOOKUP(AD26,女子種目コード!$A$78:$B$80,2,FALSE))))","v":""},null,0,2,null,{"$f":"IF(AI26=\"\",\"\",IF(I26=1,VLOOKUP(AI26,男子種目コード!$A$1:$B$29,2,FALSE),IF(I26=2,VLOOKUP(AI26,女子種目コード!$A$1:$B$30,2,FALSE))))","v":""},null,0,2,null,null,null,"少年B100H","",0,0,"","やり投",{"$f":"COUNTIF($P$7:$P$116,22)+COUNTIF($U$7:$U$116,22)","v":0},22,null,null,null,null,null,null,null,null,0,"",""]
[null,{"$f":"前年度登録!Q29","v":""},null,null,{"$f":"前年度登録!E29","v":0},{"$f":"前年度登録!BR29","v":""},{"$f":"前年度登録!Z29","v":""},"",{"$f":"前年度登録!O29","v":""},{"$f":"前年度登録!I29","v":0},{"$f":"前年度登録!K29","v":0},{"$f":"前年度登録!BU29","v":"00"},{"$f":"前年度登録!R29","v":""},{"$f":"前年度登録!D29","v":0},null,"",{"$f":"IF(O27=\"\",\"\",HLOOKUP(O27,前年度登録!$AB$8:$BK$118,22,FALSE))","v":""},0,2,null,"",{"$f":"IF(T27=\"\",\"\",HLOOKUP(T27,前年度登録!$AB$8:$BK$118,22,FALSE))","v":""},0,2,null,{"$f":"IF(Y27=\"\",\"\",IF(I27=1,VLOOKUP(Y27,男子種目コード!$A$1:$B$29,2,FALSE),IF(I27=2,VLOOKUP(Y27,女子種目コード!$A$1:$B$30,2,FALSE))))","v":""},null,0,2,null,{"$f":"IF(AD27=\"\",\"\",IF(I27=1,VLOOKUP(AD27,男子種目コード!$A$78:$B$80,2,FALSE),IF(I27=2,VLOOKUP(AD27,女子種目コード!$A$78:$B$80,2,FALSE))))","v":""},null,0,2,null,{"$f":"IF(AI27=\"\",\"\",IF(I27=1,VLOOKUP(AI27,男子種目コード!$A$1:$B$29,2,FALSE),IF(I27=2,VLOOKUP(AI27,女子種目コード!$A$1:$B$30,2,FALSE))))","v":""},null,0,2,null,null,null,"少年3000","",0,0,"","少年3000m",{"$f":"COUNTIF($P$7:$P$116,24)+COUNTIF($U$7:$U$116,24)","v":0},24,null,null,null,null,null,null,null,null,0,"",""]
[null,{"$f":"前年度登録!Q30","v":""},null,null,{"$f":"前年度登録!E30","v":0},{"$f":"前年度登録!BR30","v":""},{"$f":"前年度登録!Z30","v":""},"",{"$f":"前年度登録!O30","v":""},{"$f":"前年度登録!I30","v":0},{"$f":"前年度登録!K30","v":0},{"$f":"前年度登録!BU30","v":"00"},{"$f":"前年度登録!R30","v":""},{"$f":"前年度登録!D30","v":0},null,"",{"$f":"IF(O28=\"\",\"\",HLOOKUP(O28,前年度登録!$AB$8:$BK$118,23,FALSE))","v":""},0,2,null,"",{"$f":"IF(T28=\"\",\"\",HLOOKUP(T28,前年度登録!$AB$8:$BK$118,23,FALSE))","v":""},0,2,null,{"$f":"IF(Y28=\"\",\"\",IF(I28=1,VLOOKUP(Y28,男子種目コード!$A$1:$B$29,2,FALSE),IF(I28=2,VLOOKUP(Y28,女子種目コード!$A$1:$B$30,2,FALSE))))","v":""},null,0,2,null,{"$f":"IF(AD28=\"\",\"\",IF(I28=1,VLOOKUP(AD28,男子種目コード!$A$78:$B$80,2,FALSE),IF(I28=2,VLOOKUP(AD28,女子種目コード!$A$78:$B$80,2,FALSE))))","v":""},null,0,2,null,{"$f":"IF(AI28=\"\",\"\",IF(I28=1,VLOOKUP(AI28,男子種目コード!$A$1:$B$29,2,FALSE),IF(I28=2,VLOOKUP(AI28,女子種目コード!$A$1:$B$30,2,FALSE))))","v":""},null,0,2,null,null,null,"少年砲丸投","",0,0,"","少年砲丸投",{"$f":"COUNTIF($P$7:$P$116,25)+COUNTIF($U$7:$U$116,25)","v":0},25,null,null,null,null,null,null,null,null,0,"",""]
[null,{"$f":"前年度登録!Q31","v":""},null,null,{"$f":"前年度登録!E31","v":0},{"$f":"前年度登録!BR31","v":""},{"$f":"前年度登録!Z31","v":""},"",{"$f":"前年度登録!O31","v":""},{"$f":"前年度登録!I31","v":0},{"$f":"前年度登録!K31","v":0},{"$f":"前年度登録!BU31","v":"00"},{"$f":"前年度登録!R31","v":""},{"$f":"前年度登録!D31","v":0},null,"",{"$f":"IF(O29=\"\",\"\",HLOOKUP(O29,前年度登録!$AB$8:$BK$118,24,FALSE))","v":""},0,2,null,"",{"$f":"IF(T29=\"\",\"\",HLOOKUP(T29,前年度登録!$AB$8:$BK$118,24,FALSE))","v":""},0,2,null,{"$f":"IF(Y29=\"\",\"\",IF(I29=1,VLOOKUP(Y29,男子種目コード!$A$1:$B$29,2,FALSE),IF(I29=2,VLOOKUP(Y29,女子種目コード!$A$1:$B$30,2,FALSE))))","v":""},null,0,2,null,{"$f":"IF(AD29=\"\",\"\",IF(I29=1,VLOOKUP(AD29,男子種目コード!$A$78:$B$80,2,FALSE),IF(I29=2,VLOOKUP(AD29,女子種目コード!$A$78:$B$80,2,FALSE))))","v":""},null,0,2,null,{"$f":"IF(AI29=\"\",\"\",IF(I29=1,VLOOKUP(AI29,男子種目コード!$A$1:$B$29,2,FALSE),IF(I29=2,VLOOKUP(AI29,女子種目コード!$A$1:$B$30,2,FALSE))))","v":""},null,0,2,null,null,null,"少年円盤投","",0,0,"","少年円盤投",{"$f":"COUNTIF($P$7:$P$116,26)+COUNTIF($U$7:$U$116,26)","v":0},26,null,null,null,null,null,null,null,null,0,"",""]
[null,{"$f":"前年度登録!Q32","v":""},null,null,{"$f":"前年度登録!E32","v":0},{"$f":"前年度登録!BR32","v":""},{"$f":"前年度登録!Z32","v":""},"",{"$f":"前年度登録!O32","v":""},{"$f":"前年度登録!I32","v":0},{"$f":"前年度登録!K32","v":0},{"$f":"前年度登録!BU32","v":"00"},{"$f":"前年度登録!R32","v":""},{"$f":"前年度登録!D32","v":0},null,"",{"$f":"IF(O30=\"\",\"\",HLOOKUP(O30,前年度登録!$AB$8:$BK$118,25,FALSE))","v":""},0,2,null,"",{"$f":"IF(T30=\"\",\"\",HLOOKUP(T30,前年度登録!$AB$8:$BK$118,25,FALSE))","v":""},0,2,null,{"$f":"IF(Y30=\"\",\"\",IF(I30=1,VLOOKUP(Y30,男子種目コード!$A$1:$B$29,2,FALSE),IF(I30=2,VLOOKUP(Y30,女子種目コード!$A$1:$B$30,2,FALSE))))","v":""},null,0,2,null,{"$f":"IF(AD30=\"\",\"\",IF(I30=1,VLOOKUP(AD30,男子種目コード!$A$78:$B$80,2,FALSE),IF(I30=2,VLOOKUP(AD30,女子種目コード!$A$78:$B$80,2,FALSE))))","v":""},null,0,2,null,{"$f":"IF(AI30=\"\",\"\",IF(I30=1,VLOOKUP(AI30,男子種目コード!$A$1:$B$29,2,FALSE),IF(I30=2,VLOOKUP(AI30,女子種目コード!$A$1:$B$30,2,FALSE))))","v":""},null,0,2,null,null,null,"少年ハンマー投","",0,0,"","少年ハンマー投",{"$f":"COUNTIF($P$7:$P$116,27)+COUNTIF($U$7:$U$116,27)","v":0},27,null,null,null,null,null,null,null,null,0,"",""]
[null,{"$f":"前年度登録!Q33","v":""},null,null,{"$f":"前年度登録!E33","v":0},{"$f":"前年度登録!BR33","v":""},{"$f":"前年度登録!Z33","v":""},"",{"$f":"前年度登録!O33","v":""},{"$f":"前年度登録!I33","v":0},{"$f":"前年度登録!K33","v":0},{"$f":"前年度登録!BU33","v":"00"},{"$f":"前年度登録!R33","v":""},{"$f":"前年度登録!D33","v":0},null,"",{"$f":"IF(O31=\"\",\"\",HLOOKUP(O31,前年度登録!$AB$8:$BK$118,26,FALSE))","v":""},0,2,null,"",{"$f":"IF(T31=\"\",\"\",HLOOKUP(T31,前年度登録!$AB$8:$BK$118,26,FALSE))","v":""},0,2,null,{"$f":"IF(Y31=\"\",\"\",IF(I31=1,VLOOKUP(Y31,男子種目コード!$A$1:$B$29,2,FALSE),IF(I31=2,VLOOKUP(Y31,女子種目コード!$A$1:$B$30,2,FALSE))))","v":""},null,0,2,null,{"$f":"IF(AD31=\"\",\"\",IF(I31=1,VLOOKUP(AD31,男子種目コード!$A$78:$B$80,2,FALSE),IF(I31=2,VLOOKUP(AD31,女子種目コード!$A$78:$B$80,2,FALSE))))","v":""},null,0,2,null,{"$f":"IF(AI31=\"\",\"\",IF(I31=1,VLOOKUP(AI31,男子種目コード!$A$1:$B$29,2,FALSE),IF(I31=2,VLOOKUP(AI31,女子種目コード!$A$1:$B$30,2,FALSE))))","v":""},null,0,2,null,null,null,"男子A","",0,0,"","少年B走幅跳",{"$f":"COUNTIF($P$7:$P$116,23)+COUNTIF($U$7:$U$116,23)","v":0},23,null,null,null,null,null,null,null,null,0,"",""]
[null,{"$f":"前年度登録!Q34","v":""},null,null,{"$f":"前年度登録!E34","v":0},{"$f":"前年度登録!BR34","v":""},{"$f":"前年度登録!Z34","v":""},"",{"$f":"前年度登録!O34","v":""},{"$f":"前年度登録!I34","v":0},{"$f":"前年度登録!K34","v":0},{"$f":"前年度登録!BU34","v":"00"},{"$f":"前年度登録!R34","v":""},{"$f":"前年度登録!D34","v":0},null,"",{"$f":"IF(O32=\"\",\"\",HLOOKUP(O32,前年度登録!$AB$8:$BK$118,27,FALSE))","v":""},0,2,null,"",{"$f":"IF(T32=\"\",\"\",HLOOKUP(T32,前年度登録!$AB$8:$BK$118,27,FALSE))","v":""},0,2,null,{"$f":"IF(Y32=\"\",\"\",IF(I32=1,VLOOKUP(Y32,男子種目コード!$A$1:$B$29,2,FALSE),IF(I32=2,VLOOKUP(Y32,女子種目コード!$A$1:$B$30,2,FALSE))))","v":""},null,0,2,null,{"$f":"IF(AD32=\"\",\"\",IF(I32=1,VLOOKUP(AD32,男子種目コード!$A$78:$B$80,2,FALSE),IF(I32=2,VLOOKUP(AD32,女子種目コード!$A$78:$B$80,2,FALSE))))","v":""},null,0,2,null,{"$f":"IF(AI32=\"\",\"\",IF(I32=1,VLOOKUP(AI32,男子種目コード!$A$1:$B$29,2,FALSE),IF(I32=2,VLOOKUP(AI32,女子種目コード!$A$1:$B$30,2,FALSE))))","v":""},null,0,2,null,null,null,"男子B","",0,0,"","少年B砲丸投",{"$f":"COUNTIF($P$7:$P$116,29)+COUNTIF($U$7:$U$116,29)","v":0},29,null,null,null,null,null,null,null,null,0,"",""]
[null,{"$f":"前年度登録!Q35","v":""},null,null,{"$f":"前年度登録!E35","v":0},{"$f":"前年度登録!BR35","v":""},{"$f":"前年度登録!Z35","v":""},"",{"$f":"前年度登録!O35","v":""},{"$f":"前年度登録!I35","v":0},{"$f":"前年度登録!K35","v":0},{"$f":"前年度登録!BU35","v":"00"},{"$f":"前年度登録!R35","v":""},{"$f":"前年度登録!D35","v":0},null,"",{"$f":"IF(O33=\"\",\"\",HLOOKUP(O33,前年度登録!$AB$8:$BK$118,28,FALSE))","v":""},0,2,null,"",{"$f":"IF(T33=\"\",\"\",HLOOKUP(T33,前年度登録!$AB$8:$BK$118,28,FALSE))","v":""},0,2,null,{"$f":"IF(Y33=\"\",\"\",IF(I33=1,VLOOKUP(Y33,男子種目コード!$A$1:$B$29,2,FALSE),IF(I33=2,VLOOKUP(Y33,女子種目コード!$A$1:$B$30,2,FALSE))))","v":""},null,0,2,null,{"$f":"IF(AD33=\"\",\"\",IF(I33=1,VLOOKUP(AD33,男子種目コード!$A$78:$B$80,2,FALSE),IF(I33=2,VLOOKUP(AD33,女子種目コード!$A$78:$B$80,2,FALSE))))","v":""},null,0,2,null,{"$f":"IF(AI33=\"\",\"\",IF(I33=1,VLOOKUP(AI33,男子種目コード!$A$1:$B$29,2,FALSE),IF(I33=2,VLOOKUP(AI33,女子種目コード!$A$1:$B$30,2,FALSE))))","v":""},null,0,2,null,null,null,"男子C","",0,0,"","計",{"$f":"SUM(AW8:AW32)","v":0},null,null,null,null,null,null,null,null,null,0,"",""]
[null,{"$f":"前年度登録!Q36","v":""},null,null,{"$f":"前年度登録!E36","v":0},{"$f":"前年度登録!BR36","v":""},{"$f":"前年度登録!Z36","v":""},"",{"$f":"前年度登録!O36","v":""},{"$f":"前年度登録!I36","v":0},{"$f":"前年度登録!K36","v":0},{"$f":"前年度登録!BU36","v":"00"},{"$f":"前年度登録!R36","v":""},{"$f":"前年度登録!D36","v":0},null,"",{"$f":"IF(O34=\"\",\"\",HLOOKUP(O34,前年度登録!$AB$8:$BK$118,29,FALSE))","v":""},0,2,null,"",{"$f":"IF(T34=\"\",\"\",HLOOKUP(T34,前年度登録!$AB$8:$BK$118,29,FALSE))","v":""},0,2,null,{"$f":"IF(Y34=\"\",\"\",IF(I34=1,VLOOKUP(Y34,男子種目コード!$A$1:$B$29,2,FALSE),IF(I34=2,VLOOKUP(Y34,女子種目コード!$A$1:$B$30,2,FALSE))))","v":""},null,0,2,null,{"$f":"IF(AD34=\"\",\"\",IF(I34=1,VLOOKUP(AD34,男子種目コード!$A$78:$B$80,2,FALSE),IF(I34=2,VLOOKUP(AD34,女子種目コード!$A$78:$B$80,2,FALSE))))","v":""},null,0,2,null,{"$f":"IF(AI34=\"\",\"\",IF(I34=1,VLOOKUP(AI34,男子種目コード!$A$1:$B$29,2,FALSE),IF(I34=2,VLOOKUP(AI34,女子種目コード!$A$1:$B$30,2,FALSE))))","v":""},null,0,2,null,null,null,"女子A","",0,0,"","女子",null,null,null,null,null,null,null,null,null,null,0,"",""]
[null,{"$f":"前年度登録!Q37","v":""},null,null,{"$f":"前年度登録!E37","v":0},{"$f":"前年度登録!BR37","v":""},{"$f":"前年度登録!Z37","v":""},"",{"$f":"前年度登録!O37","v":""},{"$f":"前年度登録!I37","v":0},{"$f":"前年度登録!K37","v":0},{"$f":"前年度登録!BU37","v":"00"},{"$f":"前年度登録!R37","v":""},{"$f":"前年度登録!D37","v":0},null,"",{"$f":"IF(O35=\"\",\"\",HLOOKUP(O35,前年度登録!$AB$8:$BK$118,30,FALSE))","v":""},0,2,null,"",{"$f":"IF(T35=\"\",\"\",HLOOKUP(T35,前年度登録!$AB$8:$BK$118,30,FALSE))","v":""},0,2,null,{"$f":"IF(Y35=\"\",\"\",IF(I35=1,VLOOKUP(Y35,男子種目コード!$A$1:$B$29,2,FALSE),IF(I35=2,VLOOKUP(Y35,女子種目コード!$A$1:$B$30,2,FALSE))))","v":""},null,0,2,null,{"$f":"IF(AD35=\"\",\"\",IF(I35=1,VLOOKUP(AD35,男子種目コード!$A$78:$B$80,2,FALSE),IF(I35=2,VLOOKUP(AD35,女子種目コード!$A$78:$B$80,2,FALSE))))","v":""},null,0,2,null,{"$f":"IF(AI35=\"\",\"\",IF(I35=1,VLOOKUP(AI35,男子種目コード!$A$1:$B$29,2,FALSE),IF(I35=2,VLOOKUP(AI35,女子種目コード!$A$1:$B$30,2,FALSE))))","v":""},null,0,2,null,null,null,"女子B","",0,0,"","100m",{"$f":"COUNTIF($P$7:$P$116,40)+COUNTIF($U$7:$U$116,40)","v":0},40,null,null,null,null,null,null,null,null,0,"",""]
[null,{"$f":"前年度登録!Q38","v":""},null,null,{"$f":"前年度登録!E38","v":0},{"$f":"前年度登録!BR38","v":""},{"$f":"前年度登録!Z38","v":""},"",{"$f":"前年度登録!O38","v":""},{"$f":"前年度登録!I38","v":0},{"$f":"前年度登録!K38","v":0},{"$f":"前年度登録!BU38","v":"00"},{"$f":"前年度登録!R38","v":""},{"$f":"前年度登録!D38","v":0},null,"",{"$f":"IF(O36=\"\",\"\",HLOOKUP(O36,前年度登録!$AB$8:$BK$118,31,FALSE))","v":""},0,2,null,"",{"$f":"IF(T36=\"\",\"\",HLOOKUP(T36,前年度登録!$AB$8:$BK$118,31,FALSE))","v":""},0,2,null,{"$f":"IF(Y36=\"\",\"\",IF(I36=1,VLOOKUP(Y36,男子種目コード!$A$1:$B$29,2,FALSE),IF(I36=2,VLOOKUP(Y36,女子種目コード!$A$1:$B$30,2,FALSE))))","v":""},null,0,2,null,{"$f":"IF(AD36=\"\",\"\",IF(I36=1,VLOOKUP(AD36,男子種目コード!$A$78:$B$80,2,FALSE),IF(I36=2,VLOOKUP(AD36,女子種目コード!$A$78:$B$80,2,FALSE))))","v":""},null,0,2,null,{"$f":"IF(AI36=\"\",\"\",IF(I36=1,VLOOKUP(AI36,男子種目コード!$A$1:$B$29,2,FALSE),IF(I36=2,VLOOKUP(AI36,女子種目コード!$A$1:$B$30,2,FALSE))))","v":""},null,0,2,null,null,null,"女子C","",0,0,"","200m",{"$f":"COUNTIF($P$7:$P$116,41)+COUNTIF($U$7:$U$116,41)","v":0},41,null,null,null,null,null,null,null,null,0,"",""]
[null,{"$f":"前年度登録!Q39","v":""},null,null,{"$f":"前年度登録!E39","v":0},{"$f":"前年度登録!BR39","v":""},{"$f":"前年度登録!Z39","v":""},"",{"$f":"前年度登録!O39","v":""},{"$f":"前年度登録!I39","v":0},{"$f":"前年度登録!K39","v":0},{"$f":"前年度登録!BU39","v":"00"},{"$f":"前年度登録!R39","v":""},{"$f":"前年度登録!D39","v":0},null,"",{"$f":"IF(O37=\"\",\"\",HLOOKUP(O37,前年度登録!$AB$8:$BK$118,32,FALSE))","v":""},0,2,null,"",{"$f":"IF(T37=\"\",\"\",HLOOKUP(T37,前年度登録!$AB$8:$BK$118,32,FALSE))","v":""},0,2,null,{"$f":"IF(Y37=\"\",\"\",IF(I37=1,VLOOKUP(Y37,男子種目コード!$A$1:$B$29,2,FALSE),IF(I37=2,VLOOKUP(Y37,女子種目コード!$A$1:$B$30,2,FALSE))))","v":""},null,0,2,null,{"$f":"IF(AD37=\"\",\"\",IF(I37=1,VLOOKUP(AD37,男子種目コード!$A$78:$B$80,2,FALSE),IF(I37=2,VLOOKUP(AD37,女子種目コード!$A$78:$B$80,2,FALSE))))","v":""},null,0,2,null,{"$f":"IF(AI37=\"\",\"\",IF(I37=1,VLOOKUP(AI37,男子種目コード!$A$1:$B$29,2,FALSE),IF(I37=2,VLOOKUP(AI37,女子種目コード!$A$1:$B$30,2,FALSE))))","v":""},null,0,2,null,null,null,null,"",0,0,"","400m",{"$f":"COUNTIF($P$7:$P$116,42)+COUNTIF($U$7:$U$116,42)","v":0},42,null,null,null,null,null,null,null,null,0,"",""]
[null,{"$f":"前年度登録!Q40","v":""},null,null,{"$f":"前年度登録!E40","v":0},{"$f":"前年度登録!BR40","v":""},{"$f":"前年度登録!Z40","v":""},"",{"$f":"前年度登録!O40","v":""},{"$f":"前年度登録!I40","v":0},{"$f":"前年度登録!K40","v":0},{"$f":"前年度登録!BU40","v":"00"},{"$f":"前年度登録!R40","v":""},{"$f":"前年度登録!D40","v":0},null,"",{"$f":"IF(O38=\"\",\"\",HLOOKUP(O38,前年度登録!$AB$8:$BK$118,33,FALSE))","v":""},0,2,null,"",{"$f":"IF(T38=\"\",\"\",HLOOKUP(T38,前年度登録!$AB$8:$BK$118,33,FALSE))","v":""},0,2,null,{"$f":"IF(Y38=\"\",\"\",IF(I38=1,VLOOKUP(Y38,男子種目コード!$A$1:$B$29,2,FALSE),IF(I38=2,VLOOKUP(Y38,女子種目コード!$A$1:$B$30,2,FALSE))))","v":""},null,0,2,null,{"$f":"IF(AD38=\"\",\"\",IF(I38=1,VLOOKUP(AD38,男子種目コード!$A$78:$B$80,2,FALSE),IF(I38=2,VLOOKUP(AD38,女子種目コード!$A$78:$B$80,2,FALSE))))","v":""},null,0,2,null,{"$f":"IF(AI38=\"\",\"\",IF(I38=1,VLOOKUP(AI38,男子種目コード!$A$1:$B$29,2,FALSE),IF(I38=2,VLOOKUP(AI38,女子種目コード!$A$1:$B$30,2,FALSE))))","v":""},null,0,2,null,null,null,null,"",0,0,"","800m",{"$f":"COUNTIF($P$7:$P$116,43)+COUNTIF($U$7:$U$116,43)","v":0},43,null,null,null,null,null,null,null,null,0,"",""]
[null,{"$f":"前年度登録!Q41","v":""},null,null,{"$f":"前年度登録!E41","v":0},{"$f":"前年度登録!BR41","v":""},{"$f":"前年度登録!Z41","v":""},"",{"$f":"前年度登録!O41","v":""},{"$f":"前年度登録!I41","v":0},{"$f":"前年度登録!K41","v":0},{"$f":"前年度登録!BU41","v":"00"},{"$f":"前年度登録!R41","v":""},{"$f":"前年度登録!D41","v":0},null,{"$f":"IF(O39=\"\",\"\",IF($I39=1,VLOOKUP(O39,$AV$8:$AX$32,3,FALSE),IF($I39=2,VLOOKUP(O39,$AV$35:$AX$54,3,FALSE))))","v":""},{"$f":"IF(O39=\"\",\"\",HLOOKUP(O39,前年度登録!$AB$8:$BK$118,34,FALSE))","v":""},0,2,null,{"$f":"IF(T39=\"\",\"\",IF($I39=1,VLOOKUP(T39,$AV$8:$AX$32,3,FALSE),IF($I39=2,VLOOKUP(T39,$AV$35:$AX$54,3,FALSE))))","v":""},{"$f":"IF(T39=\"\",\"\",HLOOKUP(T39,前年度登録!$AB$8:$BK$118,34,FALSE))","v":""},0,2,null,{"$f":"IF(Y39=\"\",\"\",IF(I39=1,VLOOKUP(Y39,男子種目コード!$A$1:$B$29,2,FALSE),IF(I39=2,VLOOKUP(Y39,女子種目コード!$A$1:$B$30,2,FALSE))))","v":""},null,0,2,null,{"$f":"IF(AD39=\"\",\"\",IF(I39=1,VLOOKUP(AD39,男子種目コード!$A$78:$B$80,2,FALSE),IF(I39=2,VLOOKUP(AD39,女子種目コード!$A$78:$B$80,2,FALSE))))","v":""},null,0,2,null,{"$f":"IF(AI39=\"\",\"\",IF(I39=1,VLOOKUP(AI39,男子種目コード!$A$1:$B$29,2,FALSE),IF(I39=2,VLOOKUP(AI39,女子種目コード!$A$1:$B$30,2,FALSE))))","v":""},null,0,2,null,null,null,null,"",{"$f":"IF(OR(AR39=1,T39=\"\"),0,1)","v":0},{"$f":"IF(OR(AR39=1,AS39=1,AD39=\"\"),0,1)","v":0},"","1500m",{"$f":"COUNTIF($P$7:$P$116,44)+COUNTIF($U$7:$U$116,44)","v":0},44,null,null,null,null,null,null,null,null,0,{"$f":"IF(I39=1,BG39,\"\")","v":""},{"$f":"IF(I39=2,BG39,\"\")","v":""}]
[null,{"$f":"前年度登録!Q42","v":""},null,null,{"$f":"前年度登録!E42","v":0},{"$f":"前年度登録!BR42","v":""},{"$f":"前年度登録!Z42","v":""},"",{"$f":"前年度登録!O42","v":""},{"$f":"前年度登録!I42","v":0},{"$f":"前年度登録!K42","v":0},{"$f":"前年度登録!BU42","v":"00"},{"$f":"前年度登録!R42","v":""},{"$f":"前年度登録!D42","v":0},null,"",{"$f":"IF(O40=\"\",\"\",HLOOKUP(O40,前年度登録!$AB$8:$BK$118,35,FALSE))","v":""},0,2,null,"",{"$f":"IF(T40=\"\",\"\",HLOOKUP(T40,前年度登録!$AB$8:$BK$118,35,FALSE))","v":""},0,2,null,{"$f":"IF(Y40=\"\",\"\",IF(I40=1,VLOOKUP(Y40,男子種目コード!$A$1:$B$29,2,FALSE),IF(I40=2,VLOOKUP(Y40,女子種目コード!$A$1:$B$30,2,FALSE))))","v":""},null,0,2,null,{"$f":"IF(AD40=\"\",\"\",IF(I40=1,VLOOKUP(AD40,男子種目コード!$A$78:$B$80,2,FALSE),IF(I40=2,VLOOKUP(AD40,女子種目コード!$A$78:$B$80,2,FALSE))))","v":""},null,0,2,null,{"$f":"IF(AI40=\"\",\"\",IF(I40=1,VLOOKUP(AI40,男子種目コード!$A$1:$B$29,2,FALSE),IF(I40=2,VLOOKUP(AI40,女子種目コード!$A$1:$B$30,2,FALSE))))","v":""},null,0,2,null,null,null,null,"",0,0,"","5000m",{"$f":"COUNTIF($P$7:$P$116,46)+COUNTIF($U$7:$U$116,46)","v":0},46,null,null,null,null,null,null,null,null,0,"",""]
[null,{"$f":"前年度登録!Q43","v":""},null,null,{"$f":"前年度登録!E43","v":0},{"$f":"前年度登録!BR43","v":""},{"$f":"前年度登録!Z43","v":""},"",{"$f":"前年度登録!O43","v":""},{"$f":"前年度登録!I43","v":0},{"$f":"前年度登録!K43","v":0},{"$f":"前年度登録!BU43","v":"00"},{"$f":"前年度登録!R43","v":""},{"$f":"前年度登録!D43","v":0},null,"",{"$f":"IF(O41=\"\",\"\",HLOOKUP(O41,前年度登録!$AB$8:$BK$118,36,FALSE))","v":""},0,2,null,"",{"$f":"IF(T41=\"\",\"\",HLOOKUP(T41,前年度登録!$AB$8:$BK$118,36,FALSE))","v":""},0,2,null,{"$f":"IF(Y41=\"\",\"\",IF(I41=1,VLOOKUP(Y41,男子種目コード!$A$1:$B$29,2,FALSE),IF(I41=2,VLOOKUP(Y41,女子種目コード!$A$1:$B$30,2,FALSE))))","v":""},null,0,2,null,{"$f":"IF(AD41=\"\",\"\",IF(I41=1,VLOOKUP(AD41,男子種目コード!$A$78:$B$80,2,FALSE),IF(I41=2,VLOOKUP(AD41,女子種目コード!$A$78:$B$80,2,FALSE))))","v":""},null,0,2,null,{"$f":"IF(AI41=\"\",\"\",IF(I41=1,VLOOKUP(AI41,男子種目コード!$A$1:$B$29,2,FALSE),IF(I41=2,VLOOKUP(AI41,女子種目コード!$A$1:$B$30,2,FALSE))))","v":""},null,0,2,null,null,null,null,"",0,0,"","10000m",{"$f":"COUNTIF($P$7:$P$116,47)+COUNTIF($U$7:$U$116,47)","v":0},47,null,null,null,null,null,null,null,null,0,"",""]
[null,{"$f":"前年度登録!Q44","v":""},null,null,{"$f":"前年度登録!E44","v":0},{"$f":"前年度登録!BR44","v":""},{"$f":"前年度登録!Z44","v":""},"",{"$f":"前年度登録!O44","v":""},{"$f":"前年度登録!I44","v":0},{"$f":"前年度登録!K44","v":0},{"$f":"前年度登録!BU44","v":"00"},{"$f":"前年度登録!R44","v":""},{"$f":"前年度登録!D44","v":0},null,"",{"$f":"IF(O42=\"\",\"\",HLOOKUP(O42,前年度登録!$AB$8:$BK$118,37,FALSE))","v":""},0,2,null,"",{"$f":"IF(T42=\"\",\"\",HLOOKUP(T42,前年度登録!$AB$8:$BK$118,37,FALSE))","v":""},0,2,null,{"$f":"IF(Y42=\"\",\"\",IF(I42=1,VLOOKUP(Y42,男子種目コード!$A$1:$B$29,2,FALSE),IF(I42=2,VLOOKUP(Y42,女子種目コード!$A$1:$B$30,2,FALSE))))","v":""},null,0,2,null,{"$f":"IF(AD42=\"\",\"\",IF(I42=1,VLOOKUP(AD42,男子種目コード!$A$78:$B$80,2,FALSE),IF(I42=2,VLOOKUP(AD42,女子種目コード!$A$78:$B$80,2,FALSE))))","v":""},null,0,2,null,{"$f":"IF(AI42=\"\",\"\",IF(I42=1,VLOOKUP(AI42,男子種目コード!$A$1:$B$29,2,FALSE),IF(I42=2,VLOOKUP(AI42,女子種目コード!$A$1:$B$30,2,FALSE))))","v":""},null,0,2,null,null,null,null,"",0,0,"","100mH",{"$f":"COUNTIF($P$7:$P$116,48)+COUNTIF($U$7:$U$116,48)","v":0},48,null,null,null,null,null,null,null,null,0,"",""]
[null,{"$f":"前年度登録!Q45","v":""},null,null,{"$f":"前年度登録!E45","v":0},{"$f":"前年度登録!BR45","v":""},{"$f":"前年度登録!Z45","v":""},"",{"$f":"前年度登録!O45","v":""},{"$f":"前年度登録!I45","v":0},{"$f":"前年度登録!K45","v":0},{"$f":"前年度登録!BU45","v":"00"},{"$f":"前年度登録!R45","v":""},{"$f":"前年度登録!D45","v":0},null,"",{"$f":"IF(O43=\"\",\"\",HLOOKUP(O43,前年度登録!$AB$8:$BK$118,38,FALSE))","v":""},0,2,null,"",{"$f":"IF(T43=\"\",\"\",HLOOKUP(T43,前年度登録!$AB$8:$BK$118,38,FALSE))","v":""},0,2,null,{"$f":"IF(Y43=\"\",\"\",IF(I43=1,VLOOKUP(Y43,男子種目コード!$A$1:$B$29,2,FALSE),IF(I43=2,VLOOKUP(Y43,女子種目コード!$A$1:$B$30,2,FALSE))))","v":""},null,0,2,null,{"$f":"IF(AD43=\"\",\"\",IF(I43=1,VLOOKUP(AD43,男子種目コード!$A$78:$B$80,2,FALSE),IF(I43=2,VLOOKUP(AD43,女子種目コード!$A$78:$B$80,2,FALSE))))","v":""},null,0,2,null,{"$f":"IF(AI43=\"\",\"\",IF(I43=1,VLOOKUP(AI43,男子種目コード!$A$1:$B$29,2,FALSE),IF(I43=2,VLOOKUP(AI43,女子種目コード!$A$1:$B$30,2,FALSE))))","v":""},null,0,2,null,null,null,null,"",0,0,"","400mH",{"$f":"COUNTIF($P$7:$P$116,49)+COUNTIF($U$7:$U$116,49)","v":0},49,null,null,null,null,null,null,null,null,0,"",""]
[null,{"$f":"前年度登録!Q46","v":""},null,null,{"$f":"前年度登録!E46","v":0},{"$f":"前年度登録!BR46","v":""},{"$f":"前年度登録!Z46","v":""},"",{"$f":"前年度登録!O46","v":""},{"$f":"前年度登録!I46","v":0},{"$f":"前年度登録!K46","v":0},{"$f":"前年度登録!BU46","v":"00"},{"$f":"前年度登録!R46","v":""},{"$f":"前年度登録!D46","v":0},null,"",{"$f":"IF(O44=\"\",\"\",HLOOKUP(O44,前年度登録!$AB$8:$BK$118,39,FALSE))","v":""},0,2,null,"",{"$f":"IF(T44=\"\",\"\",HLOOKUP(T44,前年度登録!$AB$8:$BK$118,39,FALSE))","v":""},0,2,null,{"$f":"IF(Y44=\"\",\"\",IF(I44=1,VLOOKUP(Y44,男子種目コード!$A$1:$B$29,2,FALSE),IF(I44=2,VLOOKUP(Y44,女子種目コード!$A$1:$B$30,2,FALSE))))","v":""},null,0,2,null,{"$f":"IF(AD44=\"\",\"\",IF(I44=1,VLOOKUP(AD44,男子種目コード!$A$78:$B$80,2,FALSE),IF(I44=2,VLOOKUP(AD44,女子種目コード!$A$78:$B$80,2,FALSE))))","v":""},null,0,2,null,{"$f":"IF(AI44=\"\",\"\",IF(I44=1,VLOOKUP(AI44,男子種目コード!$A$1:$B$29,2,FALSE),IF(I44=2,VLOOKUP(AI44,女子種目コード!$A$1:$B$30,2,FALSE))))","v":""},null,0,2,null,null,null,null,"",0,0,"","5000mW",{"$f":"COUNTIF($P$7:$P$116,52)+COUNTIF($U$7:$U$116,52)","v":0},52,null,null,null,null,null,null,null,null,0,"",""]
[null,{"$f":"前年度登録!Q47","v":""},null,null,{"$f":"前年度登録!E47","v":0},{"$f":"前年度登録!BR47","v":""},{"$f":"前年度登録!Z47","v":""},"",{"$f":"前年度登録!O47","v":""},{"$f":"前年度登録!I47","v":0},{"$f":"前年度登録!K47","v":0},{"$f":"前年度登録!BU47","v":"00"},{"$f":"前年度登録!R47","v":""},{"$f":"前年度登録!D47","v":0},null,"",{"$f":"IF(O45=\"\",\"\",HLOOKUP(O45,前年度登録!$AB$8:$BK$118,40,FALSE))","v":""},0,2,null,"",{"$f":"IF(T45=\"\",\"\",HLOOKUP(T45,前年度登録!$AB$8:$BK$118,40,FALSE))","v":""},0,2,null,{"$f":"IF(Y45=\"\",\"\",IF(I45=1,VLOOKUP(Y45,男子種目コード!$A$1:$B$29,2,FALSE),IF(I45=2,VLOOKUP(Y45,女子種目コード!$A$1:$B$30,2,FALSE))))","v":""},null,0,2,null,{"$f":"IF(AD45=\"\",\"\",IF(I45=1,VLOOKUP(AD45,男子種目コード!$A$78:$B$80,2,FALSE),IF(I45=2,VLOOKUP(AD45,女子種目コード!$A$78:$B$80,2,FALSE))))","v":""},null,0,2,null,{"$f":"IF(AI45=\"\",\"\",IF(I45=1,VLOOKUP(AI45,男子種目コード!$A$1:$B$29,2,FALSE),IF(I45=2,VLOOKUP(AI45,女子種目コード!$A$1:$B$30,2,FALSE))))","v":""},null,0,2,null,null,null,null,"",0,0,"","走高跳",{"$f":"COUNTIF($P$7:$P$116,55)+COUNTIF($U$7:$U$116,55)","v":0},55,null,null,null,null,null,null,null,null,0,"",""]
[null,{"$f":"前年度登録!Q48","v":""},null,null,{"$f":"前年度登録!E48","v":0},{"$f":"前年度登録!BR48","v":""},{"$f":"前年度登録!Z48","v":""},"",{"$f":"前年度登録!O48","v":""},{"$f":"前年度登録!I48","v":0},{"$f":"前年度登録!K48","v":0},{"$f":"前年度登録!BU48","v":"00"},{"$f":"前年度登録!R48","v":""},{"$f":"前年度登録!D48","v":0},null,"",{"$f":"IF(O46=\"\",\"\",HLOOKUP(O46,前年度登録!$AB$8:$BK$118,41,FALSE))","v":""},0,2,null,"",{"$f":"IF(T46=\"\",\"\",HLOOKUP(T46,前年度登録!$AB$8:$BK$118,41,FALSE))","v":""},0,2,null,{"$f":"IF(Y46=\"\",\"\",IF(I46=1,VLOOKUP(Y46,男子種目コード!$A$1:$B$29,2,FALSE),IF(I46=2,VLOOKUP(Y46,女子種目コード!$A$1:$B$30,2,FALSE))))","v":""},null,0,2,null,{"$f":"IF(AD46=\"\",\"\",IF(I46=1,VLOOKUP(AD46,男子種目コード!$A$78:$B$80,2,FALSE),IF(I46=2,VLOOKUP(AD46,女子種目コード!$A$78:$B$80,2,FALSE))))","v":""},null,0,2,null,{"$f":"IF(AI46=\"\",\"\",IF(I46=1,VLOOKUP(AI46,男子種目コード!$A$1:$B$29,2,FALSE),IF(I46=2,VLOOKUP(AI46,女子種目コード!$A$1:$B$30,2,FALSE))))","v":""},null,0,2,null,null,null,null,"",0,0,"","棒高跳",{"$f":"COUNTIF($P$7:$P$116,56)+COUNTIF($U$7:$U$116,56)","v":0},56,null,null,null,null,null,null,null,null,0,"",""]
[null,{"$f":"前年度登録!Q49","v":""},null,null,{"$f":"前年度登録!E49","v":0},{"$f":"前年度登録!BR49","v":""},{"$f":"前年度登録!Z49","v":""},"",{"$f":"前年度登録!O49","v":""},{"$f":"前年度登録!I49","v":0},{"$f":"前年度登録!K49","v":0},{"$f":"前年度登録!BU49","v":"00"},{"$f":"前年度登録!R49","v":""},{"$f":"前年度登録!D49","v":0},null,"",{"$f":"IF(O47=\"\",\"\",HLOOKUP(O47,前年度登録!$AB$8:$BK$118,42,FALSE))","v":""},0,2,null,"",{"$f":"IF(T47=\"\",\"\",HLOOKUP(T47,前年度登録!$AB$8:$BK$118,42,FALSE))","v":""},0,2,null,{"$f":"IF(Y47=\"\",\"\",IF(I47=1,VLOOKUP(Y47,男子種目コード!$A$1:$B$29,2,FALSE),IF(I47=2,VLOOKUP(Y47,女子種目コード!$A$1:$B$30,2,FALSE))))","v":""},null,0,2,null,{"$f":"IF(AD47=\"\",\"\",IF(I47=1,VLOOKUP(AD47,男子種目コード!$A$78:$B$80,2,FALSE),IF(I47=2,VLOOKUP(AD47,女子種目コード!$A$78:$B$80,2,FALSE))))","v":""},null,0,2,null,{"$f":"IF(AI47=\"\",\"\",IF(I47=1,VLOOKUP(AI47,男子種目コード!$A$1:$B$29,2,FALSE),IF(I47=2,VLOOKUP(AI47,女子種目コード!$A$1:$B$30,2,FALSE))))","v":""},null,0,2,null,null,null,null,"",0,0,"","走幅跳",{"$f":"COUNTIF($P$7:$P$116,57)+COUNTIF($U$7:$U$116,57)","v":0},57,null,null,null,null,null,null,null,null,0,"",""]
[null,{"$f":"前年度登録!Q50","v":""},null,null,{"$f":"前年度登録!E50","v":0},{"$f":"前年度登録!BR50","v":""},{"$f":"前年度登録!Z50","v":""},"",{"$f":"前年度登録!O50","v":""},{"$f":"前年度登録!I50","v":0},{"$f":"前年度登録!K50","v":0},{"$f":"前年度登録!BU50","v":"00"},{"$f":"前年度登録!R50","v":""},{"$f":"前年度登録!D50","v":0},null,"",{"$f":"IF(O48=\"\",\"\",HLOOKUP(O48,前年度登録!$AB$8:$BK$118,43,FALSE))","v":""},0,2,null,"",{"$f":"IF(T48=\"\",\"\",HLOOKUP(T48,前年度登録!$AB$8:$BK$118,43,FALSE))","v":""},0,2,null,{"$f":"IF(Y48=\"\",\"\",IF(I48=1,VLOOKUP(Y48,男子種目コード!$A$1:$B$29,2,FALSE),IF(I48=2,VLOOKUP(Y48,女子種目コード!$A$1:$B$30,2,FALSE))))","v":""},null,0,2,null,{"$f":"IF(AD48=\"\",\"\",IF(I48=1,VLOOKUP(AD48,男子種目コード!$A$78:$B$80,2,FALSE),IF(I48=2,VLOOKUP(AD48,女子種目コード!$A$78:$B$80,2,FALSE))))","v":""},null,0,2,null,{"$f":"IF(AI48=\"\",\"\",IF(I48=1,VLOOKUP(AI48,男子種目コード!$A$1:$B$29,2,FALSE),IF(I48=2,VLOOKUP(AI48,女子種目コード!$A$1:$B$30,2,FALSE))))","v":""},null,0,2,null,null,null,null,"",0,0,"","三段跳",{"$f":"COUNTIF($P$7:$P$116,58)+COUNTIF($U$7:$U$116,58)","v":0},58,null,null,null,null,null,null,null,null,0,"",""]
[null,{"$f":"前年度登録!Q51","v":""},null,null,{"$f":"前年度登録!E51","v":0},{"$f":"前年度登録!BR51","v":""},{"$f":"前年度登録!Z51","v":""},"",{"$f":"前年度登録!O51","v":""},{"$f":"前年度登録!I51","v":0},{"$f":"前年度登録!K51","v":0},{"$f":"前年度登録!BU51","v":"00"},{"$f":"前年度登録!R51","v":""},{"$f":"前年度登録!D51","v":0},null,"",{"$f":"IF(O49=\"\",\"\",HLOOKUP(O49,前年度登録!$AB$8:$BK$118,44,FALSE))","v":""},0,2,null,"",{"$f":"IF(T49=\"\",\"\",HLOOKUP(T49,前年度登録!$AB$8:$BK$118,44,FALSE))","v":""},0,2,null,{"$f":"IF(Y49=\"\",\"\",IF(I49=1,VLOOKUP(Y49,男子種目コード!$A$1:$B$29,2,FALSE),IF(I49=2,VLOOKUP(Y49,女子種目コード!$A$1:$B$30,2,FALSE))))","v":""},null,0,2,null,{"$f":"IF(AD49=\"\",\"\",IF(I49=1,VLOOKUP(AD49,男子種目コード!$A$78:$B$80,2,FALSE),IF(I49=2,VLOOKUP(AD49,女子種目コード!$A$78:$B$80,2,FALSE))))","v":""},null,0,2,null,{"$f":"IF(AI49=\"\",\"\",IF(I49=1,VLOOKUP(AI49,男子種目コード!$A$1:$B$29,2,FALSE),IF(I49=2,VLOOKUP(AI49,女子種目コード!$A$1:$B$30,2,FALSE))))","v":""},null,0,2,null,null,null,null,"",0,0,"","砲丸投",{"$f":"COUNTIF($P$7:$P$116,59)+COUNTIF($U$7:$U$116,59)","v":0},59,null,null,null,null,null,null,null,null,0,"",""]
[null,{"$f":"前年度登録!Q52","v":""},null,null,{"$f":"前年度登録!E52","v":0},{"$f":"前年度登録!BR52","v":""},{"$f":"前年度登録!Z52","v":""},"",{"$f":"前年度登録!O52","v":""},{"$f":"前年度登録!I52","v":0},{"$f":"前年度登録!K52","v":0},{"$f":"前年度登録!BU52","v":"00"},{"$f":"前年度登録!R52","v":""},{"$f":"前年度登録!D52","v":0},null,"",{"$f":"IF(O50=\"\",\"\",HLOOKUP(O50,前年度登録!$AB$8:$BK$118,45,FALSE))","v":""},0,2,null,"",{"$f":"IF(T50=\"\",\"\",HLOOKUP(T50,前年度登録!$AB$8:$BK$118,45,FALSE))","v":""},0,2,null,{"$f":"IF(Y50=\"\",\"\",IF(I50=1,VLOOKUP(Y50,男子種目コード!$A$1:$B$29,2,FALSE),IF(I50=2,VLOOKUP(Y50,女子種目コード!$A$1:$B$30,2,FALSE))))","v":""},null,0,2,null,{"$f":"IF(AD50=\"\",\"\",IF(I50=1,VLOOKUP(AD50,男子種目コード!$A$78:$B$80,2,FALSE),IF(I50=2,VLOOKUP(AD50,女子種目コード!$A$78:$B$80,2,FALSE))))","v":""},null,0,2,null,{"$f":"IF(AI50=\"\",\"\",IF(I50=1,VLOOKUP(AI50,男子種目コード!$A$1:$B$29,2,FALSE),IF(I50=2,VLOOKUP(AI50,女子種目コード!$A$1:$B$30,2,FALSE))))","v":""},null,0,2,null,null,null,null,"",0,0,"","円盤投",{"$f":"COUNTIF($P$7:$P$116,60)+COUNTIF($U$7:$U$116,60)","v":0},60,null,null,null,null,null,null,null,null,0,"",""]
[null,{"$f":"前年度登録!Q53","v":""},null,null,{"$f":"前年度登録!E53","v":0},{"$f":"前年度登録!BR53","v":""},{"$f":"前年度登録!Z53","v":""},"",{"$f":"前年度登録!O53","v":""},{"$f":"前年度登録!I53","v":0},{"$f":"前年度登録!K53","v":0},{"$f":"前年度登録!BU53","v":"00"},{"$f":"前年度登録!R53","v":""},{"$f":"前年度登録!D53","v":0},null,"",{"$f":"IF(O51=\"\",\"\",HLOOKUP(O51,前年度登録!$AB$8:$BK$118,46,FALSE))","v":""},0,2,null,"",{"$f":"IF(T51=\"\",\"\",HLOOKUP(T51,前年度登録!$AB$8:$BK$118,46,FALSE))","v":""},0,2,null,{"$f":"IF(Y51=\"\",\"\",IF(I51=1,VLOOKUP(Y51,男子種目コード!$A$1:$B$29,2,FALSE),IF(I51=2,VLOOKUP(Y51,女子種目コード!$A$1:$B$30,2,FALSE))))","v":""},null,0,2,null,{"$f":"IF(AD51=\"\",\"\",IF(I51=1,VLOOKUP(AD51,男子種目コード!$A$78:$B$80,2,FALSE),IF(I51=2,VLOOKUP(AD51,女子種目コード!$A$78:$B$80,2,FALSE))))","v":""},null,0,2,null,{"$f":"IF(AI51=\"\",\"\",IF(I51=1,VLOOKUP(AI51,男子種目コード!$A$1:$B$29,2,FALSE),IF(I51=2,VLOOKUP(AI51,女子種目コード!$A$1:$B$30,2,FALSE))))","v":""},null,0,2,null,null,null,null,"",0,0,"","ハンマー投",{"$f":"COUNTIF($P$7:$P$116,61)+COUNTIF($U$7:$U$116,61)","v":0},61,null,null,null,null,null,null,null,null,0,"",""]
[null,{"$f":"前年度登録!Q54","v":""},null,null,{"$f":"前年度登録!E54","v":0},{"$f":"前年度登録!BR54","v":""},{"$f":"前年度登録!Z54","v":""},"",{"$f":"前年度登録!O54","v":""},{"$f":"前年度登録!I54","v":0},{"$f":"前年度登録!K54","v":0},{"$f":"前年度登録!BU54","v":"00"},{"$f":"前年度登録!R54","v":""},{"$f":"前年度登録!D54","v":0},null,"",{"$f":"IF(O52=\"\",\"\",HLOOKUP(O52,前年度登録!$AB$8:$BK$118,47,FALSE))","v":""},0,2,null,"",{"$f":"IF(T52=\"\",\"\",HLOOKUP(T52,前年度登録!$AB$8:$BK$118,47,FALSE))","v":""},0,2,null,{"$f":"IF(Y52=\"\",\"\",IF(I52=1,VLOOKUP(Y52,男子種目コード!$A$1:$B$29,2,FALSE),IF(I52=2,VLOOKUP(Y52,女子種目コード!$A$1:$B$30,2,FALSE))))","v":""},null,0,2,null,{"$f":"IF(AD52=\"\",\"\",IF(I52=1,VLOOKUP(AD52,男子種目コード!$A$78:$B$80,2,FALSE),IF(I52=2,VLOOKUP(AD52,女子種目コード!$A$78:$B$80,2,FALSE))))","v":""},null,0,2,null,{"$f":"IF(AI52=\"\",\"\",IF(I52=1,VLOOKUP(AI52,男子種目コード!$A$1:$B$29,2,FALSE),IF(I52=2,VLOOKUP(AI52,女子種目コード!$A$1:$B$30,2,FALSE))))","v":""},null,0,2,null,null,null,null,"",0,0,"","やり投",{"$f":"COUNTIF($P$7:$P$116,62)+COUNTIF($U$7:$U$116,62)","v":0},62,null,null,null,null,null,null,null,null,0,"",""]
[null,{"$f":"前年度登録!Q55","v":""},null,null,{"$f":"前年度登録!E55","v":0},{"$f":"前年度登録!BR55","v":""},{"$f":"前年度登録!Z55","v":""},"",{"$f":"前年度登録!O55","v":""},{"$f":"前年度登録!I55","v":0},{"$f":"前年度登録!K55","v":0},{"$f":"前年度登録!BU55","v":"00"},{"$f":"前年度登録!R55","v":""},{"$f":"前年度登録!D55","v":0},null,"",{"$f":"IF(O53=\"\",\"\",HLOOKUP(O53,前年度登録!$AB$8:$BK$118,48,FALSE))","v":""},0,2,null,"",{"$f":"IF(T53=\"\",\"\",HLOOKUP(T53,前年度登録!$AB$8:$BK$118,48,FALSE))","v":""},0,2,null,{"$f":"IF(Y53=\"\",\"\",IF(I53=1,VLOOKUP(Y53,男子種目コード!$A$1:$B$29,2,FALSE),IF(I53=2,VLOOKUP(Y53,女子種目コード!$A$1:$B$30,2,FALSE))))","v":""},null,0,2,null,{"$f":"IF(AD53=\"\",\"\",IF(I53=1,VLOOKUP(AD53,男子種目コード!$A$78:$B$80,2,FALSE),IF(I53=2,VLOOKUP(AD53,女子種目コード!$A$78:$B$80,2,FALSE))))","v":""},null,0,2,null,{"$f":"IF(AI53=\"\",\"\",IF(I53=1,VLOOKUP(AI53,男子種目コード!$A$1:$B$29,2,FALSE),IF(I53=2,VLOOKUP(AI53,女子種目コード!$A$1:$B$30,2,FALSE))))","v":""},null,0,2,null,null,null,null,"",0,0,"","3000m",{"$f":"COUNTIF($P$7:$P$116,45)+COUNTIF($U$7:$U$116,45)","v":0},45,null,null,null,null,null,null,null,null,0,"",""]
[null,{"$f":"前年度登録!Q56","v":""},null,null,{"$f":"前年度登録!E56","v":0},{"$f":"前年度登録!BR56","v":""},{"$f":"前年度登録!Z56","v":""},"",{"$f":"前年度登録!O56","v":""},{"$f":"前年度登録!I56","v":0},{"$f":"前年度登録!K56","v":0},{"$f":"前年度登録!BU56","v":"00"},{"$f":"前年度登録!R56","v":""},{"$f":"前年度登録!D56","v":0},null,"",{"$f":"IF(O54=\"\",\"\",HLOOKUP(O54,前年度登録!$AB$8:$BK$118,49,FALSE))","v":""},0,2,null,"",{"$f":"IF(T54=\"\",\"\",HLOOKUP(T54,前年度登録!$AB$8:$BK$118,49,FALSE))","v":""},0,2,null,{"$f":"IF(Y54=\"\",\"\",IF(I54=1,VLOOKUP(Y54,男子種目コード!$A$1:$B$29,2,FALSE),IF(I54=2,VLOOKUP(Y54,女子種目コード!$A$1:$B$30,2,FALSE))))","v":""},null,0,2,null,{"$f":"IF(AD54=\"\",\"\",IF(I54=1,VLOOKUP(AD54,男子種目コード!$A$78:$B$80,2,FALSE),IF(I54=2,VLOOKUP(AD54,女子種目コード!$A$78:$B$80,2,FALSE))))","v":""},null,0,2,null,{"$f":"IF(AI54=\"\",\"\",IF(I54=1,VLOOKUP(AI54,男子種目コード!$A$1:$B$29,2,FALSE),IF(I54=2,VLOOKUP(AI54,女子種目コード!$A$1:$B$30,2,FALSE))))","v":""},null,0,2,null,null,null,null,"",0,0,"",null,null,null,null,null,null,null,null,null,null,null,0,"",""]
[null,{"$f":"前年度登録!Q57","v":""},null,null,{"$f":"前年度登録!E57","v":0},{"$f":"前年度登録!BR57","v":""},{"$f":"前年度登録!Z57","v":""},"",{"$f":"前年度登録!O57","v":""},{"$f":"前年度登録!I57","v":0},{"$f":"前年度登録!K57","v":0},{"$f":"前年度登録!BU57","v":"00"},{"$f":"前年度登録!R57","v":""},{"$f":"前年度登録!D57","v":0},null,"",{"$f":"IF(O55=\"\",\"\",HLOOKUP(O55,前年度登録!$AB$8:$BK$118,50,FALSE))","v":""},0,2,null,"",{"$f":"IF(T55=\"\",\"\",HLOOKUP(T55,前年度登録!$AB$8:$BK$118,50,FALSE))","v":""},0,2,null,{"$f":"IF(Y55=\"\",\"\",IF(I55=1,VLOOKUP(Y55,男子種目コード!$A$1:$B$29,2,FALSE),IF(I55=2,VLOOKUP(Y55,女子種目コード!$A$1:$B$30,2,FALSE))))","v":""},null,0,2,null,{"$f":"IF(AD55=\"\",\"\",IF(I55=1,VLOOKUP(AD55,男子種目コード!$A$78:$B$80,2,FALSE),IF(I55=2,VLOOKUP(AD55,女子種目コード!$A$78:$B$80,2,FALSE))))","v":""},null,0,2,null,{"$f":"IF(AI55=\"\",\"\",IF(I55=1,VLOOKUP(AI55,男子種目コード!$A$1:$B$29,2,FALSE),IF(I55=2,VLOOKUP(AI55,女子種目コード!$A$1:$B$30,2,FALSE))))","v":""},null,0,2,null,null,null,null,"",0,0,"","計",{"$f":"SUM(AW35:AW54)","v":0},null,null,null,null,null,null,null,null,null,0,"",""]
[null,{"$f":"前年度登録!Q58","v":""},null,null,{"$f":"前年度登録!E58","v":0},{"$f":"前年度登録!BR58","v":""},{"$f":"前年度登録!Z58","v":""},"",{"$f":"前年度登録!O58","v":""},{"$f":"前年度登録!I58","v":0},{"$f":"前年度登録!K58","v":0},{"$f":"前年度登録!BU58","v":"00"},{"$f":"前年度登録!R58","v":""},{"$f":"前年度登録!D58","v":0},null,"",{"$f":"IF(O56=\"\",\"\",HLOOKUP(O56,前年度登録!$AB$8:$BK$118,51,FALSE))","v":""},0,2,null,"",{"$f":"IF(T56=\"\",\"\",HLOOKUP(T56,前年度登録!$AB$8:$BK$118,51,FALSE))","v":""},0,2,null,{"$f":"IF(Y56=\"\",\"\",IF(I56=1,VLOOKUP(Y56,男子種目コード!$A$1:$B$29,2,FALSE),IF(I56=2,VLOOKUP(Y56,女子種目コード!$A$1:$B$30,2,FALSE))))","v":""},null,0,2,null,{"$f":"IF(AD56=\"\",\"\",IF(I56=1,VLOOKUP(AD56,男子種目コード!$A$78:$B$80,2,FALSE),IF(I56=2,VLOOKUP(AD56,女子種目コード!$A$78:$B$80,2,FALSE))))","v":""},null,0,2,null,{"$f":"IF(AI56=\"\",\"\",IF(I56=1,VLOOKUP(AI56,男子種目コード!$A$1:$B$29,2,FALSE),IF(I56=2,VLOOKUP(AI56,女子種目コード!$A$1:$B$30,2,FALSE))))","v":""},null,0,2,null,null,null,null,"",0,0,"","合計",{"$f":"AW33+AW55","v":0},null,null,null,null,null,null,null,null,null,0,"",""]
[null,{"$f":"前年度登録!Q59","v":""},null,null,{"$f":"前年度登録!E59","v":0},{"$f":"前年度登録!BR59","v":""},{"$f":"前年度登録!Z59","v":""},"",{"$f":"前年度登録!O59","v":""},{"$f":"前年度登録!I59","v":0},{"$f":"前年度登録!K59","v":0},{"$f":"前年度登録!BU59","v":"00"},{"$f":"前年度登録!R59","v":""},{"$f":"前年度登録!D59","v":0},null,"",{"$f":"IF(O57=\"\",\"\",HLOOKUP(O57,前年度登録!$AB$8:$BK$118,52,FALSE))","v":""},0,2,null,"",{"$f":"IF(T57=\"\",\"\",HLOOKUP(T57,前年度登録!$AB$8:$BK$118,52,FALSE))","v":""},0,2,null,{"$f":"IF(Y57=\"\",\"\",IF(I57=1,VLOOKUP(Y57,男子種目コード!$A$1:$B$29,2,FALSE),IF(I57=2,VLOOKUP(Y57,女子種目コード!$A$1:$B$30,2,FALSE))))","v":""},null,0,2,null,{"$f":"IF(AD57=\"\",\"\",IF(I57=1,VLOOKUP(AD57,男子種目コード!$A$78:$B$80,2,FALSE),IF(I57=2,VLOOKUP(AD57,女子種目コード!$A$78:$B$80,2,FALSE))))","v":""},null,0,2,null,{"$f":"IF(AI57=\"\",\"\",IF(I57=1,VLOOKUP(AI57,男子種目コード!$A$1:$B$29,2,FALSE),IF(I57=2,VLOOKUP(AI57,女子種目コード!$A$1:$B$30,2,FALSE))))","v":""},null,0,2,null,null,null,null,"",0,0,"",null,null,null,null,null,null,null,null,null,null,null,0,"",""]
[null,{"$f":"前年度登録!Q60","v":""},null,null,{"$f":"前年度登録!E60","v":0},{"$f":"前年度登録!BR60","v":""},{"$f":"前年度登録!Z60","v":""},"",{"$f":"前年度登録!O60","v":""},{"$f":"前年度登録!I60","v":0},{"$f":"前年度登録!K60","v":0},{"$f":"前年度登録!BU60","v":"00"},{"$f":"前年度登録!R60","v":""},{"$f":"前年度登録!D60","v":0},null,"",{"$f":"IF(O58=\"\",\"\",HLOOKUP(O58,前年度登録!$AB$8:$BK$118,53,FALSE))","v":""},0,2,null,"",{"$f":"IF(T58=\"\",\"\",HLOOKUP(T58,前年度登録!$AB$8:$BK$118,53,FALSE))","v":""},0,2,null,{"$f":"IF(Y58=\"\",\"\",IF(I58=1,VLOOKUP(Y58,男子種目コード!$A$1:$B$29,2,FALSE),IF(I58=2,VLOOKUP(Y58,女子種目コード!$A$1:$B$30,2,FALSE))))","v":""},null,0,2,null,{"$f":"IF(AD58=\"\",\"\",IF(I58=1,VLOOKUP(AD58,男子種目コード!$A$78:$B$80,2,FALSE),IF(I58=2,VLOOKUP(AD58,女子種目コード!$A$78:$B$80,2,FALSE))))","v":""},null,0,2,null,{"$f":"IF(AI58=\"\",\"\",IF(I58=1,VLOOKUP(AI58,男子種目コード!$A$1:$B$29,2,FALSE),IF(I58=2,VLOOKUP(AI58,女子種目コード!$A$1:$B$30,2,FALSE))))","v":""},null,0,2,null,null,null,null,"",0,0,"",null,null,null,null,null,null,null,null,null,null,null,0,"",""]
[null,{"$f":"前年度登録!Q61","v":""},null,null,{"$f":"前年度登録!E61","v":0},{"$f":"前年度登録!BR61","v":""},{"$f":"前年度登録!Z61","v":""},"",{"$f":"前年度登録!O61","v":""},{"$f":"前年度登録!I61","v":0},{"$f":"前年度登録!K61","v":0},{"$f":"前年度登録!BU61","v":"00"},{"$f":"前年度登録!R61","v":""},{"$f":"前年度登録!D61","v":0},null,"",{"$f":"IF(O59=\"\",\"\",HLOOKUP(O59,前年度登録!$AB$8:$BK$118,54,FALSE))","v":""},0,2,null,"",{"$f":"IF(T59=\"\",\"\",HLOOKUP(T59,前年度登録!$AB$8:$BK$118,54,FALSE))","v":""},0,2,null,{"$f":"IF(Y59=\"\",\"\",IF(I59=1,VLOOKUP(Y59,男子種目コード!$A$1:$B$29,2,FALSE),IF(I59=2,VLOOKUP(Y59,女子種目コード!$A$1:$B$30,2,FALSE))))","v":""},null,0,2,null,{"$f":"IF(AD59=\"\",\"\",IF(I59=1,VLOOKUP(AD59,男子種目コード!$A$78:$B$80,2,FALSE),IF(I59=2,VLOOKUP(AD59,女子種目コード!$A$78:$B$80,2,FALSE))))","v":""},null,0,2,null,{"$f":"IF(AI59=\"\",\"\",IF(I59=1,VLOOKUP(AI59,男子種目コード!$A$1:$B$29,2,FALSE),IF(I59=2,VLOOKUP(AI59,女子種目コード!$A$1:$B$30,2,FALSE))))","v":""},null,0,2,null,null,null,null,"",0,0,"",null,null,null,null,null,null,null,null,null,null,null,0,"",""]
[null,{"$f":"前年度登録!Q62","v":""},null,null,{"$f":"前年度登録!E62","v":0},{"$f":"前年度登録!BR62","v":""},{"$f":"前年度登録!Z62","v":""},"",{"$f":"前年度登録!O62","v":""},{"$f":"前年度登録!I62","v":0},{"$f":"前年度登録!K62","v":0},{"$f":"前年度登録!BU62","v":"00"},{"$f":"前年度登録!R62","v":""},{"$f":"前年度登録!D62","v":0},null,"",{"$f":"IF(O60=\"\",\"\",HLOOKUP(O60,前年度登録!$AB$8:$BK$118,55,FALSE))","v":""},0,2,null,"",{"$f":"IF(T60=\"\",\"\",HLOOKUP(T60,前年度登録!$AB$8:$BK$118,55,FALSE))","v":""},0,2,null,{"$f":"IF(Y60=\"\",\"\",IF(I60=1,VLOOKUP(Y60,男子種目コード!$A$1:$B$29,2,FALSE),IF(I60=2,VLOOKUP(Y60,女子種目コード!$A$1:$B$30,2,FALSE))))","v":""},null,0,2,null,{"$f":"IF(AD60=\"\",\"\",IF(I60=1,VLOOKUP(AD60,男子種目コード!$A$78:$B$80,2,FALSE),IF(I60=2,VLOOKUP(AD60,女子種目コード!$A$78:$B$80,2,FALSE))))","v":""},null,0,2,null,{"$f":"IF(AI60=\"\",\"\",IF(I60=1,VLOOKUP(AI60,男子種目コード!$A$1:$B$29,2,FALSE),IF(I60=2,VLOOKUP(AI60,女子種目コード!$A$1:$B$30,2,FALSE))))","v":""},null,0,2,null,null,null,null,"",0,0,"",null,null,null,null,null,null,null,null,null,null,null,0,"",""]
[null,{"$f":"前年度登録!Q63","v":""},null,null,{"$f":"前年度登録!E63","v":0},{"$f":"前年度登録!BR63","v":""},{"$f":"前年度登録!Z63","v":""},"",{"$f":"前年度登録!O63","v":""},{"$f":"前年度登録!I63","v":0},{"$f":"前年度登録!K63","v":0},{"$f":"前年度登録!BU63","v":"00"},{"$f":"前年度登録!R63","v":""},{"$f":"前年度登録!D63","v":0},null,"",{"$f":"IF(O61=\"\",\"\",HLOOKUP(O61,前年度登録!$AB$8:$BK$118,56,FALSE))","v":""},0,2,null,"",{"$f":"IF(T61=\"\",\"\",HLOOKUP(T61,前年度登録!$AB$8:$BK$118,56,FALSE))","v":""},0,2,null,{"$f":"IF(Y61=\"\",\"\",IF(I61=1,VLOOKUP(Y61,男子種目コード!$A$1:$B$29,2,FALSE),IF(I61=2,VLOOKUP(Y61,女子種目コード!$A$1:$B$30,2,FALSE))))","v":""},null,0,2,null,{"$f":"IF(AD61=\"\",\"\",IF(I61=1,VLOOKUP(AD61,男子種目コード!$A$78:$B$80,2,FALSE),IF(I61=2,VLOOKUP(AD61,女子種目コード!$A$78:$B$80,2,FALSE))))","v":""},null,0,2,null,{"$f":"IF(AI61=\"\",\"\",IF(I61=1,VLOOKUP(AI61,男子種目コード!$A$1:$B$29,2,FALSE),IF(I61=2,VLOOKUP(AI61,女子種目コード!$A$1:$B$30,2,FALSE))))","v":""},null,0,2,null,null,null,null,"",0,0,"",null,null,null,null,null,null,null,null,null,null,null,0,"",""]
[null,{"$f":"前年度登録!Q64","v":""},null,null,{"$f":"前年度登録!E64","v":0},{"$f":"前年度登録!BR64","v":""},{"$f":"前年度登録!Z64","v":""},"",{"$f":"前年度登録!O64","v":""},{"$f":"前年度登録!I64","v":0},{"$f":"前年度登録!K64","v":0},{"$f":"前年度登録!BU64","v":"00"},{"$f":"前年度登録!R64","v":""},{"$f":"前年度登録!D64","v":0},null,"",{"$f":"IF(O62=\"\",\"\",HLOOKUP(O62,前年度登録!$AB$8:$BK$118,57,FALSE))","v":""},0,2,null,"",{"$f":"IF(T62=\"\",\"\",HLOOKUP(T62,前年度登録!$AB$8:$BK$118,57,FALSE))","v":""},0,2,null,{"$f":"IF(Y62=\"\",\"\",IF(I62=1,VLOOKUP(Y62,男子種目コード!$A$1:$B$29,2,FALSE),IF(I62=2,VLOOKUP(Y62,女子種目コード!$A$1:$B$30,2,FALSE))))","v":""},null,0,2,null,{"$f":"IF(AD62=\"\",\"\",IF(I62=1,VLOOKUP(AD62,男子種目コード!$A$78:$B$80,2,FALSE),IF(I62=2,VLOOKUP(AD62,女子種目コード!$A$78:$B$80,2,FALSE))))","v":""},null,0,2,null,{"$f":"IF(AI62=\"\",\"\",IF(I62=1,VLOOKUP(AI62,男子種目コード!$A$1:$B$29,2,FALSE),IF(I62=2,VLOOKUP(AI62,女子種目コード!$A$1:$B$30,2,FALSE))))","v":""},null,0,2,null,null,null,null,"",0,0,"",null,null,null,null,null,null,null,null,null,null,null,0,"",""]
[null,{"$f":"前年度登録!Q65","v":""},null,null,{"$f":"前年度登録!E65","v":0},{"$f":"前年度登録!BR65","v":""},{"$f":"前年度登録!Z65","v":""},"",{"$f":"前年度登録!O65","v":""},{"$f":"前年度登録!I65","v":0},{"$f":"前年度登録!K65","v":0},{"$f":"前年度登録!BU65","v":"00"},{"$f":"前年度登録!R65","v":""},{"$f":"前年度登録!D65","v":0},null,"",{"$f":"IF(O63=\"\",\"\",HLOOKUP(O63,前年度登録!$AB$8:$BK$118,58,FALSE))","v":""},0,2,null,"",{"$f":"IF(T63=\"\",\"\",HLOOKUP(T63,前年度登録!$AB$8:$BK$118,58,FALSE))","v":""},0,2,null,{"$f":"IF(Y63=\"\",\"\",IF(I63=1,VLOOKUP(Y63,男子種目コード!$A$1:$B$29,2,FALSE),IF(I63=2,VLOOKUP(Y63,女子種目コード!$A$1:$B$30,2,FALSE))))","v":""},null,0,2,null,{"$f":"IF(AD63=\"\",\"\",IF(I63=1,VLOOKUP(AD63,男子種目コード!$A$78:$B$80,2,FALSE),IF(I63=2,VLOOKUP(AD63,女子種目コード!$A$78:$B$80,2,FALSE))))","v":""},null,0,2,null,{"$f":"IF(AI63=\"\",\"\",IF(I63=1,VLOOKUP(AI63,男子種目コード!$A$1:$B$29,2,FALSE),IF(I63=2,VLOOKUP(AI63,女子種目コード!$A$1:$B$30,2,FALSE))))","v":""},null,0,2,null,null,null,null,"",0,0,"",null,null,null,null,null,null,null,null,null,null,null,0,"",""]
[null,{"$f":"前年度登録!Q66","v":""},null,null,{"$f":"前年度登録!E66","v":0},{"$f":"前年度登録!BR66","v":""},{"$f":"前年度登録!Z66","v":""},"",{"$f":"前年度登録!O66","v":""},{"$f":"前年度登録!I66","v":0},{"$f":"前年度登録!K66","v":0},{"$f":"前年度登録!BU66","v":"00"},{"$f":"前年度登録!R66","v":""},{"$f":"前年度登録!D66","v":0},null,"",{"$f":"IF(O64=\"\",\"\",HLOOKUP(O64,前年度登録!$AB$8:$BK$118,59,FALSE))","v":""},0,2,null,"",{"$f":"IF(T64=\"\",\"\",HLOOKUP(T64,前年度登録!$AB$8:$BK$118,59,FALSE))","v":""},0,2,null,{"$f":"IF(Y64=\"\",\"\",IF(I64=1,VLOOKUP(Y64,男子種目コード!$A$1:$B$29,2,FALSE),IF(I64=2,VLOOKUP(Y64,女子種目コード!$A$1:$B$30,2,FALSE))))","v":""},null,0,2,null,{"$f":"IF(AD64=\"\",\"\",IF(I64=1,VLOOKUP(AD64,男子種目コード!$A$78:$B$80,2,FALSE),IF(I64=2,VLOOKUP(AD64,女子種目コード!$A$78:$B$80,2,FALSE))))","v":""},null,0,2,null,{"$f":"IF(AI64=\"\",\"\",IF(I64=1,VLOOKUP(AI64,男子種目コード!$A$1:$B$29,2,FALSE),IF(I64=2,VLOOKUP(AI64,女子種目コード!$A$1:$B$30,2,FALSE))))","v":""},null,0,2,null,null,null,null,"",0,0,"",null,null,null,null,null,null,null,null,null,null,null,0,"",""]
[null,{"$f":"前年度登録!Q67","v":""},null,null,{"$f":"前年度登録!E67","v":0},{"$f":"前年度登録!BR67","v":""},{"$f":"前年度登録!Z67","v":""},"",{"$f":"前年度登録!O67","v":""},{"$f":"前年度登録!I67","v":0},{"$f":"前年度登録!K67","v":0},{"$f":"前年度登録!BU67","v":"00"},{"$f":"前年度登録!R67","v":""},{"$f":"前年度登録!D67","v":0},null,"",{"$f":"IF(O65=\"\",\"\",HLOOKUP(O65,前年度登録!$AB$8:$BK$118,60,FALSE))","v":""},0,2,null,"",{"$f":"IF(T65=\"\",\"\",HLOOKUP(T65,前年度登録!$AB$8:$BK$118,60,FALSE))","v":""},0,2,null,{"$f":"IF(Y65=\"\",\"\",IF(I65=1,VLOOKUP(Y65,男子種目コード!$A$1:$B$29,2,FALSE),IF(I65=2,VLOOKUP(Y65,女子種目コード!$A$1:$B$30,2,FALSE))))","v":""},null,0,2,null,{"$f":"IF(AD65=\"\",\"\",IF(I65=1,VLOOKUP(AD65,男子種目コード!$A$78:$B$80,2,FALSE),IF(I65=2,VLOOKUP(AD65,女子種目コード!$A$78:$B$80,2,FALSE))))","v":""},null,0,2,null,{"$f":"IF(AI65=\"\",\"\",IF(I65=1,VLOOKUP(AI65,男子種目コード!$A$1:$B$29,2,FALSE),IF(I65=2,VLOOKUP(AI65,女子種目コード!$A$1:$B$30,2,FALSE))))","v":""},null,0,2,null,null,null,null,"",0,0,"",null,null,null,null,null,null,null,null,null,null,null,0,"",""]
[null,{"$f":"前年度登録!Q68","v":""},null,null,{"$f":"前年度登録!E68","v":0},{"$f":"前年度登録!BR68","v":""},{"$f":"前年度登録!Z68","v":""},"",{"$f":"前年度登録!O68","v":""},{"$f":"前年度登録!I68","v":0},{"$f":"前年度登録!K68","v":0},{"$f":"前年度登録!BU68","v":"00"},{"$f":"前年度登録!R68","v":""},{"$f":"前年度登録!D68","v":0},null,"",{"$f":"IF(O66=\"\",\"\",HLOOKUP(O66,前年度登録!$AB$8:$BK$118,61,FALSE))","v":""},0,2,null,"",{"$f":"IF(T66=\"\",\"\",HLOOKUP(T66,前年度登録!$AB$8:$BK$118,61,FALSE))","v":""},0,2,null,{"$f":"IF(Y66=\"\",\"\",IF(I66=1,VLOOKUP(Y66,男子種目コード!$A$1:$B$29,2,FALSE),IF(I66=2,VLOOKUP(Y66,女子種目コード!$A$1:$B$30,2,FALSE))))","v":""},null,0,2,null,{"$f":"IF(AD66=\"\",\"\",IF(I66=1,VLOOKUP(AD66,男子種目コード!$A$78:$B$80,2,FALSE),IF(I66=2,VLOOKUP(AD66,女子種目コード!$A$78:$B$80,2,FALSE))))","v":""},null,0,2,null,{"$f":"IF(AI66=\"\",\"\",IF(I66=1,VLOOKUP(AI66,男子種目コード!$A$1:$B$29,2,FALSE),IF(I66=2,VLOOKUP(AI66,女子種目コード!$A$1:$B$30,2,FALSE))))","v":""},null,0,2,null,null,null,null,"",0,0,"",null,null,null,null,null,null,null,null,null,null,null,0,"",""]
[null,{"$f":"前年度登録!Q69","v":""},null,null,{"$f":"前年度登録!E69","v":0},{"$f":"前年度登録!BR69","v":""},{"$f":"前年度登録!Z69","v":""},"",{"$f":"前年度登録!O69","v":""},{"$f":"前年度登録!I69","v":0},{"$f":"前年度登録!K69","v":0},{"$f":"前年度登録!BU69","v":"00"},{"$f":"前年度登録!R69","v":""},{"$f":"前年度登録!D69","v":0},null,"",{"$f":"IF(O67=\"\",\"\",HLOOKUP(O67,前年度登録!$AB$8:$BK$118,62,FALSE))","v":""},0,2,null,"",{"$f":"IF(T67=\"\",\"\",HLOOKUP(T67,前年度登録!$AB$8:$BK$118,62,FALSE))","v":""},0,2,null,{"$f":"IF(Y67=\"\",\"\",IF(I67=1,VLOOKUP(Y67,男子種目コード!$A$1:$B$29,2,FALSE),IF(I67=2,VLOOKUP(Y67,女子種目コード!$A$1:$B$30,2,FALSE))))","v":""},null,0,2,null,{"$f":"IF(AD67=\"\",\"\",IF(I67=1,VLOOKUP(AD67,男子種目コード!$A$78:$B$80,2,FALSE),IF(I67=2,VLOOKUP(AD67,女子種目コード!$A$78:$B$80,2,FALSE))))","v":""},null,0,2,null,{"$f":"IF(AI67=\"\",\"\",IF(I67=1,VLOOKUP(AI67,男子種目コード!$A$1:$B$29,2,FALSE),IF(I67=2,VLOOKUP(AI67,女子種目コード!$A$1:$B$30,2,FALSE))))","v":""},null,0,2,null,null,null,null,"",0,0,"",null,null,null,null,null,null,null,null,null,null,null,0,"",""]
[null,{"$f":"前年度登録!Q70","v":""},null,null,{"$f":"前年度登録!E70","v":0},{"$f":"前年度登録!BR70","v":""},{"$f":"前年度登録!Z70","v":""},"",{"$f":"前年度登録!O70","v":""},{"$f":"前年度登録!I70","v":0},{"$f":"前年度登録!K70","v":0},{"$f":"前年度登録!BU70","v":"00"},{"$f":"前年度登録!R70","v":""},{"$f":"前年度登録!D70","v":0},null,"",{"$f":"IF(O68=\"\",\"\",HLOOKUP(O68,前年度登録!$AB$8:$BK$118,63,FALSE))","v":""},0,2,null,"",{"$f":"IF(T68=\"\",\"\",HLOOKUP(T68,前年度登録!$AB$8:$BK$118,63,FALSE))","v":""},0,2,null,{"$f":"IF(Y68=\"\",\"\",IF(I68=1,VLOOKUP(Y68,男子種目コード!$A$1:$B$29,2,FALSE),IF(I68=2,VLOOKUP(Y68,女子種目コード!$A$1:$B$30,2,FALSE))))","v":""},null,0,2,null,{"$f":"IF(AD68=\"\",\"\",IF(I68=1,VLOOKUP(AD68,男子種目コード!$A$78:$B$80,2,FALSE),IF(I68=2,VLOOKUP(AD68,女子種目コード!$A$78:$B$80,2,FALSE))))","v":""},null,0,2,null,{"$f":"IF(AI68=\"\",\"\",IF(I68=1,VLOOKUP(AI68,男子種目コード!$A$1:$B$29,2,FALSE),IF(I68=2,VLOOKUP(AI68,女子種目コード!$A$1:$B$30,2,FALSE))))","v":""},null,0,2,null,null,null,null,"",0,0,"",null,null,null,null,null,null,null,null,null,null,null,0,"",""]
[null,{"$f":"前年度登録!Q71","v":""},null,null,{"$f":"前年度登録!E71","v":0},{"$f":"前年度登録!BR71","v":""},{"$f":"前年度登録!Z71","v":""},"",{"$f":"前年度登録!O71","v":""},{"$f":"前年度登録!I71","v":0},{"$f":"前年度登録!K71","v":0},{"$f":"前年度登録!BU71","v":"00"},{"$f":"前年度登録!R71","v":""},{"$f":"前年度登録!D71","v":0},null,"",{"$f":"IF(O69=\"\",\"\",HLOOKUP(O69,前年度登録!$AB$8:$BK$118,64,FALSE))","v":""},0,2,null,"",{"$f":"IF(T69=\"\",\"\",HLOOKUP(T69,前年度登録!$AB$8:$BK$118,64,FALSE))","v":""},0,2,null,{"$f":"IF(Y69=\"\",\"\",IF(I69=1,VLOOKUP(Y69,男子種目コード!$A$1:$B$29,2,FALSE),IF(I69=2,VLOOKUP(Y69,女子種目コード!$A$1:$B$30,2,FALSE))))","v":""},null,0,2,null,{"$f":"IF(AD69=\"\",\"\",IF(I69=1,VLOOKUP(AD69,男子種目コード!$A$78:$B$80,2,FALSE),IF(I69=2,VLOOKUP(AD69,女子種目コード!$A$78:$B$80,2,FALSE))))","v":""},null,0,2,null,{"$f":"IF(AI69=\"\",\"\",IF(I69=1,VLOOKUP(AI69,男子種目コード!$A$1:$B$29,2,FALSE),IF(I69=2,VLOOKUP(AI69,女子種目コード!$A$1:$B$30,2,FALSE))))","v":""},null,0,2,null,null,null,null,"",0,0,"",null,null,null,null,null,null,null,null,null,null,null,0,"",""]
[null,{"$f":"前年度登録!Q72","v":""},null,null,{"$f":"前年度登録!E72","v":0},{"$f":"前年度登録!BR72","v":""},{"$f":"前年度登録!Z72","v":""},"",{"$f":"前年度登録!O72","v":""},{"$f":"前年度登録!I72","v":0},{"$f":"前年度登録!K72","v":0},{"$f":"前年度登録!BU72","v":"00"},{"$f":"前年度登録!R72","v":""},{"$f":"前年度登録!D72","v":0},null,"",{"$f":"IF(O70=\"\",\"\",HLOOKUP(O70,前年度登録!$AB$8:$BK$118,65,FALSE))","v":""},0,2,null,"",{"$f":"IF(T70=\"\",\"\",HLOOKUP(T70,前年度登録!$AB$8:$BK$118,65,FALSE))","v":""},0,2,null,{"$f":"IF(Y70=\"\",\"\",IF(I70=1,VLOOKUP(Y70,男子種目コード!$A$1:$B$29,2,FALSE),IF(I70=2,VLOOKUP(Y70,女子種目コード!$A$1:$B$30,2,FALSE))))","v":""},null,0,2,null,{"$f":"IF(AD70=\"\",\"\",IF(I70=1,VLOOKUP(AD70,男子種目コード!$A$78:$B$80,2,FALSE),IF(I70=2,VLOOKUP(AD70,女子種目コード!$A$78:$B$80,2,FALSE))))","v":""},null,0,2,null,{"$f":"IF(AI70=\"\",\"\",IF(I70=1,VLOOKUP(AI70,男子種目コード!$A$1:$B$29,2,FALSE),IF(I70=2,VLOOKUP(AI70,女子種目コード!$A$1:$B$30,2,FALSE))))","v":""},null,0,2,null,null,null,null,"",0,0,"",null,null,null,null,null,null,null,null,null,null,null,0,"",""]
[null,{"$f":"前年度登録!Q73","v":""},null,null,{"$f":"前年度登録!E73","v":0},{"$f":"前年度登録!BR73","v":""},{"$f":"前年度登録!Z73","v":""},"",{"$f":"前年度登録!O73","v":""},{"$f":"前年度登録!I73","v":0},{"$f":"前年度登録!K73","v":0},{"$f":"前年度登録!BU73","v":"00"},{"$f":"前年度登録!R73","v":""},{"$f":"前年度登録!D73","v":0},null,{"$f":"IF(O71=\"\",\"\",IF($I71=1,VLOOKUP(O71,$AV$8:$AX$32,3,FALSE),IF($I71=2,VLOOKUP(O71,$AV$35:$AX$54,3,FALSE))))","v":""},{"$f":"IF(O71=\"\",\"\",HLOOKUP(O71,前年度登録!$AB$8:$BK$118,66,FALSE))","v":""},0,2,null,{"$f":"IF(T71=\"\",\"\",IF($I71=1,VLOOKUP(T71,$AV$8:$AX$32,3,FALSE),IF($I71=2,VLOOKUP(T71,$AV$35:$AX$54,3,FALSE))))","v":""},{"$f":"IF(T71=\"\",\"\",HLOOKUP(T71,前年度登録!$AB$8:$BK$118,66,FALSE))","v":""},0,2,null,{"$f":"IF(Y71=\"\",\"\",IF(I71=1,VLOOKUP(Y71,男子種目コード!$A$1:$B$29,2,FALSE),IF(I71=2,VLOOKUP(Y71,女子種目コード!$A$1:$B$30,2,FALSE))))","v":""},null,0,2,null,{"$f":"IF(AD71=\"\",\"\",IF(I71=1,VLOOKUP(AD71,男子種目コード!$A$78:$B$80,2,FALSE),IF(I71=2,VLOOKUP(AD71,女子種目コード!$A$78:$B$80,2,FALSE))))","v":""},null,0,2,null,{"$f":"IF(AI71=\"\",\"\",IF(I71=1,VLOOKUP(AI71,男子種目コード!$A$1:$B$29,2,FALSE),IF(I71=2,VLOOKUP(AI71,女子種目コード!$A$1:$B$30,2,FALSE))))","v":""},null,0,2,null,null,null,null,{"$f":"IF(O71=\"\",\"\",1)","v":""},{"$f":"IF(OR(AR71=1,T71=\"\"),0,1)","v":0},{"$f":"IF(OR(AR71=1,AS71=1,AD71=\"\"),0,1)","v":0},{"$f":"IF(T71=\"\",\"\",1)","v":""},null,null,null,null,null,null,null,null,null,null,null,0,{"$f":"IF(I71=1,BG71,\"\")","v":""},{"$f":"IF(I71=2,BG71,\"\")","v":""}]
[null,{"$f":"前年度登録!Q74","v":""},null,null,{"$f":"前年度登録!E74","v":0},{"$f":"前年度登録!BR74","v":""},{"$f":"前年度登録!Z74","v":""},{"$f":"F72","v":""},{"$f":"前年度登録!O74","v":""},{"$f":"前年度登録!I74","v":0},{"$f":"前年度登録!K74","v":0},{"$f":"前年度登録!BU74","v":"00"},{"$f":"前年度登録!R74","v":""},{"$f":"前年度登録!D74","v":0},null,"",{"$f":"IF(O72=\"\",\"\",HLOOKUP(O72,前年度登録!$AB$8:$BK$118,67,FALSE))","v":""},0,2,null,"",{"$f":"IF(T72=\"\",\"\",HLOOKUP(T72,前年度登録!$AB$8:$BK$118,67,FALSE))","v":""},0,2,null,{"$f":"IF(Y72=\"\",\"\",IF(I72=1,VLOOKUP(Y72,男子種目コード!$A$1:$B$29,2,FALSE),IF(I72=2,VLOOKUP(Y72,女子種目コード!$A$1:$B$30,2,FALSE))))","v":""},null,0,2,null,{"$f":"IF(AD72=\"\",\"\",IF(I72=1,VLOOKUP(AD72,男子種目コード!$A$78:$B$80,2,FALSE),IF(I72=2,VLOOKUP(AD72,女子種目コード!$A$78:$B$80,2,FALSE))))","v":""},null,0,2,null,{"$f":"IF(AI72=\"\",\"\",IF(I72=1,VLOOKUP(AI72,男子種目コード!$A$1:$B$29,2,FALSE),IF(I72=2,VLOOKUP(AI72,女子種目コード!$A$1:$B$30,2,FALSE))))","v":""},null,0,2,null,null,null,null,"",0,0,"",null,null,null,null,null,null,null,null,null,null,null,{"$f":"COUNT(AR72,AU72)","v":0},"",""]
[null,{"$f":"前年度登録!Q75","v":""},null,null,{"$f":"前年度登録!E75","v":0},{"$f":"前年度登録!BR75","v":""},{"$f":"前年度登録!Z75","v":""},"",{"$f":"前年度登録!O75","v":""},{"$f":"前年度登録!I75","v":0},{"$f":"前年度登録!K75","v":0},{"$f":"前年度登録!BU75","v":"00"},{"$f":"前年度登録!R75","v":""},{"$f":"前年度登録!D75","v":0},null,"",{"$f":"IF(O73=\"\",\"\",HLOOKUP(O73,前年度登録!$AB$8:$BK$118,68,FALSE))","v":""},0,2,null,"",{"$f":"IF(T73=\"\",\"\",HLOOKUP(T73,前年度登録!$AB$8:$BK$118,68,FALSE))","v":""},0,2,null,{"$f":"IF(Y73=\"\",\"\",IF(I73=1,VLOOKUP(Y73,男子種目コード!$A$1:$B$29,2,FALSE),IF(I73=2,VLOOKUP(Y73,女子種目コード!$A$1:$B$30,2,FALSE))))","v":""},null,0,2,null,{"$f":"IF(AD73=\"\",\"\",IF(I73=1,VLOOKUP(AD73,男子種目コード!$A$78:$B$80,2,FALSE),IF(I73=2,VLOOKUP(AD73,女子種目コード!$A$78:$B$80,2,FALSE))))","v":""},null,0,2,null,{"$f":"IF(AI73=\"\",\"\",IF(I73=1,VLOOKUP(AI73,男子種目コード!$A$1:$B$29,2,FALSE),IF(I73=2,VLOOKUP(AI73,女子種目コード!$A$1:$B$30,2,FALSE))))","v":""},null,0,2,null,null,null,null,"",0,0,"",null,null,null,null,null,null,null,null,null,null,null,0,"",""]
[null,{"$f":"前年度登録!Q76","v":""},null,null,{"$f":"前年度登録!E76","v":0},{"$f":"前年度登録!BR76","v":""},{"$f":"前年度登録!Z76","v":""},"",{"$f":"前年度登録!O76","v":""},{"$f":"前年度登録!I76","v":0},{"$f":"前年度登録!K76","v":0},{"$f":"前年度登録!BU76","v":"00"},{"$f":"前年度登録!R76","v":""},{"$f":"前年度登録!D76","v":0},null,"",{"$f":"IF(O74=\"\",\"\",HLOOKUP(O74,前年度登録!$AB$8:$BK$118,69,FALSE))","v":""},0,2,null,"",{"$f":"IF(T74=\"\",\"\",HLOOKUP(T74,前年度登録!$AB$8:$BK$118,69,FALSE))","v":""},0,2,null,{"$f":"IF(Y74=\"\",\"\",IF(I74=1,VLOOKUP(Y74,男子種目コード!$A$1:$B$29,2,FALSE),IF(I74=2,VLOOKUP(Y74,女子種目コード!$A$1:$B$30,2,FALSE))))","v":""},null,0,2,null,{"$f":"IF(AD74=\"\",\"\",IF(I74=1,VLOOKUP(AD74,男子種目コード!$A$78:$B$80,2,FALSE),IF(I74=2,VLOOKUP(AD74,女子種目コード!$A$78:$B$80,2,FALSE))))","v":""},null,0,2,null,{"$f":"IF(AI74=\"\",\"\",IF(I74=1,VLOOKUP(AI74,男子種目コード!$A$1:$B$29,2,FALSE),IF(I74=2,VLOOKUP(AI74,女子種目コード!$A$1:$B$30,2,FALSE))))","v":""},null,0,2,null,null,null,null,"",0,0,"",null,null,null,null,null,null,null,null,null,null,null,0,"",""]
[null,{"$f":"前年度登録!Q77","v":""},null,null,{"$f":"前年度登録!E77","v":0},{"$f":"前年度登録!BR77","v":""},{"$f":"前年度登録!Z77","v":""},"",{"$f":"前年度登録!O77","v":""},{"$f":"前年度登録!I77","v":0},{"$f":"前年度登録!K77","v":0},{"$f":"前年度登録!BU77","v":"00"},{"$f":"前年度登録!R77","v":""},{"$f":"前年度登録!D77","v":0},null,"",{"$f":"IF(O75=\"\",\"\",HLOOKUP(O75,前年度登録!$AB$8:$BK$118,70,FALSE))","v":""},0,2,null,"",{"$f":"IF(T75=\"\",\"\",HLOOKUP(T75,前年度登録!$AB$8:$BK$118,70,FALSE))","v":""},0,2,null,{"$f":"IF(Y75=\"\",\"\",IF(I75=1,VLOOKUP(Y75,男子種目コード!$A$1:$B$29,2,FALSE),IF(I75=2,VLOOKUP(Y75,女子種目コード!$A$1:$B$30,2,FALSE))))","v":""},null,0,2,null,{"$f":"IF(AD75=\"\",\"\",IF(I75=1,VLOOKUP(AD75,男子種目コード!$A$78:$B$80,2,FALSE),IF(I75=2,VLOOKUP(AD75,女子種目コード!$A$78:$B$80,2,FALSE))))","v":""},null,0,2,null,{"$f":"IF(AI75=\"\",\"\",IF(I75=1,VLOOKUP(AI75,男子種目コード!$A$1:$B$29,2,FALSE),IF(I75=2,VLOOKUP(AI75,女子種目コード!$A$1:$B$30,2,FALSE))))","v":""},null,0,2,null,null,null,null,"",0,0,"",null,null,null,null,null,null,null,null,null,null,null,0,"",""]
[null,{"$f":"前年度登録!Q78","v":""},null,null,{"$f":"前年度登録!E78","v":0},{"$f":"前年度登録!BR78","v":""},{"$f":"前年度登録!Z78","v":""},"",{"$f":"前年度登録!O78","v":""},{"$f":"前年度登録!I78","v":0},{"$f":"前年度登録!K78","v":0},{"$f":"前年度登録!BU78","v":"00"},{"$f":"前年度登録!R78","v":""},{"$f":"前年度登録!D78","v":0},null,"",{"$f":"IF(O76=\"\",\"\",HLOOKUP(O76,前年度登録!$AB$8:$BK$118,71,FALSE))","v":""},0,2,null,"",{"$f":"IF(T76=\"\",\"\",HLOOKUP(T76,前年度登録!$AB$8:$BK$118,71,FALSE))","v":""},0,2,null,{"$f":"IF(Y76=\"\",\"\",IF(I76=1,VLOOKUP(Y76,男子種目コード!$A$1:$B$29,2,FALSE),IF(I76=2,VLOOKUP(Y76,女子種目コード!$A$1:$B$30,2,FALSE))))","v":""},null,0,2,null,{"$f":"IF(AD76=\"\",\"\",IF(I76=1,VLOOKUP(AD76,男子種目コード!$A$78:$B$80,2,FALSE),IF(I76=2,VLOOKUP(AD76,女子種目コード!$A$78:$B$80,2,FALSE))))","v":""},null,0,2,null,{"$f":"IF(AI76=\"\",\"\",IF(I76=1,VLOOKUP(AI76,男子種目コード!$A$1:$B$29,2,FALSE),IF(I76=2,VLOOKUP(AI76,女子種目コード!$A$1:$B$30,2,FALSE))))","v":""},null,0,2,null,null,null,null,"",0,0,"",null,null,null,null,null,null,null,null,null,null,null,0,"",""]
[null,{"$f":"前年度登録!Q79","v":""},null,null,{"$f":"前年度登録!E79","v":0},{"$f":"前年度登録!BR79","v":""},{"$f":"前年度登録!Z79","v":""},"",{"$f":"前年度登録!O79","v":""},{"$f":"前年度登録!I79","v":0},{"$f":"前年度登録!K79","v":0},{"$f":"前年度登録!BU79","v":"00"},{"$f":"前年度登録!R79","v":""},{"$f":"前年度登録!D79","v":0},null,"",{"$f":"IF(O77=\"\",\"\",HLOOKUP(O77,前年度登録!$AB$8:$BK$118,72,FALSE))","v":""},0,2,null,"",{"$f":"IF(T77=\"\",\"\",HLOOKUP(T77,前年度登録!$AB$8:$BK$118,72,FALSE))","v":""},0,2,null,{"$f":"IF(Y77=\"\",\"\",IF(I77=1,VLOOKUP(Y77,男子種目コード!$A$1:$B$29,2,FALSE),IF(I77=2,VLOOKUP(Y77,女子種目コード!$A$1:$B$30,2,FALSE))))","v":""},null,0,2,null,{"$f":"IF(AD77=\"\",\"\",IF(I77=1,VLOOKUP(AD77,男子種目コード!$A$78:$B$80,2,FALSE),IF(I77=2,VLOOKUP(AD77,女子種目コード!$A$78:$B$80,2,FALSE))))","v":""},null,0,2,null,{"$f":"IF(AI77=\"\",\"\",IF(I77=1,VLOOKUP(AI77,男子種目コード!$A$1:$B$29,2,FALSE),IF(I77=2,VLOOKUP(AI77,女子種目コード!$A$1:$B$30,2,FALSE))))","v":""},null,0,2,null,null,null,null,"",0,0,"",null,null,null,null,null,null,null,null,null,null,null,0,"",""]
[null,{"$f":"前年度登録!Q80","v":""},null,null,{"$f":"前年度登録!E80","v":0},{"$f":"前年度登録!BR80","v":""},{"$f":"前年度登録!Z80","v":""},"",{"$f":"前年度登録!O80","v":""},{"$f":"前年度登録!I80","v":0},{"$f":"前年度登録!K80","v":0},{"$f":"前年度登録!BU80","v":"00"},{"$f":"前年度登録!R80","v":""},{"$f":"前年度登録!D80","v":0},null,"",{"$f":"IF(O78=\"\",\"\",HLOOKUP(O78,前年度登録!$AB$8:$BK$118,73,FALSE))","v":""},0,2,null,"",{"$f":"IF(T78=\"\",\"\",HLOOKUP(T78,前年度登録!$AB$8:$BK$118,73,FALSE))","v":""},0,2,null,{"$f":"IF(Y78=\"\",\"\",IF(I78=1,VLOOKUP(Y78,男子種目コード!$A$1:$B$29,2,FALSE),IF(I78=2,VLOOKUP(Y78,女子種目コード!$A$1:$B$30,2,FALSE))))","v":""},null,0,2,null,{"$f":"IF(AD78=\"\",\"\",IF(I78=1,VLOOKUP(AD78,男子種目コード!$A$78:$B$80,2,FALSE),IF(I78=2,VLOOKUP(AD78,女子種目コード!$A$78:$B$80,2,FALSE))))","v":""},null,0,2,null,{"$f":"IF(AI78=\"\",\"\",IF(I78=1,VLOOKUP(AI78,男子種目コード!$A$1:$B$29,2,FALSE),IF(I78=2,VLOOKUP(AI78,女子種目コード!$A$1:$B$30,2,FALSE))))","v":""},null,0,2,null,null,null,null,"",0,0,"",null,null,null,null,null,null,null,null,null,null,null,0,"",""]
[null,{"$f":"前年度登録!Q81","v":""},null,null,{"$f":"前年度登録!E81","v":0},{"$f":"前年度登録!BR81","v":""},{"$f":"前年度登録!Z81","v":""},"",{"$f":"前年度登録!O81","v":""},{"$f":"前年度登録!I81","v":0},{"$f":"前年度登録!K81","v":0},{"$f":"前年度登録!BU81","v":"00"},{"$f":"前年度登録!R81","v":""},{"$f":"前年度登録!D81","v":0},null,"",{"$f":"IF(O79=\"\",\"\",HLOOKUP(O79,前年度登録!$AB$8:$BK$118,74,FALSE))","v":""},0,2,null,"",{"$f":"IF(T79=\"\",\"\",HLOOKUP(T79,前年度登録!$AB$8:$BK$118,74,FALSE))","v":""},0,2,null,{"$f":"IF(Y79=\"\",\"\",IF(I79=1,VLOOKUP(Y79,男子種目コード!$A$1:$B$29,2,FALSE),IF(I79=2,VLOOKUP(Y79,女子種目コード!$A$1:$B$30,2,FALSE))))","v":""},null,0,2,null,{"$f":"IF(AD79=\"\",\"\",IF(I79=1,VLOOKUP(AD79,男子種目コード!$A$78:$B$80,2,FALSE),IF(I79=2,VLOOKUP(AD79,女子種目コード!$A$78:$B$80,2,FALSE))))","v":""},null,0,2,null,{"$f":"IF(AI79=\"\",\"\",IF(I79=1,VLOOKUP(AI79,男子種目コード!$A$1:$B$29,2,FALSE),IF(I79=2,VLOOKUP(AI79,女子種目コード!$A$1:$B$30,2,FALSE))))","v":""},null,0,2,null,null,null,null,"",0,0,"",null,null,null,null,null,null,null,null,null,null,null,0,"",""]
[null,{"$f":"前年度登録!Q82","v":""},null,null,{"$f":"前年度登録!E82","v":0},{"$f":"前年度登録!BR82","v":""},{"$f":"前年度登録!Z82","v":""},"",{"$f":"前年度登録!O82","v":""},{"$f":"前年度登録!I82","v":0},{"$f":"前年度登録!K82","v":0},{"$f":"前年度登録!BU82","v":"00"},{"$f":"前年度登録!R82","v":""},{"$f":"前年度登録!D82","v":0},null,"",{"$f":"IF(O80=\"\",\"\",HLOOKUP(O80,前年度登録!$AB$8:$BK$118,75,FALSE))","v":""},0,2,null,"",{"$f":"IF(T80=\"\",\"\",HLOOKUP(T80,前年度登録!$AB$8:$BK$118,75,FALSE))","v":""},0,2,null,{"$f":"IF(Y80=\"\",\"\",IF(I80=1,VLOOKUP(Y80,男子種目コード!$A$1:$B$29,2,FALSE),IF(I80=2,VLOOKUP(Y80,女子種目コード!$A$1:$B$30,2,FALSE))))","v":""},null,0,2,null,{"$f":"IF(AD80=\"\",\"\",IF(I80=1,VLOOKUP(AD80,男子種目コード!$A$78:$B$80,2,FALSE),IF(I80=2,VLOOKUP(AD80,女子種目コード!$A$78:$B$80,2,FALSE))))","v":""},null,0,2,null,{"$f":"IF(AI80=\"\",\"\",IF(I80=1,VLOOKUP(AI80,男子種目コード!$A$1:$B$29,2,FALSE),IF(I80=2,VLOOKUP(AI80,女子種目コード!$A$1:$B$30,2,FALSE))))","v":""},null,0,2,null,null,null,null,"",0,0,"",null,null,null,null,null,null,null,null,null,null,null,0,"",""]
[null,{"$f":"前年度登録!Q83","v":""},null,null,{"$f":"前年度登録!E83","v":0},{"$f":"前年度登録!BR83","v":""},{"$f":"前年度登録!Z83","v":""},"",{"$f":"前年度登録!O83","v":""},{"$f":"前年度登録!I83","v":0},{"$f":"前年度登録!K83","v":0},{"$f":"前年度登録!BU83","v":"00"},{"$f":"前年度登録!R83","v":""},{"$f":"前年度登録!D83","v":0},null,"",{"$f":"IF(O81=\"\",\"\",HLOOKUP(O81,前年度登録!$AB$8:$BK$118,76,FALSE))","v":""},0,2,null,"",{"$f":"IF(T81=\"\",\"\",HLOOKUP(T81,前年度登録!$AB$8:$BK$118,76,FALSE))","v":""},0,2,null,{"$f":"IF(Y81=\"\",\"\",IF(I81=1,VLOOKUP(Y81,男子種目コード!$A$1:$B$29,2,FALSE),IF(I81=2,VLOOKUP(Y81,女子種目コード!$A$1:$B$30,2,FALSE))))","v":""},null,0,2,null,{"$f":"IF(AD81=\"\",\"\",IF(I81=1,VLOOKUP(AD81,男子種目コード!$A$78:$B$80,2,FALSE),IF(I81=2,VLOOKUP(AD81,女子種目コード!$A$78:$B$80,2,FALSE))))","v":""},null,0,2,null,{"$f":"IF(AI81=\"\",\"\",IF(I81=1,VLOOKUP(AI81,男子種目コード!$A$1:$B$29,2,FALSE),IF(I81=2,VLOOKUP(AI81,女子種目コード!$A$1:$B$30,2,FALSE))))","v":""},null,0,2,null,null,null,null,"",0,0,"",null,null,null,null,null,null,null,null,null,null,null,0,"",""]
[null,{"$f":"前年度登録!Q84","v":""},null,null,{"$f":"前年度登録!E84","v":0},{"$f":"前年度登録!BR84","v":""},{"$f":"前年度登録!Z84","v":""},"",{"$f":"前年度登録!O84","v":""},{"$f":"前年度登録!I84","v":0},{"$f":"前年度登録!K84","v":0},{"$f":"前年度登録!BU84","v":"00"},{"$f":"前年度登録!R84","v":""},{"$f":"前年度登録!D84","v":0},null,"",{"$f":"IF(O82=\"\",\"\",HLOOKUP(O82,前年度登録!$AB$8:$BK$118,77,FALSE))","v":""},0,2,null,"",{"$f":"IF(T82=\"\",\"\",HLOOKUP(T82,前年度登録!$AB$8:$BK$118,77,FALSE))","v":""},0,2,null,{"$f":"IF(Y82=\"\",\"\",IF(I82=1,VLOOKUP(Y82,男子種目コード!$A$1:$B$29,2,FALSE),IF(I82=2,VLOOKUP(Y82,女子種目コード!$A$1:$B$30,2,FALSE))))","v":""},null,0,2,null,{"$f":"IF(AD82=\"\",\"\",IF(I82=1,VLOOKUP(AD82,男子種目コード!$A$78:$B$80,2,FALSE),IF(I82=2,VLOOKUP(AD82,女子種目コード!$A$78:$B$80,2,FALSE))))","v":""},null,0,2,null,{"$f":"IF(AI82=\"\",\"\",IF(I82=1,VLOOKUP(AI82,男子種目コード!$A$1:$B$29,2,FALSE),IF(I82=2,VLOOKUP(AI82,女子種目コード!$A$1:$B$30,2,FALSE))))","v":""},null,0,2,null,null,null,null,"",0,0,"",null,null,null,null,null,null,null,null,null,null,null,0,"",""]
[null,{"$f":"前年度登録!Q85","v":""},null,null,{"$f":"前年度登録!E85","v":0},{"$f":"前年度登録!BR85","v":""},{"$f":"前年度登録!Z85","v":""},"",{"$f":"前年度登録!O85","v":""},{"$f":"前年度登録!I85","v":0},{"$f":"前年度登録!K85","v":0},{"$f":"前年度登録!BU85","v":"00"},{"$f":"前年度登録!R85","v":""},{"$f":"前年度登録!D85","v":0},null,"",{"$f":"IF(O83=\"\",\"\",HLOOKUP(O83,前年度登録!$AB$8:$BK$118,78,FALSE))","v":""},0,2,null,"",{"$f":"IF(T83=\"\",\"\",HLOOKUP(T83,前年度登録!$AB$8:$BK$118,78,FALSE))","v":""},0,2,null,{"$f":"IF(Y83=\"\",\"\",IF(I83=1,VLOOKUP(Y83,男子種目コード!$A$1:$B$29,2,FALSE),IF(I83=2,VLOOKUP(Y83,女子種目コード!$A$1:$B$30,2,FALSE))))","v":""},null,0,2,null,{"$f":"IF(AD83=\"\",\"\",IF(I83=1,VLOOKUP(AD83,男子種目コード!$A$78:$B$80,2,FALSE),IF(I83=2,VLOOKUP(AD83,女子種目コード!$A$78:$B$80,2,FALSE))))","v":""},null,0,2,null,{"$f":"IF(AI83=\"\",\"\",IF(I83=1,VLOOKUP(AI83,男子種目コード!$A$1:$B$29,2,FALSE),IF(I83=2,VLOOKUP(AI83,女子種目コード!$A$1:$B$30,2,FALSE))))","v":""},null,0,2,null,null,null,null,"",0,0,"",null,null,null,null,null,null,null,null,null,null,null,0,"",""]
[null,{"$f":"前年度登録!Q86","v":""},null,null,{"$f":"前年度登録!E86","v":0},{"$f":"前年度登録!BR86","v":""},{"$f":"前年度登録!Z86","v":""},"",{"$f":"前年度登録!O86","v":""},{"$f":"前年度登録!I86","v":0},{"$f":"前年度登録!K86","v":0},{"$f":"前年度登録!BU86","v":"00"},{"$f":"前年度登録!R86","v":""},{"$f":"前年度登録!D86","v":0},null,"",{"$f":"IF(O84=\"\",\"\",HLOOKUP(O84,前年度登録!$AB$8:$BK$118,79,FALSE))","v":""},0,2,null,"",{"$f":"IF(T84=\"\",\"\",HLOOKUP(T84,前年度登録!$AB$8:$BK$118,79,FALSE))","v":""},0,2,null,{"$f":"IF(Y84=\"\",\"\",IF(I84=1,VLOOKUP(Y84,男子種目コード!$A$1:$B$29,2,FALSE),IF(I84=2,VLOOKUP(Y84,女子種目コード!$A$1:$B$30,2,FALSE))))","v":""},null,0,2,null,{"$f":"IF(AD84=\"\",\"\",IF(I84=1,VLOOKUP(AD84,男子種目コード!$A$78:$B$80,2,FALSE),IF(I84=2,VLOOKUP(AD84,女子種目コード!$A$78:$B$80,2,FALSE))))","v":""},null,0,2,null,{"$f":"IF(AI84=\"\",\"\",IF(I84=1,VLOOKUP(AI84,男子種目コード!$A$1:$B$29,2,FALSE),IF(I84=2,VLOOKUP(AI84,女子種目コード!$A$1:$B$30,2,FALSE))))","v":""},null,0,2,null,null,null,null,"",0,0,"",null,null,null,null,null,null,null,null,null,null,null,0,"",""]
[null,{"$f":"前年度登録!Q87","v":""},null,null,{"$f":"前年度登録!E87","v":0},{"$f":"前年度登録!BR87","v":""},{"$f":"前年度登録!Z87","v":""},"",{"$f":"前年度登録!O87","v":""},{"$f":"前年度登録!I87","v":0},{"$f":"前年度登録!K87","v":0},{"$f":"前年度登録!BU87","v":"00"},{"$f":"前年度登録!R87","v":""},{"$f":"前年度登録!D87","v":0},null,"",{"$f":"IF(O85=\"\",\"\",HLOOKUP(O85,前年度登録!$AB$8:$BK$118,80,FALSE))","v":""},0,2,null,"",{"$f":"IF(T85=\"\",\"\",HLOOKUP(T85,前年度登録!$AB$8:$BK$118,80,FALSE))","v":""},0,2,null,{"$f":"IF(Y85=\"\",\"\",IF(I85=1,VLOOKUP(Y85,男子種目コード!$A$1:$B$29,2,FALSE),IF(I85=2,VLOOKUP(Y85,女子種目コード!$A$1:$B$30,2,FALSE))))","v":""},null,0,2,null,{"$f":"IF(AD85=\"\",\"\",IF(I85=1,VLOOKUP(AD85,男子種目コード!$A$78:$B$80,2,FALSE),IF(I85=2,VLOOKUP(AD85,女子種目コード!$A$78:$B$80,2,FALSE))))","v":""},null,0,2,null,{"$f":"IF(AI85=\"\",\"\",IF(I85=1,VLOOKUP(AI85,男子種目コード!$A$1:$B$29,2,FALSE),IF(I85=2,VLOOKUP(AI85,女子種目コード!$A$1:$B$30,2,FALSE))))","v":""},null,0,2,null,null,null,null,"",0,0,"",null,null,null,null,null,null,null,null,null,null,null,0,"",""]
[null,{"$f":"前年度登録!Q88","v":""},null,null,{"$f":"前年度登録!E88","v":0},{"$f":"前年度登録!BR88","v":""},{"$f":"前年度登録!Z88","v":""},"",{"$f":"前年度登録!O88","v":""},{"$f":"前年度登録!I88","v":0},{"$f":"前年度登録!K88","v":0},{"$f":"前年度登録!BU88","v":"00"},{"$f":"前年度登録!R88","v":""},{"$f":"前年度登録!D88","v":0},null,"",{"$f":"IF(O86=\"\",\"\",HLOOKUP(O86,前年度登録!$AB$8:$BK$118,81,FALSE))","v":""},0,2,null,"",{"$f":"IF(T86=\"\",\"\",HLOOKUP(T86,前年度登録!$AB$8:$BK$118,81,FALSE))","v":""},0,2,null,{"$f":"IF(Y86=\"\",\"\",IF(I86=1,VLOOKUP(Y86,男子種目コード!$A$1:$B$29,2,FALSE),IF(I86=2,VLOOKUP(Y86,女子種目コード!$A$1:$B$30,2,FALSE))))","v":""},null,0,2,null,{"$f":"IF(AD86=\"\",\"\",IF(I86=1,VLOOKUP(AD86,男子種目コード!$A$78:$B$80,2,FALSE),IF(I86=2,VLOOKUP(AD86,女子種目コード!$A$78:$B$80,2,FALSE))))","v":""},null,0,2,null,{"$f":"IF(AI86=\"\",\"\",IF(I86=1,VLOOKUP(AI86,男子種目コード!$A$1:$B$29,2,FALSE),IF(I86=2,VLOOKUP(AI86,女子種目コード!$A$1:$B$30,2,FALSE))))","v":""},null,0,2,null,null,null,null,"",0,0,"",null,null,null,null,null,null,null,null,null,null,null,0,"",""]
[null,{"$f":"前年度登録!Q89","v":""},null,null,{"$f":"前年度登録!E89","v":0},{"$f":"前年度登録!BR89","v":""},{"$f":"前年度登録!Z89","v":""},"",{"$f":"前年度登録!O89","v":""},{"$f":"前年度登録!I89","v":0},{"$f":"前年度登録!K89","v":0},{"$f":"前年度登録!BU89","v":"00"},{"$f":"前年度登録!R89","v":""},{"$f":"前年度登録!D89","v":0},null,"",{"$f":"IF(O87=\"\",\"\",HLOOKUP(O87,前年度登録!$AB$8:$BK$118,82,FALSE))","v":""},0,2,null,"",{"$f":"IF(T87=\"\",\"\",HLOOKUP(T87,前年度登録!$AB$8:$BK$118,82,FALSE))","v":""},0,2,null,{"$f":"IF(Y87=\"\",\"\",IF(I87=1,VLOOKUP(Y87,男子種目コード!$A$1:$B$29,2,FALSE),IF(I87=2,VLOOKUP(Y87,女子種目コード!$A$1:$B$30,2,FALSE))))","v":""},null,0,2,null,{"$f":"IF(AD87=\"\",\"\",IF(I87=1,VLOOKUP(AD87,男子種目コード!$A$78:$B$80,2,FALSE),IF(I87=2,VLOOKUP(AD87,女子種目コード!$A$78:$B$80,2,FALSE))))","v":""},null,0,2,null,{"$f":"IF(AI87=\"\",\"\",IF(I87=1,VLOOKUP(AI87,男子種目コード!$A$1:$B$29,2,FALSE),IF(I87=2,VLOOKUP(AI87,女子種目コード!$A$1:$B$30,2,FALSE))))","v":""},null,0,2,null,null,null,null,"",0,0,"",null,null,null,null,null,null,null,null,null,null,null,0,"",""]
[null,{"$f":"前年度登録!Q90","v":""},null,null,{"$f":"前年度登録!E90","v":0},{"$f":"前年度登録!BR90","v":""},{"$f":"前年度登録!Z90","v":""},"",{"$f":"前年度登録!O90","v":""},{"$f":"前年度登録!I90","v":0},{"$f":"前年度登録!K90","v":0},{"$f":"前年度登録!BU90","v":"00"},{"$f":"前年度登録!R90","v":""},{"$f":"前年度登録!D90","v":0},null,"",{"$f":"IF(O88=\"\",\"\",HLOOKUP(O88,前年度登録!$AB$8:$BK$118,83,FALSE))","v":""},0,2,null,"",{"$f":"IF(T88=\"\",\"\",HLOOKUP(T88,前年度登録!$AB$8:$BK$118,83,FALSE))","v":""},0,2,null,{"$f":"IF(Y88=\"\",\"\",IF(I88=1,VLOOKUP(Y88,男子種目コード!$A$1:$B$29,2,FALSE),IF(I88=2,VLOOKUP(Y88,女子種目コード!$A$1:$B$30,2,FALSE))))","v":""},null,0,2,null,{"$f":"IF(AD88=\"\",\"\",IF(I88=1,VLOOKUP(AD88,男子種目コード!$A$78:$B$80,2,FALSE),IF(I88=2,VLOOKUP(AD88,女子種目コード!$A$78:$B$80,2,FALSE))))","v":""},null,0,2,null,{"$f":"IF(AI88=\"\",\"\",IF(I88=1,VLOOKUP(AI88,男子種目コード!$A$1:$B$29,2,FALSE),IF(I88=2,VLOOKUP(AI88,女子種目コード!$A$1:$B$30,2,FALSE))))","v":""},null,0,2,null,null,null,null,"",0,0,"",null,null,null,null,null,null,null,null,null,null,null,0,"",""]
[null,{"$f":"前年度登録!Q91","v":""},null,null,{"$f":"前年度登録!E91","v":0},{"$f":"前年度登録!BR91","v":""},{"$f":"前年度登録!Z91","v":""},"",{"$f":"前年度登録!O91","v":""},{"$f":"前年度登録!I91","v":0},{"$f":"前年度登録!K91","v":0},{"$f":"前年度登録!BU91","v":"00"},{"$f":"前年度登録!R91","v":""},{"$f":"前年度登録!D91","v":0},null,"",{"$f":"IF(O89=\"\",\"\",HLOOKUP(O89,前年度登録!$AB$8:$BK$118,84,FALSE))","v":""},0,2,null,"",{"$f":"IF(T89=\"\",\"\",HLOOKUP(T89,前年度登録!$AB$8:$BK$118,84,FALSE))","v":""},0,2,null,{"$f":"IF(Y89=\"\",\"\",IF(I89=1,VLOOKUP(Y89,男子種目コード!$A$1:$B$29,2,FALSE),IF(I89=2,VLOOKUP(Y89,女子種目コード!$A$1:$B$30,2,FALSE))))","v":""},null,0,2,null,{"$f":"IF(AD89=\"\",\"\",IF(I89=1,VLOOKUP(AD89,男子種目コード!$A$78:$B$80,2,FALSE),IF(I89=2,VLOOKUP(AD89,女子種目コード!$A$78:$B$80,2,FALSE))))","v":""},null,0,2,null,{"$f":"IF(AI89=\"\",\"\",IF(I89=1,VLOOKUP(AI89,男子種目コード!$A$1:$B$29,2,FALSE),IF(I89=2,VLOOKUP(AI89,女子種目コード!$A$1:$B$30,2,FALSE))))","v":""},null,0,2,null,null,null,null,"",0,0,"",null,null,null,null,null,null,null,null,null,null,null,0,"",""]
[null,{"$f":"前年度登録!Q92","v":""},null,null,{"$f":"前年度登録!E92","v":0},{"$f":"前年度登録!BR92","v":""},{"$f":"前年度登録!Z92","v":""},"",{"$f":"前年度登録!O92","v":""},{"$f":"前年度登録!I92","v":0},{"$f":"前年度登録!K92","v":0},{"$f":"前年度登録!BU92","v":"00"},{"$f":"前年度登録!R92","v":""},{"$f":"前年度登録!D92","v":0},null,"",{"$f":"IF(O90=\"\",\"\",HLOOKUP(O90,前年度登録!$AB$8:$BK$118,85,FALSE))","v":""},0,2,null,"",{"$f":"IF(T90=\"\",\"\",HLOOKUP(T90,前年度登録!$AB$8:$BK$118,85,FALSE))","v":""},0,2,null,{"$f":"IF(Y90=\"\",\"\",IF(I90=1,VLOOKUP(Y90,男子種目コード!$A$1:$B$29,2,FALSE),IF(I90=2,VLOOKUP(Y90,女子種目コード!$A$1:$B$30,2,FALSE))))","v":""},null,0,2,null,{"$f":"IF(AD90=\"\",\"\",IF(I90=1,VLOOKUP(AD90,男子種目コード!$A$78:$B$80,2,FALSE),IF(I90=2,VLOOKUP(AD90,女子種目コード!$A$78:$B$80,2,FALSE))))","v":""},null,0,2,null,{"$f":"IF(AI90=\"\",\"\",IF(I90=1,VLOOKUP(AI90,男子種目コード!$A$1:$B$29,2,FALSE),IF(I90=2,VLOOKUP(AI90,女子種目コード!$A$1:$B$30,2,FALSE))))","v":""},null,0,2,null,null,null,null,"",0,0,"",null,null,null,null,null,null,null,null,null,null,null,0,"",""]
[null,{"$f":"前年度登録!Q93","v":""},null,null,{"$f":"前年度登録!E93","v":0},{"$f":"前年度登録!BR93","v":""},{"$f":"前年度登録!Z93","v":""},"",{"$f":"前年度登録!O93","v":""},{"$f":"前年度登録!I93","v":0},{"$f":"前年度登録!K93","v":0},{"$f":"前年度登録!BU93","v":"00"},{"$f":"前年度登録!R93","v":""},{"$f":"前年度登録!D93","v":0},null,"",{"$f":"IF(O91=\"\",\"\",HLOOKUP(O91,前年度登録!$AB$8:$BK$118,86,FALSE))","v":""},0,2,null,"",{"$f":"IF(T91=\"\",\"\",HLOOKUP(T91,前年度登録!$AB$8:$BK$118,86,FALSE))","v":""},0,2,null,{"$f":"IF(Y91=\"\",\"\",IF(I91=1,VLOOKUP(Y91,男子種目コード!$A$1:$B$29,2,FALSE),IF(I91=2,VLOOKUP(Y91,女子種目コード!$A$1:$B$30,2,FALSE))))","v":""},null,0,2,null,{"$f":"IF(AD91=\"\",\"\",IF(I91=1,VLOOKUP(AD91,男子種目コード!$A$78:$B$80,2,FALSE),IF(I91=2,VLOOKUP(AD91,女子種目コード!$A$78:$B$80,2,FALSE))))","v":""},null,0,2,null,{"$f":"IF(AI91=\"\",\"\",IF(I91=1,VLOOKUP(AI91,男子種目コード!$A$1:$B$29,2,FALSE),IF(I91=2,VLOOKUP(AI91,女子種目コード!$A$1:$B$30,2,FALSE))))","v":""},null,0,2,null,null,null,null,"",0,0,"",null,null,null,null,null,null,null,null,null,null,null,0,"",""]
[null,{"$f":"前年度登録!Q94","v":""},null,null,{"$f":"前年度登録!E94","v":0},{"$f":"前年度登録!BR94","v":""},{"$f":"前年度登録!Z94","v":""},"",{"$f":"前年度登録!O94","v":""},{"$f":"前年度登録!I94","v":0},{"$f":"前年度登録!K94","v":0},{"$f":"前年度登録!BU94","v":"00"},{"$f":"前年度登録!R94","v":""},{"$f":"前年度登録!D94","v":0},null,"",{"$f":"IF(O92=\"\",\"\",HLOOKUP(O92,前年度登録!$AB$8:$BK$118,87,FALSE))","v":""},0,2,null,"",{"$f":"IF(T92=\"\",\"\",HLOOKUP(T92,前年度登録!$AB$8:$BK$118,87,FALSE))","v":""},0,2,null,{"$f":"IF(Y92=\"\",\"\",IF(I92=1,VLOOKUP(Y92,男子種目コード!$A$1:$B$29,2,FALSE),IF(I92=2,VLOOKUP(Y92,女子種目コード!$A$1:$B$30,2,FALSE))))","v":""},null,0,2,null,{"$f":"IF(AD92=\"\",\"\",IF(I92=1,VLOOKUP(AD92,男子種目コード!$A$78:$B$80,2,FALSE),IF(I92=2,VLOOKUP(AD92,女子種目コード!$A$78:$B$80,2,FALSE))))","v":""},null,0,2,null,{"$f":"IF(AI92=\"\",\"\",IF(I92=1,VLOOKUP(AI92,男子種目コード!$A$1:$B$29,2,FALSE),IF(I92=2,VLOOKUP(AI92,女子種目コード!$A$1:$B$30,2,FALSE))))","v":""},null,0,2,null,null,null,null,"",0,0,"",null,null,null,null,null,null,null,null,null,null,null,0,"",""]
[null,{"$f":"前年度登録!Q95","v":""},null,null,{"$f":"前年度登録!E95","v":0},{"$f":"前年度登録!BR95","v":""},{"$f":"前年度登録!Z95","v":""},"",{"$f":"前年度登録!O95","v":""},{"$f":"前年度登録!I95","v":0},{"$f":"前年度登録!K95","v":0},{"$f":"前年度登録!BU95","v":"00"},{"$f":"前年度登録!R95","v":""},{"$f":"前年度登録!D95","v":0},null,"",{"$f":"IF(O93=\"\",\"\",HLOOKUP(O93,前年度登録!$AB$8:$BK$118,88,FALSE))","v":""},0,2,null,"",{"$f":"IF(T93=\"\",\"\",HLOOKUP(T93,前年度登録!$AB$8:$BK$118,88,FALSE))","v":""},0,2,null,{"$f":"IF(Y93=\"\",\"\",IF(I93=1,VLOOKUP(Y93,男子種目コード!$A$1:$B$29,2,FALSE),IF(I93=2,VLOOKUP(Y93,女子種目コード!$A$1:$B$30,2,FALSE))))","v":""},null,0,2,null,{"$f":"IF(AD93=\"\",\"\",IF(I93=1,VLOOKUP(AD93,男子種目コード!$A$78:$B$80,2,FALSE),IF(I93=2,VLOOKUP(AD93,女子種目コード!$A$78:$B$80,2,FALSE))))","v":""},null,0,2,null,{"$f":"IF(AI93=\"\",\"\",IF(I93=1,VLOOKUP(AI93,男子種目コード!$A$1:$B$29,2,FALSE),IF(I93=2,VLOOKUP(AI93,女子種目コード!$A$1:$B$30,2,FALSE))))","v":""},null,0,2,null,null,null,null,"",0,0,"",null,null,null,null,null,null,null,null,null,null,null,0,"",""]
[null,{"$f":"前年度登録!Q96","v":""},null,null,{"$f":"前年度登録!E96","v":0},{"$f":"前年度登録!BR96","v":""},{"$f":"前年度登録!Z96","v":""},"",{"$f":"前年度登録!O96","v":""},{"$f":"前年度登録!I96","v":0},{"$f":"前年度登録!K96","v":0},{"$f":"前年度登録!BU96","v":"00"},{"$f":"前年度登録!R96","v":""},{"$f":"前年度登録!D96","v":0},null,"",{"$f":"IF(O94=\"\",\"\",HLOOKUP(O94,前年度登録!$AB$8:$BK$118,89,FALSE))","v":""},0,2,null,"",{"$f":"IF(T94=\"\",\"\",HLOOKUP(T94,前年度登録!$AB$8:$BK$118,89,FALSE))","v":""},0,2,null,{"$f":"IF(Y94=\"\",\"\",IF(I94=1,VLOOKUP(Y94,男子種目コード!$A$1:$B$29,2,FALSE),IF(I94=2,VLOOKUP(Y94,女子種目コード!$A$1:$B$30,2,FALSE))))","v":""},null,0,2,null,{"$f":"IF(AD94=\"\",\"\",IF(I94=1,VLOOKUP(AD94,男子種目コード!$A$78:$B$80,2,FALSE),IF(I94=2,VLOOKUP(AD94,女子種目コード!$A$78:$B$80,2,FALSE))))","v":""},null,0,2,null,{"$f":"IF(AI94=\"\",\"\",IF(I94=1,VLOOKUP(AI94,男子種目コード!$A$1:$B$29,2,FALSE),IF(I94=2,VLOOKUP(AI94,女子種目コード!$A$1:$B$30,2,FALSE))))","v":""},null,0,2,null,null,null,null,"",0,0,"",null,null,null,null,null,null,null,null,null,null,null,0,"",""]
[null,{"$f":"前年度登録!Q97","v":""},null,null,{"$f":"前年度登録!E97","v":0},{"$f":"前年度登録!BR97","v":""},{"$f":"前年度登録!Z97","v":""},"",{"$f":"前年度登録!O97","v":""},{"$f":"前年度登録!I97","v":0},{"$f":"前年度登録!K97","v":0},{"$f":"前年度登録!BU97","v":"00"},{"$f":"前年度登録!R97","v":""},{"$f":"前年度登録!D97","v":0},null,"",{"$f":"IF(O95=\"\",\"\",HLOOKUP(O95,前年度登録!$AB$8:$BK$118,90,FALSE))","v":""},0,2,null,"",{"$f":"IF(T95=\"\",\"\",HLOOKUP(T95,前年度登録!$AB$8:$BK$118,90,FALSE))","v":""},0,2,null,{"$f":"IF(Y95=\"\",\"\",IF(I95=1,VLOOKUP(Y95,男子種目コード!$A$1:$B$29,2,FALSE),IF(I95=2,VLOOKUP(Y95,女子種目コード!$A$1:$B$30,2,FALSE))))","v":""},null,0,2,null,{"$f":"IF(AD95=\"\",\"\",IF(I95=1,VLOOKUP(AD95,男子種目コード!$A$78:$B$80,2,FALSE),IF(I95=2,VLOOKUP(AD95,女子種目コード!$A$78:$B$80,2,FALSE))))","v":""},null,0,2,null,{"$f":"IF(AI95=\"\",\"\",IF(I95=1,VLOOKUP(AI95,男子種目コード!$A$1:$B$29,2,FALSE),IF(I95=2,VLOOKUP(AI95,女子種目コード!$A$1:$B$30,2,FALSE))))","v":""},null,0,2,null,null,null,null,"",0,0,"",null,null,null,null,null,null,null,null,null,null,null,0,"",""]
[null,{"$f":"前年度登録!Q98","v":""},null,null,{"$f":"前年度登録!E98","v":0},{"$f":"前年度登録!BR98","v":""},{"$f":"前年度登録!Z98","v":""},"",{"$f":"前年度登録!O98","v":""},{"$f":"前年度登録!I98","v":0},{"$f":"前年度登録!K98","v":0},{"$f":"前年度登録!BU98","v":"00"},{"$f":"前年度登録!R98","v":""},{"$f":"前年度登録!D98","v":0},null,"",{"$f":"IF(O96=\"\",\"\",HLOOKUP(O96,前年度登録!$AB$8:$BK$118,91,FALSE))","v":""},0,2,null,"",{"$f":"IF(T96=\"\",\"\",HLOOKUP(T96,前年度登録!$AB$8:$BK$118,91,FALSE))","v":""},0,2,null,{"$f":"IF(Y96=\"\",\"\",IF(I96=1,VLOOKUP(Y96,男子種目コード!$A$1:$B$29,2,FALSE),IF(I96=2,VLOOKUP(Y96,女子種目コード!$A$1:$B$30,2,FALSE))))","v":""},null,0,2,null,{"$f":"IF(AD96=\"\",\"\",IF(I96=1,VLOOKUP(AD96,男子種目コード!$A$78:$B$80,2,FALSE),IF(I96=2,VLOOKUP(AD96,女子種目コード!$A$78:$B$80,2,FALSE))))","v":""},null,0,2,null,{"$f":"IF(AI96=\"\",\"\",IF(I96=1,VLOOKUP(AI96,男子種目コード!$A$1:$B$29,2,FALSE),IF(I96=2,VLOOKUP(AI96,女子種目コード!$A$1:$B$30,2,FALSE))))","v":""},null,0,2,null,null,null,null,"",0,0,"",null,null,null,null,null,null,null,null,null,null,null,0,"",""]
[null,{"$f":"前年度登録!Q99","v":""},null,null,{"$f":"前年度登録!E99","v":0},{"$f":"前年度登録!BR99","v":""},{"$f":"前年度登録!Z99","v":""},"",{"$f":"前年度登録!O99","v":""},{"$f":"前年度登録!I99","v":0},{"$f":"前年度登録!K99","v":0},{"$f":"前年度登録!BU99","v":"00"},{"$f":"前年度登録!R99","v":""},{"$f":"前年度登録!D99","v":0},null,"",{"$f":"IF(O97=\"\",\"\",HLOOKUP(O97,前年度登録!$AB$8:$BK$118,92,FALSE))","v":""},0,2,null,"",{"$f":"IF(T97=\"\",\"\",HLOOKUP(T97,前年度登録!$AB$8:$BK$118,92,FALSE))","v":""},0,2,null,{"$f":"IF(Y97=\"\",\"\",IF(I97=1,VLOOKUP(Y97,男子種目コード!$A$1:$B$29,2,FALSE),IF(I97=2,VLOOKUP(Y97,女子種目コード!$A$1:$B$30,2,FALSE))))","v":""},null,0,2,null,{"$f":"IF(AD97=\"\",\"\",IF(I97=1,VLOOKUP(AD97,男子種目コード!$A$78:$B$80,2,FALSE),IF(I97=2,VLOOKUP(AD97,女子種目コード!$A$78:$B$80,2,FALSE))))","v":""},null,0,2,null,{"$f":"IF(AI97=\"\",\"\",IF(I97=1,VLOOKUP(AI97,男子種目コード!$A$1:$B$29,2,FALSE),IF(I97=2,VLOOKUP(AI97,女子種目コード!$A$1:$B$30,2,FALSE))))","v":""},null,0,2,null,null,null,null,"",0,0,"",null,null,null,null,null,null,null,null,null,null,null,0,"",""]
[null,{"$f":"前年度登録!Q100","v":""},null,null,{"$f":"前年度登録!E100","v":0},{"$f":"前年度登録!BR100","v":""},{"$f":"前年度登録!Z100","v":""},"",{"$f":"前年度登録!O100","v":""},{"$f":"前年度登録!I100","v":0},{"$f":"前年度登録!K100","v":0},{"$f":"前年度登録!BU100","v":"00"},{"$f":"前年度登録!R100","v":""},{"$f":"前年度登録!D100","v":0},null,"",{"$f":"IF(O98=\"\",\"\",HLOOKUP(O98,前年度登録!$AB$8:$BK$118,93,FALSE))","v":""},0,2,null,"",{"$f":"IF(T98=\"\",\"\",HLOOKUP(T98,前年度登録!$AB$8:$BK$118,93,FALSE))","v":""},0,2,null,{"$f":"IF(Y98=\"\",\"\",IF(I98=1,VLOOKUP(Y98,男子種目コード!$A$1:$B$29,2,FALSE),IF(I98=2,VLOOKUP(Y98,女子種目コード!$A$1:$B$30,2,FALSE))))","v":""},null,0,2,null,{"$f":"IF(AD98=\"\",\"\",IF(I98=1,VLOOKUP(AD98,男子種目コード!$A$78:$B$80,2,FALSE),IF(I98=2,VLOOKUP(AD98,女子種目コード!$A$78:$B$80,2,FALSE))))","v":""},null,0,2,null,{"$f":"IF(AI98=\"\",\"\",IF(I98=1,VLOOKUP(AI98,男子種目コード!$A$1:$B$29,2,FALSE),IF(I98=2,VLOOKUP(AI98,女子種目コード!$A$1:$B$30,2,FALSE))))","v":""},null,0,2,null,null,null,null,"",0,0,"",null,null,null,null,null,null,null,null,null,null,null,0,"",""]
[null,{"$f":"前年度登録!Q101","v":""},null,null,{"$f":"前年度登録!E101","v":0},{"$f":"前年度登録!BR101","v":""},{"$f":"前年度登録!Z101","v":""},"",{"$f":"前年度登録!O101","v":""},{"$f":"前年度登録!I101","v":0},{"$f":"前年度登録!K101","v":0},{"$f":"前年度登録!BU101","v":"00"},{"$f":"前年度登録!R101","v":""},{"$f":"前年度登録!D101","v":0},null,"",{"$f":"IF(O99=\"\",\"\",HLOOKUP(O99,前年度登録!$AB$8:$BK$118,94,FALSE))","v":""},0,2,null,"",{"$f":"IF(T99=\"\",\"\",HLOOKUP(T99,前年度登録!$AB$8:$BK$118,94,FALSE))","v":""},0,2,null,{"$f":"IF(Y99=\"\",\"\",IF(I99=1,VLOOKUP(Y99,男子種目コード!$A$1:$B$29,2,FALSE),IF(I99=2,VLOOKUP(Y99,女子種目コード!$A$1:$B$30,2,FALSE))))","v":""},null,0,2,null,{"$f":"IF(AD99=\"\",\"\",IF(I99=1,VLOOKUP(AD99,男子種目コード!$A$78:$B$80,2,FALSE),IF(I99=2,VLOOKUP(AD99,女子種目コード!$A$78:$B$80,2,FALSE))))","v":""},null,0,2,null,{"$f":"IF(AI99=\"\",\"\",IF(I99=1,VLOOKUP(AI99,男子種目コード!$A$1:$B$29,2,FALSE),IF(I99=2,VLOOKUP(AI99,女子種目コード!$A$1:$B$30,2,FALSE))))","v":""},null,0,2,null,null,null,null,"",0,0,"",null,null,null,null,null,null,null,null,null,null,null,0,"",""]
[null,{"$f":"前年度登録!Q102","v":""},null,null,{"$f":"前年度登録!E102","v":0},{"$f":"前年度登録!BR102","v":""},{"$f":"前年度登録!Z102","v":""},"",{"$f":"前年度登録!O102","v":""},{"$f":"前年度登録!I102","v":0},{"$f":"前年度登録!K102","v":0},{"$f":"前年度登録!BU102","v":"00"},{"$f":"前年度登録!R102","v":""},{"$f":"前年度登録!D102","v":0},null,"",{"$f":"IF(O100=\"\",\"\",HLOOKUP(O100,前年度登録!$AB$8:$BK$118,95,FALSE))","v":""},0,2,null,"",{"$f":"IF(T100=\"\",\"\",HLOOKUP(T100,前年度登録!$AB$8:$BK$118,95,FALSE))","v":""},0,2,null,{"$f":"IF(Y100=\"\",\"\",IF(I100=1,VLOOKUP(Y100,男子種目コード!$A$1:$B$29,2,FALSE),IF(I100=2,VLOOKUP(Y100,女子種目コード!$A$1:$B$30,2,FALSE))))","v":""},null,0,2,null,{"$f":"IF(AD100=\"\",\"\",IF(I100=1,VLOOKUP(AD100,男子種目コード!$A$78:$B$80,2,FALSE),IF(I100=2,VLOOKUP(AD100,女子種目コード!$A$78:$B$80,2,FALSE))))","v":""},null,0,2,null,{"$f":"IF(AI100=\"\",\"\",IF(I100=1,VLOOKUP(AI100,男子種目コード!$A$1:$B$29,2,FALSE),IF(I100=2,VLOOKUP(AI100,女子種目コード!$A$1:$B$30,2,FALSE))))","v":""},null,0,2,null,null,null,null,"",0,0,"",null,null,null,null,null,null,null,null,null,null,null,0,"",""]
[null,{"$f":"前年度登録!Q103","v":""},null,null,{"$f":"前年度登録!E103","v":0},{"$f":"前年度登録!BR103","v":""},{"$f":"前年度登録!Z103","v":""},"",{"$f":"前年度登録!O103","v":""},{"$f":"前年度登録!I103","v":0},{"$f":"前年度登録!K103","v":0},{"$f":"前年度登録!BU103","v":"00"},{"$f":"前年度登録!R103","v":""},{"$f":"前年度登録!D103","v":0},null,"",{"$f":"IF(O101=\"\",\"\",HLOOKUP(O101,前年度登録!$AB$8:$BK$118,96,FALSE))","v":""},0,2,null,"",{"$f":"IF(T101=\"\",\"\",HLOOKUP(T101,前年度登録!$AB$8:$BK$118,96,FALSE))","v":""},0,2,null,{"$f":"IF(Y101=\"\",\"\",IF(I101=1,VLOOKUP(Y101,男子種目コード!$A$1:$B$29,2,FALSE),IF(I101=2,VLOOKUP(Y101,女子種目コード!$A$1:$B$30,2,FALSE))))","v":""},null,0,2,null,{"$f":"IF(AD101=\"\",\"\",IF(I101=1,VLOOKUP(AD101,男子種目コード!$A$78:$B$80,2,FALSE),IF(I101=2,VLOOKUP(AD101,女子種目コード!$A$78:$B$80,2,FALSE))))","v":""},null,0,2,null,{"$f":"IF(AI101=\"\",\"\",IF(I101=1,VLOOKUP(AI101,男子種目コード!$A$1:$B$29,2,FALSE),IF(I101=2,VLOOKUP(AI101,女子種目コード!$A$1:$B$30,2,FALSE))))","v":""},null,0,2,null,null,null,null,"",0,0,"",null,null,null,null,null,null,null,null,null,null,null,0,"",""]
[null,{"$f":"前年度登録!Q104","v":""},null,null,{"$f":"前年度登録!E104","v":0},{"$f":"前年度登録!BR104","v":""},{"$f":"前年度登録!Z104","v":""},"",{"$f":"前年度登録!O104","v":""},{"$f":"前年度登録!I104","v":0},{"$f":"前年度登録!K104","v":0},{"$f":"前年度登録!BU104","v":"00"},{"$f":"前年度登録!R104","v":""},{"$f":"前年度登録!D104","v":0},null,"",{"$f":"IF(O102=\"\",\"\",HLOOKUP(O102,前年度登録!$AB$8:$BK$118,97,FALSE))","v":""},0,2,null,"",{"$f":"IF(T102=\"\",\"\",HLOOKUP(T102,前年度登録!$AB$8:$BK$118,97,FALSE))","v":""},0,2,null,{"$f":"IF(Y102=\"\",\"\",IF(I102=1,VLOOKUP(Y102,男子種目コード!$A$1:$B$29,2,FALSE),IF(I102=2,VLOOKUP(Y102,女子種目コード!$A$1:$B$30,2,FALSE))))","v":""},null,0,2,null,{"$f":"IF(AD102=\"\",\"\",IF(I102=1,VLOOKUP(AD102,男子種目コード!$A$78:$B$80,2,FALSE),IF(I102=2,VLOOKUP(AD102,女子種目コード!$A$78:$B$80,2,FALSE))))","v":""},null,0,2,null,{"$f":"IF(AI102=\"\",\"\",IF(I102=1,VLOOKUP(AI102,男子種目コード!$A$1:$B$29,2,FALSE),IF(I102=2,VLOOKUP(AI102,女子種目コード!$A$1:$B$30,2,FALSE))))","v":""},null,0,2,null,null,null,null,"",0,0,"",null,null,null,null,null,null,null,null,null,null,null,0,"",""]
[null,{"$f":"前年度登録!Q105","v":""},null,null,{"$f":"前年度登録!E105","v":0},{"$f":"前年度登録!BR105","v":""},{"$f":"前年度登録!Z105","v":""},"",{"$f":"前年度登録!O105","v":""},{"$f":"前年度登録!I105","v":0},{"$f":"前年度登録!K105","v":0},{"$f":"前年度登録!BU105","v":"00"},{"$f":"前年度登録!R105","v":""},{"$f":"前年度登録!D105","v":0},null,{"$f":"IF(O103=\"\",\"\",IF($I103=1,VLOOKUP(O103,$AV$8:$AX$32,3,FALSE),IF($I103=2,VLOOKUP(O103,$AV$35:$AX$54,3,FALSE))))","v":""},{"$f":"IF(O103=\"\",\"\",HLOOKUP(O103,前年度登録!$AB$8:$BK$118,98,FALSE))","v":""},0,2,null,{"$f":"IF(T103=\"\",\"\",IF($I103=1,VLOOKUP(T103,$AV$8:$AX$32,3,FALSE),IF($I103=2,VLOOKUP(T103,$AV$35:$AX$54,3,FALSE))))","v":""},{"$f":"IF(T103=\"\",\"\",HLOOKUP(T103,前年度登録!$AB$8:$BK$118,98,FALSE))","v":""},0,2,null,{"$f":"IF(Y103=\"\",\"\",IF(I103=1,VLOOKUP(Y103,男子種目コード!$A$1:$B$29,2,FALSE),IF(I103=2,VLOOKUP(Y103,女子種目コード!$A$1:$B$30,2,FALSE))))","v":""},null,0,2,null,{"$f":"IF(AD103=\"\",\"\",IF(I103=1,VLOOKUP(AD103,男子種目コード!$A$78:$B$80,2,FALSE),IF(I103=2,VLOOKUP(AD103,女子種目コード!$A$78:$B$80,2,FALSE))))","v":""},null,0,2,null,{"$f":"IF(AI103=\"\",\"\",IF(I103=1,VLOOKUP(AI103,男子種目コード!$A$1:$B$29,2,FALSE),IF(I103=2,VLOOKUP(AI103,女子種目コード!$A$1:$B$30,2,FALSE))))","v":""},null,0,2,null,null,null,null,"",{"$f":"IF(OR(AR103=1,T103=\"\"),0,1)","v":0},{"$f":"IF(OR(AR103=1,AS103=1,AD103=\"\"),0,1)","v":0},"",null,null,null,null,null,null,null,null,null,null,null,0,{"$f":"IF(I103=1,BG103,\"\")","v":""},{"$f":"IF(I103=2,BG103,\"\")","v":""}]
[null,{"$f":"前年度登録!Q106","v":""},null,null,{"$f":"前年度登録!E106","v":0},{"$f":"前年度登録!BR106","v":""},{"$f":"前年度登録!Z106","v":""},"",{"$f":"前年度登録!O106","v":""},{"$f":"前年度登録!I106","v":0},{"$f":"前年度登録!K106","v":0},{"$f":"前年度登録!BU106","v":"00"},{"$f":"前年度登録!R106","v":""},{"$f":"前年度登録!D106","v":0},null,"",{"$f":"IF(O104=\"\",\"\",HLOOKUP(O104,前年度登録!$AB$8:$BK$118,99,FALSE))","v":""},0,2,null,"",{"$f":"IF(T104=\"\",\"\",HLOOKUP(T104,前年度登録!$AB$8:$BK$118,99,FALSE))","v":""},0,2,null,{"$f":"IF(Y104=\"\",\"\",IF(I104=1,VLOOKUP(Y104,男子種目コード!$A$1:$B$29,2,FALSE),IF(I104=2,VLOOKUP(Y104,女子種目コード!$A$1:$B$30,2,FALSE))))","v":""},null,0,2,null,{"$f":"IF(AD104=\"\",\"\",IF(I104=1,VLOOKUP(AD104,男子種目コード!$A$78:$B$80,2,FALSE),IF(I104=2,VLOOKUP(AD104,女子種目コード!$A$78:$B$80,2,FALSE))))","v":""},null,0,2,null,{"$f":"IF(AI104=\"\",\"\",IF(I104=1,VLOOKUP(AI104,男子種目コード!$A$1:$B$29,2,FALSE),IF(I104=2,VLOOKUP(AI104,女子種目コード!$A$1:$B$30,2,FALSE))))","v":""},null,0,2,null,null,null,null,"",0,0,"",null,null,null,null,null,null,null,null,null,null,null,0,"",""]
[null,{"$f":"前年度登録!Q107","v":""},null,null,{"$f":"前年度登録!E107","v":0},{"$f":"前年度登録!BR107","v":""},{"$f":"前年度登録!Z107","v":""},"",{"$f":"前年度登録!O107","v":""},{"$f":"前年度登録!I107","v":0},{"$f":"前年度登録!K107","v":0},{"$f":"前年度登録!BU107","v":"00"},{"$f":"前年度登録!R107","v":""},{"$f":"前年度登録!D107","v":0},null,"",{"$f":"IF(O105=\"\",\"\",HLOOKUP(O105,前年度登録!$AB$8:$BK$118,100,FALSE))","v":""},0,2,null,"",{"$f":"IF(T105=\"\",\"\",HLOOKUP(T105,前年度登録!$AB$8:$BK$118,100,FALSE))","v":""},0,2,null,{"$f":"IF(Y105=\"\",\"\",IF(I105=1,VLOOKUP(Y105,男子種目コード!$A$1:$B$29,2,FALSE),IF(I105=2,VLOOKUP(Y105,女子種目コード!$A$1:$B$30,2,FALSE))))","v":""},null,0,2,null,{"$f":"IF(AD105=\"\",\"\",IF(I105=1,VLOOKUP(AD105,男子種目コード!$A$78:$B$80,2,FALSE),IF(I105=2,VLOOKUP(AD105,女子種目コード!$A$78:$B$80,2,FALSE))))","v":""},null,0,2,null,{"$f":"IF(AI105=\"\",\"\",IF(I105=1,VLOOKUP(AI105,男子種目コード!$A$1:$B$29,2,FALSE),IF(I105=2,VLOOKUP(AI105,女子種目コード!$A$1:$B$30,2,FALSE))))","v":""},null,0,2,null,null,null,null,"",0,0,"",null,null,null,null,null,null,null,null,null,null,null,0,"",""]
[null,{"$f":"前年度登録!Q108","v":""},null,null,{"$f":"前年度登録!E108","v":0},{"$f":"前年度登録!BR108","v":""},{"$f":"前年度登録!Z108","v":""},"",{"$f":"前年度登録!O108","v":""},{"$f":"前年度登録!I108","v":0},{"$f":"前年度登録!K108","v":0},{"$f":"前年度登録!BU108","v":"00"},{"$f":"前年度登録!R108","v":""},{"$f":"前年度登録!D108","v":0},null,"",{"$f":"IF(O106=\"\",\"\",HLOOKUP(O106,前年度登録!$AB$8:$BK$118,101,FALSE))","v":""},0,2,null,"",{"$f":"IF(T106=\"\",\"\",HLOOKUP(T106,前年度登録!$AB$8:$BK$118,101,FALSE))","v":""},0,2,null,{"$f":"IF(Y106=\"\",\"\",IF(I106=1,VLOOKUP(Y106,男子種目コード!$A$1:$B$29,2,FALSE),IF(I106=2,VLOOKUP(Y106,女子種目コード!$A$1:$B$30,2,FALSE))))","v":""},null,0,2,null,{"$f":"IF(AD106=\"\",\"\",IF(I106=1,VLOOKUP(AD106,男子種目コード!$A$78:$B$80,2,FALSE),IF(I106=2,VLOOKUP(AD106,女子種目コード!$A$78:$B$80,2,FALSE))))","v":""},null,0,2,null,null,null,0,2,null,null,null,null,"",0,0,"",null,null,null,null,null,null,null,null,null,null,null,0,"",""]
[null,{"$f":"前年度登録!Q109","v":""},null,null,{"$f":"前年度登録!E109","v":0},{"$f":"前年度登録!BR109","v":""},{"$f":"前年度登録!Z109","v":""},"",{"$f":"前年度登録!O109","v":""},{"$f":"前年度登録!I109","v":0},{"$f":"前年度登録!K109","v":0},{"$f":"前年度登録!BU109","v":"00"},{"$f":"前年度登録!R109","v":""},{"$f":"前年度登録!D109","v":0},null,"",{"$f":"IF(O107=\"\",\"\",HLOOKUP(O107,前年度登録!$AB$8:$BK$118,102,FALSE))","v":""},0,2,null,"",{"$f":"IF(T107=\"\",\"\",HLOOKUP(T107,前年度登録!$AB$8:$BK$118,102,FALSE))","v":""},0,2,null,{"$f":"IF(Y107=\"\",\"\",IF(I107=1,VLOOKUP(Y107,男子種目コード!$A$1:$B$29,2,FALSE),IF(I107=2,VLOOKUP(Y107,女子種目コード!$A$1:$B$30,2,FALSE))))","v":""},null,0,2,null,{"$f":"IF(AD107=\"\",\"\",IF(I107=1,VLOOKUP(AD107,男子種目コード!$A$78:$B$80,2,FALSE),IF(I107=2,VLOOKUP(AD107,女子種目コード!$A$78:$B$80,2,FALSE))))","v":""},null,0,2,null,null,null,0,2,null,null,null,null,"",0,0,"",null,null,null,null,null,null,null,null,null,null,null,0,"",""]
[null,{"$f":"前年度登録!Q110","v":""},null,null,{"$f":"前年度登録!E110","v":0},{"$f":"前年度登録!BR110","v":""},{"$f":"前年度登録!Z110","v":""},"",{"$f":"前年度登録!O110","v":""},{"$f":"前年度登録!I110","v":0},{"$f":"前年度登録!K110","v":0},{"$f":"前年度登録!BU110","v":"00"},{"$f":"前年度登録!R110","v":""},{"$f":"前年度登録!D110","v":0},null,"",{"$f":"IF(O108=\"\",\"\",HLOOKUP(O108,前年度登録!$AB$8:$BK$118,103,FALSE))","v":""},0,2,null,"",{"$f":"IF(T108=\"\",\"\",HLOOKUP(T108,前年度登録!$AB$8:$BK$118,103,FALSE))","v":""},0,2,null,{"$f":"IF(Y108=\"\",\"\",IF(I108=1,VLOOKUP(Y108,男子種目コード!$A$1:$B$29,2,FALSE),IF(I108=2,VLOOKUP(Y108,女子種目コード!$A$1:$B$30,2,FALSE))))","v":""},null,0,2,null,{"$f":"IF(AD108=\"\",\"\",IF(I108=1,VLOOKUP(AD108,男子種目コード!$A$78:$B$80,2,FALSE),IF(I108=2,VLOOKUP(AD108,女子種目コード!$A$78:$B$80,2,FALSE))))","v":""},null,0,2,null,null,null,0,2,null,null,null,null,"",0,0,"",null,null,null,null,null,null,null,null,null,null,null,0,"",""]
[null,{"$f":"前年度登録!Q111","v":""},null,null,{"$f":"前年度登録!E111","v":0},{"$f":"前年度登録!BR111","v":""},{"$f":"前年度登録!Z111","v":""},"",{"$f":"前年度登録!O111","v":""},{"$f":"前年度登録!I111","v":0},{"$f":"前年度登録!K111","v":0},{"$f":"前年度登録!BU111","v":"00"},{"$f":"前年度登録!R111","v":""},{"$f":"前年度登録!D111","v":0},null,"",{"$f":"IF(O109=\"\",\"\",HLOOKUP(O109,前年度登録!$AB$8:$BK$118,104,FALSE))","v":""},0,2,null,"",{"$f":"IF(T109=\"\",\"\",HLOOKUP(T109,前年度登録!$AB$8:$BK$118,104,FALSE))","v":""},0,2,null,{"$f":"IF(Y109=\"\",\"\",IF(I109=1,VLOOKUP(Y109,男子種目コード!$A$1:$B$29,2,FALSE),IF(I109=2,VLOOKUP(Y109,女子種目コード!$A$1:$B$30,2,FALSE))))","v":""},null,0,2,null,{"$f":"IF(AD109=\"\",\"\",IF(I109=1,VLOOKUP(AD109,男子種目コード!$A$78:$B$80,2,FALSE),IF(I109=2,VLOOKUP(AD109,女子種目コード!$A$78:$B$80,2,FALSE))))","v":""},null,0,2,null,null,null,0,2,null,null,null,null,"",0,0,"",null,null,null,null,null,null,null,null,null,null,null,0,"",""]
[null,{"$f":"前年度登録!Q112","v":""},null,null,{"$f":"前年度登録!E112","v":0},{"$f":"前年度登録!BR112","v":""},{"$f":"前年度登録!Z112","v":""},"",{"$f":"前年度登録!O112","v":""},{"$f":"前年度登録!I112","v":0},{"$f":"前年度登録!K112","v":0},{"$f":"前年度登録!BU112","v":"00"},{"$f":"前年度登録!R112","v":""},{"$f":"前年度登録!D112","v":0},null,"",{"$f":"IF(O110=\"\",\"\",HLOOKUP(O110,前年度登録!$AB$8:$BK$118,105,FALSE))","v":""},0,2,null,"",{"$f":"IF(T110=\"\",\"\",HLOOKUP(T110,前年度登録!$AB$8:$BK$118,105,FALSE))","v":""},0,2,null,{"$f":"IF(Y110=\"\",\"\",IF(I110=1,VLOOKUP(Y110,男子種目コード!$A$1:$B$29,2,FALSE),IF(I110=2,VLOOKUP(Y110,女子種目コード!$A$1:$B$30,2,FALSE))))","v":""},null,0,2,null,{"$f":"IF(AD110=\"\",\"\",IF(I110=1,VLOOKUP(AD110,男子種目コード!$A$78:$B$80,2,FALSE),IF(I110=2,VLOOKUP(AD110,女子種目コード!$A$78:$B$80,2,FALSE))))","v":""},null,0,2,null,null,null,0,2,null,null,null,null,"",0,0,"",null,null,null,null,null,null,null,null,null,null,null,0,"",""]
[null,{"$f":"前年度登録!Q113","v":""},null,null,{"$f":"前年度登録!E113","v":0},{"$f":"前年度登録!BR113","v":""},{"$f":"前年度登録!Z113","v":""},"",{"$f":"前年度登録!O113","v":""},{"$f":"前年度登録!I113","v":0},{"$f":"前年度登録!K113","v":0},{"$f":"前年度登録!BU113","v":"00"},{"$f":"前年度登録!R113","v":""},{"$f":"前年度登録!D113","v":0},null,"",{"$f":"IF(O111=\"\",\"\",HLOOKUP(O111,前年度登録!$AB$8:$BK$118,106,FALSE))","v":""},0,2,null,"",{"$f":"IF(T111=\"\",\"\",HLOOKUP(T111,前年度登録!$AB$8:$BK$118,106,FALSE))","v":""},0,2,null,{"$f":"IF(Y111=\"\",\"\",IF(I111=1,VLOOKUP(Y111,男子種目コード!$A$1:$B$29,2,FALSE),IF(I111=2,VLOOKUP(Y111,女子種目コード!$A$1:$B$30,2,FALSE))))","v":""},null,0,2,null,{"$f":"IF(AD111=\"\",\"\",IF(I111=1,VLOOKUP(AD111,男子種目コード!$A$78:$B$80,2,FALSE),IF(I111=2,VLOOKUP(AD111,女子種目コード!$A$78:$B$80,2,FALSE))))","v":""},null,0,2,null,null,null,0,2,null,null,null,null,"",0,0,"",null,null,null,null,null,null,null,null,null,null,null,0,"",""]
[null,{"$f":"前年度登録!Q114","v":""},null,null,{"$f":"前年度登録!E114","v":0},{"$f":"前年度登録!BR114","v":""},{"$f":"前年度登録!Z114","v":""},"",{"$f":"前年度登録!O114","v":""},{"$f":"前年度登録!I114","v":0},{"$f":"前年度登録!K114","v":0},{"$f":"前年度登録!BU114","v":"00"},{"$f":"前年度登録!R114","v":""},{"$f":"前年度登録!D114","v":0},null,"",{"$f":"IF(O112=\"\",\"\",HLOOKUP(O112,前年度登録!$AB$8:$BK$118,107,FALSE))","v":""},0,2,null,"",{"$f":"IF(T112=\"\",\"\",HLOOKUP(T112,前年度登録!$AB$8:$BK$118,107,FALSE))","v":""},0,2,null,{"$f":"IF(Y112=\"\",\"\",IF(I112=1,VLOOKUP(Y112,男子種目コード!$A$1:$B$29,2,FALSE),IF(I112=2,VLOOKUP(Y112,女子種目コード!$A$1:$B$30,2,FALSE))))","v":""},null,0,2,null,{"$f":"IF(AD112=\"\",\"\",IF(I112=1,VLOOKUP(AD112,男子種目コード!$A$78:$B$80,2,FALSE),IF(I112=2,VLOOKUP(AD112,女子種目コード!$A$78:$B$80,2,FALSE))))","v":""},null,0,2,null,null,null,0,2,null,null,null,null,"",0,0,"",null,null,null,null,null,null,null,null,null,null,null,0,"",""]
[null,{"$f":"前年度登録!Q115","v":""},null,null,{"$f":"前年度登録!E115","v":0},{"$f":"前年度登録!BR115","v":""},{"$f":"前年度登録!Z115","v":""},"",{"$f":"前年度登録!O115","v":""},{"$f":"前年度登録!I115","v":0},{"$f":"前年度登録!K115","v":0},{"$f":"前年度登録!BU115","v":"00"},{"$f":"前年度登録!R115","v":""},{"$f":"前年度登録!D115","v":0},null,"",{"$f":"IF(O113=\"\",\"\",HLOOKUP(O113,前年度登録!$AB$8:$BK$118,108,FALSE))","v":""},0,2,null,"",{"$f":"IF(T113=\"\",\"\",HLOOKUP(T113,前年度登録!$AB$8:$BK$118,108,FALSE))","v":""},0,2,null,{"$f":"IF(Y113=\"\",\"\",IF(I113=1,VLOOKUP(Y113,男子種目コード!$A$1:$B$29,2,FALSE),IF(I113=2,VLOOKUP(Y113,女子種目コード!$A$1:$B$30,2,FALSE))))","v":""},null,0,2,null,{"$f":"IF(AD113=\"\",\"\",IF(I113=1,VLOOKUP(AD113,男子種目コード!$A$78:$B$80,2,FALSE),IF(I113=2,VLOOKUP(AD113,女子種目コード!$A$78:$B$80,2,FALSE))))","v":""},null,0,2,null,null,null,0,2,null,null,null,null,"",0,0,"",null,null,null,null,null,null,null,null,null,null,null,0,"",""]
[null,{"$f":"前年度登録!Q116","v":""},null,null,{"$f":"前年度登録!E116","v":0},{"$f":"前年度登録!BR116","v":""},{"$f":"前年度登録!Z116","v":""},"",{"$f":"前年度登録!O116","v":""},{"$f":"前年度登録!I116","v":0},{"$f":"前年度登録!K116","v":0},{"$f":"前年度登録!BU116","v":"00"},{"$f":"前年度登録!R116","v":""},{"$f":"前年度登録!D116","v":0},null,"",{"$f":"IF(O114=\"\",\"\",HLOOKUP(O114,前年度登録!$AB$8:$BK$118,109,FALSE))","v":""},0,2,null,"",{"$f":"IF(T114=\"\",\"\",HLOOKUP(T114,前年度登録!$AB$8:$BK$118,109,FALSE))","v":""},0,2,null,{"$f":"IF(Y114=\"\",\"\",IF(I114=1,VLOOKUP(Y114,男子種目コード!$A$1:$B$29,2,FALSE),IF(I114=2,VLOOKUP(Y114,女子種目コード!$A$1:$B$30,2,FALSE))))","v":""},null,0,2,null,{"$f":"IF(AD114=\"\",\"\",IF(I114=1,VLOOKUP(AD114,男子種目コード!$A$78:$B$80,2,FALSE),IF(I114=2,VLOOKUP(AD114,女子種目コード!$A$78:$B$80,2,FALSE))))","v":""},null,0,2,null,null,null,0,2,null,null,null,null,"",0,0,"",null,null,null,null,null,null,null,null,null,null,null,0,"",""]
[null,{"$f":"前年度登録!Q117","v":""},null,null,{"$f":"前年度登録!E117","v":0},{"$f":"前年度登録!BR117","v":""},{"$f":"前年度登録!Z117","v":""},"",{"$f":"前年度登録!O117","v":""},{"$f":"前年度登録!I117","v":0},{"$f":"前年度登録!K117","v":0},{"$f":"前年度登録!BU117","v":"00"},{"$f":"前年度登録!R117","v":""},{"$f":"前年度登録!D117","v":0},null,"",{"$f":"IF(O115=\"\",\"\",HLOOKUP(O115,前年度登録!$AB$8:$BK$118,110,FALSE))","v":""},0,2,null,"",{"$f":"IF(T115=\"\",\"\",HLOOKUP(T115,前年度登録!$AB$8:$BK$118,110,FALSE))","v":""},0,2,null,{"$f":"IF(Y115=\"\",\"\",IF(I115=1,VLOOKUP(Y115,男子種目コード!$A$1:$B$29,2,FALSE),IF(I115=2,VLOOKUP(Y115,女子種目コード!$A$1:$B$30,2,FALSE))))","v":""},null,0,2,null,{"$f":"IF(AD115=\"\",\"\",IF(I115=1,VLOOKUP(AD115,男子種目コード!$A$78:$B$80,2,FALSE),IF(I115=2,VLOOKUP(AD115,女子種目コード!$A$78:$B$80,2,FALSE))))","v":""},null,0,2,null,null,null,0,2,null,null,null,null,"",0,0,"",null,null,null,null,null,null,null,null,null,null,null,0,"",""]
[null,{"$f":"前年度登録!Q118","v":""},null,null,{"$f":"前年度登録!E118","v":0},{"$f":"前年度登録!BR118","v":""},{"$f":"前年度登録!Z118","v":""},"",{"$f":"前年度登録!O118","v":""},{"$f":"前年度登録!I118","v":0},{"$f":"前年度登録!K118","v":0},{"$f":"前年度登録!BU118","v":"00"},{"$f":"前年度登録!R118","v":""},{"$f":"前年度登録!D118","v":0},null,"",{"$f":"IF(O116=\"\",\"\",HLOOKUP(O116,前年度登録!$AB$8:$BK$118,111,FALSE))","v":""},0,2,null,"",{"$f":"IF(T116=\"\",\"\",HLOOKUP(T116,前年度登録!$AB$8:$BK$118,111,FALSE))","v":""},0,2,null,{"$f":"IF(Y116=\"\",\"\",IF(I116=1,VLOOKUP(Y116,男子種目コード!$A$1:$B$29,2,FALSE),IF(I116=2,VLOOKUP(Y116,女子種目コード!$A$1:$B$30,2,FALSE))))","v":""},null,0,2,null,{"$f":"IF(AD116=\"\",\"\",IF(I116=1,VLOOKUP(AD116,男子種目コード!$A$78:$B$80,2,FALSE),IF(I116=2,VLOOKUP(AD116,女子種目コード!$A$78:$B$80,2,FALSE))))","v":""},null,0,2,null,{"$f":"IF(AI116=\"\",\"\",IF(I116=1,VLOOKUP(AI116,男子種目コード!$A$1:$B$29,2,FALSE),IF(I116=2,VLOOKUP(AI116,女子種目コード!$A$1:$B$30,2,FALSE))))","v":""},null,0,2,null,null,null,null,"",0,0,"",null,null,null,null,null,null,null,null,null,null,null,0,"",""]
[null,null,null,null,null,null,null,null,null,null,null,null,null,{"$f":"前年度登録!D119","v":0},null,"",null,null,0,null,"",{"$f":"IF(T117=\"\",\"\",HLOOKUP(T117,前年度登録!$AB$8:$BG$118,2,FALSE))","v":""},null,null,null,null,null,null,null,null,null,{"$f":"SUM(AR7:AR116)","v":0},{"$f":"SUM(AS7:AS116)","v":0},{"$f":"SUM(AT7:AT116)","v":0},{"$f":"SUM(AU7:AU116)","v":0}]
[null,null,null,null,null,null,null,null,null,null,null,null,null,{"$f":"前年度登録!D120","v":0},null,"",null,null,0,null,"",{"$f":"IF(T118=\"\",\"\",HLOOKUP(T118,前年度登録!$AB$8:$BG$118,2,FALSE))","v":""},null,null,null,null,null,null,null,null,null,{"$f":"SUM(AF117:AH117)","v":0},null,null,{"$f":"(AF117+AI117)","v":0}]

{"sheet":"春季","index":9,"n_rows":119,"n_cols":67,"rows_kept":119,"cut":false,"hidden":false,"merged":[[0,14,0,19],[0,32,0,33],[5,44,5,45],[15,48,15,49],[25,48,25,49],[1,20,1,21],[5,48,5,49],[6,48,6,49],[7,48,7,49],[1,24,1,34],[2,24,2,34],[3,24,3,34],[17,47,22,47],[8,47,13,47],[43,44,43,45],[26,48,26,49],[16,48,16,49],[36,48,36,49],[14,48,14,49],[35,48,35,49],[34,48,34,49],[27,48,27,49],[37,47,42,47],[28,47,33,47]]}
[null,null,null,null,"所属名",{"$f":"IF(前年度登録!$P$9=\"\",\"\",前年度登録!$P$9)","v":""},null,null,null,null,null,null,null,null,"三重県高校春季大会"]
[null,null,null,null,"所属コード",{"$f":"前年度登録!$Q$9","v":""},null,null,null,null,null,null,null,null,null,null,null,null,null,null,null,null,null,null,"去年の登録DATAを選手入力(春季まで）へ貼り付けて下さい"]
[null,null,null,null,"顧問名",{"$f":"IF(前年度登録!$E$5=\"\",\"\",前年度登録!$E$5)","v":""},"男子参加人数",null,{"$f":"COUNTIF($I$7:$I$116,1)-COUNTIF($BM$7:$BM$116,0)","v":0},null,null,null,null,null,"プログラム数",null,null,null,null,"冊",null,null,null,null,"1年生は選手入力(春季まで）のシートへ追記して下さい"]
[null,null,null,null,"顧問連絡先",{"$f":"IF(前年度登録!$I$5=\"\",\"\",前年度登録!$I$5)","v":""},"女子参加人数",null,{"$f":"COUNTIF($I$7:$I$116,2)-COUNTIF($BN$7:$BN$116,0)","v":0},"計",null,null,null,null,{"$f":"I3+I4","v":0},null,null,null,null,"参加費",null,{"$f":"O4*1000+(Q3*800)","v":0},null,null,"選手入力(春季まで）の学年を修正して下さい"]
[]
["競技者コード","所属コード","所属コード2","ナンバーA","ナンバー","名前","カナ名","掲示板名","性別","学年","生年","月日","個人所属地コード","陸連コード","1種目","コード","記録",null,null,"2種目","コード","記録",null,null,"3種目","コード","記録",null,null,"4×100R","コード","記録4",null,null,"4×400R","コード","記録5",null,null,null,null,null,100,null,"出場制限3名",null,null,"種目","400R",null,null,null,null,null,null,null,null,null,null,null,100,100,null,"種目数","男子","女子"]
[{"$f":"IF(I7=1,IF(AD7=\"4×100\",1),IF(AD7=\"4×100\",2))","v":false},{"$f":"前年度登録!Q9","v":""},{"$f":"IF(I7=1,IF(AI7=\"4×400\",1),IF(AI7=\"4×400\",2))","v":false},null,{"$f":"前年度登録!E9","v":0},{"$f":"前年度登録!BR9","v":""},{"$f":"前年度登録!Z9","v":""},{"$f":"F7","v":""},{"$f":"前年度登録!O9","v":""},{"$f":"前年度登録!I9","v":0},{"$f":"前年度登録!K9","v":0},{"$f":"前年度登録!BU9","v":"00"},{"$f":"前年度登録!R9","v":""},{"$f":"前年度登録!D9","v":0},null,{"$f":"IF(O7=\"\",\"\",IF(I7=1,VLOOKUP(O7,$AS$7:$AU$24,3,FALSE),IF(I7=2,VLOOKUP(O7,$AS$26:$AU$42,3,FALSE))))","v":""},{"$f":"IF(O7=\"\",\"\",HLOOKUP(O7,前年度登録!$AB$8:$BG$118,2,FALSE))","v":""},0,2,null,{"$f":"IF(T7=\"\",\"\",IF(I7=1,VLOOKUP(T7,$AS$7:$AU$24,3,FALSE),IF(I7=2,VLOOKUP(T7,$AS$26:$AU$42,3,FALSE))))","v":""},{"$f":"IF(T7=\"\",\"\",HLOOKUP(T7,前年度登録!$AB$8:$BG$118,2,FALSE))","v":""},0,2,null,{"$f":"IF(Y7=\"\",\"\",IF(I7=1,VLOOKUP(Y7,$AS$7:$AU$24,3,FALSE),IF(I7=2,VLOOKUP(Y7,$AS$26:$AU$42,3,FALSE))))","v":""},{"$f":"IF(Y7=\"\",\"\",HLOOKUP(Y7,前年度登録!$AB$8:$BG$118,2,FALSE))","v":""},0,2,null,{"$f":"IF(AD7=\"\",\"\",IF(I7=1,VLOOKUP(AD7,男子種目コード!$A$1:$B$33,2,FALSE),IF(I7=2,VLOOKUP(AD7,女子種目コード!$A$36:$B$66,2,FALSE))))","v":""},null,null,null,null,{"$f":"IF(AI7=\"\",\"\",IF(I7=1,VLOOKUP(AI7,男子種目コード!$A$1:$B$33,2,FALSE),IF(I7=2,VLOOKUP(AI7,女子種目コード!$A$36:$B$66,2,FALSE))))","v":""},null,0,2,null,null,null,200,null,"100m",{"$f":"COUNTIF($P$7:$P$116,1)+COUNTIF($U$7:$U$116,1)+COUNTIF($Z$7:$Z$116,1)","v":0},1,"記録",null,null,null,null,null,{"$f":"IF(O7=\"\",\"\",1)","v":""},{"$f":"IF(OR(BB7=1,T7=\"\"),0,1)","v":0},{"$f":"IF(OR(BB7=1,BC7=1,Y7=\"\"),0,1)","v":0},{"$f":"IF(OR(BB7=1,BC7=1,BD7=1,AD7=\"\"),0,1)","v":0},{"$f":"IF(OR(BB7=1,BC7=1,BD7=1,BE7=1,AI7=\"\"),0,1)","v":0},null,null,200,200,null,{"$f":"COUNT(P7,U7,Z7,AE7,AJ7)","v":0},{"$f":"IF(I7=1,BL7,\"\")","v":""},{"$f":"IF(I7=2,BL7,\"\")","v":""}]
[{"$f":"IF(I8=1,IF(AD8=\"4×100\",1),IF(AD8=\"4×100\",2))","v":false},{"$f":"前年度登録!Q10","v":""},{"$f":"IF(I8=1,IF(AI8=\"4×400\",1),IF(AI8=\"4×400\",2))","v":false},null,{"$f":"前年度登録!E10","v":0},{"$f":"前年度登録!BR10","v":""},{"$f":"前年度登録!Z10","v":""},"",{"$f":"前年度登録!O10","v":""},{"$f":"前年度登録!I10","v":0},{"$f":"前年度登録!K10","v":0},{"$f":"前年度登録!BU10","v":"00"},{"$f":"前年度登録!R10","v":""},{"$f":"前年度登録!D10","v":0},null,{"$f":"IF(O8=\"\",\"\",IF(I8=1,VLOOKUP(O8,$AS$7:$AU$24,3,FALSE),IF(I8=2,VLOOKUP(O8,$AS$26:$AU$42,3,FALSE))))","v":""},{"$f":"IF(O8=\"\",\"\",HLOOKUP(O8,前年度登録!$AB$8:$BG$118,3,FALSE))","v":""},0,2,null,{"$f":"IF(T8=\"\",\"\",IF(I8=1,VLOOKUP(T8,$AS$7:$AU$24,3,FALSE),IF(I8=2,VLOOKUP(T8,$AS$26:$AU$42,3,FALSE))))","v":""},{"$f":"IF(T8=\"\",\"\",HLOOKUP(T8,前年度登録!$AB$8:$BG$118,3,FALSE))","v":""},0,2,null,{"$f":"IF(Y8=\"\",\"\",IF(I8=1,VLOOKUP(Y8,$AS$7:$AU$24,3,FALSE),IF(I8=2,VLOOKUP(Y8,$AS$26:$AU$42,3,FALSE))))","v":""},{"$f":"IF(Y8=\"\",\"\",HLOOKUP(Y8,前年度登録!$AB$8:$BG$118,3,FALSE))","v":""},0,2,null,{"$f":"IF(AD8=\"\",\"\",IF(I8=1,VLOOKUP(AD8,男子種目コード!$A$1:$B$33,2,FALSE),IF(I8=2,VLOOKUP(AD8,女子種目コード!$A$36:$B$66,2,FALSE))))","v":""},null,0,2,null,{"$f":"IF(AI8=\"\",\"\",IF(I8=1,VLOOKUP(AI8,男子種目コード!$A$1:$B$33,2,FALSE),IF(I8=2,VLOOKUP(AI8,女子種目コード!$A$36:$B$66,2,FALSE))))","v":""},null,0,2,null,null,null,400,null,"200m",{"$f":"COUNTIF($P$7:$P$116,2)+COUNTIF($U$7:$U$116,2)+COUNTIF($Z$7:$Z$116,2)","v":0},2,"ｵｰﾀﾞｰ",{"$f":"COUNTIF($AE$7:$AE$116,13)","v":0},null,null,null,null,"",0,0,0,0,null,null,400,400,null,{"$f":"COUNT(P8,U8,Z8,AE8,AJ8)","v":0},{"$f":"IF(I8=1,BL8,\"\")","v":""},{"$f":"IF(I8=2,BL8,\"\")","v":""}]
[false,{"$f":"前年度登録!Q11","v":""},false,null,{"$f":"前年度登録!E11","v":0},{"$f":"前年度登録!BR11","v":""},{"$f":"前年度登録!Z11","v":""},"",{"$f":"前年度登録!O11","v":""},{"$f":"前年度登録!I11","v":0},{"$f":"前年度登録!K11","v":0},{"$f":"前年度登録!BU11","v":"00"},{"$f":"前年度登録!R11","v":""},{"$f":"前年度登録!D11","v":0},null,"",{"$f":"IF(O9=\"\",\"\",HLOOKUP(O9,前年度登録!$AB$8:$BG$118,4,FALSE))","v":""},0,2,null,"",{"$f":"IF(T9=\"\",\"\",HLOOKUP(T9,前年度登録!$AB$8:$BG$118,4,FALSE))","v":""},0,2,null,"",{"$f":"IF(Y9=\"\",\"\",HLOOKUP(Y9,前年度登録!$AB$8:$BG$118,4,FALSE))","v":""},0,2,null,{"$f":"IF(AD9=\"\",\"\",IF(I9=1,VLOOKUP(AD9,男子種目コード!$A$1:$B$33,2,FALSE),IF(I9=2,VLOOKUP(AD9,女子種目コード!$A$36:$B$66,2,FALSE))))","v":""},null,0,2,null,{"$f":"IF(AI9=\"\",\"\",IF(I9=1,VLOOKUP(AI9,男子種目コード!$A$1:$B$33,2,FALSE),IF(I9=2,VLOOKUP(AI9,女子種目コード!$A$36:$B$66,2,FALSE))))","v":""},null,0,2,null,null,null,800,null,"400m",{"$f":"COUNTIF($P$7:$P$116,3)+COUNTIF($U$7:$U$116,3)+COUNTIF($Z$7:$Z$116,3)","v":0},3,"選　手",{"$f":"IF(ISERROR(AY9),\"\",AY9)","v":""},{"$f":"IF(ISERROR(AZ9),\"\",AZ9)","v":""},{"$f":"VLookUpX(1,$A$7:$F$116,1,5)","v":{"$error":"#N/A"}},{"$f":"VLookUpX(1,$A$7:$F$116,1,6)","v":{"$error":"#N/A"}},null,"",0,0,0,0,null,null,800,800,null,0,"",""]
[false,{"$f":"前年度登録!Q12","v":""},false,null,{"$f":"前年度登録!E12","v":0},{"$f":"前年度登録!BR12","v":""},{"$f":"前年度登録!Z12","v":""},"",{"$f":"前年度登録!O12","v":""},{"$f":"前年度登録!I12","v":0},{"$f":"前年度登録!K12","v":0},{"$f":"前年度登録!BU12","v":"00"},{"$f":"前年度登録!R12","v":""},{"$f":"前年度登録!D12","v":0},null,"",{"$f":"IF(O10=\"\",\"\",HLOOKUP(O10,前年度登録!$AB$8:$BG$118,5,FALSE))","v":""},0,2,null,"",{"$f":"IF(T10=\"\",\"\",HLOOKUP(T10,前年度登録!$AB$8:$BG$118,5,FALSE))","v":""},0,2,null,"",{"$f":"IF(Y10=\"\",\"\",HLOOKUP(Y10,前年度登録!$AB$8:$BG$118,5,FALSE))","v":""},0,2,null,{"$f":"IF(AD10=\"\",\"\",IF(I10=1,VLOOKUP(AD10,男子種目コード!$A$1:$B$33,2,FALSE),IF(I10=2,VLOOKUP(AD10,女子種目コード!$A$36:$B$66,2,FALSE))))","v":""},null,0,2,null,{"$f":"IF(AI10=\"\",\"\",IF(I10=1,VLOOKUP(AI10,男子種目コード!$A$1:$B$33,2,FALSE),IF(I10=2,VLOOKUP(AI10,女子種目コード!$A$36:$B$66,2,FALSE))))","v":""},null,0,2,null,null,null,1500,null,"800m",{"$f":"COUNTIF($P$7:$P$116,4)+COUNTIF($U$7:$U$116,4)+COUNTIF($Z$7:$Z$116,4)","v":0},4,null,{"$f":"IF(ISERROR(AY10),\"\",AY10)","v":""},"",{"$f":"VLookUpX(1,$A$7:$F$116,2,5)","v":{"$error":"#N/A"}},{"$f":"VLookUpX(1,$A$7:$F$116,2,6)","v":{"$error":"#N/A"}},null,"",0,0,0,0,null,null,1500,1500,null,0,"",""]
[false,{"$f":"前年度登録!Q13","v":""},false,null,{"$f":"前年度登録!E13","v":0},{"$f":"前年度登録!BR13","v":""},{"$f":"前年度登録!Z13","v":""},"",{"$f":"前年度登録!O13","v":""},{"$f":"前年度登録!I13","v":0},{"$f":"前年度登録!K13","v":0},{"$f":"前年度登録!BU13","v":"00"},{"$f":"前年度登録!R13","v":""},{"$f":"前年度登録!D13","v":0},null,"",{"$f":"IF(O11=\"\",\"\",HLOOKUP(O11,前年度登録!$AB$8:$BG$118,6,FALSE))","v":""},0,2,null,"",{"$f":"IF(T11=\"\",\"\",HLOOKUP(T11,前年度登録!$AB$8:$BG$118,6,FALSE))","v":""},0,2,null,"",{"$f":"IF(Y11=\"\",\"\",HLOOKUP(Y11,前年度登録!$AB$8:$BG$118,6,FALSE))","v":""},0,2,null,{"$f":"IF(AD11=\"\",\"\",IF(I11=1,VLOOKUP(AD11,男子種目コード!$A$1:$B$33,2,FALSE),IF(I11=2,VLOOKUP(AD11,女子種目コード!$A$36:$B$66,2,FALSE))))","v":""},null,0,2,null,{"$f":"IF(AI11=\"\",\"\",IF(I11=1,VLOOKUP(AI11,男子種目コード!$A$1:$B$33,2,FALSE),IF(I11=2,VLOOKUP(AI11,女子種目コード!$A$36:$B$66,2,FALSE))))","v":""},null,0,2,null,null,null,3000,null,"1500m",{"$f":"COUNTIF($P$7:$P$116,5)+COUNTIF($U$7:$U$116,5)+COUNTIF($Z$7:$Z$116,5)","v":0},5,null,"","",{"$f":"VLookUpX(1,$A$7:$F$116,3,5)","v":{"$error":"#N/A"}},{"$f":"VLookUpX(1,$A$7:$F$116,3,6)","v":{"$error":"#N/A"}},null,"",0,0,0,0,null,null,5000,3000,null,0,"",""]
[false,{"$f":"前年度登録!Q14","v":""},false,null,{"$f":"前年度登録!E14","v":0},{"$f":"前年度登録!BR14","v":""},{"$f":"前年度登録!Z14","v":""},"",{"$f":"前年度登録!O14","v":""},{"$f":"前年度登録!I14","v":0},{"$f":"前年度登録!K14","v":0},{"$f":"前年度登録!BU14","v":"00"},{"$f":"前年度登録!R14","v":""},{"$f":"前年度登録!D14","v":0},null,"",{"$f":"IF(O12=\"\",\"\",HLOOKUP(O12,前年度登録!$AB$8:$BG$118,7,FALSE))","v":""},0,2,null,"",{"$f":"IF(T12=\"\",\"\",HLOOKUP(T12,前年度登録!$AB$8:$BG$118,7,FALSE))","v":""},0,2,null,"",{"$f":"IF(Y12=\"\",\"\",HLOOKUP(Y12,前年度登録!$AB$8:$BG$118,7,FALSE))","v":""},0,2,null,{"$f":"IF(AD12=\"\",\"\",IF(I12=1,VLOOKUP(AD12,男子種目コード!$A$1:$B$33,2,FALSE),IF(I12=2,VLOOKUP(AD12,女子種目コード!$A$36:$B$66,2,FALSE))))","v":""},null,0,2,null,{"$f":"IF(AI12=\"\",\"\",IF(I12=1,VLOOKUP(AI12,男子種目コード!$A$1:$B$33,2,FALSE),IF(I12=2,VLOOKUP(AI12,女子種目コード!$A$36:$B$66,2,FALSE))))","v":""},null,0,2,null,null,null,5000,null,"5000m",{"$f":"COUNTIF($P$7:$P$116,6)+COUNTIF($U$7:$U$116,6)+COUNTIF($Z$7:$Z$116,6)","v":0},6,null,"","",{"$f":"VLookUpX(1,$A$7:$F$116,4,5)","v":{"$error":"#N/A"}},{"$f":"VLookUpX(1,$A$7:$F$116,4,6)","v":{"$error":"#N/A"}},null,"",0,0,0,0,null,null,"110H","100H",null,0,"",""]
[false,{"$f":"前年度登録!Q15","v":""},false,null,{"$f":"前年度登録!E15","v":0},{"$f":"前年度登録!BR15","v":""},{"$f":"前年度登録!Z15","v":""},"",{"$f":"前年度登録!O15","v":""},{"$f":"前年度登録!I15","v":0},{"$f":"前年度登録!K15","v":0},{"$f":"前年度登録!BU15","v":"00"},{"$f":"前年度登録!R15","v":""},{"$f":"前年度登録!D15","v":0},null,"",{"$f":"IF(O13=\"\",\"\",HLOOKUP(O13,前年度登録!$AB$8:$BG$118,8,FALSE))","v":""},0,2,null,"",{"$f":"IF(T13=\"\",\"\",HLOOKUP(T13,前年度登録!$AB$8:$BG$118,8,FALSE))","v":""},0,2,null,"",{"$f":"IF(Y13=\"\",\"\",HLOOKUP(Y13,前年度登録!$AB$8:$BG$118,8,FALSE))","v":""},0,2,null,{"$f":"IF(AD13=\"\",\"\",IF(I13=1,VLOOKUP(AD13,男子種目コード!$A$1:$B$33,2,FALSE),IF(I13=2,VLOOKUP(AD13,女子種目コード!$A$36:$B$66,2,FALSE))))","v":""},null,0,2,null,{"$f":"IF(AI13=\"\",\"\",IF(I13=1,VLOOKUP(AI13,男子種目コード!$A$1:$B$33,2,FALSE),IF(I13=2,VLOOKUP(AI13,女子種目コード!$A$36:$B$66,2,FALSE))))","v":""},null,0,2,null,null,null,"100H",null,"110mH",{"$f":"COUNTIF($P$7:$P$116,8)+COUNTIF($U$7:$U$116,8)+COUNTIF($Z$7:$Z$116,8)","v":0},8,null,"","",{"$f":"VLookUpX(1,$A$7:$F$116,5,5)","v":{"$error":"#N/A"}},{"$f":"VLookUpX(1,$A$7:$F$116,5,6)","v":{"$error":"#N/A"}},null,"",0,0,0,0,null,null,"400H","400H",null,0,"",""]
[false,{"$f":"前年度登録!Q16","v":""},false,null,{"$f":"前年度登録!E16","v":0},{"$f":"前年度登録!BR16","v":""},{"$f":"前年度登録!Z16","v":""},"",{"$f":"前年度登録!O16","v":""},{"$f":"前年度登録!I16","v":0},{"$f":"前年度登録!K16","v":0},{"$f":"前年度登録!BU16","v":"00"},{"$f":"前年度登録!R16","v":""},{"$f":"前年度登録!D16","v":0},null,"",{"$f":"IF(O14=\"\",\"\",HLOOKUP(O14,前年度登録!$AB$8:$BG$118,9,FALSE))","v":""},0,2,null,"",{"$f":"IF(T14=\"\",\"\",HLOOKUP(T14,前年度登録!$AB$8:$BG$118,9,FALSE))","v":""},0,2,null,"",{"$f":"IF(Y14=\"\",\"\",HLOOKUP(Y14,前年度登録!$AB$8:$BG$118,9,FALSE))","v":""},0,2,null,{"$f":"IF(AD14=\"\",\"\",IF(I14=1,VLOOKUP(AD14,男子種目コード!$A$1:$B$33,2,FALSE),IF(I14=2,VLOOKUP(AD14,女子種目コード!$A$36:$B$66,2,FALSE))))","v":""},null,0,2,null,{"$f":"IF(AI14=\"\",\"\",IF(I14=1,VLOOKUP(AI14,男子種目コード!$A$1:$B$33,2,FALSE),IF(I14=2,VLOOKUP(AI14,女子種目コード!$A$36:$B$66,2,FALSE))))","v":""},null,0,2,null,null,null,"110H",null,"400mH",{"$f":"COUNTIF($P$7:$P$116,9)+COUNTIF($U$7:$U$116,9)+COUNTIF($Z$7:$Z$116,9)","v":0},9,null,"","",{"$f":"VLookUpX(1,$A$7:$F$116,6,5)","v":{"$error":"#N/A"}},{"$f":"VLookUpX(1,$A$7:$F$116,6,6)","v":{"$error":"#N/A"}},null,"",0,0,0,0,null,null,"3000SC","5000W",null,0,"",""]
[false,{"$f":"前年度登録!Q17","v":""},false,null,{"$f":"前年度登録!E17","v":0},{"$f":"前年度登録!BR17","v":""},{"$f":"前年度登録!Z17","v":""},"",{"$f":"前年度登録!O17","v":""},{"$f":"前年度登録!I17","v":0},{"$f":"前年度登録!K17","v":0},{"$f":"前年度登録!BU17","v":"00"},{"$f":"前年度登録!R17","v":""},{"$f":"前年度登録!D17","v":0},null,"",{"$f":"IF(O15=\"\",\"\",HLOOKUP(O15,前年度登録!$AB$8:$BG$118,10,FALSE))","v":""},0,2,null,"",{"$f":"IF(T15=\"\",\"\",HLOOKUP(T15,前年度登録!$AB$8:$BG$118,10,FALSE))","v":""},0,2,null,"",{"$f":"IF(Y15=\"\",\"\",HLOOKUP(Y15,前年度登録!$AB$8:$BG$118,10,FALSE))","v":""},0,2,null,{"$f":"IF(AD15=\"\",\"\",IF(I15=1,VLOOKUP(AD15,男子種目コード!$A$1:$B$33,2,FALSE),IF(I15=2,VLOOKUP(AD15,女子種目コード!$A$36:$B$66,2,FALSE))))","v":""},null,0,2,null,{"$f":"IF(AI15=\"\",\"\",IF(I15=1,VLOOKUP(AI15,男子種目コード!$A$1:$B$33,2,FALSE),IF(I15=2,VLOOKUP(AI15,女子種目コード!$A$36:$B$66,2,FALSE))))","v":""},null,0,2,null,null,null,"400H",null,"3000mSC",{"$f":"COUNTIF($P$7:$P$116,10)+COUNTIF($U$7:$U$116,10)+COUNTIF($Z$7:$Z$116,10)","v":0},10,"種目","1600R",null,null,null,null,"",0,0,0,0,null,null,"5000W","走高跳",null,0,"",""]
[false,{"$f":"前年度登録!Q18","v":""},false,null,{"$f":"前年度登録!E18","v":0},{"$f":"前年度登録!BR18","v":""},{"$f":"前年度登録!Z18","v":""},"",{"$f":"前年度登録!O18","v":""},{"$f":"前年度登録!I18","v":0},{"$f":"前年度登録!K18","v":0},{"$f":"前年度登録!BU18","v":"00"},{"$f":"前年度登録!R18","v":""},{"$f":"前年度登録!D18","v":0},null,"",{"$f":"IF(O16=\"\",\"\",HLOOKUP(O16,前年度登録!$AB$8:$BG$118,11,FALSE))","v":""},0,2,null,"",{"$f":"IF(T16=\"\",\"\",HLOOKUP(T16,前年度登録!$AB$8:$BG$118,11,FALSE))","v":""},0,2,null,"",{"$f":"IF(Y16=\"\",\"\",HLOOKUP(Y16,前年度登録!$AB$8:$BG$118,11,FALSE))","v":""},0,2,null,{"$f":"IF(AD16=\"\",\"\",IF(I16=1,VLOOKUP(AD16,男子種目コード!$A$1:$B$33,2,FALSE),IF(I16=2,VLOOKUP(AD16,女子種目コード!$A$36:$B$66,2,FALSE))))","v":""},null,0,2,null,{"$f":"IF(AI16=\"\",\"\",IF(I16=1,VLOOKUP(AI16,男子種目コード!$A$1:$B$33,2,FALSE),IF(I16=2,VLOOKUP(AI16,女子種目コード!$A$36:$B$66,2,FALSE))))","v":""},null,0,2,null,null,null,"3000SC",null,"5000mW",{"$f":"COUNTIF($P$7:$P$116,12)+COUNTIF($U$7:$U$116,12)+COUNTIF($Z$7:$Z$116,12)","v":0},12,"記録",null,null,null,null,null,"",0,0,0,0,null,null,"走高跳","棒高跳",null,0,"",""]
[false,{"$f":"前年度登録!Q19","v":""},false,null,{"$f":"前年度登録!E19","v":0},{"$f":"前年度登録!BR19","v":""},{"$f":"前年度登録!Z19","v":""},"",{"$f":"前年度登録!O19","v":""},{"$f":"前年度登録!I19","v":0},{"$f":"前年度登録!K19","v":0},{"$f":"前年度登録!BU19","v":"00"},{"$f":"前年度登録!R19","v":""},{"$f":"前年度登録!D19","v":0},null,"",{"$f":"IF(O17=\"\",\"\",HLOOKUP(O17,前年度登録!$AB$8:$BG$118,12,FALSE))","v":""},0,2,null,"",{"$f":"IF(T17=\"\",\"\",HLOOKUP(T17,前年度登録!$AB$8:$BG$118,12,FALSE))","v":""},0,2,null,"",{"$f":"IF(Y17=\"\",\"\",HLOOKUP(Y17,前年度登録!$AB$8:$BG$118,12,FALSE))","v":""},0,2,null,{"$f":"IF(AD17=\"\",\"\",IF(I17=1,VLOOKUP(AD17,男子種目コード!$A$1:$B$33,2,FALSE),IF(I17=2,VLOOKUP(AD17,女子種目コード!$A$36:$B$66,2,FALSE))))","v":""},null,0,2,null,{"$f":"IF(AI17=\"\",\"\",IF(I17=1,VLOOKUP(AI17,男子種目コード!$A$1:$B$33,2,FALSE),IF(I17=2,VLOOKUP(AI17,女子種目コード!$A$36:$B$66,2,FALSE))))","v":""},null,0,2,null,null,null,"3000W",{"$f":"COUNTIF($AT$7:$AT$42,4)","v":0},"走高跳",{"$f":"COUNTIF($P$7:$P$116,15)+COUNTIF($U$7:$U$116,15)+COUNTIF($Z$7:$Z$116,15)","v":0},15,"ｵｰﾀﾞｰ",{"$f":"COUNTIF($AJ$7:$AJ$116,14)","v":0},null,null,null,null,"",0,0,0,0,null,null,"棒高跳","走幅跳",null,0,"",""]
[false,{"$f":"前年度登録!Q20","v":""},false,null,{"$f":"前年度登録!E20","v":0},{"$f":"前年度登録!BR20","v":""},{"$f":"前年度登録!Z20","v":""},"",{"$f":"前年度登録!O20","v":""},{"$f":"前年度登録!I20","v":0},{"$f":"前年度登録!K20","v":0},{"$f":"前年度登録!BU20","v":"00"},{"$f":"前年度登録!R20","v":""},{"$f":"前年度登録!D20","v":0},null,"",{"$f":"IF(O18=\"\",\"\",HLOOKUP(O18,前年度登録!$AB$8:$BG$118,13,FALSE))","v":""},0,2,null,"",{"$f":"IF(T18=\"\",\"\",HLOOKUP(T18,前年度登録!$AB$8:$BG$118,13,FALSE))","v":""},0,2,null,"",{"$f":"IF(Y18=\"\",\"\",HLOOKUP(Y18,前年度登録!$AB$8:$BG$118,13,FALSE))","v":""},0,2,null,{"$f":"IF(AD18=\"\",\"\",IF(I18=1,VLOOKUP(AD18,男子種目コード!$A$1:$B$33,2,FALSE),IF(I18=2,VLOOKUP(AD18,女子種目コード!$A$36:$B$66,2,FALSE))))","v":""},null,0,2,null,{"$f":"IF(AI18=\"\",\"\",IF(I18=1,VLOOKUP(AI18,男子種目コード!$A$1:$B$33,2,FALSE),IF(I18=2,VLOOKUP(AI18,女子種目コード!$A$36:$B$66,2,FALSE))))","v":""},null,0,2,null,null,null,"5000W",null,"棒高跳",{"$f":"COUNTIF($P$7:$P$116,16)+COUNTIF($U$7:$U$116,16)+COUNTIF($Z$7:$Z$116,16)","v":0},16,"選　手",{"$f":"IF(ISERROR(AY18),\"\",AY18)","v":""},"",{"$f":"VLookUpX(1,$C$7:$F$116,1,3)","v":{"$error":"#N/A"}},{"$f":"VLookUpX(1,$C$7:$F$116,1,4)","v":{"$error":"#N/A"}},null,"",0,0,0,0,null,null,"走幅跳","三段跳",null,0,"",""]
[false,{"$f":"前年度登録!Q21","v":""},false,null,{"$f":"前年度登録!E21","v":0},{"$f":"前年度登録!BR21","v":""},{"$f":"前年度登録!Z21","v":""},"",{"$f":"前年度登録!O21","v":""},{"$f":"前年度登録!I21","v":0},{"$f":"前年度登録!K21","v":0},{"$f":"前年度登録!BU21","v":"00"},{"$f":"前年度登録!R21","v":""},{"$f":"前年度登録!D21","v":0},null,"",{"$f":"IF(O19=\"\",\"\",HLOOKUP(O19,前年度登録!$AB$8:$BG$118,14,FALSE))","v":""},0,2,null,"",{"$f":"IF(T19=\"\",\"\",HLOOKUP(T19,前年度登録!$AB$8:$BG$118,14,FALSE))","v":""},0,2,null,"",{"$f":"IF(Y19=\"\",\"\",HLOOKUP(Y19,前年度登録!$AB$8:$BG$118,14,FALSE))","v":""},0,2,null,{"$f":"IF(AD19=\"\",\"\",IF(I19=1,VLOOKUP(AD19,男子種目コード!$A$1:$B$33,2,FALSE),IF(I19=2,VLOOKUP(AD19,女子種目コード!$A$36:$B$66,2,FALSE))))","v":""},null,0,2,null,{"$f":"IF(AI19=\"\",\"\",IF(I19=1,VLOOKUP(AI19,男子種目コード!$A$1:$B$33,2,FALSE),IF(I19=2,VLOOKUP(AI19,女子種目コード!$A$36:$B$66,2,FALSE))))","v":""},null,0,2,null,null,null,"走高跳",null,"走幅跳",{"$f":"COUNTIF($P$7:$P$116,17)+COUNTIF($U$7:$U$116,17)+COUNTIF($Z$7:$Z$116,17)","v":0},17,null,"","",{"$f":"VLookUpX(1,$C$7:$F$116,2,3)","v":{"$error":"#N/A"}},{"$f":"VLookUpX(1,$C$7:$F$116,2,4)","v":{"$error":"#N/A"}},null,"",0,0,0,0,null,null,"三段跳","砲丸投",null,0,"",""]
[false,{"$f":"前年度登録!Q22","v":""},false,null,{"$f":"前年度登録!E22","v":0},{"$f":"前年度登録!BR22","v":""},{"$f":"前年度登録!Z22","v":""},"",{"$f":"前年度登録!O22","v":""},{"$f":"前年度登録!I22","v":0},{"$f":"前年度登録!K22","v":0},{"$f":"前年度登録!BU22","v":"00"},{"$f":"前年度登録!R22","v":""},{"$f":"前年度登録!D22","v":0},null,"",{"$f":"IF(O20=\"\",\"\",HLOOKUP(O20,前年度登録!$AB$8:$BG$118,15,FALSE))","v":""},0,2,null,"",{"$f":"IF(T20=\"\",\"\",HLOOKUP(T20,前年度登録!$AB$8:$BG$118,15,FALSE))","v":""},0,2,null,"",{"$f":"IF(Y20=\"\",\"\",HLOOKUP(Y20,前年度登録!$AB$8:$BG$118,15,FALSE))","v":""},0,2,null,{"$f":"IF(AD20=\"\",\"\",IF(I20=1,VLOOKUP(AD20,男子種目コード!$A$1:$B$33,2,FALSE),IF(I20=2,VLOOKUP(AD20,女子種目コード!$A$36:$B$66,2,FALSE))))","v":""},null,0,2,null,{"$f":"IF(AI20=\"\",\"\",IF(I20=1,VLOOKUP(AI20,男子種目コード!$A$1:$B$33,2,FALSE),IF(I20=2,VLOOKUP(AI20,女子種目コード!$A$36:$B$66,2,FALSE))))","v":""},null,0,2,null,null,null,"棒高跳",null,"三段跳",{"$f":"COUNTIF($P$7:$P$116,18)+COUNTIF($U$7:$U$116,18)+COUNTIF($Z$7:$Z$116,18)","v":0},18,null,"","",{"$f":"VLookUpX(1,$C$7:$F$116,3,3)","v":{"$error":"#N/A"}},{"$f":"VLookUpX(1,$C$7:$F$116,3,4)","v":{"$error":"#N/A"}},null,"",0,0,0,0,null,null,"砲丸投","円盤投",null,0,"",""]
[false,{"$f":"前年度登録!Q23","v":""},false,null,{"$f":"前年度登録!E23","v":0},{"$f":"前年度登録!BR23","v":""},{"$f":"前年度登録!Z23","v":""},"",{"$f":"前年度登録!O23","v":""},{"$f":"前年度登録!I23","v":0},{"$f":"前年度登録!K23","v":0},{"$f":"前年度登録!BU23","v":"00"},{"$f":"前年度登録!R23","v":""},{"$f":"前年度登録!D23","v":0},null,"",{"$f":"IF(O21=\"\",\"\",HLOOKUP(O21,前年度登録!$AB$8:$BG$118,16,FALSE))","v":""},0,2,null,"",{"$f":"IF(T21=\"\",\"\",HLOOKUP(T21,前年度登録!$AB$8:$BG$118,16,FALSE))","v":""},0,2,null,"",{"$f":"IF(Y21=\"\",\"\",HLOOKUP(Y21,前年度登録!$AB$8:$BG$118,16,FALSE))","v":""},0,2,null,{"$f":"IF(AD21=\"\",\"\",IF(I21=1,VLOOKUP(AD21,男子種目コード!$A$1:$B$33,2,FALSE),IF(I21=2,VLOOKUP(AD21,女子種目コード!$A$36:$B$66,2,FALSE))))","v":""},null,0,2,null,{"$f":"IF(AI21=\"\",\"\",IF(I21=1,VLOOKUP(AI21,男子種目コード!$A$1:$B$33,2,FALSE),IF(I21=2,VLOOKUP(AI21,女子種目コード!$A$36:$B$66,2,FALSE))))","v":""},null,0,2,null,null,null,"走幅跳",null,"砲丸投",{"$f":"COUNTIF($P$7:$P$116,19)+COUNTIF($U$7:$U$116,19)+COUNTIF($Z$7:$Z$116,19)","v":0},19,null,"","",{"$f":"VLookUpX(1,$C$7:$F$116,4,3)","v":{"$error":"#N/A"}},{"$f":"VLookUpX(1,$C$7:$F$116,4,4)","v":{"$error":"#N/A"}},null,"",0,0,0,0,null,null,"円盤投","ハンマー投",null,0,"",""]
[false,{"$f":"前年度登録!Q24","v":""},false,null,{"$f":"前年度登録!E24","v":0},{"$f":"前年度登録!BR24","v":""},{"$f":"前年度登録!Z24","v":""},"",{"$f":"前年度登録!O24","v":""},{"$f":"前年度登録!I24","v":0},{"$f":"前年度登録!K24","v":0},{"$f":"前年度登録!BU24","v":"00"},{"$f":"前年度登録!R24","v":""},{"$f":"前年度登録!D24","v":0},null,"",{"$f":"IF(O22=\"\",\"\",HLOOKUP(O22,前年度登録!$AB$8:$BG$118,17,FALSE))","v":""},0,2,null,"",{"$f":"IF(T22=\"\",\"\",HLOOKUP(T22,前年度登録!$AB$8:$BG$118,17,FALSE))","v":""},0,2,null,"",{"$f":"IF(Y22=\"\",\"\",HLOOKUP(Y22,前年度登録!$AB$8:$BG$118,17,FALSE))","v":""},0,2,null,{"$f":"IF(AD22=\"\",\"\",IF(I22=1,VLOOKUP(AD22,男子種目コード!$A$1:$B$33,2,FALSE),IF(I22=2,VLOOKUP(AD22,女子種目コード!$A$36:$B$66,2,FALSE))))","v":""},null,0,2,null,{"$f":"IF(AI22=\"\",\"\",IF(I22=1,VLOOKUP(AI22,男子種目コード!$A$1:$B$33,2,FALSE),IF(I22=2,VLOOKUP(AI22,女子種目コード!$A$36:$B$66,2,FALSE))))","v":""},null,0,2,null,null,null,"三段跳",null,"円盤投",{"$f":"COUNTIF($P$7:$P$116,20)+COUNTIF($U$7:$U$116,20)+COUNTIF($Z$7:$Z$116,20)","v":0},20,null,"","",{"$f":"VLookUpX(1,$C$7:$F$116,5,3)","v":{"$error":"#N/A"}},{"$f":"VLookUpX(1,$C$7:$F$116,5,4)","v":{"$error":"#N/A"}},null,"",0,0,0,0,null,null,"ハンマー投","やり投",null,0,"",""]
[false,{"$f":"前年度登録!Q25","v":""},false,null,{"$f":"前年度登録!E25","v":0},{"$f":"前年度登録!BR25","v":""},{"$f":"前年度登録!Z25","v":""},"",{"$f":"前年度登録!O25","v":""},{"$f":"前年度登録!I25","v":0},{"$f":"前年度登録!K25","v":0},{"$f":"前年度登録!BU25","v":"00"},{"$f":"前年度登録!R25","v":""},{"$f":"前年度登録!D25","v":0},null,"",{"$f":"IF(O23=\"\",\"\",HLOOKUP(O23,前年度登録!$AB$8:$BG$118,18,FALSE))","v":""},0,2,null,"",{"$f":"IF(T23=\"\",\"\",HLOOKUP(T23,前年度登録!$AB$8:$BG$118,18,FALSE))","v":""},0,2,null,"",{"$f":"IF(Y23=\"\",\"\",HLOOKUP(Y23,前年度登録!$AB$8:$BG$118,18,FALSE))","v":""},0,2,null,{"$f":"IF(AD23=\"\",\"\",IF(I23=1,VLOOKUP(AD23,男子種目コード!$A$1:$B$33,2,FALSE),IF(I23=2,VLOOKUP(AD23,女子種目コード!$A$36:$B$66,2,FALSE))))","v":""},null,0,2,null,{"$f":"IF(AI23=\"\",\"\",IF(I23=1,VLOOKUP(AI23,男子種目コード!$A$1:$B$33,2,FALSE),IF(I23=2,VLOOKUP(AI23,女子種目コード!$A$36:$B$66,2,FALSE))))","v":""},null,0,2,null,null,null,"砲丸投",null,"ハンマー投",{"$f":"COUNTIF($P$7:$P$116,21)+COUNTIF($U$7:$U$116,21)+COUNTIF($Z$7:$Z$116,21)","v":0},21,null,"","",{"$f":"VLookUpX(1,$C$7:$F$116,6,3)","v":{"$error":"#N/A"}},{"$f":"VLookUpX(1,$C$7:$F$116,6,4)","v":{"$error":"#N/A"}},null,"",0,0,0,0,null,null,"やり投",null,null,0,"",""]
[false,{"$f":"前年度登録!Q26","v":""},false,null,{"$f":"前年度登録!E26","v":0},{"$f":"前年度登録!BR26","v":""},{"$f":"前年度登録!Z26","v":""},"",{"$f":"前年度登録!O26","v":""},{"$f":"前年度登録!I26","v":0},{"$f":"前年度登録!K26","v":0},{"$f":"前年度登録!BU26","v":"00"},{"$f":"前年度登録!R26","v":""},{"$f":"前年度登録!D26","v":0},null,"",{"$f":"IF(O24=\"\",\"\",HLOOKUP(O24,前年度登録!$AB$8:$BG$118,19,FALSE))","v":""},0,2,null,"",{"$f":"IF(T24=\"\",\"\",HLOOKUP(T24,前年度登録!$AB$8:$BG$118,19,FALSE))","v":""},0,2,null,"",{"$f":"IF(Y24=\"\",\"\",HLOOKUP(Y24,前年度登録!$AB$8:$BG$118,19,FALSE))","v":""},0,2,null,{"$f":"IF(AD24=\"\",\"\",IF(I24=1,VLOOKUP(AD24,男子種目コード!$A$1:$B$33,2,FALSE),IF(I24=2,VLOOKUP(AD24,女子種目コード!$A$36:$B$66,2,FALSE))))","v":""},null,0,2,null,{"$f":"IF(AI24=\"\",\"\",IF(I24=1,VLOOKUP(AI24,男子種目コード!$A$1:$B$33,2,FALSE),IF(I24=2,VLOOKUP(AI24,女子種目コード!$A$36:$B$66,2,FALSE))))","v":""},null,0,2,null,null,null,"円盤投",null,"やり投",{"$f":"COUNTIF($P$7:$P$116,22)+COUNTIF($U$7:$U$116,22)+COUNTIF($Z$7:$Z$116,22)","v":0},22,null,null,null,null,null,null,"",0,0,0,0,null,null,null,null,null,0,"",""]
[false,{"$f":"前年度登録!Q27","v":""},false,null,{"$f":"前年度登録!E27","v":0},{"$f":"前年度登録!BR27","v":""},{"$f":"前年度登録!Z27","v":""},"",{"$f":"前年度登録!O27","v":""},{"$f":"前年度登録!I27","v":0},{"$f":"前年度登録!K27","v":0},{"$f":"前年度登録!BU27","v":"00"},{"$f":"前年度登録!R27","v":""},{"$f":"前年度登録!D27","v":0},null,"",{"$f":"IF(O25=\"\",\"\",HLOOKUP(O25,前年度登録!$AB$8:$BG$118,20,FALSE))","v":""},0,2,null,"",{"$f":"IF(T25=\"\",\"\",HLOOKUP(T25,前年度登録!$AB$8:$BG$118,20,FALSE))","v":""},0,2,null,"",{"$f":"IF(Y25=\"\",\"\",HLOOKUP(Y25,前年度登録!$AB$8:$BG$118,20,FALSE))","v":""},0,2,null,{"$f":"IF(AD25=\"\",\"\",IF(I25=1,VLOOKUP(AD25,男子種目コード!$A$1:$B$33,2,FALSE),IF(I25=2,VLOOKUP(AD25,女子種目コード!$A$36:$B$66,2,FALSE))))","v":""},null,0,2,null,{"$f":"IF(AI25=\"\",\"\",IF(I25=1,VLOOKUP(AI25,男子種目コード!$A$1:$B$33,2,FALSE),IF(I25=2,VLOOKUP(AI25,女子種目コード!$A$36:$B$66,2,FALSE))))","v":""},null,0,2,null,null,null,"ハンマー投",null,"計",{"$f":"SUM(AT7:AT24)","v":0},null,null,null,null,null,null,null,"",0,0,0,0,null,null,null,null,null,0,"",""]
[false,{"$f":"前年度登録!Q28","v":""},false,null,{"$f":"前年度登録!E28","v":0},{"$f":"前年度登録!BR28","v":""},{"$f":"前年度登録!Z28","v":""},"",{"$f":"前年度登録!O28","v":""},{"$f":"前年度登録!I28","v":0},{"$f":"前年度登録!K28","v":0},{"$f":"前年度登録!BU28","v":"00"},{"$f":"前年度登録!R28","v":""},{"$f":"前年度登録!D28","v":0},null,"",{"$f":"IF(O26=\"\",\"\",HLOOKUP(O26,前年度登録!$AB$8:$BG$118,21,FALSE))","v":""},0,2,null,"",{"$f":"IF(T26=\"\",\"\",HLOOKUP(T26,前年度登録!$AB$8:$BG$118,21,FALSE))","v":""},0,2,null,"",{"$f":"IF(Y26=\"\",\"\",HLOOKUP(Y26,前年度登録!$AB$8:$BG$118,21,FALSE))","v":""},0,2,null,{"$f":"IF(AD26=\"\",\"\",IF(I26=1,VLOOKUP(AD26,男子種目コード!$A$1:$B$33,2,FALSE),IF(I26=2,VLOOKUP(AD26,女子種目コード!$A$36:$B$66,2,FALSE))))","v":""},null,0,2,null,{"$f":"IF(AI26=\"\",\"\",IF(I26=1,VLOOKUP(AI26,男子種目コード!$A$1:$B$33,2,FALSE),IF(I26=2,VLOOKUP(AI26,女子種目コード!$A$36:$B$66,2,FALSE))))","v":""},null,0,2,null,null,null,"やり投",null,"100m",{"$f":"COUNTIF($P$7:$P$116,40)+COUNTIF($U$7:$U$116,40)+COUNTIF($Z$7:$Z$116,40)","v":0},40,"種目","400R",null,null,null,null,"",0,0,0,0,null,null,null,null,null,0,"",""]
[false,{"$f":"前年度登録!Q29","v":""},false,null,{"$f":"前年度登録!E29","v":0},{"$f":"前年度登録!BR29","v":""},{"$f":"前年度登録!Z29","v":""},"",{"$f":"前年度登録!O29","v":""},{"$f":"前年度登録!I29","v":0},{"$f":"前年度登録!K29","v":0},{"$f":"前年度登録!BU29","v":"00"},{"$f":"前年度登録!R29","v":""},{"$f":"前年度登録!D29","v":0},null,"",{"$f":"IF(O27=\"\",\"\",HLOOKUP(O27,前年度登録!$AB$8:$BG$118,22,FALSE))","v":""},0,2,null,"",{"$f":"IF(T27=\"\",\"\",HLOOKUP(T27,前年度登録!$AB$8:$BG$118,22,FALSE))","v":""},0,2,null,"",{"$f":"IF(Y27=\"\",\"\",HLOOKUP(Y27,前年度登録!$AB$8:$BG$118,22,FALSE))","v":""},0,2,null,{"$f":"IF(AD27=\"\",\"\",IF(I27=1,VLOOKUP(AD27,男子種目コード!$A$1:$B$33,2,FALSE),IF(I27=2,VLOOKUP(AD27,女子種目コード!$A$36:$B$66,2,FALSE))))","v":""},null,0,2,null,{"$f":"IF(AI27=\"\",\"\",IF(I27=1,VLOOKUP(AI27,男子種目コード!$A$1:$B$33,2,FALSE),IF(I27=2,VLOOKUP(AI27,女子種目コード!$A$36:$B$66,2,FALSE))))","v":""},null,0,2,null,null,null,"4×100",null,"200m",{"$f":"COUNTIF($P$7:$P$116,41)+COUNTIF($U$7:$U$116,41)+COUNTIF($Z$7:$Z$116,41)","v":0},41,"記録",null,null,null,null,null,"",0,0,0,0,null,null,null,null,null,0,"",""]
[false,{"$f":"前年度登録!Q30","v":""},false,null,{"$f":"前年度登録!E30","v":0},{"$f":"前年度登録!BR30","v":""},{"$f":"前年度登録!Z30","v":""},"",{"$f":"前年度登録!O30","v":""},{"$f":"前年度登録!I30","v":0},{"$f":"前年度登録!K30","v":0},{"$f":"前年度登録!BU30","v":"00"},{"$f":"前年度登録!R30","v":""},{"$f":"前年度登録!D30","v":0},null,"",{"$f":"IF(O28=\"\",\"\",HLOOKUP(O28,前年度登録!$AB$8:$BG$118,23,FALSE))","v":""},0,2,null,"",{"$f":"IF(T28=\"\",\"\",HLOOKUP(T28,前年度登録!$AB$8:$BG$118,23,FALSE))","v":""},0,2,null,"",{"$f":"IF(Y28=\"\",\"\",HLOOKUP(Y28,前年度登録!$AB$8:$BG$118,23,FALSE))","v":""},0,2,null,{"$f":"IF(AD28=\"\",\"\",IF(I28=1,VLOOKUP(AD28,男子種目コード!$A$1:$B$33,2,FALSE),IF(I28=2,VLOOKUP(AD28,女子種目コード!$A$36:$B$66,2,FALSE))))","v":""},null,0,2,null,{"$f":"IF(AI28=\"\",\"\",IF(I28=1,VLOOKUP(AI28,男子種目コード!$A$1:$B$33,2,FALSE),IF(I28=2,VLOOKUP(AI28,女子種目コード!$A$36:$B$66,2,FALSE))))","v":""},null,0,2,null,null,null,"4×400",null,"400m",{"$f":"COUNTIF($P$7:$P$116,42)+COUNTIF($U$7:$U$116,42)+COUNTIF($Z$7:$Z$116,42)","v":0},42,"ｵｰﾀﾞｰ",{"$f":"COUNTIF($AE$7:$AE$116,53)","v":0},null,null,null,null,"",0,0,0,0,null,null,null,null,null,0,"",""]
[false,{"$f":"前年度登録!Q31","v":""},false,null,{"$f":"前年度登録!E31","v":0},{"$f":"前年度登録!BR31","v":""},{"$f":"前年度登録!Z31","v":""},"",{"$f":"前年度登録!O31","v":""},{"$f":"前年度登録!I31","v":0},{"$f":"前年度登録!K31","v":0},{"$f":"前年度登録!BU31","v":"00"},{"$f":"前年度登録!R31","v":""},{"$f":"前年度登録!D31","v":0},null,"",{"$f":"IF(O29=\"\",\"\",HLOOKUP(O29,前年度登録!$AB$8:$BG$118,24,FALSE))","v":""},0,2,null,"",{"$f":"IF(T29=\"\",\"\",HLOOKUP(T29,前年度登録!$AB$8:$BG$118,24,FALSE))","v":""},0,2,null,"",{"$f":"IF(Y29=\"\",\"\",HLOOKUP(Y29,前年度登録!$AB$8:$BG$118,24,FALSE))","v":""},0,2,null,{"$f":"IF(AD29=\"\",\"\",IF(I29=1,VLOOKUP(AD29,男子種目コード!$A$1:$B$33,2,FALSE),IF(I29=2,VLOOKUP(AD29,女子種目コード!$A$36:$B$66,2,FALSE))))","v":""},null,0,2,null,{"$f":"IF(AI29=\"\",\"\",IF(I29=1,VLOOKUP(AI29,男子種目コード!$A$1:$B$33,2,FALSE),IF(I29=2,VLOOKUP(AI29,女子種目コード!$A$36:$B$66,2,FALSE))))","v":""},null,0,2,null,null,null,null,null,"800m",{"$f":"COUNTIF($P$7:$P$116,43)+COUNTIF($U$7:$U$116,43)+COUNTIF($Z$7:$Z$116,43)","v":0},43,"選　手",{"$f":"IF(ISERROR(AY29),\"\",AY29)","v":""},"",{"$f":"VLookUpX(2,$A$7:$F$116,1,5)","v":{"$error":"#N/A"}},{"$f":"VLookUpX(2,$A$7:$F$116,1,6)","v":{"$error":"#N/A"}},null,"",0,0,0,0,null,null,null,null,null,0,"",""]
[false,{"$f":"前年度登録!Q32","v":""},false,null,{"$f":"前年度登録!E32","v":0},{"$f":"前年度登録!BR32","v":""},{"$f":"前年度登録!Z32","v":""},"",{"$f":"前年度登録!O32","v":""},{"$f":"前年度登録!I32","v":0},{"$f":"前年度登録!K32","v":0},{"$f":"前年度登録!BU32","v":"00"},{"$f":"前年度登録!R32","v":""},{"$f":"前年度登録!D32","v":0},null,"",{"$f":"IF(O30=\"\",\"\",HLOOKUP(O30,前年度登録!$AB$8:$BG$118,25,FALSE))","v":""},0,2,null,"",{"$f":"IF(T30=\"\",\"\",HLOOKUP(T30,前年度登録!$AB$8:$BG$118,25,FALSE))","v":""},0,2,null,"",{"$f":"IF(Y30=\"\",\"\",HLOOKUP(Y30,前年度登録!$AB$8:$BG$118,25,FALSE))","v":""},0,2,null,{"$f":"IF(AD30=\"\",\"\",IF(I30=1,VLOOKUP(AD30,男子種目コード!$A$1:$B$33,2,FALSE),IF(I30=2,VLOOKUP(AD30,女子種目コード!$A$36:$B$66,2,FALSE))))","v":""},null,0,2,null,{"$f":"IF(AI30=\"\",\"\",IF(I30=1,VLOOKUP(AI30,男子種目コード!$A$1:$B$33,2,FALSE),IF(I30=2,VLOOKUP(AI30,女子種目コード!$A$36:$B$66,2,FALSE))))","v":""},null,0,2,null,null,null,null,null,"1500m",{"$f":"COUNTIF($P$7:$P$116,44)+COUNTIF($U$7:$U$116,44)+COUNTIF($Z$7:$Z$116,44)","v":0},44,null,"","",{"$f":"VLookUpX(2,$A$7:$F$116,2,5)","v":{"$error":"#N/A"}},{"$f":"VLookUpX(2,$A$7:$F$116,2,6)","v":{"$error":"#N/A"}},null,"",0,0,0,0,null,null,null,null,null,0,"",""]
[false,{"$f":"前年度登録!Q33","v":""},false,null,{"$f":"前年度登録!E33","v":0},{"$f":"前年度登録!BR33","v":""},{"$f":"前年度登録!Z33","v":""},"",{"$f":"前年度登録!O33","v":""},{"$f":"前年度登録!I33","v":0},{"$f":"前年度登録!K33","v":0},{"$f":"前年度登録!BU33","v":"00"},{"$f":"前年度登録!R33","v":""},{"$f":"前年度登録!D33","v":0},null,"",{"$f":"IF(O31=\"\",\"\",HLOOKUP(O31,前年度登録!$AB$8:$BG$118,26,FALSE))","v":""},0,2,null,"",{"$f":"IF(T31=\"\",\"\",HLOOKUP(T31,前年度登録!$AB$8:$BG$118,26,FALSE))","v":""},0,2,null,"",{"$f":"IF(Y31=\"\",\"\",HLOOKUP(Y31,前年度登録!$AB$8:$BG$118,26,FALSE))","v":""},0,2,null,{"$f":"IF(AD31=\"\",\"\",IF(I31=1,VLOOKUP(AD31,男子種目コード!$A$1:$B$33,2,FALSE),IF(I31=2,VLOOKUP(AD31,女子種目コード!$A$36:$B$66,2,FALSE))))","v":""},null,0,2,null,{"$f":"IF(AI31=\"\",\"\",IF(I31=1,VLOOKUP(AI31,男子種目コード!$A$1:$B$33,2,FALSE),IF(I31=2,VLOOKUP(AI31,女子種目コード!$A$36:$B$66,2,FALSE))))","v":""},null,0,2,null,null,null,null,null,"3000m",{"$f":"COUNTIF($P$7:$P$116,45)+COUNTIF($U$7:$U$116,45)+COUNTIF($Z$7:$Z$116,45)","v":0},45,null,"","",{"$f":"VLookUpX(2,$A$7:$F$116,3,5)","v":{"$error":"#N/A"}},{"$f":"VLookUpX(2,$A$7:$F$116,3,6)","v":{"$error":"#N/A"}},null,"",0,0,0,0,null,null,null,null,null,0,"",""]
[false,{"$f":"前年度登録!Q34","v":""},false,null,{"$f":"前年度登録!E34","v":0},{"$f":"前年度登録!BR34","v":""},{"$f":"前年度登録!Z34","v":""},"",{"$f":"前年度登録!O34","v":""},{"$f":"前年度登録!I34","v":0},{"$f":"前年度登録!K34","v":0},{"$f":"前年度登録!BU34","v":"00"},{"$f":"前年度登録!R34","v":""},{"$f":"前年度登録!D34","v":0},null,"",{"$f":"IF(O32=\"\",\"\",HLOOKUP(O32,前年度登録!$AB$8:$BG$118,27,FALSE))","v":""},0,2,null,"",{"$f":"IF(T32=\"\",\"\",HLOOKUP(T32,前年度登録!$AB$8:$BG$118,27,FALSE))","v":""},0,2,null,"",{"$f":"IF(Y32=\"\",\"\",HLOOKUP(Y32,前年度登録!$AB$8:$BG$118,27,FALSE))","v":""},0,2,null,{"$f":"IF(AD32=\"\",\"\",IF(I32=1,VLOOKUP(AD32,男子種目コード!$A$1:$B$33,2,FALSE),IF(I32=2,VLOOKUP(AD32,女子種目コード!$A$36:$B$66,2,FALSE))))","v":""},null,0,2,null,{"$f":"IF(AI32=\"\",\"\",IF(I32=1,VLOOKUP(AI32,男子種目コード!$A$1:$B$33,2,FALSE),IF(I32=2,VLOOKUP(AI32,女子種目コード!$A$36:$B$66,2,FALSE))))","v":""},null,0,2,null,null,null,null,null,"100mH",{"$f":"COUNTIF($P$7:$P$116,48)+COUNTIF($U$7:$U$116,48)+COUNTIF($Z$7:$Z$116,48)","v":0},48,null,"","",{"$f":"VLookUpX(2,$A$7:$F$116,4,5)","v":{"$error":"#N/A"}},{"$f":"VLookUpX(2,$A$7:$F$116,4,6)","v":{"$error":"#N/A"}},null,"",0,0,0,0,null,null,null,null,null,0,"",""]
[false,{"$f":"前年度登録!Q35","v":""},false,null,{"$f":"前年度登録!E35","v":0},{"$f":"前年度登録!BR35","v":""},{"$f":"前年度登録!Z35","v":""},"",{"$f":"前年度登録!O35","v":""},{"$f":"前年度登録!I35","v":0},{"$f":"前年度登録!K35","v":0},{"$f":"前年度登録!BU35","v":"00"},{"$f":"前年度登録!R35","v":""},{"$f":"前年度登録!D35","v":0},null,"",{"$f":"IF(O33=\"\",\"\",HLOOKUP(O33,前年度登録!$AB$8:$BG$118,28,FALSE))","v":""},0,2,null,"",{"$f":"IF(T33=\"\",\"\",HLOOKUP(T33,前年度登録!$AB$8:$BG$118,28,FALSE))","v":""},0,2,null,"",{"$f":"IF(Y33=\"\",\"\",HLOOKUP(Y33,前年度登録!$AB$8:$BG$118,28,FALSE))","v":""},0,2,null,{"$f":"IF(AD33=\"\",\"\",IF(I33=1,VLOOKUP(AD33,男子種目コード!$A$1:$B$33,2,FALSE),IF(I33=2,VLOOKUP(AD33,女子種目コード!$A$36:$B$66,2,FALSE))))","v":""},null,0,2,null,{"$f":"IF(AI33=\"\",\"\",IF(I33=1,VLOOKUP(AI33,男子種目コード!$A$1:$B$33,2,FALSE),IF(I33=2,VLOOKUP(AI33,女子種目コード!$A$36:$B$66,2,FALSE))))","v":""},null,0,2,null,null,null,null,null,"400mH",{"$f":"COUNTIF($P$7:$P$116,49)+COUNTIF($U$7:$U$116,49)+COUNTIF($Z$7:$Z$116,49)","v":0},49,null,"","",{"$f":"VLookUpX(2,$A$7:$F$116,5,5)","v":{"$error":"#N/A"}},{"$f":"VLookUpX(2,$A$7:$F$116,5,6)","v":{"$error":"#N/A"}},null,"",0,0,0,0,null,null,null,null,null,0,"",""]
[false,{"$f":"前年度登録!Q36","v":""},false,null,{"$f":"前年度登録!E36","v":0},{"$f":"前年度登録!BR36","v":""},{"$f":"前年度登録!Z36","v":""},"",{"$f":"前年度登録!O36","v":""},{"$f":"前年度登録!I36","v":0},{"$f":"前年度登録!K36","v":0},{"$f":"前年度登録!BU36","v":"00"},{"$f":"前年度登録!R36","v":""},{"$f":"前年度登録!D36","v":0},null,"",{"$f":"IF(O34=\"\",\"\",HLOOKUP(O34,前年度登録!$AB$8:$BG$118,29,FALSE))","v":""},0,2,null,"",{"$f":"IF(T34=\"\",\"\",HLOOKUP(T34,前年度登録!$AB$8:$BG$118,29,FALSE))","v":""},0,2,null,"",{"$f":"IF(Y34=\"\",\"\",HLOOKUP(Y34,前年度登録!$AB$8:$BG$118,29,FALSE))","v":""},0,2,null,{"$f":"IF(AD34=\"\",\"\",IF(I34=1,VLOOKUP(AD34,男子種目コード!$A$1:$B$33,2,FALSE),IF(I34=2,VLOOKUP(AD34,女子種目コード!$A$36:$B$66,2,FALSE))))","v":""},null,0,2,null,{"$f":"IF(AI34=\"\",\"\",IF(I34=1,VLOOKUP(AI34,男子種目コード!$A$1:$B$33,2,FALSE),IF(I34=2,VLOOKUP(AI34,女子種目コード!$A$36:$B$66,2,FALSE))))","v":""},null,0,2,null,null,null,null,null,"5000mW",{"$f":"COUNTIF($P$7:$P$116,51)+COUNTIF($U$7:$U$116,51)+COUNTIF($Z$7:$Z$116,51)","v":0},51,null,"","",{"$f":"VLookUpX(2,$A$7:$F$116,6,5)","v":{"$error":"#N/A"}},{"$f":"VLookUpX(2,$A$7:$F$116,6,6)","v":{"$error":"#N/A"}},null,"",0,0,0,0,null,null,null,null,null,0,"",""]
[false,{"$f":"前年度登録!Q37","v":""},false,null,{"$f":"前年度登録!E37","v":0},{"$f":"前年度登録!BR37","v":""},{"$f":"前年度登録!Z37","v":""},"",{"$f":"前年度登録!O37","v":""},{"$f":"前年度登録!I37","v":0},{"$f":"前年度登録!K37","v":0},{"$f":"前年度登録!BU37","v":"00"},{"$f":"前年度登録!R37","v":""},{"$f":"前年度登録!D37","v":0},null,"",{"$f":"IF(O35=\"\",\"\",HLOOKUP(O35,前年度登録!$AB$8:$BG$118,30,FALSE))","v":""},0,2,null,"",{"$f":"IF(T35=\"\",\"\",HLOOKUP(T35,前年度登録!$AB$8:$BG$118,30,FALSE))","v":""},0,2,null,"",{"$f":"IF(Y35=\"\",\"\",HLOOKUP(Y35,前年度登録!$AB$8:$BG$118,30,FALSE))","v":""},0,2,null,{"$f":"IF(AD35=\"\",\"\",IF(I35=1,VLOOKUP(AD35,男子種目コード!$A$1:$B$33,2,FALSE),IF(I35=2,VLOOKUP(AD35,女子種目コード!$A$36:$B$66,2,FALSE))))","v":""},null,0,2,null,{"$f":"IF(AI35=\"\",\"\",IF(I35=1,VLOOKUP(AI35,男子種目コード!$A$1:$B$33,2,FALSE),IF(I35=2,VLOOKUP(AI35,女子種目コード!$A$36:$B$66,2,FALSE))))","v":""},null,0,2,null,null,null,null,null,"走高跳",{"$f":"COUNTIF($P$7:$P$116,55)+COUNTIF($U$7:$U$116,55)+COUNTIF($Z$7:$Z$116,55)","v":0},55,"種目","1600R",null,null,null,null,"",0,0,0,0,null,null,null,null,null,0,"",""]
[false,{"$f":"前年度登録!Q38","v":""},false,null,{"$f":"前年度登録!E38","v":0},{"$f":"前年度登録!BR38","v":""},{"$f":"前年度登録!Z38","v":""},"",{"$f":"前年度登録!O38","v":""},{"$f":"前年度登録!I38","v":0},{"$f":"前年度登録!K38","v":0},{"$f":"前年度登録!BU38","v":"00"},{"$f":"前年度登録!R38","v":""},{"$f":"前年度登録!D38","v":0},null,"",{"$f":"IF(O36=\"\",\"\",HLOOKUP(O36,前年度登録!$AB$8:$BG$118,31,FALSE))","v":""},0,2,null,"",{"$f":"IF(T36=\"\",\"\",HLOOKUP(T36,前年度登録!$AB$8:$BG$118,31,FALSE))","v":""},0,2,null,"",{"$f":"IF(Y36=\"\",\"\",HLOOKUP(Y36,前年度登録!$AB$8:$BG$118,31,FALSE))","v":""},0,2,null,{"$f":"IF(AD36=\"\",\"\",IF(I36=1,VLOOKUP(AD36,男子種目コード!$A$1:$B$33,2,FALSE),IF(I36=2,VLOOKUP(AD36,女子種目コード!$A$36:$B$66,2,FALSE))))","v":""},null,0,2,null,{"$f":"IF(AI36=\"\",\"\",IF(I36=1,VLOOKUP(AI36,男子種目コード!$A$1:$B$33,2,FALSE),IF(I36=2,VLOOKUP(AI36,女子種目コード!$A$36:$B$66,2,FALSE))))","v":""},null,0,2,null,null,null,null,null,"棒高跳",{"$f":"COUNTIF($P$7:$P$116,56)+COUNTIF($U$7:$U$116,56)+COUNTIF($Z$7:$Z$116,56)","v":0},56,"記録",null,null,null,null,null,"",0,0,0,0,null,null,null,null,null,0,"",""]
[false,{"$f":"前年度登録!Q39","v":""},false,null,{"$f":"前年度登録!E39","v":0},{"$f":"前年度登録!BR39","v":""},{"$f":"前年度登録!Z39","v":""},"",{"$f":"前年度登録!O39","v":""},{"$f":"前年度登録!I39","v":0},{"$f":"前年度登録!K39","v":0},{"$f":"前年度登録!BU39","v":"00"},{"$f":"前年度登録!R39","v":""},{"$f":"前年度登録!D39","v":0},null,"",{"$f":"IF(O37=\"\",\"\",HLOOKUP(O37,前年度登録!$AB$8:$BG$118,32,FALSE))","v":""},0,2,null,"",{"$f":"IF(T37=\"\",\"\",HLOOKUP(T37,前年度登録!$AB$8:$BG$118,32,FALSE))","v":""},0,2,null,"",{"$f":"IF(Y37=\"\",\"\",HLOOKUP(Y37,前年度登録!$AB$8:$BG$118,32,FALSE))","v":""},0,2,null,{"$f":"IF(AD37=\"\",\"\",IF(I37=1,VLOOKUP(AD37,男子種目コード!$A$1:$B$33,2,FALSE),IF(I37=2,VLOOKUP(AD37,女子種目コード!$A$36:$B$66,2,FALSE))))","v":""},null,0,2,null,{"$f":"IF(AI37=\"\",\"\",IF(I37=1,VLOOKUP(AI37,男子種目コード!$A$1:$B$33,2,FALSE),IF(I37=2,VLOOKUP(AI37,女子種目コード!$A$36:$B$66,2,FALSE))))","v":""},null,0,2,null,null,null,null,null,"走幅跳",{"$f":"COUNTIF($P$7:$P$116,57)+COUNTIF($U$7:$U$116,57)+COUNTIF($Z$7:$Z$116,57)","v":0},57,"ｵｰﾀﾞｰ",{"$f":"COUNTIF($AJ$7:$AJ$116,54)","v":0},null,null,null,null,"",0,0,0,0,null,null,null,null,null,0,"",""]
[false,{"$f":"前年度登録!Q40","v":""},false,null,{"$f":"前年度登録!E40","v":0},{"$f":"前年度登録!BR40","v":""},{"$f":"前年度登録!Z40","v":""},"",{"$f":"前年度登録!O40","v":""},{"$f":"前年度登録!I40","v":0},{"$f":"前年度登録!K40","v":0},{"$f":"前年度登録!BU40","v":"00"},{"$f":"前年度登録!R40","v":""},{"$f":"前年度登録!D40","v":0},null,"",{"$f":"IF(O38=\"\",\"\",HLOOKUP(O38,前年度登録!$AB$8:$BG$118,33,FALSE))","v":""},0,2,null,"",{"$f":"IF(T38=\"\",\"\",HLOOKUP(T38,前年度登録!$AB$8:$BG$118,33,FALSE))","v":""},0,2,null,"",{"$f":"IF(Y38=\"\",\"\",HLOOKUP(Y38,前年度登録!$AB$8:$BG$118,33,FALSE))","v":""},0,2,null,{"$f":"IF(AD38=\"\",\"\",IF(I38=1,VLOOKUP(AD38,男子種目コード!$A$1:$B$33,2,FALSE),IF(I38=2,VLOOKUP(AD38,女子種目コード!$A$36:$B$66,2,FALSE))))","v":""},null,0,2,null,{"$f":"IF(AI38=\"\",\"\",IF(I38=1,VLOOKUP(AI38,男子種目コード!$A$1:$B$33,2,FALSE),IF(I38=2,VLOOKUP(AI38,女子種目コード!$A$36:$B$66,2,FALSE))))","v":""},null,0,2,null,null,null,null,null,"三段跳",{"$f":"COUNTIF($P$7:$P$116,58)+COUNTIF($U$7:$U$116,58)+COUNTIF($Z$7:$Z$116,58)","v":0},58,"選　手",{"$f":"IF(ISERROR(AY38),\"\",AY38)","v":""},"",{"$f":"VLookUpX(2,$C$7:$F$116,1,3)","v":{"$error":"#N/A"}},{"$f":"VLookUpX(2,$C$7:$F$116,1,4)","v":{"$error":"#N/A"}},null,"",0,0,0,0,null,null,null,null,null,0,"",""]
[false,{"$f":"前年度登録!Q41","v":""},false,null,{"$f":"前年度登録!E41","v":0},{"$f":"前年度登録!BR41","v":""},{"$f":"前年度登録!Z41","v":""},"",{"$f":"前年度登録!O41","v":""},{"$f":"前年度登録!I41","v":0},{"$f":"前年度登録!K41","v":0},{"$f":"前年度登録!BU41","v":"00"},{"$f":"前年度登録!R41","v":""},{"$f":"前年度登録!D41","v":0},null,"",{"$f":"IF(O39=\"\",\"\",HLOOKUP(O39,前年度登録!$AB$8:$BG$118,34,FALSE))","v":""},0,2,null,"",{"$f":"IF(T39=\"\",\"\",HLOOKUP(T39,前年度登録!$AB$8:$BG$118,34,FALSE))","v":""},0,2,null,"",{"$f":"IF(Y39=\"\",\"\",HLOOKUP(Y39,前年度登録!$AB$8:$BG$118,34,FALSE))","v":""},0,2,null,{"$f":"IF(AD39=\"\",\"\",IF(I39=1,VLOOKUP(AD39,男子種目コード!$A$1:$B$33,2,FALSE),IF(I39=2,VLOOKUP(AD39,女子種目コード!$A$36:$B$66,2,FALSE))))","v":""},null,0,2,null,{"$f":"IF(AI39=\"\",\"\",IF(I39=1,VLOOKUP(AI39,男子種目コード!$A$1:$B$33,2,FALSE),IF(I39=2,VLOOKUP(AI39,女子種目コード!$A$36:$B$66,2,FALSE))))","v":""},null,0,2,null,null,null,null,null,"砲丸投",{"$f":"COUNTIF($P$7:$P$116,59)+COUNTIF($U$7:$U$116,59)+COUNTIF($Z$7:$Z$116,59)","v":0},59,null,"","",{"$f":"VLookUpX(2,$C$7:$F$116,2,3)","v":{"$error":"#N/A"}},{"$f":"VLookUpX(2,$C$7:$F$116,2,4)","v":{"$error":"#N/A"}},null,"",0,0,0,0,null,null,null,null,null,0,"",""]
[false,{"$f":"前年度登録!Q42","v":""},false,null,{"$f":"前年度登録!E42","v":0},{"$f":"前年度登録!BR42","v":""},{"$f":"前年度登録!Z42","v":""},"",{"$f":"前年度登録!O42","v":""},{"$f":"前年度登録!I42","v":0},{"$f":"前年度登録!K42","v":0},{"$f":"前年度登録!BU42","v":"00"},{"$f":"前年度登録!R42","v":""},{"$f":"前年度登録!D42","v":0},null,"",{"$f":"IF(O40=\"\",\"\",HLOOKUP(O40,前年度登録!$AB$8:$BG$118,35,FALSE))","v":""},0,2,null,"",{"$f":"IF(T40=\"\",\"\",HLOOKUP(T40,前年度登録!$AB$8:$BG$118,35,FALSE))","v":""},0,2,null,"",{"$f":"IF(Y40=\"\",\"\",HLOOKUP(Y40,前年度登録!$AB$8:$BG$118,35,FALSE))","v":""},0,2,null,{"$f":"IF(AD40=\"\",\"\",IF(I40=1,VLOOKUP(AD40,男子種目コード!$A$1:$B$33,2,FALSE),IF(I40=2,VLOOKUP(AD40,女子種目コード!$A$36:$B$66,2,FALSE))))","v":""},null,0,2,null,{"$f":"IF(AI40=\"\",\"\",IF(I40=1,VLOOKUP(AI40,男子種目コード!$A$1:$B$33,2,FALSE),IF(I40=2,VLOOKUP(AI40,女子種目コード!$A$36:$B$66,2,FALSE))))","v":""},null,0,2,null,null,null,null,null,"円盤投",{"$f":"COUNTIF($P$7:$P$116,60)+COUNTIF($U$7:$U$116,60)+COUNTIF($Z$7:$Z$116,60)","v":0},60,null,"","",{"$f":"VLookUpX(2,$C$7:$F$116,3,3)","v":{"$error":"#N/A"}},{"$f":"VLookUpX(2,$C$7:$F$116,3,4)","v":{"$error":"#N/A"}},null,"",0,0,0,0,null,null,null,null,null,0,"",""]
[false,{"$f":"前年度登録!Q43","v":""},false,null,{"$f":"前年度登録!E43","v":0},{"$f":"前年度登録!BR43","v":""},{"$f":"前年度登録!Z43","v":""},"",{"$f":"前年度登録!O43","v":""},{"$f":"前年度登録!I43","v":0},{"$f":"前年度登録!K43","v":0},{"$f":"前年度登録!BU43","v":"00"},{"$f":"前年度登録!R43","v":""},{"$f":"前年度登録!D43","v":0},null,"",{"$f":"IF(O41=\"\",\"\",HLOOKUP(O41,前年度登録!$AB$8:$BG$118,36,FALSE))","v":""},0,2,null,"",{"$f":"IF(T41=\"\",\"\",HLOOKUP(T41,前年度登録!$AB$8:$BG$118,36,FALSE))","v":""},0,2,null,"",{"$f":"IF(Y41=\"\",\"\",HLOOKUP(Y41,前年度登録!$AB$8:$BG$118,36,FALSE))","v":""},0,2,null,{"$f":"IF(AD41=\"\",\"\",IF(I41=1,VLOOKUP(AD41,男子種目コード!$A$1:$B$33,2,FALSE),IF(I41=2,VLOOKUP(AD41,女子種目コード!$A$36:$B$66,2,FALSE))))","v":""},null,0,2,null,{"$f":"IF(AI41=\"\",\"\",IF(I41=1,VLOOKUP(AI41,男子種目コード!$A$1:$B$33,2,FALSE),IF(I41=2,VLOOKUP(AI41,女子種目コード!$A$36:$B$66,2,FALSE))))","v":""},null,0,2,null,null,null,null,null,"ハンマー投",{"$f":"COUNTIF($P$7:$P$116,61)+COUNTIF($U$7:$U$116,61)+COUNTIF($Z$7:$Z$116,61)","v":0},61,null,"","",{"$f":"VLookUpX(2,$C$7:$F$116,4,3)","v":{"$error":"#N/A"}},{"$f":"VLookUpX(2,$C$7:$F$116,4,4)","v":{"$error":"#N/A"}},null,"",0,0,0,0,null,null,null,null,null,0,"",""]
[false,{"$f":"前年度登録!Q44","v":""},false,null,{"$f":"前年度登録!E44","v":0},{"$f":"前年度登録!BR44","v":""},{"$f":"前年度登録!Z44","v":""},"",{"$f":"前年度登録!O44","v":""},{"$f":"前年度登録!I44","v":0},{"$f":"前年度登録!K44","v":0},{"$f":"前年度登録!BU44","v":"00"},{"$f":"前年度登録!R44","v":""},{"$f":"前年度登録!D44","v":0},null,"",{"$f":"IF(O42=\"\",\"\",HLOOKUP(O42,前年度登録!$AB$8:$BG$118,37,FALSE))","v":""},0,2,null,"",{"$f":"IF(T42=\"\",\"\",HLOOKUP(T42,前年度登録!$AB$8:$BG$118,37,FALSE))","v":""},0,2,null,"",{"$f":"IF(Y42=\"\",\"\",HLOOKUP(Y42,前年度登録!$AB$8:$BG$118,37,FALSE))","v":""},0,2,null,{"$f":"IF(AD42=\"\",\"\",IF(I42=1,VLOOKUP(AD42,男子種目コード!$A$1:$B$33,2,FALSE),IF(I42=2,VLOOKUP(AD42,女子種目コード!$A$36:$B$66,2,FALSE))))","v":""},null,0,2,null,{"$f":"IF(AI42=\"\",\"\",IF(I42=1,VLOOKUP(AI42,男子種目コード!$A$1:$B$33,2,FALSE),IF(I42=2,VLOOKUP(AI42,女子種目コード!$A$36:$B$66,2,FALSE))))","v":""},null,0,2,null,null,null,null,null,"やり投",{"$f":"COUNTIF($P$7:$P$116,62)+COUNTIF($U$7:$U$116,62)+COUNTIF($Z$7:$Z$116,62)","v":0},62,null,"","",{"$f":"VLookUpX(2,$C$7:$F$116,5,3)","v":{"$error":"#N/A"}},{"$f":"VLookUpX(2,$C$7:$F$116,5,4)","v":{"$error":"#N/A"}},null,"",0,0,0,0,null,null,null,null,null,0,"",""]
[false,{"$f":"前年度登録!Q45","v":""},false,null,{"$f":"前年度登録!E45","v":0},{"$f":"前年度登録!BR45","v":""},{"$f":"前年度登録!Z45","v":""},"",{"$f":"前年度登録!O45","v":""},{"$f":"前年度登録!I45","v":0},{"$f":"前年度登録!K45","v":0},{"$f":"前年度登録!BU45","v":"00"},{"$f":"前年度登録!R45","v":""},{"$f":"前年度登録!D45","v":0},null,"",{"$f":"IF(O43=\"\",\"\",HLOOKUP(O43,前年度登録!$AB$8:$BG$118,38,FALSE))","v":""},0,2,null,"",{"$f":"IF(T43=\"\",\"\",HLOOKUP(T43,前年度登録!$AB$8:$BG$118,38,FALSE))","v":""},0,2,null,"",{"$f":"IF(Y43=\"\",\"\",HLOOKUP(Y43,前年度登録!$AB$8:$BG$118,38,FALSE))","v":""},0,2,null,{"$f":"IF(AD43=\"\",\"\",IF(I43=1,VLOOKUP(AD43,男子種目コード!$A$1:$B$33,2,FALSE),IF(I43=2,VLOOKUP(AD43,女子種目コード!$A$36:$B$66,2,FALSE))))","v":""},null,0,2,null,{"$f":"IF(AI43=\"\",\"\",IF(I43=1,VLOOKUP(AI43,男子種目コード!$A$1:$B$33,2,FALSE),IF(I43=2,VLOOKUP(AI43,女子種目コード!$A$36:$B$66,2,FALSE))))","v":""},null,0,2,null,null,null,null,null,"計",{"$f":"SUM(AT26:AT42)","v":0},null,null,"","",{"$f":"VLookUpX(2,$C$7:$F$116,6,3)","v":{"$error":"#N/A"}},{"$f":"VLookUpX(2,$C$7:$F$116,6,4)","v":{"$error":"#N/A"}},null,"",0,0,0,0,null,null,null,null,null,0,"",""]
[false,{"$f":"前年度登録!Q46","v":""},false,null,{"$f":"前年度登録!E46","v":0},{"$f":"前年度登録!BR46","v":""},{"$f":"前年度登録!Z46","v":""},"",{"$f":"前年度登録!O46","v":""},{"$f":"前年度登録!I46","v":0},{"$f":"前年度登録!K46","v":0},{"$f":"前年度登録!BU46","v":"00"},{"$f":"前年度登録!R46","v":""},{"$f":"前年度登録!D46","v":0},null,"",{"$f":"IF(O44=\"\",\"\",HLOOKUP(O44,前年度登録!$AB$8:$BG$118,39,FALSE))","v":""},0,2,null,"",{"$f":"IF(T44=\"\",\"\",HLOOKUP(T44,前年度登録!$AB$8:$BG$118,39,FALSE))","v":""},0,2,null,"",{"$f":"IF(Y44=\"\",\"\",HLOOKUP(Y44,前年度登録!$AB$8:$BG$118,39,FALSE))","v":""},0,2,null,{"$f":"IF(AD44=\"\",\"\",IF(I44=1,VLOOKUP(AD44,男子種目コード!$A$1:$B$33,2,FALSE),IF(I44=2,VLOOKUP(AD44,女子種目コード!$A$36:$B$66,2,FALSE))))","v":""},null,0,2,null,{"$f":"IF(AI44=\"\",\"\",IF(I44=1,VLOOKUP(AI44,男子種目コード!$A$1:$B$33,2,FALSE),IF(I44=2,VLOOKUP(AI44,女子種目コード!$A$36:$B$66,2,FALSE))))","v":""},null,0,2,null,null,null,null,null,"赤は制限オーバー",null,null,null,null,null,null,null,null,null,{"$f":"IF(O44=\"\",\"\",1)","v":""},{"$f":"IF(OR(BC44=1,T44=\"\"),0,1)","v":0},{"$f":"IF(OR(BC44=1,BD44=1,Y44=\"\"),0,1)","v":0},{"$f":"IF(OR(BC44=1,BD44=1,BE44=1,AD44=\"\"),0,1)","v":0},{"$f":"IF(OR(BC44=1,BD44=1,BE44=1,BF44=1,AI44=\"\"),0,1)","v":0},null,null,null,null,0,"","",{"$f":"IF(I44=2,BM44,\"\")","v":""}]
[false,{"$f":"前年度登録!Q47","v":""},false,null,{"$f":"前年度登録!E47","v":0},{"$f":"前年度登録!BR47","v":""},{"$f":"前年度登録!Z47","v":""},"",{"$f":"前年度登録!O47","v":""},{"$f":"前年度登録!I47","v":0},{"$f":"前年度登録!K47","v":0},{"$f":"前年度登録!BU47","v":"00"},{"$f":"前年度登録!R47","v":""},{"$f":"前年度登録!D47","v":0},null,"",{"$f":"IF(O45=\"\",\"\",HLOOKUP(O45,前年度登録!$AB$8:$BG$118,40,FALSE))","v":""},0,2,null,"",{"$f":"IF(T45=\"\",\"\",HLOOKUP(T45,前年度登録!$AB$8:$BG$118,40,FALSE))","v":""},0,2,null,"",{"$f":"IF(Y45=\"\",\"\",HLOOKUP(Y45,前年度登録!$AB$8:$BG$118,40,FALSE))","v":""},0,2,null,{"$f":"IF(AD45=\"\",\"\",IF(I45=1,VLOOKUP(AD45,男子種目コード!$A$1:$B$33,2,FALSE),IF(I45=2,VLOOKUP(AD45,女子種目コード!$A$36:$B$66,2,FALSE))))","v":""},null,0,2,null,{"$f":"IF(AI45=\"\",\"\",IF(I45=1,VLOOKUP(AI45,男子種目コード!$A$1:$B$33,2,FALSE),IF(I45=2,VLOOKUP(AI45,女子種目コード!$A$36:$B$66,2,FALSE))))","v":""},null,0,2,null,null,null,null,null,null,null,null,null,null,null,null,null,null,null,"",0,0,0,0,null,null,null,null,0,"","",""]
[false,{"$f":"前年度登録!Q48","v":""},false,null,{"$f":"前年度登録!E48","v":0},{"$f":"前年度登録!BR48","v":""},{"$f":"前年度登録!Z48","v":""},"",{"$f":"前年度登録!O48","v":""},{"$f":"前年度登録!I48","v":0},{"$f":"前年度登録!K48","v":0},{"$f":"前年度登録!BU48","v":"00"},{"$f":"前年度登録!R48","v":""},{"$f":"前年度登録!D48","v":0},null,"",{"$f":"IF(O46=\"\",\"\",HLOOKUP(O46,前年度登録!$AB$8:$BG$118,41,FALSE))","v":""},0,2,null,"",{"$f":"IF(T46=\"\",\"\",HLOOKUP(T46,前年度登録!$AB$8:$BG$118,41,FALSE))","v":""},0,2,null,"",{"$f":"IF(Y46=\"\",\"\",HLOOKUP(Y46,前年度登録!$AB$8:$BG$118,41,FALSE))","v":""},0,2,null,{"$f":"IF(AD46=\"\",\"\",IF(I46=1,VLOOKUP(AD46,男子種目コード!$A$1:$B$33,2,FALSE),IF(I46=2,VLOOKUP(AD46,女子種目コード!$A$36:$B$66,2,FALSE))))","v":""},null,0,2,null,{"$f":"IF(AI46=\"\",\"\",IF(I46=1,VLOOKUP(AI46,男子種目コード!$A$1:$B$33,2,FALSE),IF(I46=2,VLOOKUP(AI46,女子種目コード!$A$36:$B$66,2,FALSE))))","v":""},null,0,2,null,null,null,null,null,null,null,null,null,null,null,null,null,null,null,"",0,0,0,0,null,null,null,null,0,"","",""]
[false,{"$f":"前年度登録!Q49","v":""},false,null,{"$f":"前年度登録!E49","v":0},{"$f":"前年度登録!BR49","v":""},{"$f":"前年度登録!Z49","v":""},"",{"$f":"前年度登録!O49","v":""},{"$f":"前年度登録!I49","v":0},{"$f":"前年度登録!K49","v":0},{"$f":"前年度登録!BU49","v":"00"},{"$f":"前年度登録!R49","v":""},{"$f":"前年度登録!D49","v":0},null,"",{"$f":"IF(O47=\"\",\"\",HLOOKUP(O47,前年度登録!$AB$8:$BG$118,42,FALSE))","v":""},0,2,null,"",{"$f":"IF(T47=\"\",\"\",HLOOKUP(T47,前年度登録!$AB$8:$BG$118,42,FALSE))","v":""},0,2,null,"",{"$f":"IF(Y47=\"\",\"\",HLOOKUP(Y47,前年度登録!$AB$8:$BG$118,42,FALSE))","v":""},0,2,null,{"$f":"IF(AD47=\"\",\"\",IF(I47=1,VLOOKUP(AD47,男子種目コード!$A$1:$B$33,2,FALSE),IF(I47=2,VLOOKUP(AD47,女子種目コード!$A$36:$B$66,2,FALSE))))","v":""},null,0,2,null,{"$f":"IF(AI47=\"\",\"\",IF(I47=1,VLOOKUP(AI47,男子種目コード!$A$1:$B$33,2,FALSE),IF(I47=2,VLOOKUP(AI47,女子種目コード!$A$36:$B$66,2,FALSE))))","v":""},null,0,2,null,null,null,null,null,null,null,null,null,null,null,null,null,null,null,"",0,0,0,0,null,null,null,null,0,"","",""]
[false,{"$f":"前年度登録!Q50","v":""},false,null,{"$f":"前年度登録!E50","v":0},{"$f":"前年度登録!BR50","v":""},{"$f":"前年度登録!Z50","v":""},"",{"$f":"前年度登録!O50","v":""},{"$f":"前年度登録!I50","v":0},{"$f":"前年度登録!K50","v":0},{"$f":"前年度登録!BU50","v":"00"},{"$f":"前年度登録!R50","v":""},{"$f":"前年度登録!D50","v":0},null,"",{"$f":"IF(O48=\"\",\"\",HLOOKUP(O48,前年度登録!$AB$8:$BG$118,43,FALSE))","v":""},0,2,null,"",{"$f":"IF(T48=\"\",\"\",HLOOKUP(T48,前年度登録!$AB$8:$BG$118,43,FALSE))","v":""},0,2,null,"",{"$f":"IF(Y48=\"\",\"\",HLOOKUP(Y48,前年度登録!$AB$8:$BG$118,43,FALSE))","v":""},0,2,null,{"$f":"IF(AD48=\"\",\"\",IF(I48=1,VLOOKUP(AD48,男子種目コード!$A$1:$B$33,2,FALSE),IF(I48=2,VLOOKUP(AD48,女子種目コード!$A$36:$B$66,2,FALSE))))","v":""},null,0,2,null,{"$f":"IF(AI48=\"\",\"\",IF(I48=1,VLOOKUP(AI48,男子種目コード!$A$1:$B$33,2,FALSE),IF(I48=2,VLOOKUP(AI48,女子種目コード!$A$36:$B$66,2,FALSE))))","v":""},null,0,2,null,null,null,null,null,null,null,null,null,null,null,null,null,null,null,"",0,0,0,0,null,null,null,null,0,"","",""]
[false,{"$f":"前年度登録!Q51","v":""},false,null,{"$f":"前年度登録!E51","v":0},{"$f":"前年度登録!BR51","v":""},{"$f":"前年度登録!Z51","v":""},"",{"$f":"前年度登録!O51","v":""},{"$f":"前年度登録!I51","v":0},{"$f":"前年度登録!K51","v":0},{"$f":"前年度登録!BU51","v":"00"},{"$f":"前年度登録!R51","v":""},{"$f":"前年度登録!D51","v":0},null,"",{"$f":"IF(O49=\"\",\"\",HLOOKUP(O49,前年度登録!$AB$8:$BG$118,44,FALSE))","v":""},0,2,null,"",{"$f":"IF(T49=\"\",\"\",HLOOKUP(T49,前年度登録!$AB$8:$BG$118,44,FALSE))","v":""},0,2,null,"",{"$f":"IF(Y49=\"\",\"\",HLOOKUP(Y49,前年度登録!$AB$8:$BG$118,44,FALSE))","v":""},0,2,null,{"$f":"IF(AD49=\"\",\"\",IF(I49=1,VLOOKUP(AD49,男子種目コード!$A$1:$B$33,2,FALSE),IF(I49=2,VLOOKUP(AD49,女子種目コード!$A$36:$B$66,2,FALSE))))","v":""},null,0,2,null,{"$f":"IF(AI49=\"\",\"\",IF(I49=1,VLOOKUP(AI49,男子種目コード!$A$1:$B$33,2,FALSE),IF(I49=2,VLOOKUP(AI49,女子種目コード!$A$36:$B$66,2,FALSE))))","v":""},null,0,2,null,null,null,null,null,null,null,null,null,null,null,null,null,null,null,"",0,0,0,0,null,null,null,null,0,"","",""]
[false,{"$f":"前年度登録!Q52","v":""},false,null,{"$f":"前年度登録!E52","v":0},{"$f":"前年度登録!BR52","v":""},{"$f":"前年度登録!Z52","v":""},"",{"$f":"前年度登録!O52","v":""},{"$f":"前年度登録!I52","v":0},{"$f":"前年度登録!K52","v":0},{"$f":"前年度登録!BU52","v":"00"},{"$f":"前年度登録!R52","v":""},{"$f":"前年度登録!D52","v":0},null,"",{"$f":"IF(O50=\"\",\"\",HLOOKUP(O50,前年度登録!$AB$8:$BG$118,45,FALSE))","v":""},0,2,null,"",{"$f":"IF(T50=\"\",\"\",HLOOKUP(T50,前年度登録!$AB$8:$BG$118,45,FALSE))","v":""},0,2,null,"",{"$f":"IF(Y50=\"\",\"\",HLOOKUP(Y50,前年度登録!$AB$8:$BG$118,45,FALSE))","v":""},0,2,null,{"$f":"IF(AD50=\"\",\"\",IF(I50=1,VLOOKUP(AD50,男子種目コード!$A$1:$B$33,2,FALSE),IF(I50=2,VLOOKUP(AD50,女子種目コード!$A$36:$B$66,2,FALSE))))","v":""},null,0,2,null,{"$f":"IF(AI50=\"\",\"\",IF(I50=1,VLOOKUP(AI50,男子種目コード!$A$1:$B$33,2,FALSE),IF(I50=2,VLOOKUP(AI50,女子種目コード!$A$36:$B$66,2,FALSE))))","v":""},null,0,2,null,null,null,null,null,null,null,null,null,null,null,null,null,null,null,"",0,0,0,0,null,null,null,null,0,"","",""]
[false,{"$f":"前年度登録!Q53","v":""},false,null,{"$f":"前年度登録!E53","v":0},{"$f":"前年度登録!BR53","v":""},{"$f":"前年度登録!Z53","v":""},"",{"$f":"前年度登録!O53","v":""},{"$f":"前年度登録!I53","v":0},{"$f":"前年度登録!K53","v":0},{"$f":"前年度登録!BU53","v":"00"},{"$f":"前年度登録!R53","v":""},{"$f":"前年度登録!D53","v":0},null,"",{"$f":"IF(O51=\"\",\"\",HLOOKUP(O51,前年度登録!$AB$8:$BG$118,46,FALSE))","v":""},0,2,null,"",{"$f":"IF(T51=\"\",\"\",HLOOKUP(T51,前年度登録!$AB$8:$BG$118,46,FALSE))","v":""},0,2,null,"",{"$f":"IF(Y51=\"\",\"\",HLOOKUP(Y51,前年度登録!$AB$8:$BG$118,46,FALSE))","v":""},0,2,null,{"$f":"IF(AD51=\"\",\"\",IF(I51=1,VLOOKUP(AD51,男子種目コード!$A$1:$B$33,2,FALSE),IF(I51=2,VLOOKUP(AD51,女子種目コード!$A$36:$B$66,2,FALSE))))","v":""},null,0,2,null,{"$f":"IF(AI51=\"\",\"\",IF(I51=1,VLOOKUP(AI51,男子種目コード!$A$1:$B$33,2,FALSE),IF(I51=2,VLOOKUP(AI51,女子種目コード!$A$36:$B$66,2,FALSE))))","v":""},null,0,2,null,null,null,null,null,null,null,null,null,null,null,null,null,null,null,"",0,0,0,0,null,null,null,null,0,"","",""]
[false,{"$f":"前年度登録!Q54","v":""},false,null,{"$f":"前年度登録!E54","v":0},{"$f":"前年度登録!BR54","v":""},{"$f":"前年度登録!Z54","v":""},"",{"$f":"前年度登録!O54","v":""},{"$f":"前年度登録!I54","v":0},{"$f":"前年度登録!K54","v":0},{"$f":"前年度登録!BU54","v":"00"},{"$f":"前年度登録!R54","v":""},{"$f":"前年度登録!D54","v":0},null,"",{"$f":"IF(O52=\"\",\"\",HLOOKUP(O52,前年度登録!$AB$8:$BG$118,47,FALSE))","v":""},0,2,null,"",{"$f":"IF(T52=\"\",\"\",HLOOKUP(T52,前年度登録!$AB$8:$BG$118,47,FALSE))","v":""},0,2,null,"",{"$f":"IF(Y52=\"\",\"\",HLOOKUP(Y52,前年度登録!$AB$8:$BG$118,47,FALSE))","v":""},0,2,null,{"$f":"IF(AD52=\"\",\"\",IF(I52=1,VLOOKUP(AD52,男子種目コード!$A$1:$B$33,2,FALSE),IF(I52=2,VLOOKUP(AD52,女子種目コード!$A$36:$B$66,2,FALSE))))","v":""},null,0,2,null,{"$f":"IF(AI52=\"\",\"\",IF(I52=1,VLOOKUP(AI52,男子種目コード!$A$1:$B$33,2,FALSE),IF(I52=2,VLOOKUP(AI52,女子種目コード!$A$36:$B$66,2,FALSE))))","v":""},null,0,2,null,null,null,null,null,null,null,null,null,null,null,null,null,null,null,"",0,0,0,0,null,null,null,null,0,"","",""]
[false,{"$f":"前年度登録!Q55","v":""},false,null,{"$f":"前年度登録!E55","v":0},{"$f":"前年度登録!BR55","v":""},{"$f":"前年度登録!Z55","v":""},"",{"$f":"前年度登録!O55","v":""},{"$f":"前年度登録!I55","v":0},{"$f":"前年度登録!K55","v":0},{"$f":"前年度登録!BU55","v":"00"},{"$f":"前年度登録!R55","v":""},{"$f":"前年度登録!D55","v":0},null,"",{"$f":"IF(O53=\"\",\"\",HLOOKUP(O53,前年度登録!$AB$8:$BG$118,48,FALSE))","v":""},0,2,null,"",{"$f":"IF(T53=\"\",\"\",HLOOKUP(T53,前年度登録!$AB$8:$BG$118,48,FALSE))","v":""},0,2,null,"",{"$f":"IF(Y53=\"\",\"\",HLOOKUP(Y53,前年度登録!$AB$8:$BG$118,48,FALSE))","v":""},0,2,null,{"$f":"IF(AD53=\"\",\"\",IF(I53=1,VLOOKUP(AD53,男子種目コード!$A$1:$B$33,2,FALSE),IF(I53=2,VLOOKUP(AD53,女子種目コード!$A$36:$B$66,2,FALSE))))","v":""},null,0,2,null,{"$f":"IF(AI53=\"\",\"\",IF(I53=1,VLOOKUP(AI53,男子種目コード!$A$1:$B$33,2,FALSE),IF(I53=2,VLOOKUP(AI53,女子種目コード!$A$36:$B$66,2,FALSE))))","v":""},null,0,2,null,null,null,null,null,null,null,null,null,null,null,null,null,null,null,"",0,0,0,0,null,null,null,null,0,"","",""]
[false,{"$f":"前年度登録!Q56","v":""},false,null,{"$f":"前年度登録!E56","v":0},{"$f":"前年度登録!BR56","v":""},{"$f":"前年度登録!Z56","v":""},"",{"$f":"前年度登録!O56","v":""},{"$f":"前年度登録!I56","v":0},{"$f":"前年度登録!K56","v":0},{"$f":"前年度登録!BU56","v":"00"},{"$f":"前年度登録!R56","v":""},{"$f":"前年度登録!D56","v":0},null,"",{"$f":"IF(O54=\"\",\"\",HLOOKUP(O54,前年度登録!$AB$8:$BG$118,49,FALSE))","v":""},0,2,null,"",{"$f":"IF(T54=\"\",\"\",HLOOKUP(T54,前年度登録!$AB$8:$BG$118,49,FALSE))","v":""},0,2,null,"",{"$f":"IF(Y54=\"\",\"\",HLOOKUP(Y54,前年度登録!$AB$8:$BG$118,49,FALSE))","v":""},0,2,null,{"$f":"IF(AD54=\"\",\"\",IF(I54=1,VLOOKUP(AD54,男子種目コード!$A$1:$B$33,2,FALSE),IF(I54=2,VLOOKUP(AD54,女子種目コード!$A$36:$B$66,2,FALSE))))","v":""},null,0,2,null,{"$f":"IF(AI54=\"\",\"\",IF(I54=1,VLOOKUP(AI54,男子種目コード!$A$1:$B$33,2,FALSE),IF(I54=2,VLOOKUP(AI54,女子種目コード!$A$36:$B$66,2,FALSE))))","v":""},null,0,2,null,null,null,null,null,null,null,null,null,null,null,null,null,null,null,"",0,0,0,0,null,null,null,null,0,"","",""]
[false,{"$f":"前年度登録!Q57","v":""},false,null,{"$f":"前年度登録!E57","v":0},{"$f":"前年度登録!BR57","v":""},{"$f":"前年度登録!Z57","v":""},"",{"$f":"前年度登録!O57","v":""},{"$f":"前年度登録!I57","v":0},{"$f":"前年度登録!K57","v":0},{"$f":"前年度登録!BU57","v":"00"},{"$f":"前年度登録!R57","v":""},{"$f":"前年度登録!D57","v":0},null,"",{"$f":"IF(O55=\"\",\"\",HLOOKUP(O55,前年度登録!$AB$8:$BG$118,50,FALSE))","v":""},0,2,null,"",{"$f":"IF(T55=\"\",\"\",HLOOKUP(T55,前年度登録!$AB$8:$BG$118,50,FALSE))","v":""},0,2,null,"",{"$f":"IF(Y55=\"\",\"\",HLOOKUP(Y55,前年度登録!$AB$8:$BG$118,50,FALSE))","v":""},0,2,null,{"$f":"IF(AD55=\"\",\"\",IF(I55=1,VLOOKUP(AD55,男子種目コード!$A$1:$B$33,2,FALSE),IF(I55=2,VLOOKUP(AD55,女子種目コード!$A$36:$B$66,2,FALSE))))","v":""},null,0,2,null,{"$f":"IF(AI55=\"\",\"\",IF(I55=1,VLOOKUP(AI55,男子種目コード!$A$1:$B$33,2,FALSE),IF(I55=2,VLOOKUP(AI55,女子種目コード!$A$36:$B$66,2,FALSE))))","v":""},null,0,2,null,null,null,null,null,null,null,null,null,null,null,null,null,null,null,"",0,0,0,0,null,null,null,null,0,"","",""]
[false,{"$f":"前年度登録!Q58","v":""},false,null,{"$f":"前年度登録!E58","v":0},{"$f":"前年度登録!BR58","v":""},{"$f":"前年度登録!Z58","v":""},"",{"$f":"前年度登録!O58","v":""},{"$f":"前年度登録!I58","v":0},{"$f":"前年度登録!K58","v":0},{"$f":"前年度登録!BU58","v":"00"},{"$f":"前年度登録!R58","v":""},{"$f":"前年度登録!D58","v":0},null,"",{"$f":"IF(O56=\"\",\"\",HLOOKUP(O56,前年度登録!$AB$8:$BG$118,51,FALSE))","v":""},0,2,null,"",{"$f":"IF(T56=\"\",\"\",HLOOKUP(T56,前年度登録!$AB$8:$BG$118,51,FALSE))","v":""},0,2,null,"",{"$f":"IF(Y56=\"\",\"\",HLOOKUP(Y56,前年度登録!$AB$8:$BG$118,51,FALSE))","v":""},0,2,null,{"$f":"IF(AD56=\"\",\"\",IF(I56=1,VLOOKUP(AD56,男子種目コード!$A$1:$B$33,2,FALSE),IF(I56=2,VLOOKUP(AD56,女子種目コード!$A$36:$B$66,2,FALSE))))","v":""},null,0,2,null,{"$f":"IF(AI56=\"\",\"\",IF(I56=1,VLOOKUP(AI56,男子種目コード!$A$1:$B$33,2,FALSE),IF(I56=2,VLOOKUP(AI56,女子種目コード!$A$36:$B$66,2,FALSE))))","v":""},null,0,2,null,null,null,null,null,null,null,null,null,null,null,null,null,null,null,"",0,0,0,0,null,null,null,null,0,"","",""]
[false,{"$f":"前年度登録!Q59","v":""},false,null,{"$f":"前年度登録!E59","v":0},{"$f":"前年度登録!BR59","v":""},{"$f":"前年度登録!Z59","v":""},"",{"$f":"前年度登録!O59","v":""},{"$f":"前年度登録!I59","v":0},{"$f":"前年度登録!K59","v":0},{"$f":"前年度登録!BU59","v":"00"},{"$f":"前年度登録!R59","v":""},{"$f":"前年度登録!D59","v":0},null,"",{"$f":"IF(O57=\"\",\"\",HLOOKUP(O57,前年度登録!$AB$8:$BG$118,52,FALSE))","v":""},0,2,null,"",{"$f":"IF(T57=\"\",\"\",HLOOKUP(T57,前年度登録!$AB$8:$BG$118,52,FALSE))","v":""},0,2,null,"",{"$f":"IF(Y57=\"\",\"\",HLOOKUP(Y57,前年度登録!$AB$8:$BG$118,52,FALSE))","v":""},0,2,null,{"$f":"IF(AD57=\"\",\"\",IF(I57=1,VLOOKUP(AD57,男子種目コード!$A$1:$B$33,2,FALSE),IF(I57=2,VLOOKUP(AD57,女子種目コード!$A$36:$B$66,2,FALSE))))","v":""},null,0,2,null,{"$f":"IF(AI57=\"\",\"\",IF(I57=1,VLOOKUP(AI57,男子種目コード!$A$1:$B$33,2,FALSE),IF(I57=2,VLOOKUP(AI57,女子種目コード!$A$36:$B$66,2,FALSE))))","v":""},null,0,2,null,null,null,null,null,null,null,null,null,null,null,null,null,null,null,"",0,0,0,0,null,null,null,null,0,"","",""]
[false,{"$f":"前年度登録!Q60","v":""},false,null,{"$f":"前年度登録!E60","v":0},{"$f":"前年度登録!BR60","v":""},{"$f":"前年度登録!Z60","v":""},"",{"$f":"前年度登録!O60","v":""},{"$f":"前年度登録!I60","v":0},{"$f":"前年度登録!K60","v":0},{"$f":"前年度登録!BU60","v":"00"},{"$f":"前年度登録!R60","v":""},{"$f":"前年度登録!D60","v":0},null,"",{"$f":"IF(O58=\"\",\"\",HLOOKUP(O58,前年度登録!$AB$8:$BG$118,53,FALSE))","v":""},0,2,null,"",{"$f":"IF(T58=\"\",\"\",HLOOKUP(T58,前年度登録!$AB$8:$BG$118,53,FALSE))","v":""},0,2,null,"",{"$f":"IF(Y58=\"\",\"\",HLOOKUP(Y58,前年度登録!$AB$8:$BG$118,53,FALSE))","v":""},0,2,null,{"$f":"IF(AD58=\"\",\"\",IF(I58=1,VLOOKUP(AD58,男子種目コード!$A$1:$B$33,2,FALSE),IF(I58=2,VLOOKUP(AD58,女子種目コード!$A$36:$B$66,2,FALSE))))","v":""},null,0,2,null,{"$f":"IF(AI58=\"\",\"\",IF(I58=1,VLOOKUP(AI58,男子種目コード!$A$1:$B$33,2,FALSE),IF(I58=2,VLOOKUP(AI58,女子種目コード!$A$36:$B$66,2,FALSE))))","v":""},null,0,2,null,null,null,null,null,null,null,null,null,null,null,null,null,null,null,"",0,0,0,0,null,null,null,null,0,"","",""]
[false,{"$f":"前年度登録!Q61","v":""},false,null,{"$f":"前年度登録!E61","v":0},{"$f":"前年度登録!BR61","v":""},{"$f":"前年度登録!Z61","v":""},"",{"$f":"前年度登録!O61","v":""},{"$f":"前年度登録!I61","v":0},{"$f":"前年度登録!K61","v":0},{"$f":"前年度登録!BU61","v":"00"},{"$f":"前年度登録!R61","v":""},{"$f":"前年度登録!D61","v":0},null,"",{"$f":"IF(O59=\"\",\"\",HLOOKUP(O59,前年度登録!$AB$8:$BG$118,54,FALSE))","v":""},0,2,null,"",{"$f":"IF(T59=\"\",\"\",HLOOKUP(T59,前年度登録!$AB$8:$BG$118,54,FALSE))","v":""},0,2,null,"",{"$f":"IF(Y59=\"\",\"\",HLOOKUP(Y59,前年度登録!$AB$8:$BG$118,54,FALSE))","v":""},0,2,null,{"$f":"IF(AD59=\"\",\"\",IF(I59=1,VLOOKUP(AD59,男子種目コード!$A$1:$B$33,2,FALSE),IF(I59=2,VLOOKUP(AD59,女子種目コード!$A$36:$B$66,2,FALSE))))","v":""},null,0,2,null,{"$f":"IF(AI59=\"\",\"\",IF(I59=1,VLOOKUP(AI59,男子種目コード!$A$1:$B$33,2,FALSE),IF(I59=2,VLOOKUP(AI59,女子種目コード!$A$36:$B$66,2,FALSE))))","v":""},null,0,2,null,null,null,null,null,null,null,null,null,null,null,null,null,null,null,"",0,0,0,0,null,null,null,null,0,"","",""]
[false,{"$f":"前年度登録!Q62","v":""},false,null,{"$f":"前年度登録!E62","v":0},{"$f":"前年度登録!BR62","v":""},{"$f":"前年度登録!Z62","v":""},"",{"$f":"前年度登録!O62","v":""},{"$f":"前年度登録!I62","v":0},{"$f":"前年度登録!K62","v":0},{"$f":"前年度登録!BU62","v":"00"},{"$f":"前年度登録!R62","v":""},{"$f":"前年度登録!D62","v":0},null,"",{"$f":"IF(O60=\"\",\"\",HLOOKUP(O60,前年度登録!$AB$8:$BG$118,55,FALSE))","v":""},0,2,null,"",{"$f":"IF(T60=\"\",\"\",HLOOKUP(T60,前年度登録!$AB$8:$BG$118,55,FALSE))","v":""},0,2,null,"",{"$f":"IF(Y60=\"\",\"\",HLOOKUP(Y60,前年度登録!$AB$8:$BG$118,55,FALSE))","v":""},0,2,null,{"$f":"IF(AD60=\"\",\"\",IF(I60=1,VLOOKUP(AD60,男子種目コード!$A$1:$B$33,2,FALSE),IF(I60=2,VLOOKUP(AD60,女子種目コード!$A$36:$B$66,2,FALSE))))","v":""},null,0,2,null,{"$f":"IF(AI60=\"\",\"\",IF(I60=1,VLOOKUP(AI60,男子種目コード!$A$1:$B$33,2,FALSE),IF(I60=2,VLOOKUP(AI60,女子種目コード!$A$36:$B$66,2,FALSE))))","v":""},null,0,2,null,null,null,null,null,null,null,null,null,null,null,null,null,null,null,"",0,0,0,0,null,null,null,null,0,"","",""]
[false,{"$f":"前年度登録!Q63","v":""},false,null,{"$f":"前年度登録!E63","v":0},{"$f":"前年度登録!BR63","v":""},{"$f":"前年度登録!Z63","v":""},"",{"$f":"前年度登録!O63","v":""},{"$f":"前年度登録!I63","v":0},{"$f":"前年度登録!K63","v":0},{"$f":"前年度登録!BU63","v":"00"},{"$f":"前年度登録!R63","v":""},{"$f":"前年度登録!D63","v":0},null,"",{"$f":"IF(O61=\"\",\"\",HLOOKUP(O61,前年度登録!$AB$8:$BG$118,56,FALSE))","v":""},0,2,null,"",{"$f":"IF(T61=\"\",\"\",HLOOKUP(T61,前年度登録!$AB$8:$BG$118,56,FALSE))","v":""},0,2,null,"",{"$f":"IF(Y61=\"\",\"\",HLOOKUP(Y61,前年度登録!$AB$8:$BG$118,56,FALSE))","v":""},0,2,null,{"$f":"IF(AD61=\"\",\"\",IF(I61=1,VLOOKUP(AD61,男子種目コード!$A$1:$B$33,2,FALSE),IF(I61=2,VLOOKUP(AD61,女子種目コード!$A$36:$B$66,2,FALSE))))","v":""},null,0,2,null,{"$f":"IF(AI61=\"\",\"\",IF(I61=1,VLOOKUP(AI61,男子種目コード!$A$1:$B$33,2,FALSE),IF(I61=2,VLOOKUP(AI61,女子種目コード!$A$36:$B$66,2,FALSE))))","v":""},null,0,2,null,null,null,null,null,null,null,null,null,null,null,null,null,null,null,"",0,0,0,0,null,null,null,null,0,"","",""]
[false,{"$f":"前年度登録!Q64","v":""},false,null,{"$f":"前年度登録!E64","v":0},{"$f":"前年度登録!BR64","v":""},{"$f":"前年度登録!Z64","v":""},"",{"$f":"前年度登録!O64","v":""},{"$f":"前年度登録!I64","v":0},{"$f":"前年度登録!K64","v":0},{"$f":"前年度登録!BU64","v":"00"},{"$f":"前年度登録!R64","v":""},{"$f":"前年度登録!D64","v":0},null,"",{"$f":"IF(O62=\"\",\"\",HLOOKUP(O62,前年度登録!$AB$8:$BG$118,57,FALSE))","v":""},0,2,null,"",{"$f":"IF(T62=\"\",\"\",HLOOKUP(T62,前年度登録!$AB$8:$BG$118,57,FALSE))","v":""},0,2,null,"",{"$f":"IF(Y62=\"\",\"\",HLOOKUP(Y62,前年度登録!$AB$8:$BG$118,57,FALSE))","v":""},0,2,null,{"$f":"IF(AD62=\"\",\"\",IF(I62=1,VLOOKUP(AD62,男子種目コード!$A$1:$B$33,2,FALSE),IF(I62=2,VLOOKUP(AD62,女子種目コード!$A$36:$B$66,2,FALSE))))","v":""},null,0,2,null,{"$f":"IF(AI62=\"\",\"\",IF(I62=1,VLOOKUP(AI62,男子種目コード!$A$1:$B$33,2,FALSE),IF(I62=2,VLOOKUP(AI62,女子種目コード!$A$36:$B$66,2,FALSE))))","v":""},null,0,2,null,null,null,null,null,null,null,null,null,null,null,null,null,null,null,"",0,0,0,0,null,null,null,null,0,"","",""]
[false,{"$f":"前年度登録!Q65","v":""},false,null,{"$f":"前年度登録!E65","v":0},{"$f":"前年度登録!BR65","v":""},{"$f":"前年度登録!Z65","v":""},"",{"$f":"前年度登録!O65","v":""},{"$f":"前年度登録!I65","v":0},{"$f":"前年度登録!K65","v":0},{"$f":"前年度登録!BU65","v":"00"},{"$f":"前年度登録!R65","v":""},{"$f":"前年度登録!D65","v":0},null,"",{"$f":"IF(O63=\"\",\"\",HLOOKUP(O63,前年度登録!$AB$8:$BG$118,58,FALSE))","v":""},0,2,null,"",{"$f":"IF(T63=\"\",\"\",HLOOKUP(T63,前年度登録!$AB$8:$BG$118,58,FALSE))","v":""},0,2,null,"",{"$f":"IF(Y63=\"\",\"\",HLOOKUP(Y63,前年度登録!$AB$8:$BG$118,58,FALSE))","v":""},0,2,null,{"$f":"IF(AD63=\"\",\"\",IF(I63=1,VLOOKUP(AD63,男子種目コード!$A$1:$B$33,2,FALSE),IF(I63=2,VLOOKUP(AD63,女子種目コード!$A$36:$B$66,2,FALSE))))","v":""},null,0,2,null,{"$f":"IF(AI63=\"\",\"\",IF(I63=1,VLOOKUP(AI63,男子種目コード!$A$1:$B$33,2,FALSE),IF(I63=2,VLOOKUP(AI63,女子種目コード!$A$36:$B$66,2,FALSE))))","v":""},null,0,2,null,null,null,null,null,null,null,null,null,null,null,null,null,null,null,"",0,0,0,0,null,null,null,null,0,"","",""]
[false,{"$f":"前年度登録!Q66","v":""},false,null,{"$f":"前年度登録!E66","v":0},{"$f":"前年度登録!BR66","v":""},{"$f":"前年度登録!Z66","v":""},"",{"$f":"前年度登録!O66","v":""},{"$f":"前年度登録!I66","v":0},{"$f":"前年度登録!K66","v":0},{"$f":"前年度登録!BU66","v":"00"},{"$f":"前年度登録!R66","v":""},{"$f":"前年度登録!D66","v":0},null,"",{"$f":"IF(O64=\"\",\"\",HLOOKUP(O64,前年度登録!$AB$8:$BG$118,59,FALSE))","v":""},0,2,null,"",{"$f":"IF(T64=\"\",\"\",HLOOKUP(T64,前年度登録!$AB$8:$BG$118,59,FALSE))","v":""},0,2,null,"",{"$f":"IF(Y64=\"\",\"\",HLOOKUP(Y64,前年度登録!$AB$8:$BG$118,59,FALSE))","v":""},0,2,null,{"$f":"IF(AD64=\"\",\"\",IF(I64=1,VLOOKUP(AD64,男子種目コード!$A$1:$B$33,2,FALSE),IF(I64=2,VLOOKUP(AD64,女子種目コード!$A$36:$B$66,2,FALSE))))","v":""},null,0,2,null,{"$f":"IF(AI64=\"\",\"\",IF(I64=1,VLOOKUP(AI64,男子種目コード!$A$1:$B$33,2,FALSE),IF(I64=2,VLOOKUP(AI64,女子種目コード!$A$36:$B$66,2,FALSE))))","v":""},null,0,2,null,null,null,null,null,null,null,null,null,null,null,null,null,null,null,"",0,0,0,0,null,null,null,null,0,"","",""]
[false,{"$f":"前年度登録!Q67","v":""},false,null,{"$f":"前年度登録!E67","v":0},{"$f":"前年度登録!BR67","v":""},{"$f":"前年度登録!Z67","v":""},"",{"$f":"前年度登録!O67","v":""},{"$f":"前年度登録!I67","v":0},{"$f":"前年度登録!K67","v":0},{"$f":"前年度登録!BU67","v":"00"},{"$f":"前年度登録!R67","v":""},{"$f":"前年度登録!D67","v":0},null,"",{"$f":"IF(O65=\"\",\"\",HLOOKUP(O65,前年度登録!$AB$8:$BG$118,60,FALSE))","v":""},0,2,null,"",{"$f":"IF(T65=\"\",\"\",HLOOKUP(T65,前年度登録!$AB$8:$BG$118,60,FALSE))","v":""},0,2,null,"",{"$f":"IF(Y65=\"\",\"\",HLOOKUP(Y65,前年度登録!$AB$8:$BG$118,60,FALSE))","v":""},0,2,null,{"$f":"IF(AD65=\"\",\"\",IF(I65=1,VLOOKUP(AD65,男子種目コード!$A$1:$B$33,2,FALSE),IF(I65=2,VLOOKUP(AD65,女子種目コード!$A$36:$B$66,2,FALSE))))","v":""},null,0,2,null,{"$f":"IF(AI65=\"\",\"\",IF(I65=1,VLOOKUP(AI65,男子種目コード!$A$1:$B$33,2,FALSE),IF(I65=2,VLOOKUP(AI65,女子種目コード!$A$36:$B$66,2,FALSE))))","v":""},null,0,2,null,null,null,null,null,null,null,null,null,null,null,null,null,null,null,"",0,0,0,0,null,null,null,null,0,"","",""]
[false,{"$f":"前年度登録!Q68","v":""},false,null,{"$f":"前年度登録!E68","v":0},{"$f":"前年度登録!BR68","v":""},{"$f":"前年度登録!Z68","v":""},"",{"$f":"前年度登録!O68","v":""},{"$f":"前年度登録!I68","v":0},{"$f":"前年度登録!K68","v":0},{"$f":"前年度登録!BU68","v":"00"},{"$f":"前年度登録!R68","v":""},{"$f":"前年度登録!D68","v":0},null,"",{"$f":"IF(O66=\"\",\"\",HLOOKUP(O66,前年度登録!$AB$8:$BG$118,61,FALSE))","v":""},0,2,null,"",{"$f":"IF(T66=\"\",\"\",HLOOKUP(T66,前年度登録!$AB$8:$BG$118,61,FALSE))","v":""},0,2,null,"",{"$f":"IF(Y66=\"\",\"\",HLOOKUP(Y66,前年度登録!$AB$8:$BG$118,61,FALSE))","v":""},0,2,null,{"$f":"IF(AD66=\"\",\"\",IF(I66=1,VLOOKUP(AD66,男子種目コード!$A$1:$B$33,2,FALSE),IF(I66=2,VLOOKUP(AD66,女子種目コード!$A$36:$B$66,2,FALSE))))","v":""},null,0,2,null,{"$f":"IF(AI66=\"\",\"\",IF(I66=1,VLOOKUP(AI66,男子種目コード!$A$1:$B$33,2,FALSE),IF(I66=2,VLOOKUP(AI66,女子種目コード!$A$36:$B$66,2,FALSE))))","v":""},null,0,2,null,null,null,null,null,null,null,null,null,null,null,null,null,null,null,"",0,0,0,0,null,null,null,null,0,"","",""]
[false,{"$f":"前年度登録!Q69","v":""},false,null,{"$f":"前年度登録!E69","v":0},{"$f":"前年度登録!BR69","v":""},{"$f":"前年度登録!Z69","v":""},"",{"$f":"前年度登録!O69","v":""},{"$f":"前年度登録!I69","v":0},{"$f":"前年度登録!K69","v":0},{"$f":"前年度登録!BU69","v":"00"},{"$f":"前年度登録!R69","v":""},{"$f":"前年度登録!D69","v":0},null,"",{"$f":"IF(O67=\"\",\"\",HLOOKUP(O67,前年度登録!$AB$8:$BG$118,62,FALSE))","v":""},0,2,null,"",{"$f":"IF(T67=\"\",\"\",HLOOKUP(T67,前年度登録!$AB$8:$BG$118,62,FALSE))","v":""},0,2,null,"",{"$f":"IF(Y67=\"\",\"\",HLOOKUP(Y67,前年度登録!$AB$8:$BG$118,62,FALSE))","v":""},0,2,null,{"$f":"IF(AD67=\"\",\"\",IF(I67=1,VLOOKUP(AD67,男子種目コード!$A$1:$B$33,2,FALSE),IF(I67=2,VLOOKUP(AD67,女子種目コード!$A$36:$B$66,2,FALSE))))","v":""},null,0,2,null,{"$f":"IF(AI67=\"\",\"\",IF(I67=1,VLOOKUP(AI67,男子種目コード!$A$1:$B$33,2,FALSE),IF(I67=2,VLOOKUP(AI67,女子種目コード!$A$36:$B$66,2,FALSE))))","v":""},null,0,2,null,null,null,null,null,null,null,null,null,null,null,null,null,null,null,"",0,0,0,0,null,null,null,null,0,"","",""]
[false,{"$f":"前年度登録!Q70","v":""},false,null,{"$f":"前年度登録!E70","v":0},{"$f":"前年度登録!BR70","v":""},{"$f":"前年度登録!Z70","v":""},"",{"$f":"前年度登録!O70","v":""},{"$f":"前年度登録!I70","v":0},{"$f":"前年度登録!K70","v":0},{"$f":"前年度登録!BU70","v":"00"},{"$f":"前年度登録!R70","v":""},{"$f":"前年度登録!D70","v":0},null,"",{"$f":"IF(O68=\"\",\"\",HLOOKUP(O68,前年度登録!$AB$8:$BG$118,63,FALSE))","v":""},0,2,null,"",{"$f":"IF(T68=\"\",\"\",HLOOKUP(T68,前年度登録!$AB$8:$BG$118,63,FALSE))","v":""},0,2,null,"",{"$f":"IF(Y68=\"\",\"\",HLOOKUP(Y68,前年度登録!$AB$8:$BG$118,63,FALSE))","v":""},0,2,null,{"$f":"IF(AD68=\"\",\"\",IF(I68=1,VLOOKUP(AD68,男子種目コード!$A$1:$B$33,2,FALSE),IF(I68=2,VLOOKUP(AD68,女子種目コード!$A$36:$B$66,2,FALSE))))","v":""},null,0,2,null,{"$f":"IF(AI68=\"\",\"\",IF(I68=1,VLOOKUP(AI68,男子種目コード!$A$1:$B$33,2,FALSE),IF(I68=2,VLOOKUP(AI68,女子種目コード!$A$36:$B$66,2,FALSE))))","v":""},null,0,2,null,null,null,null,null,null,null,null,null,null,null,null,null,null,null,"",0,0,0,0,null,null,null,null,0,"","",""]
[false,{"$f":"前年度登録!Q71","v":""},false,null,{"$f":"前年度登録!E71","v":0},{"$f":"前年度登録!BR71","v":""},{"$f":"前年度登録!Z71","v":""},"",{"$f":"前年度登録!O71","v":""},{"$f":"前年度登録!I71","v":0},{"$f":"前年度登録!K71","v":0},{"$f":"前年度登録!BU71","v":"00"},{"$f":"前年度登録!R71","v":""},{"$f":"前年度登録!D71","v":0},null,"",{"$f":"IF(O69=\"\",\"\",HLOOKUP(O69,前年度登録!$AB$8:$BG$118,64,FALSE))","v":""},0,2,null,"",{"$f":"IF(T69=\"\",\"\",HLOOKUP(T69,前年度登録!$AB$8:$BG$118,64,FALSE))","v":""},0,2,null,"",{"$f":"IF(Y69=\"\",\"\",HLOOKUP(Y69,前年度登録!$AB$8:$BG$118,64,FALSE))","v":""},0,2,null,{"$f":"IF(AD69=\"\",\"\",IF(I69=1,VLOOKUP(AD69,男子種目コード!$A$1:$B$33,2,FALSE),IF(I69=2,VLOOKUP(AD69,女子種目コード!$A$36:$B$66,2,FALSE))))","v":""},null,0,2,null,{"$f":"IF(AI69=\"\",\"\",IF(I69=1,VLOOKUP(AI69,男子種目コード!$A$1:$B$33,2,FALSE),IF(I69=2,VLOOKUP(AI69,女子種目コード!$A$36:$B$66,2,FALSE))))","v":""},null,0,2,null,null,null,null,null,null,null,null,null,null,null,null,null,null,null,"",0,0,0,0,null,null,null,null,0,"","",""]
[false,{"$f":"前年度登録!Q72","v":""},false,null,{"$f":"前年度登録!E72","v":0},{"$f":"前年度登録!BR72","v":""},{"$f":"前年度登録!Z72","v":""},"",{"$f":"前年度登録!O72","v":""},{"$f":"前年度登録!I72","v":0},{"$f":"前年度登録!K72","v":0},{"$f":"前年度登録!BU72","v":"00"},{"$f":"前年度登録!R72","v":""},{"$f":"前年度登録!D72","v":0},null,"",{"$f":"IF(O70=\"\",\"\",HLOOKUP(O70,前年度登録!$AB$8:$BG$118,65,FALSE))","v":""},0,2,null,"",{"$f":"IF(T70=\"\",\"\",HLOOKUP(T70,前年度登録!$AB$8:$BG$118,65,FALSE))","v":""},0,2,null,"",{"$f":"IF(Y70=\"\",\"\",HLOOKUP(Y70,前年度登録!$AB$8:$BG$118,65,FALSE))","v":""},0,2,null,{"$f":"IF(AD70=\"\",\"\",IF(I70=1,VLOOKUP(AD70,男子種目コード!$A$1:$B$33,2,FALSE),IF(I70=2,VLOOKUP(AD70,女子種目コード!$A$36:$B$66,2,FALSE))))","v":""},null,0,2,null,{"$f":"IF(AI70=\"\",\"\",IF(I70=1,VLOOKUP(AI70,男子種目コード!$A$1:$B$33,2,FALSE),IF(I70=2,VLOOKUP(AI70,女子種目コード!$A$36:$B$66,2,FALSE))))","v":""},null,0,2,null,null,null,null,null,null,null,null,null,null,null,null,null,null,null,"",0,0,0,0,null,null,null,null,0,"","",""]
[false,{"$f":"前年度登録!Q73","v":""},false,null,{"$f":"前年度登録!E73","v":0},{"$f":"前年度登録!BR73","v":""},{"$f":"前年度登録!Z73","v":""},{"$f":"F71","v":""},{"$f":"前年度登録!O73","v":""},{"$f":"前年度登録!I73","v":0},{"$f":"前年度登録!K73","v":0},{"$f":"前年度登録!BU73","v":"00"},{"$f":"前年度登録!R73","v":""},{"$f":"前年度登録!D73","v":0},null,"",{"$f":"IF(O71=\"\",\"\",HLOOKUP(O71,前年度登録!$AB$8:$BG$118,66,FALSE))","v":""},0,2,null,"",{"$f":"IF(T71=\"\",\"\",HLOOKUP(T71,前年度登録!$AB$8:$BG$118,66,FALSE))","v":""},0,2,null,"",{"$f":"IF(Y71=\"\",\"\",HLOOKUP(Y71,前年度登録!$AB$8:$BG$118,66,FALSE))","v":""},0,2,null,{"$f":"IF(AD71=\"\",\"\",IF(I71=1,VLOOKUP(AD71,男子種目コード!$A$1:$B$33,2,FALSE),IF(I71=2,VLOOKUP(AD71,女子種目コード!$A$36:$B$66,2,FALSE))))","v":""},null,0,2,null,{"$f":"IF(AI71=\"\",\"\",IF(I71=1,VLOOKUP(AI71,男子種目コード!$A$1:$B$33,2,FALSE),IF(I71=2,VLOOKUP(AI71,女子種目コード!$A$36:$B$66,2,FALSE))))","v":""},null,0,2,null,null,null,null,null,null,null,null,null,null,null,null,null,null,null,"",{"$f":"IF(OR(BC71=1,T71=\"\"),0,1)","v":0},{"$f":"IF(OR(BC71=1,BD71=1,Y71=\"\"),0,1)","v":0},{"$f":"IF(OR(BC71=1,BD71=1,BE71=1,AD71=\"\"),0,1)","v":0},{"$f":"IF(OR(BC71=1,BD71=1,BE71=1,BF71=1,AI71=\"\"),0,1)","v":0},null,null,null,null,0,"","",{"$f":"IF(I71=2,BM71,\"\")","v":""}]
[{"$f":"IF(I72=1,IF(AD72=\"4×100\",1),IF(AD72=\"4×100\",2))","v":false},{"$f":"前年度登録!Q74","v":""},{"$f":"IF(I72=1,IF(AI72=\"4×400\",1),IF(AI72=\"4×400\",2))","v":false},null,{"$f":"前年度登録!E74","v":0},{"$f":"前年度登録!BR74","v":""},{"$f":"前年度登録!Z74","v":""},"",{"$f":"前年度登録!O74","v":""},{"$f":"前年度登録!I74","v":0},{"$f":"前年度登録!K74","v":0},{"$f":"前年度登録!BU74","v":"00"},{"$f":"前年度登録!R74","v":""},{"$f":"前年度登録!D74","v":0},null,{"$f":"IF(O72=\"\",\"\",IF(I72=1,VLOOKUP(O72,$AS$7:$AU$24,3,FALSE),IF(I72=2,VLOOKUP(O72,$AS$26:$AU$42,3,FALSE))))","v":""},{"$f":"IF(O72=\"\",\"\",HLOOKUP(O72,前年度登録!$AB$8:$BG$118,67,FALSE))","v":""},0,2,null,{"$f":"IF(T72=\"\",\"\",IF(I72=1,VLOOKUP(T72,$AS$7:$AU$24,3,FALSE),IF(I72=2,VLOOKUP(T72,$AS$26:$AU$42,3,FALSE))))","v":""},{"$f":"IF(T72=\"\",\"\",HLOOKUP(T72,前年度登録!$AB$8:$BG$118,67,FALSE))","v":""},0,2,null,{"$f":"IF(Y72=\"\",\"\",IF(I72=1,VLOOKUP(Y72,$AS$7:$AU$24,3,FALSE),IF(I72=2,VLOOKUP(Y72,$AS$26:$AU$42,3,FALSE))))","v":""},{"$f":"IF(Y72=\"\",\"\",HLOOKUP(Y72,前年度登録!$AB$8:$BG$118,67,FALSE))","v":""},0,2,null,{"$f":"IF(AD72=\"\",\"\",IF(I72=1,VLOOKUP(AD72,男子種目コード!$A$1:$B$33,2,FALSE),IF(I72=2,VLOOKUP(AD72,女子種目コード!$A$36:$B$66,2,FALSE))))","v":""},null,0,2,null,{"$f":"IF(AI72=\"\",\"\",IF(I72=1,VLOOKUP(AI72,男子種目コード!$A$1:$B$33,2,FALSE),IF(I72=2,VLOOKUP(AI72,女子種目コード!$A$36:$B$66,2,FALSE))))","v":""},null,0,2,null,null,null,null,null,null,null,null,null,null,null,null,null,null,null,{"$f":"IF(O72=\"\",\"\",1)","v":""},0,0,0,0,null,null,null,null,{"$f":"COUNT(P72,U72,Z72,AE72,AJ72)","v":0},{"$f":"IF(I72=1,BL72,\"\")","v":""},{"$f":"IF(I72=2,BL72,\"\")","v":""},""]
[false,{"$f":"前年度登録!Q75","v":""},false,null,{"$f":"前年度登録!E75","v":0},{"$f":"前年度登録!BR75","v":""},{"$f":"前年度登録!Z75","v":""},"",{"$f":"前年度登録!O75","v":""},{"$f":"前年度登録!I75","v":0},{"$f":"前年度登録!K75","v":0},{"$f":"前年度登録!BU75","v":"00"},{"$f":"前年度登録!R75","v":""},{"$f":"前年度登録!D75","v":0},null,"",{"$f":"IF(O73=\"\",\"\",HLOOKUP(O73,前年度登録!$AB$8:$BG$118,68,FALSE))","v":""},0,2,null,"",{"$f":"IF(T73=\"\",\"\",HLOOKUP(T73,前年度登録!$AB$8:$BG$118,68,FALSE))","v":""},0,2,null,"",{"$f":"IF(Y73=\"\",\"\",HLOOKUP(Y73,前年度登録!$AB$8:$BG$118,68,FALSE))","v":""},0,2,null,{"$f":"IF(AD73=\"\",\"\",IF(I73=1,VLOOKUP(AD73,男子種目コード!$A$1:$B$33,2,FALSE),IF(I73=2,VLOOKUP(AD73,女子種目コード!$A$36:$B$66,2,FALSE))))","v":""},null,0,2,null,{"$f":"IF(AI73=\"\",\"\",IF(I73=1,VLOOKUP(AI73,男子種目コード!$A$1:$B$33,2,FALSE),IF(I73=2,VLOOKUP(AI73,女子種目コード!$A$36:$B$66,2,FALSE))))","v":""},null,0,2,null,null,null,null,null,null,null,null,null,null,null,null,null,null,null,"",0,0,0,0,null,null,null,null,0,"","",""]
[false,{"$f":"前年度登録!Q76","v":""},false,null,{"$f":"前年度登録!E76","v":0},{"$f":"前年度登録!BR76","v":""},{"$f":"前年度登録!Z76","v":""},"",{"$f":"前年度登録!O76","v":""},{"$f":"前年度登録!I76","v":0},{"$f":"前年度登録!K76","v":0},{"$f":"前年度登録!BU76","v":"00"},{"$f":"前年度登録!R76","v":""},{"$f":"前年度登録!D76","v":0},null,"",{"$f":"IF(O74=\"\",\"\",HLOOKUP(O74,前年度登録!$AB$8:$BG$118,69,FALSE))","v":""},0,2,null,"",{"$f":"IF(T74=\"\",\"\",HLOOKUP(T74,前年度登録!$AB$8:$BG$118,69,FALSE))","v":""},0,2,null,"",{"$f":"IF(Y74=\"\",\"\",HLOOKUP(Y74,前年度登録!$AB$8:$BG$118,69,FALSE))","v":""},0,2,null,{"$f":"IF(AD74=\"\",\"\",IF(I74=1,VLOOKUP(AD74,男子種目コード!$A$1:$B$33,2,FALSE),IF(I74=2,VLOOKUP(AD74,女子種目コード!$A$36:$B$66,2,FALSE))))","v":""},null,0,2,null,{"$f":"IF(AI74=\"\",\"\",IF(I74=1,VLOOKUP(AI74,男子種目コード!$A$1:$B$33,2,FALSE),IF(I74=2,VLOOKUP(AI74,女子種目コード!$A$36:$B$66,2,FALSE))))","v":""},null,0,2,null,null,null,null,null,null,null,null,null,null,null,null,null,null,null,"",0,0,0,0,null,null,null,null,0,"","",""]
[false,{"$f":"前年度登録!Q77","v":""},false,null,{"$f":"前年度登録!E77","v":0},{"$f":"前年度登録!BR77","v":""},{"$f":"前年度登録!Z77","v":""},"",{"$f":"前年度登録!O77","v":""},{"$f":"前年度登録!I77","v":0},{"$f":"前年度登録!K77","v":0},{"$f":"前年度登録!BU77","v":"00"},{"$f":"前年度登録!R77","v":""},{"$f":"前年度登録!D77","v":0},null,"",{"$f":"IF(O75=\"\",\"\",HLOOKUP(O75,前年度登録!$AB$8:$BG$118,70,FALSE))","v":""},0,2,null,"",{"$f":"IF(T75=\"\",\"\",HLOOKUP(T75,前年度登録!$AB$8:$BG$118,70,FALSE))","v":""},0,2,null,"",{"$f":"IF(Y75=\"\",\"\",HLOOKUP(Y75,前年度登録!$AB$8:$BG$118,70,FALSE))","v":""},0,2,null,{"$f":"IF(AD75=\"\",\"\",IF(I75=1,VLOOKUP(AD75,男子種目コード!$A$1:$B$33,2,FALSE),IF(I75=2,VLOOKUP(AD75,女子種目コード!$A$36:$B$66,2,FALSE))))","v":""},null,0,2,null,{"$f":"IF(AI75=\"\",\"\",IF(I75=1,VLOOKUP(AI75,男子種目コード!$A$1:$B$33,2,FALSE),IF(I75=2,VLOOKUP(AI75,女子種目コード!$A$36:$B$66,2,FALSE))))","v":""},null,0,2,null,null,null,null,null,null,null,null,null,null,null,null,null,null,null,"",0,0,0,0,null,null,null,null,0,"","",""]
[false,{"$f":"前年度登録!Q78","v":""},false,null,{"$f":"前年度登録!E78","v":0},{"$f":"前年度登録!BR78","v":""},{"$f":"前年度登録!Z78","v":""},"",{"$f":"前年度登録!O78","v":""},{"$f":"前年度登録!I78","v":0},{"$f":"前年度登録!K78","v":0},{"$f":"前年度登録!BU78","v":"00"},{"$f":"前年度登録!R78","v":""},{"$f":"前年度登録!D78","v":0},null,"",{"$f":"IF(O76=\"\",\"\",HLOOKUP(O76,前年度登録!$AB$8:$BG$118,71,FALSE))","v":""},0,2,null,"",{"$f":"IF(T76=\"\",\"\",HLOOKUP(T76,前年度登録!$AB$8:$BG$118,71,FALSE))","v":""},0,2,null,"",{"$f":"IF(Y76=\"\",\"\",HLOOKUP(Y76,前年度登録!$AB$8:$BG$118,71,FALSE))","v":""},0,2,null,{"$f":"IF(AD76=\"\",\"\",IF(I76=1,VLOOKUP(AD76,男子種目コード!$A$1:$B$33,2,FALSE),IF(I76=2,VLOOKUP(AD76,女子種目コード!$A$36:$B$66,2,FALSE))))","v":""},null,0,2,null,{"$f":"IF(AI76=\"\",\"\",IF(I76=1,VLOOKUP(AI76,男子種目コード!$A$1:$B$33,2,FALSE),IF(I76=2,VLOOKUP(AI76,女子種目コード!$A$36:$B$66,2,FALSE))))","v":""},null,0,2,null,null,null,null,null,null,null,null,null,null,null,null,null,null,null,"",0,0,0,0,null,null,null,null,0,"","",""]
[false,{"$f":"前年度登録!Q79","v":""},false,null,{"$f":"前年度登録!E79","v":0},{"$f":"前年度登録!BR79","v":""},{"$f":"前年度登録!Z79","v":""},"",{"$f":"前年度登録!O79","v":""},{"$f":"前年度登録!I79","v":0},{"$f":"前年度登録!K79","v":0},{"$f":"前年度登録!BU79","v":"00"},{"$f":"前年度登録!R79","v":""},{"$f":"前年度登録!D79","v":0},null,"",{"$f":"IF(O77=\"\",\"\",HLOOKUP(O77,前年度登録!$AB$8:$BG$118,72,FALSE))","v":""},0,2,null,"",{"$f":"IF(T77=\"\",\"\",HLOOKUP(T77,前年度登録!$AB$8:$BG$118,72,FALSE))","v":""},0,2,null,"",{"$f":"IF(Y77=\"\",\"\",HLOOKUP(Y77,前年度登録!$AB$8:$BG$118,72,FALSE))","v":""},0,2,null,{"$f":"IF(AD77=\"\",\"\",IF(I77=1,VLOOKUP(AD77,男子種目コード!$A$1:$B$33,2,FALSE),IF(I77=2,VLOOKUP(AD77,女子種目コード!$A$36:$B$66,2,FALSE))))","v":""},null,0,2,null,{"$f":"IF(AI77=\"\",\"\",IF(I77=1,VLOOKUP(AI77,男子種目コード!$A$1:$B$33,2,FALSE),IF(I77=2,VLOOKUP(AI77,女子種目コード!$A$36:$B$66,2,FALSE))))","v":""},null,0,2,null,null,null,null,null,null,null,null,null,null,null,null,null,null,null,"",0,0,0,0,null,null,null,null,0,"","",""]
[false,{"$f":"前年度登録!Q80","v":""},false,null,{"$f":"前年度登録!E80","v":0},{"$f":"前年度登録!BR80","v":""},{"$f":"前年度登録!Z80","v":""},"",{"$f":"前年度登録!O80","v":""},{"$f":"前年度登録!I80","v":0},{"$f":"前年度登録!K80","v":0},{"$f":"前年度登録!BU80","v":"00"},{"$f":"前年度登録!R80","v":""},{"$f":"前年度登録!D80","v":0},null,"",{"$f":"IF(O78=\"\",\"\",HLOOKUP(O78,前年度登録!$AB$8:$BG$118,73,FALSE))","v":""},0,2,null,"",{"$f":"IF(T78=\"\",\"\",HLOOKUP(T78,前年度登録!$AB$8:$BG$118,73,FALSE))","v":""},0,2,null,"",{"$f":"IF(Y78=\"\",\"\",HLOOKUP(Y78,前年度登録!$AB$8:$BG$118,73,FALSE))","v":""},0,2,null,{"$f":"IF(AD78=\"\",\"\",IF(I78=1,VLOOKUP(AD78,男子種目コード!$A$1:$B$33,2,FALSE),IF(I78=2,VLOOKUP(AD78,女子種目コード!$A$36:$B$66,2,FALSE))))","v":""},null,0,2,null,{"$f":"IF(AI78=\"\",\"\",IF(I78=1,VLOOKUP(AI78,男子種目コード!$A$1:$B$33,2,FALSE),IF(I78=2,VLOOKUP(AI78,女子種目コード!$A$36:$B$66,2,FALSE))))","v":""},null,0,2,null,null,null,null,null,null,null,null,null,null,null,null,null,null,null,"",0,0,0,0,null,null,null,null,0,"","",""]
[false,{"$f":"前年度登録!Q81","v":""},false,null,{"$f":"前年度登録!E81","v":0},{"$f":"前年度登録!BR81","v":""},{"$f":"前年度登録!Z81","v":""},"",{"$f":"前年度登録!O81","v":""},{"$f":"前年度登録!I81","v":0},{"$f":"前年度登録!K81","v":0},{"$f":"前年度登録!BU81","v":"00"},{"$f":"前年度登録!R81","v":""},{"$f":"前年度登録!D81","v":0},null,"",{"$f":"IF(O79=\"\",\"\",HLOOKUP(O79,前年度登録!$AB$8:$BG$118,74,FALSE))","v":""},0,2,null,"",{"$f":"IF(T79=\"\",\"\",HLOOKUP(T79,前年度登録!$AB$8:$BG$118,74,FALSE))","v":""},0,2,null,"",{"$f":"IF(Y79=\"\",\"\",HLOOKUP(Y79,前年度登録!$AB$8:$BG$118,74,FALSE))","v":""},0,2,null,{"$f":"IF(AD79=\"\",\"\",IF(I79=1,VLOOKUP(AD79,男子種目コード!$A$1:$B$33,2,FALSE),IF(I79=2,VLOOKUP(AD79,女子種目コード!$A$36:$B$66,2,FALSE))))","v":""},null,0,2,null,{"$f":"IF(AI79=\"\",\"\",IF(I79=1,VLOOKUP(AI79,男子種目コード!$A$1:$B$33,2,FALSE),IF(I79=2,VLOOKUP(AI79,女子種目コード!$A$36:$B$66,2,FALSE))))","v":""},null,0,2,null,null,null,null,null,null,null,null,null,null,null,null,null,null,null,"",0,0,0,0,null,null,null,null,0,"","",""]
[false,{"$f":"前年度登録!Q82","v":""},false,null,{"$f":"前年度登録!E82","v":0},{"$f":"前年度登録!BR82","v":""},{"$f":"前年度登録!Z82","v":""},"",{"$f":"前年度登録!O82","v":""},{"$f":"前年度登録!I82","v":0},{"$f":"前年度登録!K82","v":0},{"$f":"前年度登録!BU82","v":"00"},{"$f":"前年度登録!R82","v":""},{"$f":"前年度登録!D82","v":0},null,"",{"$f":"IF(O80=\"\",\"\",HLOOKUP(O80,前年度登録!$AB$8:$BG$118,75,FALSE))","v":""},0,2,null,"",{"$f":"IF(T80=\"\",\"\",HLOOKUP(T80,前年度登録!$AB$8:$BG$118,75,FALSE))","v":""},0,2,null,"",{"$f":"IF(Y80=\"\",\"\",HLOOKUP(Y80,前年度登録!$AB$8:$BG$118,75,FALSE))","v":""},0,2,null,{"$f":"IF(AD80=\"\",\"\",IF(I80=1,VLOOKUP(AD80,男子種目コード!$A$1:$B$33,2,FALSE),IF(I80=2,VLOOKUP(AD80,女子種目コード!$A$36:$B$66,2,FALSE))))","v":""},null,0,2,null,{"$f":"IF(AI80=\"\",\"\",IF(I80=1,VLOOKUP(AI80,男子種目コード!$A$1:$B$33,2,FALSE),IF(I80=2,VLOOKUP(AI80,女子種目コード!$A$36:$B$66,2,FALSE))))","v":""},null,0,2,null,null,null,null,null,null,null,null,null,null,null,null,null,null,null,"",0,0,0,0,null,null,null,null,0,"","",""]
[false,{"$f":"前年度登録!Q83","v":""},false,null,{"$f":"前年度登録!E83","v":0},{"$f":"前年度登録!BR83","v":""},{"$f":"前年度登録!Z83","v":""},"",{"$f":"前年度登録!O83","v":""},{"$f":"前年度登録!I83","v":0},{"$f":"前年度登録!K83","v":0},{"$f":"前年度登録!BU83","v":"00"},{"$f":"前年度登録!R83","v":""},{"$f":"前年度登録!D83","v":0},null,"",{"$f":"IF(O81=\"\",\"\",HLOOKUP(O81,前年度登録!$AB$8:$BG$118,76,FALSE))","v":""},0,2,null,"",{"$f":"IF(T81=\"\",\"\",HLOOKUP(T81,前年度登録!$AB$8:$BG$118,76,FALSE))","v":""},0,2,null,"",{"$f":"IF(Y81=\"\",\"\",HLOOKUP(Y81,前年度登録!$AB$8:$BG$118,76,FALSE))","v":""},0,2,null,{"$f":"IF(AD81=\"\",\"\",IF(I81=1,VLOOKUP(AD81,男子種目コード!$A$1:$B$33,2,FALSE),IF(I81=2,VLOOKUP(AD81,女子種目コード!$A$36:$B$66,2,FALSE))))","v":""},null,0,2,null,{"$f":"IF(AI81=\"\",\"\",IF(I81=1,VLOOKUP(AI81,男子種目コード!$A$1:$B$33,2,FALSE),IF(I81=2,VLOOKUP(AI81,女子種目コード!$A$36:$B$66,2,FALSE))))","v":""},null,0,2,null,null,null,null,null,null,null,null,null,null,null,null,null,null,null,"",0,0,0,0,null,null,null,null,0,"","",""]
[false,{"$f":"前年度登録!Q84","v":""},false,null,{"$f":"前年度登録!E84","v":0},{"$f":"前年度登録!BR84","v":""},{"$f":"前年度登録!Z84","v":""},"",{"$f":"前年度登録!O84","v":""},{"$f":"前年度登録!I84","v":0},{"$f":"前年度登録!K84","v":0},{"$f":"前年度登録!BU84","v":"00"},{"$f":"前年度登録!R84","v":""},{"$f":"前年度登録!D84","v":0},null,"",{"$f":"IF(O82=\"\",\"\",HLOOKUP(O82,前年度登録!$AB$8:$BG$118,77,FALSE))","v":""},0,2,null,"",{"$f":"IF(T82=\"\",\"\",HLOOKUP(T82,前年度登録!$AB$8:$BG$118,77,FALSE))","v":""},0,2,null,"",{"$f":"IF(Y82=\"\",\"\",HLOOKUP(Y82,前年度登録!$AB$8:$BG$118,77,FALSE))","v":""},0,2,null,{"$f":"IF(AD82=\"\",\"\",IF(I82=1,VLOOKUP(AD82,男子種目コード!$A$1:$B$33,2,FALSE),IF(I82=2,VLOOKUP(AD82,女子種目コード!$A$36:$B$66,2,FALSE))))","v":""},null,0,2,null,{"$f":"IF(AI82=\"\",\"\",IF(I82=1,VLOOKUP(AI82,男子種目コード!$A$1:$B$33,2,FALSE),IF(I82=2,VLOOKUP(AI82,女子種目コード!$A$36:$B$66,2,FALSE))))","v":""},null,0,2,null,null,null,null,null,null,null,null,null,null,null,null,null,null,null,"",0,0,0,0,null,null,null,null,0,"","",""]
[false,{"$f":"前年度登録!Q85","v":""},false,null,{"$f":"前年度登録!E85","v":0},{"$f":"前年度登録!BR85","v":""},{"$f":"前年度登録!Z85","v":""},"",{"$f":"前年度登録!O85","v":""},{"$f":"前年度登録!I85","v":0},{"$f":"前年度登録!K85","v":0},{"$f":"前年度登録!BU85","v":"00"},{"$f":"前年度登録!R85","v":""},{"$f":"前年度登録!D85","v":0},null,"",{"$f":"IF(O83=\"\",\"\",HLOOKUP(O83,前年度登録!$AB$8:$BG$118,78,FALSE))","v":""},0,2,null,"",{"$f":"IF(T83=\"\",\"\",HLOOKUP(T83,前年度登録!$AB$8:$BG$118,78,FALSE))","v":""},0,2,null,"",{"$f":"IF(Y83=\"\",\"\",HLOOKUP(Y83,前年度登録!$AB$8:$BG$118,78,FALSE))","v":""},0,2,null,{"$f":"IF(AD83=\"\",\"\",IF(I83=1,VLOOKUP(AD83,男子種目コード!$A$1:$B$33,2,FALSE),IF(I83=2,VLOOKUP(AD83,女子種目コード!$A$36:$B$66,2,FALSE))))","v":""},null,0,2,null,{"$f":"IF(AI83=\"\",\"\",IF(I83=1,VLOOKUP(AI83,男子種目コード!$A$1:$B$33,2,FALSE),IF(I83=2,VLOOKUP(AI83,女子種目コード!$A$36:$B$66,2,FALSE))))","v":""},null,0,2,null,null,null,null,null,null,null,null,null,null,null,null,null,null,null,"",0,0,0,0,null,null,null,null,0,"","",""]
[false,{"$f":"前年度登録!Q86","v":""},false,null,{"$f":"前年度登録!E86","v":0},{"$f":"前年度登録!BR86","v":""},{"$f":"前年度登録!Z86","v":""},"",{"$f":"前年度登録!O86","v":""},{"$f":"前年度登録!I86","v":0},{"$f":"前年度登録!K86","v":0},{"$f":"前年度登録!BU86","v":"00"},{"$f":"前年度登録!R86","v":""},{"$f":"前年度登録!D86","v":0},null,"",{"$f":"IF(O84=\"\",\"\",HLOOKUP(O84,前年度登録!$AB$8:$BG$118,79,FALSE))","v":""},0,2,null,"",{"$f":"IF(T84=\"\",\"\",HLOOKUP(T84,前年度登録!$AB$8:$BG$118,79,FALSE))","v":""},0,2,null,"",{"$f":"IF(Y84=\"\",\"\",HLOOKUP(Y84,前年度登録!$AB$8:$BG$118,79,FALSE))","v":""},0,2,null,{"$f":"IF(AD84=\"\",\"\",IF(I84=1,VLOOKUP(AD84,男子種目コード!$A$1:$B$33,2,FALSE),IF(I84=2,VLOOKUP(AD84,女子種目コード!$A$36:$B$66,2,FALSE))))","v":""},null,0,2,null,{"$f":"IF(AI84=\"\",\"\",IF(I84=1,VLOOKUP(AI84,男子種目コード!$A$1:$B$33,2,FALSE),IF(I84=2,VLOOKUP(AI84,女子種目コード!$A$36:$B$66,2,FALSE))))","v":""},null,0,2,null,null,null,null,null,null,null,null,null,null,null,null,null,null,null,"",0,0,0,0,null,null,null,null,0,"","",""]
[false,{"$f":"前年度登録!Q87","v":""},false,null,{"$f":"前年度登録!E87","v":0},{"$f":"前年度登録!BR87","v":""},{"$f":"前年度登録!Z87","v":""},"",{"$f":"前年度登録!O87","v":""},{"$f":"前年度登録!I87","v":0},{"$f":"前年度登録!K87","v":0},{"$f":"前年度登録!BU87","v":"00"},{"$f":"前年度登録!R87","v":""},{"$f":"前年度登録!D87","v":0},null,"",{"$f":"IF(O85=\"\",\"\",HLOOKUP(O85,前年度登録!$AB$8:$BG$118,80,FALSE))","v":""},0,2,null,"",{"$f":"IF(T85=\"\",\"\",HLOOKUP(T85,前年度登録!$AB$8:$BG$118,80,FALSE))","v":""},0,2,null,"",{"$f":"IF(Y85=\"\",\"\",HLOOKUP(Y85,前年度登録!$AB$8:$BG$118,80,FALSE))","v":""},0,2,null,{"$f":"IF(AD85=\"\",\"\",IF(I85=1,VLOOKUP(AD85,男子種目コード!$A$1:$B$33,2,FALSE),IF(I85=2,VLOOKUP(AD85,女子種目コード!$A$36:$B$66,2,FALSE))))","v":""},null,0,2,null,{"$f":"IF(AI85=\"\",\"\",IF(I85=1,VLOOKUP(AI85,男子種目コード!$A$1:$B$33,2,FALSE),IF(I85=2,VLOOKUP(AI85,女子種目コード!$A$36:$B$66,2,FALSE))))","v":""},null,0,2,null,null,null,null,null,null,null,null,null,null,null,null,null,null,null,"",0,0,0,0,null,null,null,null,0,"","",""]
[false,{"$f":"前年度登録!Q88","v":""},false,null,{"$f":"前年度登録!E88","v":0},{"$f":"前年度登録!BR88","v":""},{"$f":"前年度登録!Z88","v":""},"",{"$f":"前年度登録!O88","v":""},{"$f":"前年度登録!I88","v":0},{"$f":"前年度登録!K88","v":0},{"$f":"前年度登録!BU88","v":"00"},{"$f":"前年度登録!R88","v":""},{"$f":"前年度登録!D88","v":0},null,"",{"$f":"IF(O86=\"\",\"\",HLOOKUP(O86,前年度登録!$AB$8:$BG$118,81,FALSE))","v":""},0,2,null,"",{"$f":"IF(T86=\"\",\"\",HLOOKUP(T86,前年度登録!$AB$8:$BG$118,81,FALSE))","v":""},0,2,null,"",{"$f":"IF(Y86=\"\",\"\",HLOOKUP(Y86,前年度登録!$AB$8:$BG$118,81,FALSE))","v":""},0,2,null,{"$f":"IF(AD86=\"\",\"\",IF(I86=1,VLOOKUP(AD86,男子種目コード!$A$1:$B$33,2,FALSE),IF(I86=2,VLOOKUP(AD86,女子種目コード!$A$36:$B$66,2,FALSE))))","v":""},null,0,2,null,{"$f":"IF(AI86=\"\",\"\",IF(I86=1,VLOOKUP(AI86,男子種目コード!$A$1:$B$33,2,FALSE),IF(I86=2,VLOOKUP(AI86,女子種目コード!$A$36:$B$66,2,FALSE))))","v":""},null,0,2,null,null,null,null,null,null,null,null,null,null,null,null,null,null,null,"",0,0,0,0,null,null,null,null,0,"","",""]
[false,{"$f":"前年度登録!Q89","v":""},false,null,{"$f":"前年度登録!E89","v":0},{"$f":"前年度登録!BR89","v":""},{"$f":"前年度登録!Z89","v":""},"",{"$f":"前年度登録!O89","v":""},{"$f":"前年度登録!I89","v":0},{"$f":"前年度登録!K89","v":0},{"$f":"前年度登録!BU89","v":"00"},{"$f":"前年度登録!R89","v":""},{"$f":"前年度登録!D89","v":0},null,"",{"$f":"IF(O87=\"\",\"\",HLOOKUP(O87,前年度登録!$AB$8:$BG$118,82,FALSE))","v":""},0,2,null,"",{"$f":"IF(T87=\"\",\"\",HLOOKUP(T87,前年度登録!$AB$8:$BG$118,82,FALSE))","v":""},0,2,null,"",{"$f":"IF(Y87=\"\",\"\",HLOOKUP(Y87,前年度登録!$AB$8:$BG$118,82,FALSE))","v":""},0,2,null,{"$f":"IF(AD87=\"\",\"\",IF(I87=1,VLOOKUP(AD87,男子種目コード!$A$1:$B$33,2,FALSE),IF(I87=2,VLOOKUP(AD87,女子種目コード!$A$36:$B$66,2,FALSE))))","v":""},null,0,2,null,{"$f":"IF(AI87=\"\",\"\",IF(I87=1,VLOOKUP(AI87,男子種目コード!$A$1:$B$33,2,FALSE),IF(I87=2,VLOOKUP(AI87,女子種目コード!$A$36:$B$66,2,FALSE))))","v":""},null,0,2,null,null,null,null,null,null,null,null,null,null,null,null,null,null,null,"",0,0,0,0,null,null,null,null,0,"","",""]
[false,{"$f":"前年度登録!Q90","v":""},false,null,{"$f":"前年度登録!E90","v":0},{"$f":"前年度登録!BR90","v":""},{"$f":"前年度登録!Z90","v":""},"",{"$f":"前年度登録!O90","v":""},{"$f":"前年度登録!I90","v":0},{"$f":"前年度登録!K90","v":0},{"$f":"前年度登録!BU90","v":"00"},{"$f":"前年度登録!R90","v":""},{"$f":"前年度登録!D90","v":0},null,"",{"$f":"IF(O88=\"\",\"\",HLOOKUP(O88,前年度登録!$AB$8:$BG$118,83,FALSE))","v":""},0,2,null,"",{"$f":"IF(T88=\"\",\"\",HLOOKUP(T88,前年度登録!$AB$8:$BG$118,83,FALSE))","v":""},0,2,null,"",{"$f":"IF(Y88=\"\",\"\",HLOOKUP(Y88,前年度登録!$AB$8:$BG$118,83,FALSE))","v":""},0,2,null,{"$f":"IF(AD88=\"\",\"\",IF(I88=1,VLOOKUP(AD88,男子種目コード!$A$1:$B$33,2,FALSE),IF(I88=2,VLOOKUP(AD88,女子種目コード!$A$36:$B$66,2,FALSE))))","v":""},null,0,2,null,{"$f":"IF(AI88=\"\",\"\",IF(I88=1,VLOOKUP(AI88,男子種目コード!$A$1:$B$33,2,FALSE),IF(I88=2,VLOOKUP(AI88,女子種目コード!$A$36:$B$66,2,FALSE))))","v":""},null,0,2,null,null,null,null,null,null,null,null,null,null,null,null,null,null,null,"",0,0,0,0,null,null,null,null,0,"","",""]
[false,{"$f":"前年度登録!Q91","v":""},false,null,{"$f":"前年度登録!E91","v":0},{"$f":"前年度登録!BR91","v":""},{"$f":"前年度登録!Z91","v":""},"",{"$f":"前年度登録!O91","v":""},{"$f":"前年度登録!I91","v":0},{"$f":"前年度登録!K91","v":0},{"$f":"前年度登録!BU91","v":"00"},{"$f":"前年度登録!R91","v":""},{"$f":"前年度登録!D91","v":0},null,"",{"$f":"IF(O89=\"\",\"\",HLOOKUP(O89,前年度登録!$AB$8:$BG$118,84,FALSE))","v":""},0,2,null,"",{"$f":"IF(T89=\"\",\"\",HLOOKUP(T89,前年度登録!$AB$8:$BG$118,84,FALSE))","v":""},0,2,null,"",{"$f":"IF(Y89=\"\",\"\",HLOOKUP(Y89,前年度登録!$AB$8:$BG$118,84,FALSE))","v":""},0,2,null,{"$f":"IF(AD89=\"\",\"\",IF(I89=1,VLOOKUP(AD89,男子種目コード!$A$1:$B$33,2,FALSE),IF(I89=2,VLOOKUP(AD89,女子種目コード!$A$36:$B$66,2,FALSE))))","v":""},null,0,2,null,{"$f":"IF(AI89=\"\",\"\",IF(I89=1,VLOOKUP(AI89,男子種目コード!$A$1:$B$33,2,FALSE),IF(I89=2,VLOOKUP(AI89,女子種目コード!$A$36:$B$66,2,FALSE))))","v":""},null,0,2,null,null,null,null,null,null,null,null,null,null,null,null,null,null,null,"",0,0,0,0,null,null,null,null,0,"","",""]
[false,{"$f":"前年度登録!Q92","v":""},false,null,{"$f":"前年度登録!E92","v":0},{"$f":"前年度登録!BR92","v":""},{"$f":"前年度登録!Z92","v":""},"",{"$f":"前年度登録!O92","v":""},{"$f":"前年度登録!I92","v":0},{"$f":"前年度登録!K92","v":0},{"$f":"前年度登録!BU92","v":"00"},{"$f":"前年度登録!R92","v":""},{"$f":"前年度登録!D92","v":0},null,"",{"$f":"IF(O90=\"\",\"\",HLOOKUP(O90,前年度登録!$AB$8:$BG$118,85,FALSE))","v":""},0,2,null,"",{"$f":"IF(T90=\"\",\"\",HLOOKUP(T90,前年度登録!$AB$8:$BG$118,85,FALSE))","v":""},0,2,null,"",{"$f":"IF(Y90=\"\",\"\",HLOOKUP(Y90,前年度登録!$AB$8:$BG$118,85,FALSE))","v":""},0,2,null,{"$f":"IF(AD90=\"\",\"\",IF(I90=1,VLOOKUP(AD90,男子種目コード!$A$1:$B$33,2,FALSE),IF(I90=2,VLOOKUP(AD90,女子種目コード!$A$36:$B$66,2,FALSE))))","v":""},null,0,2,null,{"$f":"IF(AI90=\"\",\"\",IF(I90=1,VLOOKUP(AI90,男子種目コード!$A$1:$B$33,2,FALSE),IF(I90=2,VLOOKUP(AI90,女子種目コード!$A$36:$B$66,2,FALSE))))","v":""},null,0,2,null,null,null,null,null,null,null,null,null,null,null,null,null,null,null,"",0,0,0,0,null,null,null,null,0,"","",""]
[false,{"$f":"前年度登録!Q93","v":""},false,null,{"$f":"前年度登録!E93","v":0},{"$f":"前年度登録!BR93","v":""},{"$f":"前年度登録!Z93","v":""},"",{"$f":"前年度登録!O93","v":""},{"$f":"前年度登録!I93","v":0},{"$f":"前年度登録!K93","v":0},{"$f":"前年度登録!BU93","v":"00"},{"$f":"前年度登録!R93","v":""},{"$f":"前年度登録!D93","v":0},null,"",{"$f":"IF(O91=\"\",\"\",HLOOKUP(O91,前年度登録!$AB$8:$BG$118,86,FALSE))","v":""},0,2,null,"",{"$f":"IF(T91=\"\",\"\",HLOOKUP(T91,前年度登録!$AB$8:$BG$118,86,FALSE))","v":""},0,2,null,"",{"$f":"IF(Y91=\"\",\"\",HLOOKUP(Y91,前年度登録!$AB$8:$BG$118,86,FALSE))","v":""},0,2,null,{"$f":"IF(AD91=\"\",\"\",IF(I91=1,VLOOKUP(AD91,男子種目コード!$A$1:$B$33,2,FALSE),IF(I91=2,VLOOKUP(AD91,女子種目コード!$A$36:$B$66,2,FALSE))))","v":""},null,0,2,null,{"$f":"IF(AI91=\"\",\"\",IF(I91=1,VLOOKUP(AI91,男子種目コード!$A$1:$B$33,2,FALSE),IF(I91=2,VLOOKUP(AI91,女子種目コード!$A$36:$B$66,2,FALSE))))","v":""},null,0,2,null,null,null,null,null,null,null,null,null,null,null,null,null,null,null,"",0,0,0,0,null,null,null,null,0,"","",""]
[false,{"$f":"前年度登録!Q94","v":""},false,null,{"$f":"前年度登録!E94","v":0},{"$f":"前年度登録!BR94","v":""},{"$f":"前年度登録!Z94","v":""},"",{"$f":"前年度登録!O94","v":""},{"$f":"前年度登録!I94","v":0},{"$f":"前年度登録!K94","v":0},{"$f":"前年度登録!BU94","v":"00"},{"$f":"前年度登録!R94","v":""},{"$f":"前年度登録!D94","v":0},null,"",{"$f":"IF(O92=\"\",\"\",HLOOKUP(O92,前年度登録!$AB$8:$BG$118,87,FALSE))","v":""},0,2,null,"",{"$f":"IF(T92=\"\",\"\",HLOOKUP(T92,前年度登録!$AB$8:$BG$118,87,FALSE))","v":""},0,2,null,"",{"$f":"IF(Y92=\"\",\"\",HLOOKUP(Y92,前年度登録!$AB$8:$BG$118,87,FALSE))","v":""},0,2,null,{"$f":"IF(AD92=\"\",\"\",IF(I92=1,VLOOKUP(AD92,男子種目コード!$A$1:$B$33,2,FALSE),IF(I92=2,VLOOKUP(AD92,女子種目コード!$A$36:$B$66,2,FALSE))))","v":""},null,0,2,null,{"$f":"IF(AI92=\"\",\"\",IF(I92=1,VLOOKUP(AI92,男子種目コード!$A$1:$B$33,2,FALSE),IF(I92=2,VLOOKUP(AI92,女子種目コード!$A$36:$B$66,2,FALSE))))","v":""},null,0,2,null,null,null,null,null,null,null,null,null,null,null,null,null,null,null,"",0,0,0,0,null,null,null,null,0,"","",""]
[false,{"$f":"前年度登録!Q95","v":""},false,null,{"$f":"前年度登録!E95","v":0},{"$f":"前年度登録!BR95","v":""},{"$f":"前年度登録!Z95","v":""},"",{"$f":"前年度登録!O95","v":""},{"$f":"前年度登録!I95","v":0},{"$f":"前年度登録!K95","v":0},{"$f":"前年度登録!BU95","v":"00"},{"$f":"前年度登録!R95","v":""},{"$f":"前年度登録!D95","v":0},null,"",{"$f":"IF(O93=\"\",\"\",HLOOKUP(O93,前年度登録!$AB$8:$BG$118,88,FALSE))","v":""},0,2,null,"",{"$f":"IF(T93=\"\",\"\",HLOOKUP(T93,前年度登録!$AB$8:$BG$118,88,FALSE))","v":""},0,2,null,"",{"$f":"IF(Y93=\"\",\"\",HLOOKUP(Y93,前年度登録!$AB$8:$BG$118,88,FALSE))","v":""},0,2,null,{"$f":"IF(AD93=\"\",\"\",IF(I93=1,VLOOKUP(AD93,男子種目コード!$A$1:$B$33,2,FALSE),IF(I93=2,VLOOKUP(AD93,女子種目コード!$A$36:$B$66,2,FALSE))))","v":""},null,0,2,null,{"$f":"IF(AI93=\"\",\"\",IF(I93=1,VLOOKUP(AI93,男子種目コード!$A$1:$B$33,2,FALSE),IF(I93=2,VLOOKUP(AI93,女子種目コード!$A$36:$B$66,2,FALSE))))","v":""},null,0,2,null,null,null,null,null,null,null,null,null,null,null,null,null,null,null,"",0,0,0,0,null,null,null,null,0,"","",""]
[false,{"$f":"前年度登録!Q96","v":""},false,null,{"$f":"前年度登録!E96","v":0},{"$f":"前年度登録!BR96","v":""},{"$f":"前年度登録!Z96","v":""},"",{"$f":"前年度登録!O96","v":""},{"$f":"前年度登録!I96","v":0},{"$f":"前年度登録!K96","v":0},{"$f":"前年度登録!BU96","v":"00"},{"$f":"前年度登録!R96","v":""},{"$f":"前年度登録!D96","v":0},null,"",{"$f":"IF(O94=\"\",\"\",HLOOKUP(O94,前年度登録!$AB$8:$BG$118,89,FALSE))","v":""},0,2,null,"",{"$f":"IF(T94=\"\",\"\",HLOOKUP(T94,前年度登録!$AB$8:$BG$118,89,FALSE))","v":""},0,2,null,"",{"$f":"IF(Y94=\"\",\"\",HLOOKUP(Y94,前年度登録!$AB$8:$BG$118,89,FALSE))","v":""},0,2,null,{"$f":"IF(AD94=\"\",\"\",IF(I94=1,VLOOKUP(AD94,男子種目コード!$A$1:$B$33,2,FALSE),IF(I94=2,VLOOKUP(AD94,女子種目コード!$A$36:$B$66,2,FALSE))))","v":""},null,0,2,null,{"$f":"IF(AI94=\"\",\"\",IF(I94=1,VLOOKUP(AI94,男子種目コード!$A$1:$B$33,2,FALSE),IF(I94=2,VLOOKUP(AI94,女子種目コード!$A$36:$B$66,2,FALSE))))","v":""},null,0,2,null,null,null,null,null,null,null,null,null,null,null,null,null,null,null,"",0,0,0,0,null,null,null,null,0,"","",""]
[false,{"$f":"前年度登録!Q97","v":""},false,null,{"$f":"前年度登録!E97","v":0},{"$f":"前年度登録!BR97","v":""},{"$f":"前年度登録!Z97","v":""},"",{"$f":"前年度登録!O97","v":""},{"$f":"前年度登録!I97","v":0},{"$f":"前年度登録!K97","v":0},{"$f":"前年度登録!BU97","v":"00"},{"$f":"前年度登録!R97","v":""},{"$f":"前年度登録!D97","v":0},null,"",{"$f":"IF(O95=\"\",\"\",HLOOKUP(O95,前年度登録!$AB$8:$BG$118,90,FALSE))","v":""},0,2,null,"",{"$f":"IF(T95=\"\",\"\",HLOOKUP(T95,前年度登録!$AB$8:$BG$118,90,FALSE))","v":""},0,2,null,"",{"$f":"IF(Y95=\"\",\"\",HLOOKUP(Y95,前年度登録!$AB$8:$BG$118,90,FALSE))","v":""},0,2,null,{"$f":"IF(AD95=\"\",\"\",IF(I95=1,VLOOKUP(AD95,男子種目コード!$A$1:$B$33,2,FALSE),IF(I95=2,VLOOKUP(AD95,女子種目コード!$A$36:$B$66,2,FALSE))))","v":""},null,0,2,null,{"$f":"IF(AI95=\"\",\"\",IF(I95=1,VLOOKUP(AI95,男子種目コード!$A$1:$B$33,2,FALSE),IF(I95=2,VLOOKUP(AI95,女子種目コード!$A$36:$B$66,2,FALSE))))","v":""},null,0,2,null,null,null,null,null,null,null,null,null,null,null,null,null,null,null,"",0,0,0,0,null,null,null,null,0,"","",""]
[false,{"$f":"前年度登録!Q98","v":""},false,null,{"$f":"前年度登録!E98","v":0},{"$f":"前年度登録!BR98","v":""},{"$f":"前年度登録!Z98","v":""},"",{"$f":"前年度登録!O98","v":""},{"$f":"前年度登録!I98","v":0},{"$f":"前年度登録!K98","v":0},{"$f":"前年度登録!BU98","v":"00"},{"$f":"前年度登録!R98","v":""},{"$f":"前年度登録!D98","v":0},null,"",{"$f":"IF(O96=\"\",\"\",HLOOKUP(O96,前年度登録!$AB$8:$BG$118,91,FALSE))","v":""},0,2,null,"",{"$f":"IF(T96=\"\",\"\",HLOOKUP(T96,前年度登録!$AB$8:$BG$118,91,FALSE))","v":""},0,2,null,"",{"$f":"IF(Y96=\"\",\"\",HLOOKUP(Y96,前年度登録!$AB$8:$BG$118,91,FALSE))","v":""},0,2,null,{"$f":"IF(AD96=\"\",\"\",IF(I96=1,VLOOKUP(AD96,男子種目コード!$A$1:$B$33,2,FALSE),IF(I96=2,VLOOKUP(AD96,女子種目コード!$A$36:$B$66,2,FALSE))))","v":""},null,0,2,null,{"$f":"IF(AI96=\"\",\"\",IF(I96=1,VLOOKUP(AI96,男子種目コード!$A$1:$B$33,2,FALSE),IF(I96=2,VLOOKUP(AI96,女子種目コード!$A$36:$B$66,2,FALSE))))","v":""},null,0,2,null,null,null,null,null,null,null,null,null,null,null,null,null,null,null,"",0,0,0,0,null,null,null,null,0,"","",""]
[false,{"$f":"前年度登録!Q99","v":""},false,null,{"$f":"前年度登録!E99","v":0},{"$f":"前年度登録!BR99","v":""},{"$f":"前年度登録!Z99","v":""},"",{"$f":"前年度登録!O99","v":""},{"$f":"前年度登録!I99","v":0},{"$f":"前年度登録!K99","v":0},{"$f":"前年度登録!BU99","v":"00"},{"$f":"前年度登録!R99","v":""},{"$f":"前年度登録!D99","v":0},null,"",{"$f":"IF(O97=\"\",\"\",HLOOKUP(O97,前年度登録!$AB$8:$BG$118,92,FALSE))","v":""},0,2,null,"",{"$f":"IF(T97=\"\",\"\",HLOOKUP(T97,前年度登録!$AB$8:$BG$118,92,FALSE))","v":""},0,2,null,"",{"$f":"IF(Y97=\"\",\"\",HLOOKUP(Y97,前年度登録!$AB$8:$BG$118,92,FALSE))","v":""},0,2,null,{"$f":"IF(AD97=\"\",\"\",IF(I97=1,VLOOKUP(AD97,男子種目コード!$A$1:$B$33,2,FALSE),IF(I97=2,VLOOKUP(AD97,女子種目コード!$A$36:$B$66,2,FALSE))))","v":""},null,0,2,null,{"$f":"IF(AI97=\"\",\"\",IF(I97=1,VLOOKUP(AI97,男子種目コード!$A$1:$B$33,2,FALSE),IF(I97=2,VLOOKUP(AI97,女子種目コード!$A$36:$B$66,2,FALSE))))","v":""},null,0,2,null,null,null,null,null,null,null,null,null,null,null,null,null,null,null,"",0,0,0,0,null,null,null,null,0,"","",""]
[false,{"$f":"前年度登録!Q100","v":""},false,null,{"$f":"前年度登録!E100","v":0},{"$f":"前年度登録!BR100","v":""},{"$f":"前年度登録!Z100","v":""},"",{"$f":"前年度登録!O100","v":""},{"$f":"前年度登録!I100","v":0},{"$f":"前年度登録!K100","v":0},{"$f":"前年度登録!BU100","v":"00"},{"$f":"前年度登録!R100","v":""},{"$f":"前年度登録!D100","v":0},null,"",{"$f":"IF(O98=\"\",\"\",HLOOKUP(O98,前年度登録!$AB$8:$BG$118,93,FALSE))","v":""},0,2,null,"",{"$f":"IF(T98=\"\",\"\",HLOOKUP(T98,前年度登録!$AB$8:$BG$118,93,FALSE))","v":""},0,2,null,"",{"$f":"IF(Y98=\"\",\"\",HLOOKUP(Y98,前年度登録!$AB$8:$BG$118,93,FALSE))","v":""},0,2,null,{"$f":"IF(AD98=\"\",\"\",IF(I98=1,VLOOKUP(AD98,男子種目コード!$A$1:$B$33,2,FALSE),IF(I98=2,VLOOKUP(AD98,女子種目コード!$A$36:$B$66,2,FALSE))))","v":""},null,0,2,null,{"$f":"IF(AI98=\"\",\"\",IF(I98=1,VLOOKUP(AI98,男子種目コード!$A$1:$B$33,2,FALSE),IF(I98=2,VLOOKUP(AI98,女子種目コード!$A$36:$B$66,2,FALSE))))","v":""},null,0,2,null,null,null,null,null,null,null,null,null,null,null,null,null,null,null,"",0,0,0,0,null,null,null,null,0,"","",""]
[false,{"$f":"前年度登録!Q101","v":""},false,null,{"$f":"前年度登録!E101","v":0},{"$f":"前年度登録!BR101","v":""},{"$f":"前年度登録!Z101","v":""},"",{"$f":"前年度登録!O101","v":""},{"$f":"前年度登録!I101","v":0},{"$f":"前年度登録!K101","v":0},{"$f":"前年度登録!BU101","v":"00"},{"$f":"前年度登録!R101","v":""},{"$f":"前年度登録!D101","v":0},null,"",{"$f":"IF(O99=\"\",\"\",HLOOKUP(O99,前年度登録!$AB$8:$BG$118,94,FALSE))","v":""},0,2,null,"",{"$f":"IF(T99=\"\",\"\",HLOOKUP(T99,前年度登録!$AB$8:$BG$118,94,FALSE))","v":""},0,2,null,"",{"$f":"IF(Y99=\"\",\"\",HLOOKUP(Y99,前年度登録!$AB$8:$BG$118,94,FALSE))","v":""},0,2,null,{"$f":"IF(AD99=\"\",\"\",IF(I99=1,VLOOKUP(AD99,男子種目コード!$A$1:$B$33,2,FALSE),IF(I99=2,VLOOKUP(AD99,女子種目コード!$A$36:$B$66,2,FALSE))))","v":""},null,0,2,null,{"$f":"IF(AI99=\"\",\"\",IF(I99=1,VLOOKUP(AI99,男子種目コード!$A$1:$B$33,2,FALSE),IF(I99=2,VLOOKUP(AI99,女子種目コード!$A$36:$B$66,2,FALSE))))","v":""},null,0,2,null,null,null,null,null,null,null,null,null,null,null,null,null,null,null,"",0,0,0,0,null,null,null,null,0,"","",""]
[false,{"$f":"前年度登録!Q102","v":""},false,null,{"$f":"前年度登録!E102","v":0},{"$f":"前年度登録!BR102","v":""},{"$f":"前年度登録!Z102","v":""},"",{"$f":"前年度登録!O102","v":""},{"$f":"前年度登録!I102","v":0},{"$f":"前年度登録!K102","v":0},{"$f":"前年度登録!BU102","v":"00"},{"$f":"前年度登録!R102","v":""},{"$f":"前年度登録!D102","v":0},null,"",{"$f":"IF(O100=\"\",\"\",HLOOKUP(O100,前年度登録!$AB$8:$BG$118,95,FALSE))","v":""},0,2,null,"",{"$f":"IF(T100=\"\",\"\",HLOOKUP(T100,前年度登録!$AB$8:$BG$118,95,FALSE))","v":""},0,2,null,"",{"$f":"IF(Y100=\"\",\"\",HLOOKUP(Y100,前年度登録!$AB$8:$BG$118,95,FALSE))","v":""},0,2,null,{"$f":"IF(AD100=\"\",\"\",IF(I100=1,VLOOKUP(AD100,男子種目コード!$A$1:$B$33,2,FALSE),IF(I100=2,VLOOKUP(AD100,女子種目コード!$A$36:$B$66,2,FALSE))))","v":""},null,0,2,null,{"$f":"IF(AI100=\"\",\"\",IF(I100=1,VLOOKUP(AI100,男子種目コード!$A$1:$B$33,2,FALSE),IF(I100=2,VLOOKUP(AI100,女子種目コード!$A$36:$B$66,2,FALSE))))","v":""},null,0,2,null,null,null,null,null,null,null,null,null,null,null,null,null,null,null,"",0,0,0,0,null,null,null,null,0,"","",""]
[false,{"$f":"前年度登録!Q103","v":""},false,null,{"$f":"前年度登録!E103","v":0},{"$f":"前年度登録!BR103","v":""},{"$f":"前年度登録!Z103","v":""},"",{"$f":"前年度登録!O103","v":""},{"$f":"前年度登録!I103","v":0},{"$f":"前年度登録!K103","v":0},{"$f":"前年度登録!BU103","v":"00"},{"$f":"前年度登録!R103","v":""},{"$f":"前年度登録!D103","v":0},null,"",{"$f":"IF(O101=\"\",\"\",HLOOKUP(O101,前年度登録!$AB$8:$BG$118,96,FALSE))","v":""},0,2,null,"",{"$f":"IF(T101=\"\",\"\",HLOOKUP(T101,前年度登録!$AB$8:$BG$118,96,FALSE))","v":""},0,2,null,"",{"$f":"IF(Y101=\"\",\"\",HLOOKUP(Y101,前年度登録!$AB$8:$BG$118,96,FALSE))","v":""},0,2,null,{"$f":"IF(AD101=\"\",\"\",IF(I101=1,VLOOKUP(AD101,男子種目コード!$A$1:$B$33,2,FALSE),IF(I101=2,VLOOKUP(AD101,女子種目コード!$A$36:$B$66,2,FALSE))))","v":""},null,0,2,null,{"$f":"IF(AI101=\"\",\"\",IF(I101=1,VLOOKUP(AI101,男子種目コード!$A$1:$B$33,2,FALSE),IF(I101=2,VLOOKUP(AI101,女子種目コード!$A$36:$B$66,2,FALSE))))","v":""},null,0,2,null,null,null,null,null,null,null,null,null,null,null,null,null,null,null,"",0,0,0,0,null,null,null,null,0,"","",""]
[false,{"$f":"前年度登録!Q104","v":""},false,null,{"$f":"前年度登録!E104","v":0},{"$f":"前年度登録!BR104","v":""},{"$f":"前年度登録!Z104","v":""},"",{"$f":"前年度登録!O104","v":""},{"$f":"前年度登録!I104","v":0},{"$f":"前年度登録!K104","v":0},{"$f":"前年度登録!BU104","v":"00"},{"$f":"前年度登録!R104","v":""},{"$f":"前年度登録!D104","v":0},null,"",{"$f":"IF(O102=\"\",\"\",HLOOKUP(O102,前年度登録!$AB$8:$BG$118,97,FALSE))","v":""},0,2,null,"",{"$f":"IF(T102=\"\",\"\",HLOOKUP(T102,前年度登録!$AB$8:$BG$118,97,FALSE))","v":""},0,2,null,"",{"$f":"IF(Y102=\"\",\"\",HLOOKUP(Y102,前年度登録!$AB$8:$BG$118,97,FALSE))","v":""},0,2,null,{"$f":"IF(AD102=\"\",\"\",IF(I102=1,VLOOKUP(AD102,男子種目コード!$A$1:$B$33,2,FALSE),IF(I102=2,VLOOKUP(AD102,女子種目コード!$A$36:$B$66,2,FALSE))))","v":""},null,0,2,null,{"$f":"IF(AI102=\"\",\"\",IF(I102=1,VLOOKUP(AI102,男子種目コード!$A$1:$B$33,2,FALSE),IF(I102=2,VLOOKUP(AI102,女子種目コード!$A$36:$B$66,2,FALSE))))","v":""},null,0,2,null,null,null,null,null,null,null,null,null,null,null,null,null,null,null,"",0,0,0,0,null,null,null,null,0,"","",""]
[false,{"$f":"前年度登録!Q105","v":""},false,null,{"$f":"前年度登録!E105","v":0},{"$f":"前年度登録!BR105","v":""},{"$f":"前年度登録!Z105","v":""},"",{"$f":"前年度登録!O105","v":""},{"$f":"前年度登録!I105","v":0},{"$f":"前年度登録!K105","v":0},{"$f":"前年度登録!BU105","v":"00"},{"$f":"前年度登録!R105","v":""},{"$f":"前年度登録!D105","v":0},null,"",{"$f":"IF(O103=\"\",\"\",HLOOKUP(O103,前年度登録!$AB$8:$BG$118,98,FALSE))","v":""},0,2,null,"",{"$f":"IF(T103=\"\",\"\",HLOOKUP(T103,前年度登録!$AB$8:$BG$118,98,FALSE))","v":""},0,2,null,"",{"$f":"IF(Y103=\"\",\"\",HLOOKUP(Y103,前年度登録!$AB$8:$BG$118,98,FALSE))","v":""},0,2,null,{"$f":"IF(AD103=\"\",\"\",IF(I103=1,VLOOKUP(AD103,男子種目コード!$A$1:$B$33,2,FALSE),IF(I103=2,VLOOKUP(AD103,女子種目コード!$A$36:$B$66,2,FALSE))))","v":""},null,0,2,null,{"$f":"IF(AI103=\"\",\"\",IF(I103=1,VLOOKUP(AI103,男子種目コード!$A$1:$B$33,2,FALSE),IF(I103=2,VLOOKUP(AI103,女子種目コード!$A$36:$B$66,2,FALSE))))","v":""},null,0,2,null,null,null,null,null,null,null,null,null,null,null,null,null,null,null,"",{"$f":"IF(OR(BC103=1,T103=\"\"),0,1)","v":0},{"$f":"IF(OR(BC103=1,BD103=1,Y103=\"\"),0,1)","v":0},{"$f":"IF(OR(BC103=1,BD103=1,BE103=1,AD103=\"\"),0,1)","v":0},{"$f":"IF(OR(BC103=1,BD103=1,BE103=1,BF103=1,AI103=\"\"),0,1)","v":0},null,null,null,null,0,"","",{"$f":"IF(I103=2,BM103,\"\")","v":""}]
[false,{"$f":"前年度登録!Q106","v":""},false,null,{"$f":"前年度登録!E106","v":0},{"$f":"前年度登録!BR106","v":""},{"$f":"前年度登録!Z106","v":""},"",{"$f":"前年度登録!O106","v":""},{"$f":"前年度登録!I106","v":0},{"$f":"前年度登録!K106","v":0},{"$f":"前年度登録!BU106","v":"00"},{"$f":"前年度登録!R106","v":""},{"$f":"前年度登録!D106","v":0},null,"",{"$f":"IF(O104=\"\",\"\",HLOOKUP(O104,前年度登録!$AB$8:$BG$118,99,FALSE))","v":""},0,2,null,"",{"$f":"IF(T104=\"\",\"\",HLOOKUP(T104,前年度登録!$AB$8:$BG$118,99,FALSE))","v":""},0,2,null,"",{"$f":"IF(Y104=\"\",\"\",HLOOKUP(Y104,前年度登録!$AB$8:$BG$118,99,FALSE))","v":""},0,2,null,{"$f":"IF(AD104=\"\",\"\",IF(I104=1,VLOOKUP(AD104,男子種目コード!$A$1:$B$33,2,FALSE),IF(I104=2,VLOOKUP(AD104,女子種目コード!$A$36:$B$66,2,FALSE))))","v":""},null,0,2,null,{"$f":"IF(AI104=\"\",\"\",IF(I104=1,VLOOKUP(AI104,男子種目コード!$A$1:$B$33,2,FALSE),IF(I104=2,VLOOKUP(AI104,女子種目コード!$A$36:$B$66,2,FALSE))))","v":""},null,0,2,null,null,null,null,null,null,null,null,null,null,null,null,null,null,null,"",0,0,0,0,null,null,null,null,0,"","",""]
[false,{"$f":"前年度登録!Q107","v":""},false,null,{"$f":"前年度登録!E107","v":0},{"$f":"前年度登録!BR107","v":""},{"$f":"前年度登録!Z107","v":""},"",{"$f":"前年度登録!O107","v":""},{"$f":"前年度登録!I107","v":0},{"$f":"前年度登録!K107","v":0},{"$f":"前年度登録!BU107","v":"00"},{"$f":"前年度登録!R107","v":""},{"$f":"前年度登録!D107","v":0},null,"",{"$f":"IF(O105=\"\",\"\",HLOOKUP(O105,前年度登録!$AB$8:$BG$118,100,FALSE))","v":""},0,2,null,"",{"$f":"IF(T105=\"\",\"\",HLOOKUP(T105,前年度登録!$AB$8:$BG$118,100,FALSE))","v":""},0,2,null,"",{"$f":"IF(Y105=\"\",\"\",HLOOKUP(Y105,前年度登録!$AB$8:$BG$118,100,FALSE))","v":""},0,2,null,{"$f":"IF(AD105=\"\",\"\",IF(I105=1,VLOOKUP(AD105,男子種目コード!$A$1:$B$33,2,FALSE),IF(I105=2,VLOOKUP(AD105,女子種目コード!$A$36:$B$66,2,FALSE))))","v":""},null,0,2,null,{"$f":"IF(AI105=\"\",\"\",IF(I105=1,VLOOKUP(AI105,男子種目コード!$A$1:$B$33,2,FALSE),IF(I105=2,VLOOKUP(AI105,女子種目コード!$A$36:$B$66,2,FALSE))))","v":""},null,0,2,null,null,null,null,null,null,null,null,null,null,null,null,null,null,null,"",0,0,0,0,null,null,null,null,0,"","",""]
[false,{"$f":"前年度登録!Q108","v":""},false,null,{"$f":"前年度登録!E108","v":0},{"$f":"前年度登録!BR108","v":""},{"$f":"前年度登録!Z108","v":""},"",{"$f":"前年度登録!O108","v":""},{"$f":"前年度登録!I108","v":0},{"$f":"前年度登録!K108","v":0},{"$f":"前年度登録!BU108","v":"00"},{"$f":"前年度登録!R108","v":""},{"$f":"前年度登録!D108","v":0},null,"",{"$f":"IF(O106=\"\",\"\",HLOOKUP(O106,前年度登録!$AB$8:$BG$118,101,FALSE))","v":""},0,2,null,"",{"$f":"IF(T106=\"\",\"\",HLOOKUP(T106,前年度登録!$AB$8:$BG$118,101,FALSE))","v":""},0,2,null,"",{"$f":"IF(Y106=\"\",\"\",HLOOKUP(Y106,前年度登録!$AB$8:$BG$118,101,FALSE))","v":""},0,2,null,{"$f":"IF(AD106=\"\",\"\",IF(I106=1,VLOOKUP(AD106,男子種目コード!$A$1:$B$33,2,FALSE),IF(I106=2,VLOOKUP(AD106,女子種目コード!$A$36:$B$66,2,FALSE))))","v":""},null,0,2,null,{"$f":"IF(AI106=\"\",\"\",IF(I106=1,VLOOKUP(AI106,男子種目コード!$A$1:$B$33,2,FALSE),IF(I106=2,VLOOKUP(AI106,女子種目コード!$A$36:$B$66,2,FALSE))))","v":""},null,0,2,null,null,null,null,null,null,null,null,null,null,null,null,null,null,null,"",0,0,0,0,null,null,null,null,0,"","",""]
[false,{"$f":"前年度登録!Q109","v":""},false,null,{"$f":"前年度登録!E109","v":0},{"$f":"前年度登録!BR109","v":""},{"$f":"前年度登録!Z109","v":""},"",{"$f":"前年度登録!O109","v":""},{"$f":"前年度登録!I109","v":0},{"$f":"前年度登録!K109","v":0},{"$f":"前年度登録!BU109","v":"00"},{"$f":"前年度登録!R109","v":""},{"$f":"前年度登録!D109","v":0},null,"",{"$f":"IF(O107=\"\",\"\",HLOOKUP(O107,前年度登録!$AB$8:$BG$118,102,FALSE))","v":""},0,2,null,"",{"$f":"IF(T107=\"\",\"\",HLOOKUP(T107,前年度登録!$AB$8:$BG$118,102,FALSE))","v":""},0,2,null,"",{"$f":"IF(Y107=\"\",\"\",HLOOKUP(Y107,前年度登録!$AB$8:$BG$118,102,FALSE))","v":""},0,2,null,{"$f":"IF(AD107=\"\",\"\",IF(I107=1,VLOOKUP(AD107,男子種目コード!$A$1:$B$33,2,FALSE),IF(I107=2,VLOOKUP(AD107,女子種目コード!$A$36:$B$66,2,FALSE))))","v":""},null,0,2,null,{"$f":"IF(AI107=\"\",\"\",IF(I107=1,VLOOKUP(AI107,男子種目コード!$A$1:$B$33,2,FALSE),IF(I107=2,VLOOKUP(AI107,女子種目コード!$A$36:$B$66,2,FALSE))))","v":""},null,0,2,null,null,null,null,null,null,null,null,null,null,null,null,null,null,null,"",0,0,0,0,null,null,null,null,0,"","",""]
[false,{"$f":"前年度登録!Q110","v":""},false,null,{"$f":"前年度登録!E110","v":0},{"$f":"前年度登録!BR110","v":""},{"$f":"前年度登録!Z110","v":""},"",{"$f":"前年度登録!O110","v":""},{"$f":"前年度登録!I110","v":0},{"$f":"前年度登録!K110","v":0},{"$f":"前年度登録!BU110","v":"00"},{"$f":"前年度登録!R110","v":""},{"$f":"前年度登録!D110","v":0},null,"",{"$f":"IF(O108=\"\",\"\",HLOOKUP(O108,前年度登録!$AB$8:$BG$118,103,FALSE))","v":""},0,2,null,"",{"$f":"IF(T108=\"\",\"\",HLOOKUP(T108,前年度登録!$AB$8:$BG$118,103,FALSE))","v":""},0,2,null,"",{"$f":"IF(Y108=\"\",\"\",HLOOKUP(Y108,前年度登録!$AB$8:$BG$118,103,FALSE))","v":""},0,2,null,{"$f":"IF(AD108=\"\",\"\",IF(I108=1,VLOOKUP(AD108,男子種目コード!$A$1:$B$33,2,FALSE),IF(I108=2,VLOOKUP(AD108,女子種目コード!$A$36:$B$66,2,FALSE))))","v":""},null,0,2,null,{"$f":"IF(AI108=\"\",\"\",IF(I108=1,VLOOKUP(AI108,男子種目コード!$A$1:$B$33,2,FALSE),IF(I108=2,VLOOKUP(AI108,女子種目コード!$A$36:$B$66,2,FALSE))))","v":""},null,0,2,null,null,null,null,null,null,null,null,null,null,null,null,null,null,null,"",0,0,0,0,null,null,null,null,0,"","",""]
[false,{"$f":"前年度登録!Q111","v":""},false,null,{"$f":"前年度登録!E111","v":0},{"$f":"前年度登録!BR111","v":""},{"$f":"前年度登録!Z111","v":""},"",{"$f":"前年度登録!O111","v":""},{"$f":"前年度登録!I111","v":0},{"$f":"前年度登録!K111","v":0},{"$f":"前年度登録!BU111","v":"00"},{"$f":"前年度登録!R111","v":""},{"$f":"前年度登録!D111","v":0},null,"",{"$f":"IF(O109=\"\",\"\",HLOOKUP(O109,前年度登録!$AB$8:$BG$118,104,FALSE))","v":""},0,2,null,"",{"$f":"IF(T109=\"\",\"\",HLOOKUP(T109,前年度登録!$AB$8:$BG$118,104,FALSE))","v":""},0,2,null,"",{"$f":"IF(Y109=\"\",\"\",HLOOKUP(Y109,前年度登録!$AB$8:$BG$118,104,FALSE))","v":""},0,2,null,{"$f":"IF(AD109=\"\",\"\",IF(I109=1,VLOOKUP(AD109,男子種目コード!$A$1:$B$33,2,FALSE),IF(I109=2,VLOOKUP(AD109,女子種目コード!$A$36:$B$66,2,FALSE))))","v":""},null,0,2,null,{"$f":"IF(AI109=\"\",\"\",IF(I109=1,VLOOKUP(AI109,男子種目コード!$A$1:$B$33,2,FALSE),IF(I109=2,VLOOKUP(AI109,女子種目コード!$A$36:$B$66,2,FALSE))))","v":""},null,0,2,null,null,null,null,null,null,null,null,null,null,null,null,null,null,null,"",0,0,0,0,null,null,null,null,0,"","",""]
[false,{"$f":"前年度登録!Q112","v":""},false,null,{"$f":"前年度登録!E112","v":0},{"$f":"前年度登録!BR112","v":""},{"$f":"前年度登録!Z112","v":""},"",{"$f":"前年度登録!O112","v":""},{"$f":"前年度登録!I112","v":0},{"$f":"前年度登録!K112","v":0},{"$f":"前年度登録!BU112","v":"00"},{"$f":"前年度登録!R112","v":""},{"$f":"前年度登録!D112","v":0},null,"",{"$f":"IF(O110=\"\",\"\",HLOOKUP(O110,前年度登録!$AB$8:$BG$118,105,FALSE))","v":""},0,2,null,"",{"$f":"IF(T110=\"\",\"\",HLOOKUP(T110,前年度登録!$AB$8:$BG$118,105,FALSE))","v":""},0,2,null,"",{"$f":"IF(Y110=\"\",\"\",HLOOKUP(Y110,前年度登録!$AB$8:$BG$118,105,FALSE))","v":""},0,2,null,{"$f":"IF(AD110=\"\",\"\",IF(I110=1,VLOOKUP(AD110,男子種目コード!$A$1:$B$33,2,FALSE),IF(I110=2,VLOOKUP(AD110,女子種目コード!$A$36:$B$66,2,FALSE))))","v":""},null,0,2,null,{"$f":"IF(AI110=\"\",\"\",IF(I110=1,VLOOKUP(AI110,男子種目コード!$A$1:$B$33,2,FALSE),IF(I110=2,VLOOKUP(AI110,女子種目コード!$A$36:$B$66,2,FALSE))))","v":""},null,0,2,null,null,null,null,null,null,null,null,null,null,null,null,null,null,null,"",0,0,0,0,null,null,null,null,0,"","",""]
[false,{"$f":"前年度登録!Q113","v":""},false,null,{"$f":"前年度登録!E113","v":0},{"$f":"前年度登録!BR113","v":""},{"$f":"前年度登録!Z113","v":""},"",{"$f":"前年度登録!O113","v":""},{"$f":"前年度登録!I113","v":0},{"$f":"前年度登録!K113","v":0},{"$f":"前年度登録!BU113","v":"00"},{"$f":"前年度登録!R113","v":""},{"$f":"前年度登録!D113","v":0},null,"",{"$f":"IF(O111=\"\",\"\",HLOOKUP(O111,前年度登録!$AB$8:$BG$118,106,FALSE))","v":""},0,2,null,"",{"$f":"IF(T111=\"\",\"\",HLOOKUP(T111,前年度登録!$AB$8:$BG$118,106,FALSE))","v":""},0,2,null,"",{"$f":"IF(Y111=\"\",\"\",HLOOKUP(Y111,前年度登録!$AB$8:$BG$118,106,FALSE))","v":""},0,2,null,{"$f":"IF(AD111=\"\",\"\",IF(I111=1,VLOOKUP(AD111,男子種目コード!$A$1:$B$33,2,FALSE),IF(I111=2,VLOOKUP(AD111,女子種目コード!$A$36:$B$66,2,FALSE))))","v":""},null,0,2,null,{"$f":"IF(AI111=\"\",\"\",IF(I111=1,VLOOKUP(AI111,男子種目コード!$A$1:$B$33,2,FALSE),IF(I111=2,VLOOKUP(AI111,女子種目コード!$A$36:$B$66,2,FALSE))))","v":""},null,0,2,null,null,null,null,null,null,null,null,null,null,null,null,null,null,null,"",0,0,0,0,null,null,null,null,0,"","",""]
[false,{"$f":"前年度登録!Q114","v":""},false,null,{"$f":"前年度登録!E114","v":0},{"$f":"前年度登録!BR114","v":""},{"$f":"前年度登録!Z114","v":""},"",{"$f":"前年度登録!O114","v":""},{"$f":"前年度登録!I114","v":0},{"$f":"前年度登録!K114","v":0},{"$f":"前年度登録!BU114","v":"00"},{"$f":"前年度登録!R114","v":""},{"$f":"前年度登録!D114","v":0},null,"",{"$f":"IF(O112=\"\",\"\",HLOOKUP(O112,前年度登録!$AB$8:$BG$118,107,FALSE))","v":""},0,2,null,"",{"$f":"IF(T112=\"\",\"\",HLOOKUP(T112,前年度登録!$AB$8:$BG$118,107,FALSE))","v":""},0,2,null,"",{"$f":"IF(Y112=\"\",\"\",HLOOKUP(Y112,前年度登録!$AB$8:$BG$118,107,FALSE))","v":""},0,2,null,{"$f":"IF(AD112=\"\",\"\",IF(I112=1,VLOOKUP(AD112,男子種目コード!$A$1:$B$33,2,FALSE),IF(I112=2,VLOOKUP(AD112,女子種目コード!$A$36:$B$66,2,FALSE))))","v":""},null,0,2,null,{"$f":"IF(AI112=\"\",\"\",IF(I112=1,VLOOKUP(AI112,男子種目コード!$A$1:$B$33,2,FALSE),IF(I112=2,VLOOKUP(AI112,女子種目コード!$A$36:$B$66,2,FALSE))))","v":""},null,0,2,null,null,null,null,null,null,null,null,null,null,null,null,null,null,null,"",0,0,0,0,null,null,null,null,0,"","",""]
[false,{"$f":"前年度登録!Q115","v":""},false,null,{"$f":"前年度登録!E115","v":0},{"$f":"前年度登録!BR115","v":""},{"$f":"前年度登録!Z115","v":""},"",{"$f":"前年度登録!O115","v":""},{"$f":"前年度登録!I115","v":0},{"$f":"前年度登録!K115","v":0},{"$f":"前年度登録!BU115","v":"00"},{"$f":"前年度登録!R115","v":""},{"$f":"前年度登録!D115","v":0},null,"",{"$f":"IF(O113=\"\",\"\",HLOOKUP(O113,前年度登録!$AB$8:$BG$118,108,FALSE))","v":""},0,2,null,"",{"$f":"IF(T113=\"\",\"\",HLOOKUP(T113,前年度登録!$AB$8:$BG$118,108,FALSE))","v":""},0,2,null,"",{"$f":"IF(Y113=\"\",\"\",HLOOKUP(Y113,前年度登録!$AB$8:$BG$118,108,FALSE))","v":""},0,2,null,{"$f":"IF(AD113=\"\",\"\",IF(I113=1,VLOOKUP(AD113,男子種目コード!$A$1:$B$33,2,FALSE),IF(I113=2,VLOOKUP(AD113,女子種目コード!$A$36:$B$66,2,FALSE))))","v":""},null,0,2,null,{"$f":"IF(AI113=\"\",\"\",IF(I113=1,VLOOKUP(AI113,男子種目コード!$A$1:$B$33,2,FALSE),IF(I113=2,VLOOKUP(AI113,女子種目コード!$A$36:$B$66,2,FALSE))))","v":""},null,0,2,null,null,null,null,null,null,null,null,null,null,null,null,null,null,null,"",0,0,0,0,null,null,null,null,0,"","",""]
[false,{"$f":"前年度登録!Q116","v":""},false,null,{"$f":"前年度登録!E116","v":0},{"$f":"前年度登録!BR116","v":""},{"$f":"前年度登録!Z116","v":""},"",{"$f":"前年度登録!O116","v":""},{"$f":"前年度登録!I116","v":0},{"$f":"前年度登録!K116","v":0},{"$f":"前年度登録!BU116","v":"00"},{"$f":"前年度登録!R116","v":""},{"$f":"前年度登録!D116","v":0},null,"",{"$f":"IF(O114=\"\",\"\",HLOOKUP(O114,前年度登録!$AB$8:$BG$118,109,FALSE))","v":""},0,2,null,"",{"$f":"IF(T114=\"\",\"\",HLOOKUP(T114,前年度登録!$AB$8:$BG$118,109,FALSE))","v":""},0,2,null,"",{"$f":"IF(Y114=\"\",\"\",HLOOKUP(Y114,前年度登録!$AB$8:$BG$118,109,FALSE))","v":""},0,2,null,{"$f":"IF(AD114=\"\",\"\",IF(I114=1,VLOOKUP(AD114,男子種目コード!$A$1:$B$33,2,FALSE),IF(I114=2,VLOOKUP(AD114,女子種目コード!$A$36:$B$66,2,FALSE))))","v":""},null,0,2,null,{"$f":"IF(AI114=\"\",\"\",IF(I114=1,VLOOKUP(AI114,男子種目コード!$A$1:$B$33,2,FALSE),IF(I114=2,VLOOKUP(AI114,女子種目コード!$A$36:$B$66,2,FALSE))))","v":""},null,0,2,null,null,null,null,null,null,null,null,null,null,null,null,null,null,null,"",0,0,0,0,null,null,null,null,0,"","",""]
[false,{"$f":"前年度登録!Q117","v":""},false,null,{"$f":"前年度登録!E117","v":0},{"$f":"前年度登録!BR117","v":""},{"$f":"前年度登録!Z117","v":""},"",{"$f":"前年度登録!O117","v":""},{"$f":"前年度登録!I117","v":0},{"$f":"前年度登録!K117","v":0},{"$f":"前年度登録!BU117","v":"00"},{"$f":"前年度登録!R117","v":""},{"$f":"前年度登録!D117","v":0},null,"",{"$f":"IF(O115=\"\",\"\",HLOOKUP(O115,前年度登録!$AB$8:$BG$118,110,FALSE))","v":""},0,2,null,"",{"$f":"IF(T115=\"\",\"\",HLOOKUP(T115,前年度登録!$AB$8:$BG$118,110,FALSE))","v":""},0,2,null,"",{"$f":"IF(Y115=\"\",\"\",HLOOKUP(Y115,前年度登録!$AB$8:$BG$118,110,FALSE))","v":""},0,2,null,{"$f":"IF(AD115=\"\",\"\",IF(I115=1,VLOOKUP(AD115,男子種目コード!$A$1:$B$33,2,FALSE),IF(I115=2,VLOOKUP(AD115,女子種目コード!$A$36:$B$66,2,FALSE))))","v":""},null,0,2,null,{"$f":"IF(AI115=\"\",\"\",IF(I115=1,VLOOKUP(AI115,男子種目コード!$A$1:$B$33,2,FALSE),IF(I115=2,VLOOKUP(AI115,女子種目コード!$A$36:$B$66,2,FALSE))))","v":""},null,0,2,null,null,null,null,null,null,null,null,null,null,null,null,null,null,null,"",0,0,0,0,null,null,null,null,0,"","",""]
[false,{"$f":"前年度登録!Q118","v":""},false,null,{"$f":"前年度登録!E118","v":0},{"$f":"前年度登録!BR118","v":""},{"$f":"前年度登録!Z118","v":""},"",{"$f":"前年度登録!O118","v":""},{"$f":"前年度登録!I118","v":0},{"$f":"前年度登録!K118","v":0},{"$f":"前年度登録!BU118","v":"00"},{"$f":"前年度登録!R118","v":""},{"$f":"前年度登録!D118","v":0},null,"",{"$f":"IF(O116=\"\",\"\",HLOOKUP(O116,前年度登録!$AB$8:$BG$118,111,FALSE))","v":""},0,2,null,"",{"$f":"IF(T116=\"\",\"\",HLOOKUP(T116,前年度登録!$AB$8:$BG$118,111,FALSE))","v":""},0,2,null,"",{"$f":"IF(Y116=\"\",\"\",HLOOKUP(Y116,前年度登録!$AB$8:$BG$118,111,FALSE))","v":""},0,2,null,{"$f":"IF(AD116=\"\",\"\",IF(I116=1,VLOOKUP(AD116,男子種目コード!$A$1:$B$33,2,FALSE),IF(I116=2,VLOOKUP(AD116,女子種目コード!$A$36:$B$66,2,FALSE))))","v":""},0,0,2,null,{"$f":"IF(AI116=\"\",\"\",IF(I116=1,VLOOKUP(AI116,男子種目コード!$A$1:$B$33,2,FALSE),IF(I116=2,VLOOKUP(AI116,女子種目コード!$A$36:$B$66,2,FALSE))))","v":""},null,0,2,null,null,null,null,null,null,null,null,null,null,null,{"$f":"IF(O116=\"\",\"\",1)","v":""},null,null,null,null,null,null,null,null,null,{"$f":"COUNT(P116,U116,X116,AA116,AD116)","v":1},null,{"$f":"IF(I116=2,BI116,\"\")","v":""},0,"","",""]
[null,null,null,null,null,null,null,null,null,null,null,null,null,null,null,null,null,null,null,null,null,null,null,null,null,null,null,null,null,null,null,null,null,null,null,null,null,null,null,null,null,{"$f":"SUM(AY7:AY116)","v":{"$error":"#N/A"}},{"$f":"SUM(AZ7:AZ116)","v":{"$error":"#N/A"}},{"$f":"SUM(BA7:BA116)","v":0},null,null,null,null,null,null,null,null,null,null,{"$f":"IF(H117=2,BA117,\"\")","v":""},null,null,{"$f":"B117","v":0}]
[]
[null,null,null,null,null,null,null,null,null,null,null,null,null,null,null,null,null,null,null,null,null,null,null,null,null,null,null,null,null,null,null,null,null,null,null,null,null,null,null,null,null,null,null,null,null,null,null,null,null,null,null,null,null,null,null,null,null,null,null,null,null,{"$f":"IF(I116=1,BI116,\"\")","v":""}]

{"sheet":"総体","index":10,"n_rows":117,"n_cols":65,"rows_kept":117,"cut":false,"hidden":false,"merged":[[45,44,45,45],[25,48,25,49],[26,48,26,49],[8,47,13,47],[15,48,15,49],[16,48,16,49],[27,48,27,49],[37,48,37,49],[17,47,22,47],[14,48,14,49],[28,48,28,49],[36,48,36,49],[35,48,35,49],[6,48,6,49],[7,48,7,49],[0,14,0,21],[1,14,1,26],[0,34,0,35],[5,44,5,45],[5,48,5,49]]}
[null,null,null,null,"所属名",{"$f":"IF(名簿!$P$9=\"\",\"\",名簿!$P$9)","v":""},null,null,null,null,null,null,null,null,"三重県高校対校選手権"]
[null,null,null,"","所属コード",{"$f":"名簿!$Q$9","v":""},null,null,null,null,null,null,null,null,"三重県高校総体"]
[null,null,null,null,"顧問名",{"$f":"IF(名簿!$E$5=\"\",\"\",名簿!$E$5)","v":""},"男子参加人数",null,{"$f":"COUNTIF($I$7:$I$116,1)-COUNTIF($BL$7:$BL$116,0)","v":0}]
[null,null,null,null,"顧問連絡先",{"$f":"IF(名簿!$I$5=\"\",\"\",名簿!$I$5)","v":""},"女子参加人数",null,{"$f":"COUNTIF($I$7:$I$116,2)-COUNTIF($BM$7:$BM$116,0)","v":0},"計",null,null,null,null,{"$f":"I3+I4","v":0}]
[null,null,null,null,null,null,null,null,null,null,null,null,null,null,null,null,null,null,null,null,null,null,null,null,null,null,null,null,null,null,null,null,null,null,null,null,null,null,null,null,null,{"$f":"C1","v":0}]
["競技者コード","所属コード","所属コード２","ナンバーA","ナンバー","名前","カナ名","","性別","学年","生年","月日","個人所属地コード","陸連コード","1種目","コード","記録",null,null,"2種目","コード","記録",null,null,"3種目","コード","記録",null,null,"400R","コード","記録4",null,null,"1600R","コード","記録5",null,null,null,null,null,100,null,"出場制限3名",null,null,"種目","400R",null,null,null,null,null,null,null,null,null,null,null,100,100,"種目数","男子","女子"]
[{"$f":"IF(I7=1,IF(AD7=\"4×100\",1),IF(AD7=\"4×100\",2))","v":false},{"$f":"名簿!Q9","v":""},{"$f":"IF(I7=1,IF(AI7=\"4×400\",1),IF(AI7=\"4×400\",2))","v":false},null,{"$f":"名簿!E9","v":0},{"$f":"名簿!BR9","v":""},{"$f":"名簿!Z9","v":""},{"$f":"F7","v":""},{"$f":"名簿!O9","v":""},{"$f":"名簿!I9","v":0},{"$f":"名簿!K9","v":0},{"$f":"名簿!BU9","v":"00"},{"$f":"名簿!R9","v":""},{"$f":"名簿!D9","v":0},null,{"$f":"IF(O7=\"\",\"\",IF($I7=1,VLOOKUP(O7,$AS$7:$AU$25,3,FALSE),IF($I7=2,VLOOKUP(O7,$AS$27:$AU$44,3,FALSE))))","v":""},{"$f":"IF(O7=\"\",\"\",HLOOKUP(O7,名簿!$AB$8:$BG$118,2,FALSE))","v":""},0,2,null,{"$f":"IF(T7=\"\",\"\",IF($I7=1,VLOOKUP(T7,$AS$7:$AU$25,3,FALSE),IF($I7=2,VLOOKUP(T7,$AS$27:$AU$44,3,FALSE))))","v":""},{"$f":"IF(T7=\"\",\"\",HLOOKUP(T7,名簿!$AB$8:$BG$118,2,FALSE))","v":""},0,2,null,{"$f":"IF(Y7=\"\",\"\",IF($I7=1,VLOOKUP(Y7,$AS$7:$AU$25,3,FALSE),IF($I7=2,VLOOKUP(Y7,$AS$27:$AU$44,3,FALSE))))","v":""},{"$f":"IF(Y7=\"\",\"\",HLOOKUP(Y7,名簿!$AB$8:$BG$118,2,FALSE))","v":""},0,2,null,{"$f":"IF(AD7=\"\",\"\",IF(I7=1,VLOOKUP(AD7,男子種目コード!$A$1:$B$33,2,FALSE),IF(I7=2,VLOOKUP(AD7,女子種目コード!$A$35:$B$61,2,FALSE))))","v":""},null,0,2,null,{"$f":"IF(AI7=\"\",\"\",IF(I7=1,VLOOKUP(AI7,男子種目コード!$A$1:$B$33,2,FALSE),IF(I7=2,VLOOKUP(AI7,女子種目コード!$A$35:$B$61,2,FALSE))))","v":""},null,0,2,null,null,null,200,null,"100m",{"$f":"COUNTIF($P$7:$P$116,1)+COUNTIF($U$7:$U$116,1)+COUNTIF($Z$7:$Z$116,1)","v":0},1,"記録",null,null,null,null,null,null,{"$f":"IF(O7=\"\",\"\",1)","v":""},{"$f":"IF(OR(BC7=1,T7=\"\"),0,1)","v":0},{"$f":"IF(OR(BC7=1,BD7=1,Y7=\"\"),0,1)","v":0},{"$f":"IF(OR(BC7=1,BD7=1,BE7=1,AD7=\"\"),0,1)","v":0},{"$f":"IF(OR(BC7=1,BD7=1,BE7=1,BF7=1,AI7=\"\"),0,1)","v":0},null,200,200,{"$f":"COUNT(P7,U7,Z7,AE7,AJ7)","v":0},{"$f":"IF(I7=1,BK7,\"\")","v":""},{"$f":"IF(I7=2,BK7,\"\")","v":""}]
[{"$f":"IF(I8=1,IF(AD8=\"4×100\",1),IF(AD8=\"4×100\",2))","v":false},{"$f":"名簿!Q10","v":""},{"$f":"IF(I8=1,IF(AI8=\"4×400\",1),IF(AI8=\"4×400\",2))","v":false},null,{"$f":"名簿!E10","v":0},{"$f":"名簿!BR10","v":""},{"$f":"名簿!Z10","v":""},{"$f":"F8","v":""},{"$f":"名簿!O10","v":""},{"$f":"名簿!I10","v":0},{"$f":"名簿!K10","v":0},{"$f":"名簿!BU10","v":"00"},{"$f":"名簿!R10","v":""},{"$f":"名簿!D10","v":0},null,{"$f":"IF(O8=\"\",\"\",IF($I8=1,VLOOKUP(O8,$AS$7:$AU$25,3,FALSE),IF($I8=2,VLOOKUP(O8,$AS$27:$AU$44,3,FALSE))))","v":""},{"$f":"IF(O8=\"\",\"\",HLOOKUP(O8,名簿!$AB$8:$BG$118,3,FALSE))","v":""},0,2,null,{"$f":"IF(T8=\"\",\"\",IF($I8=1,VLOOKUP(T8,$AS$7:$AU$25,3,FALSE),IF($I8=2,VLOOKUP(T8,$AS$27:$AU$44,3,FALSE))))","v":""},{"$f":"IF(T8=\"\",\"\",HLOOKUP(T8,名簿!$AB$8:$BG$118,3,FALSE))","v":""},0,2,null,{"$f":"IF(Y8=\"\",\"\",IF($I8=1,VLOOKUP(Y8,$AS$7:$AU$25,3,FALSE),IF($I8=2,VLOOKUP(Y8,$AS$27:$AU$44,3,FALSE))))","v":""},{"$f":"IF(Y8=\"\",\"\",HLOOKUP(Y8,名簿!$AB$8:$BG$118,3,FALSE))","v":""},0,2,null,{"$f":"IF(AD8=\"\",\"\",IF(I8=1,VLOOKUP(AD8,男子種目コード!$A$1:$B$33,2,FALSE),IF(I8=2,VLOOKUP(AD8,女子種目コード!$A$35:$B$61,2,FALSE))))","v":""},null,0,2,null,{"$f":"IF(AI8=\"\",\"\",IF(I8=1,VLOOKUP(AI8,男子種目コード!$A$1:$B$33,2,FALSE),IF(I8=2,VLOOKUP(AI8,女子種目コード!$A$35:$B$61,2,FALSE))))","v":""},null,0,2,null,null,null,400,null,"200m",{"$f":"COUNTIF($P$7:$P$116,2)+COUNTIF($U$7:$U$116,2)+COUNTIF($Z$7:$Z$116,2)","v":0},2,"ｵｰﾀﾞｰ",{"$f":"COUNTIF($AE$7:$AE$116,13)","v":0},null,null,null,null,null,{"$f":"IF(O8=\"\",\"\",1)","v":""},0,0,0,0,null,400,400,0,"",""]
[false,{"$f":"名簿!Q11","v":""},false,null,{"$f":"名簿!E11","v":0},{"$f":"名簿!BR11","v":""},{"$f":"名簿!Z11","v":""},"",{"$f":"名簿!O11","v":""},{"$f":"名簿!I11","v":0},{"$f":"名簿!K11","v":0},{"$f":"名簿!BU11","v":"00"},{"$f":"名簿!R11","v":""},{"$f":"名簿!D11","v":0},null,"",{"$f":"IF(O9=\"\",\"\",HLOOKUP(O9,名簿!$AB$8:$BG$118,4,FALSE))","v":""},0,2,null,"",{"$f":"IF(T9=\"\",\"\",HLOOKUP(T9,名簿!$AB$8:$BG$118,4,FALSE))","v":""},0,2,null,"",{"$f":"IF(Y9=\"\",\"\",HLOOKUP(Y9,名簿!$AB$8:$BG$118,4,FALSE))","v":""},0,2,null,{"$f":"IF(AD9=\"\",\"\",IF(I9=1,VLOOKUP(AD9,男子種目コード!$A$1:$B$33,2,FALSE),IF(I9=2,VLOOKUP(AD9,女子種目コード!$A$35:$B$61,2,FALSE))))","v":""},null,0,2,null,{"$f":"IF(AI9=\"\",\"\",IF(I9=1,VLOOKUP(AI9,男子種目コード!$A$1:$B$33,2,FALSE),IF(I9=2,VLOOKUP(AI9,女子種目コード!$A$35:$B$61,2,FALSE))))","v":""},null,0,2,null,null,null,800,null,"400m",{"$f":"COUNTIF($P$7:$P$116,3)+COUNTIF($U$7:$U$116,3)+COUNTIF($Z$7:$Z$116,3)","v":0},3,"選　手",{"$f":"IF(ISERROR(AY9),\"\",AY9)","v":""},{"$f":"IF(ISERROR(AZ9),\"\",AZ9)","v":""},{"$f":"VLookUpX(1,$A$7:$F$116,1,5)","v":{"$error":"#N/A"}},{"$f":"VLookUpX(1,$A$7:$F$116,1,6)","v":{"$error":"#N/A"}},null,null,"",0,0,0,0,null,800,800,0,"",""]
[false,{"$f":"名簿!Q12","v":""},false,null,{"$f":"名簿!E12","v":0},{"$f":"名簿!BR12","v":""},{"$f":"名簿!Z12","v":""},"",{"$f":"名簿!O12","v":""},{"$f":"名簿!I12","v":0},{"$f":"名簿!K12","v":0},{"$f":"名簿!BU12","v":"00"},{"$f":"名簿!R12","v":""},{"$f":"名簿!D12","v":0},null,"",{"$f":"IF(O10=\"\",\"\",HLOOKUP(O10,名簿!$AB$8:$BG$118,5,FALSE))","v":""},0,2,null,"",{"$f":"IF(T10=\"\",\"\",HLOOKUP(T10,名簿!$AB$8:$BG$118,5,FALSE))","v":""},0,2,null,"",{"$f":"IF(Y10=\"\",\"\",HLOOKUP(Y10,名簿!$AB$8:$BG$118,5,FALSE))","v":""},0,2,null,{"$f":"IF(AD10=\"\",\"\",IF(I10=1,VLOOKUP(AD10,男子種目コード!$A$1:$B$33,2,FALSE),IF(I10=2,VLOOKUP(AD10,女子種目コード!$A$35:$B$61,2,FALSE))))","v":""},null,0,2,null,{"$f":"IF(AI10=\"\",\"\",IF(I10=1,VLOOKUP(AI10,男子種目コード!$A$1:$B$33,2,FALSE),IF(I10=2,VLOOKUP(AI10,女子種目コード!$A$35:$B$61,2,FALSE))))","v":""},null,0,2,null,null,null,1500,null,"800m",{"$f":"COUNTIF($P$7:$P$116,4)+COUNTIF($U$7:$U$116,4)+COUNTIF($Z$7:$Z$116,4)","v":0},4,null,{"$f":"IF(ISERROR(AY10),\"\",AY10)","v":""},"",{"$f":"VLookUpX(1,$A$7:$F$116,2,5)","v":{"$error":"#N/A"}},{"$f":"VLookUpX(1,$A$7:$F$116,2,6)","v":{"$error":"#N/A"}},null,null,"",0,0,0,0,null,1500,1500,0,"",""]
[false,{"$f":"名簿!Q13","v":""},false,null,{"$f":"名簿!E13","v":0},{"$f":"名簿!BR13","v":""},{"$f":"名簿!Z13","v":""},"",{"$f":"名簿!O13","v":""},{"$f":"名簿!I13","v":0},{"$f":"名簿!K13","v":0},{"$f":"名簿!BU13","v":"00"},{"$f":"名簿!R13","v":""},{"$f":"名簿!D13","v":0},null,"",{"$f":"IF(O11=\"\",\"\",HLOOKUP(O11,名簿!$AB$8:$BG$118,6,FALSE))","v":""},0,2,null,"",{"$f":"IF(T11=\"\",\"\",HLOOKUP(T11,名簿!$AB$8:$BG$118,6,FALSE))","v":""},0,2,null,"",{"$f":"IF(Y11=\"\",\"\",HLOOKUP(Y11,名簿!$AB$8:$BG$118,6,FALSE))","v":""},0,2,null,{"$f":"IF(AD11=\"\",\"\",IF(I11=1,VLOOKUP(AD11,男子種目コード!$A$1:$B$33,2,FALSE),IF(I11=2,VLOOKUP(AD11,女子種目コード!$A$35:$B$61,2,FALSE))))","v":""},null,0,2,null,{"$f":"IF(AI11=\"\",\"\",IF(I11=1,VLOOKUP(AI11,男子種目コード!$A$1:$B$33,2,FALSE),IF(I11=2,VLOOKUP(AI11,女子種目コード!$A$35:$B$61,2,FALSE))))","v":""},null,0,2,null,null,null,3000,null,"1500m",{"$f":"COUNTIF($P$7:$P$116,5)+COUNTIF($U$7:$U$116,5)+COUNTIF($Z$7:$Z$116,5)","v":0},5,null,"","",{"$f":"VLookUpX(1,$A$7:$F$116,3,5)","v":{"$error":"#N/A"}},{"$f":"VLookUpX(1,$A$7:$F$116,3,6)","v":{"$error":"#N/A"}},null,null,"",0,0,0,0,null,5000,3000,0,"",""]
[false,{"$f":"名簿!Q14","v":""},false,null,{"$f":"名簿!E14","v":0},{"$f":"名簿!BR14","v":""},{"$f":"名簿!Z14","v":""},"",{"$f":"名簿!O14","v":""},{"$f":"名簿!I14","v":0},{"$f":"名簿!K14","v":0},{"$f":"名簿!BU14","v":"00"},{"$f":"名簿!R14","v":""},{"$f":"名簿!D14","v":0},null,"",{"$f":"IF(O12=\"\",\"\",HLOOKUP(O12,名簿!$AB$8:$BG$118,7,FALSE))","v":""},0,2,null,"",{"$f":"IF(T12=\"\",\"\",HLOOKUP(T12,名簿!$AB$8:$BG$118,7,FALSE))","v":""},0,2,null,"",{"$f":"IF(Y12=\"\",\"\",HLOOKUP(Y12,名簿!$AB$8:$BG$118,7,FALSE))","v":""},0,2,null,{"$f":"IF(AD12=\"\",\"\",IF(I12=1,VLOOKUP(AD12,男子種目コード!$A$1:$B$33,2,FALSE),IF(I12=2,VLOOKUP(AD12,女子種目コード!$A$35:$B$61,2,FALSE))))","v":""},null,0,2,null,{"$f":"IF(AI12=\"\",\"\",IF(I12=1,VLOOKUP(AI12,男子種目コード!$A$1:$B$33,2,FALSE),IF(I12=2,VLOOKUP(AI12,女子種目コード!$A$35:$B$61,2,FALSE))))","v":""},null,0,2,null,null,null,5000,null,"5000m",{"$f":"COUNTIF($P$7:$P$116,6)+COUNTIF($U$7:$U$116,6)+COUNTIF($Z$7:$Z$116,6)","v":0},6,null,"","",{"$f":"VLookUpX(1,$A$7:$F$116,4,5)","v":{"$error":"#N/A"}},{"$f":"VLookUpX(1,$A$7:$F$116,4,6)","v":{"$error":"#N/A"}},null,null,"",0,0,0,0,null,"110H","100H",0,"",""]
[false,{"$f":"名簿!Q15","v":""},false,null,{"$f":"名簿!E15","v":0},{"$f":"名簿!BR15","v":""},{"$f":"名簿!Z15","v":""},"",{"$f":"名簿!O15","v":""},{"$f":"名簿!I15","v":0},{"$f":"名簿!K15","v":0},{"$f":"名簿!BU15","v":"00"},{"$f":"名簿!R15","v":""},{"$f":"名簿!D15","v":0},null,"",{"$f":"IF(O13=\"\",\"\",HLOOKUP(O13,名簿!$AB$8:$BG$118,8,FALSE))","v":""},0,2,null,"",{"$f":"IF(T13=\"\",\"\",HLOOKUP(T13,名簿!$AB$8:$BG$118,8,FALSE))","v":""},0,2,null,"",{"$f":"IF(Y13=\"\",\"\",HLOOKUP(Y13,名簿!$AB$8:$BG$118,8,FALSE))","v":""},0,2,null,{"$f":"IF(AD13=\"\",\"\",IF(I13=1,VLOOKUP(AD13,男子種目コード!$A$1:$B$33,2,FALSE),IF(I13=2,VLOOKUP(AD13,女子種目コード!$A$35:$B$61,2,FALSE))))","v":""},null,0,2,null,{"$f":"IF(AI13=\"\",\"\",IF(I13=1,VLOOKUP(AI13,男子種目コード!$A$1:$B$33,2,FALSE),IF(I13=2,VLOOKUP(AI13,女子種目コード!$A$35:$B$61,2,FALSE))))","v":""},null,0,2,null,null,null,"100H",null,"110mH",{"$f":"COUNTIF($P$7:$P$116,8)+COUNTIF($U$7:$U$116,8)+COUNTIF($Z$7:$Z$116,8)","v":0},8,null,"","",{"$f":"VLookUpX(1,$A$7:$F$116,5,5)","v":{"$error":"#N/A"}},{"$f":"VLookUpX(1,$A$7:$F$116,5,6)","v":{"$error":"#N/A"}},null,null,"",0,0,0,0,null,"400H","400H",0,"",""]
[false,{"$f":"名簿!Q16","v":""},false,null,{"$f":"名簿!E16","v":0},{"$f":"名簿!BR16","v":""},{"$f":"名簿!Z16","v":""},"",{"$f":"名簿!O16","v":""},{"$f":"名簿!I16","v":0},{"$f":"名簿!K16","v":0},{"$f":"名簿!BU16","v":"00"},{"$f":"名簿!R16","v":""},{"$f":"名簿!D16","v":0},null,"",{"$f":"IF(O14=\"\",\"\",HLOOKUP(O14,名簿!$AB$8:$BG$118,9,FALSE))","v":""},0,2,null,"",{"$f":"IF(T14=\"\",\"\",HLOOKUP(T14,名簿!$AB$8:$BG$118,9,FALSE))","v":""},0,2,null,"",{"$f":"IF(Y14=\"\",\"\",HLOOKUP(Y14,名簿!$AB$8:$BG$118,9,FALSE))","v":""},0,2,null,{"$f":"IF(AD14=\"\",\"\",IF(I14=1,VLOOKUP(AD14,男子種目コード!$A$1:$B$33,2,FALSE),IF(I14=2,VLOOKUP(AD14,女子種目コード!$A$35:$B$61,2,FALSE))))","v":""},null,0,2,null,{"$f":"IF(AI14=\"\",\"\",IF(I14=1,VLOOKUP(AI14,男子種目コード!$A$1:$B$33,2,FALSE),IF(I14=2,VLOOKUP(AI14,女子種目コード!$A$35:$B$61,2,FALSE))))","v":""},null,0,2,null,null,null,"110H",null,"400mH",{"$f":"COUNTIF($P$7:$P$116,9)+COUNTIF($U$7:$U$116,9)+COUNTIF($Z$7:$Z$116,9)","v":0},9,null,"","",{"$f":"VLookUpX(1,$A$7:$F$116,6,5)","v":{"$error":"#N/A"}},{"$f":"VLookUpX(1,$A$7:$F$116,6,6)","v":{"$error":"#N/A"}},null,null,"",0,0,0,0,null,"3000SC","5000W",0,"",""]
[false,{"$f":"名簿!Q17","v":""},false,null,{"$f":"名簿!E17","v":0},{"$f":"名簿!BR17","v":""},{"$f":"名簿!Z17","v":""},"",{"$f":"名簿!O17","v":""},{"$f":"名簿!I17","v":0},{"$f":"名簿!K17","v":0},{"$f":"名簿!BU17","v":"00"},{"$f":"名簿!R17","v":""},{"$f":"名簿!D17","v":0},null,"",{"$f":"IF(O15=\"\",\"\",HLOOKUP(O15,名簿!$AB$8:$BG$118,10,FALSE))","v":""},0,2,null,"",{"$f":"IF(T15=\"\",\"\",HLOOKUP(T15,名簿!$AB$8:$BG$118,10,FALSE))","v":""},0,2,null,"",{"$f":"IF(Y15=\"\",\"\",HLOOKUP(Y15,名簿!$AB$8:$BG$118,10,FALSE))","v":""},0,2,null,{"$f":"IF(AD15=\"\",\"\",IF(I15=1,VLOOKUP(AD15,男子種目コード!$A$1:$B$33,2,FALSE),IF(I15=2,VLOOKUP(AD15,女子種目コード!$A$35:$B$61,2,FALSE))))","v":""},null,0,2,null,{"$f":"IF(AI15=\"\",\"\",IF(I15=1,VLOOKUP(AI15,男子種目コード!$A$1:$B$33,2,FALSE),IF(I15=2,VLOOKUP(AI15,女子種目コード!$A$35:$B$61,2,FALSE))))","v":""},null,0,2,null,null,null,"400H",null,"3000mSC",{"$f":"COUNTIF($P$7:$P$116,10)+COUNTIF($U$7:$U$116,10)+COUNTIF($Z$7:$Z$116,10)","v":0},10,"種目","1600R",null,null,null,null,null,"",0,0,0,0,null,"5000W","走高跳",0,"",""]
[false,{"$f":"名簿!Q18","v":""},false,null,{"$f":"名簿!E18","v":0},{"$f":"名簿!BR18","v":""},{"$f":"名簿!Z18","v":""},"",{"$f":"名簿!O18","v":""},{"$f":"名簿!I18","v":0},{"$f":"名簿!K18","v":0},{"$f":"名簿!BU18","v":"00"},{"$f":"名簿!R18","v":""},{"$f":"名簿!D18","v":0},null,"",{"$f":"IF(O16=\"\",\"\",HLOOKUP(O16,名簿!$AB$8:$BG$118,11,FALSE))","v":""},0,2,null,"",{"$f":"IF(T16=\"\",\"\",HLOOKUP(T16,名簿!$AB$8:$BG$118,11,FALSE))","v":""},0,2,null,"",{"$f":"IF(Y16=\"\",\"\",HLOOKUP(Y16,名簿!$AB$8:$BG$118,11,FALSE))","v":""},0,2,null,{"$f":"IF(AD16=\"\",\"\",IF(I16=1,VLOOKUP(AD16,男子種目コード!$A$1:$B$33,2,FALSE),IF(I16=2,VLOOKUP(AD16,女子種目コード!$A$35:$B$61,2,FALSE))))","v":""},null,0,2,null,{"$f":"IF(AI16=\"\",\"\",IF(I16=1,VLOOKUP(AI16,男子種目コード!$A$1:$B$33,2,FALSE),IF(I16=2,VLOOKUP(AI16,女子種目コード!$A$35:$B$61,2,FALSE))))","v":""},null,0,2,null,null,null,"3000SC",null,"5000mW",{"$f":"COUNTIF($P$7:$P$116,12)+COUNTIF($U$7:$U$116,12)+COUNTIF($Z$7:$Z$116,12)","v":0},12,"記録",null,null,null,null,null,null,"",0,0,0,0,null,"走高跳","棒高跳",0,"",""]
[false,{"$f":"名簿!Q19","v":""},false,null,{"$f":"名簿!E19","v":0},{"$f":"名簿!BR19","v":""},{"$f":"名簿!Z19","v":""},"",{"$f":"名簿!O19","v":""},{"$f":"名簿!I19","v":0},{"$f":"名簿!K19","v":0},{"$f":"名簿!BU19","v":"00"},{"$f":"名簿!R19","v":""},{"$f":"名簿!D19","v":0},null,"",{"$f":"IF(O17=\"\",\"\",HLOOKUP(O17,名簿!$AB$8:$BG$118,12,FALSE))","v":""},0,2,null,"",{"$f":"IF(T17=\"\",\"\",HLOOKUP(T17,名簿!$AB$8:$BG$118,12,FALSE))","v":""},0,2,null,"",{"$f":"IF(Y17=\"\",\"\",HLOOKUP(Y17,名簿!$AB$8:$BG$118,12,FALSE))","v":""},0,2,null,{"$f":"IF(AD17=\"\",\"\",IF(I17=1,VLOOKUP(AD17,男子種目コード!$A$1:$B$33,2,FALSE),IF(I17=2,VLOOKUP(AD17,女子種目コード!$A$35:$B$61,2,FALSE))))","v":""},null,0,2,null,{"$f":"IF(AI17=\"\",\"\",IF(I17=1,VLOOKUP(AI17,男子種目コード!$A$1:$B$33,2,FALSE),IF(I17=2,VLOOKUP(AI17,女子種目コード!$A$35:$B$61,2,FALSE))))","v":""},null,0,2,null,null,null,"3000W",null,"走高跳",{"$f":"COUNTIF($P$7:$P$116,15)+COUNTIF($U$7:$U$116,15)+COUNTIF($Z$7:$Z$116,15)","v":0},15,"ｵｰﾀﾞｰ",{"$f":"COUNTIF($AJ$7:$AJ$116,14)","v":0},null,null,null,null,null,"",0,0,0,0,null,"棒高跳","走幅跳",0,"",""]
[false,{"$f":"名簿!Q20","v":""},false,null,{"$f":"名簿!E20","v":0},{"$f":"名簿!BR20","v":""},{"$f":"名簿!Z20","v":""},"",{"$f":"名簿!O20","v":""},{"$f":"名簿!I20","v":0},{"$f":"名簿!K20","v":0},{"$f":"名簿!BU20","v":"00"},{"$f":"名簿!R20","v":""},{"$f":"名簿!D20","v":0},null,"",{"$f":"IF(O18=\"\",\"\",HLOOKUP(O18,名簿!$AB$8:$BG$118,13,FALSE))","v":""},0,2,null,"",{"$f":"IF(T18=\"\",\"\",HLOOKUP(T18,名簿!$AB$8:$BG$118,13,FALSE))","v":""},0,2,null,"",{"$f":"IF(Y18=\"\",\"\",HLOOKUP(Y18,名簿!$AB$8:$BG$118,13,FALSE))","v":""},0,2,null,{"$f":"IF(AD18=\"\",\"\",IF(I18=1,VLOOKUP(AD18,男子種目コード!$A$1:$B$33,2,FALSE),IF(I18=2,VLOOKUP(AD18,女子種目コード!$A$35:$B$61,2,FALSE))))","v":""},null,0,2,null,{"$f":"IF(AI18=\"\",\"\",IF(I18=1,VLOOKUP(AI18,男子種目コード!$A$1:$B$33,2,FALSE),IF(I18=2,VLOOKUP(AI18,女子種目コード!$A$35:$B$61,2,FALSE))))","v":""},null,0,2,null,null,null,"5000W",null,"棒高跳",{"$f":"COUNTIF($P$7:$P$116,16)+COUNTIF($U$7:$U$116,16)+COUNTIF($Z$7:$Z$116,16)","v":0},16,"選　手",{"$f":"IF(ISERROR(AY18),\"\",AY18)","v":""},"",{"$f":"VLookUpX(1,$C$7:$F$116,1,3)","v":{"$error":"#N/A"}},{"$f":"VLookUpX(1,$C$7:$F$116,1,4)","v":{"$error":"#N/A"}},null,null,"",0,0,0,0,null,"走幅跳","三段跳",0,"",""]
[false,{"$f":"名簿!Q21","v":""},false,null,{"$f":"名簿!E21","v":0},{"$f":"名簿!BR21","v":""},{"$f":"名簿!Z21","v":""},"",{"$f":"名簿!O21","v":""},{"$f":"名簿!I21","v":0},{"$f":"名簿!K21","v":0},{"$f":"名簿!BU21","v":"00"},{"$f":"名簿!R21","v":""},{"$f":"名簿!D21","v":0},null,"",{"$f":"IF(O19=\"\",\"\",HLOOKUP(O19,名簿!$AB$8:$BG$118,14,FALSE))","v":""},0,2,null,"",{"$f":"IF(T19=\"\",\"\",HLOOKUP(T19,名簿!$AB$8:$BG$118,14,FALSE))","v":""},0,2,null,"",{"$f":"IF(Y19=\"\",\"\",HLOOKUP(Y19,名簿!$AB$8:$BG$118,14,FALSE))","v":""},0,2,null,{"$f":"IF(AD19=\"\",\"\",IF(I19=1,VLOOKUP(AD19,男子種目コード!$A$1:$B$33,2,FALSE),IF(I19=2,VLOOKUP(AD19,女子種目コード!$A$35:$B$61,2,FALSE))))","v":""},null,0,2,null,{"$f":"IF(AI19=\"\",\"\",IF(I19=1,VLOOKUP(AI19,男子種目コード!$A$1:$B$33,2,FALSE),IF(I19=2,VLOOKUP(AI19,女子種目コード!$A$35:$B$61,2,FALSE))))","v":""},null,0,2,null,null,null,"走高跳",null,"走幅跳",{"$f":"COUNTIF($P$7:$P$116,17)+COUNTIF($U$7:$U$116,17)+COUNTIF($Z$7:$Z$116,17)","v":0},17,null,"","",{"$f":"VLookUpX(1,$C$7:$F$116,2,3)","v":{"$error":"#N/A"}},{"$f":"VLookUpX(1,$C$7:$F$116,2,4)","v":{"$error":"#N/A"}},null,null,"",0,0,0,0,null,"三段跳","砲丸投",0,"",""]
[false,{"$f":"名簿!Q22","v":""},false,null,{"$f":"名簿!E22","v":0},{"$f":"名簿!BR22","v":""},{"$f":"名簿!Z22","v":""},"",{"$f":"名簿!O22","v":""},{"$f":"名簿!I22","v":0},{"$f":"名簿!K22","v":0},{"$f":"名簿!BU22","v":"00"},{"$f":"名簿!R22","v":""},{"$f":"名簿!D22","v":0},null,"",{"$f":"IF(O20=\"\",\"\",HLOOKUP(O20,名簿!$AB$8:$BG$118,15,FALSE))","v":""},0,2,null,"",{"$f":"IF(T20=\"\",\"\",HLOOKUP(T20,名簿!$AB$8:$BG$118,15,FALSE))","v":""},0,2,null,"",{"$f":"IF(Y20=\"\",\"\",HLOOKUP(Y20,名簿!$AB$8:$BG$118,15,FALSE))","v":""},0,2,null,{"$f":"IF(AD20=\"\",\"\",IF(I20=1,VLOOKUP(AD20,男子種目コード!$A$1:$B$33,2,FALSE),IF(I20=2,VLOOKUP(AD20,女子種目コード!$A$35:$B$61,2,FALSE))))","v":""},null,0,2,null,{"$f":"IF(AI20=\"\",\"\",IF(I20=1,VLOOKUP(AI20,男子種目コード!$A$1:$B$33,2,FALSE),IF(I20=2,VLOOKUP(AI20,女子種目コード!$A$35:$B$61,2,FALSE))))","v":""},null,0,2,null,null,null,"棒高跳",null,"三段跳",{"$f":"COUNTIF($P$7:$P$116,18)+COUNTIF($U$7:$U$116,18)+COUNTIF($Z$7:$Z$116,18)","v":0},18,null,"","",{"$f":"VLookUpX(1,$C$7:$F$116,3,3)","v":{"$error":"#N/A"}},{"$f":"VLookUpX(1,$C$7:$F$116,3,4)","v":{"$error":"#N/A"}},null,null,"",0,0,0,0,null,"砲丸投","円盤投",0,"",""]
[false,{"$f":"名簿!Q23","v":""},false,null,{"$f":"名簿!E23","v":0},{"$f":"名簿!BR23","v":""},{"$f":"名簿!Z23","v":""},"",{"$f":"名簿!O23","v":""},{"$f":"名簿!I23","v":0},{"$f":"名簿!K23","v":0},{"$f":"名簿!BU23","v":"00"},{"$f":"名簿!R23","v":""},{"$f":"名簿!D23","v":0},null,"",{"$f":"IF(O21=\"\",\"\",HLOOKUP(O21,名簿!$AB$8:$BG$118,16,FALSE))","v":""},0,2,null,"",{"$f":"IF(T21=\"\",\"\",HLOOKUP(T21,名簿!$AB$8:$BG$118,16,FALSE))","v":""},0,2,null,"",{"$f":"IF(Y21=\"\",\"\",HLOOKUP(Y21,名簿!$AB$8:$BG$118,16,FALSE))","v":""},0,2,null,{"$f":"IF(AD21=\"\",\"\",IF(I21=1,VLOOKUP(AD21,男子種目コード!$A$1:$B$33,2,FALSE),IF(I21=2,VLOOKUP(AD21,女子種目コード!$A$35:$B$61,2,FALSE))))","v":""},null,0,2,null,{"$f":"IF(AI21=\"\",\"\",IF(I21=1,VLOOKUP(AI21,男子種目コード!$A$1:$B$33,2,FALSE),IF(I21=2,VLOOKUP(AI21,女子種目コード!$A$35:$B$61,2,FALSE))))","v":""},null,0,2,null,null,null,"走幅跳",null,"砲丸投",{"$f":"COUNTIF($P$7:$P$116,19)+COUNTIF($U$7:$U$116,19)+COUNTIF($Z$7:$Z$116,19)","v":0},19,null,"","",{"$f":"VLookUpX(1,$C$7:$F$116,4,3)","v":{"$error":"#N/A"}},{"$f":"VLookUpX(1,$C$7:$F$116,4,4)","v":{"$error":"#N/A"}},null,null,"",0,0,0,0,null,"円盤投","ハンマー投",0,"",""]
[false,{"$f":"名簿!Q24","v":""},false,null,{"$f":"名簿!E24","v":0},{"$f":"名簿!BR24","v":""},{"$f":"名簿!Z24","v":""},"",{"$f":"名簿!O24","v":""},{"$f":"名簿!I24","v":0},{"$f":"名簿!K24","v":0},{"$f":"名簿!BU24","v":"00"},{"$f":"名簿!R24","v":""},{"$f":"名簿!D24","v":0},null,"",{"$f":"IF(O22=\"\",\"\",HLOOKUP(O22,名簿!$AB$8:$BG$118,17,FALSE))","v":""},0,2,null,"",{"$f":"IF(T22=\"\",\"\",HLOOKUP(T22,名簿!$AB$8:$BG$118,17,FALSE))","v":""},0,2,null,"",{"$f":"IF(Y22=\"\",\"\",HLOOKUP(Y22,名簿!$AB$8:$BG$118,17,FALSE))","v":""},0,2,null,{"$f":"IF(AD22=\"\",\"\",IF(I22=1,VLOOKUP(AD22,男子種目コード!$A$1:$B$33,2,FALSE),IF(I22=2,VLOOKUP(AD22,女子種目コード!$A$35:$B$61,2,FALSE))))","v":""},null,0,2,null,{"$f":"IF(AI22=\"\",\"\",IF(I22=1,VLOOKUP(AI22,男子種目コード!$A$1:$B$33,2,FALSE),IF(I22=2,VLOOKUP(AI22,女子種目コード!$A$35:$B$61,2,FALSE))))","v":""},null,0,2,null,null,null,"三段跳",null,"円盤投",{"$f":"COUNTIF($P$7:$P$116,20)+COUNTIF($U$7:$U$116,20)+COUNTIF($Z$7:$Z$116,20)","v":0},20,null,"","",{"$f":"VLookUpX(1,$C$7:$F$116,5,3)","v":{"$error":"#N/A"}},{"$f":"VLookUpX(1,$C$7:$F$116,5,4)","v":{"$error":"#N/A"}},null,null,"",0,0,0,0,null,"ハンマー投","やり投",0,"",""]
[false,{"$f":"名簿!Q25","v":""},false,null,{"$f":"名簿!E25","v":0},{"$f":"名簿!BR25","v":""},{"$f":"名簿!Z25","v":""},"",{"$f":"名簿!O25","v":""},{"$f":"名簿!I25","v":0},{"$f":"名簿!K25","v":0},{"$f":"名簿!BU25","v":"00"},{"$f":"名簿!R25","v":""},{"$f":"名簿!D25","v":0},null,"",{"$f":"IF(O23=\"\",\"\",HLOOKUP(O23,名簿!$AB$8:$BG$118,18,FALSE))","v":""},0,2,null,"",{"$f":"IF(T23=\"\",\"\",HLOOKUP(T23,名簿!$AB$8:$BG$118,18,FALSE))","v":""},0,2,null,"",{"$f":"IF(Y23=\"\",\"\",HLOOKUP(Y23,名簿!$AB$8:$BG$118,18,FALSE))","v":""},0,2,null,{"$f":"IF(AD23=\"\",\"\",IF(I23=1,VLOOKUP(AD23,男子種目コード!$A$1:$B$33,2,FALSE),IF(I23=2,VLOOKUP(AD23,女子種目コード!$A$35:$B$61,2,FALSE))))","v":""},null,0,2,null,{"$f":"IF(AI23=\"\",\"\",IF(I23=1,VLOOKUP(AI23,男子種目コード!$A$1:$B$33,2,FALSE),IF(I23=2,VLOOKUP(AI23,女子種目コード!$A$35:$B$61,2,FALSE))))","v":""},null,0,2,null,null,null,"砲丸投",null,"ハンマー投",{"$f":"COUNTIF($P$7:$P$116,21)+COUNTIF($U$7:$U$116,21)+COUNTIF($Z$7:$Z$116,21)","v":0},21,null,"","",{"$f":"VLookUpX(1,$C$7:$F$116,6,3)","v":{"$error":"#N/A"}},{"$f":"VLookUpX(1,$C$7:$F$116,6,4)","v":{"$error":"#N/A"}},null,null,"",0,0,0,0,null,"やり投","7種",0,"",""]
[false,{"$f":"名簿!Q26","v":""},false,null,{"$f":"名簿!E26","v":0},{"$f":"名簿!BR26","v":""},{"$f":"名簿!Z26","v":""},"",{"$f":"名簿!O26","v":""},{"$f":"名簿!I26","v":0},{"$f":"名簿!K26","v":0},{"$f":"名簿!BU26","v":"00"},{"$f":"名簿!R26","v":""},{"$f":"名簿!D26","v":0},null,"",{"$f":"IF(O24=\"\",\"\",HLOOKUP(O24,名簿!$AB$8:$BG$118,19,FALSE))","v":""},0,2,null,"",{"$f":"IF(T24=\"\",\"\",HLOOKUP(T24,名簿!$AB$8:$BG$118,19,FALSE))","v":""},0,2,null,"",{"$f":"IF(Y24=\"\",\"\",HLOOKUP(Y24,名簿!$AB$8:$BG$118,19,FALSE))","v":""},0,2,null,{"$f":"IF(AD24=\"\",\"\",IF(I24=1,VLOOKUP(AD24,男子種目コード!$A$1:$B$33,2,FALSE),IF(I24=2,VLOOKUP(AD24,女子種目コード!$A$35:$B$61,2,FALSE))))","v":""},null,0,2,null,{"$f":"IF(AI24=\"\",\"\",IF(I24=1,VLOOKUP(AI24,男子種目コード!$A$1:$B$33,2,FALSE),IF(I24=2,VLOOKUP(AI24,女子種目コード!$A$35:$B$61,2,FALSE))))","v":""},null,0,2,null,null,null,"円盤投",null,"やり投",{"$f":"COUNTIF($P$7:$P$116,22)+COUNTIF($U$7:$U$116,22)+COUNTIF($Z$7:$Z$116,22)","v":0},22,null,null,null,null,null,null,null,"",0,0,0,0,null,"8種",null,0,"",""]
[false,{"$f":"名簿!Q27","v":""},false,null,{"$f":"名簿!E27","v":0},{"$f":"名簿!BR27","v":""},{"$f":"名簿!Z27","v":""},"",{"$f":"名簿!O27","v":""},{"$f":"名簿!I27","v":0},{"$f":"名簿!K27","v":0},{"$f":"名簿!BU27","v":"00"},{"$f":"名簿!R27","v":""},{"$f":"名簿!D27","v":0},null,"",{"$f":"IF(O25=\"\",\"\",HLOOKUP(O25,名簿!$AB$8:$BG$118,20,FALSE))","v":""},0,2,null,"",{"$f":"IF(T25=\"\",\"\",HLOOKUP(T25,名簿!$AB$8:$BG$118,20,FALSE))","v":""},0,2,null,"",{"$f":"IF(Y25=\"\",\"\",HLOOKUP(Y25,名簿!$AB$8:$BG$118,20,FALSE))","v":""},0,2,null,{"$f":"IF(AD25=\"\",\"\",IF(I25=1,VLOOKUP(AD25,男子種目コード!$A$1:$B$33,2,FALSE),IF(I25=2,VLOOKUP(AD25,女子種目コード!$A$35:$B$61,2,FALSE))))","v":""},null,0,2,null,{"$f":"IF(AI25=\"\",\"\",IF(I25=1,VLOOKUP(AI25,男子種目コード!$A$1:$B$33,2,FALSE),IF(I25=2,VLOOKUP(AI25,女子種目コード!$A$35:$B$61,2,FALSE))))","v":""},null,0,2,null,null,null,"ハンマー投",null,"八種競技",{"$f":"COUNTIF($P$7:$P$116,23)+COUNTIF($U$7:$U$116,23)+COUNTIF($Z$7:$Z$116,23)","v":0},23,null,null,null,null,null,null,null,"",0,0,0,0,null,null,null,0,"",""]
[false,{"$f":"名簿!Q28","v":""},false,null,{"$f":"名簿!E28","v":0},{"$f":"名簿!BR28","v":""},{"$f":"名簿!Z28","v":""},"",{"$f":"名簿!O28","v":""},{"$f":"名簿!I28","v":0},{"$f":"名簿!K28","v":0},{"$f":"名簿!BU28","v":"00"},{"$f":"名簿!R28","v":""},{"$f":"名簿!D28","v":0},null,"",{"$f":"IF(O26=\"\",\"\",HLOOKUP(O26,名簿!$AB$8:$BG$118,21,FALSE))","v":""},0,2,null,"",{"$f":"IF(T26=\"\",\"\",HLOOKUP(T26,名簿!$AB$8:$BG$118,21,FALSE))","v":""},0,2,null,"",{"$f":"IF(Y26=\"\",\"\",HLOOKUP(Y26,名簿!$AB$8:$BG$118,21,FALSE))","v":""},0,2,null,{"$f":"IF(AD26=\"\",\"\",IF(I26=1,VLOOKUP(AD26,男子種目コード!$A$1:$B$33,2,FALSE),IF(I26=2,VLOOKUP(AD26,女子種目コード!$A$35:$B$61,2,FALSE))))","v":""},null,0,2,null,{"$f":"IF(AI26=\"\",\"\",IF(I26=1,VLOOKUP(AI26,男子種目コード!$A$1:$B$33,2,FALSE),IF(I26=2,VLOOKUP(AI26,女子種目コード!$A$35:$B$61,2,FALSE))))","v":""},null,0,2,null,null,null,"やり投",null,"計",{"$f":"SUM(AT7:AT25)","v":0},null,null,null,null,null,null,null,null,"",0,0,0,0,null,null,null,0,"",""]
[false,{"$f":"名簿!Q29","v":""},false,null,{"$f":"名簿!E29","v":0},{"$f":"名簿!BR29","v":""},{"$f":"名簿!Z29","v":""},"",{"$f":"名簿!O29","v":""},{"$f":"名簿!I29","v":0},{"$f":"名簿!K29","v":0},{"$f":"名簿!BU29","v":"00"},{"$f":"名簿!R29","v":""},{"$f":"名簿!D29","v":0},null,"",{"$f":"IF(O27=\"\",\"\",HLOOKUP(O27,名簿!$AB$8:$BG$118,22,FALSE))","v":""},0,2,null,"",{"$f":"IF(T27=\"\",\"\",HLOOKUP(T27,名簿!$AB$8:$BG$118,22,FALSE))","v":""},0,2,null,"",{"$f":"IF(Y27=\"\",\"\",HLOOKUP(Y27,名簿!$AB$8:$BG$118,22,FALSE))","v":""},0,2,null,{"$f":"IF(AD27=\"\",\"\",IF(I27=1,VLOOKUP(AD27,男子種目コード!$A$1:$B$33,2,FALSE),IF(I27=2,VLOOKUP(AD27,女子種目コード!$A$35:$B$61,2,FALSE))))","v":""},null,0,2,null,{"$f":"IF(AI27=\"\",\"\",IF(I27=1,VLOOKUP(AI27,男子種目コード!$A$1:$B$33,2,FALSE),IF(I27=2,VLOOKUP(AI27,女子種目コード!$A$35:$B$61,2,FALSE))))","v":""},null,0,2,null,null,null,"8種",null,"100m",{"$f":"COUNTIF($P$7:$P$116,40)+COUNTIF($U$7:$U$116,40)+COUNTIF($Z$7:$Z$116,40)","v":0},40,"種目","400R",null,null,null,null,null,"",0,0,0,0,null,null,null,0,"",""]
[false,{"$f":"名簿!Q30","v":""},false,null,{"$f":"名簿!E30","v":0},{"$f":"名簿!BR30","v":""},{"$f":"名簿!Z30","v":""},"",{"$f":"名簿!O30","v":""},{"$f":"名簿!I30","v":0},{"$f":"名簿!K30","v":0},{"$f":"名簿!BU30","v":"00"},{"$f":"名簿!R30","v":""},{"$f":"名簿!D30","v":0},null,"",{"$f":"IF(O28=\"\",\"\",HLOOKUP(O28,名簿!$AB$8:$BG$118,23,FALSE))","v":""},0,2,null,"",{"$f":"IF(T28=\"\",\"\",HLOOKUP(T28,名簿!$AB$8:$BG$118,23,FALSE))","v":""},0,2,null,"",{"$f":"IF(Y28=\"\",\"\",HLOOKUP(Y28,名簿!$AB$8:$BG$118,23,FALSE))","v":""},0,2,null,{"$f":"IF(AD28=\"\",\"\",IF(I28=1,VLOOKUP(AD28,男子種目コード!$A$1:$B$33,2,FALSE),IF(I28=2,VLOOKUP(AD28,女子種目コード!$A$35:$B$61,2,FALSE))))","v":""},null,0,2,null,{"$f":"IF(AI28=\"\",\"\",IF(I28=1,VLOOKUP(AI28,男子種目コード!$A$1:$B$33,2,FALSE),IF(I28=2,VLOOKUP(AI28,女子種目コード!$A$35:$B$61,2,FALSE))))","v":""},null,0,2,null,null,null,"7種",null,"200m",{"$f":"COUNTIF($P$7:$P$116,41)+COUNTIF($U$7:$U$116,41)+COUNTIF($Z$7:$Z$116,41)","v":0},41,"記録",null,null,null,null,null,null,"",0,0,0,0,null,null,null,0,"",""]
[false,{"$f":"名簿!Q31","v":""},false,null,{"$f":"名簿!E31","v":0},{"$f":"名簿!BR31","v":""},{"$f":"名簿!Z31","v":""},"",{"$f":"名簿!O31","v":""},{"$f":"名簿!I31","v":0},{"$f":"名簿!K31","v":0},{"$f":"名簿!BU31","v":"00"},{"$f":"名簿!R31","v":""},{"$f":"名簿!D31","v":0},null,"",{"$f":"IF(O29=\"\",\"\",HLOOKUP(O29,名簿!$AB$8:$BG$118,24,FALSE))","v":""},0,2,null,"",{"$f":"IF(T29=\"\",\"\",HLOOKUP(T29,名簿!$AB$8:$BG$118,24,FALSE))","v":""},0,2,null,"",{"$f":"IF(Y29=\"\",\"\",HLOOKUP(Y29,名簿!$AB$8:$BG$118,24,FALSE))","v":""},0,2,null,{"$f":"IF(AD29=\"\",\"\",IF(I29=1,VLOOKUP(AD29,男子種目コード!$A$1:$B$33,2,FALSE),IF(I29=2,VLOOKUP(AD29,女子種目コード!$A$35:$B$61,2,FALSE))))","v":""},null,0,2,null,{"$f":"IF(AI29=\"\",\"\",IF(I29=1,VLOOKUP(AI29,男子種目コード!$A$1:$B$33,2,FALSE),IF(I29=2,VLOOKUP(AI29,女子種目コード!$A$35:$B$61,2,FALSE))))","v":""},null,0,2,null,null,null,"4×100",null,"400m",{"$f":"COUNTIF($P$7:$P$116,42)+COUNTIF($U$7:$U$116,42)+COUNTIF($Z$7:$Z$116,42)","v":0},42,"ｵｰﾀﾞｰ",{"$f":"COUNTIF($AE$7:$AE$116,53)","v":0},null,null,null,null,null,"",0,0,0,0,null,null,null,0,"",""]
[false,{"$f":"名簿!Q32","v":""},false,null,{"$f":"名簿!E32","v":0},{"$f":"名簿!BR32","v":""},{"$f":"名簿!Z32","v":""},"",{"$f":"名簿!O32","v":""},{"$f":"名簿!I32","v":0},{"$f":"名簿!K32","v":0},{"$f":"名簿!BU32","v":"00"},{"$f":"名簿!R32","v":""},{"$f":"名簿!D32","v":0},null,"",{"$f":"IF(O30=\"\",\"\",HLOOKUP(O30,名簿!$AB$8:$BG$118,25,FALSE))","v":""},0,2,null,"",{"$f":"IF(T30=\"\",\"\",HLOOKUP(T30,名簿!$AB$8:$BG$118,25,FALSE))","v":""},0,2,null,"",{"$f":"IF(Y30=\"\",\"\",HLOOKUP(Y30,名簿!$AB$8:$BG$118,25,FALSE))","v":""},0,2,null,{"$f":"IF(AD30=\"\",\"\",IF(I30=1,VLOOKUP(AD30,男子種目コード!$A$1:$B$33,2,FALSE),IF(I30=2,VLOOKUP(AD30,女子種目コード!$A$35:$B$61,2,FALSE))))","v":""},null,0,2,null,{"$f":"IF(AI30=\"\",\"\",IF(I30=1,VLOOKUP(AI30,男子種目コード!$A$1:$B$33,2,FALSE),IF(I30=2,VLOOKUP(AI30,女子種目コード!$A$35:$B$61,2,FALSE))))","v":""},null,0,2,null,null,null,"4×400",null,"800m",{"$f":"COUNTIF($P$7:$P$116,43)+COUNTIF($U$7:$U$116,43)+COUNTIF($Z$7:$Z$116,43)","v":0},43,"選　手",{"$f":"IF(ISERROR(AY30),\"\",AY30)","v":""},{"$f":"IF(ISERROR(AZ30),\"\",AZ30)","v":""},{"$f":"VLookUpX(2,$A$7:$F$116,1,5)","v":{"$error":"#N/A"}},{"$f":"VLookUpX(2,$A$7:$F$116,1,6)","v":{"$error":"#N/A"}},null,null,"",0,0,0,0,null,null,null,0,"",""]
[false,{"$f":"名簿!Q33","v":""},false,null,{"$f":"名簿!E33","v":0},{"$f":"名簿!BR33","v":""},{"$f":"名簿!Z33","v":""},"",{"$f":"名簿!O33","v":""},{"$f":"名簿!I33","v":0},{"$f":"名簿!K33","v":0},{"$f":"名簿!BU33","v":"00"},{"$f":"名簿!R33","v":""},{"$f":"名簿!D33","v":0},null,"",{"$f":"IF(O31=\"\",\"\",HLOOKUP(O31,名簿!$AB$8:$BG$118,26,FALSE))","v":""},0,2,null,"",{"$f":"IF(T31=\"\",\"\",HLOOKUP(T31,名簿!$AB$8:$BG$118,26,FALSE))","v":""},0,2,null,"",{"$f":"IF(Y31=\"\",\"\",HLOOKUP(Y31,名簿!$AB$8:$BG$118,26,FALSE))","v":""},0,2,null,{"$f":"IF(AD31=\"\",\"\",IF(I31=1,VLOOKUP(AD31,男子種目コード!$A$1:$B$33,2,FALSE),IF(I31=2,VLOOKUP(AD31,女子種目コード!$A$35:$B$61,2,FALSE))))","v":""},null,0,2,null,{"$f":"IF(AI31=\"\",\"\",IF(I31=1,VLOOKUP(AI31,男子種目コード!$A$1:$B$33,2,FALSE),IF(I31=2,VLOOKUP(AI31,女子種目コード!$A$35:$B$61,2,FALSE))))","v":""},null,0,2,null,null,null,null,null,"1500m",{"$f":"COUNTIF($P$7:$P$116,44)+COUNTIF($U$7:$U$116,44)+COUNTIF($Z$7:$Z$116,44)","v":0},44,null,"","",{"$f":"VLookUpX(2,$A$7:$F$116,2,5)","v":{"$error":"#N/A"}},{"$f":"VLookUpX(2,$A$7:$F$116,2,6)","v":{"$error":"#N/A"}},null,null,"",0,0,0,0,null,null,null,0,"",""]
[false,{"$f":"名簿!Q34","v":""},false,null,{"$f":"名簿!E34","v":0},{"$f":"名簿!BR34","v":""},{"$f":"名簿!Z34","v":""},"",{"$f":"名簿!O34","v":""},{"$f":"名簿!I34","v":0},{"$f":"名簿!K34","v":0},{"$f":"名簿!BU34","v":"00"},{"$f":"名簿!R34","v":""},{"$f":"名簿!D34","v":0},null,"",{"$f":"IF(O32=\"\",\"\",HLOOKUP(O32,名簿!$AB$8:$BG$118,27,FALSE))","v":""},0,2,null,"",{"$f":"IF(T32=\"\",\"\",HLOOKUP(T32,名簿!$AB$8:$BG$118,27,FALSE))","v":""},0,2,null,"",{"$f":"IF(Y32=\"\",\"\",HLOOKUP(Y32,名簿!$AB$8:$BG$118,27,FALSE))","v":""},0,2,null,{"$f":"IF(AD32=\"\",\"\",IF(I32=1,VLOOKUP(AD32,男子種目コード!$A$1:$B$33,2,FALSE),IF(I32=2,VLOOKUP(AD32,女子種目コード!$A$35:$B$61,2,FALSE))))","v":""},null,0,2,null,{"$f":"IF(AI32=\"\",\"\",IF(I32=1,VLOOKUP(AI32,男子種目コード!$A$1:$B$33,2,FALSE),IF(I32=2,VLOOKUP(AI32,女子種目コード!$A$35:$B$61,2,FALSE))))","v":""},null,0,2,null,null,null,null,null,"3000m",{"$f":"COUNTIF($P$7:$P$116,45)+COUNTIF($U$7:$U$116,45)+COUNTIF($Z$7:$Z$116,45)","v":0},45,null,"","",{"$f":"VLookUpX(2,$A$7:$F$116,3,5)","v":{"$error":"#N/A"}},{"$f":"VLookUpX(2,$A$7:$F$116,3,6)","v":{"$error":"#N/A"}},null,null,"",0,0,0,0,null,null,null,0,"",""]
[false,{"$f":"名簿!Q35","v":""},false,null,{"$f":"名簿!E35","v":0},{"$f":"名簿!BR35","v":""},{"$f":"名簿!Z35","v":""},"",{"$f":"名簿!O35","v":""},{"$f":"名簿!I35","v":0},{"$f":"名簿!K35","v":0},{"$f":"名簿!BU35","v":"00"},{"$f":"名簿!R35","v":""},{"$f":"名簿!D35","v":0},null,"",{"$f":"IF(O33=\"\",\"\",HLOOKUP(O33,名簿!$AB$8:$BG$118,28,FALSE))","v":""},0,2,null,"",{"$f":"IF(T33=\"\",\"\",HLOOKUP(T33,名簿!$AB$8:$BG$118,28,FALSE))","v":""},0,2,null,"",{"$f":"IF(Y33=\"\",\"\",HLOOKUP(Y33,名簿!$AB$8:$BG$118,28,FALSE))","v":""},0,2,null,{"$f":"IF(AD33=\"\",\"\",IF(I33=1,VLOOKUP(AD33,男子種目コード!$A$1:$B$33,2,FALSE),IF(I33=2,VLOOKUP(AD33,女子種目コード!$A$35:$B$61,2,FALSE))))","v":""},null,0,2,null,{"$f":"IF(AI33=\"\",\"\",IF(I33=1,VLOOKUP(AI33,男子種目コード!$A$1:$B$33,2,FALSE),IF(I33=2,VLOOKUP(AI33,女子種目コード!$A$35:$B$61,2,FALSE))))","v":""},null,0,2,null,null,null,null,null,"100mH",{"$f":"COUNTIF($P$7:$P$116,48)+COUNTIF($U$7:$U$116,48)+COUNTIF($Z$7:$Z$116,48)","v":0},48,null,"","",{"$f":"VLookUpX(2,$A$7:$F$116,4,5)","v":{"$error":"#N/A"}},{"$f":"VLookUpX(2,$A$7:$F$116,4,6)","v":{"$error":"#N/A"}},null,null,"",0,0,0,0,null,null,null,0,"",""]
[false,{"$f":"名簿!Q36","v":""},false,null,{"$f":"名簿!E36","v":0},{"$f":"名簿!BR36","v":""},{"$f":"名簿!Z36","v":""},"",{"$f":"名簿!O36","v":""},{"$f":"名簿!I36","v":0},{"$f":"名簿!K36","v":0},{"$f":"名簿!BU36","v":"00"},{"$f":"名簿!R36","v":""},{"$f":"名簿!D36","v":0},null,"",{"$f":"IF(O34=\"\",\"\",HLOOKUP(O34,名簿!$AB$8:$BG$118,29,FALSE))","v":""},0,2,null,"",{"$f":"IF(T34=\"\",\"\",HLOOKUP(T34,名簿!$AB$8:$BG$118,29,FALSE))","v":""},0,2,null,"",{"$f":"IF(Y34=\"\",\"\",HLOOKUP(Y34,名簿!$AB$8:$BG$118,29,FALSE))","v":""},0,2,null,{"$f":"IF(AD34=\"\",\"\",IF(I34=1,VLOOKUP(AD34,男子種目コード!$A$1:$B$33,2,FALSE),IF(I34=2,VLOOKUP(AD34,女子種目コード!$A$35:$B$61,2,FALSE))))","v":""},null,0,2,null,{"$f":"IF(AI34=\"\",\"\",IF(I34=1,VLOOKUP(AI34,男子種目コード!$A$1:$B$33,2,FALSE),IF(I34=2,VLOOKUP(AI34,女子種目コード!$A$35:$B$61,2,FALSE))))","v":""},null,0,2,null,null,null,null,null,"400mH",{"$f":"COUNTIF($P$7:$P$116,49)+COUNTIF($U$7:$U$116,49)+COUNTIF($Z$7:$Z$116,49)","v":0},49,null,"","",{"$f":"VLookUpX(2,$A$7:$F$116,5,5)","v":{"$error":"#N/A"}},{"$f":"VLookUpX(2,$A$7:$F$116,5,6)","v":{"$error":"#N/A"}},null,null,"",0,0,0,0,null,null,null,0,"",""]
[false,{"$f":"名簿!Q37","v":""},false,null,{"$f":"名簿!E37","v":0},{"$f":"名簿!BR37","v":""},{"$f":"名簿!Z37","v":""},"",{"$f":"名簿!O37","v":""},{"$f":"名簿!I37","v":0},{"$f":"名簿!K37","v":0},{"$f":"名簿!BU37","v":"00"},{"$f":"名簿!R37","v":""},{"$f":"名簿!D37","v":0},null,"",{"$f":"IF(O35=\"\",\"\",HLOOKUP(O35,名簿!$AB$8:$BG$118,30,FALSE))","v":""},0,2,null,"",{"$f":"IF(T35=\"\",\"\",HLOOKUP(T35,名簿!$AB$8:$BG$118,30,FALSE))","v":""},0,2,null,"",{"$f":"IF(Y35=\"\",\"\",HLOOKUP(Y35,名簿!$AB$8:$BG$118,30,FALSE))","v":""},0,2,null,{"$f":"IF(AD35=\"\",\"\",IF(I35=1,VLOOKUP(AD35,男子種目コード!$A$1:$B$33,2,FALSE),IF(I35=2,VLOOKUP(AD35,女子種目コード!$A$35:$B$61,2,FALSE))))","v":""},null,0,2,null,{"$f":"IF(AI35=\"\",\"\",IF(I35=1,VLOOKUP(AI35,男子種目コード!$A$1:$B$33,2,FALSE),IF(I35=2,VLOOKUP(AI35,女子種目コード!$A$35:$B$61,2,FALSE))))","v":""},null,0,2,null,null,null,null,null,"5000mW",{"$f":"COUNTIF($P$7:$P$116,51)+COUNTIF($U$7:$U$116,51)+COUNTIF($Z$7:$Z$116,51)","v":0},51,null,"","",{"$f":"VLookUpX(2,$A$7:$F$116,6,5)","v":{"$error":"#N/A"}},{"$f":"VLookUpX(2,$A$7:$F$116,6,6)","v":{"$error":"#N/A"}},null,null,"",0,0,0,0,null,null,null,0,"",""]
[false,{"$f":"名簿!Q38","v":""},false,null,{"$f":"名簿!E38","v":0},{"$f":"名簿!BR38","v":""},{"$f":"名簿!Z38","v":""},"",{"$f":"名簿!O38","v":""},{"$f":"名簿!I38","v":0},{"$f":"名簿!K38","v":0},{"$f":"名簿!BU38","v":"00"},{"$f":"名簿!R38","v":""},{"$f":"名簿!D38","v":0},null,"",{"$f":"IF(O36=\"\",\"\",HLOOKUP(O36,名簿!$AB$8:$BG$118,31,FALSE))","v":""},0,2,null,"",{"$f":"IF(T36=\"\",\"\",HLOOKUP(T36,名簿!$AB$8:$BG$118,31,FALSE))","v":""},0,2,null,"",{"$f":"IF(Y36=\"\",\"\",HLOOKUP(Y36,名簿!$AB$8:$BG$118,31,FALSE))","v":""},0,2,null,{"$f":"IF(AD36=\"\",\"\",IF(I36=1,VLOOKUP(AD36,男子種目コード!$A$1:$B$33,2,FALSE),IF(I36=2,VLOOKUP(AD36,女子種目コード!$A$35:$B$61,2,FALSE))))","v":""},null,0,2,null,{"$f":"IF(AI36=\"\",\"\",IF(I36=1,VLOOKUP(AI36,男子種目コード!$A$1:$B$33,2,FALSE),IF(I36=2,VLOOKUP(AI36,女子種目コード!$A$35:$B$61,2,FALSE))))","v":""},null,0,2,null,null,null,null,null,"走高跳",{"$f":"COUNTIF($P$7:$P$116,55)+COUNTIF($U$7:$U$116,55)+COUNTIF($Z$7:$Z$116,55)","v":0},55,"種目","1600R",null,null,null,null,null,"",0,0,0,0,null,null,null,0,"",""]
[false,{"$f":"名簿!Q39","v":""},false,null,{"$f":"名簿!E39","v":0},{"$f":"名簿!BR39","v":""},{"$f":"名簿!Z39","v":""},"",{"$f":"名簿!O39","v":""},{"$f":"名簿!I39","v":0},{"$f":"名簿!K39","v":0},{"$f":"名簿!BU39","v":"00"},{"$f":"名簿!R39","v":""},{"$f":"名簿!D39","v":0},null,"",{"$f":"IF(O37=\"\",\"\",HLOOKUP(O37,名簿!$AB$8:$BG$118,32,FALSE))","v":""},0,2,null,"",{"$f":"IF(T37=\"\",\"\",HLOOKUP(T37,名簿!$AB$8:$BG$118,32,FALSE))","v":""},0,2,null,"",{"$f":"IF(Y37=\"\",\"\",HLOOKUP(Y37,名簿!$AB$8:$BG$118,32,FALSE))","v":""},0,2,null,{"$f":"IF(AD37=\"\",\"\",IF(I37=1,VLOOKUP(AD37,男子種目コード!$A$1:$B$33,2,FALSE),IF(I37=2,VLOOKUP(AD37,女子種目コード!$A$35:$B$61,2,FALSE))))","v":""},null,0,2,null,{"$f":"IF(AI37=\"\",\"\",IF(I37=1,VLOOKUP(AI37,男子種目コード!$A$1:$B$33,2,FALSE),IF(I37=2,VLOOKUP(AI37,女子種目コード!$A$35:$B$61,2,FALSE))))","v":""},null,0,2,null,null,null,null,null,"棒高跳",{"$f":"COUNTIF($P$7:$P$116,56)+COUNTIF($U$7:$U$116,56)+COUNTIF($Z$7:$Z$116,56)","v":0},56,"記録",null,null,null,null,null,null,"",0,0,0,0,null,null,null,0,"",""]
[false,{"$f":"名簿!Q40","v":""},false,null,{"$f":"名簿!E40","v":0},{"$f":"名簿!BR40","v":""},{"$f":"名簿!Z40","v":""},"",{"$f":"名簿!O40","v":""},{"$f":"名簿!I40","v":0},{"$f":"名簿!K40","v":0},{"$f":"名簿!BU40","v":"00"},{"$f":"名簿!R40","v":""},{"$f":"名簿!D40","v":0},null,"",{"$f":"IF(O38=\"\",\"\",HLOOKUP(O38,名簿!$AB$8:$BG$118,33,FALSE))","v":""},0,2,null,"",{"$f":"IF(T38=\"\",\"\",HLOOKUP(T38,名簿!$AB$8:$BG$118,33,FALSE))","v":""},0,2,null,"",{"$f":"IF(Y38=\"\",\"\",HLOOKUP(Y38,名簿!$AB$8:$BG$118,33,FALSE))","v":""},0,2,null,{"$f":"IF(AD38=\"\",\"\",IF(I38=1,VLOOKUP(AD38,男子種目コード!$A$1:$B$33,2,FALSE),IF(I38=2,VLOOKUP(AD38,女子種目コード!$A$35:$B$61,2,FALSE))))","v":""},null,0,2,null,{"$f":"IF(AI38=\"\",\"\",IF(I38=1,VLOOKUP(AI38,男子種目コード!$A$1:$B$33,2,FALSE),IF(I38=2,VLOOKUP(AI38,女子種目コード!$A$35:$B$61,2,FALSE))))","v":""},null,0,2,null,null,null,null,null,"走幅跳",{"$f":"COUNTIF($P$7:$P$116,57)+COUNTIF($U$7:$U$116,57)+COUNTIF($Z$7:$Z$116,57)","v":0},57,"ｵｰﾀﾞｰ",{"$f":"COUNTIF($AJ$7:$AJ$116,54)","v":0},null,null,null,null,null,"",0,0,0,0,null,null,null,0,"",""]
[false,{"$f":"名簿!Q41","v":""},false,null,{"$f":"名簿!E41","v":0},{"$f":"名簿!BR41","v":""},{"$f":"名簿!Z41","v":""},"",{"$f":"名簿!O41","v":""},{"$f":"名簿!I41","v":0},{"$f":"名簿!K41","v":0},{"$f":"名簿!BU41","v":"00"},{"$f":"名簿!R41","v":""},{"$f":"名簿!D41","v":0},null,"",{"$f":"IF(O39=\"\",\"\",HLOOKUP(O39,名簿!$AB$8:$BG$118,34,FALSE))","v":""},0,2,null,"",{"$f":"IF(T39=\"\",\"\",HLOOKUP(T39,名簿!$AB$8:$BG$118,34,FALSE))","v":""},0,2,null,"",{"$f":"IF(Y39=\"\",\"\",HLOOKUP(Y39,名簿!$AB$8:$BG$118,34,FALSE))","v":""},0,2,null,{"$f":"IF(AD39=\"\",\"\",IF(I39=1,VLOOKUP(AD39,男子種目コード!$A$1:$B$33,2,FALSE),IF(I39=2,VLOOKUP(AD39,女子種目コード!$A$35:$B$61,2,FALSE))))","v":""},null,0,2,null,{"$f":"IF(AI39=\"\",\"\",IF(I39=1,VLOOKUP(AI39,男子種目コード!$A$1:$B$33,2,FALSE),IF(I39=2,VLOOKUP(AI39,女子種目コード!$A$35:$B$61,2,FALSE))))","v":""},null,0,2,null,null,null,null,null,"三段跳",{"$f":"COUNTIF($P$7:$P$116,58)+COUNTIF($U$7:$U$116,58)+COUNTIF($Z$7:$Z$116,58)","v":0},58,"選　手",{"$f":"IF(ISERROR(AY39),\"\",AY39)","v":""},{"$f":"IF(ISERROR(AZ39),\"\",AZ39)","v":""},{"$f":"VLookUpX(2,$C$7:$F$116,1,3)","v":{"$error":"#N/A"}},{"$f":"VLookUpX(2,$C$7:$F$116,1,4)","v":{"$error":"#N/A"}},null,null,"",{"$f":"IF(OR(BC39=1,T39=\"\"),0,1)","v":0},{"$f":"IF(OR(BC39=1,BD39=1,Y39=\"\"),0,1)","v":0},{"$f":"IF(OR(BC39=1,BD39=1,BE39=1,AD39=\"\"),0,1)","v":0},{"$f":"IF(OR(BC39=1,BD39=1,BE39=1,BF39=1,AI39=\"\"),0,1)","v":0},null,null,null,{"$f":"COUNT(P39,U39,Z39,AE39,AJ39)","v":0},{"$f":"IF(I39=1,BK39,\"\")","v":""},{"$f":"IF(I39=2,BK39,\"\")","v":""}]
[false,{"$f":"名簿!Q42","v":""},false,null,{"$f":"名簿!E42","v":0},{"$f":"名簿!BR42","v":""},{"$f":"名簿!Z42","v":""},"",{"$f":"名簿!O42","v":""},{"$f":"名簿!I42","v":0},{"$f":"名簿!K42","v":0},{"$f":"名簿!BU42","v":"00"},{"$f":"名簿!R42","v":""},{"$f":"名簿!D42","v":0},null,"",{"$f":"IF(O40=\"\",\"\",HLOOKUP(O40,名簿!$AB$8:$BG$118,35,FALSE))","v":""},0,2,null,"",{"$f":"IF(T40=\"\",\"\",HLOOKUP(T40,名簿!$AB$8:$BG$118,35,FALSE))","v":""},0,2,null,"",{"$f":"IF(Y40=\"\",\"\",HLOOKUP(Y40,名簿!$AB$8:$BG$118,35,FALSE))","v":""},0,2,null,{"$f":"IF(AD40=\"\",\"\",IF(I40=1,VLOOKUP(AD40,男子種目コード!$A$1:$B$33,2,FALSE),IF(I40=2,VLOOKUP(AD40,女子種目コード!$A$35:$B$61,2,FALSE))))","v":""},null,0,2,null,{"$f":"IF(AI40=\"\",\"\",IF(I40=1,VLOOKUP(AI40,男子種目コード!$A$1:$B$33,2,FALSE),IF(I40=2,VLOOKUP(AI40,女子種目コード!$A$35:$B$61,2,FALSE))))","v":""},null,0,2,null,null,null,null,null,"砲丸投",{"$f":"COUNTIF($P$7:$P$116,59)+COUNTIF($U$7:$U$116,59)+COUNTIF($Z$7:$Z$116,59)","v":0},59,null,"","",{"$f":"VLookUpX(2,$C$7:$F$116,2,3)","v":{"$error":"#N/A"}},{"$f":"VLookUpX(2,$C$7:$F$116,2,4)","v":{"$error":"#N/A"}},null,null,"",0,0,0,0,null,null,null,0,"",""]
[false,{"$f":"名簿!Q43","v":""},false,null,{"$f":"名簿!E43","v":0},{"$f":"名簿!BR43","v":""},{"$f":"名簿!Z43","v":""},"",{"$f":"名簿!O43","v":""},{"$f":"名簿!I43","v":0},{"$f":"名簿!K43","v":0},{"$f":"名簿!BU43","v":"00"},{"$f":"名簿!R43","v":""},{"$f":"名簿!D43","v":0},null,"",{"$f":"IF(O41=\"\",\"\",HLOOKUP(O41,名簿!$AB$8:$BG$118,36,FALSE))","v":""},0,2,null,"",{"$f":"IF(T41=\"\",\"\",HLOOKUP(T41,名簿!$AB$8:$BG$118,36,FALSE))","v":""},0,2,null,"",{"$f":"IF(Y41=\"\",\"\",HLOOKUP(Y41,名簿!$AB$8:$BG$118,36,FALSE))","v":""},0,2,null,{"$f":"IF(AD41=\"\",\"\",IF(I41=1,VLOOKUP(AD41,男子種目コード!$A$1:$B$33,2,FALSE),IF(I41=2,VLOOKUP(AD41,女子種目コード!$A$35:$B$61,2,FALSE))))","v":""},null,0,2,null,{"$f":"IF(AI41=\"\",\"\",IF(I41=1,VLOOKUP(AI41,男子種目コード!$A$1:$B$33,2,FALSE),IF(I41=2,VLOOKUP(AI41,女子種目コード!$A$35:$B$61,2,FALSE))))","v":""},null,0,2,null,null,null,null,null,"円盤投",{"$f":"COUNTIF($P$7:$P$116,60)+COUNTIF($U$7:$U$116,60)+COUNTIF($Z$7:$Z$116,60)","v":0},60,null,"","",{"$f":"VLookUpX(2,$C$7:$F$116,3,3)","v":{"$error":"#N/A"}},{"$f":"VLookUpX(2,$C$7:$F$116,3,4)","v":{"$error":"#N/A"}},null,null,"",0,0,0,0,null,null,null,0,"",""]
[false,{"$f":"名簿!Q44","v":""},false,null,{"$f":"名簿!E44","v":0},{"$f":"名簿!BR44","v":""},{"$f":"名簿!Z44","v":""},"",{"$f":"名簿!O44","v":""},{"$f":"名簿!I44","v":0},{"$f":"名簿!K44","v":0},{"$f":"名簿!BU44","v":"00"},{"$f":"名簿!R44","v":""},{"$f":"名簿!D44","v":0},null,"",{"$f":"IF(O42=\"\",\"\",HLOOKUP(O42,名簿!$AB$8:$BG$118,37,FALSE))","v":""},0,2,null,"",{"$f":"IF(T42=\"\",\"\",HLOOKUP(T42,名簿!$AB$8:$BG$118,37,FALSE))","v":""},0,2,null,"",{"$f":"IF(Y42=\"\",\"\",HLOOKUP(Y42,名簿!$AB$8:$BG$118,37,FALSE))","v":""},0,2,null,{"$f":"IF(AD42=\"\",\"\",IF(I42=1,VLOOKUP(AD42,男子種目コード!$A$1:$B$33,2,FALSE),IF(I42=2,VLOOKUP(AD42,女子種目コード!$A$35:$B$61,2,FALSE))))","v":""},null,0,2,null,{"$f":"IF(AI42=\"\",\"\",IF(I42=1,VLOOKUP(AI42,男子種目コード!$A$1:$B$33,2,FALSE),IF(I42=2,VLOOKUP(AI42,女子種目コード!$A$35:$B$61,2,FALSE))))","v":""},null,0,2,null,null,null,null,null,"ハンマー投",{"$f":"COUNTIF($P$7:$P$116,61)+COUNTIF($U$7:$U$116,61)+COUNTIF($Z$7:$Z$116,61)","v":0},61,null,"","",{"$f":"VLookUpX(2,$C$7:$F$116,4,3)","v":{"$error":"#N/A"}},{"$f":"VLookUpX(2,$C$7:$F$116,4,4)","v":{"$error":"#N/A"}},null,null,"",0,0,0,0,null,null,null,0,"",""]
[false,{"$f":"名簿!Q45","v":""},false,null,{"$f":"名簿!E45","v":0},{"$f":"名簿!BR45","v":""},{"$f":"名簿!Z45","v":""},"",{"$f":"名簿!O45","v":""},{"$f":"名簿!I45","v":0},{"$f":"名簿!K45","v":0},{"$f":"名簿!BU45","v":"00"},{"$f":"名簿!R45","v":""},{"$f":"名簿!D45","v":0},null,"",{"$f":"IF(O43=\"\",\"\",HLOOKUP(O43,名簿!$AB$8:$BG$118,38,FALSE))","v":""},0,2,null,"",{"$f":"IF(T43=\"\",\"\",HLOOKUP(T43,名簿!$AB$8:$BG$118,38,FALSE))","v":""},0,2,null,"",{"$f":"IF(Y43=\"\",\"\",HLOOKUP(Y43,名簿!$AB$8:$BG$118,38,FALSE))","v":""},0,2,null,{"$f":"IF(AD43=\"\",\"\",IF(I43=1,VLOOKUP(AD43,男子種目コード!$A$1:$B$33,2,FALSE),IF(I43=2,VLOOKUP(AD43,女子種目コード!$A$35:$B$61,2,FALSE))))","v":""},null,0,2,null,{"$f":"IF(AI43=\"\",\"\",IF(I43=1,VLOOKUP(AI43,男子種目コード!$A$1:$B$33,2,FALSE),IF(I43=2,VLOOKUP(AI43,女子種目コード!$A$35:$B$61,2,FALSE))))","v":""},null,0,2,null,null,null,null,null,"やり投",{"$f":"COUNTIF($P$7:$P$116,62)+COUNTIF($U$7:$U$116,62)+COUNTIF($Z$7:$Z$116,62)","v":0},62,null,"","",{"$f":"VLookUpX(2,$C$7:$F$116,5,3)","v":{"$error":"#N/A"}},{"$f":"VLookUpX(2,$C$7:$F$116,5,4)","v":{"$error":"#N/A"}},null,null,"",0,0,0,0,null,null,null,0,"",""]
[false,{"$f":"名簿!Q46","v":""},false,null,{"$f":"名簿!E46","v":0},{"$f":"名簿!BR46","v":""},{"$f":"名簿!Z46","v":""},"",{"$f":"名簿!O46","v":""},{"$f":"名簿!I46","v":0},{"$f":"名簿!K46","v":0},{"$f":"名簿!BU46","v":"00"},{"$f":"名簿!R46","v":""},{"$f":"名簿!D46","v":0},null,"",{"$f":"IF(O44=\"\",\"\",HLOOKUP(O44,名簿!$AB$8:$BG$118,39,FALSE))","v":""},0,2,null,"",{"$f":"IF(T44=\"\",\"\",HLOOKUP(T44,名簿!$AB$8:$BG$118,39,FALSE))","v":""},0,2,null,"",{"$f":"IF(Y44=\"\",\"\",HLOOKUP(Y44,名簿!$AB$8:$BG$118,39,FALSE))","v":""},0,2,null,{"$f":"IF(AD44=\"\",\"\",IF(I44=1,VLOOKUP(AD44,男子種目コード!$A$1:$B$33,2,FALSE),IF(I44=2,VLOOKUP(AD44,女子種目コード!$A$35:$B$61,2,FALSE))))","v":""},null,0,2,null,{"$f":"IF(AI44=\"\",\"\",IF(I44=1,VLOOKUP(AI44,男子種目コード!$A$1:$B$33,2,FALSE),IF(I44=2,VLOOKUP(AI44,女子種目コード!$A$35:$B$61,2,FALSE))))","v":""},null,0,2,null,null,null,null,null,"七種競技",{"$f":"COUNTIF($P$7:$P$116,63)+COUNTIF($U$7:$U$116,63)+COUNTIF($Z$7:$Z$116,63)","v":0},63,null,"","",{"$f":"VLookUpX(2,$C$7:$F$116,6,3)","v":{"$error":"#N/A"}},{"$f":"VLookUpX(2,$C$7:$F$116,6,4)","v":{"$error":"#N/A"}},null,null,"",0,0,0,0,null,null,null,0,"",""]
[false,{"$f":"名簿!Q47","v":""},false,null,{"$f":"名簿!E47","v":0},{"$f":"名簿!BR47","v":""},{"$f":"名簿!Z47","v":""},"",{"$f":"名簿!O47","v":""},{"$f":"名簿!I47","v":0},{"$f":"名簿!K47","v":0},{"$f":"名簿!BU47","v":"00"},{"$f":"名簿!R47","v":""},{"$f":"名簿!D47","v":0},null,"",{"$f":"IF(O45=\"\",\"\",HLOOKUP(O45,名簿!$AB$8:$BG$118,40,FALSE))","v":""},0,2,null,"",{"$f":"IF(T45=\"\",\"\",HLOOKUP(T45,名簿!$AB$8:$BG$118,40,FALSE))","v":""},0,2,null,"",{"$f":"IF(Y45=\"\",\"\",HLOOKUP(Y45,名簿!$AB$8:$BG$118,40,FALSE))","v":""},0,2,null,{"$f":"IF(AD45=\"\",\"\",IF(I45=1,VLOOKUP(AD45,男子種目コード!$A$1:$B$33,2,FALSE),IF(I45=2,VLOOKUP(AD45,女子種目コード!$A$35:$B$61,2,FALSE))))","v":""},null,0,2,null,{"$f":"IF(AI45=\"\",\"\",IF(I45=1,VLOOKUP(AI45,男子種目コード!$A$1:$B$33,2,FALSE),IF(I45=2,VLOOKUP(AI45,女子種目コード!$A$35:$B$61,2,FALSE))))","v":""},null,0,2,null,null,null,null,null,"計",{"$f":"SUM(AT27:AT44)","v":0},null,null,null,null,null,null,null,null,"",0,0,0,0,null,null,null,0,"",""]
[false,{"$f":"名簿!Q48","v":""},false,null,{"$f":"名簿!E48","v":0},{"$f":"名簿!BR48","v":""},{"$f":"名簿!Z48","v":""},"",{"$f":"名簿!O48","v":""},{"$f":"名簿!I48","v":0},{"$f":"名簿!K48","v":0},{"$f":"名簿!BU48","v":"00"},{"$f":"名簿!R48","v":""},{"$f":"名簿!D48","v":0},null,"",{"$f":"IF(O46=\"\",\"\",HLOOKUP(O46,名簿!$AB$8:$BG$118,41,FALSE))","v":""},0,2,null,"",{"$f":"IF(T46=\"\",\"\",HLOOKUP(T46,名簿!$AB$8:$BG$118,41,FALSE))","v":""},0,2,null,"",{"$f":"IF(Y46=\"\",\"\",HLOOKUP(Y46,名簿!$AB$8:$BG$118,41,FALSE))","v":""},0,2,null,{"$f":"IF(AD46=\"\",\"\",IF(I46=1,VLOOKUP(AD46,男子種目コード!$A$1:$B$33,2,FALSE),IF(I46=2,VLOOKUP(AD46,女子種目コード!$A$35:$B$61,2,FALSE))))","v":""},null,0,2,null,{"$f":"IF(AI46=\"\",\"\",IF(I46=1,VLOOKUP(AI46,男子種目コード!$A$1:$B$33,2,FALSE),IF(I46=2,VLOOKUP(AI46,女子種目コード!$A$35:$B$61,2,FALSE))))","v":""},null,0,2,null,null,null,null,null,"赤は制限オーバー",null,null,null,null,null,null,null,null,null,"",0,0,0,0,null,null,null,0,"",""]
[false,{"$f":"名簿!Q49","v":""},false,null,{"$f":"名簿!E49","v":0},{"$f":"名簿!BR49","v":""},{"$f":"名簿!Z49","v":""},"",{"$f":"名簿!O49","v":""},{"$f":"名簿!I49","v":0},{"$f":"名簿!K49","v":0},{"$f":"名簿!BU49","v":"00"},{"$f":"名簿!R49","v":""},{"$f":"名簿!D49","v":0},null,"",{"$f":"IF(O47=\"\",\"\",HLOOKUP(O47,名簿!$AB$8:$BG$118,42,FALSE))","v":""},0,2,null,"",{"$f":"IF(T47=\"\",\"\",HLOOKUP(T47,名簿!$AB$8:$BG$118,42,FALSE))","v":""},0,2,null,"",{"$f":"IF(Y47=\"\",\"\",HLOOKUP(Y47,名簿!$AB$8:$BG$118,42,FALSE))","v":""},0,2,null,{"$f":"IF(AD47=\"\",\"\",IF(I47=1,VLOOKUP(AD47,男子種目コード!$A$1:$B$33,2,FALSE),IF(I47=2,VLOOKUP(AD47,女子種目コード!$A$35:$B$61,2,FALSE))))","v":""},null,0,2,null,{"$f":"IF(AI47=\"\",\"\",IF(I47=1,VLOOKUP(AI47,男子種目コード!$A$1:$B$33,2,FALSE),IF(I47=2,VLOOKUP(AI47,女子種目コード!$A$35:$B$61,2,FALSE))))","v":""},null,0,2,null,null,null,null,null,null,null,null,null,null,null,null,null,null,null,"",0,0,0,0,null,null,null,0,"",""]
[false,{"$f":"名簿!Q50","v":""},false,null,{"$f":"名簿!E50","v":0},{"$f":"名簿!BR50","v":""},{"$f":"名簿!Z50","v":""},"",{"$f":"名簿!O50","v":""},{"$f":"名簿!I50","v":0},{"$f":"名簿!K50","v":0},{"$f":"名簿!BU50","v":"00"},{"$f":"名簿!R50","v":""},{"$f":"名簿!D50","v":0},null,"",{"$f":"IF(O48=\"\",\"\",HLOOKUP(O48,名簿!$AB$8:$BG$118,43,FALSE))","v":""},0,2,null,"",{"$f":"IF(T48=\"\",\"\",HLOOKUP(T48,名簿!$AB$8:$BG$118,43,FALSE))","v":""},0,2,null,"",{"$f":"IF(Y48=\"\",\"\",HLOOKUP(Y48,名簿!$AB$8:$BG$118,43,FALSE))","v":""},0,2,null,{"$f":"IF(AD48=\"\",\"\",IF(I48=1,VLOOKUP(AD48,男子種目コード!$A$1:$B$33,2,FALSE),IF(I48=2,VLOOKUP(AD48,女子種目コード!$A$35:$B$61,2,FALSE))))","v":""},null,0,2,null,{"$f":"IF(AI48=\"\",\"\",IF(I48=1,VLOOKUP(AI48,男子種目コード!$A$1:$B$33,2,FALSE),IF(I48=2,VLOOKUP(AI48,女子種目コード!$A$35:$B$61,2,FALSE))))","v":""},null,0,2,null,null,null,null,null,null,null,null,null,null,null,null,null,null,null,"",0,0,0,0,null,null,null,0,"",""]
[false,{"$f":"名簿!Q51","v":""},false,null,{"$f":"名簿!E51","v":0},{"$f":"名簿!BR51","v":""},{"$f":"名簿!Z51","v":""},"",{"$f":"名簿!O51","v":""},{"$f":"名簿!I51","v":0},{"$f":"名簿!K51","v":0},{"$f":"名簿!BU51","v":"00"},{"$f":"名簿!R51","v":""},{"$f":"名簿!D51","v":0},null,"",{"$f":"IF(O49=\"\",\"\",HLOOKUP(O49,名簿!$AB$8:$BG$118,44,FALSE))","v":""},0,2,null,"",{"$f":"IF(T49=\"\",\"\",HLOOKUP(T49,名簿!$AB$8:$BG$118,44,FALSE))","v":""},0,2,null,"",{"$f":"IF(Y49=\"\",\"\",HLOOKUP(Y49,名簿!$AB$8:$BG$118,44,FALSE))","v":""},0,2,null,{"$f":"IF(AD49=\"\",\"\",IF(I49=1,VLOOKUP(AD49,男子種目コード!$A$1:$B$33,2,FALSE),IF(I49=2,VLOOKUP(AD49,女子種目コード!$A$35:$B$61,2,FALSE))))","v":""},null,0,2,null,{"$f":"IF(AI49=\"\",\"\",IF(I49=1,VLOOKUP(AI49,男子種目コード!$A$1:$B$33,2,FALSE),IF(I49=2,VLOOKUP(AI49,女子種目コード!$A$35:$B$61,2,FALSE))))","v":""},null,0,2,null,null,null,null,null,null,null,null,null,null,null,null,null,null,null,"",0,0,0,0,null,null,null,0,"",""]
[false,{"$f":"名簿!Q52","v":""},false,null,{"$f":"名簿!E52","v":0},{"$f":"名簿!BR52","v":""},{"$f":"名簿!Z52","v":""},"",{"$f":"名簿!O52","v":""},{"$f":"名簿!I52","v":0},{"$f":"名簿!K52","v":0},{"$f":"名簿!BU52","v":"00"},{"$f":"名簿!R52","v":""},{"$f":"名簿!D52","v":0},null,"",{"$f":"IF(O50=\"\",\"\",HLOOKUP(O50,名簿!$AB$8:$BG$118,45,FALSE))","v":""},0,2,null,"",{"$f":"IF(T50=\"\",\"\",HLOOKUP(T50,名簿!$AB$8:$BG$118,45,FALSE))","v":""},0,2,null,"",{"$f":"IF(Y50=\"\",\"\",HLOOKUP(Y50,名簿!$AB$8:$BG$118,45,FALSE))","v":""},0,2,null,{"$f":"IF(AD50=\"\",\"\",IF(I50=1,VLOOKUP(AD50,男子種目コード!$A$1:$B$33,2,FALSE),IF(I50=2,VLOOKUP(AD50,女子種目コード!$A$35:$B$61,2,FALSE))))","v":""},null,0,2,null,{"$f":"IF(AI50=\"\",\"\",IF(I50=1,VLOOKUP(AI50,男子種目コード!$A$1:$B$33,2,FALSE),IF(I50=2,VLOOKUP(AI50,女子種目コード!$A$35:$B$61,2,FALSE))))","v":""},null,0,2,null,null,null,null,null,null,null,null,null,null,null,null,null,null,null,"",0,0,0,0,null,null,null,0,"",""]
[false,{"$f":"名簿!Q53","v":""},false,null,{"$f":"名簿!E53","v":0},{"$f":"名簿!BR53","v":""},{"$f":"名簿!Z53","v":""},"",{"$f":"名簿!O53","v":""},{"$f":"名簿!I53","v":0},{"$f":"名簿!K53","v":0},{"$f":"名簿!BU53","v":"00"},{"$f":"名簿!R53","v":""},{"$f":"名簿!D53","v":0},null,"",{"$f":"IF(O51=\"\",\"\",HLOOKUP(O51,名簿!$AB$8:$BG$118,46,FALSE))","v":""},0,2,null,"",{"$f":"IF(T51=\"\",\"\",HLOOKUP(T51,名簿!$AB$8:$BG$118,46,FALSE))","v":""},0,2,null,"",{"$f":"IF(Y51=\"\",\"\",HLOOKUP(Y51,名簿!$AB$8:$BG$118,46,FALSE))","v":""},0,2,null,{"$f":"IF(AD51=\"\",\"\",IF(I51=1,VLOOKUP(AD51,男子種目コード!$A$1:$B$33,2,FALSE),IF(I51=2,VLOOKUP(AD51,女子種目コード!$A$35:$B$61,2,FALSE))))","v":""},null,0,2,null,{"$f":"IF(AI51=\"\",\"\",IF(I51=1,VLOOKUP(AI51,男子種目コード!$A$1:$B$33,2,FALSE),IF(I51=2,VLOOKUP(AI51,女子種目コード!$A$35:$B$61,2,FALSE))))","v":""},null,0,2,null,null,null,null,null,null,null,null,null,null,null,null,null,null,null,"",0,0,0,0,null,null,null,0,"",""]
[false,{"$f":"名簿!Q54","v":""},false,null,{"$f":"名簿!E54","v":0},{"$f":"名簿!BR54","v":""},{"$f":"名簿!Z54","v":""},"",{"$f":"名簿!O54","v":""},{"$f":"名簿!I54","v":0},{"$f":"名簿!K54","v":0},{"$f":"名簿!BU54","v":"00"},{"$f":"名簿!R54","v":""},{"$f":"名簿!D54","v":0},null,"",{"$f":"IF(O52=\"\",\"\",HLOOKUP(O52,名簿!$AB$8:$BG$118,47,FALSE))","v":""},0,2,null,"",{"$f":"IF(T52=\"\",\"\",HLOOKUP(T52,名簿!$AB$8:$BG$118,47,FALSE))","v":""},0,2,null,"",{"$f":"IF(Y52=\"\",\"\",HLOOKUP(Y52,名簿!$AB$8:$BG$118,47,FALSE))","v":""},0,2,null,{"$f":"IF(AD52=\"\",\"\",IF(I52=1,VLOOKUP(AD52,男子種目コード!$A$1:$B$33,2,FALSE),IF(I52=2,VLOOKUP(AD52,女子種目コード!$A$35:$B$61,2,FALSE))))","v":""},null,0,2,null,{"$f":"IF(AI52=\"\",\"\",IF(I52=1,VLOOKUP(AI52,男子種目コード!$A$1:$B$33,2,FALSE),IF(I52=2,VLOOKUP(AI52,女子種目コード!$A$35:$B$61,2,FALSE))))","v":""},null,0,2,null,null,null,null,null,null,null,null,null,null,null,null,null,null,null,"",0,0,0,0,null,null,null,0,"",""]
[false,{"$f":"名簿!Q55","v":""},false,null,{"$f":"名簿!E55","v":0},{"$f":"名簿!BR55","v":""},{"$f":"名簿!Z55","v":""},"",{"$f":"名簿!O55","v":""},{"$f":"名簿!I55","v":0},{"$f":"名簿!K55","v":0},{"$f":"名簿!BU55","v":"00"},{"$f":"名簿!R55","v":""},{"$f":"名簿!D55","v":0},null,"",{"$f":"IF(O53=\"\",\"\",HLOOKUP(O53,名簿!$AB$8:$BG$118,48,FALSE))","v":""},0,2,null,"",{"$f":"IF(T53=\"\",\"\",HLOOKUP(T53,名簿!$AB$8:$BG$118,48,FALSE))","v":""},0,2,null,"",{"$f":"IF(Y53=\"\",\"\",HLOOKUP(Y53,名簿!$AB$8:$BG$118,48,FALSE))","v":""},0,2,null,{"$f":"IF(AD53=\"\",\"\",IF(I53=1,VLOOKUP(AD53,男子種目コード!$A$1:$B$33,2,FALSE),IF(I53=2,VLOOKUP(AD53,女子種目コード!$A$35:$B$61,2,FALSE))))","v":""},null,0,2,null,{"$f":"IF(AI53=\"\",\"\",IF(I53=1,VLOOKUP(AI53,男子種目コード!$A$1:$B$33,2,FALSE),IF(I53=2,VLOOKUP(AI53,女子種目コード!$A$35:$B$61,2,FALSE))))","v":""},null,0,2,null,null,null,null,null,null,null,null,null,null,null,null,null,null,null,"",0,0,0,0,null,null,null,0,"",""]
[false,{"$f":"名簿!Q56","v":""},false,null,{"$f":"名簿!E56","v":0},{"$f":"名簿!BR56","v":""},{"$f":"名簿!Z56","v":""},"",{"$f":"名簿!O56","v":""},{"$f":"名簿!I56","v":0},{"$f":"名簿!K56","v":0},{"$f":"名簿!BU56","v":"00"},{"$f":"名簿!R56","v":""},{"$f":"名簿!D56","v":0},null,"",{"$f":"IF(O54=\"\",\"\",HLOOKUP(O54,名簿!$AB$8:$BG$118,49,FALSE))","v":""},0,2,null,"",{"$f":"IF(T54=\"\",\"\",HLOOKUP(T54,名簿!$AB$8:$BG$118,49,FALSE))","v":""},0,2,null,"",{"$f":"IF(Y54=\"\",\"\",HLOOKUP(Y54,名簿!$AB$8:$BG$118,49,FALSE))","v":""},0,2,null,{"$f":"IF(AD54=\"\",\"\",IF(I54=1,VLOOKUP(AD54,男子種目コード!$A$1:$B$33,2,FALSE),IF(I54=2,VLOOKUP(AD54,女子種目コード!$A$35:$B$61,2,FALSE))))","v":""},null,0,2,null,{"$f":"IF(AI54=\"\",\"\",IF(I54=1,VLOOKUP(AI54,男子種目コード!$A$1:$B$33,2,FALSE),IF(I54=2,VLOOKUP(AI54,女子種目コード!$A$35:$B$61,2,FALSE))))","v":""},null,0,2,null,null,null,null,null,null,null,null,null,null,null,null,null,null,null,"",0,0,0,0,null,null,null,0,"",""]
[false,{"$f":"名簿!Q57","v":""},false,null,{"$f":"名簿!E57","v":0},{"$f":"名簿!BR57","v":""},{"$f":"名簿!Z57","v":""},"",{"$f":"名簿!O57","v":""},{"$f":"名簿!I57","v":0},{"$f":"名簿!K57","v":0},{"$f":"名簿!BU57","v":"00"},{"$f":"名簿!R57","v":""},{"$f":"名簿!D57","v":0},null,"",{"$f":"IF(O55=\"\",\"\",HLOOKUP(O55,名簿!$AB$8:$BG$118,50,FALSE))","v":""},0,2,null,"",{"$f":"IF(T55=\"\",\"\",HLOOKUP(T55,名簿!$AB$8:$BG$118,50,FALSE))","v":""},0,2,null,"",{"$f":"IF(Y55=\"\",\"\",HLOOKUP(Y55,名簿!$AB$8:$BG$118,50,FALSE))","v":""},0,2,null,{"$f":"IF(AD55=\"\",\"\",IF(I55=1,VLOOKUP(AD55,男子種目コード!$A$1:$B$33,2,FALSE),IF(I55=2,VLOOKUP(AD55,女子種目コード!$A$35:$B$61,2,FALSE))))","v":""},null,0,2,null,{"$f":"IF(AI55=\"\",\"\",IF(I55=1,VLOOKUP(AI55,男子種目コード!$A$1:$B$33,2,FALSE),IF(I55=2,VLOOKUP(AI55,女子種目コード!$A$35:$B$61,2,FALSE))))","v":""},null,0,2,null,null,null,null,null,null,null,null,null,null,null,null,null,null,null,"",0,0,0,0,null,null,null,0,"",""]
[false,{"$f":"名簿!Q58","v":""},false,null,{"$f":"名簿!E58","v":0},{"$f":"名簿!BR58","v":""},{"$f":"名簿!Z58","v":""},"",{"$f":"名簿!O58","v":""},{"$f":"名簿!I58","v":0},{"$f":"名簿!K58","v":0},{"$f":"名簿!BU58","v":"00"},{"$f":"名簿!R58","v":""},{"$f":"名簿!D58","v":0},null,"",{"$f":"IF(O56=\"\",\"\",HLOOKUP(O56,名簿!$AB$8:$BG$118,51,FALSE))","v":""},0,2,null,"",{"$f":"IF(T56=\"\",\"\",HLOOKUP(T56,名簿!$AB$8:$BG$118,51,FALSE))","v":""},0,2,null,"",{"$f":"IF(Y56=\"\",\"\",HLOOKUP(Y56,名簿!$AB$8:$BG$118,51,FALSE))","v":""},0,2,null,{"$f":"IF(AD56=\"\",\"\",IF(I56=1,VLOOKUP(AD56,男子種目コード!$A$1:$B$33,2,FALSE),IF(I56=2,VLOOKUP(AD56,女子種目コード!$A$35:$B$61,2,FALSE))))","v":""},null,0,2,null,{"$f":"IF(AI56=\"\",\"\",IF(I56=1,VLOOKUP(AI56,男子種目コード!$A$1:$B$33,2,FALSE),IF(I56=2,VLOOKUP(AI56,女子種目コード!$A$35:$B$61,2,FALSE))))","v":""},null,0,2,null,null,null,null,null,null,null,null,null,null,null,null,null,null,null,"",0,0,0,0,null,null,null,0,"",""]
[false,{"$f":"名簿!Q59","v":""},false,null,{"$f":"名簿!E59","v":0},{"$f":"名簿!BR59","v":""},{"$f":"名簿!Z59","v":""},"",{"$f":"名簿!O59","v":""},{"$f":"名簿!I59","v":0},{"$f":"名簿!K59","v":0},{"$f":"名簿!BU59","v":"00"},{"$f":"名簿!R59","v":""},{"$f":"名簿!D59","v":0},null,"",{"$f":"IF(O57=\"\",\"\",HLOOKUP(O57,名簿!$AB$8:$BG$118,52,FALSE))","v":""},0,2,null,"",{"$f":"IF(T57=\"\",\"\",HLOOKUP(T57,名簿!$AB$8:$BG$118,52,FALSE))","v":""},0,2,null,"",{"$f":"IF(Y57=\"\",\"\",HLOOKUP(Y57,名簿!$AB$8:$BG$118,52,FALSE))","v":""},0,2,null,{"$f":"IF(AD57=\"\",\"\",IF(I57=1,VLOOKUP(AD57,男子種目コード!$A$1:$B$33,2,FALSE),IF(I57=2,VLOOKUP(AD57,女子種目コード!$A$35:$B$61,2,FALSE))))","v":""},null,0,2,null,{"$f":"IF(AI57=\"\",\"\",IF(I57=1,VLOOKUP(AI57,男子種目コード!$A$1:$B$33,2,FALSE),IF(I57=2,VLOOKUP(AI57,女子種目コード!$A$35:$B$61,2,FALSE))))","v":""},null,0,2,null,null,null,null,null,null,null,null,null,null,null,null,null,null,null,"",0,0,0,0,null,null,null,0,"",""]
[false,{"$f":"名簿!Q60","v":""},false,null,{"$f":"名簿!E60","v":0},{"$f":"名簿!BR60","v":""},{"$f":"名簿!Z60","v":""},"",{"$f":"名簿!O60","v":""},{"$f":"名簿!I60","v":0},{"$f":"名簿!K60","v":0},{"$f":"名簿!BU60","v":"00"},{"$f":"名簿!R60","v":""},{"$f":"名簿!D60","v":0},null,"",{"$f":"IF(O58=\"\",\"\",HLOOKUP(O58,名簿!$AB$8:$BG$118,53,FALSE))","v":""},0,2,null,"",{"$f":"IF(T58=\"\",\"\",HLOOKUP(T58,名簿!$AB$8:$BG$118,53,FALSE))","v":""},0,2,null,"",{"$f":"IF(Y58=\"\",\"\",HLOOKUP(Y58,名簿!$AB$8:$BG$118,53,FALSE))","v":""},0,2,null,{"$f":"IF(AD58=\"\",\"\",IF(I58=1,VLOOKUP(AD58,男子種目コード!$A$1:$B$33,2,FALSE),IF(I58=2,VLOOKUP(AD58,女子種目コード!$A$35:$B$61,2,FALSE))))","v":""},null,0,2,null,{"$f":"IF(AI58=\"\",\"\",IF(I58=1,VLOOKUP(AI58,男子種目コード!$A$1:$B$33,2,FALSE),IF(I58=2,VLOOKUP(AI58,女子種目コード!$A$35:$B$61,2,FALSE))))","v":""},null,0,2,null,null,null,null,null,null,null,null,null,null,null,null,null,null,null,"",0,0,0,0,null,null,null,0,"",""]
[false,{"$f":"名簿!Q61","v":""},false,null,{"$f":"名簿!E61","v":0},{"$f":"名簿!BR61","v":""},{"$f":"名簿!Z61","v":""},"",{"$f":"名簿!O61","v":""},{"$f":"名簿!I61","v":0},{"$f":"名簿!K61","v":0},{"$f":"名簿!BU61","v":"00"},{"$f":"名簿!R61","v":""},{"$f":"名簿!D61","v":0},null,"",{"$f":"IF(O59=\"\",\"\",HLOOKUP(O59,名簿!$AB$8:$BG$118,54,FALSE))","v":""},0,2,null,"",{"$f":"IF(T59=\"\",\"\",HLOOKUP(T59,名簿!$AB$8:$BG$118,54,FALSE))","v":""},0,2,null,"",{"$f":"IF(Y59=\"\",\"\",HLOOKUP(Y59,名簿!$AB$8:$BG$118,54,FALSE))","v":""},0,2,null,{"$f":"IF(AD59=\"\",\"\",IF(I59=1,VLOOKUP(AD59,男子種目コード!$A$1:$B$33,2,FALSE),IF(I59=2,VLOOKUP(AD59,女子種目コード!$A$35:$B$61,2,FALSE))))","v":""},null,0,2,null,{"$f":"IF(AI59=\"\",\"\",IF(I59=1,VLOOKUP(AI59,男子種目コード!$A$1:$B$33,2,FALSE),IF(I59=2,VLOOKUP(AI59,女子種目コード!$A$35:$B$61,2,FALSE))))","v":""},null,0,2,null,null,null,null,null,null,null,null,null,null,null,null,null,null,null,"",0,0,0,0,null,null,null,0,"",""]
[false,{"$f":"名簿!Q62","v":""},false,null,{"$f":"名簿!E62","v":0},{"$f":"名簿!BR62","v":""},{"$f":"名簿!Z62","v":""},"",{"$f":"名簿!O62","v":""},{"$f":"名簿!I62","v":0},{"$f":"名簿!K62","v":0},{"$f":"名簿!BU62","v":"00"},{"$f":"名簿!R62","v":""},{"$f":"名簿!D62","v":0},null,"",{"$f":"IF(O60=\"\",\"\",HLOOKUP(O60,名簿!$AB$8:$BG$118,55,FALSE))","v":""},0,2,null,"",{"$f":"IF(T60=\"\",\"\",HLOOKUP(T60,名簿!$AB$8:$BG$118,55,FALSE))","v":""},0,2,null,"",{"$f":"IF(Y60=\"\",\"\",HLOOKUP(Y60,名簿!$AB$8:$BG$118,55,FALSE))","v":""},0,2,null,{"$f":"IF(AD60=\"\",\"\",IF(I60=1,VLOOKUP(AD60,男子種目コード!$A$1:$B$33,2,FALSE),IF(I60=2,VLOOKUP(AD60,女子種目コード!$A$35:$B$61,2,FALSE))))","v":""},null,0,2,null,{"$f":"IF(AI60=\"\",\"\",IF(I60=1,VLOOKUP(AI60,男子種目コード!$A$1:$B$33,2,FALSE),IF(I60=2,VLOOKUP(AI60,女子種目コード!$A$35:$B$61,2,FALSE))))","v":""},null,0,2,null,null,null,null,null,null,null,null,null,null,null,null,null,null,null,"",0,0,0,0,null,null,null,0,"",""]
[false,{"$f":"名簿!Q63","v":""},false,null,{"$f":"名簿!E63","v":0},{"$f":"名簿!BR63","v":""},{"$f":"名簿!Z63","v":""},"",{"$f":"名簿!O63","v":""},{"$f":"名簿!I63","v":0},{"$f":"名簿!K63","v":0},{"$f":"名簿!BU63","v":"00"},{"$f":"名簿!R63","v":""},{"$f":"名簿!D63","v":0},null,"",{"$f":"IF(O61=\"\",\"\",HLOOKUP(O61,名簿!$AB$8:$BG$118,56,FALSE))","v":""},0,2,null,"",{"$f":"IF(T61=\"\",\"\",HLOOKUP(T61,名簿!$AB$8:$BG$118,56,FALSE))","v":""},0,2,null,"",{"$f":"IF(Y61=\"\",\"\",HLOOKUP(Y61,名簿!$AB$8:$BG$118,56,FALSE))","v":""},0,2,null,{"$f":"IF(AD61=\"\",\"\",IF(I61=1,VLOOKUP(AD61,男子種目コード!$A$1:$B$33,2,FALSE),IF(I61=2,VLOOKUP(AD61,女子種目コード!$A$35:$B$61,2,FALSE))))","v":""},null,0,2,null,{"$f":"IF(AI61=\"\",\"\",IF(I61=1,VLOOKUP(AI61,男子種目コード!$A$1:$B$33,2,FALSE),IF(I61=2,VLOOKUP(AI61,女子種目コード!$A$35:$B$61,2,FALSE))))","v":""},null,0,2,null,null,null,null,null,null,null,null,null,null,null,null,null,null,null,"",0,0,0,0,null,null,null,0,"",""]
[false,{"$f":"名簿!Q64","v":""},false,null,{"$f":"名簿!E64","v":0},{"$f":"名簿!BR64","v":""},{"$f":"名簿!Z64","v":""},"",{"$f":"名簿!O64","v":""},{"$f":"名簿!I64","v":0},{"$f":"名簿!K64","v":0},{"$f":"名簿!BU64","v":"00"},{"$f":"名簿!R64","v":""},{"$f":"名簿!D64","v":0},null,"",{"$f":"IF(O62=\"\",\"\",HLOOKUP(O62,名簿!$AB$8:$BG$118,57,FALSE))","v":""},0,2,null,"",{"$f":"IF(T62=\"\",\"\",HLOOKUP(T62,名簿!$AB$8:$BG$118,57,FALSE))","v":""},0,2,null,"",{"$f":"IF(Y62=\"\",\"\",HLOOKUP(Y62,名簿!$AB$8:$BG$118,57,FALSE))","v":""},0,2,null,{"$f":"IF(AD62=\"\",\"\",IF(I62=1,VLOOKUP(AD62,男子種目コード!$A$1:$B$33,2,FALSE),IF(I62=2,VLOOKUP(AD62,女子種目コード!$A$35:$B$61,2,FALSE))))","v":""},null,0,2,null,{"$f":"IF(AI62=\"\",\"\",IF(I62=1,VLOOKUP(AI62,男子種目コード!$A$1:$B$33,2,FALSE),IF(I62=2,VLOOKUP(AI62,女子種目コード!$A$35:$B$61,2,FALSE))))","v":""},null,0,2,null,null,null,null,null,null,null,null,null,null,null,null,null,null,null,"",0,0,0,0,null,null,null,0,"",""]
[false,{"$f":"名簿!Q65","v":""},false,null,{"$f":"名簿!E65","v":0},{"$f":"名簿!BR65","v":""},{"$f":"名簿!Z65","v":""},"",{"$f":"名簿!O65","v":""},{"$f":"名簿!I65","v":0},{"$f":"名簿!K65","v":0},{"$f":"名簿!BU65","v":"00"},{"$f":"名簿!R65","v":""},{"$f":"名簿!D65","v":0},null,"",{"$f":"IF(O63=\"\",\"\",HLOOKUP(O63,名簿!$AB$8:$BG$118,58,FALSE))","v":""},0,2,null,"",{"$f":"IF(T63=\"\",\"\",HLOOKUP(T63,名簿!$AB$8:$BG$118,58,FALSE))","v":""},0,2,null,"",{"$f":"IF(Y63=\"\",\"\",HLOOKUP(Y63,名簿!$AB$8:$BG$118,58,FALSE))","v":""},0,2,null,{"$f":"IF(AD63=\"\",\"\",IF(I63=1,VLOOKUP(AD63,男子種目コード!$A$1:$B$33,2,FALSE),IF(I63=2,VLOOKUP(AD63,女子種目コード!$A$35:$B$61,2,FALSE))))","v":""},null,0,2,null,{"$f":"IF(AI63=\"\",\"\",IF(I63=1,VLOOKUP(AI63,男子種目コード!$A$1:$B$33,2,FALSE),IF(I63=2,VLOOKUP(AI63,女子種目コード!$A$35:$B$61,2,FALSE))))","v":""},null,0,2,null,null,null,null,null,null,null,null,null,null,null,null,null,null,null,"",0,0,0,0,null,null,null,0,"",""]
[false,{"$f":"名簿!Q66","v":""},false,null,{"$f":"名簿!E66","v":0},{"$f":"名簿!BR66","v":""},{"$f":"名簿!Z66","v":""},"",{"$f":"名簿!O66","v":""},{"$f":"名簿!I66","v":0},{"$f":"名簿!K66","v":0},{"$f":"名簿!BU66","v":"00"},{"$f":"名簿!R66","v":""},{"$f":"名簿!D66","v":0},null,"",{"$f":"IF(O64=\"\",\"\",HLOOKUP(O64,名簿!$AB$8:$BG$118,59,FALSE))","v":""},0,2,null,"",{"$f":"IF(T64=\"\",\"\",HLOOKUP(T64,名簿!$AB$8:$BG$118,59,FALSE))","v":""},0,2,null,"",{"$f":"IF(Y64=\"\",\"\",HLOOKUP(Y64,名簿!$AB$8:$BG$118,59,FALSE))","v":""},0,2,null,{"$f":"IF(AD64=\"\",\"\",IF(I64=1,VLOOKUP(AD64,男子種目コード!$A$1:$B$33,2,FALSE),IF(I64=2,VLOOKUP(AD64,女子種目コード!$A$35:$B$61,2,FALSE))))","v":""},null,0,2,null,{"$f":"IF(AI64=\"\",\"\",IF(I64=1,VLOOKUP(AI64,男子種目コード!$A$1:$B$33,2,FALSE),IF(I64=2,VLOOKUP(AI64,女子種目コード!$A$35:$B$61,2,FALSE))))","v":""},null,0,2,null,null,null,null,null,null,null,null,null,null,null,null,null,null,null,"",0,0,0,0,null,null,null,0,"",""]
[false,{"$f":"名簿!Q67","v":""},false,null,{"$f":"名簿!E67","v":0},{"$f":"名簿!BR67","v":""},{"$f":"名簿!Z67","v":""},"",{"$f":"名簿!O67","v":""},{"$f":"名簿!I67","v":0},{"$f":"名簿!K67","v":0},{"$f":"名簿!BU67","v":"00"},{"$f":"名簿!R67","v":""},{"$f":"名簿!D67","v":0},null,"",{"$f":"IF(O65=\"\",\"\",HLOOKUP(O65,名簿!$AB$8:$BG$118,60,FALSE))","v":""},0,2,null,"",{"$f":"IF(T65=\"\",\"\",HLOOKUP(T65,名簿!$AB$8:$BG$118,60,FALSE))","v":""},0,2,null,"",{"$f":"IF(Y65=\"\",\"\",HLOOKUP(Y65,名簿!$AB$8:$BG$118,60,FALSE))","v":""},0,2,null,{"$f":"IF(AD65=\"\",\"\",IF(I65=1,VLOOKUP(AD65,男子種目コード!$A$1:$B$33,2,FALSE),IF(I65=2,VLOOKUP(AD65,女子種目コード!$A$35:$B$61,2,FALSE))))","v":""},null,0,2,null,{"$f":"IF(AI65=\"\",\"\",IF(I65=1,VLOOKUP(AI65,男子種目コード!$A$1:$B$33,2,FALSE),IF(I65=2,VLOOKUP(AI65,女子種目コード!$A$35:$B$61,2,FALSE))))","v":""},null,0,2,null,null,null,null,null,null,null,null,null,null,null,null,null,null,null,"",0,0,0,0,null,null,null,0,"",""]
[false,{"$f":"名簿!Q68","v":""},false,null,{"$f":"名簿!E68","v":0},{"$f":"名簿!BR68","v":""},{"$f":"名簿!Z68","v":""},"",{"$f":"名簿!O68","v":""},{"$f":"名簿!I68","v":0},{"$f":"名簿!K68","v":0},{"$f":"名簿!BU68","v":"00"},{"$f":"名簿!R68","v":""},{"$f":"名簿!D68","v":0},null,"",{"$f":"IF(O66=\"\",\"\",HLOOKUP(O66,名簿!$AB$8:$BG$118,61,FALSE))","v":""},0,2,null,"",{"$f":"IF(T66=\"\",\"\",HLOOKUP(T66,名簿!$AB$8:$BG$118,61,FALSE))","v":""},0,2,null,"",{"$f":"IF(Y66=\"\",\"\",HLOOKUP(Y66,名簿!$AB$8:$BG$118,61,FALSE))","v":""},0,2,null,{"$f":"IF(AD66=\"\",\"\",IF(I66=1,VLOOKUP(AD66,男子種目コード!$A$1:$B$33,2,FALSE),IF(I66=2,VLOOKUP(AD66,女子種目コード!$A$35:$B$61,2,FALSE))))","v":""},null,0,2,null,{"$f":"IF(AI66=\"\",\"\",IF(I66=1,VLOOKUP(AI66,男子種目コード!$A$1:$B$33,2,FALSE),IF(I66=2,VLOOKUP(AI66,女子種目コード!$A$35:$B$61,2,FALSE))))","v":""},null,0,2,null,null,null,null,null,null,null,null,null,null,null,null,null,null,null,"",0,0,0,0,null,null,null,0,"",""]
[false,{"$f":"名簿!Q69","v":""},false,null,{"$f":"名簿!E69","v":0},{"$f":"名簿!BR69","v":""},{"$f":"名簿!Z69","v":""},"",{"$f":"名簿!O69","v":""},{"$f":"名簿!I69","v":0},{"$f":"名簿!K69","v":0},{"$f":"名簿!BU69","v":"00"},{"$f":"名簿!R69","v":""},{"$f":"名簿!D69","v":0},null,"",{"$f":"IF(O67=\"\",\"\",HLOOKUP(O67,名簿!$AB$8:$BG$118,62,FALSE))","v":""},0,2,null,"",{"$f":"IF(T67=\"\",\"\",HLOOKUP(T67,名簿!$AB$8:$BG$118,62,FALSE))","v":""},0,2,null,"",{"$f":"IF(Y67=\"\",\"\",HLOOKUP(Y67,名簿!$AB$8:$BG$118,62,FALSE))","v":""},0,2,null,{"$f":"IF(AD67=\"\",\"\",IF(I67=1,VLOOKUP(AD67,男子種目コード!$A$1:$B$33,2,FALSE),IF(I67=2,VLOOKUP(AD67,女子種目コード!$A$35:$B$61,2,FALSE))))","v":""},null,0,2,null,{"$f":"IF(AI67=\"\",\"\",IF(I67=1,VLOOKUP(AI67,男子種目コード!$A$1:$B$33,2,FALSE),IF(I67=2,VLOOKUP(AI67,女子種目コード!$A$35:$B$61,2,FALSE))))","v":""},null,0,2,null,null,null,null,null,null,null,null,null,null,null,null,null,null,null,"",0,0,0,0,null,null,null,0,"",""]
[false,{"$f":"名簿!Q70","v":""},false,null,{"$f":"名簿!E70","v":0},{"$f":"名簿!BR70","v":""},{"$f":"名簿!Z70","v":""},"",{"$f":"名簿!O70","v":""},{"$f":"名簿!I70","v":0},{"$f":"名簿!K70","v":0},{"$f":"名簿!BU70","v":"00"},{"$f":"名簿!R70","v":""},{"$f":"名簿!D70","v":0},null,"",{"$f":"IF(O68=\"\",\"\",HLOOKUP(O68,名簿!$AB$8:$BG$118,63,FALSE))","v":""},0,2,null,"",{"$f":"IF(T68=\"\",\"\",HLOOKUP(T68,名簿!$AB$8:$BG$118,63,FALSE))","v":""},0,2,null,"",{"$f":"IF(Y68=\"\",\"\",HLOOKUP(Y68,名簿!$AB$8:$BG$118,63,FALSE))","v":""},0,2,null,{"$f":"IF(AD68=\"\",\"\",IF(I68=1,VLOOKUP(AD68,男子種目コード!$A$1:$B$33,2,FALSE),IF(I68=2,VLOOKUP(AD68,女子種目コード!$A$35:$B$61,2,FALSE))))","v":""},null,0,2,null,{"$f":"IF(AI68=\"\",\"\",IF(I68=1,VLOOKUP(AI68,男子種目コード!$A$1:$B$33,2,FALSE),IF(I68=2,VLOOKUP(AI68,女子種目コード!$A$35:$B$61,2,FALSE))))","v":""},null,0,2,null,null,null,null,null,null,null,null,null,null,null,null,null,null,null,"",0,0,0,0,null,null,null,0,"",""]
[false,{"$f":"名簿!Q71","v":""},false,null,{"$f":"名簿!E71","v":0},{"$f":"名簿!BR71","v":""},{"$f":"名簿!Z71","v":""},"",{"$f":"名簿!O71","v":""},{"$f":"名簿!I71","v":0},{"$f":"名簿!K71","v":0},{"$f":"名簿!BU71","v":"00"},{"$f":"名簿!R71","v":""},{"$f":"名簿!D71","v":0},null,"",{"$f":"IF(O69=\"\",\"\",HLOOKUP(O69,名簿!$AB$8:$BG$118,64,FALSE))","v":""},0,2,null,"",{"$f":"IF(T69=\"\",\"\",HLOOKUP(T69,名簿!$AB$8:$BG$118,64,FALSE))","v":""},0,2,null,"",{"$f":"IF(Y69=\"\",\"\",HLOOKUP(Y69,名簿!$AB$8:$BG$118,64,FALSE))","v":""},0,2,null,{"$f":"IF(AD69=\"\",\"\",IF(I69=1,VLOOKUP(AD69,男子種目コード!$A$1:$B$33,2,FALSE),IF(I69=2,VLOOKUP(AD69,女子種目コード!$A$35:$B$61,2,FALSE))))","v":""},null,0,2,null,{"$f":"IF(AI69=\"\",\"\",IF(I69=1,VLOOKUP(AI69,男子種目コード!$A$1:$B$33,2,FALSE),IF(I69=2,VLOOKUP(AI69,女子種目コード!$A$35:$B$61,2,FALSE))))","v":""},null,0,2,null,null,null,null,null,null,null,null,null,null,null,null,null,null,null,"",0,0,0,0,null,null,null,0,"",""]
[false,{"$f":"名簿!Q72","v":""},false,null,{"$f":"名簿!E72","v":0},{"$f":"名簿!BR72","v":""},{"$f":"名簿!Z72","v":""},"",{"$f":"名簿!O72","v":""},{"$f":"名簿!I72","v":0},{"$f":"名簿!K72","v":0},{"$f":"名簿!BU72","v":"00"},{"$f":"名簿!R72","v":""},{"$f":"名簿!D72","v":0},null,"",{"$f":"IF(O70=\"\",\"\",HLOOKUP(O70,名簿!$AB$8:$BG$118,65,FALSE))","v":""},0,2,null,"",{"$f":"IF(T70=\"\",\"\",HLOOKUP(T70,名簿!$AB$8:$BG$118,65,FALSE))","v":""},0,2,null,"",{"$f":"IF(Y70=\"\",\"\",HLOOKUP(Y70,名簿!$AB$8:$BG$118,65,FALSE))","v":""},0,2,null,{"$f":"IF(AD70=\"\",\"\",IF(I70=1,VLOOKUP(AD70,男子種目コード!$A$1:$B$33,2,FALSE),IF(I70=2,VLOOKUP(AD70,女子種目コード!$A$35:$B$61,2,FALSE))))","v":""},null,0,2,null,{"$f":"IF(AI70=\"\",\"\",IF(I70=1,VLOOKUP(AI70,男子種目コード!$A$1:$B$33,2,FALSE),IF(I70=2,VLOOKUP(AI70,女子種目コード!$A$35:$B$61,2,FALSE))))","v":""},null,0,2,null,null,null,null,null,null,null,null,null,null,null,null,null,null,null,"",0,0,0,0,null,null,null,0,"",""]
[false,{"$f":"名簿!Q73","v":""},false,null,{"$f":"名簿!E73","v":0},{"$f":"名簿!BR73","v":""},{"$f":"名簿!Z73","v":""},"",{"$f":"名簿!O73","v":""},{"$f":"名簿!I73","v":0},{"$f":"名簿!K73","v":0},{"$f":"名簿!BU73","v":"00"},{"$f":"名簿!R73","v":""},{"$f":"名簿!D73","v":0},null,"",{"$f":"IF(O71=\"\",\"\",HLOOKUP(O71,名簿!$AB$8:$BG$118,66,FALSE))","v":""},0,2,null,"",{"$f":"IF(T71=\"\",\"\",HLOOKUP(T71,名簿!$AB$8:$BG$118,66,FALSE))","v":""},0,2,null,"",{"$f":"IF(Y71=\"\",\"\",HLOOKUP(Y71,名簿!$AB$8:$BG$118,66,FALSE))","v":""},0,2,null,{"$f":"IF(AD71=\"\",\"\",IF(I71=1,VLOOKUP(AD71,男子種目コード!$A$1:$B$33,2,FALSE),IF(I71=2,VLOOKUP(AD71,女子種目コード!$A$35:$B$61,2,FALSE))))","v":""},null,0,2,null,{"$f":"IF(AI71=\"\",\"\",IF(I71=1,VLOOKUP(AI71,男子種目コード!$A$1:$B$33,2,FALSE),IF(I71=2,VLOOKUP(AI71,女子種目コード!$A$35:$B$61,2,FALSE))))","v":""},null,0,2,null,null,null,null,null,null,null,null,null,null,null,null,null,null,null,"",{"$f":"IF(OR(BC71=1,T71=\"\"),0,1)","v":0},{"$f":"IF(OR(BC71=1,BD71=1,Y71=\"\"),0,1)","v":0},{"$f":"IF(OR(BC71=1,BD71=1,BE71=1,AD71=\"\"),0,1)","v":0},{"$f":"IF(OR(BC71=1,BD71=1,BE71=1,BF71=1,AI71=\"\"),0,1)","v":0},null,null,null,{"$f":"COUNT(P71,U71,Z71,AE71,AJ71)","v":0},{"$f":"IF(I71=1,BK71,\"\")","v":""},{"$f":"IF(I71=2,BK71,\"\")","v":""}]
[{"$f":"IF(I72=1,IF(AD72=\"4×100\",1),IF(AD72=\"4×100\",2))","v":false},{"$f":"名簿!Q74","v":""},{"$f":"IF(I72=1,IF(AI72=\"4×400\",1),IF(AI72=\"4×400\",2))","v":false},null,{"$f":"名簿!E74","v":0},{"$f":"名簿!BR74","v":""},{"$f":"名簿!Z74","v":""},{"$f":"F72","v":""},{"$f":"名簿!O74","v":""},{"$f":"名簿!I74","v":0},{"$f":"名簿!K74","v":0},{"$f":"名簿!BU74","v":"00"},{"$f":"名簿!R74","v":""},{"$f":"名簿!D74","v":0},null,{"$f":"IF(O72=\"\",\"\",IF($I72=1,VLOOKUP(O72,$AS$7:$AU$25,3,FALSE),IF($I72=2,VLOOKUP(O72,$AS$27:$AU$44,3,FALSE))))","v":""},{"$f":"IF(O72=\"\",\"\",HLOOKUP(O72,名簿!$AB$8:$BG$118,67,FALSE))","v":""},0,2,null,{"$f":"IF(T72=\"\",\"\",IF($I72=1,VLOOKUP(T72,$AS$7:$AU$25,3,FALSE),IF($I72=2,VLOOKUP(T72,$AS$27:$AU$44,3,FALSE))))","v":""},{"$f":"IF(T72=\"\",\"\",HLOOKUP(T72,名簿!$AB$8:$BG$118,67,FALSE))","v":""},0,2,null,{"$f":"IF(Y72=\"\",\"\",IF($I72=1,VLOOKUP(Y72,$AS$7:$AU$25,3,FALSE),IF($I72=2,VLOOKUP(Y72,$AS$27:$AU$44,3,FALSE))))","v":""},{"$f":"IF(Y72=\"\",\"\",HLOOKUP(Y72,名簿!$AB$8:$BG$118,67,FALSE))","v":""},0,2,null,{"$f":"IF(AD72=\"\",\"\",IF(I72=1,VLOOKUP(AD72,男子種目コード!$A$1:$B$33,2,FALSE),IF(I72=2,VLOOKUP(AD72,女子種目コード!$A$35:$B$61,2,FALSE))))","v":""},null,0,2,null,{"$f":"IF(AI72=\"\",\"\",IF(I72=1,VLOOKUP(AI72,男子種目コード!$A$1:$B$33,2,FALSE),IF(I72=2,VLOOKUP(AI72,女子種目コード!$A$35:$B$61,2,FALSE))))","v":""},null,0,2,null,null,null,null,null,null,null,null,null,null,null,null,null,null,null,{"$f":"IF(O72=\"\",\"\",1)","v":""},0,0,0,0,null,null,null,0,"",""]
[false,{"$f":"名簿!Q75","v":""},false,null,{"$f":"名簿!E75","v":0},{"$f":"名簿!BR75","v":""},{"$f":"名簿!Z75","v":""},"",{"$f":"名簿!O75","v":""},{"$f":"名簿!I75","v":0},{"$f":"名簿!K75","v":0},{"$f":"名簿!BU75","v":"00"},{"$f":"名簿!R75","v":""},{"$f":"名簿!D75","v":0},null,"",{"$f":"IF(O73=\"\",\"\",HLOOKUP(O73,名簿!$AB$8:$BG$118,68,FALSE))","v":""},0,2,null,"",{"$f":"IF(T73=\"\",\"\",HLOOKUP(T73,名簿!$AB$8:$BG$118,68,FALSE))","v":""},0,2,null,"",{"$f":"IF(Y73=\"\",\"\",HLOOKUP(Y73,名簿!$AB$8:$BG$118,68,FALSE))","v":""},0,2,null,{"$f":"IF(AD73=\"\",\"\",IF(I73=1,VLOOKUP(AD73,男子種目コード!$A$1:$B$33,2,FALSE),IF(I73=2,VLOOKUP(AD73,女子種目コード!$A$35:$B$61,2,FALSE))))","v":""},null,0,2,null,{"$f":"IF(AI73=\"\",\"\",IF(I73=1,VLOOKUP(AI73,男子種目コード!$A$1:$B$33,2,FALSE),IF(I73=2,VLOOKUP(AI73,女子種目コード!$A$35:$B$61,2,FALSE))))","v":""},null,0,2,null,null,null,null,null,null,null,null,null,null,null,null,null,null,null,"",0,0,0,0,null,null,null,0,"",""]
[false,{"$f":"名簿!Q76","v":""},false,null,{"$f":"名簿!E76","v":0},{"$f":"名簿!BR76","v":""},{"$f":"名簿!Z76","v":""},"",{"$f":"名簿!O76","v":""},{"$f":"名簿!I76","v":0},{"$f":"名簿!K76","v":0},{"$f":"名簿!BU76","v":"00"},{"$f":"名簿!R76","v":""},{"$f":"名簿!D76","v":0},null,"",{"$f":"IF(O74=\"\",\"\",HLOOKUP(O74,名簿!$AB$8:$BG$118,69,FALSE))","v":""},0,2,null,"",{"$f":"IF(T74=\"\",\"\",HLOOKUP(T74,名簿!$AB$8:$BG$118,69,FALSE))","v":""},0,2,null,"",{"$f":"IF(Y74=\"\",\"\",HLOOKUP(Y74,名簿!$AB$8:$BG$118,69,FALSE))","v":""},0,2,null,{"$f":"IF(AD74=\"\",\"\",IF(I74=1,VLOOKUP(AD74,男子種目コード!$A$1:$B$33,2,FALSE),IF(I74=2,VLOOKUP(AD74,女子種目コード!$A$35:$B$61,2,FALSE))))","v":""},null,0,2,null,{"$f":"IF(AI74=\"\",\"\",IF(I74=1,VLOOKUP(AI74,男子種目コード!$A$1:$B$33,2,FALSE),IF(I74=2,VLOOKUP(AI74,女子種目コード!$A$35:$B$61,2,FALSE))))","v":""},null,0,2,null,null,null,null,null,null,null,null,null,null,null,null,null,null,null,"",0,0,0,0,null,null,null,0,"",""]
[false,{"$f":"名簿!Q77","v":""},false,null,{"$f":"名簿!E77","v":0},{"$f":"名簿!BR77","v":""},{"$f":"名簿!Z77","v":""},"",{"$f":"名簿!O77","v":""},{"$f":"名簿!I77","v":0},{"$f":"名簿!K77","v":0},{"$f":"名簿!BU77","v":"00"},{"$f":"名簿!R77","v":""},{"$f":"名簿!D77","v":0},null,"",{"$f":"IF(O75=\"\",\"\",HLOOKUP(O75,名簿!$AB$8:$BG$118,70,FALSE))","v":""},0,2,null,"",{"$f":"IF(T75=\"\",\"\",HLOOKUP(T75,名簿!$AB$8:$BG$118,70,FALSE))","v":""},0,2,null,"",{"$f":"IF(Y75=\"\",\"\",HLOOKUP(Y75,名簿!$AB$8:$BG$118,70,FALSE))","v":""},0,2,null,{"$f":"IF(AD75=\"\",\"\",IF(I75=1,VLOOKUP(AD75,男子種目コード!$A$1:$B$33,2,FALSE),IF(I75=2,VLOOKUP(AD75,女子種目コード!$A$35:$B$61,2,FALSE))))","v":""},null,0,2,null,{"$f":"IF(AI75=\"\",\"\",IF(I75=1,VLOOKUP(AI75,男子種目コード!$A$1:$B$33,2,FALSE),IF(I75=2,VLOOKUP(AI75,女子種目コード!$A$35:$B$61,2,FALSE))))","v":""},null,0,2,null,null,null,null,null,null,null,null,null,null,null,null,null,null,null,"",0,0,0,0,null,null,null,0,"",""]
[false,{"$f":"名簿!Q78","v":""},false,null,{"$f":"名簿!E78","v":0},{"$f":"名簿!BR78","v":""},{"$f":"名簿!Z78","v":""},"",{"$f":"名簿!O78","v":""},{"$f":"名簿!I78","v":0},{"$f":"名簿!K78","v":0},{"$f":"名簿!BU78","v":"00"},{"$f":"名簿!R78","v":""},{"$f":"名簿!D78","v":0},null,"",{"$f":"IF(O76=\"\",\"\",HLOOKUP(O76,名簿!$AB$8:$BG$118,71,FALSE))","v":""},0,2,null,"",{"$f":"IF(T76=\"\",\"\",HLOOKUP(T76,名簿!$AB$8:$BG$118,71,FALSE))","v":""},0,2,null,"",{"$f":"IF(Y76=\"\",\"\",HLOOKUP(Y76,名簿!$AB$8:$BG$118,71,FALSE))","v":""},0,2,null,{"$f":"IF(AD76=\"\",\"\",IF(I76=1,VLOOKUP(AD76,男子種目コード!$A$1:$B$33,2,FALSE),IF(I76=2,VLOOKUP(AD76,女子種目コード!$A$35:$B$61,2,FALSE))))","v":""},null,0,2,null,{"$f":"IF(AI76=\"\",\"\",IF(I76=1,VLOOKUP(AI76,男子種目コード!$A$1:$B$33,2,FALSE),IF(I76=2,VLOOKUP(AI76,女子種目コード!$A$35:$B$61,2,FALSE))))","v":""},null,0,2,null,null,null,null,null,null,null,null,null,null,null,null,null,null,null,"",0,0,0,0,null,null,null,0,"",""]
[false,{"$f":"名簿!Q79","v":""},false,null,{"$f":"名簿!E79","v":0},{"$f":"名簿!BR79","v":""},{"$f":"名簿!Z79","v":""},"",{"$f":"名簿!O79","v":""},{"$f":"名簿!I79","v":0},{"$f":"名簿!K79","v":0},{"$f":"名簿!BU79","v":"00"},{"$f":"名簿!R79","v":""},{"$f":"名簿!D79","v":0},null,"",{"$f":"IF(O77=\"\",\"\",HLOOKUP(O77,名簿!$AB$8:$BG$118,72,FALSE))","v":""},0,2,null,"",{"$f":"IF(T77=\"\",\"\",HLOOKUP(T77,名簿!$AB$8:$BG$118,72,FALSE))","v":""},0,2,null,"",{"$f":"IF(Y77=\"\",\"\",HLOOKUP(Y77,名簿!$AB$8:$BG$118,72,FALSE))","v":""},0,2,null,{"$f":"IF(AD77=\"\",\"\",IF(I77=1,VLOOKUP(AD77,男子種目コード!$A$1:$B$33,2,FALSE),IF(I77=2,VLOOKUP(AD77,女子種目コード!$A$35:$B$61,2,FALSE))))","v":""},null,0,2,null,{"$f":"IF(AI77=\"\",\"\",IF(I77=1,VLOOKUP(AI77,男子種目コード!$A$1:$B$33,2,FALSE),IF(I77=2,VLOOKUP(AI77,女子種目コード!$A$35:$B$61,2,FALSE))))","v":""},null,0,2,null,null,null,null,null,null,null,null,null,null,null,null,null,null,null,"",0,0,0,0,null,null,null,0,"",""]
[false,{"$f":"名簿!Q80","v":""},false,null,{"$f":"名簿!E80","v":0},{"$f":"名簿!BR80","v":""},{"$f":"名簿!Z80","v":""},"",{"$f":"名簿!O80","v":""},{"$f":"名簿!I80","v":0},{"$f":"名簿!K80","v":0},{"$f":"名簿!BU80","v":"00"},{"$f":"名簿!R80","v":""},{"$f":"名簿!D80","v":0},null,"",{"$f":"IF(O78=\"\",\"\",HLOOKUP(O78,名簿!$AB$8:$BG$118,73,FALSE))","v":""},0,2,null,"",{"$f":"IF(T78=\"\",\"\",HLOOKUP(T78,名簿!$AB$8:$BG$118,73,FALSE))","v":""},0,2,null,"",{"$f":"IF(Y78=\"\",\"\",HLOOKUP(Y78,名簿!$AB$8:$BG$118,73,FALSE))","v":""},0,2,null,{"$f":"IF(AD78=\"\",\"\",IF(I78=1,VLOOKUP(AD78,男子種目コード!$A$1:$B$33,2,FALSE),IF(I78=2,VLOOKUP(AD78,女子種目コード!$A$35:$B$61,2,FALSE))))","v":""},null,0,2,null,{"$f":"IF(AI78=\"\",\"\",IF(I78=1,VLOOKUP(AI78,男子種目コード!$A$1:$B$33,2,FALSE),IF(I78=2,VLOOKUP(AI78,女子種目コード!$A$35:$B$61,2,FALSE))))","v":""},null,0,2,null,null,null,null,null,null,null,null,null,null,null,null,null,null,null,"",0,0,0,0,null,null,null,0,"",""]
[false,{"$f":"名簿!Q81","v":""},false,null,{"$f":"名簿!E81","v":0},{"$f":"名簿!BR81","v":""},{"$f":"名簿!Z81","v":""},"",{"$f":"名簿!O81","v":""},{"$f":"名簿!I81","v":0},{"$f":"名簿!K81","v":0},{"$f":"名簿!BU81","v":"00"},{"$f":"名簿!R81","v":""},{"$f":"名簿!D81","v":0},null,"",{"$f":"IF(O79=\"\",\"\",HLOOKUP(O79,名簿!$AB$8:$BG$118,74,FALSE))","v":""},0,2,null,"",{"$f":"IF(T79=\"\",\"\",HLOOKUP(T79,名簿!$AB$8:$BG$118,74,FALSE))","v":""},0,2,null,"",{"$f":"IF(Y79=\"\",\"\",HLOOKUP(Y79,名簿!$AB$8:$BG$118,74,FALSE))","v":""},0,2,null,{"$f":"IF(AD79=\"\",\"\",IF(I79=1,VLOOKUP(AD79,男子種目コード!$A$1:$B$33,2,FALSE),IF(I79=2,VLOOKUP(AD79,女子種目コード!$A$35:$B$61,2,FALSE))))","v":""},null,0,2,null,{"$f":"IF(AI79=\"\",\"\",IF(I79=1,VLOOKUP(AI79,男子種目コード!$A$1:$B$33,2,FALSE),IF(I79=2,VLOOKUP(AI79,女子種目コード!$A$35:$B$61,2,FALSE))))","v":""},null,0,2,null,null,null,null,null,null,null,null,null,null,null,null,null,null,null,"",0,0,0,0,null,null,null,0,"",""]
[false,{"$f":"名簿!Q82","v":""},false,null,{"$f":"名簿!E82","v":0},{"$f":"名簿!BR82","v":""},{"$f":"名簿!Z82","v":""},"",{"$f":"名簿!O82","v":""},{"$f":"名簿!I82","v":0},{"$f":"名簿!K82","v":0},{"$f":"名簿!BU82","v":"00"},{"$f":"名簿!R82","v":""},{"$f":"名簿!D82","v":0},null,"",{"$f":"IF(O80=\"\",\"\",HLOOKUP(O80,名簿!$AB$8:$BG$118,75,FALSE))","v":""},0,2,null,"",{"$f":"IF(T80=\"\",\"\",HLOOKUP(T80,名簿!$AB$8:$BG$118,75,FALSE))","v":""},0,2,null,"",{"$f":"IF(Y80=\"\",\"\",HLOOKUP(Y80,名簿!$AB$8:$BG$118,75,FALSE))","v":""},0,2,null,{"$f":"IF(AD80=\"\",\"\",IF(I80=1,VLOOKUP(AD80,男子種目コード!$A$1:$B$33,2,FALSE),IF(I80=2,VLOOKUP(AD80,女子種目コード!$A$35:$B$61,2,FALSE))))","v":""},null,0,2,null,{"$f":"IF(AI80=\"\",\"\",IF(I80=1,VLOOKUP(AI80,男子種目コード!$A$1:$B$33,2,FALSE),IF(I80=2,VLOOKUP(AI80,女子種目コード!$A$35:$B$61,2,FALSE))))","v":""},null,0,2,null,null,null,null,null,null,null,null,null,null,null,null,null,null,null,"",0,0,0,0,null,null,null,0,"",""]
[false,{"$f":"名簿!Q83","v":""},false,null,{"$f":"名簿!E83","v":0},{"$f":"名簿!BR83","v":""},{"$f":"名簿!Z83","v":""},"",{"$f":"名簿!O83","v":""},{"$f":"名簿!I83","v":0},{"$f":"名簿!K83","v":0},{"$f":"名簿!BU83","v":"00"},{"$f":"名簿!R83","v":""},{"$f":"名簿!D83","v":0},null,"",{"$f":"IF(O81=\"\",\"\",HLOOKUP(O81,名簿!$AB$8:$BG$118,76,FALSE))","v":""},0,2,null,"",{"$f":"IF(T81=\"\",\"\",HLOOKUP(T81,名簿!$AB$8:$BG$118,76,FALSE))","v":""},0,2,null,"",{"$f":"IF(Y81=\"\",\"\",HLOOKUP(Y81,名簿!$AB$8:$BG$118,76,FALSE))","v":""},0,2,null,{"$f":"IF(AD81=\"\",\"\",IF(I81=1,VLOOKUP(AD81,男子種目コード!$A$1:$B$33,2,FALSE),IF(I81=2,VLOOKUP(AD81,女子種目コード!$A$35:$B$61,2,FALSE))))","v":""},null,0,2,null,{"$f":"IF(AI81=\"\",\"\",IF(I81=1,VLOOKUP(AI81,男子種目コード!$A$1:$B$33,2,FALSE),IF(I81=2,VLOOKUP(AI81,女子種目コード!$A$35:$B$61,2,FALSE))))","v":""},null,0,2,null,null,null,null,null,null,null,null,null,null,null,null,null,null,null,"",0,0,0,0,null,null,null,0,"",""]
[false,{"$f":"名簿!Q84","v":""},false,null,{"$f":"名簿!E84","v":0},{"$f":"名簿!BR84","v":""},{"$f":"名簿!Z84","v":""},"",{"$f":"名簿!O84","v":""},{"$f":"名簿!I84","v":0},{"$f":"名簿!K84","v":0},{"$f":"名簿!BU84","v":"00"},{"$f":"名簿!R84","v":""},{"$f":"名簿!D84","v":0},null,"",{"$f":"IF(O82=\"\",\"\",HLOOKUP(O82,名簿!$AB$8:$BG$118,77,FALSE))","v":""},0,2,null,"",{"$f":"IF(T82=\"\",\"\",HLOOKUP(T82,名簿!$AB$8:$BG$118,77,FALSE))","v":""},0,2,null,"",{"$f":"IF(Y82=\"\",\"\",HLOOKUP(Y82,名簿!$AB$8:$BG$118,77,FALSE))","v":""},0,2,null,{"$f":"IF(AD82=\"\",\"\",IF(I82=1,VLOOKUP(AD82,男子種目コード!$A$1:$B$33,2,FALSE),IF(I82=2,VLOOKUP(AD82,女子種目コード!$A$35:$B$61,2,FALSE))))","v":""},null,0,2,null,{"$f":"IF(AI82=\"\",\"\",IF(I82=1,VLOOKUP(AI82,男子種目コード!$A$1:$B$33,2,FALSE),IF(I82=2,VLOOKUP(AI82,女子種目コード!$A$35:$B$61,2,FALSE))))","v":""},null,0,2,null,null,null,null,null,null,null,null,null,null,null,null,null,null,null,"",0,0,0,0,null,null,null,0,"",""]
[false,{"$f":"名簿!Q85","v":""},false,null,{"$f":"名簿!E85","v":0},{"$f":"名簿!BR85","v":""},{"$f":"名簿!Z85","v":""},"",{"$f":"名簿!O85","v":""},{"$f":"名簿!I85","v":0},{"$f":"名簿!K85","v":0},{"$f":"名簿!BU85","v":"00"},{"$f":"名簿!R85","v":""},{"$f":"名簿!D85","v":0},null,"",{"$f":"IF(O83=\"\",\"\",HLOOKUP(O83,名簿!$AB$8:$BG$118,78,FALSE))","v":""},0,2,null,"",{"$f":"IF(T83=\"\",\"\",HLOOKUP(T83,名簿!$AB$8:$BG$118,78,FALSE))","v":""},0,2,null,"",{"$f":"IF(Y83=\"\",\"\",HLOOKUP(Y83,名簿!$AB$8:$BG$118,78,FALSE))","v":""},0,2,null,{"$f":"IF(AD83=\"\",\"\",IF(I83=1,VLOOKUP(AD83,男子種目コード!$A$1:$B$33,2,FALSE),IF(I83=2,VLOOKUP(AD83,女子種目コード!$A$35:$B$61,2,FALSE))))","v":""},null,0,2,null,{"$f":"IF(AI83=\"\",\"\",IF(I83=1,VLOOKUP(AI83,男子種目コード!$A$1:$B$33,2,FALSE),IF(I83=2,VLOOKUP(AI83,女子種目コード!$A$35:$B$61,2,FALSE))))","v":""},null,0,2,null,null,null,null,null,null,null,null,null,null,null,null,null,null,null,"",0,0,0,0,null,null,null,0,"",""]
[false,{"$f":"名簿!Q86","v":""},false,null,{"$f":"名簿!E86","v":0},{"$f":"名簿!BR86","v":""},{"$f":"名簿!Z86","v":""},"",{"$f":"名簿!O86","v":""},{"$f":"名簿!I86","v":0},{"$f":"名簿!K86","v":0},{"$f":"名簿!BU86","v":"00"},{"$f":"名簿!R86","v":""},{"$f":"名簿!D86","v":0},null,"",{"$f":"IF(O84=\"\",\"\",HLOOKUP(O84,名簿!$AB$8:$BG$118,79,FALSE))","v":""},0,2,null,"",{"$f":"IF(T84=\"\",\"\",HLOOKUP(T84,名簿!$AB$8:$BG$118,79,FALSE))","v":""},0,2,null,"",{"$f":"IF(Y84=\"\",\"\",HLOOKUP(Y84,名簿!$AB$8:$BG$118,79,FALSE))","v":""},0,2,null,{"$f":"IF(AD84=\"\",\"\",IF(I84=1,VLOOKUP(AD84,男子種目コード!$A$1:$B$33,2,FALSE),IF(I84=2,VLOOKUP(AD84,女子種目コード!$A$35:$B$61,2,FALSE))))","v":""},null,0,2,null,{"$f":"IF(AI84=\"\",\"\",IF(I84=1,VLOOKUP(AI84,男子種目コード!$A$1:$B$33,2,FALSE),IF(I84=2,VLOOKUP(AI84,女子種目コード!$A$35:$B$61,2,FALSE))))","v":""},null,0,2,null,null,null,null,null,null,null,null,null,null,null,null,null,null,null,"",0,0,0,0,null,null,null,0,"",""]
[false,{"$f":"名簿!Q87","v":""},false,null,{"$f":"名簿!E87","v":0},{"$f":"名簿!BR87","v":""},{"$f":"名簿!Z87","v":""},"",{"$f":"名簿!O87","v":""},{"$f":"名簿!I87","v":0},{"$f":"名簿!K87","v":0},{"$f":"名簿!BU87","v":"00"},{"$f":"名簿!R87","v":""},{"$f":"名簿!D87","v":0},null,"",{"$f":"IF(O85=\"\",\"\",HLOOKUP(O85,名簿!$AB$8:$BG$118,80,FALSE))","v":""},0,2,null,"",{"$f":"IF(T85=\"\",\"\",HLOOKUP(T85,名簿!$AB$8:$BG$118,80,FALSE))","v":""},0,2,null,"",{"$f":"IF(Y85=\"\",\"\",HLOOKUP(Y85,名簿!$AB$8:$BG$118,80,FALSE))","v":""},0,2,null,{"$f":"IF(AD85=\"\",\"\",IF(I85=1,VLOOKUP(AD85,男子種目コード!$A$1:$B$33,2,FALSE),IF(I85=2,VLOOKUP(AD85,女子種目コード!$A$35:$B$61,2,FALSE))))","v":""},null,0,2,null,{"$f":"IF(AI85=\"\",\"\",IF(I85=1,VLOOKUP(AI85,男子種目コード!$A$1:$B$33,2,FALSE),IF(I85=2,VLOOKUP(AI85,女子種目コード!$A$35:$B$61,2,FALSE))))","v":""},null,0,2,null,null,null,null,null,null,null,null,null,null,null,null,null,null,null,"",0,0,0,0,null,null,null,0,"",""]
[false,{"$f":"名簿!Q88","v":""},false,null,{"$f":"名簿!E88","v":0},{"$f":"名簿!BR88","v":""},{"$f":"名簿!Z88","v":""},"",{"$f":"名簿!O88","v":""},{"$f":"名簿!I88","v":0},{"$f":"名簿!K88","v":0},{"$f":"名簿!BU88","v":"00"},{"$f":"名簿!R88","v":""},{"$f":"名簿!D88","v":0},null,"",{"$f":"IF(O86=\"\",\"\",HLOOKUP(O86,名簿!$AB$8:$BG$118,81,FALSE))","v":""},0,2,null,"",{"$f":"IF(T86=\"\",\"\",HLOOKUP(T86,名簿!$AB$8:$BG$118,81,FALSE))","v":""},0,2,null,"",{"$f":"IF(Y86=\"\",\"\",HLOOKUP(Y86,名簿!$AB$8:$BG$118,81,FALSE))","v":""},0,2,null,{"$f":"IF(AD86=\"\",\"\",IF(I86=1,VLOOKUP(AD86,男子種目コード!$A$1:$B$33,2,FALSE),IF(I86=2,VLOOKUP(AD86,女子種目コード!$A$35:$B$61,2,FALSE))))","v":""},null,0,2,null,{"$f":"IF(AI86=\"\",\"\",IF(I86=1,VLOOKUP(AI86,男子種目コード!$A$1:$B$33,2,FALSE),IF(I86=2,VLOOKUP(AI86,女子種目コード!$A$35:$B$61,2,FALSE))))","v":""},null,0,2,null,null,null,null,null,null,null,null,null,null,null,null,null,null,null,"",0,0,0,0,null,null,null,0,"",""]
[false,{"$f":"名簿!Q89","v":""},false,null,{"$f":"名簿!E89","v":0},{"$f":"名簿!BR89","v":""},{"$f":"名簿!Z89","v":""},"",{"$f":"名簿!O89","v":""},{"$f":"名簿!I89","v":0},{"$f":"名簿!K89","v":0},{"$f":"名簿!BU89","v":"00"},{"$f":"名簿!R89","v":""},{"$f":"名簿!D89","v":0},null,"",{"$f":"IF(O87=\"\",\"\",HLOOKUP(O87,名簿!$AB$8:$BG$118,82,FALSE))","v":""},0,2,null,"",{"$f":"IF(T87=\"\",\"\",HLOOKUP(T87,名簿!$AB$8:$BG$118,82,FALSE))","v":""},0,2,null,"",{"$f":"IF(Y87=\"\",\"\",HLOOKUP(Y87,名簿!$AB$8:$BG$118,82,FALSE))","v":""},0,2,null,{"$f":"IF(AD87=\"\",\"\",IF(I87=1,VLOOKUP(AD87,男子種目コード!$A$1:$B$33,2,FALSE),IF(I87=2,VLOOKUP(AD87,女子種目コード!$A$35:$B$61,2,FALSE))))","v":""},null,0,2,null,{"$f":"IF(AI87=\"\",\"\",IF(I87=1,VLOOKUP(AI87,男子種目コード!$A$1:$B$33,2,FALSE),IF(I87=2,VLOOKUP(AI87,女子種目コード!$A$35:$B$61,2,FALSE))))","v":""},null,0,2,null,null,null,null,null,null,null,null,null,null,null,null,null,null,null,"",0,0,0,0,null,null,null,0,"",""]
[false,{"$f":"名簿!Q90","v":""},false,null,{"$f":"名簿!E90","v":0},{"$f":"名簿!BR90","v":""},{"$f":"名簿!Z90","v":""},"",{"$f":"名簿!O90","v":""},{"$f":"名簿!I90","v":0},{"$f":"名簿!K90","v":0},{"$f":"名簿!BU90","v":"00"},{"$f":"名簿!R90","v":""},{"$f":"名簿!D90","v":0},null,"",{"$f":"IF(O88=\"\",\"\",HLOOKUP(O88,名簿!$AB$8:$BG$118,83,FALSE))","v":""},0,2,null,"",{"$f":"IF(T88=\"\",\"\",HLOOKUP(T88,名簿!$AB$8:$BG$118,83,FALSE))","v":""},0,2,null,"",{"$f":"IF(Y88=\"\",\"\",HLOOKUP(Y88,名簿!$AB$8:$BG$118,83,FALSE))","v":""},0,2,null,{"$f":"IF(AD88=\"\",\"\",IF(I88=1,VLOOKUP(AD88,男子種目コード!$A$1:$B$33,2,FALSE),IF(I88=2,VLOOKUP(AD88,女子種目コード!$A$35:$B$61,2,FALSE))))","v":""},null,0,2,null,{"$f":"IF(AI88=\"\",\"\",IF(I88=1,VLOOKUP(AI88,男子種目コード!$A$1:$B$33,2,FALSE),IF(I88=2,VLOOKUP(AI88,女子種目コード!$A$35:$B$61,2,FALSE))))","v":""},null,0,2,null,null,null,null,null,null,null,null,null,null,null,null,null,null,null,"",0,0,0,0,null,null,null,0,"",""]
[false,{"$f":"名簿!Q91","v":""},false,null,{"$f":"名簿!E91","v":0},{"$f":"名簿!BR91","v":""},{"$f":"名簿!Z91","v":""},"",{"$f":"名簿!O91","v":""},{"$f":"名簿!I91","v":0},{"$f":"名簿!K91","v":0},{"$f":"名簿!BU91","v":"00"},{"$f":"名簿!R91","v":""},{"$f":"名簿!D91","v":0},null,"",{"$f":"IF(O89=\"\",\"\",HLOOKUP(O89,名簿!$AB$8:$BG$118,84,FALSE))","v":""},0,2,null,"",{"$f":"IF(T89=\"\",\"\",HLOOKUP(T89,名簿!$AB$8:$BG$118,84,FALSE))","v":""},0,2,null,"",{"$f":"IF(Y89=\"\",\"\",HLOOKUP(Y89,名簿!$AB$8:$BG$118,84,FALSE))","v":""},0,2,null,{"$f":"IF(AD89=\"\",\"\",IF(I89=1,VLOOKUP(AD89,男子種目コード!$A$1:$B$33,2,FALSE),IF(I89=2,VLOOKUP(AD89,女子種目コード!$A$35:$B$61,2,FALSE))))","v":""},null,0,2,null,{"$f":"IF(AI89=\"\",\"\",IF(I89=1,VLOOKUP(AI89,男子種目コード!$A$1:$B$33,2,FALSE),IF(I89=2,VLOOKUP(AI89,女子種目コード!$A$35:$B$61,2,FALSE))))","v":""},null,0,2,null,null,null,null,null,null,null,null,null,null,null,null,null,null,null,"",0,0,0,0,null,null,null,0,"",""]
[false,{"$f":"名簿!Q92","v":""},false,null,{"$f":"名簿!E92","v":0},{"$f":"名簿!BR92","v":""},{"$f":"名簿!Z92","v":""},"",{"$f":"名簿!O92","v":""},{"$f":"名簿!I92","v":0},{"$f":"名簿!K92","v":0},{"$f":"名簿!BU92","v":"00"},{"$f":"名簿!R92","v":""},{"$f":"名簿!D92","v":0},null,"",{"$f":"IF(O90=\"\",\"\",HLOOKUP(O90,名簿!$AB$8:$BG$118,85,FALSE))","v":""},0,2,null,"",{"$f":"IF(T90=\"\",\"\",HLOOKUP(T90,名簿!$AB$8:$BG$118,85,FALSE))","v":""},0,2,null,"",{"$f":"IF(Y90=\"\",\"\",HLOOKUP(Y90,名簿!$AB$8:$BG$118,85,FALSE))","v":""},0,2,null,{"$f":"IF(AD90=\"\",\"\",IF(I90=1,VLOOKUP(AD90,男子種目コード!$A$1:$B$33,2,FALSE),IF(I90=2,VLOOKUP(AD90,女子種目コード!$A$35:$B$61,2,FALSE))))","v":""},null,0,2,null,{"$f":"IF(AI90=\"\",\"\",IF(I90=1,VLOOKUP(AI90,男子種目コード!$A$1:$B$33,2,FALSE),IF(I90=2,VLOOKUP(AI90,女子種目コード!$A$35:$B$61,2,FALSE))))","v":""},null,0,2,null,null,null,null,null,null,null,null,null,null,null,null,null,null,null,"",0,0,0,0,null,null,null,0,"",""]
[false,{"$f":"名簿!Q93","v":""},false,null,{"$f":"名簿!E93","v":0},{"$f":"名簿!BR93","v":""},{"$f":"名簿!Z93","v":""},"",{"$f":"名簿!O93","v":""},{"$f":"名簿!I93","v":0},{"$f":"名簿!K93","v":0},{"$f":"名簿!BU93","v":"00"},{"$f":"名簿!R93","v":""},{"$f":"名簿!D93","v":0},null,"",{"$f":"IF(O91=\"\",\"\",HLOOKUP(O91,名簿!$AB$8:$BG$118,86,FALSE))","v":""},0,2,null,"",{"$f":"IF(T91=\"\",\"\",HLOOKUP(T91,名簿!$AB$8:$BG$118,86,FALSE))","v":""},0,2,null,"",{"$f":"IF(Y91=\"\",\"\",HLOOKUP(Y91,名簿!$AB$8:$BG$118,86,FALSE))","v":""},0,2,null,{"$f":"IF(AD91=\"\",\"\",IF(I91=1,VLOOKUP(AD91,男子種目コード!$A$1:$B$33,2,FALSE),IF(I91=2,VLOOKUP(AD91,女子種目コード!$A$35:$B$61,2,FALSE))))","v":""},null,0,2,null,{"$f":"IF(AI91=\"\",\"\",IF(I91=1,VLOOKUP(AI91,男子種目コード!$A$1:$B$33,2,FALSE),IF(I91=2,VLOOKUP(AI91,女子種目コード!$A$35:$B$61,2,FALSE))))","v":""},null,0,2,null,null,null,null,null,null,null,null,null,null,null,null,null,null,null,"",0,0,0,0,null,null,null,0,"",""]
[false,{"$f":"名簿!Q94","v":""},false,null,{"$f":"名簿!E94","v":0},{"$f":"名簿!BR94","v":""},{"$f":"名簿!Z94","v":""},"",{"$f":"名簿!O94","v":""},{"$f":"名簿!I94","v":0},{"$f":"名簿!K94","v":0},{"$f":"名簿!BU94","v":"00"},{"$f":"名簿!R94","v":""},{"$f":"名簿!D94","v":0},null,"",{"$f":"IF(O92=\"\",\"\",HLOOKUP(O92,名簿!$AB$8:$BG$118,87,FALSE))","v":""},0,2,null,"",{"$f":"IF(T92=\"\",\"\",HLOOKUP(T92,名簿!$AB$8:$BG$118,87,FALSE))","v":""},0,2,null,"",{"$f":"IF(Y92=\"\",\"\",HLOOKUP(Y92,名簿!$AB$8:$BG$118,87,FALSE))","v":""},0,2,null,{"$f":"IF(AD92=\"\",\"\",IF(I92=1,VLOOKUP(AD92,男子種目コード!$A$1:$B$33,2,FALSE),IF(I92=2,VLOOKUP(AD92,女子種目コード!$A$35:$B$61,2,FALSE))))","v":""},null,0,2,null,{"$f":"IF(AI92=\"\",\"\",IF(I92=1,VLOOKUP(AI92,男子種目コード!$A$1:$B$33,2,FALSE),IF(I92=2,VLOOKUP(AI92,女子種目コード!$A$35:$B$61,2,FALSE))))","v":""},null,0,2,null,null,null,null,null,null,null,null,null,null,null,null,null,null,null,"",0,0,0,0,null,null,null,0,"",""]
[false,{"$f":"名簿!Q95","v":""},false,null,{"$f":"名簿!E95","v":0},{"$f":"名簿!BR95","v":""},{"$f":"名簿!Z95","v":""},"",{"$f":"名簿!O95","v":""},{"$f":"名簿!I95","v":0},{"$f":"名簿!K95","v":0},{"$f":"名簿!BU95","v":"00"},{"$f":"名簿!R95","v":""},{"$f":"名簿!D95","v":0},null,"",{"$f":"IF(O93=\"\",\"\",HLOOKUP(O93,名簿!$AB$8:$BG$118,88,FALSE))","v":""},0,2,null,"",{"$f":"IF(T93=\"\",\"\",HLOOKUP(T93,名簿!$AB$8:$BG$118,88,FALSE))","v":""},0,2,null,"",{"$f":"IF(Y93=\"\",\"\",HLOOKUP(Y93,名簿!$AB$8:$BG$118,88,FALSE))","v":""},0,2,null,{"$f":"IF(AD93=\"\",\"\",IF(I93=1,VLOOKUP(AD93,男子種目コード!$A$1:$B$33,2,FALSE),IF(I93=2,VLOOKUP(AD93,女子種目コード!$A$35:$B$61,2,FALSE))))","v":""},null,0,2,null,{"$f":"IF(AI93=\"\",\"\",IF(I93=1,VLOOKUP(AI93,男子種目コード!$A$1:$B$33,2,FALSE),IF(I93=2,VLOOKUP(AI93,女子種目コード!$A$35:$B$61,2,FALSE))))","v":""},null,0,2,null,null,null,null,null,null,null,null,null,null,null,null,null,null,null,"",0,0,0,0,null,null,null,0,"",""]
[false,{"$f":"名簿!Q96","v":""},false,null,{"$f":"名簿!E96","v":0},{"$f":"名簿!BR96","v":""},{"$f":"名簿!Z96","v":""},"",{"$f":"名簿!O96","v":""},{"$f":"名簿!I96","v":0},{"$f":"名簿!K96","v":0},{"$f":"名簿!BU96","v":"00"},{"$f":"名簿!R96","v":""},{"$f":"名簿!D96","v":0},null,"",{"$f":"IF(O94=\"\",\"\",HLOOKUP(O94,名簿!$AB$8:$BG$118,89,FALSE))","v":""},0,2,null,"",{"$f":"IF(T94=\"\",\"\",HLOOKUP(T94,名簿!$AB$8:$BG$118,89,FALSE))","v":""},0,2,null,"",{"$f":"IF(Y94=\"\",\"\",HLOOKUP(Y94,名簿!$AB$8:$BG$118,89,FALSE))","v":""},0,2,null,{"$f":"IF(AD94=\"\",\"\",IF(I94=1,VLOOKUP(AD94,男子種目コード!$A$1:$B$33,2,FALSE),IF(I94=2,VLOOKUP(AD94,女子種目コード!$A$35:$B$61,2,FALSE))))","v":""},null,0,2,null,{"$f":"IF(AI94=\"\",\"\",IF(I94=1,VLOOKUP(AI94,男子種目コード!$A$1:$B$33,2,FALSE),IF(I94=2,VLOOKUP(AI94,女子種目コード!$A$35:$B$61,2,FALSE))))","v":""},null,0,2,null,null,null,null,null,null,null,null,null,null,null,null,null,null,null,"",0,0,0,0,null,null,null,0,"",""]
[false,{"$f":"名簿!Q97","v":""},false,null,{"$f":"名簿!E97","v":0},{"$f":"名簿!BR97","v":""},{"$f":"名簿!Z97","v":""},"",{"$f":"名簿!O97","v":""},{"$f":"名簿!I97","v":0},{"$f":"名簿!K97","v":0},{"$f":"名簿!BU97","v":"00"},{"$f":"名簿!R97","v":""},{"$f":"名簿!D97","v":0},null,"",{"$f":"IF(O95=\"\",\"\",HLOOKUP(O95,名簿!$AB$8:$BG$118,90,FALSE))","v":""},0,2,null,"",{"$f":"IF(T95=\"\",\"\",HLOOKUP(T95,名簿!$AB$8:$BG$118,90,FALSE))","v":""},0,2,null,"",{"$f":"IF(Y95=\"\",\"\",HLOOKUP(Y95,名簿!$AB$8:$BG$118,90,FALSE))","v":""},0,2,null,{"$f":"IF(AD95=\"\",\"\",IF(I95=1,VLOOKUP(AD95,男子種目コード!$A$1:$B$33,2,FALSE),IF(I95=2,VLOOKUP(AD95,女子種目コード!$A$35:$B$61,2,FALSE))))","v":""},null,0,2,null,{"$f":"IF(AI95=\"\",\"\",IF(I95=1,VLOOKUP(AI95,男子種目コード!$A$1:$B$33,2,FALSE),IF(I95=2,VLOOKUP(AI95,女子種目コード!$A$35:$B$61,2,FALSE))))","v":""},null,0,2,null,null,null,null,null,null,null,null,null,null,null,null,null,null,null,"",0,0,0,0,null,null,null,0,"",""]
[false,{"$f":"名簿!Q98","v":""},false,null,{"$f":"名簿!E98","v":0},{"$f":"名簿!BR98","v":""},{"$f":"名簿!Z98","v":""},"",{"$f":"名簿!O98","v":""},{"$f":"名簿!I98","v":0},{"$f":"名簿!K98","v":0},{"$f":"名簿!BU98","v":"00"},{"$f":"名簿!R98","v":""},{"$f":"名簿!D98","v":0},null,"",{"$f":"IF(O96=\"\",\"\",HLOOKUP(O96,名簿!$AB$8:$BG$118,91,FALSE))","v":""},0,2,null,"",{"$f":"IF(T96=\"\",\"\",HLOOKUP(T96,名簿!$AB$8:$BG$118,91,FALSE))","v":""},0,2,null,"",{"$f":"IF(Y96=\"\",\"\",HLOOKUP(Y96,名簿!$AB$8:$BG$118,91,FALSE))","v":""},0,2,null,{"$f":"IF(AD96=\"\",\"\",IF(I96=1,VLOOKUP(AD96,男子種目コード!$A$1:$B$33,2,FALSE),IF(I96=2,VLOOKUP(AD96,女子種目コード!$A$35:$B$61,2,FALSE))))","v":""},null,0,2,null,{"$f":"IF(AI96=\"\",\"\",IF(I96=1,VLOOKUP(AI96,男子種目コード!$A$1:$B$33,2,FALSE),IF(I96=2,VLOOKUP(AI96,女子種目コード!$A$35:$B$61,2,FALSE))))","v":""},null,0,2,null,null,null,null,null,null,null,null,null,null,null,null,null,null,null,"",0,0,0,0,null,null,null,0,"",""]
[false,{"$f":"名簿!Q99","v":""},false,null,{"$f":"名簿!E99","v":0},{"$f":"名簿!BR99","v":""},{"$f":"名簿!Z99","v":""},"",{"$f":"名簿!O99","v":""},{"$f":"名簿!I99","v":0},{"$f":"名簿!K99","v":0},{"$f":"名簿!BU99","v":"00"},{"$f":"名簿!R99","v":""},{"$f":"名簿!D99","v":0},null,"",{"$f":"IF(O97=\"\",\"\",HLOOKUP(O97,名簿!$AB$8:$BG$118,92,FALSE))","v":""},0,2,null,"",{"$f":"IF(T97=\"\",\"\",HLOOKUP(T97,名簿!$AB$8:$BG$118,92,FALSE))","v":""},0,2,null,"",{"$f":"IF(Y97=\"\",\"\",HLOOKUP(Y97,名簿!$AB$8:$BG$118,92,FALSE))","v":""},0,2,null,{"$f":"IF(AD97=\"\",\"\",IF(I97=1,VLOOKUP(AD97,男子種目コード!$A$1:$B$33,2,FALSE),IF(I97=2,VLOOKUP(AD97,女子種目コード!$A$35:$B$61,2,FALSE))))","v":""},null,0,2,null,{"$f":"IF(AI97=\"\",\"\",IF(I97=1,VLOOKUP(AI97,男子種目コード!$A$1:$B$33,2,FALSE),IF(I97=2,VLOOKUP(AI97,女子種目コード!$A$35:$B$61,2,FALSE))))","v":""},null,0,2,null,null,null,null,null,null,null,null,null,null,null,null,null,null,null,"",0,0,0,0,null,null,null,0,"",""]
[false,{"$f":"名簿!Q100","v":""},false,null,{"$f":"名簿!E100","v":0},{"$f":"名簿!BR100","v":""},{"$f":"名簿!Z100","v":""},"",{"$f":"名簿!O100","v":""},{"$f":"名簿!I100","v":0},{"$f":"名簿!K100","v":0},{"$f":"名簿!BU100","v":"00"},{"$f":"名簿!R100","v":""},{"$f":"名簿!D100","v":0},null,"",{"$f":"IF(O98=\"\",\"\",HLOOKUP(O98,名簿!$AB$8:$BG$118,93,FALSE))","v":""},0,2,null,"",{"$f":"IF(T98=\"\",\"\",HLOOKUP(T98,名簿!$AB$8:$BG$118,93,FALSE))","v":""},0,2,null,"",{"$f":"IF(Y98=\"\",\"\",HLOOKUP(Y98,名簿!$AB$8:$BG$118,93,FALSE))","v":""},0,2,null,{"$f":"IF(AD98=\"\",\"\",IF(I98=1,VLOOKUP(AD98,男子種目コード!$A$1:$B$33,2,FALSE),IF(I98=2,VLOOKUP(AD98,女子種目コード!$A$35:$B$61,2,FALSE))))","v":""},null,0,2,null,{"$f":"IF(AI98=\"\",\"\",IF(I98=1,VLOOKUP(AI98,男子種目コード!$A$1:$B$33,2,FALSE),IF(I98=2,VLOOKUP(AI98,女子種目コード!$A$35:$B$61,2,FALSE))))","v":""},null,0,2,null,null,null,null,null,null,null,null,null,null,null,null,null,null,null,"",0,0,0,0,null,null,null,0,"",""]
[false,{"$f":"名簿!Q101","v":""},false,null,{"$f":"名簿!E101","v":0},{"$f":"名簿!BR101","v":""},{"$f":"名簿!Z101","v":""},"",{"$f":"名簿!O101","v":""},{"$f":"名簿!I101","v":0},{"$f":"名簿!K101","v":0},{"$f":"名簿!BU101","v":"00"},{"$f":"名簿!R101","v":""},{"$f":"名簿!D101","v":0},null,"",{"$f":"IF(O99=\"\",\"\",HLOOKUP(O99,名簿!$AB$8:$BG$118,94,FALSE))","v":""},0,2,null,"",{"$f":"IF(T99=\"\",\"\",HLOOKUP(T99,名簿!$AB$8:$BG$118,94,FALSE))","v":""},0,2,null,"",{"$f":"IF(Y99=\"\",\"\",HLOOKUP(Y99,名簿!$AB$8:$BG$118,94,FALSE))","v":""},0,2,null,{"$f":"IF(AD99=\"\",\"\",IF(I99=1,VLOOKUP(AD99,男子種目コード!$A$1:$B$33,2,FALSE),IF(I99=2,VLOOKUP(AD99,女子種目コード!$A$35:$B$61,2,FALSE))))","v":""},null,0,2,null,{"$f":"IF(AI99=\"\",\"\",IF(I99=1,VLOOKUP(AI99,男子種目コード!$A$1:$B$33,2,FALSE),IF(I99=2,VLOOKUP(AI99,女子種目コード!$A$35:$B$61,2,FALSE))))","v":""},null,0,2,null,null,null,null,null,null,null,null,null,null,null,null,null,null,null,"",0,0,0,0,null,null,null,0,"",""]
[false,{"$f":"名簿!Q102","v":""},false,null,{"$f":"名簿!E102","v":0},{"$f":"名簿!BR102","v":""},{"$f":"名簿!Z102","v":""},"",{"$f":"名簿!O102","v":""},{"$f":"名簿!I102","v":0},{"$f":"名簿!K102","v":0},{"$f":"名簿!BU102","v":"00"},{"$f":"名簿!R102","v":""},{"$f":"名簿!D102","v":0},null,"",{"$f":"IF(O100=\"\",\"\",HLOOKUP(O100,名簿!$AB$8:$BG$118,95,FALSE))","v":""},0,2,null,"",{"$f":"IF(T100=\"\",\"\",HLOOKUP(T100,名簿!$AB$8:$BG$118,95,FALSE))","v":""},0,2,null,"",{"$f":"IF(Y100=\"\",\"\",HLOOKUP(Y100,名簿!$AB$8:$BG$118,95,FALSE))","v":""},0,2,null,{"$f":"IF(AD100=\"\",\"\",IF(I100=1,VLOOKUP(AD100,男子種目コード!$A$1:$B$33,2,FALSE),IF(I100=2,VLOOKUP(AD100,女子種目コード!$A$35:$B$61,2,FALSE))))","v":""},null,0,2,null,{"$f":"IF(AI100=\"\",\"\",IF(I100=1,VLOOKUP(AI100,男子種目コード!$A$1:$B$33,2,FALSE),IF(I100=2,VLOOKUP(AI100,女子種目コード!$A$35:$B$61,2,FALSE))))","v":""},null,0,2,null,null,null,null,null,null,null,null,null,null,null,null,null,null,null,"",0,0,0,0,null,null,null,0,"",""]
[false,{"$f":"名簿!Q103","v":""},false,null,{"$f":"名簿!E103","v":0},{"$f":"名簿!BR103","v":""},{"$f":"名簿!Z103","v":""},"",{"$f":"名簿!O103","v":""},{"$f":"名簿!I103","v":0},{"$f":"名簿!K103","v":0},{"$f":"名簿!BU103","v":"00"},{"$f":"名簿!R103","v":""},{"$f":"名簿!D103","v":0},null,"",{"$f":"IF(O101=\"\",\"\",HLOOKUP(O101,名簿!$AB$8:$BG$118,96,FALSE))","v":""},0,2,null,"",{"$f":"IF(T101=\"\",\"\",HLOOKUP(T101,名簿!$AB$8:$BG$118,96,FALSE))","v":""},0,2,null,"",{"$f":"IF(Y101=\"\",\"\",HLOOKUP(Y101,名簿!$AB$8:$BG$118,96,FALSE))","v":""},0,2,null,{"$f":"IF(AD101=\"\",\"\",IF(I101=1,VLOOKUP(AD101,男子種目コード!$A$1:$B$33,2,FALSE),IF(I101=2,VLOOKUP(AD101,女子種目コード!$A$35:$B$61,2,FALSE))))","v":""},null,0,2,null,{"$f":"IF(AI101=\"\",\"\",IF(I101=1,VLOOKUP(AI101,男子種目コード!$A$1:$B$33,2,FALSE),IF(I101=2,VLOOKUP(AI101,女子種目コード!$A$35:$B$61,2,FALSE))))","v":""},null,0,2,null,null,null,null,null,null,null,null,null,null,null,null,null,null,null,"",0,0,0,0,null,null,null,0,"",""]
[false,{"$f":"名簿!Q104","v":""},false,null,{"$f":"名簿!E104","v":0},{"$f":"名簿!BR104","v":""},{"$f":"名簿!Z104","v":""},"",{"$f":"名簿!O104","v":""},{"$f":"名簿!I104","v":0},{"$f":"名簿!K104","v":0},{"$f":"名簿!BU104","v":"00"},{"$f":"名簿!R104","v":""},{"$f":"名簿!D104","v":0},null,"",{"$f":"IF(O102=\"\",\"\",HLOOKUP(O102,名簿!$AB$8:$BG$118,97,FALSE))","v":""},0,2,null,"",{"$f":"IF(T102=\"\",\"\",HLOOKUP(T102,名簿!$AB$8:$BG$118,97,FALSE))","v":""},0,2,null,"",{"$f":"IF(Y102=\"\",\"\",HLOOKUP(Y102,名簿!$AB$8:$BG$118,97,FALSE))","v":""},0,2,null,{"$f":"IF(AD102=\"\",\"\",IF(I102=1,VLOOKUP(AD102,男子種目コード!$A$1:$B$33,2,FALSE),IF(I102=2,VLOOKUP(AD102,女子種目コード!$A$35:$B$61,2,FALSE))))","v":""},null,0,2,null,{"$f":"IF(AI102=\"\",\"\",IF(I102=1,VLOOKUP(AI102,男子種目コード!$A$1:$B$33,2,FALSE),IF(I102=2,VLOOKUP(AI102,女子種目コード!$A$35:$B$61,2,FALSE))))","v":""},null,0,2,null,null,null,null,null,null,null,null,null,null,null,null,null,null,null,"",0,0,0,0,null,null,null,0,"",""]
[false,{"$f":"名簿!Q105","v":""},false,null,{"$f":"名簿!E105","v":0},{"$f":"名簿!BR105","v":""},{"$f":"名簿!Z105","v":""},"",{"$f":"名簿!O105","v":""},{"$f":"名簿!I105","v":0},{"$f":"名簿!K105","v":0},{"$f":"名簿!BU105","v":"00"},{"$f":"名簿!R105","v":""},{"$f":"名簿!D105","v":0},null,"",{"$f":"IF(O103=\"\",\"\",HLOOKUP(O103,名簿!$AB$8:$BG$118,98,FALSE))","v":""},0,2,null,"",{"$f":"IF(T103=\"\",\"\",HLOOKUP(T103,名簿!$AB$8:$BG$118,98,FALSE))","v":""},0,2,null,"",{"$f":"IF(Y103=\"\",\"\",HLOOKUP(Y103,名簿!$AB$8:$BG$118,98,FALSE))","v":""},0,2,null,{"$f":"IF(AD103=\"\",\"\",IF(I103=1,VLOOKUP(AD103,男子種目コード!$A$1:$B$33,2,FALSE),IF(I103=2,VLOOKUP(AD103,女子種目コード!$A$35:$B$61,2,FALSE))))","v":""},null,0,2,null,{"$f":"IF(AI103=\"\",\"\",IF(I103=1,VLOOKUP(AI103,男子種目コード!$A$1:$B$33,2,FALSE),IF(I103=2,VLOOKUP(AI103,女子種目コード!$A$35:$B$61,2,FALSE))))","v":""},null,0,2,null,null,null,null,null,null,null,null,null,null,null,null,null,null,null,"",{"$f":"IF(OR(BC103=1,T103=\"\"),0,1)","v":0},{"$f":"IF(OR(BC103=1,BD103=1,Y103=\"\"),0,1)","v":0},{"$f":"IF(OR(BC103=1,BD103=1,BE103=1,AD103=\"\"),0,1)","v":0},{"$f":"IF(OR(BC103=1,BD103=1,BE103=1,BF103=1,AI103=\"\"),0,1)","v":0},null,null,null,{"$f":"COUNT(P103,U103,Z103,AE103,AJ103)","v":0},{"$f":"IF(I103=1,BK103,\"\")","v":""},{"$f":"IF(I103=2,BK103,\"\")","v":""}]
[false,{"$f":"名簿!Q106","v":""},false,null,{"$f":"名簿!E106","v":0},{"$f":"名簿!BR106","v":""},{"$f":"名簿!Z106","v":""},"",{"$f":"名簿!O106","v":""},{"$f":"名簿!I106","v":0},{"$f":"名簿!K106","v":0},{"$f":"名簿!BU106","v":"00"},{"$f":"名簿!R106","v":""},{"$f":"名簿!D106","v":0},null,"",{"$f":"IF(O104=\"\",\"\",HLOOKUP(O104,名簿!$AB$8:$BG$118,99,FALSE))","v":""},0,2,null,"",{"$f":"IF(T104=\"\",\"\",HLOOKUP(T104,名簿!$AB$8:$BG$118,99,FALSE))","v":""},0,2,null,"",{"$f":"IF(Y104=\"\",\"\",HLOOKUP(Y104,名簿!$AB$8:$BG$118,99,FALSE))","v":""},0,2,null,{"$f":"IF(AD104=\"\",\"\",IF(I104=1,VLOOKUP(AD104,男子種目コード!$A$1:$B$33,2,FALSE),IF(I104=2,VLOOKUP(AD104,女子種目コード!$A$35:$B$61,2,FALSE))))","v":""},null,0,2,null,{"$f":"IF(AI104=\"\",\"\",IF(I104=1,VLOOKUP(AI104,男子種目コード!$A$1:$B$33,2,FALSE),IF(I104=2,VLOOKUP(AI104,女子種目コード!$A$35:$B$61,2,FALSE))))","v":""},null,0,2,null,null,null,null,null,null,null,null,null,null,null,null,null,null,null,"",0,0,0,0,null,null,null,0,"",""]
[false,{"$f":"名簿!Q107","v":""},false,null,{"$f":"名簿!E107","v":0},{"$f":"名簿!BR107","v":""},{"$f":"名簿!Z107","v":""},"",{"$f":"名簿!O107","v":""},{"$f":"名簿!I107","v":0},{"$f":"名簿!K107","v":0},{"$f":"名簿!BU107","v":"00"},{"$f":"名簿!R107","v":""},{"$f":"名簿!D107","v":0},null,"",{"$f":"IF(O105=\"\",\"\",HLOOKUP(O105,名簿!$AB$8:$BG$118,100,FALSE))","v":""},0,2,null,"",{"$f":"IF(T105=\"\",\"\",HLOOKUP(T105,名簿!$AB$8:$BG$118,100,FALSE))","v":""},0,2,null,"",{"$f":"IF(Y105=\"\",\"\",HLOOKUP(Y105,名簿!$AB$8:$BG$118,100,FALSE))","v":""},0,2,null,{"$f":"IF(AD105=\"\",\"\",IF(I105=1,VLOOKUP(AD105,男子種目コード!$A$1:$B$33,2,FALSE),IF(I105=2,VLOOKUP(AD105,女子種目コード!$A$35:$B$61,2,FALSE))))","v":""},null,0,2,null,{"$f":"IF(AI105=\"\",\"\",IF(I105=1,VLOOKUP(AI105,男子種目コード!$A$1:$B$33,2,FALSE),IF(I105=2,VLOOKUP(AI105,女子種目コード!$A$35:$B$61,2,FALSE))))","v":""},null,0,2,null,null,null,null,null,null,null,null,null,null,null,null,null,null,null,"",0,0,0,0,null,null,null,0,"",""]
[false,{"$f":"名簿!Q108","v":""},false,null,{"$f":"名簿!E108","v":0},{"$f":"名簿!BR108","v":""},{"$f":"名簿!Z108","v":""},"",{"$f":"名簿!O108","v":""},{"$f":"名簿!I108","v":0},{"$f":"名簿!K108","v":0},{"$f":"名簿!BU108","v":"00"},{"$f":"名簿!R108","v":""},{"$f":"名簿!D108","v":0},null,"",{"$f":"IF(O106=\"\",\"\",HLOOKUP(O106,名簿!$AB$8:$BG$118,101,FALSE))","v":""},0,2,null,"",{"$f":"IF(T106=\"\",\"\",HLOOKUP(T106,名簿!$AB$8:$BG$118,101,FALSE))","v":""},0,2,null,"",{"$f":"IF(Y106=\"\",\"\",HLOOKUP(Y106,名簿!$AB$8:$BG$118,101,FALSE))","v":""},0,2,null,{"$f":"IF(AD106=\"\",\"\",IF(I106=1,VLOOKUP(AD106,男子種目コード!$A$1:$B$33,2,FALSE),IF(I106=2,VLOOKUP(AD106,女子種目コード!$A$35:$B$61,2,FALSE))))","v":""},null,0,2,null,{"$f":"IF(AI106=\"\",\"\",IF(I106=1,VLOOKUP(AI106,男子種目コード!$A$1:$B$33,2,FALSE),IF(I106=2,VLOOKUP(AI106,女子種目コード!$A$35:$B$61,2,FALSE))))","v":""},null,0,2,null,null,null,null,null,null,null,null,null,null,null,null,null,null,null,"",0,0,0,0,null,null,null,0,"",""]
[false,{"$f":"名簿!Q109","v":""},false,null,{"$f":"名簿!E109","v":0},{"$f":"名簿!BR109","v":""},{"$f":"名簿!Z109","v":""},"",{"$f":"名簿!O109","v":""},{"$f":"名簿!I109","v":0},{"$f":"名簿!K109","v":0},{"$f":"名簿!BU109","v":"00"},{"$f":"名簿!R109","v":""},{"$f":"名簿!D109","v":0},null,"",{"$f":"IF(O107=\"\",\"\",HLOOKUP(O107,名簿!$AB$8:$BG$118,102,FALSE))","v":""},0,2,null,"",{"$f":"IF(T107=\"\",\"\",HLOOKUP(T107,名簿!$AB$8:$BG$118,102,FALSE))","v":""},0,2,null,"",{"$f":"IF(Y107=\"\",\"\",HLOOKUP(Y107,名簿!$AB$8:$BG$118,102,FALSE))","v":""},0,2,null,{"$f":"IF(AD107=\"\",\"\",IF(I107=1,VLOOKUP(AD107,男子種目コード!$A$1:$B$33,2,FALSE),IF(I107=2,VLOOKUP(AD107,女子種目コード!$A$35:$B$61,2,FALSE))))","v":""},null,0,2,null,{"$f":"IF(AI107=\"\",\"\",IF(I107=1,VLOOKUP(AI107,男子種目コード!$A$1:$B$33,2,FALSE),IF(I107=2,VLOOKUP(AI107,女子種目コード!$A$35:$B$61,2,FALSE))))","v":""},null,0,2,null,null,null,null,null,null,null,null,null,null,null,null,null,null,null,"",0,0,0,0,null,null,null,0,"",""]
[false,{"$f":"名簿!Q110","v":""},false,null,{"$f":"名簿!E110","v":0},{"$f":"名簿!BR110","v":""},{"$f":"名簿!Z110","v":""},"",{"$f":"名簿!O110","v":""},{"$f":"名簿!I110","v":0},{"$f":"名簿!K110","v":0},{"$f":"名簿!BU110","v":"00"},{"$f":"名簿!R110","v":""},{"$f":"名簿!D110","v":0},null,"",{"$f":"IF(O108=\"\",\"\",HLOOKUP(O108,名簿!$AB$8:$BG$118,103,FALSE))","v":""},0,2,null,"",{"$f":"IF(T108=\"\",\"\",HLOOKUP(T108,名簿!$AB$8:$BG$118,103,FALSE))","v":""},0,2,null,"",{"$f":"IF(Y108=\"\",\"\",HLOOKUP(Y108,名簿!$AB$8:$BG$118,103,FALSE))","v":""},0,2,null,{"$f":"IF(AD108=\"\",\"\",IF(I108=1,VLOOKUP(AD108,男子種目コード!$A$1:$B$33,2,FALSE),IF(I108=2,VLOOKUP(AD108,女子種目コード!$A$35:$B$61,2,FALSE))))","v":""},null,0,2,null,{"$f":"IF(AI108=\"\",\"\",IF(I108=1,VLOOKUP(AI108,男子種目コード!$A$1:$B$33,2,FALSE),IF(I108=2,VLOOKUP(AI108,女子種目コード!$A$35:$B$61,2,FALSE))))","v":""},null,0,2,null,null,null,null,null,null,null,null,null,null,null,null,null,null,null,"",0,0,0,0,null,null,null,0,"",""]
[false,{"$f":"名簿!Q111","v":""},false,null,{"$f":"名簿!E111","v":0},{"$f":"名簿!BR111","v":""},{"$f":"名簿!Z111","v":""},"",{"$f":"名簿!O111","v":""},{"$f":"名簿!I111","v":0},{"$f":"名簿!K111","v":0},{"$f":"名簿!BU111","v":"00"},{"$f":"名簿!R111","v":""},{"$f":"名簿!D111","v":0},null,"",{"$f":"IF(O109=\"\",\"\",HLOOKUP(O109,名簿!$AB$8:$BG$118,104,FALSE))","v":""},0,2,null,"",{"$f":"IF(T109=\"\",\"\",HLOOKUP(T109,名簿!$AB$8:$BG$118,104,FALSE))","v":""},0,2,null,"",{"$f":"IF(Y109=\"\",\"\",HLOOKUP(Y109,名簿!$AB$8:$BG$118,104,FALSE))","v":""},0,2,null,{"$f":"IF(AD109=\"\",\"\",IF(I109=1,VLOOKUP(AD109,男子種目コード!$A$1:$B$33,2,FALSE),IF(I109=2,VLOOKUP(AD109,女子種目コード!$A$35:$B$61,2,FALSE))))","v":""},null,0,2,null,{"$f":"IF(AI109=\"\",\"\",IF(I109=1,VLOOKUP(AI109,男子種目コード!$A$1:$B$33,2,FALSE),IF(I109=2,VLOOKUP(AI109,女子種目コード!$A$35:$B$61,2,FALSE))))","v":""},null,0,2,null,null,null,null,null,null,null,null,null,null,null,null,null,null,null,"",0,0,0,0,null,null,null,0,"",""]
[false,{"$f":"名簿!Q112","v":""},false,null,{"$f":"名簿!E112","v":0},{"$f":"名簿!BR112","v":""},{"$f":"名簿!Z112","v":""},"",{"$f":"名簿!O112","v":""},{"$f":"名簿!I112","v":0},{"$f":"名簿!K112","v":0},{"$f":"名簿!BU112","v":"00"},{"$f":"名簿!R112","v":""},{"$f":"名簿!D112","v":0},null,"",{"$f":"IF(O110=\"\",\"\",HLOOKUP(O110,名簿!$AB$8:$BG$118,105,FALSE))","v":""},0,2,null,"",{"$f":"IF(T110=\"\",\"\",HLOOKUP(T110,名簿!$AB$8:$BG$118,105,FALSE))","v":""},0,2,null,"",{"$f":"IF(Y110=\"\",\"\",HLOOKUP(Y110,名簿!$AB$8:$BG$118,105,FALSE))","v":""},0,2,null,{"$f":"IF(AD110=\"\",\"\",IF(I110=1,VLOOKUP(AD110,男子種目コード!$A$1:$B$33,2,FALSE),IF(I110=2,VLOOKUP(AD110,女子種目コード!$A$35:$B$61,2,FALSE))))","v":""},null,0,2,null,{"$f":"IF(AI110=\"\",\"\",IF(I110=1,VLOOKUP(AI110,男子種目コード!$A$1:$B$33,2,FALSE),IF(I110=2,VLOOKUP(AI110,女子種目コード!$A$35:$B$61,2,FALSE))))","v":""},null,0,2,null,null,null,null,null,null,null,null,null,null,null,null,null,null,null,"",0,0,0,0,null,null,null,0,"",""]
[false,{"$f":"名簿!Q113","v":""},false,null,{"$f":"名簿!E113","v":0},{"$f":"名簿!BR113","v":""},{"$f":"名簿!Z113","v":""},"",{"$f":"名簿!O113","v":""},{"$f":"名簿!I113","v":0},{"$f":"名簿!K113","v":0},{"$f":"名簿!BU113","v":"00"},{"$f":"名簿!R113","v":""},{"$f":"名簿!D113","v":0},null,"",{"$f":"IF(O111=\"\",\"\",HLOOKUP(O111,名簿!$AB$8:$BG$118,106,FALSE))","v":""},0,2,null,"",{"$f":"IF(T111=\"\",\"\",HLOOKUP(T111,名簿!$AB$8:$BG$118,106,FALSE))","v":""},0,2,null,"",{"$f":"IF(Y111=\"\",\"\",HLOOKUP(Y111,名簿!$AB$8:$BG$118,106,FALSE))","v":""},0,2,null,{"$f":"IF(AD111=\"\",\"\",IF(I111=1,VLOOKUP(AD111,男子種目コード!$A$1:$B$33,2,FALSE),IF(I111=2,VLOOKUP(AD111,女子種目コード!$A$35:$B$61,2,FALSE))))","v":""},null,0,2,null,{"$f":"IF(AI111=\"\",\"\",IF(I111=1,VLOOKUP(AI111,男子種目コード!$A$1:$B$33,2,FALSE),IF(I111=2,VLOOKUP(AI111,女子種目コード!$A$35:$B$61,2,FALSE))))","v":""},null,0,2,null,null,null,null,null,null,null,null,null,null,null,null,null,null,null,"",0,0,0,0,null,null,null,0,"",""]
[false,{"$f":"名簿!Q114","v":""},false,null,{"$f":"名簿!E114","v":0},{"$f":"名簿!BR114","v":""},{"$f":"名簿!Z114","v":""},"",{"$f":"名簿!O114","v":""},{"$f":"名簿!I114","v":0},{"$f":"名簿!K114","v":0},{"$f":"名簿!BU114","v":"00"},{"$f":"名簿!R114","v":""},{"$f":"名簿!D114","v":0},null,"",{"$f":"IF(O112=\"\",\"\",HLOOKUP(O112,名簿!$AB$8:$BG$118,107,FALSE))","v":""},0,2,null,"",{"$f":"IF(T112=\"\",\"\",HLOOKUP(T112,名簿!$AB$8:$BG$118,107,FALSE))","v":""},0,2,null,"",{"$f":"IF(Y112=\"\",\"\",HLOOKUP(Y112,名簿!$AB$8:$BG$118,107,FALSE))","v":""},0,2,null,{"$f":"IF(AD112=\"\",\"\",IF(I112=1,VLOOKUP(AD112,男子種目コード!$A$1:$B$33,2,FALSE),IF(I112=2,VLOOKUP(AD112,女子種目コード!$A$35:$B$61,2,FALSE))))","v":""},null,0,2,null,{"$f":"IF(AI112=\"\",\"\",IF(I112=1,VLOOKUP(AI112,男子種目コード!$A$1:$B$33,2,FALSE),IF(I112=2,VLOOKUP(AI112,女子種目コード!$A$35:$B$61,2,FALSE))))","v":""},null,0,2,null,null,null,null,null,null,null,null,null,null,null,null,null,null,null,"",0,0,0,0,null,null,null,0,"",""]
[false,{"$f":"名簿!Q115","v":""},false,null,{"$f":"名簿!E115","v":0},{"$f":"名簿!BR115","v":""},{"$f":"名簿!Z115","v":""},"",{"$f":"名簿!O115","v":""},{"$f":"名簿!I115","v":0},{"$f":"名簿!K115","v":0},{"$f":"名簿!BU115","v":"00"},{"$f":"名簿!R115","v":""},{"$f":"名簿!D115","v":0},null,"",{"$f":"IF(O113=\"\",\"\",HLOOKUP(O113,名簿!$AB$8:$BG$118,108,FALSE))","v":""},0,2,null,"",{"$f":"IF(T113=\"\",\"\",HLOOKUP(T113,名簿!$AB$8:$BG$118,108,FALSE))","v":""},0,2,null,"",{"$f":"IF(Y113=\"\",\"\",HLOOKUP(Y113,名簿!$AB$8:$BG$118,108,FALSE))","v":""},0,2,null,{"$f":"IF(AD113=\"\",\"\",IF(I113=1,VLOOKUP(AD113,男子種目コード!$A$1:$B$33,2,FALSE),IF(I113=2,VLOOKUP(AD113,女子種目コード!$A$35:$B$61,2,FALSE))))","v":""},null,0,2,null,{"$f":"IF(AI113=\"\",\"\",IF(I113=1,VLOOKUP(AI113,男子種目コード!$A$1:$B$33,2,FALSE),IF(I113=2,VLOOKUP(AI113,女子種目コード!$A$35:$B$61,2,FALSE))))","v":""},null,0,2,null,null,null,null,null,null,null,null,null,null,null,null,null,null,null,"",0,0,0,0,null,null,null,0,"",""]
[false,{"$f":"名簿!Q116","v":""},false,null,{"$f":"名簿!E116","v":0},{"$f":"名簿!BR116","v":""},{"$f":"名簿!Z116","v":""},"",{"$f":"名簿!O116","v":""},{"$f":"名簿!I116","v":0},{"$f":"名簿!K116","v":0},{"$f":"名簿!BU116","v":"00"},{"$f":"名簿!R116","v":""},{"$f":"名簿!D116","v":0},null,"",{"$f":"IF(O114=\"\",\"\",HLOOKUP(O114,名簿!$AB$8:$BG$118,109,FALSE))","v":""},0,2,null,"",{"$f":"IF(T114=\"\",\"\",HLOOKUP(T114,名簿!$AB$8:$BG$118,109,FALSE))","v":""},0,2,null,"",{"$f":"IF(Y114=\"\",\"\",HLOOKUP(Y114,名簿!$AB$8:$BG$118,109,FALSE))","v":""},0,2,null,{"$f":"IF(AD114=\"\",\"\",IF(I114=1,VLOOKUP(AD114,男子種目コード!$A$1:$B$33,2,FALSE),IF(I114=2,VLOOKUP(AD114,女子種目コード!$A$35:$B$61,2,FALSE))))","v":""},null,0,2,null,{"$f":"IF(AI114=\"\",\"\",IF(I114=1,VLOOKUP(AI114,男子種目コード!$A$1:$B$33,2,FALSE),IF(I114=2,VLOOKUP(AI114,女子種目コード!$A$35:$B$61,2,FALSE))))","v":""},null,0,2,null,null,null,null,null,null,null,null,null,null,null,null,null,null,null,"",0,0,0,0,null,null,null,0,"",""]
[false,{"$f":"名簿!Q117","v":""},false,null,{"$f":"名簿!E117","v":0},{"$f":"名簿!BR117","v":""},{"$f":"名簿!Z117","v":""},"",{"$f":"名簿!O117","v":""},{"$f":"名簿!I117","v":0},{"$f":"名簿!K117","v":0},{"$f":"名簿!BU117","v":"00"},{"$f":"名簿!R117","v":""},{"$f":"名簿!D117","v":0},null,"",{"$f":"IF(O115=\"\",\"\",HLOOKUP(O115,名簿!$AB$8:$BG$118,110,FALSE))","v":""},0,2,null,"",{"$f":"IF(T115=\"\",\"\",HLOOKUP(T115,名簿!$AB$8:$BG$118,110,FALSE))","v":""},0,2,null,"",{"$f":"IF(Y115=\"\",\"\",HLOOKUP(Y115,名簿!$AB$8:$BG$118,110,FALSE))","v":""},0,2,null,{"$f":"IF(AD115=\"\",\"\",IF(I115=1,VLOOKUP(AD115,男子種目コード!$A$1:$B$33,2,FALSE),IF(I115=2,VLOOKUP(AD115,女子種目コード!$A$35:$B$61,2,FALSE))))","v":""},null,0,2,null,{"$f":"IF(AI115=\"\",\"\",IF(I115=1,VLOOKUP(AI115,男子種目コード!$A$1:$B$33,2,FALSE),IF(I115=2,VLOOKUP(AI115,女子種目コード!$A$35:$B$61,2,FALSE))))","v":""},null,0,2,null,null,null,null,null,null,null,null,null,null,null,null,null,null,null,"",0,0,0,0,null,null,null,0,"",""]
[false,{"$f":"名簿!Q118","v":""},false,null,{"$f":"名簿!E118","v":0},{"$f":"名簿!BR118","v":""},{"$f":"名簿!Z118","v":""},"",{"$f":"名簿!O118","v":""},{"$f":"名簿!I118","v":0},{"$f":"名簿!K118","v":0},{"$f":"名簿!BU118","v":"00"},{"$f":"名簿!R118","v":""},{"$f":"名簿!D118","v":0},null,"",{"$f":"IF(O116=\"\",\"\",HLOOKUP(O116,名簿!$AB$8:$BG$118,111,FALSE))","v":""},0,2,null,"",{"$f":"IF(T116=\"\",\"\",HLOOKUP(T116,名簿!$AB$8:$BG$118,111,FALSE))","v":""},0,2,null,"",{"$f":"IF(Y116=\"\",\"\",HLOOKUP(Y116,名簿!$AB$8:$BG$118,111,FALSE))","v":""},0,2,null,{"$f":"IF(AD116=\"\",\"\",IF(I116=1,VLOOKUP(AD116,男子種目コード!$A$1:$B$33,2,FALSE),IF(I116=2,VLOOKUP(AD116,女子種目コード!$A$35:$B$61,2,FALSE))))","v":""},null,0,2,null,{"$f":"IF(AI116=\"\",\"\",IF(I116=1,VLOOKUP(AI116,男子種目コード!$A$1:$B$33,2,FALSE),IF(I116=2,VLOOKUP(AI116,女子種目コード!$A$35:$B$61,2,FALSE))))","v":""},null,0,2,null,null,null,null,null,null,null,null,null,null,null,null,null,null,null,"",0,0,0,0,null,null,null,0,"",""]
[null,null,null,null,null,null,null,null,null,null,null,null,null,null,null,null,null,null,null,null,null,null,null,null,null,null,null,null,null,null,null,null,null,null,null,null,null,null,null,null,null,null,null,{"$f":"SUM(BC7:BC116)","v":0},null,null,null,null,null,null,null,null,null,null,null,{"$f":"IF(H117=1,BC117,\"\")","v":""},{"$f":"IF(H117=2,BC117,\"\")","v":""},null,null,{"$f":"B117","v":0}]

{"sheet":"定時制","index":11,"n_rows":117,"n_cols":64,"rows_kept":117,"cut":false,"hidden":false,"merged":[[37,47,37,48],[27,44,27,45],[25,47,25,48],[26,47,26,48],[27,47,27,48],[28,47,28,48],[35,47,35,48],[36,47,36,48],[5,47,5,48],[6,47,6,48],[17,46,22,46],[0,14,0,21],[0,34,0,35],[1,14,1,26],[5,44,5,45],[7,47,7,48],[8,46,13,46],[14,47,14,48],[15,47,15,48],[16,47,16,48]]}
[null,null,null,null,"所属名",{"$f":"IF(名簿!$P$9=\"\",\"\",名簿!$P$9)","v":""},null,null,null,null,null,null,null,null,"定時制通信制大会"]
[null,null,null,"","所属コード",{"$f":"名簿!$Q$9","v":""}]
[null,null,null,null,"顧問名",{"$f":"IF(名簿!$E$5=\"\",\"\",名簿!$E$5)","v":""},"男子参加人数",null,{"$f":"COUNTIF($I$7:$I$116,1)-COUNTIF($BK$7:$BK$116,0)","v":0}]
[null,null,null,null,"顧問連絡先",{"$f":"IF(名簿!$I$5=\"\",\"\",名簿!$I$5)","v":""},"女子参加人数",null,{"$f":"COUNTIF($I$7:$I$116,2)-COUNTIF($BL$7:$BL$116,0)","v":0},"計",null,null,null,null,{"$f":"I3+I4","v":0}]
[null,null,null,null,null,null,null,null,null,null,null,null,null,null,null,null,null,null,null,null,null,null,null,null,null,null,null,null,null,null,null,null,null,null,null,null,null,null,null,null,null,{"$f":"C1","v":0}]
["競技者コード","所属コード","所属コード２","ナンバーA","ナンバー","名前","カナ名","","性別","学年","生年","月日","個人所属地コード","陸連コード","1種目","コード","記録",null,null,"2種目","コード","記録",null,null,"3種目","コード","記録",null,null,"400R","コード","記録4",null,null,"1600R","コード","記録5",null,null,null,null,null,100,null,"出場制限3名",null,"種目","400R",null,null,null,null,null,null,null,null,null,null,null,100,100,"種目数","男子","女子"]
[{"$f":"IF(I7=1,IF(AD7=\"4×100\",1),IF(AD7=\"4×100\",2))","v":false},{"$f":"名簿!Q9","v":""},{"$f":"IF(I7=1,IF(AI7=\"4×400\",1),IF(AI7=\"4×400\",2))","v":false},null,{"$f":"名簿!E9","v":0},{"$f":"名簿!BR9","v":""},{"$f":"名簿!Z9","v":""},{"$f":"F7","v":""},{"$f":"名簿!O9","v":""},{"$f":"名簿!I9","v":0},{"$f":"名簿!K9","v":0},{"$f":"名簿!BU9","v":"00"},{"$f":"名簿!R9","v":""},{"$f":"名簿!D9","v":0},null,{"$f":"IF(O7=\"\",\"\",IF(I7=1,VLOOKUP(O7,男子種目コード!$D$44:$E$56,2,FALSE),IF(I7=2,VLOOKUP(O7,女子種目コード!$G$36:$H$44,2,FALSE))))","v":""},{"$f":"IF(O7=\"\",\"\",HLOOKUP(O7,名簿!$AB$8:$BG$118,2,FALSE))","v":""},0,2,null,{"$f":"IF(T7=\"\",\"\",IF(I7=1,VLOOKUP(T7,男子種目コード!$D$44:$E$56,2,FALSE),IF(I7=2,VLOOKUP(T7,女子種目コード!$G$36:$H$44,2,FALSE))))","v":""},{"$f":"IF(T7=\"\",\"\",HLOOKUP(T7,名簿!$AB$8:$BG$118,2,FALSE))","v":""},0,2,null,{"$f":"IF(Y7=\"\",\"\",IF(I7=1,VLOOKUP(Y7,男子種目コード!$D$44:$E$56,2,FALSE),IF(I7=2,VLOOKUP(Y7,女子種目コード!$G$36:$H$44,2,FALSE))))","v":""},{"$f":"IF(Y7=\"\",\"\",HLOOKUP(Y7,名簿!$AB$8:$BG$118,2,FALSE))","v":""},0,2,null,{"$f":"IF(AD7=\"\",\"\",IF(I7=1,VLOOKUP(AD7,男子種目コード!$D$50:$E$50,2,FALSE),IF(I7=2,VLOOKUP(AD7,女子種目コード!$G$40:$H$40,2,FALSE))))","v":""},null,0,2,null,{"$f":"IF(AI7=\"\",\"\",IF(I7=1,VLOOKUP(AI7,男子種目コード!$D$51:$E$51,2,FALSE),IF(I7=2,\"\",)))","v":""},null,0,2,null,null,null,200,null,100,{"$f":"COUNTIF($P$7:$P$116,1)+COUNTIF($U$7:$U$116,1)+COUNTIF($Z$7:$Z$116,1)","v":0},"記録",null,null,null,null,null,null,{"$f":"IF(O7=\"\",\"\",1)","v":""},{"$f":"IF(OR(BB7=1,T7=\"\"),0,1)","v":0},{"$f":"IF(OR(BB7=1,BC7=1,Y7=\"\"),0,1)","v":0},{"$f":"IF(OR(BB7=1,BC7=1,BD7=1,AD7=\"\"),0,1)","v":0},{"$f":"IF(OR(BB7=1,BC7=1,BD7=1,BE7=1,AI7=\"\"),0,1)","v":0},null,200,200,{"$f":"COUNT(P7,U7,Z7,AE7,AJ7)","v":0},{"$f":"IF(I7=1,BJ7,\"\")","v":""},{"$f":"IF(I7=2,BJ7,\"\")","v":""}]
[{"$f":"IF(I8=1,IF(AD8=\"4×100\",1),IF(AD8=\"4×100\",2))","v":false},{"$f":"名簿!Q10","v":""},{"$f":"IF(I8=1,IF(AI8=\"4×400\",1),IF(AI8=\"4×400\",2))","v":false},null,{"$f":"名簿!E10","v":0},{"$f":"名簿!BR10","v":""},{"$f":"名簿!Z10","v":""},{"$f":"F8","v":""},{"$f":"名簿!O10","v":""},{"$f":"名簿!I10","v":0},{"$f":"名簿!K10","v":0},{"$f":"名簿!BU10","v":"00"},{"$f":"名簿!R10","v":""},{"$f":"名簿!D10","v":0},null,{"$f":"IF(O8=\"\",\"\",IF(I8=1,VLOOKUP(O8,男子種目コード!$D$44:$E$56,2,FALSE),IF(I8=2,VLOOKUP(O8,女子種目コード!$G$36:$H$44,2,FALSE))))","v":""},{"$f":"IF(O8=\"\",\"\",HLOOKUP(O8,名簿!$AB$8:$BG$118,3,FALSE))","v":""},0,2,null,{"$f":"IF(T8=\"\",\"\",IF(I8=1,VLOOKUP(T8,男子種目コード!$D$44:$E$56,2,FALSE),IF(I8=2,VLOOKUP(T8,女子種目コード!$G$36:$H$44,2,FALSE))))","v":""},{"$f":"IF(T8=\"\",\"\",HLOOKUP(T8,名簿!$AB$8:$BG$118,3,FALSE))","v":""},0,2,null,{"$f":"IF(Y8=\"\",\"\",IF(I8=1,VLOOKUP(Y8,男子種目コード!$D$44:$E$56,2,FALSE),IF(I8=2,VLOOKUP(Y8,女子種目コード!$G$36:$H$44,2,FALSE))))","v":""},{"$f":"IF(Y8=\"\",\"\",HLOOKUP(Y8,名簿!$AB$8:$BG$118,3,FALSE))","v":""},0,2,null,{"$f":"IF(AD8=\"\",\"\",IF(I8=1,VLOOKUP(AD8,男子種目コード!$D$50:$E$50,2,FALSE),IF(I8=2,VLOOKUP(AD8,女子種目コード!$G$40:$H$40,2,FALSE))))","v":""},null,0,2,null,{"$f":"IF(AI8=\"\",\"\",IF(I8=1,VLOOKUP(AI8,男子種目コード!$D$51:$E$51,2,FALSE),IF(I8=2,\"\",)))","v":""},null,0,2,null,null,null,400,null,200,{"$f":"COUNTIF($P$7:$P$116,2)+COUNTIF($U$7:$U$116,2)+COUNTIF($Z$7:$Z$116,2)","v":0},"ｵｰﾀﾞｰ",{"$f":"COUNTIF($AE$7:$AE$116,13)","v":0},null,null,null,null,null,{"$f":"IF(O8=\"\",\"\",1)","v":""},0,0,0,0,null,400,800,0,"",""]
[false,{"$f":"名簿!Q11","v":""},false,null,{"$f":"名簿!E11","v":0},{"$f":"名簿!BR11","v":""},{"$f":"名簿!Z11","v":""},"",{"$f":"名簿!O11","v":""},{"$f":"名簿!I11","v":0},{"$f":"名簿!K11","v":0},{"$f":"名簿!BU11","v":"00"},{"$f":"名簿!R11","v":""},{"$f":"名簿!D11","v":0},null,{"$f":"IF(O9=\"\",\"\",IF(I9=1,VLOOKUP(O9,男子種目コード!$D$44:$E$56,2,FALSE),IF(I9=2,VLOOKUP(O9,女子種目コード!$G$36:$H$44,2,FALSE))))","v":""},{"$f":"IF(O9=\"\",\"\",HLOOKUP(O9,名簿!$AB$8:$BG$118,4,FALSE))","v":""},0,2,null,{"$f":"IF(T9=\"\",\"\",IF(I9=1,VLOOKUP(T9,男子種目コード!$D$44:$E$56,2,FALSE),IF(I9=2,VLOOKUP(T9,女子種目コード!$G$36:$H$44,2,FALSE))))","v":""},{"$f":"IF(T9=\"\",\"\",HLOOKUP(T9,名簿!$AB$8:$BG$118,4,FALSE))","v":""},0,2,null,{"$f":"IF(Y9=\"\",\"\",IF(I9=1,VLOOKUP(Y9,男子種目コード!$D$44:$E$56,2,FALSE),IF(I9=2,VLOOKUP(Y9,女子種目コード!$G$36:$H$44,2,FALSE))))","v":""},{"$f":"IF(Y9=\"\",\"\",HLOOKUP(Y9,名簿!$AB$8:$BG$118,4,FALSE))","v":""},0,2,null,{"$f":"IF(AD9=\"\",\"\",IF(I9=1,VLOOKUP(AD9,男子種目コード!$D$50:$E$50,2,FALSE),IF(I9=2,VLOOKUP(AD9,女子種目コード!$G$40:$H$40,2,FALSE))))","v":""},null,0,2,null,{"$f":"IF(AI9=\"\",\"\",IF(I9=1,VLOOKUP(AI9,男子種目コード!$D$51:$E$51,2,FALSE),IF(I9=2,\"\",)))","v":""},null,0,2,null,null,null,800,null,400,{"$f":"COUNTIF($P$7:$P$116,3)+COUNTIF($U$7:$U$116,3)+COUNTIF($Z$7:$Z$116,3)","v":0},"選　手",{"$f":"IF(ISERROR(AX9),\"\",AX9)","v":""},{"$f":"IF(ISERROR(AY9),\"\",AY9)","v":""},{"$f":"VLookUpX(1,$A$7:$F$116,1,5)","v":{"$error":"#N/A"}},{"$f":"VLookUpX(1,$A$7:$F$116,1,6)","v":{"$error":"#N/A"}},null,null,"",0,0,0,0,null,800,"100H",0,"",""]
[false,{"$f":"名簿!Q12","v":""},false,null,{"$f":"名簿!E12","v":0},{"$f":"名簿!BR12","v":""},{"$f":"名簿!Z12","v":""},"",{"$f":"名簿!O12","v":""},{"$f":"名簿!I12","v":0},{"$f":"名簿!K12","v":0},{"$f":"名簿!BU12","v":"00"},{"$f":"名簿!R12","v":""},{"$f":"名簿!D12","v":0},null,{"$f":"IF(O10=\"\",\"\",IF(I10=1,VLOOKUP(O10,男子種目コード!$D$44:$E$56,2,FALSE),IF(I10=2,VLOOKUP(O10,女子種目コード!$G$36:$H$44,2,FALSE))))","v":""},{"$f":"IF(O10=\"\",\"\",HLOOKUP(O10,名簿!$AB$8:$BG$118,5,FALSE))","v":""},0,2,null,{"$f":"IF(T10=\"\",\"\",IF(I10=1,VLOOKUP(T10,男子種目コード!$D$44:$E$56,2,FALSE),IF(I10=2,VLOOKUP(T10,女子種目コード!$G$36:$H$44,2,FALSE))))","v":""},{"$f":"IF(T10=\"\",\"\",HLOOKUP(T10,名簿!$AB$8:$BG$118,5,FALSE))","v":""},0,2,null,{"$f":"IF(Y10=\"\",\"\",IF(I10=1,VLOOKUP(Y10,男子種目コード!$D$44:$E$56,2,FALSE),IF(I10=2,VLOOKUP(Y10,女子種目コード!$G$36:$H$44,2,FALSE))))","v":""},{"$f":"IF(Y10=\"\",\"\",HLOOKUP(Y10,名簿!$AB$8:$BG$118,5,FALSE))","v":""},0,2,null,{"$f":"IF(AD10=\"\",\"\",IF(I10=1,VLOOKUP(AD10,男子種目コード!$D$50:$E$50,2,FALSE),IF(I10=2,VLOOKUP(AD10,女子種目コード!$G$40:$H$40,2,FALSE))))","v":""},null,0,2,null,{"$f":"IF(AI10=\"\",\"\",IF(I10=1,VLOOKUP(AI10,男子種目コード!$D$51:$E$51,2,FALSE),IF(I10=2,\"\",)))","v":""},null,0,2,null,null,null,1500,null,800,{"$f":"COUNTIF($P$7:$P$116,4)+COUNTIF($U$7:$U$116,4)+COUNTIF($Z$7:$Z$116,4)","v":0},null,{"$f":"IF(ISERROR(AX10),\"\",AX10)","v":""},"",{"$f":"VLookUpX(1,$A$7:$F$116,2,5)","v":{"$error":"#N/A"}},{"$f":"VLookUpX(1,$A$7:$F$116,2,6)","v":{"$error":"#N/A"}},null,null,"",0,0,0,0,null,1500,"走高跳",0,"",""]
[false,{"$f":"名簿!Q13","v":""},false,null,{"$f":"名簿!E13","v":0},{"$f":"名簿!BR13","v":""},{"$f":"名簿!Z13","v":""},"",{"$f":"名簿!O13","v":""},{"$f":"名簿!I13","v":0},{"$f":"名簿!K13","v":0},{"$f":"名簿!BU13","v":"00"},{"$f":"名簿!R13","v":""},{"$f":"名簿!D13","v":0},null,{"$f":"IF(O11=\"\",\"\",IF(I11=1,VLOOKUP(O11,男子種目コード!$D$44:$E$56,2,FALSE),IF(I11=2,VLOOKUP(O11,女子種目コード!$G$36:$H$44,2,FALSE))))","v":""},{"$f":"IF(O11=\"\",\"\",HLOOKUP(O11,名簿!$AB$8:$BG$118,6,FALSE))","v":""},0,2,null,{"$f":"IF(T11=\"\",\"\",IF(I11=1,VLOOKUP(T11,男子種目コード!$D$44:$E$56,2,FALSE),IF(I11=2,VLOOKUP(T11,女子種目コード!$G$36:$H$44,2,FALSE))))","v":""},{"$f":"IF(T11=\"\",\"\",HLOOKUP(T11,名簿!$AB$8:$BG$118,6,FALSE))","v":""},0,2,null,{"$f":"IF(Y11=\"\",\"\",IF(I11=1,VLOOKUP(Y11,男子種目コード!$D$44:$E$56,2,FALSE),IF(I11=2,VLOOKUP(Y11,女子種目コード!$G$36:$H$44,2,FALSE))))","v":""},{"$f":"IF(Y11=\"\",\"\",HLOOKUP(Y11,名簿!$AB$8:$BG$118,6,FALSE))","v":""},0,2,null,{"$f":"IF(AD11=\"\",\"\",IF(I11=1,VLOOKUP(AD11,男子種目コード!$D$50:$E$50,2,FALSE),IF(I11=2,VLOOKUP(AD11,女子種目コード!$G$40:$H$40,2,FALSE))))","v":""},null,0,2,null,{"$f":"IF(AI11=\"\",\"\",IF(I11=1,VLOOKUP(AI11,男子種目コード!$D$51:$E$51,2,FALSE),IF(I11=2,\"\",)))","v":""},null,0,2,null,null,null,3000,null,1500,{"$f":"COUNTIF($P$7:$P$116,5)+COUNTIF($U$7:$U$116,5)+COUNTIF($Z$7:$Z$116,5)","v":0},null,"","",{"$f":"VLookUpX(1,$A$7:$F$116,3,5)","v":{"$error":"#N/A"}},{"$f":"VLookUpX(1,$A$7:$F$116,3,6)","v":{"$error":"#N/A"}},null,null,"",0,0,0,0,null,5000,"走幅跳",0,"",""]
[false,{"$f":"名簿!Q14","v":""},false,null,{"$f":"名簿!E14","v":0},{"$f":"名簿!BR14","v":""},{"$f":"名簿!Z14","v":""},"",{"$f":"名簿!O14","v":""},{"$f":"名簿!I14","v":0},{"$f":"名簿!K14","v":0},{"$f":"名簿!BU14","v":"00"},{"$f":"名簿!R14","v":""},{"$f":"名簿!D14","v":0},null,{"$f":"IF(O12=\"\",\"\",IF(I12=1,VLOOKUP(O12,男子種目コード!$D$44:$E$56,2,FALSE),IF(I12=2,VLOOKUP(O12,女子種目コード!$G$36:$H$44,2,FALSE))))","v":""},{"$f":"IF(O12=\"\",\"\",HLOOKUP(O12,名簿!$AB$8:$BG$118,7,FALSE))","v":""},0,2,null,{"$f":"IF(T12=\"\",\"\",IF(I12=1,VLOOKUP(T12,男子種目コード!$D$44:$E$56,2,FALSE),IF(I12=2,VLOOKUP(T12,女子種目コード!$G$36:$H$44,2,FALSE))))","v":""},{"$f":"IF(T12=\"\",\"\",HLOOKUP(T12,名簿!$AB$8:$BG$118,7,FALSE))","v":""},0,2,null,{"$f":"IF(Y12=\"\",\"\",IF(I12=1,VLOOKUP(Y12,男子種目コード!$D$44:$E$56,2,FALSE),IF(I12=2,VLOOKUP(Y12,女子種目コード!$G$36:$H$44,2,FALSE))))","v":""},{"$f":"IF(Y12=\"\",\"\",HLOOKUP(Y12,名簿!$AB$8:$BG$118,7,FALSE))","v":""},0,2,null,{"$f":"IF(AD12=\"\",\"\",IF(I12=1,VLOOKUP(AD12,男子種目コード!$D$50:$E$50,2,FALSE),IF(I12=2,VLOOKUP(AD12,女子種目コード!$G$40:$H$40,2,FALSE))))","v":""},null,0,2,null,{"$f":"IF(AI12=\"\",\"\",IF(I12=1,VLOOKUP(AI12,男子種目コード!$D$51:$E$51,2,FALSE),IF(I12=2,\"\",)))","v":""},null,0,2,null,null,null,5000,null,5000,{"$f":"COUNTIF($P$7:$P$116,6)+COUNTIF($U$7:$U$116,6)+COUNTIF($Z$7:$Z$116,6)","v":0},null,"","",{"$f":"VLookUpX(1,$A$7:$F$116,4,5)","v":{"$error":"#N/A"}},{"$f":"VLookUpX(1,$A$7:$F$116,4,6)","v":{"$error":"#N/A"}},null,null,"",0,0,0,0,null,"走高跳","砲丸投",0,"",""]
[false,{"$f":"名簿!Q15","v":""},false,null,{"$f":"名簿!E15","v":0},{"$f":"名簿!BR15","v":""},{"$f":"名簿!Z15","v":""},"",{"$f":"名簿!O15","v":""},{"$f":"名簿!I15","v":0},{"$f":"名簿!K15","v":0},{"$f":"名簿!BU15","v":"00"},{"$f":"名簿!R15","v":""},{"$f":"名簿!D15","v":0},null,{"$f":"IF(O13=\"\",\"\",IF(I13=1,VLOOKUP(O13,男子種目コード!$D$44:$E$56,2,FALSE),IF(I13=2,VLOOKUP(O13,女子種目コード!$G$36:$H$44,2,FALSE))))","v":""},{"$f":"IF(O13=\"\",\"\",HLOOKUP(O13,名簿!$AB$8:$BG$118,8,FALSE))","v":""},0,2,null,{"$f":"IF(T13=\"\",\"\",IF(I13=1,VLOOKUP(T13,男子種目コード!$D$44:$E$56,2,FALSE),IF(I13=2,VLOOKUP(T13,女子種目コード!$G$36:$H$44,2,FALSE))))","v":""},{"$f":"IF(T13=\"\",\"\",HLOOKUP(T13,名簿!$AB$8:$BG$118,8,FALSE))","v":""},0,2,null,{"$f":"IF(Y13=\"\",\"\",IF(I13=1,VLOOKUP(Y13,男子種目コード!$D$44:$E$56,2,FALSE),IF(I13=2,VLOOKUP(Y13,女子種目コード!$G$36:$H$44,2,FALSE))))","v":""},{"$f":"IF(Y13=\"\",\"\",HLOOKUP(Y13,名簿!$AB$8:$BG$118,8,FALSE))","v":""},0,2,null,{"$f":"IF(AD13=\"\",\"\",IF(I13=1,VLOOKUP(AD13,男子種目コード!$D$50:$E$50,2,FALSE),IF(I13=2,VLOOKUP(AD13,女子種目コード!$G$40:$H$40,2,FALSE))))","v":""},null,0,2,null,{"$f":"IF(AI13=\"\",\"\",IF(I13=1,VLOOKUP(AI13,男子種目コード!$D$51:$E$51,2,FALSE),IF(I13=2,\"\",)))","v":""},null,0,2,null,null,null,"100H",null,"走高跳",{"$f":"COUNTIF($P$7:$P$116,9)+COUNTIF($U$7:$U$116,9)+COUNTIF($Z$7:$Z$116,9)","v":0},null,"","",{"$f":"VLookUpX(1,$A$7:$F$116,5,5)","v":{"$error":"#N/A"}},{"$f":"VLookUpX(1,$A$7:$F$116,5,6)","v":{"$error":"#N/A"}},null,null,"",0,0,0,0,null,"走幅跳","円盤投",0,"",""]
[false,{"$f":"名簿!Q16","v":""},false,null,{"$f":"名簿!E16","v":0},{"$f":"名簿!BR16","v":""},{"$f":"名簿!Z16","v":""},"",{"$f":"名簿!O16","v":""},{"$f":"名簿!I16","v":0},{"$f":"名簿!K16","v":0},{"$f":"名簿!BU16","v":"00"},{"$f":"名簿!R16","v":""},{"$f":"名簿!D16","v":0},null,{"$f":"IF(O14=\"\",\"\",IF(I14=1,VLOOKUP(O14,男子種目コード!$D$44:$E$56,2,FALSE),IF(I14=2,VLOOKUP(O14,女子種目コード!$G$36:$H$44,2,FALSE))))","v":""},{"$f":"IF(O14=\"\",\"\",HLOOKUP(O14,名簿!$AB$8:$BG$118,9,FALSE))","v":""},0,2,null,{"$f":"IF(T14=\"\",\"\",IF(I14=1,VLOOKUP(T14,男子種目コード!$D$44:$E$56,2,FALSE),IF(I14=2,VLOOKUP(T14,女子種目コード!$G$36:$H$44,2,FALSE))))","v":""},{"$f":"IF(T14=\"\",\"\",HLOOKUP(T14,名簿!$AB$8:$BG$118,9,FALSE))","v":""},0,2,null,{"$f":"IF(Y14=\"\",\"\",IF(I14=1,VLOOKUP(Y14,男子種目コード!$D$44:$E$56,2,FALSE),IF(I14=2,VLOOKUP(Y14,女子種目コード!$G$36:$H$44,2,FALSE))))","v":""},{"$f":"IF(Y14=\"\",\"\",HLOOKUP(Y14,名簿!$AB$8:$BG$118,9,FALSE))","v":""},0,2,null,{"$f":"IF(AD14=\"\",\"\",IF(I14=1,VLOOKUP(AD14,男子種目コード!$D$50:$E$50,2,FALSE),IF(I14=2,VLOOKUP(AD14,女子種目コード!$G$40:$H$40,2,FALSE))))","v":""},null,0,2,null,{"$f":"IF(AI14=\"\",\"\",IF(I14=1,VLOOKUP(AI14,男子種目コード!$D$51:$E$51,2,FALSE),IF(I14=2,\"\",)))","v":""},null,0,2,null,null,null,"走高跳",null,"走幅跳",{"$f":"COUNTIF($P$7:$P$116,10)+COUNTIF($U$7:$U$116,10)+COUNTIF($Z$7:$Z$116,10)","v":0},null,"","",{"$f":"VLookUpX(1,$A$7:$F$116,6,5)","v":{"$error":"#N/A"}},{"$f":"VLookUpX(1,$A$7:$F$116,6,6)","v":{"$error":"#N/A"}},null,null,"",0,0,0,0,null,"三段跳",null,0,"",""]
[false,{"$f":"名簿!Q17","v":""},false,null,{"$f":"名簿!E17","v":0},{"$f":"名簿!BR17","v":""},{"$f":"名簿!Z17","v":""},"",{"$f":"名簿!O17","v":""},{"$f":"名簿!I17","v":0},{"$f":"名簿!K17","v":0},{"$f":"名簿!BU17","v":"00"},{"$f":"名簿!R17","v":""},{"$f":"名簿!D17","v":0},null,{"$f":"IF(O15=\"\",\"\",IF(I15=1,VLOOKUP(O15,男子種目コード!$D$44:$E$56,2,FALSE),IF(I15=2,VLOOKUP(O15,女子種目コード!$G$36:$H$44,2,FALSE))))","v":""},{"$f":"IF(O15=\"\",\"\",HLOOKUP(O15,名簿!$AB$8:$BG$118,10,FALSE))","v":""},0,2,null,{"$f":"IF(T15=\"\",\"\",IF(I15=1,VLOOKUP(T15,男子種目コード!$D$44:$E$56,2,FALSE),IF(I15=2,VLOOKUP(T15,女子種目コード!$G$36:$H$44,2,FALSE))))","v":""},{"$f":"IF(T15=\"\",\"\",HLOOKUP(T15,名簿!$AB$8:$BG$118,10,FALSE))","v":""},0,2,null,{"$f":"IF(Y15=\"\",\"\",IF(I15=1,VLOOKUP(Y15,男子種目コード!$D$44:$E$56,2,FALSE),IF(I15=2,VLOOKUP(Y15,女子種目コード!$G$36:$H$44,2,FALSE))))","v":""},{"$f":"IF(Y15=\"\",\"\",HLOOKUP(Y15,名簿!$AB$8:$BG$118,10,FALSE))","v":""},0,2,null,{"$f":"IF(AD15=\"\",\"\",IF(I15=1,VLOOKUP(AD15,男子種目コード!$D$50:$E$50,2,FALSE),IF(I15=2,VLOOKUP(AD15,女子種目コード!$G$40:$H$40,2,FALSE))))","v":""},null,0,2,null,{"$f":"IF(AI15=\"\",\"\",IF(I15=1,VLOOKUP(AI15,男子種目コード!$D$51:$E$51,2,FALSE),IF(I15=2,\"\",)))","v":""},null,0,2,null,null,null,"棒高跳",null,"三段跳",{"$f":"COUNTIF($P$7:$P$116,11)+COUNTIF($U$7:$U$116,11)+COUNTIF($Z$7:$Z$116,11)","v":0},"種目","1600R",null,null,null,null,null,"",0,0,0,0,null,"砲丸投",null,0,"",""]
[false,{"$f":"名簿!Q18","v":""},false,null,{"$f":"名簿!E18","v":0},{"$f":"名簿!BR18","v":""},{"$f":"名簿!Z18","v":""},"",{"$f":"名簿!O18","v":""},{"$f":"名簿!I18","v":0},{"$f":"名簿!K18","v":0},{"$f":"名簿!BU18","v":"00"},{"$f":"名簿!R18","v":""},{"$f":"名簿!D18","v":0},null,{"$f":"IF(O16=\"\",\"\",IF(I16=1,VLOOKUP(O16,男子種目コード!$D$44:$E$56,2,FALSE),IF(I16=2,VLOOKUP(O16,女子種目コード!$G$36:$H$44,2,FALSE))))","v":""},{"$f":"IF(O16=\"\",\"\",HLOOKUP(O16,名簿!$AB$8:$BG$118,11,FALSE))","v":""},0,2,null,{"$f":"IF(T16=\"\",\"\",IF(I16=1,VLOOKUP(T16,男子種目コード!$D$44:$E$56,2,FALSE),IF(I16=2,VLOOKUP(T16,女子種目コード!$G$36:$H$44,2,FALSE))))","v":""},{"$f":"IF(T16=\"\",\"\",HLOOKUP(T16,名簿!$AB$8:$BG$118,11,FALSE))","v":""},0,2,null,{"$f":"IF(Y16=\"\",\"\",IF(I16=1,VLOOKUP(Y16,男子種目コード!$D$44:$E$56,2,FALSE),IF(I16=2,VLOOKUP(Y16,女子種目コード!$G$36:$H$44,2,FALSE))))","v":""},{"$f":"IF(Y16=\"\",\"\",HLOOKUP(Y16,名簿!$AB$8:$BG$118,11,FALSE))","v":""},0,2,null,{"$f":"IF(AD16=\"\",\"\",IF(I16=1,VLOOKUP(AD16,男子種目コード!$D$50:$E$50,2,FALSE),IF(I16=2,VLOOKUP(AD16,女子種目コード!$G$40:$H$40,2,FALSE))))","v":""},null,0,2,null,{"$f":"IF(AI16=\"\",\"\",IF(I16=1,VLOOKUP(AI16,男子種目コード!$D$51:$E$51,2,FALSE),IF(I16=2,\"\",)))","v":""},null,0,2,null,null,null,"走幅跳",null,"砲丸投",{"$f":"COUNTIF($P$7:$P$116,12)+COUNTIF($U$7:$U$116,12)+COUNTIF($Z$7:$Z$116,12)","v":0},"記録",null,null,null,null,null,null,"",0,0,0,0,null,"円盤投",null,0,"",""]
[false,{"$f":"名簿!Q19","v":""},false,null,{"$f":"名簿!E19","v":0},{"$f":"名簿!BR19","v":""},{"$f":"名簿!Z19","v":""},"",{"$f":"名簿!O19","v":""},{"$f":"名簿!I19","v":0},{"$f":"名簿!K19","v":0},{"$f":"名簿!BU19","v":"00"},{"$f":"名簿!R19","v":""},{"$f":"名簿!D19","v":0},null,{"$f":"IF(O17=\"\",\"\",IF(I17=1,VLOOKUP(O17,男子種目コード!$D$44:$E$56,2,FALSE),IF(I17=2,VLOOKUP(O17,女子種目コード!$G$36:$H$44,2,FALSE))))","v":""},{"$f":"IF(O17=\"\",\"\",HLOOKUP(O17,名簿!$AB$8:$BG$118,12,FALSE))","v":""},0,2,null,{"$f":"IF(T17=\"\",\"\",IF(I17=1,VLOOKUP(T17,男子種目コード!$D$44:$E$56,2,FALSE),IF(I17=2,VLOOKUP(T17,女子種目コード!$G$36:$H$44,2,FALSE))))","v":""},{"$f":"IF(T17=\"\",\"\",HLOOKUP(T17,名簿!$AB$8:$BG$118,12,FALSE))","v":""},0,2,null,{"$f":"IF(Y17=\"\",\"\",IF(I17=1,VLOOKUP(Y17,男子種目コード!$D$44:$E$56,2,FALSE),IF(I17=2,VLOOKUP(Y17,女子種目コード!$G$36:$H$44,2,FALSE))))","v":""},{"$f":"IF(Y17=\"\",\"\",HLOOKUP(Y17,名簿!$AB$8:$BG$118,12,FALSE))","v":""},0,2,null,{"$f":"IF(AD17=\"\",\"\",IF(I17=1,VLOOKUP(AD17,男子種目コード!$D$50:$E$50,2,FALSE),IF(I17=2,VLOOKUP(AD17,女子種目コード!$G$40:$H$40,2,FALSE))))","v":""},null,0,2,null,{"$f":"IF(AI17=\"\",\"\",IF(I17=1,VLOOKUP(AI17,男子種目コード!$D$51:$E$51,2,FALSE),IF(I17=2,\"\",)))","v":""},null,0,2,null,null,null,"三段跳",null,"円盤投",{"$f":"COUNTIF($P$7:$P$116,13)+COUNTIF($U$7:$U$116,13)+COUNTIF($Z$7:$Z$116,13)","v":0},"ｵｰﾀﾞｰ",{"$f":"COUNTIF($AJ$7:$AJ$116,14)","v":0},null,null,null,null,null,"",0,0,0,0,null,null,null,0,"",""]
[false,{"$f":"名簿!Q20","v":""},false,null,{"$f":"名簿!E20","v":0},{"$f":"名簿!BR20","v":""},{"$f":"名簿!Z20","v":""},"",{"$f":"名簿!O20","v":""},{"$f":"名簿!I20","v":0},{"$f":"名簿!K20","v":0},{"$f":"名簿!BU20","v":"00"},{"$f":"名簿!R20","v":""},{"$f":"名簿!D20","v":0},null,{"$f":"IF(O18=\"\",\"\",IF(I18=1,VLOOKUP(O18,男子種目コード!$D$44:$E$56,2,FALSE),IF(I18=2,VLOOKUP(O18,女子種目コード!$G$36:$H$44,2,FALSE))))","v":""},{"$f":"IF(O18=\"\",\"\",HLOOKUP(O18,名簿!$AB$8:$BG$118,13,FALSE))","v":""},0,2,null,{"$f":"IF(T18=\"\",\"\",IF(I18=1,VLOOKUP(T18,男子種目コード!$D$44:$E$56,2,FALSE),IF(I18=2,VLOOKUP(T18,女子種目コード!$G$36:$H$44,2,FALSE))))","v":""},{"$f":"IF(T18=\"\",\"\",HLOOKUP(T18,名簿!$AB$8:$BG$118,13,FALSE))","v":""},0,2,null,{"$f":"IF(Y18=\"\",\"\",IF(I18=1,VLOOKUP(Y18,男子種目コード!$D$44:$E$56,2,FALSE),IF(I18=2,VLOOKUP(Y18,女子種目コード!$G$36:$H$44,2,FALSE))))","v":""},{"$f":"IF(Y18=\"\",\"\",HLOOKUP(Y18,名簿!$AB$8:$BG$118,13,FALSE))","v":""},0,2,null,{"$f":"IF(AD18=\"\",\"\",IF(I18=1,VLOOKUP(AD18,男子種目コード!$D$50:$E$50,2,FALSE),IF(I18=2,VLOOKUP(AD18,女子種目コード!$G$40:$H$40,2,FALSE))))","v":""},null,0,2,null,{"$f":"IF(AI18=\"\",\"\",IF(I18=1,VLOOKUP(AI18,男子種目コード!$D$51:$E$51,2,FALSE),IF(I18=2,\"\",)))","v":""},null,0,2,null,null,null,"砲丸投",null,"計",{"$f":"SUM(AT7:AT17)","v":0},"選　手",{"$f":"IF(ISERROR(AX18),\"\",AX18)","v":""},"",{"$f":"VLookUpX(1,$C$7:$F$116,1,3)","v":{"$error":"#N/A"}},{"$f":"VLookUpX(1,$C$7:$F$116,1,4)","v":{"$error":"#N/A"}},null,null,"",0,0,0,0,null,null,null,0,"",""]
[false,{"$f":"名簿!Q21","v":""},false,null,{"$f":"名簿!E21","v":0},{"$f":"名簿!BR21","v":""},{"$f":"名簿!Z21","v":""},"",{"$f":"名簿!O21","v":""},{"$f":"名簿!I21","v":0},{"$f":"名簿!K21","v":0},{"$f":"名簿!BU21","v":"00"},{"$f":"名簿!R21","v":""},{"$f":"名簿!D21","v":0},null,{"$f":"IF(O19=\"\",\"\",IF(I19=1,VLOOKUP(O19,男子種目コード!$D$44:$E$56,2,FALSE),IF(I19=2,VLOOKUP(O19,女子種目コード!$G$36:$H$44,2,FALSE))))","v":""},{"$f":"IF(O19=\"\",\"\",HLOOKUP(O19,名簿!$AB$8:$BG$118,14,FALSE))","v":""},0,2,null,{"$f":"IF(T19=\"\",\"\",IF(I19=1,VLOOKUP(T19,男子種目コード!$D$44:$E$56,2,FALSE),IF(I19=2,VLOOKUP(T19,女子種目コード!$G$36:$H$44,2,FALSE))))","v":""},{"$f":"IF(T19=\"\",\"\",HLOOKUP(T19,名簿!$AB$8:$BG$118,14,FALSE))","v":""},0,2,null,{"$f":"IF(Y19=\"\",\"\",IF(I19=1,VLOOKUP(Y19,男子種目コード!$D$44:$E$56,2,FALSE),IF(I19=2,VLOOKUP(Y19,女子種目コード!$G$36:$H$44,2,FALSE))))","v":""},{"$f":"IF(Y19=\"\",\"\",HLOOKUP(Y19,名簿!$AB$8:$BG$118,14,FALSE))","v":""},0,2,null,{"$f":"IF(AD19=\"\",\"\",IF(I19=1,VLOOKUP(AD19,男子種目コード!$D$50:$E$50,2,FALSE),IF(I19=2,VLOOKUP(AD19,女子種目コード!$G$40:$H$40,2,FALSE))))","v":""},null,0,2,null,{"$f":"IF(AI19=\"\",\"\",IF(I19=1,VLOOKUP(AI19,男子種目コード!$D$51:$E$51,2,FALSE),IF(I19=2,\"\",)))","v":""},null,0,2,null,null,null,"円盤投",null,100,{"$f":"COUNTIF($P$7:$P$116,20)+COUNTIF($U$7:$U$116,20)+COUNTIF($Z$7:$Z$116,20)","v":0},null,"","",{"$f":"VLookUpX(1,$C$7:$F$116,2,3)","v":{"$error":"#N/A"}},{"$f":"VLookUpX(1,$C$7:$F$116,2,4)","v":{"$error":"#N/A"}},null,null,"",0,0,0,0,null,null,null,0,"",""]
[false,{"$f":"名簿!Q22","v":""},false,null,{"$f":"名簿!E22","v":0},{"$f":"名簿!BR22","v":""},{"$f":"名簿!Z22","v":""},"",{"$f":"名簿!O22","v":""},{"$f":"名簿!I22","v":0},{"$f":"名簿!K22","v":0},{"$f":"名簿!BU22","v":"00"},{"$f":"名簿!R22","v":""},{"$f":"名簿!D22","v":0},null,{"$f":"IF(O20=\"\",\"\",IF(I20=1,VLOOKUP(O20,男子種目コード!$D$44:$E$56,2,FALSE),IF(I20=2,VLOOKUP(O20,女子種目コード!$G$36:$H$44,2,FALSE))))","v":""},{"$f":"IF(O20=\"\",\"\",HLOOKUP(O20,名簿!$AB$8:$BG$118,15,FALSE))","v":""},0,2,null,{"$f":"IF(T20=\"\",\"\",IF(I20=1,VLOOKUP(T20,男子種目コード!$D$44:$E$56,2,FALSE),IF(I20=2,VLOOKUP(T20,女子種目コード!$G$36:$H$44,2,FALSE))))","v":""},{"$f":"IF(T20=\"\",\"\",HLOOKUP(T20,名簿!$AB$8:$BG$118,15,FALSE))","v":""},0,2,null,{"$f":"IF(Y20=\"\",\"\",IF(I20=1,VLOOKUP(Y20,男子種目コード!$D$44:$E$56,2,FALSE),IF(I20=2,VLOOKUP(Y20,女子種目コード!$G$36:$H$44,2,FALSE))))","v":""},{"$f":"IF(Y20=\"\",\"\",HLOOKUP(Y20,名簿!$AB$8:$BG$118,15,FALSE))","v":""},0,2,null,{"$f":"IF(AD20=\"\",\"\",IF(I20=1,VLOOKUP(AD20,男子種目コード!$D$50:$E$50,2,FALSE),IF(I20=2,VLOOKUP(AD20,女子種目コード!$G$40:$H$40,2,FALSE))))","v":""},null,0,2,null,{"$f":"IF(AI20=\"\",\"\",IF(I20=1,VLOOKUP(AI20,男子種目コード!$D$51:$E$51,2,FALSE),IF(I20=2,\"\",)))","v":""},null,0,2,null,null,null,"4×100",null,200,{"$f":"COUNTIF($P$7:$P$116,21)+COUNTIF($U$7:$U$116,21)+COUNTIF($Z$7:$Z$116,21)","v":0},null,"","",{"$f":"VLookUpX(1,$C$7:$F$116,3,3)","v":{"$error":"#N/A"}},{"$f":"VLookUpX(1,$C$7:$F$116,3,4)","v":{"$error":"#N/A"}},null,null,"",0,0,0,0,null,null,null,0,"",""]
[false,{"$f":"名簿!Q23","v":""},false,null,{"$f":"名簿!E23","v":0},{"$f":"名簿!BR23","v":""},{"$f":"名簿!Z23","v":""},"",{"$f":"名簿!O23","v":""},{"$f":"名簿!I23","v":0},{"$f":"名簿!K23","v":0},{"$f":"名簿!BU23","v":"00"},{"$f":"名簿!R23","v":""},{"$f":"名簿!D23","v":0},null,{"$f":"IF(O21=\"\",\"\",IF(I21=1,VLOOKUP(O21,男子種目コード!$D$44:$E$56,2,FALSE),IF(I21=2,VLOOKUP(O21,女子種目コード!$G$36:$H$44,2,FALSE))))","v":""},{"$f":"IF(O21=\"\",\"\",HLOOKUP(O21,名簿!$AB$8:$BG$118,16,FALSE))","v":""},0,2,null,{"$f":"IF(T21=\"\",\"\",IF(I21=1,VLOOKUP(T21,男子種目コード!$D$44:$E$56,2,FALSE),IF(I21=2,VLOOKUP(T21,女子種目コード!$G$36:$H$44,2,FALSE))))","v":""},{"$f":"IF(T21=\"\",\"\",HLOOKUP(T21,名簿!$AB$8:$BG$118,16,FALSE))","v":""},0,2,null,{"$f":"IF(Y21=\"\",\"\",IF(I21=1,VLOOKUP(Y21,男子種目コード!$D$44:$E$56,2,FALSE),IF(I21=2,VLOOKUP(Y21,女子種目コード!$G$36:$H$44,2,FALSE))))","v":""},{"$f":"IF(Y21=\"\",\"\",HLOOKUP(Y21,名簿!$AB$8:$BG$118,16,FALSE))","v":""},0,2,null,{"$f":"IF(AD21=\"\",\"\",IF(I21=1,VLOOKUP(AD21,男子種目コード!$D$50:$E$50,2,FALSE),IF(I21=2,VLOOKUP(AD21,女子種目コード!$G$40:$H$40,2,FALSE))))","v":""},null,0,2,null,{"$f":"IF(AI21=\"\",\"\",IF(I21=1,VLOOKUP(AI21,男子種目コード!$D$51:$E$51,2,FALSE),IF(I21=2,\"\",)))","v":""},null,0,2,null,null,null,"4×400",null,800,{"$f":"COUNTIF($P$7:$P$116,22)+COUNTIF($U$7:$U$116,22)+COUNTIF($Z$7:$Z$116,22)","v":0},null,"","",{"$f":"VLookUpX(1,$C$7:$F$116,4,3)","v":{"$error":"#N/A"}},{"$f":"VLookUpX(1,$C$7:$F$116,4,4)","v":{"$error":"#N/A"}},null,null,"",0,0,0,0,null,null,null,0,"",""]
[false,{"$f":"名簿!Q24","v":""},false,null,{"$f":"名簿!E24","v":0},{"$f":"名簿!BR24","v":""},{"$f":"名簿!Z24","v":""},"",{"$f":"名簿!O24","v":""},{"$f":"名簿!I24","v":0},{"$f":"名簿!K24","v":0},{"$f":"名簿!BU24","v":"00"},{"$f":"名簿!R24","v":""},{"$f":"名簿!D24","v":0},null,{"$f":"IF(O22=\"\",\"\",IF(I22=1,VLOOKUP(O22,男子種目コード!$D$44:$E$56,2,FALSE),IF(I22=2,VLOOKUP(O22,女子種目コード!$G$36:$H$44,2,FALSE))))","v":""},{"$f":"IF(O22=\"\",\"\",HLOOKUP(O22,名簿!$AB$8:$BG$118,17,FALSE))","v":""},0,2,null,{"$f":"IF(T22=\"\",\"\",IF(I22=1,VLOOKUP(T22,男子種目コード!$D$44:$E$56,2,FALSE),IF(I22=2,VLOOKUP(T22,女子種目コード!$G$36:$H$44,2,FALSE))))","v":""},{"$f":"IF(T22=\"\",\"\",HLOOKUP(T22,名簿!$AB$8:$BG$118,17,FALSE))","v":""},0,2,null,{"$f":"IF(Y22=\"\",\"\",IF(I22=1,VLOOKUP(Y22,男子種目コード!$D$44:$E$56,2,FALSE),IF(I22=2,VLOOKUP(Y22,女子種目コード!$G$36:$H$44,2,FALSE))))","v":""},{"$f":"IF(Y22=\"\",\"\",HLOOKUP(Y22,名簿!$AB$8:$BG$118,17,FALSE))","v":""},0,2,null,{"$f":"IF(AD22=\"\",\"\",IF(I22=1,VLOOKUP(AD22,男子種目コード!$D$50:$E$50,2,FALSE),IF(I22=2,VLOOKUP(AD22,女子種目コード!$G$40:$H$40,2,FALSE))))","v":""},null,0,2,null,{"$f":"IF(AI22=\"\",\"\",IF(I22=1,VLOOKUP(AI22,男子種目コード!$D$51:$E$51,2,FALSE),IF(I22=2,\"\",)))","v":""},null,0,2,null,null,null,null,null,"100H",{"$f":"COUNTIF($P$7:$P$116,23)+COUNTIF($U$7:$U$116,23)+COUNTIF($Z$7:$Z$116,23)","v":0},null,"","",{"$f":"VLookUpX(1,$C$7:$F$116,5,3)","v":{"$error":"#N/A"}},{"$f":"VLookUpX(1,$C$7:$F$116,5,4)","v":{"$error":"#N/A"}},null,null,"",0,0,0,0,null,null,null,0,"",""]
[false,{"$f":"名簿!Q25","v":""},false,null,{"$f":"名簿!E25","v":0},{"$f":"名簿!BR25","v":""},{"$f":"名簿!Z25","v":""},"",{"$f":"名簿!O25","v":""},{"$f":"名簿!I25","v":0},{"$f":"名簿!K25","v":0},{"$f":"名簿!BU25","v":"00"},{"$f":"名簿!R25","v":""},{"$f":"名簿!D25","v":0},null,{"$f":"IF(O23=\"\",\"\",IF(I23=1,VLOOKUP(O23,男子種目コード!$D$44:$E$56,2,FALSE),IF(I23=2,VLOOKUP(O23,女子種目コード!$G$36:$H$44,2,FALSE))))","v":""},{"$f":"IF(O23=\"\",\"\",HLOOKUP(O23,名簿!$AB$8:$BG$118,18,FALSE))","v":""},0,2,null,{"$f":"IF(T23=\"\",\"\",IF(I23=1,VLOOKUP(T23,男子種目コード!$D$44:$E$56,2,FALSE),IF(I23=2,VLOOKUP(T23,女子種目コード!$G$36:$H$44,2,FALSE))))","v":""},{"$f":"IF(T23=\"\",\"\",HLOOKUP(T23,名簿!$AB$8:$BG$118,18,FALSE))","v":""},0,2,null,{"$f":"IF(Y23=\"\",\"\",IF(I23=1,VLOOKUP(Y23,男子種目コード!$D$44:$E$56,2,FALSE),IF(I23=2,VLOOKUP(Y23,女子種目コード!$G$36:$H$44,2,FALSE))))","v":""},{"$f":"IF(Y23=\"\",\"\",HLOOKUP(Y23,名簿!$AB$8:$BG$118,18,FALSE))","v":""},0,2,null,{"$f":"IF(AD23=\"\",\"\",IF(I23=1,VLOOKUP(AD23,男子種目コード!$D$50:$E$50,2,FALSE),IF(I23=2,VLOOKUP(AD23,女子種目コード!$G$40:$H$40,2,FALSE))))","v":""},null,0,2,null,{"$f":"IF(AI23=\"\",\"\",IF(I23=1,VLOOKUP(AI23,男子種目コード!$D$51:$E$51,2,FALSE),IF(I23=2,\"\",)))","v":""},null,0,2,null,null,null,null,null,"走高跳",{"$f":"COUNTIF($P$7:$P$116,25)+COUNTIF($U$7:$U$116,25)+COUNTIF($Z$7:$Z$116,25)","v":0},null,"","",{"$f":"VLookUpX(1,$C$7:$F$116,6,3)","v":{"$error":"#N/A"}},{"$f":"VLookUpX(1,$C$7:$F$116,6,4)","v":{"$error":"#N/A"}},null,null,"",0,0,0,0,null,null,null,0,"",""]
[false,{"$f":"名簿!Q26","v":""},false,null,{"$f":"名簿!E26","v":0},{"$f":"名簿!BR26","v":""},{"$f":"名簿!Z26","v":""},"",{"$f":"名簿!O26","v":""},{"$f":"名簿!I26","v":0},{"$f":"名簿!K26","v":0},{"$f":"名簿!BU26","v":"00"},{"$f":"名簿!R26","v":""},{"$f":"名簿!D26","v":0},null,{"$f":"IF(O24=\"\",\"\",IF(I24=1,VLOOKUP(O24,男子種目コード!$D$44:$E$56,2,FALSE),IF(I24=2,VLOOKUP(O24,女子種目コード!$G$36:$H$44,2,FALSE))))","v":""},{"$f":"IF(O24=\"\",\"\",HLOOKUP(O24,名簿!$AB$8:$BG$118,19,FALSE))","v":""},0,2,null,{"$f":"IF(T24=\"\",\"\",IF(I24=1,VLOOKUP(T24,男子種目コード!$D$44:$E$56,2,FALSE),IF(I24=2,VLOOKUP(T24,女子種目コード!$G$36:$H$44,2,FALSE))))","v":""},{"$f":"IF(T24=\"\",\"\",HLOOKUP(T24,名簿!$AB$8:$BG$118,19,FALSE))","v":""},0,2,null,{"$f":"IF(Y24=\"\",\"\",IF(I24=1,VLOOKUP(Y24,男子種目コード!$D$44:$E$56,2,FALSE),IF(I24=2,VLOOKUP(Y24,女子種目コード!$G$36:$H$44,2,FALSE))))","v":""},{"$f":"IF(Y24=\"\",\"\",HLOOKUP(Y24,名簿!$AB$8:$BG$118,19,FALSE))","v":""},0,2,null,{"$f":"IF(AD24=\"\",\"\",IF(I24=1,VLOOKUP(AD24,男子種目コード!$D$50:$E$50,2,FALSE),IF(I24=2,VLOOKUP(AD24,女子種目コード!$G$40:$H$40,2,FALSE))))","v":""},null,0,2,null,{"$f":"IF(AI24=\"\",\"\",IF(I24=1,VLOOKUP(AI24,男子種目コード!$D$51:$E$51,2,FALSE),IF(I24=2,\"\",)))","v":""},null,0,2,null,null,null,null,null,"走幅跳",{"$f":"COUNTIF($P$7:$P$116,26)+COUNTIF($U$7:$U$116,26)+COUNTIF($Z$7:$Z$116,26)","v":0},null,null,null,null,null,null,null,"",0,0,0,0,null,null,null,0,"",""]
[false,{"$f":"名簿!Q27","v":""},false,null,{"$f":"名簿!E27","v":0},{"$f":"名簿!BR27","v":""},{"$f":"名簿!Z27","v":""},"",{"$f":"名簿!O27","v":""},{"$f":"名簿!I27","v":0},{"$f":"名簿!K27","v":0},{"$f":"名簿!BU27","v":"00"},{"$f":"名簿!R27","v":""},{"$f":"名簿!D27","v":0},null,{"$f":"IF(O25=\"\",\"\",IF(I25=1,VLOOKUP(O25,男子種目コード!$D$44:$E$56,2,FALSE),IF(I25=2,VLOOKUP(O25,女子種目コード!$G$36:$H$44,2,FALSE))))","v":""},{"$f":"IF(O25=\"\",\"\",HLOOKUP(O25,名簿!$AB$8:$BG$118,20,FALSE))","v":""},0,2,null,{"$f":"IF(T25=\"\",\"\",IF(I25=1,VLOOKUP(T25,男子種目コード!$D$44:$E$56,2,FALSE),IF(I25=2,VLOOKUP(T25,女子種目コード!$G$36:$H$44,2,FALSE))))","v":""},{"$f":"IF(T25=\"\",\"\",HLOOKUP(T25,名簿!$AB$8:$BG$118,20,FALSE))","v":""},0,2,null,{"$f":"IF(Y25=\"\",\"\",IF(I25=1,VLOOKUP(Y25,男子種目コード!$D$44:$E$56,2,FALSE),IF(I25=2,VLOOKUP(Y25,女子種目コード!$G$36:$H$44,2,FALSE))))","v":""},{"$f":"IF(Y25=\"\",\"\",HLOOKUP(Y25,名簿!$AB$8:$BG$118,20,FALSE))","v":""},0,2,null,{"$f":"IF(AD25=\"\",\"\",IF(I25=1,VLOOKUP(AD25,男子種目コード!$D$50:$E$50,2,FALSE),IF(I25=2,VLOOKUP(AD25,女子種目コード!$G$40:$H$40,2,FALSE))))","v":""},null,0,2,null,{"$f":"IF(AI25=\"\",\"\",IF(I25=1,VLOOKUP(AI25,男子種目コード!$D$51:$E$51,2,FALSE),IF(I25=2,\"\",)))","v":""},null,0,2,null,null,null,null,null,"砲丸投",{"$f":"COUNTIF($P$7:$P$116,27)+COUNTIF($U$7:$U$116,27)+COUNTIF($Z$7:$Z$116,27)","v":0},null,null,null,null,null,null,null,"",0,0,0,0,null,null,null,0,"",""]
[false,{"$f":"名簿!Q28","v":""},false,null,{"$f":"名簿!E28","v":0},{"$f":"名簿!BR28","v":""},{"$f":"名簿!Z28","v":""},"",{"$f":"名簿!O28","v":""},{"$f":"名簿!I28","v":0},{"$f":"名簿!K28","v":0},{"$f":"名簿!BU28","v":"00"},{"$f":"名簿!R28","v":""},{"$f":"名簿!D28","v":0},null,{"$f":"IF(O26=\"\",\"\",IF(I26=1,VLOOKUP(O26,男子種目コード!$D$44:$E$56,2,FALSE),IF(I26=2,VLOOKUP(O26,女子種目コード!$G$36:$H$44,2,FALSE))))","v":""},{"$f":"IF(O26=\"\",\"\",HLOOKUP(O26,名簿!$AB$8:$BG$118,21,FALSE))","v":""},0,2,null,{"$f":"IF(T26=\"\",\"\",IF(I26=1,VLOOKUP(T26,男子種目コード!$D$44:$E$56,2,FALSE),IF(I26=2,VLOOKUP(T26,女子種目コード!$G$36:$H$44,2,FALSE))))","v":""},{"$f":"IF(T26=\"\",\"\",HLOOKUP(T26,名簿!$AB$8:$BG$118,21,FALSE))","v":""},0,2,null,{"$f":"IF(Y26=\"\",\"\",IF(I26=1,VLOOKUP(Y26,男子種目コード!$D$44:$E$56,2,FALSE),IF(I26=2,VLOOKUP(Y26,女子種目コード!$G$36:$H$44,2,FALSE))))","v":""},{"$f":"IF(Y26=\"\",\"\",HLOOKUP(Y26,名簿!$AB$8:$BG$118,21,FALSE))","v":""},0,2,null,{"$f":"IF(AD26=\"\",\"\",IF(I26=1,VLOOKUP(AD26,男子種目コード!$D$50:$E$50,2,FALSE),IF(I26=2,VLOOKUP(AD26,女子種目コード!$G$40:$H$40,2,FALSE))))","v":""},null,0,2,null,{"$f":"IF(AI26=\"\",\"\",IF(I26=1,VLOOKUP(AI26,男子種目コード!$D$51:$E$51,2,FALSE),IF(I26=2,\"\",)))","v":""},null,0,2,null,null,null,null,null,"円盤投",{"$f":"COUNTIF($P$7:$P$116,28)+COUNTIF($U$7:$U$116,28)+COUNTIF($Z$7:$Z$116,28)","v":0},null,null,null,null,null,null,null,"",0,0,0,0,null,null,null,0,"",""]
[false,{"$f":"名簿!Q29","v":""},false,null,{"$f":"名簿!E29","v":0},{"$f":"名簿!BR29","v":""},{"$f":"名簿!Z29","v":""},"",{"$f":"名簿!O29","v":""},{"$f":"名簿!I29","v":0},{"$f":"名簿!K29","v":0},{"$f":"名簿!BU29","v":"00"},{"$f":"名簿!R29","v":""},{"$f":"名簿!D29","v":0},null,{"$f":"IF(O27=\"\",\"\",IF(I27=1,VLOOKUP(O27,男子種目コード!$D$44:$E$56,2,FALSE),IF(I27=2,VLOOKUP(O27,女子種目コード!$G$36:$H$44,2,FALSE))))","v":""},{"$f":"IF(O27=\"\",\"\",HLOOKUP(O27,名簿!$AB$8:$BG$118,22,FALSE))","v":""},0,2,null,{"$f":"IF(T27=\"\",\"\",IF(I27=1,VLOOKUP(T27,男子種目コード!$D$44:$E$56,2,FALSE),IF(I27=2,VLOOKUP(T27,女子種目コード!$G$36:$H$44,2,FALSE))))","v":""},{"$f":"IF(T27=\"\",\"\",HLOOKUP(T27,名簿!$AB$8:$BG$118,22,FALSE))","v":""},0,2,null,{"$f":"IF(Y27=\"\",\"\",IF(I27=1,VLOOKUP(Y27,男子種目コード!$D$44:$E$56,2,FALSE),IF(I27=2,VLOOKUP(Y27,女子種目コード!$G$36:$H$44,2,FALSE))))","v":""},{"$f":"IF(Y27=\"\",\"\",HLOOKUP(Y27,名簿!$AB$8:$BG$118,22,FALSE))","v":""},0,2,null,{"$f":"IF(AD27=\"\",\"\",IF(I27=1,VLOOKUP(AD27,男子種目コード!$D$50:$E$50,2,FALSE),IF(I27=2,VLOOKUP(AD27,女子種目コード!$G$40:$H$40,2,FALSE))))","v":""},null,0,2,null,{"$f":"IF(AI27=\"\",\"\",IF(I27=1,VLOOKUP(AI27,男子種目コード!$D$51:$E$51,2,FALSE),IF(I27=2,\"\",)))","v":""},null,0,2,null,null,null,null,null,"計",{"$f":"SUM(AT19:AT26)","v":0},"種目","400R",null,null,null,null,null,"",0,0,0,0,null,null,null,0,"",""]
[false,{"$f":"名簿!Q30","v":""},false,null,{"$f":"名簿!E30","v":0},{"$f":"名簿!BR30","v":""},{"$f":"名簿!Z30","v":""},"",{"$f":"名簿!O30","v":""},{"$f":"名簿!I30","v":0},{"$f":"名簿!K30","v":0},{"$f":"名簿!BU30","v":"00"},{"$f":"名簿!R30","v":""},{"$f":"名簿!D30","v":0},null,{"$f":"IF(O28=\"\",\"\",IF(I28=1,VLOOKUP(O28,男子種目コード!$D$44:$E$56,2,FALSE),IF(I28=2,VLOOKUP(O28,女子種目コード!$G$36:$H$44,2,FALSE))))","v":""},{"$f":"IF(O28=\"\",\"\",HLOOKUP(O28,名簿!$AB$8:$BG$118,23,FALSE))","v":""},0,2,null,{"$f":"IF(T28=\"\",\"\",IF(I28=1,VLOOKUP(T28,男子種目コード!$D$44:$E$56,2,FALSE),IF(I28=2,VLOOKUP(T28,女子種目コード!$G$36:$H$44,2,FALSE))))","v":""},{"$f":"IF(T28=\"\",\"\",HLOOKUP(T28,名簿!$AB$8:$BG$118,23,FALSE))","v":""},0,2,null,{"$f":"IF(Y28=\"\",\"\",IF(I28=1,VLOOKUP(Y28,男子種目コード!$D$44:$E$56,2,FALSE),IF(I28=2,VLOOKUP(Y28,女子種目コード!$G$36:$H$44,2,FALSE))))","v":""},{"$f":"IF(Y28=\"\",\"\",HLOOKUP(Y28,名簿!$AB$8:$BG$118,23,FALSE))","v":""},0,2,null,{"$f":"IF(AD28=\"\",\"\",IF(I28=1,VLOOKUP(AD28,男子種目コード!$D$50:$E$50,2,FALSE),IF(I28=2,VLOOKUP(AD28,女子種目コード!$G$40:$H$40,2,FALSE))))","v":""},null,0,2,null,{"$f":"IF(AI28=\"\",\"\",IF(I28=1,VLOOKUP(AI28,男子種目コード!$D$51:$E$51,2,FALSE),IF(I28=2,\"\",)))","v":""},null,0,2,null,null,null,null,null,"赤は制限オーバー",null,"記録",null,null,null,null,null,null,"",0,0,0,0,null,null,null,0,"",""]
[false,{"$f":"名簿!Q31","v":""},false,null,{"$f":"名簿!E31","v":0},{"$f":"名簿!BR31","v":""},{"$f":"名簿!Z31","v":""},"",{"$f":"名簿!O31","v":""},{"$f":"名簿!I31","v":0},{"$f":"名簿!K31","v":0},{"$f":"名簿!BU31","v":"00"},{"$f":"名簿!R31","v":""},{"$f":"名簿!D31","v":0},null,{"$f":"IF(O29=\"\",\"\",IF(I29=1,VLOOKUP(O29,男子種目コード!$D$44:$E$56,2,FALSE),IF(I29=2,VLOOKUP(O29,女子種目コード!$G$36:$H$44,2,FALSE))))","v":""},{"$f":"IF(O29=\"\",\"\",HLOOKUP(O29,名簿!$AB$8:$BG$118,24,FALSE))","v":""},0,2,null,{"$f":"IF(T29=\"\",\"\",IF(I29=1,VLOOKUP(T29,男子種目コード!$D$44:$E$56,2,FALSE),IF(I29=2,VLOOKUP(T29,女子種目コード!$G$36:$H$44,2,FALSE))))","v":""},{"$f":"IF(T29=\"\",\"\",HLOOKUP(T29,名簿!$AB$8:$BG$118,24,FALSE))","v":""},0,2,null,{"$f":"IF(Y29=\"\",\"\",IF(I29=1,VLOOKUP(Y29,男子種目コード!$D$44:$E$56,2,FALSE),IF(I29=2,VLOOKUP(Y29,女子種目コード!$G$36:$H$44,2,FALSE))))","v":""},{"$f":"IF(Y29=\"\",\"\",HLOOKUP(Y29,名簿!$AB$8:$BG$118,24,FALSE))","v":""},0,2,null,{"$f":"IF(AD29=\"\",\"\",IF(I29=1,VLOOKUP(AD29,男子種目コード!$D$50:$E$50,2,FALSE),IF(I29=2,VLOOKUP(AD29,女子種目コード!$G$40:$H$40,2,FALSE))))","v":""},null,0,2,null,{"$f":"IF(AI29=\"\",\"\",IF(I29=1,VLOOKUP(AI29,男子種目コード!$D$51:$E$51,2,FALSE),IF(I29=2,\"\",)))","v":""},null,0,2,null,null,null,null,null,null,null,"ｵｰﾀﾞｰ",{"$f":"COUNTIF($AE$7:$AE$116,53)","v":0},null,null,null,null,null,"",0,0,0,0,null,null,null,0,"",""]
[false,{"$f":"名簿!Q32","v":""},false,null,{"$f":"名簿!E32","v":0},{"$f":"名簿!BR32","v":""},{"$f":"名簿!Z32","v":""},"",{"$f":"名簿!O32","v":""},{"$f":"名簿!I32","v":0},{"$f":"名簿!K32","v":0},{"$f":"名簿!BU32","v":"00"},{"$f":"名簿!R32","v":""},{"$f":"名簿!D32","v":0},null,{"$f":"IF(O30=\"\",\"\",IF(I30=1,VLOOKUP(O30,男子種目コード!$D$44:$E$56,2,FALSE),IF(I30=2,VLOOKUP(O30,女子種目コード!$G$36:$H$44,2,FALSE))))","v":""},{"$f":"IF(O30=\"\",\"\",HLOOKUP(O30,名簿!$AB$8:$BG$118,25,FALSE))","v":""},0,2,null,{"$f":"IF(T30=\"\",\"\",IF(I30=1,VLOOKUP(T30,男子種目コード!$D$44:$E$56,2,FALSE),IF(I30=2,VLOOKUP(T30,女子種目コード!$G$36:$H$44,2,FALSE))))","v":""},{"$f":"IF(T30=\"\",\"\",HLOOKUP(T30,名簿!$AB$8:$BG$118,25,FALSE))","v":""},0,2,null,{"$f":"IF(Y30=\"\",\"\",IF(I30=1,VLOOKUP(Y30,男子種目コード!$D$44:$E$56,2,FALSE),IF(I30=2,VLOOKUP(Y30,女子種目コード!$G$36:$H$44,2,FALSE))))","v":""},{"$f":"IF(Y30=\"\",\"\",HLOOKUP(Y30,名簿!$AB$8:$BG$118,25,FALSE))","v":""},0,2,null,{"$f":"IF(AD30=\"\",\"\",IF(I30=1,VLOOKUP(AD30,男子種目コード!$D$50:$E$50,2,FALSE),IF(I30=2,VLOOKUP(AD30,女子種目コード!$G$40:$H$40,2,FALSE))))","v":""},null,0,2,null,{"$f":"IF(AI30=\"\",\"\",IF(I30=1,VLOOKUP(AI30,男子種目コード!$D$51:$E$51,2,FALSE),IF(I30=2,\"\",)))","v":""},null,0,2,null,null,null,null,null,null,null,"選　手",{"$f":"IF(ISERROR(AX30),\"\",AX30)","v":""},"",{"$f":"VLookUpX(2,$A$7:$F$116,1,5)","v":{"$error":"#N/A"}},{"$f":"VLookUpX(2,$A$7:$F$116,1,6)","v":{"$error":"#N/A"}},null,null,"",0,0,0,0,null,null,null,0,"",""]
[false,{"$f":"名簿!Q33","v":""},false,null,{"$f":"名簿!E33","v":0},{"$f":"名簿!BR33","v":""},{"$f":"名簿!Z33","v":""},"",{"$f":"名簿!O33","v":""},{"$f":"名簿!I33","v":0},{"$f":"名簿!K33","v":0},{"$f":"名簿!BU33","v":"00"},{"$f":"名簿!R33","v":""},{"$f":"名簿!D33","v":0},null,{"$f":"IF(O31=\"\",\"\",IF(I31=1,VLOOKUP(O31,男子種目コード!$D$44:$E$56,2,FALSE),IF(I31=2,VLOOKUP(O31,女子種目コード!$G$36:$H$44,2,FALSE))))","v":""},{"$f":"IF(O31=\"\",\"\",HLOOKUP(O31,名簿!$AB$8:$BG$118,26,FALSE))","v":""},0,2,null,{"$f":"IF(T31=\"\",\"\",IF(I31=1,VLOOKUP(T31,男子種目コード!$D$44:$E$56,2,FALSE),IF(I31=2,VLOOKUP(T31,女子種目コード!$G$36:$H$44,2,FALSE))))","v":""},{"$f":"IF(T31=\"\",\"\",HLOOKUP(T31,名簿!$AB$8:$BG$118,26,FALSE))","v":""},0,2,null,{"$f":"IF(Y31=\"\",\"\",IF(I31=1,VLOOKUP(Y31,男子種目コード!$D$44:$E$56,2,FALSE),IF(I31=2,VLOOKUP(Y31,女子種目コード!$G$36:$H$44,2,FALSE))))","v":""},{"$f":"IF(Y31=\"\",\"\",HLOOKUP(Y31,名簿!$AB$8:$BG$118,26,FALSE))","v":""},0,2,null,{"$f":"IF(AD31=\"\",\"\",IF(I31=1,VLOOKUP(AD31,男子種目コード!$D$50:$E$50,2,FALSE),IF(I31=2,VLOOKUP(AD31,女子種目コード!$G$40:$H$40,2,FALSE))))","v":""},null,0,2,null,{"$f":"IF(AI31=\"\",\"\",IF(I31=1,VLOOKUP(AI31,男子種目コード!$D$51:$E$51,2,FALSE),IF(I31=2,\"\",)))","v":""},null,0,2,null,null,null,null,null,null,null,null,"","",{"$f":"VLookUpX(2,$A$7:$F$116,2,5)","v":{"$error":"#N/A"}},{"$f":"VLookUpX(2,$A$7:$F$116,2,6)","v":{"$error":"#N/A"}},null,null,"",0,0,0,0,null,null,null,0,"",""]
[false,{"$f":"名簿!Q34","v":""},false,null,{"$f":"名簿!E34","v":0},{"$f":"名簿!BR34","v":""},{"$f":"名簿!Z34","v":""},"",{"$f":"名簿!O34","v":""},{"$f":"名簿!I34","v":0},{"$f":"名簿!K34","v":0},{"$f":"名簿!BU34","v":"00"},{"$f":"名簿!R34","v":""},{"$f":"名簿!D34","v":0},null,{"$f":"IF(O32=\"\",\"\",IF(I32=1,VLOOKUP(O32,男子種目コード!$D$44:$E$56,2,FALSE),IF(I32=2,VLOOKUP(O32,女子種目コード!$G$36:$H$44,2,FALSE))))","v":""},{"$f":"IF(O32=\"\",\"\",HLOOKUP(O32,名簿!$AB$8:$BG$118,27,FALSE))","v":""},0,2,null,{"$f":"IF(T32=\"\",\"\",IF(I32=1,VLOOKUP(T32,男子種目コード!$D$44:$E$56,2,FALSE),IF(I32=2,VLOOKUP(T32,女子種目コード!$G$36:$H$44,2,FALSE))))","v":""},{"$f":"IF(T32=\"\",\"\",HLOOKUP(T32,名簿!$AB$8:$BG$118,27,FALSE))","v":""},0,2,null,{"$f":"IF(Y32=\"\",\"\",IF(I32=1,VLOOKUP(Y32,男子種目コード!$D$44:$E$56,2,FALSE),IF(I32=2,VLOOKUP(Y32,女子種目コード!$G$36:$H$44,2,FALSE))))","v":""},{"$f":"IF(Y32=\"\",\"\",HLOOKUP(Y32,名簿!$AB$8:$BG$118,27,FALSE))","v":""},0,2,null,{"$f":"IF(AD32=\"\",\"\",IF(I32=1,VLOOKUP(AD32,男子種目コード!$D$50:$E$50,2,FALSE),IF(I32=2,VLOOKUP(AD32,女子種目コード!$G$40:$H$40,2,FALSE))))","v":""},null,0,2,null,{"$f":"IF(AI32=\"\",\"\",IF(I32=1,VLOOKUP(AI32,男子種目コード!$D$51:$E$51,2,FALSE),IF(I32=2,\"\",)))","v":""},null,0,2,null,null,null,null,null,null,null,null,"","",{"$f":"VLookUpX(2,$A$7:$F$116,3,5)","v":{"$error":"#N/A"}},{"$f":"VLookUpX(2,$A$7:$F$116,3,6)","v":{"$error":"#N/A"}},null,null,"",0,0,0,0,null,null,null,0,"",""]
[false,{"$f":"名簿!Q35","v":""},false,null,{"$f":"名簿!E35","v":0},{"$f":"名簿!BR35","v":""},{"$f":"名簿!Z35","v":""},"",{"$f":"名簿!O35","v":""},{"$f":"名簿!I35","v":0},{"$f":"名簿!K35","v":0},{"$f":"名簿!BU35","v":"00"},{"$f":"名簿!R35","v":""},{"$f":"名簿!D35","v":0},null,{"$f":"IF(O33=\"\",\"\",IF(I33=1,VLOOKUP(O33,男子種目コード!$D$44:$E$56,2,FALSE),IF(I33=2,VLOOKUP(O33,女子種目コード!$G$36:$H$44,2,FALSE))))","v":""},{"$f":"IF(O33=\"\",\"\",HLOOKUP(O33,名簿!$AB$8:$BG$118,28,FALSE))","v":""},0,2,null,{"$f":"IF(T33=\"\",\"\",IF(I33=1,VLOOKUP(T33,男子種目コード!$D$44:$E$56,2,FALSE),IF(I33=2,VLOOKUP(T33,女子種目コード!$G$36:$H$44,2,FALSE))))","v":""},{"$f":"IF(T33=\"\",\"\",HLOOKUP(T33,名簿!$AB$8:$BG$118,28,FALSE))","v":""},0,2,null,{"$f":"IF(Y33=\"\",\"\",IF(I33=1,VLOOKUP(Y33,男子種目コード!$D$44:$E$56,2,FALSE),IF(I33=2,VLOOKUP(Y33,女子種目コード!$G$36:$H$44,2,FALSE))))","v":""},{"$f":"IF(Y33=\"\",\"\",HLOOKUP(Y33,名簿!$AB$8:$BG$118,28,FALSE))","v":""},0,2,null,{"$f":"IF(AD33=\"\",\"\",IF(I33=1,VLOOKUP(AD33,男子種目コード!$D$50:$E$50,2,FALSE),IF(I33=2,VLOOKUP(AD33,女子種目コード!$G$40:$H$40,2,FALSE))))","v":""},null,0,2,null,{"$f":"IF(AI33=\"\",\"\",IF(I33=1,VLOOKUP(AI33,男子種目コード!$D$51:$E$51,2,FALSE),IF(I33=2,\"\",)))","v":""},null,0,2,null,null,null,null,null,null,null,null,"","",{"$f":"VLookUpX(2,$A$7:$F$116,4,5)","v":{"$error":"#N/A"}},{"$f":"VLookUpX(2,$A$7:$F$116,4,6)","v":{"$error":"#N/A"}},null,null,"",0,0,0,0,null,null,null,0,"",""]
[false,{"$f":"名簿!Q36","v":""},false,null,{"$f":"名簿!E36","v":0},{"$f":"名簿!BR36","v":""},{"$f":"名簿!Z36","v":""},"",{"$f":"名簿!O36","v":""},{"$f":"名簿!I36","v":0},{"$f":"名簿!K36","v":0},{"$f":"名簿!BU36","v":"00"},{"$f":"名簿!R36","v":""},{"$f":"名簿!D36","v":0},null,{"$f":"IF(O34=\"\",\"\",IF(I34=1,VLOOKUP(O34,男子種目コード!$D$44:$E$56,2,FALSE),IF(I34=2,VLOOKUP(O34,女子種目コード!$G$36:$H$44,2,FALSE))))","v":""},{"$f":"IF(O34=\"\",\"\",HLOOKUP(O34,名簿!$AB$8:$BG$118,29,FALSE))","v":""},0,2,null,{"$f":"IF(T34=\"\",\"\",IF(I34=1,VLOOKUP(T34,男子種目コード!$D$44:$E$56,2,FALSE),IF(I34=2,VLOOKUP(T34,女子種目コード!$G$36:$H$44,2,FALSE))))","v":""},{"$f":"IF(T34=\"\",\"\",HLOOKUP(T34,名簿!$AB$8:$BG$118,29,FALSE))","v":""},0,2,null,{"$f":"IF(Y34=\"\",\"\",IF(I34=1,VLOOKUP(Y34,男子種目コード!$D$44:$E$56,2,FALSE),IF(I34=2,VLOOKUP(Y34,女子種目コード!$G$36:$H$44,2,FALSE))))","v":""},{"$f":"IF(Y34=\"\",\"\",HLOOKUP(Y34,名簿!$AB$8:$BG$118,29,FALSE))","v":""},0,2,null,{"$f":"IF(AD34=\"\",\"\",IF(I34=1,VLOOKUP(AD34,男子種目コード!$D$50:$E$50,2,FALSE),IF(I34=2,VLOOKUP(AD34,女子種目コード!$G$40:$H$40,2,FALSE))))","v":""},null,0,2,null,{"$f":"IF(AI34=\"\",\"\",IF(I34=1,VLOOKUP(AI34,男子種目コード!$D$51:$E$51,2,FALSE),IF(I34=2,\"\",)))","v":""},null,0,2,null,null,null,null,null,null,null,null,"","",{"$f":"VLookUpX(2,$A$7:$F$116,5,5)","v":{"$error":"#N/A"}},{"$f":"VLookUpX(2,$A$7:$F$116,5,6)","v":{"$error":"#N/A"}},null,null,"",0,0,0,0,null,null,null,0,"",""]
[false,{"$f":"名簿!Q37","v":""},false,null,{"$f":"名簿!E37","v":0},{"$f":"名簿!BR37","v":""},{"$f":"名簿!Z37","v":""},"",{"$f":"名簿!O37","v":""},{"$f":"名簿!I37","v":0},{"$f":"名簿!BT37","v":"0"},{"$f":"名簿!BW37","v":0},{"$f":"名簿!R37","v":""},{"$f":"名簿!$W$9","v":23},null,{"$f":"IF(O35=\"\",\"\",IF(I35=1,VLOOKUP(O35,男子種目コード!$D$44:$E$56,2,FALSE),IF(I35=2,VLOOKUP(O35,女子種目コード!$G$36:$H$44,2,FALSE))))","v":""},{"$f":"IF(O35=\"\",\"\",HLOOKUP(O35,名簿!$AB$8:$BG$118,30,FALSE))","v":""},0,2,null,{"$f":"IF(T35=\"\",\"\",IF(I35=1,VLOOKUP(T35,男子種目コード!$D$44:$E$56,2,FALSE),IF(I35=2,VLOOKUP(T35,女子種目コード!$G$36:$H$44,2,FALSE))))","v":""},{"$f":"IF(T35=\"\",\"\",HLOOKUP(T35,名簿!$AB$8:$BG$118,30,FALSE))","v":""},0,2,null,{"$f":"IF(Y35=\"\",\"\",IF(I35=1,VLOOKUP(Y35,男子種目コード!$D$44:$E$56,2,FALSE),IF(I35=2,VLOOKUP(Y35,女子種目コード!$G$36:$H$44,2,FALSE))))","v":""},{"$f":"IF(Y35=\"\",\"\",HLOOKUP(Y35,名簿!$AB$8:$BG$118,30,FALSE))","v":""},0,2,null,{"$f":"IF(AD35=\"\",\"\",IF(I35=1,VLOOKUP(AD35,男子種目コード!$D$50:$E$50,2,FALSE),IF(I35=2,VLOOKUP(AD35,女子種目コード!$G$40:$H$40,2,FALSE))))","v":""},null,0,2,null,{"$f":"IF(AI35=\"\",\"\",IF(I35=1,VLOOKUP(AI35,男子種目コード!$D$51:$E$51,2,FALSE),IF(I35=2,\"\",)))","v":""},null,0,2,null,null,null,null,null,null,null,null,"","",{"$f":"VLookUpX(2,$A$7:$F$116,6,5)","v":{"$error":"#N/A"}},{"$f":"VLookUpX(2,$A$7:$F$116,6,6)","v":{"$error":"#N/A"}},null,null,"",0,0,0,0,null,null,null,0,"",""]
[false,{"$f":"名簿!Q38","v":""},false,null,{"$f":"名簿!E38","v":0},{"$f":"名簿!BR38","v":""},{"$f":"名簿!Z38","v":""},"",{"$f":"名簿!O38","v":""},{"$f":"名簿!I38","v":0},{"$f":"名簿!BT38","v":"0"},{"$f":"名簿!BW38","v":0},{"$f":"名簿!R38","v":""},{"$f":"名簿!$W$9","v":23},null,{"$f":"IF(O36=\"\",\"\",IF(I36=1,VLOOKUP(O36,男子種目コード!$D$44:$E$56,2,FALSE),IF(I36=2,VLOOKUP(O36,女子種目コード!$G$36:$H$44,2,FALSE))))","v":""},{"$f":"IF(O36=\"\",\"\",HLOOKUP(O36,名簿!$AB$8:$BG$118,31,FALSE))","v":""},0,2,null,{"$f":"IF(T36=\"\",\"\",IF(I36=1,VLOOKUP(T36,男子種目コード!$D$44:$E$56,2,FALSE),IF(I36=2,VLOOKUP(T36,女子種目コード!$G$36:$H$44,2,FALSE))))","v":""},{"$f":"IF(T36=\"\",\"\",HLOOKUP(T36,名簿!$AB$8:$BG$118,31,FALSE))","v":""},0,2,null,{"$f":"IF(Y36=\"\",\"\",IF(I36=1,VLOOKUP(Y36,男子種目コード!$D$44:$E$56,2,FALSE),IF(I36=2,VLOOKUP(Y36,女子種目コード!$G$36:$H$44,2,FALSE))))","v":""},{"$f":"IF(Y36=\"\",\"\",HLOOKUP(Y36,名簿!$AB$8:$BG$118,31,FALSE))","v":""},0,2,null,{"$f":"IF(AD36=\"\",\"\",IF(I36=1,VLOOKUP(AD36,男子種目コード!$D$50:$E$50,2,FALSE),IF(I36=2,VLOOKUP(AD36,女子種目コード!$G$40:$H$40,2,FALSE))))","v":""},null,0,2,null,{"$f":"IF(AI36=\"\",\"\",IF(I36=1,VLOOKUP(AI36,男子種目コード!$D$51:$E$51,2,FALSE),IF(I36=2,\"\",)))","v":""},null,0,2,null,null,null,null,null,null,null,null,null,null,null,null,null,null,"",0,0,0,0,null,null,null,0,"",""]
[false,{"$f":"名簿!Q39","v":""},false,null,{"$f":"名簿!E39","v":0},{"$f":"名簿!BR39","v":""},{"$f":"名簿!Z39","v":""},"",{"$f":"名簿!O39","v":""},{"$f":"名簿!I39","v":0},{"$f":"名簿!BT39","v":"0"},{"$f":"名簿!BW39","v":0},{"$f":"名簿!R39","v":""},{"$f":"名簿!$W$9","v":23},null,{"$f":"IF(O37=\"\",\"\",IF(I37=1,VLOOKUP(O37,男子種目コード!$D$44:$E$56,2,FALSE),IF(I37=2,VLOOKUP(O37,女子種目コード!$G$36:$H$44,2,FALSE))))","v":""},{"$f":"IF(O37=\"\",\"\",HLOOKUP(O37,名簿!$AB$8:$BG$118,32,FALSE))","v":""},0,2,null,{"$f":"IF(T37=\"\",\"\",IF(I37=1,VLOOKUP(T37,男子種目コード!$D$44:$E$56,2,FALSE),IF(I37=2,VLOOKUP(T37,女子種目コード!$G$36:$H$44,2,FALSE))))","v":""},{"$f":"IF(T37=\"\",\"\",HLOOKUP(T37,名簿!$AB$8:$BG$118,32,FALSE))","v":""},0,2,null,{"$f":"IF(Y37=\"\",\"\",IF(I37=1,VLOOKUP(Y37,男子種目コード!$D$44:$E$56,2,FALSE),IF(I37=2,VLOOKUP(Y37,女子種目コード!$G$36:$H$44,2,FALSE))))","v":""},{"$f":"IF(Y37=\"\",\"\",HLOOKUP(Y37,名簿!$AB$8:$BG$118,32,FALSE))","v":""},0,2,null,{"$f":"IF(AD37=\"\",\"\",IF(I37=1,VLOOKUP(AD37,男子種目コード!$D$50:$E$50,2,FALSE),IF(I37=2,VLOOKUP(AD37,女子種目コード!$G$40:$H$40,2,FALSE))))","v":""},null,0,2,null,{"$f":"IF(AI37=\"\",\"\",IF(I37=1,VLOOKUP(AI37,男子種目コード!$D$51:$E$51,2,FALSE),IF(I37=2,\"\",)))","v":""},null,0,2,null,null,null,null,null,null,null,null,null,null,null,null,null,null,"",0,0,0,0,null,null,null,0,"",""]
[false,{"$f":"名簿!Q40","v":""},false,null,{"$f":"名簿!E40","v":0},{"$f":"名簿!BR40","v":""},{"$f":"名簿!Z40","v":""},"",{"$f":"名簿!O40","v":""},{"$f":"名簿!I40","v":0},{"$f":"名簿!BT40","v":"0"},{"$f":"名簿!BW40","v":0},{"$f":"名簿!R40","v":""},{"$f":"名簿!$W$9","v":23},null,{"$f":"IF(O38=\"\",\"\",IF(I38=1,VLOOKUP(O38,男子種目コード!$D$44:$E$56,2,FALSE),IF(I38=2,VLOOKUP(O38,女子種目コード!$G$36:$H$44,2,FALSE))))","v":""},{"$f":"IF(O38=\"\",\"\",HLOOKUP(O38,名簿!$AB$8:$BG$118,33,FALSE))","v":""},0,2,null,{"$f":"IF(T38=\"\",\"\",IF(I38=1,VLOOKUP(T38,男子種目コード!$D$44:$E$56,2,FALSE),IF(I38=2,VLOOKUP(T38,女子種目コード!$G$36:$H$44,2,FALSE))))","v":""},{"$f":"IF(T38=\"\",\"\",HLOOKUP(T38,名簿!$AB$8:$BG$118,33,FALSE))","v":""},0,2,null,{"$f":"IF(Y38=\"\",\"\",IF(I38=1,VLOOKUP(Y38,男子種目コード!$D$44:$E$56,2,FALSE),IF(I38=2,VLOOKUP(Y38,女子種目コード!$G$36:$H$44,2,FALSE))))","v":""},{"$f":"IF(Y38=\"\",\"\",HLOOKUP(Y38,名簿!$AB$8:$BG$118,33,FALSE))","v":""},0,2,null,{"$f":"IF(AD38=\"\",\"\",IF(I38=1,VLOOKUP(AD38,男子種目コード!$D$50:$E$50,2,FALSE),IF(I38=2,VLOOKUP(AD38,女子種目コード!$G$40:$H$40,2,FALSE))))","v":""},null,0,2,null,{"$f":"IF(AI38=\"\",\"\",IF(I38=1,VLOOKUP(AI38,男子種目コード!$D$51:$E$51,2,FALSE),IF(I38=2,\"\",)))","v":""},null,0,2,null,null,null,null,null,null,null,null,null,null,null,null,null,null,"",0,0,0,0,null,null,null,0,"",""]
[false,{"$f":"名簿!Q41","v":""},false,null,{"$f":"名簿!E41","v":0},{"$f":"名簿!BR41","v":""},{"$f":"名簿!Z41","v":""},"",{"$f":"名簿!O41","v":""},{"$f":"名簿!I41","v":0},{"$f":"名簿!BT41","v":"0"},{"$f":"名簿!BW41","v":0},{"$f":"名簿!R41","v":""},{"$f":"名簿!$W$9","v":23},null,{"$f":"IF(O39=\"\",\"\",IF(I39=1,VLOOKUP(O39,男子種目コード!$D$44:$E$56,2,FALSE),IF(I39=2,VLOOKUP(O39,女子種目コード!$G$36:$H$44,2,FALSE))))","v":""},{"$f":"IF(O39=\"\",\"\",HLOOKUP(O39,名簿!$AB$8:$BG$118,34,FALSE))","v":""},0,2,null,{"$f":"IF(T39=\"\",\"\",IF(I39=1,VLOOKUP(T39,男子種目コード!$D$44:$E$56,2,FALSE),IF(I39=2,VLOOKUP(T39,女子種目コード!$G$36:$H$44,2,FALSE))))","v":""},{"$f":"IF(T39=\"\",\"\",HLOOKUP(T39,名簿!$AB$8:$BG$118,34,FALSE))","v":""},0,2,null,{"$f":"IF(Y39=\"\",\"\",IF(I39=1,VLOOKUP(Y39,男子種目コード!$D$44:$E$56,2,FALSE),IF(I39=2,VLOOKUP(Y39,女子種目コード!$G$36:$H$44,2,FALSE))))","v":""},{"$f":"IF(Y39=\"\",\"\",HLOOKUP(Y39,名簿!$AB$8:$BG$118,34,FALSE))","v":""},0,2,null,{"$f":"IF(AD39=\"\",\"\",IF(I39=1,VLOOKUP(AD39,男子種目コード!$D$50:$E$50,2,FALSE),IF(I39=2,VLOOKUP(AD39,女子種目コード!$G$40:$H$40,2,FALSE))))","v":""},null,0,2,null,{"$f":"IF(AI39=\"\",\"\",IF(I39=1,VLOOKUP(AI39,男子種目コード!$D$51:$E$51,2,FALSE),IF(I39=2,\"\",)))","v":""},null,0,2,null,null,null,null,null,null,null,null,null,null,{"$f":"VLookUpX(2,$C$7:$F$116,1,3)","v":{"$error":"#N/A"}},{"$f":"VLookUpX(2,$C$7:$F$116,1,4)","v":{"$error":"#N/A"}},null,null,"",0,0,0,0,null,null,null,0,"",""]
[false,{"$f":"名簿!Q42","v":""},false,null,{"$f":"名簿!E42","v":0},{"$f":"名簿!BR42","v":""},{"$f":"名簿!Z42","v":""},"",{"$f":"名簿!O42","v":""},{"$f":"名簿!I42","v":0},{"$f":"名簿!BT42","v":"0"},{"$f":"名簿!BW42","v":0},{"$f":"名簿!R42","v":""},{"$f":"名簿!$W$9","v":23},null,{"$f":"IF(O40=\"\",\"\",IF(I40=1,VLOOKUP(O40,男子種目コード!$D$44:$E$56,2,FALSE),IF(I40=2,VLOOKUP(O40,女子種目コード!$G$36:$H$44,2,FALSE))))","v":""},{"$f":"IF(O40=\"\",\"\",HLOOKUP(O40,名簿!$AB$8:$BG$118,35,FALSE))","v":""},0,2,null,{"$f":"IF(T40=\"\",\"\",IF(I40=1,VLOOKUP(T40,男子種目コード!$D$44:$E$56,2,FALSE),IF(I40=2,VLOOKUP(T40,女子種目コード!$G$36:$H$44,2,FALSE))))","v":""},{"$f":"IF(T40=\"\",\"\",HLOOKUP(T40,名簿!$AB$8:$BG$118,35,FALSE))","v":""},0,2,null,{"$f":"IF(Y40=\"\",\"\",IF(I40=1,VLOOKUP(Y40,男子種目コード!$D$44:$E$56,2,FALSE),IF(I40=2,VLOOKUP(Y40,女子種目コード!$G$36:$H$44,2,FALSE))))","v":""},{"$f":"IF(Y40=\"\",\"\",HLOOKUP(Y40,名簿!$AB$8:$BG$118,35,FALSE))","v":""},0,2,null,{"$f":"IF(AD40=\"\",\"\",IF(I40=1,VLOOKUP(AD40,男子種目コード!$D$50:$E$50,2,FALSE),IF(I40=2,VLOOKUP(AD40,女子種目コード!$G$40:$H$40,2,FALSE))))","v":""},null,0,2,null,{"$f":"IF(AI40=\"\",\"\",IF(I40=1,VLOOKUP(AI40,男子種目コード!$D$51:$E$51,2,FALSE),IF(I40=2,\"\",)))","v":""},null,0,2,null,null,null,null,null,null,null,null,null,null,{"$f":"VLookUpX(2,$C$7:$F$116,2,3)","v":{"$error":"#N/A"}},{"$f":"VLookUpX(2,$C$7:$F$116,2,4)","v":{"$error":"#N/A"}},null,null,"",0,0,0,0,null,null,null,0,"",""]
[false,{"$f":"名簿!Q43","v":""},false,null,{"$f":"名簿!E43","v":0},{"$f":"名簿!BR43","v":""},{"$f":"名簿!Z43","v":""},"",{"$f":"名簿!O43","v":""},{"$f":"名簿!I43","v":0},{"$f":"名簿!BT43","v":"0"},{"$f":"名簿!BW43","v":0},{"$f":"名簿!R43","v":""},{"$f":"名簿!$W$9","v":23},null,{"$f":"IF(O41=\"\",\"\",IF(I41=1,VLOOKUP(O41,男子種目コード!$D$44:$E$56,2,FALSE),IF(I41=2,VLOOKUP(O41,女子種目コード!$G$36:$H$44,2,FALSE))))","v":""},{"$f":"IF(O41=\"\",\"\",HLOOKUP(O41,名簿!$AB$8:$BG$118,36,FALSE))","v":""},0,2,null,{"$f":"IF(T41=\"\",\"\",IF(I41=1,VLOOKUP(T41,男子種目コード!$D$44:$E$56,2,FALSE),IF(I41=2,VLOOKUP(T41,女子種目コード!$G$36:$H$44,2,FALSE))))","v":""},{"$f":"IF(T41=\"\",\"\",HLOOKUP(T41,名簿!$AB$8:$BG$118,36,FALSE))","v":""},0,2,null,{"$f":"IF(Y41=\"\",\"\",IF(I41=1,VLOOKUP(Y41,男子種目コード!$D$44:$E$56,2,FALSE),IF(I41=2,VLOOKUP(Y41,女子種目コード!$G$36:$H$44,2,FALSE))))","v":""},{"$f":"IF(Y41=\"\",\"\",HLOOKUP(Y41,名簿!$AB$8:$BG$118,36,FALSE))","v":""},0,2,null,{"$f":"IF(AD41=\"\",\"\",IF(I41=1,VLOOKUP(AD41,男子種目コード!$D$50:$E$50,2,FALSE),IF(I41=2,VLOOKUP(AD41,女子種目コード!$G$40:$H$40,2,FALSE))))","v":""},null,0,2,null,{"$f":"IF(AI41=\"\",\"\",IF(I41=1,VLOOKUP(AI41,男子種目コード!$D$51:$E$51,2,FALSE),IF(I41=2,\"\",)))","v":""},null,0,2,null,null,null,null,null,null,null,null,null,null,{"$f":"VLookUpX(2,$C$7:$F$116,3,3)","v":{"$error":"#N/A"}},{"$f":"VLookUpX(2,$C$7:$F$116,3,4)","v":{"$error":"#N/A"}},null,null,"",0,0,0,0,null,null,null,0,"",""]
[false,{"$f":"名簿!Q44","v":""},false,null,{"$f":"名簿!E44","v":0},{"$f":"名簿!BR44","v":""},{"$f":"名簿!Z44","v":""},"",{"$f":"名簿!O44","v":""},{"$f":"名簿!I44","v":0},{"$f":"名簿!BT44","v":"0"},{"$f":"名簿!BW44","v":0},{"$f":"名簿!R44","v":""},{"$f":"名簿!$W$9","v":23},null,{"$f":"IF(O42=\"\",\"\",IF(I42=1,VLOOKUP(O42,男子種目コード!$D$44:$E$56,2,FALSE),IF(I42=2,VLOOKUP(O42,女子種目コード!$G$36:$H$44,2,FALSE))))","v":""},{"$f":"IF(O42=\"\",\"\",HLOOKUP(O42,名簿!$AB$8:$BG$118,37,FALSE))","v":""},0,2,null,{"$f":"IF(T42=\"\",\"\",IF(I42=1,VLOOKUP(T42,男子種目コード!$D$44:$E$56,2,FALSE),IF(I42=2,VLOOKUP(T42,女子種目コード!$G$36:$H$44,2,FALSE))))","v":""},{"$f":"IF(T42=\"\",\"\",HLOOKUP(T42,名簿!$AB$8:$BG$118,37,FALSE))","v":""},0,2,null,{"$f":"IF(Y42=\"\",\"\",IF(I42=1,VLOOKUP(Y42,男子種目コード!$D$44:$E$56,2,FALSE),IF(I42=2,VLOOKUP(Y42,女子種目コード!$G$36:$H$44,2,FALSE))))","v":""},{"$f":"IF(Y42=\"\",\"\",HLOOKUP(Y42,名簿!$AB$8:$BG$118,37,FALSE))","v":""},0,2,null,{"$f":"IF(AD42=\"\",\"\",IF(I42=1,VLOOKUP(AD42,男子種目コード!$D$50:$E$50,2,FALSE),IF(I42=2,VLOOKUP(AD42,女子種目コード!$G$40:$H$40,2,FALSE))))","v":""},null,0,2,null,{"$f":"IF(AI42=\"\",\"\",IF(I42=1,VLOOKUP(AI42,男子種目コード!$D$51:$E$51,2,FALSE),IF(I42=2,\"\",)))","v":""},null,0,2,null,null,null,null,null,null,null,null,null,null,{"$f":"VLookUpX(2,$C$7:$F$116,4,3)","v":{"$error":"#N/A"}},{"$f":"VLookUpX(2,$C$7:$F$116,4,4)","v":{"$error":"#N/A"}},null,null,"",0,0,0,0,null,null,null,0,"",""]
[false,{"$f":"名簿!Q45","v":""},false,null,{"$f":"名簿!E45","v":0},{"$f":"名簿!BR45","v":""},{"$f":"名簿!Z45","v":""},"",{"$f":"名簿!O45","v":""},{"$f":"名簿!I45","v":0},{"$f":"名簿!BT45","v":"0"},{"$f":"名簿!BW45","v":0},{"$f":"名簿!R45","v":""},{"$f":"名簿!$W$9","v":23},null,{"$f":"IF(O43=\"\",\"\",IF(I43=1,VLOOKUP(O43,男子種目コード!$D$44:$E$56,2,FALSE),IF(I43=2,VLOOKUP(O43,女子種目コード!$G$36:$H$44,2,FALSE))))","v":""},{"$f":"IF(O43=\"\",\"\",HLOOKUP(O43,名簿!$AB$8:$BG$118,38,FALSE))","v":""},0,2,null,{"$f":"IF(T43=\"\",\"\",IF(I43=1,VLOOKUP(T43,男子種目コード!$D$44:$E$56,2,FALSE),IF(I43=2,VLOOKUP(T43,女子種目コード!$G$36:$H$44,2,FALSE))))","v":""},{"$f":"IF(T43=\"\",\"\",HLOOKUP(T43,名簿!$AB$8:$BG$118,38,FALSE))","v":""},0,2,null,{"$f":"IF(Y43=\"\",\"\",IF(I43=1,VLOOKUP(Y43,男子種目コード!$D$44:$E$56,2,FALSE),IF(I43=2,VLOOKUP(Y43,女子種目コード!$G$36:$H$44,2,FALSE))))","v":""},{"$f":"IF(Y43=\"\",\"\",HLOOKUP(Y43,名簿!$AB$8:$BG$118,38,FALSE))","v":""},0,2,null,{"$f":"IF(AD43=\"\",\"\",IF(I43=1,VLOOKUP(AD43,男子種目コード!$D$50:$E$50,2,FALSE),IF(I43=2,VLOOKUP(AD43,女子種目コード!$G$40:$H$40,2,FALSE))))","v":""},null,0,2,null,{"$f":"IF(AI43=\"\",\"\",IF(I43=1,VLOOKUP(AI43,男子種目コード!$D$51:$E$51,2,FALSE),IF(I43=2,\"\",)))","v":""},null,0,2,null,null,null,null,null,null,null,null,null,null,{"$f":"VLookUpX(2,$C$7:$F$116,5,3)","v":{"$error":"#N/A"}},{"$f":"VLookUpX(2,$C$7:$F$116,5,4)","v":{"$error":"#N/A"}},null,null,"",0,0,0,0,null,null,null,0,"",""]
[false,{"$f":"名簿!Q46","v":""},false,null,{"$f":"名簿!E46","v":0},{"$f":"名簿!BR46","v":""},{"$f":"名簿!Z46","v":""},"",{"$f":"名簿!O46","v":""},{"$f":"名簿!I46","v":0},{"$f":"名簿!BT46","v":"0"},{"$f":"名簿!BW46","v":0},{"$f":"名簿!R46","v":""},{"$f":"名簿!$W$9","v":23},null,{"$f":"IF(O44=\"\",\"\",IF(I44=1,VLOOKUP(O44,男子種目コード!$D$44:$E$56,2,FALSE),IF(I44=2,VLOOKUP(O44,女子種目コード!$G$36:$H$44,2,FALSE))))","v":""},{"$f":"IF(O44=\"\",\"\",HLOOKUP(O44,名簿!$AB$8:$BG$118,39,FALSE))","v":""},0,2,null,{"$f":"IF(T44=\"\",\"\",IF(I44=1,VLOOKUP(T44,男子種目コード!$D$44:$E$56,2,FALSE),IF(I44=2,VLOOKUP(T44,女子種目コード!$G$36:$H$44,2,FALSE))))","v":""},{"$f":"IF(T44=\"\",\"\",HLOOKUP(T44,名簿!$AB$8:$BG$118,39,FALSE))","v":""},0,2,null,{"$f":"IF(Y44=\"\",\"\",IF(I44=1,VLOOKUP(Y44,男子種目コード!$D$44:$E$56,2,FALSE),IF(I44=2,VLOOKUP(Y44,女子種目コード!$G$36:$H$44,2,FALSE))))","v":""},{"$f":"IF(Y44=\"\",\"\",HLOOKUP(Y44,名簿!$AB$8:$BG$118,39,FALSE))","v":""},0,2,null,{"$f":"IF(AD44=\"\",\"\",IF(I44=1,VLOOKUP(AD44,男子種目コード!$D$50:$E$50,2,FALSE),IF(I44=2,VLOOKUP(AD44,女子種目コード!$G$40:$H$40,2,FALSE))))","v":""},null,0,2,null,{"$f":"IF(AI44=\"\",\"\",IF(I44=1,VLOOKUP(AI44,男子種目コード!$D$51:$E$51,2,FALSE),IF(I44=2,\"\",)))","v":""},null,0,2,null,null,null,null,null,null,null,null,null,null,{"$f":"VLookUpX(2,$C$7:$F$116,6,3)","v":{"$error":"#N/A"}},{"$f":"VLookUpX(2,$C$7:$F$116,6,4)","v":{"$error":"#N/A"}},null,null,"",0,0,0,0,null,null,null,0,"",""]
[false,{"$f":"名簿!Q47","v":""},false,null,{"$f":"名簿!E47","v":0},{"$f":"名簿!BR47","v":""},{"$f":"名簿!Z47","v":""},"",{"$f":"名簿!O47","v":""},{"$f":"名簿!I47","v":0},{"$f":"名簿!BT47","v":"0"},{"$f":"名簿!BW47","v":0},{"$f":"名簿!R47","v":""},{"$f":"名簿!$W$9","v":23},null,{"$f":"IF(O45=\"\",\"\",IF(I45=1,VLOOKUP(O45,男子種目コード!$D$44:$E$56,2,FALSE),IF(I45=2,VLOOKUP(O45,女子種目コード!$G$36:$H$44,2,FALSE))))","v":""},{"$f":"IF(O45=\"\",\"\",HLOOKUP(O45,名簿!$AB$8:$BG$118,40,FALSE))","v":""},0,2,null,{"$f":"IF(T45=\"\",\"\",IF(I45=1,VLOOKUP(T45,男子種目コード!$D$44:$E$56,2,FALSE),IF(I45=2,VLOOKUP(T45,女子種目コード!$G$36:$H$44,2,FALSE))))","v":""},{"$f":"IF(T45=\"\",\"\",HLOOKUP(T45,名簿!$AB$8:$BG$118,40,FALSE))","v":""},0,2,null,{"$f":"IF(Y45=\"\",\"\",IF(I45=1,VLOOKUP(Y45,男子種目コード!$D$44:$E$56,2,FALSE),IF(I45=2,VLOOKUP(Y45,女子種目コード!$G$36:$H$44,2,FALSE))))","v":""},{"$f":"IF(Y45=\"\",\"\",HLOOKUP(Y45,名簿!$AB$8:$BG$118,40,FALSE))","v":""},0,2,null,{"$f":"IF(AD45=\"\",\"\",IF(I45=1,VLOOKUP(AD45,男子種目コード!$D$50:$E$50,2,FALSE),IF(I45=2,VLOOKUP(AD45,女子種目コード!$G$40:$H$40,2,FALSE))))","v":""},null,0,2,null,{"$f":"IF(AI45=\"\",\"\",IF(I45=1,VLOOKUP(AI45,男子種目コード!$D$51:$E$51,2,FALSE),IF(I45=2,\"\",)))","v":""},null,0,2,null,null,null,null,null,null,null,null,null,null,null,null,null,null,"",0,0,0,0,null,null,null,0,"",""]
[false,{"$f":"名簿!Q48","v":""},false,null,{"$f":"名簿!E48","v":0},{"$f":"名簿!BR48","v":""},{"$f":"名簿!Z48","v":""},"",{"$f":"名簿!O48","v":""},{"$f":"名簿!I48","v":0},{"$f":"名簿!BT48","v":"0"},{"$f":"名簿!BW48","v":0},{"$f":"名簿!R48","v":""},{"$f":"名簿!$W$9","v":23},null,{"$f":"IF(O46=\"\",\"\",IF(I46=1,VLOOKUP(O46,男子種目コード!$D$44:$E$56,2,FALSE),IF(I46=2,VLOOKUP(O46,女子種目コード!$G$36:$H$44,2,FALSE))))","v":""},{"$f":"IF(O46=\"\",\"\",HLOOKUP(O46,名簿!$AB$8:$BG$118,41,FALSE))","v":""},0,2,null,{"$f":"IF(T46=\"\",\"\",IF(I46=1,VLOOKUP(T46,男子種目コード!$D$44:$E$56,2,FALSE),IF(I46=2,VLOOKUP(T46,女子種目コード!$G$36:$H$44,2,FALSE))))","v":""},{"$f":"IF(T46=\"\",\"\",HLOOKUP(T46,名簿!$AB$8:$BG$118,41,FALSE))","v":""},0,2,null,{"$f":"IF(Y46=\"\",\"\",IF(I46=1,VLOOKUP(Y46,男子種目コード!$D$44:$E$56,2,FALSE),IF(I46=2,VLOOKUP(Y46,女子種目コード!$G$36:$H$44,2,FALSE))))","v":""},{"$f":"IF(Y46=\"\",\"\",HLOOKUP(Y46,名簿!$AB$8:$BG$118,41,FALSE))","v":""},0,2,null,{"$f":"IF(AD46=\"\",\"\",IF(I46=1,VLOOKUP(AD46,男子種目コード!$D$50:$E$50,2,FALSE),IF(I46=2,VLOOKUP(AD46,女子種目コード!$G$40:$H$40,2,FALSE))))","v":""},null,0,2,null,{"$f":"IF(AI46=\"\",\"\",IF(I46=1,VLOOKUP(AI46,男子種目コード!$D$51:$E$51,2,FALSE),IF(I46=2,\"\",)))","v":""},null,0,2,null,null,null,null,null,null,null,null,null,null,null,null,null,null,"",0,0,0,0,null,null,null,0,"",""]
[false,{"$f":"名簿!Q49","v":""},false,null,{"$f":"名簿!E49","v":0},{"$f":"名簿!BR49","v":""},{"$f":"名簿!Z49","v":""},"",{"$f":"名簿!O49","v":""},{"$f":"名簿!I49","v":0},{"$f":"名簿!BT49","v":"0"},{"$f":"名簿!BW49","v":0},{"$f":"名簿!R49","v":""},{"$f":"名簿!$W$9","v":23},null,{"$f":"IF(O47=\"\",\"\",IF(I47=1,VLOOKUP(O47,男子種目コード!$D$44:$E$56,2,FALSE),IF(I47=2,VLOOKUP(O47,女子種目コード!$G$36:$H$44,2,FALSE))))","v":""},{"$f":"IF(O47=\"\",\"\",HLOOKUP(O47,名簿!$AB$8:$BG$118,42,FALSE))","v":""},0,2,null,{"$f":"IF(T47=\"\",\"\",IF(I47=1,VLOOKUP(T47,男子種目コード!$D$44:$E$56,2,FALSE),IF(I47=2,VLOOKUP(T47,女子種目コード!$G$36:$H$44,2,FALSE))))","v":""},{"$f":"IF(T47=\"\",\"\",HLOOKUP(T47,名簿!$AB$8:$BG$118,42,FALSE))","v":""},0,2,null,{"$f":"IF(Y47=\"\",\"\",IF(I47=1,VLOOKUP(Y47,男子種目コード!$D$44:$E$56,2,FALSE),IF(I47=2,VLOOKUP(Y47,女子種目コード!$G$36:$H$44,2,FALSE))))","v":""},{"$f":"IF(Y47=\"\",\"\",HLOOKUP(Y47,名簿!$AB$8:$BG$118,42,FALSE))","v":""},0,2,null,{"$f":"IF(AD47=\"\",\"\",IF(I47=1,VLOOKUP(AD47,男子種目コード!$D$50:$E$50,2,FALSE),IF(I47=2,VLOOKUP(AD47,女子種目コード!$G$40:$H$40,2,FALSE))))","v":""},null,0,2,null,{"$f":"IF(AI47=\"\",\"\",IF(I47=1,VLOOKUP(AI47,男子種目コード!$D$51:$E$51,2,FALSE),IF(I47=2,\"\",)))","v":""},null,0,2,null,null,null,null,null,null,null,null,null,null,null,null,null,null,"",0,0,0,0,null,null,null,0,"",""]
[false,{"$f":"名簿!Q50","v":""},false,null,{"$f":"名簿!E50","v":0},{"$f":"名簿!BR50","v":""},{"$f":"名簿!Z50","v":""},"",{"$f":"名簿!O50","v":""},{"$f":"名簿!I50","v":0},{"$f":"名簿!BT50","v":"0"},{"$f":"名簿!BW50","v":0},{"$f":"名簿!R50","v":""},{"$f":"名簿!$W$9","v":23},null,{"$f":"IF(O48=\"\",\"\",IF(I48=1,VLOOKUP(O48,男子種目コード!$D$44:$E$56,2,FALSE),IF(I48=2,VLOOKUP(O48,女子種目コード!$G$36:$H$44,2,FALSE))))","v":""},{"$f":"IF(O48=\"\",\"\",HLOOKUP(O48,名簿!$AB$8:$BG$118,43,FALSE))","v":""},0,2,null,{"$f":"IF(T48=\"\",\"\",IF(I48=1,VLOOKUP(T48,男子種目コード!$D$44:$E$56,2,FALSE),IF(I48=2,VLOOKUP(T48,女子種目コード!$G$36:$H$44,2,FALSE))))","v":""},{"$f":"IF(T48=\"\",\"\",HLOOKUP(T48,名簿!$AB$8:$BG$118,43,FALSE))","v":""},0,2,null,{"$f":"IF(Y48=\"\",\"\",IF(I48=1,VLOOKUP(Y48,男子種目コード!$D$44:$E$56,2,FALSE),IF(I48=2,VLOOKUP(Y48,女子種目コード!$G$36:$H$44,2,FALSE))))","v":""},{"$f":"IF(Y48=\"\",\"\",HLOOKUP(Y48,名簿!$AB$8:$BG$118,43,FALSE))","v":""},0,2,null,{"$f":"IF(AD48=\"\",\"\",IF(I48=1,VLOOKUP(AD48,男子種目コード!$D$50:$E$50,2,FALSE),IF(I48=2,VLOOKUP(AD48,女子種目コード!$G$40:$H$40,2,FALSE))))","v":""},null,0,2,null,{"$f":"IF(AI48=\"\",\"\",IF(I48=1,VLOOKUP(AI48,男子種目コード!$D$51:$E$51,2,FALSE),IF(I48=2,\"\",)))","v":""},null,0,2,null,null,null,null,null,null,null,null,null,null,null,null,null,null,"",0,0,0,0,null,null,null,0,"",""]
[false,{"$f":"名簿!Q51","v":""},false,null,{"$f":"名簿!E51","v":0},{"$f":"名簿!BR51","v":""},{"$f":"名簿!Z51","v":""},"",{"$f":"名簿!O51","v":""},{"$f":"名簿!I51","v":0},{"$f":"名簿!BT51","v":"0"},{"$f":"名簿!BW51","v":0},{"$f":"名簿!R51","v":""},{"$f":"名簿!$W$9","v":23},null,{"$f":"IF(O49=\"\",\"\",IF(I49=1,VLOOKUP(O49,男子種目コード!$D$44:$E$56,2,FALSE),IF(I49=2,VLOOKUP(O49,女子種目コード!$G$36:$H$44,2,FALSE))))","v":""},{"$f":"IF(O49=\"\",\"\",HLOOKUP(O49,名簿!$AB$8:$BG$118,44,FALSE))","v":""},0,2,null,{"$f":"IF(T49=\"\",\"\",IF(I49=1,VLOOKUP(T49,男子種目コード!$D$44:$E$56,2,FALSE),IF(I49=2,VLOOKUP(T49,女子種目コード!$G$36:$H$44,2,FALSE))))","v":""},{"$f":"IF(T49=\"\",\"\",HLOOKUP(T49,名簿!$AB$8:$BG$118,44,FALSE))","v":""},0,2,null,{"$f":"IF(Y49=\"\",\"\",IF(I49=1,VLOOKUP(Y49,男子種目コード!$D$44:$E$56,2,FALSE),IF(I49=2,VLOOKUP(Y49,女子種目コード!$G$36:$H$44,2,FALSE))))","v":""},{"$f":"IF(Y49=\"\",\"\",HLOOKUP(Y49,名簿!$AB$8:$BG$118,44,FALSE))","v":""},0,2,null,{"$f":"IF(AD49=\"\",\"\",IF(I49=1,VLOOKUP(AD49,男子種目コード!$D$50:$E$50,2,FALSE),IF(I49=2,VLOOKUP(AD49,女子種目コード!$G$40:$H$40,2,FALSE))))","v":""},null,0,2,null,{"$f":"IF(AI49=\"\",\"\",IF(I49=1,VLOOKUP(AI49,男子種目コード!$D$51:$E$51,2,FALSE),IF(I49=2,\"\",)))","v":""},null,0,2,null,null,null,null,null,null,null,null,null,null,null,null,null,null,"",0,0,0,0,null,null,null,0,"",""]
[false,{"$f":"名簿!Q52","v":""},false,null,{"$f":"名簿!E52","v":0},{"$f":"名簿!BR52","v":""},{"$f":"名簿!Z52","v":""},"",{"$f":"名簿!O52","v":""},{"$f":"名簿!I52","v":0},{"$f":"名簿!BT52","v":"0"},{"$f":"名簿!BW52","v":0},{"$f":"名簿!R52","v":""},{"$f":"名簿!$W$9","v":23},null,{"$f":"IF(O50=\"\",\"\",IF(I50=1,VLOOKUP(O50,男子種目コード!$D$44:$E$56,2,FALSE),IF(I50=2,VLOOKUP(O50,女子種目コード!$G$36:$H$44,2,FALSE))))","v":""},{"$f":"IF(O50=\"\",\"\",HLOOKUP(O50,名簿!$AB$8:$BG$118,45,FALSE))","v":""},0,2,null,{"$f":"IF(T50=\"\",\"\",IF(I50=1,VLOOKUP(T50,男子種目コード!$D$44:$E$56,2,FALSE),IF(I50=2,VLOOKUP(T50,女子種目コード!$G$36:$H$44,2,FALSE))))","v":""},{"$f":"IF(T50=\"\",\"\",HLOOKUP(T50,名簿!$AB$8:$BG$118,45,FALSE))","v":""},0,2,null,{"$f":"IF(Y50=\"\",\"\",IF(I50=1,VLOOKUP(Y50,男子種目コード!$D$44:$E$56,2,FALSE),IF(I50=2,VLOOKUP(Y50,女子種目コード!$G$36:$H$44,2,FALSE))))","v":""},{"$f":"IF(Y50=\"\",\"\",HLOOKUP(Y50,名簿!$AB$8:$BG$118,45,FALSE))","v":""},0,2,null,{"$f":"IF(AD50=\"\",\"\",IF(I50=1,VLOOKUP(AD50,男子種目コード!$D$50:$E$50,2,FALSE),IF(I50=2,VLOOKUP(AD50,女子種目コード!$G$40:$H$40,2,FALSE))))","v":""},null,0,2,null,{"$f":"IF(AI50=\"\",\"\",IF(I50=1,VLOOKUP(AI50,男子種目コード!$D$51:$E$51,2,FALSE),IF(I50=2,\"\",)))","v":""},null,0,2,null,null,null,null,null,null,null,null,null,null,null,null,null,null,"",0,0,0,0,null,null,null,0,"",""]
[false,{"$f":"名簿!Q53","v":""},false,null,{"$f":"名簿!E53","v":0},{"$f":"名簿!BR53","v":""},{"$f":"名簿!Z53","v":""},"",{"$f":"名簿!O53","v":""},{"$f":"名簿!I53","v":0},{"$f":"名簿!BT53","v":"0"},{"$f":"名簿!BW53","v":0},{"$f":"名簿!R53","v":""},{"$f":"名簿!$W$9","v":23},null,{"$f":"IF(O51=\"\",\"\",IF(I51=1,VLOOKUP(O51,男子種目コード!$D$44:$E$56,2,FALSE),IF(I51=2,VLOOKUP(O51,女子種目コード!$G$36:$H$44,2,FALSE))))","v":""},{"$f":"IF(O51=\"\",\"\",HLOOKUP(O51,名簿!$AB$8:$BG$118,46,FALSE))","v":""},0,2,null,{"$f":"IF(T51=\"\",\"\",IF(I51=1,VLOOKUP(T51,男子種目コード!$D$44:$E$56,2,FALSE),IF(I51=2,VLOOKUP(T51,女子種目コード!$G$36:$H$44,2,FALSE))))","v":""},{"$f":"IF(T51=\"\",\"\",HLOOKUP(T51,名簿!$AB$8:$BG$118,46,FALSE))","v":""},0,2,null,{"$f":"IF(Y51=\"\",\"\",IF(I51=1,VLOOKUP(Y51,男子種目コード!$D$44:$E$56,2,FALSE),IF(I51=2,VLOOKUP(Y51,女子種目コード!$G$36:$H$44,2,FALSE))))","v":""},{"$f":"IF(Y51=\"\",\"\",HLOOKUP(Y51,名簿!$AB$8:$BG$118,46,FALSE))","v":""},0,2,null,{"$f":"IF(AD51=\"\",\"\",IF(I51=1,VLOOKUP(AD51,男子種目コード!$D$50:$E$50,2,FALSE),IF(I51=2,VLOOKUP(AD51,女子種目コード!$G$40:$H$40,2,FALSE))))","v":""},null,0,2,null,{"$f":"IF(AI51=\"\",\"\",IF(I51=1,VLOOKUP(AI51,男子種目コード!$D$51:$E$51,2,FALSE),IF(I51=2,\"\",)))","v":""},null,0,2,null,null,null,null,null,null,null,null,null,null,null,null,null,null,"",0,0,0,0,null,null,null,0,"",""]
[false,{"$f":"名簿!Q54","v":""},false,null,{"$f":"名簿!E54","v":0},{"$f":"名簿!BR54","v":""},{"$f":"名簿!Z54","v":""},"",{"$f":"名簿!O54","v":""},{"$f":"名簿!I54","v":0},{"$f":"名簿!BT54","v":"0"},{"$f":"名簿!BW54","v":0},{"$f":"名簿!R54","v":""},{"$f":"名簿!$W$9","v":23},null,{"$f":"IF(O52=\"\",\"\",IF(I52=1,VLOOKUP(O52,男子種目コード!$D$44:$E$56,2,FALSE),IF(I52=2,VLOOKUP(O52,女子種目コード!$G$36:$H$44,2,FALSE))))","v":""},{"$f":"IF(O52=\"\",\"\",HLOOKUP(O52,名簿!$AB$8:$BG$118,47,FALSE))","v":""},0,2,null,{"$f":"IF(T52=\"\",\"\",IF(I52=1,VLOOKUP(T52,男子種目コード!$D$44:$E$56,2,FALSE),IF(I52=2,VLOOKUP(T52,女子種目コード!$G$36:$H$44,2,FALSE))))","v":""},{"$f":"IF(T52=\"\",\"\",HLOOKUP(T52,名簿!$AB$8:$BG$118,47,FALSE))","v":""},0,2,null,{"$f":"IF(Y52=\"\",\"\",IF(I52=1,VLOOKUP(Y52,男子種目コード!$D$44:$E$56,2,FALSE),IF(I52=2,VLOOKUP(Y52,女子種目コード!$G$36:$H$44,2,FALSE))))","v":""},{"$f":"IF(Y52=\"\",\"\",HLOOKUP(Y52,名簿!$AB$8:$BG$118,47,FALSE))","v":""},0,2,null,{"$f":"IF(AD52=\"\",\"\",IF(I52=1,VLOOKUP(AD52,男子種目コード!$D$50:$E$50,2,FALSE),IF(I52=2,VLOOKUP(AD52,女子種目コード!$G$40:$H$40,2,FALSE))))","v":""},null,0,2,null,{"$f":"IF(AI52=\"\",\"\",IF(I52=1,VLOOKUP(AI52,男子種目コード!$D$51:$E$51,2,FALSE),IF(I52=2,\"\",)))","v":""},null,0,2,null,null,null,null,null,null,null,null,null,null,null,null,null,null,"",0,0,0,0,null,null,null,0,"",""]
[false,{"$f":"名簿!Q55","v":""},false,null,{"$f":"名簿!E55","v":0},{"$f":"名簿!BR55","v":""},{"$f":"名簿!Z55","v":""},"",{"$f":"名簿!O55","v":""},{"$f":"名簿!I55","v":0},{"$f":"名簿!BT55","v":"0"},{"$f":"名簿!BW55","v":0},{"$f":"名簿!R55","v":""},{"$f":"名簿!$W$9","v":23},null,{"$f":"IF(O53=\"\",\"\",IF(I53=1,VLOOKUP(O53,男子種目コード!$D$44:$E$56,2,FALSE),IF(I53=2,VLOOKUP(O53,女子種目コード!$G$36:$H$44,2,FALSE))))","v":""},{"$f":"IF(O53=\"\",\"\",HLOOKUP(O53,名簿!$AB$8:$BG$118,48,FALSE))","v":""},0,2,null,{"$f":"IF(T53=\"\",\"\",IF(I53=1,VLOOKUP(T53,男子種目コード!$D$44:$E$56,2,FALSE),IF(I53=2,VLOOKUP(T53,女子種目コード!$G$36:$H$44,2,FALSE))))","v":""},{"$f":"IF(T53=\"\",\"\",HLOOKUP(T53,名簿!$AB$8:$BG$118,48,FALSE))","v":""},0,2,null,{"$f":"IF(Y53=\"\",\"\",IF(I53=1,VLOOKUP(Y53,男子種目コード!$D$44:$E$56,2,FALSE),IF(I53=2,VLOOKUP(Y53,女子種目コード!$G$36:$H$44,2,FALSE))))","v":""},{"$f":"IF(Y53=\"\",\"\",HLOOKUP(Y53,名簿!$AB$8:$BG$118,48,FALSE))","v":""},0,2,null,{"$f":"IF(AD53=\"\",\"\",IF(I53=1,VLOOKUP(AD53,男子種目コード!$D$50:$E$50,2,FALSE),IF(I53=2,VLOOKUP(AD53,女子種目コード!$G$40:$H$40,2,FALSE))))","v":""},null,0,2,null,{"$f":"IF(AI53=\"\",\"\",IF(I53=1,VLOOKUP(AI53,男子種目コード!$D$51:$E$51,2,FALSE),IF(I53=2,\"\",)))","v":""},null,0,2,null,null,null,null,null,null,null,null,null,null,null,null,null,null,"",0,0,0,0,null,null,null,0,"",""]
[false,{"$f":"名簿!Q56","v":""},false,null,{"$f":"名簿!E56","v":0},{"$f":"名簿!BR56","v":""},{"$f":"名簿!Z56","v":""},"",{"$f":"名簿!O56","v":""},{"$f":"名簿!I56","v":0},{"$f":"名簿!BT56","v":"0"},{"$f":"名簿!BW56","v":0},{"$f":"名簿!R56","v":""},{"$f":"名簿!$W$9","v":23},null,{"$f":"IF(O54=\"\",\"\",IF(I54=1,VLOOKUP(O54,男子種目コード!$D$44:$E$56,2,FALSE),IF(I54=2,VLOOKUP(O54,女子種目コード!$G$36:$H$44,2,FALSE))))","v":""},{"$f":"IF(O54=\"\",\"\",HLOOKUP(O54,名簿!$AB$8:$BG$118,49,FALSE))","v":""},0,2,null,{"$f":"IF(T54=\"\",\"\",IF(I54=1,VLOOKUP(T54,男子種目コード!$D$44:$E$56,2,FALSE),IF(I54=2,VLOOKUP(T54,女子種目コード!$G$36:$H$44,2,FALSE))))","v":""},{"$f":"IF(T54=\"\",\"\",HLOOKUP(T54,名簿!$AB$8:$BG$118,49,FALSE))","v":""},0,2,null,{"$f":"IF(Y54=\"\",\"\",IF(I54=1,VLOOKUP(Y54,男子種目コード!$D$44:$E$56,2,FALSE),IF(I54=2,VLOOKUP(Y54,女子種目コード!$G$36:$H$44,2,FALSE))))","v":""},{"$f":"IF(Y54=\"\",\"\",HLOOKUP(Y54,名簿!$AB$8:$BG$118,49,FALSE))","v":""},0,2,null,{"$f":"IF(AD54=\"\",\"\",IF(I54=1,VLOOKUP(AD54,男子種目コード!$D$50:$E$50,2,FALSE),IF(I54=2,VLOOKUP(AD54,女子種目コード!$G$40:$H$40,2,FALSE))))","v":""},null,0,2,null,{"$f":"IF(AI54=\"\",\"\",IF(I54=1,VLOOKUP(AI54,男子種目コード!$D$51:$E$51,2,FALSE),IF(I54=2,\"\",)))","v":""},null,0,2,null,null,null,null,null,null,null,null,null,null,null,null,null,null,"",0,0,0,0,null,null,null,0,"",""]
[false,{"$f":"名簿!Q57","v":""},false,null,{"$f":"名簿!E57","v":0},{"$f":"名簿!BR57","v":""},{"$f":"名簿!Z57","v":""},"",{"$f":"名簿!O57","v":""},{"$f":"名簿!I57","v":0},{"$f":"名簿!BT57","v":"0"},{"$f":"名簿!BW57","v":0},{"$f":"名簿!R57","v":""},{"$f":"名簿!$W$9","v":23},null,{"$f":"IF(O55=\"\",\"\",IF(I55=1,VLOOKUP(O55,男子種目コード!$D$44:$E$56,2,FALSE),IF(I55=2,VLOOKUP(O55,女子種目コード!$G$36:$H$44,2,FALSE))))","v":""},{"$f":"IF(O55=\"\",\"\",HLOOKUP(O55,名簿!$AB$8:$BG$118,50,FALSE))","v":""},0,2,null,{"$f":"IF(T55=\"\",\"\",IF(I55=1,VLOOKUP(T55,男子種目コード!$D$44:$E$56,2,FALSE),IF(I55=2,VLOOKUP(T55,女子種目コード!$G$36:$H$44,2,FALSE))))","v":""},{"$f":"IF(T55=\"\",\"\",HLOOKUP(T55,名簿!$AB$8:$BG$118,50,FALSE))","v":""},0,2,null,{"$f":"IF(Y55=\"\",\"\",IF(I55=1,VLOOKUP(Y55,男子種目コード!$D$44:$E$56,2,FALSE),IF(I55=2,VLOOKUP(Y55,女子種目コード!$G$36:$H$44,2,FALSE))))","v":""},{"$f":"IF(Y55=\"\",\"\",HLOOKUP(Y55,名簿!$AB$8:$BG$118,50,FALSE))","v":""},0,2,null,{"$f":"IF(AD55=\"\",\"\",IF(I55=1,VLOOKUP(AD55,男子種目コード!$D$50:$E$50,2,FALSE),IF(I55=2,VLOOKUP(AD55,女子種目コード!$G$40:$H$40,2,FALSE))))","v":""},null,0,2,null,{"$f":"IF(AI55=\"\",\"\",IF(I55=1,VLOOKUP(AI55,男子種目コード!$D$51:$E$51,2,FALSE),IF(I55=2,\"\",)))","v":""},null,0,2,null,null,null,null,null,null,null,null,null,null,null,null,null,null,"",0,0,0,0,null,null,null,0,"",""]
[false,{"$f":"名簿!Q58","v":""},false,null,{"$f":"名簿!E58","v":0},{"$f":"名簿!BR58","v":""},{"$f":"名簿!Z58","v":""},"",{"$f":"名簿!O58","v":""},{"$f":"名簿!I58","v":0},{"$f":"名簿!BT58","v":"0"},{"$f":"名簿!BW58","v":0},{"$f":"名簿!R58","v":""},{"$f":"名簿!$W$9","v":23},null,{"$f":"IF(O56=\"\",\"\",IF(I56=1,VLOOKUP(O56,男子種目コード!$D$44:$E$56,2,FALSE),IF(I56=2,VLOOKUP(O56,女子種目コード!$G$36:$H$44,2,FALSE))))","v":""},{"$f":"IF(O56=\"\",\"\",HLOOKUP(O56,名簿!$AB$8:$BG$118,51,FALSE))","v":""},0,2,null,{"$f":"IF(T56=\"\",\"\",IF(I56=1,VLOOKUP(T56,男子種目コード!$D$44:$E$56,2,FALSE),IF(I56=2,VLOOKUP(T56,女子種目コード!$G$36:$H$44,2,FALSE))))","v":""},{"$f":"IF(T56=\"\",\"\",HLOOKUP(T56,名簿!$AB$8:$BG$118,51,FALSE))","v":""},0,2,null,{"$f":"IF(Y56=\"\",\"\",IF(I56=1,VLOOKUP(Y56,男子種目コード!$D$44:$E$56,2,FALSE),IF(I56=2,VLOOKUP(Y56,女子種目コード!$G$36:$H$44,2,FALSE))))","v":""},{"$f":"IF(Y56=\"\",\"\",HLOOKUP(Y56,名簿!$AB$8:$BG$118,51,FALSE))","v":""},0,2,null,{"$f":"IF(AD56=\"\",\"\",IF(I56=1,VLOOKUP(AD56,男子種目コード!$D$50:$E$50,2,FALSE),IF(I56=2,VLOOKUP(AD56,女子種目コード!$G$40:$H$40,2,FALSE))))","v":""},null,0,2,null,{"$f":"IF(AI56=\"\",\"\",IF(I56=1,VLOOKUP(AI56,男子種目コード!$D$51:$E$51,2,FALSE),IF(I56=2,\"\",)))","v":""},null,0,2,null,null,null,null,null,null,null,null,null,null,null,null,null,null,"",0,0,0,0,null,null,null,0,"",""]
[false,{"$f":"名簿!Q59","v":""},false,null,{"$f":"名簿!E59","v":0},{"$f":"名簿!BR59","v":""},{"$f":"名簿!Z59","v":""},"",{"$f":"名簿!O59","v":""},{"$f":"名簿!I59","v":0},{"$f":"名簿!BT59","v":"0"},{"$f":"名簿!BW59","v":0},{"$f":"名簿!R59","v":""},{"$f":"名簿!$W$9","v":23},null,{"$f":"IF(O57=\"\",\"\",IF(I57=1,VLOOKUP(O57,男子種目コード!$D$44:$E$56,2,FALSE),IF(I57=2,VLOOKUP(O57,女子種目コード!$G$36:$H$44,2,FALSE))))","v":""},{"$f":"IF(O57=\"\",\"\",HLOOKUP(O57,名簿!$AB$8:$BG$118,52,FALSE))","v":""},0,2,null,{"$f":"IF(T57=\"\",\"\",IF(I57=1,VLOOKUP(T57,男子種目コード!$D$44:$E$56,2,FALSE),IF(I57=2,VLOOKUP(T57,女子種目コード!$G$36:$H$44,2,FALSE))))","v":""},{"$f":"IF(T57=\"\",\"\",HLOOKUP(T57,名簿!$AB$8:$BG$118,52,FALSE))","v":""},0,2,null,{"$f":"IF(Y57=\"\",\"\",IF(I57=1,VLOOKUP(Y57,男子種目コード!$D$44:$E$56,2,FALSE),IF(I57=2,VLOOKUP(Y57,女子種目コード!$G$36:$H$44,2,FALSE))))","v":""},{"$f":"IF(Y57=\"\",\"\",HLOOKUP(Y57,名簿!$AB$8:$BG$118,52,FALSE))","v":""},0,2,null,{"$f":"IF(AD57=\"\",\"\",IF(I57=1,VLOOKUP(AD57,男子種目コード!$D$50:$E$50,2,FALSE),IF(I57=2,VLOOKUP(AD57,女子種目コード!$G$40:$H$40,2,FALSE))))","v":""},null,0,2,null,{"$f":"IF(AI57=\"\",\"\",IF(I57=1,VLOOKUP(AI57,男子種目コード!$D$51:$E$51,2,FALSE),IF(I57=2,\"\",)))","v":""},null,0,2,null,null,null,null,null,null,null,null,null,null,null,null,null,null,"",0,0,0,0,null,null,null,0,"",""]
[false,{"$f":"名簿!Q60","v":""},false,null,{"$f":"名簿!E60","v":0},{"$f":"名簿!BR60","v":""},{"$f":"名簿!Z60","v":""},"",{"$f":"名簿!O60","v":""},{"$f":"名簿!I60","v":0},{"$f":"名簿!BT60","v":"0"},{"$f":"名簿!BW60","v":0},{"$f":"名簿!R60","v":""},{"$f":"名簿!$W$9","v":23},null,{"$f":"IF(O58=\"\",\"\",IF(I58=1,VLOOKUP(O58,男子種目コード!$D$44:$E$56,2,FALSE),IF(I58=2,VLOOKUP(O58,女子種目コード!$G$36:$H$44,2,FALSE))))","v":""},{"$f":"IF(O58=\"\",\"\",HLOOKUP(O58,名簿!$AB$8:$BG$118,53,FALSE))","v":""},0,2,null,{"$f":"IF(T58=\"\",\"\",IF(I58=1,VLOOKUP(T58,男子種目コード!$D$44:$E$56,2,FALSE),IF(I58=2,VLOOKUP(T58,女子種目コード!$G$36:$H$44,2,FALSE))))","v":""},{"$f":"IF(T58=\"\",\"\",HLOOKUP(T58,名簿!$AB$8:$BG$118,53,FALSE))","v":""},0,2,null,{"$f":"IF(Y58=\"\",\"\",IF(I58=1,VLOOKUP(Y58,男子種目コード!$D$44:$E$56,2,FALSE),IF(I58=2,VLOOKUP(Y58,女子種目コード!$G$36:$H$44,2,FALSE))))","v":""},{"$f":"IF(Y58=\"\",\"\",HLOOKUP(Y58,名簿!$AB$8:$BG$118,53,FALSE))","v":""},0,2,null,{"$f":"IF(AD58=\"\",\"\",IF(I58=1,VLOOKUP(AD58,男子種目コード!$D$50:$E$50,2,FALSE),IF(I58=2,VLOOKUP(AD58,女子種目コード!$G$40:$H$40,2,FALSE))))","v":""},null,0,2,null,{"$f":"IF(AI58=\"\",\"\",IF(I58=1,VLOOKUP(AI58,男子種目コード!$D$51:$E$51,2,FALSE),IF(I58=2,\"\",)))","v":""},null,0,2,null,null,null,null,null,null,null,null,null,null,null,null,null,null,"",0,0,0,0,null,null,null,0,"",""]
[false,{"$f":"名簿!Q61","v":""},false,null,{"$f":"名簿!E61","v":0},{"$f":"名簿!BR61","v":""},{"$f":"名簿!Z61","v":""},"",{"$f":"名簿!O61","v":""},{"$f":"名簿!I61","v":0},{"$f":"名簿!BT61","v":"0"},{"$f":"名簿!BW61","v":0},{"$f":"名簿!R61","v":""},{"$f":"名簿!$W$9","v":23},null,{"$f":"IF(O59=\"\",\"\",IF(I59=1,VLOOKUP(O59,男子種目コード!$D$44:$E$56,2,FALSE),IF(I59=2,VLOOKUP(O59,女子種目コード!$G$36:$H$44,2,FALSE))))","v":""},{"$f":"IF(O59=\"\",\"\",HLOOKUP(O59,名簿!$AB$8:$BG$118,54,FALSE))","v":""},0,2,null,{"$f":"IF(T59=\"\",\"\",IF(I59=1,VLOOKUP(T59,男子種目コード!$D$44:$E$56,2,FALSE),IF(I59=2,VLOOKUP(T59,女子種目コード!$G$36:$H$44,2,FALSE))))","v":""},{"$f":"IF(T59=\"\",\"\",HLOOKUP(T59,名簿!$AB$8:$BG$118,54,FALSE))","v":""},0,2,null,{"$f":"IF(Y59=\"\",\"\",IF(I59=1,VLOOKUP(Y59,男子種目コード!$D$44:$E$56,2,FALSE),IF(I59=2,VLOOKUP(Y59,女子種目コード!$G$36:$H$44,2,FALSE))))","v":""},{"$f":"IF(Y59=\"\",\"\",HLOOKUP(Y59,名簿!$AB$8:$BG$118,54,FALSE))","v":""},0,2,null,{"$f":"IF(AD59=\"\",\"\",IF(I59=1,VLOOKUP(AD59,男子種目コード!$D$50:$E$50,2,FALSE),IF(I59=2,VLOOKUP(AD59,女子種目コード!$G$40:$H$40,2,FALSE))))","v":""},null,0,2,null,{"$f":"IF(AI59=\"\",\"\",IF(I59=1,VLOOKUP(AI59,男子種目コード!$D$51:$E$51,2,FALSE),IF(I59=2,\"\",)))","v":""},null,0,2,null,null,null,null,null,null,null,null,null,null,null,null,null,null,"",0,0,0,0,null,null,null,0,"",""]
[false,{"$f":"名簿!Q62","v":""},false,null,{"$f":"名簿!E62","v":0},{"$f":"名簿!BR62","v":""},{"$f":"名簿!Z62","v":""},"",{"$f":"名簿!O62","v":""},{"$f":"名簿!I62","v":0},{"$f":"名簿!BT62","v":"0"},{"$f":"名簿!BW62","v":0},{"$f":"名簿!R62","v":""},{"$f":"名簿!$W$9","v":23},null,{"$f":"IF(O60=\"\",\"\",IF(I60=1,VLOOKUP(O60,男子種目コード!$D$44:$E$56,2,FALSE),IF(I60=2,VLOOKUP(O60,女子種目コード!$G$36:$H$44,2,FALSE))))","v":""},{"$f":"IF(O60=\"\",\"\",HLOOKUP(O60,名簿!$AB$8:$BG$118,55,FALSE))","v":""},0,2,null,{"$f":"IF(T60=\"\",\"\",IF(I60=1,VLOOKUP(T60,男子種目コード!$D$44:$E$56,2,FALSE),IF(I60=2,VLOOKUP(T60,女子種目コード!$G$36:$H$44,2,FALSE))))","v":""},{"$f":"IF(T60=\"\",\"\",HLOOKUP(T60,名簿!$AB$8:$BG$118,55,FALSE))","v":""},0,2,null,{"$f":"IF(Y60=\"\",\"\",IF(I60=1,VLOOKUP(Y60,男子種目コード!$D$44:$E$56,2,FALSE),IF(I60=2,VLOOKUP(Y60,女子種目コード!$G$36:$H$44,2,FALSE))))","v":""},{"$f":"IF(Y60=\"\",\"\",HLOOKUP(Y60,名簿!$AB$8:$BG$118,55,FALSE))","v":""},0,2,null,{"$f":"IF(AD60=\"\",\"\",IF(I60=1,VLOOKUP(AD60,男子種目コード!$D$50:$E$50,2,FALSE),IF(I60=2,VLOOKUP(AD60,女子種目コード!$G$40:$H$40,2,FALSE))))","v":""},null,0,2,null,{"$f":"IF(AI60=\"\",\"\",IF(I60=1,VLOOKUP(AI60,男子種目コード!$D$51:$E$51,2,FALSE),IF(I60=2,\"\",)))","v":""},null,0,2,null,null,null,null,null,null,null,null,null,null,null,null,null,null,"",0,0,0,0,null,null,null,0,"",""]
[false,{"$f":"名簿!Q63","v":""},false,null,{"$f":"名簿!E63","v":0},{"$f":"名簿!BR63","v":""},{"$f":"名簿!Z63","v":""},"",{"$f":"名簿!O63","v":""},{"$f":"名簿!I63","v":0},{"$f":"名簿!BT63","v":"0"},{"$f":"名簿!BW63","v":0},{"$f":"名簿!R63","v":""},{"$f":"名簿!$W$9","v":23},null,{"$f":"IF(O61=\"\",\"\",IF(I61=1,VLOOKUP(O61,男子種目コード!$D$44:$E$56,2,FALSE),IF(I61=2,VLOOKUP(O61,女子種目コード!$G$36:$H$44,2,FALSE))))","v":""},{"$f":"IF(O61=\"\",\"\",HLOOKUP(O61,名簿!$AB$8:$BG$118,56,FALSE))","v":""},0,2,null,{"$f":"IF(T61=\"\",\"\",IF(I61=1,VLOOKUP(T61,男子種目コード!$D$44:$E$56,2,FALSE),IF(I61=2,VLOOKUP(T61,女子種目コード!$G$36:$H$44,2,FALSE))))","v":""},{"$f":"IF(T61=\"\",\"\",HLOOKUP(T61,名簿!$AB$8:$BG$118,56,FALSE))","v":""},0,2,null,{"$f":"IF(Y61=\"\",\"\",IF(I61=1,VLOOKUP(Y61,男子種目コード!$D$44:$E$56,2,FALSE),IF(I61=2,VLOOKUP(Y61,女子種目コード!$G$36:$H$44,2,FALSE))))","v":""},{"$f":"IF(Y61=\"\",\"\",HLOOKUP(Y61,名簿!$AB$8:$BG$118,56,FALSE))","v":""},0,2,null,{"$f":"IF(AD61=\"\",\"\",IF(I61=1,VLOOKUP(AD61,男子種目コード!$D$50:$E$50,2,FALSE),IF(I61=2,VLOOKUP(AD61,女子種目コード!$G$40:$H$40,2,FALSE))))","v":""},null,0,2,null,{"$f":"IF(AI61=\"\",\"\",IF(I61=1,VLOOKUP(AI61,男子種目コード!$D$51:$E$51,2,FALSE),IF(I61=2,\"\",)))","v":""},null,0,2,null,null,null,null,null,null,null,null,null,null,null,null,null,null,"",0,0,0,0,null,null,null,0,"",""]
[false,{"$f":"名簿!Q64","v":""},false,null,{"$f":"名簿!E64","v":0},{"$f":"名簿!BR64","v":""},{"$f":"名簿!Z64","v":""},"",{"$f":"名簿!O64","v":""},{"$f":"名簿!I64","v":0},{"$f":"名簿!BT64","v":"0"},{"$f":"名簿!BW64","v":0},{"$f":"名簿!R64","v":""},{"$f":"名簿!$W$9","v":23},null,{"$f":"IF(O62=\"\",\"\",IF(I62=1,VLOOKUP(O62,男子種目コード!$D$44:$E$56,2,FALSE),IF(I62=2,VLOOKUP(O62,女子種目コード!$G$36:$H$44,2,FALSE))))","v":""},{"$f":"IF(O62=\"\",\"\",HLOOKUP(O62,名簿!$AB$8:$BG$118,57,FALSE))","v":""},0,2,null,{"$f":"IF(T62=\"\",\"\",IF(I62=1,VLOOKUP(T62,男子種目コード!$D$44:$E$56,2,FALSE),IF(I62=2,VLOOKUP(T62,女子種目コード!$G$36:$H$44,2,FALSE))))","v":""},{"$f":"IF(T62=\"\",\"\",HLOOKUP(T62,名簿!$AB$8:$BG$118,57,FALSE))","v":""},0,2,null,{"$f":"IF(Y62=\"\",\"\",IF(I62=1,VLOOKUP(Y62,男子種目コード!$D$44:$E$56,2,FALSE),IF(I62=2,VLOOKUP(Y62,女子種目コード!$G$36:$H$44,2,FALSE))))","v":""},{"$f":"IF(Y62=\"\",\"\",HLOOKUP(Y62,名簿!$AB$8:$BG$118,57,FALSE))","v":""},0,2,null,{"$f":"IF(AD62=\"\",\"\",IF(I62=1,VLOOKUP(AD62,男子種目コード!$D$50:$E$50,2,FALSE),IF(I62=2,VLOOKUP(AD62,女子種目コード!$G$40:$H$40,2,FALSE))))","v":""},null,0,2,null,{"$f":"IF(AI62=\"\",\"\",IF(I62=1,VLOOKUP(AI62,男子種目コード!$D$51:$E$51,2,FALSE),IF(I62=2,\"\",)))","v":""},null,0,2,null,null,null,null,null,null,null,null,null,null,null,null,null,null,"",0,0,0,0,null,null,null,0,"",""]
[false,{"$f":"名簿!Q65","v":""},false,null,{"$f":"名簿!E65","v":0},{"$f":"名簿!BR65","v":""},{"$f":"名簿!Z65","v":""},"",{"$f":"名簿!O65","v":""},{"$f":"名簿!I65","v":0},{"$f":"名簿!BT65","v":"0"},{"$f":"名簿!BW65","v":0},{"$f":"名簿!R65","v":""},{"$f":"名簿!$W$9","v":23},null,{"$f":"IF(O63=\"\",\"\",IF(I63=1,VLOOKUP(O63,男子種目コード!$D$44:$E$56,2,FALSE),IF(I63=2,VLOOKUP(O63,女子種目コード!$G$36:$H$44,2,FALSE))))","v":""},{"$f":"IF(O63=\"\",\"\",HLOOKUP(O63,名簿!$AB$8:$BG$118,58,FALSE))","v":""},0,2,null,{"$f":"IF(T63=\"\",\"\",IF(I63=1,VLOOKUP(T63,男子種目コード!$D$44:$E$56,2,FALSE),IF(I63=2,VLOOKUP(T63,女子種目コード!$G$36:$H$44,2,FALSE))))","v":""},{"$f":"IF(T63=\"\",\"\",HLOOKUP(T63,名簿!$AB$8:$BG$118,58,FALSE))","v":""},0,2,null,{"$f":"IF(Y63=\"\",\"\",IF(I63=1,VLOOKUP(Y63,男子種目コード!$D$44:$E$56,2,FALSE),IF(I63=2,VLOOKUP(Y63,女子種目コード!$G$36:$H$44,2,FALSE))))","v":""},{"$f":"IF(Y63=\"\",\"\",HLOOKUP(Y63,名簿!$AB$8:$BG$118,58,FALSE))","v":""},0,2,null,{"$f":"IF(AD63=\"\",\"\",IF(I63=1,VLOOKUP(AD63,男子種目コード!$D$50:$E$50,2,FALSE),IF(I63=2,VLOOKUP(AD63,女子種目コード!$G$40:$H$40,2,FALSE))))","v":""},null,0,2,null,{"$f":"IF(AI63=\"\",\"\",IF(I63=1,VLOOKUP(AI63,男子種目コード!$D$51:$E$51,2,FALSE),IF(I63=2,\"\",)))","v":""},null,0,2,null,null,null,null,null,null,null,null,null,null,null,null,null,null,"",0,0,0,0,null,null,null,0,"",""]
[false,{"$f":"名簿!Q66","v":""},false,null,{"$f":"名簿!E66","v":0},{"$f":"名簿!BR66","v":""},{"$f":"名簿!Z66","v":""},"",{"$f":"名簿!O66","v":""},{"$f":"名簿!I66","v":0},{"$f":"名簿!BT66","v":"0"},{"$f":"名簿!BW66","v":0},{"$f":"名簿!R66","v":""},{"$f":"名簿!$W$9","v":23},null,{"$f":"IF(O64=\"\",\"\",IF(I64=1,VLOOKUP(O64,男子種目コード!$D$44:$E$56,2,FALSE),IF(I64=2,VLOOKUP(O64,女子種目コード!$G$36:$H$44,2,FALSE))))","v":""},{"$f":"IF(O64=\"\",\"\",HLOOKUP(O64,名簿!$AB$8:$BG$118,59,FALSE))","v":""},0,2,null,{"$f":"IF(T64=\"\",\"\",IF(I64=1,VLOOKUP(T64,男子種目コード!$D$44:$E$56,2,FALSE),IF(I64=2,VLOOKUP(T64,女子種目コード!$G$36:$H$44,2,FALSE))))","v":""},{"$f":"IF(T64=\"\",\"\",HLOOKUP(T64,名簿!$AB$8:$BG$118,59,FALSE))","v":""},0,2,null,{"$f":"IF(Y64=\"\",\"\",IF(I64=1,VLOOKUP(Y64,男子種目コード!$D$44:$E$56,2,FALSE),IF(I64=2,VLOOKUP(Y64,女子種目コード!$G$36:$H$44,2,FALSE))))","v":""},{"$f":"IF(Y64=\"\",\"\",HLOOKUP(Y64,名簿!$AB$8:$BG$118,59,FALSE))","v":""},0,2,null,{"$f":"IF(AD64=\"\",\"\",IF(I64=1,VLOOKUP(AD64,男子種目コード!$D$50:$E$50,2,FALSE),IF(I64=2,VLOOKUP(AD64,女子種目コード!$G$40:$H$40,2,FALSE))))","v":""},null,0,2,null,{"$f":"IF(AI64=\"\",\"\",IF(I64=1,VLOOKUP(AI64,男子種目コード!$D$51:$E$51,2,FALSE),IF(I64=2,\"\",)))","v":""},null,0,2,null,null,null,null,null,null,null,null,null,null,null,null,null,null,"",0,0,0,0,null,null,null,0,"",""]
[false,{"$f":"名簿!Q67","v":""},false,null,{"$f":"名簿!E67","v":0},{"$f":"名簿!BR67","v":""},{"$f":"名簿!Z67","v":""},"",{"$f":"名簿!O67","v":""},{"$f":"名簿!I67","v":0},{"$f":"名簿!BT67","v":"0"},{"$f":"名簿!BW67","v":0},{"$f":"名簿!R67","v":""},{"$f":"名簿!$W$9","v":23},null,{"$f":"IF(O65=\"\",\"\",IF(I65=1,VLOOKUP(O65,男子種目コード!$D$44:$E$56,2,FALSE),IF(I65=2,VLOOKUP(O65,女子種目コード!$G$36:$H$44,2,FALSE))))","v":""},{"$f":"IF(O65=\"\",\"\",HLOOKUP(O65,名簿!$AB$8:$BG$118,60,FALSE))","v":""},0,2,null,{"$f":"IF(T65=\"\",\"\",IF(I65=1,VLOOKUP(T65,男子種目コード!$D$44:$E$56,2,FALSE),IF(I65=2,VLOOKUP(T65,女子種目コード!$G$36:$H$44,2,FALSE))))","v":""},{"$f":"IF(T65=\"\",\"\",HLOOKUP(T65,名簿!$AB$8:$BG$118,60,FALSE))","v":""},0,2,null,{"$f":"IF(Y65=\"\",\"\",IF(I65=1,VLOOKUP(Y65,男子種目コード!$D$44:$E$56,2,FALSE),IF(I65=2,VLOOKUP(Y65,女子種目コード!$G$36:$H$44,2,FALSE))))","v":""},{"$f":"IF(Y65=\"\",\"\",HLOOKUP(Y65,名簿!$AB$8:$BG$118,60,FALSE))","v":""},0,2,null,{"$f":"IF(AD65=\"\",\"\",IF(I65=1,VLOOKUP(AD65,男子種目コード!$D$50:$E$50,2,FALSE),IF(I65=2,VLOOKUP(AD65,女子種目コード!$G$40:$H$40,2,FALSE))))","v":""},null,0,2,null,{"$f":"IF(AI65=\"\",\"\",IF(I65=1,VLOOKUP(AI65,男子種目コード!$D$51:$E$51,2,FALSE),IF(I65=2,\"\",)))","v":""},null,0,2,null,null,null,null,null,null,null,null,null,null,null,null,null,null,"",0,0,0,0,null,null,null,0,"",""]
[false,{"$f":"名簿!Q68","v":""},false,null,{"$f":"名簿!E68","v":0},{"$f":"名簿!BR68","v":""},{"$f":"名簿!Z68","v":""},"",{"$f":"名簿!O68","v":""},{"$f":"名簿!I68","v":0},{"$f":"名簿!BT68","v":"0"},{"$f":"名簿!BW68","v":0},{"$f":"名簿!R68","v":""},{"$f":"名簿!$W$9","v":23},null,{"$f":"IF(O66=\"\",\"\",IF(I66=1,VLOOKUP(O66,男子種目コード!$D$44:$E$56,2,FALSE),IF(I66=2,VLOOKUP(O66,女子種目コード!$G$36:$H$44,2,FALSE))))","v":""},{"$f":"IF(O66=\"\",\"\",HLOOKUP(O66,名簿!$AB$8:$BG$118,61,FALSE))","v":""},0,2,null,{"$f":"IF(T66=\"\",\"\",IF(I66=1,VLOOKUP(T66,男子種目コード!$D$44:$E$56,2,FALSE),IF(I66=2,VLOOKUP(T66,女子種目コード!$G$36:$H$44,2,FALSE))))","v":""},{"$f":"IF(T66=\"\",\"\",HLOOKUP(T66,名簿!$AB$8:$BG$118,61,FALSE))","v":""},0,2,null,{"$f":"IF(Y66=\"\",\"\",IF(I66=1,VLOOKUP(Y66,男子種目コード!$D$44:$E$56,2,FALSE),IF(I66=2,VLOOKUP(Y66,女子種目コード!$G$36:$H$44,2,FALSE))))","v":""},{"$f":"IF(Y66=\"\",\"\",HLOOKUP(Y66,名簿!$AB$8:$BG$118,61,FALSE))","v":""},0,2,null,{"$f":"IF(AD66=\"\",\"\",IF(I66=1,VLOOKUP(AD66,男子種目コード!$D$50:$E$50,2,FALSE),IF(I66=2,VLOOKUP(AD66,女子種目コード!$G$40:$H$40,2,FALSE))))","v":""},null,0,2,null,{"$f":"IF(AI66=\"\",\"\",IF(I66=1,VLOOKUP(AI66,男子種目コード!$D$51:$E$51,2,FALSE),IF(I66=2,\"\",)))","v":""},null,0,2,null,null,null,null,null,null,null,null,null,null,null,null,null,null,"",0,0,0,0,null,null,null,0,"",""]
[false,{"$f":"名簿!Q69","v":""},false,null,{"$f":"名簿!E69","v":0},{"$f":"名簿!BR69","v":""},{"$f":"名簿!Z69","v":""},"",{"$f":"名簿!O69","v":""},{"$f":"名簿!I69","v":0},{"$f":"名簿!BT69","v":"0"},{"$f":"名簿!BW69","v":0},{"$f":"名簿!R69","v":""},{"$f":"名簿!$W$9","v":23},null,{"$f":"IF(O67=\"\",\"\",IF(I67=1,VLOOKUP(O67,男子種目コード!$D$44:$E$56,2,FALSE),IF(I67=2,VLOOKUP(O67,女子種目コード!$G$36:$H$44,2,FALSE))))","v":""},{"$f":"IF(O67=\"\",\"\",HLOOKUP(O67,名簿!$AB$8:$BG$118,62,FALSE))","v":""},0,2,null,{"$f":"IF(T67=\"\",\"\",IF(I67=1,VLOOKUP(T67,男子種目コード!$D$44:$E$56,2,FALSE),IF(I67=2,VLOOKUP(T67,女子種目コード!$G$36:$H$44,2,FALSE))))","v":""},{"$f":"IF(T67=\"\",\"\",HLOOKUP(T67,名簿!$AB$8:$BG$118,62,FALSE))","v":""},0,2,null,{"$f":"IF(Y67=\"\",\"\",IF(I67=1,VLOOKUP(Y67,男子種目コード!$D$44:$E$56,2,FALSE),IF(I67=2,VLOOKUP(Y67,女子種目コード!$G$36:$H$44,2,FALSE))))","v":""},{"$f":"IF(Y67=\"\",\"\",HLOOKUP(Y67,名簿!$AB$8:$BG$118,62,FALSE))","v":""},0,2,null,{"$f":"IF(AD67=\"\",\"\",IF(I67=1,VLOOKUP(AD67,男子種目コード!$D$50:$E$50,2,FALSE),IF(I67=2,VLOOKUP(AD67,女子種目コード!$G$40:$H$40,2,FALSE))))","v":""},null,0,2,null,{"$f":"IF(AI67=\"\",\"\",IF(I67=1,VLOOKUP(AI67,男子種目コード!$D$51:$E$51,2,FALSE),IF(I67=2,\"\",)))","v":""},null,0,2,null,null,null,null,null,null,null,null,null,null,null,null,null,null,"",0,0,0,0,null,null,null,0,"",""]
[false,{"$f":"名簿!Q70","v":""},false,null,{"$f":"名簿!E70","v":0},{"$f":"名簿!BR70","v":""},{"$f":"名簿!Z70","v":""},"",{"$f":"名簿!O70","v":""},{"$f":"名簿!I70","v":0},{"$f":"名簿!BT70","v":"0"},{"$f":"名簿!BW70","v":0},{"$f":"名簿!R70","v":""},{"$f":"名簿!$W$9","v":23},null,{"$f":"IF(O68=\"\",\"\",IF(I68=1,VLOOKUP(O68,男子種目コード!$D$44:$E$56,2,FALSE),IF(I68=2,VLOOKUP(O68,女子種目コード!$G$36:$H$44,2,FALSE))))","v":""},{"$f":"IF(O68=\"\",\"\",HLOOKUP(O68,名簿!$AB$8:$BG$118,63,FALSE))","v":""},0,2,null,{"$f":"IF(T68=\"\",\"\",IF(I68=1,VLOOKUP(T68,男子種目コード!$D$44:$E$56,2,FALSE),IF(I68=2,VLOOKUP(T68,女子種目コード!$G$36:$H$44,2,FALSE))))","v":""},{"$f":"IF(T68=\"\",\"\",HLOOKUP(T68,名簿!$AB$8:$BG$118,63,FALSE))","v":""},0,2,null,{"$f":"IF(Y68=\"\",\"\",IF(I68=1,VLOOKUP(Y68,男子種目コード!$D$44:$E$56,2,FALSE),IF(I68=2,VLOOKUP(Y68,女子種目コード!$G$36:$H$44,2,FALSE))))","v":""},{"$f":"IF(Y68=\"\",\"\",HLOOKUP(Y68,名簿!$AB$8:$BG$118,63,FALSE))","v":""},0,2,null,{"$f":"IF(AD68=\"\",\"\",IF(I68=1,VLOOKUP(AD68,男子種目コード!$D$50:$E$50,2,FALSE),IF(I68=2,VLOOKUP(AD68,女子種目コード!$G$40:$H$40,2,FALSE))))","v":""},null,0,2,null,{"$f":"IF(AI68=\"\",\"\",IF(I68=1,VLOOKUP(AI68,男子種目コード!$D$51:$E$51,2,FALSE),IF(I68=2,\"\",)))","v":""},null,0,2,null,null,null,null,null,null,null,null,null,null,null,null,null,null,"",0,0,0,0,null,null,null,0,"",""]
[false,{"$f":"名簿!Q71","v":""},false,null,{"$f":"名簿!E71","v":0},{"$f":"名簿!BR71","v":""},{"$f":"名簿!Z71","v":""},"",{"$f":"名簿!O71","v":""},{"$f":"名簿!I71","v":0},{"$f":"名簿!BT71","v":"0"},{"$f":"名簿!BW71","v":0},{"$f":"名簿!R71","v":""},{"$f":"名簿!$W$9","v":23},null,{"$f":"IF(O69=\"\",\"\",IF(I69=1,VLOOKUP(O69,男子種目コード!$D$44:$E$56,2,FALSE),IF(I69=2,VLOOKUP(O69,女子種目コード!$G$36:$H$44,2,FALSE))))","v":""},{"$f":"IF(O69=\"\",\"\",HLOOKUP(O69,名簿!$AB$8:$BG$118,64,FALSE))","v":""},0,2,null,{"$f":"IF(T69=\"\",\"\",IF(I69=1,VLOOKUP(T69,男子種目コード!$D$44:$E$56,2,FALSE),IF(I69=2,VLOOKUP(T69,女子種目コード!$G$36:$H$44,2,FALSE))))","v":""},{"$f":"IF(T69=\"\",\"\",HLOOKUP(T69,名簿!$AB$8:$BG$118,64,FALSE))","v":""},0,2,null,{"$f":"IF(Y69=\"\",\"\",IF(I69=1,VLOOKUP(Y69,男子種目コード!$D$44:$E$56,2,FALSE),IF(I69=2,VLOOKUP(Y69,女子種目コード!$G$36:$H$44,2,FALSE))))","v":""},{"$f":"IF(Y69=\"\",\"\",HLOOKUP(Y69,名簿!$AB$8:$BG$118,64,FALSE))","v":""},0,2,null,{"$f":"IF(AD69=\"\",\"\",IF(I69=1,VLOOKUP(AD69,男子種目コード!$D$50:$E$50,2,FALSE),IF(I69=2,VLOOKUP(AD69,女子種目コード!$G$40:$H$40,2,FALSE))))","v":""},null,0,2,null,{"$f":"IF(AI69=\"\",\"\",IF(I69=1,VLOOKUP(AI69,男子種目コード!$D$51:$E$51,2,FALSE),IF(I69=2,\"\",)))","v":""},null,0,2,null,null,null,null,null,null,null,null,null,null,null,null,null,null,"",0,0,0,0,null,null,null,0,"",""]
[false,{"$f":"名簿!Q72","v":""},false,null,{"$f":"名簿!E72","v":0},{"$f":"名簿!BR72","v":""},{"$f":"名簿!Z72","v":""},"",{"$f":"名簿!O72","v":""},{"$f":"名簿!I72","v":0},{"$f":"名簿!BT72","v":"0"},{"$f":"名簿!BW72","v":0},{"$f":"名簿!R72","v":""},{"$f":"名簿!$W$9","v":23},null,{"$f":"IF(O70=\"\",\"\",IF(I70=1,VLOOKUP(O70,男子種目コード!$D$44:$E$56,2,FALSE),IF(I70=2,VLOOKUP(O70,女子種目コード!$G$36:$H$44,2,FALSE))))","v":""},{"$f":"IF(O70=\"\",\"\",HLOOKUP(O70,名簿!$AB$8:$BG$118,65,FALSE))","v":""},0,2,null,{"$f":"IF(T70=\"\",\"\",IF(I70=1,VLOOKUP(T70,男子種目コード!$D$44:$E$56,2,FALSE),IF(I70=2,VLOOKUP(T70,女子種目コード!$G$36:$H$44,2,FALSE))))","v":""},{"$f":"IF(T70=\"\",\"\",HLOOKUP(T70,名簿!$AB$8:$BG$118,65,FALSE))","v":""},0,2,null,{"$f":"IF(Y70=\"\",\"\",IF(I70=1,VLOOKUP(Y70,男子種目コード!$D$44:$E$56,2,FALSE),IF(I70=2,VLOOKUP(Y70,女子種目コード!$G$36:$H$44,2,FALSE))))","v":""},{"$f":"IF(Y70=\"\",\"\",HLOOKUP(Y70,名簿!$AB$8:$BG$118,65,FALSE))","v":""},0,2,null,{"$f":"IF(AD70=\"\",\"\",IF(I70=1,VLOOKUP(AD70,男子種目コード!$D$50:$E$50,2,FALSE),IF(I70=2,VLOOKUP(AD70,女子種目コード!$G$40:$H$40,2,FALSE))))","v":""},null,0,2,null,{"$f":"IF(AI70=\"\",\"\",IF(I70=1,VLOOKUP(AI70,男子種目コード!$D$51:$E$51,2,FALSE),IF(I70=2,\"\",)))","v":""},null,0,2,null,null,null,null,null,null,null,null,null,null,null,null,null,null,"",0,0,0,0,null,null,null,0,"",""]
[false,{"$f":"名簿!Q73","v":""},false,null,{"$f":"名簿!E73","v":0},{"$f":"名簿!BR73","v":""},{"$f":"名簿!Z73","v":""},"",{"$f":"名簿!O73","v":""},{"$f":"名簿!I73","v":0},{"$f":"名簿!BT73","v":"0"},{"$f":"名簿!BW73","v":0},{"$f":"名簿!R73","v":""},{"$f":"名簿!$W$9","v":23},null,{"$f":"IF(O71=\"\",\"\",IF(I71=1,VLOOKUP(O71,男子種目コード!$D$44:$E$56,2,FALSE),IF(I71=2,VLOOKUP(O71,女子種目コード!$G$36:$H$44,2,FALSE))))","v":""},{"$f":"IF(O71=\"\",\"\",HLOOKUP(O71,名簿!$AB$8:$BG$118,66,FALSE))","v":""},0,2,null,{"$f":"IF(T71=\"\",\"\",IF(I71=1,VLOOKUP(T71,男子種目コード!$D$44:$E$56,2,FALSE),IF(I71=2,VLOOKUP(T71,女子種目コード!$G$36:$H$44,2,FALSE))))","v":""},{"$f":"IF(T71=\"\",\"\",HLOOKUP(T71,名簿!$AB$8:$BG$118,66,FALSE))","v":""},0,2,null,{"$f":"IF(Y71=\"\",\"\",IF(I71=1,VLOOKUP(Y71,男子種目コード!$D$44:$E$56,2,FALSE),IF(I71=2,VLOOKUP(Y71,女子種目コード!$G$36:$H$44,2,FALSE))))","v":""},{"$f":"IF(Y71=\"\",\"\",HLOOKUP(Y71,名簿!$AB$8:$BG$118,66,FALSE))","v":""},0,2,null,{"$f":"IF(AD71=\"\",\"\",IF(I71=1,VLOOKUP(AD71,男子種目コード!$D$50:$E$50,2,FALSE),IF(I71=2,VLOOKUP(AD71,女子種目コード!$G$40:$H$40,2,FALSE))))","v":""},null,0,2,null,{"$f":"IF(AI71=\"\",\"\",IF(I71=1,VLOOKUP(AI71,男子種目コード!$D$51:$E$51,2,FALSE),IF(I71=2,\"\",)))","v":""},null,0,2,null,null,null,null,null,null,null,null,null,null,null,null,null,null,"",{"$f":"IF(OR(BB71=1,T71=\"\"),0,1)","v":0},{"$f":"IF(OR(BB71=1,BC71=1,Y71=\"\"),0,1)","v":0},{"$f":"IF(OR(BB71=1,BC71=1,BD71=1,AD71=\"\"),0,1)","v":0},{"$f":"IF(OR(BB71=1,BC71=1,BD71=1,BE71=1,AI71=\"\"),0,1)","v":0},null,null,null,{"$f":"COUNT(P71,U71,Z71,AE71,AJ71)","v":0},{"$f":"IF(I71=1,BJ71,\"\")","v":""},{"$f":"IF(I71=2,BJ71,\"\")","v":""}]
[{"$f":"IF(I72=1,IF(AD72=\"4×100\",1),IF(AD72=\"4×100\",2))","v":false},{"$f":"名簿!Q74","v":""},{"$f":"IF(I72=1,IF(AI72=\"4×400\",1),IF(AI72=\"4×400\",2))","v":false},null,{"$f":"名簿!E74","v":0},{"$f":"名簿!BR74","v":""},{"$f":"名簿!Z74","v":""},{"$f":"F72","v":""},{"$f":"名簿!O74","v":""},{"$f":"名簿!I74","v":0},{"$f":"名簿!BT74","v":"0"},{"$f":"名簿!BW74","v":0},{"$f":"名簿!R74","v":""},{"$f":"名簿!$W$9","v":23},null,{"$f":"IF(O72=\"\",\"\",IF(I72=1,VLOOKUP(O72,男子種目コード!$D$44:$E$56,2,FALSE),IF(I72=2,VLOOKUP(O72,女子種目コード!$G$36:$H$44,2,FALSE))))","v":""},{"$f":"IF(O72=\"\",\"\",HLOOKUP(O72,名簿!$AB$8:$BG$118,67,FALSE))","v":""},0,2,null,{"$f":"IF(T72=\"\",\"\",IF(I72=1,VLOOKUP(T72,男子種目コード!$D$44:$E$56,2,FALSE),IF(I72=2,VLOOKUP(T72,女子種目コード!$G$36:$H$44,2,FALSE))))","v":""},{"$f":"IF(T72=\"\",\"\",HLOOKUP(T72,名簿!$AB$8:$BG$118,67,FALSE))","v":""},0,2,null,{"$f":"IF(Y72=\"\",\"\",IF(I72=1,VLOOKUP(Y72,男子種目コード!$D$44:$E$56,2,FALSE),IF(I72=2,VLOOKUP(Y72,女子種目コード!$G$36:$H$44,2,FALSE))))","v":""},{"$f":"IF(Y72=\"\",\"\",HLOOKUP(Y72,名簿!$AB$8:$BG$118,67,FALSE))","v":""},0,2,null,{"$f":"IF(AD72=\"\",\"\",IF(I72=1,VLOOKUP(AD72,男子種目コード!$D$50:$E$50,2,FALSE),IF(I72=2,VLOOKUP(AD72,女子種目コード!$G$40:$H$40,2,FALSE))))","v":""},null,0,2,null,{"$f":"IF(AI72=\"\",\"\",IF(I72=1,VLOOKUP(AI72,男子種目コード!$D$51:$E$51,2,FALSE),IF(I72=2,\"\",)))","v":""},null,0,2,null,null,null,null,null,null,null,null,null,null,null,null,null,null,{"$f":"IF(O72=\"\",\"\",1)","v":""},0,0,0,0,null,null,null,0,"",""]
[false,{"$f":"名簿!Q75","v":""},false,null,{"$f":"名簿!E75","v":0},{"$f":"名簿!BR75","v":""},{"$f":"名簿!Z75","v":""},"",{"$f":"名簿!O75","v":""},{"$f":"名簿!I75","v":0},{"$f":"名簿!BT75","v":"0"},{"$f":"名簿!BW75","v":0},{"$f":"名簿!R75","v":""},{"$f":"名簿!$W$9","v":23},null,{"$f":"IF(O73=\"\",\"\",IF(I73=1,VLOOKUP(O73,男子種目コード!$D$44:$E$56,2,FALSE),IF(I73=2,VLOOKUP(O73,女子種目コード!$G$36:$H$44,2,FALSE))))","v":""},{"$f":"IF(O73=\"\",\"\",HLOOKUP(O73,名簿!$AB$8:$BG$118,68,FALSE))","v":""},0,2,null,{"$f":"IF(T73=\"\",\"\",IF(I73=1,VLOOKUP(T73,男子種目コード!$D$44:$E$56,2,FALSE),IF(I73=2,VLOOKUP(T73,女子種目コード!$G$36:$H$44,2,FALSE))))","v":""},{"$f":"IF(T73=\"\",\"\",HLOOKUP(T73,名簿!$AB$8:$BG$118,68,FALSE))","v":""},0,2,null,{"$f":"IF(Y73=\"\",\"\",IF(I73=1,VLOOKUP(Y73,男子種目コード!$D$44:$E$56,2,FALSE),IF(I73=2,VLOOKUP(Y73,女子種目コード!$G$36:$H$44,2,FALSE))))","v":""},{"$f":"IF(Y73=\"\",\"\",HLOOKUP(Y73,名簿!$AB$8:$BG$118,68,FALSE))","v":""},0,2,null,{"$f":"IF(AD73=\"\",\"\",IF(I73=1,VLOOKUP(AD73,男子種目コード!$D$50:$E$50,2,FALSE),IF(I73=2,VLOOKUP(AD73,女子種目コード!$G$40:$H$40,2,FALSE))))","v":""},null,0,2,null,{"$f":"IF(AI73=\"\",\"\",IF(I73=1,VLOOKUP(AI73,男子種目コード!$D$51:$E$51,2,FALSE),IF(I73=2,\"\",)))","v":""},null,0,2,null,null,null,null,null,null,null,null,null,null,null,null,null,null,"",0,0,0,0,null,null,null,0,"",""]
[false,{"$f":"名簿!Q76","v":""},false,null,{"$f":"名簿!E76","v":0},{"$f":"名簿!BR76","v":""},{"$f":"名簿!Z76","v":""},"",{"$f":"名簿!O76","v":""},{"$f":"名簿!I76","v":0},{"$f":"名簿!BT76","v":"0"},{"$f":"名簿!BW76","v":0},{"$f":"名簿!R76","v":""},{"$f":"名簿!$W$9","v":23},null,{"$f":"IF(O74=\"\",\"\",IF(I74=1,VLOOKUP(O74,男子種目コード!$D$44:$E$56,2,FALSE),IF(I74=2,VLOOKUP(O74,女子種目コード!$G$36:$H$44,2,FALSE))))","v":""},{"$f":"IF(O74=\"\",\"\",HLOOKUP(O74,名簿!$AB$8:$BG$118,69,FALSE))","v":""},0,2,null,{"$f":"IF(T74=\"\",\"\",IF(I74=1,VLOOKUP(T74,男子種目コード!$D$44:$E$56,2,FALSE),IF(I74=2,VLOOKUP(T74,女子種目コード!$G$36:$H$44,2,FALSE))))","v":""},{"$f":"IF(T74=\"\",\"\",HLOOKUP(T74,名簿!$AB$8:$BG$118,69,FALSE))","v":""},0,2,null,{"$f":"IF(Y74=\"\",\"\",IF(I74=1,VLOOKUP(Y74,男子種目コード!$D$44:$E$56,2,FALSE),IF(I74=2,VLOOKUP(Y74,女子種目コード!$G$36:$H$44,2,FALSE))))","v":""},{"$f":"IF(Y74=\"\",\"\",HLOOKUP(Y74,名簿!$AB$8:$BG$118,69,FALSE))","v":""},0,2,null,{"$f":"IF(AD74=\"\",\"\",IF(I74=1,VLOOKUP(AD74,男子種目コード!$D$50:$E$50,2,FALSE),IF(I74=2,VLOOKUP(AD74,女子種目コード!$G$40:$H$40,2,FALSE))))","v":""},null,0,2,null,{"$f":"IF(AI74=\"\",\"\",IF(I74=1,VLOOKUP(AI74,男子種目コード!$D$51:$E$51,2,FALSE),IF(I74=2,\"\",)))","v":""},null,0,2,null,null,null,null,null,null,null,null,null,null,null,null,null,null,"",0,0,0,0,null,null,null,0,"",""]
[false,{"$f":"名簿!Q77","v":""},false,null,{"$f":"名簿!E77","v":0},{"$f":"名簿!BR77","v":""},{"$f":"名簿!Z77","v":""},"",{"$f":"名簿!O77","v":""},{"$f":"名簿!I77","v":0},{"$f":"名簿!BT77","v":"0"},{"$f":"名簿!BW77","v":0},{"$f":"名簿!R77","v":""},{"$f":"名簿!$W$9","v":23},null,{"$f":"IF(O75=\"\",\"\",IF(I75=1,VLOOKUP(O75,男子種目コード!$D$44:$E$56,2,FALSE),IF(I75=2,VLOOKUP(O75,女子種目コード!$G$36:$H$44,2,FALSE))))","v":""},{"$f":"IF(O75=\"\",\"\",HLOOKUP(O75,名簿!$AB$8:$BG$118,70,FALSE))","v":""},0,2,null,{"$f":"IF(T75=\"\",\"\",IF(I75=1,VLOOKUP(T75,男子種目コード!$D$44:$E$56,2,FALSE),IF(I75=2,VLOOKUP(T75,女子種目コード!$G$36:$H$44,2,FALSE))))","v":""},{"$f":"IF(T75=\"\",\"\",HLOOKUP(T75,名簿!$AB$8:$BG$118,70,FALSE))","v":""},0,2,null,{"$f":"IF(Y75=\"\",\"\",IF(I75=1,VLOOKUP(Y75,男子種目コード!$D$44:$E$56,2,FALSE),IF(I75=2,VLOOKUP(Y75,女子種目コード!$G$36:$H$44,2,FALSE))))","v":""},{"$f":"IF(Y75=\"\",\"\",HLOOKUP(Y75,名簿!$AB$8:$BG$118,70,FALSE))","v":""},0,2,null,{"$f":"IF(AD75=\"\",\"\",IF(I75=1,VLOOKUP(AD75,男子種目コード!$D$50:$E$50,2,FALSE),IF(I75=2,VLOOKUP(AD75,女子種目コード!$G$40:$H$40,2,FALSE))))","v":""},null,0,2,null,{"$f":"IF(AI75=\"\",\"\",IF(I75=1,VLOOKUP(AI75,男子種目コード!$D$51:$E$51,2,FALSE),IF(I75=2,\"\",)))","v":""},null,0,2,null,null,null,null,null,null,null,null,null,null,null,null,null,null,"",0,0,0,0,null,null,null,0,"",""]
[false,{"$f":"名簿!Q78","v":""},false,null,{"$f":"名簿!E78","v":0},{"$f":"名簿!BR78","v":""},{"$f":"名簿!Z78","v":""},"",{"$f":"名簿!O78","v":""},{"$f":"名簿!I78","v":0},{"$f":"名簿!BT78","v":"0"},{"$f":"名簿!BW78","v":0},{"$f":"名簿!R78","v":""},{"$f":"名簿!$W$9","v":23},null,{"$f":"IF(O76=\"\",\"\",IF(I76=1,VLOOKUP(O76,男子種目コード!$D$44:$E$56,2,FALSE),IF(I76=2,VLOOKUP(O76,女子種目コード!$G$36:$H$44,2,FALSE))))","v":""},{"$f":"IF(O76=\"\",\"\",HLOOKUP(O76,名簿!$AB$8:$BG$118,71,FALSE))","v":""},0,2,null,{"$f":"IF(T76=\"\",\"\",IF(I76=1,VLOOKUP(T76,男子種目コード!$D$44:$E$56,2,FALSE),IF(I76=2,VLOOKUP(T76,女子種目コード!$G$36:$H$44,2,FALSE))))","v":""},{"$f":"IF(T76=\"\",\"\",HLOOKUP(T76,名簿!$AB$8:$BG$118,71,FALSE))","v":""},0,2,null,{"$f":"IF(Y76=\"\",\"\",IF(I76=1,VLOOKUP(Y76,男子種目コード!$D$44:$E$56,2,FALSE),IF(I76=2,VLOOKUP(Y76,女子種目コード!$G$36:$H$44,2,FALSE))))","v":""},{"$f":"IF(Y76=\"\",\"\",HLOOKUP(Y76,名簿!$AB$8:$BG$118,71,FALSE))","v":""},0,2,null,{"$f":"IF(AD76=\"\",\"\",IF(I76=1,VLOOKUP(AD76,男子種目コード!$D$50:$E$50,2,FALSE),IF(I76=2,VLOOKUP(AD76,女子種目コード!$G$40:$H$40,2,FALSE))))","v":""},null,0,2,null,{"$f":"IF(AI76=\"\",\"\",IF(I76=1,VLOOKUP(AI76,男子種目コード!$D$51:$E$51,2,FALSE),IF(I76=2,\"\",)))","v":""},null,0,2,null,null,null,null,null,null,null,null,null,null,null,null,null,null,"",0,0,0,0,null,null,null,0,"",""]
[false,{"$f":"名簿!Q79","v":""},false,null,{"$f":"名簿!E79","v":0},{"$f":"名簿!BR79","v":""},{"$f":"名簿!Z79","v":""},"",{"$f":"名簿!O79","v":""},{"$f":"名簿!I79","v":0},{"$f":"名簿!BT79","v":"0"},{"$f":"名簿!BW79","v":0},{"$f":"名簿!R79","v":""},{"$f":"名簿!$W$9","v":23},null,{"$f":"IF(O77=\"\",\"\",IF(I77=1,VLOOKUP(O77,男子種目コード!$D$44:$E$56,2,FALSE),IF(I77=2,VLOOKUP(O77,女子種目コード!$G$36:$H$44,2,FALSE))))","v":""},{"$f":"IF(O77=\"\",\"\",HLOOKUP(O77,名簿!$AB$8:$BG$118,72,FALSE))","v":""},0,2,null,{"$f":"IF(T77=\"\",\"\",IF(I77=1,VLOOKUP(T77,男子種目コード!$D$44:$E$56,2,FALSE),IF(I77=2,VLOOKUP(T77,女子種目コード!$G$36:$H$44,2,FALSE))))","v":""},{"$f":"IF(T77=\"\",\"\",HLOOKUP(T77,名簿!$AB$8:$BG$118,72,FALSE))","v":""},0,2,null,{"$f":"IF(Y77=\"\",\"\",IF(I77=1,VLOOKUP(Y77,男子種目コード!$D$44:$E$56,2,FALSE),IF(I77=2,VLOOKUP(Y77,女子種目コード!$G$36:$H$44,2,FALSE))))","v":""},{"$f":"IF(Y77=\"\",\"\",HLOOKUP(Y77,名簿!$AB$8:$BG$118,72,FALSE))","v":""},0,2,null,{"$f":"IF(AD77=\"\",\"\",IF(I77=1,VLOOKUP(AD77,男子種目コード!$D$50:$E$50,2,FALSE),IF(I77=2,VLOOKUP(AD77,女子種目コード!$G$40:$H$40,2,FALSE))))","v":""},null,0,2,null,{"$f":"IF(AI77=\"\",\"\",IF(I77=1,VLOOKUP(AI77,男子種目コード!$D$51:$E$51,2,FALSE),IF(I77=2,\"\",)))","v":""},null,0,2,null,null,null,null,null,null,null,null,null,null,null,null,null,null,"",0,0,0,0,null,null,null,0,"",""]
[false,{"$f":"名簿!Q80","v":""},false,null,{"$f":"名簿!E80","v":0},{"$f":"名簿!BR80","v":""},{"$f":"名簿!Z80","v":""},"",{"$f":"名簿!O80","v":""},{"$f":"名簿!I80","v":0},{"$f":"名簿!BT80","v":"0"},{"$f":"名簿!BW80","v":0},{"$f":"名簿!R80","v":""},{"$f":"名簿!$W$9","v":23},null,{"$f":"IF(O78=\"\",\"\",IF(I78=1,VLOOKUP(O78,男子種目コード!$D$44:$E$56,2,FALSE),IF(I78=2,VLOOKUP(O78,女子種目コード!$G$36:$H$44,2,FALSE))))","v":""},{"$f":"IF(O78=\"\",\"\",HLOOKUP(O78,名簿!$AB$8:$BG$118,73,FALSE))","v":""},0,2,null,{"$f":"IF(T78=\"\",\"\",IF(I78=1,VLOOKUP(T78,男子種目コード!$D$44:$E$56,2,FALSE),IF(I78=2,VLOOKUP(T78,女子種目コード!$G$36:$H$44,2,FALSE))))","v":""},{"$f":"IF(T78=\"\",\"\",HLOOKUP(T78,名簿!$AB$8:$BG$118,73,FALSE))","v":""},0,2,null,{"$f":"IF(Y78=\"\",\"\",IF(I78=1,VLOOKUP(Y78,男子種目コード!$D$44:$E$56,2,FALSE),IF(I78=2,VLOOKUP(Y78,女子種目コード!$G$36:$H$44,2,FALSE))))","v":""},{"$f":"IF(Y78=\"\",\"\",HLOOKUP(Y78,名簿!$AB$8:$BG$118,73,FALSE))","v":""},0,2,null,{"$f":"IF(AD78=\"\",\"\",IF(I78=1,VLOOKUP(AD78,男子種目コード!$D$50:$E$50,2,FALSE),IF(I78=2,VLOOKUP(AD78,女子種目コード!$G$40:$H$40,2,FALSE))))","v":""},null,0,2,null,{"$f":"IF(AI78=\"\",\"\",IF(I78=1,VLOOKUP(AI78,男子種目コード!$D$51:$E$51,2,FALSE),IF(I78=2,\"\",)))","v":""},null,0,2,null,null,null,null,null,null,null,null,null,null,null,null,null,null,"",0,0,0,0,null,null,null,0,"",""]
[false,{"$f":"名簿!Q81","v":""},false,null,{"$f":"名簿!E81","v":0},{"$f":"名簿!BR81","v":""},{"$f":"名簿!Z81","v":""},"",{"$f":"名簿!O81","v":""},{"$f":"名簿!I81","v":0},{"$f":"名簿!BT81","v":"0"},{"$f":"名簿!BW81","v":0},{"$f":"名簿!R81","v":""},{"$f":"名簿!$W$9","v":23},null,{"$f":"IF(O79=\"\",\"\",IF(I79=1,VLOOKUP(O79,男子種目コード!$D$44:$E$56,2,FALSE),IF(I79=2,VLOOKUP(O79,女子種目コード!$G$36:$H$44,2,FALSE))))","v":""},{"$f":"IF(O79=\"\",\"\",HLOOKUP(O79,名簿!$AB$8:$BG$118,74,FALSE))","v":""},0,2,null,{"$f":"IF(T79=\"\",\"\",IF(I79=1,VLOOKUP(T79,男子種目コード!$D$44:$E$56,2,FALSE),IF(I79=2,VLOOKUP(T79,女子種目コード!$G$36:$H$44,2,FALSE))))","v":""},{"$f":"IF(T79=\"\",\"\",HLOOKUP(T79,名簿!$AB$8:$BG$118,74,FALSE))","v":""},0,2,null,{"$f":"IF(Y79=\"\",\"\",IF(I79=1,VLOOKUP(Y79,男子種目コード!$D$44:$E$56,2,FALSE),IF(I79=2,VLOOKUP(Y79,女子種目コード!$G$36:$H$44,2,FALSE))))","v":""},{"$f":"IF(Y79=\"\",\"\",HLOOKUP(Y79,名簿!$AB$8:$BG$118,74,FALSE))","v":""},0,2,null,{"$f":"IF(AD79=\"\",\"\",IF(I79=1,VLOOKUP(AD79,男子種目コード!$D$50:$E$50,2,FALSE),IF(I79=2,VLOOKUP(AD79,女子種目コード!$G$40:$H$40,2,FALSE))))","v":""},null,0,2,null,{"$f":"IF(AI79=\"\",\"\",IF(I79=1,VLOOKUP(AI79,男子種目コード!$D$51:$E$51,2,FALSE),IF(I79=2,\"\",)))","v":""},null,0,2,null,null,null,null,null,null,null,null,null,null,null,null,null,null,"",0,0,0,0,null,null,null,0,"",""]
[false,{"$f":"名簿!Q82","v":""},false,null,{"$f":"名簿!E82","v":0},{"$f":"名簿!BR82","v":""},{"$f":"名簿!Z82","v":""},"",{"$f":"名簿!O82","v":""},{"$f":"名簿!I82","v":0},{"$f":"名簿!BT82","v":"0"},{"$f":"名簿!BW82","v":0},{"$f":"名簿!R82","v":""},{"$f":"名簿!$W$9","v":23},null,{"$f":"IF(O80=\"\",\"\",IF(I80=1,VLOOKUP(O80,男子種目コード!$D$44:$E$56,2,FALSE),IF(I80=2,VLOOKUP(O80,女子種目コード!$G$36:$H$44,2,FALSE))))","v":""},{"$f":"IF(O80=\"\",\"\",HLOOKUP(O80,名簿!$AB$8:$BG$118,75,FALSE))","v":""},0,2,null,{"$f":"IF(T80=\"\",\"\",IF(I80=1,VLOOKUP(T80,男子種目コード!$D$44:$E$56,2,FALSE),IF(I80=2,VLOOKUP(T80,女子種目コード!$G$36:$H$44,2,FALSE))))","v":""},{"$f":"IF(T80=\"\",\"\",HLOOKUP(T80,名簿!$AB$8:$BG$118,75,FALSE))","v":""},0,2,null,{"$f":"IF(Y80=\"\",\"\",IF(I80=1,VLOOKUP(Y80,男子種目コード!$D$44:$E$56,2,FALSE),IF(I80=2,VLOOKUP(Y80,女子種目コード!$G$36:$H$44,2,FALSE))))","v":""},{"$f":"IF(Y80=\"\",\"\",HLOOKUP(Y80,名簿!$AB$8:$BG$118,75,FALSE))","v":""},0,2,null,{"$f":"IF(AD80=\"\",\"\",IF(I80=1,VLOOKUP(AD80,男子種目コード!$D$50:$E$50,2,FALSE),IF(I80=2,VLOOKUP(AD80,女子種目コード!$G$40:$H$40,2,FALSE))))","v":""},null,0,2,null,{"$f":"IF(AI80=\"\",\"\",IF(I80=1,VLOOKUP(AI80,男子種目コード!$D$51:$E$51,2,FALSE),IF(I80=2,\"\",)))","v":""},null,0,2,null,null,null,null,null,null,null,null,null,null,null,null,null,null,"",0,0,0,0,null,null,null,0,"",""]
[false,{"$f":"名簿!Q83","v":""},false,null,{"$f":"名簿!E83","v":0},{"$f":"名簿!BR83","v":""},{"$f":"名簿!Z83","v":""},"",{"$f":"名簿!O83","v":""},{"$f":"名簿!I83","v":0},{"$f":"名簿!BT83","v":"0"},{"$f":"名簿!BW83","v":0},{"$f":"名簿!R83","v":""},{"$f":"名簿!$W$9","v":23},null,{"$f":"IF(O81=\"\",\"\",IF(I81=1,VLOOKUP(O81,男子種目コード!$D$44:$E$56,2,FALSE),IF(I81=2,VLOOKUP(O81,女子種目コード!$G$36:$H$44,2,FALSE))))","v":""},{"$f":"IF(O81=\"\",\"\",HLOOKUP(O81,名簿!$AB$8:$BG$118,76,FALSE))","v":""},0,2,null,{"$f":"IF(T81=\"\",\"\",IF(I81=1,VLOOKUP(T81,男子種目コード!$D$44:$E$56,2,FALSE),IF(I81=2,VLOOKUP(T81,女子種目コード!$G$36:$H$44,2,FALSE))))","v":""},{"$f":"IF(T81=\"\",\"\",HLOOKUP(T81,名簿!$AB$8:$BG$118,76,FALSE))","v":""},0,2,null,{"$f":"IF(Y81=\"\",\"\",IF(I81=1,VLOOKUP(Y81,男子種目コード!$D$44:$E$56,2,FALSE),IF(I81=2,VLOOKUP(Y81,女子種目コード!$G$36:$H$44,2,FALSE))))","v":""},{"$f":"IF(Y81=\"\",\"\",HLOOKUP(Y81,名簿!$AB$8:$BG$118,76,FALSE))","v":""},0,2,null,{"$f":"IF(AD81=\"\",\"\",IF(I81=1,VLOOKUP(AD81,男子種目コード!$D$50:$E$50,2,FALSE),IF(I81=2,VLOOKUP(AD81,女子種目コード!$G$40:$H$40,2,FALSE))))","v":""},null,0,2,null,{"$f":"IF(AI81=\"\",\"\",IF(I81=1,VLOOKUP(AI81,男子種目コード!$D$51:$E$51,2,FALSE),IF(I81=2,\"\",)))","v":""},null,0,2,null,null,null,null,null,null,null,null,null,null,null,null,null,null,"",0,0,0,0,null,null,null,0,"",""]
[false,{"$f":"名簿!Q84","v":""},false,null,{"$f":"名簿!E84","v":0},{"$f":"名簿!BR84","v":""},{"$f":"名簿!Z84","v":""},"",{"$f":"名簿!O84","v":""},{"$f":"名簿!I84","v":0},{"$f":"名簿!BT84","v":"0"},{"$f":"名簿!BW84","v":0},{"$f":"名簿!R84","v":""},{"$f":"名簿!$W$9","v":23},null,{"$f":"IF(O82=\"\",\"\",IF(I82=1,VLOOKUP(O82,男子種目コード!$D$44:$E$56,2,FALSE),IF(I82=2,VLOOKUP(O82,女子種目コード!$G$36:$H$44,2,FALSE))))","v":""},{"$f":"IF(O82=\"\",\"\",HLOOKUP(O82,名簿!$AB$8:$BG$118,77,FALSE))","v":""},0,2,null,{"$f":"IF(T82=\"\",\"\",IF(I82=1,VLOOKUP(T82,男子種目コード!$D$44:$E$56,2,FALSE),IF(I82=2,VLOOKUP(T82,女子種目コード!$G$36:$H$44,2,FALSE))))","v":""},{"$f":"IF(T82=\"\",\"\",HLOOKUP(T82,名簿!$AB$8:$BG$118,77,FALSE))","v":""},0,2,null,{"$f":"IF(Y82=\"\",\"\",IF(I82=1,VLOOKUP(Y82,男子種目コード!$D$44:$E$56,2,FALSE),IF(I82=2,VLOOKUP(Y82,女子種目コード!$G$36:$H$44,2,FALSE))))","v":""},{"$f":"IF(Y82=\"\",\"\",HLOOKUP(Y82,名簿!$AB$8:$BG$118,77,FALSE))","v":""},0,2,null,{"$f":"IF(AD82=\"\",\"\",IF(I82=1,VLOOKUP(AD82,男子種目コード!$D$50:$E$50,2,FALSE),IF(I82=2,VLOOKUP(AD82,女子種目コード!$G$40:$H$40,2,FALSE))))","v":""},null,0,2,null,{"$f":"IF(AI82=\"\",\"\",IF(I82=1,VLOOKUP(AI82,男子種目コード!$D$51:$E$51,2,FALSE),IF(I82=2,\"\",)))","v":""},null,0,2,null,null,null,null,null,null,null,null,null,null,null,null,null,null,"",0,0,0,0,null,null,null,0,"",""]
[false,{"$f":"名簿!Q85","v":""},false,null,{"$f":"名簿!E85","v":0},{"$f":"名簿!BR85","v":""},{"$f":"名簿!Z85","v":""},"",{"$f":"名簿!O85","v":""},{"$f":"名簿!I85","v":0},{"$f":"名簿!BT85","v":"0"},{"$f":"名簿!BW85","v":0},{"$f":"名簿!R85","v":""},{"$f":"名簿!$W$9","v":23},null,{"$f":"IF(O83=\"\",\"\",IF(I83=1,VLOOKUP(O83,男子種目コード!$D$44:$E$56,2,FALSE),IF(I83=2,VLOOKUP(O83,女子種目コード!$G$36:$H$44,2,FALSE))))","v":""},{"$f":"IF(O83=\"\",\"\",HLOOKUP(O83,名簿!$AB$8:$BG$118,78,FALSE))","v":""},0,2,null,{"$f":"IF(T83=\"\",\"\",IF(I83=1,VLOOKUP(T83,男子種目コード!$D$44:$E$56,2,FALSE),IF(I83=2,VLOOKUP(T83,女子種目コード!$G$36:$H$44,2,FALSE))))","v":""},{"$f":"IF(T83=\"\",\"\",HLOOKUP(T83,名簿!$AB$8:$BG$118,78,FALSE))","v":""},0,2,null,{"$f":"IF(Y83=\"\",\"\",IF(I83=1,VLOOKUP(Y83,男子種目コード!$D$44:$E$56,2,FALSE),IF(I83=2,VLOOKUP(Y83,女子種目コード!$G$36:$H$44,2,FALSE))))","v":""},{"$f":"IF(Y83=\"\",\"\",HLOOKUP(Y83,名簿!$AB$8:$BG$118,78,FALSE))","v":""},0,2,null,{"$f":"IF(AD83=\"\",\"\",IF(I83=1,VLOOKUP(AD83,男子種目コード!$D$50:$E$50,2,FALSE),IF(I83=2,VLOOKUP(AD83,女子種目コード!$G$40:$H$40,2,FALSE))))","v":""},null,0,2,null,{"$f":"IF(AI83=\"\",\"\",IF(I83=1,VLOOKUP(AI83,男子種目コード!$D$51:$E$51,2,FALSE),IF(I83=2,\"\",)))","v":""},null,0,2,null,null,null,null,null,null,null,null,null,null,null,null,null,null,"",0,0,0,0,null,null,null,0,"",""]
[false,{"$f":"名簿!Q86","v":""},false,null,{"$f":"名簿!E86","v":0},{"$f":"名簿!BR86","v":""},{"$f":"名簿!Z86","v":""},"",{"$f":"名簿!O86","v":""},{"$f":"名簿!I86","v":0},{"$f":"名簿!BT86","v":"0"},{"$f":"名簿!BW86","v":0},{"$f":"名簿!R86","v":""},{"$f":"名簿!$W$9","v":23},null,{"$f":"IF(O84=\"\",\"\",IF(I84=1,VLOOKUP(O84,男子種目コード!$D$44:$E$56,2,FALSE),IF(I84=2,VLOOKUP(O84,女子種目コード!$G$36:$H$44,2,FALSE))))","v":""},{"$f":"IF(O84=\"\",\"\",HLOOKUP(O84,名簿!$AB$8:$BG$118,79,FALSE))","v":""},0,2,null,{"$f":"IF(T84=\"\",\"\",IF(I84=1,VLOOKUP(T84,男子種目コード!$D$44:$E$56,2,FALSE),IF(I84=2,VLOOKUP(T84,女子種目コード!$G$36:$H$44,2,FALSE))))","v":""},{"$f":"IF(T84=\"\",\"\",HLOOKUP(T84,名簿!$AB$8:$BG$118,79,FALSE))","v":""},0,2,null,{"$f":"IF(Y84=\"\",\"\",IF(I84=1,VLOOKUP(Y84,男子種目コード!$D$44:$E$56,2,FALSE),IF(I84=2,VLOOKUP(Y84,女子種目コード!$G$36:$H$44,2,FALSE))))","v":""},{"$f":"IF(Y84=\"\",\"\",HLOOKUP(Y84,名簿!$AB$8:$BG$118,79,FALSE))","v":""},0,2,null,{"$f":"IF(AD84=\"\",\"\",IF(I84=1,VLOOKUP(AD84,男子種目コード!$D$50:$E$50,2,FALSE),IF(I84=2,VLOOKUP(AD84,女子種目コード!$G$40:$H$40,2,FALSE))))","v":""},null,0,2,null,{"$f":"IF(AI84=\"\",\"\",IF(I84=1,VLOOKUP(AI84,男子種目コード!$D$51:$E$51,2,FALSE),IF(I84=2,\"\",)))","v":""},null,0,2,null,null,null,null,null,null,null,null,null,null,null,null,null,null,"",0,0,0,0,null,null,null,0,"",""]
[false,{"$f":"名簿!Q87","v":""},false,null,{"$f":"名簿!E87","v":0},{"$f":"名簿!BR87","v":""},{"$f":"名簿!Z87","v":""},"",{"$f":"名簿!O87","v":""},{"$f":"名簿!I87","v":0},{"$f":"名簿!BT87","v":"0"},{"$f":"名簿!BW87","v":0},{"$f":"名簿!R87","v":""},{"$f":"名簿!$W$9","v":23},null,{"$f":"IF(O85=\"\",\"\",IF(I85=1,VLOOKUP(O85,男子種目コード!$D$44:$E$56,2,FALSE),IF(I85=2,VLOOKUP(O85,女子種目コード!$G$36:$H$44,2,FALSE))))","v":""},{"$f":"IF(O85=\"\",\"\",HLOOKUP(O85,名簿!$AB$8:$BG$118,80,FALSE))","v":""},0,2,null,{"$f":"IF(T85=\"\",\"\",IF(I85=1,VLOOKUP(T85,男子種目コード!$D$44:$E$56,2,FALSE),IF(I85=2,VLOOKUP(T85,女子種目コード!$G$36:$H$44,2,FALSE))))","v":""},{"$f":"IF(T85=\"\",\"\",HLOOKUP(T85,名簿!$AB$8:$BG$118,80,FALSE))","v":""},0,2,null,{"$f":"IF(Y85=\"\",\"\",IF(I85=1,VLOOKUP(Y85,男子種目コード!$D$44:$E$56,2,FALSE),IF(I85=2,VLOOKUP(Y85,女子種目コード!$G$36:$H$44,2,FALSE))))","v":""},{"$f":"IF(Y85=\"\",\"\",HLOOKUP(Y85,名簿!$AB$8:$BG$118,80,FALSE))","v":""},0,2,null,{"$f":"IF(AD85=\"\",\"\",IF(I85=1,VLOOKUP(AD85,男子種目コード!$D$50:$E$50,2,FALSE),IF(I85=2,VLOOKUP(AD85,女子種目コード!$G$40:$H$40,2,FALSE))))","v":""},null,0,2,null,{"$f":"IF(AI85=\"\",\"\",IF(I85=1,VLOOKUP(AI85,男子種目コード!$D$51:$E$51,2,FALSE),IF(I85=2,\"\",)))","v":""},null,0,2,null,null,null,null,null,null,null,null,null,null,null,null,null,null,"",0,0,0,0,null,null,null,0,"",""]
[false,{"$f":"名簿!Q88","v":""},false,null,{"$f":"名簿!E88","v":0},{"$f":"名簿!BR88","v":""},{"$f":"名簿!Z88","v":""},"",{"$f":"名簿!O88","v":""},{"$f":"名簿!I88","v":0},{"$f":"名簿!BT88","v":"0"},{"$f":"名簿!BW88","v":0},{"$f":"名簿!R88","v":""},{"$f":"名簿!$W$9","v":23},null,{"$f":"IF(O86=\"\",\"\",IF(I86=1,VLOOKUP(O86,男子種目コード!$D$44:$E$56,2,FALSE),IF(I86=2,VLOOKUP(O86,女子種目コード!$G$36:$H$44,2,FALSE))))","v":""},{"$f":"IF(O86=\"\",\"\",HLOOKUP(O86,名簿!$AB$8:$BG$118,81,FALSE))","v":""},0,2,null,{"$f":"IF(T86=\"\",\"\",IF(I86=1,VLOOKUP(T86,男子種目コード!$D$44:$E$56,2,FALSE),IF(I86=2,VLOOKUP(T86,女子種目コード!$G$36:$H$44,2,FALSE))))","v":""},{"$f":"IF(T86=\"\",\"\",HLOOKUP(T86,名簿!$AB$8:$BG$118,81,FALSE))","v":""},0,2,null,{"$f":"IF(Y86=\"\",\"\",IF(I86=1,VLOOKUP(Y86,男子種目コード!$D$44:$E$56,2,FALSE),IF(I86=2,VLOOKUP(Y86,女子種目コード!$G$36:$H$44,2,FALSE))))","v":""},{"$f":"IF(Y86=\"\",\"\",HLOOKUP(Y86,名簿!$AB$8:$BG$118,81,FALSE))","v":""},0,2,null,{"$f":"IF(AD86=\"\",\"\",IF(I86=1,VLOOKUP(AD86,男子種目コード!$D$50:$E$50,2,FALSE),IF(I86=2,VLOOKUP(AD86,女子種目コード!$G$40:$H$40,2,FALSE))))","v":""},null,0,2,null,{"$f":"IF(AI86=\"\",\"\",IF(I86=1,VLOOKUP(AI86,男子種目コード!$D$51:$E$51,2,FALSE),IF(I86=2,\"\",)))","v":""},null,0,2,null,null,null,null,null,null,null,null,null,null,null,null,null,null,"",0,0,0,0,null,null,null,0,"",""]
[false,{"$f":"名簿!Q89","v":""},false,null,{"$f":"名簿!E89","v":0},{"$f":"名簿!BR89","v":""},{"$f":"名簿!Z89","v":""},"",{"$f":"名簿!O89","v":""},{"$f":"名簿!I89","v":0},{"$f":"名簿!BT89","v":"0"},{"$f":"名簿!BW89","v":0},{"$f":"名簿!R89","v":""},{"$f":"名簿!$W$9","v":23},null,{"$f":"IF(O87=\"\",\"\",IF(I87=1,VLOOKUP(O87,男子種目コード!$D$44:$E$56,2,FALSE),IF(I87=2,VLOOKUP(O87,女子種目コード!$G$36:$H$44,2,FALSE))))","v":""},{"$f":"IF(O87=\"\",\"\",HLOOKUP(O87,名簿!$AB$8:$BG$118,82,FALSE))","v":""},0,2,null,{"$f":"IF(T87=\"\",\"\",IF(I87=1,VLOOKUP(T87,男子種目コード!$D$44:$E$56,2,FALSE),IF(I87=2,VLOOKUP(T87,女子種目コード!$G$36:$H$44,2,FALSE))))","v":""},{"$f":"IF(T87=\"\",\"\",HLOOKUP(T87,名簿!$AB$8:$BG$118,82,FALSE))","v":""},0,2,null,{"$f":"IF(Y87=\"\",\"\",IF(I87=1,VLOOKUP(Y87,男子種目コード!$D$44:$E$56,2,FALSE),IF(I87=2,VLOOKUP(Y87,女子種目コード!$G$36:$H$44,2,FALSE))))","v":""},{"$f":"IF(Y87=\"\",\"\",HLOOKUP(Y87,名簿!$AB$8:$BG$118,82,FALSE))","v":""},0,2,null,{"$f":"IF(AD87=\"\",\"\",IF(I87=1,VLOOKUP(AD87,男子種目コード!$D$50:$E$50,2,FALSE),IF(I87=2,VLOOKUP(AD87,女子種目コード!$G$40:$H$40,2,FALSE))))","v":""},null,0,2,null,{"$f":"IF(AI87=\"\",\"\",IF(I87=1,VLOOKUP(AI87,男子種目コード!$D$51:$E$51,2,FALSE),IF(I87=2,\"\",)))","v":""},null,0,2,null,null,null,null,null,null,null,null,null,null,null,null,null,null,"",0,0,0,0,null,null,null,0,"",""]
[false,{"$f":"名簿!Q90","v":""},false,null,{"$f":"名簿!E90","v":0},{"$f":"名簿!BR90","v":""},{"$f":"名簿!Z90","v":""},"",{"$f":"名簿!O90","v":""},{"$f":"名簿!I90","v":0},{"$f":"名簿!BT90","v":"0"},{"$f":"名簿!BW90","v":0},{"$f":"名簿!R90","v":""},{"$f":"名簿!$W$9","v":23},null,{"$f":"IF(O88=\"\",\"\",IF(I88=1,VLOOKUP(O88,男子種目コード!$D$44:$E$56,2,FALSE),IF(I88=2,VLOOKUP(O88,女子種目コード!$G$36:$H$44,2,FALSE))))","v":""},{"$f":"IF(O88=\"\",\"\",HLOOKUP(O88,名簿!$AB$8:$BG$118,83,FALSE))","v":""},0,2,null,{"$f":"IF(T88=\"\",\"\",IF(I88=1,VLOOKUP(T88,男子種目コード!$D$44:$E$56,2,FALSE),IF(I88=2,VLOOKUP(T88,女子種目コード!$G$36:$H$44,2,FALSE))))","v":""},{"$f":"IF(T88=\"\",\"\",HLOOKUP(T88,名簿!$AB$8:$BG$118,83,FALSE))","v":""},0,2,null,{"$f":"IF(Y88=\"\",\"\",IF(I88=1,VLOOKUP(Y88,男子種目コード!$D$44:$E$56,2,FALSE),IF(I88=2,VLOOKUP(Y88,女子種目コード!$G$36:$H$44,2,FALSE))))","v":""},{"$f":"IF(Y88=\"\",\"\",HLOOKUP(Y88,名簿!$AB$8:$BG$118,83,FALSE))","v":""},0,2,null,{"$f":"IF(AD88=\"\",\"\",IF(I88=1,VLOOKUP(AD88,男子種目コード!$D$50:$E$50,2,FALSE),IF(I88=2,VLOOKUP(AD88,女子種目コード!$G$40:$H$40,2,FALSE))))","v":""},null,0,2,null,{"$f":"IF(AI88=\"\",\"\",IF(I88=1,VLOOKUP(AI88,男子種目コード!$D$51:$E$51,2,FALSE),IF(I88=2,\"\",)))","v":""},null,0,2,null,null,null,null,null,null,null,null,null,null,null,null,null,null,"",0,0,0,0,null,null,null,0,"",""]
[false,{"$f":"名簿!Q91","v":""},false,null,{"$f":"名簿!E91","v":0},{"$f":"名簿!BR91","v":""},{"$f":"名簿!Z91","v":""},"",{"$f":"名簿!O91","v":""},{"$f":"名簿!I91","v":0},{"$f":"名簿!BT91","v":"0"},{"$f":"名簿!BW91","v":0},{"$f":"名簿!R91","v":""},{"$f":"名簿!$W$9","v":23},null,{"$f":"IF(O89=\"\",\"\",IF(I89=1,VLOOKUP(O89,男子種目コード!$D$44:$E$56,2,FALSE),IF(I89=2,VLOOKUP(O89,女子種目コード!$G$36:$H$44,2,FALSE))))","v":""},{"$f":"IF(O89=\"\",\"\",HLOOKUP(O89,名簿!$AB$8:$BG$118,84,FALSE))","v":""},0,2,null,{"$f":"IF(T89=\"\",\"\",IF(I89=1,VLOOKUP(T89,男子種目コード!$D$44:$E$56,2,FALSE),IF(I89=2,VLOOKUP(T89,女子種目コード!$G$36:$H$44,2,FALSE))))","v":""},{"$f":"IF(T89=\"\",\"\",HLOOKUP(T89,名簿!$AB$8:$BG$118,84,FALSE))","v":""},0,2,null,{"$f":"IF(Y89=\"\",\"\",IF(I89=1,VLOOKUP(Y89,男子種目コード!$D$44:$E$56,2,FALSE),IF(I89=2,VLOOKUP(Y89,女子種目コード!$G$36:$H$44,2,FALSE))))","v":""},{"$f":"IF(Y89=\"\",\"\",HLOOKUP(Y89,名簿!$AB$8:$BG$118,84,FALSE))","v":""},0,2,null,{"$f":"IF(AD89=\"\",\"\",IF(I89=1,VLOOKUP(AD89,男子種目コード!$D$50:$E$50,2,FALSE),IF(I89=2,VLOOKUP(AD89,女子種目コード!$G$40:$H$40,2,FALSE))))","v":""},null,0,2,null,{"$f":"IF(AI89=\"\",\"\",IF(I89=1,VLOOKUP(AI89,男子種目コード!$D$51:$E$51,2,FALSE),IF(I89=2,\"\",)))","v":""},null,0,2,null,null,null,null,null,null,null,null,null,null,null,null,null,null,"",0,0,0,0,null,null,null,0,"",""]
[false,{"$f":"名簿!Q92","v":""},false,null,{"$f":"名簿!E92","v":0},{"$f":"名簿!BR92","v":""},{"$f":"名簿!Z92","v":""},"",{"$f":"名簿!O92","v":""},{"$f":"名簿!I92","v":0},{"$f":"名簿!BT92","v":"0"},{"$f":"名簿!BW92","v":0},{"$f":"名簿!R92","v":""},{"$f":"名簿!$W$9","v":23},null,{"$f":"IF(O90=\"\",\"\",IF(I90=1,VLOOKUP(O90,男子種目コード!$D$44:$E$56,2,FALSE),IF(I90=2,VLOOKUP(O90,女子種目コード!$G$36:$H$44,2,FALSE))))","v":""},{"$f":"IF(O90=\"\",\"\",HLOOKUP(O90,名簿!$AB$8:$BG$118,85,FALSE))","v":""},0,2,null,{"$f":"IF(T90=\"\",\"\",IF(I90=1,VLOOKUP(T90,男子種目コード!$D$44:$E$56,2,FALSE),IF(I90=2,VLOOKUP(T90,女子種目コード!$G$36:$H$44,2,FALSE))))","v":""},{"$f":"IF(T90=\"\",\"\",HLOOKUP(T90,名簿!$AB$8:$BG$118,85,FALSE))","v":""},0,2,null,{"$f":"IF(Y90=\"\",\"\",IF(I90=1,VLOOKUP(Y90,男子種目コード!$D$44:$E$56,2,FALSE),IF(I90=2,VLOOKUP(Y90,女子種目コード!$G$36:$H$44,2,FALSE))))","v":""},{"$f":"IF(Y90=\"\",\"\",HLOOKUP(Y90,名簿!$AB$8:$BG$118,85,FALSE))","v":""},0,2,null,{"$f":"IF(AD90=\"\",\"\",IF(I90=1,VLOOKUP(AD90,男子種目コード!$D$50:$E$50,2,FALSE),IF(I90=2,VLOOKUP(AD90,女子種目コード!$G$40:$H$40,2,FALSE))))","v":""},null,0,2,null,{"$f":"IF(AI90=\"\",\"\",IF(I90=1,VLOOKUP(AI90,男子種目コード!$D$51:$E$51,2,FALSE),IF(I90=2,\"\",)))","v":""},null,0,2,null,null,null,null,null,null,null,null,null,null,null,null,null,null,"",0,0,0,0,null,null,null,0,"",""]
[false,{"$f":"名簿!Q93","v":""},false,null,{"$f":"名簿!E93","v":0},{"$f":"名簿!BR93","v":""},{"$f":"名簿!Z93","v":""},"",{"$f":"名簿!O93","v":""},{"$f":"名簿!I93","v":0},{"$f":"名簿!BT93","v":"0"},{"$f":"名簿!BW93","v":0},{"$f":"名簿!R93","v":""},{"$f":"名簿!$W$9","v":23},null,{"$f":"IF(O91=\"\",\"\",IF(I91=1,VLOOKUP(O91,男子種目コード!$D$44:$E$56,2,FALSE),IF(I91=2,VLOOKUP(O91,女子種目コード!$G$36:$H$44,2,FALSE))))","v":""},{"$f":"IF(O91=\"\",\"\",HLOOKUP(O91,名簿!$AB$8:$BG$118,86,FALSE))","v":""},0,2,null,{"$f":"IF(T91=\"\",\"\",IF(I91=1,VLOOKUP(T91,男子種目コード!$D$44:$E$56,2,FALSE),IF(I91=2,VLOOKUP(T91,女子種目コード!$G$36:$H$44,2,FALSE))))","v":""},{"$f":"IF(T91=\"\",\"\",HLOOKUP(T91,名簿!$AB$8:$BG$118,86,FALSE))","v":""},0,2,null,{"$f":"IF(Y91=\"\",\"\",IF(I91=1,VLOOKUP(Y91,男子種目コード!$D$44:$E$56,2,FALSE),IF(I91=2,VLOOKUP(Y91,女子種目コード!$G$36:$H$44,2,FALSE))))","v":""},{"$f":"IF(Y91=\"\",\"\",HLOOKUP(Y91,名簿!$AB$8:$BG$118,86,FALSE))","v":""},0,2,null,{"$f":"IF(AD91=\"\",\"\",IF(I91=1,VLOOKUP(AD91,男子種目コード!$D$50:$E$50,2,FALSE),IF(I91=2,VLOOKUP(AD91,女子種目コード!$G$40:$H$40,2,FALSE))))","v":""},null,0,2,null,{"$f":"IF(AI91=\"\",\"\",IF(I91=1,VLOOKUP(AI91,男子種目コード!$D$51:$E$51,2,FALSE),IF(I91=2,\"\",)))","v":""},null,0,2,null,null,null,null,null,null,null,null,null,null,null,null,null,null,"",0,0,0,0,null,null,null,0,"",""]
[false,{"$f":"名簿!Q94","v":""},false,null,{"$f":"名簿!E94","v":0},{"$f":"名簿!BR94","v":""},{"$f":"名簿!Z94","v":""},"",{"$f":"名簿!O94","v":""},{"$f":"名簿!I94","v":0},{"$f":"名簿!BT94","v":"0"},{"$f":"名簿!BW94","v":0},{"$f":"名簿!R94","v":""},{"$f":"名簿!$W$9","v":23},null,{"$f":"IF(O92=\"\",\"\",IF(I92=1,VLOOKUP(O92,男子種目コード!$D$44:$E$56,2,FALSE),IF(I92=2,VLOOKUP(O92,女子種目コード!$G$36:$H$44,2,FALSE))))","v":""},{"$f":"IF(O92=\"\",\"\",HLOOKUP(O92,名簿!$AB$8:$BG$118,87,FALSE))","v":""},0,2,null,{"$f":"IF(T92=\"\",\"\",IF(I92=1,VLOOKUP(T92,男子種目コード!$D$44:$E$56,2,FALSE),IF(I92=2,VLOOKUP(T92,女子種目コード!$G$36:$H$44,2,FALSE))))","v":""},{"$f":"IF(T92=\"\",\"\",HLOOKUP(T92,名簿!$AB$8:$BG$118,87,FALSE))","v":""},0,2,null,{"$f":"IF(Y92=\"\",\"\",IF(I92=1,VLOOKUP(Y92,男子種目コード!$D$44:$E$56,2,FALSE),IF(I92=2,VLOOKUP(Y92,女子種目コード!$G$36:$H$44,2,FALSE))))","v":""},{"$f":"IF(Y92=\"\",\"\",HLOOKUP(Y92,名簿!$AB$8:$BG$118,87,FALSE))","v":""},0,2,null,{"$f":"IF(AD92=\"\",\"\",IF(I92=1,VLOOKUP(AD92,男子種目コード!$D$50:$E$50,2,FALSE),IF(I92=2,VLOOKUP(AD92,女子種目コード!$G$40:$H$40,2,FALSE))))","v":""},null,0,2,null,{"$f":"IF(AI92=\"\",\"\",IF(I92=1,VLOOKUP(AI92,男子種目コード!$D$51:$E$51,2,FALSE),IF(I92=2,\"\",)))","v":""},null,0,2,null,null,null,null,null,null,null,null,null,null,null,null,null,null,"",0,0,0,0,null,null,null,0,"",""]
[false,{"$f":"名簿!Q95","v":""},false,null,{"$f":"名簿!E95","v":0},{"$f":"名簿!BR95","v":""},{"$f":"名簿!Z95","v":""},"",{"$f":"名簿!O95","v":""},{"$f":"名簿!I95","v":0},{"$f":"名簿!BT95","v":"0"},{"$f":"名簿!BW95","v":0},{"$f":"名簿!R95","v":""},{"$f":"名簿!$W$9","v":23},null,{"$f":"IF(O93=\"\",\"\",IF(I93=1,VLOOKUP(O93,男子種目コード!$D$44:$E$56,2,FALSE),IF(I93=2,VLOOKUP(O93,女子種目コード!$G$36:$H$44,2,FALSE))))","v":""},{"$f":"IF(O93=\"\",\"\",HLOOKUP(O93,名簿!$AB$8:$BG$118,88,FALSE))","v":""},0,2,null,{"$f":"IF(T93=\"\",\"\",IF(I93=1,VLOOKUP(T93,男子種目コード!$D$44:$E$56,2,FALSE),IF(I93=2,VLOOKUP(T93,女子種目コード!$G$36:$H$44,2,FALSE))))","v":""},{"$f":"IF(T93=\"\",\"\",HLOOKUP(T93,名簿!$AB$8:$BG$118,88,FALSE))","v":""},0,2,null,{"$f":"IF(Y93=\"\",\"\",IF(I93=1,VLOOKUP(Y93,男子種目コード!$D$44:$E$56,2,FALSE),IF(I93=2,VLOOKUP(Y93,女子種目コード!$G$36:$H$44,2,FALSE))))","v":""},{"$f":"IF(Y93=\"\",\"\",HLOOKUP(Y93,名簿!$AB$8:$BG$118,88,FALSE))","v":""},0,2,null,{"$f":"IF(AD93=\"\",\"\",IF(I93=1,VLOOKUP(AD93,男子種目コード!$D$50:$E$50,2,FALSE),IF(I93=2,VLOOKUP(AD93,女子種目コード!$G$40:$H$40,2,FALSE))))","v":""},null,0,2,null,{"$f":"IF(AI93=\"\",\"\",IF(I93=1,VLOOKUP(AI93,男子種目コード!$D$51:$E$51,2,FALSE),IF(I93=2,\"\",)))","v":""},null,0,2,null,null,null,null,null,null,null,null,null,null,null,null,null,null,"",0,0,0,0,null,null,null,0,"",""]
[false,{"$f":"名簿!Q96","v":""},false,null,{"$f":"名簿!E96","v":0},{"$f":"名簿!BR96","v":""},{"$f":"名簿!Z96","v":""},"",{"$f":"名簿!O96","v":""},{"$f":"名簿!I96","v":0},{"$f":"名簿!BT96","v":"0"},{"$f":"名簿!BW96","v":0},{"$f":"名簿!R96","v":""},{"$f":"名簿!$W$9","v":23},null,{"$f":"IF(O94=\"\",\"\",IF(I94=1,VLOOKUP(O94,男子種目コード!$D$44:$E$56,2,FALSE),IF(I94=2,VLOOKUP(O94,女子種目コード!$G$36:$H$44,2,FALSE))))","v":""},{"$f":"IF(O94=\"\",\"\",HLOOKUP(O94,名簿!$AB$8:$BG$118,89,FALSE))","v":""},0,2,null,{"$f":"IF(T94=\"\",\"\",IF(I94=1,VLOOKUP(T94,男子種目コード!$D$44:$E$56,2,FALSE),IF(I94=2,VLOOKUP(T94,女子種目コード!$G$36:$H$44,2,FALSE))))","v":""},{"$f":"IF(T94=\"\",\"\",HLOOKUP(T94,名簿!$AB$8:$BG$118,89,FALSE))","v":""},0,2,null,{"$f":"IF(Y94=\"\",\"\",IF(I94=1,VLOOKUP(Y94,男子種目コード!$D$44:$E$56,2,FALSE),IF(I94=2,VLOOKUP(Y94,女子種目コード!$G$36:$H$44,2,FALSE))))","v":""},{"$f":"IF(Y94=\"\",\"\",HLOOKUP(Y94,名簿!$AB$8:$BG$118,89,FALSE))","v":""},0,2,null,{"$f":"IF(AD94=\"\",\"\",IF(I94=1,VLOOKUP(AD94,男子種目コード!$D$50:$E$50,2,FALSE),IF(I94=2,VLOOKUP(AD94,女子種目コード!$G$40:$H$40,2,FALSE))))","v":""},null,0,2,null,{"$f":"IF(AI94=\"\",\"\",IF(I94=1,VLOOKUP(AI94,男子種目コード!$D$51:$E$51,2,FALSE),IF(I94=2,\"\",)))","v":""},null,0,2,null,null,null,null,null,null,null,null,null,null,null,null,null,null,"",0,0,0,0,null,null,null,0,"",""]
[false,{"$f":"名簿!Q97","v":""},false,null,{"$f":"名簿!E97","v":0},{"$f":"名簿!BR97","v":""},{"$f":"名簿!Z97","v":""},"",{"$f":"名簿!O97","v":""},{"$f":"名簿!I97","v":0},{"$f":"名簿!BT97","v":"0"},{"$f":"名簿!BW97","v":0},{"$f":"名簿!R97","v":""},{"$f":"名簿!$W$9","v":23},null,{"$f":"IF(O95=\"\",\"\",IF(I95=1,VLOOKUP(O95,男子種目コード!$D$44:$E$56,2,FALSE),IF(I95=2,VLOOKUP(O95,女子種目コード!$G$36:$H$44,2,FALSE))))","v":""},{"$f":"IF(O95=\"\",\"\",HLOOKUP(O95,名簿!$AB$8:$BG$118,90,FALSE))","v":""},0,2,null,{"$f":"IF(T95=\"\",\"\",IF(I95=1,VLOOKUP(T95,男子種目コード!$D$44:$E$56,2,FALSE),IF(I95=2,VLOOKUP(T95,女子種目コード!$G$36:$H$44,2,FALSE))))","v":""},{"$f":"IF(T95=\"\",\"\",HLOOKUP(T95,名簿!$AB$8:$BG$118,90,FALSE))","v":""},0,2,null,{"$f":"IF(Y95=\"\",\"\",IF(I95=1,VLOOKUP(Y95,男子種目コード!$D$44:$E$56,2,FALSE),IF(I95=2,VLOOKUP(Y95,女子種目コード!$G$36:$H$44,2,FALSE))))","v":""},{"$f":"IF(Y95=\"\",\"\",HLOOKUP(Y95,名簿!$AB$8:$BG$118,90,FALSE))","v":""},0,2,null,{"$f":"IF(AD95=\"\",\"\",IF(I95=1,VLOOKUP(AD95,男子種目コード!$D$50:$E$50,2,FALSE),IF(I95=2,VLOOKUP(AD95,女子種目コード!$G$40:$H$40,2,FALSE))))","v":""},null,0,2,null,{"$f":"IF(AI95=\"\",\"\",IF(I95=1,VLOOKUP(AI95,男子種目コード!$D$51:$E$51,2,FALSE),IF(I95=2,\"\",)))","v":""},null,0,2,null,null,null,null,null,null,null,null,null,null,null,null,null,null,"",0,0,0,0,null,null,null,0,"",""]
[false,{"$f":"名簿!Q98","v":""},false,null,{"$f":"名簿!E98","v":0},{"$f":"名簿!BR98","v":""},{"$f":"名簿!Z98","v":""},"",{"$f":"名簿!O98","v":""},{"$f":"名簿!I98","v":0},{"$f":"名簿!BT98","v":"0"},{"$f":"名簿!BW98","v":0},{"$f":"名簿!R98","v":""},{"$f":"名簿!$W$9","v":23},null,{"$f":"IF(O96=\"\",\"\",IF(I96=1,VLOOKUP(O96,男子種目コード!$D$44:$E$56,2,FALSE),IF(I96=2,VLOOKUP(O96,女子種目コード!$G$36:$H$44,2,FALSE))))","v":""},{"$f":"IF(O96=\"\",\"\",HLOOKUP(O96,名簿!$AB$8:$BG$118,91,FALSE))","v":""},0,2,null,{"$f":"IF(T96=\"\",\"\",IF(I96=1,VLOOKUP(T96,男子種目コード!$D$44:$E$56,2,FALSE),IF(I96=2,VLOOKUP(T96,女子種目コード!$G$36:$H$44,2,FALSE))))","v":""},{"$f":"IF(T96=\"\",\"\",HLOOKUP(T96,名簿!$AB$8:$BG$118,91,FALSE))","v":""},0,2,null,{"$f":"IF(Y96=\"\",\"\",IF(I96=1,VLOOKUP(Y96,男子種目コード!$D$44:$E$56,2,FALSE),IF(I96=2,VLOOKUP(Y96,女子種目コード!$G$36:$H$44,2,FALSE))))","v":""},{"$f":"IF(Y96=\"\",\"\",HLOOKUP(Y96,名簿!$AB$8:$BG$118,91,FALSE))","v":""},0,2,null,{"$f":"IF(AD96=\"\",\"\",IF(I96=1,VLOOKUP(AD96,男子種目コード!$D$50:$E$50,2,FALSE),IF(I96=2,VLOOKUP(AD96,女子種目コード!$G$40:$H$40,2,FALSE))))","v":""},null,0,2,null,{"$f":"IF(AI96=\"\",\"\",IF(I96=1,VLOOKUP(AI96,男子種目コード!$D$51:$E$51,2,FALSE),IF(I96=2,\"\",)))","v":""},null,0,2,null,null,null,null,null,null,null,null,null,null,null,null,null,null,"",0,0,0,0,null,null,null,0,"",""]
[false,{"$f":"名簿!Q99","v":""},false,null,{"$f":"名簿!E99","v":0},{"$f":"名簿!BR99","v":""},{"$f":"名簿!Z99","v":""},"",{"$f":"名簿!O99","v":""},{"$f":"名簿!I99","v":0},{"$f":"名簿!BT99","v":"0"},{"$f":"名簿!BW99","v":0},{"$f":"名簿!R99","v":""},{"$f":"名簿!$W$9","v":23},null,{"$f":"IF(O97=\"\",\"\",IF(I97=1,VLOOKUP(O97,男子種目コード!$D$44:$E$56,2,FALSE),IF(I97=2,VLOOKUP(O97,女子種目コード!$G$36:$H$44,2,FALSE))))","v":""},{"$f":"IF(O97=\"\",\"\",HLOOKUP(O97,名簿!$AB$8:$BG$118,92,FALSE))","v":""},0,2,null,{"$f":"IF(T97=\"\",\"\",IF(I97=1,VLOOKUP(T97,男子種目コード!$D$44:$E$56,2,FALSE),IF(I97=2,VLOOKUP(T97,女子種目コード!$G$36:$H$44,2,FALSE))))","v":""},{"$f":"IF(T97=\"\",\"\",HLOOKUP(T97,名簿!$AB$8:$BG$118,92,FALSE))","v":""},0,2,null,{"$f":"IF(Y97=\"\",\"\",IF(I97=1,VLOOKUP(Y97,男子種目コード!$D$44:$E$56,2,FALSE),IF(I97=2,VLOOKUP(Y97,女子種目コード!$G$36:$H$44,2,FALSE))))","v":""},{"$f":"IF(Y97=\"\",\"\",HLOOKUP(Y97,名簿!$AB$8:$BG$118,92,FALSE))","v":""},0,2,null,{"$f":"IF(AD97=\"\",\"\",IF(I97=1,VLOOKUP(AD97,男子種目コード!$D$50:$E$50,2,FALSE),IF(I97=2,VLOOKUP(AD97,女子種目コード!$G$40:$H$40,2,FALSE))))","v":""},null,0,2,null,{"$f":"IF(AI97=\"\",\"\",IF(I97=1,VLOOKUP(AI97,男子種目コード!$D$51:$E$51,2,FALSE),IF(I97=2,\"\",)))","v":""},null,0,2,null,null,null,null,null,null,null,null,null,null,null,null,null,null,"",0,0,0,0,null,null,null,0,"",""]
[false,{"$f":"名簿!Q100","v":""},false,null,{"$f":"名簿!E100","v":0},{"$f":"名簿!BR100","v":""},{"$f":"名簿!Z100","v":""},"",{"$f":"名簿!O100","v":""},{"$f":"名簿!I100","v":0},{"$f":"名簿!BT100","v":"0"},{"$f":"名簿!BW100","v":0},{"$f":"名簿!R100","v":""},{"$f":"名簿!$W$9","v":23},null,{"$f":"IF(O98=\"\",\"\",IF(I98=1,VLOOKUP(O98,男子種目コード!$D$44:$E$56,2,FALSE),IF(I98=2,VLOOKUP(O98,女子種目コード!$G$36:$H$44,2,FALSE))))","v":""},{"$f":"IF(O98=\"\",\"\",HLOOKUP(O98,名簿!$AB$8:$BG$118,93,FALSE))","v":""},0,2,null,{"$f":"IF(T98=\"\",\"\",IF(I98=1,VLOOKUP(T98,男子種目コード!$D$44:$E$56,2,FALSE),IF(I98=2,VLOOKUP(T98,女子種目コード!$G$36:$H$44,2,FALSE))))","v":""},{"$f":"IF(T98=\"\",\"\",HLOOKUP(T98,名簿!$AB$8:$BG$118,93,FALSE))","v":""},0,2,null,{"$f":"IF(Y98=\"\",\"\",IF(I98=1,VLOOKUP(Y98,男子種目コード!$D$44:$E$56,2,FALSE),IF(I98=2,VLOOKUP(Y98,女子種目コード!$G$36:$H$44,2,FALSE))))","v":""},{"$f":"IF(Y98=\"\",\"\",HLOOKUP(Y98,名簿!$AB$8:$BG$118,93,FALSE))","v":""},0,2,null,{"$f":"IF(AD98=\"\",\"\",IF(I98=1,VLOOKUP(AD98,男子種目コード!$D$50:$E$50,2,FALSE),IF(I98=2,VLOOKUP(AD98,女子種目コード!$G$40:$H$40,2,FALSE))))","v":""},null,0,2,null,{"$f":"IF(AI98=\"\",\"\",IF(I98=1,VLOOKUP(AI98,男子種目コード!$D$51:$E$51,2,FALSE),IF(I98=2,\"\",)))","v":""},null,0,2,null,null,null,null,null,null,null,null,null,null,null,null,null,null,"",0,0,0,0,null,null,null,0,"",""]
[false,{"$f":"名簿!Q101","v":""},false,null,{"$f":"名簿!E101","v":0},{"$f":"名簿!BR101","v":""},{"$f":"名簿!Z101","v":""},"",{"$f":"名簿!O101","v":""},{"$f":"名簿!I101","v":0},{"$f":"名簿!BT101","v":"0"},{"$f":"名簿!BW101","v":0},{"$f":"名簿!R101","v":""},{"$f":"名簿!$W$9","v":23},null,{"$f":"IF(O99=\"\",\"\",IF(I99=1,VLOOKUP(O99,男子種目コード!$D$44:$E$56,2,FALSE),IF(I99=2,VLOOKUP(O99,女子種目コード!$G$36:$H$44,2,FALSE))))","v":""},{"$f":"IF(O99=\"\",\"\",HLOOKUP(O99,名簿!$AB$8:$BG$118,94,FALSE))","v":""},0,2,null,{"$f":"IF(T99=\"\",\"\",IF(I99=1,VLOOKUP(T99,男子種目コード!$D$44:$E$56,2,FALSE),IF(I99=2,VLOOKUP(T99,女子種目コード!$G$36:$H$44,2,FALSE))))","v":""},{"$f":"IF(T99=\"\",\"\",HLOOKUP(T99,名簿!$AB$8:$BG$118,94,FALSE))","v":""},0,2,null,{"$f":"IF(Y99=\"\",\"\",IF(I99=1,VLOOKUP(Y99,男子種目コード!$D$44:$E$56,2,FALSE),IF(I99=2,VLOOKUP(Y99,女子種目コード!$G$36:$H$44,2,FALSE))))","v":""},{"$f":"IF(Y99=\"\",\"\",HLOOKUP(Y99,名簿!$AB$8:$BG$118,94,FALSE))","v":""},0,2,null,{"$f":"IF(AD99=\"\",\"\",IF(I99=1,VLOOKUP(AD99,男子種目コード!$D$50:$E$50,2,FALSE),IF(I99=2,VLOOKUP(AD99,女子種目コード!$G$40:$H$40,2,FALSE))))","v":""},null,0,2,null,{"$f":"IF(AI99=\"\",\"\",IF(I99=1,VLOOKUP(AI99,男子種目コード!$D$51:$E$51,2,FALSE),IF(I99=2,\"\",)))","v":""},null,0,2,null,null,null,null,null,null,null,null,null,null,null,null,null,null,"",0,0,0,0,null,null,null,0,"",""]
[false,{"$f":"名簿!Q102","v":""},false,null,{"$f":"名簿!E102","v":0},{"$f":"名簿!BR102","v":""},{"$f":"名簿!Z102","v":""},"",{"$f":"名簿!O102","v":""},{"$f":"名簿!I102","v":0},{"$f":"名簿!BT102","v":"0"},{"$f":"名簿!BW102","v":0},{"$f":"名簿!R102","v":""},{"$f":"名簿!$W$9","v":23},null,{"$f":"IF(O100=\"\",\"\",IF(I100=1,VLOOKUP(O100,男子種目コード!$D$44:$E$56,2,FALSE),IF(I100=2,VLOOKUP(O100,女子種目コード!$G$36:$H$44,2,FALSE))))","v":""},{"$f":"IF(O100=\"\",\"\",HLOOKUP(O100,名簿!$AB$8:$BG$118,95,FALSE))","v":""},0,2,null,{"$f":"IF(T100=\"\",\"\",IF(I100=1,VLOOKUP(T100,男子種目コード!$D$44:$E$56,2,FALSE),IF(I100=2,VLOOKUP(T100,女子種目コード!$G$36:$H$44,2,FALSE))))","v":""},{"$f":"IF(T100=\"\",\"\",HLOOKUP(T100,名簿!$AB$8:$BG$118,95,FALSE))","v":""},0,2,null,{"$f":"IF(Y100=\"\",\"\",IF(I100=1,VLOOKUP(Y100,男子種目コード!$D$44:$E$56,2,FALSE),IF(I100=2,VLOOKUP(Y100,女子種目コード!$G$36:$H$44,2,FALSE))))","v":""},{"$f":"IF(Y100=\"\",\"\",HLOOKUP(Y100,名簿!$AB$8:$BG$118,95,FALSE))","v":""},0,2,null,{"$f":"IF(AD100=\"\",\"\",IF(I100=1,VLOOKUP(AD100,男子種目コード!$D$50:$E$50,2,FALSE),IF(I100=2,VLOOKUP(AD100,女子種目コード!$G$40:$H$40,2,FALSE))))","v":""},null,0,2,null,{"$f":"IF(AI100=\"\",\"\",IF(I100=1,VLOOKUP(AI100,男子種目コード!$D$51:$E$51,2,FALSE),IF(I100=2,\"\",)))","v":""},null,0,2,null,null,null,null,null,null,null,null,null,null,null,null,null,null,"",0,0,0,0,null,null,null,0,"",""]
[false,{"$f":"名簿!Q103","v":""},false,null,{"$f":"名簿!E103","v":0},{"$f":"名簿!BR103","v":""},{"$f":"名簿!Z103","v":""},"",{"$f":"名簿!O103","v":""},{"$f":"名簿!I103","v":0},{"$f":"名簿!BT103","v":"0"},{"$f":"名簿!BW103","v":0},{"$f":"名簿!R103","v":""},{"$f":"名簿!$W$9","v":23},null,{"$f":"IF(O101=\"\",\"\",IF(I101=1,VLOOKUP(O101,男子種目コード!$D$44:$E$56,2,FALSE),IF(I101=2,VLOOKUP(O101,女子種目コード!$G$36:$H$44,2,FALSE))))","v":""},{"$f":"IF(O101=\"\",\"\",HLOOKUP(O101,名簿!$AB$8:$BG$118,96,FALSE))","v":""},0,2,null,{"$f":"IF(T101=\"\",\"\",IF(I101=1,VLOOKUP(T101,男子種目コード!$D$44:$E$56,2,FALSE),IF(I101=2,VLOOKUP(T101,女子種目コード!$G$36:$H$44,2,FALSE))))","v":""},{"$f":"IF(T101=\"\",\"\",HLOOKUP(T101,名簿!$AB$8:$BG$118,96,FALSE))","v":""},0,2,null,{"$f":"IF(Y101=\"\",\"\",IF(I101=1,VLOOKUP(Y101,男子種目コード!$D$44:$E$56,2,FALSE),IF(I101=2,VLOOKUP(Y101,女子種目コード!$G$36:$H$44,2,FALSE))))","v":""},{"$f":"IF(Y101=\"\",\"\",HLOOKUP(Y101,名簿!$AB$8:$BG$118,96,FALSE))","v":""},0,2,null,{"$f":"IF(AD101=\"\",\"\",IF(I101=1,VLOOKUP(AD101,男子種目コード!$D$50:$E$50,2,FALSE),IF(I101=2,VLOOKUP(AD101,女子種目コード!$G$40:$H$40,2,FALSE))))","v":""},null,0,2,null,{"$f":"IF(AI101=\"\",\"\",IF(I101=1,VLOOKUP(AI101,男子種目コード!$D$51:$E$51,2,FALSE),IF(I101=2,\"\",)))","v":""},null,0,2,null,null,null,null,null,null,null,null,null,null,null,null,null,null,"",0,0,0,0,null,null,null,0,"",""]
[false,{"$f":"名簿!Q104","v":""},false,null,{"$f":"名簿!E104","v":0},{"$f":"名簿!BR104","v":""},{"$f":"名簿!Z104","v":""},"",{"$f":"名簿!O104","v":""},{"$f":"名簿!I104","v":0},{"$f":"名簿!BT104","v":"0"},{"$f":"名簿!BW104","v":0},{"$f":"名簿!R104","v":""},{"$f":"名簿!$W$9","v":23},null,{"$f":"IF(O102=\"\",\"\",IF(I102=1,VLOOKUP(O102,男子種目コード!$D$44:$E$56,2,FALSE),IF(I102=2,VLOOKUP(O102,女子種目コード!$G$36:$H$44,2,FALSE))))","v":""},{"$f":"IF(O102=\"\",\"\",HLOOKUP(O102,名簿!$AB$8:$BG$118,97,FALSE))","v":""},0,2,null,{"$f":"IF(T102=\"\",\"\",IF(I102=1,VLOOKUP(T102,男子種目コード!$D$44:$E$56,2,FALSE),IF(I102=2,VLOOKUP(T102,女子種目コード!$G$36:$H$44,2,FALSE))))","v":""},{"$f":"IF(T102=\"\",\"\",HLOOKUP(T102,名簿!$AB$8:$BG$118,97,FALSE))","v":""},0,2,null,{"$f":"IF(Y102=\"\",\"\",IF(I102=1,VLOOKUP(Y102,男子種目コード!$D$44:$E$56,2,FALSE),IF(I102=2,VLOOKUP(Y102,女子種目コード!$G$36:$H$44,2,FALSE))))","v":""},{"$f":"IF(Y102=\"\",\"\",HLOOKUP(Y102,名簿!$AB$8:$BG$118,97,FALSE))","v":""},0,2,null,{"$f":"IF(AD102=\"\",\"\",IF(I102=1,VLOOKUP(AD102,男子種目コード!$D$50:$E$50,2,FALSE),IF(I102=2,VLOOKUP(AD102,女子種目コード!$G$40:$H$40,2,FALSE))))","v":""},null,0,2,null,{"$f":"IF(AI102=\"\",\"\",IF(I102=1,VLOOKUP(AI102,男子種目コード!$D$51:$E$51,2,FALSE),IF(I102=2,\"\",)))","v":""},null,0,2,null,null,null,null,null,null,null,null,null,null,null,null,null,null,"",0,0,0,0,null,null,null,0,"",""]
[false,{"$f":"名簿!Q105","v":""},false,null,{"$f":"名簿!E105","v":0},{"$f":"名簿!BR105","v":""},{"$f":"名簿!Z105","v":""},"",{"$f":"名簿!O105","v":""},{"$f":"名簿!I105","v":0},{"$f":"名簿!BT105","v":"0"},{"$f":"名簿!BW105","v":0},{"$f":"名簿!R105","v":""},{"$f":"名簿!$W$9","v":23},null,{"$f":"IF(O103=\"\",\"\",IF(I103=1,VLOOKUP(O103,男子種目コード!$D$44:$E$56,2,FALSE),IF(I103=2,VLOOKUP(O103,女子種目コード!$G$36:$H$44,2,FALSE))))","v":""},{"$f":"IF(O103=\"\",\"\",HLOOKUP(O103,名簿!$AB$8:$BG$118,98,FALSE))","v":""},0,2,null,{"$f":"IF(T103=\"\",\"\",IF(I103=1,VLOOKUP(T103,男子種目コード!$D$44:$E$56,2,FALSE),IF(I103=2,VLOOKUP(T103,女子種目コード!$G$36:$H$44,2,FALSE))))","v":""},{"$f":"IF(T103=\"\",\"\",HLOOKUP(T103,名簿!$AB$8:$BG$118,98,FALSE))","v":""},0,2,null,{"$f":"IF(Y103=\"\",\"\",IF(I103=1,VLOOKUP(Y103,男子種目コード!$D$44:$E$56,2,FALSE),IF(I103=2,VLOOKUP(Y103,女子種目コード!$G$36:$H$44,2,FALSE))))","v":""},{"$f":"IF(Y103=\"\",\"\",HLOOKUP(Y103,名簿!$AB$8:$BG$118,98,FALSE))","v":""},0,2,null,{"$f":"IF(AD103=\"\",\"\",IF(I103=1,VLOOKUP(AD103,男子種目コード!$D$50:$E$50,2,FALSE),IF(I103=2,VLOOKUP(AD103,女子種目コード!$G$40:$H$40,2,FALSE))))","v":""},null,0,2,null,{"$f":"IF(AI103=\"\",\"\",IF(I103=1,VLOOKUP(AI103,男子種目コード!$D$51:$E$51,2,FALSE),IF(I103=2,\"\",)))","v":""},null,0,2,null,null,null,null,null,null,null,null,null,null,null,null,null,null,"",0,0,0,0,null,null,null,0,"",""]
[false,{"$f":"名簿!Q106","v":""},false,null,{"$f":"名簿!E106","v":0},{"$f":"名簿!BR106","v":""},{"$f":"名簿!Z106","v":""},"",{"$f":"名簿!O106","v":""},{"$f":"名簿!I106","v":0},{"$f":"名簿!BT106","v":"0"},{"$f":"名簿!BW106","v":0},{"$f":"名簿!R106","v":""},{"$f":"名簿!$W$9","v":23},null,{"$f":"IF(O104=\"\",\"\",IF(I104=1,VLOOKUP(O104,男子種目コード!$D$44:$E$56,2,FALSE),IF(I104=2,VLOOKUP(O104,女子種目コード!$G$36:$H$44,2,FALSE))))","v":""},{"$f":"IF(O104=\"\",\"\",HLOOKUP(O104,名簿!$AB$8:$BG$118,99,FALSE))","v":""},0,2,null,{"$f":"IF(T104=\"\",\"\",IF(I104=1,VLOOKUP(T104,男子種目コード!$D$44:$E$56,2,FALSE),IF(I104=2,VLOOKUP(T104,女子種目コード!$G$36:$H$44,2,FALSE))))","v":""},{"$f":"IF(T104=\"\",\"\",HLOOKUP(T104,名簿!$AB$8:$BG$118,99,FALSE))","v":""},0,2,null,{"$f":"IF(Y104=\"\",\"\",IF(I104=1,VLOOKUP(Y104,男子種目コード!$D$44:$E$56,2,FALSE),IF(I104=2,VLOOKUP(Y104,女子種目コード!$G$36:$H$44,2,FALSE))))","v":""},{"$f":"IF(Y104=\"\",\"\",HLOOKUP(Y104,名簿!$AB$8:$BG$118,99,FALSE))","v":""},0,2,null,{"$f":"IF(AD104=\"\",\"\",IF(I104=1,VLOOKUP(AD104,男子種目コード!$D$50:$E$50,2,FALSE),IF(I104=2,VLOOKUP(AD104,女子種目コード!$G$40:$H$40,2,FALSE))))","v":""},null,0,2,null,{"$f":"IF(AI104=\"\",\"\",IF(I104=1,VLOOKUP(AI104,男子種目コード!$D$51:$E$51,2,FALSE),IF(I104=2,\"\",)))","v":""},null,0,2,null,null,null,null,null,null,null,null,null,null,null,null,null,null,"",0,0,0,0,null,null,null,0,"",""]
[false,{"$f":"名簿!Q107","v":""},false,null,{"$f":"名簿!E107","v":0},{"$f":"名簿!BR107","v":""},{"$f":"名簿!Z107","v":""},"",{"$f":"名簿!O107","v":""},{"$f":"名簿!I107","v":0},{"$f":"名簿!BT107","v":"0"},{"$f":"名簿!BW107","v":0},{"$f":"名簿!R107","v":""},{"$f":"名簿!$W$9","v":23},null,{"$f":"IF(O105=\"\",\"\",IF(I105=1,VLOOKUP(O105,男子種目コード!$D$44:$E$56,2,FALSE),IF(I105=2,VLOOKUP(O105,女子種目コード!$G$36:$H$44,2,FALSE))))","v":""},{"$f":"IF(O105=\"\",\"\",HLOOKUP(O105,名簿!$AB$8:$BG$118,100,FALSE))","v":""},0,2,null,{"$f":"IF(T105=\"\",\"\",IF(I105=1,VLOOKUP(T105,男子種目コード!$D$44:$E$56,2,FALSE),IF(I105=2,VLOOKUP(T105,女子種目コード!$G$36:$H$44,2,FALSE))))","v":""},{"$f":"IF(T105=\"\",\"\",HLOOKUP(T105,名簿!$AB$8:$BG$118,100,FALSE))","v":""},0,2,null,{"$f":"IF(Y105=\"\",\"\",IF(I105=1,VLOOKUP(Y105,男子種目コード!$D$44:$E$56,2,FALSE),IF(I105=2,VLOOKUP(Y105,女子種目コード!$G$36:$H$44,2,FALSE))))","v":""},{"$f":"IF(Y105=\"\",\"\",HLOOKUP(Y105,名簿!$AB$8:$BG$118,100,FALSE))","v":""},0,2,null,{"$f":"IF(AD105=\"\",\"\",IF(I105=1,VLOOKUP(AD105,男子種目コード!$D$50:$E$50,2,FALSE),IF(I105=2,VLOOKUP(AD105,女子種目コード!$G$40:$H$40,2,FALSE))))","v":""},null,0,2,null,{"$f":"IF(AI105=\"\",\"\",IF(I105=1,VLOOKUP(AI105,男子種目コード!$D$51:$E$51,2,FALSE),IF(I105=2,\"\",)))","v":""},null,0,2,null,null,null,null,null,null,null,null,null,null,null,null,null,null,"",0,0,0,0,null,null,null,0,"",""]
[false,{"$f":"名簿!Q108","v":""},false,null,{"$f":"名簿!E108","v":0},{"$f":"名簿!BR108","v":""},{"$f":"名簿!Z108","v":""},"",{"$f":"名簿!O108","v":""},{"$f":"名簿!I108","v":0},{"$f":"名簿!BT108","v":"0"},{"$f":"名簿!BW108","v":0},{"$f":"名簿!R108","v":""},{"$f":"名簿!$W$9","v":23},null,{"$f":"IF(O106=\"\",\"\",IF(I106=1,VLOOKUP(O106,男子種目コード!$D$44:$E$56,2,FALSE),IF(I106=2,VLOOKUP(O106,女子種目コード!$G$36:$H$44,2,FALSE))))","v":""},{"$f":"IF(O106=\"\",\"\",HLOOKUP(O106,名簿!$AB$8:$BG$118,101,FALSE))","v":""},0,2,null,{"$f":"IF(T106=\"\",\"\",IF(I106=1,VLOOKUP(T106,男子種目コード!$D$44:$E$56,2,FALSE),IF(I106=2,VLOOKUP(T106,女子種目コード!$G$36:$H$44,2,FALSE))))","v":""},{"$f":"IF(T106=\"\",\"\",HLOOKUP(T106,名簿!$AB$8:$BG$118,101,FALSE))","v":""},0,2,null,{"$f":"IF(Y106=\"\",\"\",IF(I106=1,VLOOKUP(Y106,男子種目コード!$D$44:$E$56,2,FALSE),IF(I106=2,VLOOKUP(Y106,女子種目コード!$G$36:$H$44,2,FALSE))))","v":""},{"$f":"IF(Y106=\"\",\"\",HLOOKUP(Y106,名簿!$AB$8:$BG$118,101,FALSE))","v":""},0,2,null,{"$f":"IF(AD106=\"\",\"\",IF(I106=1,VLOOKUP(AD106,男子種目コード!$D$50:$E$50,2,FALSE),IF(I106=2,VLOOKUP(AD106,女子種目コード!$G$40:$H$40,2,FALSE))))","v":""},null,0,2,null,{"$f":"IF(AI106=\"\",\"\",IF(I106=1,VLOOKUP(AI106,男子種目コード!$D$51:$E$51,2,FALSE),IF(I106=2,\"\",)))","v":""},null,0,2,null,null,null,null,null,null,null,null,null,null,null,null,null,null,"",0,0,0,0,null,null,null,0,"",""]
[false,{"$f":"名簿!Q109","v":""},false,null,{"$f":"名簿!E109","v":0},{"$f":"名簿!BR109","v":""},{"$f":"名簿!Z109","v":""},"",{"$f":"名簿!O109","v":""},{"$f":"名簿!I109","v":0},{"$f":"名簿!BT109","v":"0"},{"$f":"名簿!BW109","v":0},{"$f":"名簿!R109","v":""},{"$f":"名簿!$W$9","v":23},null,{"$f":"IF(O107=\"\",\"\",IF(I107=1,VLOOKUP(O107,男子種目コード!$D$44:$E$56,2,FALSE),IF(I107=2,VLOOKUP(O107,女子種目コード!$G$36:$H$44,2,FALSE))))","v":""},{"$f":"IF(O107=\"\",\"\",HLOOKUP(O107,名簿!$AB$8:$BG$118,102,FALSE))","v":""},0,2,null,{"$f":"IF(T107=\"\",\"\",IF(I107=1,VLOOKUP(T107,男子種目コード!$D$44:$E$56,2,FALSE),IF(I107=2,VLOOKUP(T107,女子種目コード!$G$36:$H$44,2,FALSE))))","v":""},{"$f":"IF(T107=\"\",\"\",HLOOKUP(T107,名簿!$AB$8:$BG$118,102,FALSE))","v":""},0,2,null,{"$f":"IF(Y107=\"\",\"\",IF(I107=1,VLOOKUP(Y107,男子種目コード!$D$44:$E$56,2,FALSE),IF(I107=2,VLOOKUP(Y107,女子種目コード!$G$36:$H$44,2,FALSE))))","v":""},{"$f":"IF(Y107=\"\",\"\",HLOOKUP(Y107,名簿!$AB$8:$BG$118,102,FALSE))","v":""},0,2,null,{"$f":"IF(AD107=\"\",\"\",IF(I107=1,VLOOKUP(AD107,男子種目コード!$D$50:$E$50,2,FALSE),IF(I107=2,VLOOKUP(AD107,女子種目コード!$G$40:$H$40,2,FALSE))))","v":""},null,0,2,null,{"$f":"IF(AI107=\"\",\"\",IF(I107=1,VLOOKUP(AI107,男子種目コード!$D$51:$E$51,2,FALSE),IF(I107=2,\"\",)))","v":""},null,0,2,null,null,null,null,null,null,null,null,null,null,null,null,null,null,"",0,0,0,0,null,null,null,0,"",""]
[false,{"$f":"名簿!Q110","v":""},false,null,{"$f":"名簿!E110","v":0},{"$f":"名簿!BR110","v":""},{"$f":"名簿!Z110","v":""},"",{"$f":"名簿!O110","v":""},{"$f":"名簿!I110","v":0},{"$f":"名簿!BT110","v":"0"},{"$f":"名簿!BW110","v":0},{"$f":"名簿!R110","v":""},{"$f":"名簿!$W$9","v":23},null,{"$f":"IF(O108=\"\",\"\",IF(I108=1,VLOOKUP(O108,男子種目コード!$D$44:$E$56,2,FALSE),IF(I108=2,VLOOKUP(O108,女子種目コード!$G$36:$H$44,2,FALSE))))","v":""},{"$f":"IF(O108=\"\",\"\",HLOOKUP(O108,名簿!$AB$8:$BG$118,103,FALSE))","v":""},0,2,null,{"$f":"IF(T108=\"\",\"\",IF(I108=1,VLOOKUP(T108,男子種目コード!$D$44:$E$56,2,FALSE),IF(I108=2,VLOOKUP(T108,女子種目コード!$G$36:$H$44,2,FALSE))))","v":""},{"$f":"IF(T108=\"\",\"\",HLOOKUP(T108,名簿!$AB$8:$BG$118,103,FALSE))","v":""},0,2,null,{"$f":"IF(Y108=\"\",\"\",IF(I108=1,VLOOKUP(Y108,男子種目コード!$D$44:$E$56,2,FALSE),IF(I108=2,VLOOKUP(Y108,女子種目コード!$G$36:$H$44,2,FALSE))))","v":""},{"$f":"IF(Y108=\"\",\"\",HLOOKUP(Y108,名簿!$AB$8:$BG$118,103,FALSE))","v":""},0,2,null,{"$f":"IF(AD108=\"\",\"\",IF(I108=1,VLOOKUP(AD108,男子種目コード!$D$50:$E$50,2,FALSE),IF(I108=2,VLOOKUP(AD108,女子種目コード!$G$40:$H$40,2,FALSE))))","v":""},null,0,2,null,{"$f":"IF(AI108=\"\",\"\",IF(I108=1,VLOOKUP(AI108,男子種目コード!$D$51:$E$51,2,FALSE),IF(I108=2,\"\",)))","v":""},null,0,2,null,null,null,null,null,null,null,null,null,null,null,null,null,null,"",0,0,0,0,null,null,null,0,"",""]
[false,{"$f":"名簿!Q111","v":""},false,null,{"$f":"名簿!E111","v":0},{"$f":"名簿!BR111","v":""},{"$f":"名簿!Z111","v":""},"",{"$f":"名簿!O111","v":""},{"$f":"名簿!I111","v":0},{"$f":"名簿!BT111","v":"0"},{"$f":"名簿!BW111","v":0},{"$f":"名簿!R111","v":""},{"$f":"名簿!$W$9","v":23},null,{"$f":"IF(O109=\"\",\"\",IF(I109=1,VLOOKUP(O109,男子種目コード!$D$44:$E$56,2,FALSE),IF(I109=2,VLOOKUP(O109,女子種目コード!$G$36:$H$44,2,FALSE))))","v":""},{"$f":"IF(O109=\"\",\"\",HLOOKUP(O109,名簿!$AB$8:$BG$118,104,FALSE))","v":""},0,2,null,{"$f":"IF(T109=\"\",\"\",IF(I109=1,VLOOKUP(T109,男子種目コード!$D$44:$E$56,2,FALSE),IF(I109=2,VLOOKUP(T109,女子種目コード!$G$36:$H$44,2,FALSE))))","v":""},{"$f":"IF(T109=\"\",\"\",HLOOKUP(T109,名簿!$AB$8:$BG$118,104,FALSE))","v":""},0,2,null,{"$f":"IF(Y109=\"\",\"\",IF(I109=1,VLOOKUP(Y109,男子種目コード!$D$44:$E$56,2,FALSE),IF(I109=2,VLOOKUP(Y109,女子種目コード!$G$36:$H$44,2,FALSE))))","v":""},{"$f":"IF(Y109=\"\",\"\",HLOOKUP(Y109,名簿!$AB$8:$BG$118,104,FALSE))","v":""},0,2,null,{"$f":"IF(AD109=\"\",\"\",IF(I109=1,VLOOKUP(AD109,男子種目コード!$D$50:$E$50,2,FALSE),IF(I109=2,VLOOKUP(AD109,女子種目コード!$G$40:$H$40,2,FALSE))))","v":""},null,0,2,null,{"$f":"IF(AI109=\"\",\"\",IF(I109=1,VLOOKUP(AI109,男子種目コード!$D$51:$E$51,2,FALSE),IF(I109=2,\"\",)))","v":""},null,0,2,null,null,null,null,null,null,null,null,null,null,null,null,null,null,"",0,0,0,0,null,null,null,0,"",""]
[false,{"$f":"名簿!Q112","v":""},false,null,{"$f":"名簿!E112","v":0},{"$f":"名簿!BR112","v":""},{"$f":"名簿!Z112","v":""},"",{"$f":"名簿!O112","v":""},{"$f":"名簿!I112","v":0},{"$f":"名簿!BT112","v":"0"},{"$f":"名簿!BW112","v":0},{"$f":"名簿!R112","v":""},{"$f":"名簿!$W$9","v":23},null,{"$f":"IF(O110=\"\",\"\",IF(I110=1,VLOOKUP(O110,男子種目コード!$D$44:$E$56,2,FALSE),IF(I110=2,VLOOKUP(O110,女子種目コード!$G$36:$H$44,2,FALSE))))","v":""},{"$f":"IF(O110=\"\",\"\",HLOOKUP(O110,名簿!$AB$8:$BG$118,105,FALSE))","v":""},0,2,null,{"$f":"IF(T110=\"\",\"\",IF(I110=1,VLOOKUP(T110,男子種目コード!$D$44:$E$56,2,FALSE),IF(I110=2,VLOOKUP(T110,女子種目コード!$G$36:$H$44,2,FALSE))))","v":""},{"$f":"IF(T110=\"\",\"\",HLOOKUP(T110,名簿!$AB$8:$BG$118,105,FALSE))","v":""},0,2,null,{"$f":"IF(Y110=\"\",\"\",IF(I110=1,VLOOKUP(Y110,男子種目コード!$D$44:$E$56,2,FALSE),IF(I110=2,VLOOKUP(Y110,女子種目コード!$G$36:$H$44,2,FALSE))))","v":""},{"$f":"IF(Y110=\"\",\"\",HLOOKUP(Y110,名簿!$AB$8:$BG$118,105,FALSE))","v":""},0,2,null,{"$f":"IF(AD110=\"\",\"\",IF(I110=1,VLOOKUP(AD110,男子種目コード!$D$50:$E$50,2,FALSE),IF(I110=2,VLOOKUP(AD110,女子種目コード!$G$40:$H$40,2,FALSE))))","v":""},null,0,2,null,{"$f":"IF(AI110=\"\",\"\",IF(I110=1,VLOOKUP(AI110,男子種目コード!$D$51:$E$51,2,FALSE),IF(I110=2,\"\",)))","v":""},null,0,2,null,null,null,null,null,null,null,null,null,null,null,null,null,null,"",0,0,0,0,null,null,null,0,"",""]
[false,{"$f":"名簿!Q113","v":""},false,null,{"$f":"名簿!E113","v":0},{"$f":"名簿!BR113","v":""},{"$f":"名簿!Z113","v":""},"",{"$f":"名簿!O113","v":""},{"$f":"名簿!I113","v":0},{"$f":"名簿!BT113","v":"0"},{"$f":"名簿!BW113","v":0},{"$f":"名簿!R113","v":""},{"$f":"名簿!$W$9","v":23},null,{"$f":"IF(O111=\"\",\"\",IF(I111=1,VLOOKUP(O111,男子種目コード!$D$44:$E$56,2,FALSE),IF(I111=2,VLOOKUP(O111,女子種目コード!$G$36:$H$44,2,FALSE))))","v":""},{"$f":"IF(O111=\"\",\"\",HLOOKUP(O111,名簿!$AB$8:$BG$118,106,FALSE))","v":""},0,2,null,{"$f":"IF(T111=\"\",\"\",IF(I111=1,VLOOKUP(T111,男子種目コード!$D$44:$E$56,2,FALSE),IF(I111=2,VLOOKUP(T111,女子種目コード!$G$36:$H$44,2,FALSE))))","v":""},{"$f":"IF(T111=\"\",\"\",HLOOKUP(T111,名簿!$AB$8:$BG$118,106,FALSE))","v":""},0,2,null,{"$f":"IF(Y111=\"\",\"\",IF(I111=1,VLOOKUP(Y111,男子種目コード!$D$44:$E$56,2,FALSE),IF(I111=2,VLOOKUP(Y111,女子種目コード!$G$36:$H$44,2,FALSE))))","v":""},{"$f":"IF(Y111=\"\",\"\",HLOOKUP(Y111,名簿!$AB$8:$BG$118,106,FALSE))","v":""},0,2,null,{"$f":"IF(AD111=\"\",\"\",IF(I111=1,VLOOKUP(AD111,男子種目コード!$D$50:$E$50,2,FALSE),IF(I111=2,VLOOKUP(AD111,女子種目コード!$G$40:$H$40,2,FALSE))))","v":""},null,0,2,null,{"$f":"IF(AI111=\"\",\"\",IF(I111=1,VLOOKUP(AI111,男子種目コード!$D$51:$E$51,2,FALSE),IF(I111=2,\"\",)))","v":""},null,0,2,null,null,null,null,null,null,null,null,null,null,null,null,null,null,"",0,0,0,0,null,null,null,0,"",""]
[false,{"$f":"名簿!Q114","v":""},false,null,{"$f":"名簿!E114","v":0},{"$f":"名簿!BR114","v":""},{"$f":"名簿!Z114","v":""},"",{"$f":"名簿!O114","v":""},{"$f":"名簿!I114","v":0},{"$f":"名簿!BT114","v":"0"},{"$f":"名簿!BW114","v":0},{"$f":"名簿!R114","v":""},{"$f":"名簿!$W$9","v":23},null,{"$f":"IF(O112=\"\",\"\",IF(I112=1,VLOOKUP(O112,男子種目コード!$D$44:$E$56,2,FALSE),IF(I112=2,VLOOKUP(O112,女子種目コード!$G$36:$H$44,2,FALSE))))","v":""},{"$f":"IF(O112=\"\",\"\",HLOOKUP(O112,名簿!$AB$8:$BG$118,107,FALSE))","v":""},0,2,null,{"$f":"IF(T112=\"\",\"\",IF(I112=1,VLOOKUP(T112,男子種目コード!$D$44:$E$56,2,FALSE),IF(I112=2,VLOOKUP(T112,女子種目コード!$G$36:$H$44,2,FALSE))))","v":""},{"$f":"IF(T112=\"\",\"\",HLOOKUP(T112,名簿!$AB$8:$BG$118,107,FALSE))","v":""},0,2,null,{"$f":"IF(Y112=\"\",\"\",IF(I112=1,VLOOKUP(Y112,男子種目コード!$D$44:$E$56,2,FALSE),IF(I112=2,VLOOKUP(Y112,女子種目コード!$G$36:$H$44,2,FALSE))))","v":""},{"$f":"IF(Y112=\"\",\"\",HLOOKUP(Y112,名簿!$AB$8:$BG$118,107,FALSE))","v":""},0,2,null,{"$f":"IF(AD112=\"\",\"\",IF(I112=1,VLOOKUP(AD112,男子種目コード!$D$50:$E$50,2,FALSE),IF(I112=2,VLOOKUP(AD112,女子種目コード!$G$40:$H$40,2,FALSE))))","v":""},null,0,2,null,{"$f":"IF(AI112=\"\",\"\",IF(I112=1,VLOOKUP(AI112,男子種目コード!$D$51:$E$51,2,FALSE),IF(I112=2,\"\",)))","v":""},null,0,2,null,null,null,null,null,null,null,null,null,null,null,null,null,null,"",0,0,0,0,null,null,null,0,"",""]
[false,{"$f":"名簿!Q115","v":""},false,null,{"$f":"名簿!E115","v":0},{"$f":"名簿!BR115","v":""},{"$f":"名簿!Z115","v":""},"",{"$f":"名簿!O115","v":""},{"$f":"名簿!I115","v":0},{"$f":"名簿!BT115","v":"0"},{"$f":"名簿!BW115","v":0},{"$f":"名簿!R115","v":""},{"$f":"名簿!$W$9","v":23},null,{"$f":"IF(O113=\"\",\"\",IF(I113=1,VLOOKUP(O113,男子種目コード!$D$44:$E$56,2,FALSE),IF(I113=2,VLOOKUP(O113,女子種目コード!$G$36:$H$44,2,FALSE))))","v":""},{"$f":"IF(O113=\"\",\"\",HLOOKUP(O113,名簿!$AB$8:$BG$118,108,FALSE))","v":""},0,2,null,{"$f":"IF(T113=\"\",\"\",IF(I113=1,VLOOKUP(T113,男子種目コード!$D$44:$E$56,2,FALSE),IF(I113=2,VLOOKUP(T113,女子種目コード!$G$36:$H$44,2,FALSE))))","v":""},{"$f":"IF(T113=\"\",\"\",HLOOKUP(T113,名簿!$AB$8:$BG$118,108,FALSE))","v":""},0,2,null,{"$f":"IF(Y113=\"\",\"\",IF(I113=1,VLOOKUP(Y113,男子種目コード!$D$44:$E$56,2,FALSE),IF(I113=2,VLOOKUP(Y113,女子種目コード!$G$36:$H$44,2,FALSE))))","v":""},{"$f":"IF(Y113=\"\",\"\",HLOOKUP(Y113,名簿!$AB$8:$BG$118,108,FALSE))","v":""},0,2,null,{"$f":"IF(AD113=\"\",\"\",IF(I113=1,VLOOKUP(AD113,男子種目コード!$D$50:$E$50,2,FALSE),IF(I113=2,VLOOKUP(AD113,女子種目コード!$G$40:$H$40,2,FALSE))))","v":""},null,0,2,null,{"$f":"IF(AI113=\"\",\"\",IF(I113=1,VLOOKUP(AI113,男子種目コード!$D$51:$E$51,2,FALSE),IF(I113=2,\"\",)))","v":""},null,0,2,null,null,null,null,null,null,null,null,null,null,null,null,null,null,"",0,0,0,0,null,null,null,0,"",""]
[false,{"$f":"名簿!Q116","v":""},false,null,{"$f":"名簿!E116","v":0},{"$f":"名簿!BR116","v":""},{"$f":"名簿!Z116","v":""},"",{"$f":"名簿!O116","v":""},{"$f":"名簿!I116","v":0},{"$f":"名簿!BT116","v":"0"},{"$f":"名簿!BW116","v":0},{"$f":"名簿!R116","v":""},{"$f":"名簿!$W$9","v":23},null,{"$f":"IF(O114=\"\",\"\",IF(I114=1,VLOOKUP(O114,男子種目コード!$D$44:$E$56,2,FALSE),IF(I114=2,VLOOKUP(O114,女子種目コード!$G$36:$H$44,2,FALSE))))","v":""},{"$f":"IF(O114=\"\",\"\",HLOOKUP(O114,名簿!$AB$8:$BG$118,109,FALSE))","v":""},0,2,null,{"$f":"IF(T114=\"\",\"\",IF(I114=1,VLOOKUP(T114,男子種目コード!$D$44:$E$56,2,FALSE),IF(I114=2,VLOOKUP(T114,女子種目コード!$G$36:$H$44,2,FALSE))))","v":""},{"$f":"IF(T114=\"\",\"\",HLOOKUP(T114,名簿!$AB$8:$BG$118,109,FALSE))","v":""},0,2,null,{"$f":"IF(Y114=\"\",\"\",IF(I114=1,VLOOKUP(Y114,男子種目コード!$D$44:$E$56,2,FALSE),IF(I114=2,VLOOKUP(Y114,女子種目コード!$G$36:$H$44,2,FALSE))))","v":""},{"$f":"IF(Y114=\"\",\"\",HLOOKUP(Y114,名簿!$AB$8:$BG$118,109,FALSE))","v":""},0,2,null,{"$f":"IF(AD114=\"\",\"\",IF(I114=1,VLOOKUP(AD114,男子種目コード!$D$50:$E$50,2,FALSE),IF(I114=2,VLOOKUP(AD114,女子種目コード!$G$40:$H$40,2,FALSE))))","v":""},null,0,2,null,{"$f":"IF(AI114=\"\",\"\",IF(I114=1,VLOOKUP(AI114,男子種目コード!$D$51:$E$51,2,FALSE),IF(I114=2,\"\",)))","v":""},null,0,2,null,null,null,null,null,null,null,null,null,null,null,null,null,null,"",0,0,0,0,null,null,null,0,"",""]
[false,{"$f":"名簿!Q117","v":""},false,null,{"$f":"名簿!E117","v":0},{"$f":"名簿!BR117","v":""},{"$f":"名簿!Z117","v":""},"",{"$f":"名簿!O117","v":""},{"$f":"名簿!I117","v":0},{"$f":"名簿!BT117","v":"0"},{"$f":"名簿!BW117","v":0},{"$f":"名簿!R117","v":""},{"$f":"名簿!$W$9","v":23},null,{"$f":"IF(O115=\"\",\"\",IF(I115=1,VLOOKUP(O115,男子種目コード!$D$44:$E$56,2,FALSE),IF(I115=2,VLOOKUP(O115,女子種目コード!$G$36:$H$44,2,FALSE))))","v":""},{"$f":"IF(O115=\"\",\"\",HLOOKUP(O115,名簿!$AB$8:$BG$118,110,FALSE))","v":""},0,2,null,{"$f":"IF(T115=\"\",\"\",IF(I115=1,VLOOKUP(T115,男子種目コード!$D$44:$E$56,2,FALSE),IF(I115=2,VLOOKUP(T115,女子種目コード!$G$36:$H$44,2,FALSE))))","v":""},{"$f":"IF(T115=\"\",\"\",HLOOKUP(T115,名簿!$AB$8:$BG$118,110,FALSE))","v":""},0,2,null,{"$f":"IF(Y115=\"\",\"\",IF(I115=1,VLOOKUP(Y115,男子種目コード!$D$44:$E$56,2,FALSE),IF(I115=2,VLOOKUP(Y115,女子種目コード!$G$36:$H$44,2,FALSE))))","v":""},{"$f":"IF(Y115=\"\",\"\",HLOOKUP(Y115,名簿!$AB$8:$BG$118,110,FALSE))","v":""},0,2,null,{"$f":"IF(AD115=\"\",\"\",IF(I115=1,VLOOKUP(AD115,男子種目コード!$D$50:$E$50,2,FALSE),IF(I115=2,VLOOKUP(AD115,女子種目コード!$G$40:$H$40,2,FALSE))))","v":""},null,0,2,null,{"$f":"IF(AI115=\"\",\"\",IF(I115=1,VLOOKUP(AI115,男子種目コード!$D$51:$E$51,2,FALSE),IF(I115=2,\"\",)))","v":""},null,0,2,null,null,null,null,null,null,null,null,null,null,null,null,null,null,"",0,0,0,0,null,null,null,0,"",""]
[false,{"$f":"名簿!Q118","v":""},false,null,{"$f":"名簿!E118","v":0},{"$f":"名簿!BR118","v":""},{"$f":"名簿!Z118","v":""},"",{"$f":"名簿!O118","v":""},{"$f":"名簿!I118","v":0},{"$f":"名簿!BT118","v":"0"},{"$f":"名簿!BW118","v":0},{"$f":"名簿!R118","v":""},{"$f":"名簿!$W$9","v":23},null,{"$f":"IF(O116=\"\",\"\",IF(I116=1,VLOOKUP(O116,男子種目コード!$D$44:$E$56,2,FALSE),IF(I116=2,VLOOKUP(O116,女子種目コード!$G$36:$H$44,2,FALSE))))","v":""},{"$f":"IF(O116=\"\",\"\",HLOOKUP(O116,名簿!$AB$8:$BG$118,111,FALSE))","v":""},0,2,null,{"$f":"IF(T116=\"\",\"\",IF(I116=1,VLOOKUP(T116,男子種目コード!$D$44:$E$56,2,FALSE),IF(I116=2,VLOOKUP(T116,女子種目コード!$G$36:$H$44,2,FALSE))))","v":""},{"$f":"IF(T116=\"\",\"\",HLOOKUP(T116,名簿!$AB$8:$BG$118,111,FALSE))","v":""},0,2,null,{"$f":"IF(Y116=\"\",\"\",IF(I116=1,VLOOKUP(Y116,男子種目コード!$D$44:$E$56,2,FALSE),IF(I116=2,VLOOKUP(Y116,女子種目コード!$G$36:$H$44,2,FALSE))))","v":""},{"$f":"IF(Y116=\"\",\"\",HLOOKUP(Y116,名簿!$AB$8:$BG$118,111,FALSE))","v":""},0,2,null,{"$f":"IF(AD116=\"\",\"\",IF(I116=1,VLOOKUP(AD116,男子種目コード!$D$50:$E$50,2,FALSE),IF(I116=2,VLOOKUP(AD116,女子種目コード!$G$40:$H$40,2,FALSE))))","v":""},null,0,2,null,{"$f":"IF(AI116=\"\",\"\",IF(I116=1,VLOOKUP(AI116,男子種目コード!$D$51:$E$51,2,FALSE),IF(I116=2,\"\",)))","v":""},null,0,2,null,null,null,null,null,null,null,null,null,null,null,null,null,null,"",0,0,0,0,null,null,null,0,"",""]
[null,null,null,null,null,null,null,null,null,null,null,null,null,null,null,null,null,null,null,null,null,null,null,null,null,null,null,null,null,null,null,null,null,null,null,null,null,null,null,null,null,null,null,{"$f":"SUM(BB7:BB116)","v":0},null,null,null,null,null,null,null,null,null,null,{"$f":"IF(H117=1,BB117,\"\")","v":""},{"$f":"IF(H117=2,BB117,\"\")","v":""},null,null,{"$f":"B117","v":0}]

{"sheet":"三重陸協記録会","index":12,"n_rows":118,"n_cols":61,"rows_kept":118,"cut":false,"hidden":false,"merged":[[4,8,4,9],[4,16,4,21],[5,10,5,11],[5,47,5,48],[1,8,1,9],[1,16,1,17],[1,21,1,22],[1,35,1,38],[2,8,2,9],[3,8,3,9]]}
[null,null,null,null,"所属名",{"$f":"IF(名簿!$P$9=\"\",\"\",名簿!$P$9)","v":""},null,null,"三重陸協記録会"]
[null,null,null,null,"所属コード",{"$f":"名簿!$Q$9","v":""},"男子参加人数",null,{"$f":"COUNTIF($I$7:$I$116,1)-COUNTIF($BH$7:$BH$116,0)","v":0}]
[null,null,null,null,"顧問名",{"$f":"IF(名簿!$E$5=\"\",\"\",名簿!$E$5)","v":""},"女子参加人数",null,{"$f":"COUNTIF($I$7:$I$116,2)-COUNTIF($BI$7:$BI$116,0)","v":0},null,null,null,null,null,"プログラム数"]
[null,null,null,null,"顧問連絡先",{"$f":"IF(名簿!$I$5=\"\",\"\",名簿!$I$5)","v":""},"参加費",null,{"$f":"$AF$118*500+Q3*300","v":0},null,null,null,null,null,{"$f":"$AF$118","v":0}]
[null,null,null,null,null,null,"種目",null,{"$f":"AW18","v":0}]
["競技者コード","所属コード","所属コード2","ナンバーA","ナンバー","競技者名","カナ名","掲示板名","性別","学年","生年月日",null,"所属地","陸連コード","1種目","コード","記録","オープンF","記録F","2種目","コード","記録","オープンF","記録F","種目3","コード","記録3","オープンF","記録F","種目4","コード","記録","オープンF","記録F","リレー","コード","記録5","オープンF","記録F",null,null,null,100,null,null,null,null,"種目別参加人数",null,null,null,null,null,null,null,null,null,null,"種目数","男子","女子"]
[null,{"$f":"名簿!Q9","v":""},null,null,{"$f":"名簿!E9","v":0},{"$f":"名簿!BR9","v":""},{"$f":"名簿!Z9","v":""},{"$f":"F7","v":""},{"$f":"名簿!O9","v":""},{"$f":"名簿!I9","v":0},{"$f":"名簿!K9","v":0},{"$f":"名簿!BU9","v":"00"},{"$f":"名簿!R9","v":""},{"$f":"名簿!D9","v":0},null,{"$f":"IF($O7=\"\",\"\",IF($I7=1,VLOOKUP($O7,$AV$8:$AX$10,3,FALSE),IF($I7=2,VLOOKUP($O7,$AV$13:$AX$16,3,FALSE))))","v":""},{"$f":"IF(O7=\"\",\"\",HLOOKUP(O7,名簿!$AB$8:$BI$118,2,FALSE))","v":""},0,2,null,{"$f":"IF(T7=\"\",\"\",IF($I7=1,VLOOKUP(T7,$AV$8:$AX$10,3,FALSE),IF($I7=2,VLOOKUP(T7,$AV$13:$AX$16,3,FALSE))))","v":""},{"$f":"IF(T7=\"\",\"\",HLOOKUP(T7,名簿!$AB$8:$BI$118,2,FALSE))","v":""},0,2,null,null,{"$f":"IF(Y7=\"\",\"\",HLOOKUP(Y7,名簿!$AB$8:$BI$118,2,FALSE))","v":""},0,2,null,null,{"$f":"IF(AD7=\"\",\"\",HLOOKUP(AD7,名簿!$AB$8:$BI$118,2,FALSE))","v":""},0,2,null,{"$f":"IF(AI7=\"\",\"\",IF(I7=1,VLOOKUP(AI7,男子種目コード!$A$1:$B$29,2,FALSE),IF(I7=2,VLOOKUP(AI7,女子種目コード!$A$1:$B$30,2,FALSE))))","v":""},null,0,2,null,null,null,200,{"$f":"IF(O7=\"\",\"\",1)","v":""},{"$f":"IF(OR(AR7=1,T7=\"\"),0,1)","v":0},{"$f":"IF(OR(AR7=1,AS7=1,AD7=\"\"),0,1)","v":0},{"$f":"IF(T7=\"\",\"\",1)","v":""},"男子",null,null,null,null,null,null,null,null,null,null,{"$f":"COUNT(AR7,AU7)","v":0},{"$f":"IF(I7=1,BG7,\"\")","v":""},{"$f":"IF(I7=2,BG7,\"\")","v":""}]
[null,{"$f":"名簿!Q10","v":""},null,null,{"$f":"名簿!E10","v":0},{"$f":"名簿!BR10","v":""},{"$f":"名簿!Z10","v":""},"",{"$f":"名簿!O10","v":""},{"$f":"名簿!I10","v":0},{"$f":"名簿!K10","v":0},{"$f":"名簿!BU10","v":"00"},{"$f":"名簿!R10","v":""},{"$f":"名簿!D10","v":0},null,{"$f":"IF($O8=\"\",\"\",IF($I8=1,VLOOKUP($O8,$AV$8:$AX$10,3,FALSE),IF($I8=2,VLOOKUP($O8,$AV$13:$AX$16,3,FALSE))))","v":""},{"$f":"IF(O8=\"\",\"\",HLOOKUP(O8,名簿!$AB$8:$BI$118,3,FALSE))","v":""},0,2,null,"",{"$f":"IF(T8=\"\",\"\",HLOOKUP(T8,名簿!$AB$8:$BI$118,3,FALSE))","v":""},0,2,null,null,{"$f":"IF(Y8=\"\",\"\",HLOOKUP(Y8,名簿!$AB$8:$BI$118,3,FALSE))","v":""},0,2,null,null,{"$f":"IF(AD8=\"\",\"\",HLOOKUP(AD8,名簿!$AB$8:$BI$118,2,FALSE))","v":""},0,2,null,{"$f":"IF(AI8=\"\",\"\",IF(I8=1,VLOOKUP(AI8,男子種目コード!$A$1:$B$29,2,FALSE),IF(I8=2,VLOOKUP(AI8,女子種目コード!$A$1:$B$30,2,FALSE))))","v":""},null,0,2,null,null,null,400,"",0,0,"","100m",{"$f":"COUNTIF($P$7:$P$116,AX8)+COUNTIF($U$7:$U$116,AX8)+COUNTIF($Z$7:$Z$116,AX8)+COUNTIF($AE$7:$AE$116,AX8)","v":0},101,null,null,null,null,null,null,null,null,{"$f":"COUNT(AR8,AU8)","v":0},"",""]
[null,{"$f":"名簿!Q11","v":""},null,null,{"$f":"名簿!E11","v":0},{"$f":"名簿!BR11","v":""},{"$f":"名簿!Z11","v":""},"",{"$f":"名簿!O11","v":""},{"$f":"名簿!I11","v":0},{"$f":"名簿!K11","v":0},{"$f":"名簿!BU11","v":"00"},{"$f":"名簿!R11","v":""},{"$f":"名簿!D11","v":0},null,"",{"$f":"IF(O9=\"\",\"\",HLOOKUP(O9,名簿!$AB$8:$BI$118,4,FALSE))","v":""},0,2,null,"",{"$f":"IF(T9=\"\",\"\",HLOOKUP(T9,名簿!$AB$8:$BI$118,4,FALSE))","v":""},0,2,null,null,{"$f":"IF(Y9=\"\",\"\",HLOOKUP(Y9,名簿!$AB$8:$BI$118,4,FALSE))","v":""},0,2,null,null,{"$f":"IF(AD9=\"\",\"\",HLOOKUP(AD9,名簿!$AB$8:$BI$118,2,FALSE))","v":""},0,2,null,{"$f":"IF(AI9=\"\",\"\",IF(I9=1,VLOOKUP(AI9,男子種目コード!$A$1:$B$29,2,FALSE),IF(I9=2,VLOOKUP(AI9,女子種目コード!$A$1:$B$30,2,FALSE))))","v":""},null,0,2,null,null,null,800,"",0,0,"","3000m",{"$f":"COUNTIF($P$7:$P$116,AX9)+COUNTIF($U$7:$U$116,AX9)+COUNTIF($Z$7:$Z$116,AX9)+COUNTIF($AE$7:$AE$116,AX9)","v":0},102,null,null,null,null,null,null,null,null,0,"",""]
[null,{"$f":"名簿!Q12","v":""},null,null,{"$f":"名簿!E12","v":0},{"$f":"名簿!BR12","v":""},{"$f":"名簿!Z12","v":""},"",{"$f":"名簿!O12","v":""},{"$f":"名簿!I12","v":0},{"$f":"名簿!K12","v":0},{"$f":"名簿!BU12","v":"00"},{"$f":"名簿!R12","v":""},{"$f":"名簿!D12","v":0},null,"",{"$f":"IF(O10=\"\",\"\",HLOOKUP(O10,名簿!$AB$8:$BI$118,5,FALSE))","v":""},0,2,null,"",{"$f":"IF(T10=\"\",\"\",HLOOKUP(T10,名簿!$AB$8:$BI$118,5,FALSE))","v":""},0,2,null,null,{"$f":"IF(Y10=\"\",\"\",HLOOKUP(Y10,名簿!$AB$8:$BI$118,5,FALSE))","v":""},0,2,null,null,{"$f":"IF(AD10=\"\",\"\",HLOOKUP(AD10,名簿!$AB$8:$BI$118,2,FALSE))","v":""},0,2,null,{"$f":"IF(AI10=\"\",\"\",IF(I10=1,VLOOKUP(AI10,男子種目コード!$A$1:$B$29,2,FALSE),IF(I10=2,VLOOKUP(AI10,女子種目コード!$A$1:$B$30,2,FALSE))))","v":""},null,0,2,null,null,null,1500,"",0,0,"","棒高跳",{"$f":"COUNTIF($P$7:$P$116,AX10)+COUNTIF($U$7:$U$116,AX10)+COUNTIF($Z$7:$Z$116,AX10)+COUNTIF($AE$7:$AE$116,AX10)","v":0},103,null,null,null,null,null,null,null,null,0,"",""]
[null,{"$f":"名簿!Q13","v":""},null,null,{"$f":"名簿!E13","v":0},{"$f":"名簿!BR13","v":""},{"$f":"名簿!Z13","v":""},"",{"$f":"名簿!O13","v":""},{"$f":"名簿!I13","v":0},{"$f":"名簿!K13","v":0},{"$f":"名簿!BU13","v":"00"},{"$f":"名簿!R13","v":""},{"$f":"名簿!D13","v":0},null,"",{"$f":"IF(O11=\"\",\"\",HLOOKUP(O11,名簿!$AB$8:$BI$118,6,FALSE))","v":""},0,2,null,"",{"$f":"IF(T11=\"\",\"\",HLOOKUP(T11,名簿!$AB$8:$BI$118,6,FALSE))","v":""},0,2,null,null,{"$f":"IF(Y11=\"\",\"\",HLOOKUP(Y11,名簿!$AB$8:$BI$118,6,FALSE))","v":""},0,2,null,null,{"$f":"IF(AD11=\"\",\"\",HLOOKUP(AD11,名簿!$AB$8:$BI$118,2,FALSE))","v":""},0,2,null,{"$f":"IF(AI11=\"\",\"\",IF(I11=1,VLOOKUP(AI11,男子種目コード!$A$1:$B$29,2,FALSE),IF(I11=2,VLOOKUP(AI11,女子種目コード!$A$1:$B$30,2,FALSE))))","v":""},null,0,2,null,null,null,5000,"",0,0,"","計",{"$f":"SUM($AW$8:$AW$10)","v":0},null,null,null,null,null,null,null,null,null,0,"",""]
[null,{"$f":"名簿!Q14","v":""},null,null,{"$f":"名簿!E14","v":0},{"$f":"名簿!BR14","v":""},{"$f":"名簿!Z14","v":""},"",{"$f":"名簿!O14","v":""},{"$f":"名簿!I14","v":0},{"$f":"名簿!K14","v":0},{"$f":"名簿!BU14","v":"00"},{"$f":"名簿!R14","v":""},{"$f":"名簿!D14","v":0},null,"",{"$f":"IF(O12=\"\",\"\",HLOOKUP(O12,名簿!$AB$8:$BI$118,7,FALSE))","v":""},0,2,null,"",{"$f":"IF(T12=\"\",\"\",HLOOKUP(T12,名簿!$AB$8:$BI$118,7,FALSE))","v":""},0,2,null,null,{"$f":"IF(Y12=\"\",\"\",HLOOKUP(Y12,名簿!$AB$8:$BI$118,7,FALSE))","v":""},0,2,null,null,{"$f":"IF(AD12=\"\",\"\",HLOOKUP(AD12,名簿!$AB$8:$BI$118,2,FALSE))","v":""},0,2,null,{"$f":"IF(AI12=\"\",\"\",IF(I12=1,VLOOKUP(AI12,男子種目コード!$A$1:$B$29,2,FALSE),IF(I12=2,VLOOKUP(AI12,女子種目コード!$A$1:$B$30,2,FALSE))))","v":""},null,0,2,null,null,null,10000,"",0,0,"","女子",null,null,null,null,null,null,null,null,null,null,0,"",""]
[null,{"$f":"名簿!Q15","v":""},null,null,{"$f":"名簿!E15","v":0},{"$f":"名簿!BR15","v":""},{"$f":"名簿!Z15","v":""},"",{"$f":"名簿!O15","v":""},{"$f":"名簿!I15","v":0},{"$f":"名簿!K15","v":0},{"$f":"名簿!BU15","v":"00"},{"$f":"名簿!R15","v":""},{"$f":"名簿!D15","v":0},null,"",{"$f":"IF(O13=\"\",\"\",HLOOKUP(O13,名簿!$AB$8:$BI$118,8,FALSE))","v":""},0,2,null,"",{"$f":"IF(T13=\"\",\"\",HLOOKUP(T13,名簿!$AB$8:$BI$118,8,FALSE))","v":""},0,2,null,null,{"$f":"IF(Y13=\"\",\"\",HLOOKUP(Y13,名簿!$AB$8:$BI$118,8,FALSE))","v":""},0,2,null,null,{"$f":"IF(AD13=\"\",\"\",HLOOKUP(AD13,名簿!$AB$8:$BI$118,2,FALSE))","v":""},0,2,null,{"$f":"IF(AI13=\"\",\"\",IF(I13=1,VLOOKUP(AI13,男子種目コード!$A$1:$B$29,2,FALSE),IF(I13=2,VLOOKUP(AI13,女子種目コード!$A$1:$B$30,2,FALSE))))","v":""},null,0,2,null,null,null,"100H","",0,0,"","100m",{"$f":"COUNTIF($P$7:$P$116,AX13)+COUNTIF($U$7:$U$116,AX13)+COUNTIF($Z$7:$Z$116,AX13)+COUNTIF($AE$7:$AE$116,AX13)","v":0},104,null,null,null,null,null,null,null,null,0,"",""]
[null,{"$f":"名簿!Q16","v":""},null,null,{"$f":"名簿!E16","v":0},{"$f":"名簿!BR16","v":""},{"$f":"名簿!Z16","v":""},"",{"$f":"名簿!O16","v":""},{"$f":"名簿!I16","v":0},{"$f":"名簿!K16","v":0},{"$f":"名簿!BU16","v":"00"},{"$f":"名簿!R16","v":""},{"$f":"名簿!D16","v":0},null,"",{"$f":"IF(O14=\"\",\"\",HLOOKUP(O14,名簿!$AB$8:$BI$118,9,FALSE))","v":""},0,2,null,"",{"$f":"IF(T14=\"\",\"\",HLOOKUP(T14,名簿!$AB$8:$BI$118,9,FALSE))","v":""},0,2,null,null,{"$f":"IF(Y14=\"\",\"\",HLOOKUP(Y14,名簿!$AB$8:$BI$118,9,FALSE))","v":""},0,2,null,null,{"$f":"IF(AD14=\"\",\"\",HLOOKUP(AD14,名簿!$AB$8:$BI$118,2,FALSE))","v":""},0,2,null,{"$f":"IF(AI14=\"\",\"\",IF(I14=1,VLOOKUP(AI14,男子種目コード!$A$1:$B$29,2,FALSE),IF(I14=2,VLOOKUP(AI14,女子種目コード!$A$1:$B$30,2,FALSE))))","v":""},null,0,2,null,null,null,"110H","",0,0,"","1500m",{"$f":"COUNTIF($P$7:$P$116,AX14)+COUNTIF($U$7:$U$116,AX14)+COUNTIF($Z$7:$Z$116,AX14)+COUNTIF($AE$7:$AE$116,AX14)","v":0},105,null,null,null,null,null,null,null,null,0,"",""]
[null,{"$f":"名簿!Q17","v":""},null,null,{"$f":"名簿!E17","v":0},{"$f":"名簿!BR17","v":""},{"$f":"名簿!Z17","v":""},"",{"$f":"名簿!O17","v":""},{"$f":"名簿!I17","v":0},{"$f":"名簿!K17","v":0},{"$f":"名簿!BU17","v":"00"},{"$f":"名簿!R17","v":""},{"$f":"名簿!D17","v":0},null,"",{"$f":"IF(O15=\"\",\"\",HLOOKUP(O15,名簿!$AB$8:$BI$118,10,FALSE))","v":""},0,2,null,"",{"$f":"IF(T15=\"\",\"\",HLOOKUP(T15,名簿!$AB$8:$BI$118,10,FALSE))","v":""},0,2,null,null,{"$f":"IF(Y15=\"\",\"\",HLOOKUP(Y15,名簿!$AB$8:$BI$118,10,FALSE))","v":""},0,2,null,null,{"$f":"IF(AD15=\"\",\"\",HLOOKUP(AD15,名簿!$AB$8:$BI$118,2,FALSE))","v":""},0,2,null,{"$f":"IF(AI15=\"\",\"\",IF(I15=1,VLOOKUP(AI15,男子種目コード!$A$1:$B$29,2,FALSE),IF(I15=2,VLOOKUP(AI15,女子種目コード!$A$1:$B$30,2,FALSE))))","v":""},null,0,2,null,null,null,"400H","",0,0,"","3000m",{"$f":"COUNTIF($P$7:$P$116,AX15)+COUNTIF($U$7:$U$116,AX15)+COUNTIF($Z$7:$Z$116,AX15)+COUNTIF($AE$7:$AE$116,AX15)","v":0},106,null,null,null,null,null,null,null,null,0,"",""]
[null,{"$f":"名簿!Q18","v":""},null,null,{"$f":"名簿!E18","v":0},{"$f":"名簿!BR18","v":""},{"$f":"名簿!Z18","v":""},"",{"$f":"名簿!O18","v":""},{"$f":"名簿!I18","v":0},{"$f":"名簿!K18","v":0},{"$f":"名簿!BU18","v":"00"},{"$f":"名簿!R18","v":""},{"$f":"名簿!D18","v":0},null,"",{"$f":"IF(O16=\"\",\"\",HLOOKUP(O16,名簿!$AB$8:$BI$118,11,FALSE))","v":""},0,2,null,"",{"$f":"IF(T16=\"\",\"\",HLOOKUP(T16,名簿!$AB$8:$BI$118,11,FALSE))","v":""},0,2,null,null,{"$f":"IF(Y16=\"\",\"\",HLOOKUP(Y16,名簿!$AB$8:$BI$118,11,FALSE))","v":""},0,2,null,null,{"$f":"IF(AD16=\"\",\"\",HLOOKUP(AD16,名簿!$AB$8:$BI$118,2,FALSE))","v":""},0,2,null,{"$f":"IF(AI16=\"\",\"\",IF(I16=1,VLOOKUP(AI16,男子種目コード!$A$1:$B$29,2,FALSE),IF(I16=2,VLOOKUP(AI16,女子種目コード!$A$1:$B$30,2,FALSE))))","v":""},null,0,2,null,null,null,"3000SC","",0,0,"","棒高跳",0,107,null,null,null,null,null,null,null,null,0,"",""]
[null,{"$f":"名簿!Q19","v":""},null,null,{"$f":"名簿!E19","v":0},{"$f":"名簿!BR19","v":""},{"$f":"名簿!Z19","v":""},"",{"$f":"名簿!O19","v":""},{"$f":"名簿!I19","v":0},{"$f":"名簿!K19","v":0},{"$f":"名簿!BU19","v":"00"},{"$f":"名簿!R19","v":""},{"$f":"名簿!D19","v":0},null,"",{"$f":"IF(O17=\"\",\"\",HLOOKUP(O17,名簿!$AB$8:$BI$118,12,FALSE))","v":""},0,2,null,"",{"$f":"IF(T17=\"\",\"\",HLOOKUP(T17,名簿!$AB$8:$BI$118,12,FALSE))","v":""},0,2,null,null,{"$f":"IF(Y17=\"\",\"\",HLOOKUP(Y17,名簿!$AB$8:$BI$118,12,FALSE))","v":""},0,2,null,null,{"$f":"IF(AD17=\"\",\"\",HLOOKUP(AD17,名簿!$AB$8:$BI$118,2,FALSE))","v":""},0,2,null,{"$f":"IF(AI17=\"\",\"\",IF(I17=1,VLOOKUP(AI17,男子種目コード!$A$1:$B$29,2,FALSE),IF(I17=2,VLOOKUP(AI17,女子種目コード!$A$1:$B$30,2,FALSE))))","v":""},null,0,2,null,null,null,"5000W","",0,0,"","計",{"$f":"SUM($AW$13:$AW$16)","v":0},null,null,null,null,null,null,null,null,null,0,"",""]
[null,{"$f":"名簿!Q20","v":""},null,null,{"$f":"名簿!E20","v":0},{"$f":"名簿!BR20","v":""},{"$f":"名簿!Z20","v":""},"",{"$f":"名簿!O20","v":""},{"$f":"名簿!I20","v":0},{"$f":"名簿!K20","v":0},{"$f":"名簿!BU20","v":"00"},{"$f":"名簿!R20","v":""},{"$f":"名簿!D20","v":0},null,"",{"$f":"IF(O18=\"\",\"\",HLOOKUP(O18,名簿!$AB$8:$BI$118,13,FALSE))","v":""},0,2,null,"",{"$f":"IF(T18=\"\",\"\",HLOOKUP(T18,名簿!$AB$8:$BI$118,13,FALSE))","v":""},0,2,null,null,{"$f":"IF(Y18=\"\",\"\",HLOOKUP(Y18,名簿!$AB$8:$BI$118,13,FALSE))","v":""},0,2,null,null,{"$f":"IF(AD18=\"\",\"\",HLOOKUP(AD18,名簿!$AB$8:$BI$118,2,FALSE))","v":""},0,2,null,{"$f":"IF(AI18=\"\",\"\",IF(I18=1,VLOOKUP(AI18,男子種目コード!$A$1:$B$29,2,FALSE),IF(I18=2,VLOOKUP(AI18,女子種目コード!$A$1:$B$30,2,FALSE))))","v":""},null,0,2,null,null,null,"走高跳","",0,0,"","合計",{"$f":"AW11+AW17","v":0},null,null,null,null,null,null,null,null,null,0,"",""]
[null,{"$f":"名簿!Q21","v":""},null,null,{"$f":"名簿!E21","v":0},{"$f":"名簿!BR21","v":""},{"$f":"名簿!Z21","v":""},"",{"$f":"名簿!O21","v":""},{"$f":"名簿!I21","v":0},{"$f":"名簿!K21","v":0},{"$f":"名簿!BU21","v":"00"},{"$f":"名簿!R21","v":""},{"$f":"名簿!D21","v":0},null,"",{"$f":"IF(O19=\"\",\"\",HLOOKUP(O19,名簿!$AB$8:$BI$118,14,FALSE))","v":""},0,2,null,"",{"$f":"IF(T19=\"\",\"\",HLOOKUP(T19,名簿!$AB$8:$BI$118,14,FALSE))","v":""},0,2,null,null,{"$f":"IF(Y19=\"\",\"\",HLOOKUP(Y19,名簿!$AB$8:$BI$118,14,FALSE))","v":""},0,2,null,null,{"$f":"IF(AD19=\"\",\"\",HLOOKUP(AD19,名簿!$AB$8:$BI$118,2,FALSE))","v":""},0,2,null,{"$f":"IF(AI19=\"\",\"\",IF(I19=1,VLOOKUP(AI19,男子種目コード!$A$1:$B$29,2,FALSE),IF(I19=2,VLOOKUP(AI19,女子種目コード!$A$1:$B$30,2,FALSE))))","v":""},null,0,2,null,null,null,"棒高跳","",0,0,"",null,null,null,null,null,null,null,null,null,null,null,0,"",""]
[null,{"$f":"名簿!Q22","v":""},null,null,{"$f":"名簿!E22","v":0},{"$f":"名簿!BR22","v":""},{"$f":"名簿!Z22","v":""},"",{"$f":"名簿!O22","v":""},{"$f":"名簿!I22","v":0},{"$f":"名簿!K22","v":0},{"$f":"名簿!BU22","v":"00"},{"$f":"名簿!R22","v":""},{"$f":"名簿!D22","v":0},null,"",{"$f":"IF(O20=\"\",\"\",HLOOKUP(O20,名簿!$AB$8:$BI$118,15,FALSE))","v":""},0,2,null,"",{"$f":"IF(T20=\"\",\"\",HLOOKUP(T20,名簿!$AB$8:$BI$118,15,FALSE))","v":""},0,2,null,null,{"$f":"IF(Y20=\"\",\"\",HLOOKUP(Y20,名簿!$AB$8:$BI$118,15,FALSE))","v":""},0,2,null,null,{"$f":"IF(AD20=\"\",\"\",HLOOKUP(AD20,名簿!$AB$8:$BI$118,2,FALSE))","v":""},0,2,null,{"$f":"IF(AI20=\"\",\"\",IF(I20=1,VLOOKUP(AI20,男子種目コード!$A$1:$B$29,2,FALSE),IF(I20=2,VLOOKUP(AI20,女子種目コード!$A$1:$B$30,2,FALSE))))","v":""},null,0,2,null,null,null,"走幅跳","",0,0,"",null,null,null,null,null,null,null,null,null,null,null,0,"",""]
[null,{"$f":"名簿!Q23","v":""},null,null,{"$f":"名簿!E23","v":0},{"$f":"名簿!BR23","v":""},{"$f":"名簿!Z23","v":""},"",{"$f":"名簿!O23","v":""},{"$f":"名簿!I23","v":0},{"$f":"名簿!K23","v":0},{"$f":"名簿!BU23","v":"00"},{"$f":"名簿!R23","v":""},{"$f":"名簿!D23","v":0},null,"",{"$f":"IF(O21=\"\",\"\",HLOOKUP(O21,名簿!$AB$8:$BI$118,16,FALSE))","v":""},0,2,null,"",{"$f":"IF(T21=\"\",\"\",HLOOKUP(T21,名簿!$AB$8:$BI$118,16,FALSE))","v":""},0,2,null,null,{"$f":"IF(Y21=\"\",\"\",HLOOKUP(Y21,名簿!$AB$8:$BI$118,16,FALSE))","v":""},0,2,null,null,{"$f":"IF(AD21=\"\",\"\",HLOOKUP(AD21,名簿!$AB$8:$BI$118,2,FALSE))","v":""},0,2,null,{"$f":"IF(AI21=\"\",\"\",IF(I21=1,VLOOKUP(AI21,男子種目コード!$A$1:$B$29,2,FALSE),IF(I21=2,VLOOKUP(AI21,女子種目コード!$A$1:$B$30,2,FALSE))))","v":""},null,0,2,null,null,null,"三段跳","",0,0,"",null,null,null,null,null,null,null,null,null,null,null,0,"",""]
[null,{"$f":"名簿!Q24","v":""},null,null,{"$f":"名簿!E24","v":0},{"$f":"名簿!BR24","v":""},{"$f":"名簿!Z24","v":""},"",{"$f":"名簿!O24","v":""},{"$f":"名簿!I24","v":0},{"$f":"名簿!K24","v":0},{"$f":"名簿!BU24","v":"00"},{"$f":"名簿!R24","v":""},{"$f":"名簿!D24","v":0},null,"",{"$f":"IF(O22=\"\",\"\",HLOOKUP(O22,名簿!$AB$8:$BI$118,17,FALSE))","v":""},0,2,null,"",{"$f":"IF(T22=\"\",\"\",HLOOKUP(T22,名簿!$AB$8:$BI$118,17,FALSE))","v":""},0,2,null,null,{"$f":"IF(Y22=\"\",\"\",HLOOKUP(Y22,名簿!$AB$8:$BI$118,17,FALSE))","v":""},0,2,null,null,{"$f":"IF(AD22=\"\",\"\",HLOOKUP(AD22,名簿!$AB$8:$BI$118,2,FALSE))","v":""},0,2,null,{"$f":"IF(AI22=\"\",\"\",IF(I22=1,VLOOKUP(AI22,男子種目コード!$A$1:$B$29,2,FALSE),IF(I22=2,VLOOKUP(AI22,女子種目コード!$A$1:$B$30,2,FALSE))))","v":""},null,0,2,null,null,null,"砲丸投","",0,0,"",null,null,null,null,null,null,null,null,null,null,null,0,"",""]
[null,{"$f":"名簿!Q25","v":""},null,null,{"$f":"名簿!E25","v":0},{"$f":"名簿!BR25","v":""},{"$f":"名簿!Z25","v":""},"",{"$f":"名簿!O25","v":""},{"$f":"名簿!I25","v":0},{"$f":"名簿!K25","v":0},{"$f":"名簿!BU25","v":"00"},{"$f":"名簿!R25","v":""},{"$f":"名簿!D25","v":0},null,"",{"$f":"IF(O23=\"\",\"\",HLOOKUP(O23,名簿!$AB$8:$BI$118,18,FALSE))","v":""},0,2,null,"",{"$f":"IF(T23=\"\",\"\",HLOOKUP(T23,名簿!$AB$8:$BI$118,18,FALSE))","v":""},0,2,null,null,{"$f":"IF(Y23=\"\",\"\",HLOOKUP(Y23,名簿!$AB$8:$BI$118,18,FALSE))","v":""},0,2,null,null,{"$f":"IF(AD23=\"\",\"\",HLOOKUP(AD23,名簿!$AB$8:$BI$118,2,FALSE))","v":""},0,2,null,{"$f":"IF(AI23=\"\",\"\",IF(I23=1,VLOOKUP(AI23,男子種目コード!$A$1:$B$29,2,FALSE),IF(I23=2,VLOOKUP(AI23,女子種目コード!$A$1:$B$30,2,FALSE))))","v":""},null,0,2,null,null,null,"円盤投","",0,0,"",null,null,null,null,null,null,null,null,null,null,null,0,"",""]
[null,{"$f":"名簿!Q26","v":""},null,null,{"$f":"名簿!E26","v":0},{"$f":"名簿!BR26","v":""},{"$f":"名簿!Z26","v":""},"",{"$f":"名簿!O26","v":""},{"$f":"名簿!I26","v":0},{"$f":"名簿!K26","v":0},{"$f":"名簿!BU26","v":"00"},{"$f":"名簿!R26","v":""},{"$f":"名簿!D26","v":0},null,"",{"$f":"IF(O24=\"\",\"\",HLOOKUP(O24,名簿!$AB$8:$BI$118,19,FALSE))","v":""},0,2,null,"",{"$f":"IF(T24=\"\",\"\",HLOOKUP(T24,名簿!$AB$8:$BI$118,19,FALSE))","v":""},0,2,null,null,{"$f":"IF(Y24=\"\",\"\",HLOOKUP(Y24,名簿!$AB$8:$BI$118,19,FALSE))","v":""},0,2,null,null,{"$f":"IF(AD24=\"\",\"\",HLOOKUP(AD24,名簿!$AB$8:$BI$118,2,FALSE))","v":""},0,2,null,{"$f":"IF(AI24=\"\",\"\",IF(I24=1,VLOOKUP(AI24,男子種目コード!$A$1:$B$29,2,FALSE),IF(I24=2,VLOOKUP(AI24,女子種目コード!$A$1:$B$30,2,FALSE))))","v":""},null,0,2,null,null,null,"ハンマー投","",0,0,"",null,null,null,null,null,null,null,null,null,null,null,0,"",""]
[null,{"$f":"名簿!Q27","v":""},null,null,{"$f":"名簿!E27","v":0},{"$f":"名簿!BR27","v":""},{"$f":"名簿!Z27","v":""},"",{"$f":"名簿!O27","v":""},{"$f":"名簿!I27","v":0},{"$f":"名簿!K27","v":0},{"$f":"名簿!BU27","v":"00"},{"$f":"名簿!R27","v":""},{"$f":"名簿!D27","v":0},null,"",{"$f":"IF(O25=\"\",\"\",HLOOKUP(O25,名簿!$AB$8:$BI$118,20,FALSE))","v":""},0,2,null,"",{"$f":"IF(T25=\"\",\"\",HLOOKUP(T25,名簿!$AB$8:$BI$118,20,FALSE))","v":""},0,2,null,null,{"$f":"IF(Y25=\"\",\"\",HLOOKUP(Y25,名簿!$AB$8:$BI$118,20,FALSE))","v":""},0,2,null,null,{"$f":"IF(AD25=\"\",\"\",HLOOKUP(AD25,名簿!$AB$8:$BI$118,2,FALSE))","v":""},0,2,null,{"$f":"IF(AI25=\"\",\"\",IF(I25=1,VLOOKUP(AI25,男子種目コード!$A$1:$B$29,2,FALSE),IF(I25=2,VLOOKUP(AI25,女子種目コード!$A$1:$B$30,2,FALSE))))","v":""},null,0,2,null,null,null,"やり投","",0,0,"",null,null,null,null,null,null,null,null,null,null,null,0,"",""]
[null,{"$f":"名簿!Q28","v":""},null,null,{"$f":"名簿!E28","v":0},{"$f":"名簿!BR28","v":""},{"$f":"名簿!Z28","v":""},"",{"$f":"名簿!O28","v":""},{"$f":"名簿!I28","v":0},{"$f":"名簿!K28","v":0},{"$f":"名簿!BU28","v":"00"},{"$f":"名簿!R28","v":""},{"$f":"名簿!D28","v":0},null,"",{"$f":"IF(O26=\"\",\"\",HLOOKUP(O26,名簿!$AB$8:$BI$118,21,FALSE))","v":""},0,2,null,"",{"$f":"IF(T26=\"\",\"\",HLOOKUP(T26,名簿!$AB$8:$BI$118,21,FALSE))","v":""},0,2,null,null,{"$f":"IF(Y26=\"\",\"\",HLOOKUP(Y26,名簿!$AB$8:$BI$118,21,FALSE))","v":""},0,2,null,null,{"$f":"IF(AD26=\"\",\"\",HLOOKUP(AD26,名簿!$AB$8:$BI$118,2,FALSE))","v":""},0,2,null,{"$f":"IF(AI26=\"\",\"\",IF(I26=1,VLOOKUP(AI26,男子種目コード!$A$1:$B$29,2,FALSE),IF(I26=2,VLOOKUP(AI26,女子種目コード!$A$1:$B$30,2,FALSE))))","v":""},null,0,2,null,null,null,"少年B100H","",0,0,"",null,null,null,null,null,null,null,null,null,null,null,0,"",""]
[null,{"$f":"名簿!Q29","v":""},null,null,{"$f":"名簿!E29","v":0},{"$f":"名簿!BR29","v":""},{"$f":"名簿!Z29","v":""},"",{"$f":"名簿!O29","v":""},{"$f":"名簿!I29","v":0},{"$f":"名簿!K29","v":0},{"$f":"名簿!BU29","v":"00"},{"$f":"名簿!R29","v":""},{"$f":"名簿!D29","v":0},null,"",{"$f":"IF(O27=\"\",\"\",HLOOKUP(O27,名簿!$AB$8:$BI$118,22,FALSE))","v":""},0,2,null,"",{"$f":"IF(T27=\"\",\"\",HLOOKUP(T27,名簿!$AB$8:$BI$118,22,FALSE))","v":""},0,2,null,null,{"$f":"IF(Y27=\"\",\"\",HLOOKUP(Y27,名簿!$AB$8:$BI$118,22,FALSE))","v":""},0,2,null,null,{"$f":"IF(AD27=\"\",\"\",HLOOKUP(AD27,名簿!$AB$8:$BI$118,2,FALSE))","v":""},0,2,null,{"$f":"IF(AI27=\"\",\"\",IF(I27=1,VLOOKUP(AI27,男子種目コード!$A$1:$B$29,2,FALSE),IF(I27=2,VLOOKUP(AI27,女子種目コード!$A$1:$B$30,2,FALSE))))","v":""},null,0,2,null,null,null,"少年3000","",0,0,"",null,null,null,null,null,null,null,null,null,null,null,0,"",""]
[null,{"$f":"名簿!Q30","v":""},null,null,{"$f":"名簿!E30","v":0},{"$f":"名簿!BR30","v":""},{"$f":"名簿!Z30","v":""},"",{"$f":"名簿!O30","v":""},{"$f":"名簿!I30","v":0},{"$f":"名簿!K30","v":0},{"$f":"名簿!BU30","v":"00"},{"$f":"名簿!R30","v":""},{"$f":"名簿!D30","v":0},null,"",{"$f":"IF(O28=\"\",\"\",HLOOKUP(O28,名簿!$AB$8:$BI$118,23,FALSE))","v":""},0,2,null,"",{"$f":"IF(T28=\"\",\"\",HLOOKUP(T28,名簿!$AB$8:$BI$118,23,FALSE))","v":""},0,2,null,null,{"$f":"IF(Y28=\"\",\"\",HLOOKUP(Y28,名簿!$AB$8:$BI$118,23,FALSE))","v":""},0,2,null,null,{"$f":"IF(AD28=\"\",\"\",HLOOKUP(AD28,名簿!$AB$8:$BI$118,2,FALSE))","v":""},0,2,null,{"$f":"IF(AI28=\"\",\"\",IF(I28=1,VLOOKUP(AI28,男子種目コード!$A$1:$B$29,2,FALSE),IF(I28=2,VLOOKUP(AI28,女子種目コード!$A$1:$B$30,2,FALSE))))","v":""},null,0,2,null,null,null,"少年砲丸投","",0,0,"",null,null,null,null,null,null,null,null,null,null,null,0,"",""]
[null,{"$f":"名簿!Q31","v":""},null,null,{"$f":"名簿!E31","v":0},{"$f":"名簿!BR31","v":""},{"$f":"名簿!Z31","v":""},"",{"$f":"名簿!O31","v":""},{"$f":"名簿!I31","v":0},{"$f":"名簿!K31","v":0},{"$f":"名簿!BU31","v":"00"},{"$f":"名簿!R31","v":""},{"$f":"名簿!D31","v":0},null,"",{"$f":"IF(O29=\"\",\"\",HLOOKUP(O29,名簿!$AB$8:$BI$118,24,FALSE))","v":""},0,2,null,"",{"$f":"IF(T29=\"\",\"\",HLOOKUP(T29,名簿!$AB$8:$BI$118,24,FALSE))","v":""},0,2,null,null,{"$f":"IF(Y29=\"\",\"\",HLOOKUP(Y29,名簿!$AB$8:$BI$118,24,FALSE))","v":""},0,2,null,null,{"$f":"IF(AD29=\"\",\"\",HLOOKUP(AD29,名簿!$AB$8:$BI$118,2,FALSE))","v":""},0,2,null,{"$f":"IF(AI29=\"\",\"\",IF(I29=1,VLOOKUP(AI29,男子種目コード!$A$1:$B$29,2,FALSE),IF(I29=2,VLOOKUP(AI29,女子種目コード!$A$1:$B$30,2,FALSE))))","v":""},null,0,2,null,null,null,"少年円盤投","",0,0,"",null,null,null,null,null,null,null,null,null,null,null,0,"",""]
[null,{"$f":"名簿!Q32","v":""},null,null,{"$f":"名簿!E32","v":0},{"$f":"名簿!BR32","v":""},{"$f":"名簿!Z32","v":""},"",{"$f":"名簿!O32","v":""},{"$f":"名簿!I32","v":0},{"$f":"名簿!K32","v":0},{"$f":"名簿!BU32","v":"00"},{"$f":"名簿!R32","v":""},{"$f":"名簿!D32","v":0},null,"",{"$f":"IF(O30=\"\",\"\",HLOOKUP(O30,名簿!$AB$8:$BI$118,25,FALSE))","v":""},0,2,null,"",{"$f":"IF(T30=\"\",\"\",HLOOKUP(T30,名簿!$AB$8:$BI$118,25,FALSE))","v":""},0,2,null,null,{"$f":"IF(Y30=\"\",\"\",HLOOKUP(Y30,名簿!$AB$8:$BI$118,25,FALSE))","v":""},0,2,null,null,{"$f":"IF(AD30=\"\",\"\",HLOOKUP(AD30,名簿!$AB$8:$BI$118,2,FALSE))","v":""},0,2,null,{"$f":"IF(AI30=\"\",\"\",IF(I30=1,VLOOKUP(AI30,男子種目コード!$A$1:$B$29,2,FALSE),IF(I30=2,VLOOKUP(AI30,女子種目コード!$A$1:$B$30,2,FALSE))))","v":""},null,0,2,null,null,null,"少年ハンマー投","",0,0,"",null,null,null,null,null,null,null,null,null,null,null,0,"",""]
[null,{"$f":"名簿!Q33","v":""},null,null,{"$f":"名簿!E33","v":0},{"$f":"名簿!BR33","v":""},{"$f":"名簿!Z33","v":""},"",{"$f":"名簿!O33","v":""},{"$f":"名簿!I33","v":0},{"$f":"名簿!K33","v":0},{"$f":"名簿!BU33","v":"00"},{"$f":"名簿!R33","v":""},{"$f":"名簿!D33","v":0},null,"",{"$f":"IF(O31=\"\",\"\",HLOOKUP(O31,名簿!$AB$8:$BI$118,26,FALSE))","v":""},0,2,null,"",{"$f":"IF(T31=\"\",\"\",HLOOKUP(T31,名簿!$AB$8:$BI$118,26,FALSE))","v":""},0,2,null,null,{"$f":"IF(Y31=\"\",\"\",HLOOKUP(Y31,名簿!$AB$8:$BI$118,26,FALSE))","v":""},0,2,null,null,{"$f":"IF(AD31=\"\",\"\",HLOOKUP(AD31,名簿!$AB$8:$BI$118,2,FALSE))","v":""},0,2,null,{"$f":"IF(AI31=\"\",\"\",IF(I31=1,VLOOKUP(AI31,男子種目コード!$A$1:$B$29,2,FALSE),IF(I31=2,VLOOKUP(AI31,女子種目コード!$A$1:$B$30,2,FALSE))))","v":""},null,0,2,null,null,null,"男子A","",0,0,"",null,null,null,null,null,null,null,null,null,null,null,0,"",""]
[null,{"$f":"名簿!Q34","v":""},null,null,{"$f":"名簿!E34","v":0},{"$f":"名簿!BR34","v":""},{"$f":"名簿!Z34","v":""},"",{"$f":"名簿!O34","v":""},{"$f":"名簿!I34","v":0},{"$f":"名簿!K34","v":0},{"$f":"名簿!BU34","v":"00"},{"$f":"名簿!R34","v":""},{"$f":"名簿!D34","v":0},null,"",{"$f":"IF(O32=\"\",\"\",HLOOKUP(O32,名簿!$AB$8:$BI$118,27,FALSE))","v":""},0,2,null,"",{"$f":"IF(T32=\"\",\"\",HLOOKUP(T32,名簿!$AB$8:$BI$118,27,FALSE))","v":""},0,2,null,null,{"$f":"IF(Y32=\"\",\"\",HLOOKUP(Y32,名簿!$AB$8:$BI$118,27,FALSE))","v":""},0,2,null,null,{"$f":"IF(AD32=\"\",\"\",HLOOKUP(AD32,名簿!$AB$8:$BI$118,2,FALSE))","v":""},0,2,null,{"$f":"IF(AI32=\"\",\"\",IF(I32=1,VLOOKUP(AI32,男子種目コード!$A$1:$B$29,2,FALSE),IF(I32=2,VLOOKUP(AI32,女子種目コード!$A$1:$B$30,2,FALSE))))","v":""},null,0,2,null,null,null,"男子B","",0,0,"",null,null,null,null,null,null,null,null,null,null,null,0,"",""]
[null,{"$f":"名簿!Q35","v":""},null,null,{"$f":"名簿!E35","v":0},{"$f":"名簿!BR35","v":""},{"$f":"名簿!Z35","v":""},"",{"$f":"名簿!O35","v":""},{"$f":"名簿!I35","v":0},{"$f":"名簿!K35","v":0},{"$f":"名簿!BU35","v":"00"},{"$f":"名簿!R35","v":""},{"$f":"名簿!D35","v":0},null,"",{"$f":"IF(O33=\"\",\"\",HLOOKUP(O33,名簿!$AB$8:$BI$118,28,FALSE))","v":""},0,2,null,"",{"$f":"IF(T33=\"\",\"\",HLOOKUP(T33,名簿!$AB$8:$BI$118,28,FALSE))","v":""},0,2,null,null,{"$f":"IF(Y33=\"\",\"\",HLOOKUP(Y33,名簿!$AB$8:$BI$118,28,FALSE))","v":""},0,2,null,null,{"$f":"IF(AD33=\"\",\"\",HLOOKUP(AD33,名簿!$AB$8:$BI$118,2,FALSE))","v":""},0,2,null,{"$f":"IF(AI33=\"\",\"\",IF(I33=1,VLOOKUP(AI33,男子種目コード!$A$1:$B$29,2,FALSE),IF(I33=2,VLOOKUP(AI33,女子種目コード!$A$1:$B$30,2,FALSE))))","v":""},null,0,2,null,null,null,"男子C","",0,0,"",null,null,null,null,null,null,null,null,null,null,null,0,"",""]
[null,{"$f":"名簿!Q36","v":""},null,null,{"$f":"名簿!E36","v":0},{"$f":"名簿!BR36","v":""},{"$f":"名簿!Z36","v":""},"",{"$f":"名簿!O36","v":""},{"$f":"名簿!I36","v":0},{"$f":"名簿!K36","v":0},{"$f":"名簿!BU36","v":"00"},{"$f":"名簿!R36","v":""},{"$f":"名簿!D36","v":0},null,"",{"$f":"IF(O34=\"\",\"\",HLOOKUP(O34,名簿!$AB$8:$BI$118,29,FALSE))","v":""},0,2,null,"",{"$f":"IF(T34=\"\",\"\",HLOOKUP(T34,名簿!$AB$8:$BI$118,29,FALSE))","v":""},0,2,null,null,{"$f":"IF(Y34=\"\",\"\",HLOOKUP(Y34,名簿!$AB$8:$BI$118,29,FALSE))","v":""},0,2,null,null,{"$f":"IF(AD34=\"\",\"\",HLOOKUP(AD34,名簿!$AB$8:$BI$118,2,FALSE))","v":""},0,2,null,{"$f":"IF(AI34=\"\",\"\",IF(I34=1,VLOOKUP(AI34,男子種目コード!$A$1:$B$29,2,FALSE),IF(I34=2,VLOOKUP(AI34,女子種目コード!$A$1:$B$30,2,FALSE))))","v":""},null,0,2,null,null,null,"女子A","",0,0,"",null,null,null,null,null,null,null,null,null,null,null,0,"",""]
[null,{"$f":"名簿!Q37","v":""},null,null,{"$f":"名簿!E37","v":0},{"$f":"名簿!BR37","v":""},{"$f":"名簿!Z37","v":""},"",{"$f":"名簿!O37","v":""},{"$f":"名簿!I37","v":0},{"$f":"名簿!K37","v":0},{"$f":"名簿!BU37","v":"00"},{"$f":"名簿!R37","v":""},{"$f":"名簿!D37","v":0},null,"",{"$f":"IF(O35=\"\",\"\",HLOOKUP(O35,名簿!$AB$8:$BI$118,30,FALSE))","v":""},0,2,null,"",{"$f":"IF(T35=\"\",\"\",HLOOKUP(T35,名簿!$AB$8:$BI$118,30,FALSE))","v":""},0,2,null,null,{"$f":"IF(Y35=\"\",\"\",HLOOKUP(Y35,名簿!$AB$8:$BI$118,30,FALSE))","v":""},0,2,null,null,{"$f":"IF(AD35=\"\",\"\",HLOOKUP(AD35,名簿!$AB$8:$BI$118,2,FALSE))","v":""},0,2,null,{"$f":"IF(AI35=\"\",\"\",IF(I35=1,VLOOKUP(AI35,男子種目コード!$A$1:$B$29,2,FALSE),IF(I35=2,VLOOKUP(AI35,女子種目コード!$A$1:$B$30,2,FALSE))))","v":""},null,0,2,null,null,null,"女子B","",0,0,"",null,null,null,null,null,null,null,null,null,null,null,0,"",""]
[null,{"$f":"名簿!Q38","v":""},null,null,{"$f":"名簿!E38","v":0},{"$f":"名簿!BR38","v":""},{"$f":"名簿!Z38","v":""},"",{"$f":"名簿!O38","v":""},{"$f":"名簿!I38","v":0},{"$f":"名簿!K38","v":0},{"$f":"名簿!BU38","v":"00"},{"$f":"名簿!R38","v":""},{"$f":"名簿!D38","v":0},null,"",{"$f":"IF(O36=\"\",\"\",HLOOKUP(O36,名簿!$AB$8:$BI$118,31,FALSE))","v":""},0,2,null,"",{"$f":"IF(T36=\"\",\"\",HLOOKUP(T36,名簿!$AB$8:$BI$118,31,FALSE))","v":""},0,2,null,null,{"$f":"IF(Y36=\"\",\"\",HLOOKUP(Y36,名簿!$AB$8:$BI$118,31,FALSE))","v":""},0,2,null,null,{"$f":"IF(AD36=\"\",\"\",HLOOKUP(AD36,名簿!$AB$8:$BI$118,2,FALSE))","v":""},0,2,null,{"$f":"IF(AI36=\"\",\"\",IF(I36=1,VLOOKUP(AI36,男子種目コード!$A$1:$B$29,2,FALSE),IF(I36=2,VLOOKUP(AI36,女子種目コード!$A$1:$B$30,2,FALSE))))","v":""},null,0,2,null,null,null,"女子C","",0,0,"",null,null,null,null,null,null,null,null,null,null,null,0,"",""]
[null,{"$f":"名簿!Q39","v":""},null,null,{"$f":"名簿!E39","v":0},{"$f":"名簿!BR39","v":""},{"$f":"名簿!Z39","v":""},"",{"$f":"名簿!O39","v":""},{"$f":"名簿!I39","v":0},{"$f":"名簿!K39","v":0},{"$f":"名簿!BU39","v":"00"},{"$f":"名簿!R39","v":""},{"$f":"名簿!D39","v":0},null,"",{"$f":"IF(O37=\"\",\"\",HLOOKUP(O37,名簿!$AB$8:$BI$118,32,FALSE))","v":""},0,2,null,"",{"$f":"IF(T37=\"\",\"\",HLOOKUP(T37,名簿!$AB$8:$BI$118,32,FALSE))","v":""},0,2,null,null,{"$f":"IF(Y37=\"\",\"\",HLOOKUP(Y37,名簿!$AB$8:$BI$118,32,FALSE))","v":""},0,2,null,null,{"$f":"IF(AD37=\"\",\"\",HLOOKUP(AD37,名簿!$AB$8:$BI$118,2,FALSE))","v":""},0,2,null,{"$f":"IF(AI37=\"\",\"\",IF(I37=1,VLOOKUP(AI37,男子種目コード!$A$1:$B$29,2,FALSE),IF(I37=2,VLOOKUP(AI37,女子種目コード!$A$1:$B$30,2,FALSE))))","v":""},null,0,2,null,null,null,null,"",0,0,"",null,null,null,null,null,null,null,null,null,null,null,0,"",""]
[null,{"$f":"名簿!Q40","v":""},null,null,{"$f":"名簿!E40","v":0},{"$f":"名簿!BR40","v":""},{"$f":"名簿!Z40","v":""},"",{"$f":"名簿!O40","v":""},{"$f":"名簿!I40","v":0},{"$f":"名簿!K40","v":0},{"$f":"名簿!BU40","v":"00"},{"$f":"名簿!R40","v":""},{"$f":"名簿!D40","v":0},null,"",{"$f":"IF(O38=\"\",\"\",HLOOKUP(O38,名簿!$AB$8:$BI$118,33,FALSE))","v":""},0,2,null,"",{"$f":"IF(T38=\"\",\"\",HLOOKUP(T38,名簿!$AB$8:$BI$118,33,FALSE))","v":""},0,2,null,null,{"$f":"IF(Y38=\"\",\"\",HLOOKUP(Y38,名簿!$AB$8:$BI$118,33,FALSE))","v":""},0,2,null,null,{"$f":"IF(AD38=\"\",\"\",HLOOKUP(AD38,名簿!$AB$8:$BI$118,2,FALSE))","v":""},0,2,null,{"$f":"IF(AI38=\"\",\"\",IF(I38=1,VLOOKUP(AI38,男子種目コード!$A$1:$B$29,2,FALSE),IF(I38=2,VLOOKUP(AI38,女子種目コード!$A$1:$B$30,2,FALSE))))","v":""},null,0,2,null,null,null,null,"",0,0,"",null,null,null,null,null,null,null,null,null,null,null,0,"",""]
[null,{"$f":"名簿!Q41","v":""},null,null,{"$f":"名簿!E41","v":0},{"$f":"名簿!BR41","v":""},{"$f":"名簿!Z41","v":""},"",{"$f":"名簿!O41","v":""},{"$f":"名簿!I41","v":0},{"$f":"名簿!K41","v":0},{"$f":"名簿!BU41","v":"00"},{"$f":"名簿!R41","v":""},{"$f":"名簿!D41","v":0},null,"",{"$f":"IF(O39=\"\",\"\",HLOOKUP(O39,名簿!$AB$8:$BI$118,34,FALSE))","v":""},0,2,null,{"$f":"IF(T39=\"\",\"\",IF($I39=1,VLOOKUP(T39,$AV$8:$AX$10,3,FALSE),IF($I39=2,VLOOKUP(T39,$AV$13:$AX$16,3,FALSE))))","v":""},{"$f":"IF(T39=\"\",\"\",HLOOKUP(T39,名簿!$AB$8:$BI$118,34,FALSE))","v":""},0,2,null,null,{"$f":"IF(Y39=\"\",\"\",HLOOKUP(Y39,名簿!$AB$8:$BI$118,34,FALSE))","v":""},0,2,null,null,{"$f":"IF(AD39=\"\",\"\",HLOOKUP(AD39,名簿!$AB$8:$BI$118,2,FALSE))","v":""},0,2,null,{"$f":"IF(AI39=\"\",\"\",IF(I39=1,VLOOKUP(AI39,男子種目コード!$A$1:$B$29,2,FALSE),IF(I39=2,VLOOKUP(AI39,女子種目コード!$A$1:$B$30,2,FALSE))))","v":""},null,0,2,null,null,null,null,"",0,0,"",null,null,null,null,null,null,null,null,null,null,null,0,"",""]
[null,{"$f":"名簿!Q42","v":""},null,null,{"$f":"名簿!E42","v":0},{"$f":"名簿!BR42","v":""},{"$f":"名簿!Z42","v":""},"",{"$f":"名簿!O42","v":""},{"$f":"名簿!I42","v":0},{"$f":"名簿!K42","v":0},{"$f":"名簿!BU42","v":"00"},{"$f":"名簿!R42","v":""},{"$f":"名簿!D42","v":0},null,"",{"$f":"IF(O40=\"\",\"\",HLOOKUP(O40,名簿!$AB$8:$BI$118,35,FALSE))","v":""},0,2,null,"",{"$f":"IF(T40=\"\",\"\",HLOOKUP(T40,名簿!$AB$8:$BI$118,35,FALSE))","v":""},0,2,null,null,{"$f":"IF(Y40=\"\",\"\",HLOOKUP(Y40,名簿!$AB$8:$BI$118,35,FALSE))","v":""},0,2,null,null,{"$f":"IF(AD40=\"\",\"\",HLOOKUP(AD40,名簿!$AB$8:$BI$118,2,FALSE))","v":""},0,2,null,{"$f":"IF(AI40=\"\",\"\",IF(I40=1,VLOOKUP(AI40,男子種目コード!$A$1:$B$29,2,FALSE),IF(I40=2,VLOOKUP(AI40,女子種目コード!$A$1:$B$30,2,FALSE))))","v":""},null,0,2,null,null,null,null,"",0,0,"",null,null,null,null,null,null,null,null,null,null,null,0,"",""]
[null,{"$f":"名簿!Q43","v":""},null,null,{"$f":"名簿!E43","v":0},{"$f":"名簿!BR43","v":""},{"$f":"名簿!Z43","v":""},"",{"$f":"名簿!O43","v":""},{"$f":"名簿!I43","v":0},{"$f":"名簿!K43","v":0},{"$f":"名簿!BU43","v":"00"},{"$f":"名簿!R43","v":""},{"$f":"名簿!D43","v":0},null,"",{"$f":"IF(O41=\"\",\"\",HLOOKUP(O41,名簿!$AB$8:$BI$118,36,FALSE))","v":""},0,2,null,"",{"$f":"IF(T41=\"\",\"\",HLOOKUP(T41,名簿!$AB$8:$BI$118,36,FALSE))","v":""},0,2,null,null,{"$f":"IF(Y41=\"\",\"\",HLOOKUP(Y41,名簿!$AB$8:$BI$118,36,FALSE))","v":""},0,2,null,null,{"$f":"IF(AD41=\"\",\"\",HLOOKUP(AD41,名簿!$AB$8:$BI$118,2,FALSE))","v":""},0,2,null,{"$f":"IF(AI41=\"\",\"\",IF(I41=1,VLOOKUP(AI41,男子種目コード!$A$1:$B$29,2,FALSE),IF(I41=2,VLOOKUP(AI41,女子種目コード!$A$1:$B$30,2,FALSE))))","v":""},null,0,2,null,null,null,null,"",0,0,"",null,null,null,null,null,null,null,null,null,null,null,0,"",""]
[null,{"$f":"名簿!Q44","v":""},null,null,{"$f":"名簿!E44","v":0},{"$f":"名簿!BR44","v":""},{"$f":"名簿!Z44","v":""},"",{"$f":"名簿!O44","v":""},{"$f":"名簿!I44","v":0},{"$f":"名簿!K44","v":0},{"$f":"名簿!BU44","v":"00"},{"$f":"名簿!R44","v":""},{"$f":"名簿!D44","v":0},null,"",{"$f":"IF(O42=\"\",\"\",HLOOKUP(O42,名簿!$AB$8:$BI$118,37,FALSE))","v":""},0,2,null,"",{"$f":"IF(T42=\"\",\"\",HLOOKUP(T42,名簿!$AB$8:$BI$118,37,FALSE))","v":""},0,2,null,null,{"$f":"IF(Y42=\"\",\"\",HLOOKUP(Y42,名簿!$AB$8:$BI$118,37,FALSE))","v":""},0,2,null,null,{"$f":"IF(AD42=\"\",\"\",HLOOKUP(AD42,名簿!$AB$8:$BI$118,2,FALSE))","v":""},0,2,null,{"$f":"IF(AI42=\"\",\"\",IF(I42=1,VLOOKUP(AI42,男子種目コード!$A$1:$B$29,2,FALSE),IF(I42=2,VLOOKUP(AI42,女子種目コード!$A$1:$B$30,2,FALSE))))","v":""},null,0,2,null,null,null,null,"",0,0,"",null,null,null,null,null,null,null,null,null,null,null,0,"",""]
[null,{"$f":"名簿!Q45","v":""},null,null,{"$f":"名簿!E45","v":0},{"$f":"名簿!BR45","v":""},{"$f":"名簿!Z45","v":""},"",{"$f":"名簿!O45","v":""},{"$f":"名簿!I45","v":0},{"$f":"名簿!K45","v":0},{"$f":"名簿!BU45","v":"00"},{"$f":"名簿!R45","v":""},{"$f":"名簿!D45","v":0},null,"",{"$f":"IF(O43=\"\",\"\",HLOOKUP(O43,名簿!$AB$8:$BI$118,38,FALSE))","v":""},0,2,null,"",{"$f":"IF(T43=\"\",\"\",HLOOKUP(T43,名簿!$AB$8:$BI$118,38,FALSE))","v":""},0,2,null,null,{"$f":"IF(Y43=\"\",\"\",HLOOKUP(Y43,名簿!$AB$8:$BI$118,38,FALSE))","v":""},0,2,null,null,{"$f":"IF(AD43=\"\",\"\",HLOOKUP(AD43,名簿!$AB$8:$BI$118,2,FALSE))","v":""},0,2,null,{"$f":"IF(AI43=\"\",\"\",IF(I43=1,VLOOKUP(AI43,男子種目コード!$A$1:$B$29,2,FALSE),IF(I43=2,VLOOKUP(AI43,女子種目コード!$A$1:$B$30,2,FALSE))))","v":""},null,0,2,null,null,null,null,"",0,0,"",null,null,null,null,null,null,null,null,null,null,null,0,"",""]
[null,{"$f":"名簿!Q46","v":""},null,null,{"$f":"名簿!E46","v":0},{"$f":"名簿!BR46","v":""},{"$f":"名簿!Z46","v":""},"",{"$f":"名簿!O46","v":""},{"$f":"名簿!I46","v":0},{"$f":"名簿!K46","v":0},{"$f":"名簿!BU46","v":"00"},{"$f":"名簿!R46","v":""},{"$f":"名簿!D46","v":0},null,"",{"$f":"IF(O44=\"\",\"\",HLOOKUP(O44,名簿!$AB$8:$BI$118,39,FALSE))","v":""},0,2,null,"",{"$f":"IF(T44=\"\",\"\",HLOOKUP(T44,名簿!$AB$8:$BI$118,39,FALSE))","v":""},0,2,null,null,{"$f":"IF(Y44=\"\",\"\",HLOOKUP(Y44,名簿!$AB$8:$BI$118,39,FALSE))","v":""},0,2,null,null,{"$f":"IF(AD44=\"\",\"\",HLOOKUP(AD44,名簿!$AB$8:$BI$118,2,FALSE))","v":""},0,2,null,{"$f":"IF(AI44=\"\",\"\",IF(I44=1,VLOOKUP(AI44,男子種目コード!$A$1:$B$29,2,FALSE),IF(I44=2,VLOOKUP(AI44,女子種目コード!$A$1:$B$30,2,FALSE))))","v":""},null,0,2,null,null,null,null,"",0,0,"",null,null,null,null,null,null,null,null,null,null,null,0,"",""]
[null,{"$f":"名簿!Q47","v":""},null,null,{"$f":"名簿!E47","v":0},{"$f":"名簿!BR47","v":""},{"$f":"名簿!Z47","v":""},"",{"$f":"名簿!O47","v":""},{"$f":"名簿!I47","v":0},{"$f":"名簿!K47","v":0},{"$f":"名簿!BU47","v":"00"},{"$f":"名簿!R47","v":""},{"$f":"名簿!D47","v":0},null,"",{"$f":"IF(O45=\"\",\"\",HLOOKUP(O45,名簿!$AB$8:$BI$118,40,FALSE))","v":""},0,2,null,"",{"$f":"IF(T45=\"\",\"\",HLOOKUP(T45,名簿!$AB$8:$BI$118,40,FALSE))","v":""},0,2,null,null,{"$f":"IF(Y45=\"\",\"\",HLOOKUP(Y45,名簿!$AB$8:$BI$118,40,FALSE))","v":""},0,2,null,null,{"$f":"IF(AD45=\"\",\"\",HLOOKUP(AD45,名簿!$AB$8:$BI$118,2,FALSE))","v":""},0,2,null,{"$f":"IF(AI45=\"\",\"\",IF(I45=1,VLOOKUP(AI45,男子種目コード!$A$1:$B$29,2,FALSE),IF(I45=2,VLOOKUP(AI45,女子種目コード!$A$1:$B$30,2,FALSE))))","v":""},null,0,2,null,null,null,null,"",0,0,"",null,null,null,null,null,null,null,null,null,null,null,0,"",""]
[null,{"$f":"名簿!Q48","v":""},null,null,{"$f":"名簿!E48","v":0},{"$f":"名簿!BR48","v":""},{"$f":"名簿!Z48","v":""},"",{"$f":"名簿!O48","v":""},{"$f":"名簿!I48","v":0},{"$f":"名簿!K48","v":0},{"$f":"名簿!BU48","v":"00"},{"$f":"名簿!R48","v":""},{"$f":"名簿!D48","v":0},null,"",{"$f":"IF(O46=\"\",\"\",HLOOKUP(O46,名簿!$AB$8:$BI$118,41,FALSE))","v":""},0,2,null,"",{"$f":"IF(T46=\"\",\"\",HLOOKUP(T46,名簿!$AB$8:$BI$118,41,FALSE))","v":""},0,2,null,null,{"$f":"IF(Y46=\"\",\"\",HLOOKUP(Y46,名簿!$AB$8:$BI$118,41,FALSE))","v":""},0,2,null,null,{"$f":"IF(AD46=\"\",\"\",HLOOKUP(AD46,名簿!$AB$8:$BI$118,2,FALSE))","v":""},0,2,null,{"$f":"IF(AI46=\"\",\"\",IF(I46=1,VLOOKUP(AI46,男子種目コード!$A$1:$B$29,2,FALSE),IF(I46=2,VLOOKUP(AI46,女子種目コード!$A$1:$B$30,2,FALSE))))","v":""},null,0,2,null,null,null,null,"",0,0,"",null,null,null,null,null,null,null,null,null,null,null,0,"",""]
[null,{"$f":"名簿!Q49","v":""},null,null,{"$f":"名簿!E49","v":0},{"$f":"名簿!BR49","v":""},{"$f":"名簿!Z49","v":""},"",{"$f":"名簿!O49","v":""},{"$f":"名簿!I49","v":0},{"$f":"名簿!K49","v":0},{"$f":"名簿!BU49","v":"00"},{"$f":"名簿!R49","v":""},{"$f":"名簿!D49","v":0},null,"",{"$f":"IF(O47=\"\",\"\",HLOOKUP(O47,名簿!$AB$8:$BI$118,42,FALSE))","v":""},0,2,null,"",{"$f":"IF(T47=\"\",\"\",HLOOKUP(T47,名簿!$AB$8:$BI$118,42,FALSE))","v":""},0,2,null,null,{"$f":"IF(Y47=\"\",\"\",HLOOKUP(Y47,名簿!$AB$8:$BI$118,42,FALSE))","v":""},0,2,null,null,{"$f":"IF(AD47=\"\",\"\",HLOOKUP(AD47,名簿!$AB$8:$BI$118,2,FALSE))","v":""},0,2,null,{"$f":"IF(AI47=\"\",\"\",IF(I47=1,VLOOKUP(AI47,男子種目コード!$A$1:$B$29,2,FALSE),IF(I47=2,VLOOKUP(AI47,女子種目コード!$A$1:$B$30,2,FALSE))))","v":""},null,0,2,null,null,null,null,"",0,0,"",null,null,null,null,null,null,null,null,null,null,null,0,"",""]
[null,{"$f":"名簿!Q50","v":""},null,null,{"$f":"名簿!E50","v":0},{"$f":"名簿!BR50","v":""},{"$f":"名簿!Z50","v":""},"",{"$f":"名簿!O50","v":""},{"$f":"名簿!I50","v":0},{"$f":"名簿!K50","v":0},{"$f":"名簿!BU50","v":"00"},{"$f":"名簿!R50","v":""},{"$f":"名簿!D50","v":0},null,"",{"$f":"IF(O48=\"\",\"\",HLOOKUP(O48,名簿!$AB$8:$BI$118,43,FALSE))","v":""},0,2,null,"",{"$f":"IF(T48=\"\",\"\",HLOOKUP(T48,名簿!$AB$8:$BI$118,43,FALSE))","v":""},0,2,null,null,{"$f":"IF(Y48=\"\",\"\",HLOOKUP(Y48,名簿!$AB$8:$BI$118,43,FALSE))","v":""},0,2,null,null,{"$f":"IF(AD48=\"\",\"\",HLOOKUP(AD48,名簿!$AB$8:$BI$118,2,FALSE))","v":""},0,2,null,{"$f":"IF(AI48=\"\",\"\",IF(I48=1,VLOOKUP(AI48,男子種目コード!$A$1:$B$29,2,FALSE),IF(I48=2,VLOOKUP(AI48,女子種目コード!$A$1:$B$30,2,FALSE))))","v":""},null,0,2,null,null,null,null,"",0,0,"",null,null,null,null,null,null,null,null,null,null,null,0,"",""]
[null,{"$f":"名簿!Q51","v":""},null,null,{"$f":"名簿!E51","v":0},{"$f":"名簿!BR51","v":""},{"$f":"名簿!Z51","v":""},"",{"$f":"名簿!O51","v":""},{"$f":"名簿!I51","v":0},{"$f":"名簿!K51","v":0},{"$f":"名簿!BU51","v":"00"},{"$f":"名簿!R51","v":""},{"$f":"名簿!D51","v":0},null,"",{"$f":"IF(O49=\"\",\"\",HLOOKUP(O49,名簿!$AB$8:$BI$118,44,FALSE))","v":""},0,2,null,"",{"$f":"IF(T49=\"\",\"\",HLOOKUP(T49,名簿!$AB$8:$BI$118,44,FALSE))","v":""},0,2,null,null,{"$f":"IF(Y49=\"\",\"\",HLOOKUP(Y49,名簿!$AB$8:$BI$118,44,FALSE))","v":""},0,2,null,null,{"$f":"IF(AD49=\"\",\"\",HLOOKUP(AD49,名簿!$AB$8:$BI$118,2,FALSE))","v":""},0,2,null,{"$f":"IF(AI49=\"\",\"\",IF(I49=1,VLOOKUP(AI49,男子種目コード!$A$1:$B$29,2,FALSE),IF(I49=2,VLOOKUP(AI49,女子種目コード!$A$1:$B$30,2,FALSE))))","v":""},null,0,2,null,null,null,null,"",0,0,"",null,null,null,null,null,null,null,null,null,null,null,0,"",""]
[null,{"$f":"名簿!Q52","v":""},null,null,{"$f":"名簿!E52","v":0},{"$f":"名簿!BR52","v":""},{"$f":"名簿!Z52","v":""},"",{"$f":"名簿!O52","v":""},{"$f":"名簿!I52","v":0},{"$f":"名簿!K52","v":0},{"$f":"名簿!BU52","v":"00"},{"$f":"名簿!R52","v":""},{"$f":"名簿!D52","v":0},null,"",{"$f":"IF(O50=\"\",\"\",HLOOKUP(O50,名簿!$AB$8:$BI$118,45,FALSE))","v":""},0,2,null,"",{"$f":"IF(T50=\"\",\"\",HLOOKUP(T50,名簿!$AB$8:$BI$118,45,FALSE))","v":""},0,2,null,null,{"$f":"IF(Y50=\"\",\"\",HLOOKUP(Y50,名簿!$AB$8:$BI$118,45,FALSE))","v":""},0,2,null,null,{"$f":"IF(AD50=\"\",\"\",HLOOKUP(AD50,名簿!$AB$8:$BI$118,2,FALSE))","v":""},0,2,null,{"$f":"IF(AI50=\"\",\"\",IF(I50=1,VLOOKUP(AI50,男子種目コード!$A$1:$B$29,2,FALSE),IF(I50=2,VLOOKUP(AI50,女子種目コード!$A$1:$B$30,2,FALSE))))","v":""},null,0,2,null,null,null,null,"",0,0,"",null,null,null,null,null,null,null,null,null,null,null,0,"",""]
[null,{"$f":"名簿!Q53","v":""},null,null,{"$f":"名簿!E53","v":0},{"$f":"名簿!BR53","v":""},{"$f":"名簿!Z53","v":""},"",{"$f":"名簿!O53","v":""},{"$f":"名簿!I53","v":0},{"$f":"名簿!K53","v":0},{"$f":"名簿!BU53","v":"00"},{"$f":"名簿!R53","v":""},{"$f":"名簿!D53","v":0},null,"",{"$f":"IF(O51=\"\",\"\",HLOOKUP(O51,名簿!$AB$8:$BI$118,46,FALSE))","v":""},0,2,null,"",{"$f":"IF(T51=\"\",\"\",HLOOKUP(T51,名簿!$AB$8:$BI$118,46,FALSE))","v":""},0,2,null,null,{"$f":"IF(Y51=\"\",\"\",HLOOKUP(Y51,名簿!$AB$8:$BI$118,46,FALSE))","v":""},0,2,null,null,{"$f":"IF(AD51=\"\",\"\",HLOOKUP(AD51,名簿!$AB$8:$BI$118,2,FALSE))","v":""},0,2,null,{"$f":"IF(AI51=\"\",\"\",IF(I51=1,VLOOKUP(AI51,男子種目コード!$A$1:$B$29,2,FALSE),IF(I51=2,VLOOKUP(AI51,女子種目コード!$A$1:$B$30,2,FALSE))))","v":""},null,0,2,null,null,null,null,"",0,0,"",null,null,null,null,null,null,null,null,null,null,null,0,"",""]
[null,{"$f":"名簿!Q54","v":""},null,null,{"$f":"名簿!E54","v":0},{"$f":"名簿!BR54","v":""},{"$f":"名簿!Z54","v":""},"",{"$f":"名簿!O54","v":""},{"$f":"名簿!I54","v":0},{"$f":"名簿!K54","v":0},{"$f":"名簿!BU54","v":"00"},{"$f":"名簿!R54","v":""},{"$f":"名簿!D54","v":0},null,"",{"$f":"IF(O52=\"\",\"\",HLOOKUP(O52,名簿!$AB$8:$BI$118,47,FALSE))","v":""},0,2,null,"",{"$f":"IF(T52=\"\",\"\",HLOOKUP(T52,名簿!$AB$8:$BI$118,47,FALSE))","v":""},0,2,null,null,{"$f":"IF(Y52=\"\",\"\",HLOOKUP(Y52,名簿!$AB$8:$BI$118,47,FALSE))","v":""},0,2,null,null,{"$f":"IF(AD52=\"\",\"\",HLOOKUP(AD52,名簿!$AB$8:$BI$118,2,FALSE))","v":""},0,2,null,{"$f":"IF(AI52=\"\",\"\",IF(I52=1,VLOOKUP(AI52,男子種目コード!$A$1:$B$29,2,FALSE),IF(I52=2,VLOOKUP(AI52,女子種目コード!$A$1:$B$30,2,FALSE))))","v":""},null,0,2,null,null,null,null,"",0,0,"",null,null,null,null,null,null,null,null,null,null,null,0,"",""]
[null,{"$f":"名簿!Q55","v":""},null,null,{"$f":"名簿!E55","v":0},{"$f":"名簿!BR55","v":""},{"$f":"名簿!Z55","v":""},"",{"$f":"名簿!O55","v":""},{"$f":"名簿!I55","v":0},{"$f":"名簿!K55","v":0},{"$f":"名簿!BU55","v":"00"},{"$f":"名簿!R55","v":""},{"$f":"名簿!D55","v":0},null,"",{"$f":"IF(O53=\"\",\"\",HLOOKUP(O53,名簿!$AB$8:$BI$118,48,FALSE))","v":""},0,2,null,"",{"$f":"IF(T53=\"\",\"\",HLOOKUP(T53,名簿!$AB$8:$BI$118,48,FALSE))","v":""},0,2,null,null,{"$f":"IF(Y53=\"\",\"\",HLOOKUP(Y53,名簿!$AB$8:$BI$118,48,FALSE))","v":""},0,2,null,null,{"$f":"IF(AD53=\"\",\"\",HLOOKUP(AD53,名簿!$AB$8:$BI$118,2,FALSE))","v":""},0,2,null,{"$f":"IF(AI53=\"\",\"\",IF(I53=1,VLOOKUP(AI53,男子種目コード!$A$1:$B$29,2,FALSE),IF(I53=2,VLOOKUP(AI53,女子種目コード!$A$1:$B$30,2,FALSE))))","v":""},null,0,2,null,null,null,null,"",0,0,"",null,null,null,null,null,null,null,null,null,null,null,0,"",""]
[null,{"$f":"名簿!Q56","v":""},null,null,{"$f":"名簿!E56","v":0},{"$f":"名簿!BR56","v":""},{"$f":"名簿!Z56","v":""},"",{"$f":"名簿!O56","v":""},{"$f":"名簿!I56","v":0},{"$f":"名簿!K56","v":0},{"$f":"名簿!BU56","v":"00"},{"$f":"名簿!R56","v":""},{"$f":"名簿!D56","v":0},null,"",{"$f":"IF(O54=\"\",\"\",HLOOKUP(O54,名簿!$AB$8:$BI$118,49,FALSE))","v":""},0,2,null,"",{"$f":"IF(T54=\"\",\"\",HLOOKUP(T54,名簿!$AB$8:$BI$118,49,FALSE))","v":""},0,2,null,null,{"$f":"IF(Y54=\"\",\"\",HLOOKUP(Y54,名簿!$AB$8:$BI$118,49,FALSE))","v":""},0,2,null,null,{"$f":"IF(AD54=\"\",\"\",HLOOKUP(AD54,名簿!$AB$8:$BI$118,2,FALSE))","v":""},0,2,null,{"$f":"IF(AI54=\"\",\"\",IF(I54=1,VLOOKUP(AI54,男子種目コード!$A$1:$B$29,2,FALSE),IF(I54=2,VLOOKUP(AI54,女子種目コード!$A$1:$B$30,2,FALSE))))","v":""},null,0,2,null,null,null,null,"",0,0,"",null,null,null,null,null,null,null,null,null,null,null,0,"",""]
[null,{"$f":"名簿!Q57","v":""},null,null,{"$f":"名簿!E57","v":0},{"$f":"名簿!BR57","v":""},{"$f":"名簿!Z57","v":""},"",{"$f":"名簿!O57","v":""},{"$f":"名簿!I57","v":0},{"$f":"名簿!K57","v":0},{"$f":"名簿!BU57","v":"00"},{"$f":"名簿!R57","v":""},{"$f":"名簿!D57","v":0},null,"",{"$f":"IF(O55=\"\",\"\",HLOOKUP(O55,名簿!$AB$8:$BI$118,50,FALSE))","v":""},0,2,null,"",{"$f":"IF(T55=\"\",\"\",HLOOKUP(T55,名簿!$AB$8:$BI$118,50,FALSE))","v":""},0,2,null,null,{"$f":"IF(Y55=\"\",\"\",HLOOKUP(Y55,名簿!$AB$8:$BI$118,50,FALSE))","v":""},0,2,null,null,{"$f":"IF(AD55=\"\",\"\",HLOOKUP(AD55,名簿!$AB$8:$BI$118,2,FALSE))","v":""},0,2,null,{"$f":"IF(AI55=\"\",\"\",IF(I55=1,VLOOKUP(AI55,男子種目コード!$A$1:$B$29,2,FALSE),IF(I55=2,VLOOKUP(AI55,女子種目コード!$A$1:$B$30,2,FALSE))))","v":""},null,0,2,null,null,null,null,"",0,0,"",null,null,null,null,null,null,null,null,null,null,null,0,"",""]
[null,{"$f":"名簿!Q58","v":""},null,null,{"$f":"名簿!E58","v":0},{"$f":"名簿!BR58","v":""},{"$f":"名簿!Z58","v":""},"",{"$f":"名簿!O58","v":""},{"$f":"名簿!I58","v":0},{"$f":"名簿!K58","v":0},{"$f":"名簿!BU58","v":"00"},{"$f":"名簿!R58","v":""},{"$f":"名簿!D58","v":0},null,"",{"$f":"IF(O56=\"\",\"\",HLOOKUP(O56,名簿!$AB$8:$BI$118,51,FALSE))","v":""},0,2,null,"",{"$f":"IF(T56=\"\",\"\",HLOOKUP(T56,名簿!$AB$8:$BI$118,51,FALSE))","v":""},0,2,null,null,{"$f":"IF(Y56=\"\",\"\",HLOOKUP(Y56,名簿!$AB$8:$BI$118,51,FALSE))","v":""},0,2,null,null,{"$f":"IF(AD56=\"\",\"\",HLOOKUP(AD56,名簿!$AB$8:$BI$118,2,FALSE))","v":""},0,2,null,{"$f":"IF(AI56=\"\",\"\",IF(I56=1,VLOOKUP(AI56,男子種目コード!$A$1:$B$29,2,FALSE),IF(I56=2,VLOOKUP(AI56,女子種目コード!$A$1:$B$30,2,FALSE))))","v":""},null,0,2,null,null,null,null,"",0,0,"",null,null,null,null,null,null,null,null,null,null,null,0,"",""]
[null,{"$f":"名簿!Q59","v":""},null,null,{"$f":"名簿!E59","v":0},{"$f":"名簿!BR59","v":""},{"$f":"名簿!Z59","v":""},"",{"$f":"名簿!O59","v":""},{"$f":"名簿!I59","v":0},{"$f":"名簿!K59","v":0},{"$f":"名簿!BU59","v":"00"},{"$f":"名簿!R59","v":""},{"$f":"名簿!D59","v":0},null,"",{"$f":"IF(O57=\"\",\"\",HLOOKUP(O57,名簿!$AB$8:$BI$118,52,FALSE))","v":""},0,2,null,"",{"$f":"IF(T57=\"\",\"\",HLOOKUP(T57,名簿!$AB$8:$BI$118,52,FALSE))","v":""},0,2,null,null,{"$f":"IF(Y57=\"\",\"\",HLOOKUP(Y57,名簿!$AB$8:$BI$118,52,FALSE))","v":""},0,2,null,null,{"$f":"IF(AD57=\"\",\"\",HLOOKUP(AD57,名簿!$AB$8:$BI$118,2,FALSE))","v":""},0,2,null,{"$f":"IF(AI57=\"\",\"\",IF(I57=1,VLOOKUP(AI57,男子種目コード!$A$1:$B$29,2,FALSE),IF(I57=2,VLOOKUP(AI57,女子種目コード!$A$1:$B$30,2,FALSE))))","v":""},null,0,2,null,null,null,null,"",0,0,"",null,null,null,null,null,null,null,null,null,null,null,0,"",""]
[null,{"$f":"名簿!Q60","v":""},null,null,{"$f":"名簿!E60","v":0},{"$f":"名簿!BR60","v":""},{"$f":"名簿!Z60","v":""},"",{"$f":"名簿!O60","v":""},{"$f":"名簿!I60","v":0},{"$f":"名簿!K60","v":0},{"$f":"名簿!BU60","v":"00"},{"$f":"名簿!R60","v":""},{"$f":"名簿!D60","v":0},null,"",{"$f":"IF(O58=\"\",\"\",HLOOKUP(O58,名簿!$AB$8:$BI$118,53,FALSE))","v":""},0,2,null,"",{"$f":"IF(T58=\"\",\"\",HLOOKUP(T58,名簿!$AB$8:$BI$118,53,FALSE))","v":""},0,2,null,null,{"$f":"IF(Y58=\"\",\"\",HLOOKUP(Y58,名簿!$AB$8:$BI$118,53,FALSE))","v":""},0,2,null,null,{"$f":"IF(AD58=\"\",\"\",HLOOKUP(AD58,名簿!$AB$8:$BI$118,2,FALSE))","v":""},0,2,null,{"$f":"IF(AI58=\"\",\"\",IF(I58=1,VLOOKUP(AI58,男子種目コード!$A$1:$B$29,2,FALSE),IF(I58=2,VLOOKUP(AI58,女子種目コード!$A$1:$B$30,2,FALSE))))","v":""},null,0,2,null,null,null,null,"",0,0,"",null,null,null,null,null,null,null,null,null,null,null,0,"",""]
[null,{"$f":"名簿!Q61","v":""},null,null,{"$f":"名簿!E61","v":0},{"$f":"名簿!BR61","v":""},{"$f":"名簿!Z61","v":""},"",{"$f":"名簿!O61","v":""},{"$f":"名簿!I61","v":0},{"$f":"名簿!K61","v":0},{"$f":"名簿!BU61","v":"00"},{"$f":"名簿!R61","v":""},{"$f":"名簿!D61","v":0},null,"",{"$f":"IF(O59=\"\",\"\",HLOOKUP(O59,名簿!$AB$8:$BI$118,54,FALSE))","v":""},0,2,null,"",{"$f":"IF(T59=\"\",\"\",HLOOKUP(T59,名簿!$AB$8:$BI$118,54,FALSE))","v":""},0,2,null,null,{"$f":"IF(Y59=\"\",\"\",HLOOKUP(Y59,名簿!$AB$8:$BI$118,54,FALSE))","v":""},0,2,null,null,{"$f":"IF(AD59=\"\",\"\",HLOOKUP(AD59,名簿!$AB$8:$BI$118,2,FALSE))","v":""},0,2,null,{"$f":"IF(AI59=\"\",\"\",IF(I59=1,VLOOKUP(AI59,男子種目コード!$A$1:$B$29,2,FALSE),IF(I59=2,VLOOKUP(AI59,女子種目コード!$A$1:$B$30,2,FALSE))))","v":""},null,0,2,null,null,null,null,"",0,0,"",null,null,null,null,null,null,null,null,null,null,null,0,"",""]
[null,{"$f":"名簿!Q62","v":""},null,null,{"$f":"名簿!E62","v":0},{"$f":"名簿!BR62","v":""},{"$f":"名簿!Z62","v":""},"",{"$f":"名簿!O62","v":""},{"$f":"名簿!I62","v":0},{"$f":"名簿!K62","v":0},{"$f":"名簿!BU62","v":"00"},{"$f":"名簿!R62","v":""},{"$f":"名簿!D62","v":0},null,"",{"$f":"IF(O60=\"\",\"\",HLOOKUP(O60,名簿!$AB$8:$BI$118,55,FALSE))","v":""},0,2,null,"",{"$f":"IF(T60=\"\",\"\",HLOOKUP(T60,名簿!$AB$8:$BI$118,55,FALSE))","v":""},0,2,null,null,{"$f":"IF(Y60=\"\",\"\",HLOOKUP(Y60,名簿!$AB$8:$BI$118,55,FALSE))","v":""},0,2,null,null,{"$f":"IF(AD60=\"\",\"\",HLOOKUP(AD60,名簿!$AB$8:$BI$118,2,FALSE))","v":""},0,2,null,{"$f":"IF(AI60=\"\",\"\",IF(I60=1,VLOOKUP(AI60,男子種目コード!$A$1:$B$29,2,FALSE),IF(I60=2,VLOOKUP(AI60,女子種目コード!$A$1:$B$30,2,FALSE))))","v":""},null,0,2,null,null,null,null,"",0,0,"",null,null,null,null,null,null,null,null,null,null,null,0,"",""]
[null,{"$f":"名簿!Q63","v":""},null,null,{"$f":"名簿!E63","v":0},{"$f":"名簿!BR63","v":""},{"$f":"名簿!Z63","v":""},"",{"$f":"名簿!O63","v":""},{"$f":"名簿!I63","v":0},{"$f":"名簿!K63","v":0},{"$f":"名簿!BU63","v":"00"},{"$f":"名簿!R63","v":""},{"$f":"名簿!D63","v":0},null,"",{"$f":"IF(O61=\"\",\"\",HLOOKUP(O61,名簿!$AB$8:$BI$118,56,FALSE))","v":""},0,2,null,"",{"$f":"IF(T61=\"\",\"\",HLOOKUP(T61,名簿!$AB$8:$BI$118,56,FALSE))","v":""},0,2,null,null,{"$f":"IF(Y61=\"\",\"\",HLOOKUP(Y61,名簿!$AB$8:$BI$118,56,FALSE))","v":""},0,2,null,null,{"$f":"IF(AD61=\"\",\"\",HLOOKUP(AD61,名簿!$AB$8:$BI$118,2,FALSE))","v":""},0,2,null,{"$f":"IF(AI61=\"\",\"\",IF(I61=1,VLOOKUP(AI61,男子種目コード!$A$1:$B$29,2,FALSE),IF(I61=2,VLOOKUP(AI61,女子種目コード!$A$1:$B$30,2,FALSE))))","v":""},null,0,2,null,null,null,null,"",0,0,"",null,null,null,null,null,null,null,null,null,null,null,0,"",""]
[null,{"$f":"名簿!Q64","v":""},null,null,{"$f":"名簿!E64","v":0},{"$f":"名簿!BR64","v":""},{"$f":"名簿!Z64","v":""},"",{"$f":"名簿!O64","v":""},{"$f":"名簿!I64","v":0},{"$f":"名簿!K64","v":0},{"$f":"名簿!BU64","v":"00"},{"$f":"名簿!R64","v":""},{"$f":"名簿!D64","v":0},null,"",{"$f":"IF(O62=\"\",\"\",HLOOKUP(O62,名簿!$AB$8:$BI$118,57,FALSE))","v":""},0,2,null,"",{"$f":"IF(T62=\"\",\"\",HLOOKUP(T62,名簿!$AB$8:$BI$118,57,FALSE))","v":""},0,2,null,null,{"$f":"IF(Y62=\"\",\"\",HLOOKUP(Y62,名簿!$AB$8:$BI$118,57,FALSE))","v":""},0,2,null,null,{"$f":"IF(AD62=\"\",\"\",HLOOKUP(AD62,名簿!$AB$8:$BI$118,2,FALSE))","v":""},0,2,null,{"$f":"IF(AI62=\"\",\"\",IF(I62=1,VLOOKUP(AI62,男子種目コード!$A$1:$B$29,2,FALSE),IF(I62=2,VLOOKUP(AI62,女子種目コード!$A$1:$B$30,2,FALSE))))","v":""},null,0,2,null,null,null,null,"",0,0,"",null,null,null,null,null,null,null,null,null,null,null,0,"",""]
[null,{"$f":"名簿!Q65","v":""},null,null,{"$f":"名簿!E65","v":0},{"$f":"名簿!BR65","v":""},{"$f":"名簿!Z65","v":""},"",{"$f":"名簿!O65","v":""},{"$f":"名簿!I65","v":0},{"$f":"名簿!K65","v":0},{"$f":"名簿!BU65","v":"00"},{"$f":"名簿!R65","v":""},{"$f":"名簿!D65","v":0},null,"",{"$f":"IF(O63=\"\",\"\",HLOOKUP(O63,名簿!$AB$8:$BI$118,58,FALSE))","v":""},0,2,null,"",{"$f":"IF(T63=\"\",\"\",HLOOKUP(T63,名簿!$AB$8:$BI$118,58,FALSE))","v":""},0,2,null,null,{"$f":"IF(Y63=\"\",\"\",HLOOKUP(Y63,名簿!$AB$8:$BI$118,58,FALSE))","v":""},0,2,null,null,{"$f":"IF(AD63=\"\",\"\",HLOOKUP(AD63,名簿!$AB$8:$BI$118,2,FALSE))","v":""},0,2,null,{"$f":"IF(AI63=\"\",\"\",IF(I63=1,VLOOKUP(AI63,男子種目コード!$A$1:$B$29,2,FALSE),IF(I63=2,VLOOKUP(AI63,女子種目コード!$A$1:$B$30,2,FALSE))))","v":""},null,0,2,null,null,null,null,"",0,0,"",null,null,null,null,null,null,null,null,null,null,null,0,"",""]
[null,{"$f":"名簿!Q66","v":""},null,null,{"$f":"名簿!E66","v":0},{"$f":"名簿!BR66","v":""},{"$f":"名簿!Z66","v":""},"",{"$f":"名簿!O66","v":""},{"$f":"名簿!I66","v":0},{"$f":"名簿!K66","v":0},{"$f":"名簿!BU66","v":"00"},{"$f":"名簿!R66","v":""},{"$f":"名簿!D66","v":0},null,"",{"$f":"IF(O64=\"\",\"\",HLOOKUP(O64,名簿!$AB$8:$BI$118,59,FALSE))","v":""},0,2,null,"",{"$f":"IF(T64=\"\",\"\",HLOOKUP(T64,名簿!$AB$8:$BI$118,59,FALSE))","v":""},0,2,null,null,{"$f":"IF(Y64=\"\",\"\",HLOOKUP(Y64,名簿!$AB$8:$BI$118,59,FALSE))","v":""},0,2,null,null,{"$f":"IF(AD64=\"\",\"\",HLOOKUP(AD64,名簿!$AB$8:$BI$118,2,FALSE))","v":""},0,2,null,{"$f":"IF(AI64=\"\",\"\",IF(I64=1,VLOOKUP(AI64,男子種目コード!$A$1:$B$29,2,FALSE),IF(I64=2,VLOOKUP(AI64,女子種目コード!$A$1:$B$30,2,FALSE))))","v":""},null,0,2,null,null,null,null,"",0,0,"",null,null,null,null,null,null,null,null,null,null,null,0,"",""]
[null,{"$f":"名簿!Q67","v":""},null,null,{"$f":"名簿!E67","v":0},{"$f":"名簿!BR67","v":""},{"$f":"名簿!Z67","v":""},"",{"$f":"名簿!O67","v":""},{"$f":"名簿!I67","v":0},{"$f":"名簿!K67","v":0},{"$f":"名簿!BU67","v":"00"},{"$f":"名簿!R67","v":""},{"$f":"名簿!D67","v":0},null,"",{"$f":"IF(O65=\"\",\"\",HLOOKUP(O65,名簿!$AB$8:$BI$118,60,FALSE))","v":""},0,2,null,"",{"$f":"IF(T65=\"\",\"\",HLOOKUP(T65,名簿!$AB$8:$BI$118,60,FALSE))","v":""},0,2,null,null,{"$f":"IF(Y65=\"\",\"\",HLOOKUP(Y65,名簿!$AB$8:$BI$118,60,FALSE))","v":""},0,2,null,null,{"$f":"IF(AD65=\"\",\"\",HLOOKUP(AD65,名簿!$AB$8:$BI$118,2,FALSE))","v":""},0,2,null,{"$f":"IF(AI65=\"\",\"\",IF(I65=1,VLOOKUP(AI65,男子種目コード!$A$1:$B$29,2,FALSE),IF(I65=2,VLOOKUP(AI65,女子種目コード!$A$1:$B$30,2,FALSE))))","v":""},null,0,2,null,null,null,null,"",0,0,"",null,null,null,null,null,null,null,null,null,null,null,0,"",""]
[null,{"$f":"名簿!Q68","v":""},null,null,{"$f":"名簿!E68","v":0},{"$f":"名簿!BR68","v":""},{"$f":"名簿!Z68","v":""},"",{"$f":"名簿!O68","v":""},{"$f":"名簿!I68","v":0},{"$f":"名簿!K68","v":0},{"$f":"名簿!BU68","v":"00"},{"$f":"名簿!R68","v":""},{"$f":"名簿!D68","v":0},null,"",{"$f":"IF(O66=\"\",\"\",HLOOKUP(O66,名簿!$AB$8:$BI$118,61,FALSE))","v":""},0,2,null,"",{"$f":"IF(T66=\"\",\"\",HLOOKUP(T66,名簿!$AB$8:$BI$118,61,FALSE))","v":""},0,2,null,null,{"$f":"IF(Y66=\"\",\"\",HLOOKUP(Y66,名簿!$AB$8:$BI$118,61,FALSE))","v":""},0,2,null,null,{"$f":"IF(AD66=\"\",\"\",HLOOKUP(AD66,名簿!$AB$8:$BI$118,2,FALSE))","v":""},0,2,null,{"$f":"IF(AI66=\"\",\"\",IF(I66=1,VLOOKUP(AI66,男子種目コード!$A$1:$B$29,2,FALSE),IF(I66=2,VLOOKUP(AI66,女子種目コード!$A$1:$B$30,2,FALSE))))","v":""},null,0,2,null,null,null,null,"",0,0,"",null,null,null,null,null,null,null,null,null,null,null,0,"",""]
[null,{"$f":"名簿!Q69","v":""},null,null,{"$f":"名簿!E69","v":0},{"$f":"名簿!BR69","v":""},{"$f":"名簿!Z69","v":""},"",{"$f":"名簿!O69","v":""},{"$f":"名簿!I69","v":0},{"$f":"名簿!K69","v":0},{"$f":"名簿!BU69","v":"00"},{"$f":"名簿!R69","v":""},{"$f":"名簿!D69","v":0},null,"",{"$f":"IF(O67=\"\",\"\",HLOOKUP(O67,名簿!$AB$8:$BI$118,62,FALSE))","v":""},0,2,null,"",{"$f":"IF(T67=\"\",\"\",HLOOKUP(T67,名簿!$AB$8:$BI$118,62,FALSE))","v":""},0,2,null,null,{"$f":"IF(Y67=\"\",\"\",HLOOKUP(Y67,名簿!$AB$8:$BI$118,62,FALSE))","v":""},0,2,null,null,{"$f":"IF(AD67=\"\",\"\",HLOOKUP(AD67,名簿!$AB$8:$BI$118,2,FALSE))","v":""},0,2,null,{"$f":"IF(AI67=\"\",\"\",IF(I67=1,VLOOKUP(AI67,男子種目コード!$A$1:$B$29,2,FALSE),IF(I67=2,VLOOKUP(AI67,女子種目コード!$A$1:$B$30,2,FALSE))))","v":""},null,0,2,null,null,null,null,"",0,0,"",null,null,null,null,null,null,null,null,null,null,null,0,"",""]
[null,{"$f":"名簿!Q70","v":""},null,null,{"$f":"名簿!E70","v":0},{"$f":"名簿!BR70","v":""},{"$f":"名簿!Z70","v":""},"",{"$f":"名簿!O70","v":""},{"$f":"名簿!I70","v":0},{"$f":"名簿!K70","v":0},{"$f":"名簿!BU70","v":"00"},{"$f":"名簿!R70","v":""},{"$f":"名簿!D70","v":0},null,"",{"$f":"IF(O68=\"\",\"\",HLOOKUP(O68,名簿!$AB$8:$BI$118,63,FALSE))","v":""},0,2,null,"",{"$f":"IF(T68=\"\",\"\",HLOOKUP(T68,名簿!$AB$8:$BI$118,63,FALSE))","v":""},0,2,null,null,{"$f":"IF(Y68=\"\",\"\",HLOOKUP(Y68,名簿!$AB$8:$BI$118,63,FALSE))","v":""},0,2,null,null,{"$f":"IF(AD68=\"\",\"\",HLOOKUP(AD68,名簿!$AB$8:$BI$118,2,FALSE))","v":""},0,2,null,{"$f":"IF(AI68=\"\",\"\",IF(I68=1,VLOOKUP(AI68,男子種目コード!$A$1:$B$29,2,FALSE),IF(I68=2,VLOOKUP(AI68,女子種目コード!$A$1:$B$30,2,FALSE))))","v":""},null,0,2,null,null,null,null,"",0,0,"",null,null,null,null,null,null,null,null,null,null,null,0,"",""]
[null,{"$f":"名簿!Q71","v":""},null,null,{"$f":"名簿!E71","v":0},{"$f":"名簿!BR71","v":""},{"$f":"名簿!Z71","v":""},"",{"$f":"名簿!O71","v":""},{"$f":"名簿!I71","v":0},{"$f":"名簿!K71","v":0},{"$f":"名簿!BU71","v":"00"},{"$f":"名簿!R71","v":""},{"$f":"名簿!D71","v":0},null,"",{"$f":"IF(O69=\"\",\"\",HLOOKUP(O69,名簿!$AB$8:$BI$118,64,FALSE))","v":""},0,2,null,"",{"$f":"IF(T69=\"\",\"\",HLOOKUP(T69,名簿!$AB$8:$BI$118,64,FALSE))","v":""},0,2,null,null,{"$f":"IF(Y69=\"\",\"\",HLOOKUP(Y69,名簿!$AB$8:$BI$118,64,FALSE))","v":""},0,2,null,null,{"$f":"IF(AD69=\"\",\"\",HLOOKUP(AD69,名簿!$AB$8:$BI$118,2,FALSE))","v":""},0,2,null,{"$f":"IF(AI69=\"\",\"\",IF(I69=1,VLOOKUP(AI69,男子種目コード!$A$1:$B$29,2,FALSE),IF(I69=2,VLOOKUP(AI69,女子種目コード!$A$1:$B$30,2,FALSE))))","v":""},null,0,2,null,null,null,null,"",0,0,"",null,null,null,null,null,null,null,null,null,null,null,0,"",""]
[null,{"$f":"名簿!Q72","v":""},null,null,{"$f":"名簿!E72","v":0},{"$f":"名簿!BR72","v":""},{"$f":"名簿!Z72","v":""},"",{"$f":"名簿!O72","v":""},{"$f":"名簿!I72","v":0},{"$f":"名簿!K72","v":0},{"$f":"名簿!BU72","v":"00"},{"$f":"名簿!R72","v":""},{"$f":"名簿!D72","v":0},null,"",{"$f":"IF(O70=\"\",\"\",HLOOKUP(O70,名簿!$AB$8:$BI$118,65,FALSE))","v":""},0,2,null,"",{"$f":"IF(T70=\"\",\"\",HLOOKUP(T70,名簿!$AB$8:$BI$118,65,FALSE))","v":""},0,2,null,null,{"$f":"IF(Y70=\"\",\"\",HLOOKUP(Y70,名簿!$AB$8:$BI$118,65,FALSE))","v":""},0,2,null,null,{"$f":"IF(AD70=\"\",\"\",HLOOKUP(AD70,名簿!$AB$8:$BI$118,2,FALSE))","v":""},0,2,null,{"$f":"IF(AI70=\"\",\"\",IF(I70=1,VLOOKUP(AI70,男子種目コード!$A$1:$B$29,2,FALSE),IF(I70=2,VLOOKUP(AI70,女子種目コード!$A$1:$B$30,2,FALSE))))","v":""},null,0,2,null,null,null,null,"",0,0,"",null,null,null,null,null,null,null,null,null,null,null,0,"",""]
[null,{"$f":"名簿!Q73","v":""},null,null,{"$f":"名簿!E73","v":0},{"$f":"名簿!BR73","v":""},{"$f":"名簿!Z73","v":""},{"$f":"F71","v":""},{"$f":"名簿!O73","v":""},{"$f":"名簿!I73","v":0},{"$f":"名簿!K73","v":0},{"$f":"名簿!BU73","v":"00"},{"$f":"名簿!R73","v":""},{"$f":"名簿!D73","v":0},null,"",{"$f":"IF(O71=\"\",\"\",HLOOKUP(O71,名簿!$AB$8:$BI$118,66,FALSE))","v":""},0,2,null,{"$f":"IF(T71=\"\",\"\",IF($I71=1,VLOOKUP(T71,$AV$8:$AX$10,3,FALSE),IF($I71=2,VLOOKUP(T71,$AV$13:$AX$16,3,FALSE))))","v":""},{"$f":"IF(T71=\"\",\"\",HLOOKUP(T71,名簿!$AB$8:$BI$118,66,FALSE))","v":""},0,2,null,null,{"$f":"IF(Y71=\"\",\"\",HLOOKUP(Y71,名簿!$AB$8:$BI$118,66,FALSE))","v":""},0,2,null,null,{"$f":"IF(AD71=\"\",\"\",HLOOKUP(AD71,名簿!$AB$8:$BI$118,2,FALSE))","v":""},0,2,null,{"$f":"IF(AI71=\"\",\"\",IF(I71=1,VLOOKUP(AI71,男子種目コード!$A$1:$B$29,2,FALSE),IF(I71=2,VLOOKUP(AI71,女子種目コード!$A$1:$B$30,2,FALSE))))","v":""},null,0,2,null,null,null,null,{"$f":"IF(O71=\"\",\"\",1)","v":""},{"$f":"IF(OR(AR71=1,T71=\"\"),0,1)","v":0},{"$f":"IF(OR(AR71=1,AS71=1,AD71=\"\"),0,1)","v":0},{"$f":"IF(T71=\"\",\"\",1)","v":""},null,null,null,null,null,null,null,null,null,null,null,0,{"$f":"IF(I71=1,BG71,\"\")","v":""},{"$f":"IF(I71=2,BG71,\"\")","v":""}]
[null,{"$f":"名簿!Q74","v":""},null,null,{"$f":"名簿!E74","v":0},{"$f":"名簿!BR74","v":""},{"$f":"名簿!Z74","v":""},"",{"$f":"名簿!O74","v":""},{"$f":"名簿!I74","v":0},{"$f":"名簿!K74","v":0},{"$f":"名簿!BU74","v":"00"},{"$f":"名簿!R74","v":""},{"$f":"名簿!D74","v":0},null,{"$f":"IF($O72=\"\",\"\",IF($I72=1,VLOOKUP($O72,$AV$8:$AX$10,3,FALSE),IF($I72=2,VLOOKUP($O72,$AV$13:$AX$16,3,FALSE))))","v":""},{"$f":"IF(O72=\"\",\"\",HLOOKUP(O72,名簿!$AB$8:$BI$118,67,FALSE))","v":""},0,2,null,"",{"$f":"IF(T72=\"\",\"\",HLOOKUP(T72,名簿!$AB$8:$BI$118,67,FALSE))","v":""},0,2,null,null,{"$f":"IF(Y72=\"\",\"\",HLOOKUP(Y72,名簿!$AB$8:$BI$118,67,FALSE))","v":""},0,2,null,null,{"$f":"IF(AD72=\"\",\"\",HLOOKUP(AD72,名簿!$AB$8:$BI$118,2,FALSE))","v":""},0,2,null,{"$f":"IF(AI72=\"\",\"\",IF(I72=1,VLOOKUP(AI72,男子種目コード!$A$1:$B$29,2,FALSE),IF(I72=2,VLOOKUP(AI72,女子種目コード!$A$1:$B$30,2,FALSE))))","v":""},null,0,2,null,null,null,null,"",0,0,"",null,null,null,null,null,null,null,null,null,null,null,{"$f":"COUNT(AR72,AU72)","v":0},"",""]
[null,{"$f":"名簿!Q75","v":""},null,null,{"$f":"名簿!E75","v":0},{"$f":"名簿!BR75","v":""},{"$f":"名簿!Z75","v":""},"",{"$f":"名簿!O75","v":""},{"$f":"名簿!I75","v":0},{"$f":"名簿!K75","v":0},{"$f":"名簿!BU75","v":"00"},{"$f":"名簿!R75","v":""},{"$f":"名簿!D75","v":0},null,"",{"$f":"IF(O73=\"\",\"\",HLOOKUP(O73,名簿!$AB$8:$BI$118,68,FALSE))","v":""},0,2,null,"",{"$f":"IF(T73=\"\",\"\",HLOOKUP(T73,名簿!$AB$8:$BI$118,68,FALSE))","v":""},0,2,null,null,{"$f":"IF(Y73=\"\",\"\",HLOOKUP(Y73,名簿!$AB$8:$BI$118,68,FALSE))","v":""},0,2,null,null,{"$f":"IF(AD73=\"\",\"\",HLOOKUP(AD73,名簿!$AB$8:$BI$118,2,FALSE))","v":""},0,2,null,{"$f":"IF(AI73=\"\",\"\",IF(I73=1,VLOOKUP(AI73,男子種目コード!$A$1:$B$29,2,FALSE),IF(I73=2,VLOOKUP(AI73,女子種目コード!$A$1:$B$30,2,FALSE))))","v":""},null,0,2,null,null,null,null,"",0,0,"",null,null,null,null,null,null,null,null,null,null,null,0,"",""]
[null,{"$f":"名簿!Q76","v":""},null,null,{"$f":"名簿!E76","v":0},{"$f":"名簿!BR76","v":""},{"$f":"名簿!Z76","v":""},"",{"$f":"名簿!O76","v":""},{"$f":"名簿!I76","v":0},{"$f":"名簿!K76","v":0},{"$f":"名簿!BU76","v":"00"},{"$f":"名簿!R76","v":""},{"$f":"名簿!D76","v":0},null,"",{"$f":"IF(O74=\"\",\"\",HLOOKUP(O74,名簿!$AB$8:$BI$118,69,FALSE))","v":""},0,2,null,"",{"$f":"IF(T74=\"\",\"\",HLOOKUP(T74,名簿!$AB$8:$BI$118,69,FALSE))","v":""},0,2,null,null,{"$f":"IF(Y74=\"\",\"\",HLOOKUP(Y74,名簿!$AB$8:$BI$118,69,FALSE))","v":""},0,2,null,null,{"$f":"IF(AD74=\"\",\"\",HLOOKUP(AD74,名簿!$AB$8:$BI$118,2,FALSE))","v":""},0,2,null,{"$f":"IF(AI74=\"\",\"\",IF(I74=1,VLOOKUP(AI74,男子種目コード!$A$1:$B$29,2,FALSE),IF(I74=2,VLOOKUP(AI74,女子種目コード!$A$1:$B$30,2,FALSE))))","v":""},null,0,2,null,null,null,null,"",0,0,"",null,null,null,null,null,null,null,null,null,null,null,0,"",""]
[null,{"$f":"名簿!Q77","v":""},null,null,{"$f":"名簿!E77","v":0},{"$f":"名簿!BR77","v":""},{"$f":"名簿!Z77","v":""},"",{"$f":"名簿!O77","v":""},{"$f":"名簿!I77","v":0},{"$f":"名簿!K77","v":0},{"$f":"名簿!BU77","v":"00"},{"$f":"名簿!R77","v":""},{"$f":"名簿!D77","v":0},null,"",{"$f":"IF(O75=\"\",\"\",HLOOKUP(O75,名簿!$AB$8:$BI$118,70,FALSE))","v":""},0,2,null,"",{"$f":"IF(T75=\"\",\"\",HLOOKUP(T75,名簿!$AB$8:$BI$118,70,FALSE))","v":""},0,2,null,null,{"$f":"IF(Y75=\"\",\"\",HLOOKUP(Y75,名簿!$AB$8:$BI$118,70,FALSE))","v":""},0,2,null,null,{"$f":"IF(AD75=\"\",\"\",HLOOKUP(AD75,名簿!$AB$8:$BI$118,2,FALSE))","v":""},0,2,null,{"$f":"IF(AI75=\"\",\"\",IF(I75=1,VLOOKUP(AI75,男子種目コード!$A$1:$B$29,2,FALSE),IF(I75=2,VLOOKUP(AI75,女子種目コード!$A$1:$B$30,2,FALSE))))","v":""},null,0,2,null,null,null,null,"",0,0,"",null,null,null,null,null,null,null,null,null,null,null,0,"",""]
[null,{"$f":"名簿!Q78","v":""},null,null,{"$f":"名簿!E78","v":0},{"$f":"名簿!BR78","v":""},{"$f":"名簿!Z78","v":""},"",{"$f":"名簿!O78","v":""},{"$f":"名簿!I78","v":0},{"$f":"名簿!K78","v":0},{"$f":"名簿!BU78","v":"00"},{"$f":"名簿!R78","v":""},{"$f":"名簿!D78","v":0},null,"",{"$f":"IF(O76=\"\",\"\",HLOOKUP(O76,名簿!$AB$8:$BI$118,71,FALSE))","v":""},0,2,null,"",{"$f":"IF(T76=\"\",\"\",HLOOKUP(T76,名簿!$AB$8:$BI$118,71,FALSE))","v":""},0,2,null,null,{"$f":"IF(Y76=\"\",\"\",HLOOKUP(Y76,名簿!$AB$8:$BI$118,71,FALSE))","v":""},0,2,null,null,{"$f":"IF(AD76=\"\",\"\",HLOOKUP(AD76,名簿!$AB$8:$BI$118,2,FALSE))","v":""},0,2,null,{"$f":"IF(AI76=\"\",\"\",IF(I76=1,VLOOKUP(AI76,男子種目コード!$A$1:$B$29,2,FALSE),IF(I76=2,VLOOKUP(AI76,女子種目コード!$A$1:$B$30,2,FALSE))))","v":""},null,0,2,null,null,null,null,"",0,0,"",null,null,null,null,null,null,null,null,null,null,null,0,"",""]
[null,{"$f":"名簿!Q79","v":""},null,null,{"$f":"名簿!E79","v":0},{"$f":"名簿!BR79","v":""},{"$f":"名簿!Z79","v":""},"",{"$f":"名簿!O79","v":""},{"$f":"名簿!I79","v":0},{"$f":"名簿!K79","v":0},{"$f":"名簿!BU79","v":"00"},{"$f":"名簿!R79","v":""},{"$f":"名簿!D79","v":0},null,"",{"$f":"IF(O77=\"\",\"\",HLOOKUP(O77,名簿!$AB$8:$BI$118,72,FALSE))","v":""},0,2,null,"",{"$f":"IF(T77=\"\",\"\",HLOOKUP(T77,名簿!$AB$8:$BI$118,72,FALSE))","v":""},0,2,null,null,{"$f":"IF(Y77=\"\",\"\",HLOOKUP(Y77,名簿!$AB$8:$BI$118,72,FALSE))","v":""},0,2,null,null,{"$f":"IF(AD77=\"\",\"\",HLOOKUP(AD77,名簿!$AB$8:$BI$118,2,FALSE))","v":""},0,2,null,{"$f":"IF(AI77=\"\",\"\",IF(I77=1,VLOOKUP(AI77,男子種目コード!$A$1:$B$29,2,FALSE),IF(I77=2,VLOOKUP(AI77,女子種目コード!$A$1:$B$30,2,FALSE))))","v":""},null,0,2,null,null,null,null,"",0,0,"",null,null,null,null,null,null,null,null,null,null,null,0,"",""]
[null,{"$f":"名簿!Q80","v":""},null,null,{"$f":"名簿!E80","v":0},{"$f":"名簿!BR80","v":""},{"$f":"名簿!Z80","v":""},"",{"$f":"名簿!O80","v":""},{"$f":"名簿!I80","v":0},{"$f":"名簿!K80","v":0},{"$f":"名簿!BU80","v":"00"},{"$f":"名簿!R80","v":""},{"$f":"名簿!D80","v":0},null,"",{"$f":"IF(O78=\"\",\"\",HLOOKUP(O78,名簿!$AB$8:$BI$118,73,FALSE))","v":""},0,2,null,"",{"$f":"IF(T78=\"\",\"\",HLOOKUP(T78,名簿!$AB$8:$BI$118,73,FALSE))","v":""},0,2,null,null,{"$f":"IF(Y78=\"\",\"\",HLOOKUP(Y78,名簿!$AB$8:$BI$118,73,FALSE))","v":""},0,2,null,null,{"$f":"IF(AD78=\"\",\"\",HLOOKUP(AD78,名簿!$AB$8:$BI$118,2,FALSE))","v":""},0,2,null,{"$f":"IF(AI78=\"\",\"\",IF(I78=1,VLOOKUP(AI78,男子種目コード!$A$1:$B$29,2,FALSE),IF(I78=2,VLOOKUP(AI78,女子種目コード!$A$1:$B$30,2,FALSE))))","v":""},null,0,2,null,null,null,null,"",0,0,"",null,null,null,null,null,null,null,null,null,null,null,0,"",""]
[null,{"$f":"名簿!Q81","v":""},null,null,{"$f":"名簿!E81","v":0},{"$f":"名簿!BR81","v":""},{"$f":"名簿!Z81","v":""},"",{"$f":"名簿!O81","v":""},{"$f":"名簿!I81","v":0},{"$f":"名簿!K81","v":0},{"$f":"名簿!BU81","v":"00"},{"$f":"名簿!R81","v":""},{"$f":"名簿!D81","v":0},null,"",{"$f":"IF(O79=\"\",\"\",HLOOKUP(O79,名簿!$AB$8:$BI$118,74,FALSE))","v":""},0,2,null,"",{"$f":"IF(T79=\"\",\"\",HLOOKUP(T79,名簿!$AB$8:$BI$118,74,FALSE))","v":""},0,2,null,null,{"$f":"IF(Y79=\"\",\"\",HLOOKUP(Y79,名簿!$AB$8:$BI$118,74,FALSE))","v":""},0,2,null,null,{"$f":"IF(AD79=\"\",\"\",HLOOKUP(AD79,名簿!$AB$8:$BI$118,2,FALSE))","v":""},0,2,null,{"$f":"IF(AI79=\"\",\"\",IF(I79=1,VLOOKUP(AI79,男子種目コード!$A$1:$B$29,2,FALSE),IF(I79=2,VLOOKUP(AI79,女子種目コード!$A$1:$B$30,2,FALSE))))","v":""},null,0,2,null,null,null,null,"",0,0,"",null,null,null,null,null,null,null,null,null,null,null,0,"",""]
[null,{"$f":"名簿!Q82","v":""},null,null,{"$f":"名簿!E82","v":0},{"$f":"名簿!BR82","v":""},{"$f":"名簿!Z82","v":""},"",{"$f":"名簿!O82","v":""},{"$f":"名簿!I82","v":0},{"$f":"名簿!K82","v":0},{"$f":"名簿!BU82","v":"00"},{"$f":"名簿!R82","v":""},{"$f":"名簿!D82","v":0},null,"",{"$f":"IF(O80=\"\",\"\",HLOOKUP(O80,名簿!$AB$8:$BI$118,75,FALSE))","v":""},0,2,null,"",{"$f":"IF(T80=\"\",\"\",HLOOKUP(T80,名簿!$AB$8:$BI$118,75,FALSE))","v":""},0,2,null,null,{"$f":"IF(Y80=\"\",\"\",HLOOKUP(Y80,名簿!$AB$8:$BI$118,75,FALSE))","v":""},0,2,null,null,{"$f":"IF(AD80=\"\",\"\",HLOOKUP(AD80,名簿!$AB$8:$BI$118,2,FALSE))","v":""},0,2,null,{"$f":"IF(AI80=\"\",\"\",IF(I80=1,VLOOKUP(AI80,男子種目コード!$A$1:$B$29,2,FALSE),IF(I80=2,VLOOKUP(AI80,女子種目コード!$A$1:$B$30,2,FALSE))))","v":""},null,0,2,null,null,null,null,"",0,0,"",null,null,null,null,null,null,null,null,null,null,null,0,"",""]
[null,{"$f":"名簿!Q83","v":""},null,null,{"$f":"名簿!E83","v":0},{"$f":"名簿!BR83","v":""},{"$f":"名簿!Z83","v":""},"",{"$f":"名簿!O83","v":""},{"$f":"名簿!I83","v":0},{"$f":"名簿!K83","v":0},{"$f":"名簿!BU83","v":"00"},{"$f":"名簿!R83","v":""},{"$f":"名簿!D83","v":0},null,"",{"$f":"IF(O81=\"\",\"\",HLOOKUP(O81,名簿!$AB$8:$BI$118,76,FALSE))","v":""},0,2,null,"",{"$f":"IF(T81=\"\",\"\",HLOOKUP(T81,名簿!$AB$8:$BI$118,76,FALSE))","v":""},0,2,null,null,{"$f":"IF(Y81=\"\",\"\",HLOOKUP(Y81,名簿!$AB$8:$BI$118,76,FALSE))","v":""},0,2,null,null,{"$f":"IF(AD81=\"\",\"\",HLOOKUP(AD81,名簿!$AB$8:$BI$118,2,FALSE))","v":""},0,2,null,{"$f":"IF(AI81=\"\",\"\",IF(I81=1,VLOOKUP(AI81,男子種目コード!$A$1:$B$29,2,FALSE),IF(I81=2,VLOOKUP(AI81,女子種目コード!$A$1:$B$30,2,FALSE))))","v":""},null,0,2,null,null,null,null,"",0,0,"",null,null,null,null,null,null,null,null,null,null,null,0,"",""]
[null,{"$f":"名簿!Q84","v":""},null,null,{"$f":"名簿!E84","v":0},{"$f":"名簿!BR84","v":""},{"$f":"名簿!Z84","v":""},"",{"$f":"名簿!O84","v":""},{"$f":"名簿!I84","v":0},{"$f":"名簿!K84","v":0},{"$f":"名簿!BU84","v":"00"},{"$f":"名簿!R84","v":""},{"$f":"名簿!D84","v":0},null,"",{"$f":"IF(O82=\"\",\"\",HLOOKUP(O82,名簿!$AB$8:$BI$118,77,FALSE))","v":""},0,2,null,"",{"$f":"IF(T82=\"\",\"\",HLOOKUP(T82,名簿!$AB$8:$BI$118,77,FALSE))","v":""},0,2,null,null,{"$f":"IF(Y82=\"\",\"\",HLOOKUP(Y82,名簿!$AB$8:$BI$118,77,FALSE))","v":""},0,2,null,null,{"$f":"IF(AD82=\"\",\"\",HLOOKUP(AD82,名簿!$AB$8:$BI$118,2,FALSE))","v":""},0,2,null,{"$f":"IF(AI82=\"\",\"\",IF(I82=1,VLOOKUP(AI82,男子種目コード!$A$1:$B$29,2,FALSE),IF(I82=2,VLOOKUP(AI82,女子種目コード!$A$1:$B$30,2,FALSE))))","v":""},null,0,2,null,null,null,null,"",0,0,"",null,null,null,null,null,null,null,null,null,null,null,0,"",""]
[null,{"$f":"名簿!Q85","v":""},null,null,{"$f":"名簿!E85","v":0},{"$f":"名簿!BR85","v":""},{"$f":"名簿!Z85","v":""},"",{"$f":"名簿!O85","v":""},{"$f":"名簿!I85","v":0},{"$f":"名簿!K85","v":0},{"$f":"名簿!BU85","v":"00"},{"$f":"名簿!R85","v":""},{"$f":"名簿!D85","v":0},null,"",{"$f":"IF(O83=\"\",\"\",HLOOKUP(O83,名簿!$AB$8:$BI$118,78,FALSE))","v":""},0,2,null,"",{"$f":"IF(T83=\"\",\"\",HLOOKUP(T83,名簿!$AB$8:$BI$118,78,FALSE))","v":""},0,2,null,null,{"$f":"IF(Y83=\"\",\"\",HLOOKUP(Y83,名簿!$AB$8:$BI$118,78,FALSE))","v":""},0,2,null,null,{"$f":"IF(AD83=\"\",\"\",HLOOKUP(AD83,名簿!$AB$8:$BI$118,2,FALSE))","v":""},0,2,null,{"$f":"IF(AI83=\"\",\"\",IF(I83=1,VLOOKUP(AI83,男子種目コード!$A$1:$B$29,2,FALSE),IF(I83=2,VLOOKUP(AI83,女子種目コード!$A$1:$B$30,2,FALSE))))","v":""},null,0,2,null,null,null,null,"",0,0,"",null,null,null,null,null,null,null,null,null,null,null,0,"",""]
[null,{"$f":"名簿!Q86","v":""},null,null,{"$f":"名簿!E86","v":0},{"$f":"名簿!BR86","v":""},{"$f":"名簿!Z86","v":""},"",{"$f":"名簿!O86","v":""},{"$f":"名簿!I86","v":0},{"$f":"名簿!K86","v":0},{"$f":"名簿!BU86","v":"00"},{"$f":"名簿!R86","v":""},{"$f":"名簿!D86","v":0},null,"",{"$f":"IF(O84=\"\",\"\",HLOOKUP(O84,名簿!$AB$8:$BI$118,79,FALSE))","v":""},0,2,null,"",{"$f":"IF(T84=\"\",\"\",HLOOKUP(T84,名簿!$AB$8:$BI$118,79,FALSE))","v":""},0,2,null,null,{"$f":"IF(Y84=\"\",\"\",HLOOKUP(Y84,名簿!$AB$8:$BI$118,79,FALSE))","v":""},0,2,null,null,{"$f":"IF(AD84=\"\",\"\",HLOOKUP(AD84,名簿!$AB$8:$BI$118,2,FALSE))","v":""},0,2,null,{"$f":"IF(AI84=\"\",\"\",IF(I84=1,VLOOKUP(AI84,男子種目コード!$A$1:$B$29,2,FALSE),IF(I84=2,VLOOKUP(AI84,女子種目コード!$A$1:$B$30,2,FALSE))))","v":""},null,0,2,null,null,null,null,"",0,0,"",null,null,null,null,null,null,null,null,null,null,null,0,"",""]
[null,{"$f":"名簿!Q87","v":""},null,null,{"$f":"名簿!E87","v":0},{"$f":"名簿!BR87","v":""},{"$f":"名簿!Z87","v":""},"",{"$f":"名簿!O87","v":""},{"$f":"名簿!I87","v":0},{"$f":"名簿!K87","v":0},{"$f":"名簿!BU87","v":"00"},{"$f":"名簿!R87","v":""},{"$f":"名簿!D87","v":0},null,"",{"$f":"IF(O85=\"\",\"\",HLOOKUP(O85,名簿!$AB$8:$BI$118,80,FALSE))","v":""},0,2,null,"",{"$f":"IF(T85=\"\",\"\",HLOOKUP(T85,名簿!$AB$8:$BI$118,80,FALSE))","v":""},0,2,null,null,{"$f":"IF(Y85=\"\",\"\",HLOOKUP(Y85,名簿!$AB$8:$BI$118,80,FALSE))","v":""},0,2,null,null,{"$f":"IF(AD85=\"\",\"\",HLOOKUP(AD85,名簿!$AB$8:$BI$118,2,FALSE))","v":""},0,2,null,{"$f":"IF(AI85=\"\",\"\",IF(I85=1,VLOOKUP(AI85,男子種目コード!$A$1:$B$29,2,FALSE),IF(I85=2,VLOOKUP(AI85,女子種目コード!$A$1:$B$30,2,FALSE))))","v":""},null,0,2,null,null,null,null,"",0,0,"",null,null,null,null,null,null,null,null,null,null,null,0,"",""]
[null,{"$f":"名簿!Q88","v":""},null,null,{"$f":"名簿!E88","v":0},{"$f":"名簿!BR88","v":""},{"$f":"名簿!Z88","v":""},"",{"$f":"名簿!O88","v":""},{"$f":"名簿!I88","v":0},{"$f":"名簿!K88","v":0},{"$f":"名簿!BU88","v":"00"},{"$f":"名簿!R88","v":""},{"$f":"名簿!D88","v":0},null,"",{"$f":"IF(O86=\"\",\"\",HLOOKUP(O86,名簿!$AB$8:$BI$118,81,FALSE))","v":""},0,2,null,"",{"$f":"IF(T86=\"\",\"\",HLOOKUP(T86,名簿!$AB$8:$BI$118,81,FALSE))","v":""},0,2,null,null,{"$f":"IF(Y86=\"\",\"\",HLOOKUP(Y86,名簿!$AB$8:$BI$118,81,FALSE))","v":""},0,2,null,null,{"$f":"IF(AD86=\"\",\"\",HLOOKUP(AD86,名簿!$AB$8:$BI$118,2,FALSE))","v":""},0,2,null,{"$f":"IF(AI86=\"\",\"\",IF(I86=1,VLOOKUP(AI86,男子種目コード!$A$1:$B$29,2,FALSE),IF(I86=2,VLOOKUP(AI86,女子種目コード!$A$1:$B$30,2,FALSE))))","v":""},null,0,2,null,null,null,null,"",0,0,"",null,null,null,null,null,null,null,null,null,null,null,0,"",""]
[null,{"$f":"名簿!Q89","v":""},null,null,{"$f":"名簿!E89","v":0},{"$f":"名簿!BR89","v":""},{"$f":"名簿!Z89","v":""},"",{"$f":"名簿!O89","v":""},{"$f":"名簿!I89","v":0},{"$f":"名簿!K89","v":0},{"$f":"名簿!BU89","v":"00"},{"$f":"名簿!R89","v":""},{"$f":"名簿!D89","v":0},null,"",{"$f":"IF(O87=\"\",\"\",HLOOKUP(O87,名簿!$AB$8:$BI$118,82,FALSE))","v":""},0,2,null,"",{"$f":"IF(T87=\"\",\"\",HLOOKUP(T87,名簿!$AB$8:$BI$118,82,FALSE))","v":""},0,2,null,null,{"$f":"IF(Y87=\"\",\"\",HLOOKUP(Y87,名簿!$AB$8:$BI$118,82,FALSE))","v":""},0,2,null,null,{"$f":"IF(AD87=\"\",\"\",HLOOKUP(AD87,名簿!$AB$8:$BI$118,2,FALSE))","v":""},0,2,null,{"$f":"IF(AI87=\"\",\"\",IF(I87=1,VLOOKUP(AI87,男子種目コード!$A$1:$B$29,2,FALSE),IF(I87=2,VLOOKUP(AI87,女子種目コード!$A$1:$B$30,2,FALSE))))","v":""},null,0,2,null,null,null,null,"",0,0,"",null,null,null,null,null,null,null,null,null,null,null,0,"",""]
[null,{"$f":"名簿!Q90","v":""},null,null,{"$f":"名簿!E90","v":0},{"$f":"名簿!BR90","v":""},{"$f":"名簿!Z90","v":""},"",{"$f":"名簿!O90","v":""},{"$f":"名簿!I90","v":0},{"$f":"名簿!K90","v":0},{"$f":"名簿!BU90","v":"00"},{"$f":"名簿!R90","v":""},{"$f":"名簿!D90","v":0},null,"",{"$f":"IF(O88=\"\",\"\",HLOOKUP(O88,名簿!$AB$8:$BI$118,83,FALSE))","v":""},0,2,null,"",{"$f":"IF(T88=\"\",\"\",HLOOKUP(T88,名簿!$AB$8:$BI$118,83,FALSE))","v":""},0,2,null,null,{"$f":"IF(Y88=\"\",\"\",HLOOKUP(Y88,名簿!$AB$8:$BI$118,83,FALSE))","v":""},0,2,null,null,{"$f":"IF(AD88=\"\",\"\",HLOOKUP(AD88,名簿!$AB$8:$BI$118,2,FALSE))","v":""},0,2,null,{"$f":"IF(AI88=\"\",\"\",IF(I88=1,VLOOKUP(AI88,男子種目コード!$A$1:$B$29,2,FALSE),IF(I88=2,VLOOKUP(AI88,女子種目コード!$A$1:$B$30,2,FALSE))))","v":""},null,0,2,null,null,null,null,"",0,0,"",null,null,null,null,null,null,null,null,null,null,null,0,"",""]
[null,{"$f":"名簿!Q91","v":""},null,null,{"$f":"名簿!E91","v":0},{"$f":"名簿!BR91","v":""},{"$f":"名簿!Z91","v":""},"",{"$f":"名簿!O91","v":""},{"$f":"名簿!I91","v":0},{"$f":"名簿!K91","v":0},{"$f":"名簿!BU91","v":"00"},{"$f":"名簿!R91","v":""},{"$f":"名簿!D91","v":0},null,"",{"$f":"IF(O89=\"\",\"\",HLOOKUP(O89,名簿!$AB$8:$BI$118,84,FALSE))","v":""},0,2,null,"",{"$f":"IF(T89=\"\",\"\",HLOOKUP(T89,名簿!$AB$8:$BI$118,84,FALSE))","v":""},0,2,null,null,{"$f":"IF(Y89=\"\",\"\",HLOOKUP(Y89,名簿!$AB$8:$BI$118,84,FALSE))","v":""},0,2,null,null,{"$f":"IF(AD89=\"\",\"\",HLOOKUP(AD89,名簿!$AB$8:$BI$118,2,FALSE))","v":""},0,2,null,{"$f":"IF(AI89=\"\",\"\",IF(I89=1,VLOOKUP(AI89,男子種目コード!$A$1:$B$29,2,FALSE),IF(I89=2,VLOOKUP(AI89,女子種目コード!$A$1:$B$30,2,FALSE))))","v":""},null,0,2,null,null,null,null,"",0,0,"",null,null,null,null,null,null,null,null,null,null,null,0,"",""]
[null,{"$f":"名簿!Q92","v":""},null,null,{"$f":"名簿!E92","v":0},{"$f":"名簿!BR92","v":""},{"$f":"名簿!Z92","v":""},"",{"$f":"名簿!O92","v":""},{"$f":"名簿!I92","v":0},{"$f":"名簿!K92","v":0},{"$f":"名簿!BU92","v":"00"},{"$f":"名簿!R92","v":""},{"$f":"名簿!D92","v":0},null,"",{"$f":"IF(O90=\"\",\"\",HLOOKUP(O90,名簿!$AB$8:$BI$118,85,FALSE))","v":""},0,2,null,"",{"$f":"IF(T90=\"\",\"\",HLOOKUP(T90,名簿!$AB$8:$BI$118,85,FALSE))","v":""},0,2,null,null,{"$f":"IF(Y90=\"\",\"\",HLOOKUP(Y90,名簿!$AB$8:$BI$118,85,FALSE))","v":""},0,2,null,null,{"$f":"IF(AD90=\"\",\"\",HLOOKUP(AD90,名簿!$AB$8:$BI$118,2,FALSE))","v":""},0,2,null,{"$f":"IF(AI90=\"\",\"\",IF(I90=1,VLOOKUP(AI90,男子種目コード!$A$1:$B$29,2,FALSE),IF(I90=2,VLOOKUP(AI90,女子種目コード!$A$1:$B$30,2,FALSE))))","v":""},null,0,2,null,null,null,null,"",0,0,"",null,null,null,null,null,null,null,null,null,null,null,0,"",""]
[null,{"$f":"名簿!Q93","v":""},null,null,{"$f":"名簿!E93","v":0},{"$f":"名簿!BR93","v":""},{"$f":"名簿!Z93","v":""},"",{"$f":"名簿!O93","v":""},{"$f":"名簿!I93","v":0},{"$f":"名簿!K93","v":0},{"$f":"名簿!BU93","v":"00"},{"$f":"名簿!R93","v":""},{"$f":"名簿!D93","v":0},null,"",{"$f":"IF(O91=\"\",\"\",HLOOKUP(O91,名簿!$AB$8:$BI$118,86,FALSE))","v":""},0,2,null,"",{"$f":"IF(T91=\"\",\"\",HLOOKUP(T91,名簿!$AB$8:$BI$118,86,FALSE))","v":""},0,2,null,null,{"$f":"IF(Y91=\"\",\"\",HLOOKUP(Y91,名簿!$AB$8:$BI$118,86,FALSE))","v":""},0,2,null,null,{"$f":"IF(AD91=\"\",\"\",HLOOKUP(AD91,名簿!$AB$8:$BI$118,2,FALSE))","v":""},0,2,null,{"$f":"IF(AI91=\"\",\"\",IF(I91=1,VLOOKUP(AI91,男子種目コード!$A$1:$B$29,2,FALSE),IF(I91=2,VLOOKUP(AI91,女子種目コード!$A$1:$B$30,2,FALSE))))","v":""},null,0,2,null,null,null,null,"",0,0,"",null,null,null,null,null,null,null,null,null,null,null,0,"",""]
[null,{"$f":"名簿!Q94","v":""},null,null,{"$f":"名簿!E94","v":0},{"$f":"名簿!BR94","v":""},{"$f":"名簿!Z94","v":""},"",{"$f":"名簿!O94","v":""},{"$f":"名簿!I94","v":0},{"$f":"名簿!K94","v":0},{"$f":"名簿!BU94","v":"00"},{"$f":"名簿!R94","v":""},{"$f":"名簿!D94","v":0},null,"",{"$f":"IF(O92=\"\",\"\",HLOOKUP(O92,名簿!$AB$8:$BI$118,87,FALSE))","v":""},0,2,null,"",{"$f":"IF(T92=\"\",\"\",HLOOKUP(T92,名簿!$AB$8:$BI$118,87,FALSE))","v":""},0,2,null,null,{"$f":"IF(Y92=\"\",\"\",HLOOKUP(Y92,名簿!$AB$8:$BI$118,87,FALSE))","v":""},0,2,null,null,{"$f":"IF(AD92=\"\",\"\",HLOOKUP(AD92,名簿!$AB$8:$BI$118,2,FALSE))","v":""},0,2,null,{"$f":"IF(AI92=\"\",\"\",IF(I92=1,VLOOKUP(AI92,男子種目コード!$A$1:$B$29,2,FALSE),IF(I92=2,VLOOKUP(AI92,女子種目コード!$A$1:$B$30,2,FALSE))))","v":""},null,0,2,null,null,null,null,"",0,0,"",null,null,null,null,null,null,null,null,null,null,null,0,"",""]
[null,{"$f":"名簿!Q95","v":""},null,null,{"$f":"名簿!E95","v":0},{"$f":"名簿!BR95","v":""},{"$f":"名簿!Z95","v":""},"",{"$f":"名簿!O95","v":""},{"$f":"名簿!I95","v":0},{"$f":"名簿!K95","v":0},{"$f":"名簿!BU95","v":"00"},{"$f":"名簿!R95","v":""},{"$f":"名簿!D95","v":0},null,"",{"$f":"IF(O93=\"\",\"\",HLOOKUP(O93,名簿!$AB$8:$BI$118,88,FALSE))","v":""},0,2,null,"",{"$f":"IF(T93=\"\",\"\",HLOOKUP(T93,名簿!$AB$8:$BI$118,88,FALSE))","v":""},0,2,null,null,{"$f":"IF(Y93=\"\",\"\",HLOOKUP(Y93,名簿!$AB$8:$BI$118,88,FALSE))","v":""},0,2,null,null,{"$f":"IF(AD93=\"\",\"\",HLOOKUP(AD93,名簿!$AB$8:$BI$118,2,FALSE))","v":""},0,2,null,{"$f":"IF(AI93=\"\",\"\",IF(I93=1,VLOOKUP(AI93,男子種目コード!$A$1:$B$29,2,FALSE),IF(I93=2,VLOOKUP(AI93,女子種目コード!$A$1:$B$30,2,FALSE))))","v":""},null,0,2,null,null,null,null,"",0,0,"",null,null,null,null,null,null,null,null,null,null,null,0,"",""]
[null,{"$f":"名簿!Q96","v":""},null,null,{"$f":"名簿!E96","v":0},{"$f":"名簿!BR96","v":""},{"$f":"名簿!Z96","v":""},"",{"$f":"名簿!O96","v":""},{"$f":"名簿!I96","v":0},{"$f":"名簿!K96","v":0},{"$f":"名簿!BU96","v":"00"},{"$f":"名簿!R96","v":""},{"$f":"名簿!D96","v":0},null,"",{"$f":"IF(O94=\"\",\"\",HLOOKUP(O94,名簿!$AB$8:$BI$118,89,FALSE))","v":""},0,2,null,"",{"$f":"IF(T94=\"\",\"\",HLOOKUP(T94,名簿!$AB$8:$BI$118,89,FALSE))","v":""},0,2,null,null,{"$f":"IF(Y94=\"\",\"\",HLOOKUP(Y94,名簿!$AB$8:$BI$118,89,FALSE))","v":""},0,2,null,null,{"$f":"IF(AD94=\"\",\"\",HLOOKUP(AD94,名簿!$AB$8:$BI$118,2,FALSE))","v":""},0,2,null,{"$f":"IF(AI94=\"\",\"\",IF(I94=1,VLOOKUP(AI94,男子種目コード!$A$1:$B$29,2,FALSE),IF(I94=2,VLOOKUP(AI94,女子種目コード!$A$1:$B$30,2,FALSE))))","v":""},null,0,2,null,null,null,null,"",0,0,"",null,null,null,null,null,null,null,null,null,null,null,0,"",""]
[null,{"$f":"名簿!Q97","v":""},null,null,{"$f":"名簿!E97","v":0},{"$f":"名簿!BR97","v":""},{"$f":"名簿!Z97","v":""},"",{"$f":"名簿!O97","v":""},{"$f":"名簿!I97","v":0},{"$f":"名簿!K97","v":0},{"$f":"名簿!BU97","v":"00"},{"$f":"名簿!R97","v":""},{"$f":"名簿!D97","v":0},null,"",{"$f":"IF(O95=\"\",\"\",HLOOKUP(O95,名簿!$AB$8:$BI$118,90,FALSE))","v":""},0,2,null,"",{"$f":"IF(T95=\"\",\"\",HLOOKUP(T95,名簿!$AB$8:$BI$118,90,FALSE))","v":""},0,2,null,null,{"$f":"IF(Y95=\"\",\"\",HLOOKUP(Y95,名簿!$AB$8:$BI$118,90,FALSE))","v":""},0,2,null,null,{"$f":"IF(AD95=\"\",\"\",HLOOKUP(AD95,名簿!$AB$8:$BI$118,2,FALSE))","v":""},0,2,null,{"$f":"IF(AI95=\"\",\"\",IF(I95=1,VLOOKUP(AI95,男子種目コード!$A$1:$B$29,2,FALSE),IF(I95=2,VLOOKUP(AI95,女子種目コード!$A$1:$B$30,2,FALSE))))","v":""},null,0,2,null,null,null,null,"",0,0,"",null,null,null,null,null,null,null,null,null,null,null,0,"",""]
[null,{"$f":"名簿!Q98","v":""},null,null,{"$f":"名簿!E98","v":0},{"$f":"名簿!BR98","v":""},{"$f":"名簿!Z98","v":""},"",{"$f":"名簿!O98","v":""},{"$f":"名簿!I98","v":0},{"$f":"名簿!K98","v":0},{"$f":"名簿!BU98","v":"00"},{"$f":"名簿!R98","v":""},{"$f":"名簿!D98","v":0},null,"",{"$f":"IF(O96=\"\",\"\",HLOOKUP(O96,名簿!$AB$8:$BI$118,91,FALSE))","v":""},0,2,null,"",{"$f":"IF(T96=\"\",\"\",HLOOKUP(T96,名簿!$AB$8:$BI$118,91,FALSE))","v":""},0,2,null,null,{"$f":"IF(Y96=\"\",\"\",HLOOKUP(Y96,名簿!$AB$8:$BI$118,91,FALSE))","v":""},0,2,null,null,{"$f":"IF(AD96=\"\",\"\",HLOOKUP(AD96,名簿!$AB$8:$BI$118,2,FALSE))","v":""},0,2,null,{"$f":"IF(AI96=\"\",\"\",IF(I96=1,VLOOKUP(AI96,男子種目コード!$A$1:$B$29,2,FALSE),IF(I96=2,VLOOKUP(AI96,女子種目コード!$A$1:$B$30,2,FALSE))))","v":""},null,0,2,null,null,null,null,"",0,0,"",null,null,null,null,null,null,null,null,null,null,null,0,"",""]
[null,{"$f":"名簿!Q99","v":""},null,null,{"$f":"名簿!E99","v":0},{"$f":"名簿!BR99","v":""},{"$f":"名簿!Z99","v":""},"",{"$f":"名簿!O99","v":""},{"$f":"名簿!I99","v":0},{"$f":"名簿!K99","v":0},{"$f":"名簿!BU99","v":"00"},{"$f":"名簿!R99","v":""},{"$f":"名簿!D99","v":0},null,"",{"$f":"IF(O97=\"\",\"\",HLOOKUP(O97,名簿!$AB$8:$BI$118,92,FALSE))","v":""},0,2,null,"",{"$f":"IF(T97=\"\",\"\",HLOOKUP(T97,名簿!$AB$8:$BI$118,92,FALSE))","v":""},0,2,null,null,{"$f":"IF(Y97=\"\",\"\",HLOOKUP(Y97,名簿!$AB$8:$BI$118,92,FALSE))","v":""},0,2,null,null,{"$f":"IF(AD97=\"\",\"\",HLOOKUP(AD97,名簿!$AB$8:$BI$118,2,FALSE))","v":""},0,2,null,{"$f":"IF(AI97=\"\",\"\",IF(I97=1,VLOOKUP(AI97,男子種目コード!$A$1:$B$29,2,FALSE),IF(I97=2,VLOOKUP(AI97,女子種目コード!$A$1:$B$30,2,FALSE))))","v":""},null,0,2,null,null,null,null,"",0,0,"",null,null,null,null,null,null,null,null,null,null,null,0,"",""]
[null,{"$f":"名簿!Q100","v":""},null,null,{"$f":"名簿!E100","v":0},{"$f":"名簿!BR100","v":""},{"$f":"名簿!Z100","v":""},"",{"$f":"名簿!O100","v":""},{"$f":"名簿!I100","v":0},{"$f":"名簿!K100","v":0},{"$f":"名簿!BU100","v":"00"},{"$f":"名簿!R100","v":""},{"$f":"名簿!D100","v":0},null,"",{"$f":"IF(O98=\"\",\"\",HLOOKUP(O98,名簿!$AB$8:$BI$118,93,FALSE))","v":""},0,2,null,"",{"$f":"IF(T98=\"\",\"\",HLOOKUP(T98,名簿!$AB$8:$BI$118,93,FALSE))","v":""},0,2,null,null,{"$f":"IF(Y98=\"\",\"\",HLOOKUP(Y98,名簿!$AB$8:$BI$118,93,FALSE))","v":""},0,2,null,null,{"$f":"IF(AD98=\"\",\"\",HLOOKUP(AD98,名簿!$AB$8:$BI$118,2,FALSE))","v":""},0,2,null,{"$f":"IF(AI98=\"\",\"\",IF(I98=1,VLOOKUP(AI98,男子種目コード!$A$1:$B$29,2,FALSE),IF(I98=2,VLOOKUP(AI98,女子種目コード!$A$1:$B$30,2,FALSE))))","v":""},null,0,2,null,null,null,null,"",0,0,"",null,null,null,null,null,null,null,null,null,null,null,0,"",""]
[null,{"$f":"名簿!Q101","v":""},null,null,{"$f":"名簿!E101","v":0},{"$f":"名簿!BR101","v":""},{"$f":"名簿!Z101","v":""},"",{"$f":"名簿!O101","v":""},{"$f":"名簿!I101","v":0},{"$f":"名簿!K101","v":0},{"$f":"名簿!BU101","v":"00"},{"$f":"名簿!R101","v":""},{"$f":"名簿!D101","v":0},null,"",{"$f":"IF(O99=\"\",\"\",HLOOKUP(O99,名簿!$AB$8:$BI$118,94,FALSE))","v":""},0,2,null,"",{"$f":"IF(T99=\"\",\"\",HLOOKUP(T99,名簿!$AB$8:$BI$118,94,FALSE))","v":""},0,2,null,null,{"$f":"IF(Y99=\"\",\"\",HLOOKUP(Y99,名簿!$AB$8:$BI$118,94,FALSE))","v":""},0,2,null,null,{"$f":"IF(AD99=\"\",\"\",HLOOKUP(AD99,名簿!$AB$8:$BI$118,2,FALSE))","v":""},0,2,null,{"$f":"IF(AI99=\"\",\"\",IF(I99=1,VLOOKUP(AI99,男子種目コード!$A$1:$B$29,2,FALSE),IF(I99=2,VLOOKUP(AI99,女子種目コード!$A$1:$B$30,2,FALSE))))","v":""},null,0,2,null,null,null,null,"",0,0,"",null,null,null,null,null,null,null,null,null,null,null,0,"",""]
[null,{"$f":"名簿!Q102","v":""},null,null,{"$f":"名簿!E102","v":0},{"$f":"名簿!BR102","v":""},{"$f":"名簿!Z102","v":""},"",{"$f":"名簿!O102","v":""},{"$f":"名簿!I102","v":0},{"$f":"名簿!K102","v":0},{"$f":"名簿!BU102","v":"00"},{"$f":"名簿!R102","v":""},{"$f":"名簿!D102","v":0},null,"",{"$f":"IF(O100=\"\",\"\",HLOOKUP(O100,名簿!$AB$8:$BI$118,95,FALSE))","v":""},0,2,null,"",{"$f":"IF(T100=\"\",\"\",HLOOKUP(T100,名簿!$AB$8:$BI$118,95,FALSE))","v":""},0,2,null,null,{"$f":"IF(Y100=\"\",\"\",HLOOKUP(Y100,名簿!$AB$8:$BI$118,95,FALSE))","v":""},0,2,null,null,{"$f":"IF(AD100=\"\",\"\",HLOOKUP(AD100,名簿!$AB$8:$BI$118,2,FALSE))","v":""},0,2,null,{"$f":"IF(AI100=\"\",\"\",IF(I100=1,VLOOKUP(AI100,男子種目コード!$A$1:$B$29,2,FALSE),IF(I100=2,VLOOKUP(AI100,女子種目コード!$A$1:$B$30,2,FALSE))))","v":""},null,0,2,null,null,null,null,"",0,0,"",null,null,null,null,null,null,null,null,null,null,null,0,"",""]
[null,{"$f":"名簿!Q103","v":""},null,null,{"$f":"名簿!E103","v":0},{"$f":"名簿!BR103","v":""},{"$f":"名簿!Z103","v":""},"",{"$f":"名簿!O103","v":""},{"$f":"名簿!I103","v":0},{"$f":"名簿!K103","v":0},{"$f":"名簿!BU103","v":"00"},{"$f":"名簿!R103","v":""},{"$f":"名簿!D103","v":0},null,"",{"$f":"IF(O101=\"\",\"\",HLOOKUP(O101,名簿!$AB$8:$BI$118,96,FALSE))","v":""},0,2,null,"",{"$f":"IF(T101=\"\",\"\",HLOOKUP(T101,名簿!$AB$8:$BI$118,96,FALSE))","v":""},0,2,null,null,{"$f":"IF(Y101=\"\",\"\",HLOOKUP(Y101,名簿!$AB$8:$BI$118,96,FALSE))","v":""},0,2,null,null,{"$f":"IF(AD101=\"\",\"\",HLOOKUP(AD101,名簿!$AB$8:$BI$118,2,FALSE))","v":""},0,2,null,{"$f":"IF(AI101=\"\",\"\",IF(I101=1,VLOOKUP(AI101,男子種目コード!$A$1:$B$29,2,FALSE),IF(I101=2,VLOOKUP(AI101,女子種目コード!$A$1:$B$30,2,FALSE))))","v":""},null,0,2,null,null,null,null,"",0,0,"",null,null,null,null,null,null,null,null,null,null,null,0,"",""]
[null,{"$f":"名簿!Q104","v":""},null,null,{"$f":"名簿!E104","v":0},{"$f":"名簿!BR104","v":""},{"$f":"名簿!Z104","v":""},"",{"$f":"名簿!O104","v":""},{"$f":"名簿!I104","v":0},{"$f":"名簿!K104","v":0},{"$f":"名簿!BU104","v":"00"},{"$f":"名簿!R104","v":""},{"$f":"名簿!D104","v":0},null,"",{"$f":"IF(O102=\"\",\"\",HLOOKUP(O102,名簿!$AB$8:$BI$118,97,FALSE))","v":""},0,2,null,"",{"$f":"IF(T102=\"\",\"\",HLOOKUP(T102,名簿!$AB$8:$BI$118,97,FALSE))","v":""},0,2,null,null,{"$f":"IF(Y102=\"\",\"\",HLOOKUP(Y102,名簿!$AB$8:$BI$118,97,FALSE))","v":""},0,2,null,null,{"$f":"IF(AD102=\"\",\"\",HLOOKUP(AD102,名簿!$AB$8:$BI$118,2,FALSE))","v":""},0,2,null,{"$f":"IF(AI102=\"\",\"\",IF(I102=1,VLOOKUP(AI102,男子種目コード!$A$1:$B$29,2,FALSE),IF(I102=2,VLOOKUP(AI102,女子種目コード!$A$1:$B$30,2,FALSE))))","v":""},null,0,2,null,null,null,null,"",0,0,"",null,null,null,null,null,null,null,null,null,null,null,0,"",""]
[null,{"$f":"名簿!Q105","v":""},null,null,{"$f":"名簿!E105","v":0},{"$f":"名簿!BR105","v":""},{"$f":"名簿!Z105","v":""},"",{"$f":"名簿!O105","v":""},{"$f":"名簿!I105","v":0},{"$f":"名簿!K105","v":0},{"$f":"名簿!BU105","v":"00"},{"$f":"名簿!R105","v":""},{"$f":"名簿!D105","v":0},null,"",{"$f":"IF(O103=\"\",\"\",HLOOKUP(O103,名簿!$AB$8:$BI$118,98,FALSE))","v":""},0,2,null,{"$f":"IF(T103=\"\",\"\",IF($I103=1,VLOOKUP(T103,$AV$8:$AX$10,3,FALSE),IF($I103=2,VLOOKUP(T103,$AV$13:$AX$16,3,FALSE))))","v":""},{"$f":"IF(T103=\"\",\"\",HLOOKUP(T103,名簿!$AB$8:$BI$118,98,FALSE))","v":""},0,2,null,null,{"$f":"IF(Y103=\"\",\"\",HLOOKUP(Y103,名簿!$AB$8:$BI$118,98,FALSE))","v":""},0,2,null,null,{"$f":"IF(AD103=\"\",\"\",HLOOKUP(AD103,名簿!$AB$8:$BI$118,2,FALSE))","v":""},0,2,null,{"$f":"IF(AI103=\"\",\"\",IF(I103=1,VLOOKUP(AI103,男子種目コード!$A$1:$B$29,2,FALSE),IF(I103=2,VLOOKUP(AI103,女子種目コード!$A$1:$B$30,2,FALSE))))","v":""},null,0,2,null,null,null,null,"",0,0,"",null,null,null,null,null,null,null,null,null,null,null,0,"",""]
[null,{"$f":"名簿!Q106","v":""},null,null,{"$f":"名簿!E106","v":0},{"$f":"名簿!BR106","v":""},{"$f":"名簿!Z106","v":""},"",{"$f":"名簿!O106","v":""},{"$f":"名簿!I106","v":0},{"$f":"名簿!K106","v":0},{"$f":"名簿!BU106","v":"00"},{"$f":"名簿!R106","v":""},{"$f":"名簿!D106","v":0},null,"",{"$f":"IF(O104=\"\",\"\",HLOOKUP(O104,名簿!$AB$8:$BI$118,99,FALSE))","v":""},0,2,null,"",{"$f":"IF(T104=\"\",\"\",HLOOKUP(T104,名簿!$AB$8:$BI$118,99,FALSE))","v":""},0,2,null,null,{"$f":"IF(Y104=\"\",\"\",HLOOKUP(Y104,名簿!$AB$8:$BI$118,99,FALSE))","v":""},0,2,null,null,{"$f":"IF(AD104=\"\",\"\",HLOOKUP(AD104,名簿!$AB$8:$BI$118,2,FALSE))","v":""},0,2,null,{"$f":"IF(AI104=\"\",\"\",IF(I104=1,VLOOKUP(AI104,男子種目コード!$A$1:$B$29,2,FALSE),IF(I104=2,VLOOKUP(AI104,女子種目コード!$A$1:$B$30,2,FALSE))))","v":""},null,0,2,null,null,null,null,"",0,0,"",null,null,null,null,null,null,null,null,null,null,null,0,"",""]
[null,{"$f":"名簿!Q107","v":""},null,null,{"$f":"名簿!E107","v":0},{"$f":"名簿!BR107","v":""},{"$f":"名簿!Z107","v":""},"",{"$f":"名簿!O107","v":""},{"$f":"名簿!I107","v":0},{"$f":"名簿!K107","v":0},{"$f":"名簿!BU107","v":"00"},{"$f":"名簿!R107","v":""},{"$f":"名簿!D107","v":0},null,"",{"$f":"IF(O105=\"\",\"\",HLOOKUP(O105,名簿!$AB$8:$BI$118,100,FALSE))","v":""},0,2,null,"",{"$f":"IF(T105=\"\",\"\",HLOOKUP(T105,名簿!$AB$8:$BI$118,100,FALSE))","v":""},0,2,null,null,{"$f":"IF(Y105=\"\",\"\",HLOOKUP(Y105,名簿!$AB$8:$BI$118,100,FALSE))","v":""},0,2,null,null,{"$f":"IF(AD105=\"\",\"\",HLOOKUP(AD105,名簿!$AB$8:$BI$118,2,FALSE))","v":""},0,2,null,{"$f":"IF(AI105=\"\",\"\",IF(I105=1,VLOOKUP(AI105,男子種目コード!$A$1:$B$29,2,FALSE),IF(I105=2,VLOOKUP(AI105,女子種目コード!$A$1:$B$30,2,FALSE))))","v":""},null,0,2,null,null,null,null,"",0,0,"",null,null,null,null,null,null,null,null,null,null,null,0,"",""]
[null,{"$f":"名簿!Q108","v":""},null,null,{"$f":"名簿!E108","v":0},{"$f":"名簿!BR108","v":""},{"$f":"名簿!Z108","v":""},"",{"$f":"名簿!O108","v":""},{"$f":"名簿!I108","v":0},{"$f":"名簿!K108","v":0},{"$f":"名簿!BU108","v":"00"},{"$f":"名簿!R108","v":""},{"$f":"名簿!D108","v":0},null,"",{"$f":"IF(O106=\"\",\"\",HLOOKUP(O106,名簿!$AB$8:$BI$118,101,FALSE))","v":""},0,2,null,"",{"$f":"IF(T106=\"\",\"\",HLOOKUP(T106,名簿!$AB$8:$BI$118,101,FALSE))","v":""},0,2,null,null,{"$f":"IF(Y106=\"\",\"\",HLOOKUP(Y106,名簿!$AB$8:$BI$118,101,FALSE))","v":""},0,2,null,null,{"$f":"IF(AD106=\"\",\"\",HLOOKUP(AD106,名簿!$AB$8:$BI$118,2,FALSE))","v":""},0,2,null,null,null,0,2,null,null,null,null,"",0,0,"",null,null,null,null,null,null,null,null,null,null,null,0,"",""]
[null,{"$f":"名簿!Q109","v":""},null,null,{"$f":"名簿!E109","v":0},{"$f":"名簿!BR109","v":""},{"$f":"名簿!Z109","v":""},"",{"$f":"名簿!O109","v":""},{"$f":"名簿!I109","v":0},{"$f":"名簿!K109","v":0},{"$f":"名簿!BU109","v":"00"},{"$f":"名簿!R109","v":""},{"$f":"名簿!D109","v":0},null,"",{"$f":"IF(O107=\"\",\"\",HLOOKUP(O107,名簿!$AB$8:$BI$118,102,FALSE))","v":""},0,2,null,"",{"$f":"IF(T107=\"\",\"\",HLOOKUP(T107,名簿!$AB$8:$BI$118,102,FALSE))","v":""},0,2,null,null,{"$f":"IF(Y107=\"\",\"\",HLOOKUP(Y107,名簿!$AB$8:$BI$118,102,FALSE))","v":""},0,2,null,null,{"$f":"IF(AD107=\"\",\"\",HLOOKUP(AD107,名簿!$AB$8:$BI$118,2,FALSE))","v":""},0,2,null,null,null,0,2,null,null,null,null,"",0,0,"",null,null,null,null,null,null,null,null,null,null,null,0,"",""]
[null,{"$f":"名簿!Q110","v":""},null,null,{"$f":"名簿!E110","v":0},{"$f":"名簿!BR110","v":""},{"$f":"名簿!Z110","v":""},"",{"$f":"名簿!O110","v":""},{"$f":"名簿!I110","v":0},{"$f":"名簿!K110","v":0},{"$f":"名簿!BU110","v":"00"},{"$f":"名簿!R110","v":""},{"$f":"名簿!D110","v":0},null,"",{"$f":"IF(O108=\"\",\"\",HLOOKUP(O108,名簿!$AB$8:$BI$118,103,FALSE))","v":""},0,2,null,"",{"$f":"IF(T108=\"\",\"\",HLOOKUP(T108,名簿!$AB$8:$BI$118,103,FALSE))","v":""},0,2,null,null,{"$f":"IF(Y108=\"\",\"\",HLOOKUP(Y108,名簿!$AB$8:$BI$118,103,FALSE))","v":""},0,2,null,null,{"$f":"IF(AD108=\"\",\"\",HLOOKUP(AD108,名簿!$AB$8:$BI$118,2,FALSE))","v":""},0,2,null,null,null,0,2,null,null,null,null,"",0,0,"",null,null,null,null,null,null,null,null,null,null,null,0,"",""]
[null,{"$f":"名簿!Q111","v":""},null,null,{"$f":"名簿!E111","v":0},{"$f":"名簿!BR111","v":""},{"$f":"名簿!Z111","v":""},"",{"$f":"名簿!O111","v":""},{"$f":"名簿!I111","v":0},{"$f":"名簿!K111","v":0},{"$f":"名簿!BU111","v":"00"},{"$f":"名簿!R111","v":""},{"$f":"名簿!D111","v":0},null,"",{"$f":"IF(O109=\"\",\"\",HLOOKUP(O109,名簿!$AB$8:$BI$118,104,FALSE))","v":""},0,2,null,"",{"$f":"IF(T109=\"\",\"\",HLOOKUP(T109,名簿!$AB$8:$BI$118,104,FALSE))","v":""},0,2,null,null,{"$f":"IF(Y109=\"\",\"\",HLOOKUP(Y109,名簿!$AB$8:$BI$118,104,FALSE))","v":""},0,2,null,null,{"$f":"IF(AD109=\"\",\"\",HLOOKUP(AD109,名簿!$AB$8:$BI$118,2,FALSE))","v":""},0,2,null,null,null,0,2,null,null,null,null,"",0,0,"",null,null,null,null,null,null,null,null,null,null,null,0,"",""]
[null,{"$f":"名簿!Q112","v":""},null,null,{"$f":"名簿!E112","v":0},{"$f":"名簿!BR112","v":""},{"$f":"名簿!Z112","v":""},"",{"$f":"名簿!O112","v":""},{"$f":"名簿!I112","v":0},{"$f":"名簿!K112","v":0},{"$f":"名簿!BU112","v":"00"},{"$f":"名簿!R112","v":""},{"$f":"名簿!D112","v":0},null,"",{"$f":"IF(O110=\"\",\"\",HLOOKUP(O110,名簿!$AB$8:$BI$118,105,FALSE))","v":""},0,2,null,"",{"$f":"IF(T110=\"\",\"\",HLOOKUP(T110,名簿!$AB$8:$BI$118,105,FALSE))","v":""},0,2,null,null,{"$f":"IF(Y110=\"\",\"\",HLOOKUP(Y110,名簿!$AB$8:$BI$118,105,FALSE))","v":""},0,2,null,null,{"$f":"IF(AD110=\"\",\"\",HLOOKUP(AD110,名簿!$AB$8:$BI$118,2,FALSE))","v":""},0,2,null,null,null,0,2,null,null,null,null,"",0,0,"",null,null,null,null,null,null,null,null,null,null,null,0,"",""]
[null,{"$f":"名簿!Q113","v":""},null,null,{"$f":"名簿!E113","v":0},{"$f":"名簿!BR113","v":""},{"$f":"名簿!Z113","v":""},"",{"$f":"名簿!O113","v":""},{"$f":"名簿!I113","v":0},{"$f":"名簿!K113","v":0},{"$f":"名簿!BU113","v":"00"},{"$f":"名簿!R113","v":""},{"$f":"名簿!D113","v":0},null,"",{"$f":"IF(O111=\"\",\"\",HLOOKUP(O111,名簿!$AB$8:$BI$118,106,FALSE))","v":""},0,2,null,"",{"$f":"IF(T111=\"\",\"\",HLOOKUP(T111,名簿!$AB$8:$BI$118,106,FALSE))","v":""},0,2,null,null,{"$f":"IF(Y111=\"\",\"\",HLOOKUP(Y111,名簿!$AB$8:$BI$118,106,FALSE))","v":""},0,2,null,null,{"$f":"IF(AD111=\"\",\"\",HLOOKUP(AD111,名簿!$AB$8:$BI$118,2,FALSE))","v":""},0,2,null,null,null,0,2,null,null,null,null,"",0,0,"",null,null,null,null,null,null,null,null,null,null,null,0,"",""]
[null,{"$f":"名簿!Q114","v":""},null,null,{"$f":"名簿!E114","v":0},{"$f":"名簿!BR114","v":""},{"$f":"名簿!Z114","v":""},"",{"$f":"名簿!O114","v":""},{"$f":"名簿!I114","v":0},{"$f":"名簿!K114","v":0},{"$f":"名簿!BU114","v":"00"},{"$f":"名簿!R114","v":""},{"$f":"名簿!D114","v":0},null,"",{"$f":"IF(O112=\"\",\"\",HLOOKUP(O112,名簿!$AB$8:$BI$118,107,FALSE))","v":""},0,2,null,"",{"$f":"IF(T112=\"\",\"\",HLOOKUP(T112,名簿!$AB$8:$BI$118,107,FALSE))","v":""},0,2,null,null,{"$f":"IF(Y112=\"\",\"\",HLOOKUP(Y112,名簿!$AB$8:$BI$118,107,FALSE))","v":""},0,2,null,null,{"$f":"IF(AD112=\"\",\"\",HLOOKUP(AD112,名簿!$AB$8:$BI$118,2,FALSE))","v":""},0,2,null,null,null,0,2,null,null,null,null,"",0,0,"",null,null,null,null,null,null,null,null,null,null,null,0,"",""]
[null,{"$f":"名簿!Q115","v":""},null,null,{"$f":"名簿!E115","v":0},{"$f":"名簿!BR115","v":""},{"$f":"名簿!Z115","v":""},"",{"$f":"名簿!O115","v":""},{"$f":"名簿!I115","v":0},{"$f":"名簿!K115","v":0},{"$f":"名簿!BU115","v":"00"},{"$f":"名簿!R115","v":""},{"$f":"名簿!D115","v":0},null,"",{"$f":"IF(O113=\"\",\"\",HLOOKUP(O113,名簿!$AB$8:$BI$118,108,FALSE))","v":""},0,2,null,"",{"$f":"IF(T113=\"\",\"\",HLOOKUP(T113,名簿!$AB$8:$BI$118,108,FALSE))","v":""},0,2,null,null,{"$f":"IF(Y113=\"\",\"\",HLOOKUP(Y113,名簿!$AB$8:$BI$118,108,FALSE))","v":""},0,2,null,null,{"$f":"IF(AD113=\"\",\"\",HLOOKUP(AD113,名簿!$AB$8:$BI$118,2,FALSE))","v":""},0,2,null,null,null,0,2,null,null,null,null,"",0,0,"",null,null,null,null,null,null,null,null,null,null,null,0,"",""]
[null,{"$f":"名簿!Q116","v":""},null,null,{"$f":"名簿!E116","v":0},{"$f":"名簿!BR116","v":""},{"$f":"名簿!Z116","v":""},"",{"$f":"名簿!O116","v":""},{"$f":"名簿!I116","v":0},{"$f":"名簿!K116","v":0},{"$f":"名簿!BU116","v":"00"},{"$f":"名簿!R116","v":""},{"$f":"名簿!D116","v":0},null,"",{"$f":"IF(O114=\"\",\"\",HLOOKUP(O114,名簿!$AB$8:$BI$118,109,FALSE))","v":""},0,2,null,"",{"$f":"IF(T114=\"\",\"\",HLOOKUP(T114,名簿!$AB$8:$BI$118,109,FALSE))","v":""},0,2,null,null,{"$f":"IF(Y114=\"\",\"\",HLOOKUP(Y114,名簿!$AB$8:$BI$118,109,FALSE))","v":""},0,2,null,null,{"$f":"IF(AD114=\"\",\"\",HLOOKUP(AD114,名簿!$AB$8:$BI$118,2,FALSE))","v":""},0,2,null,null,null,0,2,null,null,null,null,"",0,0,"",null,null,null,null,null,null,null,null,null,null,null,0,"",""]
[null,{"$f":"名簿!Q117","v":""},null,null,{"$f":"名簿!E117","v":0},{"$f":"名簿!BR117","v":""},{"$f":"名簿!Z117","v":""},"",{"$f":"名簿!O117","v":""},{"$f":"名簿!I117","v":0},{"$f":"名簿!K117","v":0},{"$f":"名簿!BU117","v":"00"},{"$f":"名簿!R117","v":""},{"$f":"名簿!D117","v":0},null,"",{"$f":"IF(O115=\"\",\"\",HLOOKUP(O115,名簿!$AB$8:$BI$118,110,FALSE))","v":""},0,2,null,"",{"$f":"IF(T115=\"\",\"\",HLOOKUP(T115,名簿!$AB$8:$BI$118,110,FALSE))","v":""},0,2,null,null,{"$f":"IF(Y115=\"\",\"\",HLOOKUP(Y115,名簿!$AB$8:$BI$118,110,FALSE))","v":""},0,2,null,null,{"$f":"IF(AD115=\"\",\"\",HLOOKUP(AD115,名簿!$AB$8:$BI$118,2,FALSE))","v":""},0,2,null,null,null,0,2,null,null,null,null,"",0,0,"",null,null,null,null,null,null,null,null,null,null,null,0,"",""]
[null,{"$f":"名簿!Q118","v":""},null,null,{"$f":"名簿!E118","v":0},{"$f":"名簿!BR118","v":""},{"$f":"名簿!Z118","v":""},"",{"$f":"名簿!O118","v":""},{"$f":"名簿!I118","v":0},{"$f":"名簿!K118","v":0},{"$f":"名簿!BU118","v":"00"},{"$f":"名簿!R118","v":""},{"$f":"名簿!D118","v":0},null,"",{"$f":"IF(O116=\"\",\"\",HLOOKUP(O116,名簿!$AB$8:$BI$118,111,FALSE))","v":""},0,2,null,"",{"$f":"IF(T116=\"\",\"\",HLOOKUP(T116,名簿!$AB$8:$BI$118,111,FALSE))","v":""},0,2,null,null,{"$f":"IF(Y116=\"\",\"\",HLOOKUP(Y116,名簿!$AB$8:$BI$118,111,FALSE))","v":""},0,2,null,null,{"$f":"IF(AD116=\"\",\"\",HLOOKUP(AD116,名簿!$AB$8:$BI$118,2,FALSE))","v":""},0,2,null,{"$f":"IF(AI116=\"\",\"\",IF(I116=1,VLOOKUP(AI116,男子種目コード!$A$1:$B$29,2,FALSE),IF(I116=2,VLOOKUP(AI116,女子種目コード!$A$1:$B$30,2,FALSE))))","v":""},null,0,2,null,null,null,null,"",0,0,"",null,null,null,null,null,null,null,null,null,null,null,0,"",""]
[null,null,null,null,null,null,null,null,null,null,null,null,null,{"$f":"名簿!$W$9","v":23},"210m",false,null,null,0,2,null,null,null,null,null,null,null,null,null,null,{"$f":"IF(AD117=\"\",\"\",IF($I117=1,VLOOKUP(AD117,$AV$8:$AX$10,3,FALSE),IF($I117=2,VLOOKUP(AD117,$AV$13:$AX$16,3,FALSE))))","v":""},{"$f":"SUM(AR7:AR116)","v":0},{"$f":"SUM(AS7:AS116)","v":0},{"$f":"SUM(AT7:AT116)","v":0},{"$f":"SUM(AU7:AU116)","v":0}]
[null,null,null,null,null,null,null,null,null,null,null,null,null,{"$f":"名簿!$W$9","v":23},"211m",false,null,null,0,2,null,null,null,null,null,null,null,null,null,null,{"$f":"IF(AD118=\"\",\"\",IF($I118=1,VLOOKUP(AD118,$AV$8:$AX$10,3,FALSE),IF($I118=2,VLOOKUP(AD118,$AV$13:$AX$16,3,FALSE))))","v":""},{"$f":"SUM(AF117:AH117)","v":0},null,null,{"$f":"(AF117+AI117)","v":0}]

{"sheet":"県選","index":13,"n_rows":134,"n_cols":81,"rows_kept":134,"cut":false,"hidden":false,"merged":[[0,19,0,21],[5,57,5,58]]}
[null,null,null,null,"所属名",{"$f":"IF(名簿!$P$9=\"\",\"\",名簿!$P$9)","v":""},null,null,"三重県選手権",null,null,null,null,null,null,null,null,null,null,"参加人数"]
[null,null,null,null,"所属コード",{"$f":"名簿!$Q$9","v":""},null,null,"個人種目数",null,null,null,null,null,{"$f":"$BB$117","v":0},null,null,null,null,"男子",null,{"$f":"COUNTIF($I$7:$I$116,1)-COUNTIF($BD$7:$BD$116,0)","v":0}]
[null,null,null,null,"顧問名",{"$f":"IF(名簿!$E$5=\"\",\"\",名簿!$E$5)","v":""},null,null,"リレー",null,null,null,null,null,{"$f":"AE134","v":0},null,null,null,null,"女子",null,{"$f":"COUNTIF($I$7:$I$116,2)-COUNTIF($BE$7:$BE$116,0)","v":0}]
[null,null,null,null,"顧問連絡先",{"$f":"IF(名簿!$I$5=\"\",\"\",名簿!$I$5)","v":""},null,null,"大会参加費",null,null,null,null,null,{"$f":"O2*1000+O3*2000+Q5*800","v":0},null,null,null,null,"計",null,{"$f":"V2+V3","v":0}]
[null,null,null,null,"少年B100mは記録が反映されません。直接入力して下さい",null,null,null,null,null,null,null,null,null,"プログラム冊数",null,null,null,null,"冊"]
["競技者コード","所属コード","所属コード２","ナンバーA","ナンバー","名前","カナ名","掲示板名","性別","学年","生年","月日","個人所属地コード","陸連コード","1種目","コード","今年度公認記録",null,null,"2種目","コード","今年度公認記録","種目3","コード","記録3",null,null,"4×100R","コード","記録",null,null,"4×400R","コード","記録",null,null,null,null,null,100,null,null,null,null,null,null,null,null,null,100,100,"男子A","個人種目","種目","男子","女子","種目別人数",null,null,"男子4×100mR　Ａ",null,"男子4×400mR　Ａ",null,"女子4×100mR　Ａ",null,"女子4×400mR　Ａ"]
[{"$f":"AB7","v":0},{"$f":"名簿!Q9","v":""},{"$f":"AG7","v":0},null,{"$f":"名簿!E9","v":0},{"$f":"名簿!BR9","v":""},{"$f":"名簿!Z9","v":""},{"$f":"F7","v":""},{"$f":"名簿!O9","v":""},{"$f":"名簿!I9","v":0},{"$f":"名簿!K9","v":0},{"$f":"名簿!BU9","v":"00"},{"$f":"名簿!R9","v":""},{"$f":"名簿!D9","v":0},null,{"$f":"IF(O7=\"\",\"\",IF($I7=1,VLOOKUP(O7,$BF$8:$BH$33,3,FALSE),IF($I7=2,VLOOKUP(O7,$BF$35:$BH$57,3,FALSE))))","v":""},{"$f":"IF(O7=\"\",\"\",HLOOKUP(O7,名簿!$AB$8:$BI$118,2,FALSE))","v":""},0,2,null,{"$f":"IF(T7=\"\",\"\",IF($I7=1,VLOOKUP(T7,$BF$8:$BH$33,3,FALSE),IF($I7=2,VLOOKUP(T7,$BF$35:$BH$57,3,FALSE))))","v":""},{"$f":"IF(T7=\"\",\"\",HLOOKUP(T7,名簿!$AB$8:$BI$118,2,FALSE))","v":""},null,{"$f":"IF(W7=\"\",\"\",IF(I7=1,VLOOKUP(W7,男子種目コード!$D$2:$E$30,2,FALSE),IF(I7=2,VLOOKUP(W7,女子種目コード!$D$2:$E$30,2,FALSE))))","v":""},null,null,null,null,{"$f":"IF(AB7=\"\",\"\",IF(I7=1,VLOOKUP(AB7,男子種目コード!$A$82:$B$85,2,FALSE),IF(I7=2,VLOOKUP(AB7,女子種目コード!$A$82:$B$85,2,FALSE))))","v":""},null,0,2,null,{"$f":"IF(AG7=\"\",\"\",IF(I7=1,VLOOKUP(AG7,男子種目コード!$A$78:$B$81,2,FALSE),IF(I7=2,VLOOKUP(AG7,女子種目コード!$A$78:$B$81,2,FALSE))))","v":""},null,0,2,0,null,null,200,{"$f":"IF(O7=\"\",\"\",1)","v":""},{"$f":"IF(T7=\"\",\"\",1)","v":""},null,null,{"$f":"IF(O7=\"\",\"\",1)","v":""},{"$f":"IF(OR(AT7=1,T7=\"\"),0,1)","v":0},{"$f":"IF(OR(AT7=1,AU7=1,AB7=\"\"),0,1)","v":0},{"$f":"IF(OR(AT7=1,AU7=1,AV7=1,AG7=\"\"),0,1)","v":0},{"$f":"SUM(AT7:AW7)","v":0},200,200,"男子B",{"$f":"COUNT(P7,U7)","v":0},{"$f":"COUNT(P7,U7,AC7,AH7)","v":0},{"$f":"IF(I7=1,BC7,\"\")","v":""},{"$f":"IF(I7=2,BC7,\"\")","v":""},"男子",null,null,"記録",null,"記録",null,"記録",null,"記録"]
[{"$f":"AB8","v":0},{"$f":"名簿!Q10","v":""},{"$f":"AG8","v":0},null,{"$f":"名簿!E10","v":0},{"$f":"名簿!BR10","v":""},{"$f":"名簿!Z10","v":""},"",{"$f":"名簿!O10","v":""},{"$f":"名簿!I10","v":0},{"$f":"名簿!K10","v":0},{"$f":"名簿!BU10","v":"00"},{"$f":"名簿!R10","v":""},{"$f":"名簿!D10","v":0},null,{"$f":"IF(O8=\"\",\"\",IF($I8=1,VLOOKUP(O8,$BF$8:$BH$33,3,FALSE),IF($I8=2,VLOOKUP(O8,$BF$35:$BH$57,3,FALSE))))","v":""},{"$f":"IF(O8=\"\",\"\",HLOOKUP(O8,名簿!$AB$8:$BI$118,3,FALSE))","v":""},0,2,null,{"$f":"IF(T8=\"\",\"\",IF($I8=1,VLOOKUP(T8,$BF$8:$BH$33,3,FALSE),IF($I8=2,VLOOKUP(T8,$BF$35:$BH$57,3,FALSE))))","v":""},{"$f":"IF(T8=\"\",\"\",HLOOKUP(T8,名簿!$AB$8:$BI$118,3,FALSE))","v":""},null,{"$f":"IF(W8=\"\",\"\",IF(I8=1,VLOOKUP(W8,男子種目コード!$D$2:$E$30,2,FALSE),IF(I8=2,VLOOKUP(W8,女子種目コード!$D$2:$E$30,2,FALSE))))","v":""},null,null,null,null,{"$f":"IF(AB8=\"\",\"\",IF(I8=1,VLOOKUP(AB8,男子種目コード!$A$82:$B$85,2,FALSE),IF(I8=2,VLOOKUP(AB8,女子種目コード!$A$82:$B$85,2,FALSE))))","v":""},null,0,2,null,{"$f":"IF(AG8=\"\",\"\",IF(I8=1,VLOOKUP(AG8,男子種目コード!$A$78:$B$81,2,FALSE),IF(I8=2,VLOOKUP(AG8,女子種目コード!$A$78:$B$81,2,FALSE))))","v":""},null,0,2,0,null,null,400,{"$f":"IF(O8=\"\",\"\",1)","v":""},{"$f":"IF(T8=\"\",\"\",1)","v":""},null,null,{"$f":"IF(O8=\"\",\"\",1)","v":""},0,0,0,{"$f":"SUM(AT8:AW8)","v":0},400,400,"男子C",{"$f":"COUNT(P8,U8)","v":0},{"$f":"COUNT(P8,U8,AC8,AH8)","v":0},{"$f":"IF(I8=1,BC8,\"\")","v":""},{"$f":"IF(I8=2,BC8,\"\")","v":""},"100m",{"$f":"COUNTIF($P$7:$P$116,1)+COUNTIF($U$7:$U$116,1)","v":0},1,{"$f":"IF(ISERROR(BQ8),\"\",BQ8)","v":""},{"$f":"IF(ISERROR(BR8),\"\",BR8)","v":""},{"$f":"IF(ISERROR(BS8),\"\",BS8)","v":""},{"$f":"IF(ISERROR(BT8),\"\",BT8)","v":""},{"$f":"IF(ISERROR(BU8),\"\",BU8)","v":""},{"$f":"IF(ISERROR(BV8),\"\",BV8)","v":""},{"$f":"IF(ISERROR(BW8),\"\",BW8)","v":""},{"$f":"IF(ISERROR(BX8),\"\",BX8)","v":""},{"$f":"VLookUpX(\"男子A\",$A$7:$F$116,1,5)","v":{"$error":"#N/A"}},{"$f":"VLookUpX(\"男子A\",$A$7:$F$116,1,6)","v":{"$error":"#N/A"}},{"$f":"VLookUpX(\"男子A\",$C$7:$F$116,1,3)","v":{"$error":"#N/A"}},{"$f":"VLookUpX(\"男子A\",$C$7:$F$116,1,4)","v":{"$error":"#N/A"}},{"$f":"VLookUpX(\"女子A\",$A$7:$F$116,1,5)","v":{"$error":"#N/A"}},{"$f":"VLookUpX(\"女子A\",$A$7:$F$116,1,6)","v":{"$error":"#N/A"}},{"$f":"VLookUpX(\"女子A\",$C$7:$F$116,1,3)","v":{"$error":"#N/A"}},{"$f":"VLookUpX(\"女子A\",$C$7:$F$116,1,4)","v":{"$error":"#N/A"}},{"$f":"IF(BI8=\"\",\"\",1)","v":""},{"$f":"IF(BK8=\"\",\"\",1)","v":""},{"$f":"IF(BM8=\"\",\"\",1)","v":""},{"$f":"IF(BO8=\"\",\"\",1)","v":""}]
[0,{"$f":"名簿!Q11","v":""},0,null,{"$f":"名簿!E11","v":0},{"$f":"名簿!BR11","v":""},{"$f":"名簿!Z11","v":""},"",{"$f":"名簿!O11","v":""},{"$f":"名簿!I11","v":0},{"$f":"名簿!K11","v":0},{"$f":"名簿!BU11","v":"00"},{"$f":"名簿!R11","v":""},{"$f":"名簿!D11","v":0},null,"",{"$f":"IF(O9=\"\",\"\",HLOOKUP(O9,名簿!$AB$8:$BI$118,4,FALSE))","v":""},0,2,null,"",{"$f":"IF(T9=\"\",\"\",HLOOKUP(T9,名簿!$AB$8:$BI$118,4,FALSE))","v":""},null,{"$f":"IF(W9=\"\",\"\",IF(I9=1,VLOOKUP(W9,男子種目コード!$D$2:$E$30,2,FALSE),IF(I9=2,VLOOKUP(W9,女子種目コード!$D$2:$E$30,2,FALSE))))","v":""},null,null,null,null,{"$f":"IF(AB9=\"\",\"\",IF(I9=1,VLOOKUP(AB9,男子種目コード!$A$82:$B$85,2,FALSE),IF(I9=2,VLOOKUP(AB9,女子種目コード!$A$82:$B$85,2,FALSE))))","v":""},null,0,2,null,{"$f":"IF(AG9=\"\",\"\",IF(I9=1,VLOOKUP(AG9,男子種目コード!$A$78:$B$81,2,FALSE),IF(I9=2,VLOOKUP(AG9,女子種目コード!$A$78:$B$81,2,FALSE))))","v":""},null,0,2,0,null,null,800,{"$f":"IF(O9=\"\",\"\",1)","v":""},"",null,null,"",0,0,0,0,800,800,"男子D",0,0,"","","200m",{"$f":"COUNTIF($P$7:$P$116,2)+COUNTIF($U$7:$U$116,2)","v":0},2,"","","","","","","","",{"$f":"VLookUpX(\"男子A\",$A$7:$F$116,2,5)","v":{"$error":"#N/A"}},{"$f":"VLookUpX(\"男子A\",$A$7:$F$116,2,6)","v":{"$error":"#N/A"}},{"$f":"VLookUpX(\"男子A\",$C$7:$F$116,2,3)","v":{"$error":"#N/A"}},{"$f":"VLookUpX(\"男子A\",$C$7:$F$116,2,4)","v":{"$error":"#N/A"}},{"$f":"VLookUpX(\"女子A\",$A$7:$F$116,2,5)","v":{"$error":"#N/A"}},{"$f":"VLookUpX(\"女子A\",$A$7:$F$116,2,6)","v":{"$error":"#N/A"}},{"$f":"VLookUpX(\"女子A\",$C$7:$F$116,2,3)","v":{"$error":"#N/A"}},{"$f":"VLookUpX(\"女子A\",$C$7:$F$116,2,4)","v":{"$error":"#N/A"}}]
[0,{"$f":"名簿!Q12","v":""},0,null,{"$f":"名簿!E12","v":0},{"$f":"名簿!BR12","v":""},{"$f":"名簿!Z12","v":""},"",{"$f":"名簿!O12","v":""},{"$f":"名簿!I12","v":0},{"$f":"名簿!K12","v":0},{"$f":"名簿!BU12","v":"00"},{"$f":"名簿!R12","v":""},{"$f":"名簿!D12","v":0},null,"",{"$f":"IF(O10=\"\",\"\",HLOOKUP(O10,名簿!$AB$8:$BI$118,5,FALSE))","v":""},0,2,null,"",{"$f":"IF(T10=\"\",\"\",HLOOKUP(T10,名簿!$AB$8:$BI$118,5,FALSE))","v":""},null,{"$f":"IF(W10=\"\",\"\",IF(I10=1,VLOOKUP(W10,男子種目コード!$D$2:$E$30,2,FALSE),IF(I10=2,VLOOKUP(W10,女子種目コード!$D$2:$E$30,2,FALSE))))","v":""},null,null,null,null,{"$f":"IF(AB10=\"\",\"\",IF(I10=1,VLOOKUP(AB10,男子種目コード!$A$82:$B$85,2,FALSE),IF(I10=2,VLOOKUP(AB10,女子種目コード!$A$82:$B$85,2,FALSE))))","v":""},null,0,2,null,{"$f":"IF(AG10=\"\",\"\",IF(I10=1,VLOOKUP(AG10,男子種目コード!$A$78:$B$81,2,FALSE),IF(I10=2,VLOOKUP(AG10,女子種目コード!$A$78:$B$81,2,FALSE))))","v":""},null,0,2,0,null,null,1500,"","",null,null,"",0,0,0,0,1500,1500,"女子A",0,0,"","","400m",{"$f":"COUNTIF($P$7:$P$116,3)+COUNTIF($U$7:$U$116,3)","v":0},3,"","","","","","","","",{"$f":"VLookUpX(\"男子A\",$A$7:$F$116,3,5)","v":{"$error":"#N/A"}},{"$f":"VLookUpX(\"男子A\",$A$7:$F$116,3,6)","v":{"$error":"#N/A"}},{"$f":"VLookUpX(\"男子A\",$C$7:$F$116,3,3)","v":{"$error":"#N/A"}},{"$f":"VLookUpX(\"男子A\",$C$7:$F$116,3,4)","v":{"$error":"#N/A"}},{"$f":"VLookUpX(\"女子A\",$A$7:$F$116,3,5)","v":{"$error":"#N/A"}},{"$f":"VLookUpX(\"女子A\",$A$7:$F$116,3,6)","v":{"$error":"#N/A"}},{"$f":"VLookUpX(\"女子A\",$C$7:$F$116,3,3)","v":{"$error":"#N/A"}},{"$f":"VLookUpX(\"女子A\",$C$7:$F$116,3,4)","v":{"$error":"#N/A"}}]
[0,{"$f":"名簿!Q13","v":""},0,null,{"$f":"名簿!E13","v":0},{"$f":"名簿!BR13","v":""},{"$f":"名簿!Z13","v":""},"",{"$f":"名簿!O13","v":""},{"$f":"名簿!I13","v":0},{"$f":"名簿!K13","v":0},{"$f":"名簿!BU13","v":"00"},{"$f":"名簿!R13","v":""},{"$f":"名簿!D13","v":0},null,"",{"$f":"IF(O11=\"\",\"\",HLOOKUP(O11,名簿!$AB$8:$BI$118,6,FALSE))","v":""},0,2,null,"",{"$f":"IF(T11=\"\",\"\",HLOOKUP(T11,名簿!$AB$8:$BI$118,6,FALSE))","v":""},null,{"$f":"IF(W11=\"\",\"\",IF(I11=1,VLOOKUP(W11,男子種目コード!$D$2:$E$30,2,FALSE),IF(I11=2,VLOOKUP(W11,女子種目コード!$D$2:$E$30,2,FALSE))))","v":""},null,null,null,null,{"$f":"IF(AB11=\"\",\"\",IF(I11=1,VLOOKUP(AB11,男子種目コード!$A$82:$B$85,2,FALSE),IF(I11=2,VLOOKUP(AB11,女子種目コード!$A$82:$B$85,2,FALSE))))","v":""},null,0,2,null,{"$f":"IF(AG11=\"\",\"\",IF(I11=1,VLOOKUP(AG11,男子種目コード!$A$78:$B$81,2,FALSE),IF(I11=2,VLOOKUP(AG11,女子種目コード!$A$78:$B$81,2,FALSE))))","v":""},null,0,2,0,null,null,5000,"","",null,null,"",0,0,0,0,"少年3000","少年3000","女子B",0,0,"","","800m",{"$f":"COUNTIF($P$7:$P$116,4)+COUNTIF($U$7:$U$116,4)","v":0},4,"","","","","","","","",{"$f":"VLookUpX(\"男子A\",$A$7:$F$116,4,5)","v":{"$error":"#N/A"}},{"$f":"VLookUpX(\"男子A\",$A$7:$F$116,4,6)","v":{"$error":"#N/A"}},{"$f":"VLookUpX(\"男子A\",$C$7:$F$116,4,3)","v":{"$error":"#N/A"}},{"$f":"VLookUpX(\"男子A\",$C$7:$F$116,4,4)","v":{"$error":"#N/A"}},{"$f":"VLookUpX(\"女子A\",$A$7:$F$116,4,5)","v":{"$error":"#N/A"}},{"$f":"VLookUpX(\"女子A\",$A$7:$F$116,4,6)","v":{"$error":"#N/A"}},{"$f":"VLookUpX(\"女子A\",$C$7:$F$116,4,3)","v":{"$error":"#N/A"}},{"$f":"VLookUpX(\"女子A\",$C$7:$F$116,4,4)","v":{"$error":"#N/A"}}]
[0,{"$f":"名簿!Q14","v":""},0,null,{"$f":"名簿!E14","v":0},{"$f":"名簿!BR14","v":""},{"$f":"名簿!Z14","v":""},"",{"$f":"名簿!O14","v":""},{"$f":"名簿!I14","v":0},{"$f":"名簿!K14","v":0},{"$f":"名簿!BU14","v":"00"},{"$f":"名簿!R14","v":""},{"$f":"名簿!D14","v":0},null,"",{"$f":"IF(O12=\"\",\"\",HLOOKUP(O12,名簿!$AB$8:$BI$118,7,FALSE))","v":""},0,2,null,"",{"$f":"IF(T12=\"\",\"\",HLOOKUP(T12,名簿!$AB$8:$BI$118,7,FALSE))","v":""},null,{"$f":"IF(W12=\"\",\"\",IF(I12=1,VLOOKUP(W12,男子種目コード!$D$2:$E$30,2,FALSE),IF(I12=2,VLOOKUP(W12,女子種目コード!$D$2:$E$30,2,FALSE))))","v":""},null,null,null,null,{"$f":"IF(AB12=\"\",\"\",IF(I12=1,VLOOKUP(AB12,男子種目コード!$A$82:$B$85,2,FALSE),IF(I12=2,VLOOKUP(AB12,女子種目コード!$A$82:$B$85,2,FALSE))))","v":""},null,0,2,null,{"$f":"IF(AG12=\"\",\"\",IF(I12=1,VLOOKUP(AG12,男子種目コード!$A$78:$B$81,2,FALSE),IF(I12=2,VLOOKUP(AG12,女子種目コード!$A$78:$B$81,2,FALSE))))","v":""},null,0,2,0,null,null,10000,"","",null,null,"",0,0,0,0,5000,5000,"女子C",0,0,"","","1500m",{"$f":"COUNTIF($P$7:$P$116,5)+COUNTIF($U$7:$U$116,5)","v":0},5,"","","","","","","","",{"$f":"VLookUpX(\"男子A\",$A$7:$F$116,5,5)","v":{"$error":"#N/A"}},{"$f":"VLookUpX(\"男子A\",$A$7:$F$116,5,6)","v":{"$error":"#N/A"}},{"$f":"VLookUpX(\"男子A\",$C$7:$F$116,5,3)","v":{"$error":"#N/A"}},{"$f":"VLookUpX(\"男子A\",$C$7:$F$116,5,4)","v":{"$error":"#N/A"}},{"$f":"VLookUpX(\"女子A\",$A$7:$F$116,5,5)","v":{"$error":"#N/A"}},{"$f":"VLookUpX(\"女子A\",$A$7:$F$116,5,6)","v":{"$error":"#N/A"}},{"$f":"VLookUpX(\"女子A\",$C$7:$F$116,5,3)","v":{"$error":"#N/A"}},{"$f":"VLookUpX(\"女子A\",$C$7:$F$116,5,4)","v":{"$error":"#N/A"}}]
[0,{"$f":"名簿!Q15","v":""},0,null,{"$f":"名簿!E15","v":0},{"$f":"名簿!BR15","v":""},{"$f":"名簿!Z15","v":""},"",{"$f":"名簿!O15","v":""},{"$f":"名簿!I15","v":0},{"$f":"名簿!K15","v":0},{"$f":"名簿!BU15","v":"00"},{"$f":"名簿!R15","v":""},{"$f":"名簿!D15","v":0},null,"",{"$f":"IF(O13=\"\",\"\",HLOOKUP(O13,名簿!$AB$8:$BI$118,8,FALSE))","v":""},0,2,null,"",{"$f":"IF(T13=\"\",\"\",HLOOKUP(T13,名簿!$AB$8:$BI$118,8,FALSE))","v":""},null,{"$f":"IF(W13=\"\",\"\",IF(I13=1,VLOOKUP(W13,男子種目コード!$D$2:$E$30,2,FALSE),IF(I13=2,VLOOKUP(W13,女子種目コード!$D$2:$E$30,2,FALSE))))","v":""},null,null,null,null,{"$f":"IF(AB13=\"\",\"\",IF(I13=1,VLOOKUP(AB13,男子種目コード!$A$82:$B$85,2,FALSE),IF(I13=2,VLOOKUP(AB13,女子種目コード!$A$82:$B$85,2,FALSE))))","v":""},null,0,2,null,{"$f":"IF(AG13=\"\",\"\",IF(I13=1,VLOOKUP(AG13,男子種目コード!$A$78:$B$81,2,FALSE),IF(I13=2,VLOOKUP(AG13,女子種目コード!$A$78:$B$81,2,FALSE))))","v":""},null,0,2,0,null,null,"100H","","",null,null,"",0,0,0,0,10000,10000,"女子D",0,0,"","","5000m",{"$f":"COUNTIF($P$7:$P$116,6)+COUNTIF($U$7:$U$116,6)","v":0},6,"","","","","","","","",{"$f":"VLookUpX(\"男子A\",$A$7:$F$116,6,5)","v":{"$error":"#N/A"}},{"$f":"VLookUpX(\"男子A\",$A$7:$F$116,6,6)","v":{"$error":"#N/A"}},{"$f":"VLookUpX(\"男子A\",$C$7:$F$116,6,3)","v":{"$error":"#N/A"}},{"$f":"VLookUpX(\"男子A\",$C$7:$F$116,6,4)","v":{"$error":"#N/A"}},{"$f":"VLookUpX(\"女子A\",$A$7:$F$116,6,5)","v":{"$error":"#N/A"}},{"$f":"VLookUpX(\"女子A\",$A$7:$F$116,6,6)","v":{"$error":"#N/A"}},{"$f":"VLookUpX(\"女子A\",$C$7:$F$116,6,3)","v":{"$error":"#N/A"}},{"$f":"VLookUpX(\"女子A\",$C$7:$F$116,6,4)","v":{"$error":"#N/A"}}]
[0,{"$f":"名簿!Q16","v":""},0,null,{"$f":"名簿!E16","v":0},{"$f":"名簿!BR16","v":""},{"$f":"名簿!Z16","v":""},"",{"$f":"名簿!O16","v":""},{"$f":"名簿!I16","v":0},{"$f":"名簿!K16","v":0},{"$f":"名簿!BU16","v":"00"},{"$f":"名簿!R16","v":""},{"$f":"名簿!D16","v":0},null,"",{"$f":"IF(O14=\"\",\"\",HLOOKUP(O14,名簿!$AB$8:$BI$118,9,FALSE))","v":""},0,2,null,"",{"$f":"IF(T14=\"\",\"\",HLOOKUP(T14,名簿!$AB$8:$BI$118,9,FALSE))","v":""},null,{"$f":"IF(W14=\"\",\"\",IF(I14=1,VLOOKUP(W14,男子種目コード!$D$2:$E$30,2,FALSE),IF(I14=2,VLOOKUP(W14,女子種目コード!$D$2:$E$30,2,FALSE))))","v":""},null,null,null,null,{"$f":"IF(AB14=\"\",\"\",IF(I14=1,VLOOKUP(AB14,男子種目コード!$A$82:$B$85,2,FALSE),IF(I14=2,VLOOKUP(AB14,女子種目コード!$A$82:$B$85,2,FALSE))))","v":""},null,0,2,null,{"$f":"IF(AG14=\"\",\"\",IF(I14=1,VLOOKUP(AG14,男子種目コード!$A$78:$B$81,2,FALSE),IF(I14=2,VLOOKUP(AG14,女子種目コード!$A$78:$B$81,2,FALSE))))","v":""},null,0,2,0,null,null,"110H","","",null,null,"",0,0,0,0,"110H","100H",null,0,0,"","","10000m",{"$f":"COUNTIF($P$7:$P$116,7)+COUNTIF($U$7:$U$116,7)","v":0},7,"男子4×100mR　Ｂ",null,"男子4×400mR　Ｂ",null,"女子4×100mR　Ｂ",null,"女子4×400mR　Ｂ"]
[0,{"$f":"名簿!Q17","v":""},0,null,{"$f":"名簿!E17","v":0},{"$f":"名簿!BR17","v":""},{"$f":"名簿!Z17","v":""},"",{"$f":"名簿!O17","v":""},{"$f":"名簿!I17","v":0},{"$f":"名簿!K17","v":0},{"$f":"名簿!BU17","v":"00"},{"$f":"名簿!R17","v":""},{"$f":"名簿!D17","v":0},null,"",{"$f":"IF(O15=\"\",\"\",HLOOKUP(O15,名簿!$AB$8:$BI$118,10,FALSE))","v":""},0,2,null,"",{"$f":"IF(T15=\"\",\"\",HLOOKUP(T15,名簿!$AB$8:$BI$118,10,FALSE))","v":""},null,{"$f":"IF(W15=\"\",\"\",IF(I15=1,VLOOKUP(W15,男子種目コード!$D$2:$E$30,2,FALSE),IF(I15=2,VLOOKUP(W15,女子種目コード!$D$2:$E$30,2,FALSE))))","v":""},null,null,null,null,{"$f":"IF(AB15=\"\",\"\",IF(I15=1,VLOOKUP(AB15,男子種目コード!$A$82:$B$85,2,FALSE),IF(I15=2,VLOOKUP(AB15,女子種目コード!$A$82:$B$85,2,FALSE))))","v":""},null,0,2,null,{"$f":"IF(AG15=\"\",\"\",IF(I15=1,VLOOKUP(AG15,男子種目コード!$A$78:$B$81,2,FALSE),IF(I15=2,VLOOKUP(AG15,女子種目コード!$A$78:$B$81,2,FALSE))))","v":""},null,0,2,0,null,null,"400H","","",null,null,"",0,0,0,0,"400H","400H",null,0,0,"","","110mH",{"$f":"COUNTIF($P$7:$P$116,8)+COUNTIF($U$7:$U$116,8)","v":0},8,"記録",null,"記録",null,"記録",null,"記録"]
[0,{"$f":"名簿!Q18","v":""},0,null,{"$f":"名簿!E18","v":0},{"$f":"名簿!BR18","v":""},{"$f":"名簿!Z18","v":""},"",{"$f":"名簿!O18","v":""},{"$f":"名簿!I18","v":0},{"$f":"名簿!K18","v":0},{"$f":"名簿!BU18","v":"00"},{"$f":"名簿!R18","v":""},{"$f":"名簿!D18","v":0},null,"",{"$f":"IF(O16=\"\",\"\",HLOOKUP(O16,名簿!$AB$8:$BI$118,11,FALSE))","v":""},0,2,null,"",{"$f":"IF(T16=\"\",\"\",HLOOKUP(T16,名簿!$AB$8:$BI$118,11,FALSE))","v":""},null,{"$f":"IF(W16=\"\",\"\",IF(I16=1,VLOOKUP(W16,男子種目コード!$D$2:$E$30,2,FALSE),IF(I16=2,VLOOKUP(W16,女子種目コード!$D$2:$E$30,2,FALSE))))","v":""},null,null,null,null,{"$f":"IF(AB16=\"\",\"\",IF(I16=1,VLOOKUP(AB16,男子種目コード!$A$82:$B$85,2,FALSE),IF(I16=2,VLOOKUP(AB16,女子種目コード!$A$82:$B$85,2,FALSE))))","v":""},null,0,2,null,{"$f":"IF(AG16=\"\",\"\",IF(I16=1,VLOOKUP(AG16,男子種目コード!$A$78:$B$81,2,FALSE),IF(I16=2,VLOOKUP(AG16,女子種目コード!$A$78:$B$81,2,FALSE))))","v":""},null,0,2,0,null,null,"3000SC","","",null,null,"",0,0,0,0,"3000SC","3000SC",null,0,0,"","","400mH",{"$f":"COUNTIF($P$7:$P$116,9)+COUNTIF($U$7:$U$116,9)","v":0},9,{"$f":"IF(ISERROR(BQ16),\"\",BQ16)","v":""},{"$f":"IF(ISERROR(BR16),\"\",BR16)","v":""},{"$f":"IF(ISERROR(BS16),\"\",BS16)","v":""},{"$f":"IF(ISERROR(BT16),\"\",BT16)","v":""},{"$f":"IF(ISERROR(BU16),\"\",BU16)","v":""},{"$f":"IF(ISERROR(BV16),\"\",BV16)","v":""},{"$f":"IF(ISERROR(BW16),\"\",BW16)","v":""},{"$f":"IF(ISERROR(BX16),\"\",BX16)","v":""},{"$f":"VLookUpX(\"男子B\",$A$7:$F$116,1,5)","v":{"$error":"#N/A"}},{"$f":"VLookUpX(\"男子B\",$A$7:$F$116,1,6)","v":{"$error":"#N/A"}},{"$f":"VLookUpX(\"男子B\",$C$7:$F$116,1,3)","v":{"$error":"#N/A"}},{"$f":"VLookUpX(\"男子B\",$C$7:$F$116,1,4)","v":{"$error":"#N/A"}},{"$f":"VLookUpX(\"女子B\",$A$7:$F$116,1,5)","v":{"$error":"#N/A"}},{"$f":"VLookUpX(\"女子B\",$A$7:$F$116,1,6)","v":{"$error":"#N/A"}},{"$f":"VLookUpX(\"女子B\",$C$7:$F$116,1,3)","v":{"$error":"#N/A"}},{"$f":"VLookUpX(\"女子B\",$C$7:$F$116,1,4)","v":{"$error":"#N/A"}},{"$f":"IF(BI16=\"\",\"\",1)","v":""},{"$f":"IF(BK16=\"\",\"\",1)","v":""},{"$f":"IF(BM16=\"\",\"\",1)","v":""},{"$f":"IF(BO16=\"\",\"\",1)","v":""}]
[0,{"$f":"名簿!Q19","v":""},0,null,{"$f":"名簿!E19","v":0},{"$f":"名簿!BR19","v":""},{"$f":"名簿!Z19","v":""},"",{"$f":"名簿!O19","v":""},{"$f":"名簿!I19","v":0},{"$f":"名簿!K19","v":0},{"$f":"名簿!BU19","v":"00"},{"$f":"名簿!R19","v":""},{"$f":"名簿!D19","v":0},null,"",{"$f":"IF(O17=\"\",\"\",HLOOKUP(O17,名簿!$AB$8:$BI$118,12,FALSE))","v":""},0,2,null,"",{"$f":"IF(T17=\"\",\"\",HLOOKUP(T17,名簿!$AB$8:$BI$118,12,FALSE))","v":""},null,{"$f":"IF(W17=\"\",\"\",IF(I17=1,VLOOKUP(W17,男子種目コード!$D$2:$E$30,2,FALSE),IF(I17=2,VLOOKUP(W17,女子種目コード!$D$2:$E$30,2,FALSE))))","v":""},null,null,null,null,{"$f":"IF(AB17=\"\",\"\",IF(I17=1,VLOOKUP(AB17,男子種目コード!$A$82:$B$85,2,FALSE),IF(I17=2,VLOOKUP(AB17,女子種目コード!$A$82:$B$85,2,FALSE))))","v":""},null,0,2,null,{"$f":"IF(AG17=\"\",\"\",IF(I17=1,VLOOKUP(AG17,男子種目コード!$A$78:$B$81,2,FALSE),IF(I17=2,VLOOKUP(AG17,女子種目コード!$A$78:$B$81,2,FALSE))))","v":""},null,0,2,0,null,null,"5000W","","",null,null,"",0,0,0,0,"5000W","5000W",null,0,0,"","","3000mSC",{"$f":"COUNTIF($P$7:$P$116,10)+COUNTIF($U$7:$U$116,10)","v":0},10,"","","","","","","","",{"$f":"VLookUpX(\"男子B\",$A$7:$F$116,2,5)","v":{"$error":"#N/A"}},{"$f":"VLookUpX(\"男子B\",$A$7:$F$116,2,6)","v":{"$error":"#N/A"}},{"$f":"VLookUpX(\"男子B\",$C$7:$F$116,2,3)","v":{"$error":"#N/A"}},{"$f":"VLookUpX(\"男子B\",$C$7:$F$116,2,4)","v":{"$error":"#N/A"}},{"$f":"VLookUpX(\"女子B\",$A$7:$F$116,2,5)","v":{"$error":"#N/A"}},{"$f":"VLookUpX(\"女子B\",$A$7:$F$116,2,6)","v":{"$error":"#N/A"}},{"$f":"VLookUpX(\"女子B\",$C$7:$F$116,2,3)","v":{"$error":"#N/A"}},{"$f":"VLookUpX(\"女子B\",$C$7:$F$116,2,4)","v":{"$error":"#N/A"}}]
[0,{"$f":"名簿!Q20","v":""},0,null,{"$f":"名簿!E20","v":0},{"$f":"名簿!BR20","v":""},{"$f":"名簿!Z20","v":""},"",{"$f":"名簿!O20","v":""},{"$f":"名簿!I20","v":0},{"$f":"名簿!K20","v":0},{"$f":"名簿!BU20","v":"00"},{"$f":"名簿!R20","v":""},{"$f":"名簿!D20","v":0},null,"",{"$f":"IF(O18=\"\",\"\",HLOOKUP(O18,名簿!$AB$8:$BI$118,13,FALSE))","v":""},0,2,null,"",{"$f":"IF(T18=\"\",\"\",HLOOKUP(T18,名簿!$AB$8:$BI$118,13,FALSE))","v":""},null,{"$f":"IF(W18=\"\",\"\",IF(I18=1,VLOOKUP(W18,男子種目コード!$D$2:$E$30,2,FALSE),IF(I18=2,VLOOKUP(W18,女子種目コード!$D$2:$E$30,2,FALSE))))","v":""},null,null,null,null,{"$f":"IF(AB18=\"\",\"\",IF(I18=1,VLOOKUP(AB18,男子種目コード!$A$82:$B$85,2,FALSE),IF(I18=2,VLOOKUP(AB18,女子種目コード!$A$82:$B$85,2,FALSE))))","v":""},null,0,2,null,{"$f":"IF(AG18=\"\",\"\",IF(I18=1,VLOOKUP(AG18,男子種目コード!$A$78:$B$81,2,FALSE),IF(I18=2,VLOOKUP(AG18,女子種目コード!$A$78:$B$81,2,FALSE))))","v":""},null,0,2,0,null,null,"走高跳","","",null,null,"",0,0,0,0,"走高跳","走高跳",null,0,0,"","","5000mW",{"$f":"COUNTIF($P$7:$P$116,12)+COUNTIF($U$7:$U$116,12)","v":0},12,"","","","","","","","",{"$f":"VLookUpX(\"男子B\",$A$7:$F$116,3,5)","v":{"$error":"#N/A"}},{"$f":"VLookUpX(\"男子B\",$A$7:$F$116,3,6)","v":{"$error":"#N/A"}},{"$f":"VLookUpX(\"男子B\",$C$7:$F$116,3,3)","v":{"$error":"#N/A"}},{"$f":"VLookUpX(\"男子B\",$C$7:$F$116,3,4)","v":{"$error":"#N/A"}},{"$f":"VLookUpX(\"女子B\",$A$7:$F$116,3,5)","v":{"$error":"#N/A"}},{"$f":"VLookUpX(\"女子B\",$A$7:$F$116,3,6)","v":{"$error":"#N/A"}},{"$f":"VLookUpX(\"女子B\",$C$7:$F$116,3,3)","v":{"$error":"#N/A"}},{"$f":"VLookUpX(\"女子B\",$C$7:$F$116,3,4)","v":{"$error":"#N/A"}}]
[0,{"$f":"名簿!Q21","v":""},0,null,{"$f":"名簿!E21","v":0},{"$f":"名簿!BR21","v":""},{"$f":"名簿!Z21","v":""},"",{"$f":"名簿!O21","v":""},{"$f":"名簿!I21","v":0},{"$f":"名簿!K21","v":0},{"$f":"名簿!BU21","v":"00"},{"$f":"名簿!R21","v":""},{"$f":"名簿!D21","v":0},null,"",{"$f":"IF(O19=\"\",\"\",HLOOKUP(O19,名簿!$AB$8:$BI$118,14,FALSE))","v":""},0,2,null,"",{"$f":"IF(T19=\"\",\"\",HLOOKUP(T19,名簿!$AB$8:$BI$118,14,FALSE))","v":""},null,{"$f":"IF(W19=\"\",\"\",IF(I19=1,VLOOKUP(W19,男子種目コード!$D$2:$E$30,2,FALSE),IF(I19=2,VLOOKUP(W19,女子種目コード!$D$2:$E$30,2,FALSE))))","v":""},null,null,null,null,{"$f":"IF(AB19=\"\",\"\",IF(I19=1,VLOOKUP(AB19,男子種目コード!$A$82:$B$85,2,FALSE),IF(I19=2,VLOOKUP(AB19,女子種目コード!$A$82:$B$85,2,FALSE))))","v":""},null,0,2,null,{"$f":"IF(AG19=\"\",\"\",IF(I19=1,VLOOKUP(AG19,男子種目コード!$A$78:$B$81,2,FALSE),IF(I19=2,VLOOKUP(AG19,女子種目コード!$A$78:$B$81,2,FALSE))))","v":""},null,0,2,0,null,null,"棒高跳","","",null,null,"",0,0,0,0,"棒高跳","棒高跳",null,0,0,"","","走高跳",{"$f":"COUNTIF($P$7:$P$116,15)+COUNTIF($U$7:$U$116,15)","v":0},15,"","","","","","","","",{"$f":"VLookUpX(\"男子B\",$A$7:$F$116,4,5)","v":{"$error":"#N/A"}},{"$f":"VLookUpX(\"男子B\",$A$7:$F$116,4,6)","v":{"$error":"#N/A"}},{"$f":"VLookUpX(\"男子B\",$C$7:$F$116,4,3)","v":{"$error":"#N/A"}},{"$f":"VLookUpX(\"男子B\",$C$7:$F$116,4,4)","v":{"$error":"#N/A"}},{"$f":"VLookUpX(\"女子B\",$A$7:$F$116,4,5)","v":{"$error":"#N/A"}},{"$f":"VLookUpX(\"女子B\",$A$7:$F$116,4,6)","v":{"$error":"#N/A"}},{"$f":"VLookUpX(\"女子B\",$C$7:$F$116,4,3)","v":{"$error":"#N/A"}},{"$f":"VLookUpX(\"女子B\",$C$7:$F$116,4,4)","v":{"$error":"#N/A"}}]
[0,{"$f":"名簿!Q22","v":""},0,null,{"$f":"名簿!E22","v":0},{"$f":"名簿!BR22","v":""},{"$f":"名簿!Z22","v":""},"",{"$f":"名簿!O22","v":""},{"$f":"名簿!I22","v":0},{"$f":"名簿!K22","v":0},{"$f":"名簿!BU22","v":"00"},{"$f":"名簿!R22","v":""},{"$f":"名簿!D22","v":0},null,"",{"$f":"IF(O20=\"\",\"\",HLOOKUP(O20,名簿!$AB$8:$BI$118,15,FALSE))","v":""},0,2,null,"",{"$f":"IF(T20=\"\",\"\",HLOOKUP(T20,名簿!$AB$8:$BI$118,15,FALSE))","v":""},null,{"$f":"IF(W20=\"\",\"\",IF(I20=1,VLOOKUP(W20,男子種目コード!$D$2:$E$30,2,FALSE),IF(I20=2,VLOOKUP(W20,女子種目コード!$D$2:$E$30,2,FALSE))))","v":""},null,null,null,null,{"$f":"IF(AB20=\"\",\"\",IF(I20=1,VLOOKUP(AB20,男子種目コード!$A$82:$B$85,2,FALSE),IF(I20=2,VLOOKUP(AB20,女子種目コード!$A$82:$B$85,2,FALSE))))","v":""},null,0,2,null,{"$f":"IF(AG20=\"\",\"\",IF(I20=1,VLOOKUP(AG20,男子種目コード!$A$78:$B$81,2,FALSE),IF(I20=2,VLOOKUP(AG20,女子種目コード!$A$78:$B$81,2,FALSE))))","v":""},null,0,2,0,null,null,"走幅跳","","",null,null,"",0,0,0,0,"走幅跳","走幅跳",null,0,0,"","","棒高跳",{"$f":"COUNTIF($P$7:$P$116,16)+COUNTIF($U$7:$U$116,16)","v":0},16,"","","","","","","","",{"$f":"VLookUpX(\"男子B\",$A$7:$F$116,5,5)","v":{"$error":"#N/A"}},{"$f":"VLookUpX(\"男子B\",$A$7:$F$116,5,6)","v":{"$error":"#N/A"}},{"$f":"VLookUpX(\"男子B\",$C$7:$F$116,5,3)","v":{"$error":"#N/A"}},{"$f":"VLookUpX(\"男子B\",$C$7:$F$116,5,4)","v":{"$error":"#N/A"}},{"$f":"VLookUpX(\"女子B\",$A$7:$F$116,5,5)","v":{"$error":"#N/A"}},{"$f":"VLookUpX(\"女子B\",$A$7:$F$116,5,6)","v":{"$error":"#N/A"}},{"$f":"VLookUpX(\"女子B\",$C$7:$F$116,5,3)","v":{"$error":"#N/A"}},{"$f":"VLookUpX(\"女子B\",$C$7:$F$116,5,4)","v":{"$error":"#N/A"}}]
[0,{"$f":"名簿!Q23","v":""},0,null,{"$f":"名簿!E23","v":0},{"$f":"名簿!BR23","v":""},{"$f":"名簿!Z23","v":""},"",{"$f":"名簿!O23","v":""},{"$f":"名簿!I23","v":0},{"$f":"名簿!K23","v":0},{"$f":"名簿!BU23","v":"00"},{"$f":"名簿!R23","v":""},{"$f":"名簿!D23","v":0},null,"",{"$f":"IF(O21=\"\",\"\",HLOOKUP(O21,名簿!$AB$8:$BI$118,16,FALSE))","v":""},0,2,null,"",{"$f":"IF(T21=\"\",\"\",HLOOKUP(T21,名簿!$AB$8:$BI$118,16,FALSE))","v":""},null,{"$f":"IF(W21=\"\",\"\",IF(I21=1,VLOOKUP(W21,男子種目コード!$D$2:$E$30,2,FALSE),IF(I21=2,VLOOKUP(W21,女子種目コード!$D$2:$E$30,2,FALSE))))","v":""},null,null,null,null,{"$f":"IF(AB21=\"\",\"\",IF(I21=1,VLOOKUP(AB21,男子種目コード!$A$82:$B$85,2,FALSE),IF(I21=2,VLOOKUP(AB21,女子種目コード!$A$82:$B$85,2,FALSE))))","v":""},null,0,2,null,{"$f":"IF(AG21=\"\",\"\",IF(I21=1,VLOOKUP(AG21,男子種目コード!$A$78:$B$81,2,FALSE),IF(I21=2,VLOOKUP(AG21,女子種目コード!$A$78:$B$81,2,FALSE))))","v":""},null,0,2,0,null,null,"三段跳","","",null,null,"",0,0,0,0,"三段跳","三段跳",null,0,0,"","","走幅跳",{"$f":"COUNTIF($P$7:$P$116,17)+COUNTIF($U$7:$U$116,17)","v":0},17,"","","","","","","","",{"$f":"VLookUpX(\"男子B\",$A$7:$F$116,6,5)","v":{"$error":"#N/A"}},{"$f":"VLookUpX(\"男子B\",$A$7:$F$116,6,6)","v":{"$error":"#N/A"}},{"$f":"VLookUpX(\"男子B\",$C$7:$F$116,6,3)","v":{"$error":"#N/A"}},{"$f":"VLookUpX(\"男子B\",$C$7:$F$116,6,4)","v":{"$error":"#N/A"}},{"$f":"VLookUpX(\"女子B\",$A$7:$F$116,6,5)","v":{"$error":"#N/A"}},{"$f":"VLookUpX(\"女子B\",$A$7:$F$116,6,6)","v":{"$error":"#N/A"}},{"$f":"VLookUpX(\"女子B\",$C$7:$F$116,6,3)","v":{"$error":"#N/A"}},{"$f":"VLookUpX(\"女子B\",$C$7:$F$116,6,4)","v":{"$error":"#N/A"}}]
[0,{"$f":"名簿!Q24","v":""},0,null,{"$f":"名簿!E24","v":0},{"$f":"名簿!BR24","v":""},{"$f":"名簿!Z24","v":""},"",{"$f":"名簿!O24","v":""},{"$f":"名簿!I24","v":0},{"$f":"名簿!K24","v":0},{"$f":"名簿!BU24","v":"00"},{"$f":"名簿!R24","v":""},{"$f":"名簿!D24","v":0},null,"",{"$f":"IF(O22=\"\",\"\",HLOOKUP(O22,名簿!$AB$8:$BI$118,17,FALSE))","v":""},0,2,null,"",{"$f":"IF(T22=\"\",\"\",HLOOKUP(T22,名簿!$AB$8:$BI$118,17,FALSE))","v":""},null,{"$f":"IF(W22=\"\",\"\",IF(I22=1,VLOOKUP(W22,男子種目コード!$D$2:$E$30,2,FALSE),IF(I22=2,VLOOKUP(W22,女子種目コード!$D$2:$E$30,2,FALSE))))","v":""},null,null,null,null,{"$f":"IF(AB22=\"\",\"\",IF(I22=1,VLOOKUP(AB22,男子種目コード!$A$82:$B$85,2,FALSE),IF(I22=2,VLOOKUP(AB22,女子種目コード!$A$82:$B$85,2,FALSE))))","v":""},null,0,2,null,{"$f":"IF(AG22=\"\",\"\",IF(I22=1,VLOOKUP(AG22,男子種目コード!$A$78:$B$81,2,FALSE),IF(I22=2,VLOOKUP(AG22,女子種目コード!$A$78:$B$81,2,FALSE))))","v":""},null,0,2,0,null,null,"砲丸投","","",null,null,"",0,0,0,0,"砲丸投","砲丸投",null,0,0,"","","三段跳",{"$f":"COUNTIF($P$7:$P$116,18)+COUNTIF($U$7:$U$116,18)","v":0},18,"男子4×100mR　Ｃ",null,"男子4×400mR　Ｃ",null,"女子4×100mR　Ｃ",null,"女子4×400mR　Ｃ"]
[0,{"$f":"名簿!Q25","v":""},0,null,{"$f":"名簿!E25","v":0},{"$f":"名簿!BR25","v":""},{"$f":"名簿!Z25","v":""},"",{"$f":"名簿!O25","v":""},{"$f":"名簿!I25","v":0},{"$f":"名簿!K25","v":0},{"$f":"名簿!BU25","v":"00"},{"$f":"名簿!R25","v":""},{"$f":"名簿!D25","v":0},null,"",{"$f":"IF(O23=\"\",\"\",HLOOKUP(O23,名簿!$AB$8:$BI$118,18,FALSE))","v":""},0,2,null,"",{"$f":"IF(T23=\"\",\"\",HLOOKUP(T23,名簿!$AB$8:$BI$118,18,FALSE))","v":""},null,{"$f":"IF(W23=\"\",\"\",IF(I23=1,VLOOKUP(W23,男子種目コード!$D$2:$E$30,2,FALSE),IF(I23=2,VLOOKUP(W23,女子種目コード!$D$2:$E$30,2,FALSE))))","v":""},null,null,null,null,{"$f":"IF(AB23=\"\",\"\",IF(I23=1,VLOOKUP(AB23,男子種目コード!$A$82:$B$85,2,FALSE),IF(I23=2,VLOOKUP(AB23,女子種目コード!$A$82:$B$85,2,FALSE))))","v":""},null,0,2,null,{"$f":"IF(AG23=\"\",\"\",IF(I23=1,VLOOKUP(AG23,男子種目コード!$A$78:$B$81,2,FALSE),IF(I23=2,VLOOKUP(AG23,女子種目コード!$A$78:$B$81,2,FALSE))))","v":""},null,0,2,0,null,null,"円盤投","","",null,null,"",0,0,0,0,"少年砲丸投","円盤投",null,0,0,"","","砲丸投",{"$f":"COUNTIF($P$7:$P$116,19)+COUNTIF($U$7:$U$116,19)","v":0},19,"記録",null,"記録",null,"記録",null,"記録"]
[0,{"$f":"名簿!Q26","v":""},0,null,{"$f":"名簿!E26","v":0},{"$f":"名簿!BR26","v":""},{"$f":"名簿!Z26","v":""},"",{"$f":"名簿!O26","v":""},{"$f":"名簿!I26","v":0},{"$f":"名簿!K26","v":0},{"$f":"名簿!BU26","v":"00"},{"$f":"名簿!R26","v":""},{"$f":"名簿!D26","v":0},null,"",{"$f":"IF(O24=\"\",\"\",HLOOKUP(O24,名簿!$AB$8:$BI$118,19,FALSE))","v":""},0,2,null,"",{"$f":"IF(T24=\"\",\"\",HLOOKUP(T24,名簿!$AB$8:$BI$118,19,FALSE))","v":""},null,{"$f":"IF(W24=\"\",\"\",IF(I24=1,VLOOKUP(W24,男子種目コード!$D$2:$E$30,2,FALSE),IF(I24=2,VLOOKUP(W24,女子種目コード!$D$2:$E$30,2,FALSE))))","v":""},null,null,null,null,{"$f":"IF(AB24=\"\",\"\",IF(I24=1,VLOOKUP(AB24,男子種目コード!$A$82:$B$85,2,FALSE),IF(I24=2,VLOOKUP(AB24,女子種目コード!$A$82:$B$85,2,FALSE))))","v":""},null,0,2,null,{"$f":"IF(AG24=\"\",\"\",IF(I24=1,VLOOKUP(AG24,男子種目コード!$A$78:$B$81,2,FALSE),IF(I24=2,VLOOKUP(AG24,女子種目コード!$A$78:$B$81,2,FALSE))))","v":""},null,0,2,0,null,null,"ハンマー投","","",null,null,"",0,0,0,0,"円盤投","ハンマー投",null,0,0,"","","円盤投",{"$f":"COUNTIF($P$7:$P$116,20)+COUNTIF($U$7:$U$116,20)","v":0},20,{"$f":"IF(ISERROR(BQ24),\"\",BQ24)","v":""},{"$f":"IF(ISERROR(BR24),\"\",BR24)","v":""},{"$f":"IF(ISERROR(BS24),\"\",BS24)","v":""},{"$f":"IF(ISERROR(BT24),\"\",BT24)","v":""},{"$f":"IF(ISERROR(BU24),\"\",BU24)","v":""},{"$f":"IF(ISERROR(BV24),\"\",BV24)","v":""},{"$f":"IF(ISERROR(BW24),\"\",BW24)","v":""},{"$f":"IF(ISERROR(BX24),\"\",BX24)","v":""},{"$f":"VLookUpX(\"男子C\",$A$7:$F$116,1,5)","v":{"$error":"#N/A"}},{"$f":"VLookUpX(\"男子C\",$A$7:$F$116,1,6)","v":{"$error":"#N/A"}},{"$f":"VLookUpX(\"男子C\",$C$7:$F$116,1,3)","v":{"$error":"#N/A"}},{"$f":"VLookUpX(\"男子C\",$C$7:$F$116,1,4)","v":{"$error":"#N/A"}},{"$f":"VLookUpX(\"女子C\",$A$7:$F$116,1,5)","v":{"$error":"#N/A"}},{"$f":"VLookUpX(\"女子C\",$A$7:$F$116,1,6)","v":{"$error":"#N/A"}},{"$f":"VLookUpX(\"女子C\",$C$7:$F$116,1,3)","v":{"$error":"#N/A"}},{"$f":"VLookUpX(\"女子C\",$C$7:$F$116,1,4)","v":{"$error":"#N/A"}},{"$f":"IF(BI24=\"\",\"\",1)","v":""},{"$f":"IF(BK24=\"\",\"\",1)","v":""},{"$f":"IF(BM24=\"\",\"\",1)","v":""},{"$f":"IF(BO24=\"\",\"\",1)","v":""}]
[0,{"$f":"名簿!Q27","v":""},0,null,{"$f":"名簿!E27","v":0},{"$f":"名簿!BR27","v":""},{"$f":"名簿!Z27","v":""},"",{"$f":"名簿!O27","v":""},{"$f":"名簿!I27","v":0},{"$f":"名簿!K27","v":0},{"$f":"名簿!BU27","v":"00"},{"$f":"名簿!R27","v":""},{"$f":"名簿!D27","v":0},null,"",{"$f":"IF(O25=\"\",\"\",HLOOKUP(O25,名簿!$AB$8:$BI$118,20,FALSE))","v":""},0,2,null,"",{"$f":"IF(T25=\"\",\"\",HLOOKUP(T25,名簿!$AB$8:$BI$118,20,FALSE))","v":""},null,{"$f":"IF(W25=\"\",\"\",IF(I25=1,VLOOKUP(W25,男子種目コード!$D$2:$E$30,2,FALSE),IF(I25=2,VLOOKUP(W25,女子種目コード!$D$2:$E$30,2,FALSE))))","v":""},null,null,null,null,{"$f":"IF(AB25=\"\",\"\",IF(I25=1,VLOOKUP(AB25,男子種目コード!$A$82:$B$85,2,FALSE),IF(I25=2,VLOOKUP(AB25,女子種目コード!$A$82:$B$85,2,FALSE))))","v":""},null,0,2,null,{"$f":"IF(AG25=\"\",\"\",IF(I25=1,VLOOKUP(AG25,男子種目コード!$A$78:$B$81,2,FALSE),IF(I25=2,VLOOKUP(AG25,女子種目コード!$A$78:$B$81,2,FALSE))))","v":""},null,0,2,0,null,null,"やり投","","",null,null,"",0,0,0,0,"少年円盤投","やり投",null,0,0,"","","ハンマー投",{"$f":"COUNTIF($P$7:$P$116,21)+COUNTIF($U$7:$U$116,21)","v":0},21,"","","","","","","","",{"$f":"VLookUpX(\"男子C\",$A$7:$F$116,2,5)","v":{"$error":"#N/A"}},{"$f":"VLookUpX(\"男子C\",$A$7:$F$116,2,6)","v":{"$error":"#N/A"}},{"$f":"VLookUpX(\"男子C\",$C$7:$F$116,2,3)","v":{"$error":"#N/A"}},{"$f":"VLookUpX(\"男子C\",$C$7:$F$116,2,4)","v":{"$error":"#N/A"}},{"$f":"VLookUpX(\"女子C\",$A$7:$F$116,2,5)","v":{"$error":"#N/A"}},{"$f":"VLookUpX(\"女子C\",$A$7:$F$116,2,6)","v":{"$error":"#N/A"}},{"$f":"VLookUpX(\"女子C\",$C$7:$F$116,2,3)","v":{"$error":"#N/A"}},{"$f":"VLookUpX(\"女子C\",$C$7:$F$116,2,4)","v":{"$error":"#N/A"}}]
[0,{"$f":"名簿!Q28","v":""},0,null,{"$f":"名簿!E28","v":0},{"$f":"名簿!BR28","v":""},{"$f":"名簿!Z28","v":""},"",{"$f":"名簿!O28","v":""},{"$f":"名簿!I28","v":0},{"$f":"名簿!K28","v":0},{"$f":"名簿!BU28","v":"00"},{"$f":"名簿!R28","v":""},{"$f":"名簿!D28","v":0},null,"",{"$f":"IF(O26=\"\",\"\",HLOOKUP(O26,名簿!$AB$8:$BI$118,21,FALSE))","v":""},0,2,null,"",{"$f":"IF(T26=\"\",\"\",HLOOKUP(T26,名簿!$AB$8:$BI$118,21,FALSE))","v":""},null,{"$f":"IF(W26=\"\",\"\",IF(I26=1,VLOOKUP(W26,男子種目コード!$D$2:$E$30,2,FALSE),IF(I26=2,VLOOKUP(W26,女子種目コード!$D$2:$E$30,2,FALSE))))","v":""},null,null,null,null,{"$f":"IF(AB26=\"\",\"\",IF(I26=1,VLOOKUP(AB26,男子種目コード!$A$82:$B$85,2,FALSE),IF(I26=2,VLOOKUP(AB26,女子種目コード!$A$82:$B$85,2,FALSE))))","v":""},null,0,2,null,{"$f":"IF(AG26=\"\",\"\",IF(I26=1,VLOOKUP(AG26,男子種目コード!$A$78:$B$81,2,FALSE),IF(I26=2,VLOOKUP(AG26,女子種目コード!$A$78:$B$81,2,FALSE))))","v":""},null,0,2,0,null,null,"少年3000","","",null,null,"",0,0,0,0,"ハンマー投",null,null,0,0,"","","やり投",{"$f":"COUNTIF($P$7:$P$116,22)+COUNTIF($U$7:$U$116,22)","v":0},22,"","","","","","","","",{"$f":"VLookUpX(\"男子C\",$A$7:$F$116,3,5)","v":{"$error":"#N/A"}},{"$f":"VLookUpX(\"男子C\",$A$7:$F$116,3,6)","v":{"$error":"#N/A"}},{"$f":"VLookUpX(\"男子C\",$C$7:$F$116,3,3)","v":{"$error":"#N/A"}},{"$f":"VLookUpX(\"男子C\",$C$7:$F$116,3,4)","v":{"$error":"#N/A"}},{"$f":"VLookUpX(\"女子C\",$A$7:$F$116,3,5)","v":{"$error":"#N/A"}},{"$f":"VLookUpX(\"女子C\",$A$7:$F$116,3,6)","v":{"$error":"#N/A"}},{"$f":"VLookUpX(\"女子C\",$C$7:$F$116,3,3)","v":{"$error":"#N/A"}},{"$f":"VLookUpX(\"女子C\",$C$7:$F$116,3,4)","v":{"$error":"#N/A"}}]
[0,{"$f":"名簿!Q29","v":""},0,null,{"$f":"名簿!E29","v":0},{"$f":"名簿!BR29","v":""},{"$f":"名簿!Z29","v":""},"",{"$f":"名簿!O29","v":""},{"$f":"名簿!I29","v":0},{"$f":"名簿!K29","v":0},{"$f":"名簿!BU29","v":"00"},{"$f":"名簿!R29","v":""},{"$f":"名簿!D29","v":0},null,"",{"$f":"IF(O27=\"\",\"\",HLOOKUP(O27,名簿!$AB$8:$BI$118,22,FALSE))","v":""},0,2,null,"",{"$f":"IF(T27=\"\",\"\",HLOOKUP(T27,名簿!$AB$8:$BI$118,22,FALSE))","v":""},null,{"$f":"IF(W27=\"\",\"\",IF(I27=1,VLOOKUP(W27,男子種目コード!$D$2:$E$30,2,FALSE),IF(I27=2,VLOOKUP(W27,女子種目コード!$D$2:$E$30,2,FALSE))))","v":""},null,null,null,null,{"$f":"IF(AB27=\"\",\"\",IF(I27=1,VLOOKUP(AB27,男子種目コード!$A$82:$B$85,2,FALSE),IF(I27=2,VLOOKUP(AB27,女子種目コード!$A$82:$B$85,2,FALSE))))","v":""},null,0,2,null,{"$f":"IF(AG27=\"\",\"\",IF(I27=1,VLOOKUP(AG27,男子種目コード!$A$78:$B$81,2,FALSE),IF(I27=2,VLOOKUP(AG27,女子種目コード!$A$78:$B$81,2,FALSE))))","v":""},null,0,2,0,null,null,"少年B100H","","",null,null,"",0,0,0,0,"少年ハンマー投",null,null,0,0,"","","少年3000m",{"$f":"COUNTIF($P$7:$P$116,24)+COUNTIF($U$7:$U$116,24)","v":0},24,"","","","","","","","",{"$f":"VLookUpX(\"男子C\",$A$7:$F$116,4,5)","v":{"$error":"#N/A"}},{"$f":"VLookUpX(\"男子C\",$A$7:$F$116,4,6)","v":{"$error":"#N/A"}},{"$f":"VLookUpX(\"男子C\",$C$7:$F$116,4,3)","v":{"$error":"#N/A"}},{"$f":"VLookUpX(\"男子C\",$C$7:$F$116,4,4)","v":{"$error":"#N/A"}},{"$f":"VLookUpX(\"女子C\",$A$7:$F$116,4,5)","v":{"$error":"#N/A"}},{"$f":"VLookUpX(\"女子C\",$A$7:$F$116,4,6)","v":{"$error":"#N/A"}},{"$f":"VLookUpX(\"女子C\",$C$7:$F$116,4,3)","v":{"$error":"#N/A"}},{"$f":"VLookUpX(\"女子C\",$C$7:$F$116,4,4)","v":{"$error":"#N/A"}}]
[0,{"$f":"名簿!Q30","v":""},0,null,{"$f":"名簿!E30","v":0},{"$f":"名簿!BR30","v":""},{"$f":"名簿!Z30","v":""},"",{"$f":"名簿!O30","v":""},{"$f":"名簿!I30","v":0},{"$f":"名簿!K30","v":0},{"$f":"名簿!BU30","v":"00"},{"$f":"名簿!R30","v":""},{"$f":"名簿!D30","v":0},null,"",{"$f":"IF(O28=\"\",\"\",HLOOKUP(O28,名簿!$AB$8:$BI$118,23,FALSE))","v":""},0,2,null,"",{"$f":"IF(T28=\"\",\"\",HLOOKUP(T28,名簿!$AB$8:$BI$118,23,FALSE))","v":""},null,{"$f":"IF(W28=\"\",\"\",IF(I28=1,VLOOKUP(W28,男子種目コード!$D$2:$E$30,2,FALSE),IF(I28=2,VLOOKUP(W28,女子種目コード!$D$2:$E$30,2,FALSE))))","v":""},null,null,null,null,{"$f":"IF(AB28=\"\",\"\",IF(I28=1,VLOOKUP(AB28,男子種目コード!$A$82:$B$85,2,FALSE),IF(I28=2,VLOOKUP(AB28,女子種目コード!$A$82:$B$85,2,FALSE))))","v":""},null,0,2,null,{"$f":"IF(AG28=\"\",\"\",IF(I28=1,VLOOKUP(AG28,男子種目コード!$A$78:$B$81,2,FALSE),IF(I28=2,VLOOKUP(AG28,女子種目コード!$A$78:$B$81,2,FALSE))))","v":""},null,0,2,0,null,null,"少年B110JH","","",null,null,"",0,0,0,0,"やり投",null,null,0,0,"","","少年砲丸投",{"$f":"COUNTIF($P$7:$P$116,25)+COUNTIF($U$7:$U$116,25)","v":0},25,"","","","","","","","",{"$f":"VLookUpX(\"男子C\",$A$7:$F$116,5,5)","v":{"$error":"#N/A"}},{"$f":"VLookUpX(\"男子C\",$A$7:$F$116,5,6)","v":{"$error":"#N/A"}},{"$f":"VLookUpX(\"男子C\",$C$7:$F$116,5,3)","v":{"$error":"#N/A"}},{"$f":"VLookUpX(\"男子C\",$C$7:$F$116,5,4)","v":{"$error":"#N/A"}},{"$f":"VLookUpX(\"女子C\",$A$7:$F$116,5,5)","v":{"$error":"#N/A"}},{"$f":"VLookUpX(\"女子C\",$A$7:$F$116,5,6)","v":{"$error":"#N/A"}},{"$f":"VLookUpX(\"女子C\",$C$7:$F$116,5,3)","v":{"$error":"#N/A"}},{"$f":"VLookUpX(\"女子C\",$C$7:$F$116,5,4)","v":{"$error":"#N/A"}}]
[0,{"$f":"名簿!Q31","v":""},0,null,{"$f":"名簿!E31","v":0},{"$f":"名簿!BR31","v":""},{"$f":"名簿!Z31","v":""},"",{"$f":"名簿!O31","v":""},{"$f":"名簿!I31","v":0},{"$f":"名簿!K31","v":0},{"$f":"名簿!BU31","v":"00"},{"$f":"名簿!R31","v":""},{"$f":"名簿!D31","v":0},null,"",{"$f":"IF(O29=\"\",\"\",HLOOKUP(O29,名簿!$AB$8:$BI$118,24,FALSE))","v":""},0,2,null,"",{"$f":"IF(T29=\"\",\"\",HLOOKUP(T29,名簿!$AB$8:$BI$118,24,FALSE))","v":""},null,{"$f":"IF(W29=\"\",\"\",IF(I29=1,VLOOKUP(W29,男子種目コード!$D$2:$E$30,2,FALSE),IF(I29=2,VLOOKUP(W29,女子種目コード!$D$2:$E$30,2,FALSE))))","v":""},null,null,null,null,{"$f":"IF(AB29=\"\",\"\",IF(I29=1,VLOOKUP(AB29,男子種目コード!$A$82:$B$85,2,FALSE),IF(I29=2,VLOOKUP(AB29,女子種目コード!$A$82:$B$85,2,FALSE))))","v":""},null,0,2,null,{"$f":"IF(AG29=\"\",\"\",IF(I29=1,VLOOKUP(AG29,男子種目コード!$A$78:$B$81,2,FALSE),IF(I29=2,VLOOKUP(AG29,女子種目コード!$A$78:$B$81,2,FALSE))))","v":""},null,0,2,0,null,null,"少年砲丸投","","",null,null,"",0,0,0,0,null,null,null,0,0,"","","少年円盤投",{"$f":"COUNTIF($P$7:$P$116,26)+COUNTIF($U$7:$U$116,26)","v":0},26,"","","","","","","","",{"$f":"VLookUpX(\"男子C\",$A$7:$F$116,6,5)","v":{"$error":"#N/A"}},{"$f":"VLookUpX(\"男子C\",$A$7:$F$116,6,6)","v":{"$error":"#N/A"}},{"$f":"VLookUpX(\"男子C\",$C$7:$F$116,6,3)","v":{"$error":"#N/A"}},{"$f":"VLookUpX(\"男子C\",$C$7:$F$116,6,4)","v":{"$error":"#N/A"}},{"$f":"VLookUpX(\"女子C\",$A$7:$F$116,6,5)","v":{"$error":"#N/A"}},{"$f":"VLookUpX(\"女子C\",$A$7:$F$116,6,6)","v":{"$error":"#N/A"}},{"$f":"VLookUpX(\"女子C\",$C$7:$F$116,6,3)","v":{"$error":"#N/A"}},{"$f":"VLookUpX(\"女子C\",$C$7:$F$116,6,4)","v":{"$error":"#N/A"}}]
[0,{"$f":"名簿!Q32","v":""},0,null,{"$f":"名簿!E32","v":0},{"$f":"名簿!BR32","v":""},{"$f":"名簿!Z32","v":""},"",{"$f":"名簿!O32","v":""},{"$f":"名簿!I32","v":0},{"$f":"名簿!K32","v":0},{"$f":"名簿!BU32","v":"00"},{"$f":"名簿!R32","v":""},{"$f":"名簿!D32","v":0},null,"",{"$f":"IF(O30=\"\",\"\",HLOOKUP(O30,名簿!$AB$8:$BI$118,25,FALSE))","v":""},0,2,null,"",{"$f":"IF(T30=\"\",\"\",HLOOKUP(T30,名簿!$AB$8:$BI$118,25,FALSE))","v":""},null,{"$f":"IF(W30=\"\",\"\",IF(I30=1,VLOOKUP(W30,男子種目コード!$D$2:$E$30,2,FALSE),IF(I30=2,VLOOKUP(W30,女子種目コード!$D$2:$E$30,2,FALSE))))","v":""},null,null,null,null,{"$f":"IF(AB30=\"\",\"\",IF(I30=1,VLOOKUP(AB30,男子種目コード!$A$82:$B$85,2,FALSE),IF(I30=2,VLOOKUP(AB30,女子種目コード!$A$82:$B$85,2,FALSE))))","v":""},null,0,2,null,{"$f":"IF(AG30=\"\",\"\",IF(I30=1,VLOOKUP(AG30,男子種目コード!$A$78:$B$81,2,FALSE),IF(I30=2,VLOOKUP(AG30,女子種目コード!$A$78:$B$81,2,FALSE))))","v":""},null,0,2,0,null,null,"少年円盤投","","",null,null,"",0,0,0,0,100,100,null,0,0,"","","少年ハンマー投",{"$f":"COUNTIF($P$7:$P$116,27)+COUNTIF($U$7:$U$116,27)","v":0},27,"男子4×100mR　Ｄ",null,"男子4×400mR　Ｄ",null,"女子4×100mR　Ｄ",null,"女子4×400mR　Ｄ"]
[0,{"$f":"名簿!Q33","v":""},0,null,{"$f":"名簿!E33","v":0},{"$f":"名簿!BR33","v":""},{"$f":"名簿!Z33","v":""},"",{"$f":"名簿!O33","v":""},{"$f":"名簿!I33","v":0},{"$f":"名簿!K33","v":0},{"$f":"名簿!BU33","v":"00"},{"$f":"名簿!R33","v":""},{"$f":"名簿!D33","v":0},null,"",{"$f":"IF(O31=\"\",\"\",HLOOKUP(O31,名簿!$AB$8:$BI$118,26,FALSE))","v":""},0,2,null,"",{"$f":"IF(T31=\"\",\"\",HLOOKUP(T31,名簿!$AB$8:$BI$118,26,FALSE))","v":""},null,{"$f":"IF(W31=\"\",\"\",IF(I31=1,VLOOKUP(W31,男子種目コード!$D$2:$E$30,2,FALSE),IF(I31=2,VLOOKUP(W31,女子種目コード!$D$2:$E$30,2,FALSE))))","v":""},null,null,null,null,{"$f":"IF(AB31=\"\",\"\",IF(I31=1,VLOOKUP(AB31,男子種目コード!$A$82:$B$85,2,FALSE),IF(I31=2,VLOOKUP(AB31,女子種目コード!$A$82:$B$85,2,FALSE))))","v":""},null,0,2,null,{"$f":"IF(AG31=\"\",\"\",IF(I31=1,VLOOKUP(AG31,男子種目コード!$A$78:$B$81,2,FALSE),IF(I31=2,VLOOKUP(AG31,女子種目コード!$A$78:$B$81,2,FALSE))))","v":""},null,0,2,0,null,null,"少年ハンマー投","","",null,null,"",0,0,0,0,200,200,null,0,0,"","","少年B100m",{"$f":"COUNTIF($P$7:$P$116,28)+COUNTIF($U$7:$U$116,28)","v":0},28,"記録",null,"記録",null,"記録",null,"記録"]
[0,{"$f":"名簿!Q34","v":""},0,null,{"$f":"名簿!E34","v":0},{"$f":"名簿!BR34","v":""},{"$f":"名簿!Z34","v":""},"",{"$f":"名簿!O34","v":""},{"$f":"名簿!I34","v":0},{"$f":"名簿!K34","v":0},{"$f":"名簿!BU34","v":"00"},{"$f":"名簿!R34","v":""},{"$f":"名簿!D34","v":0},null,"",{"$f":"IF(O32=\"\",\"\",HLOOKUP(O32,名簿!$AB$8:$BI$118,27,FALSE))","v":""},0,2,null,"",{"$f":"IF(T32=\"\",\"\",HLOOKUP(T32,名簿!$AB$8:$BI$118,27,FALSE))","v":""},null,{"$f":"IF(W32=\"\",\"\",IF(I32=1,VLOOKUP(W32,男子種目コード!$D$2:$E$30,2,FALSE),IF(I32=2,VLOOKUP(W32,女子種目コード!$D$2:$E$30,2,FALSE))))","v":""},null,null,null,null,{"$f":"IF(AB32=\"\",\"\",IF(I32=1,VLOOKUP(AB32,男子種目コード!$A$82:$B$85,2,FALSE),IF(I32=2,VLOOKUP(AB32,女子種目コード!$A$82:$B$85,2,FALSE))))","v":""},null,0,2,null,{"$f":"IF(AG32=\"\",\"\",IF(I32=1,VLOOKUP(AG32,男子種目コード!$A$78:$B$81,2,FALSE),IF(I32=2,VLOOKUP(AG32,女子種目コード!$A$78:$B$81,2,FALSE))))","v":""},null,0,2,0,null,null,"男子A","","",null,null,"",0,0,0,0,400,400,null,0,0,"","","少年B砲丸投",{"$f":"COUNTIF($P$7:$P$116,29)+COUNTIF($U$7:$U$116,29)","v":0},29,{"$f":"IF(ISERROR(BQ32),\"\",BQ32)","v":""},{"$f":"IF(ISERROR(BR32),\"\",BR32)","v":""},{"$f":"IF(ISERROR(BS32),\"\",BS32)","v":""},{"$f":"IF(ISERROR(BT32),\"\",BT32)","v":""},{"$f":"IF(ISERROR(BU32),\"\",BU32)","v":""},{"$f":"IF(ISERROR(BV32),\"\",BV32)","v":""},{"$f":"IF(ISERROR(BW32),\"\",BW32)","v":""},{"$f":"IF(ISERROR(BX32),\"\",BX32)","v":""},{"$f":"VLookUpX(\"男子D\",$A$7:$F$116,1,5)","v":{"$error":"#N/A"}},{"$f":"VLookUpX(\"男子D\",$A$7:$F$116,1,6)","v":{"$error":"#N/A"}},{"$f":"VLookUpX(\"男子D\",$C$7:$F$116,1,3)","v":{"$error":"#N/A"}},{"$f":"VLookUpX(\"男子D\",$C$7:$F$116,1,4)","v":{"$error":"#N/A"}},{"$f":"VLookUpX(\"女子D\",$A$7:$F$116,1,5)","v":{"$error":"#N/A"}},{"$f":"VLookUpX(\"女子D\",$A$7:$F$116,1,6)","v":{"$error":"#N/A"}},{"$f":"VLookUpX(\"女子D\",$C$7:$F$116,1,3)","v":{"$error":"#N/A"}},{"$f":"VLookUpX(\"女子D\",$C$7:$F$116,1,4)","v":{"$error":"#N/A"}},{"$f":"IF(BI32=\"\",\"\",1)","v":""},{"$f":"IF(BK32=\"\",\"\",1)","v":""},{"$f":"IF(BM32=\"\",\"\",1)","v":""},{"$f":"IF(BO32=\"\",\"\",1)","v":""}]
[0,{"$f":"名簿!Q35","v":""},0,null,{"$f":"名簿!E35","v":0},{"$f":"名簿!BR35","v":""},{"$f":"名簿!Z35","v":""},"",{"$f":"名簿!O35","v":""},{"$f":"名簿!I35","v":0},{"$f":"名簿!K35","v":0},{"$f":"名簿!BU35","v":"00"},{"$f":"名簿!R35","v":""},{"$f":"名簿!D35","v":0},null,"",{"$f":"IF(O33=\"\",\"\",HLOOKUP(O33,名簿!$AB$8:$BI$118,28,FALSE))","v":""},0,2,null,"",{"$f":"IF(T33=\"\",\"\",HLOOKUP(T33,名簿!$AB$8:$BI$118,28,FALSE))","v":""},null,{"$f":"IF(W33=\"\",\"\",IF(I33=1,VLOOKUP(W33,男子種目コード!$D$2:$E$30,2,FALSE),IF(I33=2,VLOOKUP(W33,女子種目コード!$D$2:$E$30,2,FALSE))))","v":""},null,null,null,null,{"$f":"IF(AB33=\"\",\"\",IF(I33=1,VLOOKUP(AB33,男子種目コード!$A$82:$B$85,2,FALSE),IF(I33=2,VLOOKUP(AB33,女子種目コード!$A$82:$B$85,2,FALSE))))","v":""},null,0,2,null,{"$f":"IF(AG33=\"\",\"\",IF(I33=1,VLOOKUP(AG33,男子種目コード!$A$78:$B$81,2,FALSE),IF(I33=2,VLOOKUP(AG33,女子種目コード!$A$78:$B$81,2,FALSE))))","v":""},null,0,2,0,null,null,"男子B","","",null,null,"",0,0,0,0,800,800,null,0,0,"","","少年B走幅跳",{"$f":"COUNTIF($P$7:$P$116,30)+COUNTIF($U$7:$U$116,30)","v":0},30,"","","","","","","","",{"$f":"VLookUpX(\"男子D\",$A$7:$F$116,2,5)","v":{"$error":"#N/A"}},{"$f":"VLookUpX(\"男子D\",$A$7:$F$116,2,6)","v":{"$error":"#N/A"}},{"$f":"VLookUpX(\"男子D\",$C$7:$F$116,2,3)","v":{"$error":"#N/A"}},{"$f":"VLookUpX(\"男子D\",$C$7:$F$116,2,4)","v":{"$error":"#N/A"}},{"$f":"VLookUpX(\"女子D\",$A$7:$F$116,2,5)","v":{"$error":"#N/A"}},{"$f":"VLookUpX(\"女子D\",$A$7:$F$116,2,6)","v":{"$error":"#N/A"}},{"$f":"VLookUpX(\"女子D\",$C$7:$F$116,2,3)","v":{"$error":"#N/A"}},{"$f":"VLookUpX(\"女子D\",$C$7:$F$116,2,4)","v":{"$error":"#N/A"}}]
[0,{"$f":"名簿!Q36","v":""},0,null,{"$f":"名簿!E36","v":0},{"$f":"名簿!BR36","v":""},{"$f":"名簿!Z36","v":""},"",{"$f":"名簿!O36","v":""},{"$f":"名簿!I36","v":0},{"$f":"名簿!K36","v":0},{"$f":"名簿!BU36","v":"00"},{"$f":"名簿!R36","v":""},{"$f":"名簿!D36","v":0},null,"",{"$f":"IF(O34=\"\",\"\",HLOOKUP(O34,名簿!$AB$8:$BI$118,29,FALSE))","v":""},0,2,null,"",{"$f":"IF(T34=\"\",\"\",HLOOKUP(T34,名簿!$AB$8:$BI$118,29,FALSE))","v":""},null,{"$f":"IF(W34=\"\",\"\",IF(I34=1,VLOOKUP(W34,男子種目コード!$D$2:$E$30,2,FALSE),IF(I34=2,VLOOKUP(W34,女子種目コード!$D$2:$E$30,2,FALSE))))","v":""},null,null,null,null,{"$f":"IF(AB34=\"\",\"\",IF(I34=1,VLOOKUP(AB34,男子種目コード!$A$82:$B$85,2,FALSE),IF(I34=2,VLOOKUP(AB34,女子種目コード!$A$82:$B$85,2,FALSE))))","v":""},null,0,2,null,{"$f":"IF(AG34=\"\",\"\",IF(I34=1,VLOOKUP(AG34,男子種目コード!$A$78:$B$81,2,FALSE),IF(I34=2,VLOOKUP(AG34,女子種目コード!$A$78:$B$81,2,FALSE))))","v":""},null,0,2,0,null,null,"男子C","","",null,null,"",0,0,0,0,1500,1500,null,0,0,"","","計",{"$f":"SUM(BG8:BG32)","v":0},null,"","","","","","","","",{"$f":"VLookUpX(\"男子D\",$A$7:$F$116,3,5)","v":{"$error":"#N/A"}},{"$f":"VLookUpX(\"男子D\",$A$7:$F$116,3,6)","v":{"$error":"#N/A"}},{"$f":"VLookUpX(\"男子D\",$C$7:$F$116,3,3)","v":{"$error":"#N/A"}},{"$f":"VLookUpX(\"男子D\",$C$7:$F$116,3,4)","v":{"$error":"#N/A"}},{"$f":"VLookUpX(\"女子D\",$A$7:$F$116,3,5)","v":{"$error":"#N/A"}},{"$f":"VLookUpX(\"女子D\",$A$7:$F$116,3,6)","v":{"$error":"#N/A"}},{"$f":"VLookUpX(\"女子D\",$C$7:$F$116,3,3)","v":{"$error":"#N/A"}},{"$f":"VLookUpX(\"女子D\",$C$7:$F$116,3,4)","v":{"$error":"#N/A"}}]
[0,{"$f":"名簿!Q37","v":""},0,null,{"$f":"名簿!E37","v":0},{"$f":"名簿!BR37","v":""},{"$f":"名簿!Z37","v":""},"",{"$f":"名簿!O37","v":""},{"$f":"名簿!I37","v":0},{"$f":"名簿!K37","v":0},{"$f":"名簿!BU37","v":"00"},{"$f":"名簿!R37","v":""},{"$f":"名簿!D37","v":0},null,"",{"$f":"IF(O35=\"\",\"\",HLOOKUP(O35,名簿!$AB$8:$BI$118,30,FALSE))","v":""},0,2,null,"",{"$f":"IF(T35=\"\",\"\",HLOOKUP(T35,名簿!$AB$8:$BI$118,30,FALSE))","v":""},null,{"$f":"IF(W35=\"\",\"\",IF(I35=1,VLOOKUP(W35,男子種目コード!$D$2:$E$30,2,FALSE),IF(I35=2,VLOOKUP(W35,女子種目コード!$D$2:$E$30,2,FALSE))))","v":""},null,null,null,null,{"$f":"IF(AB35=\"\",\"\",IF(I35=1,VLOOKUP(AB35,男子種目コード!$A$82:$B$85,2,FALSE),IF(I35=2,VLOOKUP(AB35,女子種目コード!$A$82:$B$85,2,FALSE))))","v":""},null,0,2,null,{"$f":"IF(AG35=\"\",\"\",IF(I35=1,VLOOKUP(AG35,男子種目コード!$A$78:$B$81,2,FALSE),IF(I35=2,VLOOKUP(AG35,女子種目コード!$A$78:$B$81,2,FALSE))))","v":""},null,0,2,0,null,null,"女子A","","",null,null,"",0,0,0,0,"少年3000","少年3000",null,0,0,"","","女子",null,null,"","","","","","","","",{"$f":"VLookUpX(\"男子D\",$A$7:$F$116,4,5)","v":{"$error":"#N/A"}},{"$f":"VLookUpX(\"男子D\",$A$7:$F$116,4,6)","v":{"$error":"#N/A"}},{"$f":"VLookUpX(\"男子D\",$C$7:$F$116,4,3)","v":{"$error":"#N/A"}},{"$f":"VLookUpX(\"男子D\",$C$7:$F$116,4,4)","v":{"$error":"#N/A"}},{"$f":"VLookUpX(\"女子D\",$A$7:$F$116,4,5)","v":{"$error":"#N/A"}},{"$f":"VLookUpX(\"女子D\",$A$7:$F$116,4,6)","v":{"$error":"#N/A"}},{"$f":"VLookUpX(\"女子D\",$C$7:$F$116,4,3)","v":{"$error":"#N/A"}},{"$f":"VLookUpX(\"女子D\",$C$7:$F$116,4,4)","v":{"$error":"#N/A"}}]
[0,{"$f":"名簿!Q38","v":""},0,null,{"$f":"名簿!E38","v":0},{"$f":"名簿!BR38","v":""},{"$f":"名簿!Z38","v":""},"",{"$f":"名簿!O38","v":""},{"$f":"名簿!I38","v":0},{"$f":"名簿!K38","v":0},{"$f":"名簿!BU38","v":"00"},{"$f":"名簿!R38","v":""},{"$f":"名簿!D38","v":0},null,"",{"$f":"IF(O36=\"\",\"\",HLOOKUP(O36,名簿!$AB$8:$BI$118,31,FALSE))","v":""},0,2,null,"",{"$f":"IF(T36=\"\",\"\",HLOOKUP(T36,名簿!$AB$8:$BI$118,31,FALSE))","v":""},null,{"$f":"IF(W36=\"\",\"\",IF(I36=1,VLOOKUP(W36,男子種目コード!$D$2:$E$30,2,FALSE),IF(I36=2,VLOOKUP(W36,女子種目コード!$D$2:$E$30,2,FALSE))))","v":""},null,null,null,null,{"$f":"IF(AB36=\"\",\"\",IF(I36=1,VLOOKUP(AB36,男子種目コード!$A$82:$B$85,2,FALSE),IF(I36=2,VLOOKUP(AB36,女子種目コード!$A$82:$B$85,2,FALSE))))","v":""},null,0,2,null,{"$f":"IF(AG36=\"\",\"\",IF(I36=1,VLOOKUP(AG36,男子種目コード!$A$78:$B$81,2,FALSE),IF(I36=2,VLOOKUP(AG36,女子種目コード!$A$78:$B$81,2,FALSE))))","v":""},null,0,2,0,null,null,"女子B","","",null,null,"",0,0,0,0,5000,5000,null,0,0,"","","100m",{"$f":"COUNTIF($P$7:$P$116,40)+COUNTIF($U$7:$U$116,40)","v":0},40,"","","","","","","","",{"$f":"VLookUpX(\"男子D\",$A$7:$F$116,5,5)","v":{"$error":"#N/A"}},{"$f":"VLookUpX(\"男子D\",$A$7:$F$116,5,6)","v":{"$error":"#N/A"}},{"$f":"VLookUpX(\"男子D\",$C$7:$F$116,5,3)","v":{"$error":"#N/A"}},{"$f":"VLookUpX(\"男子D\",$C$7:$F$116,5,4)","v":{"$error":"#N/A"}},{"$f":"VLookUpX(\"女子D\",$A$7:$F$116,5,5)","v":{"$error":"#N/A"}},{"$f":"VLookUpX(\"女子D\",$A$7:$F$116,5,6)","v":{"$error":"#N/A"}},{"$f":"VLookUpX(\"女子D\",$C$7:$F$116,5,3)","v":{"$error":"#N/A"}},{"$f":"VLookUpX(\"女子D\",$C$7:$F$116,5,4)","v":{"$error":"#N/A"}}]
[0,{"$f":"名簿!Q39","v":""},0,null,{"$f":"名簿!E39","v":0},{"$f":"名簿!BR39","v":""},{"$f":"名簿!Z39","v":""},"",{"$f":"名簿!O39","v":""},{"$f":"名簿!I39","v":0},{"$f":"名簿!K39","v":0},{"$f":"名簿!BU39","v":"00"},{"$f":"名簿!R39","v":""},{"$f":"名簿!D39","v":0},null,"",{"$f":"IF(O37=\"\",\"\",HLOOKUP(O37,名簿!$AB$8:$BI$118,32,FALSE))","v":""},0,2,null,"",{"$f":"IF(T37=\"\",\"\",HLOOKUP(T37,名簿!$AB$8:$BI$118,32,FALSE))","v":""},null,{"$f":"IF(W37=\"\",\"\",IF(I37=1,VLOOKUP(W37,男子種目コード!$D$2:$E$30,2,FALSE),IF(I37=2,VLOOKUP(W37,女子種目コード!$D$2:$E$30,2,FALSE))))","v":""},null,null,null,null,{"$f":"IF(AB37=\"\",\"\",IF(I37=1,VLOOKUP(AB37,男子種目コード!$A$82:$B$85,2,FALSE),IF(I37=2,VLOOKUP(AB37,女子種目コード!$A$82:$B$85,2,FALSE))))","v":""},null,0,2,null,{"$f":"IF(AG37=\"\",\"\",IF(I37=1,VLOOKUP(AG37,男子種目コード!$A$78:$B$81,2,FALSE),IF(I37=2,VLOOKUP(AG37,女子種目コード!$A$78:$B$81,2,FALSE))))","v":""},null,0,2,0,null,null,"女子C","","",null,null,"",0,0,0,0,10000,10000,null,0,0,"","","200m",{"$f":"COUNTIF($P$7:$P$116,41)+COUNTIF($U$7:$U$116,41)","v":0},41,"","","","","","","","",{"$f":"VLookUpX(\"男子D\",$A$7:$F$116,6,5)","v":{"$error":"#N/A"}},{"$f":"VLookUpX(\"男子D\",$A$7:$F$116,6,6)","v":{"$error":"#N/A"}},{"$f":"VLookUpX(\"男子D\",$C$7:$F$116,6,3)","v":{"$error":"#N/A"}},{"$f":"VLookUpX(\"男子D\",$C$7:$F$116,6,4)","v":{"$error":"#N/A"}},{"$f":"VLookUpX(\"女子D\",$A$7:$F$116,6,5)","v":{"$error":"#N/A"}},{"$f":"VLookUpX(\"女子D\",$A$7:$F$116,6,6)","v":{"$error":"#N/A"}},{"$f":"VLookUpX(\"女子D\",$C$7:$F$116,6,3)","v":{"$error":"#N/A"}},{"$f":"VLookUpX(\"女子D\",$C$7:$F$116,6,4)","v":{"$error":"#N/A"}}]
[0,{"$f":"名簿!Q40","v":""},0,null,{"$f":"名簿!E40","v":0},{"$f":"名簿!BR40","v":""},{"$f":"名簿!Z40","v":""},"",{"$f":"名簿!O40","v":""},{"$f":"名簿!I40","v":0},{"$f":"名簿!K40","v":0},{"$f":"名簿!BU40","v":"00"},{"$f":"名簿!R40","v":""},{"$f":"名簿!D40","v":0},null,"",{"$f":"IF(O38=\"\",\"\",HLOOKUP(O38,名簿!$AB$8:$BI$118,33,FALSE))","v":""},0,2,null,"",{"$f":"IF(T38=\"\",\"\",HLOOKUP(T38,名簿!$AB$8:$BI$118,33,FALSE))","v":""},null,{"$f":"IF(W38=\"\",\"\",IF(I38=1,VLOOKUP(W38,男子種目コード!$D$2:$E$30,2,FALSE),IF(I38=2,VLOOKUP(W38,女子種目コード!$D$2:$E$30,2,FALSE))))","v":""},null,null,null,null,{"$f":"IF(AB38=\"\",\"\",IF(I38=1,VLOOKUP(AB38,男子種目コード!$A$82:$B$85,2,FALSE),IF(I38=2,VLOOKUP(AB38,女子種目コード!$A$82:$B$85,2,FALSE))))","v":""},null,0,2,null,{"$f":"IF(AG38=\"\",\"\",IF(I38=1,VLOOKUP(AG38,男子種目コード!$A$78:$B$81,2,FALSE),IF(I38=2,VLOOKUP(AG38,女子種目コード!$A$78:$B$81,2,FALSE))))","v":""},null,0,2,0,null,null,null,"","",null,null,"",0,0,0,0,"110H","100H",null,0,0,"","","400m",{"$f":"COUNTIF($P$7:$P$116,42)+COUNTIF($U$7:$U$116,42)","v":0},42,null,null,null,null,null,null,null,null,null,null,null,null,null,null,null,null,{"$f":"SUM(BY8:BY37)","v":0},{"$f":"SUM(BZ8:BZ37)","v":0},{"$f":"SUM(CA8:CA37)","v":0},{"$f":"SUM(CB8:CB37)","v":0},{"$f":"SUM(BY38:CB38)","v":0}]
[0,{"$f":"名簿!Q41","v":""},0,null,{"$f":"名簿!E41","v":0},{"$f":"名簿!BR41","v":""},{"$f":"名簿!Z41","v":""},{"$f":"F39","v":""},{"$f":"名簿!O41","v":""},{"$f":"名簿!I41","v":0},{"$f":"名簿!K41","v":0},{"$f":"名簿!BU41","v":"00"},{"$f":"名簿!R41","v":""},{"$f":"名簿!D41","v":0},null,"",{"$f":"IF(O39=\"\",\"\",HLOOKUP(O39,名簿!$AB$8:$BI$118,34,FALSE))","v":""},0,2,null,"",{"$f":"IF(T39=\"\",\"\",HLOOKUP(T39,名簿!$AB$8:$BI$118,34,FALSE))","v":""},null,{"$f":"IF(W39=\"\",\"\",IF(I39=1,VLOOKUP(W39,男子種目コード!$D$2:$E$30,2,FALSE),IF(I39=2,VLOOKUP(W39,女子種目コード!$D$2:$E$30,2,FALSE))))","v":""},null,null,null,null,{"$f":"IF(AB39=\"\",\"\",IF(I39=1,VLOOKUP(AB39,男子種目コード!$A$82:$B$85,2,FALSE),IF(I39=2,VLOOKUP(AB39,女子種目コード!$A$82:$B$85,2,FALSE))))","v":""},null,0,2,null,{"$f":"IF(AG39=\"\",\"\",IF(I39=1,VLOOKUP(AG39,男子種目コード!$A$78:$B$81,2,FALSE),IF(I39=2,VLOOKUP(AG39,女子種目コード!$A$78:$B$81,2,FALSE))))","v":""},null,0,2,0,null,null,null,{"$f":"IF(O39=\"\",\"\",1)","v":""},"",null,null,"",{"$f":"IF(OR(AT39=1,T39=\"\"),0,1)","v":0},{"$f":"IF(OR(AT39=1,AU39=1,AB39=\"\"),0,1)","v":0},{"$f":"IF(OR(AT39=1,AU39=1,AV39=1,AG39=\"\"),0,1)","v":0},0,"少年B110JH","少年B100YH",null,0,0,"","","800m",{"$f":"COUNTIF($P$7:$P$116,43)+COUNTIF($U$7:$U$116,43)","v":0},43]
[0,{"$f":"名簿!Q42","v":""},0,null,{"$f":"名簿!E42","v":0},{"$f":"名簿!BR42","v":""},{"$f":"名簿!Z42","v":""},"",{"$f":"名簿!O42","v":""},{"$f":"名簿!I42","v":0},{"$f":"名簿!K42","v":0},{"$f":"名簿!BU42","v":"00"},{"$f":"名簿!R42","v":""},{"$f":"名簿!D42","v":0},null,"",{"$f":"IF(O40=\"\",\"\",HLOOKUP(O40,名簿!$AB$8:$BI$118,35,FALSE))","v":""},0,2,null,"",{"$f":"IF(T40=\"\",\"\",HLOOKUP(T40,名簿!$AB$8:$BI$118,35,FALSE))","v":""},null,{"$f":"IF(W40=\"\",\"\",IF(I40=1,VLOOKUP(W40,男子種目コード!$D$2:$E$30,2,FALSE),IF(I40=2,VLOOKUP(W40,女子種目コード!$D$2:$E$30,2,FALSE))))","v":""},null,null,null,null,{"$f":"IF(AB40=\"\",\"\",IF(I40=1,VLOOKUP(AB40,男子種目コード!$A$82:$B$85,2,FALSE),IF(I40=2,VLOOKUP(AB40,女子種目コード!$A$82:$B$85,2,FALSE))))","v":""},null,0,2,null,{"$f":"IF(AG40=\"\",\"\",IF(I40=1,VLOOKUP(AG40,男子種目コード!$A$78:$B$81,2,FALSE),IF(I40=2,VLOOKUP(AG40,女子種目コード!$A$78:$B$81,2,FALSE))))","v":""},null,0,2,0,null,null,null,"","",null,null,"",0,0,0,0,"400H","400H",null,0,0,"","","1500m",{"$f":"COUNTIF($P$7:$P$116,44)+COUNTIF($U$7:$U$116,44)","v":0},44]
[0,{"$f":"名簿!Q43","v":""},0,null,{"$f":"名簿!E43","v":0},{"$f":"名簿!BR43","v":""},{"$f":"名簿!Z43","v":""},"",{"$f":"名簿!O43","v":""},{"$f":"名簿!I43","v":0},{"$f":"名簿!K43","v":0},{"$f":"名簿!BU43","v":"00"},{"$f":"名簿!R43","v":""},{"$f":"名簿!D43","v":0},null,"",{"$f":"IF(O41=\"\",\"\",HLOOKUP(O41,名簿!$AB$8:$BI$118,36,FALSE))","v":""},0,2,null,"",{"$f":"IF(T41=\"\",\"\",HLOOKUP(T41,名簿!$AB$8:$BI$118,36,FALSE))","v":""},null,{"$f":"IF(W41=\"\",\"\",IF(I41=1,VLOOKUP(W41,男子種目コード!$D$2:$E$30,2,FALSE),IF(I41=2,VLOOKUP(W41,女子種目コード!$D$2:$E$30,2,FALSE))))","v":""},null,null,null,null,{"$f":"IF(AB41=\"\",\"\",IF(I41=1,VLOOKUP(AB41,男子種目コード!$A$82:$B$85,2,FALSE),IF(I41=2,VLOOKUP(AB41,女子種目コード!$A$82:$B$85,2,FALSE))))","v":""},null,0,2,null,{"$f":"IF(AG41=\"\",\"\",IF(I41=1,VLOOKUP(AG41,男子種目コード!$A$78:$B$81,2,FALSE),IF(I41=2,VLOOKUP(AG41,女子種目コード!$A$78:$B$81,2,FALSE))))","v":""},null,0,2,0,null,null,null,"","",null,null,"",0,0,0,0,"3000SC","3000SC",null,0,0,"","","5000m",{"$f":"COUNTIF($P$7:$P$116,46)+COUNTIF($U$7:$U$116,46)","v":0},46]
[0,{"$f":"名簿!Q44","v":""},0,null,{"$f":"名簿!E44","v":0},{"$f":"名簿!BR44","v":""},{"$f":"名簿!Z44","v":""},"",{"$f":"名簿!O44","v":""},{"$f":"名簿!I44","v":0},{"$f":"名簿!K44","v":0},{"$f":"名簿!BU44","v":"00"},{"$f":"名簿!R44","v":""},{"$f":"名簿!D44","v":0},null,"",{"$f":"IF(O42=\"\",\"\",HLOOKUP(O42,名簿!$AB$8:$BI$118,37,FALSE))","v":""},0,2,null,"",{"$f":"IF(T42=\"\",\"\",HLOOKUP(T42,名簿!$AB$8:$BI$118,37,FALSE))","v":""},null,{"$f":"IF(W42=\"\",\"\",IF(I42=1,VLOOKUP(W42,男子種目コード!$D$2:$E$30,2,FALSE),IF(I42=2,VLOOKUP(W42,女子種目コード!$D$2:$E$30,2,FALSE))))","v":""},null,null,null,null,{"$f":"IF(AB42=\"\",\"\",IF(I42=1,VLOOKUP(AB42,男子種目コード!$A$82:$B$85,2,FALSE),IF(I42=2,VLOOKUP(AB42,女子種目コード!$A$82:$B$85,2,FALSE))))","v":""},null,0,2,null,{"$f":"IF(AG42=\"\",\"\",IF(I42=1,VLOOKUP(AG42,男子種目コード!$A$78:$B$81,2,FALSE),IF(I42=2,VLOOKUP(AG42,女子種目コード!$A$78:$B$81,2,FALSE))))","v":""},null,0,2,0,null,null,null,"","",null,null,"",0,0,0,0,"5000W","5000W",null,0,0,"","","10000m",{"$f":"COUNTIF($P$7:$P$116,47)+COUNTIF($U$7:$U$116,47)","v":0},47]
[0,{"$f":"名簿!Q45","v":""},0,null,{"$f":"名簿!E45","v":0},{"$f":"名簿!BR45","v":""},{"$f":"名簿!Z45","v":""},"",{"$f":"名簿!O45","v":""},{"$f":"名簿!I45","v":0},{"$f":"名簿!K45","v":0},{"$f":"名簿!BU45","v":"00"},{"$f":"名簿!R45","v":""},{"$f":"名簿!D45","v":0},null,"",{"$f":"IF(O43=\"\",\"\",HLOOKUP(O43,名簿!$AB$8:$BI$118,38,FALSE))","v":""},0,2,null,"",{"$f":"IF(T43=\"\",\"\",HLOOKUP(T43,名簿!$AB$8:$BI$118,38,FALSE))","v":""},null,{"$f":"IF(W43=\"\",\"\",IF(I43=1,VLOOKUP(W43,男子種目コード!$D$2:$E$30,2,FALSE),IF(I43=2,VLOOKUP(W43,女子種目コード!$D$2:$E$30,2,FALSE))))","v":""},null,null,null,null,{"$f":"IF(AB43=\"\",\"\",IF(I43=1,VLOOKUP(AB43,男子種目コード!$A$82:$B$85,2,FALSE),IF(I43=2,VLOOKUP(AB43,女子種目コード!$A$82:$B$85,2,FALSE))))","v":""},null,0,2,null,{"$f":"IF(AG43=\"\",\"\",IF(I43=1,VLOOKUP(AG43,男子種目コード!$A$78:$B$81,2,FALSE),IF(I43=2,VLOOKUP(AG43,女子種目コード!$A$78:$B$81,2,FALSE))))","v":""},null,0,2,0,null,null,null,"","",null,null,"",0,0,0,0,"走高跳","走高跳",null,0,0,"","","100mH",{"$f":"COUNTIF($P$7:$P$116,48)+COUNTIF($U$7:$U$116,48)","v":0},48]
[0,{"$f":"名簿!Q46","v":""},0,null,{"$f":"名簿!E46","v":0},{"$f":"名簿!BR46","v":""},{"$f":"名簿!Z46","v":""},"",{"$f":"名簿!O46","v":""},{"$f":"名簿!I46","v":0},{"$f":"名簿!K46","v":0},{"$f":"名簿!BU46","v":"00"},{"$f":"名簿!R46","v":""},{"$f":"名簿!D46","v":0},null,"",{"$f":"IF(O44=\"\",\"\",HLOOKUP(O44,名簿!$AB$8:$BI$118,39,FALSE))","v":""},0,2,null,"",{"$f":"IF(T44=\"\",\"\",HLOOKUP(T44,名簿!$AB$8:$BI$118,39,FALSE))","v":""},null,{"$f":"IF(W44=\"\",\"\",IF(I44=1,VLOOKUP(W44,男子種目コード!$D$2:$E$30,2,FALSE),IF(I44=2,VLOOKUP(W44,女子種目コード!$D$2:$E$30,2,FALSE))))","v":""},null,null,null,null,{"$f":"IF(AB44=\"\",\"\",IF(I44=1,VLOOKUP(AB44,男子種目コード!$A$82:$B$85,2,FALSE),IF(I44=2,VLOOKUP(AB44,女子種目コード!$A$82:$B$85,2,FALSE))))","v":""},null,0,2,null,{"$f":"IF(AG44=\"\",\"\",IF(I44=1,VLOOKUP(AG44,男子種目コード!$A$78:$B$81,2,FALSE),IF(I44=2,VLOOKUP(AG44,女子種目コード!$A$78:$B$81,2,FALSE))))","v":""},null,0,2,0,null,null,null,"","",null,null,"",0,0,0,0,"棒高跳","棒高跳",null,0,0,"","","400mH",{"$f":"COUNTIF($P$7:$P$116,49)+COUNTIF($U$7:$U$116,49)","v":0},49]
[0,{"$f":"名簿!Q47","v":""},0,null,{"$f":"名簿!E47","v":0},{"$f":"名簿!BR47","v":""},{"$f":"名簿!Z47","v":""},"",{"$f":"名簿!O47","v":""},{"$f":"名簿!I47","v":0},{"$f":"名簿!K47","v":0},{"$f":"名簿!BU47","v":"00"},{"$f":"名簿!R47","v":""},{"$f":"名簿!D47","v":0},null,"",{"$f":"IF(O45=\"\",\"\",HLOOKUP(O45,名簿!$AB$8:$BI$118,40,FALSE))","v":""},0,2,null,"",{"$f":"IF(T45=\"\",\"\",HLOOKUP(T45,名簿!$AB$8:$BI$118,40,FALSE))","v":""},null,{"$f":"IF(W45=\"\",\"\",IF(I45=1,VLOOKUP(W45,男子種目コード!$D$2:$E$30,2,FALSE),IF(I45=2,VLOOKUP(W45,女子種目コード!$D$2:$E$30,2,FALSE))))","v":""},null,null,null,null,{"$f":"IF(AB45=\"\",\"\",IF(I45=1,VLOOKUP(AB45,男子種目コード!$A$82:$B$85,2,FALSE),IF(I45=2,VLOOKUP(AB45,女子種目コード!$A$82:$B$85,2,FALSE))))","v":""},null,0,2,null,{"$f":"IF(AG45=\"\",\"\",IF(I45=1,VLOOKUP(AG45,男子種目コード!$A$78:$B$81,2,FALSE),IF(I45=2,VLOOKUP(AG45,女子種目コード!$A$78:$B$81,2,FALSE))))","v":""},null,0,2,0,null,null,null,"","",null,null,"",0,0,0,0,"走幅跳","走幅跳",null,0,0,"","","3000mSC",{"$f":"COUNTIF($P$7:$P$116,50)+COUNTIF($U$7:$U$116,50)","v":0},50]
[0,{"$f":"名簿!Q48","v":""},0,null,{"$f":"名簿!E48","v":0},{"$f":"名簿!BR48","v":""},{"$f":"名簿!Z48","v":""},"",{"$f":"名簿!O48","v":""},{"$f":"名簿!I48","v":0},{"$f":"名簿!K48","v":0},{"$f":"名簿!BU48","v":"00"},{"$f":"名簿!R48","v":""},{"$f":"名簿!D48","v":0},null,"",{"$f":"IF(O46=\"\",\"\",HLOOKUP(O46,名簿!$AB$8:$BI$118,41,FALSE))","v":""},0,2,null,"",{"$f":"IF(T46=\"\",\"\",HLOOKUP(T46,名簿!$AB$8:$BI$118,41,FALSE))","v":""},null,{"$f":"IF(W46=\"\",\"\",IF(I46=1,VLOOKUP(W46,男子種目コード!$D$2:$E$30,2,FALSE),IF(I46=2,VLOOKUP(W46,女子種目コード!$D$2:$E$30,2,FALSE))))","v":""},null,null,null,null,{"$f":"IF(AB46=\"\",\"\",IF(I46=1,VLOOKUP(AB46,男子種目コード!$A$82:$B$85,2,FALSE),IF(I46=2,VLOOKUP(AB46,女子種目コード!$A$82:$B$85,2,FALSE))))","v":""},null,0,2,null,{"$f":"IF(AG46=\"\",\"\",IF(I46=1,VLOOKUP(AG46,男子種目コード!$A$78:$B$81,2,FALSE),IF(I46=2,VLOOKUP(AG46,女子種目コード!$A$78:$B$81,2,FALSE))))","v":""},null,0,2,0,null,null,null,"","",null,null,"",0,0,0,0,"三段跳","三段跳",null,0,0,"","","5000mW",{"$f":"COUNTIF($P$7:$P$116,52)+COUNTIF($U$7:$U$116,52)","v":0},52]
[0,{"$f":"名簿!Q49","v":""},0,null,{"$f":"名簿!E49","v":0},{"$f":"名簿!BR49","v":""},{"$f":"名簿!Z49","v":""},"",{"$f":"名簿!O49","v":""},{"$f":"名簿!I49","v":0},{"$f":"名簿!K49","v":0},{"$f":"名簿!BU49","v":"00"},{"$f":"名簿!R49","v":""},{"$f":"名簿!D49","v":0},null,"",{"$f":"IF(O47=\"\",\"\",HLOOKUP(O47,名簿!$AB$8:$BI$118,42,FALSE))","v":""},0,2,null,"",{"$f":"IF(T47=\"\",\"\",HLOOKUP(T47,名簿!$AB$8:$BI$118,42,FALSE))","v":""},null,{"$f":"IF(W47=\"\",\"\",IF(I47=1,VLOOKUP(W47,男子種目コード!$D$2:$E$30,2,FALSE),IF(I47=2,VLOOKUP(W47,女子種目コード!$D$2:$E$30,2,FALSE))))","v":""},null,null,null,null,{"$f":"IF(AB47=\"\",\"\",IF(I47=1,VLOOKUP(AB47,男子種目コード!$A$82:$B$85,2,FALSE),IF(I47=2,VLOOKUP(AB47,女子種目コード!$A$82:$B$85,2,FALSE))))","v":""},null,0,2,null,{"$f":"IF(AG47=\"\",\"\",IF(I47=1,VLOOKUP(AG47,男子種目コード!$A$78:$B$81,2,FALSE),IF(I47=2,VLOOKUP(AG47,女子種目コード!$A$78:$B$81,2,FALSE))))","v":""},null,0,2,0,null,null,null,"","",null,null,"",0,0,0,0,"砲丸投","砲丸投",null,0,0,"","","走高跳",{"$f":"COUNTIF($P$7:$P$116,55)+COUNTIF($U$7:$U$116,55)","v":0},55]
[0,{"$f":"名簿!Q50","v":""},0,null,{"$f":"名簿!E50","v":0},{"$f":"名簿!BR50","v":""},{"$f":"名簿!Z50","v":""},"",{"$f":"名簿!O50","v":""},{"$f":"名簿!I50","v":0},{"$f":"名簿!K50","v":0},{"$f":"名簿!BU50","v":"00"},{"$f":"名簿!R50","v":""},{"$f":"名簿!D50","v":0},null,"",{"$f":"IF(O48=\"\",\"\",HLOOKUP(O48,名簿!$AB$8:$BI$118,43,FALSE))","v":""},0,2,null,"",{"$f":"IF(T48=\"\",\"\",HLOOKUP(T48,名簿!$AB$8:$BI$118,43,FALSE))","v":""},null,{"$f":"IF(W48=\"\",\"\",IF(I48=1,VLOOKUP(W48,男子種目コード!$D$2:$E$30,2,FALSE),IF(I48=2,VLOOKUP(W48,女子種目コード!$D$2:$E$30,2,FALSE))))","v":""},null,null,null,null,{"$f":"IF(AB48=\"\",\"\",IF(I48=1,VLOOKUP(AB48,男子種目コード!$A$82:$B$85,2,FALSE),IF(I48=2,VLOOKUP(AB48,女子種目コード!$A$82:$B$85,2,FALSE))))","v":""},null,0,2,null,{"$f":"IF(AG48=\"\",\"\",IF(I48=1,VLOOKUP(AG48,男子種目コード!$A$78:$B$81,2,FALSE),IF(I48=2,VLOOKUP(AG48,女子種目コード!$A$78:$B$81,2,FALSE))))","v":""},null,0,2,0,null,null,null,"","",null,null,"",0,0,0,0,"少年砲丸投","円盤投",null,0,0,"","","棒高跳",{"$f":"COUNTIF($P$7:$P$116,56)+COUNTIF($U$7:$U$116,56)","v":0},56]
[0,{"$f":"名簿!Q51","v":""},0,null,{"$f":"名簿!E51","v":0},{"$f":"名簿!BR51","v":""},{"$f":"名簿!Z51","v":""},"",{"$f":"名簿!O51","v":""},{"$f":"名簿!I51","v":0},{"$f":"名簿!K51","v":0},{"$f":"名簿!BU51","v":"00"},{"$f":"名簿!R51","v":""},{"$f":"名簿!D51","v":0},null,"",{"$f":"IF(O49=\"\",\"\",HLOOKUP(O49,名簿!$AB$8:$BI$118,44,FALSE))","v":""},0,2,null,"",{"$f":"IF(T49=\"\",\"\",HLOOKUP(T49,名簿!$AB$8:$BI$118,44,FALSE))","v":""},null,{"$f":"IF(W49=\"\",\"\",IF(I49=1,VLOOKUP(W49,男子種目コード!$D$2:$E$30,2,FALSE),IF(I49=2,VLOOKUP(W49,女子種目コード!$D$2:$E$30,2,FALSE))))","v":""},null,null,null,null,{"$f":"IF(AB49=\"\",\"\",IF(I49=1,VLOOKUP(AB49,男子種目コード!$A$82:$B$85,2,FALSE),IF(I49=2,VLOOKUP(AB49,女子種目コード!$A$82:$B$85,2,FALSE))))","v":""},null,0,2,null,{"$f":"IF(AG49=\"\",\"\",IF(I49=1,VLOOKUP(AG49,男子種目コード!$A$78:$B$81,2,FALSE),IF(I49=2,VLOOKUP(AG49,女子種目コード!$A$78:$B$81,2,FALSE))))","v":""},null,0,2,0,null,null,null,"","",null,null,"",0,0,0,0,"少年B砲丸投","ハンマー投",null,0,0,"","","走幅跳",{"$f":"COUNTIF($P$7:$P$116,57)+COUNTIF($U$7:$U$116,57)","v":0},57]
[0,{"$f":"名簿!Q52","v":""},0,null,{"$f":"名簿!E52","v":0},{"$f":"名簿!BR52","v":""},{"$f":"名簿!Z52","v":""},"",{"$f":"名簿!O52","v":""},{"$f":"名簿!I52","v":0},{"$f":"名簿!K52","v":0},{"$f":"名簿!BU52","v":"00"},{"$f":"名簿!R52","v":""},{"$f":"名簿!D52","v":0},null,"",{"$f":"IF(O50=\"\",\"\",HLOOKUP(O50,名簿!$AB$8:$BI$118,45,FALSE))","v":""},0,2,null,"",{"$f":"IF(T50=\"\",\"\",HLOOKUP(T50,名簿!$AB$8:$BI$118,45,FALSE))","v":""},null,{"$f":"IF(W50=\"\",\"\",IF(I50=1,VLOOKUP(W50,男子種目コード!$D$2:$E$30,2,FALSE),IF(I50=2,VLOOKUP(W50,女子種目コード!$D$2:$E$30,2,FALSE))))","v":""},null,null,null,null,{"$f":"IF(AB50=\"\",\"\",IF(I50=1,VLOOKUP(AB50,男子種目コード!$A$82:$B$85,2,FALSE),IF(I50=2,VLOOKUP(AB50,女子種目コード!$A$82:$B$85,2,FALSE))))","v":""},null,0,2,null,{"$f":"IF(AG50=\"\",\"\",IF(I50=1,VLOOKUP(AG50,男子種目コード!$A$78:$B$81,2,FALSE),IF(I50=2,VLOOKUP(AG50,女子種目コード!$A$78:$B$81,2,FALSE))))","v":""},null,0,2,0,null,null,null,"","",null,null,"",0,0,0,0,"円盤投","やり投",null,0,0,"","","三段跳",{"$f":"COUNTIF($P$7:$P$116,58)+COUNTIF($U$7:$U$116,58)","v":0},58]
[0,{"$f":"名簿!Q53","v":""},0,null,{"$f":"名簿!E53","v":0},{"$f":"名簿!BR53","v":""},{"$f":"名簿!Z53","v":""},"",{"$f":"名簿!O53","v":""},{"$f":"名簿!I53","v":0},{"$f":"名簿!K53","v":0},{"$f":"名簿!BU53","v":"00"},{"$f":"名簿!R53","v":""},{"$f":"名簿!D53","v":0},null,"",{"$f":"IF(O51=\"\",\"\",HLOOKUP(O51,名簿!$AB$8:$BI$118,46,FALSE))","v":""},0,2,null,"",{"$f":"IF(T51=\"\",\"\",HLOOKUP(T51,名簿!$AB$8:$BI$118,46,FALSE))","v":""},null,{"$f":"IF(W51=\"\",\"\",IF(I51=1,VLOOKUP(W51,男子種目コード!$D$2:$E$30,2,FALSE),IF(I51=2,VLOOKUP(W51,女子種目コード!$D$2:$E$30,2,FALSE))))","v":""},null,null,null,null,{"$f":"IF(AB51=\"\",\"\",IF(I51=1,VLOOKUP(AB51,男子種目コード!$A$82:$B$85,2,FALSE),IF(I51=2,VLOOKUP(AB51,女子種目コード!$A$82:$B$85,2,FALSE))))","v":""},null,0,2,null,{"$f":"IF(AG51=\"\",\"\",IF(I51=1,VLOOKUP(AG51,男子種目コード!$A$78:$B$81,2,FALSE),IF(I51=2,VLOOKUP(AG51,女子種目コード!$A$78:$B$81,2,FALSE))))","v":""},null,0,2,0,null,null,null,"","",null,null,"",0,0,0,0,"少年円盤投",null,null,0,0,"","","砲丸投",{"$f":"COUNTIF($P$7:$P$116,59)+COUNTIF($U$7:$U$116,59)","v":0},59]
[0,{"$f":"名簿!Q54","v":""},0,null,{"$f":"名簿!E54","v":0},{"$f":"名簿!BR54","v":""},{"$f":"名簿!Z54","v":""},"",{"$f":"名簿!O54","v":""},{"$f":"名簿!I54","v":0},{"$f":"名簿!K54","v":0},{"$f":"名簿!BU54","v":"00"},{"$f":"名簿!R54","v":""},{"$f":"名簿!D54","v":0},null,"",{"$f":"IF(O52=\"\",\"\",HLOOKUP(O52,名簿!$AB$8:$BI$118,47,FALSE))","v":""},0,2,null,"",{"$f":"IF(T52=\"\",\"\",HLOOKUP(T52,名簿!$AB$8:$BI$118,47,FALSE))","v":""},null,{"$f":"IF(W52=\"\",\"\",IF(I52=1,VLOOKUP(W52,男子種目コード!$D$2:$E$30,2,FALSE),IF(I52=2,VLOOKUP(W52,女子種目コード!$D$2:$E$30,2,FALSE))))","v":""},null,null,null,null,{"$f":"IF(AB52=\"\",\"\",IF(I52=1,VLOOKUP(AB52,男子種目コード!$A$82:$B$85,2,FALSE),IF(I52=2,VLOOKUP(AB52,女子種目コード!$A$82:$B$85,2,FALSE))))","v":""},null,0,2,null,{"$f":"IF(AG52=\"\",\"\",IF(I52=1,VLOOKUP(AG52,男子種目コード!$A$78:$B$81,2,FALSE),IF(I52=2,VLOOKUP(AG52,女子種目コード!$A$78:$B$81,2,FALSE))))","v":""},null,0,2,0,null,null,null,"","",null,null,"",0,0,0,0,"ハンマー投",null,null,0,0,"","","円盤投",{"$f":"COUNTIF($P$7:$P$116,60)+COUNTIF($U$7:$U$116,60)","v":0},60]
[0,{"$f":"名簿!Q55","v":""},0,null,{"$f":"名簿!E55","v":0},{"$f":"名簿!BR55","v":""},{"$f":"名簿!Z55","v":""},"",{"$f":"名簿!O55","v":""},{"$f":"名簿!I55","v":0},{"$f":"名簿!K55","v":0},{"$f":"名簿!BU55","v":"00"},{"$f":"名簿!R55","v":""},{"$f":"名簿!D55","v":0},null,"",{"$f":"IF(O53=\"\",\"\",HLOOKUP(O53,名簿!$AB$8:$BI$118,48,FALSE))","v":""},0,2,null,"",{"$f":"IF(T53=\"\",\"\",HLOOKUP(T53,名簿!$AB$8:$BI$118,48,FALSE))","v":""},null,{"$f":"IF(W53=\"\",\"\",IF(I53=1,VLOOKUP(W53,男子種目コード!$D$2:$E$30,2,FALSE),IF(I53=2,VLOOKUP(W53,女子種目コード!$D$2:$E$30,2,FALSE))))","v":""},null,null,null,null,{"$f":"IF(AB53=\"\",\"\",IF(I53=1,VLOOKUP(AB53,男子種目コード!$A$82:$B$85,2,FALSE),IF(I53=2,VLOOKUP(AB53,女子種目コード!$A$82:$B$85,2,FALSE))))","v":""},null,0,2,null,{"$f":"IF(AG53=\"\",\"\",IF(I53=1,VLOOKUP(AG53,男子種目コード!$A$78:$B$81,2,FALSE),IF(I53=2,VLOOKUP(AG53,女子種目コード!$A$78:$B$81,2,FALSE))))","v":""},null,0,2,0,null,null,null,"","",null,null,"",0,0,0,0,"少年ハンマー投",null,null,0,0,"","","ハンマー投",{"$f":"COUNTIF($P$7:$P$116,61)+COUNTIF($U$7:$U$116,61)","v":0},61]
[0,{"$f":"名簿!Q56","v":""},0,null,{"$f":"名簿!E56","v":0},{"$f":"名簿!BR56","v":""},{"$f":"名簿!Z56","v":""},"",{"$f":"名簿!O56","v":""},{"$f":"名簿!I56","v":0},{"$f":"名簿!K56","v":0},{"$f":"名簿!BU56","v":"00"},{"$f":"名簿!R56","v":""},{"$f":"名簿!D56","v":0},null,"",{"$f":"IF(O54=\"\",\"\",HLOOKUP(O54,名簿!$AB$8:$BI$118,49,FALSE))","v":""},0,2,null,"",{"$f":"IF(T54=\"\",\"\",HLOOKUP(T54,名簿!$AB$8:$BI$118,49,FALSE))","v":""},null,{"$f":"IF(W54=\"\",\"\",IF(I54=1,VLOOKUP(W54,男子種目コード!$D$2:$E$30,2,FALSE),IF(I54=2,VLOOKUP(W54,女子種目コード!$D$2:$E$30,2,FALSE))))","v":""},null,null,null,null,{"$f":"IF(AB54=\"\",\"\",IF(I54=1,VLOOKUP(AB54,男子種目コード!$A$82:$B$85,2,FALSE),IF(I54=2,VLOOKUP(AB54,女子種目コード!$A$82:$B$85,2,FALSE))))","v":""},null,0,2,null,{"$f":"IF(AG54=\"\",\"\",IF(I54=1,VLOOKUP(AG54,男子種目コード!$A$78:$B$81,2,FALSE),IF(I54=2,VLOOKUP(AG54,女子種目コード!$A$78:$B$81,2,FALSE))))","v":""},null,0,2,0,null,null,null,"","",null,null,"",0,0,0,0,"やり投",null,null,0,0,"","","やり投",{"$f":"COUNTIF($P$7:$P$116,62)+COUNTIF($U$7:$U$116,62)","v":0},62]
[0,{"$f":"名簿!Q57","v":""},0,null,{"$f":"名簿!E57","v":0},{"$f":"名簿!BR57","v":""},{"$f":"名簿!Z57","v":""},"",{"$f":"名簿!O57","v":""},{"$f":"名簿!I57","v":0},{"$f":"名簿!K57","v":0},{"$f":"名簿!BU57","v":"00"},{"$f":"名簿!R57","v":""},{"$f":"名簿!D57","v":0},null,"",{"$f":"IF(O55=\"\",\"\",HLOOKUP(O55,名簿!$AB$8:$BI$118,50,FALSE))","v":""},0,2,null,"",{"$f":"IF(T55=\"\",\"\",HLOOKUP(T55,名簿!$AB$8:$BI$118,50,FALSE))","v":""},null,{"$f":"IF(W55=\"\",\"\",IF(I55=1,VLOOKUP(W55,男子種目コード!$D$2:$E$30,2,FALSE),IF(I55=2,VLOOKUP(W55,女子種目コード!$D$2:$E$30,2,FALSE))))","v":""},null,null,null,null,{"$f":"IF(AB55=\"\",\"\",IF(I55=1,VLOOKUP(AB55,男子種目コード!$A$82:$B$85,2,FALSE),IF(I55=2,VLOOKUP(AB55,女子種目コード!$A$82:$B$85,2,FALSE))))","v":""},null,0,2,null,{"$f":"IF(AG55=\"\",\"\",IF(I55=1,VLOOKUP(AG55,男子種目コード!$A$78:$B$81,2,FALSE),IF(I55=2,VLOOKUP(AG55,女子種目コード!$A$78:$B$81,2,FALSE))))","v":""},null,0,2,0,null,null,null,"","",null,null,"",0,0,0,0,null,null,null,0,0,"","","少年3000m",{"$f":"COUNTIF($P$7:$P$116,64)+COUNTIF($U$7:$U$116,64)","v":0},64]
[0,{"$f":"名簿!Q58","v":""},0,null,{"$f":"名簿!E58","v":0},{"$f":"名簿!BR58","v":""},{"$f":"名簿!Z58","v":""},"",{"$f":"名簿!O58","v":""},{"$f":"名簿!I58","v":0},{"$f":"名簿!K58","v":0},{"$f":"名簿!BU58","v":"00"},{"$f":"名簿!R58","v":""},{"$f":"名簿!D58","v":0},null,"",{"$f":"IF(O56=\"\",\"\",HLOOKUP(O56,名簿!$AB$8:$BI$118,51,FALSE))","v":""},0,2,null,"",{"$f":"IF(T56=\"\",\"\",HLOOKUP(T56,名簿!$AB$8:$BI$118,51,FALSE))","v":""},null,{"$f":"IF(W56=\"\",\"\",IF(I56=1,VLOOKUP(W56,男子種目コード!$D$2:$E$30,2,FALSE),IF(I56=2,VLOOKUP(W56,女子種目コード!$D$2:$E$30,2,FALSE))))","v":""},null,null,null,null,{"$f":"IF(AB56=\"\",\"\",IF(I56=1,VLOOKUP(AB56,男子種目コード!$A$82:$B$85,2,FALSE),IF(I56=2,VLOOKUP(AB56,女子種目コード!$A$82:$B$85,2,FALSE))))","v":""},null,0,2,null,{"$f":"IF(AG56=\"\",\"\",IF(I56=1,VLOOKUP(AG56,男子種目コード!$A$78:$B$81,2,FALSE),IF(I56=2,VLOOKUP(AG56,女子種目コード!$A$78:$B$81,2,FALSE))))","v":""},null,0,2,0,null,null,null,"","",null,null,"",0,0,0,0,null,null,null,0,0,"","","少年B100m",{"$f":"COUNTIF($P$7:$P$116,66)+COUNTIF($U$7:$U$116,66)","v":0},66]
[0,{"$f":"名簿!Q59","v":""},0,null,{"$f":"名簿!E59","v":0},{"$f":"名簿!BR59","v":""},{"$f":"名簿!Z59","v":""},"",{"$f":"名簿!O59","v":""},{"$f":"名簿!I59","v":0},{"$f":"名簿!K59","v":0},{"$f":"名簿!BU59","v":"00"},{"$f":"名簿!R59","v":""},{"$f":"名簿!D59","v":0},null,"",{"$f":"IF(O57=\"\",\"\",HLOOKUP(O57,名簿!$AB$8:$BI$118,52,FALSE))","v":""},0,2,null,"",{"$f":"IF(T57=\"\",\"\",HLOOKUP(T57,名簿!$AB$8:$BI$118,52,FALSE))","v":""},null,{"$f":"IF(W57=\"\",\"\",IF(I57=1,VLOOKUP(W57,男子種目コード!$D$2:$E$30,2,FALSE),IF(I57=2,VLOOKUP(W57,女子種目コード!$D$2:$E$30,2,FALSE))))","v":""},null,null,null,null,{"$f":"IF(AB57=\"\",\"\",IF(I57=1,VLOOKUP(AB57,男子種目コード!$A$82:$B$85,2,FALSE),IF(I57=2,VLOOKUP(AB57,女子種目コード!$A$82:$B$85,2,FALSE))))","v":""},null,0,2,null,{"$f":"IF(AG57=\"\",\"\",IF(I57=1,VLOOKUP(AG57,男子種目コード!$A$78:$B$81,2,FALSE),IF(I57=2,VLOOKUP(AG57,女子種目コード!$A$78:$B$81,2,FALSE))))","v":""},null,0,2,0,null,null,null,"","",null,null,"",0,0,0,0,null,null,null,0,0,"",""]
[0,{"$f":"名簿!Q60","v":""},0,null,{"$f":"名簿!E60","v":0},{"$f":"名簿!BR60","v":""},{"$f":"名簿!Z60","v":""},"",{"$f":"名簿!O60","v":""},{"$f":"名簿!I60","v":0},{"$f":"名簿!K60","v":0},{"$f":"名簿!BU60","v":"00"},{"$f":"名簿!R60","v":""},{"$f":"名簿!D60","v":0},null,"",{"$f":"IF(O58=\"\",\"\",HLOOKUP(O58,名簿!$AB$8:$BI$118,53,FALSE))","v":""},0,2,null,"",{"$f":"IF(T58=\"\",\"\",HLOOKUP(T58,名簿!$AB$8:$BI$118,53,FALSE))","v":""},null,{"$f":"IF(W58=\"\",\"\",IF(I58=1,VLOOKUP(W58,男子種目コード!$D$2:$E$30,2,FALSE),IF(I58=2,VLOOKUP(W58,女子種目コード!$D$2:$E$30,2,FALSE))))","v":""},null,null,null,null,{"$f":"IF(AB58=\"\",\"\",IF(I58=1,VLOOKUP(AB58,男子種目コード!$A$82:$B$85,2,FALSE),IF(I58=2,VLOOKUP(AB58,女子種目コード!$A$82:$B$85,2,FALSE))))","v":""},null,0,2,null,{"$f":"IF(AG58=\"\",\"\",IF(I58=1,VLOOKUP(AG58,男子種目コード!$A$78:$B$81,2,FALSE),IF(I58=2,VLOOKUP(AG58,女子種目コード!$A$78:$B$81,2,FALSE))))","v":""},null,0,2,0,null,null,null,"","",null,null,"",0,0,0,0,null,null,null,0,0,"","","計",{"$f":"SUM(BG36:BG57)","v":0}]
[0,{"$f":"名簿!Q61","v":""},0,null,{"$f":"名簿!E61","v":0},{"$f":"名簿!BR61","v":""},{"$f":"名簿!Z61","v":""},"",{"$f":"名簿!O61","v":""},{"$f":"名簿!I61","v":0},{"$f":"名簿!K61","v":0},{"$f":"名簿!BU61","v":"00"},{"$f":"名簿!R61","v":""},{"$f":"名簿!D61","v":0},null,"",{"$f":"IF(O59=\"\",\"\",HLOOKUP(O59,名簿!$AB$8:$BI$118,54,FALSE))","v":""},0,2,null,"",{"$f":"IF(T59=\"\",\"\",HLOOKUP(T59,名簿!$AB$8:$BI$118,54,FALSE))","v":""},null,{"$f":"IF(W59=\"\",\"\",IF(I59=1,VLOOKUP(W59,男子種目コード!$D$2:$E$30,2,FALSE),IF(I59=2,VLOOKUP(W59,女子種目コード!$D$2:$E$30,2,FALSE))))","v":""},null,null,null,null,{"$f":"IF(AB59=\"\",\"\",IF(I59=1,VLOOKUP(AB59,男子種目コード!$A$82:$B$85,2,FALSE),IF(I59=2,VLOOKUP(AB59,女子種目コード!$A$82:$B$85,2,FALSE))))","v":""},null,0,2,null,{"$f":"IF(AG59=\"\",\"\",IF(I59=1,VLOOKUP(AG59,男子種目コード!$A$78:$B$81,2,FALSE),IF(I59=2,VLOOKUP(AG59,女子種目コード!$A$78:$B$81,2,FALSE))))","v":""},null,0,2,0,null,null,null,"","",null,null,"",0,0,0,0,null,null,null,0,0,"",""]
[0,{"$f":"名簿!Q62","v":""},0,null,{"$f":"名簿!E62","v":0},{"$f":"名簿!BR62","v":""},{"$f":"名簿!Z62","v":""},"",{"$f":"名簿!O62","v":""},{"$f":"名簿!I62","v":0},{"$f":"名簿!K62","v":0},{"$f":"名簿!BU62","v":"00"},{"$f":"名簿!R62","v":""},{"$f":"名簿!D62","v":0},null,"",{"$f":"IF(O60=\"\",\"\",HLOOKUP(O60,名簿!$AB$8:$BI$118,55,FALSE))","v":""},0,2,null,"",{"$f":"IF(T60=\"\",\"\",HLOOKUP(T60,名簿!$AB$8:$BI$118,55,FALSE))","v":""},null,{"$f":"IF(W60=\"\",\"\",IF(I60=1,VLOOKUP(W60,男子種目コード!$D$2:$E$30,2,FALSE),IF(I60=2,VLOOKUP(W60,女子種目コード!$D$2:$E$30,2,FALSE))))","v":""},null,null,null,null,{"$f":"IF(AB60=\"\",\"\",IF(I60=1,VLOOKUP(AB60,男子種目コード!$A$82:$B$85,2,FALSE),IF(I60=2,VLOOKUP(AB60,女子種目コード!$A$82:$B$85,2,FALSE))))","v":""},null,0,2,null,{"$f":"IF(AG60=\"\",\"\",IF(I60=1,VLOOKUP(AG60,男子種目コード!$A$78:$B$81,2,FALSE),IF(I60=2,VLOOKUP(AG60,女子種目コード!$A$78:$B$81,2,FALSE))))","v":""},null,0,2,0,null,null,null,"","",null,null,"",0,0,0,0,null,null,null,0,0,"",""]
[0,{"$f":"名簿!Q63","v":""},0,null,{"$f":"名簿!E63","v":0},{"$f":"名簿!BR63","v":""},{"$f":"名簿!Z63","v":""},"",{"$f":"名簿!O63","v":""},{"$f":"名簿!I63","v":0},{"$f":"名簿!K63","v":0},{"$f":"名簿!BU63","v":"00"},{"$f":"名簿!R63","v":""},{"$f":"名簿!D63","v":0},null,"",{"$f":"IF(O61=\"\",\"\",HLOOKUP(O61,名簿!$AB$8:$BI$118,56,FALSE))","v":""},0,2,null,"",{"$f":"IF(T61=\"\",\"\",HLOOKUP(T61,名簿!$AB$8:$BI$118,56,FALSE))","v":""},null,{"$f":"IF(W61=\"\",\"\",IF(I61=1,VLOOKUP(W61,男子種目コード!$D$2:$E$30,2,FALSE),IF(I61=2,VLOOKUP(W61,女子種目コード!$D$2:$E$30,2,FALSE))))","v":""},null,null,null,null,{"$f":"IF(AB61=\"\",\"\",IF(I61=1,VLOOKUP(AB61,男子種目コード!$A$82:$B$85,2,FALSE),IF(I61=2,VLOOKUP(AB61,女子種目コード!$A$82:$B$85,2,FALSE))))","v":""},null,0,2,null,{"$f":"IF(AG61=\"\",\"\",IF(I61=1,VLOOKUP(AG61,男子種目コード!$A$78:$B$81,2,FALSE),IF(I61=2,VLOOKUP(AG61,女子種目コード!$A$78:$B$81,2,FALSE))))","v":""},null,0,2,0,null,null,null,"","",null,null,"",0,0,0,0,null,null,null,0,0,"",""]
[0,{"$f":"名簿!Q64","v":""},0,null,{"$f":"名簿!E64","v":0},{"$f":"名簿!BR64","v":""},{"$f":"名簿!Z64","v":""},"",{"$f":"名簿!O64","v":""},{"$f":"名簿!I64","v":0},{"$f":"名簿!K64","v":0},{"$f":"名簿!BU64","v":"00"},{"$f":"名簿!R64","v":""},{"$f":"名簿!D64","v":0},null,"",{"$f":"IF(O62=\"\",\"\",HLOOKUP(O62,名簿!$AB$8:$BI$118,57,FALSE))","v":""},0,2,null,"",{"$f":"IF(T62=\"\",\"\",HLOOKUP(T62,名簿!$AB$8:$BI$118,57,FALSE))","v":""},null,{"$f":"IF(W62=\"\",\"\",IF(I62=1,VLOOKUP(W62,男子種目コード!$D$2:$E$30,2,FALSE),IF(I62=2,VLOOKUP(W62,女子種目コード!$D$2:$E$30,2,FALSE))))","v":""},null,null,null,null,{"$f":"IF(AB62=\"\",\"\",IF(I62=1,VLOOKUP(AB62,男子種目コード!$A$82:$B$85,2,FALSE),IF(I62=2,VLOOKUP(AB62,女子種目コード!$A$82:$B$85,2,FALSE))))","v":""},null,0,2,null,{"$f":"IF(AG62=\"\",\"\",IF(I62=1,VLOOKUP(AG62,男子種目コード!$A$78:$B$81,2,FALSE),IF(I62=2,VLOOKUP(AG62,女子種目コード!$A$78:$B$81,2,FALSE))))","v":""},null,0,2,0,null,null,null,"","",null,null,"",0,0,0,0,null,null,null,0,0,"",""]
[0,{"$f":"名簿!Q65","v":""},0,null,{"$f":"名簿!E65","v":0},{"$f":"名簿!BR65","v":""},{"$f":"名簿!Z65","v":""},"",{"$f":"名簿!O65","v":""},{"$f":"名簿!I65","v":0},{"$f":"名簿!K65","v":0},{"$f":"名簿!BU65","v":"00"},{"$f":"名簿!R65","v":""},{"$f":"名簿!D65","v":0},null,"",{"$f":"IF(O63=\"\",\"\",HLOOKUP(O63,名簿!$AB$8:$BI$118,58,FALSE))","v":""},0,2,null,"",{"$f":"IF(T63=\"\",\"\",HLOOKUP(T63,名簿!$AB$8:$BI$118,58,FALSE))","v":""},null,{"$f":"IF(W63=\"\",\"\",IF(I63=1,VLOOKUP(W63,男子種目コード!$D$2:$E$30,2,FALSE),IF(I63=2,VLOOKUP(W63,女子種目コード!$D$2:$E$30,2,FALSE))))","v":""},null,null,null,null,{"$f":"IF(AB63=\"\",\"\",IF(I63=1,VLOOKUP(AB63,男子種目コード!$A$82:$B$85,2,FALSE),IF(I63=2,VLOOKUP(AB63,女子種目コード!$A$82:$B$85,2,FALSE))))","v":""},null,0,2,null,{"$f":"IF(AG63=\"\",\"\",IF(I63=1,VLOOKUP(AG63,男子種目コード!$A$78:$B$81,2,FALSE),IF(I63=2,VLOOKUP(AG63,女子種目コード!$A$78:$B$81,2,FALSE))))","v":""},null,0,2,0,null,null,null,"","",null,null,"",0,0,0,0,null,null,null,0,0,"",""]
[0,{"$f":"名簿!Q66","v":""},0,null,{"$f":"名簿!E66","v":0},{"$f":"名簿!BR66","v":""},{"$f":"名簿!Z66","v":""},"",{"$f":"名簿!O66","v":""},{"$f":"名簿!I66","v":0},{"$f":"名簿!K66","v":0},{"$f":"名簿!BU66","v":"00"},{"$f":"名簿!R66","v":""},{"$f":"名簿!D66","v":0},null,"",{"$f":"IF(O64=\"\",\"\",HLOOKUP(O64,名簿!$AB$8:$BI$118,59,FALSE))","v":""},0,2,null,"",{"$f":"IF(T64=\"\",\"\",HLOOKUP(T64,名簿!$AB$8:$BI$118,59,FALSE))","v":""},null,{"$f":"IF(W64=\"\",\"\",IF(I64=1,VLOOKUP(W64,男子種目コード!$D$2:$E$30,2,FALSE),IF(I64=2,VLOOKUP(W64,女子種目コード!$D$2:$E$30,2,FALSE))))","v":""},null,null,null,null,{"$f":"IF(AB64=\"\",\"\",IF(I64=1,VLOOKUP(AB64,男子種目コード!$A$82:$B$85,2,FALSE),IF(I64=2,VLOOKUP(AB64,女子種目コード!$A$82:$B$85,2,FALSE))))","v":""},null,0,2,null,{"$f":"IF(AG64=\"\",\"\",IF(I64=1,VLOOKUP(AG64,男子種目コード!$A$78:$B$81,2,FALSE),IF(I64=2,VLOOKUP(AG64,女子種目コード!$A$78:$B$81,2,FALSE))))","v":""},null,0,2,0,null,null,null,"","",null,null,"",0,0,0,0,null,null,null,0,0,"",""]
[0,{"$f":"名簿!Q67","v":""},0,null,{"$f":"名簿!E67","v":0},{"$f":"名簿!BR67","v":""},{"$f":"名簿!Z67","v":""},"",{"$f":"名簿!O67","v":""},{"$f":"名簿!I67","v":0},{"$f":"名簿!K67","v":0},{"$f":"名簿!BU67","v":"00"},{"$f":"名簿!R67","v":""},{"$f":"名簿!D67","v":0},null,"",{"$f":"IF(O65=\"\",\"\",HLOOKUP(O65,名簿!$AB$8:$BI$118,60,FALSE))","v":""},0,2,null,"",{"$f":"IF(T65=\"\",\"\",HLOOKUP(T65,名簿!$AB$8:$BI$118,60,FALSE))","v":""},null,{"$f":"IF(W65=\"\",\"\",IF(I65=1,VLOOKUP(W65,男子種目コード!$D$2:$E$30,2,FALSE),IF(I65=2,VLOOKUP(W65,女子種目コード!$D$2:$E$30,2,FALSE))))","v":""},null,null,null,null,{"$f":"IF(AB65=\"\",\"\",IF(I65=1,VLOOKUP(AB65,男子種目コード!$A$82:$B$85,2,FALSE),IF(I65=2,VLOOKUP(AB65,女子種目コード!$A$82:$B$85,2,FALSE))))","v":""},null,0,2,null,{"$f":"IF(AG65=\"\",\"\",IF(I65=1,VLOOKUP(AG65,男子種目コード!$A$78:$B$81,2,FALSE),IF(I65=2,VLOOKUP(AG65,女子種目コード!$A$78:$B$81,2,FALSE))))","v":""},null,0,2,0,null,null,null,"","",null,null,"",0,0,0,0,null,null,null,0,0,"",""]
[0,{"$f":"名簿!Q68","v":""},0,null,{"$f":"名簿!E68","v":0},{"$f":"名簿!BR68","v":""},{"$f":"名簿!Z68","v":""},"",{"$f":"名簿!O68","v":""},{"$f":"名簿!I68","v":0},{"$f":"名簿!K68","v":0},{"$f":"名簿!BU68","v":"00"},{"$f":"名簿!R68","v":""},{"$f":"名簿!D68","v":0},null,"",{"$f":"IF(O66=\"\",\"\",HLOOKUP(O66,名簿!$AB$8:$BI$118,61,FALSE))","v":""},0,2,null,"",{"$f":"IF(T66=\"\",\"\",HLOOKUP(T66,名簿!$AB$8:$BI$118,61,FALSE))","v":""},null,{"$f":"IF(W66=\"\",\"\",IF(I66=1,VLOOKUP(W66,男子種目コード!$D$2:$E$30,2,FALSE),IF(I66=2,VLOOKUP(W66,女子種目コード!$D$2:$E$30,2,FALSE))))","v":""},null,null,null,null,{"$f":"IF(AB66=\"\",\"\",IF(I66=1,VLOOKUP(AB66,男子種目コード!$A$82:$B$85,2,FALSE),IF(I66=2,VLOOKUP(AB66,女子種目コード!$A$82:$B$85,2,FALSE))))","v":""},null,0,2,null,{"$f":"IF(AG66=\"\",\"\",IF(I66=1,VLOOKUP(AG66,男子種目コード!$A$78:$B$81,2,FALSE),IF(I66=2,VLOOKUP(AG66,女子種目コード!$A$78:$B$81,2,FALSE))))","v":""},null,0,2,0,null,null,null,"","",null,null,"",0,0,0,0,null,null,null,0,0,"",""]
[0,{"$f":"名簿!Q69","v":""},0,null,{"$f":"名簿!E69","v":0},{"$f":"名簿!BR69","v":""},{"$f":"名簿!Z69","v":""},"",{"$f":"名簿!O69","v":""},{"$f":"名簿!I69","v":0},{"$f":"名簿!K69","v":0},{"$f":"名簿!BU69","v":"00"},{"$f":"名簿!R69","v":""},{"$f":"名簿!D69","v":0},null,"",{"$f":"IF(O67=\"\",\"\",HLOOKUP(O67,名簿!$AB$8:$BI$118,62,FALSE))","v":""},0,2,null,"",{"$f":"IF(T67=\"\",\"\",HLOOKUP(T67,名簿!$AB$8:$BI$118,62,FALSE))","v":""},null,{"$f":"IF(W67=\"\",\"\",IF(I67=1,VLOOKUP(W67,男子種目コード!$D$2:$E$30,2,FALSE),IF(I67=2,VLOOKUP(W67,女子種目コード!$D$2:$E$30,2,FALSE))))","v":""},null,null,null,null,{"$f":"IF(AB67=\"\",\"\",IF(I67=1,VLOOKUP(AB67,男子種目コード!$A$82:$B$85,2,FALSE),IF(I67=2,VLOOKUP(AB67,女子種目コード!$A$82:$B$85,2,FALSE))))","v":""},null,0,2,null,{"$f":"IF(AG67=\"\",\"\",IF(I67=1,VLOOKUP(AG67,男子種目コード!$A$78:$B$81,2,FALSE),IF(I67=2,VLOOKUP(AG67,女子種目コード!$A$78:$B$81,2,FALSE))))","v":""},null,0,2,0,null,null,null,"","",null,null,"",0,0,0,0,null,null,null,0,0,"",""]
[0,{"$f":"名簿!Q70","v":""},0,null,{"$f":"名簿!E70","v":0},{"$f":"名簿!BR70","v":""},{"$f":"名簿!Z70","v":""},"",{"$f":"名簿!O70","v":""},{"$f":"名簿!I70","v":0},{"$f":"名簿!K70","v":0},{"$f":"名簿!BU70","v":"00"},{"$f":"名簿!R70","v":""},{"$f":"名簿!D70","v":0},null,"",{"$f":"IF(O68=\"\",\"\",HLOOKUP(O68,名簿!$AB$8:$BI$118,63,FALSE))","v":""},0,2,null,"",{"$f":"IF(T68=\"\",\"\",HLOOKUP(T68,名簿!$AB$8:$BI$118,63,FALSE))","v":""},null,{"$f":"IF(W68=\"\",\"\",IF(I68=1,VLOOKUP(W68,男子種目コード!$D$2:$E$30,2,FALSE),IF(I68=2,VLOOKUP(W68,女子種目コード!$D$2:$E$30,2,FALSE))))","v":""},null,null,null,null,{"$f":"IF(AB68=\"\",\"\",IF(I68=1,VLOOKUP(AB68,男子種目コード!$A$82:$B$85,2,FALSE),IF(I68=2,VLOOKUP(AB68,女子種目コード!$A$82:$B$85,2,FALSE))))","v":""},null,0,2,null,{"$f":"IF(AG68=\"\",\"\",IF(I68=1,VLOOKUP(AG68,男子種目コード!$A$78:$B$81,2,FALSE),IF(I68=2,VLOOKUP(AG68,女子種目コード!$A$78:$B$81,2,FALSE))))","v":""},null,0,2,0,null,null,null,"","",null,null,"",0,0,0,0,null,null,null,0,0,"",""]
[0,{"$f":"名簿!Q71","v":""},0,null,{"$f":"名簿!E71","v":0},{"$f":"名簿!BR71","v":""},{"$f":"名簿!Z71","v":""},"",{"$f":"名簿!O71","v":""},{"$f":"名簿!I71","v":0},{"$f":"名簿!K71","v":0},{"$f":"名簿!BU71","v":"00"},{"$f":"名簿!R71","v":""},{"$f":"名簿!D71","v":0},null,"",{"$f":"IF(O69=\"\",\"\",HLOOKUP(O69,名簿!$AB$8:$BI$118,64,FALSE))","v":""},0,2,null,"",{"$f":"IF(T69=\"\",\"\",HLOOKUP(T69,名簿!$AB$8:$BI$118,64,FALSE))","v":""},null,{"$f":"IF(W69=\"\",\"\",IF(I69=1,VLOOKUP(W69,男子種目コード!$D$2:$E$30,2,FALSE),IF(I69=2,VLOOKUP(W69,女子種目コード!$D$2:$E$30,2,FALSE))))","v":""},null,null,null,null,{"$f":"IF(AB69=\"\",\"\",IF(I69=1,VLOOKUP(AB69,男子種目コード!$A$82:$B$85,2,FALSE),IF(I69=2,VLOOKUP(AB69,女子種目コード!$A$82:$B$85,2,FALSE))))","v":""},null,0,2,null,{"$f":"IF(AG69=\"\",\"\",IF(I69=1,VLOOKUP(AG69,男子種目コード!$A$78:$B$81,2,FALSE),IF(I69=2,VLOOKUP(AG69,女子種目コード!$A$78:$B$81,2,FALSE))))","v":""},null,0,2,0,null,null,null,"","",null,null,"",0,0,0,0,null,null,null,0,0,"",""]
[0,{"$f":"名簿!Q72","v":""},0,null,{"$f":"名簿!E72","v":0},{"$f":"名簿!BR72","v":""},{"$f":"名簿!Z72","v":""},"",{"$f":"名簿!O72","v":""},{"$f":"名簿!I72","v":0},{"$f":"名簿!K72","v":0},{"$f":"名簿!BU72","v":"00"},{"$f":"名簿!R72","v":""},{"$f":"名簿!D72","v":0},null,"",{"$f":"IF(O70=\"\",\"\",HLOOKUP(O70,名簿!$AB$8:$BI$118,65,FALSE))","v":""},0,2,null,"",{"$f":"IF(T70=\"\",\"\",HLOOKUP(T70,名簿!$AB$8:$BI$118,65,FALSE))","v":""},null,{"$f":"IF(W70=\"\",\"\",IF(I70=1,VLOOKUP(W70,男子種目コード!$D$2:$E$30,2,FALSE),IF(I70=2,VLOOKUP(W70,女子種目コード!$D$2:$E$30,2,FALSE))))","v":""},null,null,null,null,{"$f":"IF(AB70=\"\",\"\",IF(I70=1,VLOOKUP(AB70,男子種目コード!$A$82:$B$85,2,FALSE),IF(I70=2,VLOOKUP(AB70,女子種目コード!$A$82:$B$85,2,FALSE))))","v":""},null,0,2,null,{"$f":"IF(AG70=\"\",\"\",IF(I70=1,VLOOKUP(AG70,男子種目コード!$A$78:$B$81,2,FALSE),IF(I70=2,VLOOKUP(AG70,女子種目コード!$A$78:$B$81,2,FALSE))))","v":""},null,0,2,0,null,null,null,"","",null,null,"",0,0,0,0,null,null,null,0,0,"",""]
[0,{"$f":"名簿!Q73","v":""},0,null,{"$f":"名簿!E73","v":0},{"$f":"名簿!BR73","v":""},{"$f":"名簿!Z73","v":""},{"$f":"F71","v":""},{"$f":"名簿!O73","v":""},{"$f":"名簿!I73","v":0},{"$f":"名簿!K73","v":0},{"$f":"名簿!BU73","v":"00"},{"$f":"名簿!R73","v":""},{"$f":"名簿!D73","v":0},null,"",{"$f":"IF(O71=\"\",\"\",HLOOKUP(O71,名簿!$AB$8:$BI$118,66,FALSE))","v":""},0,2,null,"",{"$f":"IF(T71=\"\",\"\",HLOOKUP(T71,名簿!$AB$8:$BI$118,66,FALSE))","v":""},null,{"$f":"IF(W71=\"\",\"\",IF(I71=1,VLOOKUP(W71,男子種目コード!$D$2:$E$30,2,FALSE),IF(I71=2,VLOOKUP(W71,女子種目コード!$D$2:$E$30,2,FALSE))))","v":""},null,null,null,null,{"$f":"IF(AB71=\"\",\"\",IF(I71=1,VLOOKUP(AB71,男子種目コード!$A$82:$B$85,2,FALSE),IF(I71=2,VLOOKUP(AB71,女子種目コード!$A$82:$B$85,2,FALSE))))","v":""},null,0,2,null,{"$f":"IF(AG71=\"\",\"\",IF(I71=1,VLOOKUP(AG71,男子種目コード!$A$78:$B$81,2,FALSE),IF(I71=2,VLOOKUP(AG71,女子種目コード!$A$78:$B$81,2,FALSE))))","v":""},null,0,2,0,null,null,null,"","",null,null,"",{"$f":"IF(OR(AT71=1,T71=\"\"),0,1)","v":0},{"$f":"IF(OR(AT71=1,AU71=1,AB71=\"\"),0,1)","v":0},{"$f":"IF(OR(AT71=1,AU71=1,AV71=1,AG71=\"\"),0,1)","v":0},0,null,null,null,0,0,"",""]
[{"$f":"AB72","v":0},{"$f":"名簿!Q74","v":""},{"$f":"AG72","v":0},null,{"$f":"名簿!E74","v":0},{"$f":"名簿!BR74","v":""},{"$f":"名簿!Z74","v":""},"",{"$f":"名簿!O74","v":""},{"$f":"名簿!I74","v":0},{"$f":"名簿!K74","v":0},{"$f":"名簿!BU74","v":"00"},{"$f":"名簿!R74","v":""},{"$f":"名簿!D74","v":0},null,{"$f":"IF(O72=\"\",\"\",IF($I72=1,VLOOKUP(O72,$BF$8:$BH$33,3,FALSE),IF($I72=2,VLOOKUP(O72,$BF$35:$BH$57,3,FALSE))))","v":""},{"$f":"IF(O72=\"\",\"\",HLOOKUP(O72,名簿!$AB$8:$BI$118,67,FALSE))","v":""},0,2,null,{"$f":"IF(T72=\"\",\"\",IF($I72=1,VLOOKUP(T72,$BF$8:$BH$33,3,FALSE),IF($I72=2,VLOOKUP(T72,$BF$35:$BH$57,3,FALSE))))","v":""},{"$f":"IF(T72=\"\",\"\",HLOOKUP(T72,名簿!$AB$8:$BI$118,67,FALSE))","v":""},null,{"$f":"IF(W72=\"\",\"\",IF(I72=1,VLOOKUP(W72,男子種目コード!$D$2:$E$30,2,FALSE),IF(I72=2,VLOOKUP(W72,女子種目コード!$D$2:$E$30,2,FALSE))))","v":""},null,null,null,null,{"$f":"IF(AB72=\"\",\"\",IF(I72=1,VLOOKUP(AB72,男子種目コード!$A$82:$B$85,2,FALSE),IF(I72=2,VLOOKUP(AB72,女子種目コード!$A$82:$B$85,2,FALSE))))","v":""},null,0,2,null,{"$f":"IF(AG72=\"\",\"\",IF(I72=1,VLOOKUP(AG72,男子種目コード!$A$78:$B$81,2,FALSE),IF(I72=2,VLOOKUP(AG72,女子種目コード!$A$78:$B$81,2,FALSE))))","v":""},null,0,2,0,null,null,null,{"$f":"IF(O72=\"\",\"\",1)","v":""},{"$f":"IF(T72=\"\",\"\",1)","v":""},null,null,{"$f":"IF(O72=\"\",\"\",1)","v":""},0,0,0,{"$f":"SUM(AT72:AW72)","v":0},null,null,null,{"$f":"COUNT(P72,U72)","v":0},{"$f":"COUNT(P72,U72,AC72,AH72)","v":0},{"$f":"IF(I72=1,BC72,\"\")","v":""},{"$f":"IF(I72=2,BC72,\"\")","v":""}]
[0,{"$f":"名簿!Q75","v":""},0,null,{"$f":"名簿!E75","v":0},{"$f":"名簿!BR75","v":""},{"$f":"名簿!Z75","v":""},"",{"$f":"名簿!O75","v":""},{"$f":"名簿!I75","v":0},{"$f":"名簿!K75","v":0},{"$f":"名簿!BU75","v":"00"},{"$f":"名簿!R75","v":""},{"$f":"名簿!D75","v":0},null,"",{"$f":"IF(O73=\"\",\"\",HLOOKUP(O73,名簿!$AB$8:$BI$118,68,FALSE))","v":""},0,2,null,"",{"$f":"IF(T73=\"\",\"\",HLOOKUP(T73,名簿!$AB$8:$BI$118,68,FALSE))","v":""},null,{"$f":"IF(W73=\"\",\"\",IF(I73=1,VLOOKUP(W73,男子種目コード!$D$2:$E$30,2,FALSE),IF(I73=2,VLOOKUP(W73,女子種目コード!$D$2:$E$30,2,FALSE))))","v":""},null,null,null,null,{"$f":"IF(AB73=\"\",\"\",IF(I73=1,VLOOKUP(AB73,男子種目コード!$A$82:$B$85,2,FALSE),IF(I73=2,VLOOKUP(AB73,女子種目コード!$A$82:$B$85,2,FALSE))))","v":""},null,0,2,null,{"$f":"IF(AG73=\"\",\"\",IF(I73=1,VLOOKUP(AG73,男子種目コード!$A$78:$B$81,2,FALSE),IF(I73=2,VLOOKUP(AG73,女子種目コード!$A$78:$B$81,2,FALSE))))","v":""},null,0,2,0,null,null,null,"","",null,null,"",0,0,0,0,null,null,null,0,0,"",""]
[0,{"$f":"名簿!Q76","v":""},0,null,{"$f":"名簿!E76","v":0},{"$f":"名簿!BR76","v":""},{"$f":"名簿!Z76","v":""},"",{"$f":"名簿!O76","v":""},{"$f":"名簿!I76","v":0},{"$f":"名簿!K76","v":0},{"$f":"名簿!BU76","v":"00"},{"$f":"名簿!R76","v":""},{"$f":"名簿!D76","v":0},null,"",{"$f":"IF(O74=\"\",\"\",HLOOKUP(O74,名簿!$AB$8:$BI$118,69,FALSE))","v":""},0,2,null,"",{"$f":"IF(T74=\"\",\"\",HLOOKUP(T74,名簿!$AB$8:$BI$118,69,FALSE))","v":""},null,{"$f":"IF(W74=\"\",\"\",IF(I74=1,VLOOKUP(W74,男子種目コード!$D$2:$E$30,2,FALSE),IF(I74=2,VLOOKUP(W74,女子種目コード!$D$2:$E$30,2,FALSE))))","v":""},null,null,null,null,{"$f":"IF(AB74=\"\",\"\",IF(I74=1,VLOOKUP(AB74,男子種目コード!$A$82:$B$85,2,FALSE),IF(I74=2,VLOOKUP(AB74,女子種目コード!$A$82:$B$85,2,FALSE))))","v":""},null,0,2,null,{"$f":"IF(AG74=\"\",\"\",IF(I74=1,VLOOKUP(AG74,男子種目コード!$A$78:$B$81,2,FALSE),IF(I74=2,VLOOKUP(AG74,女子種目コード!$A$78:$B$81,2,FALSE))))","v":""},null,0,2,0,null,null,null,"","",null,null,"",0,0,0,0,null,null,null,0,0,"",""]
[0,{"$f":"名簿!Q77","v":""},0,null,{"$f":"名簿!E77","v":0},{"$f":"名簿!BR77","v":""},{"$f":"名簿!Z77","v":""},"",{"$f":"名簿!O77","v":""},{"$f":"名簿!I77","v":0},{"$f":"名簿!K77","v":0},{"$f":"名簿!BU77","v":"00"},{"$f":"名簿!R77","v":""},{"$f":"名簿!D77","v":0},null,"",{"$f":"IF(O75=\"\",\"\",HLOOKUP(O75,名簿!$AB$8:$BI$118,70,FALSE))","v":""},0,2,null,"",{"$f":"IF(T75=\"\",\"\",HLOOKUP(T75,名簿!$AB$8:$BI$118,70,FALSE))","v":""},null,{"$f":"IF(W75=\"\",\"\",IF(I75=1,VLOOKUP(W75,男子種目コード!$D$2:$E$30,2,FALSE),IF(I75=2,VLOOKUP(W75,女子種目コード!$D$2:$E$30,2,FALSE))))","v":""},null,null,null,null,{"$f":"IF(AB75=\"\",\"\",IF(I75=1,VLOOKUP(AB75,男子種目コード!$A$82:$B$85,2,FALSE),IF(I75=2,VLOOKUP(AB75,女子種目コード!$A$82:$B$85,2,FALSE))))","v":""},null,0,2,null,{"$f":"IF(AG75=\"\",\"\",IF(I75=1,VLOOKUP(AG75,男子種目コード!$A$78:$B$81,2,FALSE),IF(I75=2,VLOOKUP(AG75,女子種目コード!$A$78:$B$81,2,FALSE))))","v":""},null,0,2,0,null,null,null,"","",null,null,"",0,0,0,0,null,null,null,0,0,"",""]
[0,{"$f":"名簿!Q78","v":""},0,null,{"$f":"名簿!E78","v":0},{"$f":"名簿!BR78","v":""},{"$f":"名簿!Z78","v":""},"",{"$f":"名簿!O78","v":""},{"$f":"名簿!I78","v":0},{"$f":"名簿!K78","v":0},{"$f":"名簿!BU78","v":"00"},{"$f":"名簿!R78","v":""},{"$f":"名簿!D78","v":0},null,"",{"$f":"IF(O76=\"\",\"\",HLOOKUP(O76,名簿!$AB$8:$BI$118,71,FALSE))","v":""},0,2,null,"",{"$f":"IF(T76=\"\",\"\",HLOOKUP(T76,名簿!$AB$8:$BI$118,71,FALSE))","v":""},null,{"$f":"IF(W76=\"\",\"\",IF(I76=1,VLOOKUP(W76,男子種目コード!$D$2:$E$30,2,FALSE),IF(I76=2,VLOOKUP(W76,女子種目コード!$D$2:$E$30,2,FALSE))))","v":""},null,null,null,null,{"$f":"IF(AB76=\"\",\"\",IF(I76=1,VLOOKUP(AB76,男子種目コード!$A$82:$B$85,2,FALSE),IF(I76=2,VLOOKUP(AB76,女子種目コード!$A$82:$B$85,2,FALSE))))","v":""},null,0,2,null,{"$f":"IF(AG76=\"\",\"\",IF(I76=1,VLOOKUP(AG76,男子種目コード!$A$78:$B$81,2,FALSE),IF(I76=2,VLOOKUP(AG76,女子種目コード!$A$78:$B$81,2,FALSE))))","v":""},null,0,2,0,null,null,null,"","",null,null,"",0,0,0,0,null,null,null,0,0,"",""]
[0,{"$f":"名簿!Q79","v":""},0,null,{"$f":"名簿!E79","v":0},{"$f":"名簿!BR79","v":""},{"$f":"名簿!Z79","v":""},"",{"$f":"名簿!O79","v":""},{"$f":"名簿!I79","v":0},{"$f":"名簿!K79","v":0},{"$f":"名簿!BU79","v":"00"},{"$f":"名簿!R79","v":""},{"$f":"名簿!D79","v":0},null,"",{"$f":"IF(O77=\"\",\"\",HLOOKUP(O77,名簿!$AB$8:$BI$118,72,FALSE))","v":""},0,2,null,"",{"$f":"IF(T77=\"\",\"\",HLOOKUP(T77,名簿!$AB$8:$BI$118,72,FALSE))","v":""},null,{"$f":"IF(W77=\"\",\"\",IF(I77=1,VLOOKUP(W77,男子種目コード!$D$2:$E$30,2,FALSE),IF(I77=2,VLOOKUP(W77,女子種目コード!$D$2:$E$30,2,FALSE))))","v":""},null,null,null,null,{"$f":"IF(AB77=\"\",\"\",IF(I77=1,VLOOKUP(AB77,男子種目コード!$A$82:$B$85,2,FALSE),IF(I77=2,VLOOKUP(AB77,女子種目コード!$A$82:$B$85,2,FALSE))))","v":""},null,0,2,null,{"$f":"IF(AG77=\"\",\"\",IF(I77=1,VLOOKUP(AG77,男子種目コード!$A$78:$B$81,2,FALSE),IF(I77=2,VLOOKUP(AG77,女子種目コード!$A$78:$B$81,2,FALSE))))","v":""},null,0,2,0,null,null,null,"","",null,null,"",0,0,0,0,null,null,null,0,0,"",""]
[0,{"$f":"名簿!Q80","v":""},0,null,{"$f":"名簿!E80","v":0},{"$f":"名簿!BR80","v":""},{"$f":"名簿!Z80","v":""},"",{"$f":"名簿!O80","v":""},{"$f":"名簿!I80","v":0},{"$f":"名簿!K80","v":0},{"$f":"名簿!BU80","v":"00"},{"$f":"名簿!R80","v":""},{"$f":"名簿!D80","v":0},null,"",{"$f":"IF(O78=\"\",\"\",HLOOKUP(O78,名簿!$AB$8:$BI$118,73,FALSE))","v":""},0,2,null,"",{"$f":"IF(T78=\"\",\"\",HLOOKUP(T78,名簿!$AB$8:$BI$118,73,FALSE))","v":""},null,{"$f":"IF(W78=\"\",\"\",IF(I78=1,VLOOKUP(W78,男子種目コード!$D$2:$E$30,2,FALSE),IF(I78=2,VLOOKUP(W78,女子種目コード!$D$2:$E$30,2,FALSE))))","v":""},null,null,null,null,{"$f":"IF(AB78=\"\",\"\",IF(I78=1,VLOOKUP(AB78,男子種目コード!$A$82:$B$85,2,FALSE),IF(I78=2,VLOOKUP(AB78,女子種目コード!$A$82:$B$85,2,FALSE))))","v":""},null,0,2,null,{"$f":"IF(AG78=\"\",\"\",IF(I78=1,VLOOKUP(AG78,男子種目コード!$A$78:$B$81,2,FALSE),IF(I78=2,VLOOKUP(AG78,女子種目コード!$A$78:$B$81,2,FALSE))))","v":""},null,0,2,0,null,null,null,"","",null,null,"",0,0,0,0,null,null,null,0,0,"",""]
[0,{"$f":"名簿!Q81","v":""},0,null,{"$f":"名簿!E81","v":0},{"$f":"名簿!BR81","v":""},{"$f":"名簿!Z81","v":""},"",{"$f":"名簿!O81","v":""},{"$f":"名簿!I81","v":0},{"$f":"名簿!K81","v":0},{"$f":"名簿!BU81","v":"00"},{"$f":"名簿!R81","v":""},{"$f":"名簿!D81","v":0},null,"",{"$f":"IF(O79=\"\",\"\",HLOOKUP(O79,名簿!$AB$8:$BI$118,74,FALSE))","v":""},0,2,null,"",{"$f":"IF(T79=\"\",\"\",HLOOKUP(T79,名簿!$AB$8:$BI$118,74,FALSE))","v":""},null,{"$f":"IF(W79=\"\",\"\",IF(I79=1,VLOOKUP(W79,男子種目コード!$D$2:$E$30,2,FALSE),IF(I79=2,VLOOKUP(W79,女子種目コード!$D$2:$E$30,2,FALSE))))","v":""},null,null,null,null,{"$f":"IF(AB79=\"\",\"\",IF(I79=1,VLOOKUP(AB79,男子種目コード!$A$82:$B$85,2,FALSE),IF(I79=2,VLOOKUP(AB79,女子種目コード!$A$82:$B$85,2,FALSE))))","v":""},null,0,2,null,{"$f":"IF(AG79=\"\",\"\",IF(I79=1,VLOOKUP(AG79,男子種目コード!$A$78:$B$81,2,FALSE),IF(I79=2,VLOOKUP(AG79,女子種目コード!$A$78:$B$81,2,FALSE))))","v":""},null,0,2,0,null,null,null,"","",null,null,"",0,0,0,0,null,null,null,0,0,"",""]
[0,{"$f":"名簿!Q82","v":""},0,null,{"$f":"名簿!E82","v":0},{"$f":"名簿!BR82","v":""},{"$f":"名簿!Z82","v":""},"",{"$f":"名簿!O82","v":""},{"$f":"名簿!I82","v":0},{"$f":"名簿!K82","v":0},{"$f":"名簿!BU82","v":"00"},{"$f":"名簿!R82","v":""},{"$f":"名簿!D82","v":0},null,"",{"$f":"IF(O80=\"\",\"\",HLOOKUP(O80,名簿!$AB$8:$BI$118,75,FALSE))","v":""},0,2,null,"",{"$f":"IF(T80=\"\",\"\",HLOOKUP(T80,名簿!$AB$8:$BI$118,75,FALSE))","v":""},null,{"$f":"IF(W80=\"\",\"\",IF(I80=1,VLOOKUP(W80,男子種目コード!$D$2:$E$30,2,FALSE),IF(I80=2,VLOOKUP(W80,女子種目コード!$D$2:$E$30,2,FALSE))))","v":""},null,null,null,null,{"$f":"IF(AB80=\"\",\"\",IF(I80=1,VLOOKUP(AB80,男子種目コード!$A$82:$B$85,2,FALSE),IF(I80=2,VLOOKUP(AB80,女子種目コード!$A$82:$B$85,2,FALSE))))","v":""},null,0,2,null,{"$f":"IF(AG80=\"\",\"\",IF(I80=1,VLOOKUP(AG80,男子種目コード!$A$78:$B$81,2,FALSE),IF(I80=2,VLOOKUP(AG80,女子種目コード!$A$78:$B$81,2,FALSE))))","v":""},null,0,2,0,null,null,null,"","",null,null,"",0,0,0,0,null,null,null,0,0,"",""]
[0,{"$f":"名簿!Q83","v":""},0,null,{"$f":"名簿!E83","v":0},{"$f":"名簿!BR83","v":""},{"$f":"名簿!Z83","v":""},"",{"$f":"名簿!O83","v":""},{"$f":"名簿!I83","v":0},{"$f":"名簿!K83","v":0},{"$f":"名簿!BU83","v":"00"},{"$f":"名簿!R83","v":""},{"$f":"名簿!D83","v":0},null,"",{"$f":"IF(O81=\"\",\"\",HLOOKUP(O81,名簿!$AB$8:$BI$118,76,FALSE))","v":""},0,2,null,"",{"$f":"IF(T81=\"\",\"\",HLOOKUP(T81,名簿!$AB$8:$BI$118,76,FALSE))","v":""},null,{"$f":"IF(W81=\"\",\"\",IF(I81=1,VLOOKUP(W81,男子種目コード!$D$2:$E$30,2,FALSE),IF(I81=2,VLOOKUP(W81,女子種目コード!$D$2:$E$30,2,FALSE))))","v":""},null,null,null,null,{"$f":"IF(AB81=\"\",\"\",IF(I81=1,VLOOKUP(AB81,男子種目コード!$A$82:$B$85,2,FALSE),IF(I81=2,VLOOKUP(AB81,女子種目コード!$A$82:$B$85,2,FALSE))))","v":""},null,0,2,null,{"$f":"IF(AG81=\"\",\"\",IF(I81=1,VLOOKUP(AG81,男子種目コード!$A$78:$B$81,2,FALSE),IF(I81=2,VLOOKUP(AG81,女子種目コード!$A$78:$B$81,2,FALSE))))","v":""},null,0,2,0,null,null,null,"","",null,null,"",0,0,0,0,null,null,null,0,0,"",""]
[0,{"$f":"名簿!Q84","v":""},0,null,{"$f":"名簿!E84","v":0},{"$f":"名簿!BR84","v":""},{"$f":"名簿!Z84","v":""},"",{"$f":"名簿!O84","v":""},{"$f":"名簿!I84","v":0},{"$f":"名簿!K84","v":0},{"$f":"名簿!BU84","v":"00"},{"$f":"名簿!R84","v":""},{"$f":"名簿!D84","v":0},null,"",{"$f":"IF(O82=\"\",\"\",HLOOKUP(O82,名簿!$AB$8:$BI$118,77,FALSE))","v":""},0,2,null,"",{"$f":"IF(T82=\"\",\"\",HLOOKUP(T82,名簿!$AB$8:$BI$118,77,FALSE))","v":""},null,{"$f":"IF(W82=\"\",\"\",IF(I82=1,VLOOKUP(W82,男子種目コード!$D$2:$E$30,2,FALSE),IF(I82=2,VLOOKUP(W82,女子種目コード!$D$2:$E$30,2,FALSE))))","v":""},null,null,null,null,{"$f":"IF(AB82=\"\",\"\",IF(I82=1,VLOOKUP(AB82,男子種目コード!$A$82:$B$85,2,FALSE),IF(I82=2,VLOOKUP(AB82,女子種目コード!$A$82:$B$85,2,FALSE))))","v":""},null,0,2,null,{"$f":"IF(AG82=\"\",\"\",IF(I82=1,VLOOKUP(AG82,男子種目コード!$A$78:$B$81,2,FALSE),IF(I82=2,VLOOKUP(AG82,女子種目コード!$A$78:$B$81,2,FALSE))))","v":""},null,0,2,0,null,null,null,"","",null,null,"",0,0,0,0,null,null,null,0,0,"",""]
[0,{"$f":"名簿!Q85","v":""},0,null,{"$f":"名簿!E85","v":0},{"$f":"名簿!BR85","v":""},{"$f":"名簿!Z85","v":""},"",{"$f":"名簿!O85","v":""},{"$f":"名簿!I85","v":0},{"$f":"名簿!K85","v":0},{"$f":"名簿!BU85","v":"00"},{"$f":"名簿!R85","v":""},{"$f":"名簿!D85","v":0},null,"",{"$f":"IF(O83=\"\",\"\",HLOOKUP(O83,名簿!$AB$8:$BI$118,78,FALSE))","v":""},0,2,null,"",{"$f":"IF(T83=\"\",\"\",HLOOKUP(T83,名簿!$AB$8:$BI$118,78,FALSE))","v":""},null,{"$f":"IF(W83=\"\",\"\",IF(I83=1,VLOOKUP(W83,男子種目コード!$D$2:$E$30,2,FALSE),IF(I83=2,VLOOKUP(W83,女子種目コード!$D$2:$E$30,2,FALSE))))","v":""},null,null,null,null,{"$f":"IF(AB83=\"\",\"\",IF(I83=1,VLOOKUP(AB83,男子種目コード!$A$82:$B$85,2,FALSE),IF(I83=2,VLOOKUP(AB83,女子種目コード!$A$82:$B$85,2,FALSE))))","v":""},null,0,2,null,{"$f":"IF(AG83=\"\",\"\",IF(I83=1,VLOOKUP(AG83,男子種目コード!$A$78:$B$81,2,FALSE),IF(I83=2,VLOOKUP(AG83,女子種目コード!$A$78:$B$81,2,FALSE))))","v":""},null,0,2,0,null,null,null,"","",null,null,"",0,0,0,0,null,null,null,0,0,"",""]
[0,{"$f":"名簿!Q86","v":""},0,null,{"$f":"名簿!E86","v":0},{"$f":"名簿!BR86","v":""},{"$f":"名簿!Z86","v":""},"",{"$f":"名簿!O86","v":""},{"$f":"名簿!I86","v":0},{"$f":"名簿!K86","v":0},{"$f":"名簿!BU86","v":"00"},{"$f":"名簿!R86","v":""},{"$f":"名簿!D86","v":0},null,"",{"$f":"IF(O84=\"\",\"\",HLOOKUP(O84,名簿!$AB$8:$BI$118,79,FALSE))","v":""},0,2,null,"",{"$f":"IF(T84=\"\",\"\",HLOOKUP(T84,名簿!$AB$8:$BI$118,79,FALSE))","v":""},null,{"$f":"IF(W84=\"\",\"\",IF(I84=1,VLOOKUP(W84,男子種目コード!$D$2:$E$30,2,FALSE),IF(I84=2,VLOOKUP(W84,女子種目コード!$D$2:$E$30,2,FALSE))))","v":""},null,null,null,null,{"$f":"IF(AB84=\"\",\"\",IF(I84=1,VLOOKUP(AB84,男子種目コード!$A$82:$B$85,2,FALSE),IF(I84=2,VLOOKUP(AB84,女子種目コード!$A$82:$B$85,2,FALSE))))","v":""},null,0,2,null,{"$f":"IF(AG84=\"\",\"\",IF(I84=1,VLOOKUP(AG84,男子種目コード!$A$78:$B$81,2,FALSE),IF(I84=2,VLOOKUP(AG84,女子種目コード!$A$78:$B$81,2,FALSE))))","v":""},null,0,2,0,null,null,null,"","",null,null,"",0,0,0,0,null,null,null,0,0,"",""]
[0,{"$f":"名簿!Q87","v":""},0,null,{"$f":"名簿!E87","v":0},{"$f":"名簿!BR87","v":""},{"$f":"名簿!Z87","v":""},"",{"$f":"名簿!O87","v":""},{"$f":"名簿!I87","v":0},{"$f":"名簿!K87","v":0},{"$f":"名簿!BU87","v":"00"},{"$f":"名簿!R87","v":""},{"$f":"名簿!D87","v":0},null,"",{"$f":"IF(O85=\"\",\"\",HLOOKUP(O85,名簿!$AB$8:$BI$118,80,FALSE))","v":""},0,2,null,"",{"$f":"IF(T85=\"\",\"\",HLOOKUP(T85,名簿!$AB$8:$BI$118,80,FALSE))","v":""},null,{"$f":"IF(W85=\"\",\"\",IF(I85=1,VLOOKUP(W85,男子種目コード!$D$2:$E$30,2,FALSE),IF(I85=2,VLOOKUP(W85,女子種目コード!$D$2:$E$30,2,FALSE))))","v":""},null,null,null,null,{"$f":"IF(AB85=\"\",\"\",IF(I85=1,VLOOKUP(AB85,男子種目コード!$A$82:$B$85,2,FALSE),IF(I85=2,VLOOKUP(AB85,女子種目コード!$A$82:$B$85,2,FALSE))))","v":""},null,0,2,null,{"$f":"IF(AG85=\"\",\"\",IF(I85=1,VLOOKUP(AG85,男子種目コード!$A$78:$B$81,2,FALSE),IF(I85=2,VLOOKUP(AG85,女子種目コード!$A$78:$B$81,2,FALSE))))","v":""},null,0,2,0,null,null,null,"","",null,null,"",0,0,0,0,null,null,null,0,0,"",""]
[0,{"$f":"名簿!Q88","v":""},0,null,{"$f":"名簿!E88","v":0},{"$f":"名簿!BR88","v":""},{"$f":"名簿!Z88","v":""},"",{"$f":"名簿!O88","v":""},{"$f":"名簿!I88","v":0},{"$f":"名簿!K88","v":0},{"$f":"名簿!BU88","v":"00"},{"$f":"名簿!R88","v":""},{"$f":"名簿!D88","v":0},null,"",{"$f":"IF(O86=\"\",\"\",HLOOKUP(O86,名簿!$AB$8:$BI$118,81,FALSE))","v":""},0,2,null,"",{"$f":"IF(T86=\"\",\"\",HLOOKUP(T86,名簿!$AB$8:$BI$118,81,FALSE))","v":""},null,{"$f":"IF(W86=\"\",\"\",IF(I86=1,VLOOKUP(W86,男子種目コード!$D$2:$E$30,2,FALSE),IF(I86=2,VLOOKUP(W86,女子種目コード!$D$2:$E$30,2,FALSE))))","v":""},null,null,null,null,{"$f":"IF(AB86=\"\",\"\",IF(I86=1,VLOOKUP(AB86,男子種目コード!$A$82:$B$85,2,FALSE),IF(I86=2,VLOOKUP(AB86,女子種目コード!$A$82:$B$85,2,FALSE))))","v":""},null,0,2,null,{"$f":"IF(AG86=\"\",\"\",IF(I86=1,VLOOKUP(AG86,男子種目コード!$A$78:$B$81,2,FALSE),IF(I86=2,VLOOKUP(AG86,女子種目コード!$A$78:$B$81,2,FALSE))))","v":""},null,0,2,0,null,null,null,"","",null,null,"",0,0,0,0,null,null,null,0,0,"",""]
[0,{"$f":"名簿!Q89","v":""},0,null,{"$f":"名簿!E89","v":0},{"$f":"名簿!BR89","v":""},{"$f":"名簿!Z89","v":""},"",{"$f":"名簿!O89","v":""},{"$f":"名簿!I89","v":0},{"$f":"名簿!K89","v":0},{"$f":"名簿!BU89","v":"00"},{"$f":"名簿!R89","v":""},{"$f":"名簿!D89","v":0},null,"",{"$f":"IF(O87=\"\",\"\",HLOOKUP(O87,名簿!$AB$8:$BI$118,82,FALSE))","v":""},0,2,null,"",{"$f":"IF(T87=\"\",\"\",HLOOKUP(T87,名簿!$AB$8:$BI$118,82,FALSE))","v":""},null,{"$f":"IF(W87=\"\",\"\",IF(I87=1,VLOOKUP(W87,男子種目コード!$D$2:$E$30,2,FALSE),IF(I87=2,VLOOKUP(W87,女子種目コード!$D$2:$E$30,2,FALSE))))","v":""},null,null,null,null,{"$f":"IF(AB87=\"\",\"\",IF(I87=1,VLOOKUP(AB87,男子種目コード!$A$82:$B$85,2,FALSE),IF(I87=2,VLOOKUP(AB87,女子種目コード!$A$82:$B$85,2,FALSE))))","v":""},null,0,2,null,{"$f":"IF(AG87=\"\",\"\",IF(I87=1,VLOOKUP(AG87,男子種目コード!$A$78:$B$81,2,FALSE),IF(I87=2,VLOOKUP(AG87,女子種目コード!$A$78:$B$81,2,FALSE))))","v":""},null,0,2,0,null,null,null,"","",null,null,"",0,0,0,0,null,null,null,0,0,"",""]
[0,{"$f":"名簿!Q90","v":""},0,null,{"$f":"名簿!E90","v":0},{"$f":"名簿!BR90","v":""},{"$f":"名簿!Z90","v":""},"",{"$f":"名簿!O90","v":""},{"$f":"名簿!I90","v":0},{"$f":"名簿!K90","v":0},{"$f":"名簿!BU90","v":"00"},{"$f":"名簿!R90","v":""},{"$f":"名簿!D90","v":0},null,"",{"$f":"IF(O88=\"\",\"\",HLOOKUP(O88,名簿!$AB$8:$BI$118,83,FALSE))","v":""},0,2,null,"",{"$f":"IF(T88=\"\",\"\",HLOOKUP(T88,名簿!$AB$8:$BI$118,83,FALSE))","v":""},null,{"$f":"IF(W88=\"\",\"\",IF(I88=1,VLOOKUP(W88,男子種目コード!$D$2:$E$30,2,FALSE),IF(I88=2,VLOOKUP(W88,女子種目コード!$D$2:$E$30,2,FALSE))))","v":""},null,null,null,null,{"$f":"IF(AB88=\"\",\"\",IF(I88=1,VLOOKUP(AB88,男子種目コード!$A$82:$B$85,2,FALSE),IF(I88=2,VLOOKUP(AB88,女子種目コード!$A$82:$B$85,2,FALSE))))","v":""},null,0,2,null,{"$f":"IF(AG88=\"\",\"\",IF(I88=1,VLOOKUP(AG88,男子種目コード!$A$78:$B$81,2,FALSE),IF(I88=2,VLOOKUP(AG88,女子種目コード!$A$78:$B$81,2,FALSE))))","v":""},null,0,2,0,null,null,null,"","",null,null,"",0,0,0,0,null,null,null,0,0,"",""]
[0,{"$f":"名簿!Q91","v":""},0,null,{"$f":"名簿!E91","v":0},{"$f":"名簿!BR91","v":""},{"$f":"名簿!Z91","v":""},"",{"$f":"名簿!O91","v":""},{"$f":"名簿!I91","v":0},{"$f":"名簿!K91","v":0},{"$f":"名簿!BU91","v":"00"},{"$f":"名簿!R91","v":""},{"$f":"名簿!D91","v":0},null,"",{"$f":"IF(O89=\"\",\"\",HLOOKUP(O89,名簿!$AB$8:$BI$118,84,FALSE))","v":""},0,2,null,"",{"$f":"IF(T89=\"\",\"\",HLOOKUP(T89,名簿!$AB$8:$BI$118,84,FALSE))","v":""},null,{"$f":"IF(W89=\"\",\"\",IF(I89=1,VLOOKUP(W89,男子種目コード!$D$2:$E$30,2,FALSE),IF(I89=2,VLOOKUP(W89,女子種目コード!$D$2:$E$30,2,FALSE))))","v":""},null,null,null,null,{"$f":"IF(AB89=\"\",\"\",IF(I89=1,VLOOKUP(AB89,男子種目コード!$A$82:$B$85,2,FALSE),IF(I89=2,VLOOKUP(AB89,女子種目コード!$A$82:$B$85,2,FALSE))))","v":""},null,0,2,null,{"$f":"IF(AG89=\"\",\"\",IF(I89=1,VLOOKUP(AG89,男子種目コード!$A$78:$B$81,2,FALSE),IF(I89=2,VLOOKUP(AG89,女子種目コード!$A$78:$B$81,2,FALSE))))","v":""},null,0,2,0,null,null,null,"","",null,null,"",0,0,0,0,null,null,null,0,0,"",""]
[0,{"$f":"名簿!Q92","v":""},0,null,{"$f":"名簿!E92","v":0},{"$f":"名簿!BR92","v":""},{"$f":"名簿!Z92","v":""},"",{"$f":"名簿!O92","v":""},{"$f":"名簿!I92","v":0},{"$f":"名簿!K92","v":0},{"$f":"名簿!BU92","v":"00"},{"$f":"名簿!R92","v":""},{"$f":"名簿!D92","v":0},null,"",{"$f":"IF(O90=\"\",\"\",HLOOKUP(O90,名簿!$AB$8:$BI$118,85,FALSE))","v":""},0,2,null,"",{"$f":"IF(T90=\"\",\"\",HLOOKUP(T90,名簿!$AB$8:$BI$118,85,FALSE))","v":""},null,{"$f":"IF(W90=\"\",\"\",IF(I90=1,VLOOKUP(W90,男子種目コード!$D$2:$E$30,2,FALSE),IF(I90=2,VLOOKUP(W90,女子種目コード!$D$2:$E$30,2,FALSE))))","v":""},null,null,null,null,{"$f":"IF(AB90=\"\",\"\",IF(I90=1,VLOOKUP(AB90,男子種目コード!$A$82:$B$85,2,FALSE),IF(I90=2,VLOOKUP(AB90,女子種目コード!$A$82:$B$85,2,FALSE))))","v":""},null,0,2,null,{"$f":"IF(AG90=\"\",\"\",IF(I90=1,VLOOKUP(AG90,男子種目コード!$A$78:$B$81,2,FALSE),IF(I90=2,VLOOKUP(AG90,女子種目コード!$A$78:$B$81,2,FALSE))))","v":""},null,0,2,0,null,null,null,"","",null,null,"",0,0,0,0,null,null,null,0,0,"",""]
[0,{"$f":"名簿!Q93","v":""},0,null,{"$f":"名簿!E93","v":0},{"$f":"名簿!BR93","v":""},{"$f":"名簿!Z93","v":""},"",{"$f":"名簿!O93","v":""},{"$f":"名簿!I93","v":0},{"$f":"名簿!K93","v":0},{"$f":"名簿!BU93","v":"00"},{"$f":"名簿!R93","v":""},{"$f":"名簿!D93","v":0},null,"",{"$f":"IF(O91=\"\",\"\",HLOOKUP(O91,名簿!$AB$8:$BI$118,86,FALSE))","v":""},0,2,null,"",{"$f":"IF(T91=\"\",\"\",HLOOKUP(T91,名簿!$AB$8:$BI$118,86,FALSE))","v":""},null,{"$f":"IF(W91=\"\",\"\",IF(I91=1,VLOOKUP(W91,男子種目コード!$D$2:$E$30,2,FALSE),IF(I91=2,VLOOKUP(W91,女子種目コード!$D$2:$E$30,2,FALSE))))","v":""},null,null,null,null,{"$f":"IF(AB91=\"\",\"\",IF(I91=1,VLOOKUP(AB91,男子種目コード!$A$82:$B$85,2,FALSE),IF(I91=2,VLOOKUP(AB91,女子種目コード!$A$82:$B$85,2,FALSE))))","v":""},null,0,2,null,{"$f":"IF(AG91=\"\",\"\",IF(I91=1,VLOOKUP(AG91,男子種目コード!$A$78:$B$81,2,FALSE),IF(I91=2,VLOOKUP(AG91,女子種目コード!$A$78:$B$81,2,FALSE))))","v":""},null,0,2,0,null,null,null,"","",null,null,"",0,0,0,0,null,null,null,0,0,"",""]
[0,{"$f":"名簿!Q94","v":""},0,null,{"$f":"名簿!E94","v":0},{"$f":"名簿!BR94","v":""},{"$f":"名簿!Z94","v":""},"",{"$f":"名簿!O94","v":""},{"$f":"名簿!I94","v":0},{"$f":"名簿!K94","v":0},{"$f":"名簿!BU94","v":"00"},{"$f":"名簿!R94","v":""},{"$f":"名簿!D94","v":0},null,"",{"$f":"IF(O92=\"\",\"\",HLOOKUP(O92,名簿!$AB$8:$BI$118,87,FALSE))","v":""},0,2,null,"",{"$f":"IF(T92=\"\",\"\",HLOOKUP(T92,名簿!$AB$8:$BI$118,87,FALSE))","v":""},null,{"$f":"IF(W92=\"\",\"\",IF(I92=1,VLOOKUP(W92,男子種目コード!$D$2:$E$30,2,FALSE),IF(I92=2,VLOOKUP(W92,女子種目コード!$D$2:$E$30,2,FALSE))))","v":""},null,null,null,null,{"$f":"IF(AB92=\"\",\"\",IF(I92=1,VLOOKUP(AB92,男子種目コード!$A$82:$B$85,2,FALSE),IF(I92=2,VLOOKUP(AB92,女子種目コード!$A$82:$B$85,2,FALSE))))","v":""},null,0,2,null,{"$f":"IF(AG92=\"\",\"\",IF(I92=1,VLOOKUP(AG92,男子種目コード!$A$78:$B$81,2,FALSE),IF(I92=2,VLOOKUP(AG92,女子種目コード!$A$78:$B$81,2,FALSE))))","v":""},null,0,2,0,null,null,null,"","",null,null,"",0,0,0,0,null,null,null,0,0,"",""]
[0,{"$f":"名簿!Q95","v":""},0,null,{"$f":"名簿!E95","v":0},{"$f":"名簿!BR95","v":""},{"$f":"名簿!Z95","v":""},"",{"$f":"名簿!O95","v":""},{"$f":"名簿!I95","v":0},{"$f":"名簿!K95","v":0},{"$f":"名簿!BU95","v":"00"},{"$f":"名簿!R95","v":""},{"$f":"名簿!D95","v":0},null,"",{"$f":"IF(O93=\"\",\"\",HLOOKUP(O93,名簿!$AB$8:$BI$118,88,FALSE))","v":""},0,2,null,"",{"$f":"IF(T93=\"\",\"\",HLOOKUP(T93,名簿!$AB$8:$BI$118,88,FALSE))","v":""},null,{"$f":"IF(W93=\"\",\"\",IF(I93=1,VLOOKUP(W93,男子種目コード!$D$2:$E$30,2,FALSE),IF(I93=2,VLOOKUP(W93,女子種目コード!$D$2:$E$30,2,FALSE))))","v":""},null,null,null,null,{"$f":"IF(AB93=\"\",\"\",IF(I93=1,VLOOKUP(AB93,男子種目コード!$A$82:$B$85,2,FALSE),IF(I93=2,VLOOKUP(AB93,女子種目コード!$A$82:$B$85,2,FALSE))))","v":""},null,0,2,null,{"$f":"IF(AG93=\"\",\"\",IF(I93=1,VLOOKUP(AG93,男子種目コード!$A$78:$B$81,2,FALSE),IF(I93=2,VLOOKUP(AG93,女子種目コード!$A$78:$B$81,2,FALSE))))","v":""},null,0,2,0,null,null,null,"","",null,null,"",0,0,0,0,null,null,null,0,0,"",""]
[0,{"$f":"名簿!Q96","v":""},0,null,{"$f":"名簿!E96","v":0},{"$f":"名簿!BR96","v":""},{"$f":"名簿!Z96","v":""},"",{"$f":"名簿!O96","v":""},{"$f":"名簿!I96","v":0},{"$f":"名簿!K96","v":0},{"$f":"名簿!BU96","v":"00"},{"$f":"名簿!R96","v":""},{"$f":"名簿!D96","v":0},null,"",{"$f":"IF(O94=\"\",\"\",HLOOKUP(O94,名簿!$AB$8:$BI$118,89,FALSE))","v":""},0,2,null,"",{"$f":"IF(T94=\"\",\"\",HLOOKUP(T94,名簿!$AB$8:$BI$118,89,FALSE))","v":""},null,{"$f":"IF(W94=\"\",\"\",IF(I94=1,VLOOKUP(W94,男子種目コード!$D$2:$E$30,2,FALSE),IF(I94=2,VLOOKUP(W94,女子種目コード!$D$2:$E$30,2,FALSE))))","v":""},null,null,null,null,{"$f":"IF(AB94=\"\",\"\",IF(I94=1,VLOOKUP(AB94,男子種目コード!$A$82:$B$85,2,FALSE),IF(I94=2,VLOOKUP(AB94,女子種目コード!$A$82:$B$85,2,FALSE))))","v":""},null,0,2,null,{"$f":"IF(AG94=\"\",\"\",IF(I94=1,VLOOKUP(AG94,男子種目コード!$A$78:$B$81,2,FALSE),IF(I94=2,VLOOKUP(AG94,女子種目コード!$A$78:$B$81,2,FALSE))))","v":""},null,0,2,0,null,null,null,"","",null,null,"",0,0,0,0,null,null,null,0,0,"",""]
[0,{"$f":"名簿!Q97","v":""},0,null,{"$f":"名簿!E97","v":0},{"$f":"名簿!BR97","v":""},{"$f":"名簿!Z97","v":""},"",{"$f":"名簿!O97","v":""},{"$f":"名簿!I97","v":0},{"$f":"名簿!K97","v":0},{"$f":"名簿!BU97","v":"00"},{"$f":"名簿!R97","v":""},{"$f":"名簿!D97","v":0},null,"",{"$f":"IF(O95=\"\",\"\",HLOOKUP(O95,名簿!$AB$8:$BI$118,90,FALSE))","v":""},0,2,null,"",{"$f":"IF(T95=\"\",\"\",HLOOKUP(T95,名簿!$AB$8:$BI$118,90,FALSE))","v":""},null,{"$f":"IF(W95=\"\",\"\",IF(I95=1,VLOOKUP(W95,男子種目コード!$D$2:$E$30,2,FALSE),IF(I95=2,VLOOKUP(W95,女子種目コード!$D$2:$E$30,2,FALSE))))","v":""},null,null,null,null,{"$f":"IF(AB95=\"\",\"\",IF(I95=1,VLOOKUP(AB95,男子種目コード!$A$82:$B$85,2,FALSE),IF(I95=2,VLOOKUP(AB95,女子種目コード!$A$82:$B$85,2,FALSE))))","v":""},null,0,2,null,{"$f":"IF(AG95=\"\",\"\",IF(I95=1,VLOOKUP(AG95,男子種目コード!$A$78:$B$81,2,FALSE),IF(I95=2,VLOOKUP(AG95,女子種目コード!$A$78:$B$81,2,FALSE))))","v":""},null,0,2,0,null,null,null,"","",null,null,"",0,0,0,0,null,null,null,0,0,"",""]
[0,{"$f":"名簿!Q98","v":""},0,null,{"$f":"名簿!E98","v":0},{"$f":"名簿!BR98","v":""},{"$f":"名簿!Z98","v":""},"",{"$f":"名簿!O98","v":""},{"$f":"名簿!I98","v":0},{"$f":"名簿!K98","v":0},{"$f":"名簿!BU98","v":"00"},{"$f":"名簿!R98","v":""},{"$f":"名簿!D98","v":0},null,"",{"$f":"IF(O96=\"\",\"\",HLOOKUP(O96,名簿!$AB$8:$BI$118,91,FALSE))","v":""},0,2,null,"",{"$f":"IF(T96=\"\",\"\",HLOOKUP(T96,名簿!$AB$8:$BI$118,91,FALSE))","v":""},null,{"$f":"IF(W96=\"\",\"\",IF(I96=1,VLOOKUP(W96,男子種目コード!$D$2:$E$30,2,FALSE),IF(I96=2,VLOOKUP(W96,女子種目コード!$D$2:$E$30,2,FALSE))))","v":""},null,null,null,null,{"$f":"IF(AB96=\"\",\"\",IF(I96=1,VLOOKUP(AB96,男子種目コード!$A$82:$B$85,2,FALSE),IF(I96=2,VLOOKUP(AB96,女子種目コード!$A$82:$B$85,2,FALSE))))","v":""},null,0,2,null,{"$f":"IF(AG96=\"\",\"\",IF(I96=1,VLOOKUP(AG96,男子種目コード!$A$78:$B$81,2,FALSE),IF(I96=2,VLOOKUP(AG96,女子種目コード!$A$78:$B$81,2,FALSE))))","v":""},null,0,2,0,null,null,null,"","",null,null,"",0,0,0,0,null,null,null,0,0,"",""]
[0,{"$f":"名簿!Q99","v":""},0,null,{"$f":"名簿!E99","v":0},{"$f":"名簿!BR99","v":""},{"$f":"名簿!Z99","v":""},"",{"$f":"名簿!O99","v":""},{"$f":"名簿!I99","v":0},{"$f":"名簿!K99","v":0},{"$f":"名簿!BU99","v":"00"},{"$f":"名簿!R99","v":""},{"$f":"名簿!D99","v":0},null,"",{"$f":"IF(O97=\"\",\"\",HLOOKUP(O97,名簿!$AB$8:$BI$118,92,FALSE))","v":""},0,2,null,"",{"$f":"IF(T97=\"\",\"\",HLOOKUP(T97,名簿!$AB$8:$BI$118,92,FALSE))","v":""},null,{"$f":"IF(W97=\"\",\"\",IF(I97=1,VLOOKUP(W97,男子種目コード!$D$2:$E$30,2,FALSE),IF(I97=2,VLOOKUP(W97,女子種目コード!$D$2:$E$30,2,FALSE))))","v":""},null,null,null,null,{"$f":"IF(AB97=\"\",\"\",IF(I97=1,VLOOKUP(AB97,男子種目コード!$A$82:$B$85,2,FALSE),IF(I97=2,VLOOKUP(AB97,女子種目コード!$A$82:$B$85,2,FALSE))))","v":""},null,0,2,null,{"$f":"IF(AG97=\"\",\"\",IF(I97=1,VLOOKUP(AG97,男子種目コード!$A$78:$B$81,2,FALSE),IF(I97=2,VLOOKUP(AG97,女子種目コード!$A$78:$B$81,2,FALSE))))","v":""},null,0,2,0,null,null,null,"","",null,null,"",0,0,0,0,null,null,null,0,0,"",""]
[0,{"$f":"名簿!Q100","v":""},0,null,{"$f":"名簿!E100","v":0},{"$f":"名簿!BR100","v":""},{"$f":"名簿!Z100","v":""},"",{"$f":"名簿!O100","v":""},{"$f":"名簿!I100","v":0},{"$f":"名簿!K100","v":0},{"$f":"名簿!BU100","v":"00"},{"$f":"名簿!R100","v":""},{"$f":"名簿!D100","v":0},null,"",{"$f":"IF(O98=\"\",\"\",HLOOKUP(O98,名簿!$AB$8:$BI$118,93,FALSE))","v":""},0,2,null,"",{"$f":"IF(T98=\"\",\"\",HLOOKUP(T98,名簿!$AB$8:$BI$118,93,FALSE))","v":""},null,{"$f":"IF(W98=\"\",\"\",IF(I98=1,VLOOKUP(W98,男子種目コード!$D$2:$E$30,2,FALSE),IF(I98=2,VLOOKUP(W98,女子種目コード!$D$2:$E$30,2,FALSE))))","v":""},null,null,null,null,{"$f":"IF(AB98=\"\",\"\",IF(I98=1,VLOOKUP(AB98,男子種目コード!$A$82:$B$85,2,FALSE),IF(I98=2,VLOOKUP(AB98,女子種目コード!$A$82:$B$85,2,FALSE))))","v":""},null,0,2,null,{"$f":"IF(AG98=\"\",\"\",IF(I98=1,VLOOKUP(AG98,男子種目コード!$A$78:$B$81,2,FALSE),IF(I98=2,VLOOKUP(AG98,女子種目コード!$A$78:$B$81,2,FALSE))))","v":""},null,0,2,0,null,null,null,"","",null,null,"",0,0,0,0,null,null,null,0,0,"",""]
[0,{"$f":"名簿!Q101","v":""},0,null,{"$f":"名簿!E101","v":0},{"$f":"名簿!BR101","v":""},{"$f":"名簿!Z101","v":""},"",{"$f":"名簿!O101","v":""},{"$f":"名簿!I101","v":0},{"$f":"名簿!K101","v":0},{"$f":"名簿!BU101","v":"00"},{"$f":"名簿!R101","v":""},{"$f":"名簿!D101","v":0},null,"",{"$f":"IF(O99=\"\",\"\",HLOOKUP(O99,名簿!$AB$8:$BI$118,94,FALSE))","v":""},0,2,null,"",{"$f":"IF(T99=\"\",\"\",HLOOKUP(T99,名簿!$AB$8:$BI$118,94,FALSE))","v":""},null,{"$f":"IF(W99=\"\",\"\",IF(I99=1,VLOOKUP(W99,男子種目コード!$D$2:$E$30,2,FALSE),IF(I99=2,VLOOKUP(W99,女子種目コード!$D$2:$E$30,2,FALSE))))","v":""},null,null,null,null,{"$f":"IF(AB99=\"\",\"\",IF(I99=1,VLOOKUP(AB99,男子種目コード!$A$82:$B$85,2,FALSE),IF(I99=2,VLOOKUP(AB99,女子種目コード!$A$82:$B$85,2,FALSE))))","v":""},null,0,2,null,{"$f":"IF(AG99=\"\",\"\",IF(I99=1,VLOOKUP(AG99,男子種目コード!$A$78:$B$81,2,FALSE),IF(I99=2,VLOOKUP(AG99,女子種目コード!$A$78:$B$81,2,FALSE))))","v":""},null,0,2,0,null,null,null,"","",null,null,"",0,0,0,0,null,null,null,0,0,"",""]
[0,{"$f":"名簿!Q102","v":""},0,null,{"$f":"名簿!E102","v":0},{"$f":"名簿!BR102","v":""},{"$f":"名簿!Z102","v":""},"",{"$f":"名簿!O102","v":""},{"$f":"名簿!I102","v":0},{"$f":"名簿!K102","v":0},{"$f":"名簿!BU102","v":"00"},{"$f":"名簿!R102","v":""},{"$f":"名簿!D102","v":0},null,"",{"$f":"IF(O100=\"\",\"\",HLOOKUP(O100,名簿!$AB$8:$BI$118,95,FALSE))","v":""},0,2,null,"",{"$f":"IF(T100=\"\",\"\",HLOOKUP(T100,名簿!$AB$8:$BI$118,95,FALSE))","v":""},null,{"$f":"IF(W100=\"\",\"\",IF(I100=1,VLOOKUP(W100,男子種目コード!$D$2:$E$30,2,FALSE),IF(I100=2,VLOOKUP(W100,女子種目コード!$D$2:$E$30,2,FALSE))))","v":""},null,null,null,null,{"$f":"IF(AB100=\"\",\"\",IF(I100=1,VLOOKUP(AB100,男子種目コード!$A$82:$B$85,2,FALSE),IF(I100=2,VLOOKUP(AB100,女子種目コード!$A$82:$B$85,2,FALSE))))","v":""},null,0,2,null,{"$f":"IF(AG100=\"\",\"\",IF(I100=1,VLOOKUP(AG100,男子種目コード!$A$78:$B$81,2,FALSE),IF(I100=2,VLOOKUP(AG100,女子種目コード!$A$78:$B$81,2,FALSE))))","v":""},null,0,2,0,null,null,null,"","",null,null,"",0,0,0,0,null,null,null,0,0,"",""]
[0,{"$f":"名簿!Q103","v":""},0,null,{"$f":"名簿!E103","v":0},{"$f":"名簿!BR103","v":""},{"$f":"名簿!Z103","v":""},"",{"$f":"名簿!O103","v":""},{"$f":"名簿!I103","v":0},{"$f":"名簿!K103","v":0},{"$f":"名簿!BU103","v":"00"},{"$f":"名簿!R103","v":""},{"$f":"名簿!D103","v":0},null,"",{"$f":"IF(O101=\"\",\"\",HLOOKUP(O101,名簿!$AB$8:$BI$118,96,FALSE))","v":""},0,2,null,"",{"$f":"IF(T101=\"\",\"\",HLOOKUP(T101,名簿!$AB$8:$BI$118,96,FALSE))","v":""},null,{"$f":"IF(W101=\"\",\"\",IF(I101=1,VLOOKUP(W101,男子種目コード!$D$2:$E$30,2,FALSE),IF(I101=2,VLOOKUP(W101,女子種目コード!$D$2:$E$30,2,FALSE))))","v":""},null,null,null,null,{"$f":"IF(AB101=\"\",\"\",IF(I101=1,VLOOKUP(AB101,男子種目コード!$A$82:$B$85,2,FALSE),IF(I101=2,VLOOKUP(AB101,女子種目コード!$A$82:$B$85,2,FALSE))))","v":""},null,0,2,null,{"$f":"IF(AG101=\"\",\"\",IF(I101=1,VLOOKUP(AG101,男子種目コード!$A$78:$B$81,2,FALSE),IF(I101=2,VLOOKUP(AG101,女子種目コード!$A$78:$B$81,2,FALSE))))","v":""},null,0,2,0,null,null,null,"","",null,null,"",0,0,0,0,null,null,null,0,0,"",""]
[0,{"$f":"名簿!Q104","v":""},0,null,{"$f":"名簿!E104","v":0},{"$f":"名簿!BR104","v":""},{"$f":"名簿!Z104","v":""},"",{"$f":"名簿!O104","v":""},{"$f":"名簿!I104","v":0},{"$f":"名簿!K104","v":0},{"$f":"名簿!BU104","v":"00"},{"$f":"名簿!R104","v":""},{"$f":"名簿!D104","v":0},null,"",{"$f":"IF(O102=\"\",\"\",HLOOKUP(O102,名簿!$AB$8:$BI$118,97,FALSE))","v":""},0,2,null,"",{"$f":"IF(T102=\"\",\"\",HLOOKUP(T102,名簿!$AB$8:$BI$118,97,FALSE))","v":""},null,{"$f":"IF(W102=\"\",\"\",IF(I102=1,VLOOKUP(W102,男子種目コード!$D$2:$E$30,2,FALSE),IF(I102=2,VLOOKUP(W102,女子種目コード!$D$2:$E$30,2,FALSE))))","v":""},null,null,null,null,{"$f":"IF(AB102=\"\",\"\",IF(I102=1,VLOOKUP(AB102,男子種目コード!$A$82:$B$85,2,FALSE),IF(I102=2,VLOOKUP(AB102,女子種目コード!$A$82:$B$85,2,FALSE))))","v":""},null,0,2,null,{"$f":"IF(AG102=\"\",\"\",IF(I102=1,VLOOKUP(AG102,男子種目コード!$A$78:$B$81,2,FALSE),IF(I102=2,VLOOKUP(AG102,女子種目コード!$A$78:$B$81,2,FALSE))))","v":""},null,0,2,0,null,null,null,"","",null,null,"",0,0,0,0,null,null,null,0,0,"",""]
[0,{"$f":"名簿!Q105","v":""},0,null,{"$f":"名簿!E105","v":0},{"$f":"名簿!BR105","v":""},{"$f":"名簿!Z105","v":""},"",{"$f":"名簿!O105","v":""},{"$f":"名簿!I105","v":0},{"$f":"名簿!K105","v":0},{"$f":"名簿!BU105","v":"00"},{"$f":"名簿!R105","v":""},{"$f":"名簿!D105","v":0},null,"",{"$f":"IF(O103=\"\",\"\",HLOOKUP(O103,名簿!$AB$8:$BI$118,98,FALSE))","v":""},0,2,null,"",{"$f":"IF(T103=\"\",\"\",HLOOKUP(T103,名簿!$AB$8:$BI$118,98,FALSE))","v":""},null,{"$f":"IF(W103=\"\",\"\",IF(I103=1,VLOOKUP(W103,男子種目コード!$D$2:$E$30,2,FALSE),IF(I103=2,VLOOKUP(W103,女子種目コード!$D$2:$E$30,2,FALSE))))","v":""},null,null,null,null,{"$f":"IF(AB103=\"\",\"\",IF(I103=1,VLOOKUP(AB103,男子種目コード!$A$82:$B$85,2,FALSE),IF(I103=2,VLOOKUP(AB103,女子種目コード!$A$82:$B$85,2,FALSE))))","v":""},null,0,2,null,{"$f":"IF(AG103=\"\",\"\",IF(I103=1,VLOOKUP(AG103,男子種目コード!$A$78:$B$81,2,FALSE),IF(I103=2,VLOOKUP(AG103,女子種目コード!$A$78:$B$81,2,FALSE))))","v":""},null,0,2,0,null,null,null,"","",null,null,"",{"$f":"IF(OR(AT103=1,T103=\"\"),0,1)","v":0},{"$f":"IF(OR(AT103=1,AU103=1,AB103=\"\"),0,1)","v":0},{"$f":"IF(OR(AT103=1,AU103=1,AV103=1,AG103=\"\"),0,1)","v":0},0,null,null,null,0,0,"",""]
[0,{"$f":"名簿!Q106","v":""},0,null,{"$f":"名簿!E106","v":0},{"$f":"名簿!BR106","v":""},{"$f":"名簿!Z106","v":""},"",{"$f":"名簿!O106","v":""},{"$f":"名簿!I106","v":0},{"$f":"名簿!K106","v":0},{"$f":"名簿!BU106","v":"00"},{"$f":"名簿!R106","v":""},{"$f":"名簿!D106","v":0},null,"",{"$f":"IF(O104=\"\",\"\",HLOOKUP(O104,名簿!$AB$8:$BI$118,99,FALSE))","v":""},0,2,null,"",{"$f":"IF(T104=\"\",\"\",HLOOKUP(T104,名簿!$AB$8:$BI$118,99,FALSE))","v":""},null,{"$f":"IF(W104=\"\",\"\",IF(I104=1,VLOOKUP(W104,男子種目コード!$D$2:$E$30,2,FALSE),IF(I104=2,VLOOKUP(W104,女子種目コード!$D$2:$E$30,2,FALSE))))","v":""},null,null,null,null,{"$f":"IF(AB104=\"\",\"\",IF(I104=1,VLOOKUP(AB104,男子種目コード!$A$82:$B$85,2,FALSE),IF(I104=2,VLOOKUP(AB104,女子種目コード!$A$82:$B$85,2,FALSE))))","v":""},null,0,2,null,{"$f":"IF(AG104=\"\",\"\",IF(I104=1,VLOOKUP(AG104,男子種目コード!$A$78:$B$81,2,FALSE),IF(I104=2,VLOOKUP(AG104,女子種目コード!$A$78:$B$81,2,FALSE))))","v":""},null,0,2,0,null,null,null,"","",null,null,"",0,0,0,0,null,null,null,0,0,"",""]
[0,{"$f":"名簿!Q107","v":""},0,null,{"$f":"名簿!E107","v":0},{"$f":"名簿!BR107","v":""},{"$f":"名簿!Z107","v":""},"",{"$f":"名簿!O107","v":""},{"$f":"名簿!I107","v":0},{"$f":"名簿!K107","v":0},{"$f":"名簿!BU107","v":"00"},{"$f":"名簿!R107","v":""},{"$f":"名簿!D107","v":0},null,"",{"$f":"IF(O105=\"\",\"\",HLOOKUP(O105,名簿!$AB$8:$BI$118,100,FALSE))","v":""},0,2,null,"",{"$f":"IF(T105=\"\",\"\",HLOOKUP(T105,名簿!$AB$8:$BI$118,100,FALSE))","v":""},null,{"$f":"IF(W105=\"\",\"\",IF(I105=1,VLOOKUP(W105,男子種目コード!$D$2:$E$30,2,FALSE),IF(I105=2,VLOOKUP(W105,女子種目コード!$D$2:$E$30,2,FALSE))))","v":""},null,null,null,null,{"$f":"IF(AB105=\"\",\"\",IF(I105=1,VLOOKUP(AB105,男子種目コード!$A$82:$B$85,2,FALSE),IF(I105=2,VLOOKUP(AB105,女子種目コード!$A$82:$B$85,2,FALSE))))","v":""},null,0,2,null,{"$f":"IF(AG105=\"\",\"\",IF(I105=1,VLOOKUP(AG105,男子種目コード!$A$78:$B$81,2,FALSE),IF(I105=2,VLOOKUP(AG105,女子種目コード!$A$78:$B$81,2,FALSE))))","v":""},null,0,2,0,null,null,null,"","",null,null,"",0,0,0,0,null,null,null,0,0,"",""]
[0,{"$f":"名簿!Q108","v":""},0,null,{"$f":"名簿!E108","v":0},{"$f":"名簿!BR108","v":""},{"$f":"名簿!Z108","v":""},"",{"$f":"名簿!O108","v":""},{"$f":"名簿!I108","v":0},{"$f":"名簿!K108","v":0},{"$f":"名簿!BU108","v":"00"},{"$f":"名簿!R108","v":""},{"$f":"名簿!D108","v":0},null,"",{"$f":"IF(O106=\"\",\"\",HLOOKUP(O106,名簿!$AB$8:$BI$118,101,FALSE))","v":""},0,2,null,"",{"$f":"IF(T106=\"\",\"\",HLOOKUP(T106,名簿!$AB$8:$BI$118,101,FALSE))","v":""},null,{"$f":"IF(W106=\"\",\"\",IF(I106=1,VLOOKUP(W106,男子種目コード!$D$2:$E$30,2,FALSE),IF(I106=2,VLOOKUP(W106,女子種目コード!$D$2:$E$30,2,FALSE))))","v":""},null,null,null,null,{"$f":"IF(AB106=\"\",\"\",IF(I106=1,VLOOKUP(AB106,男子種目コード!$A$82:$B$85,2,FALSE),IF(I106=2,VLOOKUP(AB106,女子種目コード!$A$82:$B$85,2,FALSE))))","v":""},null,0,2,null,{"$f":"IF(AG106=\"\",\"\",IF(I106=1,VLOOKUP(AG106,男子種目コード!$A$78:$B$81,2,FALSE),IF(I106=2,VLOOKUP(AG106,女子種目コード!$A$78:$B$81,2,FALSE))))","v":""},null,0,2,0,null,null,null,"","",null,null,"",0,0,0,0,null,null,null,0,0,"",""]
[0,{"$f":"名簿!Q109","v":""},0,null,{"$f":"名簿!E109","v":0},{"$f":"名簿!BR109","v":""},{"$f":"名簿!Z109","v":""},"",{"$f":"名簿!O109","v":""},{"$f":"名簿!I109","v":0},{"$f":"名簿!K109","v":0},{"$f":"名簿!BU109","v":"00"},{"$f":"名簿!R109","v":""},{"$f":"名簿!D109","v":0},null,"",{"$f":"IF(O107=\"\",\"\",HLOOKUP(O107,名簿!$AB$8:$BI$118,102,FALSE))","v":""},0,2,null,"",{"$f":"IF(T107=\"\",\"\",HLOOKUP(T107,名簿!$AB$8:$BI$118,102,FALSE))","v":""},null,{"$f":"IF(W107=\"\",\"\",IF(I107=1,VLOOKUP(W107,男子種目コード!$D$2:$E$30,2,FALSE),IF(I107=2,VLOOKUP(W107,女子種目コード!$D$2:$E$30,2,FALSE))))","v":""},null,null,null,null,{"$f":"IF(AB107=\"\",\"\",IF(I107=1,VLOOKUP(AB107,男子種目コード!$A$82:$B$85,2,FALSE),IF(I107=2,VLOOKUP(AB107,女子種目コード!$A$82:$B$85,2,FALSE))))","v":""},null,0,2,null,{"$f":"IF(AG107=\"\",\"\",IF(I107=1,VLOOKUP(AG107,男子種目コード!$A$78:$B$81,2,FALSE),IF(I107=2,VLOOKUP(AG107,女子種目コード!$A$78:$B$81,2,FALSE))))","v":""},null,0,2,0,null,null,null,"","",null,null,"",0,0,0,0,null,null,null,0,0,"",""]
[0,{"$f":"名簿!Q110","v":""},0,null,{"$f":"名簿!E110","v":0},{"$f":"名簿!BR110","v":""},{"$f":"名簿!Z110","v":""},"",{"$f":"名簿!O110","v":""},{"$f":"名簿!I110","v":0},{"$f":"名簿!K110","v":0},{"$f":"名簿!BU110","v":"00"},{"$f":"名簿!R110","v":""},{"$f":"名簿!D110","v":0},null,"",{"$f":"IF(O108=\"\",\"\",HLOOKUP(O108,名簿!$AB$8:$BI$118,103,FALSE))","v":""},0,2,null,"",{"$f":"IF(T108=\"\",\"\",HLOOKUP(T108,名簿!$AB$8:$BI$118,103,FALSE))","v":""},null,{"$f":"IF(W108=\"\",\"\",IF(I108=1,VLOOKUP(W108,男子種目コード!$D$2:$E$30,2,FALSE),IF(I108=2,VLOOKUP(W108,女子種目コード!$D$2:$E$30,2,FALSE))))","v":""},null,null,null,null,{"$f":"IF(AB108=\"\",\"\",IF(I108=1,VLOOKUP(AB108,男子種目コード!$A$82:$B$85,2,FALSE),IF(I108=2,VLOOKUP(AB108,女子種目コード!$A$82:$B$85,2,FALSE))))","v":""},null,0,2,null,{"$f":"IF(AG108=\"\",\"\",IF(I108=1,VLOOKUP(AG108,男子種目コード!$A$78:$B$81,2,FALSE),IF(I108=2,VLOOKUP(AG108,女子種目コード!$A$78:$B$81,2,FALSE))))","v":""},null,0,2,0,null,null,null,"","",null,null,"",0,0,0,0,null,null,null,0,0,"",""]
[0,{"$f":"名簿!Q111","v":""},0,null,{"$f":"名簿!E111","v":0},{"$f":"名簿!BR111","v":""},{"$f":"名簿!Z111","v":""},"",{"$f":"名簿!O111","v":""},{"$f":"名簿!I111","v":0},{"$f":"名簿!K111","v":0},{"$f":"名簿!BU111","v":"00"},{"$f":"名簿!R111","v":""},{"$f":"名簿!D111","v":0},null,"",{"$f":"IF(O109=\"\",\"\",HLOOKUP(O109,名簿!$AB$8:$BI$118,104,FALSE))","v":""},0,2,null,"",{"$f":"IF(T109=\"\",\"\",HLOOKUP(T109,名簿!$AB$8:$BI$118,104,FALSE))","v":""},null,{"$f":"IF(W109=\"\",\"\",IF(I109=1,VLOOKUP(W109,男子種目コード!$D$2:$E$30,2,FALSE),IF(I109=2,VLOOKUP(W109,女子種目コード!$D$2:$E$30,2,FALSE))))","v":""},null,null,null,null,{"$f":"IF(AB109=\"\",\"\",IF(I109=1,VLOOKUP(AB109,男子種目コード!$A$82:$B$85,2,FALSE),IF(I109=2,VLOOKUP(AB109,女子種目コード!$A$82:$B$85,2,FALSE))))","v":""},null,0,2,null,{"$f":"IF(AG109=\"\",\"\",IF(I109=1,VLOOKUP(AG109,男子種目コード!$A$78:$B$81,2,FALSE),IF(I109=2,VLOOKUP(AG109,女子種目コード!$A$78:$B$81,2,FALSE))))","v":""},null,0,2,0,null,null,null,"","",null,null,"",0,0,0,0,null,null,null,0,0,"",""]
[0,{"$f":"名簿!Q112","v":""},0,null,{"$f":"名簿!E112","v":0},{"$f":"名簿!BR112","v":""},{"$f":"名簿!Z112","v":""},"",{"$f":"名簿!O112","v":""},{"$f":"名簿!I112","v":0},{"$f":"名簿!K112","v":0},{"$f":"名簿!BU112","v":"00"},{"$f":"名簿!R112","v":""},{"$f":"名簿!D112","v":0},null,"",{"$f":"IF(O110=\"\",\"\",HLOOKUP(O110,名簿!$AB$8:$BI$118,105,FALSE))","v":""},0,2,null,"",{"$f":"IF(T110=\"\",\"\",HLOOKUP(T110,名簿!$AB$8:$BI$118,105,FALSE))","v":""},null,{"$f":"IF(W110=\"\",\"\",IF(I110=1,VLOOKUP(W110,男子種目コード!$D$2:$E$30,2,FALSE),IF(I110=2,VLOOKUP(W110,女子種目コード!$D$2:$E$30,2,FALSE))))","v":""},null,null,null,null,{"$f":"IF(AB110=\"\",\"\",IF(I110=1,VLOOKUP(AB110,男子種目コード!$A$82:$B$85,2,FALSE),IF(I110=2,VLOOKUP(AB110,女子種目コード!$A$82:$B$85,2,FALSE))))","v":""},null,0,2,null,{"$f":"IF(AG110=\"\",\"\",IF(I110=1,VLOOKUP(AG110,男子種目コード!$A$78:$B$81,2,FALSE),IF(I110=2,VLOOKUP(AG110,女子種目コード!$A$78:$B$81,2,FALSE))))","v":""},null,0,2,0,null,null,null,"","",null,null,"",0,0,0,0,null,null,null,0,0,"",""]
[0,{"$f":"名簿!Q113","v":""},0,null,{"$f":"名簿!E113","v":0},{"$f":"名簿!BR113","v":""},{"$f":"名簿!Z113","v":""},"",{"$f":"名簿!O113","v":""},{"$f":"名簿!I113","v":0},{"$f":"名簿!K113","v":0},{"$f":"名簿!BU113","v":"00"},{"$f":"名簿!R113","v":""},{"$f":"名簿!D113","v":0},null,"",{"$f":"IF(O111=\"\",\"\",HLOOKUP(O111,名簿!$AB$8:$BI$118,106,FALSE))","v":""},0,2,null,"",{"$f":"IF(T111=\"\",\"\",HLOOKUP(T111,名簿!$AB$8:$BI$118,106,FALSE))","v":""},null,{"$f":"IF(W111=\"\",\"\",IF(I111=1,VLOOKUP(W111,男子種目コード!$D$2:$E$30,2,FALSE),IF(I111=2,VLOOKUP(W111,女子種目コード!$D$2:$E$30,2,FALSE))))","v":""},null,null,null,null,{"$f":"IF(AB111=\"\",\"\",IF(I111=1,VLOOKUP(AB111,男子種目コード!$A$82:$B$85,2,FALSE),IF(I111=2,VLOOKUP(AB111,女子種目コード!$A$82:$B$85,2,FALSE))))","v":""},null,0,2,null,{"$f":"IF(AG111=\"\",\"\",IF(I111=1,VLOOKUP(AG111,男子種目コード!$A$78:$B$81,2,FALSE),IF(I111=2,VLOOKUP(AG111,女子種目コード!$A$78:$B$81,2,FALSE))))","v":""},null,0,2,0,null,null,null,"","",null,null,"",0,0,0,0,null,null,null,0,0,"",""]
[0,{"$f":"名簿!Q114","v":""},0,null,{"$f":"名簿!E114","v":0},{"$f":"名簿!BR114","v":""},{"$f":"名簿!Z114","v":""},"",{"$f":"名簿!O114","v":""},{"$f":"名簿!I114","v":0},{"$f":"名簿!K114","v":0},{"$f":"名簿!BU114","v":"00"},{"$f":"名簿!R114","v":""},{"$f":"名簿!D114","v":0},null,"",{"$f":"IF(O112=\"\",\"\",HLOOKUP(O112,名簿!$AB$8:$BI$118,107,FALSE))","v":""},0,2,null,"",{"$f":"IF(T112=\"\",\"\",HLOOKUP(T112,名簿!$AB$8:$BI$118,107,FALSE))","v":""},null,{"$f":"IF(W112=\"\",\"\",IF(I112=1,VLOOKUP(W112,男子種目コード!$D$2:$E$30,2,FALSE),IF(I112=2,VLOOKUP(W112,女子種目コード!$D$2:$E$30,2,FALSE))))","v":""},null,null,null,null,{"$f":"IF(AB112=\"\",\"\",IF(I112=1,VLOOKUP(AB112,男子種目コード!$A$82:$B$85,2,FALSE),IF(I112=2,VLOOKUP(AB112,女子種目コード!$A$82:$B$85,2,FALSE))))","v":""},null,0,2,null,{"$f":"IF(AG112=\"\",\"\",IF(I112=1,VLOOKUP(AG112,男子種目コード!$A$78:$B$81,2,FALSE),IF(I112=2,VLOOKUP(AG112,女子種目コード!$A$78:$B$81,2,FALSE))))","v":""},null,0,2,0,null,null,null,"","",null,null,"",0,0,0,0,null,null,null,0,0,"",""]
[0,{"$f":"名簿!Q115","v":""},0,null,{"$f":"名簿!E115","v":0},{"$f":"名簿!BR115","v":""},{"$f":"名簿!Z115","v":""},"",{"$f":"名簿!O115","v":""},{"$f":"名簿!I115","v":0},{"$f":"名簿!K115","v":0},{"$f":"名簿!BU115","v":"00"},{"$f":"名簿!R115","v":""},{"$f":"名簿!D115","v":0},null,"",{"$f":"IF(O113=\"\",\"\",HLOOKUP(O113,名簿!$AB$8:$BI$118,108,FALSE))","v":""},0,2,null,"",{"$f":"IF(T113=\"\",\"\",HLOOKUP(T113,名簿!$AB$8:$BI$118,108,FALSE))","v":""},null,{"$f":"IF(W113=\"\",\"\",IF(I113=1,VLOOKUP(W113,男子種目コード!$D$2:$E$30,2,FALSE),IF(I113=2,VLOOKUP(W113,女子種目コード!$D$2:$E$30,2,FALSE))))","v":""},null,null,null,null,{"$f":"IF(AB113=\"\",\"\",IF(I113=1,VLOOKUP(AB113,男子種目コード!$A$82:$B$85,2,FALSE),IF(I113=2,VLOOKUP(AB113,女子種目コード!$A$82:$B$85,2,FALSE))))","v":""},null,0,2,null,{"$f":"IF(AG113=\"\",\"\",IF(I113=1,VLOOKUP(AG113,男子種目コード!$A$78:$B$81,2,FALSE),IF(I113=2,VLOOKUP(AG113,女子種目コード!$A$78:$B$81,2,FALSE))))","v":""},null,0,2,0,null,null,null,"","",null,null,"",0,0,0,0,null,null,null,0,0,"",""]
[0,{"$f":"名簿!Q116","v":""},0,null,{"$f":"名簿!E116","v":0},{"$f":"名簿!BR116","v":""},{"$f":"名簿!Z116","v":""},"",{"$f":"名簿!O116","v":""},{"$f":"名簿!I116","v":0},{"$f":"名簿!K116","v":0},{"$f":"名簿!BU116","v":"00"},{"$f":"名簿!R116","v":""},{"$f":"名簿!D116","v":0},null,"",{"$f":"IF(O114=\"\",\"\",HLOOKUP(O114,名簿!$AB$8:$BI$118,109,FALSE))","v":""},0,2,null,"",{"$f":"IF(T114=\"\",\"\",HLOOKUP(T114,名簿!$AB$8:$BI$118,109,FALSE))","v":""},null,{"$f":"IF(W114=\"\",\"\",IF(I114=1,VLOOKUP(W114,男子種目コード!$D$2:$E$30,2,FALSE),IF(I114=2,VLOOKUP(W114,女子種目コード!$D$2:$E$30,2,FALSE))))","v":""},null,null,null,null,{"$f":"IF(AB114=\"\",\"\",IF(I114=1,VLOOKUP(AB114,男子種目コード!$A$82:$B$85,2,FALSE),IF(I114=2,VLOOKUP(AB114,女子種目コード!$A$82:$B$85,2,FALSE))))","v":""},null,0,2,null,{"$f":"IF(AG114=\"\",\"\",IF(I114=1,VLOOKUP(AG114,男子種目コード!$A$78:$B$81,2,FALSE),IF(I114=2,VLOOKUP(AG114,女子種目コード!$A$78:$B$81,2,FALSE))))","v":""},null,0,2,0,null,null,null,"","",null,null,"",0,0,0,0,null,null,null,0,0,"",""]
[0,{"$f":"名簿!Q117","v":""},0,null,{"$f":"名簿!E117","v":0},{"$f":"名簿!BR117","v":""},{"$f":"名簿!Z117","v":""},"",{"$f":"名簿!O117","v":""},{"$f":"名簿!I117","v":0},{"$f":"名簿!K117","v":0},{"$f":"名簿!BU117","v":"00"},{"$f":"名簿!R117","v":""},{"$f":"名簿!D117","v":0},null,"",{"$f":"IF(O115=\"\",\"\",HLOOKUP(O115,名簿!$AB$8:$BI$118,110,FALSE))","v":""},0,2,null,"",{"$f":"IF(T115=\"\",\"\",HLOOKUP(T115,名簿!$AB$8:$BI$118,110,FALSE))","v":""},null,{"$f":"IF(W115=\"\",\"\",IF(I115=1,VLOOKUP(W115,男子種目コード!$D$2:$E$30,2,FALSE),IF(I115=2,VLOOKUP(W115,女子種目コード!$D$2:$E$30,2,FALSE))))","v":""},null,null,null,null,{"$f":"IF(AB115=\"\",\"\",IF(I115=1,VLOOKUP(AB115,男子種目コード!$A$82:$B$85,2,FALSE),IF(I115=2,VLOOKUP(AB115,女子種目コード!$A$82:$B$85,2,FALSE))))","v":""},null,0,2,null,{"$f":"IF(AG115=\"\",\"\",IF(I115=1,VLOOKUP(AG115,男子種目コード!$A$78:$B$81,2,FALSE),IF(I115=2,VLOOKUP(AG115,女子種目コード!$A$78:$B$81,2,FALSE))))","v":""},null,0,2,0,null,null,null,"","",null,null,"",0,0,0,0,null,null,null,0,0,"",""]
[0,{"$f":"名簿!Q118","v":""},0,null,{"$f":"名簿!E118","v":0},{"$f":"名簿!BR118","v":""},{"$f":"名簿!Z118","v":""},"",{"$f":"名簿!O118","v":""},{"$f":"名簿!I118","v":0},{"$f":"名簿!K118","v":0},{"$f":"名簿!BU118","v":"00"},{"$f":"名簿!R118","v":""},{"$f":"名簿!D118","v":0},null,"",{"$f":"IF(O116=\"\",\"\",HLOOKUP(O116,名簿!$AB$8:$BI$118,111,FALSE))","v":""},0,2,null,"",{"$f":"IF(T116=\"\",\"\",HLOOKUP(T116,名簿!$AB$8:$BI$118,111,FALSE))","v":""},null,{"$f":"IF(W116=\"\",\"\",IF(I116=1,VLOOKUP(W116,男子種目コード!$D$2:$E$30,2,FALSE),IF(I116=2,VLOOKUP(W116,女子種目コード!$D$2:$E$30,2,FALSE))))","v":""},null,null,null,null,{"$f":"IF(AB116=\"\",\"\",IF(I116=1,VLOOKUP(AB116,男子種目コード!$A$82:$B$85,2,FALSE),IF(I116=2,VLOOKUP(AB116,女子種目コード!$A$82:$B$85,2,FALSE))))","v":""},null,0,2,null,{"$f":"IF(AG116=\"\",\"\",IF(I116=1,VLOOKUP(AG116,男子種目コード!$A$78:$B$81,2,FALSE),IF(I116=2,VLOOKUP(AG116,女子種目コード!$A$78:$B$81,2,FALSE))))","v":""},null,0,2,1,null,null,null,"","",null,null,"",0,0,0,{"$f":"SUM(AT116:AW116)","v":0},null,null,null,0,0,"",""]
[null,null,null,null,null,null,null,null,null,null,null,null,null,null,null,null,null,null,null,null,null,null,null,null,null,null,null,null,null,null,null,null,null,null,null,null,null,null,null,null,null,null,null,null,null,null,null,null,null,null,null,null,null,{"$f":"SUM(BB7:BB116)","v":0},{"$f":"SUM(BC7:BC116)","v":0},{"$f":"SUM(BD7:BD116)","v":0},{"$f":"SUM(BE7:BE116)","v":0}]
[]
[]
[]
[]
[]
[]
[]
[]
[null,null,null,null,null,null,null,null,null,null,null,null,null,null,null,null,null,null,null,null,null,null,null,null,null,null,null,"男子A",{"$f":"COUNTIF($AB$7:$AB$116,AB126)","v":0},{"$f":"COUNTIF($AG$7:$AG$116,AB126)","v":0}]
[null,null,null,null,null,null,null,null,null,null,null,null,null,null,null,null,null,null,null,null,null,null,null,null,null,null,null,"男子B",{"$f":"COUNTIF($AB$7:$AB$116,AB127)","v":0},{"$f":"COUNTIF($AG$7:$AG$116,AB127)","v":0}]
[null,null,null,null,null,null,null,null,null,null,null,null,null,null,null,null,null,null,null,null,null,null,null,null,null,null,null,"男子C",0,0]
[null,null,null,null,null,null,null,null,null,null,null,null,null,null,null,null,null,null,null,null,null,null,null,null,null,null,null,"男子D",0,0]
[null,null,null,null,null,null,null,null,null,null,null,null,null,null,null,null,null,null,null,null,null,null,null,null,null,null,null,"女子A",0,0]
[null,null,null,null,null,null,null,null,null,null,null,null,null,null,null,null,null,null,null,null,null,null,null,null,null,null,null,"女子B",0,0]
[null,null,null,null,null,null,null,null,null,null,null,null,null,null,null,null,null,null,null,null,null,null,null,null,null,null,null,"女子C",0,0]
[null,null,null,null,null,null,null,null,null,null,null,null,null,null,null,null,null,null,null,null,null,null,null,null,null,null,null,"女子D",0,0]
[null,null,null,null,null,null,null,null,null,null,null,null,null,null,null,null,null,null,null,null,null,null,null,null,null,null,null,null,{"$f":"COUNTIF(AC126:AC133,0)","v":8},{"$f":"COUNTIF(AD126:AD133,0)","v":8},{"$f":"16-AC134-AD134","v":0},0,0]

{"sheet":"SF","index":14,"n_rows":117,"n_cols":67,"rows_kept":117,"cut":false,"hidden":false,"merged":[[15,48,15,49],[16,48,16,49],[17,47,22,47],[25,48,25,49],[8,47,13,47],[14,48,14,49],[0,14,0,45],[7,48,7,49],[1,20,1,21],[5,44,5,45],[5,48,5,49],[6,48,6,49],[37,47,42,47],[35,48,35,49],[36,48,36,49],[26,48,26,49],[27,48,27,49],[28,47,33,47],[34,48,34,49]]}
[null,null,null,null,"所属名",{"$f":"IF(名簿!$P$9=\"\",\"\",名簿!$P$9)","v":""},null,null,null,null,null,null,null,null,"みえスポーツフェスティバル"]
[null,null,null,null,"所属コード",{"$f":"名簿!$Q$9","v":""}]
[null,null,null,null,"顧問名",{"$f":"IF(名簿!$E$5=\"\",\"\",名簿!$E$5)","v":""},"男子参加人数",null,{"$f":"COUNTIF($I$7:$I$116,1)-COUNTIF($BM$7:$BM$116,0)","v":0},null,null,null,null,"リレー",{"$f":"AT22","v":0}]
[null,null,null,null,"顧問連絡先",{"$f":"IF(名簿!$I$5=\"\",\"\",名簿!$I$5)","v":""},"女子参加人数",null,{"$f":"COUNTIF($I$7:$I$116,2)-COUNTIF($BN$7:$BN$116,0)","v":0},"計",null,null,null,null,{"$f":"I3+I4","v":0},null,"参加費",null,null,null,null,null,null,null,null,null,null,null,null,{"$f":"AT16*1000+AT22*2000+I5*800","v":0}]
[null,null,null,null,null,null,"プログラム冊数",null,null,"冊"]
["競技者コード","所属コード","所属コード2","ナンバーA","ナンバー","名前","カナ名","掲示板名","性別","学年","生年","月日","個人所属地コード","陸連コード","1種目","コード","記録",null,null,"2種目","コード","記録",null,null,"3種目","コード","記録",null,null,"4×100","コード","記録4",null,null,"4×400Ｒ","コード","記録5",null,null,null,null,null,null,null,"出場数",null,null,"種目","400R",null,null,null,null,null,null,null,null,null,null,null,"男子","女子",null,"種目数","男子","女子"]
[{"$f":"IF(I7=1,IF(AD7=\"男子\",1),IF(AD7=\"女子\",2))","v":false},{"$f":"名簿!Q9","v":""},null,null,{"$f":"名簿!E9","v":0},{"$f":"名簿!BR9","v":""},{"$f":"名簿!Z9","v":""},{"$f":"F7","v":""},{"$f":"名簿!O9","v":""},{"$f":"名簿!I9","v":0},{"$f":"名簿!K9","v":0},{"$f":"名簿!BU9","v":"00"},{"$f":"名簿!R9","v":""},{"$f":"名簿!D9","v":0},null,{"$f":"IF(O7=\"\",\"\",IF(I7=1,VLOOKUP(O7,$AS$7:$AU$9,3,FALSE),IF(I7=2,VLOOKUP(O7,$AS$12:$AU$14,3,FALSE))))","v":""},{"$f":"IF(O7=\"\",\"\",HLOOKUP(O7,名簿!$AB$8:$BH$118,2,FALSE))","v":""},0,2,null,{"$f":"IF(T7=\"\",\"\",IF(I7=1,VLOOKUP(O7,男子種目コード!$Y$1:$Z$8,2,FALSE),IF(I7=2,VLOOKUP(O7,女子種目コード!$Y$1:$Z$6,2,FALSE))))","v":""},{"$f":"IF(T7=\"\",\"\",HLOOKUP(T7,名簿!$AB$8:$BG$118,2,FALSE))","v":""},0,2,null,{"$f":"IF(Y7=\"\",\"\",IF(I7=1,VLOOKUP(Y7,男子種目コード!$A$1:$B$33,2,FALSE),IF(I7=2,VLOOKUP(Y7,女子種目コード!$A$36:$B$66,2,FALSE))))","v":""},{"$f":"IF(Y7=\"\",\"\",HLOOKUP(Y7,名簿!$AB$8:$BG$118,2,FALSE))","v":""},0,2,null,{"$f":"IF(AD7=\"\",\"\",IF(I7=1,VLOOKUP(AD7,$AS$19:$AU$19,3,FALSE),IF(I7=2,VLOOKUP(AD7,$AS$20:$AU$20,3,FALSE))))","v":""},null,null,2,null,{"$f":"IF(AI7=\"\",\"\",IF(I7=1,VLOOKUP(AI7,男子種目コード!$A$1:$B$33,2,FALSE),IF(I7=2,VLOOKUP(AI7,女子種目コード!$A$36:$B$66,2,FALSE))))","v":""},null,0,2,null,null,null,null,null,"100m",{"$f":"COUNTIF($P$7:$P$116,2)+COUNTIF($U$7:$U$116,2)+COUNTIF($Z$7:$Z$116,2)","v":0},2,"記録",null,null,null,null,null,{"$f":"IF(O7=\"\",\"\",1)","v":""},{"$f":"IF(OR(BB7=1,T7=\"\"),0,1)","v":0},{"$f":"IF(OR(BB7=1,BC7=1,Y7=\"\"),0,1)","v":0},{"$f":"IF(OR(BB7=1,BC7=1,BD7=1,AD7=\"\"),0,1)","v":0},{"$f":"IF(OR(BB7=1,BC7=1,BD7=1,BE7=1,AI7=\"\"),0,1)","v":0},null,null,100,100,null,{"$f":"COUNT(P7,U7,Z7,AE7,AJ7)","v":0},{"$f":"IF(I7=1,BL7,\"\")","v":""},{"$f":"IF(I7=2,BL7,\"\")","v":""}]
[{"$f":"IF(I8=1,IF(AD8=\"男子\",1),IF(AD8=\"女子\",2))","v":false},{"$f":"名簿!Q10","v":""},null,null,{"$f":"名簿!E10","v":0},{"$f":"名簿!BR10","v":""},{"$f":"名簿!Z10","v":""},"",{"$f":"名簿!O10","v":""},{"$f":"名簿!I10","v":0},{"$f":"名簿!K10","v":0},{"$f":"名簿!BU10","v":"00"},{"$f":"名簿!R10","v":""},{"$f":"名簿!D10","v":0},null,{"$f":"IF(O8=\"\",\"\",IF(I8=1,VLOOKUP(O8,$AS$7:$AU$9,3,FALSE),IF(I8=2,VLOOKUP(O8,$AS$12:$AU$14,3,FALSE))))","v":""},{"$f":"IF(O8=\"\",\"\",HLOOKUP(O8,名簿!$AB$8:$BH$118,3,FALSE))","v":""},0,2,null,{"$f":"IF(T8=\"\",\"\",IF(I8=1,VLOOKUP(O8,男子種目コード!$Y$1:$Z$8,2,FALSE),IF(I8=2,VLOOKUP(O8,女子種目コード!$Y$1:$Z$6,2,FALSE))))","v":""},{"$f":"IF(T8=\"\",\"\",HLOOKUP(T8,名簿!$AB$8:$BG$118,3,FALSE))","v":""},0,2,null,{"$f":"IF(Y8=\"\",\"\",IF(I8=1,VLOOKUP(Y8,男子種目コード!$A$1:$B$33,2,FALSE),IF(I8=2,VLOOKUP(Y8,女子種目コード!$A$36:$B$66,2,FALSE))))","v":""},{"$f":"IF(Y8=\"\",\"\",HLOOKUP(Y8,名簿!$AB$8:$BG$118,3,FALSE))","v":""},0,2,null,{"$f":"IF(AD8=\"\",\"\",IF(I8=1,VLOOKUP(AD8,$AS$19:$AU$19,3,FALSE),IF(I8=2,VLOOKUP(AD8,$AS$20:$AU$20,3,FALSE))))","v":""},null,0,2,null,{"$f":"IF(AI8=\"\",\"\",IF(I8=1,VLOOKUP(AI8,男子種目コード!$A$1:$B$33,2,FALSE),IF(I8=2,VLOOKUP(AI8,女子種目コード!$A$36:$B$66,2,FALSE))))","v":""},null,0,2,null,null,null,null,null,"3000m",{"$f":"COUNTIF($P$7:$P$116,3)+COUNTIF($U$7:$U$116,3)+COUNTIF($Z$7:$Z$116,3)","v":0},3,"ｵｰﾀﾞｰ",{"$f":"COUNTIF($AE$7:$AE$116,6)","v":0},null,null,null,null,"",0,0,0,0,null,null,3000,3000,null,{"$f":"COUNT(P8,U8,Z8,AE8,AJ8)","v":0},{"$f":"IF(I8=1,BL8,\"\")","v":""},{"$f":"IF(I8=2,BL8,\"\")","v":""}]
[false,{"$f":"名簿!Q11","v":""},null,null,{"$f":"名簿!E11","v":0},{"$f":"名簿!BR11","v":""},{"$f":"名簿!Z11","v":""},"",{"$f":"名簿!O11","v":""},{"$f":"名簿!I11","v":0},{"$f":"名簿!K11","v":0},{"$f":"名簿!BU11","v":"00"},{"$f":"名簿!R11","v":""},{"$f":"名簿!D11","v":0},null,"",{"$f":"IF(O9=\"\",\"\",HLOOKUP(O9,名簿!$AB$8:$BH$118,4,FALSE))","v":""},0,2,null,{"$f":"IF(T9=\"\",\"\",IF(I9=1,VLOOKUP(O9,男子種目コード!$Y$1:$Z$8,2,FALSE),IF(I9=2,VLOOKUP(O9,女子種目コード!$Y$1:$Z$6,2,FALSE))))","v":""},{"$f":"IF(T9=\"\",\"\",HLOOKUP(T9,名簿!$AB$8:$BG$118,4,FALSE))","v":""},0,2,null,{"$f":"IF(Y9=\"\",\"\",IF(I9=1,VLOOKUP(Y9,男子種目コード!$A$1:$B$33,2,FALSE),IF(I9=2,VLOOKUP(Y9,女子種目コード!$A$36:$B$66,2,FALSE))))","v":""},{"$f":"IF(Y9=\"\",\"\",HLOOKUP(Y9,名簿!$AB$8:$BG$118,4,FALSE))","v":""},0,2,null,"",null,0,2,null,{"$f":"IF(AI9=\"\",\"\",IF(I9=1,VLOOKUP(AI9,男子種目コード!$A$1:$B$33,2,FALSE),IF(I9=2,VLOOKUP(AI9,女子種目コード!$A$36:$B$66,2,FALSE))))","v":""},null,0,2,null,null,null,null,null,"110mJH",{"$f":"COUNTIF($P$7:$P$116,5)+COUNTIF($U$7:$U$116,5)+COUNTIF($Z$7:$Z$116,5)","v":0},5,"選　手",{"$f":"IF(ISERROR(AY9),\"\",AY9)","v":""},{"$f":"IF(ISERROR(AZ9),\"\",AZ9)","v":""},{"$f":"VLookUpX(1,$A$7:$F$116,1,5)","v":{"$error":"#N/A"}},{"$f":"VLookUpX(1,$A$7:$F$116,1,6)","v":{"$error":"#N/A"}},{"$f":"IF(AW9=\"\",\"\",1)","v":""},"",0,0,0,0,null,null,"110JH","100YH",null,0,"",""]
[false,{"$f":"名簿!Q12","v":""},null,null,{"$f":"名簿!E12","v":0},{"$f":"名簿!BR12","v":""},{"$f":"名簿!Z12","v":""},"",{"$f":"名簿!O12","v":""},{"$f":"名簿!I12","v":0},{"$f":"名簿!K12","v":0},{"$f":"名簿!BU12","v":"00"},{"$f":"名簿!R12","v":""},{"$f":"名簿!D12","v":0},null,"",{"$f":"IF(O10=\"\",\"\",HLOOKUP(O10,名簿!$AB$8:$BH$118,5,FALSE))","v":""},0,2,null,{"$f":"IF(T10=\"\",\"\",IF(I10=1,VLOOKUP(O10,男子種目コード!$Y$1:$Z$8,2,FALSE),IF(I10=2,VLOOKUP(O10,女子種目コード!$Y$1:$Z$6,2,FALSE))))","v":""},{"$f":"IF(T10=\"\",\"\",HLOOKUP(T10,名簿!$AB$8:$BG$118,5,FALSE))","v":""},0,2,null,{"$f":"IF(Y10=\"\",\"\",IF(I10=1,VLOOKUP(Y10,男子種目コード!$A$1:$B$33,2,FALSE),IF(I10=2,VLOOKUP(Y10,女子種目コード!$A$36:$B$66,2,FALSE))))","v":""},{"$f":"IF(Y10=\"\",\"\",HLOOKUP(Y10,名簿!$AB$8:$BG$118,5,FALSE))","v":""},0,2,null,"",null,0,2,null,{"$f":"IF(AI10=\"\",\"\",IF(I10=1,VLOOKUP(AI10,男子種目コード!$A$1:$B$33,2,FALSE),IF(I10=2,VLOOKUP(AI10,女子種目コード!$A$36:$B$66,2,FALSE))))","v":""},null,0,2,null,null,null,null,null,"男子計",{"$f":"SUM(AT7:AT9)","v":0},null,null,{"$f":"IF(ISERROR(AY10),\"\",AY10)","v":""},"",{"$f":"VLookUpX(1,$A$7:$F$116,2,5)","v":{"$error":"#N/A"}},{"$f":"VLookUpX(1,$A$7:$F$116,2,6)","v":{"$error":"#N/A"}},null,"",0,0,0,0,null,null,null,null,null,0,"",""]
[false,{"$f":"名簿!Q13","v":""},null,null,{"$f":"名簿!E13","v":0},{"$f":"名簿!BR13","v":""},{"$f":"名簿!Z13","v":""},"",{"$f":"名簿!O13","v":""},{"$f":"名簿!I13","v":0},{"$f":"名簿!K13","v":0},{"$f":"名簿!BU13","v":"00"},{"$f":"名簿!R13","v":""},{"$f":"名簿!D13","v":0},null,"",{"$f":"IF(O11=\"\",\"\",HLOOKUP(O11,名簿!$AB$8:$BH$118,6,FALSE))","v":""},0,2,null,{"$f":"IF(T11=\"\",\"\",IF(I11=1,VLOOKUP(O11,男子種目コード!$Y$1:$Z$8,2,FALSE),IF(I11=2,VLOOKUP(O11,女子種目コード!$Y$1:$Z$6,2,FALSE))))","v":""},{"$f":"IF(T11=\"\",\"\",HLOOKUP(T11,名簿!$AB$8:$BG$118,6,FALSE))","v":""},0,2,null,{"$f":"IF(Y11=\"\",\"\",IF(I11=1,VLOOKUP(Y11,男子種目コード!$A$1:$B$33,2,FALSE),IF(I11=2,VLOOKUP(Y11,女子種目コード!$A$36:$B$66,2,FALSE))))","v":""},{"$f":"IF(Y11=\"\",\"\",HLOOKUP(Y11,名簿!$AB$8:$BG$118,6,FALSE))","v":""},0,2,null,"",null,0,2,null,{"$f":"IF(AI11=\"\",\"\",IF(I11=1,VLOOKUP(AI11,男子種目コード!$A$1:$B$33,2,FALSE),IF(I11=2,VLOOKUP(AI11,女子種目コード!$A$36:$B$66,2,FALSE))))","v":""},null,0,2,null,null,null,null,null,null,null,null,null,"","",{"$f":"VLookUpX(1,$A$7:$F$116,3,5)","v":{"$error":"#N/A"}},{"$f":"VLookUpX(1,$A$7:$F$116,3,6)","v":{"$error":"#N/A"}},null,"",0,0,0,0,null,null,null,null,null,0,"",""]
[false,{"$f":"名簿!Q14","v":""},null,null,{"$f":"名簿!E14","v":0},{"$f":"名簿!BR14","v":""},{"$f":"名簿!Z14","v":""},"",{"$f":"名簿!O14","v":""},{"$f":"名簿!I14","v":0},{"$f":"名簿!K14","v":0},{"$f":"名簿!BU14","v":"00"},{"$f":"名簿!R14","v":""},{"$f":"名簿!D14","v":0},null,"",{"$f":"IF(O12=\"\",\"\",HLOOKUP(O12,名簿!$AB$8:$BH$118,7,FALSE))","v":""},0,2,null,{"$f":"IF(T12=\"\",\"\",IF(I12=1,VLOOKUP(O12,男子種目コード!$Y$1:$Z$8,2,FALSE),IF(I12=2,VLOOKUP(O12,女子種目コード!$Y$1:$Z$6,2,FALSE))))","v":""},{"$f":"IF(T12=\"\",\"\",HLOOKUP(T12,名簿!$AB$8:$BG$118,7,FALSE))","v":""},0,2,null,{"$f":"IF(Y12=\"\",\"\",IF(I12=1,VLOOKUP(Y12,男子種目コード!$A$1:$B$33,2,FALSE),IF(I12=2,VLOOKUP(Y12,女子種目コード!$A$36:$B$66,2,FALSE))))","v":""},{"$f":"IF(Y12=\"\",\"\",HLOOKUP(Y12,名簿!$AB$8:$BG$118,7,FALSE))","v":""},0,2,null,"",null,0,2,null,{"$f":"IF(AI12=\"\",\"\",IF(I12=1,VLOOKUP(AI12,男子種目コード!$A$1:$B$33,2,FALSE),IF(I12=2,VLOOKUP(AI12,女子種目コード!$A$36:$B$66,2,FALSE))))","v":""},null,0,2,null,null,null,null,null,"100m",{"$f":"COUNTIF($P$7:$P$116,11)+COUNTIF($U$7:$U$116,11)+COUNTIF($Z$7:$Z$116,11)","v":0},11,null,"","",{"$f":"VLookUpX(1,$A$7:$F$116,4,5)","v":{"$error":"#N/A"}},{"$f":"VLookUpX(1,$A$7:$F$116,4,6)","v":{"$error":"#N/A"}},null,"",0,0,0,0,null,null,null,null,null,0,"",""]
[false,{"$f":"名簿!Q15","v":""},null,null,{"$f":"名簿!E15","v":0},{"$f":"名簿!BR15","v":""},{"$f":"名簿!Z15","v":""},"",{"$f":"名簿!O15","v":""},{"$f":"名簿!I15","v":0},{"$f":"名簿!K15","v":0},{"$f":"名簿!BU15","v":"00"},{"$f":"名簿!R15","v":""},{"$f":"名簿!D15","v":0},null,"",{"$f":"IF(O13=\"\",\"\",HLOOKUP(O13,名簿!$AB$8:$BH$118,8,FALSE))","v":""},0,2,null,{"$f":"IF(T13=\"\",\"\",IF(I13=1,VLOOKUP(O13,男子種目コード!$Y$1:$Z$8,2,FALSE),IF(I13=2,VLOOKUP(O13,女子種目コード!$Y$1:$Z$6,2,FALSE))))","v":""},{"$f":"IF(T13=\"\",\"\",HLOOKUP(T13,名簿!$AB$8:$BG$118,8,FALSE))","v":""},0,2,null,{"$f":"IF(Y13=\"\",\"\",IF(I13=1,VLOOKUP(Y13,男子種目コード!$A$1:$B$33,2,FALSE),IF(I13=2,VLOOKUP(Y13,女子種目コード!$A$36:$B$66,2,FALSE))))","v":""},{"$f":"IF(Y13=\"\",\"\",HLOOKUP(Y13,名簿!$AB$8:$BG$118,8,FALSE))","v":""},0,2,null,"",null,0,2,null,{"$f":"IF(AI13=\"\",\"\",IF(I13=1,VLOOKUP(AI13,男子種目コード!$A$1:$B$33,2,FALSE),IF(I13=2,VLOOKUP(AI13,女子種目コード!$A$36:$B$66,2,FALSE))))","v":""},null,0,2,null,null,null,null,null,"3000m",{"$f":"COUNTIF($P$7:$P$116,12)+COUNTIF($U$7:$U$116,12)+COUNTIF($Z$7:$Z$116,12)","v":0},12,null,"","",{"$f":"VLookUpX(1,$A$7:$F$116,5,5)","v":{"$error":"#N/A"}},{"$f":"VLookUpX(1,$A$7:$F$116,5,6)","v":{"$error":"#N/A"}},null,"",0,0,0,0,null,null,null,null,null,0,"",""]
[false,{"$f":"名簿!Q16","v":""},null,null,{"$f":"名簿!E16","v":0},{"$f":"名簿!BR16","v":""},{"$f":"名簿!Z16","v":""},"",{"$f":"名簿!O16","v":""},{"$f":"名簿!I16","v":0},{"$f":"名簿!K16","v":0},{"$f":"名簿!BU16","v":"00"},{"$f":"名簿!R16","v":""},{"$f":"名簿!D16","v":0},null,"",{"$f":"IF(O14=\"\",\"\",HLOOKUP(O14,名簿!$AB$8:$BH$118,9,FALSE))","v":""},0,2,null,{"$f":"IF(T14=\"\",\"\",IF(I14=1,VLOOKUP(O14,男子種目コード!$Y$1:$Z$8,2,FALSE),IF(I14=2,VLOOKUP(O14,女子種目コード!$Y$1:$Z$6,2,FALSE))))","v":""},{"$f":"IF(T14=\"\",\"\",HLOOKUP(T14,名簿!$AB$8:$BG$118,9,FALSE))","v":""},0,2,null,{"$f":"IF(Y14=\"\",\"\",IF(I14=1,VLOOKUP(Y14,男子種目コード!$A$1:$B$33,2,FALSE),IF(I14=2,VLOOKUP(Y14,女子種目コード!$A$36:$B$66,2,FALSE))))","v":""},{"$f":"IF(Y14=\"\",\"\",HLOOKUP(Y14,名簿!$AB$8:$BG$118,9,FALSE))","v":""},0,2,null,"",null,0,2,null,{"$f":"IF(AI14=\"\",\"\",IF(I14=1,VLOOKUP(AI14,男子種目コード!$A$1:$B$33,2,FALSE),IF(I14=2,VLOOKUP(AI14,女子種目コード!$A$36:$B$66,2,FALSE))))","v":""},null,0,2,null,null,null,null,null,"100mYH",{"$f":"COUNTIF($P$7:$P$116,13)+COUNTIF($U$7:$U$116,13)+COUNTIF($Z$7:$Z$116,13)","v":0},13,null,"","",{"$f":"VLookUpX(1,$A$7:$F$116,6,5)","v":{"$error":"#N/A"}},{"$f":"VLookUpX(1,$A$7:$F$116,6,6)","v":{"$error":"#N/A"}},null,"",0,0,0,0,null,null,null,null,null,0,"",""]
[false,{"$f":"名簿!Q17","v":""},null,null,{"$f":"名簿!E17","v":0},{"$f":"名簿!BR17","v":""},{"$f":"名簿!Z17","v":""},"",{"$f":"名簿!O17","v":""},{"$f":"名簿!I17","v":0},{"$f":"名簿!K17","v":0},{"$f":"名簿!BU17","v":"00"},{"$f":"名簿!R17","v":""},{"$f":"名簿!D17","v":0},null,"",{"$f":"IF(O15=\"\",\"\",HLOOKUP(O15,名簿!$AB$8:$BH$118,10,FALSE))","v":""},0,2,null,{"$f":"IF(T15=\"\",\"\",IF(I15=1,VLOOKUP(O15,男子種目コード!$Y$1:$Z$8,2,FALSE),IF(I15=2,VLOOKUP(O15,女子種目コード!$Y$1:$Z$6,2,FALSE))))","v":""},{"$f":"IF(T15=\"\",\"\",HLOOKUP(T15,名簿!$AB$8:$BG$118,10,FALSE))","v":""},0,2,null,{"$f":"IF(Y15=\"\",\"\",IF(I15=1,VLOOKUP(Y15,男子種目コード!$A$1:$B$33,2,FALSE),IF(I15=2,VLOOKUP(Y15,女子種目コード!$A$36:$B$66,2,FALSE))))","v":""},{"$f":"IF(Y15=\"\",\"\",HLOOKUP(Y15,名簿!$AB$8:$BG$118,10,FALSE))","v":""},0,2,null,"",null,0,2,null,{"$f":"IF(AI15=\"\",\"\",IF(I15=1,VLOOKUP(AI15,男子種目コード!$A$1:$B$33,2,FALSE),IF(I15=2,VLOOKUP(AI15,女子種目コード!$A$36:$B$66,2,FALSE))))","v":""},null,0,2,null,null,null,null,null,"女子計",{"$f":"SUM(AT12:AT14)","v":0},null,"種目","400R",null,null,null,null,"",0,0,0,0,null,null,null,null,null,0,"",""]
[false,{"$f":"名簿!Q18","v":""},null,null,{"$f":"名簿!E18","v":0},{"$f":"名簿!BR18","v":""},{"$f":"名簿!Z18","v":""},"",{"$f":"名簿!O18","v":""},{"$f":"名簿!I18","v":0},{"$f":"名簿!K18","v":0},{"$f":"名簿!BU18","v":"00"},{"$f":"名簿!R18","v":""},{"$f":"名簿!D18","v":0},null,"",{"$f":"IF(O16=\"\",\"\",HLOOKUP(O16,名簿!$AB$8:$BH$118,11,FALSE))","v":""},0,2,null,{"$f":"IF(T16=\"\",\"\",IF(I16=1,VLOOKUP(O16,男子種目コード!$Y$1:$Z$8,2,FALSE),IF(I16=2,VLOOKUP(O16,女子種目コード!$Y$1:$Z$6,2,FALSE))))","v":""},{"$f":"IF(T16=\"\",\"\",HLOOKUP(T16,名簿!$AB$8:$BG$118,11,FALSE))","v":""},0,2,null,{"$f":"IF(Y16=\"\",\"\",IF(I16=1,VLOOKUP(Y16,男子種目コード!$A$1:$B$33,2,FALSE),IF(I16=2,VLOOKUP(Y16,女子種目コード!$A$36:$B$66,2,FALSE))))","v":""},{"$f":"IF(Y16=\"\",\"\",HLOOKUP(Y16,名簿!$AB$8:$BG$118,11,FALSE))","v":""},0,2,null,"",null,0,2,null,{"$f":"IF(AI16=\"\",\"\",IF(I16=1,VLOOKUP(AI16,男子種目コード!$A$1:$B$33,2,FALSE),IF(I16=2,VLOOKUP(AI16,女子種目コード!$A$36:$B$66,2,FALSE))))","v":""},null,0,2,null,null,null,null,null,"総計",{"$f":"AT10+AT15","v":0},null,"記録",null,null,null,null,null,"",0,0,0,0,null,null,null,null,null,0,"",""]
[false,{"$f":"名簿!Q19","v":""},null,null,{"$f":"名簿!E19","v":0},{"$f":"名簿!BR19","v":""},{"$f":"名簿!Z19","v":""},"",{"$f":"名簿!O19","v":""},{"$f":"名簿!I19","v":0},{"$f":"名簿!K19","v":0},{"$f":"名簿!BU19","v":"00"},{"$f":"名簿!R19","v":""},{"$f":"名簿!D19","v":0},null,"",{"$f":"IF(O17=\"\",\"\",HLOOKUP(O17,名簿!$AB$8:$BH$118,12,FALSE))","v":""},0,2,null,{"$f":"IF(T17=\"\",\"\",IF(I17=1,VLOOKUP(O17,男子種目コード!$Y$1:$Z$8,2,FALSE),IF(I17=2,VLOOKUP(O17,女子種目コード!$Y$1:$Z$6,2,FALSE))))","v":""},{"$f":"IF(T17=\"\",\"\",HLOOKUP(T17,名簿!$AB$8:$BG$118,12,FALSE))","v":""},0,2,null,{"$f":"IF(Y17=\"\",\"\",IF(I17=1,VLOOKUP(Y17,男子種目コード!$A$1:$B$33,2,FALSE),IF(I17=2,VLOOKUP(Y17,女子種目コード!$A$36:$B$66,2,FALSE))))","v":""},{"$f":"IF(Y17=\"\",\"\",HLOOKUP(Y17,名簿!$AB$8:$BG$118,12,FALSE))","v":""},0,2,null,"",null,0,2,null,{"$f":"IF(AI17=\"\",\"\",IF(I17=1,VLOOKUP(AI17,男子種目コード!$A$1:$B$33,2,FALSE),IF(I17=2,VLOOKUP(AI17,女子種目コード!$A$36:$B$66,2,FALSE))))","v":""},null,0,2,null,null,null,null,null,null,null,null,"ｵｰﾀﾞｰ",{"$f":"COUNTIF($AE$7:$AE$116,14)","v":0},null,null,null,null,"",0,0,0,0,null,null,null,null,null,0,"",""]
[false,{"$f":"名簿!Q20","v":""},null,null,{"$f":"名簿!E20","v":0},{"$f":"名簿!BR20","v":""},{"$f":"名簿!Z20","v":""},"",{"$f":"名簿!O20","v":""},{"$f":"名簿!I20","v":0},{"$f":"名簿!K20","v":0},{"$f":"名簿!BU20","v":"00"},{"$f":"名簿!R20","v":""},{"$f":"名簿!D20","v":0},null,"",{"$f":"IF(O18=\"\",\"\",HLOOKUP(O18,名簿!$AB$8:$BH$118,13,FALSE))","v":""},0,2,null,{"$f":"IF(T18=\"\",\"\",IF(I18=1,VLOOKUP(O18,男子種目コード!$Y$1:$Z$8,2,FALSE),IF(I18=2,VLOOKUP(O18,女子種目コード!$Y$1:$Z$6,2,FALSE))))","v":""},{"$f":"IF(T18=\"\",\"\",HLOOKUP(T18,名簿!$AB$8:$BG$118,13,FALSE))","v":""},0,2,null,{"$f":"IF(Y18=\"\",\"\",IF(I18=1,VLOOKUP(Y18,男子種目コード!$A$1:$B$33,2,FALSE),IF(I18=2,VLOOKUP(Y18,女子種目コード!$A$36:$B$66,2,FALSE))))","v":""},{"$f":"IF(Y18=\"\",\"\",HLOOKUP(Y18,名簿!$AB$8:$BG$118,13,FALSE))","v":""},0,2,null,"",null,0,2,null,{"$f":"IF(AI18=\"\",\"\",IF(I18=1,VLOOKUP(AI18,男子種目コード!$A$1:$B$33,2,FALSE),IF(I18=2,VLOOKUP(AI18,女子種目コード!$A$36:$B$66,2,FALSE))))","v":""},null,0,2,null,null,null,null,null,null,null,null,"選　手",{"$f":"IF(ISERROR(AY18),\"\",AY18)","v":""},{"$f":"IF(ISERROR(AZ18),\"\",AZ18)","v":""},{"$f":"VLookUpX(2,$A$7:$F$116,1,5)","v":{"$error":"#N/A"}},{"$f":"VLookUpX(2,$A$7:$F$116,1,6)","v":{"$error":"#N/A"}},{"$f":"IF(AW18=\"\",\"\",1)","v":""},"",0,0,0,0,null,null,null,null,null,0,"",""]
[false,{"$f":"名簿!Q21","v":""},null,null,{"$f":"名簿!E21","v":0},{"$f":"名簿!BR21","v":""},{"$f":"名簿!Z21","v":""},"",{"$f":"名簿!O21","v":""},{"$f":"名簿!I21","v":0},{"$f":"名簿!K21","v":0},{"$f":"名簿!BU21","v":"00"},{"$f":"名簿!R21","v":""},{"$f":"名簿!D21","v":0},null,"",{"$f":"IF(O19=\"\",\"\",HLOOKUP(O19,名簿!$AB$8:$BH$118,14,FALSE))","v":""},0,2,null,{"$f":"IF(T19=\"\",\"\",IF(I19=1,VLOOKUP(O19,男子種目コード!$Y$1:$Z$8,2,FALSE),IF(I19=2,VLOOKUP(O19,女子種目コード!$Y$1:$Z$6,2,FALSE))))","v":""},{"$f":"IF(T19=\"\",\"\",HLOOKUP(T19,名簿!$AB$8:$BG$118,14,FALSE))","v":""},0,2,null,{"$f":"IF(Y19=\"\",\"\",IF(I19=1,VLOOKUP(Y19,男子種目コード!$A$1:$B$33,2,FALSE),IF(I19=2,VLOOKUP(Y19,女子種目コード!$A$36:$B$66,2,FALSE))))","v":""},{"$f":"IF(Y19=\"\",\"\",HLOOKUP(Y19,名簿!$AB$8:$BG$118,14,FALSE))","v":""},0,2,null,"",null,0,2,null,{"$f":"IF(AI19=\"\",\"\",IF(I19=1,VLOOKUP(AI19,男子種目コード!$A$1:$B$33,2,FALSE),IF(I19=2,VLOOKUP(AI19,女子種目コード!$A$36:$B$66,2,FALSE))))","v":""},null,0,2,null,null,null,null,null,"男子",{"$f":"COUNTIF($AD$7:$AD$116,AS19)","v":0},6,null,"","",{"$f":"VLookUpX(2,$A$7:$F$116,2,5)","v":{"$error":"#N/A"}},{"$f":"VLookUpX(2,$A$7:$F$116,2,6)","v":{"$error":"#N/A"}},null,"",0,0,0,0,null,null,null,null,null,0,"",""]
[false,{"$f":"名簿!Q22","v":""},null,null,{"$f":"名簿!E22","v":0},{"$f":"名簿!BR22","v":""},{"$f":"名簿!Z22","v":""},"",{"$f":"名簿!O22","v":""},{"$f":"名簿!I22","v":0},{"$f":"名簿!K22","v":0},{"$f":"名簿!BU22","v":"00"},{"$f":"名簿!R22","v":""},{"$f":"名簿!D22","v":0},null,"",{"$f":"IF(O20=\"\",\"\",HLOOKUP(O20,名簿!$AB$8:$BH$118,15,FALSE))","v":""},0,2,null,{"$f":"IF(T20=\"\",\"\",IF(I20=1,VLOOKUP(O20,男子種目コード!$Y$1:$Z$8,2,FALSE),IF(I20=2,VLOOKUP(O20,女子種目コード!$Y$1:$Z$6,2,FALSE))))","v":""},{"$f":"IF(T20=\"\",\"\",HLOOKUP(T20,名簿!$AB$8:$BG$118,15,FALSE))","v":""},0,2,null,{"$f":"IF(Y20=\"\",\"\",IF(I20=1,VLOOKUP(Y20,男子種目コード!$A$1:$B$33,2,FALSE),IF(I20=2,VLOOKUP(Y20,女子種目コード!$A$36:$B$66,2,FALSE))))","v":""},{"$f":"IF(Y20=\"\",\"\",HLOOKUP(Y20,名簿!$AB$8:$BG$118,15,FALSE))","v":""},0,2,null,"",null,0,2,null,{"$f":"IF(AI20=\"\",\"\",IF(I20=1,VLOOKUP(AI20,男子種目コード!$A$1:$B$33,2,FALSE),IF(I20=2,VLOOKUP(AI20,女子種目コード!$A$36:$B$66,2,FALSE))))","v":""},null,0,2,null,null,null,null,null,"女子",{"$f":"COUNTIF($AD$7:$AD$116,AS20)","v":0},14,null,"","",{"$f":"VLookUpX(2,$A$7:$F$116,3,5)","v":{"$error":"#N/A"}},{"$f":"VLookUpX(2,$A$7:$F$116,3,6)","v":{"$error":"#N/A"}},null,"",0,0,0,0,null,null,null,null,null,0,"",""]
[false,{"$f":"名簿!Q23","v":""},null,null,{"$f":"名簿!E23","v":0},{"$f":"名簿!BR23","v":""},{"$f":"名簿!Z23","v":""},"",{"$f":"名簿!O23","v":""},{"$f":"名簿!I23","v":0},{"$f":"名簿!K23","v":0},{"$f":"名簿!BU23","v":"00"},{"$f":"名簿!R23","v":""},{"$f":"名簿!D23","v":0},null,"",{"$f":"IF(O21=\"\",\"\",HLOOKUP(O21,名簿!$AB$8:$BH$118,16,FALSE))","v":""},0,2,null,{"$f":"IF(T21=\"\",\"\",IF(I21=1,VLOOKUP(O21,男子種目コード!$Y$1:$Z$8,2,FALSE),IF(I21=2,VLOOKUP(O21,女子種目コード!$Y$1:$Z$6,2,FALSE))))","v":""},{"$f":"IF(T21=\"\",\"\",HLOOKUP(T21,名簿!$AB$8:$BG$118,16,FALSE))","v":""},0,2,null,{"$f":"IF(Y21=\"\",\"\",IF(I21=1,VLOOKUP(Y21,男子種目コード!$A$1:$B$33,2,FALSE),IF(I21=2,VLOOKUP(Y21,女子種目コード!$A$36:$B$66,2,FALSE))))","v":""},{"$f":"IF(Y21=\"\",\"\",HLOOKUP(Y21,名簿!$AB$8:$BG$118,16,FALSE))","v":""},0,2,null,"",null,0,2,null,{"$f":"IF(AI21=\"\",\"\",IF(I21=1,VLOOKUP(AI21,男子種目コード!$A$1:$B$33,2,FALSE),IF(I21=2,VLOOKUP(AI21,女子種目コード!$A$36:$B$66,2,FALSE))))","v":""},null,0,2,null,null,null,null,null,null,{"$f":"COUNTIF(AT19:AT20,0)","v":2},null,null,"","",{"$f":"VLookUpX(2,$A$7:$F$116,4,5)","v":{"$error":"#N/A"}},{"$f":"VLookUpX(2,$A$7:$F$116,4,6)","v":{"$error":"#N/A"}},null,"",0,0,0,0,null,null,null,null,null,0,"",""]
[false,{"$f":"名簿!Q24","v":""},null,null,{"$f":"名簿!E24","v":0},{"$f":"名簿!BR24","v":""},{"$f":"名簿!Z24","v":""},"",{"$f":"名簿!O24","v":""},{"$f":"名簿!I24","v":0},{"$f":"名簿!K24","v":0},{"$f":"名簿!BU24","v":"00"},{"$f":"名簿!R24","v":""},{"$f":"名簿!D24","v":0},null,"",{"$f":"IF(O22=\"\",\"\",HLOOKUP(O22,名簿!$AB$8:$BH$118,17,FALSE))","v":""},0,2,null,{"$f":"IF(T22=\"\",\"\",IF(I22=1,VLOOKUP(O22,男子種目コード!$Y$1:$Z$8,2,FALSE),IF(I22=2,VLOOKUP(O22,女子種目コード!$Y$1:$Z$6,2,FALSE))))","v":""},{"$f":"IF(T22=\"\",\"\",HLOOKUP(T22,名簿!$AB$8:$BG$118,17,FALSE))","v":""},0,2,null,{"$f":"IF(Y22=\"\",\"\",IF(I22=1,VLOOKUP(Y22,男子種目コード!$A$1:$B$33,2,FALSE),IF(I22=2,VLOOKUP(Y22,女子種目コード!$A$36:$B$66,2,FALSE))))","v":""},{"$f":"IF(Y22=\"\",\"\",HLOOKUP(Y22,名簿!$AB$8:$BG$118,17,FALSE))","v":""},0,2,null,"",null,0,2,null,{"$f":"IF(AI22=\"\",\"\",IF(I22=1,VLOOKUP(AI22,男子種目コード!$A$1:$B$33,2,FALSE),IF(I22=2,VLOOKUP(AI22,女子種目コード!$A$36:$B$66,2,FALSE))))","v":""},null,0,2,null,null,null,null,null,null,{"$f":"2-AT21","v":0},null,null,"","",{"$f":"VLookUpX(2,$A$7:$F$116,5,5)","v":{"$error":"#N/A"}},{"$f":"VLookUpX(2,$A$7:$F$116,5,6)","v":{"$error":"#N/A"}},null,"",0,0,0,0,null,null,null,null,null,0,"",""]
[false,{"$f":"名簿!Q25","v":""},null,null,{"$f":"名簿!E25","v":0},{"$f":"名簿!BR25","v":""},{"$f":"名簿!Z25","v":""},"",{"$f":"名簿!O25","v":""},{"$f":"名簿!I25","v":0},{"$f":"名簿!K25","v":0},{"$f":"名簿!BU25","v":"00"},{"$f":"名簿!R25","v":""},{"$f":"名簿!D25","v":0},null,"",{"$f":"IF(O23=\"\",\"\",HLOOKUP(O23,名簿!$AB$8:$BH$118,18,FALSE))","v":""},0,2,null,{"$f":"IF(T23=\"\",\"\",IF(I23=1,VLOOKUP(O23,男子種目コード!$Y$1:$Z$8,2,FALSE),IF(I23=2,VLOOKUP(O23,女子種目コード!$Y$1:$Z$6,2,FALSE))))","v":""},{"$f":"IF(T23=\"\",\"\",HLOOKUP(T23,名簿!$AB$8:$BG$118,18,FALSE))","v":""},0,2,null,{"$f":"IF(Y23=\"\",\"\",IF(I23=1,VLOOKUP(Y23,男子種目コード!$A$1:$B$33,2,FALSE),IF(I23=2,VLOOKUP(Y23,女子種目コード!$A$36:$B$66,2,FALSE))))","v":""},{"$f":"IF(Y23=\"\",\"\",HLOOKUP(Y23,名簿!$AB$8:$BG$118,18,FALSE))","v":""},0,2,null,"",null,0,2,null,{"$f":"IF(AI23=\"\",\"\",IF(I23=1,VLOOKUP(AI23,男子種目コード!$A$1:$B$33,2,FALSE),IF(I23=2,VLOOKUP(AI23,女子種目コード!$A$36:$B$66,2,FALSE))))","v":""},null,0,2,null,null,null,null,null,null,null,null,null,"","",{"$f":"VLookUpX(2,$A$7:$F$116,6,5)","v":{"$error":"#N/A"}},{"$f":"VLookUpX(2,$A$7:$F$116,6,6)","v":{"$error":"#N/A"}},null,"",0,0,0,0,null,null,null,null,null,0,"",""]
[false,{"$f":"名簿!Q26","v":""},null,null,{"$f":"名簿!E26","v":0},{"$f":"名簿!BR26","v":""},{"$f":"名簿!Z26","v":""},"",{"$f":"名簿!O26","v":""},{"$f":"名簿!I26","v":0},{"$f":"名簿!K26","v":0},{"$f":"名簿!BU26","v":"00"},{"$f":"名簿!R26","v":""},{"$f":"名簿!D26","v":0},null,"",{"$f":"IF(O24=\"\",\"\",HLOOKUP(O24,名簿!$AB$8:$BH$118,19,FALSE))","v":""},0,2,null,{"$f":"IF(T24=\"\",\"\",IF(I24=1,VLOOKUP(O24,男子種目コード!$Y$1:$Z$8,2,FALSE),IF(I24=2,VLOOKUP(O24,女子種目コード!$Y$1:$Z$6,2,FALSE))))","v":""},{"$f":"IF(T24=\"\",\"\",HLOOKUP(T24,名簿!$AB$8:$BG$118,19,FALSE))","v":""},0,2,null,{"$f":"IF(Y24=\"\",\"\",IF(I24=1,VLOOKUP(Y24,男子種目コード!$A$1:$B$33,2,FALSE),IF(I24=2,VLOOKUP(Y24,女子種目コード!$A$36:$B$66,2,FALSE))))","v":""},{"$f":"IF(Y24=\"\",\"\",HLOOKUP(Y24,名簿!$AB$8:$BG$118,19,FALSE))","v":""},0,2,null,"",null,0,2,null,{"$f":"IF(AI24=\"\",\"\",IF(I24=1,VLOOKUP(AI24,男子種目コード!$A$1:$B$33,2,FALSE),IF(I24=2,VLOOKUP(AI24,女子種目コード!$A$36:$B$66,2,FALSE))))","v":""},null,0,2,null,null,null,null,null,null,null,null,null,null,null,null,null,{"$f":"SUM(BA9:BA23)","v":0},"",0,0,0,0,null,null,null,null,null,0,"",""]
[false,{"$f":"名簿!Q27","v":""},null,null,{"$f":"名簿!E27","v":0},{"$f":"名簿!BR27","v":""},{"$f":"名簿!Z27","v":""},"",{"$f":"名簿!O27","v":""},{"$f":"名簿!I27","v":0},{"$f":"名簿!K27","v":0},{"$f":"名簿!BU27","v":"00"},{"$f":"名簿!R27","v":""},{"$f":"名簿!D27","v":0},null,"",{"$f":"IF(O25=\"\",\"\",HLOOKUP(O25,名簿!$AB$8:$BH$118,20,FALSE))","v":""},0,2,null,{"$f":"IF(T25=\"\",\"\",IF(I25=1,VLOOKUP(O25,男子種目コード!$Y$1:$Z$8,2,FALSE),IF(I25=2,VLOOKUP(O25,女子種目コード!$Y$1:$Z$6,2,FALSE))))","v":""},{"$f":"IF(T25=\"\",\"\",HLOOKUP(T25,名簿!$AB$8:$BG$118,20,FALSE))","v":""},0,2,null,{"$f":"IF(Y25=\"\",\"\",IF(I25=1,VLOOKUP(Y25,男子種目コード!$A$1:$B$33,2,FALSE),IF(I25=2,VLOOKUP(Y25,女子種目コード!$A$36:$B$66,2,FALSE))))","v":""},{"$f":"IF(Y25=\"\",\"\",HLOOKUP(Y25,名簿!$AB$8:$BG$118,20,FALSE))","v":""},0,2,null,"",null,0,2,null,{"$f":"IF(AI25=\"\",\"\",IF(I25=1,VLOOKUP(AI25,男子種目コード!$A$1:$B$33,2,FALSE),IF(I25=2,VLOOKUP(AI25,女子種目コード!$A$36:$B$66,2,FALSE))))","v":""},null,0,2,null,null,null,null,null,null,null,null,null,null,null,null,null,null,"",0,0,0,0,null,null,null,null,null,0,"",""]
[false,{"$f":"名簿!Q28","v":""},null,null,{"$f":"名簿!E28","v":0},{"$f":"名簿!BR28","v":""},{"$f":"名簿!Z28","v":""},"",{"$f":"名簿!O28","v":""},{"$f":"名簿!I28","v":0},{"$f":"名簿!K28","v":0},{"$f":"名簿!BU28","v":"00"},{"$f":"名簿!R28","v":""},{"$f":"名簿!D28","v":0},null,"",{"$f":"IF(O26=\"\",\"\",HLOOKUP(O26,名簿!$AB$8:$BH$118,21,FALSE))","v":""},0,2,null,{"$f":"IF(T26=\"\",\"\",IF(I26=1,VLOOKUP(O26,男子種目コード!$Y$1:$Z$8,2,FALSE),IF(I26=2,VLOOKUP(O26,女子種目コード!$Y$1:$Z$6,2,FALSE))))","v":""},{"$f":"IF(T26=\"\",\"\",HLOOKUP(T26,名簿!$AB$8:$BG$118,21,FALSE))","v":""},0,2,null,{"$f":"IF(Y26=\"\",\"\",IF(I26=1,VLOOKUP(Y26,男子種目コード!$A$1:$B$33,2,FALSE),IF(I26=2,VLOOKUP(Y26,女子種目コード!$A$36:$B$66,2,FALSE))))","v":""},{"$f":"IF(Y26=\"\",\"\",HLOOKUP(Y26,名簿!$AB$8:$BG$118,21,FALSE))","v":""},0,2,null,"",null,0,2,null,{"$f":"IF(AI26=\"\",\"\",IF(I26=1,VLOOKUP(AI26,男子種目コード!$A$1:$B$33,2,FALSE),IF(I26=2,VLOOKUP(AI26,女子種目コード!$A$36:$B$66,2,FALSE))))","v":""},null,0,2,null,null,null,null,null,null,null,null,null,null,null,null,null,null,"",0,0,0,0,null,null,null,null,null,0,"",""]
[false,{"$f":"名簿!Q29","v":""},null,null,{"$f":"名簿!E29","v":0},{"$f":"名簿!BR29","v":""},{"$f":"名簿!Z29","v":""},"",{"$f":"名簿!O29","v":""},{"$f":"名簿!I29","v":0},{"$f":"名簿!K29","v":0},{"$f":"名簿!BU29","v":"00"},{"$f":"名簿!R29","v":""},{"$f":"名簿!D29","v":0},null,"",{"$f":"IF(O27=\"\",\"\",HLOOKUP(O27,名簿!$AB$8:$BH$118,22,FALSE))","v":""},0,2,null,{"$f":"IF(T27=\"\",\"\",IF(I27=1,VLOOKUP(O27,男子種目コード!$Y$1:$Z$8,2,FALSE),IF(I27=2,VLOOKUP(O27,女子種目コード!$Y$1:$Z$6,2,FALSE))))","v":""},{"$f":"IF(T27=\"\",\"\",HLOOKUP(T27,名簿!$AB$8:$BG$118,22,FALSE))","v":""},0,2,null,{"$f":"IF(Y27=\"\",\"\",IF(I27=1,VLOOKUP(Y27,男子種目コード!$A$1:$B$33,2,FALSE),IF(I27=2,VLOOKUP(Y27,女子種目コード!$A$36:$B$66,2,FALSE))))","v":""},{"$f":"IF(Y27=\"\",\"\",HLOOKUP(Y27,名簿!$AB$8:$BG$118,22,FALSE))","v":""},0,2,null,"",null,0,2,null,{"$f":"IF(AI27=\"\",\"\",IF(I27=1,VLOOKUP(AI27,男子種目コード!$A$1:$B$33,2,FALSE),IF(I27=2,VLOOKUP(AI27,女子種目コード!$A$36:$B$66,2,FALSE))))","v":""},null,0,2,null,null,null,null,null,null,null,null,null,null,null,null,null,null,"",0,0,0,0,null,null,null,null,null,0,"",""]
[false,{"$f":"名簿!Q30","v":""},null,null,{"$f":"名簿!E30","v":0},{"$f":"名簿!BR30","v":""},{"$f":"名簿!Z30","v":""},"",{"$f":"名簿!O30","v":""},{"$f":"名簿!I30","v":0},{"$f":"名簿!K30","v":0},{"$f":"名簿!BU30","v":"00"},{"$f":"名簿!R30","v":""},{"$f":"名簿!D30","v":0},null,"",{"$f":"IF(O28=\"\",\"\",HLOOKUP(O28,名簿!$AB$8:$BH$118,23,FALSE))","v":""},0,2,null,{"$f":"IF(T28=\"\",\"\",IF(I28=1,VLOOKUP(O28,男子種目コード!$Y$1:$Z$8,2,FALSE),IF(I28=2,VLOOKUP(O28,女子種目コード!$Y$1:$Z$6,2,FALSE))))","v":""},{"$f":"IF(T28=\"\",\"\",HLOOKUP(T28,名簿!$AB$8:$BG$118,23,FALSE))","v":""},0,2,null,{"$f":"IF(Y28=\"\",\"\",IF(I28=1,VLOOKUP(Y28,男子種目コード!$A$1:$B$33,2,FALSE),IF(I28=2,VLOOKUP(Y28,女子種目コード!$A$36:$B$66,2,FALSE))))","v":""},{"$f":"IF(Y28=\"\",\"\",HLOOKUP(Y28,名簿!$AB$8:$BG$118,23,FALSE))","v":""},0,2,null,"",null,0,2,null,{"$f":"IF(AI28=\"\",\"\",IF(I28=1,VLOOKUP(AI28,男子種目コード!$A$1:$B$33,2,FALSE),IF(I28=2,VLOOKUP(AI28,女子種目コード!$A$36:$B$66,2,FALSE))))","v":""},null,0,2,null,null,null,null,null,null,null,null,null,null,null,null,null,null,"",0,0,0,0,null,null,null,null,null,0,"",""]
[false,{"$f":"名簿!Q31","v":""},null,null,{"$f":"名簿!E31","v":0},{"$f":"名簿!BR31","v":""},{"$f":"名簿!Z31","v":""},"",{"$f":"名簿!O31","v":""},{"$f":"名簿!I31","v":0},{"$f":"名簿!K31","v":0},{"$f":"名簿!BU31","v":"00"},{"$f":"名簿!R31","v":""},{"$f":"名簿!D31","v":0},null,"",{"$f":"IF(O29=\"\",\"\",HLOOKUP(O29,名簿!$AB$8:$BH$118,24,FALSE))","v":""},0,2,null,{"$f":"IF(T29=\"\",\"\",IF(I29=1,VLOOKUP(O29,男子種目コード!$Y$1:$Z$8,2,FALSE),IF(I29=2,VLOOKUP(O29,女子種目コード!$Y$1:$Z$6,2,FALSE))))","v":""},{"$f":"IF(T29=\"\",\"\",HLOOKUP(T29,名簿!$AB$8:$BG$118,24,FALSE))","v":""},0,2,null,{"$f":"IF(Y29=\"\",\"\",IF(I29=1,VLOOKUP(Y29,男子種目コード!$A$1:$B$33,2,FALSE),IF(I29=2,VLOOKUP(Y29,女子種目コード!$A$36:$B$66,2,FALSE))))","v":""},{"$f":"IF(Y29=\"\",\"\",HLOOKUP(Y29,名簿!$AB$8:$BG$118,24,FALSE))","v":""},0,2,null,"",null,0,2,null,{"$f":"IF(AI29=\"\",\"\",IF(I29=1,VLOOKUP(AI29,男子種目コード!$A$1:$B$33,2,FALSE),IF(I29=2,VLOOKUP(AI29,女子種目コード!$A$36:$B$66,2,FALSE))))","v":""},null,0,2,null,null,null,null,null,null,null,null,null,null,null,null,null,null,"",0,0,0,0,null,null,null,null,null,0,"",""]
[false,{"$f":"名簿!Q32","v":""},null,null,{"$f":"名簿!E32","v":0},{"$f":"名簿!BR32","v":""},{"$f":"名簿!Z32","v":""},"",{"$f":"名簿!O32","v":""},{"$f":"名簿!I32","v":0},{"$f":"名簿!K32","v":0},{"$f":"名簿!BU32","v":"00"},{"$f":"名簿!R32","v":""},{"$f":"名簿!D32","v":0},null,"",{"$f":"IF(O30=\"\",\"\",HLOOKUP(O30,名簿!$AB$8:$BH$118,25,FALSE))","v":""},0,2,null,{"$f":"IF(T30=\"\",\"\",IF(I30=1,VLOOKUP(O30,男子種目コード!$Y$1:$Z$8,2,FALSE),IF(I30=2,VLOOKUP(O30,女子種目コード!$Y$1:$Z$6,2,FALSE))))","v":""},{"$f":"IF(T30=\"\",\"\",HLOOKUP(T30,名簿!$AB$8:$BG$118,25,FALSE))","v":""},0,2,null,{"$f":"IF(Y30=\"\",\"\",IF(I30=1,VLOOKUP(Y30,男子種目コード!$A$1:$B$33,2,FALSE),IF(I30=2,VLOOKUP(Y30,女子種目コード!$A$36:$B$66,2,FALSE))))","v":""},{"$f":"IF(Y30=\"\",\"\",HLOOKUP(Y30,名簿!$AB$8:$BG$118,25,FALSE))","v":""},0,2,null,"",null,0,2,null,{"$f":"IF(AI30=\"\",\"\",IF(I30=1,VLOOKUP(AI30,男子種目コード!$A$1:$B$33,2,FALSE),IF(I30=2,VLOOKUP(AI30,女子種目コード!$A$36:$B$66,2,FALSE))))","v":""},null,0,2,null,null,null,null,null,null,null,null,null,null,null,null,null,null,"",0,0,0,0,null,null,null,null,null,0,"",""]
[false,{"$f":"名簿!Q33","v":""},null,null,{"$f":"名簿!E33","v":0},{"$f":"名簿!BR33","v":""},{"$f":"名簿!Z33","v":""},"",{"$f":"名簿!O33","v":""},{"$f":"名簿!I33","v":0},{"$f":"名簿!K33","v":0},{"$f":"名簿!BU33","v":"00"},{"$f":"名簿!R33","v":""},{"$f":"名簿!D33","v":0},null,"",{"$f":"IF(O31=\"\",\"\",HLOOKUP(O31,名簿!$AB$8:$BH$118,26,FALSE))","v":""},0,2,null,{"$f":"IF(T31=\"\",\"\",IF(I31=1,VLOOKUP(O31,男子種目コード!$Y$1:$Z$8,2,FALSE),IF(I31=2,VLOOKUP(O31,女子種目コード!$Y$1:$Z$6,2,FALSE))))","v":""},{"$f":"IF(T31=\"\",\"\",HLOOKUP(T31,名簿!$AB$8:$BG$118,26,FALSE))","v":""},0,2,null,{"$f":"IF(Y31=\"\",\"\",IF(I31=1,VLOOKUP(Y31,男子種目コード!$A$1:$B$33,2,FALSE),IF(I31=2,VLOOKUP(Y31,女子種目コード!$A$36:$B$66,2,FALSE))))","v":""},{"$f":"IF(Y31=\"\",\"\",HLOOKUP(Y31,名簿!$AB$8:$BG$118,26,FALSE))","v":""},0,2,null,"",null,0,2,null,{"$f":"IF(AI31=\"\",\"\",IF(I31=1,VLOOKUP(AI31,男子種目コード!$A$1:$B$33,2,FALSE),IF(I31=2,VLOOKUP(AI31,女子種目コード!$A$36:$B$66,2,FALSE))))","v":""},null,0,2,null,null,null,null,null,null,null,null,null,null,null,null,null,null,"",0,0,0,0,null,null,null,null,null,0,"",""]
[false,{"$f":"名簿!Q34","v":""},null,null,{"$f":"名簿!E34","v":0},{"$f":"名簿!BR34","v":""},{"$f":"名簿!Z34","v":""},"",{"$f":"名簿!O34","v":""},{"$f":"名簿!I34","v":0},{"$f":"名簿!K34","v":0},{"$f":"名簿!BU34","v":"00"},{"$f":"名簿!R34","v":""},{"$f":"名簿!D34","v":0},null,"",{"$f":"IF(O32=\"\",\"\",HLOOKUP(O32,名簿!$AB$8:$BH$118,27,FALSE))","v":""},0,2,null,{"$f":"IF(T32=\"\",\"\",IF(I32=1,VLOOKUP(O32,男子種目コード!$Y$1:$Z$8,2,FALSE),IF(I32=2,VLOOKUP(O32,女子種目コード!$Y$1:$Z$6,2,FALSE))))","v":""},{"$f":"IF(T32=\"\",\"\",HLOOKUP(T32,名簿!$AB$8:$BG$118,27,FALSE))","v":""},0,2,null,{"$f":"IF(Y32=\"\",\"\",IF(I32=1,VLOOKUP(Y32,男子種目コード!$A$1:$B$33,2,FALSE),IF(I32=2,VLOOKUP(Y32,女子種目コード!$A$36:$B$66,2,FALSE))))","v":""},{"$f":"IF(Y32=\"\",\"\",HLOOKUP(Y32,名簿!$AB$8:$BG$118,27,FALSE))","v":""},0,2,null,"",null,0,2,null,{"$f":"IF(AI32=\"\",\"\",IF(I32=1,VLOOKUP(AI32,男子種目コード!$A$1:$B$33,2,FALSE),IF(I32=2,VLOOKUP(AI32,女子種目コード!$A$36:$B$66,2,FALSE))))","v":""},null,0,2,null,null,null,null,null,null,null,null,null,null,null,null,null,null,"",0,0,0,0,null,null,null,null,null,0,"",""]
[false,{"$f":"名簿!Q35","v":""},null,null,{"$f":"名簿!E35","v":0},{"$f":"名簿!BR35","v":""},{"$f":"名簿!Z35","v":""},"",{"$f":"名簿!O35","v":""},{"$f":"名簿!I35","v":0},{"$f":"名簿!K35","v":0},{"$f":"名簿!BU35","v":"00"},{"$f":"名簿!R35","v":""},{"$f":"名簿!D35","v":0},null,"",{"$f":"IF(O33=\"\",\"\",HLOOKUP(O33,名簿!$AB$8:$BH$118,28,FALSE))","v":""},0,2,null,{"$f":"IF(T33=\"\",\"\",IF(I33=1,VLOOKUP(O33,男子種目コード!$Y$1:$Z$8,2,FALSE),IF(I33=2,VLOOKUP(O33,女子種目コード!$Y$1:$Z$6,2,FALSE))))","v":""},{"$f":"IF(T33=\"\",\"\",HLOOKUP(T33,名簿!$AB$8:$BG$118,28,FALSE))","v":""},0,2,null,{"$f":"IF(Y33=\"\",\"\",IF(I33=1,VLOOKUP(Y33,男子種目コード!$A$1:$B$33,2,FALSE),IF(I33=2,VLOOKUP(Y33,女子種目コード!$A$36:$B$66,2,FALSE))))","v":""},{"$f":"IF(Y33=\"\",\"\",HLOOKUP(Y33,名簿!$AB$8:$BG$118,28,FALSE))","v":""},0,2,null,"",null,0,2,null,{"$f":"IF(AI33=\"\",\"\",IF(I33=1,VLOOKUP(AI33,男子種目コード!$A$1:$B$33,2,FALSE),IF(I33=2,VLOOKUP(AI33,女子種目コード!$A$36:$B$66,2,FALSE))))","v":""},null,0,2,null,null,null,null,null,null,null,null,null,null,null,null,null,null,"",0,0,0,0,null,null,null,null,null,0,"",""]
[false,{"$f":"名簿!Q36","v":""},null,null,{"$f":"名簿!E36","v":0},{"$f":"名簿!BR36","v":""},{"$f":"名簿!Z36","v":""},"",{"$f":"名簿!O36","v":""},{"$f":"名簿!I36","v":0},{"$f":"名簿!K36","v":0},{"$f":"名簿!BU36","v":"00"},{"$f":"名簿!R36","v":""},{"$f":"名簿!D36","v":0},null,"",{"$f":"IF(O34=\"\",\"\",HLOOKUP(O34,名簿!$AB$8:$BH$118,29,FALSE))","v":""},0,2,null,{"$f":"IF(T34=\"\",\"\",IF(I34=1,VLOOKUP(O34,男子種目コード!$Y$1:$Z$8,2,FALSE),IF(I34=2,VLOOKUP(O34,女子種目コード!$Y$1:$Z$6,2,FALSE))))","v":""},{"$f":"IF(T34=\"\",\"\",HLOOKUP(T34,名簿!$AB$8:$BG$118,29,FALSE))","v":""},0,2,null,{"$f":"IF(Y34=\"\",\"\",IF(I34=1,VLOOKUP(Y34,男子種目コード!$A$1:$B$33,2,FALSE),IF(I34=2,VLOOKUP(Y34,女子種目コード!$A$36:$B$66,2,FALSE))))","v":""},{"$f":"IF(Y34=\"\",\"\",HLOOKUP(Y34,名簿!$AB$8:$BG$118,29,FALSE))","v":""},0,2,null,"",null,0,2,null,{"$f":"IF(AI34=\"\",\"\",IF(I34=1,VLOOKUP(AI34,男子種目コード!$A$1:$B$33,2,FALSE),IF(I34=2,VLOOKUP(AI34,女子種目コード!$A$36:$B$66,2,FALSE))))","v":""},null,0,2,null,null,null,null,null,null,null,null,null,null,null,null,null,null,"",0,0,0,0,null,null,null,null,null,0,"",""]
[false,{"$f":"名簿!Q37","v":""},null,null,{"$f":"名簿!E37","v":0},{"$f":"名簿!BR37","v":""},{"$f":"名簿!Z37","v":""},"",{"$f":"名簿!O37","v":""},{"$f":"名簿!I37","v":0},{"$f":"名簿!K37","v":0},{"$f":"名簿!BU37","v":"00"},{"$f":"名簿!R37","v":""},{"$f":"名簿!D37","v":0},null,"",{"$f":"IF(O35=\"\",\"\",HLOOKUP(O35,名簿!$AB$8:$BH$118,30,FALSE))","v":""},0,2,null,{"$f":"IF(T35=\"\",\"\",IF(I35=1,VLOOKUP(O35,男子種目コード!$Y$1:$Z$8,2,FALSE),IF(I35=2,VLOOKUP(O35,女子種目コード!$Y$1:$Z$6,2,FALSE))))","v":""},{"$f":"IF(T35=\"\",\"\",HLOOKUP(T35,名簿!$AB$8:$BG$118,30,FALSE))","v":""},0,2,null,{"$f":"IF(Y35=\"\",\"\",IF(I35=1,VLOOKUP(Y35,男子種目コード!$A$1:$B$33,2,FALSE),IF(I35=2,VLOOKUP(Y35,女子種目コード!$A$36:$B$66,2,FALSE))))","v":""},{"$f":"IF(Y35=\"\",\"\",HLOOKUP(Y35,名簿!$AB$8:$BG$118,30,FALSE))","v":""},0,2,null,"",null,0,2,null,{"$f":"IF(AI35=\"\",\"\",IF(I35=1,VLOOKUP(AI35,男子種目コード!$A$1:$B$33,2,FALSE),IF(I35=2,VLOOKUP(AI35,女子種目コード!$A$36:$B$66,2,FALSE))))","v":""},null,0,2,null,null,null,null,null,null,null,null,null,null,null,null,null,null,"",0,0,0,0,null,null,null,null,null,0,"",""]
[false,{"$f":"名簿!Q38","v":""},null,null,{"$f":"名簿!E38","v":0},{"$f":"名簿!BR38","v":""},{"$f":"名簿!Z38","v":""},"",{"$f":"名簿!O38","v":""},{"$f":"名簿!I38","v":0},{"$f":"名簿!K38","v":0},{"$f":"名簿!BU38","v":"00"},{"$f":"名簿!R38","v":""},{"$f":"名簿!D38","v":0},null,"",{"$f":"IF(O36=\"\",\"\",HLOOKUP(O36,名簿!$AB$8:$BH$118,31,FALSE))","v":""},0,2,null,{"$f":"IF(T36=\"\",\"\",IF(I36=1,VLOOKUP(O36,男子種目コード!$Y$1:$Z$8,2,FALSE),IF(I36=2,VLOOKUP(O36,女子種目コード!$Y$1:$Z$6,2,FALSE))))","v":""},{"$f":"IF(T36=\"\",\"\",HLOOKUP(T36,名簿!$AB$8:$BG$118,31,FALSE))","v":""},0,2,null,{"$f":"IF(Y36=\"\",\"\",IF(I36=1,VLOOKUP(Y36,男子種目コード!$A$1:$B$33,2,FALSE),IF(I36=2,VLOOKUP(Y36,女子種目コード!$A$36:$B$66,2,FALSE))))","v":""},{"$f":"IF(Y36=\"\",\"\",HLOOKUP(Y36,名簿!$AB$8:$BG$118,31,FALSE))","v":""},0,2,null,"",null,0,2,null,{"$f":"IF(AI36=\"\",\"\",IF(I36=1,VLOOKUP(AI36,男子種目コード!$A$1:$B$33,2,FALSE),IF(I36=2,VLOOKUP(AI36,女子種目コード!$A$36:$B$66,2,FALSE))))","v":""},null,0,2,null,null,null,null,null,null,null,null,null,null,null,null,null,null,"",0,0,0,0,null,null,null,null,null,0,"",""]
[false,{"$f":"名簿!Q39","v":""},null,null,{"$f":"名簿!E39","v":0},{"$f":"名簿!BR39","v":""},{"$f":"名簿!Z39","v":""},"",{"$f":"名簿!O39","v":""},{"$f":"名簿!I39","v":0},{"$f":"名簿!K39","v":0},{"$f":"名簿!BU39","v":"00"},{"$f":"名簿!R39","v":""},{"$f":"名簿!D39","v":0},null,"",{"$f":"IF(O37=\"\",\"\",HLOOKUP(O37,名簿!$AB$8:$BH$118,32,FALSE))","v":""},0,2,null,{"$f":"IF(T37=\"\",\"\",IF(I37=1,VLOOKUP(O37,男子種目コード!$Y$1:$Z$8,2,FALSE),IF(I37=2,VLOOKUP(O37,女子種目コード!$Y$1:$Z$6,2,FALSE))))","v":""},{"$f":"IF(T37=\"\",\"\",HLOOKUP(T37,名簿!$AB$8:$BG$118,32,FALSE))","v":""},0,2,null,{"$f":"IF(Y37=\"\",\"\",IF(I37=1,VLOOKUP(Y37,男子種目コード!$A$1:$B$33,2,FALSE),IF(I37=2,VLOOKUP(Y37,女子種目コード!$A$36:$B$66,2,FALSE))))","v":""},{"$f":"IF(Y37=\"\",\"\",HLOOKUP(Y37,名簿!$AB$8:$BG$118,32,FALSE))","v":""},0,2,null,"",null,0,2,null,{"$f":"IF(AI37=\"\",\"\",IF(I37=1,VLOOKUP(AI37,男子種目コード!$A$1:$B$33,2,FALSE),IF(I37=2,VLOOKUP(AI37,女子種目コード!$A$36:$B$66,2,FALSE))))","v":""},null,0,2,null,null,null,null,null,null,null,null,null,null,null,null,null,null,"",0,0,0,0,null,null,null,null,null,0,"",""]
[false,{"$f":"名簿!Q40","v":""},null,null,{"$f":"名簿!E40","v":0},{"$f":"名簿!BR40","v":""},{"$f":"名簿!Z40","v":""},"",{"$f":"名簿!O40","v":""},{"$f":"名簿!I40","v":0},{"$f":"名簿!K40","v":0},{"$f":"名簿!BU40","v":"00"},{"$f":"名簿!R40","v":""},{"$f":"名簿!D40","v":0},null,"",{"$f":"IF(O38=\"\",\"\",HLOOKUP(O38,名簿!$AB$8:$BH$118,33,FALSE))","v":""},0,2,null,{"$f":"IF(T38=\"\",\"\",IF(I38=1,VLOOKUP(O38,男子種目コード!$Y$1:$Z$8,2,FALSE),IF(I38=2,VLOOKUP(O38,女子種目コード!$Y$1:$Z$6,2,FALSE))))","v":""},{"$f":"IF(T38=\"\",\"\",HLOOKUP(T38,名簿!$AB$8:$BG$118,33,FALSE))","v":""},0,2,null,{"$f":"IF(Y38=\"\",\"\",IF(I38=1,VLOOKUP(Y38,男子種目コード!$A$1:$B$33,2,FALSE),IF(I38=2,VLOOKUP(Y38,女子種目コード!$A$36:$B$66,2,FALSE))))","v":""},{"$f":"IF(Y38=\"\",\"\",HLOOKUP(Y38,名簿!$AB$8:$BG$118,33,FALSE))","v":""},0,2,null,"",null,0,2,null,{"$f":"IF(AI38=\"\",\"\",IF(I38=1,VLOOKUP(AI38,男子種目コード!$A$1:$B$33,2,FALSE),IF(I38=2,VLOOKUP(AI38,女子種目コード!$A$36:$B$66,2,FALSE))))","v":""},null,0,2,null,null,null,null,null,null,null,null,null,null,null,null,null,null,"",0,0,0,0,null,null,null,null,null,0,"",""]
[false,{"$f":"名簿!Q41","v":""},null,null,{"$f":"名簿!E41","v":0},{"$f":"名簿!BR41","v":""},{"$f":"名簿!Z41","v":""},"",{"$f":"名簿!O41","v":""},{"$f":"名簿!I41","v":0},{"$f":"名簿!K41","v":0},{"$f":"名簿!BU41","v":"00"},{"$f":"名簿!R41","v":""},{"$f":"名簿!D41","v":0},null,"",{"$f":"IF(O39=\"\",\"\",HLOOKUP(O39,名簿!$AB$8:$BH$118,34,FALSE))","v":""},0,2,null,{"$f":"IF(T39=\"\",\"\",IF(I39=1,VLOOKUP(O39,男子種目コード!$Y$1:$Z$8,2,FALSE),IF(I39=2,VLOOKUP(O39,女子種目コード!$Y$1:$Z$6,2,FALSE))))","v":""},{"$f":"IF(T39=\"\",\"\",HLOOKUP(T39,名簿!$AB$8:$BG$118,34,FALSE))","v":""},0,2,null,{"$f":"IF(Y39=\"\",\"\",IF(I39=1,VLOOKUP(Y39,男子種目コード!$A$1:$B$33,2,FALSE),IF(I39=2,VLOOKUP(Y39,女子種目コード!$A$36:$B$66,2,FALSE))))","v":""},{"$f":"IF(Y39=\"\",\"\",HLOOKUP(Y39,名簿!$AB$8:$BG$118,34,FALSE))","v":""},0,2,null,"",null,0,2,null,{"$f":"IF(AI39=\"\",\"\",IF(I39=1,VLOOKUP(AI39,男子種目コード!$A$1:$B$33,2,FALSE),IF(I39=2,VLOOKUP(AI39,女子種目コード!$A$36:$B$66,2,FALSE))))","v":""},null,0,2,null,null,null,null,null,null,null,null,null,null,null,null,null,null,"",0,0,0,0,null,null,null,null,null,0,"",""]
[false,{"$f":"名簿!Q42","v":""},null,null,{"$f":"名簿!E42","v":0},{"$f":"名簿!BR42","v":""},{"$f":"名簿!Z42","v":""},"",{"$f":"名簿!O42","v":""},{"$f":"名簿!I42","v":0},{"$f":"名簿!K42","v":0},{"$f":"名簿!BU42","v":"00"},{"$f":"名簿!R42","v":""},{"$f":"名簿!D42","v":0},null,"",{"$f":"IF(O40=\"\",\"\",HLOOKUP(O40,名簿!$AB$8:$BH$118,35,FALSE))","v":""},0,2,null,{"$f":"IF(T40=\"\",\"\",IF(I40=1,VLOOKUP(O40,男子種目コード!$Y$1:$Z$8,2,FALSE),IF(I40=2,VLOOKUP(O40,女子種目コード!$Y$1:$Z$6,2,FALSE))))","v":""},{"$f":"IF(T40=\"\",\"\",HLOOKUP(T40,名簿!$AB$8:$BG$118,35,FALSE))","v":""},0,2,null,{"$f":"IF(Y40=\"\",\"\",IF(I40=1,VLOOKUP(Y40,男子種目コード!$A$1:$B$33,2,FALSE),IF(I40=2,VLOOKUP(Y40,女子種目コード!$A$36:$B$66,2,FALSE))))","v":""},{"$f":"IF(Y40=\"\",\"\",HLOOKUP(Y40,名簿!$AB$8:$BG$118,35,FALSE))","v":""},0,2,null,"",null,0,2,null,{"$f":"IF(AI40=\"\",\"\",IF(I40=1,VLOOKUP(AI40,男子種目コード!$A$1:$B$33,2,FALSE),IF(I40=2,VLOOKUP(AI40,女子種目コード!$A$36:$B$66,2,FALSE))))","v":""},null,0,2,null,null,null,null,null,null,null,null,null,null,null,null,null,null,"",0,0,0,0,null,null,null,null,null,0,"",""]
[false,{"$f":"名簿!Q43","v":""},null,null,{"$f":"名簿!E43","v":0},{"$f":"名簿!BR43","v":""},{"$f":"名簿!Z43","v":""},"",{"$f":"名簿!O43","v":""},{"$f":"名簿!I43","v":0},{"$f":"名簿!K43","v":0},{"$f":"名簿!BU43","v":"00"},{"$f":"名簿!R43","v":""},{"$f":"名簿!D43","v":0},null,"",{"$f":"IF(O41=\"\",\"\",HLOOKUP(O41,名簿!$AB$8:$BH$118,36,FALSE))","v":""},0,2,null,{"$f":"IF(T41=\"\",\"\",IF(I41=1,VLOOKUP(O41,男子種目コード!$Y$1:$Z$8,2,FALSE),IF(I41=2,VLOOKUP(O41,女子種目コード!$Y$1:$Z$6,2,FALSE))))","v":""},{"$f":"IF(T41=\"\",\"\",HLOOKUP(T41,名簿!$AB$8:$BG$118,36,FALSE))","v":""},0,2,null,{"$f":"IF(Y41=\"\",\"\",IF(I41=1,VLOOKUP(Y41,男子種目コード!$A$1:$B$33,2,FALSE),IF(I41=2,VLOOKUP(Y41,女子種目コード!$A$36:$B$66,2,FALSE))))","v":""},{"$f":"IF(Y41=\"\",\"\",HLOOKUP(Y41,名簿!$AB$8:$BG$118,36,FALSE))","v":""},0,2,null,"",null,0,2,null,{"$f":"IF(AI41=\"\",\"\",IF(I41=1,VLOOKUP(AI41,男子種目コード!$A$1:$B$33,2,FALSE),IF(I41=2,VLOOKUP(AI41,女子種目コード!$A$36:$B$66,2,FALSE))))","v":""},null,0,2,null,null,null,null,null,null,null,null,null,null,null,null,null,null,"",0,0,0,0,null,null,null,null,null,0,"",""]
[false,{"$f":"名簿!Q44","v":""},null,null,{"$f":"名簿!E44","v":0},{"$f":"名簿!BR44","v":""},{"$f":"名簿!Z44","v":""},"",{"$f":"名簿!O44","v":""},{"$f":"名簿!I44","v":0},{"$f":"名簿!K44","v":0},{"$f":"名簿!BU44","v":"00"},{"$f":"名簿!R44","v":""},{"$f":"名簿!D44","v":0},null,"",{"$f":"IF(O42=\"\",\"\",HLOOKUP(O42,名簿!$AB$8:$BH$118,37,FALSE))","v":""},0,2,null,{"$f":"IF(T42=\"\",\"\",IF(I42=1,VLOOKUP(O42,男子種目コード!$Y$1:$Z$8,2,FALSE),IF(I42=2,VLOOKUP(O42,女子種目コード!$Y$1:$Z$6,2,FALSE))))","v":""},{"$f":"IF(T42=\"\",\"\",HLOOKUP(T42,名簿!$AB$8:$BG$118,37,FALSE))","v":""},0,2,null,{"$f":"IF(Y42=\"\",\"\",IF(I42=1,VLOOKUP(Y42,男子種目コード!$A$1:$B$33,2,FALSE),IF(I42=2,VLOOKUP(Y42,女子種目コード!$A$36:$B$66,2,FALSE))))","v":""},{"$f":"IF(Y42=\"\",\"\",HLOOKUP(Y42,名簿!$AB$8:$BG$118,37,FALSE))","v":""},0,2,null,"",null,0,2,null,{"$f":"IF(AI42=\"\",\"\",IF(I42=1,VLOOKUP(AI42,男子種目コード!$A$1:$B$33,2,FALSE),IF(I42=2,VLOOKUP(AI42,女子種目コード!$A$36:$B$66,2,FALSE))))","v":""},null,0,2,null,null,null,null,null,null,null,null,null,null,null,null,null,null,"",0,0,0,0,null,null,null,null,null,0,"",""]
[false,{"$f":"名簿!Q45","v":""},null,null,{"$f":"名簿!E45","v":0},{"$f":"名簿!BR45","v":""},{"$f":"名簿!Z45","v":""},"",{"$f":"名簿!O45","v":""},{"$f":"名簿!I45","v":0},{"$f":"名簿!K45","v":0},{"$f":"名簿!BU45","v":"00"},{"$f":"名簿!R45","v":""},{"$f":"名簿!D45","v":0},null,"",{"$f":"IF(O43=\"\",\"\",HLOOKUP(O43,名簿!$AB$8:$BH$118,38,FALSE))","v":""},0,2,null,{"$f":"IF(T43=\"\",\"\",IF(I43=1,VLOOKUP(O43,男子種目コード!$Y$1:$Z$8,2,FALSE),IF(I43=2,VLOOKUP(O43,女子種目コード!$Y$1:$Z$6,2,FALSE))))","v":""},{"$f":"IF(T43=\"\",\"\",HLOOKUP(T43,名簿!$AB$8:$BG$118,38,FALSE))","v":""},0,2,null,{"$f":"IF(Y43=\"\",\"\",IF(I43=1,VLOOKUP(Y43,男子種目コード!$A$1:$B$33,2,FALSE),IF(I43=2,VLOOKUP(Y43,女子種目コード!$A$36:$B$66,2,FALSE))))","v":""},{"$f":"IF(Y43=\"\",\"\",HLOOKUP(Y43,名簿!$AB$8:$BG$118,38,FALSE))","v":""},0,2,null,"",null,0,2,null,{"$f":"IF(AI43=\"\",\"\",IF(I43=1,VLOOKUP(AI43,男子種目コード!$A$1:$B$33,2,FALSE),IF(I43=2,VLOOKUP(AI43,女子種目コード!$A$36:$B$66,2,FALSE))))","v":""},null,0,2,null,null,null,null,null,null,null,null,null,null,null,null,null,null,"",0,0,0,0,null,null,null,null,null,0,"",""]
[false,{"$f":"名簿!Q46","v":""},null,null,{"$f":"名簿!E46","v":0},{"$f":"名簿!BR46","v":""},{"$f":"名簿!Z46","v":""},"",{"$f":"名簿!O46","v":""},{"$f":"名簿!I46","v":0},{"$f":"名簿!K46","v":0},{"$f":"名簿!BU46","v":"00"},{"$f":"名簿!R46","v":""},{"$f":"名簿!D46","v":0},null,"",{"$f":"IF(O44=\"\",\"\",HLOOKUP(O44,名簿!$AB$8:$BH$118,39,FALSE))","v":""},0,2,null,{"$f":"IF(T44=\"\",\"\",IF(I44=1,VLOOKUP(O44,男子種目コード!$Y$1:$Z$8,2,FALSE),IF(I44=2,VLOOKUP(O44,女子種目コード!$Y$1:$Z$6,2,FALSE))))","v":""},{"$f":"IF(T44=\"\",\"\",HLOOKUP(T44,名簿!$AB$8:$BG$118,39,FALSE))","v":""},0,2,null,{"$f":"IF(Y44=\"\",\"\",IF(I44=1,VLOOKUP(Y44,男子種目コード!$A$1:$B$33,2,FALSE),IF(I44=2,VLOOKUP(Y44,女子種目コード!$A$36:$B$66,2,FALSE))))","v":""},{"$f":"IF(Y44=\"\",\"\",HLOOKUP(Y44,名簿!$AB$8:$BG$118,39,FALSE))","v":""},0,2,null,"",null,0,2,null,{"$f":"IF(AI44=\"\",\"\",IF(I44=1,VLOOKUP(AI44,男子種目コード!$A$1:$B$33,2,FALSE),IF(I44=2,VLOOKUP(AI44,女子種目コード!$A$36:$B$66,2,FALSE))))","v":""},null,0,2,null,null,null,null,null,null,null,null,null,null,null,null,null,null,null,{"$f":"IF(O44=\"\",\"\",1)","v":""},{"$f":"IF(OR(BC44=1,T44=\"\"),0,1)","v":0},{"$f":"IF(OR(BC44=1,BD44=1,Y44=\"\"),0,1)","v":0},{"$f":"IF(OR(BC44=1,BD44=1,BE44=1,AD44=\"\"),0,1)","v":0},{"$f":"IF(OR(BC44=1,BD44=1,BE44=1,BF44=1,AI44=\"\"),0,1)","v":0},null,null,null,null,0,"","",{"$f":"IF(I44=2,BM44,\"\")","v":""}]
[false,{"$f":"名簿!Q47","v":""},null,null,{"$f":"名簿!E47","v":0},{"$f":"名簿!BR47","v":""},{"$f":"名簿!Z47","v":""},"",{"$f":"名簿!O47","v":""},{"$f":"名簿!I47","v":0},{"$f":"名簿!K47","v":0},{"$f":"名簿!BU47","v":"00"},{"$f":"名簿!R47","v":""},{"$f":"名簿!D47","v":0},null,"",{"$f":"IF(O45=\"\",\"\",HLOOKUP(O45,名簿!$AB$8:$BH$118,40,FALSE))","v":""},0,2,null,{"$f":"IF(T45=\"\",\"\",IF(I45=1,VLOOKUP(O45,男子種目コード!$Y$1:$Z$8,2,FALSE),IF(I45=2,VLOOKUP(O45,女子種目コード!$Y$1:$Z$6,2,FALSE))))","v":""},{"$f":"IF(T45=\"\",\"\",HLOOKUP(T45,名簿!$AB$8:$BG$118,40,FALSE))","v":""},0,2,null,{"$f":"IF(Y45=\"\",\"\",IF(I45=1,VLOOKUP(Y45,男子種目コード!$A$1:$B$33,2,FALSE),IF(I45=2,VLOOKUP(Y45,女子種目コード!$A$36:$B$66,2,FALSE))))","v":""},{"$f":"IF(Y45=\"\",\"\",HLOOKUP(Y45,名簿!$AB$8:$BG$118,40,FALSE))","v":""},0,2,null,"",null,0,2,null,{"$f":"IF(AI45=\"\",\"\",IF(I45=1,VLOOKUP(AI45,男子種目コード!$A$1:$B$33,2,FALSE),IF(I45=2,VLOOKUP(AI45,女子種目コード!$A$36:$B$66,2,FALSE))))","v":""},null,0,2,null,null,null,null,null,null,null,null,null,null,null,null,null,null,null,"",0,0,0,0,null,null,null,null,0,"","",""]
[false,{"$f":"名簿!Q48","v":""},null,null,{"$f":"名簿!E48","v":0},{"$f":"名簿!BR48","v":""},{"$f":"名簿!Z48","v":""},"",{"$f":"名簿!O48","v":""},{"$f":"名簿!I48","v":0},{"$f":"名簿!K48","v":0},{"$f":"名簿!BU48","v":"00"},{"$f":"名簿!R48","v":""},{"$f":"名簿!D48","v":0},null,"",{"$f":"IF(O46=\"\",\"\",HLOOKUP(O46,名簿!$AB$8:$BH$118,41,FALSE))","v":""},0,2,null,{"$f":"IF(T46=\"\",\"\",IF(I46=1,VLOOKUP(O46,男子種目コード!$Y$1:$Z$8,2,FALSE),IF(I46=2,VLOOKUP(O46,女子種目コード!$Y$1:$Z$6,2,FALSE))))","v":""},{"$f":"IF(T46=\"\",\"\",HLOOKUP(T46,名簿!$AB$8:$BG$118,41,FALSE))","v":""},0,2,null,{"$f":"IF(Y46=\"\",\"\",IF(I46=1,VLOOKUP(Y46,男子種目コード!$A$1:$B$33,2,FALSE),IF(I46=2,VLOOKUP(Y46,女子種目コード!$A$36:$B$66,2,FALSE))))","v":""},{"$f":"IF(Y46=\"\",\"\",HLOOKUP(Y46,名簿!$AB$8:$BG$118,41,FALSE))","v":""},0,2,null,"",null,0,2,null,{"$f":"IF(AI46=\"\",\"\",IF(I46=1,VLOOKUP(AI46,男子種目コード!$A$1:$B$33,2,FALSE),IF(I46=2,VLOOKUP(AI46,女子種目コード!$A$36:$B$66,2,FALSE))))","v":""},null,0,2,null,null,null,null,null,null,null,null,null,null,null,null,null,null,null,"",0,0,0,0,null,null,null,null,0,"","",""]
[false,{"$f":"名簿!Q49","v":""},null,null,{"$f":"名簿!E49","v":0},{"$f":"名簿!BR49","v":""},{"$f":"名簿!Z49","v":""},"",{"$f":"名簿!O49","v":""},{"$f":"名簿!I49","v":0},{"$f":"名簿!K49","v":0},{"$f":"名簿!BU49","v":"00"},{"$f":"名簿!R49","v":""},{"$f":"名簿!D49","v":0},null,"",{"$f":"IF(O47=\"\",\"\",HLOOKUP(O47,名簿!$AB$8:$BH$118,42,FALSE))","v":""},0,2,null,{"$f":"IF(T47=\"\",\"\",IF(I47=1,VLOOKUP(O47,男子種目コード!$Y$1:$Z$8,2,FALSE),IF(I47=2,VLOOKUP(O47,女子種目コード!$Y$1:$Z$6,2,FALSE))))","v":""},{"$f":"IF(T47=\"\",\"\",HLOOKUP(T47,名簿!$AB$8:$BG$118,42,FALSE))","v":""},0,2,null,{"$f":"IF(Y47=\"\",\"\",IF(I47=1,VLOOKUP(Y47,男子種目コード!$A$1:$B$33,2,FALSE),IF(I47=2,VLOOKUP(Y47,女子種目コード!$A$36:$B$66,2,FALSE))))","v":""},{"$f":"IF(Y47=\"\",\"\",HLOOKUP(Y47,名簿!$AB$8:$BG$118,42,FALSE))","v":""},0,2,null,"",null,0,2,null,{"$f":"IF(AI47=\"\",\"\",IF(I47=1,VLOOKUP(AI47,男子種目コード!$A$1:$B$33,2,FALSE),IF(I47=2,VLOOKUP(AI47,女子種目コード!$A$36:$B$66,2,FALSE))))","v":""},null,0,2,null,null,null,null,null,null,null,null,null,null,null,null,null,null,null,"",0,0,0,0,null,null,null,null,0,"","",""]
[false,{"$f":"名簿!Q50","v":""},null,null,{"$f":"名簿!E50","v":0},{"$f":"名簿!BR50","v":""},{"$f":"名簿!Z50","v":""},"",{"$f":"名簿!O50","v":""},{"$f":"名簿!I50","v":0},{"$f":"名簿!K50","v":0},{"$f":"名簿!BU50","v":"00"},{"$f":"名簿!R50","v":""},{"$f":"名簿!D50","v":0},null,"",{"$f":"IF(O48=\"\",\"\",HLOOKUP(O48,名簿!$AB$8:$BH$118,43,FALSE))","v":""},0,2,null,{"$f":"IF(T48=\"\",\"\",IF(I48=1,VLOOKUP(O48,男子種目コード!$Y$1:$Z$8,2,FALSE),IF(I48=2,VLOOKUP(O48,女子種目コード!$Y$1:$Z$6,2,FALSE))))","v":""},{"$f":"IF(T48=\"\",\"\",HLOOKUP(T48,名簿!$AB$8:$BG$118,43,FALSE))","v":""},0,2,null,{"$f":"IF(Y48=\"\",\"\",IF(I48=1,VLOOKUP(Y48,男子種目コード!$A$1:$B$33,2,FALSE),IF(I48=2,VLOOKUP(Y48,女子種目コード!$A$36:$B$66,2,FALSE))))","v":""},{"$f":"IF(Y48=\"\",\"\",HLOOKUP(Y48,名簿!$AB$8:$BG$118,43,FALSE))","v":""},0,2,null,"",null,0,2,null,{"$f":"IF(AI48=\"\",\"\",IF(I48=1,VLOOKUP(AI48,男子種目コード!$A$1:$B$33,2,FALSE),IF(I48=2,VLOOKUP(AI48,女子種目コード!$A$36:$B$66,2,FALSE))))","v":""},null,0,2,null,null,null,null,null,null,null,null,null,null,null,null,null,null,null,"",0,0,0,0,null,null,null,null,0,"","",""]
[false,{"$f":"名簿!Q51","v":""},null,null,{"$f":"名簿!E51","v":0},{"$f":"名簿!BR51","v":""},{"$f":"名簿!Z51","v":""},"",{"$f":"名簿!O51","v":""},{"$f":"名簿!I51","v":0},{"$f":"名簿!K51","v":0},{"$f":"名簿!BU51","v":"00"},{"$f":"名簿!R51","v":""},{"$f":"名簿!D51","v":0},null,"",{"$f":"IF(O49=\"\",\"\",HLOOKUP(O49,名簿!$AB$8:$BH$118,44,FALSE))","v":""},0,2,null,{"$f":"IF(T49=\"\",\"\",IF(I49=1,VLOOKUP(O49,男子種目コード!$Y$1:$Z$8,2,FALSE),IF(I49=2,VLOOKUP(O49,女子種目コード!$Y$1:$Z$6,2,FALSE))))","v":""},{"$f":"IF(T49=\"\",\"\",HLOOKUP(T49,名簿!$AB$8:$BG$118,44,FALSE))","v":""},0,2,null,{"$f":"IF(Y49=\"\",\"\",IF(I49=1,VLOOKUP(Y49,男子種目コード!$A$1:$B$33,2,FALSE),IF(I49=2,VLOOKUP(Y49,女子種目コード!$A$36:$B$66,2,FALSE))))","v":""},{"$f":"IF(Y49=\"\",\"\",HLOOKUP(Y49,名簿!$AB$8:$BG$118,44,FALSE))","v":""},0,2,null,"",null,0,2,null,{"$f":"IF(AI49=\"\",\"\",IF(I49=1,VLOOKUP(AI49,男子種目コード!$A$1:$B$33,2,FALSE),IF(I49=2,VLOOKUP(AI49,女子種目コード!$A$36:$B$66,2,FALSE))))","v":""},null,0,2,null,null,null,null,null,null,null,null,null,null,null,null,null,null,null,"",0,0,0,0,null,null,null,null,0,"","",""]
[false,{"$f":"名簿!Q52","v":""},null,null,{"$f":"名簿!E52","v":0},{"$f":"名簿!BR52","v":""},{"$f":"名簿!Z52","v":""},"",{"$f":"名簿!O52","v":""},{"$f":"名簿!I52","v":0},{"$f":"名簿!K52","v":0},{"$f":"名簿!BU52","v":"00"},{"$f":"名簿!R52","v":""},{"$f":"名簿!D52","v":0},null,"",{"$f":"IF(O50=\"\",\"\",HLOOKUP(O50,名簿!$AB$8:$BH$118,45,FALSE))","v":""},0,2,null,{"$f":"IF(T50=\"\",\"\",IF(I50=1,VLOOKUP(O50,男子種目コード!$Y$1:$Z$8,2,FALSE),IF(I50=2,VLOOKUP(O50,女子種目コード!$Y$1:$Z$6,2,FALSE))))","v":""},{"$f":"IF(T50=\"\",\"\",HLOOKUP(T50,名簿!$AB$8:$BG$118,45,FALSE))","v":""},0,2,null,{"$f":"IF(Y50=\"\",\"\",IF(I50=1,VLOOKUP(Y50,男子種目コード!$A$1:$B$33,2,FALSE),IF(I50=2,VLOOKUP(Y50,女子種目コード!$A$36:$B$66,2,FALSE))))","v":""},{"$f":"IF(Y50=\"\",\"\",HLOOKUP(Y50,名簿!$AB$8:$BG$118,45,FALSE))","v":""},0,2,null,"",null,0,2,null,{"$f":"IF(AI50=\"\",\"\",IF(I50=1,VLOOKUP(AI50,男子種目コード!$A$1:$B$33,2,FALSE),IF(I50=2,VLOOKUP(AI50,女子種目コード!$A$36:$B$66,2,FALSE))))","v":""},null,0,2,null,null,null,null,null,null,null,null,null,null,null,null,null,null,null,"",0,0,0,0,null,null,null,null,0,"","",""]
[false,{"$f":"名簿!Q53","v":""},null,null,{"$f":"名簿!E53","v":0},{"$f":"名簿!BR53","v":""},{"$f":"名簿!Z53","v":""},"",{"$f":"名簿!O53","v":""},{"$f":"名簿!I53","v":0},{"$f":"名簿!K53","v":0},{"$f":"名簿!BU53","v":"00"},{"$f":"名簿!R53","v":""},{"$f":"名簿!D53","v":0},null,"",{"$f":"IF(O51=\"\",\"\",HLOOKUP(O51,名簿!$AB$8:$BH$118,46,FALSE))","v":""},0,2,null,{"$f":"IF(T51=\"\",\"\",IF(I51=1,VLOOKUP(O51,男子種目コード!$Y$1:$Z$8,2,FALSE),IF(I51=2,VLOOKUP(O51,女子種目コード!$Y$1:$Z$6,2,FALSE))))","v":""},{"$f":"IF(T51=\"\",\"\",HLOOKUP(T51,名簿!$AB$8:$BG$118,46,FALSE))","v":""},0,2,null,{"$f":"IF(Y51=\"\",\"\",IF(I51=1,VLOOKUP(Y51,男子種目コード!$A$1:$B$33,2,FALSE),IF(I51=2,VLOOKUP(Y51,女子種目コード!$A$36:$B$66,2,FALSE))))","v":""},{"$f":"IF(Y51=\"\",\"\",HLOOKUP(Y51,名簿!$AB$8:$BG$118,46,FALSE))","v":""},0,2,null,"",null,0,2,null,{"$f":"IF(AI51=\"\",\"\",IF(I51=1,VLOOKUP(AI51,男子種目コード!$A$1:$B$33,2,FALSE),IF(I51=2,VLOOKUP(AI51,女子種目コード!$A$36:$B$66,2,FALSE))))","v":""},null,0,2,null,null,null,null,null,null,null,null,null,null,null,null,null,null,null,"",0,0,0,0,null,null,null,null,0,"","",""]
[false,{"$f":"名簿!Q54","v":""},null,null,{"$f":"名簿!E54","v":0},{"$f":"名簿!BR54","v":""},{"$f":"名簿!Z54","v":""},"",{"$f":"名簿!O54","v":""},{"$f":"名簿!I54","v":0},{"$f":"名簿!K54","v":0},{"$f":"名簿!BU54","v":"00"},{"$f":"名簿!R54","v":""},{"$f":"名簿!D54","v":0},null,"",{"$f":"IF(O52=\"\",\"\",HLOOKUP(O52,名簿!$AB$8:$BH$118,47,FALSE))","v":""},0,2,null,{"$f":"IF(T52=\"\",\"\",IF(I52=1,VLOOKUP(O52,男子種目コード!$Y$1:$Z$8,2,FALSE),IF(I52=2,VLOOKUP(O52,女子種目コード!$Y$1:$Z$6,2,FALSE))))","v":""},{"$f":"IF(T52=\"\",\"\",HLOOKUP(T52,名簿!$AB$8:$BG$118,47,FALSE))","v":""},0,2,null,{"$f":"IF(Y52=\"\",\"\",IF(I52=1,VLOOKUP(Y52,男子種目コード!$A$1:$B$33,2,FALSE),IF(I52=2,VLOOKUP(Y52,女子種目コード!$A$36:$B$66,2,FALSE))))","v":""},{"$f":"IF(Y52=\"\",\"\",HLOOKUP(Y52,名簿!$AB$8:$BG$118,47,FALSE))","v":""},0,2,null,"",null,0,2,null,{"$f":"IF(AI52=\"\",\"\",IF(I52=1,VLOOKUP(AI52,男子種目コード!$A$1:$B$33,2,FALSE),IF(I52=2,VLOOKUP(AI52,女子種目コード!$A$36:$B$66,2,FALSE))))","v":""},null,0,2,null,null,null,null,null,null,null,null,null,null,null,null,null,null,null,"",0,0,0,0,null,null,null,null,0,"","",""]
[false,{"$f":"名簿!Q55","v":""},null,null,{"$f":"名簿!E55","v":0},{"$f":"名簿!BR55","v":""},{"$f":"名簿!Z55","v":""},"",{"$f":"名簿!O55","v":""},{"$f":"名簿!I55","v":0},{"$f":"名簿!K55","v":0},{"$f":"名簿!BU55","v":"00"},{"$f":"名簿!R55","v":""},{"$f":"名簿!D55","v":0},null,"",{"$f":"IF(O53=\"\",\"\",HLOOKUP(O53,名簿!$AB$8:$BH$118,48,FALSE))","v":""},0,2,null,{"$f":"IF(T53=\"\",\"\",IF(I53=1,VLOOKUP(O53,男子種目コード!$Y$1:$Z$8,2,FALSE),IF(I53=2,VLOOKUP(O53,女子種目コード!$Y$1:$Z$6,2,FALSE))))","v":""},{"$f":"IF(T53=\"\",\"\",HLOOKUP(T53,名簿!$AB$8:$BG$118,48,FALSE))","v":""},0,2,null,{"$f":"IF(Y53=\"\",\"\",IF(I53=1,VLOOKUP(Y53,男子種目コード!$A$1:$B$33,2,FALSE),IF(I53=2,VLOOKUP(Y53,女子種目コード!$A$36:$B$66,2,FALSE))))","v":""},{"$f":"IF(Y53=\"\",\"\",HLOOKUP(Y53,名簿!$AB$8:$BG$118,48,FALSE))","v":""},0,2,null,"",null,0,2,null,{"$f":"IF(AI53=\"\",\"\",IF(I53=1,VLOOKUP(AI53,男子種目コード!$A$1:$B$33,2,FALSE),IF(I53=2,VLOOKUP(AI53,女子種目コード!$A$36:$B$66,2,FALSE))))","v":""},null,0,2,null,null,null,null,null,null,null,null,null,null,null,null,null,null,null,"",0,0,0,0,null,null,null,null,0,"","",""]
[false,{"$f":"名簿!Q56","v":""},null,null,{"$f":"名簿!E56","v":0},{"$f":"名簿!BR56","v":""},{"$f":"名簿!Z56","v":""},"",{"$f":"名簿!O56","v":""},{"$f":"名簿!I56","v":0},{"$f":"名簿!K56","v":0},{"$f":"名簿!BU56","v":"00"},{"$f":"名簿!R56","v":""},{"$f":"名簿!D56","v":0},null,"",{"$f":"IF(O54=\"\",\"\",HLOOKUP(O54,名簿!$AB$8:$BH$118,49,FALSE))","v":""},0,2,null,{"$f":"IF(T54=\"\",\"\",IF(I54=1,VLOOKUP(O54,男子種目コード!$Y$1:$Z$8,2,FALSE),IF(I54=2,VLOOKUP(O54,女子種目コード!$Y$1:$Z$6,2,FALSE))))","v":""},{"$f":"IF(T54=\"\",\"\",HLOOKUP(T54,名簿!$AB$8:$BG$118,49,FALSE))","v":""},0,2,null,{"$f":"IF(Y54=\"\",\"\",IF(I54=1,VLOOKUP(Y54,男子種目コード!$A$1:$B$33,2,FALSE),IF(I54=2,VLOOKUP(Y54,女子種目コード!$A$36:$B$66,2,FALSE))))","v":""},{"$f":"IF(Y54=\"\",\"\",HLOOKUP(Y54,名簿!$AB$8:$BG$118,49,FALSE))","v":""},0,2,null,"",null,0,2,null,{"$f":"IF(AI54=\"\",\"\",IF(I54=1,VLOOKUP(AI54,男子種目コード!$A$1:$B$33,2,FALSE),IF(I54=2,VLOOKUP(AI54,女子種目コード!$A$36:$B$66,2,FALSE))))","v":""},null,0,2,null,null,null,null,null,null,null,null,null,null,null,null,null,null,null,"",0,0,0,0,null,null,null,null,0,"","",""]
[false,{"$f":"名簿!Q57","v":""},null,null,{"$f":"名簿!E57","v":0},{"$f":"名簿!BR57","v":""},{"$f":"名簿!Z57","v":""},"",{"$f":"名簿!O57","v":""},{"$f":"名簿!I57","v":0},{"$f":"名簿!K57","v":0},{"$f":"名簿!BU57","v":"00"},{"$f":"名簿!R57","v":""},{"$f":"名簿!D57","v":0},null,"",{"$f":"IF(O55=\"\",\"\",HLOOKUP(O55,名簿!$AB$8:$BH$118,50,FALSE))","v":""},0,2,null,{"$f":"IF(T55=\"\",\"\",IF(I55=1,VLOOKUP(O55,男子種目コード!$Y$1:$Z$8,2,FALSE),IF(I55=2,VLOOKUP(O55,女子種目コード!$Y$1:$Z$6,2,FALSE))))","v":""},{"$f":"IF(T55=\"\",\"\",HLOOKUP(T55,名簿!$AB$8:$BG$118,50,FALSE))","v":""},0,2,null,{"$f":"IF(Y55=\"\",\"\",IF(I55=1,VLOOKUP(Y55,男子種目コード!$A$1:$B$33,2,FALSE),IF(I55=2,VLOOKUP(Y55,女子種目コード!$A$36:$B$66,2,FALSE))))","v":""},{"$f":"IF(Y55=\"\",\"\",HLOOKUP(Y55,名簿!$AB$8:$BG$118,50,FALSE))","v":""},0,2,null,"",null,0,2,null,{"$f":"IF(AI55=\"\",\"\",IF(I55=1,VLOOKUP(AI55,男子種目コード!$A$1:$B$33,2,FALSE),IF(I55=2,VLOOKUP(AI55,女子種目コード!$A$36:$B$66,2,FALSE))))","v":""},null,0,2,null,null,null,null,null,null,null,null,null,null,null,null,null,null,null,"",0,0,0,0,null,null,null,null,0,"","",""]
[false,{"$f":"名簿!Q58","v":""},null,null,{"$f":"名簿!E58","v":0},{"$f":"名簿!BR58","v":""},{"$f":"名簿!Z58","v":""},"",{"$f":"名簿!O58","v":""},{"$f":"名簿!I58","v":0},{"$f":"名簿!K58","v":0},{"$f":"名簿!BU58","v":"00"},{"$f":"名簿!R58","v":""},{"$f":"名簿!D58","v":0},null,"",{"$f":"IF(O56=\"\",\"\",HLOOKUP(O56,名簿!$AB$8:$BH$118,51,FALSE))","v":""},0,2,null,{"$f":"IF(T56=\"\",\"\",IF(I56=1,VLOOKUP(O56,男子種目コード!$Y$1:$Z$8,2,FALSE),IF(I56=2,VLOOKUP(O56,女子種目コード!$Y$1:$Z$6,2,FALSE))))","v":""},{"$f":"IF(T56=\"\",\"\",HLOOKUP(T56,名簿!$AB$8:$BG$118,51,FALSE))","v":""},0,2,null,{"$f":"IF(Y56=\"\",\"\",IF(I56=1,VLOOKUP(Y56,男子種目コード!$A$1:$B$33,2,FALSE),IF(I56=2,VLOOKUP(Y56,女子種目コード!$A$36:$B$66,2,FALSE))))","v":""},{"$f":"IF(Y56=\"\",\"\",HLOOKUP(Y56,名簿!$AB$8:$BG$118,51,FALSE))","v":""},0,2,null,"",null,0,2,null,{"$f":"IF(AI56=\"\",\"\",IF(I56=1,VLOOKUP(AI56,男子種目コード!$A$1:$B$33,2,FALSE),IF(I56=2,VLOOKUP(AI56,女子種目コード!$A$36:$B$66,2,FALSE))))","v":""},null,0,2,null,null,null,null,null,null,null,null,null,null,null,null,null,null,null,"",0,0,0,0,null,null,null,null,0,"","",""]
[false,{"$f":"名簿!Q59","v":""},null,null,{"$f":"名簿!E59","v":0},{"$f":"名簿!BR59","v":""},{"$f":"名簿!Z59","v":""},"",{"$f":"名簿!O59","v":""},{"$f":"名簿!I59","v":0},{"$f":"名簿!K59","v":0},{"$f":"名簿!BU59","v":"00"},{"$f":"名簿!R59","v":""},{"$f":"名簿!D59","v":0},null,"",{"$f":"IF(O57=\"\",\"\",HLOOKUP(O57,名簿!$AB$8:$BH$118,52,FALSE))","v":""},0,2,null,{"$f":"IF(T57=\"\",\"\",IF(I57=1,VLOOKUP(O57,男子種目コード!$Y$1:$Z$8,2,FALSE),IF(I57=2,VLOOKUP(O57,女子種目コード!$Y$1:$Z$6,2,FALSE))))","v":""},{"$f":"IF(T57=\"\",\"\",HLOOKUP(T57,名簿!$AB$8:$BG$118,52,FALSE))","v":""},0,2,null,{"$f":"IF(Y57=\"\",\"\",IF(I57=1,VLOOKUP(Y57,男子種目コード!$A$1:$B$33,2,FALSE),IF(I57=2,VLOOKUP(Y57,女子種目コード!$A$36:$B$66,2,FALSE))))","v":""},{"$f":"IF(Y57=\"\",\"\",HLOOKUP(Y57,名簿!$AB$8:$BG$118,52,FALSE))","v":""},0,2,null,"",null,0,2,null,{"$f":"IF(AI57=\"\",\"\",IF(I57=1,VLOOKUP(AI57,男子種目コード!$A$1:$B$33,2,FALSE),IF(I57=2,VLOOKUP(AI57,女子種目コード!$A$36:$B$66,2,FALSE))))","v":""},null,0,2,null,null,null,null,null,null,null,null,null,null,null,null,null,null,null,"",0,0,0,0,null,null,null,null,0,"","",""]
[false,{"$f":"名簿!Q60","v":""},null,null,{"$f":"名簿!E60","v":0},{"$f":"名簿!BR60","v":""},{"$f":"名簿!Z60","v":""},"",{"$f":"名簿!O60","v":""},{"$f":"名簿!I60","v":0},{"$f":"名簿!K60","v":0},{"$f":"名簿!BU60","v":"00"},{"$f":"名簿!R60","v":""},{"$f":"名簿!D60","v":0},null,"",{"$f":"IF(O58=\"\",\"\",HLOOKUP(O58,名簿!$AB$8:$BH$118,53,FALSE))","v":""},0,2,null,{"$f":"IF(T58=\"\",\"\",IF(I58=1,VLOOKUP(O58,男子種目コード!$Y$1:$Z$8,2,FALSE),IF(I58=2,VLOOKUP(O58,女子種目コード!$Y$1:$Z$6,2,FALSE))))","v":""},{"$f":"IF(T58=\"\",\"\",HLOOKUP(T58,名簿!$AB$8:$BG$118,53,FALSE))","v":""},0,2,null,{"$f":"IF(Y58=\"\",\"\",IF(I58=1,VLOOKUP(Y58,男子種目コード!$A$1:$B$33,2,FALSE),IF(I58=2,VLOOKUP(Y58,女子種目コード!$A$36:$B$66,2,FALSE))))","v":""},{"$f":"IF(Y58=\"\",\"\",HLOOKUP(Y58,名簿!$AB$8:$BG$118,53,FALSE))","v":""},0,2,null,"",null,0,2,null,{"$f":"IF(AI58=\"\",\"\",IF(I58=1,VLOOKUP(AI58,男子種目コード!$A$1:$B$33,2,FALSE),IF(I58=2,VLOOKUP(AI58,女子種目コード!$A$36:$B$66,2,FALSE))))","v":""},null,0,2,null,null,null,null,null,null,null,null,null,null,null,null,null,null,null,"",0,0,0,0,null,null,null,null,0,"","",""]
[false,{"$f":"名簿!Q61","v":""},null,null,{"$f":"名簿!E61","v":0},{"$f":"名簿!BR61","v":""},{"$f":"名簿!Z61","v":""},"",{"$f":"名簿!O61","v":""},{"$f":"名簿!I61","v":0},{"$f":"名簿!K61","v":0},{"$f":"名簿!BU61","v":"00"},{"$f":"名簿!R61","v":""},{"$f":"名簿!D61","v":0},null,"",{"$f":"IF(O59=\"\",\"\",HLOOKUP(O59,名簿!$AB$8:$BH$118,54,FALSE))","v":""},0,2,null,{"$f":"IF(T59=\"\",\"\",IF(I59=1,VLOOKUP(O59,男子種目コード!$Y$1:$Z$8,2,FALSE),IF(I59=2,VLOOKUP(O59,女子種目コード!$Y$1:$Z$6,2,FALSE))))","v":""},{"$f":"IF(T59=\"\",\"\",HLOOKUP(T59,名簿!$AB$8:$BG$118,54,FALSE))","v":""},0,2,null,{"$f":"IF(Y59=\"\",\"\",IF(I59=1,VLOOKUP(Y59,男子種目コード!$A$1:$B$33,2,FALSE),IF(I59=2,VLOOKUP(Y59,女子種目コード!$A$36:$B$66,2,FALSE))))","v":""},{"$f":"IF(Y59=\"\",\"\",HLOOKUP(Y59,名簿!$AB$8:$BG$118,54,FALSE))","v":""},0,2,null,"",null,0,2,null,{"$f":"IF(AI59=\"\",\"\",IF(I59=1,VLOOKUP(AI59,男子種目コード!$A$1:$B$33,2,FALSE),IF(I59=2,VLOOKUP(AI59,女子種目コード!$A$36:$B$66,2,FALSE))))","v":""},null,0,2,null,null,null,null,null,null,null,null,null,null,null,null,null,null,null,"",0,0,0,0,null,null,null,null,0,"","",""]
[false,{"$f":"名簿!Q62","v":""},null,null,{"$f":"名簿!E62","v":0},{"$f":"名簿!BR62","v":""},{"$f":"名簿!Z62","v":""},"",{"$f":"名簿!O62","v":""},{"$f":"名簿!I62","v":0},{"$f":"名簿!K62","v":0},{"$f":"名簿!BU62","v":"00"},{"$f":"名簿!R62","v":""},{"$f":"名簿!D62","v":0},null,"",{"$f":"IF(O60=\"\",\"\",HLOOKUP(O60,名簿!$AB$8:$BH$118,55,FALSE))","v":""},0,2,null,{"$f":"IF(T60=\"\",\"\",IF(I60=1,VLOOKUP(O60,男子種目コード!$Y$1:$Z$8,2,FALSE),IF(I60=2,VLOOKUP(O60,女子種目コード!$Y$1:$Z$6,2,FALSE))))","v":""},{"$f":"IF(T60=\"\",\"\",HLOOKUP(T60,名簿!$AB$8:$BG$118,55,FALSE))","v":""},0,2,null,{"$f":"IF(Y60=\"\",\"\",IF(I60=1,VLOOKUP(Y60,男子種目コード!$A$1:$B$33,2,FALSE),IF(I60=2,VLOOKUP(Y60,女子種目コード!$A$36:$B$66,2,FALSE))))","v":""},{"$f":"IF(Y60=\"\",\"\",HLOOKUP(Y60,名簿!$AB$8:$BG$118,55,FALSE))","v":""},0,2,null,"",null,0,2,null,{"$f":"IF(AI60=\"\",\"\",IF(I60=1,VLOOKUP(AI60,男子種目コード!$A$1:$B$33,2,FALSE),IF(I60=2,VLOOKUP(AI60,女子種目コード!$A$36:$B$66,2,FALSE))))","v":""},null,0,2,null,null,null,null,null,null,null,null,null,null,null,null,null,null,null,"",0,0,0,0,null,null,null,null,0,"","",""]
[false,{"$f":"名簿!Q63","v":""},null,null,{"$f":"名簿!E63","v":0},{"$f":"名簿!BR63","v":""},{"$f":"名簿!Z63","v":""},"",{"$f":"名簿!O63","v":""},{"$f":"名簿!I63","v":0},{"$f":"名簿!K63","v":0},{"$f":"名簿!BU63","v":"00"},{"$f":"名簿!R63","v":""},{"$f":"名簿!D63","v":0},null,"",{"$f":"IF(O61=\"\",\"\",HLOOKUP(O61,名簿!$AB$8:$BH$118,56,FALSE))","v":""},0,2,null,{"$f":"IF(T61=\"\",\"\",IF(I61=1,VLOOKUP(O61,男子種目コード!$Y$1:$Z$8,2,FALSE),IF(I61=2,VLOOKUP(O61,女子種目コード!$Y$1:$Z$6,2,FALSE))))","v":""},{"$f":"IF(T61=\"\",\"\",HLOOKUP(T61,名簿!$AB$8:$BG$118,56,FALSE))","v":""},0,2,null,{"$f":"IF(Y61=\"\",\"\",IF(I61=1,VLOOKUP(Y61,男子種目コード!$A$1:$B$33,2,FALSE),IF(I61=2,VLOOKUP(Y61,女子種目コード!$A$36:$B$66,2,FALSE))))","v":""},{"$f":"IF(Y61=\"\",\"\",HLOOKUP(Y61,名簿!$AB$8:$BG$118,56,FALSE))","v":""},0,2,null,"",null,0,2,null,{"$f":"IF(AI61=\"\",\"\",IF(I61=1,VLOOKUP(AI61,男子種目コード!$A$1:$B$33,2,FALSE),IF(I61=2,VLOOKUP(AI61,女子種目コード!$A$36:$B$66,2,FALSE))))","v":""},null,0,2,null,null,null,null,null,null,null,null,null,null,null,null,null,null,null,"",0,0,0,0,null,null,null,null,0,"","",""]
[false,{"$f":"名簿!Q64","v":""},null,null,{"$f":"名簿!E64","v":0},{"$f":"名簿!BR64","v":""},{"$f":"名簿!Z64","v":""},"",{"$f":"名簿!O64","v":""},{"$f":"名簿!I64","v":0},{"$f":"名簿!K64","v":0},{"$f":"名簿!BU64","v":"00"},{"$f":"名簿!R64","v":""},{"$f":"名簿!D64","v":0},null,"",{"$f":"IF(O62=\"\",\"\",HLOOKUP(O62,名簿!$AB$8:$BH$118,57,FALSE))","v":""},0,2,null,{"$f":"IF(T62=\"\",\"\",IF(I62=1,VLOOKUP(O62,男子種目コード!$Y$1:$Z$8,2,FALSE),IF(I62=2,VLOOKUP(O62,女子種目コード!$Y$1:$Z$6,2,FALSE))))","v":""},{"$f":"IF(T62=\"\",\"\",HLOOKUP(T62,名簿!$AB$8:$BG$118,57,FALSE))","v":""},0,2,null,{"$f":"IF(Y62=\"\",\"\",IF(I62=1,VLOOKUP(Y62,男子種目コード!$A$1:$B$33,2,FALSE),IF(I62=2,VLOOKUP(Y62,女子種目コード!$A$36:$B$66,2,FALSE))))","v":""},{"$f":"IF(Y62=\"\",\"\",HLOOKUP(Y62,名簿!$AB$8:$BG$118,57,FALSE))","v":""},0,2,null,"",null,0,2,null,{"$f":"IF(AI62=\"\",\"\",IF(I62=1,VLOOKUP(AI62,男子種目コード!$A$1:$B$33,2,FALSE),IF(I62=2,VLOOKUP(AI62,女子種目コード!$A$36:$B$66,2,FALSE))))","v":""},null,0,2,null,null,null,null,null,null,null,null,null,null,null,null,null,null,null,"",0,0,0,0,null,null,null,null,0,"","",""]
[false,{"$f":"名簿!Q65","v":""},null,null,{"$f":"名簿!E65","v":0},{"$f":"名簿!BR65","v":""},{"$f":"名簿!Z65","v":""},"",{"$f":"名簿!O65","v":""},{"$f":"名簿!I65","v":0},{"$f":"名簿!K65","v":0},{"$f":"名簿!BU65","v":"00"},{"$f":"名簿!R65","v":""},{"$f":"名簿!D65","v":0},null,"",{"$f":"IF(O63=\"\",\"\",HLOOKUP(O63,名簿!$AB$8:$BH$118,58,FALSE))","v":""},0,2,null,{"$f":"IF(T63=\"\",\"\",IF(I63=1,VLOOKUP(O63,男子種目コード!$Y$1:$Z$8,2,FALSE),IF(I63=2,VLOOKUP(O63,女子種目コード!$Y$1:$Z$6,2,FALSE))))","v":""},{"$f":"IF(T63=\"\",\"\",HLOOKUP(T63,名簿!$AB$8:$BG$118,58,FALSE))","v":""},0,2,null,{"$f":"IF(Y63=\"\",\"\",IF(I63=1,VLOOKUP(Y63,男子種目コード!$A$1:$B$33,2,FALSE),IF(I63=2,VLOOKUP(Y63,女子種目コード!$A$36:$B$66,2,FALSE))))","v":""},{"$f":"IF(Y63=\"\",\"\",HLOOKUP(Y63,名簿!$AB$8:$BG$118,58,FALSE))","v":""},0,2,null,"",null,0,2,null,{"$f":"IF(AI63=\"\",\"\",IF(I63=1,VLOOKUP(AI63,男子種目コード!$A$1:$B$33,2,FALSE),IF(I63=2,VLOOKUP(AI63,女子種目コード!$A$36:$B$66,2,FALSE))))","v":""},null,0,2,null,null,null,null,null,null,null,null,null,null,null,null,null,null,null,"",0,0,0,0,null,null,null,null,0,"","",""]
[false,{"$f":"名簿!Q66","v":""},null,null,{"$f":"名簿!E66","v":0},{"$f":"名簿!BR66","v":""},{"$f":"名簿!Z66","v":""},"",{"$f":"名簿!O66","v":""},{"$f":"名簿!I66","v":0},{"$f":"名簿!K66","v":0},{"$f":"名簿!BU66","v":"00"},{"$f":"名簿!R66","v":""},{"$f":"名簿!D66","v":0},null,"",{"$f":"IF(O64=\"\",\"\",HLOOKUP(O64,名簿!$AB$8:$BH$118,59,FALSE))","v":""},0,2,null,{"$f":"IF(T64=\"\",\"\",IF(I64=1,VLOOKUP(O64,男子種目コード!$Y$1:$Z$8,2,FALSE),IF(I64=2,VLOOKUP(O64,女子種目コード!$Y$1:$Z$6,2,FALSE))))","v":""},{"$f":"IF(T64=\"\",\"\",HLOOKUP(T64,名簿!$AB$8:$BG$118,59,FALSE))","v":""},0,2,null,{"$f":"IF(Y64=\"\",\"\",IF(I64=1,VLOOKUP(Y64,男子種目コード!$A$1:$B$33,2,FALSE),IF(I64=2,VLOOKUP(Y64,女子種目コード!$A$36:$B$66,2,FALSE))))","v":""},{"$f":"IF(Y64=\"\",\"\",HLOOKUP(Y64,名簿!$AB$8:$BG$118,59,FALSE))","v":""},0,2,null,"",null,0,2,null,{"$f":"IF(AI64=\"\",\"\",IF(I64=1,VLOOKUP(AI64,男子種目コード!$A$1:$B$33,2,FALSE),IF(I64=2,VLOOKUP(AI64,女子種目コード!$A$36:$B$66,2,FALSE))))","v":""},null,0,2,null,null,null,null,null,null,null,null,null,null,null,null,null,null,null,"",0,0,0,0,null,null,null,null,0,"","",""]
[false,{"$f":"名簿!Q67","v":""},null,null,{"$f":"名簿!E67","v":0},{"$f":"名簿!BR67","v":""},{"$f":"名簿!Z67","v":""},"",{"$f":"名簿!O67","v":""},{"$f":"名簿!I67","v":0},{"$f":"名簿!K67","v":0},{"$f":"名簿!BU67","v":"00"},{"$f":"名簿!R67","v":""},{"$f":"名簿!D67","v":0},null,"",{"$f":"IF(O65=\"\",\"\",HLOOKUP(O65,名簿!$AB$8:$BH$118,60,FALSE))","v":""},0,2,null,{"$f":"IF(T65=\"\",\"\",IF(I65=1,VLOOKUP(O65,男子種目コード!$Y$1:$Z$8,2,FALSE),IF(I65=2,VLOOKUP(O65,女子種目コード!$Y$1:$Z$6,2,FALSE))))","v":""},{"$f":"IF(T65=\"\",\"\",HLOOKUP(T65,名簿!$AB$8:$BG$118,60,FALSE))","v":""},0,2,null,{"$f":"IF(Y65=\"\",\"\",IF(I65=1,VLOOKUP(Y65,男子種目コード!$A$1:$B$33,2,FALSE),IF(I65=2,VLOOKUP(Y65,女子種目コード!$A$36:$B$66,2,FALSE))))","v":""},{"$f":"IF(Y65=\"\",\"\",HLOOKUP(Y65,名簿!$AB$8:$BG$118,60,FALSE))","v":""},0,2,null,"",null,0,2,null,{"$f":"IF(AI65=\"\",\"\",IF(I65=1,VLOOKUP(AI65,男子種目コード!$A$1:$B$33,2,FALSE),IF(I65=2,VLOOKUP(AI65,女子種目コード!$A$36:$B$66,2,FALSE))))","v":""},null,0,2,null,null,null,null,null,null,null,null,null,null,null,null,null,null,null,"",0,0,0,0,null,null,null,null,0,"","",""]
[false,{"$f":"名簿!Q68","v":""},null,null,{"$f":"名簿!E68","v":0},{"$f":"名簿!BR68","v":""},{"$f":"名簿!Z68","v":""},"",{"$f":"名簿!O68","v":""},{"$f":"名簿!I68","v":0},{"$f":"名簿!K68","v":0},{"$f":"名簿!BU68","v":"00"},{"$f":"名簿!R68","v":""},{"$f":"名簿!D68","v":0},null,"",{"$f":"IF(O66=\"\",\"\",HLOOKUP(O66,名簿!$AB$8:$BH$118,61,FALSE))","v":""},0,2,null,{"$f":"IF(T66=\"\",\"\",IF(I66=1,VLOOKUP(O66,男子種目コード!$Y$1:$Z$8,2,FALSE),IF(I66=2,VLOOKUP(O66,女子種目コード!$Y$1:$Z$6,2,FALSE))))","v":""},{"$f":"IF(T66=\"\",\"\",HLOOKUP(T66,名簿!$AB$8:$BG$118,61,FALSE))","v":""},0,2,null,{"$f":"IF(Y66=\"\",\"\",IF(I66=1,VLOOKUP(Y66,男子種目コード!$A$1:$B$33,2,FALSE),IF(I66=2,VLOOKUP(Y66,女子種目コード!$A$36:$B$66,2,FALSE))))","v":""},{"$f":"IF(Y66=\"\",\"\",HLOOKUP(Y66,名簿!$AB$8:$BG$118,61,FALSE))","v":""},0,2,null,"",null,0,2,null,{"$f":"IF(AI66=\"\",\"\",IF(I66=1,VLOOKUP(AI66,男子種目コード!$A$1:$B$33,2,FALSE),IF(I66=2,VLOOKUP(AI66,女子種目コード!$A$36:$B$66,2,FALSE))))","v":""},null,0,2,null,null,null,null,null,null,null,null,null,null,null,null,null,null,null,"",0,0,0,0,null,null,null,null,0,"","",""]
[false,{"$f":"名簿!Q69","v":""},null,null,{"$f":"名簿!E69","v":0},{"$f":"名簿!BR69","v":""},{"$f":"名簿!Z69","v":""},"",{"$f":"名簿!O69","v":""},{"$f":"名簿!I69","v":0},{"$f":"名簿!K69","v":0},{"$f":"名簿!BU69","v":"00"},{"$f":"名簿!R69","v":""},{"$f":"名簿!D69","v":0},null,"",{"$f":"IF(O67=\"\",\"\",HLOOKUP(O67,名簿!$AB$8:$BH$118,62,FALSE))","v":""},0,2,null,{"$f":"IF(T67=\"\",\"\",IF(I67=1,VLOOKUP(O67,男子種目コード!$Y$1:$Z$8,2,FALSE),IF(I67=2,VLOOKUP(O67,女子種目コード!$Y$1:$Z$6,2,FALSE))))","v":""},{"$f":"IF(T67=\"\",\"\",HLOOKUP(T67,名簿!$AB$8:$BG$118,62,FALSE))","v":""},0,2,null,{"$f":"IF(Y67=\"\",\"\",IF(I67=1,VLOOKUP(Y67,男子種目コード!$A$1:$B$33,2,FALSE),IF(I67=2,VLOOKUP(Y67,女子種目コード!$A$36:$B$66,2,FALSE))))","v":""},{"$f":"IF(Y67=\"\",\"\",HLOOKUP(Y67,名簿!$AB$8:$BG$118,62,FALSE))","v":""},0,2,null,"",null,0,2,null,{"$f":"IF(AI67=\"\",\"\",IF(I67=1,VLOOKUP(AI67,男子種目コード!$A$1:$B$33,2,FALSE),IF(I67=2,VLOOKUP(AI67,女子種目コード!$A$36:$B$66,2,FALSE))))","v":""},null,0,2,null,null,null,null,null,null,null,null,null,null,null,null,null,null,null,"",0,0,0,0,null,null,null,null,0,"","",""]
[false,{"$f":"名簿!Q70","v":""},null,null,{"$f":"名簿!E70","v":0},{"$f":"名簿!BR70","v":""},{"$f":"名簿!Z70","v":""},"",{"$f":"名簿!O70","v":""},{"$f":"名簿!I70","v":0},{"$f":"名簿!K70","v":0},{"$f":"名簿!BU70","v":"00"},{"$f":"名簿!R70","v":""},{"$f":"名簿!D70","v":0},null,"",{"$f":"IF(O68=\"\",\"\",HLOOKUP(O68,名簿!$AB$8:$BH$118,63,FALSE))","v":""},0,2,null,{"$f":"IF(T68=\"\",\"\",IF(I68=1,VLOOKUP(O68,男子種目コード!$Y$1:$Z$8,2,FALSE),IF(I68=2,VLOOKUP(O68,女子種目コード!$Y$1:$Z$6,2,FALSE))))","v":""},{"$f":"IF(T68=\"\",\"\",HLOOKUP(T68,名簿!$AB$8:$BG$118,63,FALSE))","v":""},0,2,null,{"$f":"IF(Y68=\"\",\"\",IF(I68=1,VLOOKUP(Y68,男子種目コード!$A$1:$B$33,2,FALSE),IF(I68=2,VLOOKUP(Y68,女子種目コード!$A$36:$B$66,2,FALSE))))","v":""},{"$f":"IF(Y68=\"\",\"\",HLOOKUP(Y68,名簿!$AB$8:$BG$118,63,FALSE))","v":""},0,2,null,"",null,0,2,null,{"$f":"IF(AI68=\"\",\"\",IF(I68=1,VLOOKUP(AI68,男子種目コード!$A$1:$B$33,2,FALSE),IF(I68=2,VLOOKUP(AI68,女子種目コード!$A$36:$B$66,2,FALSE))))","v":""},null,0,2,null,null,null,null,null,null,null,null,null,null,null,null,null,null,null,"",0,0,0,0,null,null,null,null,0,"","",""]
[false,{"$f":"名簿!Q71","v":""},null,null,{"$f":"名簿!E71","v":0},{"$f":"名簿!BR71","v":""},{"$f":"名簿!Z71","v":""},"",{"$f":"名簿!O71","v":""},{"$f":"名簿!I71","v":0},{"$f":"名簿!K71","v":0},{"$f":"名簿!BU71","v":"00"},{"$f":"名簿!R71","v":""},{"$f":"名簿!D71","v":0},null,"",{"$f":"IF(O69=\"\",\"\",HLOOKUP(O69,名簿!$AB$8:$BH$118,64,FALSE))","v":""},0,2,null,{"$f":"IF(T69=\"\",\"\",IF(I69=1,VLOOKUP(O69,男子種目コード!$Y$1:$Z$8,2,FALSE),IF(I69=2,VLOOKUP(O69,女子種目コード!$Y$1:$Z$6,2,FALSE))))","v":""},{"$f":"IF(T69=\"\",\"\",HLOOKUP(T69,名簿!$AB$8:$BG$118,64,FALSE))","v":""},0,2,null,{"$f":"IF(Y69=\"\",\"\",IF(I69=1,VLOOKUP(Y69,男子種目コード!$A$1:$B$33,2,FALSE),IF(I69=2,VLOOKUP(Y69,女子種目コード!$A$36:$B$66,2,FALSE))))","v":""},{"$f":"IF(Y69=\"\",\"\",HLOOKUP(Y69,名簿!$AB$8:$BG$118,64,FALSE))","v":""},0,2,null,"",null,0,2,null,{"$f":"IF(AI69=\"\",\"\",IF(I69=1,VLOOKUP(AI69,男子種目コード!$A$1:$B$33,2,FALSE),IF(I69=2,VLOOKUP(AI69,女子種目コード!$A$36:$B$66,2,FALSE))))","v":""},null,0,2,null,null,null,null,null,null,null,null,null,null,null,null,null,null,null,"",0,0,0,0,null,null,null,null,0,"","",""]
[false,{"$f":"名簿!Q72","v":""},null,null,{"$f":"名簿!E72","v":0},{"$f":"名簿!BR72","v":""},{"$f":"名簿!Z72","v":""},"",{"$f":"名簿!O72","v":""},{"$f":"名簿!I72","v":0},{"$f":"名簿!K72","v":0},{"$f":"名簿!BU72","v":"00"},{"$f":"名簿!R72","v":""},{"$f":"名簿!D72","v":0},null,"",{"$f":"IF(O70=\"\",\"\",HLOOKUP(O70,名簿!$AB$8:$BH$118,65,FALSE))","v":""},0,2,null,{"$f":"IF(T70=\"\",\"\",IF(I70=1,VLOOKUP(O70,男子種目コード!$Y$1:$Z$8,2,FALSE),IF(I70=2,VLOOKUP(O70,女子種目コード!$Y$1:$Z$6,2,FALSE))))","v":""},{"$f":"IF(T70=\"\",\"\",HLOOKUP(T70,名簿!$AB$8:$BG$118,65,FALSE))","v":""},0,2,null,{"$f":"IF(Y70=\"\",\"\",IF(I70=1,VLOOKUP(Y70,男子種目コード!$A$1:$B$33,2,FALSE),IF(I70=2,VLOOKUP(Y70,女子種目コード!$A$36:$B$66,2,FALSE))))","v":""},{"$f":"IF(Y70=\"\",\"\",HLOOKUP(Y70,名簿!$AB$8:$BG$118,65,FALSE))","v":""},0,2,null,"",null,0,2,null,{"$f":"IF(AI70=\"\",\"\",IF(I70=1,VLOOKUP(AI70,男子種目コード!$A$1:$B$33,2,FALSE),IF(I70=2,VLOOKUP(AI70,女子種目コード!$A$36:$B$66,2,FALSE))))","v":""},null,0,2,null,null,null,null,null,null,null,null,null,null,null,null,null,null,null,"",0,0,0,0,null,null,null,null,0,"","",""]
[false,{"$f":"名簿!Q73","v":""},null,null,{"$f":"名簿!E73","v":0},{"$f":"名簿!BR73","v":""},{"$f":"名簿!Z73","v":""},{"$f":"F71","v":""},{"$f":"名簿!O73","v":""},{"$f":"名簿!I73","v":0},{"$f":"名簿!K73","v":0},{"$f":"名簿!BU73","v":"00"},{"$f":"名簿!R73","v":""},{"$f":"名簿!D73","v":0},null,"",{"$f":"IF(O71=\"\",\"\",HLOOKUP(O71,名簿!$AB$8:$BH$118,66,FALSE))","v":""},0,2,null,{"$f":"IF(T71=\"\",\"\",IF(I71=1,VLOOKUP(O71,男子種目コード!$Y$1:$Z$8,2,FALSE),IF(I71=2,VLOOKUP(O71,女子種目コード!$Y$1:$Z$6,2,FALSE))))","v":""},{"$f":"IF(T71=\"\",\"\",HLOOKUP(T71,名簿!$AB$8:$BG$118,66,FALSE))","v":""},0,2,null,{"$f":"IF(Y71=\"\",\"\",IF(I71=1,VLOOKUP(Y71,男子種目コード!$A$1:$B$33,2,FALSE),IF(I71=2,VLOOKUP(Y71,女子種目コード!$A$36:$B$66,2,FALSE))))","v":""},{"$f":"IF(Y71=\"\",\"\",HLOOKUP(Y71,名簿!$AB$8:$BG$118,66,FALSE))","v":""},0,2,null,"",null,0,2,null,{"$f":"IF(AI71=\"\",\"\",IF(I71=1,VLOOKUP(AI71,男子種目コード!$A$1:$B$33,2,FALSE),IF(I71=2,VLOOKUP(AI71,女子種目コード!$A$36:$B$66,2,FALSE))))","v":""},null,0,2,null,null,null,null,null,null,null,null,null,null,null,null,null,null,null,"",0,0,0,0,null,null,null,null,0,"","",""]
[{"$f":"IF(I72=1,IF(AD72=\"男子\",1),IF(AD72=\"女子\",2))","v":false},{"$f":"名簿!Q74","v":""},null,null,{"$f":"名簿!E74","v":0},{"$f":"名簿!BR74","v":""},{"$f":"名簿!Z74","v":""},"",{"$f":"名簿!O74","v":""},{"$f":"名簿!I74","v":0},{"$f":"名簿!K74","v":0},{"$f":"名簿!BU74","v":"00"},{"$f":"名簿!R74","v":""},{"$f":"名簿!D74","v":0},null,{"$f":"IF(O72=\"\",\"\",IF(I72=1,VLOOKUP(O72,$AS$7:$AU$9,3,FALSE),IF(I72=2,VLOOKUP(O72,$AS$12:$AU$14,3,FALSE))))","v":""},{"$f":"IF(O72=\"\",\"\",HLOOKUP(O72,名簿!$AB$8:$BH$118,67,FALSE))","v":""},0,2,null,{"$f":"IF(T72=\"\",\"\",IF(I72=1,VLOOKUP(O72,男子種目コード!$Y$1:$Z$8,2,FALSE),IF(I72=2,VLOOKUP(O72,女子種目コード!$Y$1:$Z$6,2,FALSE))))","v":""},{"$f":"IF(T72=\"\",\"\",HLOOKUP(T72,名簿!$AB$8:$BG$118,67,FALSE))","v":""},0,2,null,{"$f":"IF(Y72=\"\",\"\",IF(I72=1,VLOOKUP(Y72,男子種目コード!$A$1:$B$33,2,FALSE),IF(I72=2,VLOOKUP(Y72,女子種目コード!$A$36:$B$66,2,FALSE))))","v":""},{"$f":"IF(Y72=\"\",\"\",HLOOKUP(Y72,名簿!$AB$8:$BG$118,67,FALSE))","v":""},0,2,null,{"$f":"IF(AD72=\"\",\"\",IF(I72=1,VLOOKUP(AD72,$AS$19:$AU$19,3,FALSE),IF(I72=2,VLOOKUP(AD72,$AS$20:$AU$20,3,FALSE))))","v":""},null,0,2,null,{"$f":"IF(AI72=\"\",\"\",IF(I72=1,VLOOKUP(AI72,男子種目コード!$A$1:$B$33,2,FALSE),IF(I72=2,VLOOKUP(AI72,女子種目コード!$A$36:$B$66,2,FALSE))))","v":""},null,0,2,null,null,null,null,null,null,null,null,null,null,null,null,null,null,null,"",0,0,0,0,null,null,null,null,{"$f":"COUNT(P72,U72,Z72,AE72,AJ72)","v":0},{"$f":"IF(I72=1,BL72,\"\")","v":""},{"$f":"IF(I72=2,BL72,\"\")","v":""},""]
[false,{"$f":"名簿!Q75","v":""},null,null,{"$f":"名簿!E75","v":0},{"$f":"名簿!BR75","v":""},{"$f":"名簿!Z75","v":""},"",{"$f":"名簿!O75","v":""},{"$f":"名簿!I75","v":0},{"$f":"名簿!K75","v":0},{"$f":"名簿!BU75","v":"00"},{"$f":"名簿!R75","v":""},{"$f":"名簿!D75","v":0},null,"",{"$f":"IF(O73=\"\",\"\",HLOOKUP(O73,名簿!$AB$8:$BH$118,68,FALSE))","v":""},0,2,null,{"$f":"IF(T73=\"\",\"\",IF(I73=1,VLOOKUP(O73,男子種目コード!$Y$1:$Z$8,2,FALSE),IF(I73=2,VLOOKUP(O73,女子種目コード!$Y$1:$Z$6,2,FALSE))))","v":""},{"$f":"IF(T73=\"\",\"\",HLOOKUP(T73,名簿!$AB$8:$BG$118,68,FALSE))","v":""},0,2,null,{"$f":"IF(Y73=\"\",\"\",IF(I73=1,VLOOKUP(Y73,男子種目コード!$A$1:$B$33,2,FALSE),IF(I73=2,VLOOKUP(Y73,女子種目コード!$A$36:$B$66,2,FALSE))))","v":""},{"$f":"IF(Y73=\"\",\"\",HLOOKUP(Y73,名簿!$AB$8:$BG$118,68,FALSE))","v":""},0,2,null,"",null,0,2,null,{"$f":"IF(AI73=\"\",\"\",IF(I73=1,VLOOKUP(AI73,男子種目コード!$A$1:$B$33,2,FALSE),IF(I73=2,VLOOKUP(AI73,女子種目コード!$A$36:$B$66,2,FALSE))))","v":""},null,0,2,null,null,null,null,null,null,null,null,null,null,null,null,null,null,null,"",0,0,0,0,null,null,null,null,0,"","",""]
[false,{"$f":"名簿!Q76","v":""},null,null,{"$f":"名簿!E76","v":0},{"$f":"名簿!BR76","v":""},{"$f":"名簿!Z76","v":""},"",{"$f":"名簿!O76","v":""},{"$f":"名簿!I76","v":0},{"$f":"名簿!K76","v":0},{"$f":"名簿!BU76","v":"00"},{"$f":"名簿!R76","v":""},{"$f":"名簿!D76","v":0},null,"",{"$f":"IF(O74=\"\",\"\",HLOOKUP(O74,名簿!$AB$8:$BH$118,69,FALSE))","v":""},0,2,null,{"$f":"IF(T74=\"\",\"\",IF(I74=1,VLOOKUP(O74,男子種目コード!$Y$1:$Z$8,2,FALSE),IF(I74=2,VLOOKUP(O74,女子種目コード!$Y$1:$Z$6,2,FALSE))))","v":""},{"$f":"IF(T74=\"\",\"\",HLOOKUP(T74,名簿!$AB$8:$BG$118,69,FALSE))","v":""},0,2,null,{"$f":"IF(Y74=\"\",\"\",IF(I74=1,VLOOKUP(Y74,男子種目コード!$A$1:$B$33,2,FALSE),IF(I74=2,VLOOKUP(Y74,女子種目コード!$A$36:$B$66,2,FALSE))))","v":""},{"$f":"IF(Y74=\"\",\"\",HLOOKUP(Y74,名簿!$AB$8:$BG$118,69,FALSE))","v":""},0,2,null,"",null,0,2,null,{"$f":"IF(AI74=\"\",\"\",IF(I74=1,VLOOKUP(AI74,男子種目コード!$A$1:$B$33,2,FALSE),IF(I74=2,VLOOKUP(AI74,女子種目コード!$A$36:$B$66,2,FALSE))))","v":""},null,0,2,null,null,null,null,null,null,null,null,null,null,null,null,null,null,null,"",0,0,0,0,null,null,null,null,0,"","",""]
[false,{"$f":"名簿!Q77","v":""},null,null,{"$f":"名簿!E77","v":0},{"$f":"名簿!BR77","v":""},{"$f":"名簿!Z77","v":""},"",{"$f":"名簿!O77","v":""},{"$f":"名簿!I77","v":0},{"$f":"名簿!K77","v":0},{"$f":"名簿!BU77","v":"00"},{"$f":"名簿!R77","v":""},{"$f":"名簿!D77","v":0},null,"",{"$f":"IF(O75=\"\",\"\",HLOOKUP(O75,名簿!$AB$8:$BH$118,70,FALSE))","v":""},0,2,null,{"$f":"IF(T75=\"\",\"\",IF(I75=1,VLOOKUP(O75,男子種目コード!$Y$1:$Z$8,2,FALSE),IF(I75=2,VLOOKUP(O75,女子種目コード!$Y$1:$Z$6,2,FALSE))))","v":""},{"$f":"IF(T75=\"\",\"\",HLOOKUP(T75,名簿!$AB$8:$BG$118,70,FALSE))","v":""},0,2,null,{"$f":"IF(Y75=\"\",\"\",IF(I75=1,VLOOKUP(Y75,男子種目コード!$A$1:$B$33,2,FALSE),IF(I75=2,VLOOKUP(Y75,女子種目コード!$A$36:$B$66,2,FALSE))))","v":""},{"$f":"IF(Y75=\"\",\"\",HLOOKUP(Y75,名簿!$AB$8:$BG$118,70,FALSE))","v":""},0,2,null,"",null,0,2,null,{"$f":"IF(AI75=\"\",\"\",IF(I75=1,VLOOKUP(AI75,男子種目コード!$A$1:$B$33,2,FALSE),IF(I75=2,VLOOKUP(AI75,女子種目コード!$A$36:$B$66,2,FALSE))))","v":""},null,0,2,null,null,null,null,null,null,null,null,null,null,null,null,null,null,null,"",0,0,0,0,null,null,null,null,0,"","",""]
[false,{"$f":"名簿!Q78","v":""},null,null,{"$f":"名簿!E78","v":0},{"$f":"名簿!BR78","v":""},{"$f":"名簿!Z78","v":""},"",{"$f":"名簿!O78","v":""},{"$f":"名簿!I78","v":0},{"$f":"名簿!K78","v":0},{"$f":"名簿!BU78","v":"00"},{"$f":"名簿!R78","v":""},{"$f":"名簿!D78","v":0},null,"",{"$f":"IF(O76=\"\",\"\",HLOOKUP(O76,名簿!$AB$8:$BH$118,71,FALSE))","v":""},0,2,null,{"$f":"IF(T76=\"\",\"\",IF(I76=1,VLOOKUP(O76,男子種目コード!$Y$1:$Z$8,2,FALSE),IF(I76=2,VLOOKUP(O76,女子種目コード!$Y$1:$Z$6,2,FALSE))))","v":""},{"$f":"IF(T76=\"\",\"\",HLOOKUP(T76,名簿!$AB$8:$BG$118,71,FALSE))","v":""},0,2,null,{"$f":"IF(Y76=\"\",\"\",IF(I76=1,VLOOKUP(Y76,男子種目コード!$A$1:$B$33,2,FALSE),IF(I76=2,VLOOKUP(Y76,女子種目コード!$A$36:$B$66,2,FALSE))))","v":""},{"$f":"IF(Y76=\"\",\"\",HLOOKUP(Y76,名簿!$AB$8:$BG$118,71,FALSE))","v":""},0,2,null,"",null,0,2,null,{"$f":"IF(AI76=\"\",\"\",IF(I76=1,VLOOKUP(AI76,男子種目コード!$A$1:$B$33,2,FALSE),IF(I76=2,VLOOKUP(AI76,女子種目コード!$A$36:$B$66,2,FALSE))))","v":""},null,0,2,null,null,null,null,null,null,null,null,null,null,null,null,null,null,null,"",0,0,0,0,null,null,null,null,0,"","",""]
[false,{"$f":"名簿!Q79","v":""},null,null,{"$f":"名簿!E79","v":0},{"$f":"名簿!BR79","v":""},{"$f":"名簿!Z79","v":""},"",{"$f":"名簿!O79","v":""},{"$f":"名簿!I79","v":0},{"$f":"名簿!K79","v":0},{"$f":"名簿!BU79","v":"00"},{"$f":"名簿!R79","v":""},{"$f":"名簿!D79","v":0},null,"",{"$f":"IF(O77=\"\",\"\",HLOOKUP(O77,名簿!$AB$8:$BH$118,72,FALSE))","v":""},0,2,null,{"$f":"IF(T77=\"\",\"\",IF(I77=1,VLOOKUP(O77,男子種目コード!$Y$1:$Z$8,2,FALSE),IF(I77=2,VLOOKUP(O77,女子種目コード!$Y$1:$Z$6,2,FALSE))))","v":""},{"$f":"IF(T77=\"\",\"\",HLOOKUP(T77,名簿!$AB$8:$BG$118,72,FALSE))","v":""},0,2,null,{"$f":"IF(Y77=\"\",\"\",IF(I77=1,VLOOKUP(Y77,男子種目コード!$A$1:$B$33,2,FALSE),IF(I77=2,VLOOKUP(Y77,女子種目コード!$A$36:$B$66,2,FALSE))))","v":""},{"$f":"IF(Y77=\"\",\"\",HLOOKUP(Y77,名簿!$AB$8:$BG$118,72,FALSE))","v":""},0,2,null,"",null,0,2,null,{"$f":"IF(AI77=\"\",\"\",IF(I77=1,VLOOKUP(AI77,男子種目コード!$A$1:$B$33,2,FALSE),IF(I77=2,VLOOKUP(AI77,女子種目コード!$A$36:$B$66,2,FALSE))))","v":""},null,0,2,null,null,null,null,null,null,null,null,null,null,null,null,null,null,null,"",0,0,0,0,null,null,null,null,0,"","",""]
[false,{"$f":"名簿!Q80","v":""},null,null,{"$f":"名簿!E80","v":0},{"$f":"名簿!BR80","v":""},{"$f":"名簿!Z80","v":""},"",{"$f":"名簿!O80","v":""},{"$f":"名簿!I80","v":0},{"$f":"名簿!K80","v":0},{"$f":"名簿!BU80","v":"00"},{"$f":"名簿!R80","v":""},{"$f":"名簿!D80","v":0},null,"",{"$f":"IF(O78=\"\",\"\",HLOOKUP(O78,名簿!$AB$8:$BH$118,73,FALSE))","v":""},0,2,null,{"$f":"IF(T78=\"\",\"\",IF(I78=1,VLOOKUP(O78,男子種目コード!$Y$1:$Z$8,2,FALSE),IF(I78=2,VLOOKUP(O78,女子種目コード!$Y$1:$Z$6,2,FALSE))))","v":""},{"$f":"IF(T78=\"\",\"\",HLOOKUP(T78,名簿!$AB$8:$BG$118,73,FALSE))","v":""},0,2,null,{"$f":"IF(Y78=\"\",\"\",IF(I78=1,VLOOKUP(Y78,男子種目コード!$A$1:$B$33,2,FALSE),IF(I78=2,VLOOKUP(Y78,女子種目コード!$A$36:$B$66,2,FALSE))))","v":""},{"$f":"IF(Y78=\"\",\"\",HLOOKUP(Y78,名簿!$AB$8:$BG$118,73,FALSE))","v":""},0,2,null,"",null,0,2,null,{"$f":"IF(AI78=\"\",\"\",IF(I78=1,VLOOKUP(AI78,男子種目コード!$A$1:$B$33,2,FALSE),IF(I78=2,VLOOKUP(AI78,女子種目コード!$A$36:$B$66,2,FALSE))))","v":""},null,0,2,null,null,null,null,null,null,null,null,null,null,null,null,null,null,null,"",0,0,0,0,null,null,null,null,0,"","",""]
[false,{"$f":"名簿!Q81","v":""},null,null,{"$f":"名簿!E81","v":0},{"$f":"名簿!BR81","v":""},{"$f":"名簿!Z81","v":""},"",{"$f":"名簿!O81","v":""},{"$f":"名簿!I81","v":0},{"$f":"名簿!K81","v":0},{"$f":"名簿!BU81","v":"00"},{"$f":"名簿!R81","v":""},{"$f":"名簿!D81","v":0},null,"",{"$f":"IF(O79=\"\",\"\",HLOOKUP(O79,名簿!$AB$8:$BH$118,74,FALSE))","v":""},0,2,null,{"$f":"IF(T79=\"\",\"\",IF(I79=1,VLOOKUP(O79,男子種目コード!$Y$1:$Z$8,2,FALSE),IF(I79=2,VLOOKUP(O79,女子種目コード!$Y$1:$Z$6,2,FALSE))))","v":""},{"$f":"IF(T79=\"\",\"\",HLOOKUP(T79,名簿!$AB$8:$BG$118,74,FALSE))","v":""},0,2,null,{"$f":"IF(Y79=\"\",\"\",IF(I79=1,VLOOKUP(Y79,男子種目コード!$A$1:$B$33,2,FALSE),IF(I79=2,VLOOKUP(Y79,女子種目コード!$A$36:$B$66,2,FALSE))))","v":""},{"$f":"IF(Y79=\"\",\"\",HLOOKUP(Y79,名簿!$AB$8:$BG$118,74,FALSE))","v":""},0,2,null,"",null,0,2,null,{"$f":"IF(AI79=\"\",\"\",IF(I79=1,VLOOKUP(AI79,男子種目コード!$A$1:$B$33,2,FALSE),IF(I79=2,VLOOKUP(AI79,女子種目コード!$A$36:$B$66,2,FALSE))))","v":""},null,0,2,null,null,null,null,null,null,null,null,null,null,null,null,null,null,null,"",0,0,0,0,null,null,null,null,0,"","",""]
[false,{"$f":"名簿!Q82","v":""},null,null,{"$f":"名簿!E82","v":0},{"$f":"名簿!BR82","v":""},{"$f":"名簿!Z82","v":""},"",{"$f":"名簿!O82","v":""},{"$f":"名簿!I82","v":0},{"$f":"名簿!K82","v":0},{"$f":"名簿!BU82","v":"00"},{"$f":"名簿!R82","v":""},{"$f":"名簿!D82","v":0},null,"",{"$f":"IF(O80=\"\",\"\",HLOOKUP(O80,名簿!$AB$8:$BH$118,75,FALSE))","v":""},0,2,null,{"$f":"IF(T80=\"\",\"\",IF(I80=1,VLOOKUP(O80,男子種目コード!$Y$1:$Z$8,2,FALSE),IF(I80=2,VLOOKUP(O80,女子種目コード!$Y$1:$Z$6,2,FALSE))))","v":""},{"$f":"IF(T80=\"\",\"\",HLOOKUP(T80,名簿!$AB$8:$BG$118,75,FALSE))","v":""},0,2,null,{"$f":"IF(Y80=\"\",\"\",IF(I80=1,VLOOKUP(Y80,男子種目コード!$A$1:$B$33,2,FALSE),IF(I80=2,VLOOKUP(Y80,女子種目コード!$A$36:$B$66,2,FALSE))))","v":""},{"$f":"IF(Y80=\"\",\"\",HLOOKUP(Y80,名簿!$AB$8:$BG$118,75,FALSE))","v":""},0,2,null,"",null,0,2,null,{"$f":"IF(AI80=\"\",\"\",IF(I80=1,VLOOKUP(AI80,男子種目コード!$A$1:$B$33,2,FALSE),IF(I80=2,VLOOKUP(AI80,女子種目コード!$A$36:$B$66,2,FALSE))))","v":""},null,0,2,null,null,null,null,null,null,null,null,null,null,null,null,null,null,null,"",0,0,0,0,null,null,null,null,0,"","",""]
[false,{"$f":"名簿!Q83","v":""},null,null,{"$f":"名簿!E83","v":0},{"$f":"名簿!BR83","v":""},{"$f":"名簿!Z83","v":""},"",{"$f":"名簿!O83","v":""},{"$f":"名簿!I83","v":0},{"$f":"名簿!K83","v":0},{"$f":"名簿!BU83","v":"00"},{"$f":"名簿!R83","v":""},{"$f":"名簿!D83","v":0},null,"",{"$f":"IF(O81=\"\",\"\",HLOOKUP(O81,名簿!$AB$8:$BH$118,76,FALSE))","v":""},0,2,null,{"$f":"IF(T81=\"\",\"\",IF(I81=1,VLOOKUP(O81,男子種目コード!$Y$1:$Z$8,2,FALSE),IF(I81=2,VLOOKUP(O81,女子種目コード!$Y$1:$Z$6,2,FALSE))))","v":""},{"$f":"IF(T81=\"\",\"\",HLOOKUP(T81,名簿!$AB$8:$BG$118,76,FALSE))","v":""},0,2,null,{"$f":"IF(Y81=\"\",\"\",IF(I81=1,VLOOKUP(Y81,男子種目コード!$A$1:$B$33,2,FALSE),IF(I81=2,VLOOKUP(Y81,女子種目コード!$A$36:$B$66,2,FALSE))))","v":""},{"$f":"IF(Y81=\"\",\"\",HLOOKUP(Y81,名簿!$AB$8:$BG$118,76,FALSE))","v":""},0,2,null,"",null,0,2,null,{"$f":"IF(AI81=\"\",\"\",IF(I81=1,VLOOKUP(AI81,男子種目コード!$A$1:$B$33,2,FALSE),IF(I81=2,VLOOKUP(AI81,女子種目コード!$A$36:$B$66,2,FALSE))))","v":""},null,0,2,null,null,null,null,null,null,null,null,null,null,null,null,null,null,null,"",0,0,0,0,null,null,null,null,0,"","",""]
[false,{"$f":"名簿!Q84","v":""},null,null,{"$f":"名簿!E84","v":0},{"$f":"名簿!BR84","v":""},{"$f":"名簿!Z84","v":""},"",{"$f":"名簿!O84","v":""},{"$f":"名簿!I84","v":0},{"$f":"名簿!K84","v":0},{"$f":"名簿!BU84","v":"00"},{"$f":"名簿!R84","v":""},{"$f":"名簿!D84","v":0},null,"",{"$f":"IF(O82=\"\",\"\",HLOOKUP(O82,名簿!$AB$8:$BH$118,77,FALSE))","v":""},0,2,null,{"$f":"IF(T82=\"\",\"\",IF(I82=1,VLOOKUP(O82,男子種目コード!$Y$1:$Z$8,2,FALSE),IF(I82=2,VLOOKUP(O82,女子種目コード!$Y$1:$Z$6,2,FALSE))))","v":""},{"$f":"IF(T82=\"\",\"\",HLOOKUP(T82,名簿!$AB$8:$BG$118,77,FALSE))","v":""},0,2,null,{"$f":"IF(Y82=\"\",\"\",IF(I82=1,VLOOKUP(Y82,男子種目コード!$A$1:$B$33,2,FALSE),IF(I82=2,VLOOKUP(Y82,女子種目コード!$A$36:$B$66,2,FALSE))))","v":""},{"$f":"IF(Y82=\"\",\"\",HLOOKUP(Y82,名簿!$AB$8:$BG$118,77,FALSE))","v":""},0,2,null,"",null,0,2,null,{"$f":"IF(AI82=\"\",\"\",IF(I82=1,VLOOKUP(AI82,男子種目コード!$A$1:$B$33,2,FALSE),IF(I82=2,VLOOKUP(AI82,女子種目コード!$A$36:$B$66,2,FALSE))))","v":""},null,0,2,null,null,null,null,null,null,null,null,null,null,null,null,null,null,null,"",0,0,0,0,null,null,null,null,0,"","",""]
[false,{"$f":"名簿!Q85","v":""},null,null,{"$f":"名簿!E85","v":0},{"$f":"名簿!BR85","v":""},{"$f":"名簿!Z85","v":""},"",{"$f":"名簿!O85","v":""},{"$f":"名簿!I85","v":0},{"$f":"名簿!K85","v":0},{"$f":"名簿!BU85","v":"00"},{"$f":"名簿!R85","v":""},{"$f":"名簿!D85","v":0},null,"",{"$f":"IF(O83=\"\",\"\",HLOOKUP(O83,名簿!$AB$8:$BH$118,78,FALSE))","v":""},0,2,null,{"$f":"IF(T83=\"\",\"\",IF(I83=1,VLOOKUP(O83,男子種目コード!$Y$1:$Z$8,2,FALSE),IF(I83=2,VLOOKUP(O83,女子種目コード!$Y$1:$Z$6,2,FALSE))))","v":""},{"$f":"IF(T83=\"\",\"\",HLOOKUP(T83,名簿!$AB$8:$BG$118,78,FALSE))","v":""},0,2,null,{"$f":"IF(Y83=\"\",\"\",IF(I83=1,VLOOKUP(Y83,男子種目コード!$A$1:$B$33,2,FALSE),IF(I83=2,VLOOKUP(Y83,女子種目コード!$A$36:$B$66,2,FALSE))))","v":""},{"$f":"IF(Y83=\"\",\"\",HLOOKUP(Y83,名簿!$AB$8:$BG$118,78,FALSE))","v":""},0,2,null,"",null,0,2,null,{"$f":"IF(AI83=\"\",\"\",IF(I83=1,VLOOKUP(AI83,男子種目コード!$A$1:$B$33,2,FALSE),IF(I83=2,VLOOKUP(AI83,女子種目コード!$A$36:$B$66,2,FALSE))))","v":""},null,0,2,null,null,null,null,null,null,null,null,null,null,null,null,null,null,null,"",0,0,0,0,null,null,null,null,0,"","",""]
[false,{"$f":"名簿!Q86","v":""},null,null,{"$f":"名簿!E86","v":0},{"$f":"名簿!BR86","v":""},{"$f":"名簿!Z86","v":""},"",{"$f":"名簿!O86","v":""},{"$f":"名簿!I86","v":0},{"$f":"名簿!K86","v":0},{"$f":"名簿!BU86","v":"00"},{"$f":"名簿!R86","v":""},{"$f":"名簿!D86","v":0},null,"",{"$f":"IF(O84=\"\",\"\",HLOOKUP(O84,名簿!$AB$8:$BH$118,79,FALSE))","v":""},0,2,null,{"$f":"IF(T84=\"\",\"\",IF(I84=1,VLOOKUP(O84,男子種目コード!$Y$1:$Z$8,2,FALSE),IF(I84=2,VLOOKUP(O84,女子種目コード!$Y$1:$Z$6,2,FALSE))))","v":""},{"$f":"IF(T84=\"\",\"\",HLOOKUP(T84,名簿!$AB$8:$BG$118,79,FALSE))","v":""},0,2,null,{"$f":"IF(Y84=\"\",\"\",IF(I84=1,VLOOKUP(Y84,男子種目コード!$A$1:$B$33,2,FALSE),IF(I84=2,VLOOKUP(Y84,女子種目コード!$A$36:$B$66,2,FALSE))))","v":""},{"$f":"IF(Y84=\"\",\"\",HLOOKUP(Y84,名簿!$AB$8:$BG$118,79,FALSE))","v":""},0,2,null,"",null,0,2,null,{"$f":"IF(AI84=\"\",\"\",IF(I84=1,VLOOKUP(AI84,男子種目コード!$A$1:$B$33,2,FALSE),IF(I84=2,VLOOKUP(AI84,女子種目コード!$A$36:$B$66,2,FALSE))))","v":""},null,0,2,null,null,null,null,null,null,null,null,null,null,null,null,null,null,null,"",0,0,0,0,null,null,null,null,0,"","",""]
[false,{"$f":"名簿!Q87","v":""},null,null,{"$f":"名簿!E87","v":0},{"$f":"名簿!BR87","v":""},{"$f":"名簿!Z87","v":""},"",{"$f":"名簿!O87","v":""},{"$f":"名簿!I87","v":0},{"$f":"名簿!K87","v":0},{"$f":"名簿!BU87","v":"00"},{"$f":"名簿!R87","v":""},{"$f":"名簿!D87","v":0},null,"",{"$f":"IF(O85=\"\",\"\",HLOOKUP(O85,名簿!$AB$8:$BH$118,80,FALSE))","v":""},0,2,null,{"$f":"IF(T85=\"\",\"\",IF(I85=1,VLOOKUP(O85,男子種目コード!$Y$1:$Z$8,2,FALSE),IF(I85=2,VLOOKUP(O85,女子種目コード!$Y$1:$Z$6,2,FALSE))))","v":""},{"$f":"IF(T85=\"\",\"\",HLOOKUP(T85,名簿!$AB$8:$BG$118,80,FALSE))","v":""},0,2,null,{"$f":"IF(Y85=\"\",\"\",IF(I85=1,VLOOKUP(Y85,男子種目コード!$A$1:$B$33,2,FALSE),IF(I85=2,VLOOKUP(Y85,女子種目コード!$A$36:$B$66,2,FALSE))))","v":""},{"$f":"IF(Y85=\"\",\"\",HLOOKUP(Y85,名簿!$AB$8:$BG$118,80,FALSE))","v":""},0,2,null,"",null,0,2,null,{"$f":"IF(AI85=\"\",\"\",IF(I85=1,VLOOKUP(AI85,男子種目コード!$A$1:$B$33,2,FALSE),IF(I85=2,VLOOKUP(AI85,女子種目コード!$A$36:$B$66,2,FALSE))))","v":""},null,0,2,null,null,null,null,null,null,null,null,null,null,null,null,null,null,null,"",0,0,0,0,null,null,null,null,0,"","",""]
[false,{"$f":"名簿!Q88","v":""},null,null,{"$f":"名簿!E88","v":0},{"$f":"名簿!BR88","v":""},{"$f":"名簿!Z88","v":""},"",{"$f":"名簿!O88","v":""},{"$f":"名簿!I88","v":0},{"$f":"名簿!K88","v":0},{"$f":"名簿!BU88","v":"00"},{"$f":"名簿!R88","v":""},{"$f":"名簿!D88","v":0},null,"",{"$f":"IF(O86=\"\",\"\",HLOOKUP(O86,名簿!$AB$8:$BH$118,81,FALSE))","v":""},0,2,null,{"$f":"IF(T86=\"\",\"\",IF(I86=1,VLOOKUP(O86,男子種目コード!$Y$1:$Z$8,2,FALSE),IF(I86=2,VLOOKUP(O86,女子種目コード!$Y$1:$Z$6,2,FALSE))))","v":""},{"$f":"IF(T86=\"\",\"\",HLOOKUP(T86,名簿!$AB$8:$BG$118,81,FALSE))","v":""},0,2,null,{"$f":"IF(Y86=\"\",\"\",IF(I86=1,VLOOKUP(Y86,男子種目コード!$A$1:$B$33,2,FALSE),IF(I86=2,VLOOKUP(Y86,女子種目コード!$A$36:$B$66,2,FALSE))))","v":""},{"$f":"IF(Y86=\"\",\"\",HLOOKUP(Y86,名簿!$AB$8:$BG$118,81,FALSE))","v":""},0,2,null,"",null,0,2,null,{"$f":"IF(AI86=\"\",\"\",IF(I86=1,VLOOKUP(AI86,男子種目コード!$A$1:$B$33,2,FALSE),IF(I86=2,VLOOKUP(AI86,女子種目コード!$A$36:$B$66,2,FALSE))))","v":""},null,0,2,null,null,null,null,null,null,null,null,null,null,null,null,null,null,null,"",0,0,0,0,null,null,null,null,0,"","",""]
[false,{"$f":"名簿!Q89","v":""},null,null,{"$f":"名簿!E89","v":0},{"$f":"名簿!BR89","v":""},{"$f":"名簿!Z89","v":""},"",{"$f":"名簿!O89","v":""},{"$f":"名簿!I89","v":0},{"$f":"名簿!K89","v":0},{"$f":"名簿!BU89","v":"00"},{"$f":"名簿!R89","v":""},{"$f":"名簿!D89","v":0},null,"",{"$f":"IF(O87=\"\",\"\",HLOOKUP(O87,名簿!$AB$8:$BH$118,82,FALSE))","v":""},0,2,null,{"$f":"IF(T87=\"\",\"\",IF(I87=1,VLOOKUP(O87,男子種目コード!$Y$1:$Z$8,2,FALSE),IF(I87=2,VLOOKUP(O87,女子種目コード!$Y$1:$Z$6,2,FALSE))))","v":""},{"$f":"IF(T87=\"\",\"\",HLOOKUP(T87,名簿!$AB$8:$BG$118,82,FALSE))","v":""},0,2,null,{"$f":"IF(Y87=\"\",\"\",IF(I87=1,VLOOKUP(Y87,男子種目コード!$A$1:$B$33,2,FALSE),IF(I87=2,VLOOKUP(Y87,女子種目コード!$A$36:$B$66,2,FALSE))))","v":""},{"$f":"IF(Y87=\"\",\"\",HLOOKUP(Y87,名簿!$AB$8:$BG$118,82,FALSE))","v":""},0,2,null,"",null,0,2,null,{"$f":"IF(AI87=\"\",\"\",IF(I87=1,VLOOKUP(AI87,男子種目コード!$A$1:$B$33,2,FALSE),IF(I87=2,VLOOKUP(AI87,女子種目コード!$A$36:$B$66,2,FALSE))))","v":""},null,0,2,null,null,null,null,null,null,null,null,null,null,null,null,null,null,null,"",0,0,0,0,null,null,null,null,0,"","",""]
[false,{"$f":"名簿!Q90","v":""},null,null,{"$f":"名簿!E90","v":0},{"$f":"名簿!BR90","v":""},{"$f":"名簿!Z90","v":""},"",{"$f":"名簿!O90","v":""},{"$f":"名簿!I90","v":0},{"$f":"名簿!K90","v":0},{"$f":"名簿!BU90","v":"00"},{"$f":"名簿!R90","v":""},{"$f":"名簿!D90","v":0},null,"",{"$f":"IF(O88=\"\",\"\",HLOOKUP(O88,名簿!$AB$8:$BH$118,83,FALSE))","v":""},0,2,null,{"$f":"IF(T88=\"\",\"\",IF(I88=1,VLOOKUP(O88,男子種目コード!$Y$1:$Z$8,2,FALSE),IF(I88=2,VLOOKUP(O88,女子種目コード!$Y$1:$Z$6,2,FALSE))))","v":""},{"$f":"IF(T88=\"\",\"\",HLOOKUP(T88,名簿!$AB$8:$BG$118,83,FALSE))","v":""},0,2,null,{"$f":"IF(Y88=\"\",\"\",IF(I88=1,VLOOKUP(Y88,男子種目コード!$A$1:$B$33,2,FALSE),IF(I88=2,VLOOKUP(Y88,女子種目コード!$A$36:$B$66,2,FALSE))))","v":""},{"$f":"IF(Y88=\"\",\"\",HLOOKUP(Y88,名簿!$AB$8:$BG$118,83,FALSE))","v":""},0,2,null,"",null,0,2,null,{"$f":"IF(AI88=\"\",\"\",IF(I88=1,VLOOKUP(AI88,男子種目コード!$A$1:$B$33,2,FALSE),IF(I88=2,VLOOKUP(AI88,女子種目コード!$A$36:$B$66,2,FALSE))))","v":""},null,0,2,null,null,null,null,null,null,null,null,null,null,null,null,null,null,null,"",0,0,0,0,null,null,null,null,0,"","",""]
[false,{"$f":"名簿!Q91","v":""},null,null,{"$f":"名簿!E91","v":0},{"$f":"名簿!BR91","v":""},{"$f":"名簿!Z91","v":""},"",{"$f":"名簿!O91","v":""},{"$f":"名簿!I91","v":0},{"$f":"名簿!K91","v":0},{"$f":"名簿!BU91","v":"00"},{"$f":"名簿!R91","v":""},{"$f":"名簿!D91","v":0},null,"",{"$f":"IF(O89=\"\",\"\",HLOOKUP(O89,名簿!$AB$8:$BH$118,84,FALSE))","v":""},0,2,null,{"$f":"IF(T89=\"\",\"\",IF(I89=1,VLOOKUP(O89,男子種目コード!$Y$1:$Z$8,2,FALSE),IF(I89=2,VLOOKUP(O89,女子種目コード!$Y$1:$Z$6,2,FALSE))))","v":""},{"$f":"IF(T89=\"\",\"\",HLOOKUP(T89,名簿!$AB$8:$BG$118,84,FALSE))","v":""},0,2,null,{"$f":"IF(Y89=\"\",\"\",IF(I89=1,VLOOKUP(Y89,男子種目コード!$A$1:$B$33,2,FALSE),IF(I89=2,VLOOKUP(Y89,女子種目コード!$A$36:$B$66,2,FALSE))))","v":""},{"$f":"IF(Y89=\"\",\"\",HLOOKUP(Y89,名簿!$AB$8:$BG$118,84,FALSE))","v":""},0,2,null,"",null,0,2,null,{"$f":"IF(AI89=\"\",\"\",IF(I89=1,VLOOKUP(AI89,男子種目コード!$A$1:$B$33,2,FALSE),IF(I89=2,VLOOKUP(AI89,女子種目コード!$A$36:$B$66,2,FALSE))))","v":""},null,0,2,null,null,null,null,null,null,null,null,null,null,null,null,null,null,null,"",0,0,0,0,null,null,null,null,0,"","",""]
[false,{"$f":"名簿!Q92","v":""},null,null,{"$f":"名簿!E92","v":0},{"$f":"名簿!BR92","v":""},{"$f":"名簿!Z92","v":""},"",{"$f":"名簿!O92","v":""},{"$f":"名簿!I92","v":0},{"$f":"名簿!K92","v":0},{"$f":"名簿!BU92","v":"00"},{"$f":"名簿!R92","v":""},{"$f":"名簿!D92","v":0},null,"",{"$f":"IF(O90=\"\",\"\",HLOOKUP(O90,名簿!$AB$8:$BH$118,85,FALSE))","v":""},0,2,null,{"$f":"IF(T90=\"\",\"\",IF(I90=1,VLOOKUP(O90,男子種目コード!$Y$1:$Z$8,2,FALSE),IF(I90=2,VLOOKUP(O90,女子種目コード!$Y$1:$Z$6,2,FALSE))))","v":""},{"$f":"IF(T90=\"\",\"\",HLOOKUP(T90,名簿!$AB$8:$BG$118,85,FALSE))","v":""},0,2,null,{"$f":"IF(Y90=\"\",\"\",IF(I90=1,VLOOKUP(Y90,男子種目コード!$A$1:$B$33,2,FALSE),IF(I90=2,VLOOKUP(Y90,女子種目コード!$A$36:$B$66,2,FALSE))))","v":""},{"$f":"IF(Y90=\"\",\"\",HLOOKUP(Y90,名簿!$AB$8:$BG$118,85,FALSE))","v":""},0,2,null,"",null,0,2,null,{"$f":"IF(AI90=\"\",\"\",IF(I90=1,VLOOKUP(AI90,男子種目コード!$A$1:$B$33,2,FALSE),IF(I90=2,VLOOKUP(AI90,女子種目コード!$A$36:$B$66,2,FALSE))))","v":""},null,0,2,null,null,null,null,null,null,null,null,null,null,null,null,null,null,null,"",0,0,0,0,null,null,null,null,0,"","",""]
[false,{"$f":"名簿!Q93","v":""},null,null,{"$f":"名簿!E93","v":0},{"$f":"名簿!BR93","v":""},{"$f":"名簿!Z93","v":""},"",{"$f":"名簿!O93","v":""},{"$f":"名簿!I93","v":0},{"$f":"名簿!K93","v":0},{"$f":"名簿!BU93","v":"00"},{"$f":"名簿!R93","v":""},{"$f":"名簿!D93","v":0},null,"",{"$f":"IF(O91=\"\",\"\",HLOOKUP(O91,名簿!$AB$8:$BH$118,86,FALSE))","v":""},0,2,null,{"$f":"IF(T91=\"\",\"\",IF(I91=1,VLOOKUP(O91,男子種目コード!$Y$1:$Z$8,2,FALSE),IF(I91=2,VLOOKUP(O91,女子種目コード!$Y$1:$Z$6,2,FALSE))))","v":""},{"$f":"IF(T91=\"\",\"\",HLOOKUP(T91,名簿!$AB$8:$BG$118,86,FALSE))","v":""},0,2,null,{"$f":"IF(Y91=\"\",\"\",IF(I91=1,VLOOKUP(Y91,男子種目コード!$A$1:$B$33,2,FALSE),IF(I91=2,VLOOKUP(Y91,女子種目コード!$A$36:$B$66,2,FALSE))))","v":""},{"$f":"IF(Y91=\"\",\"\",HLOOKUP(Y91,名簿!$AB$8:$BG$118,86,FALSE))","v":""},0,2,null,"",null,0,2,null,{"$f":"IF(AI91=\"\",\"\",IF(I91=1,VLOOKUP(AI91,男子種目コード!$A$1:$B$33,2,FALSE),IF(I91=2,VLOOKUP(AI91,女子種目コード!$A$36:$B$66,2,FALSE))))","v":""},null,0,2,null,null,null,null,null,null,null,null,null,null,null,null,null,null,null,"",0,0,0,0,null,null,null,null,0,"","",""]
[false,{"$f":"名簿!Q94","v":""},null,null,{"$f":"名簿!E94","v":0},{"$f":"名簿!BR94","v":""},{"$f":"名簿!Z94","v":""},"",{"$f":"名簿!O94","v":""},{"$f":"名簿!I94","v":0},{"$f":"名簿!K94","v":0},{"$f":"名簿!BU94","v":"00"},{"$f":"名簿!R94","v":""},{"$f":"名簿!D94","v":0},null,"",{"$f":"IF(O92=\"\",\"\",HLOOKUP(O92,名簿!$AB$8:$BH$118,87,FALSE))","v":""},0,2,null,{"$f":"IF(T92=\"\",\"\",IF(I92=1,VLOOKUP(O92,男子種目コード!$Y$1:$Z$8,2,FALSE),IF(I92=2,VLOOKUP(O92,女子種目コード!$Y$1:$Z$6,2,FALSE))))","v":""},{"$f":"IF(T92=\"\",\"\",HLOOKUP(T92,名簿!$AB$8:$BG$118,87,FALSE))","v":""},0,2,null,{"$f":"IF(Y92=\"\",\"\",IF(I92=1,VLOOKUP(Y92,男子種目コード!$A$1:$B$33,2,FALSE),IF(I92=2,VLOOKUP(Y92,女子種目コード!$A$36:$B$66,2,FALSE))))","v":""},{"$f":"IF(Y92=\"\",\"\",HLOOKUP(Y92,名簿!$AB$8:$BG$118,87,FALSE))","v":""},0,2,null,"",null,0,2,null,{"$f":"IF(AI92=\"\",\"\",IF(I92=1,VLOOKUP(AI92,男子種目コード!$A$1:$B$33,2,FALSE),IF(I92=2,VLOOKUP(AI92,女子種目コード!$A$36:$B$66,2,FALSE))))","v":""},null,0,2,null,null,null,null,null,null,null,null,null,null,null,null,null,null,null,"",0,0,0,0,null,null,null,null,0,"","",""]
[false,{"$f":"名簿!Q95","v":""},null,null,{"$f":"名簿!E95","v":0},{"$f":"名簿!BR95","v":""},{"$f":"名簿!Z95","v":""},"",{"$f":"名簿!O95","v":""},{"$f":"名簿!I95","v":0},{"$f":"名簿!K95","v":0},{"$f":"名簿!BU95","v":"00"},{"$f":"名簿!R95","v":""},{"$f":"名簿!D95","v":0},null,"",{"$f":"IF(O93=\"\",\"\",HLOOKUP(O93,名簿!$AB$8:$BH$118,88,FALSE))","v":""},0,2,null,{"$f":"IF(T93=\"\",\"\",IF(I93=1,VLOOKUP(O93,男子種目コード!$Y$1:$Z$8,2,FALSE),IF(I93=2,VLOOKUP(O93,女子種目コード!$Y$1:$Z$6,2,FALSE))))","v":""},{"$f":"IF(T93=\"\",\"\",HLOOKUP(T93,名簿!$AB$8:$BG$118,88,FALSE))","v":""},0,2,null,{"$f":"IF(Y93=\"\",\"\",IF(I93=1,VLOOKUP(Y93,男子種目コード!$A$1:$B$33,2,FALSE),IF(I93=2,VLOOKUP(Y93,女子種目コード!$A$36:$B$66,2,FALSE))))","v":""},{"$f":"IF(Y93=\"\",\"\",HLOOKUP(Y93,名簿!$AB$8:$BG$118,88,FALSE))","v":""},0,2,null,"",null,0,2,null,{"$f":"IF(AI93=\"\",\"\",IF(I93=1,VLOOKUP(AI93,男子種目コード!$A$1:$B$33,2,FALSE),IF(I93=2,VLOOKUP(AI93,女子種目コード!$A$36:$B$66,2,FALSE))))","v":""},null,0,2,null,null,null,null,null,null,null,null,null,null,null,null,null,null,null,"",0,0,0,0,null,null,null,null,0,"","",""]
[false,{"$f":"名簿!Q96","v":""},null,null,{"$f":"名簿!E96","v":0},{"$f":"名簿!BR96","v":""},{"$f":"名簿!Z96","v":""},"",{"$f":"名簿!O96","v":""},{"$f":"名簿!I96","v":0},{"$f":"名簿!K96","v":0},{"$f":"名簿!BU96","v":"00"},{"$f":"名簿!R96","v":""},{"$f":"名簿!D96","v":0},null,"",{"$f":"IF(O94=\"\",\"\",HLOOKUP(O94,名簿!$AB$8:$BH$118,89,FALSE))","v":""},0,2,null,{"$f":"IF(T94=\"\",\"\",IF(I94=1,VLOOKUP(O94,男子種目コード!$Y$1:$Z$8,2,FALSE),IF(I94=2,VLOOKUP(O94,女子種目コード!$Y$1:$Z$6,2,FALSE))))","v":""},{"$f":"IF(T94=\"\",\"\",HLOOKUP(T94,名簿!$AB$8:$BG$118,89,FALSE))","v":""},0,2,null,{"$f":"IF(Y94=\"\",\"\",IF(I94=1,VLOOKUP(Y94,男子種目コード!$A$1:$B$33,2,FALSE),IF(I94=2,VLOOKUP(Y94,女子種目コード!$A$36:$B$66,2,FALSE))))","v":""},{"$f":"IF(Y94=\"\",\"\",HLOOKUP(Y94,名簿!$AB$8:$BG$118,89,FALSE))","v":""},0,2,null,"",null,0,2,null,{"$f":"IF(AI94=\"\",\"\",IF(I94=1,VLOOKUP(AI94,男子種目コード!$A$1:$B$33,2,FALSE),IF(I94=2,VLOOKUP(AI94,女子種目コード!$A$36:$B$66,2,FALSE))))","v":""},null,0,2,null,null,null,null,null,null,null,null,null,null,null,null,null,null,null,"",0,0,0,0,null,null,null,null,0,"","",""]
[false,{"$f":"名簿!Q97","v":""},null,null,{"$f":"名簿!E97","v":0},{"$f":"名簿!BR97","v":""},{"$f":"名簿!Z97","v":""},"",{"$f":"名簿!O97","v":""},{"$f":"名簿!I97","v":0},{"$f":"名簿!K97","v":0},{"$f":"名簿!BU97","v":"00"},{"$f":"名簿!R97","v":""},{"$f":"名簿!D97","v":0},null,"",{"$f":"IF(O95=\"\",\"\",HLOOKUP(O95,名簿!$AB$8:$BH$118,90,FALSE))","v":""},0,2,null,{"$f":"IF(T95=\"\",\"\",IF(I95=1,VLOOKUP(O95,男子種目コード!$Y$1:$Z$8,2,FALSE),IF(I95=2,VLOOKUP(O95,女子種目コード!$Y$1:$Z$6,2,FALSE))))","v":""},{"$f":"IF(T95=\"\",\"\",HLOOKUP(T95,名簿!$AB$8:$BG$118,90,FALSE))","v":""},0,2,null,{"$f":"IF(Y95=\"\",\"\",IF(I95=1,VLOOKUP(Y95,男子種目コード!$A$1:$B$33,2,FALSE),IF(I95=2,VLOOKUP(Y95,女子種目コード!$A$36:$B$66,2,FALSE))))","v":""},{"$f":"IF(Y95=\"\",\"\",HLOOKUP(Y95,名簿!$AB$8:$BG$118,90,FALSE))","v":""},0,2,null,"",null,0,2,null,{"$f":"IF(AI95=\"\",\"\",IF(I95=1,VLOOKUP(AI95,男子種目コード!$A$1:$B$33,2,FALSE),IF(I95=2,VLOOKUP(AI95,女子種目コード!$A$36:$B$66,2,FALSE))))","v":""},null,0,2,null,null,null,null,null,null,null,null,null,null,null,null,null,null,null,"",0,0,0,0,null,null,null,null,0,"","",""]
[false,{"$f":"名簿!Q98","v":""},null,null,{"$f":"名簿!E98","v":0},{"$f":"名簿!BR98","v":""},{"$f":"名簿!Z98","v":""},"",{"$f":"名簿!O98","v":""},{"$f":"名簿!I98","v":0},{"$f":"名簿!K98","v":0},{"$f":"名簿!BU98","v":"00"},{"$f":"名簿!R98","v":""},{"$f":"名簿!D98","v":0},null,"",{"$f":"IF(O96=\"\",\"\",HLOOKUP(O96,名簿!$AB$8:$BH$118,91,FALSE))","v":""},0,2,null,{"$f":"IF(T96=\"\",\"\",IF(I96=1,VLOOKUP(O96,男子種目コード!$Y$1:$Z$8,2,FALSE),IF(I96=2,VLOOKUP(O96,女子種目コード!$Y$1:$Z$6,2,FALSE))))","v":""},{"$f":"IF(T96=\"\",\"\",HLOOKUP(T96,名簿!$AB$8:$BG$118,91,FALSE))","v":""},0,2,null,{"$f":"IF(Y96=\"\",\"\",IF(I96=1,VLOOKUP(Y96,男子種目コード!$A$1:$B$33,2,FALSE),IF(I96=2,VLOOKUP(Y96,女子種目コード!$A$36:$B$66,2,FALSE))))","v":""},{"$f":"IF(Y96=\"\",\"\",HLOOKUP(Y96,名簿!$AB$8:$BG$118,91,FALSE))","v":""},0,2,null,"",null,0,2,null,{"$f":"IF(AI96=\"\",\"\",IF(I96=1,VLOOKUP(AI96,男子種目コード!$A$1:$B$33,2,FALSE),IF(I96=2,VLOOKUP(AI96,女子種目コード!$A$36:$B$66,2,FALSE))))","v":""},null,0,2,null,null,null,null,null,null,null,null,null,null,null,null,null,null,null,"",0,0,0,0,null,null,null,null,0,"","",""]
[false,{"$f":"名簿!Q99","v":""},null,null,{"$f":"名簿!E99","v":0},{"$f":"名簿!BR99","v":""},{"$f":"名簿!Z99","v":""},"",{"$f":"名簿!O99","v":""},{"$f":"名簿!I99","v":0},{"$f":"名簿!K99","v":0},{"$f":"名簿!BU99","v":"00"},{"$f":"名簿!R99","v":""},{"$f":"名簿!D99","v":0},null,"",{"$f":"IF(O97=\"\",\"\",HLOOKUP(O97,名簿!$AB$8:$BH$118,92,FALSE))","v":""},0,2,null,{"$f":"IF(T97=\"\",\"\",IF(I97=1,VLOOKUP(O97,男子種目コード!$Y$1:$Z$8,2,FALSE),IF(I97=2,VLOOKUP(O97,女子種目コード!$Y$1:$Z$6,2,FALSE))))","v":""},{"$f":"IF(T97=\"\",\"\",HLOOKUP(T97,名簿!$AB$8:$BG$118,92,FALSE))","v":""},0,2,null,{"$f":"IF(Y97=\"\",\"\",IF(I97=1,VLOOKUP(Y97,男子種目コード!$A$1:$B$33,2,FALSE),IF(I97=2,VLOOKUP(Y97,女子種目コード!$A$36:$B$66,2,FALSE))))","v":""},{"$f":"IF(Y97=\"\",\"\",HLOOKUP(Y97,名簿!$AB$8:$BG$118,92,FALSE))","v":""},0,2,null,"",null,0,2,null,{"$f":"IF(AI97=\"\",\"\",IF(I97=1,VLOOKUP(AI97,男子種目コード!$A$1:$B$33,2,FALSE),IF(I97=2,VLOOKUP(AI97,女子種目コード!$A$36:$B$66,2,FALSE))))","v":""},null,0,2,null,null,null,null,null,null,null,null,null,null,null,null,null,null,null,"",0,0,0,0,null,null,null,null,0,"","",""]
[false,{"$f":"名簿!Q100","v":""},null,null,{"$f":"名簿!E100","v":0},{"$f":"名簿!BR100","v":""},{"$f":"名簿!Z100","v":""},"",{"$f":"名簿!O100","v":""},{"$f":"名簿!I100","v":0},{"$f":"名簿!K100","v":0},{"$f":"名簿!BU100","v":"00"},{"$f":"名簿!R100","v":""},{"$f":"名簿!D100","v":0},null,"",{"$f":"IF(O98=\"\",\"\",HLOOKUP(O98,名簿!$AB$8:$BH$118,93,FALSE))","v":""},0,2,null,{"$f":"IF(T98=\"\",\"\",IF(I98=1,VLOOKUP(O98,男子種目コード!$Y$1:$Z$8,2,FALSE),IF(I98=2,VLOOKUP(O98,女子種目コード!$Y$1:$Z$6,2,FALSE))))","v":""},{"$f":"IF(T98=\"\",\"\",HLOOKUP(T98,名簿!$AB$8:$BG$118,93,FALSE))","v":""},0,2,null,{"$f":"IF(Y98=\"\",\"\",IF(I98=1,VLOOKUP(Y98,男子種目コード!$A$1:$B$33,2,FALSE),IF(I98=2,VLOOKUP(Y98,女子種目コード!$A$36:$B$66,2,FALSE))))","v":""},{"$f":"IF(Y98=\"\",\"\",HLOOKUP(Y98,名簿!$AB$8:$BG$118,93,FALSE))","v":""},0,2,null,"",null,0,2,null,{"$f":"IF(AI98=\"\",\"\",IF(I98=1,VLOOKUP(AI98,男子種目コード!$A$1:$B$33,2,FALSE),IF(I98=2,VLOOKUP(AI98,女子種目コード!$A$36:$B$66,2,FALSE))))","v":""},null,0,2,null,null,null,null,null,null,null,null,null,null,null,null,null,null,null,"",0,0,0,0,null,null,null,null,0,"","",""]
[false,{"$f":"名簿!Q101","v":""},null,null,{"$f":"名簿!E101","v":0},{"$f":"名簿!BR101","v":""},{"$f":"名簿!Z101","v":""},"",{"$f":"名簿!O101","v":""},{"$f":"名簿!I101","v":0},{"$f":"名簿!K101","v":0},{"$f":"名簿!BU101","v":"00"},{"$f":"名簿!R101","v":""},{"$f":"名簿!D101","v":0},null,"",{"$f":"IF(O99=\"\",\"\",HLOOKUP(O99,名簿!$AB$8:$BH$118,94,FALSE))","v":""},0,2,null,{"$f":"IF(T99=\"\",\"\",IF(I99=1,VLOOKUP(O99,男子種目コード!$Y$1:$Z$8,2,FALSE),IF(I99=2,VLOOKUP(O99,女子種目コード!$Y$1:$Z$6,2,FALSE))))","v":""},{"$f":"IF(T99=\"\",\"\",HLOOKUP(T99,名簿!$AB$8:$BG$118,94,FALSE))","v":""},0,2,null,{"$f":"IF(Y99=\"\",\"\",IF(I99=1,VLOOKUP(Y99,男子種目コード!$A$1:$B$33,2,FALSE),IF(I99=2,VLOOKUP(Y99,女子種目コード!$A$36:$B$66,2,FALSE))))","v":""},{"$f":"IF(Y99=\"\",\"\",HLOOKUP(Y99,名簿!$AB$8:$BG$118,94,FALSE))","v":""},0,2,null,"",null,0,2,null,{"$f":"IF(AI99=\"\",\"\",IF(I99=1,VLOOKUP(AI99,男子種目コード!$A$1:$B$33,2,FALSE),IF(I99=2,VLOOKUP(AI99,女子種目コード!$A$36:$B$66,2,FALSE))))","v":""},null,0,2,null,null,null,null,null,null,null,null,null,null,null,null,null,null,null,"",0,0,0,0,null,null,null,null,0,"","",""]
[false,{"$f":"名簿!Q102","v":""},null,null,{"$f":"名簿!E102","v":0},{"$f":"名簿!BR102","v":""},{"$f":"名簿!Z102","v":""},"",{"$f":"名簿!O102","v":""},{"$f":"名簿!I102","v":0},{"$f":"名簿!K102","v":0},{"$f":"名簿!BU102","v":"00"},{"$f":"名簿!R102","v":""},{"$f":"名簿!D102","v":0},null,"",{"$f":"IF(O100=\"\",\"\",HLOOKUP(O100,名簿!$AB$8:$BH$118,95,FALSE))","v":""},0,2,null,{"$f":"IF(T100=\"\",\"\",IF(I100=1,VLOOKUP(O100,男子種目コード!$Y$1:$Z$8,2,FALSE),IF(I100=2,VLOOKUP(O100,女子種目コード!$Y$1:$Z$6,2,FALSE))))","v":""},{"$f":"IF(T100=\"\",\"\",HLOOKUP(T100,名簿!$AB$8:$BG$118,95,FALSE))","v":""},0,2,null,{"$f":"IF(Y100=\"\",\"\",IF(I100=1,VLOOKUP(Y100,男子種目コード!$A$1:$B$33,2,FALSE),IF(I100=2,VLOOKUP(Y100,女子種目コード!$A$36:$B$66,2,FALSE))))","v":""},{"$f":"IF(Y100=\"\",\"\",HLOOKUP(Y100,名簿!$AB$8:$BG$118,95,FALSE))","v":""},0,2,null,"",null,0,2,null,{"$f":"IF(AI100=\"\",\"\",IF(I100=1,VLOOKUP(AI100,男子種目コード!$A$1:$B$33,2,FALSE),IF(I100=2,VLOOKUP(AI100,女子種目コード!$A$36:$B$66,2,FALSE))))","v":""},null,0,2,null,null,null,null,null,null,null,null,null,null,null,null,null,null,null,"",0,0,0,0,null,null,null,null,0,"","",""]
[false,{"$f":"名簿!Q103","v":""},null,null,{"$f":"名簿!E103","v":0},{"$f":"名簿!BR103","v":""},{"$f":"名簿!Z103","v":""},"",{"$f":"名簿!O103","v":""},{"$f":"名簿!I103","v":0},{"$f":"名簿!K103","v":0},{"$f":"名簿!BU103","v":"00"},{"$f":"名簿!R103","v":""},{"$f":"名簿!D103","v":0},null,"",{"$f":"IF(O101=\"\",\"\",HLOOKUP(O101,名簿!$AB$8:$BH$118,96,FALSE))","v":""},0,2,null,{"$f":"IF(T101=\"\",\"\",IF(I101=1,VLOOKUP(O101,男子種目コード!$Y$1:$Z$8,2,FALSE),IF(I101=2,VLOOKUP(O101,女子種目コード!$Y$1:$Z$6,2,FALSE))))","v":""},{"$f":"IF(T101=\"\",\"\",HLOOKUP(T101,名簿!$AB$8:$BG$118,96,FALSE))","v":""},0,2,null,{"$f":"IF(Y101=\"\",\"\",IF(I101=1,VLOOKUP(Y101,男子種目コード!$A$1:$B$33,2,FALSE),IF(I101=2,VLOOKUP(Y101,女子種目コード!$A$36:$B$66,2,FALSE))))","v":""},{"$f":"IF(Y101=\"\",\"\",HLOOKUP(Y101,名簿!$AB$8:$BG$118,96,FALSE))","v":""},0,2,null,"",null,0,2,null,{"$f":"IF(AI101=\"\",\"\",IF(I101=1,VLOOKUP(AI101,男子種目コード!$A$1:$B$33,2,FALSE),IF(I101=2,VLOOKUP(AI101,女子種目コード!$A$36:$B$66,2,FALSE))))","v":""},null,0,2,null,null,null,null,null,null,null,null,null,null,null,null,null,null,null,"",0,0,0,0,null,null,null,null,0,"","",""]
[false,{"$f":"名簿!Q104","v":""},null,null,{"$f":"名簿!E104","v":0},{"$f":"名簿!BR104","v":""},{"$f":"名簿!Z104","v":""},"",{"$f":"名簿!O104","v":""},{"$f":"名簿!I104","v":0},{"$f":"名簿!K104","v":0},{"$f":"名簿!BU104","v":"00"},{"$f":"名簿!R104","v":""},{"$f":"名簿!D104","v":0},null,"",{"$f":"IF(O102=\"\",\"\",HLOOKUP(O102,名簿!$AB$8:$BH$118,97,FALSE))","v":""},0,2,null,{"$f":"IF(T102=\"\",\"\",IF(I102=1,VLOOKUP(O102,男子種目コード!$Y$1:$Z$8,2,FALSE),IF(I102=2,VLOOKUP(O102,女子種目コード!$Y$1:$Z$6,2,FALSE))))","v":""},{"$f":"IF(T102=\"\",\"\",HLOOKUP(T102,名簿!$AB$8:$BG$118,97,FALSE))","v":""},0,2,null,{"$f":"IF(Y102=\"\",\"\",IF(I102=1,VLOOKUP(Y102,男子種目コード!$A$1:$B$33,2,FALSE),IF(I102=2,VLOOKUP(Y102,女子種目コード!$A$36:$B$66,2,FALSE))))","v":""},{"$f":"IF(Y102=\"\",\"\",HLOOKUP(Y102,名簿!$AB$8:$BG$118,97,FALSE))","v":""},0,2,null,"",null,0,2,null,{"$f":"IF(AI102=\"\",\"\",IF(I102=1,VLOOKUP(AI102,男子種目コード!$A$1:$B$33,2,FALSE),IF(I102=2,VLOOKUP(AI102,女子種目コード!$A$36:$B$66,2,FALSE))))","v":""},null,0,2,null,null,null,null,null,null,null,null,null,null,null,null,null,null,null,"",0,0,0,0,null,null,null,null,0,"","",""]
[false,{"$f":"名簿!Q105","v":""},null,null,{"$f":"名簿!E105","v":0},{"$f":"名簿!BR105","v":""},{"$f":"名簿!Z105","v":""},"",{"$f":"名簿!O105","v":""},{"$f":"名簿!I105","v":0},{"$f":"名簿!K105","v":0},{"$f":"名簿!BU105","v":"00"},{"$f":"名簿!R105","v":""},{"$f":"名簿!D105","v":0},null,"",{"$f":"IF(O103=\"\",\"\",HLOOKUP(O103,名簿!$AB$8:$BH$118,98,FALSE))","v":""},0,2,null,{"$f":"IF(T103=\"\",\"\",IF(I103=1,VLOOKUP(O103,男子種目コード!$Y$1:$Z$8,2,FALSE),IF(I103=2,VLOOKUP(O103,女子種目コード!$Y$1:$Z$6,2,FALSE))))","v":""},{"$f":"IF(T103=\"\",\"\",HLOOKUP(T103,名簿!$AB$8:$BG$118,98,FALSE))","v":""},0,2,null,{"$f":"IF(Y103=\"\",\"\",IF(I103=1,VLOOKUP(Y103,男子種目コード!$A$1:$B$33,2,FALSE),IF(I103=2,VLOOKUP(Y103,女子種目コード!$A$36:$B$66,2,FALSE))))","v":""},{"$f":"IF(Y103=\"\",\"\",HLOOKUP(Y103,名簿!$AB$8:$BG$118,98,FALSE))","v":""},0,2,null,"",null,0,2,null,{"$f":"IF(AI103=\"\",\"\",IF(I103=1,VLOOKUP(AI103,男子種目コード!$A$1:$B$33,2,FALSE),IF(I103=2,VLOOKUP(AI103,女子種目コード!$A$36:$B$66,2,FALSE))))","v":""},null,0,2,null,null,null,null,null,null,null,null,null,null,null,null,null,null,null,"",0,0,0,0,null,null,null,null,0,"","",""]
[false,{"$f":"名簿!Q106","v":""},null,null,{"$f":"名簿!E106","v":0},{"$f":"名簿!BR106","v":""},{"$f":"名簿!Z106","v":""},"",{"$f":"名簿!O106","v":""},{"$f":"名簿!I106","v":0},{"$f":"名簿!K106","v":0},{"$f":"名簿!BU106","v":"00"},{"$f":"名簿!R106","v":""},{"$f":"名簿!D106","v":0},null,"",{"$f":"IF(O104=\"\",\"\",HLOOKUP(O104,名簿!$AB$8:$BH$118,99,FALSE))","v":""},0,2,null,{"$f":"IF(T104=\"\",\"\",IF(I104=1,VLOOKUP(O104,男子種目コード!$Y$1:$Z$8,2,FALSE),IF(I104=2,VLOOKUP(O104,女子種目コード!$Y$1:$Z$6,2,FALSE))))","v":""},{"$f":"IF(T104=\"\",\"\",HLOOKUP(T104,名簿!$AB$8:$BG$118,99,FALSE))","v":""},0,2,null,{"$f":"IF(Y104=\"\",\"\",IF(I104=1,VLOOKUP(Y104,男子種目コード!$A$1:$B$33,2,FALSE),IF(I104=2,VLOOKUP(Y104,女子種目コード!$A$36:$B$66,2,FALSE))))","v":""},{"$f":"IF(Y104=\"\",\"\",HLOOKUP(Y104,名簿!$AB$8:$BG$118,99,FALSE))","v":""},0,2,null,"",null,0,2,null,{"$f":"IF(AI104=\"\",\"\",IF(I104=1,VLOOKUP(AI104,男子種目コード!$A$1:$B$33,2,FALSE),IF(I104=2,VLOOKUP(AI104,女子種目コード!$A$36:$B$66,2,FALSE))))","v":""},null,0,2,null,null,null,null,null,null,null,null,null,null,null,null,null,null,null,"",0,0,0,0,null,null,null,null,0,"","",""]
[false,{"$f":"名簿!Q107","v":""},null,null,{"$f":"名簿!E107","v":0},{"$f":"名簿!BR107","v":""},{"$f":"名簿!Z107","v":""},"",{"$f":"名簿!O107","v":""},{"$f":"名簿!I107","v":0},{"$f":"名簿!K107","v":0},{"$f":"名簿!BU107","v":"00"},{"$f":"名簿!R107","v":""},{"$f":"名簿!D107","v":0},null,"",{"$f":"IF(O105=\"\",\"\",HLOOKUP(O105,名簿!$AB$8:$BH$118,100,FALSE))","v":""},0,2,null,{"$f":"IF(T105=\"\",\"\",IF(I105=1,VLOOKUP(O105,男子種目コード!$Y$1:$Z$8,2,FALSE),IF(I105=2,VLOOKUP(O105,女子種目コード!$Y$1:$Z$6,2,FALSE))))","v":""},{"$f":"IF(T105=\"\",\"\",HLOOKUP(T105,名簿!$AB$8:$BG$118,100,FALSE))","v":""},0,2,null,{"$f":"IF(Y105=\"\",\"\",IF(I105=1,VLOOKUP(Y105,男子種目コード!$A$1:$B$33,2,FALSE),IF(I105=2,VLOOKUP(Y105,女子種目コード!$A$36:$B$66,2,FALSE))))","v":""},{"$f":"IF(Y105=\"\",\"\",HLOOKUP(Y105,名簿!$AB$8:$BG$118,100,FALSE))","v":""},0,2,null,"",null,0,2,null,{"$f":"IF(AI105=\"\",\"\",IF(I105=1,VLOOKUP(AI105,男子種目コード!$A$1:$B$33,2,FALSE),IF(I105=2,VLOOKUP(AI105,女子種目コード!$A$36:$B$66,2,FALSE))))","v":""},null,0,2,null,null,null,null,null,null,null,null,null,null,null,null,null,null,null,"",0,0,0,0,null,null,null,null,0,"","",""]
[false,{"$f":"名簿!Q108","v":""},null,null,{"$f":"名簿!E108","v":0},{"$f":"名簿!BR108","v":""},{"$f":"名簿!Z108","v":""},"",{"$f":"名簿!O108","v":""},{"$f":"名簿!I108","v":0},{"$f":"名簿!K108","v":0},{"$f":"名簿!BU108","v":"00"},{"$f":"名簿!R108","v":""},{"$f":"名簿!D108","v":0},null,"",{"$f":"IF(O106=\"\",\"\",HLOOKUP(O106,名簿!$AB$8:$BH$118,101,FALSE))","v":""},0,2,null,{"$f":"IF(T106=\"\",\"\",IF(I106=1,VLOOKUP(O106,男子種目コード!$Y$1:$Z$8,2,FALSE),IF(I106=2,VLOOKUP(O106,女子種目コード!$Y$1:$Z$6,2,FALSE))))","v":""},{"$f":"IF(T106=\"\",\"\",HLOOKUP(T106,名簿!$AB$8:$BG$118,101,FALSE))","v":""},0,2,null,{"$f":"IF(Y106=\"\",\"\",IF(I106=1,VLOOKUP(Y106,男子種目コード!$A$1:$B$33,2,FALSE),IF(I106=2,VLOOKUP(Y106,女子種目コード!$A$36:$B$66,2,FALSE))))","v":""},{"$f":"IF(Y106=\"\",\"\",HLOOKUP(Y106,名簿!$AB$8:$BG$118,101,FALSE))","v":""},0,2,null,"",null,0,2,null,{"$f":"IF(AI106=\"\",\"\",IF(I106=1,VLOOKUP(AI106,男子種目コード!$A$1:$B$33,2,FALSE),IF(I106=2,VLOOKUP(AI106,女子種目コード!$A$36:$B$66,2,FALSE))))","v":""},null,0,2,null,null,null,null,null,null,null,null,null,null,null,null,null,null,null,"",0,0,0,0,null,null,null,null,0,"","",""]
[false,{"$f":"名簿!Q109","v":""},null,null,{"$f":"名簿!E109","v":0},{"$f":"名簿!BR109","v":""},{"$f":"名簿!Z109","v":""},"",{"$f":"名簿!O109","v":""},{"$f":"名簿!I109","v":0},{"$f":"名簿!K109","v":0},{"$f":"名簿!BU109","v":"00"},{"$f":"名簿!R109","v":""},{"$f":"名簿!D109","v":0},null,"",{"$f":"IF(O107=\"\",\"\",HLOOKUP(O107,名簿!$AB$8:$BH$118,102,FALSE))","v":""},0,2,null,{"$f":"IF(T107=\"\",\"\",IF(I107=1,VLOOKUP(O107,男子種目コード!$Y$1:$Z$8,2,FALSE),IF(I107=2,VLOOKUP(O107,女子種目コード!$Y$1:$Z$6,2,FALSE))))","v":""},{"$f":"IF(T107=\"\",\"\",HLOOKUP(T107,名簿!$AB$8:$BG$118,102,FALSE))","v":""},0,2,null,{"$f":"IF(Y107=\"\",\"\",IF(I107=1,VLOOKUP(Y107,男子種目コード!$A$1:$B$33,2,FALSE),IF(I107=2,VLOOKUP(Y107,女子種目コード!$A$36:$B$66,2,FALSE))))","v":""},{"$f":"IF(Y107=\"\",\"\",HLOOKUP(Y107,名簿!$AB$8:$BG$118,102,FALSE))","v":""},0,2,null,"",null,0,2,null,{"$f":"IF(AI107=\"\",\"\",IF(I107=1,VLOOKUP(AI107,男子種目コード!$A$1:$B$33,2,FALSE),IF(I107=2,VLOOKUP(AI107,女子種目コード!$A$36:$B$66,2,FALSE))))","v":""},null,0,2,null,null,null,null,null,null,null,null,null,null,null,null,null,null,null,"",0,0,0,0,null,null,null,null,0,"","",""]
[false,{"$f":"名簿!Q110","v":""},null,null,{"$f":"名簿!E110","v":0},{"$f":"名簿!BR110","v":""},{"$f":"名簿!Z110","v":""},"",{"$f":"名簿!O110","v":""},{"$f":"名簿!I110","v":0},{"$f":"名簿!K110","v":0},{"$f":"名簿!BU110","v":"00"},{"$f":"名簿!R110","v":""},{"$f":"名簿!D110","v":0},null,"",{"$f":"IF(O108=\"\",\"\",HLOOKUP(O108,名簿!$AB$8:$BH$118,103,FALSE))","v":""},0,2,null,{"$f":"IF(T108=\"\",\"\",IF(I108=1,VLOOKUP(O108,男子種目コード!$Y$1:$Z$8,2,FALSE),IF(I108=2,VLOOKUP(O108,女子種目コード!$Y$1:$Z$6,2,FALSE))))","v":""},{"$f":"IF(T108=\"\",\"\",HLOOKUP(T108,名簿!$AB$8:$BG$118,103,FALSE))","v":""},0,2,null,{"$f":"IF(Y108=\"\",\"\",IF(I108=1,VLOOKUP(Y108,男子種目コード!$A$1:$B$33,2,FALSE),IF(I108=2,VLOOKUP(Y108,女子種目コード!$A$36:$B$66,2,FALSE))))","v":""},{"$f":"IF(Y108=\"\",\"\",HLOOKUP(Y108,名簿!$AB$8:$BG$118,103,FALSE))","v":""},0,2,null,"",null,0,2,null,{"$f":"IF(AI108=\"\",\"\",IF(I108=1,VLOOKUP(AI108,男子種目コード!$A$1:$B$33,2,FALSE),IF(I108=2,VLOOKUP(AI108,女子種目コード!$A$36:$B$66,2,FALSE))))","v":""},null,0,2,null,null,null,null,null,null,null,null,null,null,null,null,null,null,null,{"$f":"IF(O108=\"\",\"\",1)","v":""},{"$f":"IF(OR(BC108=1,T108=\"\"),0,1)","v":0},{"$f":"IF(OR(BC108=1,BD108=1,Y108=\"\"),0,1)","v":0},{"$f":"IF(OR(BC108=1,BD108=1,BE108=1,AD108=\"\"),0,1)","v":0},{"$f":"IF(OR(BC108=1,BD108=1,BE108=1,BF108=1,AI108=\"\"),0,1)","v":0},null,null,null,null,0,"","",{"$f":"IF(I108=2,BM108,\"\")","v":""}]
[false,{"$f":"名簿!Q111","v":""},null,null,{"$f":"名簿!E111","v":0},{"$f":"名簿!BR111","v":""},{"$f":"名簿!Z111","v":""},"",{"$f":"名簿!O111","v":""},{"$f":"名簿!I111","v":0},{"$f":"名簿!K111","v":0},{"$f":"名簿!BU111","v":"00"},{"$f":"名簿!R111","v":""},{"$f":"名簿!D111","v":0},null,"",{"$f":"IF(O109=\"\",\"\",HLOOKUP(O109,名簿!$AB$8:$BH$118,104,FALSE))","v":""},0,2,null,{"$f":"IF(T109=\"\",\"\",IF(I109=1,VLOOKUP(O109,男子種目コード!$Y$1:$Z$8,2,FALSE),IF(I109=2,VLOOKUP(O109,女子種目コード!$Y$1:$Z$6,2,FALSE))))","v":""},{"$f":"IF(T109=\"\",\"\",HLOOKUP(T109,名簿!$AB$8:$BG$118,104,FALSE))","v":""},0,2,null,{"$f":"IF(Y109=\"\",\"\",IF(I109=1,VLOOKUP(Y109,男子種目コード!$A$1:$B$33,2,FALSE),IF(I109=2,VLOOKUP(Y109,女子種目コード!$A$36:$B$66,2,FALSE))))","v":""},{"$f":"IF(Y109=\"\",\"\",HLOOKUP(Y109,名簿!$AB$8:$BG$118,104,FALSE))","v":""},0,2,null,"",null,0,2,null,{"$f":"IF(AI109=\"\",\"\",IF(I109=1,VLOOKUP(AI109,男子種目コード!$A$1:$B$33,2,FALSE),IF(I109=2,VLOOKUP(AI109,女子種目コード!$A$36:$B$66,2,FALSE))))","v":""},null,0,2,null,null,null,null,null,null,null,null,null,null,null,null,null,null,null,"",0,0,0,0,null,null,null,null,0,"","",""]
[false,{"$f":"名簿!Q112","v":""},null,null,{"$f":"名簿!E112","v":0},{"$f":"名簿!BR112","v":""},{"$f":"名簿!Z112","v":""},"",{"$f":"名簿!O112","v":""},{"$f":"名簿!I112","v":0},{"$f":"名簿!K112","v":0},{"$f":"名簿!BU112","v":"00"},{"$f":"名簿!R112","v":""},{"$f":"名簿!D112","v":0},null,"",{"$f":"IF(O110=\"\",\"\",HLOOKUP(O110,名簿!$AB$8:$BH$118,105,FALSE))","v":""},0,2,null,{"$f":"IF(T110=\"\",\"\",IF(I110=1,VLOOKUP(O110,男子種目コード!$Y$1:$Z$8,2,FALSE),IF(I110=2,VLOOKUP(O110,女子種目コード!$Y$1:$Z$6,2,FALSE))))","v":""},{"$f":"IF(T110=\"\",\"\",HLOOKUP(T110,名簿!$AB$8:$BG$118,105,FALSE))","v":""},0,2,null,{"$f":"IF(Y110=\"\",\"\",IF(I110=1,VLOOKUP(Y110,男子種目コード!$A$1:$B$33,2,FALSE),IF(I110=2,VLOOKUP(Y110,女子種目コード!$A$36:$B$66,2,FALSE))))","v":""},{"$f":"IF(Y110=\"\",\"\",HLOOKUP(Y110,名簿!$AB$8:$BG$118,105,FALSE))","v":""},0,2,null,"",null,0,2,null,{"$f":"IF(AI110=\"\",\"\",IF(I110=1,VLOOKUP(AI110,男子種目コード!$A$1:$B$33,2,FALSE),IF(I110=2,VLOOKUP(AI110,女子種目コード!$A$36:$B$66,2,FALSE))))","v":""},null,0,2,null,null,null,null,null,null,null,null,null,null,null,null,null,null,null,"",0,0,0,0,null,null,null,null,0,"","",""]
[false,{"$f":"名簿!Q113","v":""},null,null,{"$f":"名簿!E113","v":0},{"$f":"名簿!BR113","v":""},{"$f":"名簿!Z113","v":""},"",{"$f":"名簿!O113","v":""},{"$f":"名簿!I113","v":0},{"$f":"名簿!K113","v":0},{"$f":"名簿!BU113","v":"00"},{"$f":"名簿!R113","v":""},{"$f":"名簿!D113","v":0},null,"",{"$f":"IF(O111=\"\",\"\",HLOOKUP(O111,名簿!$AB$8:$BH$118,106,FALSE))","v":""},0,2,null,{"$f":"IF(T111=\"\",\"\",IF(I111=1,VLOOKUP(O111,男子種目コード!$Y$1:$Z$8,2,FALSE),IF(I111=2,VLOOKUP(O111,女子種目コード!$Y$1:$Z$6,2,FALSE))))","v":""},{"$f":"IF(T111=\"\",\"\",HLOOKUP(T111,名簿!$AB$8:$BG$118,106,FALSE))","v":""},0,2,null,{"$f":"IF(Y111=\"\",\"\",IF(I111=1,VLOOKUP(Y111,男子種目コード!$A$1:$B$33,2,FALSE),IF(I111=2,VLOOKUP(Y111,女子種目コード!$A$36:$B$66,2,FALSE))))","v":""},{"$f":"IF(Y111=\"\",\"\",HLOOKUP(Y111,名簿!$AB$8:$BG$118,106,FALSE))","v":""},0,2,null,"",null,0,2,null,{"$f":"IF(AI111=\"\",\"\",IF(I111=1,VLOOKUP(AI111,男子種目コード!$A$1:$B$33,2,FALSE),IF(I111=2,VLOOKUP(AI111,女子種目コード!$A$36:$B$66,2,FALSE))))","v":""},null,0,2,null,null,null,null,null,null,null,null,null,null,null,null,null,null,null,"",0,0,0,0,null,null,null,null,0,"","",""]
[false,{"$f":"名簿!Q114","v":""},null,null,{"$f":"名簿!E114","v":0},{"$f":"名簿!BR114","v":""},{"$f":"名簿!Z114","v":""},"",{"$f":"名簿!O114","v":""},{"$f":"名簿!I114","v":0},{"$f":"名簿!K114","v":0},{"$f":"名簿!BU114","v":"00"},{"$f":"名簿!R114","v":""},{"$f":"名簿!D114","v":0},null,"",{"$f":"IF(O112=\"\",\"\",HLOOKUP(O112,名簿!$AB$8:$BH$118,107,FALSE))","v":""},0,2,null,{"$f":"IF(T112=\"\",\"\",IF(I112=1,VLOOKUP(O112,男子種目コード!$Y$1:$Z$8,2,FALSE),IF(I112=2,VLOOKUP(O112,女子種目コード!$Y$1:$Z$6,2,FALSE))))","v":""},{"$f":"IF(T112=\"\",\"\",HLOOKUP(T112,名簿!$AB$8:$BG$118,107,FALSE))","v":""},0,2,null,{"$f":"IF(Y112=\"\",\"\",IF(I112=1,VLOOKUP(Y112,男子種目コード!$A$1:$B$33,2,FALSE),IF(I112=2,VLOOKUP(Y112,女子種目コード!$A$36:$B$66,2,FALSE))))","v":""},{"$f":"IF(Y112=\"\",\"\",HLOOKUP(Y112,名簿!$AB$8:$BG$118,107,FALSE))","v":""},0,2,null,"",null,0,2,null,{"$f":"IF(AI112=\"\",\"\",IF(I112=1,VLOOKUP(AI112,男子種目コード!$A$1:$B$33,2,FALSE),IF(I112=2,VLOOKUP(AI112,女子種目コード!$A$36:$B$66,2,FALSE))))","v":""},null,0,2,null,null,null,null,null,null,null,null,null,null,null,null,null,null,null,"",0,0,0,0,null,null,null,null,0,"","",""]
[false,{"$f":"名簿!Q115","v":""},null,null,{"$f":"名簿!E115","v":0},{"$f":"名簿!BR115","v":""},{"$f":"名簿!Z115","v":""},"",{"$f":"名簿!O115","v":""},{"$f":"名簿!I115","v":0},{"$f":"名簿!K115","v":0},{"$f":"名簿!BU115","v":"00"},{"$f":"名簿!R115","v":""},{"$f":"名簿!D115","v":0},null,"",{"$f":"IF(O113=\"\",\"\",HLOOKUP(O113,名簿!$AB$8:$BH$118,108,FALSE))","v":""},0,2,null,{"$f":"IF(T113=\"\",\"\",IF(I113=1,VLOOKUP(O113,男子種目コード!$Y$1:$Z$8,2,FALSE),IF(I113=2,VLOOKUP(O113,女子種目コード!$Y$1:$Z$6,2,FALSE))))","v":""},{"$f":"IF(T113=\"\",\"\",HLOOKUP(T113,名簿!$AB$8:$BG$118,108,FALSE))","v":""},0,2,null,{"$f":"IF(Y113=\"\",\"\",IF(I113=1,VLOOKUP(Y113,男子種目コード!$A$1:$B$33,2,FALSE),IF(I113=2,VLOOKUP(Y113,女子種目コード!$A$36:$B$66,2,FALSE))))","v":""},{"$f":"IF(Y113=\"\",\"\",HLOOKUP(Y113,名簿!$AB$8:$BG$118,108,FALSE))","v":""},0,2,null,"",null,0,2,null,{"$f":"IF(AI113=\"\",\"\",IF(I113=1,VLOOKUP(AI113,男子種目コード!$A$1:$B$33,2,FALSE),IF(I113=2,VLOOKUP(AI113,女子種目コード!$A$36:$B$66,2,FALSE))))","v":""},null,0,2,null,null,null,null,null,null,null,null,null,null,null,null,null,null,null,"",0,0,0,0,null,null,null,null,0,"","",""]
[false,{"$f":"名簿!Q116","v":""},null,null,{"$f":"名簿!E116","v":0},{"$f":"名簿!BR116","v":""},{"$f":"名簿!Z116","v":""},"",{"$f":"名簿!O116","v":""},{"$f":"名簿!I116","v":0},{"$f":"名簿!K116","v":0},{"$f":"名簿!BU116","v":"00"},{"$f":"名簿!R116","v":""},{"$f":"名簿!D116","v":0},null,"",{"$f":"IF(O114=\"\",\"\",HLOOKUP(O114,名簿!$AB$8:$BH$118,109,FALSE))","v":""},0,2,null,{"$f":"IF(T114=\"\",\"\",IF(I114=1,VLOOKUP(O114,男子種目コード!$Y$1:$Z$8,2,FALSE),IF(I114=2,VLOOKUP(O114,女子種目コード!$Y$1:$Z$6,2,FALSE))))","v":""},{"$f":"IF(T114=\"\",\"\",HLOOKUP(T114,名簿!$AB$8:$BG$118,109,FALSE))","v":""},0,2,null,{"$f":"IF(Y114=\"\",\"\",IF(I114=1,VLOOKUP(Y114,男子種目コード!$A$1:$B$33,2,FALSE),IF(I114=2,VLOOKUP(Y114,女子種目コード!$A$36:$B$66,2,FALSE))))","v":""},{"$f":"IF(Y114=\"\",\"\",HLOOKUP(Y114,名簿!$AB$8:$BG$118,109,FALSE))","v":""},0,2,null,"",null,0,2,null,{"$f":"IF(AI114=\"\",\"\",IF(I114=1,VLOOKUP(AI114,男子種目コード!$A$1:$B$33,2,FALSE),IF(I114=2,VLOOKUP(AI114,女子種目コード!$A$36:$B$66,2,FALSE))))","v":""},null,0,2,null,null,null,null,null,null,null,null,null,null,null,null,null,null,null,"",0,0,0,0,null,null,null,null,0,"","",""]
[false,{"$f":"名簿!Q117","v":""},null,null,{"$f":"名簿!E117","v":0},{"$f":"名簿!BR117","v":""},{"$f":"名簿!Z117","v":""},"",{"$f":"名簿!O117","v":""},{"$f":"名簿!I117","v":0},{"$f":"名簿!K117","v":0},{"$f":"名簿!BU117","v":"00"},{"$f":"名簿!R117","v":""},{"$f":"名簿!D117","v":0},null,"",{"$f":"IF(O115=\"\",\"\",HLOOKUP(O115,名簿!$AB$8:$BH$118,110,FALSE))","v":""},0,2,null,{"$f":"IF(T115=\"\",\"\",IF(I115=1,VLOOKUP(O115,男子種目コード!$Y$1:$Z$8,2,FALSE),IF(I115=2,VLOOKUP(O115,女子種目コード!$Y$1:$Z$6,2,FALSE))))","v":""},{"$f":"IF(T115=\"\",\"\",HLOOKUP(T115,名簿!$AB$8:$BG$118,110,FALSE))","v":""},0,2,null,{"$f":"IF(Y115=\"\",\"\",IF(I115=1,VLOOKUP(Y115,男子種目コード!$A$1:$B$33,2,FALSE),IF(I115=2,VLOOKUP(Y115,女子種目コード!$A$36:$B$66,2,FALSE))))","v":""},{"$f":"IF(Y115=\"\",\"\",HLOOKUP(Y115,名簿!$AB$8:$BG$118,110,FALSE))","v":""},0,2,null,"",null,0,2,null,{"$f":"IF(AI115=\"\",\"\",IF(I115=1,VLOOKUP(AI115,男子種目コード!$A$1:$B$33,2,FALSE),IF(I115=2,VLOOKUP(AI115,女子種目コード!$A$36:$B$66,2,FALSE))))","v":""},null,0,2,null,null,null,null,null,null,null,null,null,null,null,null,null,null,null,"",0,0,0,0,null,null,null,null,0,"","",""]
[false,{"$f":"名簿!Q118","v":""},null,null,{"$f":"名簿!E118","v":0},{"$f":"名簿!BR118","v":""},{"$f":"名簿!Z118","v":""},"",{"$f":"名簿!O118","v":""},{"$f":"名簿!I118","v":0},{"$f":"名簿!K118","v":0},{"$f":"名簿!BU118","v":"00"},{"$f":"名簿!R118","v":""},{"$f":"名簿!D118","v":0},null,"",{"$f":"IF(O116=\"\",\"\",HLOOKUP(O116,名簿!$AB$8:$BH$118,111,FALSE))","v":""},0,2,null,{"$f":"IF(T116=\"\",\"\",IF(I116=1,VLOOKUP(O116,男子種目コード!$Y$1:$Z$8,2,FALSE),IF(I116=2,VLOOKUP(O116,女子種目コード!$Y$1:$Z$6,2,FALSE))))","v":""},{"$f":"IF(T116=\"\",\"\",HLOOKUP(T116,名簿!$AB$8:$BG$118,111,FALSE))","v":""},0,2,null,{"$f":"IF(Y116=\"\",\"\",IF(I116=1,VLOOKUP(Y116,男子種目コード!$A$1:$B$33,2,FALSE),IF(I116=2,VLOOKUP(Y116,女子種目コード!$A$36:$B$66,2,FALSE))))","v":""},{"$f":"IF(Y116=\"\",\"\",HLOOKUP(Y116,名簿!$AB$8:$BG$118,111,FALSE))","v":""},0,2,null,"",0,0,2,null,{"$f":"IF(AI116=\"\",\"\",IF(I116=1,VLOOKUP(AI116,男子種目コード!$A$1:$B$33,2,FALSE),IF(I116=2,VLOOKUP(AI116,女子種目コード!$A$36:$B$66,2,FALSE))))","v":""},null,0,2,null,null,null,null,null,null,null,null,null,null,null,{"$f":"IF(O116=\"\",\"\",1)","v":""},null,null,null,null,null,null,null,null,null,{"$f":"COUNT(P116,U116,X116,AA116,AD116)","v":1},{"$f":"IF(I116=1,BI116,\"\")","v":""},{"$f":"IF(I116=2,BI116,\"\")","v":""},0,"","",""]
[null,null,null,null,null,null,null,null,null,null,null,null,null,null,null,null,null,null,null,null,null,null,null,null,null,null,null,null,null,null,null,null,null,null,null,null,null,null,null,null,null,{"$f":"SUM(AY7:AY116)","v":{"$error":"#N/A"}},{"$f":"SUM(AZ7:AZ116)","v":{"$error":"#N/A"}},{"$f":"SUM(BA7:BA116)","v":0},null,null,null,null,null,null,null,null,null,null,{"$f":"IF(H117=2,BA117,\"\")","v":""},null,null,{"$f":"B117","v":0}]

{"sheet":"新人","index":15,"n_rows":116,"n_cols":69,"rows_kept":116,"cut":false,"hidden":false,"merged":[[1,32,1,33],[1,21,1,24],[8,47,13,47],[5,44,5,45],[14,48,14,49],[15,48,15,49],[0,40,0,41],[1,40,1,41],[7,48,7,49],[6,48,6,49],[5,48,5,49],[37,47,42,47],[27,48,27,49],[28,47,33,47],[34,48,34,49],[35,48,35,49],[16,48,16,49],[17,47,22,47],[25,48,25,49],[36,48,36,49],[26,48,26,49]]}
[null,null,null,null,"所属名",{"$f":"IF(名簿!$P$9=\"\",\"\",名簿!$P$9)","v":""},null,null,"三重県高校新人"]
[null,null,null,null,"所属コード",{"$f":"名簿!$Q$9","v":""},null,null,"男子",null,null,null,null,null,{"$f":"COUNTIF($I$7:$I$116,1)-COUNTIF($BP$7:$BP$116,0)","v":0}]
[null,null,null,null,"顧問名",{"$f":"IF(名簿!$E$5=\"\",\"\",名簿!$E$5)","v":""},null,null,"女子",null,null,null,null,null,{"$f":"COUNTIF($I$7:$I$116,2)-COUNTIF($BQ$7:$BQ$116,0)","v":0},null,null,null,null,"プログラム数",null,null,null,null,null,null,null,null,null,"冊"]
[null,null,null,null,"顧問連絡先",{"$f":"IF(名簿!$I$5=\"\",\"\",名簿!$I$5)","v":""},null,null,"計",null,null,null,null,null,{"$f":"O2+O3","v":0},null,null,null,null,"参加費",null,{"$f":"O4*1000+(V3*800)","v":0}]
[null,null,null,null,null,null,null,null,null,null,null,null,null,null,null,null,null,null,null,null,null,null,null,null,null,null,null,null,null,null,null,null,null,null,null,null,null,null,null,null,null,{"$f":"C1","v":0}]
["競技者コード","所属コード","所属コード2","ナンバーA","ナンバー","名前","カナ名","掲示板名","性別","学年","生年","月日","個人所属地コード","陸連コード","1種目","コード","記録",null,null,"2種目","コード","記録",null,null,"種目3","コード","記録3",null,null,"4×100Ｒ","コード","記録4",null,null,"4×400Ｒ","コード","記録5",null,null,null,null,null,100,null,"出場制限3名",null,null,"種目","400R",null,null,null,null,null,null,null,null,null,null,null,null,null,null,null,100,100,"種目","男子","女子"]
[{"$f":"IF(I7=1,IF(AD7=\"4×100\",1),IF(AD7=\"4×100\",2))","v":false},{"$f":"名簿!Q9","v":""},{"$f":"IF(I7=1,IF(AI7=\"4×400\",1),IF(AI7=\"4×400\",2))","v":false},null,{"$f":"名簿!E9","v":0},{"$f":"名簿!BR9","v":""},{"$f":"名簿!Z9","v":""},{"$f":"F7","v":""},{"$f":"名簿!O9","v":""},{"$f":"名簿!I9","v":0},{"$f":"名簿!K9","v":0},{"$f":"名簿!BU9","v":"00"},{"$f":"名簿!R9","v":""},{"$f":"名簿!D9","v":0},null,{"$f":"IF(O7=\"\",\"\",IF($I7=1,VLOOKUP(O7,$AS$7:$AU$24,3,FALSE),IF($I7=2,VLOOKUP(O7,$AS$26:$AU$42,3,FALSE))))","v":""},{"$f":"IF(O7=\"\",\"\",HLOOKUP(O7,名簿!$AB$8:$BI$118,2,FALSE))","v":""},0,2,null,{"$f":"IF(T7=\"\",\"\",IF($I7=1,VLOOKUP(T7,$AS$7:$AU$24,3,FALSE),IF($I7=2,VLOOKUP(T7,$AS$26:$AU$42,3,FALSE))))","v":""},{"$f":"IF(T7=\"\",\"\",HLOOKUP(T7,名簿!$AB$8:$BI$118,2,FALSE))","v":""},0,2,null,null,null,0,2,null,{"$f":"IF(AD7=\"\",\"\",IF(I7=1,VLOOKUP(AD7,男子種目コード!$A$1:$B$29,2,FALSE),IF(I7=2,VLOOKUP(AD7,女子種目コード!$D$35:$E$61,2,FALSE))))","v":""},null,0,2,null,{"$f":"IF(AI7=\"\",\"\",IF(I7=1,VLOOKUP(AI7,男子種目コード!$A$1:$B$29,2,FALSE),IF(I7=2,VLOOKUP(AI7,女子種目コード!$D$35:$E$61,2,FALSE))))","v":""},null,0,2,null,null,null,200,null,"100m",{"$f":"COUNTIF($P$7:$P$116,1)+COUNTIF($U$7:$U$116,1)","v":0},1,"記録",null,null,null,null,null,null,null,null,null,null,null,{"$f":"IF(O7=\"\",\"\",1)","v":""},{"$f":"IF(OR(BH7=1,T7=\"\"),0,1)","v":0},{"$f":"IF(OR(BH7=1,BI7=1,AD7=\"\"),0,1)","v":0},{"$f":"IF(OR(BH7=1,BI7=1,BJ7=1,AI7=\"\"),0,1)","v":0},{"$f":"SUM(BH7:BK7)","v":0},200,200,{"$f":"COUNT(P7,U7,AE7,AJ7)","v":0},{"$f":"IF(I7=1,BO7,\"\")","v":""},{"$f":"IF(I7=2,BO7,\"\")","v":""}]
[{"$f":"IF(I8=1,IF(AD8=\"4×100\",1),IF(AD8=\"4×100\",2))","v":false},{"$f":"名簿!Q10","v":""},{"$f":"IF(I8=1,IF(AI8=\"4×400\",1),IF(AI8=\"4×400\",2))","v":false},null,{"$f":"名簿!E10","v":0},{"$f":"名簿!BR10","v":""},{"$f":"名簿!Z10","v":""},"",{"$f":"名簿!O10","v":""},{"$f":"名簿!I10","v":0},{"$f":"名簿!K10","v":0},{"$f":"名簿!BU10","v":"00"},{"$f":"名簿!R10","v":""},{"$f":"名簿!D10","v":0},null,{"$f":"IF(O8=\"\",\"\",IF($I8=1,VLOOKUP(O8,$AS$7:$AU$24,3,FALSE),IF($I8=2,VLOOKUP(O8,$AS$26:$AU$42,3,FALSE))))","v":""},{"$f":"IF(O8=\"\",\"\",HLOOKUP(O8,名簿!$AB$8:$BI$118,3,FALSE))","v":""},0,2,null,{"$f":"IF(T8=\"\",\"\",IF($I8=1,VLOOKUP(T8,$AS$7:$AU$24,3,FALSE),IF($I8=2,VLOOKUP(T8,$AS$26:$AU$42,3,FALSE))))","v":""},{"$f":"IF(T8=\"\",\"\",HLOOKUP(T8,名簿!$AB$8:$BI$118,3,FALSE))","v":""},0,2,null,null,null,0,2,null,{"$f":"IF(AD8=\"\",\"\",IF(I8=1,VLOOKUP(AD8,男子種目コード!$A$1:$B$29,2,FALSE),IF(I8=2,VLOOKUP(AD8,女子種目コード!$D$35:$E$61,2,FALSE))))","v":""},null,0,2,null,{"$f":"IF(AI8=\"\",\"\",IF(I8=1,VLOOKUP(AI8,男子種目コード!$A$1:$B$29,2,FALSE),IF(I8=2,VLOOKUP(AI8,女子種目コード!$D$35:$E$61,2,FALSE))))","v":""},null,0,2,null,null,null,400,null,"200m",{"$f":"COUNTIF($P$7:$P$116,2)+COUNTIF($U$7:$U$116,2)","v":0},2,"ｵｰﾀﾞｰ",{"$f":"COUNTIF($AE$7:$AE$116,13)","v":0},null,null,null,null,null,null,null,null,null,null,{"$f":"IF(O8=\"\",\"\",1)","v":""},0,0,0,{"$f":"SUM(BH8:BK8)","v":0},400,400,0,"",""]
[false,{"$f":"名簿!Q11","v":""},false,null,{"$f":"名簿!E11","v":0},{"$f":"名簿!BR11","v":""},{"$f":"名簿!Z11","v":""},"",{"$f":"名簿!O11","v":""},{"$f":"名簿!I11","v":0},{"$f":"名簿!K11","v":0},{"$f":"名簿!BU11","v":"00"},{"$f":"名簿!R11","v":""},{"$f":"名簿!D11","v":0},null,"",{"$f":"IF(O9=\"\",\"\",HLOOKUP(O9,名簿!$AB$8:$BI$118,4,FALSE))","v":""},0,2,null,"",{"$f":"IF(T9=\"\",\"\",HLOOKUP(T9,名簿!$AB$8:$BI$118,4,FALSE))","v":""},0,2,null,null,null,0,2,null,{"$f":"IF(AD9=\"\",\"\",IF(I9=1,VLOOKUP(AD9,男子種目コード!$A$1:$B$29,2,FALSE),IF(I9=2,VLOOKUP(AD9,女子種目コード!$D$35:$E$61,2,FALSE))))","v":""},null,0,2,null,{"$f":"IF(AI9=\"\",\"\",IF(I9=1,VLOOKUP(AI9,男子種目コード!$A$1:$B$29,2,FALSE),IF(I9=2,VLOOKUP(AI9,女子種目コード!$D$35:$E$61,2,FALSE))))","v":""},null,0,2,null,null,null,800,null,"400m",{"$f":"COUNTIF($P$7:$P$116,3)+COUNTIF($U$7:$U$116,3)","v":0},3,"選　手",{"$f":"IF(ISERROR(AY9),\"\",AY9)","v":""},{"$f":"IF(ISERROR(AZ9),\"\",AZ9)","v":""},{"$f":"VLookUpX(1,$A$7:$F$116,1,5)","v":{"$error":"#N/A"}},{"$f":"VLookUpX(1,$A$7:$F$116,1,6)","v":{"$error":"#N/A"}},null,null,null,null,null,null,null,"",0,0,0,0,800,800,0,"",""]
[false,{"$f":"名簿!Q12","v":""},false,null,{"$f":"名簿!E12","v":0},{"$f":"名簿!BR12","v":""},{"$f":"名簿!Z12","v":""},"",{"$f":"名簿!O12","v":""},{"$f":"名簿!I12","v":0},{"$f":"名簿!K12","v":0},{"$f":"名簿!BU12","v":"00"},{"$f":"名簿!R12","v":""},{"$f":"名簿!D12","v":0},null,"",{"$f":"IF(O10=\"\",\"\",HLOOKUP(O10,名簿!$AB$8:$BI$118,5,FALSE))","v":""},0,2,null,"",{"$f":"IF(T10=\"\",\"\",HLOOKUP(T10,名簿!$AB$8:$BI$118,5,FALSE))","v":""},0,2,null,null,null,0,2,null,{"$f":"IF(AD10=\"\",\"\",IF(I10=1,VLOOKUP(AD10,男子種目コード!$A$1:$B$29,2,FALSE),IF(I10=2,VLOOKUP(AD10,女子種目コード!$D$35:$E$61,2,FALSE))))","v":""},null,0,2,null,{"$f":"IF(AI10=\"\",\"\",IF(I10=1,VLOOKUP(AI10,男子種目コード!$A$1:$B$29,2,FALSE),IF(I10=2,VLOOKUP(AI10,女子種目コード!$D$35:$E$61,2,FALSE))))","v":""},null,0,2,null,null,null,1500,null,"800m",{"$f":"COUNTIF($P$7:$P$116,4)+COUNTIF($U$7:$U$116,4)","v":0},4,null,{"$f":"IF(ISERROR(AY10),\"\",AY10)","v":""},"",{"$f":"VLookUpX(1,$A$7:$F$116,2,5)","v":{"$error":"#N/A"}},{"$f":"VLookUpX(1,$A$7:$F$116,2,6)","v":{"$error":"#N/A"}},null,null,null,null,null,null,null,"",0,0,0,0,1500,1500,0,"",""]
[false,{"$f":"名簿!Q13","v":""},false,null,{"$f":"名簿!E13","v":0},{"$f":"名簿!BR13","v":""},{"$f":"名簿!Z13","v":""},"",{"$f":"名簿!O13","v":""},{"$f":"名簿!I13","v":0},{"$f":"名簿!K13","v":0},{"$f":"名簿!BU13","v":"00"},{"$f":"名簿!R13","v":""},{"$f":"名簿!D13","v":0},null,"",{"$f":"IF(O11=\"\",\"\",HLOOKUP(O11,名簿!$AB$8:$BI$118,6,FALSE))","v":""},0,2,null,"",{"$f":"IF(T11=\"\",\"\",HLOOKUP(T11,名簿!$AB$8:$BI$118,6,FALSE))","v":""},0,2,null,null,null,0,2,null,{"$f":"IF(AD11=\"\",\"\",IF(I11=1,VLOOKUP(AD11,男子種目コード!$A$1:$B$29,2,FALSE),IF(I11=2,VLOOKUP(AD11,女子種目コード!$D$35:$E$61,2,FALSE))))","v":""},null,0,2,null,{"$f":"IF(AI11=\"\",\"\",IF(I11=1,VLOOKUP(AI11,男子種目コード!$A$1:$B$29,2,FALSE),IF(I11=2,VLOOKUP(AI11,女子種目コード!$D$35:$E$61,2,FALSE))))","v":""},null,0,2,null,null,null,3000,null,"1500m",{"$f":"COUNTIF($P$7:$P$116,5)+COUNTIF($U$7:$U$116,5)","v":0},5,null,"","",{"$f":"VLookUpX(1,$A$7:$F$116,3,5)","v":{"$error":"#N/A"}},{"$f":"VLookUpX(1,$A$7:$F$116,3,6)","v":{"$error":"#N/A"}},null,null,null,null,null,null,null,"",0,0,0,0,5000,3000,0,"",""]
[false,{"$f":"名簿!Q14","v":""},false,null,{"$f":"名簿!E14","v":0},{"$f":"名簿!BR14","v":""},{"$f":"名簿!Z14","v":""},"",{"$f":"名簿!O14","v":""},{"$f":"名簿!I14","v":0},{"$f":"名簿!K14","v":0},{"$f":"名簿!BU14","v":"00"},{"$f":"名簿!R14","v":""},{"$f":"名簿!D14","v":0},null,"",{"$f":"IF(O12=\"\",\"\",HLOOKUP(O12,名簿!$AB$8:$BI$118,7,FALSE))","v":""},0,2,null,"",{"$f":"IF(T12=\"\",\"\",HLOOKUP(T12,名簿!$AB$8:$BI$118,7,FALSE))","v":""},0,2,null,null,null,0,2,null,{"$f":"IF(AD12=\"\",\"\",IF(I12=1,VLOOKUP(AD12,男子種目コード!$A$1:$B$29,2,FALSE),IF(I12=2,VLOOKUP(AD12,女子種目コード!$D$35:$E$61,2,FALSE))))","v":""},null,0,2,null,{"$f":"IF(AI12=\"\",\"\",IF(I12=1,VLOOKUP(AI12,男子種目コード!$A$1:$B$29,2,FALSE),IF(I12=2,VLOOKUP(AI12,女子種目コード!$D$35:$E$61,2,FALSE))))","v":""},null,0,2,null,null,null,5000,null,"5000m",{"$f":"COUNTIF($P$7:$P$116,6)+COUNTIF($U$7:$U$116,6)","v":0},6,null,"","",{"$f":"VLookUpX(1,$A$7:$F$116,4,5)","v":{"$error":"#N/A"}},{"$f":"VLookUpX(1,$A$7:$F$116,4,6)","v":{"$error":"#N/A"}},null,null,null,null,null,null,null,"",0,0,0,0,"110H","100H",0,"",""]
[false,{"$f":"名簿!Q15","v":""},false,null,{"$f":"名簿!E15","v":0},{"$f":"名簿!BR15","v":""},{"$f":"名簿!Z15","v":""},"",{"$f":"名簿!O15","v":""},{"$f":"名簿!I15","v":0},{"$f":"名簿!K15","v":0},{"$f":"名簿!BU15","v":"00"},{"$f":"名簿!R15","v":""},{"$f":"名簿!D15","v":0},null,"",{"$f":"IF(O13=\"\",\"\",HLOOKUP(O13,名簿!$AB$8:$BI$118,8,FALSE))","v":""},0,2,null,"",{"$f":"IF(T13=\"\",\"\",HLOOKUP(T13,名簿!$AB$8:$BI$118,8,FALSE))","v":""},0,2,null,null,null,0,2,null,{"$f":"IF(AD13=\"\",\"\",IF(I13=1,VLOOKUP(AD13,男子種目コード!$A$1:$B$29,2,FALSE),IF(I13=2,VLOOKUP(AD13,女子種目コード!$D$35:$E$61,2,FALSE))))","v":""},null,0,2,null,{"$f":"IF(AI13=\"\",\"\",IF(I13=1,VLOOKUP(AI13,男子種目コード!$A$1:$B$29,2,FALSE),IF(I13=2,VLOOKUP(AI13,女子種目コード!$D$35:$E$61,2,FALSE))))","v":""},null,0,2,null,null,null,"100H",null,"110mH",{"$f":"COUNTIF($P$7:$P$116,8)+COUNTIF($U$7:$U$116,8)","v":0},8,null,"","",{"$f":"VLookUpX(1,$A$7:$F$116,5,5)","v":{"$error":"#N/A"}},{"$f":"VLookUpX(1,$A$7:$F$116,5,6)","v":{"$error":"#N/A"}},null,null,null,null,null,null,null,"",0,0,0,0,"400H","400H",0,"",""]
[false,{"$f":"名簿!Q16","v":""},false,null,{"$f":"名簿!E16","v":0},{"$f":"名簿!BR16","v":""},{"$f":"名簿!Z16","v":""},"",{"$f":"名簿!O16","v":""},{"$f":"名簿!I16","v":0},{"$f":"名簿!K16","v":0},{"$f":"名簿!BU16","v":"00"},{"$f":"名簿!R16","v":""},{"$f":"名簿!D16","v":0},null,"",{"$f":"IF(O14=\"\",\"\",HLOOKUP(O14,名簿!$AB$8:$BI$118,9,FALSE))","v":""},0,2,null,"",{"$f":"IF(T14=\"\",\"\",HLOOKUP(T14,名簿!$AB$8:$BI$118,9,FALSE))","v":""},0,2,null,null,null,0,2,null,{"$f":"IF(AD14=\"\",\"\",IF(I14=1,VLOOKUP(AD14,男子種目コード!$A$1:$B$29,2,FALSE),IF(I14=2,VLOOKUP(AD14,女子種目コード!$D$35:$E$61,2,FALSE))))","v":""},null,0,2,null,{"$f":"IF(AI14=\"\",\"\",IF(I14=1,VLOOKUP(AI14,男子種目コード!$A$1:$B$29,2,FALSE),IF(I14=2,VLOOKUP(AI14,女子種目コード!$D$35:$E$61,2,FALSE))))","v":""},null,0,2,null,null,null,"110H",null,"400mH",{"$f":"COUNTIF($P$7:$P$116,9)+COUNTIF($U$7:$U$116,9)","v":0},9,null,"","",{"$f":"VLookUpX(1,$A$7:$F$116,6,5)","v":{"$error":"#N/A"}},{"$f":"VLookUpX(1,$A$7:$F$116,6,6)","v":{"$error":"#N/A"}},null,null,null,null,null,null,null,"",0,0,0,0,"3000SC","5000W",0,"",""]
[false,{"$f":"名簿!Q17","v":""},false,null,{"$f":"名簿!E17","v":0},{"$f":"名簿!BR17","v":""},{"$f":"名簿!Z17","v":""},"",{"$f":"名簿!O17","v":""},{"$f":"名簿!I17","v":0},{"$f":"名簿!K17","v":0},{"$f":"名簿!BU17","v":"00"},{"$f":"名簿!R17","v":""},{"$f":"名簿!D17","v":0},null,"",{"$f":"IF(O15=\"\",\"\",HLOOKUP(O15,名簿!$AB$8:$BI$118,10,FALSE))","v":""},0,2,null,"",{"$f":"IF(T15=\"\",\"\",HLOOKUP(T15,名簿!$AB$8:$BI$118,10,FALSE))","v":""},0,2,null,null,null,0,2,null,{"$f":"IF(AD15=\"\",\"\",IF(I15=1,VLOOKUP(AD15,男子種目コード!$A$1:$B$29,2,FALSE),IF(I15=2,VLOOKUP(AD15,女子種目コード!$D$35:$E$61,2,FALSE))))","v":""},null,0,2,null,{"$f":"IF(AI15=\"\",\"\",IF(I15=1,VLOOKUP(AI15,男子種目コード!$A$1:$B$29,2,FALSE),IF(I15=2,VLOOKUP(AI15,女子種目コード!$D$35:$E$61,2,FALSE))))","v":""},null,0,2,null,null,null,"400H",null,"3000mSC",{"$f":"COUNTIF($P$7:$P$116,10)+COUNTIF($U$7:$U$116,10)","v":0},10,"種目","1600R",null,null,null,null,null,null,null,null,null,null,"",0,0,0,0,"5000W","走高跳",0,"",""]
[false,{"$f":"名簿!Q18","v":""},false,null,{"$f":"名簿!E18","v":0},{"$f":"名簿!BR18","v":""},{"$f":"名簿!Z18","v":""},"",{"$f":"名簿!O18","v":""},{"$f":"名簿!I18","v":0},{"$f":"名簿!K18","v":0},{"$f":"名簿!BU18","v":"00"},{"$f":"名簿!R18","v":""},{"$f":"名簿!D18","v":0},null,"",{"$f":"IF(O16=\"\",\"\",HLOOKUP(O16,名簿!$AB$8:$BI$118,11,FALSE))","v":""},0,2,null,"",{"$f":"IF(T16=\"\",\"\",HLOOKUP(T16,名簿!$AB$8:$BI$118,11,FALSE))","v":""},0,2,null,null,null,0,2,null,{"$f":"IF(AD16=\"\",\"\",IF(I16=1,VLOOKUP(AD16,男子種目コード!$A$1:$B$29,2,FALSE),IF(I16=2,VLOOKUP(AD16,女子種目コード!$D$35:$E$61,2,FALSE))))","v":""},null,0,2,null,{"$f":"IF(AI16=\"\",\"\",IF(I16=1,VLOOKUP(AI16,男子種目コード!$A$1:$B$29,2,FALSE),IF(I16=2,VLOOKUP(AI16,女子種目コード!$D$35:$E$61,2,FALSE))))","v":""},null,0,2,null,null,null,"3000SC",null,"5000mW",{"$f":"COUNTIF($P$7:$P$116,12)+COUNTIF($U$7:$U$116,12)","v":0},12,"記録",null,null,null,null,null,null,null,null,null,null,null,"",0,0,0,0,"走高跳","棒高跳",0,"",""]
[false,{"$f":"名簿!Q19","v":""},false,null,{"$f":"名簿!E19","v":0},{"$f":"名簿!BR19","v":""},{"$f":"名簿!Z19","v":""},"",{"$f":"名簿!O19","v":""},{"$f":"名簿!I19","v":0},{"$f":"名簿!K19","v":0},{"$f":"名簿!BU19","v":"00"},{"$f":"名簿!R19","v":""},{"$f":"名簿!D19","v":0},null,"",{"$f":"IF(O17=\"\",\"\",HLOOKUP(O17,名簿!$AB$8:$BI$118,12,FALSE))","v":""},0,2,null,"",{"$f":"IF(T17=\"\",\"\",HLOOKUP(T17,名簿!$AB$8:$BI$118,12,FALSE))","v":""},0,2,null,null,null,0,2,null,{"$f":"IF(AD17=\"\",\"\",IF(I17=1,VLOOKUP(AD17,男子種目コード!$A$1:$B$29,2,FALSE),IF(I17=2,VLOOKUP(AD17,女子種目コード!$D$35:$E$61,2,FALSE))))","v":""},null,0,2,null,{"$f":"IF(AI17=\"\",\"\",IF(I17=1,VLOOKUP(AI17,男子種目コード!$A$1:$B$29,2,FALSE),IF(I17=2,VLOOKUP(AI17,女子種目コード!$D$35:$E$61,2,FALSE))))","v":""},null,0,2,null,null,null,"3000W",null,"走高跳",{"$f":"COUNTIF($P$7:$P$116,15)+COUNTIF($U$7:$U$116,15)","v":0},15,"ｵｰﾀﾞｰ",{"$f":"COUNTIF($AJ$7:$AJ$116,14)","v":0},null,null,null,null,null,null,null,null,null,null,"",0,0,0,0,"棒高跳","走幅跳",0,"",""]
[false,{"$f":"名簿!Q20","v":""},false,null,{"$f":"名簿!E20","v":0},{"$f":"名簿!BR20","v":""},{"$f":"名簿!Z20","v":""},"",{"$f":"名簿!O20","v":""},{"$f":"名簿!I20","v":0},{"$f":"名簿!K20","v":0},{"$f":"名簿!BU20","v":"00"},{"$f":"名簿!R20","v":""},{"$f":"名簿!D20","v":0},null,"",{"$f":"IF(O18=\"\",\"\",HLOOKUP(O18,名簿!$AB$8:$BI$118,13,FALSE))","v":""},0,2,null,"",{"$f":"IF(T18=\"\",\"\",HLOOKUP(T18,名簿!$AB$8:$BI$118,13,FALSE))","v":""},0,2,null,null,null,0,2,null,{"$f":"IF(AD18=\"\",\"\",IF(I18=1,VLOOKUP(AD18,男子種目コード!$A$1:$B$29,2,FALSE),IF(I18=2,VLOOKUP(AD18,女子種目コード!$D$35:$E$61,2,FALSE))))","v":""},null,0,2,null,{"$f":"IF(AI18=\"\",\"\",IF(I18=1,VLOOKUP(AI18,男子種目コード!$A$1:$B$29,2,FALSE),IF(I18=2,VLOOKUP(AI18,女子種目コード!$D$35:$E$61,2,FALSE))))","v":""},null,0,2,null,null,null,"5000W",null,"棒高跳",{"$f":"COUNTIF($P$7:$P$116,16)+COUNTIF($U$7:$U$116,16)","v":0},16,"選　手",{"$f":"IF(ISERROR(AY18),\"\",AY18)","v":""},"",{"$f":"VLookUpX(1,$C$7:$F$116,1,3)","v":{"$error":"#N/A"}},{"$f":"VLookUpX(1,$C$7:$F$116,1,4)","v":{"$error":"#N/A"}},null,null,null,null,null,null,null,"",0,0,0,0,"走幅跳","三段跳",0,"",""]
[false,{"$f":"名簿!Q21","v":""},false,null,{"$f":"名簿!E21","v":0},{"$f":"名簿!BR21","v":""},{"$f":"名簿!Z21","v":""},"",{"$f":"名簿!O21","v":""},{"$f":"名簿!I21","v":0},{"$f":"名簿!K21","v":0},{"$f":"名簿!BU21","v":"00"},{"$f":"名簿!R21","v":""},{"$f":"名簿!D21","v":0},null,"",{"$f":"IF(O19=\"\",\"\",HLOOKUP(O19,名簿!$AB$8:$BI$118,14,FALSE))","v":""},0,2,null,"",{"$f":"IF(T19=\"\",\"\",HLOOKUP(T19,名簿!$AB$8:$BI$118,14,FALSE))","v":""},0,2,null,null,null,0,2,null,{"$f":"IF(AD19=\"\",\"\",IF(I19=1,VLOOKUP(AD19,男子種目コード!$A$1:$B$29,2,FALSE),IF(I19=2,VLOOKUP(AD19,女子種目コード!$D$35:$E$61,2,FALSE))))","v":""},null,0,2,null,{"$f":"IF(AI19=\"\",\"\",IF(I19=1,VLOOKUP(AI19,男子種目コード!$A$1:$B$29,2,FALSE),IF(I19=2,VLOOKUP(AI19,女子種目コード!$D$35:$E$61,2,FALSE))))","v":""},null,0,2,null,null,null,"走高跳",null,"走幅跳",{"$f":"COUNTIF($P$7:$P$116,17)+COUNTIF($U$7:$U$116,17)","v":0},17,null,"","",{"$f":"VLookUpX(1,$C$7:$F$116,2,3)","v":{"$error":"#N/A"}},{"$f":"VLookUpX(1,$C$7:$F$116,2,4)","v":{"$error":"#N/A"}},null,null,null,null,null,null,null,"",0,0,0,0,"三段跳","砲丸投",0,"",""]
[false,{"$f":"名簿!Q22","v":""},false,null,{"$f":"名簿!E22","v":0},{"$f":"名簿!BR22","v":""},{"$f":"名簿!Z22","v":""},"",{"$f":"名簿!O22","v":""},{"$f":"名簿!I22","v":0},{"$f":"名簿!K22","v":0},{"$f":"名簿!BU22","v":"00"},{"$f":"名簿!R22","v":""},{"$f":"名簿!D22","v":0},null,"",{"$f":"IF(O20=\"\",\"\",HLOOKUP(O20,名簿!$AB$8:$BI$118,15,FALSE))","v":""},0,2,null,"",{"$f":"IF(T20=\"\",\"\",HLOOKUP(T20,名簿!$AB$8:$BI$118,15,FALSE))","v":""},0,2,null,null,null,0,2,null,{"$f":"IF(AD20=\"\",\"\",IF(I20=1,VLOOKUP(AD20,男子種目コード!$A$1:$B$29,2,FALSE),IF(I20=2,VLOOKUP(AD20,女子種目コード!$D$35:$E$61,2,FALSE))))","v":""},null,0,2,null,{"$f":"IF(AI20=\"\",\"\",IF(I20=1,VLOOKUP(AI20,男子種目コード!$A$1:$B$29,2,FALSE),IF(I20=2,VLOOKUP(AI20,女子種目コード!$D$35:$E$61,2,FALSE))))","v":""},null,0,2,null,null,null,"棒高跳",null,"三段跳",{"$f":"COUNTIF($P$7:$P$116,18)+COUNTIF($U$7:$U$116,18)","v":0},18,null,"","",{"$f":"VLookUpX(1,$C$7:$F$116,3,3)","v":{"$error":"#N/A"}},{"$f":"VLookUpX(1,$C$7:$F$116,3,4)","v":{"$error":"#N/A"}},null,null,null,null,null,null,null,"",0,0,0,0,"砲丸投","円盤投",0,"",""]
[false,{"$f":"名簿!Q23","v":""},false,null,{"$f":"名簿!E23","v":0},{"$f":"名簿!BR23","v":""},{"$f":"名簿!Z23","v":""},"",{"$f":"名簿!O23","v":""},{"$f":"名簿!I23","v":0},{"$f":"名簿!K23","v":0},{"$f":"名簿!BU23","v":"00"},{"$f":"名簿!R23","v":""},{"$f":"名簿!D23","v":0},null,"",{"$f":"IF(O21=\"\",\"\",HLOOKUP(O21,名簿!$AB$8:$BI$118,16,FALSE))","v":""},0,2,null,"",{"$f":"IF(T21=\"\",\"\",HLOOKUP(T21,名簿!$AB$8:$BI$118,16,FALSE))","v":""},0,2,null,null,null,0,2,null,{"$f":"IF(AD21=\"\",\"\",IF(I21=1,VLOOKUP(AD21,男子種目コード!$A$1:$B$29,2,FALSE),IF(I21=2,VLOOKUP(AD21,女子種目コード!$D$35:$E$61,2,FALSE))))","v":""},null,0,2,null,{"$f":"IF(AI21=\"\",\"\",IF(I21=1,VLOOKUP(AI21,男子種目コード!$A$1:$B$29,2,FALSE),IF(I21=2,VLOOKUP(AI21,女子種目コード!$D$35:$E$61,2,FALSE))))","v":""},null,0,2,null,null,null,"走幅跳",null,"砲丸投",{"$f":"COUNTIF($P$7:$P$116,19)+COUNTIF($U$7:$U$116,19)","v":0},19,null,"","",{"$f":"VLookUpX(1,$C$7:$F$116,4,3)","v":{"$error":"#N/A"}},{"$f":"VLookUpX(1,$C$7:$F$116,4,4)","v":{"$error":"#N/A"}},null,null,null,null,null,null,null,"",0,0,0,0,"円盤投","ハンマー投",0,"",""]
[false,{"$f":"名簿!Q24","v":""},false,null,{"$f":"名簿!E24","v":0},{"$f":"名簿!BR24","v":""},{"$f":"名簿!Z24","v":""},"",{"$f":"名簿!O24","v":""},{"$f":"名簿!I24","v":0},{"$f":"名簿!K24","v":0},{"$f":"名簿!BU24","v":"00"},{"$f":"名簿!R24","v":""},{"$f":"名簿!D24","v":0},null,"",{"$f":"IF(O22=\"\",\"\",HLOOKUP(O22,名簿!$AB$8:$BI$118,17,FALSE))","v":""},0,2,null,"",{"$f":"IF(T22=\"\",\"\",HLOOKUP(T22,名簿!$AB$8:$BI$118,17,FALSE))","v":""},0,2,null,null,null,0,2,null,{"$f":"IF(AD22=\"\",\"\",IF(I22=1,VLOOKUP(AD22,男子種目コード!$A$1:$B$29,2,FALSE),IF(I22=2,VLOOKUP(AD22,女子種目コード!$D$35:$E$61,2,FALSE))))","v":""},null,0,2,null,{"$f":"IF(AI22=\"\",\"\",IF(I22=1,VLOOKUP(AI22,男子種目コード!$A$1:$B$29,2,FALSE),IF(I22=2,VLOOKUP(AI22,女子種目コード!$D$35:$E$61,2,FALSE))))","v":""},null,0,2,null,null,null,"三段跳",null,"円盤投",{"$f":"COUNTIF($P$7:$P$116,20)+COUNTIF($U$7:$U$116,20)","v":0},20,null,"","",{"$f":"VLookUpX(1,$C$7:$F$116,5,3)","v":{"$error":"#N/A"}},{"$f":"VLookUpX(1,$C$7:$F$116,5,4)","v":{"$error":"#N/A"}},null,null,null,null,null,null,null,"",0,0,0,0,"ハンマー投","やり投",0,"",""]
[false,{"$f":"名簿!Q25","v":""},false,null,{"$f":"名簿!E25","v":0},{"$f":"名簿!BR25","v":""},{"$f":"名簿!Z25","v":""},"",{"$f":"名簿!O25","v":""},{"$f":"名簿!I25","v":0},{"$f":"名簿!K25","v":0},{"$f":"名簿!BU25","v":"00"},{"$f":"名簿!R25","v":""},{"$f":"名簿!D25","v":0},null,"",{"$f":"IF(O23=\"\",\"\",HLOOKUP(O23,名簿!$AB$8:$BI$118,18,FALSE))","v":""},0,2,null,"",{"$f":"IF(T23=\"\",\"\",HLOOKUP(T23,名簿!$AB$8:$BI$118,18,FALSE))","v":""},0,2,null,null,null,0,2,null,{"$f":"IF(AD23=\"\",\"\",IF(I23=1,VLOOKUP(AD23,男子種目コード!$A$1:$B$29,2,FALSE),IF(I23=2,VLOOKUP(AD23,女子種目コード!$D$35:$E$61,2,FALSE))))","v":""},null,0,2,null,{"$f":"IF(AI23=\"\",\"\",IF(I23=1,VLOOKUP(AI23,男子種目コード!$A$1:$B$29,2,FALSE),IF(I23=2,VLOOKUP(AI23,女子種目コード!$D$35:$E$61,2,FALSE))))","v":""},null,0,2,null,null,null,"砲丸投",null,"ハンマー投",{"$f":"COUNTIF($P$7:$P$116,21)+COUNTIF($U$7:$U$116,21)","v":0},21,null,"","",{"$f":"VLookUpX(1,$C$7:$F$116,6,3)","v":{"$error":"#N/A"}},{"$f":"VLookUpX(1,$C$7:$F$116,6,4)","v":{"$error":"#N/A"}},null,null,null,null,null,null,null,"",0,0,0,0,"やり投",null,0,"",""]
[false,{"$f":"名簿!Q26","v":""},false,null,{"$f":"名簿!E26","v":0},{"$f":"名簿!BR26","v":""},{"$f":"名簿!Z26","v":""},"",{"$f":"名簿!O26","v":""},{"$f":"名簿!I26","v":0},{"$f":"名簿!K26","v":0},{"$f":"名簿!BU26","v":"00"},{"$f":"名簿!R26","v":""},{"$f":"名簿!D26","v":0},null,"",{"$f":"IF(O24=\"\",\"\",HLOOKUP(O24,名簿!$AB$8:$BI$118,19,FALSE))","v":""},0,2,null,"",{"$f":"IF(T24=\"\",\"\",HLOOKUP(T24,名簿!$AB$8:$BI$118,19,FALSE))","v":""},0,2,null,null,null,0,2,null,{"$f":"IF(AD24=\"\",\"\",IF(I24=1,VLOOKUP(AD24,男子種目コード!$A$1:$B$29,2,FALSE),IF(I24=2,VLOOKUP(AD24,女子種目コード!$D$35:$E$61,2,FALSE))))","v":""},null,0,2,null,{"$f":"IF(AI24=\"\",\"\",IF(I24=1,VLOOKUP(AI24,男子種目コード!$A$1:$B$29,2,FALSE),IF(I24=2,VLOOKUP(AI24,女子種目コード!$D$35:$E$61,2,FALSE))))","v":""},null,0,2,null,null,null,"円盤投",null,"やり投",{"$f":"COUNTIF($P$7:$P$116,22)+COUNTIF($U$7:$U$116,22)","v":0},22,null,null,null,null,null,null,null,null,null,null,null,null,"",0,0,0,0,null,null,0,"",""]
[false,{"$f":"名簿!Q27","v":""},false,null,{"$f":"名簿!E27","v":0},{"$f":"名簿!BR27","v":""},{"$f":"名簿!Z27","v":""},"",{"$f":"名簿!O27","v":""},{"$f":"名簿!I27","v":0},{"$f":"名簿!K27","v":0},{"$f":"名簿!BU27","v":"00"},{"$f":"名簿!R27","v":""},{"$f":"名簿!D27","v":0},null,"",{"$f":"IF(O25=\"\",\"\",HLOOKUP(O25,名簿!$AB$8:$BI$118,20,FALSE))","v":""},0,2,null,"",{"$f":"IF(T25=\"\",\"\",HLOOKUP(T25,名簿!$AB$8:$BI$118,20,FALSE))","v":""},0,2,null,null,null,0,2,null,{"$f":"IF(AD25=\"\",\"\",IF(I25=1,VLOOKUP(AD25,男子種目コード!$A$1:$B$29,2,FALSE),IF(I25=2,VLOOKUP(AD25,女子種目コード!$D$35:$E$61,2,FALSE))))","v":""},null,0,2,null,{"$f":"IF(AI25=\"\",\"\",IF(I25=1,VLOOKUP(AI25,男子種目コード!$A$1:$B$29,2,FALSE),IF(I25=2,VLOOKUP(AI25,女子種目コード!$D$35:$E$61,2,FALSE))))","v":""},null,0,2,null,null,null,"ハンマー投",null,"計",{"$f":"SUM(AT7:AT24)","v":0},null,null,null,null,null,null,null,null,null,null,null,null,null,"",0,0,0,0,null,null,0,"",""]
[false,{"$f":"名簿!Q28","v":""},false,null,{"$f":"名簿!E28","v":0},{"$f":"名簿!BR28","v":""},{"$f":"名簿!Z28","v":""},"",{"$f":"名簿!O28","v":""},{"$f":"名簿!I28","v":0},{"$f":"名簿!K28","v":0},{"$f":"名簿!BU28","v":"00"},{"$f":"名簿!R28","v":""},{"$f":"名簿!D28","v":0},null,"",{"$f":"IF(O26=\"\",\"\",HLOOKUP(O26,名簿!$AB$8:$BI$118,21,FALSE))","v":""},0,2,null,"",{"$f":"IF(T26=\"\",\"\",HLOOKUP(T26,名簿!$AB$8:$BI$118,21,FALSE))","v":""},0,2,null,null,null,0,2,null,{"$f":"IF(AD26=\"\",\"\",IF(I26=1,VLOOKUP(AD26,男子種目コード!$A$1:$B$29,2,FALSE),IF(I26=2,VLOOKUP(AD26,女子種目コード!$D$35:$E$61,2,FALSE))))","v":""},null,0,2,null,{"$f":"IF(AI26=\"\",\"\",IF(I26=1,VLOOKUP(AI26,男子種目コード!$A$1:$B$29,2,FALSE),IF(I26=2,VLOOKUP(AI26,女子種目コード!$D$35:$E$61,2,FALSE))))","v":""},null,0,2,null,null,null,"やり投",null,"100m",{"$f":"COUNTIF($P$7:$P$116,40)+COUNTIF($U$7:$U$116,40)","v":0},40,"種目","400R",null,null,null,null,null,null,null,null,null,null,"",0,0,0,0,null,null,0,"",""]
[false,{"$f":"名簿!Q29","v":""},false,null,{"$f":"名簿!E29","v":0},{"$f":"名簿!BR29","v":""},{"$f":"名簿!Z29","v":""},"",{"$f":"名簿!O29","v":""},{"$f":"名簿!I29","v":0},{"$f":"名簿!K29","v":0},{"$f":"名簿!BU29","v":"00"},{"$f":"名簿!R29","v":""},{"$f":"名簿!D29","v":0},null,"",{"$f":"IF(O27=\"\",\"\",HLOOKUP(O27,名簿!$AB$8:$BI$118,22,FALSE))","v":""},0,2,null,"",{"$f":"IF(T27=\"\",\"\",HLOOKUP(T27,名簿!$AB$8:$BI$118,22,FALSE))","v":""},0,2,null,null,null,0,2,null,{"$f":"IF(AD27=\"\",\"\",IF(I27=1,VLOOKUP(AD27,男子種目コード!$A$1:$B$29,2,FALSE),IF(I27=2,VLOOKUP(AD27,女子種目コード!$D$35:$E$61,2,FALSE))))","v":""},null,0,2,null,{"$f":"IF(AI27=\"\",\"\",IF(I27=1,VLOOKUP(AI27,男子種目コード!$A$1:$B$29,2,FALSE),IF(I27=2,VLOOKUP(AI27,女子種目コード!$D$35:$E$61,2,FALSE))))","v":""},null,0,2,null,null,null,"4×100",null,"200m",{"$f":"COUNTIF($P$7:$P$116,41)+COUNTIF($U$7:$U$116,41)","v":0},41,"記録",null,null,null,null,null,null,null,null,null,null,null,"",0,0,0,0,null,null,0,"",""]
[false,{"$f":"名簿!Q30","v":""},false,null,{"$f":"名簿!E30","v":0},{"$f":"名簿!BR30","v":""},{"$f":"名簿!Z30","v":""},"",{"$f":"名簿!O30","v":""},{"$f":"名簿!I30","v":0},{"$f":"名簿!K30","v":0},{"$f":"名簿!BU30","v":"00"},{"$f":"名簿!R30","v":""},{"$f":"名簿!D30","v":0},null,"",{"$f":"IF(O28=\"\",\"\",HLOOKUP(O28,名簿!$AB$8:$BI$118,23,FALSE))","v":""},0,2,null,"",{"$f":"IF(T28=\"\",\"\",HLOOKUP(T28,名簿!$AB$8:$BI$118,23,FALSE))","v":""},0,2,null,null,null,0,2,null,{"$f":"IF(AD28=\"\",\"\",IF(I28=1,VLOOKUP(AD28,男子種目コード!$A$1:$B$29,2,FALSE),IF(I28=2,VLOOKUP(AD28,女子種目コード!$D$35:$E$61,2,FALSE))))","v":""},null,0,2,null,{"$f":"IF(AI28=\"\",\"\",IF(I28=1,VLOOKUP(AI28,男子種目コード!$A$1:$B$29,2,FALSE),IF(I28=2,VLOOKUP(AI28,女子種目コード!$D$35:$E$61,2,FALSE))))","v":""},null,0,2,null,null,null,"4×400",null,"400m",{"$f":"COUNTIF($P$7:$P$116,42)+COUNTIF($U$7:$U$116,42)","v":0},42,"ｵｰﾀﾞｰ",{"$f":"COUNTIF($AE$7:$AE$116,53)","v":0},null,null,null,null,null,null,null,null,null,null,"",0,0,0,0,null,null,0,"",""]
[false,{"$f":"名簿!Q31","v":""},false,null,{"$f":"名簿!E31","v":0},{"$f":"名簿!BR31","v":""},{"$f":"名簿!Z31","v":""},"",{"$f":"名簿!O31","v":""},{"$f":"名簿!I31","v":0},{"$f":"名簿!K31","v":0},{"$f":"名簿!BU31","v":"00"},{"$f":"名簿!R31","v":""},{"$f":"名簿!D31","v":0},null,"",{"$f":"IF(O29=\"\",\"\",HLOOKUP(O29,名簿!$AB$8:$BI$118,24,FALSE))","v":""},0,2,null,"",{"$f":"IF(T29=\"\",\"\",HLOOKUP(T29,名簿!$AB$8:$BI$118,24,FALSE))","v":""},0,2,null,null,null,0,2,null,{"$f":"IF(AD29=\"\",\"\",IF(I29=1,VLOOKUP(AD29,男子種目コード!$A$1:$B$29,2,FALSE),IF(I29=2,VLOOKUP(AD29,女子種目コード!$D$35:$E$61,2,FALSE))))","v":""},null,0,2,null,{"$f":"IF(AI29=\"\",\"\",IF(I29=1,VLOOKUP(AI29,男子種目コード!$A$1:$B$29,2,FALSE),IF(I29=2,VLOOKUP(AI29,女子種目コード!$D$35:$E$61,2,FALSE))))","v":""},null,0,2,null,null,null,null,null,"800m",{"$f":"COUNTIF($P$7:$P$116,43)+COUNTIF($U$7:$U$116,43)","v":0},43,"選　手",{"$f":"IF(ISERROR(AY29),\"\",AY29)","v":""},"",{"$f":"VLookUpX(2,$A$7:$F$116,1,5)","v":{"$error":"#N/A"}},{"$f":"VLookUpX(2,$A$7:$F$116,1,6)","v":{"$error":"#N/A"}},null,null,null,null,null,null,null,"",0,0,0,0,null,null,0,"",""]
[false,{"$f":"名簿!Q32","v":""},false,null,{"$f":"名簿!E32","v":0},{"$f":"名簿!BR32","v":""},{"$f":"名簿!Z32","v":""},"",{"$f":"名簿!O32","v":""},{"$f":"名簿!I32","v":0},{"$f":"名簿!K32","v":0},{"$f":"名簿!BU32","v":"00"},{"$f":"名簿!R32","v":""},{"$f":"名簿!D32","v":0},null,"",{"$f":"IF(O30=\"\",\"\",HLOOKUP(O30,名簿!$AB$8:$BI$118,25,FALSE))","v":""},0,2,null,"",{"$f":"IF(T30=\"\",\"\",HLOOKUP(T30,名簿!$AB$8:$BI$118,25,FALSE))","v":""},0,2,null,null,null,0,2,null,{"$f":"IF(AD30=\"\",\"\",IF(I30=1,VLOOKUP(AD30,男子種目コード!$A$1:$B$29,2,FALSE),IF(I30=2,VLOOKUP(AD30,女子種目コード!$D$35:$E$61,2,FALSE))))","v":""},null,0,2,null,{"$f":"IF(AI30=\"\",\"\",IF(I30=1,VLOOKUP(AI30,男子種目コード!$A$1:$B$29,2,FALSE),IF(I30=2,VLOOKUP(AI30,女子種目コード!$D$35:$E$61,2,FALSE))))","v":""},null,0,2,null,null,null,null,null,"1500m",{"$f":"COUNTIF($P$7:$P$116,44)+COUNTIF($U$7:$U$116,44)","v":0},44,null,"","",{"$f":"VLookUpX(2,$A$7:$F$116,2,5)","v":{"$error":"#N/A"}},{"$f":"VLookUpX(2,$A$7:$F$116,2,6)","v":{"$error":"#N/A"}},null,null,null,null,null,null,null,"",0,0,0,0,null,null,0,"",""]
[false,{"$f":"名簿!Q33","v":""},false,null,{"$f":"名簿!E33","v":0},{"$f":"名簿!BR33","v":""},{"$f":"名簿!Z33","v":""},"",{"$f":"名簿!O33","v":""},{"$f":"名簿!I33","v":0},{"$f":"名簿!K33","v":0},{"$f":"名簿!BU33","v":"00"},{"$f":"名簿!R33","v":""},{"$f":"名簿!D33","v":0},null,"",{"$f":"IF(O31=\"\",\"\",HLOOKUP(O31,名簿!$AB$8:$BI$118,26,FALSE))","v":""},0,2,null,"",{"$f":"IF(T31=\"\",\"\",HLOOKUP(T31,名簿!$AB$8:$BI$118,26,FALSE))","v":""},0,2,null,null,null,0,2,null,{"$f":"IF(AD31=\"\",\"\",IF(I31=1,VLOOKUP(AD31,男子種目コード!$A$1:$B$29,2,FALSE),IF(I31=2,VLOOKUP(AD31,女子種目コード!$D$35:$E$61,2,FALSE))))","v":""},null,0,2,null,{"$f":"IF(AI31=\"\",\"\",IF(I31=1,VLOOKUP(AI31,男子種目コード!$A$1:$B$29,2,FALSE),IF(I31=2,VLOOKUP(AI31,女子種目コード!$D$35:$E$61,2,FALSE))))","v":""},null,0,2,null,null,null,null,null,"3000m",{"$f":"COUNTIF($P$7:$P$116,45)+COUNTIF($U$7:$U$116,45)","v":0},45,null,"","",{"$f":"VLookUpX(2,$A$7:$F$116,3,5)","v":{"$error":"#N/A"}},{"$f":"VLookUpX(2,$A$7:$F$116,3,6)","v":{"$error":"#N/A"}},null,null,null,null,null,null,null,"",0,0,0,0,null,null,0,"",""]
[false,{"$f":"名簿!Q34","v":""},false,null,{"$f":"名簿!E34","v":0},{"$f":"名簿!BR34","v":""},{"$f":"名簿!Z34","v":""},"",{"$f":"名簿!O34","v":""},{"$f":"名簿!I34","v":0},{"$f":"名簿!K34","v":0},{"$f":"名簿!BU34","v":"00"},{"$f":"名簿!R34","v":""},{"$f":"名簿!D34","v":0},null,"",{"$f":"IF(O32=\"\",\"\",HLOOKUP(O32,名簿!$AB$8:$BI$118,27,FALSE))","v":""},0,2,null,"",{"$f":"IF(T32=\"\",\"\",HLOOKUP(T32,名簿!$AB$8:$BI$118,27,FALSE))","v":""},0,2,null,null,null,0,2,null,{"$f":"IF(AD32=\"\",\"\",IF(I32=1,VLOOKUP(AD32,男子種目コード!$A$1:$B$29,2,FALSE),IF(I32=2,VLOOKUP(AD32,女子種目コード!$D$35:$E$61,2,FALSE))))","v":""},null,0,2,null,{"$f":"IF(AI32=\"\",\"\",IF(I32=1,VLOOKUP(AI32,男子種目コード!$A$1:$B$29,2,FALSE),IF(I32=2,VLOOKUP(AI32,女子種目コード!$D$35:$E$61,2,FALSE))))","v":""},null,0,2,null,null,null,null,null,"100mH",{"$f":"COUNTIF($P$7:$P$116,48)+COUNTIF($U$7:$U$116,48)","v":0},48,null,"","",{"$f":"VLookUpX(2,$A$7:$F$116,4,5)","v":{"$error":"#N/A"}},{"$f":"VLookUpX(2,$A$7:$F$116,4,6)","v":{"$error":"#N/A"}},null,null,null,null,null,null,null,"",0,0,0,0,null,null,0,"",""]
[false,{"$f":"名簿!Q35","v":""},false,null,{"$f":"名簿!E35","v":0},{"$f":"名簿!BR35","v":""},{"$f":"名簿!Z35","v":""},"",{"$f":"名簿!O35","v":""},{"$f":"名簿!I35","v":0},{"$f":"名簿!K35","v":0},{"$f":"名簿!BU35","v":"00"},{"$f":"名簿!R35","v":""},{"$f":"名簿!D35","v":0},null,"",{"$f":"IF(O33=\"\",\"\",HLOOKUP(O33,名簿!$AB$8:$BI$118,28,FALSE))","v":""},0,2,null,"",{"$f":"IF(T33=\"\",\"\",HLOOKUP(T33,名簿!$AB$8:$BI$118,28,FALSE))","v":""},0,2,null,null,null,0,2,null,{"$f":"IF(AD33=\"\",\"\",IF(I33=1,VLOOKUP(AD33,男子種目コード!$A$1:$B$29,2,FALSE),IF(I33=2,VLOOKUP(AD33,女子種目コード!$D$35:$E$61,2,FALSE))))","v":""},null,0,2,null,{"$f":"IF(AI33=\"\",\"\",IF(I33=1,VLOOKUP(AI33,男子種目コード!$A$1:$B$29,2,FALSE),IF(I33=2,VLOOKUP(AI33,女子種目コード!$D$35:$E$61,2,FALSE))))","v":""},null,0,2,null,null,null,null,null,"400mH",{"$f":"COUNTIF($P$7:$P$116,49)+COUNTIF($U$7:$U$116,49)","v":0},49,null,"","",{"$f":"VLookUpX(2,$A$7:$F$116,5,5)","v":{"$error":"#N/A"}},{"$f":"VLookUpX(2,$A$7:$F$116,5,6)","v":{"$error":"#N/A"}},null,null,null,null,null,null,null,"",0,0,0,0,null,null,0,"",""]
[false,{"$f":"名簿!Q36","v":""},false,null,{"$f":"名簿!E36","v":0},{"$f":"名簿!BR36","v":""},{"$f":"名簿!Z36","v":""},"",{"$f":"名簿!O36","v":""},{"$f":"名簿!I36","v":0},{"$f":"名簿!K36","v":0},{"$f":"名簿!BU36","v":"00"},{"$f":"名簿!R36","v":""},{"$f":"名簿!D36","v":0},null,"",{"$f":"IF(O34=\"\",\"\",HLOOKUP(O34,名簿!$AB$8:$BI$118,29,FALSE))","v":""},0,2,null,"",{"$f":"IF(T34=\"\",\"\",HLOOKUP(T34,名簿!$AB$8:$BI$118,29,FALSE))","v":""},0,2,null,null,null,0,2,null,{"$f":"IF(AD34=\"\",\"\",IF(I34=1,VLOOKUP(AD34,男子種目コード!$A$1:$B$29,2,FALSE),IF(I34=2,VLOOKUP(AD34,女子種目コード!$D$35:$E$61,2,FALSE))))","v":""},null,0,2,null,{"$f":"IF(AI34=\"\",\"\",IF(I34=1,VLOOKUP(AI34,男子種目コード!$A$1:$B$29,2,FALSE),IF(I34=2,VLOOKUP(AI34,女子種目コード!$D$35:$E$61,2,FALSE))))","v":""},null,0,2,null,null,null,null,null,"5000mW",{"$f":"COUNTIF($P$7:$P$116,51)+COUNTIF($U$7:$U$116,51)","v":0},51,null,"","",{"$f":"VLookUpX(2,$A$7:$F$116,6,5)","v":{"$error":"#N/A"}},{"$f":"VLookUpX(2,$A$7:$F$116,6,6)","v":{"$error":"#N/A"}},null,null,null,null,null,null,null,"",0,0,0,0,null,null,0,"",""]
[false,{"$f":"名簿!Q37","v":""},false,null,{"$f":"名簿!E37","v":0},{"$f":"名簿!BR37","v":""},{"$f":"名簿!Z37","v":""},"",{"$f":"名簿!O37","v":""},{"$f":"名簿!I37","v":0},{"$f":"名簿!K37","v":0},{"$f":"名簿!BU37","v":"00"},{"$f":"名簿!R37","v":""},{"$f":"名簿!D37","v":0},null,"",{"$f":"IF(O35=\"\",\"\",HLOOKUP(O35,名簿!$AB$8:$BI$118,30,FALSE))","v":""},0,2,null,"",{"$f":"IF(T35=\"\",\"\",HLOOKUP(T35,名簿!$AB$8:$BI$118,30,FALSE))","v":""},0,2,null,null,null,0,2,null,{"$f":"IF(AD35=\"\",\"\",IF(I35=1,VLOOKUP(AD35,男子種目コード!$A$1:$B$29,2,FALSE),IF(I35=2,VLOOKUP(AD35,女子種目コード!$D$35:$E$61,2,FALSE))))","v":""},null,0,2,null,{"$f":"IF(AI35=\"\",\"\",IF(I35=1,VLOOKUP(AI35,男子種目コード!$A$1:$B$29,2,FALSE),IF(I35=2,VLOOKUP(AI35,女子種目コード!$D$35:$E$61,2,FALSE))))","v":""},null,0,2,null,null,null,null,null,"走高跳",{"$f":"COUNTIF($P$7:$P$116,55)+COUNTIF($U$7:$U$116,55)","v":0},55,"種目","1600R",null,null,null,null,null,null,null,null,null,null,"",0,0,0,0,null,null,0,"",""]
[false,{"$f":"名簿!Q38","v":""},false,null,{"$f":"名簿!E38","v":0},{"$f":"名簿!BR38","v":""},{"$f":"名簿!Z38","v":""},"",{"$f":"名簿!O38","v":""},{"$f":"名簿!I38","v":0},{"$f":"名簿!K38","v":0},{"$f":"名簿!BU38","v":"00"},{"$f":"名簿!R38","v":""},{"$f":"名簿!D38","v":0},null,"",{"$f":"IF(O36=\"\",\"\",HLOOKUP(O36,名簿!$AB$8:$BI$118,31,FALSE))","v":""},0,2,null,"",{"$f":"IF(T36=\"\",\"\",HLOOKUP(T36,名簿!$AB$8:$BI$118,31,FALSE))","v":""},0,2,null,null,null,0,2,null,{"$f":"IF(AD36=\"\",\"\",IF(I36=1,VLOOKUP(AD36,男子種目コード!$A$1:$B$29,2,FALSE),IF(I36=2,VLOOKUP(AD36,女子種目コード!$D$35:$E$61,2,FALSE))))","v":""},null,0,2,null,{"$f":"IF(AI36=\"\",\"\",IF(I36=1,VLOOKUP(AI36,男子種目コード!$A$1:$B$29,2,FALSE),IF(I36=2,VLOOKUP(AI36,女子種目コード!$D$35:$E$61,2,FALSE))))","v":""},null,0,2,null,null,null,null,null,"棒高跳",{"$f":"COUNTIF($P$7:$P$116,56)+COUNTIF($U$7:$U$116,56)","v":0},56,"記録",null,null,null,null,null,null,null,null,null,null,null,"",0,0,0,0,null,null,0,"",""]
[false,{"$f":"名簿!Q39","v":""},false,null,{"$f":"名簿!E39","v":0},{"$f":"名簿!BR39","v":""},{"$f":"名簿!Z39","v":""},"",{"$f":"名簿!O39","v":""},{"$f":"名簿!I39","v":0},{"$f":"名簿!K39","v":0},{"$f":"名簿!BU39","v":"00"},{"$f":"名簿!R39","v":""},{"$f":"名簿!D39","v":0},null,"",{"$f":"IF(O37=\"\",\"\",HLOOKUP(O37,名簿!$AB$8:$BI$118,32,FALSE))","v":""},0,2,null,"",{"$f":"IF(T37=\"\",\"\",HLOOKUP(T37,名簿!$AB$8:$BI$118,32,FALSE))","v":""},0,2,null,null,null,0,2,null,{"$f":"IF(AD37=\"\",\"\",IF(I37=1,VLOOKUP(AD37,男子種目コード!$A$1:$B$29,2,FALSE),IF(I37=2,VLOOKUP(AD37,女子種目コード!$D$35:$E$61,2,FALSE))))","v":""},null,0,2,null,{"$f":"IF(AI37=\"\",\"\",IF(I37=1,VLOOKUP(AI37,男子種目コード!$A$1:$B$29,2,FALSE),IF(I37=2,VLOOKUP(AI37,女子種目コード!$D$35:$E$61,2,FALSE))))","v":""},null,0,2,null,null,null,null,null,"走幅跳",{"$f":"COUNTIF($P$7:$P$116,57)+COUNTIF($U$7:$U$116,57)","v":0},57,"ｵｰﾀﾞｰ",{"$f":"COUNTIF($AJ$7:$AJ$116,54)","v":0},null,null,null,null,null,null,null,null,null,null,"",0,0,0,0,null,null,0,"",""]
[false,{"$f":"名簿!Q40","v":""},false,null,{"$f":"名簿!E40","v":0},{"$f":"名簿!BR40","v":""},{"$f":"名簿!Z40","v":""},"",{"$f":"名簿!O40","v":""},{"$f":"名簿!I40","v":0},{"$f":"名簿!K40","v":0},{"$f":"名簿!BU40","v":"00"},{"$f":"名簿!R40","v":""},{"$f":"名簿!D40","v":0},null,"",{"$f":"IF(O38=\"\",\"\",HLOOKUP(O38,名簿!$AB$8:$BI$118,33,FALSE))","v":""},0,2,null,"",{"$f":"IF(T38=\"\",\"\",HLOOKUP(T38,名簿!$AB$8:$BI$118,33,FALSE))","v":""},0,2,null,null,null,0,2,null,{"$f":"IF(AD38=\"\",\"\",IF(I38=1,VLOOKUP(AD38,男子種目コード!$A$1:$B$29,2,FALSE),IF(I38=2,VLOOKUP(AD38,女子種目コード!$D$35:$E$61,2,FALSE))))","v":""},null,0,2,null,{"$f":"IF(AI38=\"\",\"\",IF(I38=1,VLOOKUP(AI38,男子種目コード!$A$1:$B$29,2,FALSE),IF(I38=2,VLOOKUP(AI38,女子種目コード!$D$35:$E$61,2,FALSE))))","v":""},null,0,2,null,null,null,null,null,"三段跳",{"$f":"COUNTIF($P$7:$P$116,58)+COUNTIF($U$7:$U$116,58)","v":0},58,"選　手",{"$f":"IF(ISERROR(AY38),\"\",AY38)","v":""},"",{"$f":"VLookUpX(2,$C$7:$F$116,1,3)","v":{"$error":"#N/A"}},{"$f":"VLookUpX(2,$C$7:$F$116,1,4)","v":{"$error":"#N/A"}},null,null,null,null,null,null,null,"",0,0,0,0,null,null,0,"",""]
[false,{"$f":"名簿!Q41","v":""},false,null,{"$f":"名簿!E41","v":0},{"$f":"名簿!BR41","v":""},{"$f":"名簿!Z41","v":""},{"$f":"F39","v":""},{"$f":"名簿!O41","v":""},{"$f":"名簿!I41","v":0},{"$f":"名簿!K41","v":0},{"$f":"名簿!BU41","v":"00"},{"$f":"名簿!R41","v":""},{"$f":"名簿!D41","v":0},null,"",{"$f":"IF(O39=\"\",\"\",HLOOKUP(O39,名簿!$AB$8:$BI$118,34,FALSE))","v":""},0,2,null,"",{"$f":"IF(T39=\"\",\"\",HLOOKUP(T39,名簿!$AB$8:$BI$118,34,FALSE))","v":""},0,2,null,null,null,0,2,null,{"$f":"IF(AD39=\"\",\"\",IF(I39=1,VLOOKUP(AD39,男子種目コード!$A$1:$B$29,2,FALSE),IF(I39=2,VLOOKUP(AD39,女子種目コード!$D$35:$E$61,2,FALSE))))","v":""},null,0,2,null,{"$f":"IF(AI39=\"\",\"\",IF(I39=1,VLOOKUP(AI39,男子種目コード!$A$1:$B$29,2,FALSE),IF(I39=2,VLOOKUP(AI39,女子種目コード!$D$35:$E$61,2,FALSE))))","v":""},null,0,2,null,null,null,null,null,"砲丸投",{"$f":"COUNTIF($P$7:$P$116,59)+COUNTIF($U$7:$U$116,59)","v":0},59,null,"","",{"$f":"VLookUpX(2,$C$7:$F$116,2,3)","v":{"$error":"#N/A"}},{"$f":"VLookUpX(2,$C$7:$F$116,2,4)","v":{"$error":"#N/A"}},null,null,null,null,null,null,null,"",{"$f":"IF(OR(BH39=1,T39=\"\"),0,1)","v":0},{"$f":"IF(OR(BH39=1,BI39=1,AD39=\"\"),0,1)","v":0},{"$f":"IF(OR(BH39=1,BI39=1,BJ39=1,AI39=\"\"),0,1)","v":0},0,null,null,{"$f":"COUNT(P39,U39,AE39,AJ39)","v":0},{"$f":"IF(I39=1,BO39,\"\")","v":""},{"$f":"IF(I39=2,BO39,\"\")","v":""}]
[false,{"$f":"名簿!Q42","v":""},false,null,{"$f":"名簿!E42","v":0},{"$f":"名簿!BR42","v":""},{"$f":"名簿!Z42","v":""},"",{"$f":"名簿!O42","v":""},{"$f":"名簿!I42","v":0},{"$f":"名簿!K42","v":0},{"$f":"名簿!BU42","v":"00"},{"$f":"名簿!R42","v":""},{"$f":"名簿!D42","v":0},null,"",{"$f":"IF(O40=\"\",\"\",HLOOKUP(O40,名簿!$AB$8:$BI$118,35,FALSE))","v":""},0,2,null,"",{"$f":"IF(T40=\"\",\"\",HLOOKUP(T40,名簿!$AB$8:$BI$118,35,FALSE))","v":""},0,2,null,null,null,0,2,null,{"$f":"IF(AD40=\"\",\"\",IF(I40=1,VLOOKUP(AD40,男子種目コード!$A$1:$B$29,2,FALSE),IF(I40=2,VLOOKUP(AD40,女子種目コード!$D$35:$E$61,2,FALSE))))","v":""},null,0,2,null,{"$f":"IF(AI40=\"\",\"\",IF(I40=1,VLOOKUP(AI40,男子種目コード!$A$1:$B$29,2,FALSE),IF(I40=2,VLOOKUP(AI40,女子種目コード!$D$35:$E$61,2,FALSE))))","v":""},null,0,2,null,null,null,null,null,"円盤投",{"$f":"COUNTIF($P$7:$P$116,60)+COUNTIF($U$7:$U$116,60)","v":0},60,null,"","",{"$f":"VLookUpX(2,$C$7:$F$116,3,3)","v":{"$error":"#N/A"}},{"$f":"VLookUpX(2,$C$7:$F$116,3,4)","v":{"$error":"#N/A"}},null,null,null,null,null,null,null,"",0,0,0,0,null,null,0,"",""]
[false,{"$f":"名簿!Q43","v":""},false,null,{"$f":"名簿!E43","v":0},{"$f":"名簿!BR43","v":""},{"$f":"名簿!Z43","v":""},"",{"$f":"名簿!O43","v":""},{"$f":"名簿!I43","v":0},{"$f":"名簿!K43","v":0},{"$f":"名簿!BU43","v":"00"},{"$f":"名簿!R43","v":""},{"$f":"名簿!D43","v":0},null,"",{"$f":"IF(O41=\"\",\"\",HLOOKUP(O41,名簿!$AB$8:$BI$118,36,FALSE))","v":""},0,2,null,"",{"$f":"IF(T41=\"\",\"\",HLOOKUP(T41,名簿!$AB$8:$BI$118,36,FALSE))","v":""},0,2,null,null,null,0,2,null,{"$f":"IF(AD41=\"\",\"\",IF(I41=1,VLOOKUP(AD41,男子種目コード!$A$1:$B$29,2,FALSE),IF(I41=2,VLOOKUP(AD41,女子種目コード!$D$35:$E$61,2,FALSE))))","v":""},null,0,2,null,{"$f":"IF(AI41=\"\",\"\",IF(I41=1,VLOOKUP(AI41,男子種目コード!$A$1:$B$29,2,FALSE),IF(I41=2,VLOOKUP(AI41,女子種目コード!$D$35:$E$61,2,FALSE))))","v":""},null,0,2,null,null,null,null,null,"ハンマー投",{"$f":"COUNTIF($P$7:$P$116,61)+COUNTIF($U$7:$U$116,61)","v":0},61,null,"","",{"$f":"VLookUpX(2,$C$7:$F$116,4,3)","v":{"$error":"#N/A"}},{"$f":"VLookUpX(2,$C$7:$F$116,4,4)","v":{"$error":"#N/A"}},null,null,null,null,null,null,null,"",0,0,0,0,null,null,0,"",""]
[false,{"$f":"名簿!Q44","v":""},false,null,{"$f":"名簿!E44","v":0},{"$f":"名簿!BR44","v":""},{"$f":"名簿!Z44","v":""},"",{"$f":"名簿!O44","v":""},{"$f":"名簿!I44","v":0},{"$f":"名簿!K44","v":0},{"$f":"名簿!BU44","v":"00"},{"$f":"名簿!R44","v":""},{"$f":"名簿!D44","v":0},null,"",{"$f":"IF(O42=\"\",\"\",HLOOKUP(O42,名簿!$AB$8:$BI$118,37,FALSE))","v":""},0,2,null,"",{"$f":"IF(T42=\"\",\"\",HLOOKUP(T42,名簿!$AB$8:$BI$118,37,FALSE))","v":""},0,2,null,null,null,0,2,null,{"$f":"IF(AD42=\"\",\"\",IF(I42=1,VLOOKUP(AD42,男子種目コード!$A$1:$B$29,2,FALSE),IF(I42=2,VLOOKUP(AD42,女子種目コード!$D$35:$E$61,2,FALSE))))","v":""},null,0,2,null,{"$f":"IF(AI42=\"\",\"\",IF(I42=1,VLOOKUP(AI42,男子種目コード!$A$1:$B$29,2,FALSE),IF(I42=2,VLOOKUP(AI42,女子種目コード!$D$35:$E$61,2,FALSE))))","v":""},null,0,2,null,null,null,null,null,"やり投",{"$f":"COUNTIF($P$7:$P$116,62)+COUNTIF($U$7:$U$116,62)","v":0},62,null,"","",{"$f":"VLookUpX(2,$C$7:$F$116,5,3)","v":{"$error":"#N/A"}},{"$f":"VLookUpX(2,$C$7:$F$116,5,4)","v":{"$error":"#N/A"}},null,null,null,null,null,null,null,"",0,0,0,0,null,null,0,"",""]
[false,{"$f":"名簿!Q45","v":""},false,null,{"$f":"名簿!E45","v":0},{"$f":"名簿!BR45","v":""},{"$f":"名簿!Z45","v":""},"",{"$f":"名簿!O45","v":""},{"$f":"名簿!I45","v":0},{"$f":"名簿!K45","v":0},{"$f":"名簿!BU45","v":"00"},{"$f":"名簿!R45","v":""},{"$f":"名簿!D45","v":0},null,"",{"$f":"IF(O43=\"\",\"\",HLOOKUP(O43,名簿!$AB$8:$BI$118,38,FALSE))","v":""},0,2,null,"",{"$f":"IF(T43=\"\",\"\",HLOOKUP(T43,名簿!$AB$8:$BI$118,38,FALSE))","v":""},0,2,null,null,null,0,2,null,{"$f":"IF(AD43=\"\",\"\",IF(I43=1,VLOOKUP(AD43,男子種目コード!$A$1:$B$29,2,FALSE),IF(I43=2,VLOOKUP(AD43,女子種目コード!$D$35:$E$61,2,FALSE))))","v":""},null,0,2,null,{"$f":"IF(AI43=\"\",\"\",IF(I43=1,VLOOKUP(AI43,男子種目コード!$A$1:$B$29,2,FALSE),IF(I43=2,VLOOKUP(AI43,女子種目コード!$D$35:$E$61,2,FALSE))))","v":""},null,0,2,null,null,null,null,null,"計",{"$f":"SUM(AT26:AT42)","v":0},null,null,"","",{"$f":"VLookUpX(2,$C$7:$F$116,6,3)","v":{"$error":"#N/A"}},{"$f":"VLookUpX(2,$C$7:$F$116,6,4)","v":{"$error":"#N/A"}},null,null,null,null,null,null,null,"",0,0,0,0,null,null,0,"",""]
[false,{"$f":"名簿!Q46","v":""},false,null,{"$f":"名簿!E46","v":0},{"$f":"名簿!BR46","v":""},{"$f":"名簿!Z46","v":""},"",{"$f":"名簿!O46","v":""},{"$f":"名簿!I46","v":0},{"$f":"名簿!K46","v":0},{"$f":"名簿!BU46","v":"00"},{"$f":"名簿!R46","v":""},{"$f":"名簿!D46","v":0},null,"",{"$f":"IF(O44=\"\",\"\",HLOOKUP(O44,名簿!$AB$8:$BI$118,39,FALSE))","v":""},0,2,null,"",{"$f":"IF(T44=\"\",\"\",HLOOKUP(T44,名簿!$AB$8:$BI$118,39,FALSE))","v":""},0,2,null,null,null,0,2,null,{"$f":"IF(AD44=\"\",\"\",IF(I44=1,VLOOKUP(AD44,男子種目コード!$A$1:$B$29,2,FALSE),IF(I44=2,VLOOKUP(AD44,女子種目コード!$D$35:$E$61,2,FALSE))))","v":""},null,0,2,null,{"$f":"IF(AI44=\"\",\"\",IF(I44=1,VLOOKUP(AI44,男子種目コード!$A$1:$B$29,2,FALSE),IF(I44=2,VLOOKUP(AI44,女子種目コード!$D$35:$E$61,2,FALSE))))","v":""},null,0,2,null,null,null,null,null,"赤は制限オーバー",null,null,null,null,null,null,null,null,null,null,null,null,null,null,"",0,0,0,0,null,null,0,"",""]
[false,{"$f":"名簿!Q47","v":""},false,null,{"$f":"名簿!E47","v":0},{"$f":"名簿!BR47","v":""},{"$f":"名簿!Z47","v":""},"",{"$f":"名簿!O47","v":""},{"$f":"名簿!I47","v":0},{"$f":"名簿!K47","v":0},{"$f":"名簿!BU47","v":"00"},{"$f":"名簿!R47","v":""},{"$f":"名簿!D47","v":0},null,"",{"$f":"IF(O45=\"\",\"\",HLOOKUP(O45,名簿!$AB$8:$BI$118,40,FALSE))","v":""},0,2,null,"",{"$f":"IF(T45=\"\",\"\",HLOOKUP(T45,名簿!$AB$8:$BI$118,40,FALSE))","v":""},0,2,null,null,null,0,2,null,{"$f":"IF(AD45=\"\",\"\",IF(I45=1,VLOOKUP(AD45,男子種目コード!$A$1:$B$29,2,FALSE),IF(I45=2,VLOOKUP(AD45,女子種目コード!$D$35:$E$61,2,FALSE))))","v":""},null,0,2,null,{"$f":"IF(AI45=\"\",\"\",IF(I45=1,VLOOKUP(AI45,男子種目コード!$A$1:$B$29,2,FALSE),IF(I45=2,VLOOKUP(AI45,女子種目コード!$D$35:$E$61,2,FALSE))))","v":""},null,0,2,null,null,null,null,null,null,{"$f":"COUNTIF($AE$7:$AE$116,13)","v":0},null,null,null,null,null,null,null,null,null,null,null,null,null,"",0,0,0,0,null,null,0,"",""]
[false,{"$f":"名簿!Q48","v":""},false,null,{"$f":"名簿!E48","v":0},{"$f":"名簿!BR48","v":""},{"$f":"名簿!Z48","v":""},"",{"$f":"名簿!O48","v":""},{"$f":"名簿!I48","v":0},{"$f":"名簿!K48","v":0},{"$f":"名簿!BU48","v":"00"},{"$f":"名簿!R48","v":""},{"$f":"名簿!D48","v":0},null,"",{"$f":"IF(O46=\"\",\"\",HLOOKUP(O46,名簿!$AB$8:$BI$118,41,FALSE))","v":""},0,2,null,"",{"$f":"IF(T46=\"\",\"\",HLOOKUP(T46,名簿!$AB$8:$BI$118,41,FALSE))","v":""},0,2,null,null,null,0,2,null,{"$f":"IF(AD46=\"\",\"\",IF(I46=1,VLOOKUP(AD46,男子種目コード!$A$1:$B$29,2,FALSE),IF(I46=2,VLOOKUP(AD46,女子種目コード!$D$35:$E$61,2,FALSE))))","v":""},null,0,2,null,{"$f":"IF(AI46=\"\",\"\",IF(I46=1,VLOOKUP(AI46,男子種目コード!$A$1:$B$29,2,FALSE),IF(I46=2,VLOOKUP(AI46,女子種目コード!$D$35:$E$61,2,FALSE))))","v":""},null,0,2,null,null,null,null,null,null,{"$f":"COUNTIF($AE$7:$AE$116,53)","v":0},null,null,null,null,null,null,null,null,null,null,null,null,null,"",0,0,0,0,null,null,0,"",""]
[false,{"$f":"名簿!Q49","v":""},false,null,{"$f":"名簿!E49","v":0},{"$f":"名簿!BR49","v":""},{"$f":"名簿!Z49","v":""},"",{"$f":"名簿!O49","v":""},{"$f":"名簿!I49","v":0},{"$f":"名簿!K49","v":0},{"$f":"名簿!BU49","v":"00"},{"$f":"名簿!R49","v":""},{"$f":"名簿!D49","v":0},null,"",{"$f":"IF(O47=\"\",\"\",HLOOKUP(O47,名簿!$AB$8:$BI$118,42,FALSE))","v":""},0,2,null,"",{"$f":"IF(T47=\"\",\"\",HLOOKUP(T47,名簿!$AB$8:$BI$118,42,FALSE))","v":""},0,2,null,null,null,0,2,null,{"$f":"IF(AD47=\"\",\"\",IF(I47=1,VLOOKUP(AD47,男子種目コード!$A$1:$B$29,2,FALSE),IF(I47=2,VLOOKUP(AD47,女子種目コード!$D$35:$E$61,2,FALSE))))","v":""},null,0,2,null,{"$f":"IF(AI47=\"\",\"\",IF(I47=1,VLOOKUP(AI47,男子種目コード!$A$1:$B$29,2,FALSE),IF(I47=2,VLOOKUP(AI47,女子種目コード!$D$35:$E$61,2,FALSE))))","v":""},null,0,2,null,null,null,null,null,null,{"$f":"COUNTIF($AJ$7:$AJ$116,14)","v":0},null,null,null,null,null,null,null,null,null,null,null,null,null,"",0,0,0,0,null,null,0,"",""]
[false,{"$f":"名簿!Q50","v":""},false,null,{"$f":"名簿!E50","v":0},{"$f":"名簿!BR50","v":""},{"$f":"名簿!Z50","v":""},"",{"$f":"名簿!O50","v":""},{"$f":"名簿!I50","v":0},{"$f":"名簿!K50","v":0},{"$f":"名簿!BU50","v":"00"},{"$f":"名簿!R50","v":""},{"$f":"名簿!D50","v":0},null,"",{"$f":"IF(O48=\"\",\"\",HLOOKUP(O48,名簿!$AB$8:$BI$118,43,FALSE))","v":""},0,2,null,"",{"$f":"IF(T48=\"\",\"\",HLOOKUP(T48,名簿!$AB$8:$BI$118,43,FALSE))","v":""},0,2,null,null,null,0,2,null,{"$f":"IF(AD48=\"\",\"\",IF(I48=1,VLOOKUP(AD48,男子種目コード!$A$1:$B$29,2,FALSE),IF(I48=2,VLOOKUP(AD48,女子種目コード!$D$35:$E$61,2,FALSE))))","v":""},null,0,2,null,{"$f":"IF(AI48=\"\",\"\",IF(I48=1,VLOOKUP(AI48,男子種目コード!$A$1:$B$29,2,FALSE),IF(I48=2,VLOOKUP(AI48,女子種目コード!$D$35:$E$61,2,FALSE))))","v":""},null,0,2,null,null,null,null,null,null,{"$f":"COUNTIF($AJ$7:$AJ$116,54)","v":0},null,null,null,null,null,null,null,null,null,null,null,null,null,"",0,0,0,0,null,null,0,"",""]
[false,{"$f":"名簿!Q51","v":""},false,null,{"$f":"名簿!E51","v":0},{"$f":"名簿!BR51","v":""},{"$f":"名簿!Z51","v":""},"",{"$f":"名簿!O51","v":""},{"$f":"名簿!I51","v":0},{"$f":"名簿!K51","v":0},{"$f":"名簿!BU51","v":"00"},{"$f":"名簿!R51","v":""},{"$f":"名簿!D51","v":0},null,"",{"$f":"IF(O49=\"\",\"\",HLOOKUP(O49,名簿!$AB$8:$BI$118,44,FALSE))","v":""},0,2,null,"",{"$f":"IF(T49=\"\",\"\",HLOOKUP(T49,名簿!$AB$8:$BI$118,44,FALSE))","v":""},0,2,null,null,null,0,2,null,{"$f":"IF(AD49=\"\",\"\",IF(I49=1,VLOOKUP(AD49,男子種目コード!$A$1:$B$29,2,FALSE),IF(I49=2,VLOOKUP(AD49,女子種目コード!$D$35:$E$61,2,FALSE))))","v":""},null,0,2,null,{"$f":"IF(AI49=\"\",\"\",IF(I49=1,VLOOKUP(AI49,男子種目コード!$A$1:$B$29,2,FALSE),IF(I49=2,VLOOKUP(AI49,女子種目コード!$D$35:$E$61,2,FALSE))))","v":""},null,0,2,null,null,null,null,null,null,{"$f":"COUNTIF(AT45:AT48,0)","v":4},null,null,null,null,null,null,null,null,null,null,null,null,null,"",0,0,0,0,null,null,0,"",""]
[false,{"$f":"名簿!Q52","v":""},false,null,{"$f":"名簿!E52","v":0},{"$f":"名簿!BR52","v":""},{"$f":"名簿!Z52","v":""},"",{"$f":"名簿!O52","v":""},{"$f":"名簿!I52","v":0},{"$f":"名簿!K52","v":0},{"$f":"名簿!BU52","v":"00"},{"$f":"名簿!R52","v":""},{"$f":"名簿!D52","v":0},null,"",{"$f":"IF(O50=\"\",\"\",HLOOKUP(O50,名簿!$AB$8:$BI$118,45,FALSE))","v":""},0,2,null,"",{"$f":"IF(T50=\"\",\"\",HLOOKUP(T50,名簿!$AB$8:$BI$118,45,FALSE))","v":""},0,2,null,null,null,0,2,null,{"$f":"IF(AD50=\"\",\"\",IF(I50=1,VLOOKUP(AD50,男子種目コード!$A$1:$B$29,2,FALSE),IF(I50=2,VLOOKUP(AD50,女子種目コード!$D$35:$E$61,2,FALSE))))","v":""},null,0,2,null,{"$f":"IF(AI50=\"\",\"\",IF(I50=1,VLOOKUP(AI50,男子種目コード!$A$1:$B$29,2,FALSE),IF(I50=2,VLOOKUP(AI50,女子種目コード!$D$35:$E$61,2,FALSE))))","v":""},null,0,2,null,null,null,null,null,null,{"$f":"4-AT49","v":0},null,null,null,null,null,null,null,null,null,null,null,null,null,"",0,0,0,0,null,null,0,"",""]
[false,{"$f":"名簿!Q53","v":""},false,null,{"$f":"名簿!E53","v":0},{"$f":"名簿!BR53","v":""},{"$f":"名簿!Z53","v":""},"",{"$f":"名簿!O53","v":""},{"$f":"名簿!I53","v":0},{"$f":"名簿!K53","v":0},{"$f":"名簿!BU53","v":"00"},{"$f":"名簿!R53","v":""},{"$f":"名簿!D53","v":0},null,"",{"$f":"IF(O51=\"\",\"\",HLOOKUP(O51,名簿!$AB$8:$BI$118,46,FALSE))","v":""},0,2,null,"",{"$f":"IF(T51=\"\",\"\",HLOOKUP(T51,名簿!$AB$8:$BI$118,46,FALSE))","v":""},0,2,null,null,null,0,2,null,{"$f":"IF(AD51=\"\",\"\",IF(I51=1,VLOOKUP(AD51,男子種目コード!$A$1:$B$29,2,FALSE),IF(I51=2,VLOOKUP(AD51,女子種目コード!$D$35:$E$61,2,FALSE))))","v":""},null,0,2,null,{"$f":"IF(AI51=\"\",\"\",IF(I51=1,VLOOKUP(AI51,男子種目コード!$A$1:$B$29,2,FALSE),IF(I51=2,VLOOKUP(AI51,女子種目コード!$D$35:$E$61,2,FALSE))))","v":""},null,0,2,null,null,null,null,null,null,null,null,null,null,null,null,null,null,null,null,null,null,null,null,"",0,0,0,0,null,null,0,"",""]
[false,{"$f":"名簿!Q54","v":""},false,null,{"$f":"名簿!E54","v":0},{"$f":"名簿!BR54","v":""},{"$f":"名簿!Z54","v":""},"",{"$f":"名簿!O54","v":""},{"$f":"名簿!I54","v":0},{"$f":"名簿!K54","v":0},{"$f":"名簿!BU54","v":"00"},{"$f":"名簿!R54","v":""},{"$f":"名簿!D54","v":0},null,"",{"$f":"IF(O52=\"\",\"\",HLOOKUP(O52,名簿!$AB$8:$BI$118,47,FALSE))","v":""},0,2,null,"",{"$f":"IF(T52=\"\",\"\",HLOOKUP(T52,名簿!$AB$8:$BI$118,47,FALSE))","v":""},0,2,null,null,null,0,2,null,{"$f":"IF(AD52=\"\",\"\",IF(I52=1,VLOOKUP(AD52,男子種目コード!$A$1:$B$29,2,FALSE),IF(I52=2,VLOOKUP(AD52,女子種目コード!$D$35:$E$61,2,FALSE))))","v":""},null,0,2,null,{"$f":"IF(AI52=\"\",\"\",IF(I52=1,VLOOKUP(AI52,男子種目コード!$A$1:$B$29,2,FALSE),IF(I52=2,VLOOKUP(AI52,女子種目コード!$D$35:$E$61,2,FALSE))))","v":""},null,0,2,null,null,null,null,null,null,null,null,null,null,null,null,null,null,null,null,null,null,null,null,"",0,0,0,0,null,null,0,"",""]
[false,{"$f":"名簿!Q55","v":""},false,null,{"$f":"名簿!E55","v":0},{"$f":"名簿!BR55","v":""},{"$f":"名簿!Z55","v":""},"",{"$f":"名簿!O55","v":""},{"$f":"名簿!I55","v":0},{"$f":"名簿!K55","v":0},{"$f":"名簿!BU55","v":"00"},{"$f":"名簿!R55","v":""},{"$f":"名簿!D55","v":0},null,"",{"$f":"IF(O53=\"\",\"\",HLOOKUP(O53,名簿!$AB$8:$BI$118,48,FALSE))","v":""},0,2,null,"",{"$f":"IF(T53=\"\",\"\",HLOOKUP(T53,名簿!$AB$8:$BI$118,48,FALSE))","v":""},0,2,null,null,null,0,2,null,{"$f":"IF(AD53=\"\",\"\",IF(I53=1,VLOOKUP(AD53,男子種目コード!$A$1:$B$29,2,FALSE),IF(I53=2,VLOOKUP(AD53,女子種目コード!$D$35:$E$61,2,FALSE))))","v":""},null,0,2,null,{"$f":"IF(AI53=\"\",\"\",IF(I53=1,VLOOKUP(AI53,男子種目コード!$A$1:$B$29,2,FALSE),IF(I53=2,VLOOKUP(AI53,女子種目コード!$D$35:$E$61,2,FALSE))))","v":""},null,0,2,null,null,null,null,null,null,null,null,null,null,null,null,null,null,null,null,null,null,null,null,"",0,0,0,0,null,null,0,"",""]
[false,{"$f":"名簿!Q56","v":""},false,null,{"$f":"名簿!E56","v":0},{"$f":"名簿!BR56","v":""},{"$f":"名簿!Z56","v":""},"",{"$f":"名簿!O56","v":""},{"$f":"名簿!I56","v":0},{"$f":"名簿!K56","v":0},{"$f":"名簿!BU56","v":"00"},{"$f":"名簿!R56","v":""},{"$f":"名簿!D56","v":0},null,"",{"$f":"IF(O54=\"\",\"\",HLOOKUP(O54,名簿!$AB$8:$BI$118,49,FALSE))","v":""},0,2,null,"",{"$f":"IF(T54=\"\",\"\",HLOOKUP(T54,名簿!$AB$8:$BI$118,49,FALSE))","v":""},0,2,null,null,null,0,2,null,{"$f":"IF(AD54=\"\",\"\",IF(I54=1,VLOOKUP(AD54,男子種目コード!$A$1:$B$29,2,FALSE),IF(I54=2,VLOOKUP(AD54,女子種目コード!$D$35:$E$61,2,FALSE))))","v":""},null,0,2,null,{"$f":"IF(AI54=\"\",\"\",IF(I54=1,VLOOKUP(AI54,男子種目コード!$A$1:$B$29,2,FALSE),IF(I54=2,VLOOKUP(AI54,女子種目コード!$D$35:$E$61,2,FALSE))))","v":""},null,0,2,null,null,null,null,null,null,null,null,null,null,null,null,null,null,null,null,null,null,null,null,"",0,0,0,0,null,null,0,"",""]
[false,{"$f":"名簿!Q57","v":""},false,null,{"$f":"名簿!E57","v":0},{"$f":"名簿!BR57","v":""},{"$f":"名簿!Z57","v":""},"",{"$f":"名簿!O57","v":""},{"$f":"名簿!I57","v":0},{"$f":"名簿!K57","v":0},{"$f":"名簿!BU57","v":"00"},{"$f":"名簿!R57","v":""},{"$f":"名簿!D57","v":0},null,"",{"$f":"IF(O55=\"\",\"\",HLOOKUP(O55,名簿!$AB$8:$BI$118,50,FALSE))","v":""},0,2,null,"",{"$f":"IF(T55=\"\",\"\",HLOOKUP(T55,名簿!$AB$8:$BI$118,50,FALSE))","v":""},0,2,null,null,null,0,2,null,{"$f":"IF(AD55=\"\",\"\",IF(I55=1,VLOOKUP(AD55,男子種目コード!$A$1:$B$29,2,FALSE),IF(I55=2,VLOOKUP(AD55,女子種目コード!$D$35:$E$61,2,FALSE))))","v":""},null,0,2,null,{"$f":"IF(AI55=\"\",\"\",IF(I55=1,VLOOKUP(AI55,男子種目コード!$A$1:$B$29,2,FALSE),IF(I55=2,VLOOKUP(AI55,女子種目コード!$D$35:$E$61,2,FALSE))))","v":""},null,0,2,null,null,null,null,null,null,null,null,null,null,null,null,null,null,null,null,null,null,null,null,"",0,0,0,0,null,null,0,"",""]
[false,{"$f":"名簿!Q58","v":""},false,null,{"$f":"名簿!E58","v":0},{"$f":"名簿!BR58","v":""},{"$f":"名簿!Z58","v":""},"",{"$f":"名簿!O58","v":""},{"$f":"名簿!I58","v":0},{"$f":"名簿!K58","v":0},{"$f":"名簿!BU58","v":"00"},{"$f":"名簿!R58","v":""},{"$f":"名簿!D58","v":0},null,"",{"$f":"IF(O56=\"\",\"\",HLOOKUP(O56,名簿!$AB$8:$BI$118,51,FALSE))","v":""},0,2,null,"",{"$f":"IF(T56=\"\",\"\",HLOOKUP(T56,名簿!$AB$8:$BI$118,51,FALSE))","v":""},0,2,null,null,null,0,2,null,{"$f":"IF(AD56=\"\",\"\",IF(I56=1,VLOOKUP(AD56,男子種目コード!$A$1:$B$29,2,FALSE),IF(I56=2,VLOOKUP(AD56,女子種目コード!$D$35:$E$61,2,FALSE))))","v":""},null,0,2,null,{"$f":"IF(AI56=\"\",\"\",IF(I56=1,VLOOKUP(AI56,男子種目コード!$A$1:$B$29,2,FALSE),IF(I56=2,VLOOKUP(AI56,女子種目コード!$D$35:$E$61,2,FALSE))))","v":""},null,0,2,null,null,null,null,null,null,null,null,null,null,null,null,null,null,null,null,null,null,null,null,"",0,0,0,0,null,null,0,"",""]
[false,{"$f":"名簿!Q59","v":""},false,null,{"$f":"名簿!E59","v":0},{"$f":"名簿!BR59","v":""},{"$f":"名簿!Z59","v":""},"",{"$f":"名簿!O59","v":""},{"$f":"名簿!I59","v":0},{"$f":"名簿!K59","v":0},{"$f":"名簿!BU59","v":"00"},{"$f":"名簿!R59","v":""},{"$f":"名簿!D59","v":0},null,"",{"$f":"IF(O57=\"\",\"\",HLOOKUP(O57,名簿!$AB$8:$BI$118,52,FALSE))","v":""},0,2,null,"",{"$f":"IF(T57=\"\",\"\",HLOOKUP(T57,名簿!$AB$8:$BI$118,52,FALSE))","v":""},0,2,null,null,null,0,2,null,{"$f":"IF(AD57=\"\",\"\",IF(I57=1,VLOOKUP(AD57,男子種目コード!$A$1:$B$29,2,FALSE),IF(I57=2,VLOOKUP(AD57,女子種目コード!$D$35:$E$61,2,FALSE))))","v":""},null,0,2,null,{"$f":"IF(AI57=\"\",\"\",IF(I57=1,VLOOKUP(AI57,男子種目コード!$A$1:$B$29,2,FALSE),IF(I57=2,VLOOKUP(AI57,女子種目コード!$D$35:$E$61,2,FALSE))))","v":""},null,0,2,null,null,null,null,null,null,null,null,null,null,null,null,null,null,null,null,null,null,null,null,"",0,0,0,0,null,null,0,"",""]
[false,{"$f":"名簿!Q60","v":""},false,null,{"$f":"名簿!E60","v":0},{"$f":"名簿!BR60","v":""},{"$f":"名簿!Z60","v":""},"",{"$f":"名簿!O60","v":""},{"$f":"名簿!I60","v":0},{"$f":"名簿!K60","v":0},{"$f":"名簿!BU60","v":"00"},{"$f":"名簿!R60","v":""},{"$f":"名簿!D60","v":0},null,"",{"$f":"IF(O58=\"\",\"\",HLOOKUP(O58,名簿!$AB$8:$BI$118,53,FALSE))","v":""},0,2,null,"",{"$f":"IF(T58=\"\",\"\",HLOOKUP(T58,名簿!$AB$8:$BI$118,53,FALSE))","v":""},0,2,null,null,null,0,2,null,{"$f":"IF(AD58=\"\",\"\",IF(I58=1,VLOOKUP(AD58,男子種目コード!$A$1:$B$29,2,FALSE),IF(I58=2,VLOOKUP(AD58,女子種目コード!$D$35:$E$61,2,FALSE))))","v":""},null,0,2,null,{"$f":"IF(AI58=\"\",\"\",IF(I58=1,VLOOKUP(AI58,男子種目コード!$A$1:$B$29,2,FALSE),IF(I58=2,VLOOKUP(AI58,女子種目コード!$D$35:$E$61,2,FALSE))))","v":""},null,0,2,null,null,null,null,null,null,null,null,null,null,null,null,null,null,null,null,null,null,null,null,"",0,0,0,0,null,null,0,"",""]
[false,{"$f":"名簿!Q61","v":""},false,null,{"$f":"名簿!E61","v":0},{"$f":"名簿!BR61","v":""},{"$f":"名簿!Z61","v":""},"",{"$f":"名簿!O61","v":""},{"$f":"名簿!I61","v":0},{"$f":"名簿!K61","v":0},{"$f":"名簿!BU61","v":"00"},{"$f":"名簿!R61","v":""},{"$f":"名簿!D61","v":0},null,"",{"$f":"IF(O59=\"\",\"\",HLOOKUP(O59,名簿!$AB$8:$BI$118,54,FALSE))","v":""},0,2,null,"",{"$f":"IF(T59=\"\",\"\",HLOOKUP(T59,名簿!$AB$8:$BI$118,54,FALSE))","v":""},0,2,null,null,null,0,2,null,{"$f":"IF(AD59=\"\",\"\",IF(I59=1,VLOOKUP(AD59,男子種目コード!$A$1:$B$29,2,FALSE),IF(I59=2,VLOOKUP(AD59,女子種目コード!$D$35:$E$61,2,FALSE))))","v":""},null,0,2,null,{"$f":"IF(AI59=\"\",\"\",IF(I59=1,VLOOKUP(AI59,男子種目コード!$A$1:$B$29,2,FALSE),IF(I59=2,VLOOKUP(AI59,女子種目コード!$D$35:$E$61,2,FALSE))))","v":""},null,0,2,null,null,null,null,null,null,null,null,null,null,null,null,null,null,null,null,null,null,null,null,"",0,0,0,0,null,null,0,"",""]
[false,{"$f":"名簿!Q62","v":""},false,null,{"$f":"名簿!E62","v":0},{"$f":"名簿!BR62","v":""},{"$f":"名簿!Z62","v":""},"",{"$f":"名簿!O62","v":""},{"$f":"名簿!I62","v":0},{"$f":"名簿!K62","v":0},{"$f":"名簿!BU62","v":"00"},{"$f":"名簿!R62","v":""},{"$f":"名簿!D62","v":0},null,"",{"$f":"IF(O60=\"\",\"\",HLOOKUP(O60,名簿!$AB$8:$BI$118,55,FALSE))","v":""},0,2,null,"",{"$f":"IF(T60=\"\",\"\",HLOOKUP(T60,名簿!$AB$8:$BI$118,55,FALSE))","v":""},0,2,null,null,null,0,2,null,{"$f":"IF(AD60=\"\",\"\",IF(I60=1,VLOOKUP(AD60,男子種目コード!$A$1:$B$29,2,FALSE),IF(I60=2,VLOOKUP(AD60,女子種目コード!$D$35:$E$61,2,FALSE))))","v":""},null,0,2,null,{"$f":"IF(AI60=\"\",\"\",IF(I60=1,VLOOKUP(AI60,男子種目コード!$A$1:$B$29,2,FALSE),IF(I60=2,VLOOKUP(AI60,女子種目コード!$D$35:$E$61,2,FALSE))))","v":""},null,0,2,null,null,null,null,null,null,null,null,null,null,null,null,null,null,null,null,null,null,null,null,"",0,0,0,0,null,null,0,"",""]
[false,{"$f":"名簿!Q63","v":""},false,null,{"$f":"名簿!E63","v":0},{"$f":"名簿!BR63","v":""},{"$f":"名簿!Z63","v":""},"",{"$f":"名簿!O63","v":""},{"$f":"名簿!I63","v":0},{"$f":"名簿!K63","v":0},{"$f":"名簿!BU63","v":"00"},{"$f":"名簿!R63","v":""},{"$f":"名簿!D63","v":0},null,"",{"$f":"IF(O61=\"\",\"\",HLOOKUP(O61,名簿!$AB$8:$BI$118,56,FALSE))","v":""},0,2,null,"",{"$f":"IF(T61=\"\",\"\",HLOOKUP(T61,名簿!$AB$8:$BI$118,56,FALSE))","v":""},0,2,null,null,null,0,2,null,{"$f":"IF(AD61=\"\",\"\",IF(I61=1,VLOOKUP(AD61,男子種目コード!$A$1:$B$29,2,FALSE),IF(I61=2,VLOOKUP(AD61,女子種目コード!$D$35:$E$61,2,FALSE))))","v":""},null,0,2,null,{"$f":"IF(AI61=\"\",\"\",IF(I61=1,VLOOKUP(AI61,男子種目コード!$A$1:$B$29,2,FALSE),IF(I61=2,VLOOKUP(AI61,女子種目コード!$D$35:$E$61,2,FALSE))))","v":""},null,0,2,null,null,null,null,null,null,null,null,null,null,null,null,null,null,null,null,null,null,null,null,"",0,0,0,0,null,null,0,"",""]
[false,{"$f":"名簿!Q64","v":""},false,null,{"$f":"名簿!E64","v":0},{"$f":"名簿!BR64","v":""},{"$f":"名簿!Z64","v":""},"",{"$f":"名簿!O64","v":""},{"$f":"名簿!I64","v":0},{"$f":"名簿!K64","v":0},{"$f":"名簿!BU64","v":"00"},{"$f":"名簿!R64","v":""},{"$f":"名簿!D64","v":0},null,"",{"$f":"IF(O62=\"\",\"\",HLOOKUP(O62,名簿!$AB$8:$BI$118,57,FALSE))","v":""},0,2,null,"",{"$f":"IF(T62=\"\",\"\",HLOOKUP(T62,名簿!$AB$8:$BI$118,57,FALSE))","v":""},0,2,null,null,null,0,2,null,{"$f":"IF(AD62=\"\",\"\",IF(I62=1,VLOOKUP(AD62,男子種目コード!$A$1:$B$29,2,FALSE),IF(I62=2,VLOOKUP(AD62,女子種目コード!$D$35:$E$61,2,FALSE))))","v":""},null,0,2,null,{"$f":"IF(AI62=\"\",\"\",IF(I62=1,VLOOKUP(AI62,男子種目コード!$A$1:$B$29,2,FALSE),IF(I62=2,VLOOKUP(AI62,女子種目コード!$D$35:$E$61,2,FALSE))))","v":""},null,0,2,null,null,null,null,null,null,null,null,null,null,null,null,null,null,null,null,null,null,null,null,"",0,0,0,0,null,null,0,"",""]
[false,{"$f":"名簿!Q65","v":""},false,null,{"$f":"名簿!E65","v":0},{"$f":"名簿!BR65","v":""},{"$f":"名簿!Z65","v":""},"",{"$f":"名簿!O65","v":""},{"$f":"名簿!I65","v":0},{"$f":"名簿!K65","v":0},{"$f":"名簿!BU65","v":"00"},{"$f":"名簿!R65","v":""},{"$f":"名簿!D65","v":0},null,"",{"$f":"IF(O63=\"\",\"\",HLOOKUP(O63,名簿!$AB$8:$BI$118,58,FALSE))","v":""},0,2,null,"",{"$f":"IF(T63=\"\",\"\",HLOOKUP(T63,名簿!$AB$8:$BI$118,58,FALSE))","v":""},0,2,null,null,null,0,2,null,{"$f":"IF(AD63=\"\",\"\",IF(I63=1,VLOOKUP(AD63,男子種目コード!$A$1:$B$29,2,FALSE),IF(I63=2,VLOOKUP(AD63,女子種目コード!$D$35:$E$61,2,FALSE))))","v":""},null,0,2,null,{"$f":"IF(AI63=\"\",\"\",IF(I63=1,VLOOKUP(AI63,男子種目コード!$A$1:$B$29,2,FALSE),IF(I63=2,VLOOKUP(AI63,女子種目コード!$D$35:$E$61,2,FALSE))))","v":""},null,0,2,null,null,null,null,null,null,null,null,null,null,null,null,null,null,null,null,null,null,null,null,"",0,0,0,0,null,null,0,"",""]
[false,{"$f":"名簿!Q66","v":""},false,null,{"$f":"名簿!E66","v":0},{"$f":"名簿!BR66","v":""},{"$f":"名簿!Z66","v":""},"",{"$f":"名簿!O66","v":""},{"$f":"名簿!I66","v":0},{"$f":"名簿!K66","v":0},{"$f":"名簿!BU66","v":"00"},{"$f":"名簿!R66","v":""},{"$f":"名簿!D66","v":0},null,"",{"$f":"IF(O64=\"\",\"\",HLOOKUP(O64,名簿!$AB$8:$BI$118,59,FALSE))","v":""},0,2,null,"",{"$f":"IF(T64=\"\",\"\",HLOOKUP(T64,名簿!$AB$8:$BI$118,59,FALSE))","v":""},0,2,null,null,null,0,2,null,{"$f":"IF(AD64=\"\",\"\",IF(I64=1,VLOOKUP(AD64,男子種目コード!$A$1:$B$29,2,FALSE),IF(I64=2,VLOOKUP(AD64,女子種目コード!$D$35:$E$61,2,FALSE))))","v":""},null,0,2,null,{"$f":"IF(AI64=\"\",\"\",IF(I64=1,VLOOKUP(AI64,男子種目コード!$A$1:$B$29,2,FALSE),IF(I64=2,VLOOKUP(AI64,女子種目コード!$D$35:$E$61,2,FALSE))))","v":""},null,0,2,null,null,null,null,null,null,null,null,null,null,null,null,null,null,null,null,null,null,null,null,"",0,0,0,0,null,null,0,"",""]
[false,{"$f":"名簿!Q67","v":""},false,null,{"$f":"名簿!E67","v":0},{"$f":"名簿!BR67","v":""},{"$f":"名簿!Z67","v":""},"",{"$f":"名簿!O67","v":""},{"$f":"名簿!I67","v":0},{"$f":"名簿!K67","v":0},{"$f":"名簿!BU67","v":"00"},{"$f":"名簿!R67","v":""},{"$f":"名簿!D67","v":0},null,"",{"$f":"IF(O65=\"\",\"\",HLOOKUP(O65,名簿!$AB$8:$BI$118,60,FALSE))","v":""},0,2,null,"",{"$f":"IF(T65=\"\",\"\",HLOOKUP(T65,名簿!$AB$8:$BI$118,60,FALSE))","v":""},0,2,null,null,null,0,2,null,{"$f":"IF(AD65=\"\",\"\",IF(I65=1,VLOOKUP(AD65,男子種目コード!$A$1:$B$29,2,FALSE),IF(I65=2,VLOOKUP(AD65,女子種目コード!$D$35:$E$61,2,FALSE))))","v":""},null,0,2,null,{"$f":"IF(AI65=\"\",\"\",IF(I65=1,VLOOKUP(AI65,男子種目コード!$A$1:$B$29,2,FALSE),IF(I65=2,VLOOKUP(AI65,女子種目コード!$D$35:$E$61,2,FALSE))))","v":""},null,0,2,null,null,null,null,null,null,null,null,null,null,null,null,null,null,null,null,null,null,null,null,"",0,0,0,0,null,null,0,"",""]
[false,{"$f":"名簿!Q68","v":""},false,null,{"$f":"名簿!E68","v":0},{"$f":"名簿!BR68","v":""},{"$f":"名簿!Z68","v":""},"",{"$f":"名簿!O68","v":""},{"$f":"名簿!I68","v":0},{"$f":"名簿!K68","v":0},{"$f":"名簿!BU68","v":"00"},{"$f":"名簿!R68","v":""},{"$f":"名簿!D68","v":0},null,"",{"$f":"IF(O66=\"\",\"\",HLOOKUP(O66,名簿!$AB$8:$BI$118,61,FALSE))","v":""},0,2,null,"",{"$f":"IF(T66=\"\",\"\",HLOOKUP(T66,名簿!$AB$8:$BI$118,61,FALSE))","v":""},0,2,null,null,null,0,2,null,{"$f":"IF(AD66=\"\",\"\",IF(I66=1,VLOOKUP(AD66,男子種目コード!$A$1:$B$29,2,FALSE),IF(I66=2,VLOOKUP(AD66,女子種目コード!$D$35:$E$61,2,FALSE))))","v":""},null,0,2,null,{"$f":"IF(AI66=\"\",\"\",IF(I66=1,VLOOKUP(AI66,男子種目コード!$A$1:$B$29,2,FALSE),IF(I66=2,VLOOKUP(AI66,女子種目コード!$D$35:$E$61,2,FALSE))))","v":""},null,0,2,null,null,null,null,null,null,null,null,null,null,null,null,null,null,null,null,null,null,null,null,"",0,0,0,0,null,null,0,"",""]
[false,{"$f":"名簿!Q69","v":""},false,null,{"$f":"名簿!E69","v":0},{"$f":"名簿!BR69","v":""},{"$f":"名簿!Z69","v":""},"",{"$f":"名簿!O69","v":""},{"$f":"名簿!I69","v":0},{"$f":"名簿!K69","v":0},{"$f":"名簿!BU69","v":"00"},{"$f":"名簿!R69","v":""},{"$f":"名簿!D69","v":0},null,"",{"$f":"IF(O67=\"\",\"\",HLOOKUP(O67,名簿!$AB$8:$BI$118,62,FALSE))","v":""},0,2,null,"",{"$f":"IF(T67=\"\",\"\",HLOOKUP(T67,名簿!$AB$8:$BI$118,62,FALSE))","v":""},0,2,null,null,null,0,2,null,{"$f":"IF(AD67=\"\",\"\",IF(I67=1,VLOOKUP(AD67,男子種目コード!$A$1:$B$29,2,FALSE),IF(I67=2,VLOOKUP(AD67,女子種目コード!$D$35:$E$61,2,FALSE))))","v":""},null,0,2,null,{"$f":"IF(AI67=\"\",\"\",IF(I67=1,VLOOKUP(AI67,男子種目コード!$A$1:$B$29,2,FALSE),IF(I67=2,VLOOKUP(AI67,女子種目コード!$D$35:$E$61,2,FALSE))))","v":""},null,0,2,null,null,null,null,null,null,null,null,null,null,null,null,null,null,null,null,null,null,null,null,"",0,0,0,0,null,null,0,"",""]
[false,{"$f":"名簿!Q70","v":""},false,null,{"$f":"名簿!E70","v":0},{"$f":"名簿!BR70","v":""},{"$f":"名簿!Z70","v":""},"",{"$f":"名簿!O70","v":""},{"$f":"名簿!I70","v":0},{"$f":"名簿!K70","v":0},{"$f":"名簿!BU70","v":"00"},{"$f":"名簿!R70","v":""},{"$f":"名簿!D70","v":0},null,"",{"$f":"IF(O68=\"\",\"\",HLOOKUP(O68,名簿!$AB$8:$BI$118,63,FALSE))","v":""},0,2,null,"",{"$f":"IF(T68=\"\",\"\",HLOOKUP(T68,名簿!$AB$8:$BI$118,63,FALSE))","v":""},0,2,null,null,null,0,2,null,{"$f":"IF(AD68=\"\",\"\",IF(I68=1,VLOOKUP(AD68,男子種目コード!$A$1:$B$29,2,FALSE),IF(I68=2,VLOOKUP(AD68,女子種目コード!$D$35:$E$61,2,FALSE))))","v":""},null,0,2,null,{"$f":"IF(AI68=\"\",\"\",IF(I68=1,VLOOKUP(AI68,男子種目コード!$A$1:$B$29,2,FALSE),IF(I68=2,VLOOKUP(AI68,女子種目コード!$D$35:$E$61,2,FALSE))))","v":""},null,0,2,null,null,null,null,null,null,null,null,null,null,null,null,null,null,null,null,null,null,null,null,"",0,0,0,0,null,null,0,"",""]
[false,{"$f":"名簿!Q71","v":""},false,null,{"$f":"名簿!E71","v":0},{"$f":"名簿!BR71","v":""},{"$f":"名簿!Z71","v":""},"",{"$f":"名簿!O71","v":""},{"$f":"名簿!I71","v":0},{"$f":"名簿!K71","v":0},{"$f":"名簿!BU71","v":"00"},{"$f":"名簿!R71","v":""},{"$f":"名簿!D71","v":0},null,"",{"$f":"IF(O69=\"\",\"\",HLOOKUP(O69,名簿!$AB$8:$BI$118,64,FALSE))","v":""},0,2,null,"",{"$f":"IF(T69=\"\",\"\",HLOOKUP(T69,名簿!$AB$8:$BI$118,64,FALSE))","v":""},0,2,null,null,null,0,2,null,{"$f":"IF(AD69=\"\",\"\",IF(I69=1,VLOOKUP(AD69,男子種目コード!$A$1:$B$29,2,FALSE),IF(I69=2,VLOOKUP(AD69,女子種目コード!$D$35:$E$61,2,FALSE))))","v":""},null,0,2,null,{"$f":"IF(AI69=\"\",\"\",IF(I69=1,VLOOKUP(AI69,男子種目コード!$A$1:$B$29,2,FALSE),IF(I69=2,VLOOKUP(AI69,女子種目コード!$D$35:$E$61,2,FALSE))))","v":""},null,0,2,null,null,null,null,null,null,null,null,null,null,null,null,null,null,null,null,null,null,null,null,"",0,0,0,0,null,null,0,"",""]
[false,{"$f":"名簿!Q72","v":""},false,null,{"$f":"名簿!E72","v":0},{"$f":"名簿!BR72","v":""},{"$f":"名簿!Z72","v":""},"",{"$f":"名簿!O72","v":""},{"$f":"名簿!I72","v":0},{"$f":"名簿!K72","v":0},{"$f":"名簿!BU72","v":"00"},{"$f":"名簿!R72","v":""},{"$f":"名簿!D72","v":0},null,"",{"$f":"IF(O70=\"\",\"\",HLOOKUP(O70,名簿!$AB$8:$BI$118,65,FALSE))","v":""},0,2,null,"",{"$f":"IF(T70=\"\",\"\",HLOOKUP(T70,名簿!$AB$8:$BI$118,65,FALSE))","v":""},0,2,null,null,null,0,2,null,{"$f":"IF(AD70=\"\",\"\",IF(I70=1,VLOOKUP(AD70,男子種目コード!$A$1:$B$29,2,FALSE),IF(I70=2,VLOOKUP(AD70,女子種目コード!$D$35:$E$61,2,FALSE))))","v":""},null,0,2,null,{"$f":"IF(AI70=\"\",\"\",IF(I70=1,VLOOKUP(AI70,男子種目コード!$A$1:$B$29,2,FALSE),IF(I70=2,VLOOKUP(AI70,女子種目コード!$D$35:$E$61,2,FALSE))))","v":""},null,0,2,null,null,null,null,null,null,null,null,null,null,null,null,null,null,null,null,null,null,null,null,"",0,0,0,0,null,null,0,"",""]
[false,{"$f":"名簿!Q73","v":""},false,null,{"$f":"名簿!E73","v":0},{"$f":"名簿!BR73","v":""},{"$f":"名簿!Z73","v":""},{"$f":"F71","v":""},{"$f":"名簿!O73","v":""},{"$f":"名簿!I73","v":0},{"$f":"名簿!K73","v":0},{"$f":"名簿!BU73","v":"00"},{"$f":"名簿!R73","v":""},{"$f":"名簿!D73","v":0},null,"",{"$f":"IF(O71=\"\",\"\",HLOOKUP(O71,名簿!$AB$8:$BI$118,66,FALSE))","v":""},0,2,null,"",{"$f":"IF(T71=\"\",\"\",HLOOKUP(T71,名簿!$AB$8:$BI$118,66,FALSE))","v":""},0,2,null,null,null,0,2,null,{"$f":"IF(AD71=\"\",\"\",IF(I71=1,VLOOKUP(AD71,男子種目コード!$A$1:$B$29,2,FALSE),IF(I71=2,VLOOKUP(AD71,女子種目コード!$D$35:$E$61,2,FALSE))))","v":""},null,0,2,null,{"$f":"IF(AI71=\"\",\"\",IF(I71=1,VLOOKUP(AI71,男子種目コード!$A$1:$B$29,2,FALSE),IF(I71=2,VLOOKUP(AI71,女子種目コード!$D$35:$E$61,2,FALSE))))","v":""},null,0,2,null,null,null,null,null,null,null,null,null,null,null,null,null,null,null,null,null,null,null,null,"",{"$f":"IF(OR(BH71=1,T71=\"\"),0,1)","v":0},{"$f":"IF(OR(BH71=1,BI71=1,AD71=\"\"),0,1)","v":0},{"$f":"IF(OR(BH71=1,BI71=1,BJ71=1,AI71=\"\"),0,1)","v":0},0,null,null,{"$f":"COUNT(P71,U71,AE71,AJ71)","v":0},{"$f":"IF(I71=1,BO71,\"\")","v":""},{"$f":"IF(I71=2,BO71,\"\")","v":""}]
[{"$f":"IF(I72=1,IF(AD72=\"4×100\",1),IF(AD72=\"4×100\",2))","v":false},{"$f":"名簿!Q74","v":""},{"$f":"IF(I72=1,IF(AI72=\"4×400\",1),IF(AI72=\"4×400\",2))","v":false},null,{"$f":"名簿!E74","v":0},{"$f":"名簿!BR74","v":""},{"$f":"名簿!Z74","v":""},"",{"$f":"名簿!O74","v":""},{"$f":"名簿!I74","v":0},{"$f":"名簿!K74","v":0},{"$f":"名簿!BU74","v":"00"},{"$f":"名簿!R74","v":""},{"$f":"名簿!D74","v":0},null,{"$f":"IF(O72=\"\",\"\",IF($I72=1,VLOOKUP(O72,$AS$7:$AU$24,3,FALSE),IF($I72=2,VLOOKUP(O72,$AS$26:$AU$42,3,FALSE))))","v":""},{"$f":"IF(O72=\"\",\"\",HLOOKUP(O72,名簿!$AB$8:$BI$118,67,FALSE))","v":""},0,2,null,{"$f":"IF(T72=\"\",\"\",IF($I72=1,VLOOKUP(T72,$AS$7:$AU$24,3,FALSE),IF($I72=2,VLOOKUP(T72,$AS$26:$AU$42,3,FALSE))))","v":""},{"$f":"IF(T72=\"\",\"\",HLOOKUP(T72,名簿!$AB$8:$BI$118,67,FALSE))","v":""},0,2,null,null,null,0,2,null,{"$f":"IF(AD72=\"\",\"\",IF(I72=1,VLOOKUP(AD72,男子種目コード!$A$1:$B$29,2,FALSE),IF(I72=2,VLOOKUP(AD72,女子種目コード!$D$35:$E$61,2,FALSE))))","v":""},null,0,2,null,{"$f":"IF(AI72=\"\",\"\",IF(I72=1,VLOOKUP(AI72,男子種目コード!$A$1:$B$29,2,FALSE),IF(I72=2,VLOOKUP(AI72,女子種目コード!$D$35:$E$61,2,FALSE))))","v":""},null,0,2,null,null,null,null,null,null,null,null,null,null,null,null,null,null,null,null,null,null,null,null,{"$f":"IF(O72=\"\",\"\",1)","v":""},0,0,0,{"$f":"SUM(BH72:BK72)","v":0},null,null,0,"",""]
[false,{"$f":"名簿!Q75","v":""},false,null,{"$f":"名簿!E75","v":0},{"$f":"名簿!BR75","v":""},{"$f":"名簿!Z75","v":""},"",{"$f":"名簿!O75","v":""},{"$f":"名簿!I75","v":0},{"$f":"名簿!K75","v":0},{"$f":"名簿!BU75","v":"00"},{"$f":"名簿!R75","v":""},{"$f":"名簿!D75","v":0},null,"",{"$f":"IF(O73=\"\",\"\",HLOOKUP(O73,名簿!$AB$8:$BI$118,68,FALSE))","v":""},0,2,null,"",{"$f":"IF(T73=\"\",\"\",HLOOKUP(T73,名簿!$AB$8:$BI$118,68,FALSE))","v":""},0,2,null,null,null,0,2,null,{"$f":"IF(AD73=\"\",\"\",IF(I73=1,VLOOKUP(AD73,男子種目コード!$A$1:$B$29,2,FALSE),IF(I73=2,VLOOKUP(AD73,女子種目コード!$D$35:$E$61,2,FALSE))))","v":""},null,0,2,null,{"$f":"IF(AI73=\"\",\"\",IF(I73=1,VLOOKUP(AI73,男子種目コード!$A$1:$B$29,2,FALSE),IF(I73=2,VLOOKUP(AI73,女子種目コード!$D$35:$E$61,2,FALSE))))","v":""},null,0,2,null,null,null,null,null,null,null,null,null,null,null,null,null,null,null,null,null,null,null,null,"",0,0,0,0,null,null,0,"",""]
[false,{"$f":"名簿!Q76","v":""},false,null,{"$f":"名簿!E76","v":0},{"$f":"名簿!BR76","v":""},{"$f":"名簿!Z76","v":""},"",{"$f":"名簿!O76","v":""},{"$f":"名簿!I76","v":0},{"$f":"名簿!K76","v":0},{"$f":"名簿!BU76","v":"00"},{"$f":"名簿!R76","v":""},{"$f":"名簿!D76","v":0},null,"",{"$f":"IF(O74=\"\",\"\",HLOOKUP(O74,名簿!$AB$8:$BI$118,69,FALSE))","v":""},0,2,null,"",{"$f":"IF(T74=\"\",\"\",HLOOKUP(T74,名簿!$AB$8:$BI$118,69,FALSE))","v":""},0,2,null,null,null,0,2,null,{"$f":"IF(AD74=\"\",\"\",IF(I74=1,VLOOKUP(AD74,男子種目コード!$A$1:$B$29,2,FALSE),IF(I74=2,VLOOKUP(AD74,女子種目コード!$D$35:$E$61,2,FALSE))))","v":""},null,0,2,null,{"$f":"IF(AI74=\"\",\"\",IF(I74=1,VLOOKUP(AI74,男子種目コード!$A$1:$B$29,2,FALSE),IF(I74=2,VLOOKUP(AI74,女子種目コード!$D$35:$E$61,2,FALSE))))","v":""},null,0,2,null,null,null,null,null,null,null,null,null,null,null,null,null,null,null,null,null,null,null,null,"",0,0,0,0,null,null,0,"",""]
[false,{"$f":"名簿!Q77","v":""},false,null,{"$f":"名簿!E77","v":0},{"$f":"名簿!BR77","v":""},{"$f":"名簿!Z77","v":""},"",{"$f":"名簿!O77","v":""},{"$f":"名簿!I77","v":0},{"$f":"名簿!K77","v":0},{"$f":"名簿!BU77","v":"00"},{"$f":"名簿!R77","v":""},{"$f":"名簿!D77","v":0},null,"",{"$f":"IF(O75=\"\",\"\",HLOOKUP(O75,名簿!$AB$8:$BI$118,70,FALSE))","v":""},0,2,null,"",{"$f":"IF(T75=\"\",\"\",HLOOKUP(T75,名簿!$AB$8:$BI$118,70,FALSE))","v":""},0,2,null,null,null,0,2,null,{"$f":"IF(AD75=\"\",\"\",IF(I75=1,VLOOKUP(AD75,男子種目コード!$A$1:$B$29,2,FALSE),IF(I75=2,VLOOKUP(AD75,女子種目コード!$D$35:$E$61,2,FALSE))))","v":""},null,0,2,null,{"$f":"IF(AI75=\"\",\"\",IF(I75=1,VLOOKUP(AI75,男子種目コード!$A$1:$B$29,2,FALSE),IF(I75=2,VLOOKUP(AI75,女子種目コード!$D$35:$E$61,2,FALSE))))","v":""},null,0,2,null,null,null,null,null,null,null,null,null,null,null,null,null,null,null,null,null,null,null,null,"",0,0,0,0,null,null,0,"",""]
[false,{"$f":"名簿!Q78","v":""},false,null,{"$f":"名簿!E78","v":0},{"$f":"名簿!BR78","v":""},{"$f":"名簿!Z78","v":""},"",{"$f":"名簿!O78","v":""},{"$f":"名簿!I78","v":0},{"$f":"名簿!K78","v":0},{"$f":"名簿!BU78","v":"00"},{"$f":"名簿!R78","v":""},{"$f":"名簿!D78","v":0},null,"",{"$f":"IF(O76=\"\",\"\",HLOOKUP(O76,名簿!$AB$8:$BI$118,71,FALSE))","v":""},0,2,null,"",{"$f":"IF(T76=\"\",\"\",HLOOKUP(T76,名簿!$AB$8:$BI$118,71,FALSE))","v":""},0,2,null,null,null,0,2,null,{"$f":"IF(AD76=\"\",\"\",IF(I76=1,VLOOKUP(AD76,男子種目コード!$A$1:$B$29,2,FALSE),IF(I76=2,VLOOKUP(AD76,女子種目コード!$D$35:$E$61,2,FALSE))))","v":""},null,0,2,null,{"$f":"IF(AI76=\"\",\"\",IF(I76=1,VLOOKUP(AI76,男子種目コード!$A$1:$B$29,2,FALSE),IF(I76=2,VLOOKUP(AI76,女子種目コード!$D$35:$E$61,2,FALSE))))","v":""},null,0,2,null,null,null,null,null,null,null,null,null,null,null,null,null,null,null,null,null,null,null,null,"",0,0,0,0,null,null,0,"",""]
[false,{"$f":"名簿!Q79","v":""},false,null,{"$f":"名簿!E79","v":0},{"$f":"名簿!BR79","v":""},{"$f":"名簿!Z79","v":""},"",{"$f":"名簿!O79","v":""},{"$f":"名簿!I79","v":0},{"$f":"名簿!K79","v":0},{"$f":"名簿!BU79","v":"00"},{"$f":"名簿!R79","v":""},{"$f":"名簿!D79","v":0},null,"",{"$f":"IF(O77=\"\",\"\",HLOOKUP(O77,名簿!$AB$8:$BI$118,72,FALSE))","v":""},0,2,null,"",{"$f":"IF(T77=\"\",\"\",HLOOKUP(T77,名簿!$AB$8:$BI$118,72,FALSE))","v":""},0,2,null,null,null,0,2,null,{"$f":"IF(AD77=\"\",\"\",IF(I77=1,VLOOKUP(AD77,男子種目コード!$A$1:$B$29,2,FALSE),IF(I77=2,VLOOKUP(AD77,女子種目コード!$D$35:$E$61,2,FALSE))))","v":""},null,0,2,null,{"$f":"IF(AI77=\"\",\"\",IF(I77=1,VLOOKUP(AI77,男子種目コード!$A$1:$B$29,2,FALSE),IF(I77=2,VLOOKUP(AI77,女子種目コード!$D$35:$E$61,2,FALSE))))","v":""},null,0,2,null,null,null,null,null,null,null,null,null,null,null,null,null,null,null,null,null,null,null,null,"",0,0,0,0,null,null,0,"",""]
[false,{"$f":"名簿!Q80","v":""},false,null,{"$f":"名簿!E80","v":0},{"$f":"名簿!BR80","v":""},{"$f":"名簿!Z80","v":""},"",{"$f":"名簿!O80","v":""},{"$f":"名簿!I80","v":0},{"$f":"名簿!K80","v":0},{"$f":"名簿!BU80","v":"00"},{"$f":"名簿!R80","v":""},{"$f":"名簿!D80","v":0},null,"",{"$f":"IF(O78=\"\",\"\",HLOOKUP(O78,名簿!$AB$8:$BI$118,73,FALSE))","v":""},0,2,null,"",{"$f":"IF(T78=\"\",\"\",HLOOKUP(T78,名簿!$AB$8:$BI$118,73,FALSE))","v":""},0,2,null,null,null,0,2,null,{"$f":"IF(AD78=\"\",\"\",IF(I78=1,VLOOKUP(AD78,男子種目コード!$A$1:$B$29,2,FALSE),IF(I78=2,VLOOKUP(AD78,女子種目コード!$D$35:$E$61,2,FALSE))))","v":""},null,0,2,null,{"$f":"IF(AI78=\"\",\"\",IF(I78=1,VLOOKUP(AI78,男子種目コード!$A$1:$B$29,2,FALSE),IF(I78=2,VLOOKUP(AI78,女子種目コード!$D$35:$E$61,2,FALSE))))","v":""},null,0,2,null,null,null,null,null,null,null,null,null,null,null,null,null,null,null,null,null,null,null,null,"",0,0,0,0,null,null,0,"",""]
[false,{"$f":"名簿!Q81","v":""},false,null,{"$f":"名簿!E81","v":0},{"$f":"名簿!BR81","v":""},{"$f":"名簿!Z81","v":""},"",{"$f":"名簿!O81","v":""},{"$f":"名簿!I81","v":0},{"$f":"名簿!K81","v":0},{"$f":"名簿!BU81","v":"00"},{"$f":"名簿!R81","v":""},{"$f":"名簿!D81","v":0},null,"",{"$f":"IF(O79=\"\",\"\",HLOOKUP(O79,名簿!$AB$8:$BI$118,74,FALSE))","v":""},0,2,null,"",{"$f":"IF(T79=\"\",\"\",HLOOKUP(T79,名簿!$AB$8:$BI$118,74,FALSE))","v":""},0,2,null,null,null,0,2,null,{"$f":"IF(AD79=\"\",\"\",IF(I79=1,VLOOKUP(AD79,男子種目コード!$A$1:$B$29,2,FALSE),IF(I79=2,VLOOKUP(AD79,女子種目コード!$D$35:$E$61,2,FALSE))))","v":""},null,0,2,null,{"$f":"IF(AI79=\"\",\"\",IF(I79=1,VLOOKUP(AI79,男子種目コード!$A$1:$B$29,2,FALSE),IF(I79=2,VLOOKUP(AI79,女子種目コード!$D$35:$E$61,2,FALSE))))","v":""},null,0,2,null,null,null,null,null,null,null,null,null,null,null,null,null,null,null,null,null,null,null,null,"",0,0,0,0,null,null,0,"",""]
[false,{"$f":"名簿!Q82","v":""},false,null,{"$f":"名簿!E82","v":0},{"$f":"名簿!BR82","v":""},{"$f":"名簿!Z82","v":""},"",{"$f":"名簿!O82","v":""},{"$f":"名簿!I82","v":0},{"$f":"名簿!K82","v":0},{"$f":"名簿!BU82","v":"00"},{"$f":"名簿!R82","v":""},{"$f":"名簿!D82","v":0},null,"",{"$f":"IF(O80=\"\",\"\",HLOOKUP(O80,名簿!$AB$8:$BI$118,75,FALSE))","v":""},0,2,null,"",{"$f":"IF(T80=\"\",\"\",HLOOKUP(T80,名簿!$AB$8:$BI$118,75,FALSE))","v":""},0,2,null,null,null,0,2,null,{"$f":"IF(AD80=\"\",\"\",IF(I80=1,VLOOKUP(AD80,男子種目コード!$A$1:$B$29,2,FALSE),IF(I80=2,VLOOKUP(AD80,女子種目コード!$D$35:$E$61,2,FALSE))))","v":""},null,0,2,null,{"$f":"IF(AI80=\"\",\"\",IF(I80=1,VLOOKUP(AI80,男子種目コード!$A$1:$B$29,2,FALSE),IF(I80=2,VLOOKUP(AI80,女子種目コード!$D$35:$E$61,2,FALSE))))","v":""},null,0,2,null,null,null,null,null,null,null,null,null,null,null,null,null,null,null,null,null,null,null,null,"",0,0,0,0,null,null,0,"",""]
[false,{"$f":"名簿!Q83","v":""},false,null,{"$f":"名簿!E83","v":0},{"$f":"名簿!BR83","v":""},{"$f":"名簿!Z83","v":""},"",{"$f":"名簿!O83","v":""},{"$f":"名簿!I83","v":0},{"$f":"名簿!K83","v":0},{"$f":"名簿!BU83","v":"00"},{"$f":"名簿!R83","v":""},{"$f":"名簿!D83","v":0},null,"",{"$f":"IF(O81=\"\",\"\",HLOOKUP(O81,名簿!$AB$8:$BI$118,76,FALSE))","v":""},0,2,null,"",{"$f":"IF(T81=\"\",\"\",HLOOKUP(T81,名簿!$AB$8:$BI$118,76,FALSE))","v":""},0,2,null,null,null,0,2,null,{"$f":"IF(AD81=\"\",\"\",IF(I81=1,VLOOKUP(AD81,男子種目コード!$A$1:$B$29,2,FALSE),IF(I81=2,VLOOKUP(AD81,女子種目コード!$D$35:$E$61,2,FALSE))))","v":""},null,0,2,null,{"$f":"IF(AI81=\"\",\"\",IF(I81=1,VLOOKUP(AI81,男子種目コード!$A$1:$B$29,2,FALSE),IF(I81=2,VLOOKUP(AI81,女子種目コード!$D$35:$E$61,2,FALSE))))","v":""},null,0,2,null,null,null,null,null,null,null,null,null,null,null,null,null,null,null,null,null,null,null,null,"",0,0,0,0,null,null,0,"",""]
[false,{"$f":"名簿!Q84","v":""},false,null,{"$f":"名簿!E84","v":0},{"$f":"名簿!BR84","v":""},{"$f":"名簿!Z84","v":""},"",{"$f":"名簿!O84","v":""},{"$f":"名簿!I84","v":0},{"$f":"名簿!K84","v":0},{"$f":"名簿!BU84","v":"00"},{"$f":"名簿!R84","v":""},{"$f":"名簿!D84","v":0},null,"",{"$f":"IF(O82=\"\",\"\",HLOOKUP(O82,名簿!$AB$8:$BI$118,77,FALSE))","v":""},0,2,null,"",{"$f":"IF(T82=\"\",\"\",HLOOKUP(T82,名簿!$AB$8:$BI$118,77,FALSE))","v":""},0,2,null,null,null,0,2,null,{"$f":"IF(AD82=\"\",\"\",IF(I82=1,VLOOKUP(AD82,男子種目コード!$A$1:$B$29,2,FALSE),IF(I82=2,VLOOKUP(AD82,女子種目コード!$D$35:$E$61,2,FALSE))))","v":""},null,0,2,null,{"$f":"IF(AI82=\"\",\"\",IF(I82=1,VLOOKUP(AI82,男子種目コード!$A$1:$B$29,2,FALSE),IF(I82=2,VLOOKUP(AI82,女子種目コード!$D$35:$E$61,2,FALSE))))","v":""},null,0,2,null,null,null,null,null,null,null,null,null,null,null,null,null,null,null,null,null,null,null,null,"",0,0,0,0,null,null,0,"",""]
[false,{"$f":"名簿!Q85","v":""},false,null,{"$f":"名簿!E85","v":0},{"$f":"名簿!BR85","v":""},{"$f":"名簿!Z85","v":""},"",{"$f":"名簿!O85","v":""},{"$f":"名簿!I85","v":0},{"$f":"名簿!K85","v":0},{"$f":"名簿!BU85","v":"00"},{"$f":"名簿!R85","v":""},{"$f":"名簿!D85","v":0},null,"",{"$f":"IF(O83=\"\",\"\",HLOOKUP(O83,名簿!$AB$8:$BI$118,78,FALSE))","v":""},0,2,null,"",{"$f":"IF(T83=\"\",\"\",HLOOKUP(T83,名簿!$AB$8:$BI$118,78,FALSE))","v":""},0,2,null,null,null,0,2,null,{"$f":"IF(AD83=\"\",\"\",IF(I83=1,VLOOKUP(AD83,男子種目コード!$A$1:$B$29,2,FALSE),IF(I83=2,VLOOKUP(AD83,女子種目コード!$D$35:$E$61,2,FALSE))))","v":""},null,0,2,null,{"$f":"IF(AI83=\"\",\"\",IF(I83=1,VLOOKUP(AI83,男子種目コード!$A$1:$B$29,2,FALSE),IF(I83=2,VLOOKUP(AI83,女子種目コード!$D$35:$E$61,2,FALSE))))","v":""},null,0,2,null,null,null,null,null,null,null,null,null,null,null,null,null,null,null,null,null,null,null,null,"",0,0,0,0,null,null,0,"",""]
[false,{"$f":"名簿!Q86","v":""},false,null,{"$f":"名簿!E86","v":0},{"$f":"名簿!BR86","v":""},{"$f":"名簿!Z86","v":""},"",{"$f":"名簿!O86","v":""},{"$f":"名簿!I86","v":0},{"$f":"名簿!K86","v":0},{"$f":"名簿!BU86","v":"00"},{"$f":"名簿!R86","v":""},{"$f":"名簿!D86","v":0},null,"",{"$f":"IF(O84=\"\",\"\",HLOOKUP(O84,名簿!$AB$8:$BI$118,79,FALSE))","v":""},0,2,null,"",{"$f":"IF(T84=\"\",\"\",HLOOKUP(T84,名簿!$AB$8:$BI$118,79,FALSE))","v":""},0,2,null,null,null,0,2,null,{"$f":"IF(AD84=\"\",\"\",IF(I84=1,VLOOKUP(AD84,男子種目コード!$A$1:$B$29,2,FALSE),IF(I84=2,VLOOKUP(AD84,女子種目コード!$D$35:$E$61,2,FALSE))))","v":""},null,0,2,null,{"$f":"IF(AI84=\"\",\"\",IF(I84=1,VLOOKUP(AI84,男子種目コード!$A$1:$B$29,2,FALSE),IF(I84=2,VLOOKUP(AI84,女子種目コード!$D$35:$E$61,2,FALSE))))","v":""},null,0,2,null,null,null,null,null,null,null,null,null,null,null,null,null,null,null,null,null,null,null,null,"",0,0,0,0,null,null,0,"",""]
[false,{"$f":"名簿!Q87","v":""},false,null,{"$f":"名簿!E87","v":0},{"$f":"名簿!BR87","v":""},{"$f":"名簿!Z87","v":""},"",{"$f":"名簿!O87","v":""},{"$f":"名簿!I87","v":0},{"$f":"名簿!K87","v":0},{"$f":"名簿!BU87","v":"00"},{"$f":"名簿!R87","v":""},{"$f":"名簿!D87","v":0},null,"",{"$f":"IF(O85=\"\",\"\",HLOOKUP(O85,名簿!$AB$8:$BI$118,80,FALSE))","v":""},0,2,null,"",{"$f":"IF(T85=\"\",\"\",HLOOKUP(T85,名簿!$AB$8:$BI$118,80,FALSE))","v":""},0,2,null,null,null,0,2,null,{"$f":"IF(AD85=\"\",\"\",IF(I85=1,VLOOKUP(AD85,男子種目コード!$A$1:$B$29,2,FALSE),IF(I85=2,VLOOKUP(AD85,女子種目コード!$D$35:$E$61,2,FALSE))))","v":""},null,0,2,null,{"$f":"IF(AI85=\"\",\"\",IF(I85=1,VLOOKUP(AI85,男子種目コード!$A$1:$B$29,2,FALSE),IF(I85=2,VLOOKUP(AI85,女子種目コード!$D$35:$E$61,2,FALSE))))","v":""},null,0,2,null,null,null,null,null,null,null,null,null,null,null,null,null,null,null,null,null,null,null,null,"",0,0,0,0,null,null,0,"",""]
[false,{"$f":"名簿!Q88","v":""},false,null,{"$f":"名簿!E88","v":0},{"$f":"名簿!BR88","v":""},{"$f":"名簿!Z88","v":""},"",{"$f":"名簿!O88","v":""},{"$f":"名簿!I88","v":0},{"$f":"名簿!K88","v":0},{"$f":"名簿!BU88","v":"00"},{"$f":"名簿!R88","v":""},{"$f":"名簿!D88","v":0},null,"",{"$f":"IF(O86=\"\",\"\",HLOOKUP(O86,名簿!$AB$8:$BI$118,81,FALSE))","v":""},0,2,null,"",{"$f":"IF(T86=\"\",\"\",HLOOKUP(T86,名簿!$AB$8:$BI$118,81,FALSE))","v":""},0,2,null,null,null,0,2,null,{"$f":"IF(AD86=\"\",\"\",IF(I86=1,VLOOKUP(AD86,男子種目コード!$A$1:$B$29,2,FALSE),IF(I86=2,VLOOKUP(AD86,女子種目コード!$D$35:$E$61,2,FALSE))))","v":""},null,0,2,null,{"$f":"IF(AI86=\"\",\"\",IF(I86=1,VLOOKUP(AI86,男子種目コード!$A$1:$B$29,2,FALSE),IF(I86=2,VLOOKUP(AI86,女子種目コード!$D$35:$E$61,2,FALSE))))","v":""},null,0,2,null,null,null,null,null,null,null,null,null,null,null,null,null,null,null,null,null,null,null,null,"",0,0,0,0,null,null,0,"",""]
[false,{"$f":"名簿!Q89","v":""},false,null,{"$f":"名簿!E89","v":0},{"$f":"名簿!BR89","v":""},{"$f":"名簿!Z89","v":""},"",{"$f":"名簿!O89","v":""},{"$f":"名簿!I89","v":0},{"$f":"名簿!K89","v":0},{"$f":"名簿!BU89","v":"00"},{"$f":"名簿!R89","v":""},{"$f":"名簿!D89","v":0},null,"",{"$f":"IF(O87=\"\",\"\",HLOOKUP(O87,名簿!$AB$8:$BI$118,82,FALSE))","v":""},0,2,null,"",{"$f":"IF(T87=\"\",\"\",HLOOKUP(T87,名簿!$AB$8:$BI$118,82,FALSE))","v":""},0,2,null,null,null,0,2,null,{"$f":"IF(AD87=\"\",\"\",IF(I87=1,VLOOKUP(AD87,男子種目コード!$A$1:$B$29,2,FALSE),IF(I87=2,VLOOKUP(AD87,女子種目コード!$D$35:$E$61,2,FALSE))))","v":""},null,0,2,null,{"$f":"IF(AI87=\"\",\"\",IF(I87=1,VLOOKUP(AI87,男子種目コード!$A$1:$B$29,2,FALSE),IF(I87=2,VLOOKUP(AI87,女子種目コード!$D$35:$E$61,2,FALSE))))","v":""},null,0,2,null,null,null,null,null,null,null,null,null,null,null,null,null,null,null,null,null,null,null,null,"",0,0,0,0,null,null,0,"",""]
[false,{"$f":"名簿!Q90","v":""},false,null,{"$f":"名簿!E90","v":0},{"$f":"名簿!BR90","v":""},{"$f":"名簿!Z90","v":""},"",{"$f":"名簿!O90","v":""},{"$f":"名簿!I90","v":0},{"$f":"名簿!K90","v":0},{"$f":"名簿!BU90","v":"00"},{"$f":"名簿!R90","v":""},{"$f":"名簿!D90","v":0},null,"",{"$f":"IF(O88=\"\",\"\",HLOOKUP(O88,名簿!$AB$8:$BI$118,83,FALSE))","v":""},0,2,null,"",{"$f":"IF(T88=\"\",\"\",HLOOKUP(T88,名簿!$AB$8:$BI$118,83,FALSE))","v":""},0,2,null,null,null,0,2,null,{"$f":"IF(AD88=\"\",\"\",IF(I88=1,VLOOKUP(AD88,男子種目コード!$A$1:$B$29,2,FALSE),IF(I88=2,VLOOKUP(AD88,女子種目コード!$D$35:$E$61,2,FALSE))))","v":""},null,0,2,null,{"$f":"IF(AI88=\"\",\"\",IF(I88=1,VLOOKUP(AI88,男子種目コード!$A$1:$B$29,2,FALSE),IF(I88=2,VLOOKUP(AI88,女子種目コード!$D$35:$E$61,2,FALSE))))","v":""},null,0,2,null,null,null,null,null,null,null,null,null,null,null,null,null,null,null,null,null,null,null,null,"",0,0,0,0,null,null,0,"",""]
[false,{"$f":"名簿!Q91","v":""},false,null,{"$f":"名簿!E91","v":0},{"$f":"名簿!BR91","v":""},{"$f":"名簿!Z91","v":""},"",{"$f":"名簿!O91","v":""},{"$f":"名簿!I91","v":0},{"$f":"名簿!K91","v":0},{"$f":"名簿!BU91","v":"00"},{"$f":"名簿!R91","v":""},{"$f":"名簿!D91","v":0},null,"",{"$f":"IF(O89=\"\",\"\",HLOOKUP(O89,名簿!$AB$8:$BI$118,84,FALSE))","v":""},0,2,null,"",{"$f":"IF(T89=\"\",\"\",HLOOKUP(T89,名簿!$AB$8:$BI$118,84,FALSE))","v":""},0,2,null,null,null,0,2,null,{"$f":"IF(AD89=\"\",\"\",IF(I89=1,VLOOKUP(AD89,男子種目コード!$A$1:$B$29,2,FALSE),IF(I89=2,VLOOKUP(AD89,女子種目コード!$D$35:$E$61,2,FALSE))))","v":""},null,0,2,null,{"$f":"IF(AI89=\"\",\"\",IF(I89=1,VLOOKUP(AI89,男子種目コード!$A$1:$B$29,2,FALSE),IF(I89=2,VLOOKUP(AI89,女子種目コード!$D$35:$E$61,2,FALSE))))","v":""},null,0,2,null,null,null,null,null,null,null,null,null,null,null,null,null,null,null,null,null,null,null,null,"",0,0,0,0,null,null,0,"",""]
[false,{"$f":"名簿!Q92","v":""},false,null,{"$f":"名簿!E92","v":0},{"$f":"名簿!BR92","v":""},{"$f":"名簿!Z92","v":""},"",{"$f":"名簿!O92","v":""},{"$f":"名簿!I92","v":0},{"$f":"名簿!K92","v":0},{"$f":"名簿!BU92","v":"00"},{"$f":"名簿!R92","v":""},{"$f":"名簿!D92","v":0},null,"",{"$f":"IF(O90=\"\",\"\",HLOOKUP(O90,名簿!$AB$8:$BI$118,85,FALSE))","v":""},0,2,null,"",{"$f":"IF(T90=\"\",\"\",HLOOKUP(T90,名簿!$AB$8:$BI$118,85,FALSE))","v":""},0,2,null,null,null,0,2,null,{"$f":"IF(AD90=\"\",\"\",IF(I90=1,VLOOKUP(AD90,男子種目コード!$A$1:$B$29,2,FALSE),IF(I90=2,VLOOKUP(AD90,女子種目コード!$D$35:$E$61,2,FALSE))))","v":""},null,0,2,null,{"$f":"IF(AI90=\"\",\"\",IF(I90=1,VLOOKUP(AI90,男子種目コード!$A$1:$B$29,2,FALSE),IF(I90=2,VLOOKUP(AI90,女子種目コード!$D$35:$E$61,2,FALSE))))","v":""},null,0,2,null,null,null,null,null,null,null,null,null,null,null,null,null,null,null,null,null,null,null,null,"",0,0,0,0,null,null,0,"",""]
[false,{"$f":"名簿!Q93","v":""},false,null,{"$f":"名簿!E93","v":0},{"$f":"名簿!BR93","v":""},{"$f":"名簿!Z93","v":""},"",{"$f":"名簿!O93","v":""},{"$f":"名簿!I93","v":0},{"$f":"名簿!K93","v":0},{"$f":"名簿!BU93","v":"00"},{"$f":"名簿!R93","v":""},{"$f":"名簿!D93","v":0},null,"",{"$f":"IF(O91=\"\",\"\",HLOOKUP(O91,名簿!$AB$8:$BI$118,86,FALSE))","v":""},0,2,null,"",{"$f":"IF(T91=\"\",\"\",HLOOKUP(T91,名簿!$AB$8:$BI$118,86,FALSE))","v":""},0,2,null,null,null,0,2,null,{"$f":"IF(AD91=\"\",\"\",IF(I91=1,VLOOKUP(AD91,男子種目コード!$A$1:$B$29,2,FALSE),IF(I91=2,VLOOKUP(AD91,女子種目コード!$D$35:$E$61,2,FALSE))))","v":""},null,0,2,null,{"$f":"IF(AI91=\"\",\"\",IF(I91=1,VLOOKUP(AI91,男子種目コード!$A$1:$B$29,2,FALSE),IF(I91=2,VLOOKUP(AI91,女子種目コード!$D$35:$E$61,2,FALSE))))","v":""},null,0,2,null,null,null,null,null,null,null,null,null,null,null,null,null,null,null,null,null,null,null,null,"",0,0,0,0,null,null,0,"",""]
[false,{"$f":"名簿!Q94","v":""},false,null,{"$f":"名簿!E94","v":0},{"$f":"名簿!BR94","v":""},{"$f":"名簿!Z94","v":""},"",{"$f":"名簿!O94","v":""},{"$f":"名簿!I94","v":0},{"$f":"名簿!K94","v":0},{"$f":"名簿!BU94","v":"00"},{"$f":"名簿!R94","v":""},{"$f":"名簿!D94","v":0},null,"",{"$f":"IF(O92=\"\",\"\",HLOOKUP(O92,名簿!$AB$8:$BI$118,87,FALSE))","v":""},0,2,null,"",{"$f":"IF(T92=\"\",\"\",HLOOKUP(T92,名簿!$AB$8:$BI$118,87,FALSE))","v":""},0,2,null,null,null,0,2,null,{"$f":"IF(AD92=\"\",\"\",IF(I92=1,VLOOKUP(AD92,男子種目コード!$A$1:$B$29,2,FALSE),IF(I92=2,VLOOKUP(AD92,女子種目コード!$D$35:$E$61,2,FALSE))))","v":""},null,0,2,null,{"$f":"IF(AI92=\"\",\"\",IF(I92=1,VLOOKUP(AI92,男子種目コード!$A$1:$B$29,2,FALSE),IF(I92=2,VLOOKUP(AI92,女子種目コード!$D$35:$E$61,2,FALSE))))","v":""},null,0,2,null,null,null,null,null,null,null,null,null,null,null,null,null,null,null,null,null,null,null,null,"",0,0,0,0,null,null,0,"",""]
[false,{"$f":"名簿!Q95","v":""},false,null,{"$f":"名簿!E95","v":0},{"$f":"名簿!BR95","v":""},{"$f":"名簿!Z95","v":""},"",{"$f":"名簿!O95","v":""},{"$f":"名簿!I95","v":0},{"$f":"名簿!K95","v":0},{"$f":"名簿!BU95","v":"00"},{"$f":"名簿!R95","v":""},{"$f":"名簿!D95","v":0},null,"",{"$f":"IF(O93=\"\",\"\",HLOOKUP(O93,名簿!$AB$8:$BI$118,88,FALSE))","v":""},0,2,null,"",{"$f":"IF(T93=\"\",\"\",HLOOKUP(T93,名簿!$AB$8:$BI$118,88,FALSE))","v":""},0,2,null,null,null,0,2,null,{"$f":"IF(AD93=\"\",\"\",IF(I93=1,VLOOKUP(AD93,男子種目コード!$A$1:$B$29,2,FALSE),IF(I93=2,VLOOKUP(AD93,女子種目コード!$D$35:$E$61,2,FALSE))))","v":""},null,0,2,null,{"$f":"IF(AI93=\"\",\"\",IF(I93=1,VLOOKUP(AI93,男子種目コード!$A$1:$B$29,2,FALSE),IF(I93=2,VLOOKUP(AI93,女子種目コード!$D$35:$E$61,2,FALSE))))","v":""},null,0,2,null,null,null,null,null,null,null,null,null,null,null,null,null,null,null,null,null,null,null,null,"",0,0,0,0,null,null,0,"",""]
[false,{"$f":"名簿!Q96","v":""},false,null,{"$f":"名簿!E96","v":0},{"$f":"名簿!BR96","v":""},{"$f":"名簿!Z96","v":""},"",{"$f":"名簿!O96","v":""},{"$f":"名簿!I96","v":0},{"$f":"名簿!K96","v":0},{"$f":"名簿!BU96","v":"00"},{"$f":"名簿!R96","v":""},{"$f":"名簿!D96","v":0},null,"",{"$f":"IF(O94=\"\",\"\",HLOOKUP(O94,名簿!$AB$8:$BI$118,89,FALSE))","v":""},0,2,null,"",{"$f":"IF(T94=\"\",\"\",HLOOKUP(T94,名簿!$AB$8:$BI$118,89,FALSE))","v":""},0,2,null,null,null,0,2,null,{"$f":"IF(AD94=\"\",\"\",IF(I94=1,VLOOKUP(AD94,男子種目コード!$A$1:$B$29,2,FALSE),IF(I94=2,VLOOKUP(AD94,女子種目コード!$D$35:$E$61,2,FALSE))))","v":""},null,0,2,null,{"$f":"IF(AI94=\"\",\"\",IF(I94=1,VLOOKUP(AI94,男子種目コード!$A$1:$B$29,2,FALSE),IF(I94=2,VLOOKUP(AI94,女子種目コード!$D$35:$E$61,2,FALSE))))","v":""},null,0,2,null,null,null,null,null,null,null,null,null,null,null,null,null,null,null,null,null,null,null,null,"",0,0,0,0,null,null,0,"",""]
[false,{"$f":"名簿!Q97","v":""},false,null,{"$f":"名簿!E97","v":0},{"$f":"名簿!BR97","v":""},{"$f":"名簿!Z97","v":""},"",{"$f":"名簿!O97","v":""},{"$f":"名簿!I97","v":0},{"$f":"名簿!K97","v":0},{"$f":"名簿!BU97","v":"00"},{"$f":"名簿!R97","v":""},{"$f":"名簿!D97","v":0},null,"",{"$f":"IF(O95=\"\",\"\",HLOOKUP(O95,名簿!$AB$8:$BI$118,90,FALSE))","v":""},0,2,null,"",{"$f":"IF(T95=\"\",\"\",HLOOKUP(T95,名簿!$AB$8:$BI$118,90,FALSE))","v":""},0,2,null,null,null,0,2,null,{"$f":"IF(AD95=\"\",\"\",IF(I95=1,VLOOKUP(AD95,男子種目コード!$A$1:$B$29,2,FALSE),IF(I95=2,VLOOKUP(AD95,女子種目コード!$D$35:$E$61,2,FALSE))))","v":""},null,0,2,null,{"$f":"IF(AI95=\"\",\"\",IF(I95=1,VLOOKUP(AI95,男子種目コード!$A$1:$B$29,2,FALSE),IF(I95=2,VLOOKUP(AI95,女子種目コード!$D$35:$E$61,2,FALSE))))","v":""},null,0,2,null,null,null,null,null,null,null,null,null,null,null,null,null,null,null,null,null,null,null,null,"",0,0,0,0,null,null,0,"",""]
[false,{"$f":"名簿!Q98","v":""},false,null,{"$f":"名簿!E98","v":0},{"$f":"名簿!BR98","v":""},{"$f":"名簿!Z98","v":""},"",{"$f":"名簿!O98","v":""},{"$f":"名簿!I98","v":0},{"$f":"名簿!K98","v":0},{"$f":"名簿!BU98","v":"00"},{"$f":"名簿!R98","v":""},{"$f":"名簿!D98","v":0},null,"",{"$f":"IF(O96=\"\",\"\",HLOOKUP(O96,名簿!$AB$8:$BI$118,91,FALSE))","v":""},0,2,null,"",{"$f":"IF(T96=\"\",\"\",HLOOKUP(T96,名簿!$AB$8:$BI$118,91,FALSE))","v":""},0,2,null,null,null,0,2,null,{"$f":"IF(AD96=\"\",\"\",IF(I96=1,VLOOKUP(AD96,男子種目コード!$A$1:$B$29,2,FALSE),IF(I96=2,VLOOKUP(AD96,女子種目コード!$D$35:$E$61,2,FALSE))))","v":""},null,0,2,null,{"$f":"IF(AI96=\"\",\"\",IF(I96=1,VLOOKUP(AI96,男子種目コード!$A$1:$B$29,2,FALSE),IF(I96=2,VLOOKUP(AI96,女子種目コード!$D$35:$E$61,2,FALSE))))","v":""},null,0,2,null,null,null,null,null,null,null,null,null,null,null,null,null,null,null,null,null,null,null,null,"",0,0,0,0,null,null,0,"",""]
[false,{"$f":"名簿!Q99","v":""},false,null,{"$f":"名簿!E99","v":0},{"$f":"名簿!BR99","v":""},{"$f":"名簿!Z99","v":""},"",{"$f":"名簿!O99","v":""},{"$f":"名簿!I99","v":0},{"$f":"名簿!K99","v":0},{"$f":"名簿!BU99","v":"00"},{"$f":"名簿!R99","v":""},{"$f":"名簿!D99","v":0},null,"",{"$f":"IF(O97=\"\",\"\",HLOOKUP(O97,名簿!$AB$8:$BI$118,92,FALSE))","v":""},0,2,null,"",{"$f":"IF(T97=\"\",\"\",HLOOKUP(T97,名簿!$AB$8:$BI$118,92,FALSE))","v":""},0,2,null,null,null,0,2,null,{"$f":"IF(AD97=\"\",\"\",IF(I97=1,VLOOKUP(AD97,男子種目コード!$A$1:$B$29,2,FALSE),IF(I97=2,VLOOKUP(AD97,女子種目コード!$D$35:$E$61,2,FALSE))))","v":""},null,0,2,null,{"$f":"IF(AI97=\"\",\"\",IF(I97=1,VLOOKUP(AI97,男子種目コード!$A$1:$B$29,2,FALSE),IF(I97=2,VLOOKUP(AI97,女子種目コード!$D$35:$E$61,2,FALSE))))","v":""},null,0,2,null,null,null,null,null,null,null,null,null,null,null,null,null,null,null,null,null,null,null,null,"",0,0,0,0,null,null,0,"",""]
[false,{"$f":"名簿!Q100","v":""},false,null,{"$f":"名簿!E100","v":0},{"$f":"名簿!BR100","v":""},{"$f":"名簿!Z100","v":""},"",{"$f":"名簿!O100","v":""},{"$f":"名簿!I100","v":0},{"$f":"名簿!K100","v":0},{"$f":"名簿!BU100","v":"00"},{"$f":"名簿!R100","v":""},{"$f":"名簿!D100","v":0},null,"",{"$f":"IF(O98=\"\",\"\",HLOOKUP(O98,名簿!$AB$8:$BI$118,93,FALSE))","v":""},0,2,null,"",{"$f":"IF(T98=\"\",\"\",HLOOKUP(T98,名簿!$AB$8:$BI$118,93,FALSE))","v":""},0,2,null,null,null,0,2,null,{"$f":"IF(AD98=\"\",\"\",IF(I98=1,VLOOKUP(AD98,男子種目コード!$A$1:$B$29,2,FALSE),IF(I98=2,VLOOKUP(AD98,女子種目コード!$D$35:$E$61,2,FALSE))))","v":""},null,0,2,null,{"$f":"IF(AI98=\"\",\"\",IF(I98=1,VLOOKUP(AI98,男子種目コード!$A$1:$B$29,2,FALSE),IF(I98=2,VLOOKUP(AI98,女子種目コード!$D$35:$E$61,2,FALSE))))","v":""},null,0,2,null,null,null,null,null,null,null,null,null,null,null,null,null,null,null,null,null,null,null,null,"",0,0,0,0,null,null,0,"",""]
[false,{"$f":"名簿!Q101","v":""},false,null,{"$f":"名簿!E101","v":0},{"$f":"名簿!BR101","v":""},{"$f":"名簿!Z101","v":""},"",{"$f":"名簿!O101","v":""},{"$f":"名簿!I101","v":0},{"$f":"名簿!K101","v":0},{"$f":"名簿!BU101","v":"00"},{"$f":"名簿!R101","v":""},{"$f":"名簿!D101","v":0},null,"",{"$f":"IF(O99=\"\",\"\",HLOOKUP(O99,名簿!$AB$8:$BI$118,94,FALSE))","v":""},0,2,null,"",{"$f":"IF(T99=\"\",\"\",HLOOKUP(T99,名簿!$AB$8:$BI$118,94,FALSE))","v":""},0,2,null,null,null,0,2,null,{"$f":"IF(AD99=\"\",\"\",IF(I99=1,VLOOKUP(AD99,男子種目コード!$A$1:$B$29,2,FALSE),IF(I99=2,VLOOKUP(AD99,女子種目コード!$D$35:$E$61,2,FALSE))))","v":""},null,0,2,null,{"$f":"IF(AI99=\"\",\"\",IF(I99=1,VLOOKUP(AI99,男子種目コード!$A$1:$B$29,2,FALSE),IF(I99=2,VLOOKUP(AI99,女子種目コード!$D$35:$E$61,2,FALSE))))","v":""},null,0,2,null,null,null,null,null,null,null,null,null,null,null,null,null,null,null,null,null,null,null,null,"",0,0,0,0,null,null,0,"",""]
[false,{"$f":"名簿!Q102","v":""},false,null,{"$f":"名簿!E102","v":0},{"$f":"名簿!BR102","v":""},{"$f":"名簿!Z102","v":""},"",{"$f":"名簿!O102","v":""},{"$f":"名簿!I102","v":0},{"$f":"名簿!K102","v":0},{"$f":"名簿!BU102","v":"00"},{"$f":"名簿!R102","v":""},{"$f":"名簿!D102","v":0},null,"",{"$f":"IF(O100=\"\",\"\",HLOOKUP(O100,名簿!$AB$8:$BI$118,95,FALSE))","v":""},0,2,null,"",{"$f":"IF(T100=\"\",\"\",HLOOKUP(T100,名簿!$AB$8:$BI$118,95,FALSE))","v":""},0,2,null,null,null,0,2,null,{"$f":"IF(AD100=\"\",\"\",IF(I100=1,VLOOKUP(AD100,男子種目コード!$A$1:$B$29,2,FALSE),IF(I100=2,VLOOKUP(AD100,女子種目コード!$D$35:$E$61,2,FALSE))))","v":""},null,0,2,null,{"$f":"IF(AI100=\"\",\"\",IF(I100=1,VLOOKUP(AI100,男子種目コード!$A$1:$B$29,2,FALSE),IF(I100=2,VLOOKUP(AI100,女子種目コード!$D$35:$E$61,2,FALSE))))","v":""},null,0,2,null,null,null,null,null,null,null,null,null,null,null,null,null,null,null,null,null,null,null,null,"",0,0,0,0,null,null,0,"",""]
[false,{"$f":"名簿!Q103","v":""},false,null,{"$f":"名簿!E103","v":0},{"$f":"名簿!BR103","v":""},{"$f":"名簿!Z103","v":""},"",{"$f":"名簿!O103","v":""},{"$f":"名簿!I103","v":0},{"$f":"名簿!K103","v":0},{"$f":"名簿!BU103","v":"00"},{"$f":"名簿!R103","v":""},{"$f":"名簿!D103","v":0},null,"",{"$f":"IF(O101=\"\",\"\",HLOOKUP(O101,名簿!$AB$8:$BI$118,96,FALSE))","v":""},0,2,null,"",{"$f":"IF(T101=\"\",\"\",HLOOKUP(T101,名簿!$AB$8:$BI$118,96,FALSE))","v":""},0,2,null,null,null,0,2,null,{"$f":"IF(AD101=\"\",\"\",IF(I101=1,VLOOKUP(AD101,男子種目コード!$A$1:$B$29,2,FALSE),IF(I101=2,VLOOKUP(AD101,女子種目コード!$D$35:$E$61,2,FALSE))))","v":""},null,0,2,null,{"$f":"IF(AI101=\"\",\"\",IF(I101=1,VLOOKUP(AI101,男子種目コード!$A$1:$B$29,2,FALSE),IF(I101=2,VLOOKUP(AI101,女子種目コード!$D$35:$E$61,2,FALSE))))","v":""},null,0,2,null,null,null,null,null,null,null,null,null,null,null,null,null,null,null,null,null,null,null,null,"",0,0,0,0,null,null,0,"",""]
[false,{"$f":"名簿!Q104","v":""},false,null,{"$f":"名簿!E104","v":0},{"$f":"名簿!BR104","v":""},{"$f":"名簿!Z104","v":""},"",{"$f":"名簿!O104","v":""},{"$f":"名簿!I104","v":0},{"$f":"名簿!K104","v":0},{"$f":"名簿!BU104","v":"00"},{"$f":"名簿!R104","v":""},{"$f":"名簿!D104","v":0},null,"",{"$f":"IF(O102=\"\",\"\",HLOOKUP(O102,名簿!$AB$8:$BI$118,97,FALSE))","v":""},0,2,null,"",{"$f":"IF(T102=\"\",\"\",HLOOKUP(T102,名簿!$AB$8:$BI$118,97,FALSE))","v":""},0,2,null,null,null,0,2,null,{"$f":"IF(AD102=\"\",\"\",IF(I102=1,VLOOKUP(AD102,男子種目コード!$A$1:$B$29,2,FALSE),IF(I102=2,VLOOKUP(AD102,女子種目コード!$D$35:$E$61,2,FALSE))))","v":""},null,0,2,null,{"$f":"IF(AI102=\"\",\"\",IF(I102=1,VLOOKUP(AI102,男子種目コード!$A$1:$B$29,2,FALSE),IF(I102=2,VLOOKUP(AI102,女子種目コード!$D$35:$E$61,2,FALSE))))","v":""},null,0,2,null,null,null,null,null,null,null,null,null,null,null,null,null,null,null,null,null,null,null,null,"",0,0,0,0,null,null,0,"",""]
[false,{"$f":"名簿!Q105","v":""},false,null,{"$f":"名簿!E105","v":0},{"$f":"名簿!BR105","v":""},{"$f":"名簿!Z105","v":""},{"$f":"F103","v":""},{"$f":"名簿!O105","v":""},{"$f":"名簿!I105","v":0},{"$f":"名簿!K105","v":0},{"$f":"名簿!BU105","v":"00"},{"$f":"名簿!R105","v":""},{"$f":"名簿!D105","v":0},null,"",{"$f":"IF(O103=\"\",\"\",HLOOKUP(O103,名簿!$AB$8:$BI$118,98,FALSE))","v":""},0,2,null,"",{"$f":"IF(T103=\"\",\"\",HLOOKUP(T103,名簿!$AB$8:$BI$118,98,FALSE))","v":""},0,2,null,null,null,0,2,null,{"$f":"IF(AD103=\"\",\"\",IF(I103=1,VLOOKUP(AD103,男子種目コード!$A$1:$B$29,2,FALSE),IF(I103=2,VLOOKUP(AD103,女子種目コード!$D$35:$E$61,2,FALSE))))","v":""},null,0,2,null,{"$f":"IF(AI103=\"\",\"\",IF(I103=1,VLOOKUP(AI103,男子種目コード!$A$1:$B$29,2,FALSE),IF(I103=2,VLOOKUP(AI103,女子種目コード!$D$35:$E$61,2,FALSE))))","v":""},null,0,2,null,null,null,null,null,null,null,null,null,null,null,null,null,null,null,null,null,null,null,null,"",{"$f":"IF(OR(BH103=1,T103=\"\"),0,1)","v":0},{"$f":"IF(OR(BH103=1,BI103=1,AD103=\"\"),0,1)","v":0},{"$f":"IF(OR(BH103=1,BI103=1,BJ103=1,AI103=\"\"),0,1)","v":0},0,null,null,{"$f":"COUNT(P103,U103,AE103,AJ103)","v":0},{"$f":"IF(I103=1,BO103,\"\")","v":""},{"$f":"IF(I103=2,BO103,\"\")","v":""}]
[false,{"$f":"名簿!Q106","v":""},false,null,{"$f":"名簿!E106","v":0},{"$f":"名簿!BR106","v":""},{"$f":"名簿!Z106","v":""},{"$f":"F104","v":""},{"$f":"名簿!O106","v":""},{"$f":"名簿!I106","v":0},{"$f":"名簿!K106","v":0},{"$f":"名簿!BU106","v":"00"},{"$f":"名簿!R106","v":""},{"$f":"名簿!D106","v":0},null,"",{"$f":"IF(O104=\"\",\"\",HLOOKUP(O104,名簿!$AB$8:$BI$118,99,FALSE))","v":""},0,2,null,"",{"$f":"IF(T104=\"\",\"\",HLOOKUP(T104,名簿!$AB$8:$BI$118,99,FALSE))","v":""},0,2,null,null,null,0,2,null,{"$f":"IF(AD104=\"\",\"\",IF(I104=1,VLOOKUP(AD104,男子種目コード!$A$1:$B$29,2,FALSE),IF(I104=2,VLOOKUP(AD104,女子種目コード!$D$35:$E$61,2,FALSE))))","v":""},null,0,2,null,{"$f":"IF(AI104=\"\",\"\",IF(I104=1,VLOOKUP(AI104,男子種目コード!$A$1:$B$29,2,FALSE),IF(I104=2,VLOOKUP(AI104,女子種目コード!$D$35:$E$61,2,FALSE))))","v":""},null,0,2,null,null,null,null,null,null,null,null,null,null,null,null,null,null,null,null,null,null,null,null,"",0,0,0,0,null,null,0,"",""]
[false,{"$f":"名簿!Q107","v":""},false,null,{"$f":"名簿!E107","v":0},{"$f":"名簿!BR107","v":""},{"$f":"名簿!Z107","v":""},{"$f":"F105","v":""},{"$f":"名簿!O107","v":""},{"$f":"名簿!I107","v":0},{"$f":"名簿!K107","v":0},{"$f":"名簿!BU107","v":"00"},{"$f":"名簿!R107","v":""},{"$f":"名簿!D107","v":0},null,"",{"$f":"IF(O105=\"\",\"\",HLOOKUP(O105,名簿!$AB$8:$BI$118,100,FALSE))","v":""},0,2,null,"",{"$f":"IF(T105=\"\",\"\",HLOOKUP(T105,名簿!$AB$8:$BI$118,100,FALSE))","v":""},0,2,null,null,null,0,2,null,{"$f":"IF(AD105=\"\",\"\",IF(I105=1,VLOOKUP(AD105,男子種目コード!$A$1:$B$29,2,FALSE),IF(I105=2,VLOOKUP(AD105,女子種目コード!$D$35:$E$61,2,FALSE))))","v":""},null,0,2,null,{"$f":"IF(AI105=\"\",\"\",IF(I105=1,VLOOKUP(AI105,男子種目コード!$A$1:$B$29,2,FALSE),IF(I105=2,VLOOKUP(AI105,女子種目コード!$D$35:$E$61,2,FALSE))))","v":""},null,0,2,null,null,null,null,null,null,null,null,null,null,null,null,null,null,null,null,null,null,null,null,"",0,0,0,0,null,null,0,"",""]
[false,{"$f":"名簿!Q108","v":""},false,null,{"$f":"名簿!E108","v":0},{"$f":"名簿!BR108","v":""},{"$f":"名簿!Z108","v":""},{"$f":"F106","v":""},{"$f":"名簿!O108","v":""},{"$f":"名簿!I108","v":0},{"$f":"名簿!K108","v":0},{"$f":"名簿!BU108","v":"00"},{"$f":"名簿!R108","v":""},{"$f":"名簿!D108","v":0},null,"",{"$f":"IF(O106=\"\",\"\",HLOOKUP(O106,名簿!$AB$8:$BI$118,101,FALSE))","v":""},0,2,null,"",{"$f":"IF(T106=\"\",\"\",HLOOKUP(T106,名簿!$AB$8:$BI$118,101,FALSE))","v":""},0,2,null,null,null,0,2,null,{"$f":"IF(AD106=\"\",\"\",IF(I106=1,VLOOKUP(AD106,男子種目コード!$A$1:$B$29,2,FALSE),IF(I106=2,VLOOKUP(AD106,女子種目コード!$D$35:$E$61,2,FALSE))))","v":""},null,0,2,null,{"$f":"IF(AI106=\"\",\"\",IF(I106=1,VLOOKUP(AI106,男子種目コード!$A$1:$B$29,2,FALSE),IF(I106=2,VLOOKUP(AI106,女子種目コード!$D$35:$E$61,2,FALSE))))","v":""},null,0,2,null,null,null,null,null,null,null,null,null,null,null,null,null,null,null,null,null,null,null,null,"",0,0,0,0,null,null,0,"",""]
[false,{"$f":"名簿!Q109","v":""},false,null,{"$f":"名簿!E109","v":0},{"$f":"名簿!BR109","v":""},{"$f":"名簿!Z109","v":""},"",{"$f":"名簿!O109","v":""},{"$f":"名簿!I109","v":0},{"$f":"名簿!K109","v":0},{"$f":"名簿!BU109","v":"00"},{"$f":"名簿!R109","v":""},{"$f":"名簿!D109","v":0},null,"",{"$f":"IF(O107=\"\",\"\",HLOOKUP(O107,名簿!$AB$8:$BI$118,102,FALSE))","v":""},0,2,null,"",{"$f":"IF(T107=\"\",\"\",HLOOKUP(T107,名簿!$AB$8:$BI$118,102,FALSE))","v":""},0,2,null,null,null,0,2,null,{"$f":"IF(AD107=\"\",\"\",IF(I107=1,VLOOKUP(AD107,男子種目コード!$A$1:$B$29,2,FALSE),IF(I107=2,VLOOKUP(AD107,女子種目コード!$D$35:$E$61,2,FALSE))))","v":""},null,0,2,null,{"$f":"IF(AI107=\"\",\"\",IF(I107=1,VLOOKUP(AI107,男子種目コード!$A$1:$B$29,2,FALSE),IF(I107=2,VLOOKUP(AI107,女子種目コード!$D$35:$E$61,2,FALSE))))","v":""},null,0,2,null,null,null,null,null,null,null,null,null,null,null,null,null,null,null,null,null,null,null,null,"",0,0,0,0,null,null,0,"",""]
[false,{"$f":"名簿!Q110","v":""},false,null,{"$f":"名簿!E110","v":0},{"$f":"名簿!BR110","v":""},{"$f":"名簿!Z110","v":""},"",{"$f":"名簿!O110","v":""},{"$f":"名簿!I110","v":0},{"$f":"名簿!K110","v":0},{"$f":"名簿!BU110","v":"00"},{"$f":"名簿!R110","v":""},{"$f":"名簿!D110","v":0},null,"",{"$f":"IF(O108=\"\",\"\",HLOOKUP(O108,名簿!$AB$8:$BI$118,103,FALSE))","v":""},0,2,null,"",{"$f":"IF(T108=\"\",\"\",HLOOKUP(T108,名簿!$AB$8:$BI$118,103,FALSE))","v":""},0,2,null,null,null,0,2,null,{"$f":"IF(AD108=\"\",\"\",IF(I108=1,VLOOKUP(AD108,男子種目コード!$A$1:$B$29,2,FALSE),IF(I108=2,VLOOKUP(AD108,女子種目コード!$D$35:$E$61,2,FALSE))))","v":""},null,0,2,null,{"$f":"IF(AI108=\"\",\"\",IF(I108=1,VLOOKUP(AI108,男子種目コード!$A$1:$B$29,2,FALSE),IF(I108=2,VLOOKUP(AI108,女子種目コード!$D$35:$E$61,2,FALSE))))","v":""},null,0,2,null,null,null,null,null,null,null,null,null,null,null,null,null,null,null,null,null,null,null,null,"",0,0,0,0,null,null,0,"",""]
[false,{"$f":"名簿!Q111","v":""},false,null,{"$f":"名簿!E111","v":0},{"$f":"名簿!BR111","v":""},{"$f":"名簿!Z111","v":""},"",{"$f":"名簿!O111","v":""},{"$f":"名簿!I111","v":0},{"$f":"名簿!K111","v":0},{"$f":"名簿!BU111","v":"00"},{"$f":"名簿!R111","v":""},{"$f":"名簿!D111","v":0},null,"",{"$f":"IF(O109=\"\",\"\",HLOOKUP(O109,名簿!$AB$8:$BI$118,104,FALSE))","v":""},0,2,null,"",{"$f":"IF(T109=\"\",\"\",HLOOKUP(T109,名簿!$AB$8:$BI$118,104,FALSE))","v":""},0,2,null,null,null,0,2,null,{"$f":"IF(AD109=\"\",\"\",IF(I109=1,VLOOKUP(AD109,男子種目コード!$A$1:$B$29,2,FALSE),IF(I109=2,VLOOKUP(AD109,女子種目コード!$D$35:$E$61,2,FALSE))))","v":""},null,0,2,null,{"$f":"IF(AI109=\"\",\"\",IF(I109=1,VLOOKUP(AI109,男子種目コード!$A$1:$B$29,2,FALSE),IF(I109=2,VLOOKUP(AI109,女子種目コード!$D$35:$E$61,2,FALSE))))","v":""},null,0,2,null,null,null,null,null,null,null,null,null,null,null,null,null,null,null,null,null,null,null,null,"",0,0,0,0,null,null,0,"",""]
[false,{"$f":"名簿!Q112","v":""},false,null,{"$f":"名簿!E112","v":0},{"$f":"名簿!BR112","v":""},{"$f":"名簿!Z112","v":""},"",{"$f":"名簿!O112","v":""},{"$f":"名簿!I112","v":0},{"$f":"名簿!K112","v":0},{"$f":"名簿!BU112","v":"00"},{"$f":"名簿!R112","v":""},{"$f":"名簿!D112","v":0},null,"",{"$f":"IF(O110=\"\",\"\",HLOOKUP(O110,名簿!$AB$8:$BI$118,105,FALSE))","v":""},0,2,null,"",{"$f":"IF(T110=\"\",\"\",HLOOKUP(T110,名簿!$AB$8:$BI$118,105,FALSE))","v":""},0,2,null,null,null,0,2,null,{"$f":"IF(AD110=\"\",\"\",IF(I110=1,VLOOKUP(AD110,男子種目コード!$A$1:$B$29,2,FALSE),IF(I110=2,VLOOKUP(AD110,女子種目コード!$D$35:$E$61,2,FALSE))))","v":""},null,0,2,null,{"$f":"IF(AI110=\"\",\"\",IF(I110=1,VLOOKUP(AI110,男子種目コード!$A$1:$B$29,2,FALSE),IF(I110=2,VLOOKUP(AI110,女子種目コード!$D$35:$E$61,2,FALSE))))","v":""},null,0,2,null,null,null,null,null,null,null,null,null,null,null,null,null,null,null,null,null,null,null,null,"",0,0,0,0,null,null,0,"",""]
[false,{"$f":"名簿!Q113","v":""},false,null,{"$f":"名簿!E113","v":0},{"$f":"名簿!BR113","v":""},{"$f":"名簿!Z113","v":""},"",{"$f":"名簿!O113","v":""},{"$f":"名簿!I113","v":0},{"$f":"名簿!K113","v":0},{"$f":"名簿!BU113","v":"00"},{"$f":"名簿!R113","v":""},{"$f":"名簿!D113","v":0},null,"",{"$f":"IF(O111=\"\",\"\",HLOOKUP(O111,名簿!$AB$8:$BI$118,106,FALSE))","v":""},0,2,null,"",{"$f":"IF(T111=\"\",\"\",HLOOKUP(T111,名簿!$AB$8:$BI$118,106,FALSE))","v":""},0,2,null,null,null,0,2,null,{"$f":"IF(AD111=\"\",\"\",IF(I111=1,VLOOKUP(AD111,男子種目コード!$A$1:$B$29,2,FALSE),IF(I111=2,VLOOKUP(AD111,女子種目コード!$D$35:$E$61,2,FALSE))))","v":""},null,0,2,null,{"$f":"IF(AI111=\"\",\"\",IF(I111=1,VLOOKUP(AI111,男子種目コード!$A$1:$B$29,2,FALSE),IF(I111=2,VLOOKUP(AI111,女子種目コード!$D$35:$E$61,2,FALSE))))","v":""},null,0,2,null,null,null,null,null,null,null,null,null,null,null,null,null,null,null,null,null,null,null,null,"",0,0,0,0,null,null,0,"",""]
[false,{"$f":"名簿!Q114","v":""},false,null,{"$f":"名簿!E114","v":0},{"$f":"名簿!BR114","v":""},{"$f":"名簿!Z114","v":""},{"$f":"F112","v":""},{"$f":"名簿!O114","v":""},{"$f":"名簿!I114","v":0},{"$f":"名簿!K114","v":0},{"$f":"名簿!BU114","v":"00"},{"$f":"名簿!R114","v":""},{"$f":"名簿!D114","v":0},null,"",{"$f":"IF(O112=\"\",\"\",HLOOKUP(O112,名簿!$AB$8:$BI$118,107,FALSE))","v":""},0,2,null,"",{"$f":"IF(T112=\"\",\"\",HLOOKUP(T112,名簿!$AB$8:$BI$118,107,FALSE))","v":""},0,2,null,null,null,0,2,null,{"$f":"IF(AD112=\"\",\"\",IF(I112=1,VLOOKUP(AD112,男子種目コード!$A$1:$B$29,2,FALSE),IF(I112=2,VLOOKUP(AD112,女子種目コード!$D$35:$E$61,2,FALSE))))","v":""},null,0,2,null,{"$f":"IF(AI112=\"\",\"\",IF(I112=1,VLOOKUP(AI112,男子種目コード!$A$1:$B$29,2,FALSE),IF(I112=2,VLOOKUP(AI112,女子種目コード!$D$35:$E$61,2,FALSE))))","v":""},null,0,2,null,null,null,null,null,null,null,null,null,null,null,null,null,null,null,null,null,null,null,null,{"$f":"IF(O112=\"\",\"\",1)","v":""},0,0,0,{"$f":"SUM(BH112:BK112)","v":0},null,null,0,"",""]
[false,{"$f":"名簿!Q115","v":""},false,null,{"$f":"名簿!E115","v":0},{"$f":"名簿!BR115","v":""},{"$f":"名簿!Z115","v":""},{"$f":"F113","v":""},{"$f":"名簿!O115","v":""},{"$f":"名簿!I115","v":0},{"$f":"名簿!K115","v":0},{"$f":"名簿!BU115","v":"00"},{"$f":"名簿!R115","v":""},{"$f":"名簿!D115","v":0},null,"",{"$f":"IF(O113=\"\",\"\",HLOOKUP(O113,名簿!$AB$8:$BI$118,108,FALSE))","v":""},0,2,null,"",{"$f":"IF(T113=\"\",\"\",HLOOKUP(T113,名簿!$AB$8:$BI$118,108,FALSE))","v":""},0,2,null,null,null,0,2,null,{"$f":"IF(AD113=\"\",\"\",IF(I113=1,VLOOKUP(AD113,男子種目コード!$A$1:$B$29,2,FALSE),IF(I113=2,VLOOKUP(AD113,女子種目コード!$D$35:$E$61,2,FALSE))))","v":""},null,0,2,null,{"$f":"IF(AI113=\"\",\"\",IF(I113=1,VLOOKUP(AI113,男子種目コード!$A$1:$B$29,2,FALSE),IF(I113=2,VLOOKUP(AI113,女子種目コード!$D$35:$E$61,2,FALSE))))","v":""},null,0,2,null,null,null,null,null,null,null,null,null,null,null,null,null,null,null,null,null,null,null,null,{"$f":"IF(O113=\"\",\"\",1)","v":""},0,0,0,{"$f":"SUM(BH113:BK113)","v":0},null,null,0,"",""]
[false,{"$f":"名簿!Q116","v":""},false,null,{"$f":"名簿!E116","v":0},{"$f":"名簿!BR116","v":""},{"$f":"名簿!Z116","v":""},{"$f":"F114","v":""},{"$f":"名簿!O116","v":""},{"$f":"名簿!I116","v":0},{"$f":"名簿!K116","v":0},{"$f":"名簿!BU116","v":"00"},{"$f":"名簿!R116","v":""},{"$f":"名簿!D116","v":0},null,"",{"$f":"IF(O114=\"\",\"\",HLOOKUP(O114,名簿!$AB$8:$BI$118,109,FALSE))","v":""},0,2,null,"",{"$f":"IF(T114=\"\",\"\",HLOOKUP(T114,名簿!$AB$8:$BI$118,109,FALSE))","v":""},0,2,null,null,null,0,2,null,{"$f":"IF(AD114=\"\",\"\",IF(I114=1,VLOOKUP(AD114,男子種目コード!$A$1:$B$29,2,FALSE),IF(I114=2,VLOOKUP(AD114,女子種目コード!$D$35:$E$61,2,FALSE))))","v":""},null,0,2,null,{"$f":"IF(AI114=\"\",\"\",IF(I114=1,VLOOKUP(AI114,男子種目コード!$A$1:$B$29,2,FALSE),IF(I114=2,VLOOKUP(AI114,女子種目コード!$D$35:$E$61,2,FALSE))))","v":""},null,0,2,null,null,null,null,null,null,null,null,null,null,null,null,null,null,null,null,null,null,null,null,{"$f":"IF(O114=\"\",\"\",1)","v":""},0,0,0,{"$f":"SUM(BH114:BK114)","v":0},null,null,0,"",""]
[false,{"$f":"名簿!Q117","v":""},false,null,{"$f":"名簿!E117","v":0},{"$f":"名簿!BR117","v":""},{"$f":"名簿!Z117","v":""},{"$f":"F115","v":""},{"$f":"名簿!O117","v":""},{"$f":"名簿!I117","v":0},{"$f":"名簿!K117","v":0},{"$f":"名簿!BU117","v":"00"},{"$f":"名簿!R117","v":""},{"$f":"名簿!D117","v":0},null,"",{"$f":"IF(O115=\"\",\"\",HLOOKUP(O115,名簿!$AB$8:$BI$118,110,FALSE))","v":""},0,2,null,"",{"$f":"IF(T115=\"\",\"\",HLOOKUP(T115,名簿!$AB$8:$BI$118,110,FALSE))","v":""},0,2,null,null,null,0,2,null,{"$f":"IF(AD115=\"\",\"\",IF(I115=1,VLOOKUP(AD115,男子種目コード!$A$1:$B$29,2,FALSE),IF(I115=2,VLOOKUP(AD115,女子種目コード!$D$35:$E$61,2,FALSE))))","v":""},null,0,2,null,{"$f":"IF(AI115=\"\",\"\",IF(I115=1,VLOOKUP(AI115,男子種目コード!$A$1:$B$29,2,FALSE),IF(I115=2,VLOOKUP(AI115,女子種目コード!$D$35:$E$61,2,FALSE))))","v":""},null,0,2,null,null,null,null,null,null,null,null,null,null,null,null,null,null,null,null,null,null,null,null,{"$f":"IF(O115=\"\",\"\",1)","v":""},0,0,0,{"$f":"SUM(BH115:BK115)","v":0},null,null,0,"",""]
[false,{"$f":"名簿!Q118","v":""},false,null,{"$f":"名簿!E118","v":0},{"$f":"名簿!BR118","v":""},{"$f":"名簿!Z118","v":""},{"$f":"F116","v":""},{"$f":"名簿!O118","v":""},{"$f":"名簿!I118","v":0},{"$f":"名簿!K118","v":0},{"$f":"名簿!BU118","v":"00"},{"$f":"名簿!R118","v":""},{"$f":"名簿!D118","v":0},null,"",{"$f":"IF(O116=\"\",\"\",HLOOKUP(O116,名簿!$AB$8:$BI$118,111,FALSE))","v":""},0,2,null,"",{"$f":"IF(T116=\"\",\"\",HLOOKUP(T116,名簿!$AB$8:$BI$118,111,FALSE))","v":""},0,2,null,null,null,0,2,null,{"$f":"IF(AD116=\"\",\"\",IF(I116=1,VLOOKUP(AD116,男子種目コード!$A$1:$B$29,2,FALSE),IF(I116=2,VLOOKUP(AD116,女子種目コード!$D$35:$E$61,2,FALSE))))","v":""},null,0,2,null,{"$f":"IF(AI116=\"\",\"\",IF(I116=1,VLOOKUP(AI116,男子種目コード!$A$1:$B$29,2,FALSE),IF(I116=2,VLOOKUP(AI116,女子種目コード!$D$35:$E$61,2,FALSE))))","v":""},null,0,2,null,null,null,null,null,null,null,null,null,null,null,null,null,null,null,null,null,null,null,null,{"$f":"IF(O116=\"\",\"\",1)","v":""},0,0,0,{"$f":"SUM(BH116:BK116)","v":0},null,null,0,"",""]

{"sheet":"駅伝申込用紙","index":16,"n_rows":61,"n_cols":22,"rows_kept":61,"cut":false,"hidden":false,"merged":[[0,0,0,7],[48,4,48,6],[4,2,4,3],[6,2,6,3],[8,2,8,3],[44,2,44,3],[14,4,14,5],[28,4,28,5]]}
["三重県高校駅伝競走大会申込書　"]
[]
[]
[]
[null,"学校名",{"$f":"IF(名簿!$P$9=\"\",\"\",名簿!$P$9)","v":""}]
[]
[null,"総監督",{"$f":"IF(名簿!$E$5=\"\",\"\",名簿!$E$5)","v":""},null,null,null,null,null,null,null,null,"(",")"]
[]
[null,"連絡先",{"$f":"IF(名簿!$I$5=\"\",\"\",名簿!$I$5)","v":""}]
[null,null,null,null,null,null,null,null,"申込書と駅伝資料を入力・印刷の上、委員長まで郵送して下さい"]
[]
[]
[null,"男子"]
[null,null,"登録No","氏名","フリガナ","学年",null,null,null,null,null,"監督",{"$f":"E16","v":""},{"$f":"E17","v":""},{"$f":"E18","v":""},{"$f":"E19","v":""},{"$f":"E20","v":""},{"$f":"E21","v":""},{"$f":"E22","v":""},{"$f":"E23","v":""},{"$f":"E24","v":""},{"$f":"E25","v":""}]
[null,"男子監督",null,{"$f":"C7","v":""},null,null,null,null,null,null,{"$f":"C5","v":""},{"$f":"D15","v":""},{"$f":"CONCATENATE(D16,$L$7,F16,$M$7)","v":"()"},{"$f":"CONCATENATE(D17,L7,F17,M7)","v":"()"},{"$f":"CONCATENATE(D18,L7,F18,M7)","v":"()"},{"$f":"CONCATENATE(D19,L7,F19,M7)","v":"()"},{"$f":"CONCATENATE(D20,L7,F20,M7)","v":"()"},{"$f":"CONCATENATE(D21,L7,F21,M7)","v":"()"},{"$f":"CONCATENATE(D22,L7,F22,M7)","v":"()"},{"$f":"CONCATENATE(D23,L7,F23,M7)","v":"()"},{"$f":"CONCATENATE(D24,L7,F24,M7)","v":"()"},{"$f":"CONCATENATE(D25,L7,F25,M7)","v":"()"}]
[null,1,null,{"$f":"IF(C16=\"\",\"\",VLOOKUP(C16,名簿!$E$9:$BR$118,66,FALSE))","v":""},{"$f":"IF(C16=\"\",\"\",VLOOKUP(C16,名簿!$E$9:$Z$118,22,FALSE))","v":""},{"$f":"IF(C16=\"\",\"\",VLOOKUP(C16,名簿!$E$9:$R$118,5,FALSE))","v":""},null,null,null,{"$f":"IF(C16=\"\",\"\",VLOOKUP(C16,名簿!$E$9:$R$118,6,FALSE))","v":""}]
[null,2,null,{"$f":"IF(C17=\"\",\"\",VLOOKUP(C17,名簿!$E$9:$BR$118,66,FALSE))","v":""},{"$f":"IF(C17=\"\",\"\",VLOOKUP(C17,名簿!$E$9:$Z$118,22,FALSE))","v":""},{"$f":"IF(C17=\"\",\"\",VLOOKUP(C17,名簿!$E$9:$R$118,5,FALSE))","v":""},null,null,null,{"$f":"IF(C17=\"\",\"\",VLOOKUP(C17,名簿!$E$9:$R$118,6,FALSE))","v":""},null,"監督",{"$f":"E30","v":""},{"$f":"E31","v":""},{"$f":"E32","v":""},{"$f":"E33","v":""},{"$f":"E34","v":""},{"$f":"E35","v":""},{"$f":"E36","v":""},{"$f":"E37","v":""}]
[null,3,null,{"$f":"IF(C18=\"\",\"\",VLOOKUP(C18,名簿!$E$9:$BR$118,66,FALSE))","v":""},{"$f":"IF(C18=\"\",\"\",VLOOKUP(C18,名簿!$E$9:$Z$118,22,FALSE))","v":""},{"$f":"IF(C18=\"\",\"\",VLOOKUP(C18,名簿!$E$9:$R$118,5,FALSE))","v":""},null,null,null,{"$f":"IF(C18=\"\",\"\",VLOOKUP(C18,名簿!$E$9:$R$118,6,FALSE))","v":""},{"$f":"IF(D30=\"\",\"\",C5)","v":""},{"$f":"D29","v":""},{"$f":"CONCATENATE(D30,L7,F30,M7)","v":"()"},{"$f":"CONCATENATE(D31,L7,F31,M7)","v":"()"},{"$f":"CONCATENATE(D32,L7,F32,M7)","v":"()"},{"$f":"CONCATENATE(D33,L7,F33,M7)","v":"()"},{"$f":"CONCATENATE(D34,L7,F34,M7)","v":"()"},{"$f":"CONCATENATE(D35,L7,F35,M7)","v":"()"},{"$f":"CONCATENATE(D36,L7,F36,M7)","v":"()"},{"$f":"CONCATENATE(D37,L7,F37,M7)","v":"()"}]
[null,4,null,{"$f":"IF(C19=\"\",\"\",VLOOKUP(C19,名簿!$E$9:$BR$118,66,FALSE))","v":""},{"$f":"IF(C19=\"\",\"\",VLOOKUP(C19,名簿!$E$9:$Z$118,22,FALSE))","v":""},{"$f":"IF(C19=\"\",\"\",VLOOKUP(C19,名簿!$E$9:$R$118,5,FALSE))","v":""},null,null,null,{"$f":"IF(C19=\"\",\"\",VLOOKUP(C19,名簿!$E$9:$R$118,6,FALSE))","v":""}]
[null,5,null,{"$f":"IF(C20=\"\",\"\",VLOOKUP(C20,名簿!$E$9:$BR$118,66,FALSE))","v":""},{"$f":"IF(C20=\"\",\"\",VLOOKUP(C20,名簿!$E$9:$Z$118,22,FALSE))","v":""},{"$f":"IF(C20=\"\",\"\",VLOOKUP(C20,名簿!$E$9:$R$118,5,FALSE))","v":""},null,null,null,{"$f":"IF(C20=\"\",\"\",VLOOKUP(C20,名簿!$E$9:$R$118,6,FALSE))","v":""}]
[null,6,null,{"$f":"IF(C21=\"\",\"\",VLOOKUP(C21,名簿!$E$9:$BR$118,66,FALSE))","v":""},{"$f":"IF(C21=\"\",\"\",VLOOKUP(C21,名簿!$E$9:$Z$118,22,FALSE))","v":""},{"$f":"IF(C21=\"\",\"\",VLOOKUP(C21,名簿!$E$9:$R$118,5,FALSE))","v":""},null,null,null,{"$f":"IF(C21=\"\",\"\",VLOOKUP(C21,名簿!$E$9:$R$118,6,FALSE))","v":""}]
[null,7,null,{"$f":"IF(C22=\"\",\"\",VLOOKUP(C22,名簿!$E$9:$BR$118,66,FALSE))","v":""},{"$f":"IF(C22=\"\",\"\",VLOOKUP(C22,名簿!$E$9:$Z$118,22,FALSE))","v":""},{"$f":"IF(C22=\"\",\"\",VLOOKUP(C22,名簿!$E$9:$R$118,5,FALSE))","v":""},null,null,null,{"$f":"IF(C22=\"\",\"\",VLOOKUP(C22,名簿!$E$9:$R$118,6,FALSE))","v":""}]
[null,8,null,{"$f":"IF(C23=\"\",\"\",VLOOKUP(C23,名簿!$E$9:$BR$118,66,FALSE))","v":""},{"$f":"IF(C23=\"\",\"\",VLOOKUP(C23,名簿!$E$9:$Z$118,22,FALSE))","v":""},{"$f":"IF(C23=\"\",\"\",VLOOKUP(C23,名簿!$E$9:$R$118,5,FALSE))","v":""},null,null,null,{"$f":"IF(C23=\"\",\"\",VLOOKUP(C23,名簿!$E$9:$R$118,6,FALSE))","v":""}]
[null,9,null,{"$f":"IF(C24=\"\",\"\",VLOOKUP(C24,名簿!$E$9:$BR$118,66,FALSE))","v":""},{"$f":"IF(C24=\"\",\"\",VLOOKUP(C24,名簿!$E$9:$Z$118,22,FALSE))","v":""},{"$f":"IF(C24=\"\",\"\",VLOOKUP(C24,名簿!$E$9:$R$118,5,FALSE))","v":""},null,null,null,{"$f":"IF(C24=\"\",\"\",VLOOKUP(C24,名簿!$E$9:$R$118,6,FALSE))","v":""}]
[null,10,null,{"$f":"IF(C25=\"\",\"\",VLOOKUP(C25,名簿!$E$9:$BR$118,66,FALSE))","v":""},{"$f":"IF(C25=\"\",\"\",VLOOKUP(C25,名簿!$E$9:$Z$118,22,FALSE))","v":""},{"$f":"IF(C25=\"\",\"\",VLOOKUP(C25,名簿!$E$9:$R$118,5,FALSE))","v":""},null,null,null,{"$f":"IF(C25=\"\",\"\",VLOOKUP(C25,名簿!$E$9:$R$118,6,FALSE))","v":""}]
[]
[null,"女子"]
[null,null,"登録No","氏名","フリガナ","学年"]
[null,"女子監督",null,{"$f":"C7","v":""}]
[null,1,null,{"$f":"IF(C30=\"\",\"\",VLOOKUP(C30,名簿!$E$9:$BR$118,66,FALSE))","v":""},{"$f":"IF(C30=\"\",\"\",VLOOKUP(C30,名簿!$E$9:$Z$118,22,FALSE))","v":""},{"$f":"IF(C30=\"\",\"\",VLOOKUP(C30,名簿!$E$9:$R$118,5,FALSE))","v":""},null,null,null,{"$f":"IF(C30=\"\",\"\",VLOOKUP(C30,名簿!$E$9:$R$118,6,FALSE))","v":""}]
[null,2,null,{"$f":"IF(C31=\"\",\"\",VLOOKUP(C31,名簿!$E$9:$BR$118,66,FALSE))","v":""},{"$f":"IF(C31=\"\",\"\",VLOOKUP(C31,名簿!$E$9:$Z$118,22,FALSE))","v":""},{"$f":"IF(C31=\"\",\"\",VLOOKUP(C31,名簿!$E$9:$R$118,5,FALSE))","v":""},null,null,null,{"$f":"IF(C31=\"\",\"\",VLOOKUP(C31,名簿!$E$9:$R$118,6,FALSE))","v":""}]
[null,3,null,{"$f":"IF(C32=\"\",\"\",VLOOKUP(C32,名簿!$E$9:$BR$118,66,FALSE))","v":""},{"$f":"IF(C32=\"\",\"\",VLOOKUP(C32,名簿!$E$9:$Z$118,22,FALSE))","v":""},{"$f":"IF(C32=\"\",\"\",VLOOKUP(C32,名簿!$E$9:$R$118,5,FALSE))","v":""},null,null,null,{"$f":"IF(C32=\"\",\"\",VLOOKUP(C32,名簿!$E$9:$R$118,6,FALSE))","v":""}]
[null,4,null,{"$f":"IF(C33=\"\",\"\",VLOOKUP(C33,名簿!$E$9:$BR$118,66,FALSE))","v":""},{"$f":"IF(C33=\"\",\"\",VLOOKUP(C33,名簿!$E$9:$Z$118,22,FALSE))","v":""},{"$f":"IF(C33=\"\",\"\",VLOOKUP(C33,名簿!$E$9:$R$118,5,FALSE))","v":""},null,null,null,{"$f":"IF(C33=\"\",\"\",VLOOKUP(C33,名簿!$E$9:$R$118,6,FALSE))","v":""}]
[null,5,null,{"$f":"IF(C34=\"\",\"\",VLOOKUP(C34,名簿!$E$9:$BR$118,66,FALSE))","v":""},{"$f":"IF(C34=\"\",\"\",VLOOKUP(C34,名簿!$E$9:$Z$118,22,FALSE))","v":""},{"$f":"IF(C34=\"\",\"\",VLOOKUP(C34,名簿!$E$9:$R$118,5,FALSE))","v":""},null,null,null,{"$f":"IF(C34=\"\",\"\",VLOOKUP(C34,名簿!$E$9:$R$118,6,FALSE))","v":""}]
[null,6,null,{"$f":"IF(C35=\"\",\"\",VLOOKUP(C35,名簿!$E$9:$BR$118,66,FALSE))","v":""},{"$f":"IF(C35=\"\",\"\",VLOOKUP(C35,名簿!$E$9:$Z$118,22,FALSE))","v":""},{"$f":"IF(C35=\"\",\"\",VLOOKUP(C35,名簿!$E$9:$R$118,5,FALSE))","v":""},null,null,null,{"$f":"IF(C35=\"\",\"\",VLOOKUP(C35,名簿!$E$9:$R$118,6,FALSE))","v":""}]
[null,7,null,{"$f":"IF(C36=\"\",\"\",VLOOKUP(C36,名簿!$E$9:$BR$118,66,FALSE))","v":""},{"$f":"IF(C36=\"\",\"\",VLOOKUP(C36,名簿!$E$9:$Z$118,22,FALSE))","v":""},{"$f":"IF(C36=\"\",\"\",VLOOKUP(C36,名簿!$E$9:$R$118,5,FALSE))","v":""},null,null,null,{"$f":"IF(C36=\"\",\"\",VLOOKUP(C36,名簿!$E$9:$R$118,6,FALSE))","v":""}]
[null,8,null,{"$f":"IF(C37=\"\",\"\",VLOOKUP(C37,名簿!$E$9:$BR$118,66,FALSE))","v":""},{"$f":"IF(C37=\"\",\"\",VLOOKUP(C37,名簿!$E$9:$Z$118,22,FALSE))","v":""},{"$f":"IF(C37=\"\",\"\",VLOOKUP(C37,名簿!$E$9:$R$118,5,FALSE))","v":""},null,null,null,{"$f":"IF(C37=\"\",\"\",VLOOKUP(C37,名簿!$E$9:$R$118,6,FALSE))","v":""}]
[]
[]
[]
[]
[]
[null,"上記、本校生徒の出場を認めます。"]
[]
[null,null,{"$f":"TODAY()","v":"2018-08-24"}]
[]
[null,null,null,{"$f":"C5","v":""},"高等学校"]
[]
[null,null,null,"学校長",null,null,null,"印"]
[]
[]
[]
[null,null,null,null,null,null,"チームN0"]
[]
[]
[null,"注意事項"]
[null,"登録選手はNOの所に登録NOを入力して下さい。氏名フリガナが表示されます。"]
[null,"未登録の選手は登録の上、直接入力して下さい。"]
[null,"監督が違う場合は削除の上、直接入力して下さい。"]
[]
[null,"学校長氏名捺印の上、指定場所まで郵送して下さい。"]

{"sheet":"男子資料","index":17,"n_rows":34,"n_cols":87,"rows_kept":34,"cut":false,"hidden":false,"merged":[[8,29,9,36],[8,24,9,28],[10,0,11,1],[8,0,9,1],[8,17,9,18],[8,19,9,23],[24,0,25,1],[26,0,27,1],[28,0,29,1],[12,0,13,1],[14,0,15,1],[16,0,17,1],[18,0,19,1],[20,0,21,1],[22,0,23,1]]}
[null,null,null,null,null,"全国高校駅伝競走大会三重県予選会　　出場校資料",null,null,null,null,null,null,null,null,null,null,null,null,null,null,null,null,null,null,null,null,null,null,null,null,null,null,null,null,null,null,null,null,null,null,null,null,"＜男子用＞",null,null,null,null,null,null,null,null,null,null,null,null,null,null,null,null,null,null,null,null,null,null,null,"高体連陸上競技部・NHK・毎日新聞社"]
[]
["学校名",null,null,null,null,null,null,null,null,null,null,null,null,null,null,null,null,null,null,null,null,null,"ゼッケン",null,null,null,null,null,null,null,null,null,null,null,"所在地・電話番号"]
[]
["学校の歴史",null,null,null,null,null,null,null,null,null,null,null,null,null,null,null,null,null,null,null,null,null,null,null,null,null,null,null,null,null,null,null,null,null,"学校の立地・風景"]
[]
["創部",null,null,null,null,null,null,null,null,null,null,null,null,null,null,null,null,null,null,"男子部員数",null,null,null,null,null,null,null,null,null,null,null,null,null,null,"県大会最高順位",null,null,null,null,null,null,null,null,null,null,null,null,null,null,null,null,null,null,null,null,null,null,null,null,"過去最高記録"]
[]
["区間",null,null,null,null,null,null,"（フリガナ）",null,null,null,null,null,null,null,null,null,"学年",null,"身長",null,null,null,null,"体重",null,null,null,null,"出身中学校",null,null,null,null,null,null,null,"最高記録",null,null,null,null,null,null,null,null,null,null,null,null,null,null,null,null,null,null,null,"主な大会成績",null,null,null,null,null,null,null,null,null,null,null,null,null,null,"選手の特色"]
[null,null,null,null,null,"氏",null,null,null,null,null,null,"名",null,null,null,null,null,null,null,null,null,null,null,null,null,null,null,null,null,null,null,null,null,null,null,null,"１５００ｍ",null,null,null,null,"５０００ｍ",null,null,null,null,"１００００ｍ",null,null,null,null,"３０００SC",null,null,null,null,null,"（大会名・種目・順位等）",null,null,null,null,null,null,null,null,null,null,null,null,null,"　","（走法・競技歴・性格等）"]
["１区"]
[]
["２区"]
[]
["３区"]
[]
["４区"]
[]
["５区"]
[]
["６区"]
[]
["７区"]
[]
["補欠"]
[]
["補欠"]
[]
["補欠"]
[]
["監督",null,null,null,null,null,null,null,null,null,null,null,null,null,null,null,null,"年齢",null,"出身地",null,null,null,null,null,null,null,null,null,"監督就任年月",null,null,null,null,null,null,null,null,null,null,null,null,null,"競技歴（出身校・種目・実績等）",null,null,null,null,null,null,null,null,null,null,null,null,null,null,null,null,null,null,null,null,null,null,null,null,"性格・指導方針等"]
[]
["今年のチームの特色（期待の選手・ﾕﾆｰｸな選手などを含めて詳しく）",null,null,null,null,null,null,null,null,null,null,null,null,null,null,null,null,null,null,null,null,null,null,null,null,null,null,null,null,null,"ﾄﾚｰﾆﾝｸﾞ方法等その他ｱﾋﾟｰﾙしたいこと",null,null,null,null,null,null,null,null,null,null,null,null,null,null,null,null,null,null,null,null,null,null,null,null,null,null,null,null,null,"今大会の抱負"]
[null,null,null,null,null,null,null,null,null,null,null,null,null,null,null,null,null,null,null,null,null,null,null,null,null,null,null,null,null,null,null,null,null,null,null,null,null,null,null,null,null,null,null,null,null,null,null,null,null,null,null,null,null,null,null,null,null,null,null,null,null,"目標",null,null,null,null,null,"位",null,null,null,null,null,null,"時間　",null,null,null,null,null,null,"分",null,null,null,null,"秒"]

{"sheet":"女子資料","index":18,"n_rows":30,"n_cols":87,"rows_kept":30,"cut":false,"hidden":false,"merged":[[24,0,25,1],[12,0,13,1],[14,0,15,1],[16,0,17,1],[18,0,19,1],[20,0,21,1],[22,0,23,1],[8,17,9,18],[8,19,9,23],[8,24,9,28],[8,29,9,36],[10,0,11,1],[8,0,9,1]]}
[null,null,null,null,null,"全国高校駅伝競走大会三重県予選会　　出場校資料",null,null,null,null,null,null,null,null,null,null,null,null,null,null,null,null,null,null,null,null,null,null,null,null,null,null,null,null,null,null,null,null,null,null,null,null,null,"＜女子用＞",null,null,null,null,null,null,null,null,null,null,null,null,null,null,null,null,null,null,null,null,null,"高体連陸上競技部・NHK・毎日新聞社"]
[]
["学校名",null,null,null,null,null,null,null,null,null,null,null,null,null,null,null,null,null,null,null,null,null,"ゼッケン",null,null,null,null,null,null,null,null,null,null,null,"所在地・電話番号"]
[]
["学校の歴史",null,null,null,null,null,null,null,null,null,null,null,null,null,null,null,null,null,null,null,null,null,null,null,null,null,null,null,null,null,null,null,null,null,"学校の立地・風景"]
[]
["創部",null,null,null,null,null,null,null,null,null,null,null,null,null,null,null,null,null,null,"女子部員数",null,null,null,null,null,null,null,null,null,null,null,null,null,null,"県大会最高順位",null,null,null,null,null,null,null,null,null,null,null,null,null,null,null,null,null,null,null,null,null,null,null,null,"過去最高記録"]
[]
["区間",null,null,null,null,null,null,"（フリガナ）",null,null,null,null,null,null,null,null,null,"学年",null,"身長",null,null,null,null,"体重",null,null,null,null,"出身中学校",null,null,null,null,null,null,null,"最高記録",null,null,null,null,null,null,null,null,null,null,null,null,null,null,null,null,null,null,null,"主な大会成績",null,null,null,null,null,null,null,null,null,null,null,null,null,null,"選手の特色"]
[null,null,null,null,null,"氏",null,null,null,null,null,null,"名",null,null,null,null,null,null,null,null,null,null,null,null,null,null,null,null,null,null,null,null,null,null,null,null,null,"８００ｍ",null,null,null,"１５００ｍ",null,null,null,null,"３０００ｍ",null,null,null,null,"５０００ｍ",null,null,null,null,null,"（大会名・種目・順位等）",null,null,null,null,null,null,null,null,null,null,null,null,null,"　","（走法・競技歴・性格等）"]
["１区"]
[]
["２区"]
[]
["３区"]
[]
["４区"]
[]
["５区"]
[]
["補欠"]
[]
["補欠"]
[]
["補欠"]
[]
["監督",null,null,null,null,null,null,null,null,null,null,null,null,null,null,null,null,"年齢",null,"出身地",null,null,null,null,null,null,null,null,null,"監督就任年月",null,null,null,null,null,null,null,null,null,null,null,null,null,"競技歴（出身校・種目・実績等）",null,null,null,null,null,null,null,null,null,null,null,null,null,null,null,null,null,null,null,null,null,null,null,null,"性格・指導方針等"]
[]
["今年のチームの特色（期待の選手・ﾕﾆｰｸな選手などを含めて詳しく）",null,null,null,null,null,null,null,null,null,null,null,null,null,null,null,null,null,null,null,null,null,null,null,null,null,null,null,null,null,"ﾄﾚｰﾆﾝｸﾞ方法等その他ｱﾋﾟｰﾙしたいこと",null,null,null,null,null,null,null,null,null,null,null,null,null,null,null,null,null,null,null,null,null,null,null,null,null,null,null,null,null,"今大会の抱負"]
[null,null,null,null,null,null,null,null,null,null,null,null,null,null,null,null,null,null,null,null,null,null,null,null,null,null,null,null,null,null,null,null,null,null,null,null,null,null,null,null,null,null,null,null,null,null,null,null,null,null,null,null,null,null,null,null,null,null,null,null,null,"目標",null,null,null,null,null,"位",null,null,null,null,null,null,"時間　",null,null,null,null,null,null,"分",null,null,null,null,"秒"]

{"sheet":"駅伝オーダー用紙","index":19,"n_rows":41,"n_cols":12,"rows_kept":41,"cut":false,"hidden":false,"merged":[[4,2,4,3],[6,2,6,3],[8,2,8,3],[0,1,0,6],[1,1,1,6]]}
[null,"三重県高校駅伝競走大会オーダー用紙　"]
[]
[]
[]
[null,"学校名",{"$f":"IF(名簿!$P$9=\"\",\"\",名簿!$P$9)","v":""}]
[]
[null,"監督名",{"$f":"IF(名簿!$E$5=\"\",\"\",名簿!$E$5)","v":""}]
[]
[null,"連絡先",{"$f":"IF(名簿!$I$5=\"\",\"\",名簿!$I$5)","v":""}]
[]
[]
[]
[null,"男子",null,null,null,null,null,null,null,null,"(",")"]
[null,null,"No","氏名","フリガナ","学年","区間を入力して下さい",null,"区間","名前"]
[{"$f":"G15","v":0},1,{"$f":"駅伝申込用紙!C16","v":0},{"$f":"駅伝申込用紙!D16","v":""},{"$f":"駅伝申込用紙!E16","v":""},{"$f":"駅伝申込用紙!F16","v":""},null,null,1,{"$f":"CONCATENATE(VLOOKUP(I15,$A$15:$E$24,4,FALSE),$K$13,VLOOKUP(I15,$A$15:$F$24,6,FALSE),$L$13)","v":{"$error":"#N/A"}}]
[{"$f":"G16","v":0},2,{"$f":"駅伝申込用紙!C17","v":0},{"$f":"駅伝申込用紙!D17","v":""},{"$f":"駅伝申込用紙!E17","v":""},{"$f":"駅伝申込用紙!F17","v":""},null,null,2,{"$f":"CONCATENATE(VLOOKUP(I16,$A$15:$E$24,4,FALSE),$K$13,VLOOKUP(I16,$A$15:$F$24,6,FALSE),$L$13)","v":{"$error":"#N/A"}}]
[0,3,{"$f":"駅伝申込用紙!C18","v":0},{"$f":"駅伝申込用紙!D18","v":""},{"$f":"駅伝申込用紙!E18","v":""},{"$f":"駅伝申込用紙!F18","v":""},null,null,3,{"$error":"#N/A"}]
[0,4,{"$f":"駅伝申込用紙!C19","v":0},{"$f":"駅伝申込用紙!D19","v":""},{"$f":"駅伝申込用紙!E19","v":""},{"$f":"駅伝申込用紙!F19","v":""},null,null,4,{"$error":"#N/A"}]
[0,5,{"$f":"駅伝申込用紙!C20","v":0},{"$f":"駅伝申込用紙!D20","v":""},{"$f":"駅伝申込用紙!E20","v":""},{"$f":"駅伝申込用紙!F20","v":""},null,null,5,{"$error":"#N/A"}]
[0,6,{"$f":"駅伝申込用紙!C21","v":0},{"$f":"駅伝申込用紙!D21","v":""},{"$f":"駅伝申込用紙!E21","v":""},{"$f":"駅伝申込用紙!F21","v":""},null,null,6,{"$error":"#N/A"}]
[0,7,{"$f":"駅伝申込用紙!C22","v":0},{"$f":"駅伝申込用紙!D22","v":""},{"$f":"駅伝申込用紙!E22","v":""},{"$f":"駅伝申込用紙!F22","v":""},null,null,7,{"$error":"#N/A"}]
[0,8,{"$f":"駅伝申込用紙!C23","v":0},{"$f":"駅伝申込用紙!D23","v":""},{"$f":"駅伝申込用紙!E23","v":""},{"$f":"駅伝申込用紙!F23","v":""}]
[0,9,{"$f":"駅伝申込用紙!C24","v":0},{"$f":"駅伝申込用紙!D24","v":""},{"$f":"駅伝申込用紙!E24","v":""},{"$f":"駅伝申込用紙!F24","v":""}]
[0,10,{"$f":"駅伝申込用紙!C25","v":0},{"$f":"駅伝申込用紙!D25","v":""},{"$f":"駅伝申込用紙!E25","v":""},{"$f":"駅伝申込用紙!F25","v":""}]
[]
[null,"女子"]
[null,null,"No","氏名","フリガナ","学年","区間を入力して下さい",null,"区間","名前"]
[{"$f":"G28","v":0},1,{"$f":"駅伝申込用紙!C30","v":0},{"$f":"駅伝申込用紙!D30","v":""},{"$f":"駅伝申込用紙!E30","v":""},{"$f":"駅伝申込用紙!F30","v":""},null,null,1,{"$f":"CONCATENATE(VLOOKUP(I28,$A$28:$E$35,4,FALSE),$K$13,VLOOKUP(I28,$A$28:$F$35,6,FALSE),$L$13)","v":{"$error":"#N/A"}}]
[{"$f":"G29","v":0},2,{"$f":"駅伝申込用紙!C31","v":0},{"$f":"駅伝申込用紙!D31","v":""},{"$f":"駅伝申込用紙!E31","v":""},{"$f":"駅伝申込用紙!F31","v":""},null,null,2,{"$f":"CONCATENATE(VLOOKUP(I29,$A$28:$E$35,4,FALSE),$K$13,VLOOKUP(I29,$A$28:$F$35,6,FALSE),$L$13)","v":{"$error":"#N/A"}}]
[0,3,{"$f":"駅伝申込用紙!C32","v":0},{"$f":"駅伝申込用紙!D32","v":""},{"$f":"駅伝申込用紙!E32","v":""},{"$f":"駅伝申込用紙!F32","v":""},null,null,3,{"$f":"CONCATENATE(VLOOKUP(I30,$A$28:$E$35,4,FALSE),$K$13,VLOOKUP(I30,$A$28:$F$35,6,FALSE),$L$13)","v":{"$error":"#N/A"}}]
[0,4,{"$f":"駅伝申込用紙!C33","v":0},{"$f":"駅伝申込用紙!D33","v":""},{"$f":"駅伝申込用紙!E33","v":""},{"$f":"駅伝申込用紙!F33","v":""},null,null,4,{"$f":"CONCATENATE(VLOOKUP(I31,$A$28:$E$35,4,FALSE),$K$13,VLOOKUP(I31,$A$28:$F$35,6,FALSE),$L$13)","v":{"$error":"#N/A"}}]
[0,5,{"$f":"駅伝申込用紙!C34","v":0},{"$f":"駅伝申込用紙!D34","v":""},{"$f":"駅伝申込用紙!E34","v":""},{"$f":"駅伝申込用紙!F34","v":""},null,null,5,{"$f":"CONCATENATE(VLOOKUP(I32,$A$28:$E$35,4,FALSE),$K$13,VLOOKUP(I32,$A$28:$F$35,6,FALSE),$L$13)","v":{"$error":"#N/A"}}]
[0,6,{"$f":"駅伝申込用紙!C35","v":0},{"$f":"駅伝申込用紙!D35","v":""},{"$f":"駅伝申込用紙!E35","v":""},{"$f":"駅伝申込用紙!F35","v":""}]
[0,7,{"$f":"駅伝申込用紙!C36","v":0},{"$f":"駅伝申込用紙!D36","v":""},{"$f":"駅伝申込用紙!E36","v":""},{"$f":"駅伝申込用紙!F36","v":""}]
[0,8,{"$f":"駅伝申込用紙!C37","v":0},{"$f":"駅伝申込用紙!D37","v":""},{"$f":"駅伝申込用紙!E37","v":""},{"$f":"駅伝申込用紙!F37","v":""}]
[]
[null,"選手の変更はできません。走順のみ入力して下さい。"]
[null,"補欠は空白で構いません。"]
[]
[]
[null,null,null,null,null,"チームN0"]

{"sheet":"ロードレース","index":20,"n_rows":117,"n_cols":38,"rows_kept":117,"cut":false,"hidden":false,"merged":[[1,12,1,13],[5,36,5,37],[1,7,1,8],[1,14,1,15]]}
[null,null,null,null,"所属名",{"$f":"IF(名簿!$P$9=\"\",\"\",名簿!$P$9)","v":""},null,null,"中日三重お伊勢さんマラソン"]
[null,null,null,null,"所属コード",{"$f":"名簿!$Q$9","v":""}]
[null,null,null,null,"顧問名",{"$f":"IF(名簿!$E$5=\"\",\"\",名簿!$E$5)","v":""}]
[null,null,null,null,"顧問連絡先",{"$f":"IF(名簿!$I$5=\"\",\"\",名簿!$I$5)","v":""},null,null,"大会参加費",null,null,null,null,null,{"$f":"AL9*1000","v":0}]
[]
["競技者コード","所属コード",null,null,"ナンバー","名前","カナ名","掲示板名","性別","学年","生年","生年月日(年)","個人所属地コード","陸連コード","種目","コード","記録",null,null,"種目2",null,null,null,null,null,null,null,null,null,null,null,null,null,null,null,null,"種目別人数"]
[null,{"$f":"名簿!Q9","v":""},null,null,{"$f":"名簿!E9","v":0},{"$f":"名簿!BR9","v":""},{"$f":"名簿!Z9","v":""},{"$f":"F7","v":""},{"$f":"名簿!O9","v":""},{"$f":"名簿!I9","v":0},{"$f":"名簿!K9","v":0},{"$f":"名簿!BU9","v":"00"},{"$f":"名簿!R9","v":""},{"$f":"名簿!D9","v":0},null,{"$f":"IF(O7=\"\",\"\",IF(I7=1,VLOOKUP(O7,男子種目コード!$V$22:$W$26,2,FALSE),IF(I7=2,VLOOKUP(O7,女子種目コード!$V$22:$W$26,2,FALSE))))","v":""},{"$f":"IF(O7=\"\",\"\",HLOOKUP(O7,名簿!$AB$8:$BK$118,2,FALSE))","v":""},{"$f":"$F$1","v":""},"高校",{"$f":"CONCATENATE(R7,S7)","v":"高校"},null,null,null,null,null,null,null,null,null,null,null,null,null,null,"高校10ｋ",{"$f":"IF(O7=\"\",\"\",1)","v":""},"男子10k",{"$f":"COUNTIF($P$7:$P$116,3)","v":0}]
[null,{"$f":"名簿!Q10","v":""},null,null,{"$f":"名簿!E10","v":0},{"$f":"名簿!BR10","v":""},{"$f":"名簿!Z10","v":""},"",{"$f":"名簿!O10","v":""},{"$f":"名簿!I10","v":0},{"$f":"名簿!K10","v":0},{"$f":"名簿!BU10","v":"00"},{"$f":"名簿!R10","v":""},{"$f":"名簿!D10","v":0},null,{"$f":"IF(O8=\"\",\"\",IF(I8=1,VLOOKUP(O8,男子種目コード!$V$22:$W$26,2,FALSE),IF(I8=2,VLOOKUP(O8,女子種目コード!$V$22:$W$26,2,FALSE))))","v":""},{"$f":"IF(O8=\"\",\"\",HLOOKUP(O8,名簿!$AB$8:$BK$118,3,FALSE))","v":""},{"$f":"$F$1","v":""},"高校",{"$f":"CONCATENATE(R8,S8)","v":"高校"},null,null,null,null,null,null,null,null,null,null,null,null,null,null,"女子5ｋ","","女子5k",{"$f":"COUNTIF($P$7:$P$116,7)","v":0}]
[null,{"$f":"名簿!Q11","v":""},null,null,{"$f":"名簿!E11","v":0},{"$f":"名簿!BR11","v":""},{"$f":"名簿!Z11","v":""},"",{"$f":"名簿!O11","v":""},{"$f":"名簿!I11","v":0},{"$f":"名簿!K11","v":0},{"$f":"名簿!BU11","v":"00"},{"$f":"名簿!R11","v":""},{"$f":"名簿!D11","v":0},null,{"$f":"IF(O9=\"\",\"\",IF(I9=1,VLOOKUP(O9,男子種目コード!$V$22:$W$26,2,FALSE),IF(I9=2,VLOOKUP(O9,女子種目コード!$V$22:$W$26,2,FALSE))))","v":""},{"$f":"IF(O9=\"\",\"\",HLOOKUP(O9,名簿!$AB$8:$BK$118,4,FALSE))","v":""},"","高校","高校",null,null,null,null,null,null,null,null,null,null,null,null,null,null,null,"","合計",{"$f":"SUM(AL7:AL8)","v":0}]
[null,{"$f":"名簿!Q12","v":""},null,null,{"$f":"名簿!E12","v":0},{"$f":"名簿!BR12","v":""},{"$f":"名簿!Z12","v":""},"",{"$f":"名簿!O12","v":""},{"$f":"名簿!I12","v":0},{"$f":"名簿!K12","v":0},{"$f":"名簿!BU12","v":"00"},{"$f":"名簿!R12","v":""},{"$f":"名簿!D12","v":0},null,{"$f":"IF(O10=\"\",\"\",IF(I10=1,VLOOKUP(O10,男子種目コード!$V$22:$W$26,2,FALSE),IF(I10=2,VLOOKUP(O10,女子種目コード!$V$22:$W$26,2,FALSE))))","v":""},{"$f":"IF(O10=\"\",\"\",HLOOKUP(O10,名簿!$AB$8:$BK$118,5,FALSE))","v":""},"","高校","高校",null,null,null,null,null,null,null,null,null,null,null,null,null,null,null,""]
[null,{"$f":"名簿!Q13","v":""},null,null,{"$f":"名簿!E13","v":0},{"$f":"名簿!BR13","v":""},{"$f":"名簿!Z13","v":""},"",{"$f":"名簿!O13","v":""},{"$f":"名簿!I13","v":0},{"$f":"名簿!K13","v":0},{"$f":"名簿!BU13","v":"00"},{"$f":"名簿!R13","v":""},{"$f":"名簿!D13","v":0},null,{"$f":"IF(O11=\"\",\"\",IF(I11=1,VLOOKUP(O11,男子種目コード!$V$22:$W$26,2,FALSE),IF(I11=2,VLOOKUP(O11,女子種目コード!$V$22:$W$26,2,FALSE))))","v":""},{"$f":"IF(O11=\"\",\"\",HLOOKUP(O11,名簿!$AB$8:$BK$118,6,FALSE))","v":""},"","高校","高校",null,null,null,null,null,null,null,null,null,null,null,null,null,null,null,"","男子は5000mの記録"]
[null,{"$f":"名簿!Q14","v":""},null,null,{"$f":"名簿!E14","v":0},{"$f":"名簿!BR14","v":""},{"$f":"名簿!Z14","v":""},"",{"$f":"名簿!O14","v":""},{"$f":"名簿!I14","v":0},{"$f":"名簿!K14","v":0},{"$f":"名簿!BU14","v":"00"},{"$f":"名簿!R14","v":""},{"$f":"名簿!D14","v":0},null,{"$f":"IF(O12=\"\",\"\",IF(I12=1,VLOOKUP(O12,男子種目コード!$V$22:$W$26,2,FALSE),IF(I12=2,VLOOKUP(O12,女子種目コード!$V$22:$W$26,2,FALSE))))","v":""},{"$f":"IF(O12=\"\",\"\",HLOOKUP(O12,名簿!$AB$8:$BK$118,7,FALSE))","v":""},"","高校","高校",null,null,null,null,null,null,null,null,null,null,null,null,null,null,null,"","女子は3000mの記録"]
[null,{"$f":"名簿!Q15","v":""},null,null,{"$f":"名簿!E15","v":0},{"$f":"名簿!BR15","v":""},{"$f":"名簿!Z15","v":""},"",{"$f":"名簿!O15","v":""},{"$f":"名簿!I15","v":0},{"$f":"名簿!K15","v":0},{"$f":"名簿!BU15","v":"00"},{"$f":"名簿!R15","v":""},{"$f":"名簿!D15","v":0},null,{"$f":"IF(O13=\"\",\"\",IF(I13=1,VLOOKUP(O13,男子種目コード!$V$22:$W$26,2,FALSE),IF(I13=2,VLOOKUP(O13,女子種目コード!$V$22:$W$26,2,FALSE))))","v":""},{"$f":"IF(O13=\"\",\"\",HLOOKUP(O13,名簿!$AB$8:$BK$118,8,FALSE))","v":""},"","高校","高校",null,null,null,null,null,null,null,null,null,null,null,null,null,null,null,""]
[null,{"$f":"名簿!Q16","v":""},null,null,{"$f":"名簿!E16","v":0},{"$f":"名簿!BR16","v":""},{"$f":"名簿!Z16","v":""},"",{"$f":"名簿!O16","v":""},{"$f":"名簿!I16","v":0},{"$f":"名簿!K16","v":0},{"$f":"名簿!BU16","v":"00"},{"$f":"名簿!R16","v":""},{"$f":"名簿!D16","v":0},null,{"$f":"IF(O14=\"\",\"\",IF(I14=1,VLOOKUP(O14,男子種目コード!$V$22:$W$26,2,FALSE),IF(I14=2,VLOOKUP(O14,女子種目コード!$V$22:$W$26,2,FALSE))))","v":""},{"$f":"IF(O14=\"\",\"\",HLOOKUP(O14,名簿!$AB$8:$BK$118,9,FALSE))","v":""},"","高校","高校",null,null,null,null,null,null,null,null,null,null,null,null,null,null,null,""]
[null,{"$f":"名簿!Q17","v":""},null,null,{"$f":"名簿!E17","v":0},{"$f":"名簿!BR17","v":""},{"$f":"名簿!Z17","v":""},"",{"$f":"名簿!O17","v":""},{"$f":"名簿!I17","v":0},{"$f":"名簿!K17","v":0},{"$f":"名簿!BU17","v":"00"},{"$f":"名簿!R17","v":""},{"$f":"名簿!D17","v":0},null,{"$f":"IF(O15=\"\",\"\",IF(I15=1,VLOOKUP(O15,男子種目コード!$V$22:$W$26,2,FALSE),IF(I15=2,VLOOKUP(O15,女子種目コード!$V$22:$W$26,2,FALSE))))","v":""},{"$f":"IF(O15=\"\",\"\",HLOOKUP(O15,名簿!$AB$8:$BK$118,10,FALSE))","v":""},"","高校","高校",null,null,null,null,null,null,null,null,null,null,null,null,null,null,null,""]
[null,{"$f":"名簿!Q18","v":""},null,null,{"$f":"名簿!E18","v":0},{"$f":"名簿!BR18","v":""},{"$f":"名簿!Z18","v":""},"",{"$f":"名簿!O18","v":""},{"$f":"名簿!I18","v":0},{"$f":"名簿!K18","v":0},{"$f":"名簿!BU18","v":"00"},{"$f":"名簿!R18","v":""},{"$f":"名簿!D18","v":0},null,{"$f":"IF(O16=\"\",\"\",IF(I16=1,VLOOKUP(O16,男子種目コード!$V$22:$W$26,2,FALSE),IF(I16=2,VLOOKUP(O16,女子種目コード!$V$22:$W$26,2,FALSE))))","v":""},{"$f":"IF(O16=\"\",\"\",HLOOKUP(O16,名簿!$AB$8:$BK$118,11,FALSE))","v":""},"","高校","高校",null,null,null,null,null,null,null,null,null,null,null,null,null,null,null,""]
[null,{"$f":"名簿!Q19","v":""},null,null,{"$f":"名簿!E19","v":0},{"$f":"名簿!BR19","v":""},{"$f":"名簿!Z19","v":""},"",{"$f":"名簿!O19","v":""},{"$f":"名簿!I19","v":0},{"$f":"名簿!K19","v":0},{"$f":"名簿!BU19","v":"00"},{"$f":"名簿!R19","v":""},{"$f":"名簿!D19","v":0},null,{"$f":"IF(O17=\"\",\"\",IF(I17=1,VLOOKUP(O17,男子種目コード!$V$22:$W$26,2,FALSE),IF(I17=2,VLOOKUP(O17,女子種目コード!$V$22:$W$26,2,FALSE))))","v":""},{"$f":"IF(O17=\"\",\"\",HLOOKUP(O17,名簿!$AB$8:$BK$118,12,FALSE))","v":""},"","高校","高校",null,null,null,null,null,null,null,null,null,null,null,null,null,null,null,""]
[null,{"$f":"名簿!Q20","v":""},null,null,{"$f":"名簿!E20","v":0},{"$f":"名簿!BR20","v":""},{"$f":"名簿!Z20","v":""},"",{"$f":"名簿!O20","v":""},{"$f":"名簿!I20","v":0},{"$f":"名簿!K20","v":0},{"$f":"名簿!BU20","v":"00"},{"$f":"名簿!R20","v":""},{"$f":"名簿!D20","v":0},null,{"$f":"IF(O18=\"\",\"\",IF(I18=1,VLOOKUP(O18,男子種目コード!$V$22:$W$26,2,FALSE),IF(I18=2,VLOOKUP(O18,女子種目コード!$V$22:$W$26,2,FALSE))))","v":""},{"$f":"IF(O18=\"\",\"\",HLOOKUP(O18,名簿!$AB$8:$BK$118,13,FALSE))","v":""},"","高校","高校",null,null,null,null,null,null,null,null,null,null,null,null,null,null,null,""]
[null,{"$f":"名簿!Q21","v":""},null,null,{"$f":"名簿!E21","v":0},{"$f":"名簿!BR21","v":""},{"$f":"名簿!Z21","v":""},"",{"$f":"名簿!O21","v":""},{"$f":"名簿!I21","v":0},{"$f":"名簿!K21","v":0},{"$f":"名簿!BU21","v":"00"},{"$f":"名簿!R21","v":""},{"$f":"名簿!D21","v":0},null,{"$f":"IF(O19=\"\",\"\",IF(I19=1,VLOOKUP(O19,男子種目コード!$V$22:$W$26,2,FALSE),IF(I19=2,VLOOKUP(O19,女子種目コード!$V$22:$W$26,2,FALSE))))","v":""},{"$f":"IF(O19=\"\",\"\",HLOOKUP(O19,名簿!$AB$8:$BK$118,14,FALSE))","v":""},"","高校","高校",null,null,null,null,null,null,null,null,null,null,null,null,null,null,null,""]
[null,{"$f":"名簿!Q22","v":""},null,null,{"$f":"名簿!E22","v":0},{"$f":"名簿!BR22","v":""},{"$f":"名簿!Z22","v":""},"",{"$f":"名簿!O22","v":""},{"$f":"名簿!I22","v":0},{"$f":"名簿!K22","v":0},{"$f":"名簿!BU22","v":"00"},{"$f":"名簿!R22","v":""},{"$f":"名簿!D22","v":0},null,{"$f":"IF(O20=\"\",\"\",IF(I20=1,VLOOKUP(O20,男子種目コード!$V$22:$W$26,2,FALSE),IF(I20=2,VLOOKUP(O20,女子種目コード!$V$22:$W$26,2,FALSE))))","v":""},{"$f":"IF(O20=\"\",\"\",HLOOKUP(O20,名簿!$AB$8:$BK$118,15,FALSE))","v":""},"","高校","高校",null,null,null,null,null,null,null,null,null,null,null,null,null,null,null,""]
[null,{"$f":"名簿!Q23","v":""},null,null,{"$f":"名簿!E23","v":0},{"$f":"名簿!BR23","v":""},{"$f":"名簿!Z23","v":""},"",{"$f":"名簿!O23","v":""},{"$f":"名簿!I23","v":0},{"$f":"名簿!K23","v":0},{"$f":"名簿!BU23","v":"00"},{"$f":"名簿!R23","v":""},{"$f":"名簿!D23","v":0},null,{"$f":"IF(O21=\"\",\"\",IF(I21=1,VLOOKUP(O21,男子種目コード!$V$22:$W$26,2,FALSE),IF(I21=2,VLOOKUP(O21,女子種目コード!$V$22:$W$26,2,FALSE))))","v":""},{"$f":"IF(O21=\"\",\"\",HLOOKUP(O21,名簿!$AB$8:$BK$118,16,FALSE))","v":""},"","高校","高校",null,null,null,null,null,null,null,null,null,null,null,null,null,null,null,""]
[null,{"$f":"名簿!Q24","v":""},null,null,{"$f":"名簿!E24","v":0},{"$f":"名簿!BR24","v":""},{"$f":"名簿!Z24","v":""},"",{"$f":"名簿!O24","v":""},{"$f":"名簿!I24","v":0},{"$f":"名簿!K24","v":0},{"$f":"名簿!BU24","v":"00"},{"$f":"名簿!R24","v":""},{"$f":"名簿!D24","v":0},null,{"$f":"IF(O22=\"\",\"\",IF(I22=1,VLOOKUP(O22,男子種目コード!$V$22:$W$26,2,FALSE),IF(I22=2,VLOOKUP(O22,女子種目コード!$V$22:$W$26,2,FALSE))))","v":""},{"$f":"IF(O22=\"\",\"\",HLOOKUP(O22,名簿!$AB$8:$BK$118,17,FALSE))","v":""},"","高校","高校",null,null,null,null,null,null,null,null,null,null,null,null,null,null,null,""]
[null,{"$f":"名簿!Q25","v":""},null,null,{"$f":"名簿!E25","v":0},{"$f":"名簿!BR25","v":""},{"$f":"名簿!Z25","v":""},"",{"$f":"名簿!O25","v":""},{"$f":"名簿!I25","v":0},{"$f":"名簿!K25","v":0},{"$f":"名簿!BU25","v":"00"},{"$f":"名簿!R25","v":""},{"$f":"名簿!D25","v":0},null,{"$f":"IF(O23=\"\",\"\",IF(I23=1,VLOOKUP(O23,男子種目コード!$V$22:$W$26,2,FALSE),IF(I23=2,VLOOKUP(O23,女子種目コード!$V$22:$W$26,2,FALSE))))","v":""},{"$f":"IF(O23=\"\",\"\",HLOOKUP(O23,名簿!$AB$8:$BK$118,18,FALSE))","v":""},"","高校","高校",null,null,null,null,null,null,null,null,null,null,null,null,null,null,null,""]
[null,{"$f":"名簿!Q26","v":""},null,null,{"$f":"名簿!E26","v":0},{"$f":"名簿!BR26","v":""},{"$f":"名簿!Z26","v":""},"",{"$f":"名簿!O26","v":""},{"$f":"名簿!I26","v":0},{"$f":"名簿!K26","v":0},{"$f":"名簿!BU26","v":"00"},{"$f":"名簿!R26","v":""},{"$f":"名簿!D26","v":0},null,{"$f":"IF(O24=\"\",\"\",IF(I24=1,VLOOKUP(O24,男子種目コード!$V$22:$W$26,2,FALSE),IF(I24=2,VLOOKUP(O24,女子種目コード!$V$22:$W$26,2,FALSE))))","v":""},{"$f":"IF(O24=\"\",\"\",HLOOKUP(O24,名簿!$AB$8:$BK$118,19,FALSE))","v":""},"","高校","高校",null,null,null,null,null,null,null,null,null,null,null,null,null,null,null,""]
[null,{"$f":"名簿!Q27","v":""},null,null,{"$f":"名簿!E27","v":0},{"$f":"名簿!BR27","v":""},{"$f":"名簿!Z27","v":""},"",{"$f":"名簿!O27","v":""},{"$f":"名簿!I27","v":0},{"$f":"名簿!K27","v":0},{"$f":"名簿!BU27","v":"00"},{"$f":"名簿!R27","v":""},{"$f":"名簿!D27","v":0},null,{"$f":"IF(O25=\"\",\"\",IF(I25=1,VLOOKUP(O25,男子種目コード!$V$22:$W$26,2,FALSE),IF(I25=2,VLOOKUP(O25,女子種目コード!$V$22:$W$26,2,FALSE))))","v":""},{"$f":"IF(O25=\"\",\"\",HLOOKUP(O25,名簿!$AB$8:$BK$118,20,FALSE))","v":""},"","高校","高校",null,null,null,null,null,null,null,null,null,null,null,null,null,null,null,""]
[null,{"$f":"名簿!Q28","v":""},null,null,{"$f":"名簿!E28","v":0},{"$f":"名簿!BR28","v":""},{"$f":"名簿!Z28","v":""},"",{"$f":"名簿!O28","v":""},{"$f":"名簿!I28","v":0},{"$f":"名簿!K28","v":0},{"$f":"名簿!BU28","v":"00"},{"$f":"名簿!R28","v":""},{"$f":"名簿!D28","v":0},null,{"$f":"IF(O26=\"\",\"\",IF(I26=1,VLOOKUP(O26,男子種目コード!$V$22:$W$26,2,FALSE),IF(I26=2,VLOOKUP(O26,女子種目コード!$V$22:$W$26,2,FALSE))))","v":""},{"$f":"IF(O26=\"\",\"\",HLOOKUP(O26,名簿!$AB$8:$BK$118,21,FALSE))","v":""},"","高校","高校",null,null,null,null,null,null,null,null,null,null,null,null,null,null,null,""]
[null,{"$f":"名簿!Q29","v":""},null,null,{"$f":"名簿!E29","v":0},{"$f":"名簿!BR29","v":""},{"$f":"名簿!Z29","v":""},"",{"$f":"名簿!O29","v":""},{"$f":"名簿!I29","v":0},{"$f":"名簿!K29","v":0},{"$f":"名簿!BU29","v":"00"},{"$f":"名簿!R29","v":""},{"$f":"名簿!D29","v":0},null,{"$f":"IF(O27=\"\",\"\",IF(I27=1,VLOOKUP(O27,男子種目コード!$V$22:$W$26,2,FALSE),IF(I27=2,VLOOKUP(O27,女子種目コード!$V$22:$W$26,2,FALSE))))","v":""},{"$f":"IF(O27=\"\",\"\",HLOOKUP(O27,名簿!$AB$8:$BK$118,22,FALSE))","v":""},"","高校","高校",null,null,null,null,null,null,null,null,null,null,null,null,null,null,null,""]
[null,{"$f":"名簿!Q30","v":""},null,null,{"$f":"名簿!E30","v":0},{"$f":"名簿!BR30","v":""},{"$f":"名簿!Z30","v":""},"",{"$f":"名簿!O30","v":""},{"$f":"名簿!I30","v":0},{"$f":"名簿!K30","v":0},{"$f":"名簿!BU30","v":"00"},{"$f":"名簿!R30","v":""},{"$f":"名簿!D30","v":0},null,{"$f":"IF(O28=\"\",\"\",IF(I28=1,VLOOKUP(O28,男子種目コード!$V$22:$W$26,2,FALSE),IF(I28=2,VLOOKUP(O28,女子種目コード!$V$22:$W$26,2,FALSE))))","v":""},{"$f":"IF(O28=\"\",\"\",HLOOKUP(O28,名簿!$AB$8:$BK$118,23,FALSE))","v":""},"","高校","高校",null,null,null,null,null,null,null,null,null,null,null,null,null,null,null,""]
[null,{"$f":"名簿!Q31","v":""},null,null,{"$f":"名簿!E31","v":0},{"$f":"名簿!BR31","v":""},{"$f":"名簿!Z31","v":""},"",{"$f":"名簿!O31","v":""},{"$f":"名簿!I31","v":0},{"$f":"名簿!K31","v":0},{"$f":"名簿!BU31","v":"00"},{"$f":"名簿!R31","v":""},{"$f":"名簿!D31","v":0},null,{"$f":"IF(O29=\"\",\"\",IF(I29=1,VLOOKUP(O29,男子種目コード!$V$22:$W$26,2,FALSE),IF(I29=2,VLOOKUP(O29,女子種目コード!$V$22:$W$26,2,FALSE))))","v":""},{"$f":"IF(O29=\"\",\"\",HLOOKUP(O29,名簿!$AB$8:$BK$118,24,FALSE))","v":""},"","高校","高校",null,null,null,null,null,null,null,null,null,null,null,null,null,null,null,""]
[null,{"$f":"名簿!Q32","v":""},null,null,{"$f":"名簿!E32","v":0},{"$f":"名簿!BR32","v":""},{"$f":"名簿!Z32","v":""},"",{"$f":"名簿!O32","v":""},{"$f":"名簿!I32","v":0},{"$f":"名簿!K32","v":0},{"$f":"名簿!BU32","v":"00"},{"$f":"名簿!R32","v":""},{"$f":"名簿!D32","v":0},null,{"$f":"IF(O30=\"\",\"\",IF(I30=1,VLOOKUP(O30,男子種目コード!$V$22:$W$26,2,FALSE),IF(I30=2,VLOOKUP(O30,女子種目コード!$V$22:$W$26,2,FALSE))))","v":""},{"$f":"IF(O30=\"\",\"\",HLOOKUP(O30,名簿!$AB$8:$BK$118,25,FALSE))","v":""},"","高校","高校",null,null,null,null,null,null,null,null,null,null,null,null,null,null,null,""]
[null,{"$f":"名簿!Q33","v":""},null,null,{"$f":"名簿!E33","v":0},{"$f":"名簿!BR33","v":""},{"$f":"名簿!Z33","v":""},"",{"$f":"名簿!O33","v":""},{"$f":"名簿!I33","v":0},{"$f":"名簿!K33","v":0},{"$f":"名簿!BU33","v":"00"},{"$f":"名簿!R33","v":""},{"$f":"名簿!D33","v":0},null,{"$f":"IF(O31=\"\",\"\",IF(I31=1,VLOOKUP(O31,男子種目コード!$V$22:$W$26,2,FALSE),IF(I31=2,VLOOKUP(O31,女子種目コード!$V$22:$W$26,2,FALSE))))","v":""},{"$f":"IF(O31=\"\",\"\",HLOOKUP(O31,名簿!$AB$8:$BK$118,26,FALSE))","v":""},"","高校","高校",null,null,null,null,null,null,null,null,null,null,null,null,null,null,null,""]
[null,{"$f":"名簿!Q34","v":""},null,null,{"$f":"名簿!E34","v":0},{"$f":"名簿!BR34","v":""},{"$f":"名簿!Z34","v":""},"",{"$f":"名簿!O34","v":""},{"$f":"名簿!I34","v":0},{"$f":"名簿!K34","v":0},{"$f":"名簿!BU34","v":"00"},{"$f":"名簿!R34","v":""},{"$f":"名簿!D34","v":0},null,{"$f":"IF(O32=\"\",\"\",IF(I32=1,VLOOKUP(O32,男子種目コード!$V$22:$W$26,2,FALSE),IF(I32=2,VLOOKUP(O32,女子種目コード!$V$22:$W$26,2,FALSE))))","v":""},{"$f":"IF(O32=\"\",\"\",HLOOKUP(O32,名簿!$AB$8:$BK$118,27,FALSE))","v":""},"","高校","高校",null,null,null,null,null,null,null,null,null,null,null,null,null,null,null,""]
[null,{"$f":"名簿!Q35","v":""},null,null,{"$f":"名簿!E35","v":0},{"$f":"名簿!BR35","v":""},{"$f":"名簿!Z35","v":""},"",{"$f":"名簿!O35","v":""},{"$f":"名簿!I35","v":0},{"$f":"名簿!K35","v":0},{"$f":"名簿!BU35","v":"00"},{"$f":"名簿!R35","v":""},{"$f":"名簿!D35","v":0},null,{"$f":"IF(O33=\"\",\"\",IF(I33=1,VLOOKUP(O33,男子種目コード!$V$22:$W$26,2,FALSE),IF(I33=2,VLOOKUP(O33,女子種目コード!$V$22:$W$26,2,FALSE))))","v":""},{"$f":"IF(O33=\"\",\"\",HLOOKUP(O33,名簿!$AB$8:$BK$118,28,FALSE))","v":""},"","高校","高校",null,null,null,null,null,null,null,null,null,null,null,null,null,null,null,""]
[null,{"$f":"名簿!Q36","v":""},null,null,{"$f":"名簿!E36","v":0},{"$f":"名簿!BR36","v":""},{"$f":"名簿!Z36","v":""},"",{"$f":"名簿!O36","v":""},{"$f":"名簿!I36","v":0},{"$f":"名簿!K36","v":0},{"$f":"名簿!BU36","v":"00"},{"$f":"名簿!R36","v":""},{"$f":"名簿!D36","v":0},null,{"$f":"IF(O34=\"\",\"\",IF(I34=1,VLOOKUP(O34,男子種目コード!$V$22:$W$26,2,FALSE),IF(I34=2,VLOOKUP(O34,女子種目コード!$V$22:$W$26,2,FALSE))))","v":""},{"$f":"IF(O34=\"\",\"\",HLOOKUP(O34,名簿!$AB$8:$BK$118,29,FALSE))","v":""},"","高校","高校",null,null,null,null,null,null,null,null,null,null,null,null,null,null,null,""]
[null,{"$f":"名簿!Q37","v":""},null,null,{"$f":"名簿!E37","v":0},{"$f":"名簿!BR37","v":""},{"$f":"名簿!Z37","v":""},"",{"$f":"名簿!O37","v":""},{"$f":"名簿!I37","v":0},{"$f":"名簿!K37","v":0},{"$f":"名簿!BU37","v":"00"},{"$f":"名簿!R37","v":""},{"$f":"名簿!D37","v":0},null,{"$f":"IF(O35=\"\",\"\",IF(I35=1,VLOOKUP(O35,男子種目コード!$V$22:$W$26,2,FALSE),IF(I35=2,VLOOKUP(O35,女子種目コード!$V$22:$W$26,2,FALSE))))","v":""},{"$f":"IF(O35=\"\",\"\",HLOOKUP(O35,名簿!$AB$8:$BK$118,30,FALSE))","v":""},"","高校","高校",null,null,null,null,null,null,null,null,null,null,null,null,null,null,null,""]
[null,{"$f":"名簿!Q38","v":""},null,null,{"$f":"名簿!E38","v":0},{"$f":"名簿!BR38","v":""},{"$f":"名簿!Z38","v":""},"",{"$f":"名簿!O38","v":""},{"$f":"名簿!I38","v":0},{"$f":"名簿!K38","v":0},{"$f":"名簿!BU38","v":"00"},{"$f":"名簿!R38","v":""},{"$f":"名簿!D38","v":0},null,{"$f":"IF(O36=\"\",\"\",IF(I36=1,VLOOKUP(O36,男子種目コード!$V$22:$W$26,2,FALSE),IF(I36=2,VLOOKUP(O36,女子種目コード!$V$22:$W$26,2,FALSE))))","v":""},{"$f":"IF(O36=\"\",\"\",HLOOKUP(O36,名簿!$AB$8:$BK$118,31,FALSE))","v":""},"","高校","高校",null,null,null,null,null,null,null,null,null,null,null,null,null,null,null,""]
[null,{"$f":"名簿!Q39","v":""},null,null,{"$f":"名簿!E39","v":0},{"$f":"名簿!BR39","v":""},{"$f":"名簿!Z39","v":""},"",{"$f":"名簿!O39","v":""},{"$f":"名簿!I39","v":0},{"$f":"名簿!K39","v":0},{"$f":"名簿!BU39","v":"00"},{"$f":"名簿!R39","v":""},{"$f":"名簿!D39","v":0},null,{"$f":"IF(O37=\"\",\"\",IF(I37=1,VLOOKUP(O37,男子種目コード!$V$22:$W$26,2,FALSE),IF(I37=2,VLOOKUP(O37,女子種目コード!$V$22:$W$26,2,FALSE))))","v":""},{"$f":"IF(O37=\"\",\"\",HLOOKUP(O37,名簿!$AB$8:$BK$118,32,FALSE))","v":""},"","高校","高校",null,null,null,null,null,null,null,null,null,null,null,null,null,null,null,""]
[null,{"$f":"名簿!Q40","v":""},null,null,{"$f":"名簿!E40","v":0},{"$f":"名簿!BR40","v":""},{"$f":"名簿!Z40","v":""},"",{"$f":"名簿!O40","v":""},{"$f":"名簿!I40","v":0},{"$f":"名簿!K40","v":0},{"$f":"名簿!BU40","v":"00"},{"$f":"名簿!R40","v":""},{"$f":"名簿!D40","v":0},null,{"$f":"IF(O38=\"\",\"\",IF(I38=1,VLOOKUP(O38,男子種目コード!$V$22:$W$26,2,FALSE),IF(I38=2,VLOOKUP(O38,女子種目コード!$V$22:$W$26,2,FALSE))))","v":""},{"$f":"IF(O38=\"\",\"\",HLOOKUP(O38,名簿!$AB$8:$BK$118,33,FALSE))","v":""},"","高校","高校",null,null,null,null,null,null,null,null,null,null,null,null,null,null,null,""]
[null,{"$f":"名簿!Q41","v":""},null,null,{"$f":"名簿!E41","v":0},{"$f":"名簿!BR41","v":""},{"$f":"名簿!Z41","v":""},{"$f":"F39","v":""},{"$f":"名簿!O41","v":""},{"$f":"名簿!I41","v":0},{"$f":"名簿!K41","v":0},{"$f":"名簿!BU41","v":"00"},{"$f":"名簿!R41","v":""},{"$f":"名簿!D41","v":0},null,{"$f":"IF(O39=\"\",\"\",IF(I39=1,VLOOKUP(O39,男子種目コード!$V$22:$W$26,2,FALSE),IF(I39=2,VLOOKUP(O39,女子種目コード!$V$22:$W$26,2,FALSE))))","v":""},{"$f":"IF(O39=\"\",\"\",HLOOKUP(O39,名簿!$AB$8:$BK$118,34,FALSE))","v":""},"","高校","高校",null,null,null,null,null,null,null,null,null,null,null,null,null,null,null,{"$f":"IF(O39=\"\",\"\",1)","v":""}]
[null,{"$f":"名簿!Q42","v":""},null,null,{"$f":"名簿!E42","v":0},{"$f":"名簿!BR42","v":""},{"$f":"名簿!Z42","v":""},"",{"$f":"名簿!O42","v":""},{"$f":"名簿!I42","v":0},{"$f":"名簿!K42","v":0},{"$f":"名簿!BU42","v":"00"},{"$f":"名簿!R42","v":""},{"$f":"名簿!D42","v":0},null,{"$f":"IF(O40=\"\",\"\",IF(I40=1,VLOOKUP(O40,男子種目コード!$V$22:$W$26,2,FALSE),IF(I40=2,VLOOKUP(O40,女子種目コード!$V$22:$W$26,2,FALSE))))","v":""},{"$f":"IF(O40=\"\",\"\",HLOOKUP(O40,名簿!$AB$8:$BK$118,35,FALSE))","v":""},"","高校","高校",null,null,null,null,null,null,null,null,null,null,null,null,null,null,null,""]
[null,{"$f":"名簿!Q43","v":""},null,null,{"$f":"名簿!E43","v":0},{"$f":"名簿!BR43","v":""},{"$f":"名簿!Z43","v":""},"",{"$f":"名簿!O43","v":""},{"$f":"名簿!I43","v":0},{"$f":"名簿!K43","v":0},{"$f":"名簿!BU43","v":"00"},{"$f":"名簿!R43","v":""},{"$f":"名簿!D43","v":0},null,{"$f":"IF(O41=\"\",\"\",IF(I41=1,VLOOKUP(O41,男子種目コード!$V$22:$W$26,2,FALSE),IF(I41=2,VLOOKUP(O41,女子種目コード!$V$22:$W$26,2,FALSE))))","v":""},{"$f":"IF(O41=\"\",\"\",HLOOKUP(O41,名簿!$AB$8:$BK$118,36,FALSE))","v":""},"","高校","高校",null,null,null,null,null,null,null,null,null,null,null,null,null,null,null,""]
[null,{"$f":"名簿!Q44","v":""},null,null,{"$f":"名簿!E44","v":0},{"$f":"名簿!BR44","v":""},{"$f":"名簿!Z44","v":""},"",{"$f":"名簿!O44","v":""},{"$f":"名簿!I44","v":0},{"$f":"名簿!K44","v":0},{"$f":"名簿!BU44","v":"00"},{"$f":"名簿!R44","v":""},{"$f":"名簿!D44","v":0},null,{"$f":"IF(O42=\"\",\"\",IF(I42=1,VLOOKUP(O42,男子種目コード!$V$22:$W$26,2,FALSE),IF(I42=2,VLOOKUP(O42,女子種目コード!$V$22:$W$26,2,FALSE))))","v":""},{"$f":"IF(O42=\"\",\"\",HLOOKUP(O42,名簿!$AB$8:$BK$118,37,FALSE))","v":""},"","高校","高校",null,null,null,null,null,null,null,null,null,null,null,null,null,null,null,""]
[null,{"$f":"名簿!Q45","v":""},null,null,{"$f":"名簿!E45","v":0},{"$f":"名簿!BR45","v":""},{"$f":"名簿!Z45","v":""},"",{"$f":"名簿!O45","v":""},{"$f":"名簿!I45","v":0},{"$f":"名簿!K45","v":0},{"$f":"名簿!BU45","v":"00"},{"$f":"名簿!R45","v":""},{"$f":"名簿!D45","v":0},null,{"$f":"IF(O43=\"\",\"\",IF(I43=1,VLOOKUP(O43,男子種目コード!$V$22:$W$26,2,FALSE),IF(I43=2,VLOOKUP(O43,女子種目コード!$V$22:$W$26,2,FALSE))))","v":""},{"$f":"IF(O43=\"\",\"\",HLOOKUP(O43,名簿!$AB$8:$BK$118,38,FALSE))","v":""},"","高校","高校",null,null,null,null,null,null,null,null,null,null,null,null,null,null,null,""]
[null,{"$f":"名簿!Q46","v":""},null,null,{"$f":"名簿!E46","v":0},{"$f":"名簿!BR46","v":""},{"$f":"名簿!Z46","v":""},"",{"$f":"名簿!O46","v":""},{"$f":"名簿!I46","v":0},{"$f":"名簿!K46","v":0},{"$f":"名簿!BU46","v":"00"},{"$f":"名簿!R46","v":""},{"$f":"名簿!D46","v":0},null,{"$f":"IF(O44=\"\",\"\",IF(I44=1,VLOOKUP(O44,男子種目コード!$V$22:$W$26,2,FALSE),IF(I44=2,VLOOKUP(O44,女子種目コード!$V$22:$W$26,2,FALSE))))","v":""},{"$f":"IF(O44=\"\",\"\",HLOOKUP(O44,名簿!$AB$8:$BK$118,39,FALSE))","v":""},"","高校","高校",null,null,null,null,null,null,null,null,null,null,null,null,null,null,null,""]
[null,{"$f":"名簿!Q47","v":""},null,null,{"$f":"名簿!E47","v":0},{"$f":"名簿!BR47","v":""},{"$f":"名簿!Z47","v":""},"",{"$f":"名簿!O47","v":""},{"$f":"名簿!I47","v":0},{"$f":"名簿!K47","v":0},{"$f":"名簿!BU47","v":"00"},{"$f":"名簿!R47","v":""},{"$f":"名簿!D47","v":0},null,{"$f":"IF(O45=\"\",\"\",IF(I45=1,VLOOKUP(O45,男子種目コード!$V$22:$W$26,2,FALSE),IF(I45=2,VLOOKUP(O45,女子種目コード!$V$22:$W$26,2,FALSE))))","v":""},{"$f":"IF(O45=\"\",\"\",HLOOKUP(O45,名簿!$AB$8:$BK$118,40,FALSE))","v":""},"","高校","高校",null,null,null,null,null,null,null,null,null,null,null,null,null,null,null,""]
[null,{"$f":"名簿!Q48","v":""},null,null,{"$f":"名簿!E48","v":0},{"$f":"名簿!BR48","v":""},{"$f":"名簿!Z48","v":""},"",{"$f":"名簿!O48","v":""},{"$f":"名簿!I48","v":0},{"$f":"名簿!K48","v":0},{"$f":"名簿!BU48","v":"00"},{"$f":"名簿!R48","v":""},{"$f":"名簿!D48","v":0},null,{"$f":"IF(O46=\"\",\"\",IF(I46=1,VLOOKUP(O46,男子種目コード!$V$22:$W$26,2,FALSE),IF(I46=2,VLOOKUP(O46,女子種目コード!$V$22:$W$26,2,FALSE))))","v":""},{"$f":"IF(O46=\"\",\"\",HLOOKUP(O46,名簿!$AB$8:$BK$118,41,FALSE))","v":""},"","高校","高校",null,null,null,null,null,null,null,null,null,null,null,null,null,null,null,""]
[null,{"$f":"名簿!Q49","v":""},null,null,{"$f":"名簿!E49","v":0},{"$f":"名簿!BR49","v":""},{"$f":"名簿!Z49","v":""},"",{"$f":"名簿!O49","v":""},{"$f":"名簿!I49","v":0},{"$f":"名簿!K49","v":0},{"$f":"名簿!BU49","v":"00"},{"$f":"名簿!R49","v":""},{"$f":"名簿!D49","v":0},null,{"$f":"IF(O47=\"\",\"\",IF(I47=1,VLOOKUP(O47,男子種目コード!$V$22:$W$26,2,FALSE),IF(I47=2,VLOOKUP(O47,女子種目コード!$V$22:$W$26,2,FALSE))))","v":""},{"$f":"IF(O47=\"\",\"\",HLOOKUP(O47,名簿!$AB$8:$BK$118,42,FALSE))","v":""},"","高校","高校",null,null,null,null,null,null,null,null,null,null,null,null,null,null,null,""]
[null,{"$f":"名簿!Q50","v":""},null,null,{"$f":"名簿!E50","v":0},{"$f":"名簿!BR50","v":""},{"$f":"名簿!Z50","v":""},"",{"$f":"名簿!O50","v":""},{"$f":"名簿!I50","v":0},{"$f":"名簿!K50","v":0},{"$f":"名簿!BU50","v":"00"},{"$f":"名簿!R50","v":""},{"$f":"名簿!D50","v":0},null,{"$f":"IF(O48=\"\",\"\",IF(I48=1,VLOOKUP(O48,男子種目コード!$V$22:$W$26,2,FALSE),IF(I48=2,VLOOKUP(O48,女子種目コード!$V$22:$W$26,2,FALSE))))","v":""},{"$f":"IF(O48=\"\",\"\",HLOOKUP(O48,名簿!$AB$8:$BK$118,43,FALSE))","v":""},"","高校","高校",null,null,null,null,null,null,null,null,null,null,null,null,null,null,null,""]
[null,{"$f":"名簿!Q51","v":""},null,null,{"$f":"名簿!E51","v":0},{"$f":"名簿!BR51","v":""},{"$f":"名簿!Z51","v":""},"",{"$f":"名簿!O51","v":""},{"$f":"名簿!I51","v":0},{"$f":"名簿!K51","v":0},{"$f":"名簿!BU51","v":"00"},{"$f":"名簿!R51","v":""},{"$f":"名簿!D51","v":0},null,{"$f":"IF(O49=\"\",\"\",IF(I49=1,VLOOKUP(O49,男子種目コード!$V$22:$W$26,2,FALSE),IF(I49=2,VLOOKUP(O49,女子種目コード!$V$22:$W$26,2,FALSE))))","v":""},{"$f":"IF(O49=\"\",\"\",HLOOKUP(O49,名簿!$AB$8:$BK$118,44,FALSE))","v":""},"","高校","高校",null,null,null,null,null,null,null,null,null,null,null,null,null,null,null,""]
[null,{"$f":"名簿!Q52","v":""},null,null,{"$f":"名簿!E52","v":0},{"$f":"名簿!BR52","v":""},{"$f":"名簿!Z52","v":""},"",{"$f":"名簿!O52","v":""},{"$f":"名簿!I52","v":0},{"$f":"名簿!K52","v":0},{"$f":"名簿!BU52","v":"00"},{"$f":"名簿!R52","v":""},{"$f":"名簿!D52","v":0},null,{"$f":"IF(O50=\"\",\"\",IF(I50=1,VLOOKUP(O50,男子種目コード!$V$22:$W$26,2,FALSE),IF(I50=2,VLOOKUP(O50,女子種目コード!$V$22:$W$26,2,FALSE))))","v":""},{"$f":"IF(O50=\"\",\"\",HLOOKUP(O50,名簿!$AB$8:$BK$118,45,FALSE))","v":""},"","高校","高校",null,null,null,null,null,null,null,null,null,null,null,null,null,null,null,""]
[null,{"$f":"名簿!Q53","v":""},null,null,{"$f":"名簿!E53","v":0},{"$f":"名簿!BR53","v":""},{"$f":"名簿!Z53","v":""},"",{"$f":"名簿!O53","v":""},{"$f":"名簿!I53","v":0},{"$f":"名簿!K53","v":0},{"$f":"名簿!BU53","v":"00"},{"$f":"名簿!R53","v":""},{"$f":"名簿!D53","v":0},null,{"$f":"IF(O51=\"\",\"\",IF(I51=1,VLOOKUP(O51,男子種目コード!$V$22:$W$26,2,FALSE),IF(I51=2,VLOOKUP(O51,女子種目コード!$V$22:$W$26,2,FALSE))))","v":""},{"$f":"IF(O51=\"\",\"\",HLOOKUP(O51,名簿!$AB$8:$BK$118,46,FALSE))","v":""},"","高校","高校",null,null,null,null,null,null,null,null,null,null,null,null,null,null,null,""]
[null,{"$f":"名簿!Q54","v":""},null,null,{"$f":"名簿!E54","v":0},{"$f":"名簿!BR54","v":""},{"$f":"名簿!Z54","v":""},"",{"$f":"名簿!O54","v":""},{"$f":"名簿!I54","v":0},{"$f":"名簿!K54","v":0},{"$f":"名簿!BU54","v":"00"},{"$f":"名簿!R54","v":""},{"$f":"名簿!D54","v":0},null,{"$f":"IF(O52=\"\",\"\",IF(I52=1,VLOOKUP(O52,男子種目コード!$V$22:$W$26,2,FALSE),IF(I52=2,VLOOKUP(O52,女子種目コード!$V$22:$W$26,2,FALSE))))","v":""},{"$f":"IF(O52=\"\",\"\",HLOOKUP(O52,名簿!$AB$8:$BK$118,47,FALSE))","v":""},"","高校","高校",null,null,null,null,null,null,null,null,null,null,null,null,null,null,null,""]
[null,{"$f":"名簿!Q55","v":""},null,null,{"$f":"名簿!E55","v":0},{"$f":"名簿!BR55","v":""},{"$f":"名簿!Z55","v":""},"",{"$f":"名簿!O55","v":""},{"$f":"名簿!I55","v":0},{"$f":"名簿!K55","v":0},{"$f":"名簿!BU55","v":"00"},{"$f":"名簿!R55","v":""},{"$f":"名簿!D55","v":0},null,{"$f":"IF(O53=\"\",\"\",IF(I53=1,VLOOKUP(O53,男子種目コード!$V$22:$W$26,2,FALSE),IF(I53=2,VLOOKUP(O53,女子種目コード!$V$22:$W$26,2,FALSE))))","v":""},{"$f":"IF(O53=\"\",\"\",HLOOKUP(O53,名簿!$AB$8:$BK$118,48,FALSE))","v":""},"","高校","高校",null,null,null,null,null,null,null,null,null,null,null,null,null,null,null,""]
[null,{"$f":"名簿!Q56","v":""},null,null,{"$f":"名簿!E56","v":0},{"$f":"名簿!BR56","v":""},{"$f":"名簿!Z56","v":""},"",{"$f":"名簿!O56","v":""},{"$f":"名簿!I56","v":0},{"$f":"名簿!K56","v":0},{"$f":"名簿!BU56","v":"00"},{"$f":"名簿!R56","v":""},{"$f":"名簿!D56","v":0},null,{"$f":"IF(O54=\"\",\"\",IF(I54=1,VLOOKUP(O54,男子種目コード!$V$22:$W$26,2,FALSE),IF(I54=2,VLOOKUP(O54,女子種目コード!$V$22:$W$26,2,FALSE))))","v":""},{"$f":"IF(O54=\"\",\"\",HLOOKUP(O54,名簿!$AB$8:$BK$118,49,FALSE))","v":""},"","高校","高校",null,null,null,null,null,null,null,null,null,null,null,null,null,null,null,""]
[null,{"$f":"名簿!Q57","v":""},null,null,{"$f":"名簿!E57","v":0},{"$f":"名簿!BR57","v":""},{"$f":"名簿!Z57","v":""},"",{"$f":"名簿!O57","v":""},{"$f":"名簿!I57","v":0},{"$f":"名簿!K57","v":0},{"$f":"名簿!BU57","v":"00"},{"$f":"名簿!R57","v":""},{"$f":"名簿!D57","v":0},null,{"$f":"IF(O55=\"\",\"\",IF(I55=1,VLOOKUP(O55,男子種目コード!$V$22:$W$26,2,FALSE),IF(I55=2,VLOOKUP(O55,女子種目コード!$V$22:$W$26,2,FALSE))))","v":""},{"$f":"IF(O55=\"\",\"\",HLOOKUP(O55,名簿!$AB$8:$BK$118,50,FALSE))","v":""},"","高校","高校",null,null,null,null,null,null,null,null,null,null,null,null,null,null,null,""]
[null,{"$f":"名簿!Q58","v":""},null,null,{"$f":"名簿!E58","v":0},{"$f":"名簿!BR58","v":""},{"$f":"名簿!Z58","v":""},"",{"$f":"名簿!O58","v":""},{"$f":"名簿!I58","v":0},{"$f":"名簿!K58","v":0},{"$f":"名簿!BU58","v":"00"},{"$f":"名簿!R58","v":""},{"$f":"名簿!D58","v":0},null,{"$f":"IF(O56=\"\",\"\",IF(I56=1,VLOOKUP(O56,男子種目コード!$V$22:$W$26,2,FALSE),IF(I56=2,VLOOKUP(O56,女子種目コード!$V$22:$W$26,2,FALSE))))","v":""},{"$f":"IF(O56=\"\",\"\",HLOOKUP(O56,名簿!$AB$8:$BK$118,51,FALSE))","v":""},"","高校","高校",null,null,null,null,null,null,null,null,null,null,null,null,null,null,null,""]
[null,{"$f":"名簿!Q59","v":""},null,null,{"$f":"名簿!E59","v":0},{"$f":"名簿!BR59","v":""},{"$f":"名簿!Z59","v":""},"",{"$f":"名簿!O59","v":""},{"$f":"名簿!I59","v":0},{"$f":"名簿!K59","v":0},{"$f":"名簿!BU59","v":"00"},{"$f":"名簿!R59","v":""},{"$f":"名簿!D59","v":0},null,{"$f":"IF(O57=\"\",\"\",IF(I57=1,VLOOKUP(O57,男子種目コード!$V$22:$W$26,2,FALSE),IF(I57=2,VLOOKUP(O57,女子種目コード!$V$22:$W$26,2,FALSE))))","v":""},{"$f":"IF(O57=\"\",\"\",HLOOKUP(O57,名簿!$AB$8:$BK$118,52,FALSE))","v":""},"","高校","高校",null,null,null,null,null,null,null,null,null,null,null,null,null,null,null,""]
[null,{"$f":"名簿!Q60","v":""},null,null,{"$f":"名簿!E60","v":0},{"$f":"名簿!BR60","v":""},{"$f":"名簿!Z60","v":""},"",{"$f":"名簿!O60","v":""},{"$f":"名簿!I60","v":0},{"$f":"名簿!K60","v":0},{"$f":"名簿!BU60","v":"00"},{"$f":"名簿!R60","v":""},{"$f":"名簿!D60","v":0},null,{"$f":"IF(O58=\"\",\"\",IF(I58=1,VLOOKUP(O58,男子種目コード!$V$22:$W$26,2,FALSE),IF(I58=2,VLOOKUP(O58,女子種目コード!$V$22:$W$26,2,FALSE))))","v":""},{"$f":"IF(O58=\"\",\"\",HLOOKUP(O58,名簿!$AB$8:$BK$118,53,FALSE))","v":""},"","高校","高校",null,null,null,null,null,null,null,null,null,null,null,null,null,null,null,""]
[null,{"$f":"名簿!Q61","v":""},null,null,{"$f":"名簿!E61","v":0},{"$f":"名簿!BR61","v":""},{"$f":"名簿!Z61","v":""},"",{"$f":"名簿!O61","v":""},{"$f":"名簿!I61","v":0},{"$f":"名簿!K61","v":0},{"$f":"名簿!BU61","v":"00"},{"$f":"名簿!R61","v":""},{"$f":"名簿!D61","v":0},null,{"$f":"IF(O59=\"\",\"\",IF(I59=1,VLOOKUP(O59,男子種目コード!$V$22:$W$26,2,FALSE),IF(I59=2,VLOOKUP(O59,女子種目コード!$V$22:$W$26,2,FALSE))))","v":""},{"$f":"IF(O59=\"\",\"\",HLOOKUP(O59,名簿!$AB$8:$BK$118,54,FALSE))","v":""},"","高校","高校",null,null,null,null,null,null,null,null,null,null,null,null,null,null,null,""]
[null,{"$f":"名簿!Q62","v":""},null,null,{"$f":"名簿!E62","v":0},{"$f":"名簿!BR62","v":""},{"$f":"名簿!Z62","v":""},"",{"$f":"名簿!O62","v":""},{"$f":"名簿!I62","v":0},{"$f":"名簿!K62","v":0},{"$f":"名簿!BU62","v":"00"},{"$f":"名簿!R62","v":""},{"$f":"名簿!D62","v":0},null,{"$f":"IF(O60=\"\",\"\",IF(I60=1,VLOOKUP(O60,男子種目コード!$V$22:$W$26,2,FALSE),IF(I60=2,VLOOKUP(O60,女子種目コード!$V$22:$W$26,2,FALSE))))","v":""},{"$f":"IF(O60=\"\",\"\",HLOOKUP(O60,名簿!$AB$8:$BK$118,55,FALSE))","v":""},"","高校","高校",null,null,null,null,null,null,null,null,null,null,null,null,null,null,null,""]
[null,{"$f":"名簿!Q63","v":""},null,null,{"$f":"名簿!E63","v":0},{"$f":"名簿!BR63","v":""},{"$f":"名簿!Z63","v":""},"",{"$f":"名簿!O63","v":""},{"$f":"名簿!I63","v":0},{"$f":"名簿!K63","v":0},{"$f":"名簿!BU63","v":"00"},{"$f":"名簿!R63","v":""},{"$f":"名簿!D63","v":0},null,{"$f":"IF(O61=\"\",\"\",IF(I61=1,VLOOKUP(O61,男子種目コード!$V$22:$W$26,2,FALSE),IF(I61=2,VLOOKUP(O61,女子種目コード!$V$22:$W$26,2,FALSE))))","v":""},{"$f":"IF(O61=\"\",\"\",HLOOKUP(O61,名簿!$AB$8:$BK$118,56,FALSE))","v":""},"","高校","高校",null,null,null,null,null,null,null,null,null,null,null,null,null,null,null,""]
[null,{"$f":"名簿!Q64","v":""},null,null,{"$f":"名簿!E64","v":0},{"$f":"名簿!BR64","v":""},{"$f":"名簿!Z64","v":""},"",{"$f":"名簿!O64","v":""},{"$f":"名簿!I64","v":0},{"$f":"名簿!K64","v":0},{"$f":"名簿!BU64","v":"00"},{"$f":"名簿!R64","v":""},{"$f":"名簿!D64","v":0},null,{"$f":"IF(O62=\"\",\"\",IF(I62=1,VLOOKUP(O62,男子種目コード!$V$22:$W$26,2,FALSE),IF(I62=2,VLOOKUP(O62,女子種目コード!$V$22:$W$26,2,FALSE))))","v":""},{"$f":"IF(O62=\"\",\"\",HLOOKUP(O62,名簿!$AB$8:$BK$118,57,FALSE))","v":""},"","高校","高校",null,null,null,null,null,null,null,null,null,null,null,null,null,null,null,""]
[null,{"$f":"名簿!Q65","v":""},null,null,{"$f":"名簿!E65","v":0},{"$f":"名簿!BR65","v":""},{"$f":"名簿!Z65","v":""},"",{"$f":"名簿!O65","v":""},{"$f":"名簿!I65","v":0},{"$f":"名簿!K65","v":0},{"$f":"名簿!BU65","v":"00"},{"$f":"名簿!R65","v":""},{"$f":"名簿!D65","v":0},null,{"$f":"IF(O63=\"\",\"\",IF(I63=1,VLOOKUP(O63,男子種目コード!$V$22:$W$26,2,FALSE),IF(I63=2,VLOOKUP(O63,女子種目コード!$V$22:$W$26,2,FALSE))))","v":""},{"$f":"IF(O63=\"\",\"\",HLOOKUP(O63,名簿!$AB$8:$BK$118,58,FALSE))","v":""},"","高校","高校",null,null,null,null,null,null,null,null,null,null,null,null,null,null,null,""]
[null,{"$f":"名簿!Q66","v":""},null,null,{"$f":"名簿!E66","v":0},{"$f":"名簿!BR66","v":""},{"$f":"名簿!Z66","v":""},"",{"$f":"名簿!O66","v":""},{"$f":"名簿!I66","v":0},{"$f":"名簿!K66","v":0},{"$f":"名簿!BU66","v":"00"},{"$f":"名簿!R66","v":""},{"$f":"名簿!D66","v":0},null,{"$f":"IF(O64=\"\",\"\",IF(I64=1,VLOOKUP(O64,男子種目コード!$V$22:$W$26,2,FALSE),IF(I64=2,VLOOKUP(O64,女子種目コード!$V$22:$W$26,2,FALSE))))","v":""},{"$f":"IF(O64=\"\",\"\",HLOOKUP(O64,名簿!$AB$8:$BK$118,59,FALSE))","v":""},"","高校","高校",null,null,null,null,null,null,null,null,null,null,null,null,null,null,null,""]
[null,{"$f":"名簿!Q67","v":""},null,null,{"$f":"名簿!E67","v":0},{"$f":"名簿!BR67","v":""},{"$f":"名簿!Z67","v":""},"",{"$f":"名簿!O67","v":""},{"$f":"名簿!I67","v":0},{"$f":"名簿!K67","v":0},{"$f":"名簿!BU67","v":"00"},{"$f":"名簿!R67","v":""},{"$f":"名簿!D67","v":0},null,{"$f":"IF(O65=\"\",\"\",IF(I65=1,VLOOKUP(O65,男子種目コード!$V$22:$W$26,2,FALSE),IF(I65=2,VLOOKUP(O65,女子種目コード!$V$22:$W$26,2,FALSE))))","v":""},{"$f":"IF(O65=\"\",\"\",HLOOKUP(O65,名簿!$AB$8:$BK$118,60,FALSE))","v":""},"","高校","高校",null,null,null,null,null,null,null,null,null,null,null,null,null,null,null,""]
[null,{"$f":"名簿!Q68","v":""},null,null,{"$f":"名簿!E68","v":0},{"$f":"名簿!BR68","v":""},{"$f":"名簿!Z68","v":""},"",{"$f":"名簿!O68","v":""},{"$f":"名簿!I68","v":0},{"$f":"名簿!K68","v":0},{"$f":"名簿!BU68","v":"00"},{"$f":"名簿!R68","v":""},{"$f":"名簿!D68","v":0},null,{"$f":"IF(O66=\"\",\"\",IF(I66=1,VLOOKUP(O66,男子種目コード!$V$22:$W$26,2,FALSE),IF(I66=2,VLOOKUP(O66,女子種目コード!$V$22:$W$26,2,FALSE))))","v":""},{"$f":"IF(O66=\"\",\"\",HLOOKUP(O66,名簿!$AB$8:$BK$118,61,FALSE))","v":""},"","高校","高校",null,null,null,null,null,null,null,null,null,null,null,null,null,null,null,""]
[null,{"$f":"名簿!Q69","v":""},null,null,{"$f":"名簿!E69","v":0},{"$f":"名簿!BR69","v":""},{"$f":"名簿!Z69","v":""},"",{"$f":"名簿!O69","v":""},{"$f":"名簿!I69","v":0},{"$f":"名簿!K69","v":0},{"$f":"名簿!BU69","v":"00"},{"$f":"名簿!R69","v":""},{"$f":"名簿!D69","v":0},null,{"$f":"IF(O67=\"\",\"\",IF(I67=1,VLOOKUP(O67,男子種目コード!$V$22:$W$26,2,FALSE),IF(I67=2,VLOOKUP(O67,女子種目コード!$V$22:$W$26,2,FALSE))))","v":""},{"$f":"IF(O67=\"\",\"\",HLOOKUP(O67,名簿!$AB$8:$BK$118,62,FALSE))","v":""},"","高校","高校",null,null,null,null,null,null,null,null,null,null,null,null,null,null,null,""]
[null,{"$f":"名簿!Q70","v":""},null,null,{"$f":"名簿!E70","v":0},{"$f":"名簿!BR70","v":""},{"$f":"名簿!Z70","v":""},"",{"$f":"名簿!O70","v":""},{"$f":"名簿!I70","v":0},{"$f":"名簿!K70","v":0},{"$f":"名簿!BU70","v":"00"},{"$f":"名簿!R70","v":""},{"$f":"名簿!D70","v":0},null,{"$f":"IF(O68=\"\",\"\",IF(I68=1,VLOOKUP(O68,男子種目コード!$V$22:$W$26,2,FALSE),IF(I68=2,VLOOKUP(O68,女子種目コード!$V$22:$W$26,2,FALSE))))","v":""},{"$f":"IF(O68=\"\",\"\",HLOOKUP(O68,名簿!$AB$8:$BK$118,63,FALSE))","v":""},"","高校","高校",null,null,null,null,null,null,null,null,null,null,null,null,null,null,null,""]
[null,{"$f":"名簿!Q71","v":""},null,null,{"$f":"名簿!E71","v":0},{"$f":"名簿!BR71","v":""},{"$f":"名簿!Z71","v":""},"",{"$f":"名簿!O71","v":""},{"$f":"名簿!I71","v":0},{"$f":"名簿!K71","v":0},{"$f":"名簿!BU71","v":"00"},{"$f":"名簿!R71","v":""},{"$f":"名簿!D71","v":0},null,{"$f":"IF(O69=\"\",\"\",IF(I69=1,VLOOKUP(O69,男子種目コード!$V$22:$W$26,2,FALSE),IF(I69=2,VLOOKUP(O69,女子種目コード!$V$22:$W$26,2,FALSE))))","v":""},{"$f":"IF(O69=\"\",\"\",HLOOKUP(O69,名簿!$AB$8:$BK$118,64,FALSE))","v":""},"","高校","高校",null,null,null,null,null,null,null,null,null,null,null,null,null,null,null,""]
[null,{"$f":"名簿!Q72","v":""},null,null,{"$f":"名簿!E72","v":0},{"$f":"名簿!BR72","v":""},{"$f":"名簿!Z72","v":""},"",{"$f":"名簿!O72","v":""},{"$f":"名簿!I72","v":0},{"$f":"名簿!K72","v":0},{"$f":"名簿!BU72","v":"00"},{"$f":"名簿!R72","v":""},{"$f":"名簿!D72","v":0},null,{"$f":"IF(O70=\"\",\"\",IF(I70=1,VLOOKUP(O70,男子種目コード!$V$22:$W$26,2,FALSE),IF(I70=2,VLOOKUP(O70,女子種目コード!$V$22:$W$26,2,FALSE))))","v":""},{"$f":"IF(O70=\"\",\"\",HLOOKUP(O70,名簿!$AB$8:$BK$118,65,FALSE))","v":""},"","高校","高校",null,null,null,null,null,null,null,null,null,null,null,null,null,null,null,""]
[null,{"$f":"名簿!Q73","v":""},null,null,{"$f":"名簿!E73","v":0},{"$f":"名簿!BR73","v":""},{"$f":"名簿!Z73","v":""},{"$f":"F71","v":""},{"$f":"名簿!O73","v":""},{"$f":"名簿!I73","v":0},{"$f":"名簿!K73","v":0},{"$f":"名簿!BU73","v":"00"},{"$f":"名簿!R73","v":""},{"$f":"名簿!D73","v":0},null,{"$f":"IF(O71=\"\",\"\",IF(I71=1,VLOOKUP(O71,男子種目コード!$V$22:$W$26,2,FALSE),IF(I71=2,VLOOKUP(O71,女子種目コード!$V$22:$W$26,2,FALSE))))","v":""},{"$f":"IF(O71=\"\",\"\",HLOOKUP(O71,名簿!$AB$8:$BK$118,66,FALSE))","v":""},"","高校","高校",null,null,null,null,null,null,null,null,null,null,null,null,null,null,null,{"$f":"IF(O71=\"\",\"\",1)","v":""}]
[null,{"$f":"名簿!Q74","v":""},null,null,{"$f":"名簿!E74","v":0},{"$f":"名簿!BR74","v":""},{"$f":"名簿!Z74","v":""},"",{"$f":"名簿!O74","v":""},{"$f":"名簿!I74","v":0},{"$f":"名簿!K74","v":0},{"$f":"名簿!BU74","v":"00"},{"$f":"名簿!R74","v":""},{"$f":"名簿!D74","v":0},null,{"$f":"IF(O72=\"\",\"\",IF(I72=1,VLOOKUP(O72,男子種目コード!$V$22:$W$26,2,FALSE),IF(I72=2,VLOOKUP(O72,女子種目コード!$V$22:$W$26,2,FALSE))))","v":""},{"$f":"IF(O72=\"\",\"\",HLOOKUP(O72,名簿!$AB$8:$BK$118,67,FALSE))","v":""},{"$f":"$F$1","v":""},"高校",{"$f":"CONCATENATE(R72,S72)","v":"高校"},null,null,null,null,null,null,null,null,null,null,null,null,null,null,null,""]
[null,{"$f":"名簿!Q75","v":""},null,null,{"$f":"名簿!E75","v":0},{"$f":"名簿!BR75","v":""},{"$f":"名簿!Z75","v":""},"",{"$f":"名簿!O75","v":""},{"$f":"名簿!I75","v":0},{"$f":"名簿!K75","v":0},{"$f":"名簿!BU75","v":"00"},{"$f":"名簿!R75","v":""},{"$f":"名簿!D75","v":0},null,{"$f":"IF(O73=\"\",\"\",IF(I73=1,VLOOKUP(O73,男子種目コード!$V$22:$W$26,2,FALSE),IF(I73=2,VLOOKUP(O73,女子種目コード!$V$22:$W$26,2,FALSE))))","v":""},{"$f":"IF(O73=\"\",\"\",HLOOKUP(O73,名簿!$AB$8:$BK$118,68,FALSE))","v":""},"","高校","高校",null,null,null,null,null,null,null,null,null,null,null,null,null,null,null,""]
[null,{"$f":"名簿!Q76","v":""},null,null,{"$f":"名簿!E76","v":0},{"$f":"名簿!BR76","v":""},{"$f":"名簿!Z76","v":""},"",{"$f":"名簿!O76","v":""},{"$f":"名簿!I76","v":0},{"$f":"名簿!K76","v":0},{"$f":"名簿!BU76","v":"00"},{"$f":"名簿!R76","v":""},{"$f":"名簿!D76","v":0},null,{"$f":"IF(O74=\"\",\"\",IF(I74=1,VLOOKUP(O74,男子種目コード!$V$22:$W$26,2,FALSE),IF(I74=2,VLOOKUP(O74,女子種目コード!$V$22:$W$26,2,FALSE))))","v":""},{"$f":"IF(O74=\"\",\"\",HLOOKUP(O74,名簿!$AB$8:$BK$118,69,FALSE))","v":""},"","高校","高校",null,null,null,null,null,null,null,null,null,null,null,null,null,null,null,""]
[null,{"$f":"名簿!Q77","v":""},null,null,{"$f":"名簿!E77","v":0},{"$f":"名簿!BR77","v":""},{"$f":"名簿!Z77","v":""},"",{"$f":"名簿!O77","v":""},{"$f":"名簿!I77","v":0},{"$f":"名簿!K77","v":0},{"$f":"名簿!BU77","v":"00"},{"$f":"名簿!R77","v":""},{"$f":"名簿!D77","v":0},null,{"$f":"IF(O75=\"\",\"\",IF(I75=1,VLOOKUP(O75,男子種目コード!$V$22:$W$26,2,FALSE),IF(I75=2,VLOOKUP(O75,女子種目コード!$V$22:$W$26,2,FALSE))))","v":""},{"$f":"IF(O75=\"\",\"\",HLOOKUP(O75,名簿!$AB$8:$BK$118,70,FALSE))","v":""},"","高校","高校",null,null,null,null,null,null,null,null,null,null,null,null,null,null,null,""]
[null,{"$f":"名簿!Q78","v":""},null,null,{"$f":"名簿!E78","v":0},{"$f":"名簿!BR78","v":""},{"$f":"名簿!Z78","v":""},"",{"$f":"名簿!O78","v":""},{"$f":"名簿!I78","v":0},{"$f":"名簿!K78","v":0},{"$f":"名簿!BU78","v":"00"},{"$f":"名簿!R78","v":""},{"$f":"名簿!D78","v":0},null,{"$f":"IF(O76=\"\",\"\",IF(I76=1,VLOOKUP(O76,男子種目コード!$V$22:$W$26,2,FALSE),IF(I76=2,VLOOKUP(O76,女子種目コード!$V$22:$W$26,2,FALSE))))","v":""},{"$f":"IF(O76=\"\",\"\",HLOOKUP(O76,名簿!$AB$8:$BK$118,71,FALSE))","v":""},"","高校","高校",null,null,null,null,null,null,null,null,null,null,null,null,null,null,null,""]
[null,{"$f":"名簿!Q79","v":""},null,null,{"$f":"名簿!E79","v":0},{"$f":"名簿!BR79","v":""},{"$f":"名簿!Z79","v":""},"",{"$f":"名簿!O79","v":""},{"$f":"名簿!I79","v":0},{"$f":"名簿!K79","v":0},{"$f":"名簿!BU79","v":"00"},{"$f":"名簿!R79","v":""},{"$f":"名簿!D79","v":0},null,{"$f":"IF(O77=\"\",\"\",IF(I77=1,VLOOKUP(O77,男子種目コード!$V$22:$W$26,2,FALSE),IF(I77=2,VLOOKUP(O77,女子種目コード!$V$22:$W$26,2,FALSE))))","v":""},{"$f":"IF(O77=\"\",\"\",HLOOKUP(O77,名簿!$AB$8:$BK$118,72,FALSE))","v":""},"","高校","高校",null,null,null,null,null,null,null,null,null,null,null,null,null,null,null,""]
[null,{"$f":"名簿!Q80","v":""},null,null,{"$f":"名簿!E80","v":0},{"$f":"名簿!BR80","v":""},{"$f":"名簿!Z80","v":""},"",{"$f":"名簿!O80","v":""},{"$f":"名簿!I80","v":0},{"$f":"名簿!K80","v":0},{"$f":"名簿!BU80","v":"00"},{"$f":"名簿!R80","v":""},{"$f":"名簿!D80","v":0},null,{"$f":"IF(O78=\"\",\"\",IF(I78=1,VLOOKUP(O78,男子種目コード!$V$22:$W$26,2,FALSE),IF(I78=2,VLOOKUP(O78,女子種目コード!$V$22:$W$26,2,FALSE))))","v":""},{"$f":"IF(O78=\"\",\"\",HLOOKUP(O78,名簿!$AB$8:$BK$118,73,FALSE))","v":""},"","高校","高校",null,null,null,null,null,null,null,null,null,null,null,null,null,null,null,""]
[null,{"$f":"名簿!Q81","v":""},null,null,{"$f":"名簿!E81","v":0},{"$f":"名簿!BR81","v":""},{"$f":"名簿!Z81","v":""},"",{"$f":"名簿!O81","v":""},{"$f":"名簿!I81","v":0},{"$f":"名簿!K81","v":0},{"$f":"名簿!BU81","v":"00"},{"$f":"名簿!R81","v":""},{"$f":"名簿!D81","v":0},null,{"$f":"IF(O79=\"\",\"\",IF(I79=1,VLOOKUP(O79,男子種目コード!$V$22:$W$26,2,FALSE),IF(I79=2,VLOOKUP(O79,女子種目コード!$V$22:$W$26,2,FALSE))))","v":""},{"$f":"IF(O79=\"\",\"\",HLOOKUP(O79,名簿!$AB$8:$BK$118,74,FALSE))","v":""},"","高校","高校",null,null,null,null,null,null,null,null,null,null,null,null,null,null,null,""]
[null,{"$f":"名簿!Q82","v":""},null,null,{"$f":"名簿!E82","v":0},{"$f":"名簿!BR82","v":""},{"$f":"名簿!Z82","v":""},"",{"$f":"名簿!O82","v":""},{"$f":"名簿!I82","v":0},{"$f":"名簿!K82","v":0},{"$f":"名簿!BU82","v":"00"},{"$f":"名簿!R82","v":""},{"$f":"名簿!D82","v":0},null,{"$f":"IF(O80=\"\",\"\",IF(I80=1,VLOOKUP(O80,男子種目コード!$V$22:$W$26,2,FALSE),IF(I80=2,VLOOKUP(O80,女子種目コード!$V$22:$W$26,2,FALSE))))","v":""},{"$f":"IF(O80=\"\",\"\",HLOOKUP(O80,名簿!$AB$8:$BK$118,75,FALSE))","v":""},"","高校","高校",null,null,null,null,null,null,null,null,null,null,null,null,null,null,null,""]
[null,{"$f":"名簿!Q83","v":""},null,null,{"$f":"名簿!E83","v":0},{"$f":"名簿!BR83","v":""},{"$f":"名簿!Z83","v":""},"",{"$f":"名簿!O83","v":""},{"$f":"名簿!I83","v":0},{"$f":"名簿!K83","v":0},{"$f":"名簿!BU83","v":"00"},{"$f":"名簿!R83","v":""},{"$f":"名簿!D83","v":0},null,{"$f":"IF(O81=\"\",\"\",IF(I81=1,VLOOKUP(O81,男子種目コード!$V$22:$W$26,2,FALSE),IF(I81=2,VLOOKUP(O81,女子種目コード!$V$22:$W$26,2,FALSE))))","v":""},{"$f":"IF(O81=\"\",\"\",HLOOKUP(O81,名簿!$AB$8:$BK$118,76,FALSE))","v":""},"","高校","高校",null,null,null,null,null,null,null,null,null,null,null,null,null,null,null,""]
[null,{"$f":"名簿!Q84","v":""},null,null,{"$f":"名簿!E84","v":0},{"$f":"名簿!BR84","v":""},{"$f":"名簿!Z84","v":""},"",{"$f":"名簿!O84","v":""},{"$f":"名簿!I84","v":0},{"$f":"名簿!K84","v":0},{"$f":"名簿!BU84","v":"00"},{"$f":"名簿!R84","v":""},{"$f":"名簿!D84","v":0},null,{"$f":"IF(O82=\"\",\"\",IF(I82=1,VLOOKUP(O82,男子種目コード!$V$22:$W$26,2,FALSE),IF(I82=2,VLOOKUP(O82,女子種目コード!$V$22:$W$26,2,FALSE))))","v":""},{"$f":"IF(O82=\"\",\"\",HLOOKUP(O82,名簿!$AB$8:$BK$118,77,FALSE))","v":""},"","高校","高校",null,null,null,null,null,null,null,null,null,null,null,null,null,null,null,""]
[null,{"$f":"名簿!Q85","v":""},null,null,{"$f":"名簿!E85","v":0},{"$f":"名簿!BR85","v":""},{"$f":"名簿!Z85","v":""},"",{"$f":"名簿!O85","v":""},{"$f":"名簿!I85","v":0},{"$f":"名簿!K85","v":0},{"$f":"名簿!BU85","v":"00"},{"$f":"名簿!R85","v":""},{"$f":"名簿!D85","v":0},null,{"$f":"IF(O83=\"\",\"\",IF(I83=1,VLOOKUP(O83,男子種目コード!$V$22:$W$26,2,FALSE),IF(I83=2,VLOOKUP(O83,女子種目コード!$V$22:$W$26,2,FALSE))))","v":""},{"$f":"IF(O83=\"\",\"\",HLOOKUP(O83,名簿!$AB$8:$BK$118,78,FALSE))","v":""},"","高校","高校",null,null,null,null,null,null,null,null,null,null,null,null,null,null,null,""]
[null,{"$f":"名簿!Q86","v":""},null,null,{"$f":"名簿!E86","v":0},{"$f":"名簿!BR86","v":""},{"$f":"名簿!Z86","v":""},"",{"$f":"名簿!O86","v":""},{"$f":"名簿!I86","v":0},{"$f":"名簿!K86","v":0},{"$f":"名簿!BU86","v":"00"},{"$f":"名簿!R86","v":""},{"$f":"名簿!D86","v":0},null,{"$f":"IF(O84=\"\",\"\",IF(I84=1,VLOOKUP(O84,男子種目コード!$V$22:$W$26,2,FALSE),IF(I84=2,VLOOKUP(O84,女子種目コード!$V$22:$W$26,2,FALSE))))","v":""},{"$f":"IF(O84=\"\",\"\",HLOOKUP(O84,名簿!$AB$8:$BK$118,79,FALSE))","v":""},"","高校","高校",null,null,null,null,null,null,null,null,null,null,null,null,null,null,null,""]
[null,{"$f":"名簿!Q87","v":""},null,null,{"$f":"名簿!E87","v":0},{"$f":"名簿!BR87","v":""},{"$f":"名簿!Z87","v":""},"",{"$f":"名簿!O87","v":""},{"$f":"名簿!I87","v":0},{"$f":"名簿!K87","v":0},{"$f":"名簿!BU87","v":"00"},{"$f":"名簿!R87","v":""},{"$f":"名簿!D87","v":0},null,{"$f":"IF(O85=\"\",\"\",IF(I85=1,VLOOKUP(O85,男子種目コード!$V$22:$W$26,2,FALSE),IF(I85=2,VLOOKUP(O85,女子種目コード!$V$22:$W$26,2,FALSE))))","v":""},{"$f":"IF(O85=\"\",\"\",HLOOKUP(O85,名簿!$AB$8:$BK$118,80,FALSE))","v":""},"","高校","高校",null,null,null,null,null,null,null,null,null,null,null,null,null,null,null,""]
[null,{"$f":"名簿!Q88","v":""},null,null,{"$f":"名簿!E88","v":0},{"$f":"名簿!BR88","v":""},{"$f":"名簿!Z88","v":""},"",{"$f":"名簿!O88","v":""},{"$f":"名簿!I88","v":0},{"$f":"名簿!K88","v":0},{"$f":"名簿!BU88","v":"00"},{"$f":"名簿!R88","v":""},{"$f":"名簿!D88","v":0},null,{"$f":"IF(O86=\"\",\"\",IF(I86=1,VLOOKUP(O86,男子種目コード!$V$22:$W$26,2,FALSE),IF(I86=2,VLOOKUP(O86,女子種目コード!$V$22:$W$26,2,FALSE))))","v":""},{"$f":"IF(O86=\"\",\"\",HLOOKUP(O86,名簿!$AB$8:$BK$118,81,FALSE))","v":""},"","高校","高校",null,null,null,null,null,null,null,null,null,null,null,null,null,null,null,""]
[null,{"$f":"名簿!Q89","v":""},null,null,{"$f":"名簿!E89","v":0},{"$f":"名簿!BR89","v":""},{"$f":"名簿!Z89","v":""},"",{"$f":"名簿!O89","v":""},{"$f":"名簿!I89","v":0},{"$f":"名簿!K89","v":0},{"$f":"名簿!BU89","v":"00"},{"$f":"名簿!R89","v":""},{"$f":"名簿!D89","v":0},null,{"$f":"IF(O87=\"\",\"\",IF(I87=1,VLOOKUP(O87,男子種目コード!$V$22:$W$26,2,FALSE),IF(I87=2,VLOOKUP(O87,女子種目コード!$V$22:$W$26,2,FALSE))))","v":""},{"$f":"IF(O87=\"\",\"\",HLOOKUP(O87,名簿!$AB$8:$BK$118,82,FALSE))","v":""},"","高校","高校",null,null,null,null,null,null,null,null,null,null,null,null,null,null,null,""]
[null,{"$f":"名簿!Q90","v":""},null,null,{"$f":"名簿!E90","v":0},{"$f":"名簿!BR90","v":""},{"$f":"名簿!Z90","v":""},"",{"$f":"名簿!O90","v":""},{"$f":"名簿!I90","v":0},{"$f":"名簿!K90","v":0},{"$f":"名簿!BU90","v":"00"},{"$f":"名簿!R90","v":""},{"$f":"名簿!D90","v":0},null,{"$f":"IF(O88=\"\",\"\",IF(I88=1,VLOOKUP(O88,男子種目コード!$V$22:$W$26,2,FALSE),IF(I88=2,VLOOKUP(O88,女子種目コード!$V$22:$W$26,2,FALSE))))","v":""},{"$f":"IF(O88=\"\",\"\",HLOOKUP(O88,名簿!$AB$8:$BK$118,83,FALSE))","v":""},"","高校","高校",null,null,null,null,null,null,null,null,null,null,null,null,null,null,null,""]
[null,{"$f":"名簿!Q91","v":""},null,null,{"$f":"名簿!E91","v":0},{"$f":"名簿!BR91","v":""},{"$f":"名簿!Z91","v":""},"",{"$f":"名簿!O91","v":""},{"$f":"名簿!I91","v":0},{"$f":"名簿!K91","v":0},{"$f":"名簿!BU91","v":"00"},{"$f":"名簿!R91","v":""},{"$f":"名簿!D91","v":0},null,{"$f":"IF(O89=\"\",\"\",IF(I89=1,VLOOKUP(O89,男子種目コード!$V$22:$W$26,2,FALSE),IF(I89=2,VLOOKUP(O89,女子種目コード!$V$22:$W$26,2,FALSE))))","v":""},{"$f":"IF(O89=\"\",\"\",HLOOKUP(O89,名簿!$AB$8:$BK$118,84,FALSE))","v":""},"","高校","高校",null,null,null,null,null,null,null,null,null,null,null,null,null,null,null,""]
[null,{"$f":"名簿!Q92","v":""},null,null,{"$f":"名簿!E92","v":0},{"$f":"名簿!BR92","v":""},{"$f":"名簿!Z92","v":""},"",{"$f":"名簿!O92","v":""},{"$f":"名簿!I92","v":0},{"$f":"名簿!K92","v":0},{"$f":"名簿!BU92","v":"00"},{"$f":"名簿!R92","v":""},{"$f":"名簿!D92","v":0},null,{"$f":"IF(O90=\"\",\"\",IF(I90=1,VLOOKUP(O90,男子種目コード!$V$22:$W$26,2,FALSE),IF(I90=2,VLOOKUP(O90,女子種目コード!$V$22:$W$26,2,FALSE))))","v":""},{"$f":"IF(O90=\"\",\"\",HLOOKUP(O90,名簿!$AB$8:$BK$118,85,FALSE))","v":""},"","高校","高校",null,null,null,null,null,null,null,null,null,null,null,null,null,null,null,""]
[null,{"$f":"名簿!Q93","v":""},null,null,{"$f":"名簿!E93","v":0},{"$f":"名簿!BR93","v":""},{"$f":"名簿!Z93","v":""},"",{"$f":"名簿!O93","v":""},{"$f":"名簿!I93","v":0},{"$f":"名簿!K93","v":0},{"$f":"名簿!BU93","v":"00"},{"$f":"名簿!R93","v":""},{"$f":"名簿!D93","v":0},null,{"$f":"IF(O91=\"\",\"\",IF(I91=1,VLOOKUP(O91,男子種目コード!$V$22:$W$26,2,FALSE),IF(I91=2,VLOOKUP(O91,女子種目コード!$V$22:$W$26,2,FALSE))))","v":""},{"$f":"IF(O91=\"\",\"\",HLOOKUP(O91,名簿!$AB$8:$BK$118,86,FALSE))","v":""},"","高校","高校",null,null,null,null,null,null,null,null,null,null,null,null,null,null,null,""]
[null,{"$f":"名簿!Q94","v":""},null,null,{"$f":"名簿!E94","v":0},{"$f":"名簿!BR94","v":""},{"$f":"名簿!Z94","v":""},"",{"$f":"名簿!O94","v":""},{"$f":"名簿!I94","v":0},{"$f":"名簿!K94","v":0},{"$f":"名簿!BU94","v":"00"},{"$f":"名簿!R94","v":""},{"$f":"名簿!D94","v":0},null,{"$f":"IF(O92=\"\",\"\",IF(I92=1,VLOOKUP(O92,男子種目コード!$V$22:$W$26,2,FALSE),IF(I92=2,VLOOKUP(O92,女子種目コード!$V$22:$W$26,2,FALSE))))","v":""},{"$f":"IF(O92=\"\",\"\",HLOOKUP(O92,名簿!$AB$8:$BK$118,87,FALSE))","v":""},"","高校","高校",null,null,null,null,null,null,null,null,null,null,null,null,null,null,null,""]
[null,{"$f":"名簿!Q95","v":""},null,null,{"$f":"名簿!E95","v":0},{"$f":"名簿!BR95","v":""},{"$f":"名簿!Z95","v":""},"",{"$f":"名簿!O95","v":""},{"$f":"名簿!I95","v":0},{"$f":"名簿!K95","v":0},{"$f":"名簿!BU95","v":"00"},{"$f":"名簿!R95","v":""},{"$f":"名簿!D95","v":0},null,{"$f":"IF(O93=\"\",\"\",IF(I93=1,VLOOKUP(O93,男子種目コード!$V$22:$W$26,2,FALSE),IF(I93=2,VLOOKUP(O93,女子種目コード!$V$22:$W$26,2,FALSE))))","v":""},{"$f":"IF(O93=\"\",\"\",HLOOKUP(O93,名簿!$AB$8:$BK$118,88,FALSE))","v":""},"","高校","高校",null,null,null,null,null,null,null,null,null,null,null,null,null,null,null,""]
[null,{"$f":"名簿!Q96","v":""},null,null,{"$f":"名簿!E96","v":0},{"$f":"名簿!BR96","v":""},{"$f":"名簿!Z96","v":""},"",{"$f":"名簿!O96","v":""},{"$f":"名簿!I96","v":0},{"$f":"名簿!K96","v":0},{"$f":"名簿!BU96","v":"00"},{"$f":"名簿!R96","v":""},{"$f":"名簿!D96","v":0},null,{"$f":"IF(O94=\"\",\"\",IF(I94=1,VLOOKUP(O94,男子種目コード!$V$22:$W$26,2,FALSE),IF(I94=2,VLOOKUP(O94,女子種目コード!$V$22:$W$26,2,FALSE))))","v":""},{"$f":"IF(O94=\"\",\"\",HLOOKUP(O94,名簿!$AB$8:$BK$118,89,FALSE))","v":""},"","高校","高校",null,null,null,null,null,null,null,null,null,null,null,null,null,null,null,""]
[null,{"$f":"名簿!Q97","v":""},null,null,{"$f":"名簿!E97","v":0},{"$f":"名簿!BR97","v":""},{"$f":"名簿!Z97","v":""},"",{"$f":"名簿!O97","v":""},{"$f":"名簿!I97","v":0},{"$f":"名簿!K97","v":0},{"$f":"名簿!BU97","v":"00"},{"$f":"名簿!R97","v":""},{"$f":"名簿!D97","v":0},null,{"$f":"IF(O95=\"\",\"\",IF(I95=1,VLOOKUP(O95,男子種目コード!$V$22:$W$26,2,FALSE),IF(I95=2,VLOOKUP(O95,女子種目コード!$V$22:$W$26,2,FALSE))))","v":""},{"$f":"IF(O95=\"\",\"\",HLOOKUP(O95,名簿!$AB$8:$BK$118,90,FALSE))","v":""},"","高校","高校",null,null,null,null,null,null,null,null,null,null,null,null,null,null,null,""]
[null,{"$f":"名簿!Q98","v":""},null,null,{"$f":"名簿!E98","v":0},{"$f":"名簿!BR98","v":""},{"$f":"名簿!Z98","v":""},"",{"$f":"名簿!O98","v":""},{"$f":"名簿!I98","v":0},{"$f":"名簿!K98","v":0},{"$f":"名簿!BU98","v":"00"},{"$f":"名簿!R98","v":""},{"$f":"名簿!D98","v":0},null,{"$f":"IF(O96=\"\",\"\",IF(I96=1,VLOOKUP(O96,男子種目コード!$V$22:$W$26,2,FALSE),IF(I96=2,VLOOKUP(O96,女子種目コード!$V$22:$W$26,2,FALSE))))","v":""},{"$f":"IF(O96=\"\",\"\",HLOOKUP(O96,名簿!$AB$8:$BK$118,91,FALSE))","v":""},"","高校","高校",null,null,null,null,null,null,null,null,null,null,null,null,null,null,null,""]
[null,{"$f":"名簿!Q99","v":""},null,null,{"$f":"名簿!E99","v":0},{"$f":"名簿!BR99","v":""},{"$f":"名簿!Z99","v":""},"",{"$f":"名簿!O99","v":""},{"$f":"名簿!I99","v":0},{"$f":"名簿!K99","v":0},{"$f":"名簿!BU99","v":"00"},{"$f":"名簿!R99","v":""},{"$f":"名簿!D99","v":0},null,{"$f":"IF(O97=\"\",\"\",IF(I97=1,VLOOKUP(O97,男子種目コード!$V$22:$W$26,2,FALSE),IF(I97=2,VLOOKUP(O97,女子種目コード!$V$22:$W$26,2,FALSE))))","v":""},{"$f":"IF(O97=\"\",\"\",HLOOKUP(O97,名簿!$AB$8:$BK$118,92,FALSE))","v":""},"","高校","高校",null,null,null,null,null,null,null,null,null,null,null,null,null,null,null,""]
[null,{"$f":"名簿!Q100","v":""},null,null,{"$f":"名簿!E100","v":0},{"$f":"名簿!BR100","v":""},{"$f":"名簿!Z100","v":""},"",{"$f":"名簿!O100","v":""},{"$f":"名簿!I100","v":0},{"$f":"名簿!K100","v":0},{"$f":"名簿!BU100","v":"00"},{"$f":"名簿!R100","v":""},{"$f":"名簿!D100","v":0},null,{"$f":"IF(O98=\"\",\"\",IF(I98=1,VLOOKUP(O98,男子種目コード!$V$22:$W$26,2,FALSE),IF(I98=2,VLOOKUP(O98,女子種目コード!$V$22:$W$26,2,FALSE))))","v":""},{"$f":"IF(O98=\"\",\"\",HLOOKUP(O98,名簿!$AB$8:$BK$118,93,FALSE))","v":""},"","高校","高校",null,null,null,null,null,null,null,null,null,null,null,null,null,null,null,""]
[null,{"$f":"名簿!Q101","v":""},null,null,{"$f":"名簿!E101","v":0},{"$f":"名簿!BR101","v":""},{"$f":"名簿!Z101","v":""},"",{"$f":"名簿!O101","v":""},{"$f":"名簿!I101","v":0},{"$f":"名簿!K101","v":0},{"$f":"名簿!BU101","v":"00"},{"$f":"名簿!R101","v":""},{"$f":"名簿!D101","v":0},null,{"$f":"IF(O99=\"\",\"\",IF(I99=1,VLOOKUP(O99,男子種目コード!$V$22:$W$26,2,FALSE),IF(I99=2,VLOOKUP(O99,女子種目コード!$V$22:$W$26,2,FALSE))))","v":""},{"$f":"IF(O99=\"\",\"\",HLOOKUP(O99,名簿!$AB$8:$BK$118,94,FALSE))","v":""},"","高校","高校",null,null,null,null,null,null,null,null,null,null,null,null,null,null,null,""]
[null,{"$f":"名簿!Q102","v":""},null,null,{"$f":"名簿!E102","v":0},{"$f":"名簿!BR102","v":""},{"$f":"名簿!Z102","v":""},"",{"$f":"名簿!O102","v":""},{"$f":"名簿!I102","v":0},{"$f":"名簿!K102","v":0},{"$f":"名簿!BU102","v":"00"},{"$f":"名簿!R102","v":""},{"$f":"名簿!D102","v":0},null,{"$f":"IF(O100=\"\",\"\",IF(I100=1,VLOOKUP(O100,男子種目コード!$V$22:$W$26,2,FALSE),IF(I100=2,VLOOKUP(O100,女子種目コード!$V$22:$W$26,2,FALSE))))","v":""},{"$f":"IF(O100=\"\",\"\",HLOOKUP(O100,名簿!$AB$8:$BK$118,95,FALSE))","v":""},"","高校","高校",null,null,null,null,null,null,null,null,null,null,null,null,null,null,null,""]
[null,{"$f":"名簿!Q103","v":""},null,null,{"$f":"名簿!E103","v":0},{"$f":"名簿!BR103","v":""},{"$f":"名簿!Z103","v":""},"",{"$f":"名簿!O103","v":""},{"$f":"名簿!I103","v":0},{"$f":"名簿!K103","v":0},{"$f":"名簿!BU103","v":"00"},{"$f":"名簿!R103","v":""},{"$f":"名簿!D103","v":0},null,{"$f":"IF(O101=\"\",\"\",IF(I101=1,VLOOKUP(O101,男子種目コード!$V$22:$W$26,2,FALSE),IF(I101=2,VLOOKUP(O101,女子種目コード!$V$22:$W$26,2,FALSE))))","v":""},{"$f":"IF(O101=\"\",\"\",HLOOKUP(O101,名簿!$AB$8:$BK$118,96,FALSE))","v":""},"","高校","高校",null,null,null,null,null,null,null,null,null,null,null,null,null,null,null,""]
[null,{"$f":"名簿!Q104","v":""},null,null,{"$f":"名簿!E104","v":0},{"$f":"名簿!BR104","v":""},{"$f":"名簿!Z104","v":""},"",{"$f":"名簿!O104","v":""},{"$f":"名簿!I104","v":0},{"$f":"名簿!K104","v":0},{"$f":"名簿!BU104","v":"00"},{"$f":"名簿!R104","v":""},{"$f":"名簿!D104","v":0},null,{"$f":"IF(O102=\"\",\"\",IF(I102=1,VLOOKUP(O102,男子種目コード!$V$22:$W$26,2,FALSE),IF(I102=2,VLOOKUP(O102,女子種目コード!$V$22:$W$26,2,FALSE))))","v":""},{"$f":"IF(O102=\"\",\"\",HLOOKUP(O102,名簿!$AB$8:$BK$118,97,FALSE))","v":""},"","高校","高校",null,null,null,null,null,null,null,null,null,null,null,null,null,null,null,""]
[null,{"$f":"名簿!Q105","v":""},null,null,{"$f":"名簿!E105","v":0},{"$f":"名簿!BR105","v":""},{"$f":"名簿!Z105","v":""},"",{"$f":"名簿!O105","v":""},{"$f":"名簿!I105","v":0},{"$f":"名簿!K105","v":0},{"$f":"名簿!BU105","v":"00"},{"$f":"名簿!R105","v":""},{"$f":"名簿!D105","v":0},null,{"$f":"IF(O103=\"\",\"\",IF(I103=1,VLOOKUP(O103,男子種目コード!$V$22:$W$26,2,FALSE),IF(I103=2,VLOOKUP(O103,女子種目コード!$V$22:$W$26,2,FALSE))))","v":""},{"$f":"IF(O103=\"\",\"\",HLOOKUP(O103,名簿!$AB$8:$BK$118,98,FALSE))","v":""},"","高校","高校",null,null,null,null,null,null,null,null,null,null,null,null,null,null,null,{"$f":"IF(O103=\"\",\"\",1)","v":""}]
[null,{"$f":"名簿!Q106","v":""},null,null,{"$f":"名簿!E106","v":0},{"$f":"名簿!BR106","v":""},{"$f":"名簿!Z106","v":""},"",{"$f":"名簿!O106","v":""},{"$f":"名簿!I106","v":0},{"$f":"名簿!K106","v":0},{"$f":"名簿!BU106","v":"00"},{"$f":"名簿!R106","v":""},{"$f":"名簿!D106","v":0},null,{"$f":"IF(O104=\"\",\"\",IF(I104=1,VLOOKUP(O104,男子種目コード!$V$22:$W$26,2,FALSE),IF(I104=2,VLOOKUP(O104,女子種目コード!$V$22:$W$26,2,FALSE))))","v":""},{"$f":"IF(O104=\"\",\"\",HLOOKUP(O104,名簿!$AB$8:$BK$118,99,FALSE))","v":""},"","高校","高校",null,null,null,null,null,null,null,null,null,null,null,null,null,null,null,""]
[null,{"$f":"名簿!Q107","v":""},null,null,{"$f":"名簿!E107","v":0},{"$f":"名簿!BR107","v":""},{"$f":"名簿!Z107","v":""},"",{"$f":"名簿!O107","v":""},{"$f":"名簿!I107","v":0},{"$f":"名簿!K107","v":0},{"$f":"名簿!BU107","v":"00"},{"$f":"名簿!R107","v":""},{"$f":"名簿!D107","v":0},null,{"$f":"IF(O105=\"\",\"\",IF(I105=1,VLOOKUP(O105,男子種目コード!$V$22:$W$26,2,FALSE),IF(I105=2,VLOOKUP(O105,女子種目コード!$V$22:$W$26,2,FALSE))))","v":""},{"$f":"IF(O105=\"\",\"\",HLOOKUP(O105,名簿!$AB$8:$BK$118,100,FALSE))","v":""},"","高校","高校",null,null,null,null,null,null,null,null,null,null,null,null,null,null,null,""]
[null,{"$f":"名簿!Q108","v":""},null,null,{"$f":"名簿!E108","v":0},{"$f":"名簿!BR108","v":""},{"$f":"名簿!Z108","v":""},"",{"$f":"名簿!O108","v":""},{"$f":"名簿!I108","v":0},{"$f":"名簿!K108","v":0},{"$f":"名簿!BU108","v":"00"},{"$f":"名簿!R108","v":""},{"$f":"名簿!D108","v":0},null,{"$f":"IF(O106=\"\",\"\",IF(I106=1,VLOOKUP(O106,男子種目コード!$V$22:$W$26,2,FALSE),IF(I106=2,VLOOKUP(O106,女子種目コード!$V$22:$W$26,2,FALSE))))","v":""},{"$f":"IF(O106=\"\",\"\",HLOOKUP(O106,名簿!$AB$8:$BK$118,101,FALSE))","v":""},"","高校","高校",null,null,null,null,null,null,null,null,null,null,null,null,null,null,null,""]
[null,{"$f":"名簿!Q109","v":""},null,null,{"$f":"名簿!E109","v":0},{"$f":"名簿!BR109","v":""},{"$f":"名簿!Z109","v":""},"",{"$f":"名簿!O109","v":""},{"$f":"名簿!I109","v":0},{"$f":"名簿!K109","v":0},{"$f":"名簿!BU109","v":"00"},{"$f":"名簿!R109","v":""},{"$f":"名簿!D109","v":0},null,{"$f":"IF(O107=\"\",\"\",IF(I107=1,VLOOKUP(O107,男子種目コード!$V$22:$W$26,2,FALSE),IF(I107=2,VLOOKUP(O107,女子種目コード!$V$22:$W$26,2,FALSE))))","v":""},{"$f":"IF(O107=\"\",\"\",HLOOKUP(O107,名簿!$AB$8:$BK$118,102,FALSE))","v":""},"","高校","高校",null,null,null,null,null,null,null,null,null,null,null,null,null,null,null,""]
[null,{"$f":"名簿!Q110","v":""},null,null,{"$f":"名簿!E110","v":0},{"$f":"名簿!BR110","v":""},{"$f":"名簿!Z110","v":""},"",{"$f":"名簿!O110","v":""},{"$f":"名簿!I110","v":0},{"$f":"名簿!K110","v":0},{"$f":"名簿!BU110","v":"00"},{"$f":"名簿!R110","v":""},{"$f":"名簿!D110","v":0},null,{"$f":"IF(O108=\"\",\"\",IF(I108=1,VLOOKUP(O108,男子種目コード!$V$22:$W$26,2,FALSE),IF(I108=2,VLOOKUP(O108,女子種目コード!$V$22:$W$26,2,FALSE))))","v":""},{"$f":"IF(O108=\"\",\"\",HLOOKUP(O108,名簿!$AB$8:$BK$118,103,FALSE))","v":""},"","高校","高校",null,null,null,null,null,null,null,null,null,null,null,null,null,null,null,""]
[null,{"$f":"名簿!Q111","v":""},null,null,{"$f":"名簿!E111","v":0},{"$f":"名簿!BR111","v":""},{"$f":"名簿!Z111","v":""},"",{"$f":"名簿!O111","v":""},{"$f":"名簿!I111","v":0},{"$f":"名簿!K111","v":0},{"$f":"名簿!BU111","v":"00"},{"$f":"名簿!R111","v":""},{"$f":"名簿!D111","v":0},null,{"$f":"IF(O109=\"\",\"\",IF(I109=1,VLOOKUP(O109,男子種目コード!$V$22:$W$26,2,FALSE),IF(I109=2,VLOOKUP(O109,女子種目コード!$V$22:$W$26,2,FALSE))))","v":""},{"$f":"IF(O109=\"\",\"\",HLOOKUP(O109,名簿!$AB$8:$BK$118,104,FALSE))","v":""},"","高校","高校",null,null,null,null,null,null,null,null,null,null,null,null,null,null,null,""]
[null,{"$f":"名簿!Q112","v":""},null,null,{"$f":"名簿!E112","v":0},{"$f":"名簿!BR112","v":""},{"$f":"名簿!Z112","v":""},"",{"$f":"名簿!O112","v":""},{"$f":"名簿!I112","v":0},{"$f":"名簿!K112","v":0},{"$f":"名簿!BU112","v":"00"},{"$f":"名簿!R112","v":""},{"$f":"名簿!D112","v":0},null,{"$f":"IF(O110=\"\",\"\",IF(I110=1,VLOOKUP(O110,男子種目コード!$V$22:$W$26,2,FALSE),IF(I110=2,VLOOKUP(O110,女子種目コード!$V$22:$W$26,2,FALSE))))","v":""},{"$f":"IF(O110=\"\",\"\",HLOOKUP(O110,名簿!$AB$8:$BK$118,105,FALSE))","v":""},"","高校","高校",null,null,null,null,null,null,null,null,null,null,null,null,null,null,null,""]
[null,{"$f":"名簿!Q113","v":""},null,null,{"$f":"名簿!E113","v":0},{"$f":"名簿!BR113","v":""},{"$f":"名簿!Z113","v":""},"",{"$f":"名簿!O113","v":""},{"$f":"名簿!I113","v":0},{"$f":"名簿!K113","v":0},{"$f":"名簿!BU113","v":"00"},{"$f":"名簿!R113","v":""},{"$f":"名簿!D113","v":0},null,{"$f":"IF(O111=\"\",\"\",IF(I111=1,VLOOKUP(O111,男子種目コード!$V$22:$W$26,2,FALSE),IF(I111=2,VLOOKUP(O111,女子種目コード!$V$22:$W$26,2,FALSE))))","v":""},{"$f":"IF(O111=\"\",\"\",HLOOKUP(O111,名簿!$AB$8:$BK$118,106,FALSE))","v":""},"","高校","高校",null,null,null,null,null,null,null,null,null,null,null,null,null,null,null,""]
[null,{"$f":"名簿!Q114","v":""},null,null,{"$f":"名簿!E114","v":0},{"$f":"名簿!BR114","v":""},{"$f":"名簿!Z114","v":""},"",{"$f":"名簿!O114","v":""},{"$f":"名簿!I114","v":0},{"$f":"名簿!K114","v":0},{"$f":"名簿!BU114","v":"00"},{"$f":"名簿!R114","v":""},{"$f":"名簿!D114","v":0},null,{"$f":"IF(O112=\"\",\"\",IF(I112=1,VLOOKUP(O112,男子種目コード!$V$22:$W$26,2,FALSE),IF(I112=2,VLOOKUP(O112,女子種目コード!$V$22:$W$26,2,FALSE))))","v":""},{"$f":"IF(O112=\"\",\"\",HLOOKUP(O112,名簿!$AB$8:$BK$118,107,FALSE))","v":""},"","高校","高校",null,null,null,null,null,null,null,null,null,null,null,null,null,null,null,""]
[null,{"$f":"名簿!Q115","v":""},null,null,{"$f":"名簿!E115","v":0},{"$f":"名簿!BR115","v":""},{"$f":"名簿!Z115","v":""},"",{"$f":"名簿!O115","v":""},{"$f":"名簿!I115","v":0},{"$f":"名簿!K115","v":0},{"$f":"名簿!BU115","v":"00"},{"$f":"名簿!R115","v":""},{"$f":"名簿!D115","v":0},null,{"$f":"IF(O113=\"\",\"\",IF(I113=1,VLOOKUP(O113,男子種目コード!$V$22:$W$26,2,FALSE),IF(I113=2,VLOOKUP(O113,女子種目コード!$V$22:$W$26,2,FALSE))))","v":""},{"$f":"IF(O113=\"\",\"\",HLOOKUP(O113,名簿!$AB$8:$BK$118,108,FALSE))","v":""},"","高校","高校",null,null,null,null,null,null,null,null,null,null,null,null,null,null,null,""]
[null,{"$f":"名簿!Q116","v":""},null,null,{"$f":"名簿!E116","v":0},{"$f":"名簿!BR116","v":""},{"$f":"名簿!Z116","v":""},"",{"$f":"名簿!O116","v":""},{"$f":"名簿!I116","v":0},{"$f":"名簿!K116","v":0},{"$f":"名簿!BU116","v":"00"},{"$f":"名簿!R116","v":""},{"$f":"名簿!D116","v":0},null,{"$f":"IF(O114=\"\",\"\",IF(I114=1,VLOOKUP(O114,男子種目コード!$V$22:$W$26,2,FALSE),IF(I114=2,VLOOKUP(O114,女子種目コード!$V$22:$W$26,2,FALSE))))","v":""},{"$f":"IF(O114=\"\",\"\",HLOOKUP(O114,名簿!$AB$8:$BK$118,109,FALSE))","v":""},"","高校","高校",null,null,null,null,null,null,null,null,null,null,null,null,null,null,null,""]
[null,{"$f":"名簿!Q117","v":""},null,null,{"$f":"名簿!E117","v":0},{"$f":"名簿!BR117","v":""},{"$f":"名簿!Z117","v":""},"",{"$f":"名簿!O117","v":""},{"$f":"名簿!I117","v":0},{"$f":"名簿!K117","v":0},{"$f":"名簿!BU117","v":"00"},{"$f":"名簿!R117","v":""},{"$f":"名簿!D117","v":0},null,{"$f":"IF(O115=\"\",\"\",IF(I115=1,VLOOKUP(O115,男子種目コード!$V$22:$W$26,2,FALSE),IF(I115=2,VLOOKUP(O115,女子種目コード!$V$22:$W$26,2,FALSE))))","v":""},{"$f":"IF(O115=\"\",\"\",HLOOKUP(O115,名簿!$AB$8:$BK$118,110,FALSE))","v":""},"","高校","高校",null,null,null,null,null,null,null,null,null,null,null,null,null,null,null,""]
[null,{"$f":"名簿!Q118","v":""},null,null,{"$f":"名簿!E118","v":0},{"$f":"名簿!BR118","v":""},{"$f":"名簿!Z118","v":""},"",{"$f":"名簿!O118","v":""},{"$f":"名簿!I118","v":0},{"$f":"名簿!K118","v":0},{"$f":"名簿!BU118","v":"00"},{"$f":"名簿!R118","v":""},{"$f":"名簿!D118","v":0},null,{"$f":"IF(O116=\"\",\"\",IF(I116=1,VLOOKUP(O116,男子種目コード!$V$22:$W$26,2,FALSE),IF(I116=2,VLOOKUP(O116,女子種目コード!$V$22:$W$26,2,FALSE))))","v":""},{"$f":"IF(O116=\"\",\"\",HLOOKUP(O116,名簿!$AB$8:$BK$118,111,FALSE))","v":""},"","高校","高校",null,null,null,null,null,null,null,null,null,null,null,null,null,null,null,""]
[null,null,null,null,null,null,null,null,null,null,null,null,null,null,null,null,null,null,null,null,null,null,null,null,null,null,null,null,null,null,null,null,null,{"$f":"SUM(AJ7:AJ116)","v":0}]

{"sheet":"振込票貼付用紙1","index":21,"n_rows":46,"n_cols":11,"rows_kept":46,"cut":false,"hidden":false,"merged":[[46,4,46,5],[0,0,0,9],[7,10,27,10],[45,4,45,5]]}
["大会参加料　振込票貼付用紙"]
[]
["大会名",null,"国体一次選考競技会"]
[]
["所属名",null,{"$f":"前年度登録!P9","v":0},null,null,null,null,null,{"$f":"前年度登録!Q9","v":""}]
[]
["責任者",null,"おお",null,null,"連絡先",{"$f":"前年度登録!I5","v":0}]
[null,null,null,null,null,null,null,null,null,null,"メニューへ戻り、上書き保存して下さい"]
[]
[]
[]
[]
[]
[]
[]
[]
[]
[]
[]
[]
[]
[]
[]
[]
[]
[]
[]
[]
[]
[]
[]
[]
[]
[]
[]
[]
[]
[]
[]
[null,null,null,null,null,"プログラム",null,1,"冊"]
[]
[]
[null,"参加人数",null,0,null,"個人種目",null,0]
[]
[null,"リレー"]
[null,null,null,null,"参加費合計",null,800,null,"円"]

{"sheet":"振込票貼付用紙","index":22,"n_rows":46,"n_cols":11,"rows_kept":46,"cut":false,"hidden":false,"merged":[[7,10,27,10],[0,0,0,9],[45,4,45,5],[46,4,46,5],[44,4,44,5],[44,6,44,7]]}
["大会参加料　振込票貼付用紙"]
[]
["大会名",null,"三重県高校新人"]
[]
["所属名",null,{"$f":"名簿!P9","v":0},null,null,null,null,null,{"$f":"名簿!Q9","v":""}]
[]
["責任者",null,{"$f":"名簿!E5","v":0},null,null,"連絡先",{"$f":"名簿!I5","v":0}]
[null,null,null,null,null,null,null,null,null,null,"メニューへ戻り、上書き保存して下さい"]
[]
[]
[]
[]
[]
[]
[]
[]
[]
[]
[]
[]
[]
[]
[]
[]
[]
[]
[]
[]
[]
[]
[]
[]
[]
[]
[]
[]
[]
[]
[]
[null,null,null,null,null,"プログラム",null,2,"冊"]
[]
[]
[null,"参加人数",null,2,null,"個人種目"]
[]
[null,"リレー",null,1]
[null,null,null,null,"参加費合計",null,3600,null,"円"]

{"sheet":"男子種目コード","index":23,"n_rows":85,"n_cols":26,"rows_kept":85,"cut":false,"hidden":true,"merged":[]}
["国体1次高校県選",null,null,"通信",null,null,"中学混成",null,null,"リレーカーニバル",null,null,"中学選抜",null,null,"ジュニアO",null,null,"中学県大会",null,null,"小学生県・選手権・クラブ",null,null,"SF"]
[100,1,null,"1年100",1,null,"四種",1,null,"5年100",1,null,100,1,null,100,1,null,100,1,null,"3年60",1,null,100,2]
[200,2,null,"1年1500",2,null,100,2,null,"6年100",2,null,200,2,null,3000,2,null,200,2,null,"4年60",2,null,3000,3]
[400,3,null,"2年100",3,null,1500,3,null,"5･6年1000",3,null,400,3,null,"110JH",3,null,400,3,null,"5年100",3,null,5000,4]
[800,4,null,"2年1500",4,null,3000,4,null,"5･6年80H",4,null,800,4,null,"走幅跳",4,null,800,4,null,"6年100",4,null,"110JH",5]
[1500,5,null,"共通100",5,null,"棒高跳",5,null,"5･6年走幅跳",5,null,1500,5,null,"砲丸投",5,null,3000,5,null,"5･6年1000",5,null,"4×100",6]
[5000,6,null,"共通200",6,null,null,null,null,"5･6年ボール投",6,null,3000,6,null,"A-100",6,null,"110H",6,null,"5年1000",6,null,1500,7]
[10000,7,null,"共通400",7,null,null,null,null,"5･6年4×100R",7,null,"110H",7,null,"A-200",7,null,"低学年R",7,null,"6年1000",7]
["110H",8,null,"共通800",8,null,null,null,null,"混成リレー",8,null,"走高跳",8,null,"A-400",8,null,"4×200R",8,null,"5･6年80H",8]
["400H",9,null,"共通1500",9,null,null,null,null,100,9,null,"棒高跳",9,null,"A-800",9,null,"走高跳",9,null,"5･6年4×100R",9]
["3000SC",10,null,"共通3000",10,null,null,null,null,3000,10,null,"走幅跳",10,null,"A-3000",10,null,"棒高跳",10,null,"混成4×100R",10]
[null,11,null,"共通110H",11,null,null,null,null,"4×１00R",11,null,"砲丸投",11,null,"A-110H",11,null,"走幅跳",11,null,"5･6年走高跳",11]
["5000W",12,null,"低学年R",12,null,null,null,null,"走高跳",12,null,"四種",12,null,"A-走高跳",12,null,"三段跳",12,null,"5･6年走幅跳",12]
["4×100",13,null,"4×100R",13,null,null,null,null,"走幅跳",13,null,null,null,null,"A-砲丸投",13,null,"砲丸投",13,null,"5･6年ボール投",13]
["4×400",14,null,"共通走高跳",14,null,null,null,null,"砲丸投",14,null,null,null,null,"B-100",14,null,"円盤投",14]
["走高跳",15,null,"共通棒高跳",15,null,null,null,null,"ｼﾞｬﾍﾞﾘｯｸ",15,null,null,null,null,"B-1500",15,null,null,null,null,"小学生混成"]
["棒高跳",16,null,"共走幅跳",16,null,null,null,null,null,null,null,null,null,null,"B-110H",16,null,null,null,null,"三種",1]
["走幅跳",17,null,"共通三段跳",17,null,null,null,null,null,null,null,null,null,null,"B-走幅跳",17]
["三段跳",18,null,"共通砲丸投",18,null,null,null,null,null,null,null,null,null,null,"C-100",18]
["砲丸投",19,null,"共通円盤投",19,null,null,null,null,null,null,null,null,null,null,"C-100H",19]
["円盤投",20,null,null,null,null,null,null,null,null,null,null,null,null,null,"C-走幅跳",20]
["ハンマー投",21,null,null,null,null,null,null,null,null,null,null,null,null,null,"C-砲丸投",21,null,null,null,null,"ロードレース"]
["やり投",22,null,null,null,null,null,null,null,null,null,null,null,null,null,"AB円盤投",22,null,null,null,null,"高校10ｋ",3]
["8種",23,null,null,null,null,null,null,null,null,null,null,null,null,null,"AB共通ｼﾞｬﾍﾞﾘｯｸ",23]
["少年3000",24,null,null,null,null,null,null,null,null,null,null,null,null,null,null,24,null,null,null,null,"中5ｋ",3]
["少年砲丸投",25,null,null,null,null,null,null,null,null,null,null,null,null,null,null,25]
["少年円盤投",26]
["少年ハンマー投",27]
["少年B100",28]
["少年B砲丸投",29,null,"ナイター記録会"]
["少年B円盤投",30]
["少年Aハンマー投",31,null,"高一般男子5000-1部",2]
["記録会5000",32,null,"高一般男子5000-2部",3]
[null,null,null,"高一般男子5000-3部",4]
["三重長距離記録会",null,null,"高一般男子5000-4部",5]
["高男子3000",1,null,"高一般男子5000-5部",6]
["高一般男子5000-1部",2]
["高一般男子5000-2部",3]
["高一般男子5000-3部",4]
["高一般男子5000-4部",5]
["高一般男子5000-5部",6]
[]
["総体・新人",null,null,"定時制"]
[100,1,null,100,1]
[200,2,null,200,2]
[400,3,null,400,3]
[800,4,null,800,4]
[1500,5,null,1500,5]
[5000,6,null,5000,6]
[10000,7,null,"4×100",7]
["110H",8,null,"4×400",8]
["400H",9,null,"走高跳",9]
["3000SC",10,null,"走幅跳",10]
[null,11,null,"三段跳",11]
["5000W",12,null,"砲丸投",12]
["4×100",13,null,"円盤投",13]
["4×400",14]
["走高跳",15]
["棒高跳",16]
["走幅跳",17]
["三段跳",18]
["砲丸投",19]
["円盤投",20]
["ハンマー投",21]
["やり投",22]
["8種",23]
[null,24]
[null,25]
[null,26]
[null,27]
[null,28]
[null,29]
[null,30]
[null,31]
[null,32]
[]
["国体1次リレー"]
["男子A",14]
["男子B",14]
["男子C",14]
["男子D",14]
["男子A",13]
["男子B",13]
["男子C",13]
["男子D",14]

{"sheet":"女子種目コード","index":24,"n_rows":85,"n_cols":26,"rows_kept":85,"cut":false,"hidden":true,"merged":[]}
["国体1次高校県選",null,null,"通信",null,null,"中学混成",null,null,"リレーカーニバル",null,null,"中学選抜",null,null,"ジュニアO",null,null,"中学県大会",null,null,"小学生県･選手権･クラブ",null,null,"SF"]
[100,40,null,"1年100",30,null,"四種",10,null,"5年100",20,null,100,20,null,100,30,null,100,20,null,"3年60",15,null,100,11]
[200,41,null,"1年800",31,null,100,11,null,"6年100",21,null,200,21,null,3000,31,null,200,21,null,"4年60",16,null,3000,12]
[400,42,null,"2年100",32,null,800,12,null,"5･6年1000",22,null,800,22,null,"100H",32,null,800,22,null,"5年100",17,null,"100YH",13]
[800,43,null,"共通100",33,null,1500,13,null,"5･6年80H",23,null,1500,23,null,"走幅跳",33,null,2000,23,null,"6年100",18,null,"4×100",14]
[1500,44,null,"共通200",34,null,null,null,null,"5･6年走幅跳",24,null,"100H",24,null,"円盤投",34,null,"100H",24,null,"5.6年1000",19,null,1500,15]
[3000,45,null,"共通800",35,null,null,null,null,"5･6年ボール投",25,null,"走高跳",25,null,"A-100",35,null,"低学年R",25,null,"5年1000",20]
[5000,46,null,"共通1500",36,null,null,null,null,"5･6年4×100R",26,null,"走幅跳",26,null,"A-200",36,null,"4×100R",26,null,"6年1000",21]
[10000,47,null,"共通100H",37,null,null,null,null,"混成リレー",8,null,"砲丸投",27,null,"A-3000",37,null,"走高跳",27,null,"5･6年80H",22]
["100H",48,null,"低学年R",38,null,null,null,null,100,28,null,"四種",28,null,"A-100H",38,null,"走幅跳",28,null,"5･6年4×100R",23]
["400H",49,null,"4×100",39,null,null,null,null,1500,29,null,null,null,null,"A-走高跳",39,null,"砲丸投",29,null,"混成4×100R",10]
[null,50,null,"共通走高跳",40,null,null,null,null,"4×100R",30,null,null,null,null,"B-100",40,null,"円盤投",30,null,"5･6年走高跳",25]
["3000W",51,null,"共通走幅跳",41,null,null,null,null,"走高跳",31,null,null,null,null,"B-1500",41,null,null,null,null,"5･6年走幅跳",26]
["5000W",52,null,"共通砲丸投",42,null,null,null,null,"走幅跳",32,null,null,null,null,"B-100H",42,null,null,null,null,"5･6年ボール投",27]
["4×100",53,null,"共通円盤投",43,null,null,null,null,"砲丸投",33,null,null,null,null,"B-走高跳",43]
["4×400",54,null,null,null,null,null,null,null,"ｼﾞｬﾍﾞﾘｯｸ",34,null,null,null,null,"B-走幅跳",44,null,null,null,null,"小学生混成"]
["走高跳",55,null,null,null,null,null,null,null,null,null,null,null,null,null,"B-砲丸投",45,null,null,null,null,"三種",2]
["棒高跳",56,null,null,null,null,null,null,null,null,null,null,null,null,null,"C-100",46]
["走幅跳",57,null,null,null,null,null,null,null,null,null,null,null,null,null,"C-100H",47]
["三段跳",58,null,null,null,null,null,null,null,null,null,null,null,null,null,"C-走幅跳",48]
["砲丸投",59,null,null,null,null,null,null,null,null,null,null,null,null,null,"C-砲丸投",49]
["円盤投",60,null,null,null,null,null,null,null,null,null,null,null,null,null,"AB円盤投",50,null,null,null,null,"ロードレース"]
["ハンマー投",61,null,null,null,null,null,null,null,null,null,null,null,null,null,"ABｼﾞｬﾍﾞﾘｯｸ",51,null,null,null,null,"女子5ｋ",7]
["やり投",62,null,null,null,null,null,null,null,null,null,null,null,null,null,null,52]
["7種",63,null,null,null,null,null,null,null,null,null,null,null,null,null,null,53]
["少年3000",64,null,null,null,null,null,null,null,null,null,null,null,null,null,null,54]
["少年B100YH",65]
["少年B100",66]
[]
[]
[null,null,null,"ナイター記録会"]
["三重長距離記録会"]
["高校一般女子3000",10,null,"高校一般女子3000",10]
[]
["春季・高校総体",null,null,"高校新人",null,null,"定時制"]
[100,40,null,100,40,null,100,20]
[200,41,null,200,41,null,200,21]
[400,42,null,400,42,null,800,22]
[800,43,null,800,43,null,"100H",23]
[1500,44,null,1500,44,null,"4×100",24]
[3000,45,null,3000,45,null,"走高跳",25]
[5000,46,null,null,46,null,"走幅跳",26]
[10000,47,null,null,47,null,"砲丸投",27]
["100H",48,null,"100H",48,null,"円盤投",28]
["400H",49,null,"400H",49]
[null,50,null,null,50]
["3000W",51,null,"5000W",51]
["5000W",52,null,null,52]
["4×100",53,null,"4×100",53]
["4×400",54,null,"4×400",54]
["走高跳",55,null,"走高跳",55]
["棒高跳",56,null,"棒高跳",56]
["走幅跳",57,null,"走幅跳",57]
["三段跳",58,null,"三段跳",58]
["砲丸投",59,null,"砲丸投",59]
["円盤投",60,null,"円盤投",60]
["ハンマー投",61,null,"ハンマー投",61]
["やり投",62,null,"やり投",62]
["7種",63,null,"記録会3000",63]
[null,64,null,null,64]
[null,65,null,null,65]
[]
[]
[]
[]
[]
[]
[]
[]
[]
[]
[]
[]
[]
[]
[]
["国体1次リレー"]
["女子A",54]
["女子B",54]
["女子C",54]
["女子D",54]
["女子A",53]
["女子B",53]
["女子C",53]
["女子D",53]

{"sheet":"作業","index":25,"n_rows":1,"n_cols":4,"rows_kept":1,"cut":false,"hidden":false,"merged":[]}
[1,"選　手","コード","コード"]

{"sheet":"所属コード","index":26,"n_rows":70,"n_cols":7,"rows_kept":70,"cut":false,"hidden":true,"merged":[]}
["所属名","所属NO","所属名カナ","所属名略称","所属地NO"]
["暁",233901,null,"暁",23,null,"三重"]
["明野",233137,null,"明野",23,null,"三重"]
["朝明",233156,null,"朝明",23,null,"三重"]
["飯南",233129,null,"飯南",23,null,"三重"]
["伊賀白鳳",233954,null,"伊賀白鳳",23,null,"三重"]
["石薬師",233157,null,"石薬師",23,null,"三重"]
["伊勢",233133,null,"伊勢",23,null,"三重"]
["伊勢学園",233509,null,"伊勢学園",23,null,"三重"]
["伊勢工",233134,null,"伊勢工",23,null,"三重"]
["いなべ総合",233104,null,"いなべ総合",23,null,"三重"]
["稲生",233160,null,"稲生",23,null,"三重"]
["上野",233144,null,"上野",23,null,"三重"]
["宇治山田",233132,null,"宇治山田",23,null,"三重"]
["宇治山田商",233135,null,"宇治山田商",23,null,"三重"]
["相可",233130,null,"相可",23,null,"三重"]
["尾鷲",233151,null,"尾鷲",23,null,"三重"]
["海星",233502,null,"海星",23,null,"三重"]
["亀山",233117,null,"亀山",23,null,"三重"]
["川越",233162,null,"川越",23,null,"三重"]
["神戸",233114,null,"神戸",23,null,"三重"]
["紀南",233155,null,"紀南",23,null,"三重"]
["木本",233154,null,"木本",23,null,"三重"]
["近大高専",233991,null,"近大高専",23,null,"三重"]
["桑名",233101,null,"桑名",23,null,"三重"]
["桑名北",233158,null,"桑名北",23,null,"三重"]
["桑名工",233103,null,"桑名工",23,null,"三重"]
["桑名西",233102,null,"桑名西",23,null,"三重"]
["皇學館",233510,null,"皇學館",23,null,"三重"]
["菰野",233113,null,"菰野",23,null,"三重"]
["桜丘",233513,null,"桜丘",23,null,"三重"]
["志摩",233142,null,"志摩",23,null,"三重"]
["白子",233116,null,"白子",23,null,"三重"]
["鈴鹿",233902,null,"鈴鹿",23,null,"三重"]
["鈴鹿高専",233992,null,"鈴鹿高専",23,null,"三重"]
["セントヨゼフ",233506,null,"セントヨゼフ",23,null,"三重"]
["高田",233903,null,"高田",23,null,"三重"]
["津",233118,null,"津",23,null,"三重"]
["津工",233121,null,"津工",23,null,"三重"]
["津商",233122,null,"津商",23,null,"三重"]
["津田学園",233515,null,"津田学園",23,null,"三重"]
["津西",233119,null,"津西",23,null,"三重"]
["津東",233120,null,"津東",23,null,"三重"]
["鳥羽",233141,null,"鳥羽",23,null,"三重"]
["鳥羽商船",233993,null,"鳥羽商船",23,null,"三重"]
["名張桔梗丘",233150,null,"名張桔梗丘",23,null,"三重"]
["名張青峰",233163,null,"名張青峰",23,null,"三重"]
["白山",233125,null,"白山",23,null,"三重"]
["久居",233161,null,"久居",23,null,"三重"]
["久居農林",233124,null,"久居農林",23,null,"三重"]
["松阪",233126,null,"松阪",23,null,"三重"]
["松阪工",233127,null,"松阪工",23,null,"三重"]
["松阪商",233128,null,"松阪商",23,null,"三重"]
["三重",233904,null,"三重",23,null,"三重"]
["南伊勢",233952,null,"南伊勢",23,null,"三重"]
["四日市",233105,null,"四日市",23,null,"三重"]
["四日市工",233109,null,"四日市工",23,null,"三重"]
["四日市商",233111,null,"四日市商",23,null,"三重"]
["四中工",233110,null,"四中工",23,null,"三重"]
["四日市西",233107,null,"四日市西",23,null,"三重"]
["四日市農芸",233108,null,"四日市農芸",23,null,"三重"]
["四日市南",233106,null,"四日市南",23,null,"三重"]
["四日市四郷",233159,null,"四日市四郷",23,null,"三重"]
["まなび",233136,null,"まなび",23,null,"三重"]
["大橋学園",233517,null,"大橋学園",23,null,"三重"]
["徳風",233519,null,"徳風",23,null,"三重"]
["北星",233112,null,"北星",23,null,"三重"]
["松阪(通)",233518,null,"松阪(通)",23,null,"三重"]
["みえ夢学園",233123,null,"みえ夢学園",23,null,"三重"]
["四工(定)",234151,null,"四工(定)",23,null,"三重"]

{"sheet":"所属地コード","index":27,"n_rows":84,"n_cols":3,"rows_kept":84,"cut":false,"hidden":true,"merged":[]}
["地区","地区コード"]
["北海道",1,"ﾎｯｶｲﾄﾞｳ"]
["青森",2,"ｱｵﾓﾘ"]
["岩手",3,"ｲﾜﾃ"]
["宮城",4,"ﾐﾔｷﾞ"]
["秋田",5,"ｱｷﾀ"]
["山形",6,"ﾔﾏｶﾞﾀ"]
["福島",7,"ﾌｸｼﾏ"]
["茨城",8,"ｲﾊﾞﾗｷﾞ"]
["栃木",9,"ﾄﾁｷﾞ"]
["群馬",10,"ｸﾞﾝﾏ"]
["埼玉",11,"ｻｲﾀﾏ"]
["千葉",12,"ﾁﾊﾞ"]
["東京",13,"ﾄｳｷｮｳ"]
["神奈川",14,"ｶﾅｶﾞﾜ"]
["山梨",15,"ﾔﾏﾅｼ"]
["新潟",16,"ﾆｲｶﾞﾀ"]
["長野",17,"ﾅｶﾞﾉ"]
["富山",18,"ﾄﾔﾏ"]
["石川",19,"ｲｼｶﾜ"]
["福井",20,"ﾌｸｲ"]
["静岡",21,"ｼｽﾞｵｶ"]
["愛知",22,"ｱｲﾁ"]
["三重",23,"ﾐｴ"]
["岐阜",24,"ｷﾞﾌ"]
["滋賀",25,"ｼｶﾞ"]
["京都",26,"ｷｮｳﾄ"]
["大阪",27,"ｵｵｻｶ"]
["兵庫",28,"ﾋｮｳｺﾞ"]
["奈良",29,"ﾅﾗ"]
["和歌山",30,"ﾜｶﾔﾏ"]
["鳥取",31,"ﾄｯﾄﾘ"]
["島根",32,"ｼﾏﾈ"]
["岡山",33,"ｵｶﾔﾏ"]
["広島",34,"ﾋﾛｼﾏ"]
["山口",35,"ﾔﾏｸﾞﾁ"]
["徳島",36,"ﾄｸｼﾏ"]
["香川",37,"ｶｶﾞﾜ"]
["愛媛",38,"ｴﾋﾒ"]
["高知",39,"ｺｳﾁ"]
["福岡",40,"ﾌｸｵｶ"]
["佐賀",41,"ｻｶﾞ"]
["長崎",42,"ﾅｶﾞｻｷ"]
["熊本",43,"ｸﾏﾓﾄ"]
["大分",44,"ｵｵｲﾀ"]
["宮崎",45,"ﾐﾔｻﾞｷ"]
["鹿児島",46,"ｶｺﾞｼﾏ"]
["沖縄",47,"ｵｷﾅﾜ"]
["学連",48,"ガクレン"]
["桑名市",100]
["いなべ市",101]
["桑名郡",102]
["員弁郡",103]
["四日市",104]
["三重郡",105]
["鈴鹿市",106]
["亀山市",107]
["鈴鹿郡",108]
["津市",109]
[]
[]
[]
["松阪市",113]
[]
["多気郡",115]
["伊勢市",116]
["度会郡",117]
["鳥羽市",118]
["志摩市",119]
["伊賀市",120]
["名張市",121]
["伊賀郡",122]
["阿山郡",123]
["名賀郡",124]
["尾鷲市",125]
["北牟婁",126]
["熊野市",127]
["南牟婁",128]
[null,129]
[null,130]
[null,131]
[null,132]
[null,133]
[null,134]