{"text_format":"1","workbook":"xlsx","n_sheets":26,"sheets":["注意","説明","メニュー","陸連登録","大会申込","出場認知書","個人種目選手権","混成","県選","通信","選抜","ジュニアO","所属コード","DENSO_CUP","県駅伝オーダー用紙","タスキリレー","タスキリレーオーダー","お勢さんマラソン","振込票貼付用紙","男子一覧表","男子個票","女子一覧表","女子個票","1","男子種目コード","女子種目コード"],"not_rendered":{"charts":0,"images":5,"macros":1,"external_links":2,"defined_names":45,"comments":0,"pivot_tables":0},"unopened":[],"bounds":{"document_bytes":16777216,"sheet_cells":100000,"rows_first":2000,"rows_last":500,"rows_between":2000,"halvings":0,"cell_chars":16384,"cell_head_chars":4096},"cells_cut":0,"cells_raw":0,"read":"whole","date_system":"1900"}

{"sheet":"注意","index":0,"n_rows":69,"n_cols":1,"rows_kept":69,"cut":false,"hidden":false,"merged":[]}
["マクロが無効になっています。"]
["最新バージョンのエクセル(2007）使用の場合は、シートの上部にセキュリティの警告が出ますので"]
["右側のオプションをクリックし、「このコンテンツを有効にする」にチェックを入れて下さい。"]
["それ以前のエクセルは下記に従って下さい。"]
["入力を行うには，マクロを有効にする必要があります。"]
["マクロを有効にしてファイルを開いてください。"]
["エクセル2002以前のバージョンでは動作しません。エクセル2002以降のパソコンで作業して下さい"]
["マクロを有効にするには，"]
["１）上部メニューを「ツール(T)→マクロ(M)→セキュリティ(S)」の順に開きます。"]
[]
[]
[]
[]
[]
[]
[]
[]
[]
[]
[]
[]
[]
[]
[]
[]
[]
[]
[]
[]
[]
[]
[]
[]
[]
[]
["２）「セキュリティレベル」を「中」に設定してください。"]
[]
[]
[]
[]
[]
[]
[]
[]
[]
[]
[]
[]
[]
[]
[]
[]
[]
[]
[]
["３）EXCELをいったん終了（ファイルを保存しない）し，再度ファイルを開きます。"]
["４）マクロを有効にするかどうか聞いてきます。ここで「マクロを有効にする」を選択します。"]
[]
[]
[]
[]
[]
[]
[]
[]
[]
[]
[]
["何らかの原因でマクロが停止した場合は，いったんファイルを保存し，再度開き直してください。"]

{"sheet":"説明","index":1,"n_rows":101,"n_cols":9,"rows_kept":101,"cut":false,"hidden":false,"merged":[]}
["中学生大会申込み概要"]
[]
["全ての大会をメール申込といたします。"]
["エクセル２００２以前のバージョンではこのファイルは利用できない。"]
[]
[]
["注意事項",null,"①参加料が必要な大会は振込証明（振込票の写し）を様式⑨に貼付の上、送付のこと。"]
[null,null,"　大会により参加費送付先が中体連と三重陸協に分かれますので、要項を熟読のこと。"]
[null,null,"　 期日までに振込み及び送金がない場合は出場を認めない。"]
[]
[null,null,"②申込後の選手変更・種目変更は一切受付けないので、よく確認の上申し込むこと。"]
[null,null,"③振込人の名称は所属名を記載のこと。(個人名は間違いのもとになります。)"]
[null,null,"④極端に早い振込みも間違いのもとになるので配慮のこと。"]
[null,null,"⑤学校長の認知書は大会当日受付で係員に渡すこと。。"]
[]
[null,null,"三重陸協主催大会の"]
[null,null,"振込先","　　百五銀行　生桑(ｲｸﾜ)支店　普通預金　口座番号　４４０２６６　口座名　一般財団保人三重陸上競技協会"]
[]
[]
[null,null,"競技時間等は大会1週間前にホームページに掲載するので通知はしない。"]
[null,null,"大会参加費は一覧表上部に記載されるので、確認の上振り込むこと。"]
[]
[null,null,"⑥Noがない選手（未登録選手）は中体連よりNoを割り当ててもらうこと。"]
[null,null,"　登録連絡先は　cyutairen★mierk.jp　"]
[]
[null,null,"申込みにNoが記入されていない場合は受理できません。"]
[]
[null,"下記順序で入力願います。"]
[null,"中体連より割り振られた"]
[null,"NOを全部エントリーしていただきます。（名前の空白は空白で構いません。出場しない選手も申し込む）"]
[null,"出場する選手のみ、種目を選んでいただき、記録を記入していただくだけです。"]
[]
[]
["順序①","入力方法","メニューより陸連登録ボタンを押してください"]
[null,1,"日本陸連サイトより選手ＤＡＴＡをダウンロードして下さい。"]
[]
[null,null,null,null,null,"コーピーして張り付ける場合は、形式を選択して貼り付けを選んで下さい"]
[null,null,null,null,null,"値にチェックを入れ、貼り付けて下さい。(値のみ貼り付け）"]
[]
[]
[]
[]
[]
[]
[]
[]
[]
[]
[null,"貼り付け7が完了したら、メニューへ戻り　上書き保存ボタンを押して下さい。"]
[]
[]
["順序②",2,"メニューより大会申込みボタンを押して下さい。　申込む大会ボタンを押し下記の通り入力して下さい。"]
[]
[]
[]
[]
[]
[]
[null,null,null,null,null,null,"セルを左クリックすれば種目選択がでますので、該当種目を選んで下さい。"]
[]
[null,null,null,null,null,null,"参考事項"]
[null,null,null,null,null,null,"リターンキーを押すと下のセルに移動すると思います。"]
[null,null,null,null,null,null,"Tabキーで横の欄に移動して下さい"]
[]
[null,null,null,null,null,null,"青のセルは記録入力です。トラックの記録は下記の様に入力して下さい。"]
[null,null,null,null,null,null,"10秒０１","→",10.01]
[null,null,null,null,null,null,"１１秒１","→","11.10"]
[null,null,null,null,null,null,"１分５８秒２３","→","1.58.20"]
[null,null,null,null,null,null,"１分５８秒３","→","1.58.30"]
[]
[null,null,null,null,null,null,"フィールド入力は全てmをいれて下さい（半角）"]
[null,null,null,null,null,null,"7m50","→","7m50"]
[null,null,null,null,null,null,"62m50","→","62m50"]
[null,null,null,null,null,null,"1m90","→","1m90"]
[]
[null,null,null,null,null,null,"リレー種目は種目のみを入力して下さい。忘れないように"]
[null,null,null,null,null,null,"A・Bがある場合も種目だけで構いません。"]
[null,null,null,null,null,null,"記録はリレー覧に入力して下さい。"]
[]
[null,null,"注意　大会シート上でNo及び名前が入力できないとの問合せがありますが、選手入力で入力すれば解決します。"]
[null,null,"　　　　記録がない場合は、シードの対象外といたします。"]
[]
[null,3,"最後に添付ファイル作成ボタンをクリックのこと。添付ファイルが作成されます。"]
[null,null,"このエクセルファイルが保存されている同じ場所に、大会名の添付ファイルが作成されます。"]
[]
["申込み送付時の注意点"]
[null,4,"メール送付先",null,"mousikomi★mierk.jp"]
[]
[null,null,"メールに必ず添付して下さい。"]
[null,null,"資格審査後、正式受理のメールを返信いたします。1日経っても届かない場合は、お問合せ下さい。"]
[null,null,"このファイルをまるごと送ることはやめて下さい。ファイルが大きすぎます。"]
[]
[]
["注意事項",null,"①選抜大会はメールでの受付けはしない。"]
[null,null,"　 大会要項巻末の様式③④と個票⑤に記入の上、通信大会当日までに申し込むこと。"]
[null,null,"②難しい場合は、各校のパソコンに詳しい先生方の協力を仰いで下さい。"]
[]
[]
[]
[]
["出場認知書は学校長捺印の上、試合当日受付で渡すこと。"]

{"sheet":"メニュー","index":2,"n_rows":0,"n_cols":0,"rows_kept":0,"cut":false,"hidden":false,"merged":[[3,2,3,6],[22,1,22,8]]}

{"sheet":"陸連登録","index":3,"n_rows":151,"n_cols":36,"rows_kept":151,"cut":false,"hidden":false,"merged":[]}
[null,"JAAF ID","会員名","会員名カナ","性別","登録都道府県コード","登録都道府県名","団体ID","団体名","団体名カナ","団体名略称","生年月日","都道府県(学連)登録番号","旧団体コード","備考","学年","団体区分","地域学連名","支部名","郵便番号","住所(都道府県)","住所(市区町村以下)","住所(建物名)","審判資格","E-mail","E-mail配信希望","連絡先電話番号","出身高校都道府県","出身高校名","出身中学校都道府県","出身中学校名","勤務先名","勤務先郵便番号","勤務先住所","勤務先電話番号","学部"]
[{"$f":"IF(E2=\"\",\"\",IF(E2=\"男\",1,2))","v":1},null,"岡田",null,"男",null,null,null,null,null,null,null,1000,null,null,3,null,null,null,null,null,null,null,"なし",null,"希望しない"]
["",null,null,null,null,null,null,null,null,null,null,null,null,null,null,null,null,null,null,null,null,null,null,"なし",null,"希望しない"]
["",null,null,null,null,null,null,null,null,null,null,null,null,null,null,null,null,null,null,null,null,null,null,"なし",null,"希望しない"]
["",null,null,null,null,null,null,null,null,null,null,null,null,null,null,null,null,null,null,null,null,null,null,"なし",null,"希望しない"]
["",null,null,null,null,null,null,null,null,null,null,null,null,null,null,null,null,null,null,null,null,null,null,"なし",null,"希望しない"]
["",null,null,null,null,null,null,null,null,null,null,null,null,null,null,null,null,null,null,null,null,null,null,"なし",null,"希望しない"]
["",null,null,null,null,null,null,null,null,null,null,null,null,null,null,null,null,null,null,null,null,null,null,"なし",null,"希望しない"]
["",null,null,null,null,null,null,null,null,null,null,null,null,null,null,null,null,null,null,null,null,null,null,"なし",null,"希望しない"]
["",null,null,null,null,null,null,null,null,null,null,null,null,null,null,null,null,null,null,null,null,null,null,"なし",null,"希望しない"]
["",null,null,null,null,null,null,null,null,null,null,null,null,null,null,null,null,null,null,null,null,null,null,"なし",null,"希望しない"]
["",null,null,null,null,null,null,null,null,null,null,null,null,null,null,null,null,null,null,null,null,null,null,"なし",null,"希望しない"]
["",null,null,null,null,null,null,null,null,null,null,null,null,null,null,null,null,null,null,null,null,null,null,"なし",null,"希望しない"]
["",null,null,null,null,null,null,null,null,null,null,null,null,null,null,null,null,null,null,null,null,null,null,"なし",null,"希望しない"]
["",null,null,null,null,null,null,null,null,null,null,null,null,null,null,null,null,null,null,null,null,null,null,"なし",null,"希望しない"]
["",null,null,null,null,null,null,null,null,null,null,null,null,null,null,null,null,null,null,null,null,null,null,"なし",null,"希望しない"]
["",null,null,null,null,null,null,null,null,null,null,null,null,null,null,null,null,null,null,null,null,null,null,"なし",null,"希望しない"]
["",null,null,null,null,null,null,null,null,null,null,null,null,null,null,null,null,null,null,null,null,null,null,"なし",null,"希望しない"]
["",null,null,null,null,null,null,null,null,null,null,null,null,null,null,null,null,null,null,null,null,null,null,"なし",null,"希望しない"]
["",null,null,null,null,null,null,null,null,null,null,null,null,null,null,null,null,null,null,null,null,null,null,"なし",null,"希望しない"]
["",null,null,null,null,null,null,null,null,null,null,null,null,null,null,null,null,null,null,null,null,null,null,"なし",null,"希望しない"]
["",null,null,null,null,null,null,null,null,null,null,null,null,null,null,null,null,null,null,null,null,null,null,"なし",null,"希望しない"]
["",null,null,null,null,null,null,null,null,null,null,null,null,null,null,null,null,null,null,null,null,null,null,"なし",null,"希望しない"]
["",null,null,null,null,null,null,null,null,null,null,null,null,null,null,null,null,null,null,null,null,null,null,"なし",null,"希望しない"]
["",null,null,null,null,null,null,null,null,null,null,null,null,null,null,null,null,null,null,null,null,null,null,"なし",null,"希望しない"]
["",null,null,null,null,null,null,null,null,null,null,null,null,null,null,null,null,null,null,null,null,null,null,"なし",null,"希望しない"]
["",null,null,null,null,null,null,null,null,null,null,null,null,null,null,null,null,null,null,null,null,null,null,"なし",null,"希望しない"]
["",null,null,null,null,null,null,null,null,null,null,null,null,null,null,null,null,null,null,null,null,null,null,"なし",null,"希望しない"]
["",null,null,null,null,null,null,null,null,null,null,null,null,null,null,null,null,null,null,null,null,null,null,"なし",null,"希望しない"]
["",null,null,null,null,null,null,null,null,null,null,null,null,null,null,null,null,null,null,null,null,null,null,"なし",null,"希望しない"]
["",null,null,null,null,null,null,null,null,null,null,null,null,null,null,null,null,null,null,null,null,null,null,"なし",null,"希望しない"]
["",null,null,null,null,null,null,null,null,null,null,null,null,null,null,null,null,null,null,null,null,null,null,"なし",null,"希望しない"]
["",null,null,null,null,null,null,null,null,null,null,null,null,null,null,null,null,null,null,null,null,null,null,"なし",null,"希望しない"]
[{"$f":"IF(E34=\"\",\"\",IF(E34=\"男\",1,2))","v":""},null,null,null,null,null,null,null,null,null,null,null,null,null,null,null,null,null,null,null,null,null,null,"なし",null,"希望しない"]
["",null,null,null,null,null,null,null,null,null,null,null,null,null,null,null,null,null,null,null,null,null,null,"なし",null,"希望しない"]
["",null,null,null,null,null,null,null,null,null,null,null,null,null,null,null,null,null,null,null,null,null,null,"なし",null,"希望しない"]
["",null,null,null,null,null,null,null,null,null,null,null,null,null,null,null,null,null,null,null,null,null,null,"なし",null,"希望しない"]
["",null,null,null,null,null,null,null,null,null,null,null,null,null,null,null,null,null,null,null,null,null,null,"なし",null,"希望しない"]
["",null,null,null,null,null,null,null,null,null,null,null,null,null,null,null,null,null,null,null,null,null,null,"なし",null,"希望しない"]
["",null,null,null,null,null,null,null,null,null,null,null,null,null,null,null,null,null,null,null,null,null,null,"なし",null,"希望しない"]
["",null,null,null,null,null,null,null,null,null,null,null,null,null,null,null,null,null,null,null,null,null,null,"なし",null,"希望しない"]
[""]
[""]
[""]
[""]
[""]
[""]
[""]
[""]
[""]
[""]
[""]
[""]
[""]
[""]
[""]
[""]
[""]
[""]
[""]
[""]
[""]
[""]
[""]
[""]
[{"$f":"IF(E66=\"\",\"\",IF(E66=\"男\",1,2))","v":""}]
[""]
[""]
[""]
[""]
[""]
[""]
[""]
[""]
[""]
[""]
[""]
[""]
[""]
[""]
[""]
[""]
[""]
[""]
[""]
[""]
[""]
[""]
[""]
[""]
[""]
[""]
[""]
[""]
[""]
[""]
[""]
[{"$f":"IF(E98=\"\",\"\",IF(E98=\"男\",1,2))","v":""}]
[""]
[""]
[""]
[""]
[""]
[""]
[""]
[""]
[""]
[""]
[""]
[""]
[""]
[""]
[""]
[""]
[""]
[""]
[""]
[""]
[""]
[""]
[""]
[""]
[""]
[""]
[""]
[""]
[""]
[""]
[""]
[{"$f":"IF(E130=\"\",\"\",IF(E130=\"男\",1,2))","v":""}]
[""]
[""]
[""]
[""]
[""]
[""]
[""]
[""]
[""]
[""]
[""]
[""]
[""]
[""]
[""]
[""]
[""]
[""]
[""]
[""]
[""]

{"sheet":"大会申込","index":4,"n_rows":16,"n_cols":7,"rows_kept":16,"cut":false,"hidden":false,"merged":[[3,2,3,6],[22,2,22,4]]}
[]
[]
[]
[]
[]
[]
[]
[]
[]
[]
[]
[]
[]
[]
[]
[null,null,null,null,null,null,"インターネットに接続できれば申込できます"]

{"sheet":"出場認知書","index":5,"n_rows":63,"n_cols":14,"rows_kept":63,"cut":false,"hidden":false,"merged":[[39,3,39,9],[2,0,2,10],[11,0,11,10],[28,1,28,9],[17,1,17,9],[35,8,35,10],[14,4,14,5],[35,3,35,7]]}
[]
[]
["大会出場認知書"]
[]
[]
[null,null,null,null,null,null,null,null,null,null,null,1,1,30]
[null,null,null,null,null,null,null,null,null,null,null,2,2,31]
[null,null,null,null,"平成",30,"年","▽","月","▽","日",3,3,32]
[null,null,null,null,null,null,null,null,null,null,null,4,4]
[null,null,null,null,null,null,null,null,null,null,null,5,5]
[null,null,null,null,null,null,null,null,null,null,null,6,6]
["本校陸上競技部の下記大会に出場することを認知する。",null,null,null,null,null,null,null,null,null,null,7,7]
[null,null,null,null,null,null,null,null,null,null,null,8,8]
[null,null,null,null,null,null,null,null,null,null,null,9,9]
[null,null,null,null,"記",null,null,null,null,null,null,10,10]
[null,null,null,null,null,null,null,null,null,null,null,11,11]
[null,null,null,null,null,null,null,null,null,null,null,12,12]
["大会名","プルダウンメニューから選択",null,null,null,null,null,null,null,null,null,null,13]
[null,null,null,null,null,null,null,null,null,null,null,null,14]
[null,null,null,null,null,null,null,null,null,null,null,null,15]
[null,null,null,null,null,null,null,null,null,null,null,null,16]
[null,null,null,null,null,null,null,null,null,null,null,null,17]
["日　時","平成",30,"年",null,"▽","月","▽","日",null,"から",null,18]
[null,null,null,null,null,null,null,null,null,null,null,null,19]
[null,"平成",30,"年",null,"▽","月","▽","日",null,"まで",null,20]
[null,null,null,null,null,null,null,null,null,null,null,null,21]
[null,null,null,null,null,null,null,null,null,null,null,null,22]
[null,null,null,null,null,null,null,null,null,null,null,null,23]
["場　所","プルダウンメニューから選択",null,null,null,null,null,null,null,null,null,null,24]
[null,null,null,null,null,null,null,null,null,null,null,null,25]
[null,null,null,null,null,null,null,null,null,null,null,null,26]
[null,null,null,null,null,null,null,null,null,null,null,null,27]
[null,null,null,null,null,null,null,null,null,null,null,null,28]
[null,null,null,null,null,null,null,null,null,null,null,null,29]
[null,null,null,null,null,null,null,null,null,null,null,null,30]
[null,"所属名称",null,{"$f":"#REF!","v":{"$error":"#REF!"}},null,null,null,null,"中学校",null,null,null,31]
[]
[]
[]
[null,"学校長",null,null,null,null,null,null,null,null,"印"]
[]
[]
[]
[]
[]
[]
[null,"国体第1次選考競技会"]
[null,"三重陸協記録会"]
[null,"三重県リレーカーニバル"]
[null,"中学通信混成競技会"]
[null,"全日本中学通信陸上競技混成三重大会"]
[null,"全日本中学通信陸上競技三重大会"]
[null,"三重県中学選抜陸上競技大会"]
[null,"三重県ジュニアオリンピック"]
[null,"みえスポーツフェスティバル"]
[null,"三重県中学校陸上競技選手権大会"]
[null,"三重県中学駅伝大会"]
[null,"中日三重お伊勢さんマラソン"]
[null,"三重タスキリレー"]
[]
[null,"三重交通Ｇスポーツ杜伊勢"]
[null,"四日市中央緑地公園陸上競技場"]
[null,"東員町陸上競技場"]

{"sheet":"個人種目選手権","index":6,"n_rows":118,"n_cols":49,"rows_kept":118,"cut":false,"hidden":false,"merged":[[13,41,13,42],[1,6,1,17],[1,21,1,22],[1,35,1,38],[5,41,5,42],[6,41,6,42]]}
[null,null,null,null,"所属名",{"$f":"陸連登録!I2","v":0}]
[null,null,null,null,"所属コード",{"$f":"陸連登録!N2","v":0},"個人種目選手権"]
[null,null,null,null,"顧問名",null,"参加人数",null,null,null,null,null,null,null,{"$f":"$AF$118","v":0}]
[null,null,null,null,"顧問連絡先",null,"大会参加費",null,null,null,null,null,null,null,{"$f":"$AF$118*1000+O5*300","v":0}]
[null,null,null,null,null,null,"プログラム冊数",null,null,null,null,null,null,null,null,null,"冊"]
["競技者コード","所属コード","所属コード２","ナンバーA","ナンバー","競技者名","カナ名","掲示板名","性別","学年","生年","月日","所属地","陸連ID","1種目","コード","記録",null,null,"2種目","コード","記録",null,null,"種目3",null,"記録3","4×400R","コード","記録","リレー","コード","記録5",null,null,null,100,null,null,null,null,"種目別参加数",null,null,null,null,null,100,100]
[{"$f":"Z7","v":0},{"$f":"陸連登録!N2","v":0},null,null,{"$f":"陸連登録!M2","v":1000},{"$f":"陸連登録!C2","v":"岡田"},{"$f":"陸連登録!D2","v":0},{"$f":"F7","v":"岡田"},{"$f":"陸連登録!A2","v":1},{"$f":"陸連登録!P2","v":3},{"$f":"LEFT(陸連登録!L2,4)","v":""},{"$f":"RIGHT(陸連登録!L2,4)","v":""},{"$f":"陸連登録!G2","v":0},{"$f":"陸連登録!B2","v":0},null,{"$f":"IF(O7=\"\",\"\",IF(I7=1,VLOOKUP(O7,$AP$8:$AR$12,3,FALSE),IF(I7=2,VLOOKUP(O7,$AP$15:$AR$19,3,FALSE))))","v":""},null,{"$f":"IF(O7=\"\",\"\",0)","v":""},{"$f":"IF(O7=\"\",\"\",2)","v":""},null,{"$f":"IF(T7=\"\",\"\",IF(I7=1,VLOOKUP(T7,$AP$8:$AR$12,3,FALSE),IF(I7=2,VLOOKUP(T7,$AP$15:$AR$19,3,FALSE))))","v":""},{"$f":"IF(T7=\"\",\"\",HLOOKUP(T7,#REF!,2,FALSE))","v":""},{"$f":"IF(T7=\"\",\"\",0)","v":""},{"$f":"IF(T7=\"\",\"\",2)","v":""},null,null,null,null,null,null,null,null,null,null,null,null,200,{"$f":"IF(O7=\"\",\"\",1)","v":""},{"$f":"IF(OR(AL7=1,T7=\"\"),0,1)","v":0},null,null,"男子",null,null,null,null,null,200,200]
[{"$f":"Z8","v":0},{"$f":"陸連登録!N3","v":0},null,null,{"$f":"陸連登録!M3","v":0},{"$f":"陸連登録!C3","v":0},{"$f":"陸連登録!D3","v":0},{"$f":"F8","v":0},{"$f":"陸連登録!A3","v":""},{"$f":"陸連登録!P3","v":0},{"$f":"LEFT(陸連登録!L3,4)","v":""},{"$f":"RIGHT(陸連登録!L3,4)","v":""},{"$f":"陸連登録!G3","v":0},{"$f":"陸連登録!B3","v":0},null,"",null,{"$f":"IF(O8=\"\",\"\",0)","v":""},{"$f":"IF(O8=\"\",\"\",2)","v":""},null,"",{"$f":"IF(T8=\"\",\"\",HLOOKUP(T8,#REF!,3,FALSE))","v":""},{"$f":"IF(T8=\"\",\"\",0)","v":""},{"$f":"IF(T8=\"\",\"\",2)","v":""},null,null,null,null,null,null,null,null,null,null,null,null,400,"",0,{"$f":"IF(OR(AL8=1,AM8=1,AB8=\"\"),0,1)","v":0},null,"100m",{"$f":"COUNTIF($P$7:$P$116,1)+COUNTIF($U$7:$U$116,1)","v":0},1,null,null,null,400,400]
[0,{"$f":"陸連登録!N4","v":0},null,null,{"$f":"陸連登録!M4","v":0},{"$f":"陸連登録!C4","v":0},{"$f":"陸連登録!D4","v":0},0,{"$f":"陸連登録!A4","v":""},{"$f":"陸連登録!P4","v":0},{"$f":"LEFT(陸連登録!L4,4)","v":""},{"$f":"RIGHT(陸連登録!L4,4)","v":""},{"$f":"陸連登録!G4","v":0},{"$f":"陸連登録!B4","v":0},null,"",null,"","",null,"",{"$f":"IF(T9=\"\",\"\",HLOOKUP(T9,#REF!,4,FALSE))","v":""},"","",null,null,null,null,null,null,null,null,null,null,null,null,800,"",0,0,null,"300m",{"$f":"COUNTIF($P$7:$P$116,2)+COUNTIF($U$7:$U$116,2)","v":0},2,null,null,null,800,800]
[0,{"$f":"陸連登録!N5","v":0},null,null,{"$f":"陸連登録!M5","v":0},{"$f":"陸連登録!C5","v":0},{"$f":"陸連登録!D5","v":0},0,{"$f":"陸連登録!A5","v":""},{"$f":"陸連登録!P5","v":0},{"$f":"LEFT(陸連登録!L5,4)","v":""},{"$f":"RIGHT(陸連登録!L5,4)","v":""},{"$f":"陸連登録!G5","v":0},{"$f":"陸連登録!B5","v":0},null,"",null,"","",null,"",{"$f":"IF(T10=\"\",\"\",HLOOKUP(T10,#REF!,5,FALSE))","v":""},"","",null,null,null,null,null,null,null,null,null,null,null,null,1500,"",0,0,null,"1000m",{"$f":"COUNTIF($P$7:$P$116,3)+COUNTIF($U$7:$U$116,3)","v":0},3,null,null,null,1500,1500]
[0,{"$f":"陸連登録!N6","v":0},null,null,{"$f":"陸連登録!M6","v":0},{"$f":"陸連登録!C6","v":0},{"$f":"陸連登録!D6","v":0},0,{"$f":"陸連登録!A6","v":""},{"$f":"陸連登録!P6","v":0},{"$f":"LEFT(陸連登録!L6,4)","v":""},{"$f":"RIGHT(陸連登録!L6,4)","v":""},{"$f":"陸連登録!G6","v":0},{"$f":"陸連登録!B6","v":0},null,"",null,"","",null,"",{"$f":"IF(T11=\"\",\"\",HLOOKUP(T11,#REF!,6,FALSE))","v":""},"","",null,null,null,null,null,null,null,null,null,null,null,null,5000,"",0,0,null,null,{"$f":"COUNTIF($P$7:$P$116,4)+COUNTIF($U$7:$U$116,4)","v":0},null,null,null,null,5000,5000]
[0,{"$f":"陸連登録!N7","v":0},null,null,{"$f":"陸連登録!M7","v":0},{"$f":"陸連登録!C7","v":0},{"$f":"陸連登録!D7","v":0},0,{"$f":"陸連登録!A7","v":""},{"$f":"陸連登録!P7","v":0},{"$f":"LEFT(陸連登録!L7,4)","v":""},{"$f":"RIGHT(陸連登録!L7,4)","v":""},{"$f":"陸連登録!G7","v":0},{"$f":"陸連登録!B7","v":0},null,"",null,"","",null,"",{"$f":"IF(T12=\"\",\"\",HLOOKUP(T12,#REF!,7,FALSE))","v":""},"","",null,null,null,null,null,null,null,null,null,null,null,null,10000,"",0,0,null,null,{"$f":"COUNTIF($P$7:$P$116,5)+COUNTIF($U$7:$U$116,5)","v":0},null,null,null,null,10000,10000]
[0,{"$f":"陸連登録!N8","v":0},null,null,{"$f":"陸連登録!M8","v":0},{"$f":"陸連登録!C8","v":0},{"$f":"陸連登録!D8","v":0},0,{"$f":"陸連登録!A8","v":""},{"$f":"陸連登録!P8","v":0},{"$f":"LEFT(陸連登録!L8,4)","v":""},{"$f":"RIGHT(陸連登録!L8,4)","v":""},{"$f":"陸連登録!G8","v":0},{"$f":"陸連登録!B8","v":0},null,"",null,"","",null,"",{"$f":"IF(T13=\"\",\"\",HLOOKUP(T13,#REF!,8,FALSE))","v":""},"","",null,null,null,null,null,null,null,null,null,null,null,null,"100H","",0,0,null,"計",{"$f":"SUM(AQ8:AQ12)","v":0},null,null,null,null,"110H","100H"]
[0,{"$f":"陸連登録!N9","v":0},null,null,{"$f":"陸連登録!M9","v":0},{"$f":"陸連登録!C9","v":0},{"$f":"陸連登録!D9","v":0},0,{"$f":"陸連登録!A9","v":""},{"$f":"陸連登録!P9","v":0},{"$f":"LEFT(陸連登録!L9,4)","v":""},{"$f":"RIGHT(陸連登録!L9,4)","v":""},{"$f":"陸連登録!G9","v":0},{"$f":"陸連登録!B9","v":0},null,"",null,"","",null,"",{"$f":"IF(T14=\"\",\"\",HLOOKUP(T14,#REF!,9,FALSE))","v":""},"","",null,null,null,null,null,null,null,null,null,null,null,null,"110H","",0,0,null,"女子",null,null,null,null,null,"400H","400H"]
[0,{"$f":"陸連登録!N10","v":0},null,null,{"$f":"陸連登録!M10","v":0},{"$f":"陸連登録!C10","v":0},{"$f":"陸連登録!D10","v":0},0,{"$f":"陸連登録!A10","v":""},{"$f":"陸連登録!P10","v":0},{"$f":"LEFT(陸連登録!L10,4)","v":""},{"$f":"RIGHT(陸連登録!L10,4)","v":""},{"$f":"陸連登録!G10","v":0},{"$f":"陸連登録!B10","v":0},null,"",null,"","",null,"",{"$f":"IF(T15=\"\",\"\",HLOOKUP(T15,#REF!,10,FALSE))","v":""},"","",null,null,null,null,null,null,null,null,null,null,null,null,"400H","",0,0,null,"100m",{"$f":"COUNTIF($P$7:$P$116,8)+COUNTIF($U$7:$U$116,8)","v":0},8,null,null,null,"3000SC","3000SC"]
[0,{"$f":"陸連登録!N11","v":0},null,null,{"$f":"陸連登録!M11","v":0},{"$f":"陸連登録!C11","v":0},{"$f":"陸連登録!D11","v":0},0,{"$f":"陸連登録!A11","v":""},{"$f":"陸連登録!P11","v":0},{"$f":"LEFT(陸連登録!L11,4)","v":""},{"$f":"RIGHT(陸連登録!L11,4)","v":""},{"$f":"陸連登録!G11","v":0},{"$f":"陸連登録!B11","v":0},null,"",null,"","",null,"",{"$f":"IF(T16=\"\",\"\",HLOOKUP(T16,#REF!,11,FALSE))","v":""},"","",null,null,null,null,null,null,null,null,null,null,null,null,"3000SC","",0,0,null,"300m",{"$f":"COUNTIF($P$7:$P$116,9)+COUNTIF($U$7:$U$116,9)","v":0},9,null,null,null,"5000W","5000W"]
[0,{"$f":"陸連登録!N12","v":0},null,null,{"$f":"陸連登録!M12","v":0},{"$f":"陸連登録!C12","v":0},{"$f":"陸連登録!D12","v":0},0,{"$f":"陸連登録!A12","v":""},{"$f":"陸連登録!P12","v":0},{"$f":"LEFT(陸連登録!L12,4)","v":""},{"$f":"RIGHT(陸連登録!L12,4)","v":""},{"$f":"陸連登録!G12","v":0},{"$f":"陸連登録!B12","v":0},null,"",null,"","",null,"",{"$f":"IF(T17=\"\",\"\",HLOOKUP(T17,#REF!,12,FALSE))","v":""},"","",null,null,null,null,null,null,null,null,null,null,null,null,"5000W","",0,0,null,"1000m",{"$f":"COUNTIF($P$7:$P$116,10)+COUNTIF($U$7:$U$116,10)","v":0},10,null,null,null,"走高跳","走高跳"]
[0,{"$f":"陸連登録!N13","v":0},null,null,{"$f":"陸連登録!M13","v":0},{"$f":"陸連登録!C13","v":0},{"$f":"陸連登録!D13","v":0},0,{"$f":"陸連登録!A13","v":""},{"$f":"陸連登録!P13","v":0},{"$f":"LEFT(陸連登録!L13,4)","v":""},{"$f":"RIGHT(陸連登録!L13,4)","v":""},{"$f":"陸連登録!G13","v":0},{"$f":"陸連登録!B13","v":0},null,"",null,"","",null,"",{"$f":"IF(T18=\"\",\"\",HLOOKUP(T18,#REF!,13,FALSE))","v":""},"","",null,null,null,null,null,null,null,null,null,null,null,null,"走高跳","",0,0,null,null,{"$f":"COUNTIF($P$7:$P$116,107)+COUNTIF($U$7:$U$116,107)","v":0},null,null,null,null,"棒高跳","棒高跳"]
[0,{"$f":"陸連登録!N14","v":0},null,null,{"$f":"陸連登録!M14","v":0},{"$f":"陸連登録!C14","v":0},{"$f":"陸連登録!D14","v":0},0,{"$f":"陸連登録!A14","v":""},{"$f":"陸連登録!P14","v":0},{"$f":"LEFT(陸連登録!L14,4)","v":""},{"$f":"RIGHT(陸連登録!L14,4)","v":""},{"$f":"陸連登録!G14","v":0},{"$f":"陸連登録!B14","v":0},null,"",null,"","",null,"",{"$f":"IF(T19=\"\",\"\",HLOOKUP(T19,#REF!,14,FALSE))","v":""},"","",null,null,null,null,null,null,null,null,null,null,null,null,"棒高跳","",0,0,null,null,{"$f":"COUNTIF($P$7:$P$116,44)+COUNTIF($U$7:$U$116,44)","v":0},null,null,null,null,"走幅跳","走幅跳"]
[0,{"$f":"陸連登録!N15","v":0},null,null,{"$f":"陸連登録!M15","v":0},{"$f":"陸連登録!C15","v":0},{"$f":"陸連登録!D15","v":0},0,{"$f":"陸連登録!A15","v":""},{"$f":"陸連登録!P15","v":0},{"$f":"LEFT(陸連登録!L15,4)","v":""},{"$f":"RIGHT(陸連登録!L15,4)","v":""},{"$f":"陸連登録!G15","v":0},{"$f":"陸連登録!B15","v":0},null,"",null,"","",null,"",{"$f":"IF(T20=\"\",\"\",HLOOKUP(T20,#REF!,15,FALSE))","v":""},"","",null,null,null,null,null,null,null,null,null,null,null,null,"走幅跳","",0,0,null,"計",{"$f":"SUM(AQ15:AQ19)","v":0},null,null,null,null,"三段跳","三段跳"]
[0,{"$f":"陸連登録!N16","v":0},null,null,{"$f":"陸連登録!M16","v":0},{"$f":"陸連登録!C16","v":0},{"$f":"陸連登録!D16","v":0},0,{"$f":"陸連登録!A16","v":""},{"$f":"陸連登録!P16","v":0},{"$f":"LEFT(陸連登録!L16,4)","v":""},{"$f":"RIGHT(陸連登録!L16,4)","v":""},{"$f":"陸連登録!G16","v":0},{"$f":"陸連登録!B16","v":0},null,"",null,"","",null,"",{"$f":"IF(T21=\"\",\"\",HLOOKUP(T21,#REF!,16,FALSE))","v":""},"","",null,null,null,null,null,null,null,null,null,null,null,null,"三段跳","",0,0,null,null,null,null,null,null,null,"砲丸投","砲丸投"]
[0,{"$f":"陸連登録!N17","v":0},null,null,{"$f":"陸連登録!M17","v":0},{"$f":"陸連登録!C17","v":0},{"$f":"陸連登録!D17","v":0},0,{"$f":"陸連登録!A17","v":""},{"$f":"陸連登録!P17","v":0},{"$f":"LEFT(陸連登録!L17,4)","v":""},{"$f":"RIGHT(陸連登録!L17,4)","v":""},{"$f":"陸連登録!G17","v":0},{"$f":"陸連登録!B17","v":0},null,"",null,"","",null,"",{"$f":"IF(T22=\"\",\"\",HLOOKUP(T22,#REF!,17,FALSE))","v":""},"","",null,null,null,null,null,null,null,null,null,null,null,null,"砲丸投","",0,0,null,null,null,null,null,null,null,"円盤投","円盤投"]
[0,{"$f":"陸連登録!N18","v":0},null,null,{"$f":"陸連登録!M18","v":0},{"$f":"陸連登録!C18","v":0},{"$f":"陸連登録!D18","v":0},0,{"$f":"陸連登録!A18","v":""},{"$f":"陸連登録!P18","v":0},{"$f":"LEFT(陸連登録!L18,4)","v":""},{"$f":"RIGHT(陸連登録!L18,4)","v":""},{"$f":"陸連登録!G18","v":0},{"$f":"陸連登録!B18","v":0},null,"",null,"","",null,"",{"$f":"IF(T23=\"\",\"\",HLOOKUP(T23,#REF!,18,FALSE))","v":""},"","",null,null,null,null,null,null,null,null,null,null,null,null,"円盤投","",0,0,null,null,null,null,null,null,null,"やり投","やり投"]
[0,{"$f":"陸連登録!N19","v":0},null,null,{"$f":"陸連登録!M19","v":0},{"$f":"陸連登録!C19","v":0},{"$f":"陸連登録!D19","v":0},0,{"$f":"陸連登録!A19","v":""},{"$f":"陸連登録!P19","v":0},{"$f":"LEFT(陸連登録!L19,4)","v":""},{"$f":"RIGHT(陸連登録!L19,4)","v":""},{"$f":"陸連登録!G19","v":0},{"$f":"陸連登録!B19","v":0},null,"",null,"","",null,"",{"$f":"IF(T24=\"\",\"\",HLOOKUP(T24,#REF!,19,FALSE))","v":""},"","",null,null,null,null,null,null,null,null,null,null,null,null,"やり投","",0,0,null,null,null,null,null,null,null,"ハンマー投","ハンマー投"]
[0,{"$f":"陸連登録!N20","v":0},null,null,{"$f":"陸連登録!M20","v":0},{"$f":"陸連登録!C20","v":0},{"$f":"陸連登録!D20","v":0},0,{"$f":"陸連登録!A20","v":""},{"$f":"陸連登録!P20","v":0},{"$f":"LEFT(陸連登録!L20,4)","v":""},{"$f":"RIGHT(陸連登録!L20,4)","v":""},{"$f":"陸連登録!G20","v":0},{"$f":"陸連登録!B20","v":0},null,"",null,"","",null,"",{"$f":"IF(T25=\"\",\"\",HLOOKUP(T25,#REF!,20,FALSE))","v":""},"","",null,null,null,null,null,null,null,null,null,null,null,null,"ハンマー投","",0,0,null,null,null,null,null,null,null,"少年B走幅跳","少年B100YH"]
[0,{"$f":"陸連登録!N21","v":0},null,null,{"$f":"陸連登録!M21","v":0},{"$f":"陸連登録!C21","v":0},{"$f":"陸連登録!D21","v":0},0,{"$f":"陸連登録!A21","v":""},{"$f":"陸連登録!P21","v":0},{"$f":"LEFT(陸連登録!L21,4)","v":""},{"$f":"RIGHT(陸連登録!L21,4)","v":""},{"$f":"陸連登録!G21","v":0},{"$f":"陸連登録!B21","v":0},null,"",null,"","",null,"",{"$f":"IF(T26=\"\",\"\",HLOOKUP(T26,#REF!,21,FALSE))","v":""},"","",null,null,null,null,null,null,null,null,null,null,null,null,"少年B100H","",0,0,null,null,null,null,null,null,null,"少年B砲丸投","女子A"]
[0,{"$f":"陸連登録!N22","v":0},null,null,{"$f":"陸連登録!M22","v":0},{"$f":"陸連登録!C22","v":0},{"$f":"陸連登録!D22","v":0},0,{"$f":"陸連登録!A22","v":""},{"$f":"陸連登録!P22","v":0},{"$f":"LEFT(陸連登録!L22,4)","v":""},{"$f":"RIGHT(陸連登録!L22,4)","v":""},{"$f":"陸連登録!G22","v":0},{"$f":"陸連登録!B22","v":0},null,"",null,"","",null,"",{"$f":"IF(T27=\"\",\"\",HLOOKUP(T27,#REF!,22,FALSE))","v":""},"","",null,null,null,null,null,null,null,null,null,null,null,null,"少年3000","",0,0,null,null,null,null,null,null,null,"男子A","女子B"]
[0,{"$f":"陸連登録!N23","v":0},null,null,{"$f":"陸連登録!M23","v":0},{"$f":"陸連登録!C23","v":0},{"$f":"陸連登録!D23","v":0},0,{"$f":"陸連登録!A23","v":""},{"$f":"陸連登録!P23","v":0},{"$f":"LEFT(陸連登録!L23,4)","v":""},{"$f":"RIGHT(陸連登録!L23,4)","v":""},{"$f":"陸連登録!G23","v":0},{"$f":"陸連登録!B23","v":0},null,"",null,"","",null,"",{"$f":"IF(T28=\"\",\"\",HLOOKUP(T28,#REF!,23,FALSE))","v":""},"","",null,null,null,null,null,null,null,null,null,null,null,null,"少年砲丸投","",0,0,null,null,null,null,null,null,null,"男子B","女子C"]
[0,{"$f":"陸連登録!N24","v":0},null,null,{"$f":"陸連登録!M24","v":0},{"$f":"陸連登録!C24","v":0},{"$f":"陸連登録!D24","v":0},0,{"$f":"陸連登録!A24","v":""},{"$f":"陸連登録!P24","v":0},{"$f":"LEFT(陸連登録!L24,4)","v":""},{"$f":"RIGHT(陸連登録!L24,4)","v":""},{"$f":"陸連登録!G24","v":0},{"$f":"陸連登録!B24","v":0},null,"",null,"","",null,"",{"$f":"IF(T29=\"\",\"\",HLOOKUP(T29,#REF!,24,FALSE))","v":""},"","",null,null,null,null,null,null,null,null,null,null,null,null,"少年円盤投","",0,0,null,null,null,null,null,null,null,"男子C"]
[0,{"$f":"陸連登録!N25","v":0},null,null,{"$f":"陸連登録!M25","v":0},{"$f":"陸連登録!C25","v":0},{"$f":"陸連登録!D25","v":0},0,{"$f":"陸連登録!A25","v":""},{"$f":"陸連登録!P25","v":0},{"$f":"LEFT(陸連登録!L25,4)","v":""},{"$f":"RIGHT(陸連登録!L25,4)","v":""},{"$f":"陸連登録!G25","v":0},{"$f":"陸連登録!B25","v":0},null,"",null,"","",null,"",{"$f":"IF(T30=\"\",\"\",HLOOKUP(T30,#REF!,25,FALSE))","v":""},"","",null,null,null,null,null,null,null,null,null,null,null,null,"少年ハンマー投","",0,0,null,null,null,null,null,null,null,"女子A"]
[0,{"$f":"陸連登録!N26","v":0},null,null,{"$f":"陸連登録!M26","v":0},{"$f":"陸連登録!C26","v":0},{"$f":"陸連登録!D26","v":0},0,{"$f":"陸連登録!A26","v":""},{"$f":"陸連登録!P26","v":0},{"$f":"LEFT(陸連登録!L26,4)","v":""},{"$f":"RIGHT(陸連登録!L26,4)","v":""},{"$f":"陸連登録!G26","v":0},{"$f":"陸連登録!B26","v":0},null,"",null,"","",null,"",{"$f":"IF(T31=\"\",\"\",HLOOKUP(T31,#REF!,26,FALSE))","v":""},"","",null,null,null,null,null,null,null,null,null,null,null,null,"男子A","",0,0,null,null,null,null,null,null,null,"女子B"]
[0,{"$f":"陸連登録!N27","v":0},null,null,{"$f":"陸連登録!M27","v":0},{"$f":"陸連登録!C27","v":0},{"$f":"陸連登録!D27","v":0},0,{"$f":"陸連登録!A27","v":""},{"$f":"陸連登録!P27","v":0},{"$f":"LEFT(陸連登録!L27,4)","v":""},{"$f":"RIGHT(陸連登録!L27,4)","v":""},{"$f":"陸連登録!G27","v":0},{"$f":"陸連登録!B27","v":0},null,"",null,"","",null,"",{"$f":"IF(T32=\"\",\"\",HLOOKUP(T32,#REF!,27,FALSE))","v":""},"","",null,null,null,null,null,null,null,null,null,null,null,null,"男子B","",0,0,null,null,null,null,null,null,null,"女子C"]
[0,{"$f":"陸連登録!N28","v":0},null,null,{"$f":"陸連登録!M28","v":0},{"$f":"陸連登録!C28","v":0},{"$f":"陸連登録!D28","v":0},0,{"$f":"陸連登録!A28","v":""},{"$f":"陸連登録!P28","v":0},{"$f":"LEFT(陸連登録!L28,4)","v":""},{"$f":"RIGHT(陸連登録!L28,4)","v":""},{"$f":"陸連登録!G28","v":0},{"$f":"陸連登録!B28","v":0},null,"",null,"","",null,"",{"$f":"IF(T33=\"\",\"\",HLOOKUP(T33,#REF!,28,FALSE))","v":""},"","",null,null,null,null,null,null,null,null,null,null,null,null,"男子C","",0,0]
[0,{"$f":"陸連登録!N29","v":0},null,null,{"$f":"陸連登録!M29","v":0},{"$f":"陸連登録!C29","v":0},{"$f":"陸連登録!D29","v":0},0,{"$f":"陸連登録!A29","v":""},{"$f":"陸連登録!P29","v":0},{"$f":"LEFT(陸連登録!L29,4)","v":""},{"$f":"RIGHT(陸連登録!L29,4)","v":""},{"$f":"陸連登録!G29","v":0},{"$f":"陸連登録!B29","v":0},null,"",null,"","",null,"",{"$f":"IF(T34=\"\",\"\",HLOOKUP(T34,#REF!,29,FALSE))","v":""},"","",null,null,null,null,null,null,null,null,null,null,null,null,"女子A","",0,0]
[0,{"$f":"陸連登録!N30","v":0},null,null,{"$f":"陸連登録!M30","v":0},{"$f":"陸連登録!C30","v":0},{"$f":"陸連登録!D30","v":0},0,{"$f":"陸連登録!A30","v":""},{"$f":"陸連登録!P30","v":0},{"$f":"LEFT(陸連登録!L30,4)","v":""},{"$f":"RIGHT(陸連登録!L30,4)","v":""},{"$f":"陸連登録!G30","v":0},{"$f":"陸連登録!B30","v":0},null,"",null,"","",null,"",{"$f":"IF(T35=\"\",\"\",HLOOKUP(T35,#REF!,30,FALSE))","v":""},"","",null,null,null,null,null,null,null,null,null,null,null,null,"女子B","",0,0]
[0,{"$f":"陸連登録!N31","v":0},null,null,{"$f":"陸連登録!M31","v":0},{"$f":"陸連登録!C31","v":0},{"$f":"陸連登録!D31","v":0},0,{"$f":"陸連登録!A31","v":""},{"$f":"陸連登録!P31","v":0},{"$f":"LEFT(陸連登録!L31,4)","v":""},{"$f":"RIGHT(陸連登録!L31,4)","v":""},{"$f":"陸連登録!G31","v":0},{"$f":"陸連登録!B31","v":0},null,"",null,"","",null,"",{"$f":"IF(T36=\"\",\"\",HLOOKUP(T36,#REF!,31,FALSE))","v":""},"","",null,null,null,null,null,null,null,null,null,null,null,null,"女子C","",0,0]
[0,{"$f":"陸連登録!N32","v":0},null,null,{"$f":"陸連登録!M32","v":0},{"$f":"陸連登録!C32","v":0},{"$f":"陸連登録!D32","v":0},0,{"$f":"陸連登録!A32","v":""},{"$f":"陸連登録!P32","v":0},{"$f":"LEFT(陸連登録!L32,4)","v":""},{"$f":"RIGHT(陸連登録!L32,4)","v":""},{"$f":"陸連登録!G32","v":0},{"$f":"陸連登録!B32","v":0},null,"",null,"","",null,"",{"$f":"IF(T37=\"\",\"\",HLOOKUP(T37,#REF!,32,FALSE))","v":""},"","",null,null,null,null,null,null,null,null,null,null,null,null,null,"",0,0]
[0,{"$f":"陸連登録!N33","v":0},null,null,{"$f":"陸連登録!M33","v":0},{"$f":"陸連登録!C33","v":0},{"$f":"陸連登録!D33","v":0},0,{"$f":"陸連登録!A33","v":""},{"$f":"陸連登録!P33","v":0},{"$f":"LEFT(陸連登録!L33,4)","v":""},{"$f":"RIGHT(陸連登録!L33,4)","v":""},{"$f":"陸連登録!G33","v":0},{"$f":"陸連登録!B33","v":0},null,"",null,"","",null,"",{"$f":"IF(T38=\"\",\"\",HLOOKUP(T38,#REF!,33,FALSE))","v":""},"","",null,null,null,null,null,null,null,null,null,null,null,null,null,"",0,0]
[0,{"$f":"陸連登録!N34","v":0},null,null,{"$f":"陸連登録!M34","v":0},{"$f":"陸連登録!C34","v":0},{"$f":"陸連登録!D34","v":0},0,{"$f":"陸連登録!A34","v":""},{"$f":"陸連登録!P34","v":0},{"$f":"LEFT(陸連登録!L34,4)","v":""},{"$f":"RIGHT(陸連登録!L34,4)","v":""},{"$f":"陸連登録!G34","v":0},{"$f":"陸連登録!B34","v":0},null,{"$f":"IF(O39=\"\",\"\",IF(I39=1,VLOOKUP(O39,$AP$8:$AR$12,3,FALSE),IF(I39=2,VLOOKUP(O39,$AP$15:$AR$19,3,FALSE))))","v":""},null,"","",null,{"$f":"IF(T39=\"\",\"\",IF(I39=1,VLOOKUP(T39,$AP$8:$AR$12,3,FALSE),IF(I39=2,VLOOKUP(T39,$AP$15:$AR$19,3,FALSE))))","v":""},{"$f":"IF(T39=\"\",\"\",HLOOKUP(T39,#REF!,34,FALSE))","v":""},"","",null,null,null,null,null,null,null,null,null,null,null,null,null,"",0,0]
[0,{"$f":"陸連登録!N35","v":0},null,null,{"$f":"陸連登録!M35","v":0},{"$f":"陸連登録!C35","v":0},{"$f":"陸連登録!D35","v":0},0,{"$f":"陸連登録!A35","v":""},{"$f":"陸連登録!P35","v":0},{"$f":"LEFT(陸連登録!L35,4)","v":""},{"$f":"RIGHT(陸連登録!L35,4)","v":""},{"$f":"陸連登録!G35","v":0},{"$f":"陸連登録!B35","v":0},null,"",null,"","",null,"",{"$f":"IF(T40=\"\",\"\",HLOOKUP(T40,#REF!,35,FALSE))","v":""},"","",null,null,null,null,null,null,null,null,null,null,null,null,null,"",0,0]
[0,{"$f":"陸連登録!N36","v":0},null,null,{"$f":"陸連登録!M36","v":0},{"$f":"陸連登録!C36","v":0},{"$f":"陸連登録!D36","v":0},0,{"$f":"陸連登録!A36","v":""},{"$f":"陸連登録!P36","v":0},{"$f":"LEFT(陸連登録!L36,4)","v":""},{"$f":"RIGHT(陸連登録!L36,4)","v":""},{"$f":"陸連登録!G36","v":0},{"$f":"陸連登録!B36","v":0},null,"",null,"","",null,"",{"$f":"IF(T41=\"\",\"\",HLOOKUP(T41,#REF!,36,FALSE))","v":""},"","",null,null,null,null,null,null,null,null,null,null,null,null,null,"",0,0]
[0,{"$f":"陸連登録!N37","v":0},null,null,{"$f":"陸連登録!M37","v":0},{"$f":"陸連登録!C37","v":0},{"$f":"陸連登録!D37","v":0},0,{"$f":"陸連登録!A37","v":""},{"$f":"陸連登録!P37","v":0},{"$f":"LEFT(陸連登録!L37,4)","v":""},{"$f":"RIGHT(陸連登録!L37,4)","v":""},{"$f":"陸連登録!G37","v":0},{"$f":"陸連登録!B37","v":0},null,"",null,"","",null,"",{"$f":"IF(T42=\"\",\"\",HLOOKUP(T42,#REF!,37,FALSE))","v":""},"","",null,null,null,null,null,null,null,null,null,null,null,null,null,"",0,0]
[0,{"$f":"陸連登録!N38","v":0},null,null,{"$f":"陸連登録!M38","v":0},{"$f":"陸連登録!C38","v":0},{"$f":"陸連登録!D38","v":0},0,{"$f":"陸連登録!A38","v":""},{"$f":"陸連登録!P38","v":0},{"$f":"LEFT(陸連登録!L38,4)","v":""},{"$f":"RIGHT(陸連登録!L38,4)","v":""},{"$f":"陸連登録!G38","v":0},{"$f":"陸連登録!B38","v":0},null,"",null,"","",null,"",{"$f":"IF(T43=\"\",\"\",HLOOKUP(T43,#REF!,38,FALSE))","v":""},"","",null,null,null,null,null,null,null,null,null,null,null,null,null,"",0,0]
[0,{"$f":"陸連登録!N39","v":0},null,null,{"$f":"陸連登録!M39","v":0},{"$f":"陸連登録!C39","v":0},{"$f":"陸連登録!D39","v":0},0,{"$f":"陸連登録!A39","v":""},{"$f":"陸連登録!P39","v":0},{"$f":"LEFT(陸連登録!L39,4)","v":""},{"$f":"RIGHT(陸連登録!L39,4)","v":""},{"$f":"陸連登録!G39","v":0},{"$f":"陸連登録!B39","v":0},null,"",null,"","",null,"",{"$f":"IF(T44=\"\",\"\",HLOOKUP(T44,#REF!,39,FALSE))","v":""},"","",null,null,null,null,null,null,null,null,null,null,null,null,null,"",0,0]
[0,{"$f":"陸連登録!N40","v":0},null,null,{"$f":"陸連登録!M40","v":0},{"$f":"陸連登録!C40","v":0},{"$f":"陸連登録!D40","v":0},0,{"$f":"陸連登録!A40","v":""},{"$f":"陸連登録!P40","v":0},{"$f":"LEFT(陸連登録!L40,4)","v":""},{"$f":"RIGHT(陸連登録!L40,4)","v":""},{"$f":"陸連登録!G40","v":0},{"$f":"陸連登録!B40","v":0},null,"",null,"","",null,"",{"$f":"IF(T45=\"\",\"\",HLOOKUP(T45,#REF!,40,FALSE))","v":""},"","",null,null,null,null,null,null,null,null,null,null,null,null,null,"",0,0]
[0,{"$f":"陸連登録!N41","v":0},null,null,{"$f":"陸連登録!M41","v":0},{"$f":"陸連登録!C41","v":0},{"$f":"陸連登録!D41","v":0},0,{"$f":"陸連登録!A41","v":""},{"$f":"陸連登録!P41","v":0},{"$f":"LEFT(陸連登録!L41,4)","v":""},{"$f":"RIGHT(陸連登録!L41,4)","v":""},{"$f":"陸連登録!G41","v":0},{"$f":"陸連登録!B41","v":0},null,"",null,"","",null,"",{"$f":"IF(T46=\"\",\"\",HLOOKUP(T46,#REF!,41,FALSE))","v":""},"","",null,null,null,null,null,null,null,null,null,null,null,null,null,"",0,0]
[0,{"$f":"陸連登録!N42","v":0},null,null,{"$f":"陸連登録!M42","v":0},{"$f":"陸連登録!C42","v":0},{"$f":"陸連登録!D42","v":0},0,{"$f":"陸連登録!A42","v":""},{"$f":"陸連登録!P42","v":0},{"$f":"LEFT(陸連登録!L42,4)","v":""},{"$f":"RIGHT(陸連登録!L42,4)","v":""},{"$f":"陸連登録!G42","v":0},{"$f":"陸連登録!B42","v":0},null,"",null,"","",null,"",{"$f":"IF(T47=\"\",\"\",HLOOKUP(T47,#REF!,42,FALSE))","v":""},"","",null,null,null,null,null,null,null,null,null,null,null,null,null,"",0,0]
[0,{"$f":"陸連登録!N43","v":0},null,null,{"$f":"陸連登録!M43","v":0},{"$f":"陸連登録!C43","v":0},{"$f":"陸連登録!D43","v":0},0,{"$f":"陸連登録!A43","v":""},{"$f":"陸連登録!P43","v":0},{"$f":"LEFT(陸連登録!L43,4)","v":""},{"$f":"RIGHT(陸連登録!L43,4)","v":""},{"$f":"陸連登録!G43","v":0},{"$f":"陸連登録!B43","v":0},null,"",null,"","",null,"",{"$f":"IF(T48=\"\",\"\",HLOOKUP(T48,#REF!,43,FALSE))","v":""},"","",null,null,null,null,null,null,null,null,null,null,null,null,null,"",0,0]
[0,{"$f":"陸連登録!N44","v":0},null,null,{"$f":"陸連登録!M44","v":0},{"$f":"陸連登録!C44","v":0},{"$f":"陸連登録!D44","v":0},0,{"$f":"陸連登録!A44","v":""},{"$f":"陸連登録!P44","v":0},{"$f":"LEFT(陸連登録!L44,4)","v":""},{"$f":"RIGHT(陸連登録!L44,4)","v":""},{"$f":"陸連登録!G44","v":0},{"$f":"陸連登録!B44","v":0},null,"",null,"","",null,"",{"$f":"IF(T49=\"\",\"\",HLOOKUP(T49,#REF!,44,FALSE))","v":""},"","",null,null,null,null,null,null,null,null,null,null,null,null,null,"",0,0]
[0,{"$f":"陸連登録!N45","v":0},null,null,{"$f":"陸連登録!M45","v":0},{"$f":"陸連登録!C45","v":0},{"$f":"陸連登録!D45","v":0},0,{"$f":"陸連登録!A45","v":""},{"$f":"陸連登録!P45","v":0},{"$f":"LEFT(陸連登録!L45,4)","v":""},{"$f":"RIGHT(陸連登録!L45,4)","v":""},{"$f":"陸連登録!G45","v":0},{"$f":"陸連登録!B45","v":0},null,"",null,"","",null,"",{"$f":"IF(T50=\"\",\"\",HLOOKUP(T50,#REF!,45,FALSE))","v":""},"","",null,null,null,null,null,null,null,null,null,null,null,null,null,"",0,0]
[0,{"$f":"陸連登録!N46","v":0},null,null,{"$f":"陸連登録!M46","v":0},{"$f":"陸連登録!C46","v":0},{"$f":"陸連登録!D46","v":0},0,{"$f":"陸連登録!A46","v":""},{"$f":"陸連登録!P46","v":0},{"$f":"LEFT(陸連登録!L46,4)","v":""},{"$f":"RIGHT(陸連登録!L46,4)","v":""},{"$f":"陸連登録!G46","v":0},{"$f":"陸連登録!B46","v":0},null,"",null,"","",null,"",{"$f":"IF(T51=\"\",\"\",HLOOKUP(T51,#REF!,46,FALSE))","v":""},"","",null,null,null,null,null,null,null,null,null,null,null,null,null,"",0,0]
[0,{"$f":"陸連登録!N47","v":0},null,null,{"$f":"陸連登録!M47","v":0},{"$f":"陸連登録!C47","v":0},{"$f":"陸連登録!D47","v":0},0,{"$f":"陸連登録!A47","v":""},{"$f":"陸連登録!P47","v":0},{"$f":"LEFT(陸連登録!L47,4)","v":""},{"$f":"RIGHT(陸連登録!L47,4)","v":""},{"$f":"陸連登録!G47","v":0},{"$f":"陸連登録!B47","v":0},null,"",null,"","",null,"",{"$f":"IF(T52=\"\",\"\",HLOOKUP(T52,#REF!,47,FALSE))","v":""},"","",null,null,null,null,null,null,null,null,null,null,null,null,null,"",0,0]
[0,{"$f":"陸連登録!N48","v":0},null,null,{"$f":"陸連登録!M48","v":0},{"$f":"陸連登録!C48","v":0},{"$f":"陸連登録!D48","v":0},0,{"$f":"陸連登録!A48","v":""},{"$f":"陸連登録!P48","v":0},{"$f":"LEFT(陸連登録!L48,4)","v":""},{"$f":"RIGHT(陸連登録!L48,4)","v":""},{"$f":"陸連登録!G48","v":0},{"$f":"陸連登録!B48","v":0},null,"",null,"","",null,"",{"$f":"IF(T53=\"\",\"\",HLOOKUP(T53,#REF!,48,FALSE))","v":""},"","",null,null,null,null,null,null,null,null,null,null,null,null,null,"",0,0]
[0,{"$f":"陸連登録!N49","v":0},null,null,{"$f":"陸連登録!M49","v":0},{"$f":"陸連登録!C49","v":0},{"$f":"陸連登録!D49","v":0},0,{"$f":"陸連登録!A49","v":""},{"$f":"陸連登録!P49","v":0},{"$f":"LEFT(陸連登録!L49,4)","v":""},{"$f":"RIGHT(陸連登録!L49,4)","v":""},{"$f":"陸連登録!G49","v":0},{"$f":"陸連登録!B49","v":0},null,"",null,"","",null,"",{"$f":"IF(T54=\"\",\"\",HLOOKUP(T54,#REF!,49,FALSE))","v":""},"","",null,null,null,null,null,null,null,null,null,null,null,null,null,"",0,0]
[0,{"$f":"陸連登録!N50","v":0},null,null,{"$f":"陸連登録!M50","v":0},{"$f":"陸連登録!C50","v":0},{"$f":"陸連登録!D50","v":0},0,{"$f":"陸連登録!A50","v":""},{"$f":"陸連登録!P50","v":0},{"$f":"LEFT(陸連登録!L50,4)","v":""},{"$f":"RIGHT(陸連登録!L50,4)","v":""},{"$f":"陸連登録!G50","v":0},{"$f":"陸連登録!B50","v":0},null,"",null,"","",null,"",{"$f":"IF(T55=\"\",\"\",HLOOKUP(T55,#REF!,50,FALSE))","v":""},"","",null,null,null,null,null,null,null,null,null,null,null,null,null,"",0,0]
[0,{"$f":"陸連登録!N51","v":0},null,null,{"$f":"陸連登録!M51","v":0},{"$f":"陸連登録!C51","v":0},{"$f":"陸連登録!D51","v":0},0,{"$f":"陸連登録!A51","v":""},{"$f":"陸連登録!P51","v":0},{"$f":"LEFT(陸連登録!L51,4)","v":""},{"$f":"RIGHT(陸連登録!L51,4)","v":""},{"$f":"陸連登録!G51","v":0},{"$f":"陸連登録!B51","v":0},null,"",null,"","",null,"",{"$f":"IF(T56=\"\",\"\",HLOOKUP(T56,#REF!,51,FALSE))","v":""},"","",null,null,null,null,null,null,null,null,null,null,null,null,null,"",0,0]
[0,{"$f":"陸連登録!N52","v":0},null,null,{"$f":"陸連登録!M52","v":0},{"$f":"陸連登録!C52","v":0},{"$f":"陸連登録!D52","v":0},0,{"$f":"陸連登録!A52","v":""},{"$f":"陸連登録!P52","v":0},{"$f":"LEFT(陸連登録!L52,4)","v":""},{"$f":"RIGHT(陸連登録!L52,4)","v":""},{"$f":"陸連登録!G52","v":0},{"$f":"陸連登録!B52","v":0},null,"",null,"","",null,"",{"$f":"IF(T57=\"\",\"\",HLOOKUP(T57,#REF!,52,FALSE))","v":""},"","",null,null,null,null,null,null,null,null,null,null,null,null,null,"",0,0]
[0,{"$f":"陸連登録!N53","v":0},null,null,{"$f":"陸連登録!M53","v":0},{"$f":"陸連登録!C53","v":0},{"$f":"陸連登録!D53","v":0},0,{"$f":"陸連登録!A53","v":""},{"$f":"陸連登録!P53","v":0},{"$f":"LEFT(陸連登録!L53,4)","v":""},{"$f":"RIGHT(陸連登録!L53,4)","v":""},{"$f":"陸連登録!G53","v":0},{"$f":"陸連登録!B53","v":0},null,"",null,"","",null,"",{"$f":"IF(T58=\"\",\"\",HLOOKUP(T58,#REF!,53,FALSE))","v":""},"","",null,null,null,null,null,null,null,null,null,null,null,null,null,"",0,0]
[0,{"$f":"陸連登録!N54","v":0},null,null,{"$f":"陸連登録!M54","v":0},{"$f":"陸連登録!C54","v":0},{"$f":"陸連登録!D54","v":0},0,{"$f":"陸連登録!A54","v":""},{"$f":"陸連登録!P54","v":0},{"$f":"LEFT(陸連登録!L54,4)","v":""},{"$f":"RIGHT(陸連登録!L54,4)","v":""},{"$f":"陸連登録!G54","v":0},{"$f":"陸連登録!B54","v":0},null,"",null,"","",null,"",{"$f":"IF(T59=\"\",\"\",HLOOKUP(T59,#REF!,54,FALSE))","v":""},"","",null,null,null,null,null,null,null,null,null,null,null,null,null,"",0,0]
[0,{"$f":"陸連登録!N55","v":0},null,null,{"$f":"陸連登録!M55","v":0},{"$f":"陸連登録!C55","v":0},{"$f":"陸連登録!D55","v":0},0,{"$f":"陸連登録!A55","v":""},{"$f":"陸連登録!P55","v":0},{"$f":"LEFT(陸連登録!L55,4)","v":""},{"$f":"RIGHT(陸連登録!L55,4)","v":""},{"$f":"陸連登録!G55","v":0},{"$f":"陸連登録!B55","v":0},null,"",null,"","",null,"",{"$f":"IF(T60=\"\",\"\",HLOOKUP(T60,#REF!,55,FALSE))","v":""},"","",null,null,null,null,null,null,null,null,null,null,null,null,null,"",0,0]
[0,{"$f":"陸連登録!N56","v":0},null,null,{"$f":"陸連登録!M56","v":0},{"$f":"陸連登録!C56","v":0},{"$f":"陸連登録!D56","v":0},0,{"$f":"陸連登録!A56","v":""},{"$f":"陸連登録!P56","v":0},{"$f":"LEFT(陸連登録!L56,4)","v":""},{"$f":"RIGHT(陸連登録!L56,4)","v":""},{"$f":"陸連登録!G56","v":0},{"$f":"陸連登録!B56","v":0},null,"",null,"","",null,"",{"$f":"IF(T61=\"\",\"\",HLOOKUP(T61,#REF!,56,FALSE))","v":""},"","",null,null,null,null,null,null,null,null,null,null,null,null,null,"",0,0]
[0,{"$f":"陸連登録!N57","v":0},null,null,{"$f":"陸連登録!M57","v":0},{"$f":"陸連登録!C57","v":0},{"$f":"陸連登録!D57","v":0},0,{"$f":"陸連登録!A57","v":""},{"$f":"陸連登録!P57","v":0},{"$f":"LEFT(陸連登録!L57,4)","v":""},{"$f":"RIGHT(陸連登録!L57,4)","v":""},{"$f":"陸連登録!G57","v":0},{"$f":"陸連登録!B57","v":0},null,"",null,"","",null,"",{"$f":"IF(T62=\"\",\"\",HLOOKUP(T62,#REF!,57,FALSE))","v":""},"","",null,null,null,null,null,null,null,null,null,null,null,null,null,"",0,0]
[0,{"$f":"陸連登録!N58","v":0},null,null,{"$f":"陸連登録!M58","v":0},{"$f":"陸連登録!C58","v":0},{"$f":"陸連登録!D58","v":0},0,{"$f":"陸連登録!A58","v":""},{"$f":"陸連登録!P58","v":0},{"$f":"LEFT(陸連登録!L58,4)","v":""},{"$f":"RIGHT(陸連登録!L58,4)","v":""},{"$f":"陸連登録!G58","v":0},{"$f":"陸連登録!B58","v":0},null,"",null,"","",null,"",{"$f":"IF(T63=\"\",\"\",HLOOKUP(T63,#REF!,58,FALSE))","v":""},"","",null,null,null,null,null,null,null,null,null,null,null,null,null,"",0,0]
[0,{"$f":"陸連登録!N59","v":0},null,null,{"$f":"陸連登録!M59","v":0},{"$f":"陸連登録!C59","v":0},{"$f":"陸連登録!D59","v":0},0,{"$f":"陸連登録!A59","v":""},{"$f":"陸連登録!P59","v":0},{"$f":"LEFT(陸連登録!L59,4)","v":""},{"$f":"RIGHT(陸連登録!L59,4)","v":""},{"$f":"陸連登録!G59","v":0},{"$f":"陸連登録!B59","v":0},null,"",null,"","",null,"",{"$f":"IF(T64=\"\",\"\",HLOOKUP(T64,#REF!,59,FALSE))","v":""},"","",null,null,null,null,null,null,null,null,null,null,null,null,null,"",0,0]
[0,{"$f":"陸連登録!N60","v":0},null,null,{"$f":"陸連登録!M60","v":0},{"$f":"陸連登録!C60","v":0},{"$f":"陸連登録!D60","v":0},0,{"$f":"陸連登録!A60","v":""},{"$f":"陸連登録!P60","v":0},{"$f":"LEFT(陸連登録!L60,4)","v":""},{"$f":"RIGHT(陸連登録!L60,4)","v":""},{"$f":"陸連登録!G60","v":0},{"$f":"陸連登録!B60","v":0},null,"",null,"","",null,"",{"$f":"IF(T65=\"\",\"\",HLOOKUP(T65,#REF!,60,FALSE))","v":""},"","",null,null,null,null,null,null,null,null,null,null,null,null,null,"",0,0]
[0,{"$f":"陸連登録!N61","v":0},null,null,{"$f":"陸連登録!M61","v":0},{"$f":"陸連登録!C61","v":0},{"$f":"陸連登録!D61","v":0},0,{"$f":"陸連登録!A61","v":""},{"$f":"陸連登録!P61","v":0},{"$f":"LEFT(陸連登録!L61,4)","v":""},{"$f":"RIGHT(陸連登録!L61,4)","v":""},{"$f":"陸連登録!G61","v":0},{"$f":"陸連登録!B61","v":0},null,"",null,"","",null,"",{"$f":"IF(T66=\"\",\"\",HLOOKUP(T66,#REF!,61,FALSE))","v":""},"","",null,null,null,null,null,null,null,null,null,null,null,null,null,"",0,0]
[0,{"$f":"陸連登録!N62","v":0},null,null,{"$f":"陸連登録!M62","v":0},{"$f":"陸連登録!C62","v":0},{"$f":"陸連登録!D62","v":0},0,{"$f":"陸連登録!A62","v":""},{"$f":"陸連登録!P62","v":0},{"$f":"LEFT(陸連登録!L62,4)","v":""},{"$f":"RIGHT(陸連登録!L62,4)","v":""},{"$f":"陸連登録!G62","v":0},{"$f":"陸連登録!B62","v":0},null,"",null,"","",null,"",{"$f":"IF(T67=\"\",\"\",HLOOKUP(T67,#REF!,62,FALSE))","v":""},"","",null,null,null,null,null,null,null,null,null,null,null,null,null,"",0,0]
[0,{"$f":"陸連登録!N63","v":0},null,null,{"$f":"陸連登録!M63","v":0},{"$f":"陸連登録!C63","v":0},{"$f":"陸連登録!D63","v":0},0,{"$f":"陸連登録!A63","v":""},{"$f":"陸連登録!P63","v":0},{"$f":"LEFT(陸連登録!L63,4)","v":""},{"$f":"RIGHT(陸連登録!L63,4)","v":""},{"$f":"陸連登録!G63","v":0},{"$f":"陸連登録!B63","v":0},null,"",null,"","",null,"",{"$f":"IF(T68=\"\",\"\",HLOOKUP(T68,#REF!,63,FALSE))","v":""},"","",null,null,null,null,null,null,null,null,null,null,null,null,null,"",0,0]
[0,{"$f":"陸連登録!N64","v":0},null,null,{"$f":"陸連登録!M64","v":0},{"$f":"陸連登録!C64","v":0},{"$f":"陸連登録!D64","v":0},0,{"$f":"陸連登録!A64","v":""},{"$f":"陸連登録!P64","v":0},{"$f":"LEFT(陸連登録!L64,4)","v":""},{"$f":"RIGHT(陸連登録!L64,4)","v":""},{"$f":"陸連登録!G64","v":0},{"$f":"陸連登録!B64","v":0},null,"",null,"","",null,"",{"$f":"IF(T69=\"\",\"\",HLOOKUP(T69,#REF!,64,FALSE))","v":""},"","",null,null,null,null,null,null,null,null,null,null,null,null,null,"",0,0]
[0,{"$f":"陸連登録!N65","v":0},null,null,{"$f":"陸連登録!M65","v":0},{"$f":"陸連登録!C65","v":0},{"$f":"陸連登録!D65","v":0},0,{"$f":"陸連登録!A65","v":""},{"$f":"陸連登録!P65","v":0},{"$f":"LEFT(陸連登録!L65,4)","v":""},{"$f":"RIGHT(陸連登録!L65,4)","v":""},{"$f":"陸連登録!G65","v":0},{"$f":"陸連登録!B65","v":0},null,"",null,"","",null,"",{"$f":"IF(T70=\"\",\"\",HLOOKUP(T70,#REF!,65,FALSE))","v":""},"","",null,null,null,null,null,null,null,null,null,null,null,null,null,"",0,0]
[0,{"$f":"陸連登録!N66","v":0},null,null,{"$f":"陸連登録!M66","v":0},{"$f":"陸連登録!C66","v":0},{"$f":"陸連登録!D66","v":0},0,{"$f":"陸連登録!A66","v":""},{"$f":"陸連登録!P66","v":0},{"$f":"LEFT(陸連登録!L66,4)","v":""},{"$f":"RIGHT(陸連登録!L66,4)","v":""},{"$f":"陸連登録!G66","v":0},{"$f":"陸連登録!B66","v":0},null,{"$f":"IF(O71=\"\",\"\",IF(I71=1,VLOOKUP(O71,$AP$8:$AR$12,3,FALSE),IF(I71=2,VLOOKUP(O71,$AP$15:$AR$19,3,FALSE))))","v":""},null,"","",null,{"$f":"IF(T71=\"\",\"\",IF(I71=1,VLOOKUP(T71,$AP$8:$AR$12,3,FALSE),IF(I71=2,VLOOKUP(T71,$AP$15:$AR$19,3,FALSE))))","v":""},{"$f":"IF(T71=\"\",\"\",HLOOKUP(T71,#REF!,66,FALSE))","v":""},"","",null,null,null,null,null,null,null,null,null,null,null,null,null,{"$f":"IF(O71=\"\",\"\",1)","v":""},{"$f":"IF(OR(AL71=1,T71=\"\"),0,1)","v":0},0]
[{"$f":"Z72","v":0},{"$f":"陸連登録!N67","v":0},null,null,{"$f":"陸連登録!M67","v":0},{"$f":"陸連登録!C67","v":0},{"$f":"陸連登録!D67","v":0},{"$f":"F72","v":0},{"$f":"陸連登録!A67","v":""},{"$f":"陸連登録!P67","v":0},{"$f":"LEFT(陸連登録!L67,4)","v":""},{"$f":"RIGHT(陸連登録!L67,4)","v":""},{"$f":"陸連登録!G67","v":0},{"$f":"陸連登録!B67","v":0},null,"",null,{"$f":"IF(O72=\"\",\"\",0)","v":""},{"$f":"IF(O72=\"\",\"\",2)","v":""},null,"",{"$f":"IF(T72=\"\",\"\",HLOOKUP(T72,#REF!,67,FALSE))","v":""},{"$f":"IF(T72=\"\",\"\",0)","v":""},{"$f":"IF(T72=\"\",\"\",2)","v":""},null,null,null,null,null,null,null,null,null,null,null,null,null,"",0,{"$f":"IF(OR(AL72=1,AM72=1,AB72=\"\"),0,1)","v":0}]
[0,{"$f":"陸連登録!N68","v":0},null,null,{"$f":"陸連登録!M68","v":0},{"$f":"陸連登録!C68","v":0},{"$f":"陸連登録!D68","v":0},0,{"$f":"陸連登録!A68","v":""},{"$f":"陸連登録!P68","v":0},{"$f":"LEFT(陸連登録!L68,4)","v":""},{"$f":"RIGHT(陸連登録!L68,4)","v":""},{"$f":"陸連登録!G68","v":0},{"$f":"陸連登録!B68","v":0},null,"",null,"","",null,"",{"$f":"IF(T73=\"\",\"\",HLOOKUP(T73,#REF!,68,FALSE))","v":""},"","",null,null,null,null,null,null,null,null,null,null,null,null,null,"",0,0]
[0,{"$f":"陸連登録!N69","v":0},null,null,{"$f":"陸連登録!M69","v":0},{"$f":"陸連登録!C69","v":0},{"$f":"陸連登録!D69","v":0},0,{"$f":"陸連登録!A69","v":""},{"$f":"陸連登録!P69","v":0},{"$f":"LEFT(陸連登録!L69,4)","v":""},{"$f":"RIGHT(陸連登録!L69,4)","v":""},{"$f":"陸連登録!G69","v":0},{"$f":"陸連登録!B69","v":0},null,"",null,"","",null,"",{"$f":"IF(T74=\"\",\"\",HLOOKUP(T74,#REF!,69,FALSE))","v":""},"","",null,null,null,null,null,null,null,null,null,null,null,null,null,"",0,0]
[0,{"$f":"陸連登録!N70","v":0},null,null,{"$f":"陸連登録!M70","v":0},{"$f":"陸連登録!C70","v":0},{"$f":"陸連登録!D70","v":0},0,{"$f":"陸連登録!A70","v":""},{"$f":"陸連登録!P70","v":0},{"$f":"LEFT(陸連登録!L70,4)","v":""},{"$f":"RIGHT(陸連登録!L70,4)","v":""},{"$f":"陸連登録!G70","v":0},{"$f":"陸連登録!B70","v":0},null,"",null,"","",null,"",{"$f":"IF(T75=\"\",\"\",HLOOKUP(T75,#REF!,70,FALSE))","v":""},"","",null,null,null,null,null,null,null,null,null,null,null,null,null,"",0,0]
[0,{"$f":"陸連登録!N71","v":0},null,null,{"$f":"陸連登録!M71","v":0},{"$f":"陸連登録!C71","v":0},{"$f":"陸連登録!D71","v":0},0,{"$f":"陸連登録!A71","v":""},{"$f":"陸連登録!P71","v":0},{"$f":"LEFT(陸連登録!L71,4)","v":""},{"$f":"RIGHT(陸連登録!L71,4)","v":""},{"$f":"陸連登録!G71","v":0},{"$f":"陸連登録!B71","v":0},null,"",null,"","",null,"",{"$f":"IF(T76=\"\",\"\",HLOOKUP(T76,#REF!,71,FALSE))","v":""},"","",null,null,null,null,null,null,null,null,null,null,null,null,null,"",0,0]
[0,{"$f":"陸連登録!N72","v":0},null,null,{"$f":"陸連登録!M72","v":0},{"$f":"陸連登録!C72","v":0},{"$f":"陸連登録!D72","v":0},0,{"$f":"陸連登録!A72","v":""},{"$f":"陸連登録!P72","v":0},{"$f":"LEFT(陸連登録!L72,4)","v":""},{"$f":"RIGHT(陸連登録!L72,4)","v":""},{"$f":"陸連登録!G72","v":0},{"$f":"陸連登録!B72","v":0},null,"",null,"","",null,"",{"$f":"IF(T77=\"\",\"\",HLOOKUP(T77,#REF!,72,FALSE))","v":""},"","",null,null,null,null,null,null,null,null,null,null,null,null,null,"",0,0]
[0,{"$f":"陸連登録!N73","v":0},null,null,{"$f":"陸連登録!M73","v":0},{"$f":"陸連登録!C73","v":0},{"$f":"陸連登録!D73","v":0},0,{"$f":"陸連登録!A73","v":""},{"$f":"陸連登録!P73","v":0},{"$f":"LEFT(陸連登録!L73,4)","v":""},{"$f":"RIGHT(陸連登録!L73,4)","v":""},{"$f":"陸連登録!G73","v":0},{"$f":"陸連登録!B73","v":0},null,"",null,"","",null,"",{"$f":"IF(T78=\"\",\"\",HLOOKUP(T78,#REF!,73,FALSE))","v":""},"","",null,null,null,null,null,null,null,null,null,null,null,null,null,"",0,0]
[0,{"$f":"陸連登録!N74","v":0},null,null,{"$f":"陸連登録!M74","v":0},{"$f":"陸連登録!C74","v":0},{"$f":"陸連登録!D74","v":0},0,{"$f":"陸連登録!A74","v":""},{"$f":"陸連登録!P74","v":0},{"$f":"LEFT(陸連登録!L74,4)","v":""},{"$f":"RIGHT(陸連登録!L74,4)","v":""},{"$f":"陸連登録!G74","v":0},{"$f":"陸連登録!B74","v":0},null,"",null,"","",null,"",{"$f":"IF(T79=\"\",\"\",HLOOKUP(T79,#REF!,74,FALSE))","v":""},"","",null,null,null,null,null,null,null,null,null,null,null,null,null,"",0,0]
[0,{"$f":"陸連登録!N75","v":0},null,null,{"$f":"陸連登録!M75","v":0},{"$f":"陸連登録!C75","v":0},{"$f":"陸連登録!D75","v":0},0,{"$f":"陸連登録!A75","v":""},{"$f":"陸連登録!P75","v":0},{"$f":"LEFT(陸連登録!L75,4)","v":""},{"$f":"RIGHT(陸連登録!L75,4)","v":""},{"$f":"陸連登録!G75","v":0},{"$f":"陸連登録!B75","v":0},null,"",null,"","",null,"",{"$f":"IF(T80=\"\",\"\",HLOOKUP(T80,#REF!,75,FALSE))","v":""},"","",null,null,null,null,null,null,null,null,null,null,null,null,null,"",0,0]
[0,{"$f":"陸連登録!N76","v":0},null,null,{"$f":"陸連登録!M76","v":0},{"$f":"陸連登録!C76","v":0},{"$f":"陸連登録!D76","v":0},0,{"$f":"陸連登録!A76","v":""},{"$f":"陸連登録!P76","v":0},{"$f":"LEFT(陸連登録!L76,4)","v":""},{"$f":"RIGHT(陸連登録!L76,4)","v":""},{"$f":"陸連登録!G76","v":0},{"$f":"陸連登録!B76","v":0},null,"",null,"","",null,"",{"$f":"IF(T81=\"\",\"\",HLOOKUP(T81,#REF!,76,FALSE))","v":""},"","",null,null,null,null,null,null,null,null,null,null,null,null,null,"",0,0]
[0,{"$f":"陸連登録!N77","v":0},null,null,{"$f":"陸連登録!M77","v":0},{"$f":"陸連登録!C77","v":0},{"$f":"陸連登録!D77","v":0},0,{"$f":"陸連登録!A77","v":""},{"$f":"陸連登録!P77","v":0},{"$f":"LEFT(陸連登録!L77,4)","v":""},{"$f":"RIGHT(陸連登録!L77,4)","v":""},{"$f":"陸連登録!G77","v":0},{"$f":"陸連登録!B77","v":0},null,"",null,"","",null,"",{"$f":"IF(T82=\"\",\"\",HLOOKUP(T82,#REF!,77,FALSE))","v":""},"","",null,null,null,null,null,null,null,null,null,null,null,null,null,"",0,0]
[0,{"$f":"陸連登録!N78","v":0},null,null,{"$f":"陸連登録!M78","v":0},{"$f":"陸連登録!C78","v":0},{"$f":"陸連登録!D78","v":0},0,{"$f":"陸連登録!A78","v":""},{"$f":"陸連登録!P78","v":0},{"$f":"LEFT(陸連登録!L78,4)","v":""},{"$f":"RIGHT(陸連登録!L78,4)","v":""},{"$f":"陸連登録!G78","v":0},{"$f":"陸連登録!B78","v":0},null,"",null,"","",null,"",{"$f":"IF(T83=\"\",\"\",HLOOKUP(T83,#REF!,78,FALSE))","v":""},"","",null,null,null,null,null,null,null,null,null,null,null,null,null,"",0,0]
[0,{"$f":"陸連登録!N79","v":0},null,null,{"$f":"陸連登録!M79","v":0},{"$f":"陸連登録!C79","v":0},{"$f":"陸連登録!D79","v":0},0,{"$f":"陸連登録!A79","v":""},{"$f":"陸連登録!P79","v":0},{"$f":"LEFT(陸連登録!L79,4)","v":""},{"$f":"RIGHT(陸連登録!L79,4)","v":""},{"$f":"陸連登録!G79","v":0},{"$f":"陸連登録!B79","v":0},null,"",null,"","",null,"",{"$f":"IF(T84=\"\",\"\",HLOOKUP(T84,#REF!,79,FALSE))","v":""},"","",null,null,null,null,null,null,null,null,null,null,null,null,null,"",0,0]
[0,{"$f":"陸連登録!N80","v":0},null,null,{"$f":"陸連登録!M80","v":0},{"$f":"陸連登録!C80","v":0},{"$f":"陸連登録!D80","v":0},0,{"$f":"陸連登録!A80","v":""},{"$f":"陸連登録!P80","v":0},{"$f":"LEFT(陸連登録!L80,4)","v":""},{"$f":"RIGHT(陸連登録!L80,4)","v":""},{"$f":"陸連登録!G80","v":0},{"$f":"陸連登録!B80","v":0},null,"",null,"","",null,"",{"$f":"IF(T85=\"\",\"\",HLOOKUP(T85,#REF!,80,FALSE))","v":""},"","",null,null,null,null,null,null,null,null,null,null,null,null,null,"",0,0]
[0,{"$f":"陸連登録!N81","v":0},null,null,{"$f":"陸連登録!M81","v":0},{"$f":"陸連登録!C81","v":0},{"$f":"陸連登録!D81","v":0},0,{"$f":"陸連登録!A81","v":""},{"$f":"陸連登録!P81","v":0},{"$f":"LEFT(陸連登録!L81,4)","v":""},{"$f":"RIGHT(陸連登録!L81,4)","v":""},{"$f":"陸連登録!G81","v":0},{"$f":"陸連登録!B81","v":0},null,"",null,"","",null,"",{"$f":"IF(T86=\"\",\"\",HLOOKUP(T86,#REF!,81,FALSE))","v":""},"","",null,null,null,null,null,null,null,null,null,null,null,null,null,"",0,0]
[0,{"$f":"陸連登録!N82","v":0},null,null,{"$f":"陸連登録!M82","v":0},{"$f":"陸連登録!C82","v":0},{"$f":"陸連登録!D82","v":0},0,{"$f":"陸連登録!A82","v":""},{"$f":"陸連登録!P82","v":0},{"$f":"LEFT(陸連登録!L82,4)","v":""},{"$f":"RIGHT(陸連登録!L82,4)","v":""},{"$f":"陸連登録!G82","v":0},{"$f":"陸連登録!B82","v":0},null,"",null,"","",null,"",{"$f":"IF(T87=\"\",\"\",HLOOKUP(T87,#REF!,82,FALSE))","v":""},"","",null,null,null,null,null,null,null,null,null,null,null,null,null,"",0,0]
[0,{"$f":"陸連登録!N83","v":0},null,null,{"$f":"陸連登録!M83","v":0},{"$f":"陸連登録!C83","v":0},{"$f":"陸連登録!D83","v":0},0,{"$f":"陸連登録!A83","v":""},{"$f":"陸連登録!P83","v":0},{"$f":"LEFT(陸連登録!L83,4)","v":""},{"$f":"RIGHT(陸連登録!L83,4)","v":""},{"$f":"陸連登録!G83","v":0},{"$f":"陸連登録!B83","v":0},null,"",null,"","",null,"",{"$f":"IF(T88=\"\",\"\",HLOOKUP(T88,#REF!,83,FALSE))","v":""},"","",null,null,null,null,null,null,null,null,null,null,null,null,null,"",0,0]
[0,{"$f":"陸連登録!N84","v":0},null,null,{"$f":"陸連登録!M84","v":0},{"$f":"陸連登録!C84","v":0},{"$f":"陸連登録!D84","v":0},0,{"$f":"陸連登録!A84","v":""},{"$f":"陸連登録!P84","v":0},{"$f":"LEFT(陸連登録!L84,4)","v":""},{"$f":"RIGHT(陸連登録!L84,4)","v":""},{"$f":"陸連登録!G84","v":0},{"$f":"陸連登録!B84","v":0},null,"",null,"","",null,"",{"$f":"IF(T89=\"\",\"\",HLOOKUP(T89,#REF!,84,FALSE))","v":""},"","",null,null,null,null,null,null,null,null,null,null,null,null,null,"",0,0]
[0,{"$f":"陸連登録!N85","v":0},null,null,{"$f":"陸連登録!M85","v":0},{"$f":"陸連登録!C85","v":0},{"$f":"陸連登録!D85","v":0},0,{"$f":"陸連登録!A85","v":""},{"$f":"陸連登録!P85","v":0},{"$f":"LEFT(陸連登録!L85,4)","v":""},{"$f":"RIGHT(陸連登録!L85,4)","v":""},{"$f":"陸連登録!G85","v":0},{"$f":"陸連登録!B85","v":0},null,"",null,"","",null,"",{"$f":"IF(T90=\"\",\"\",HLOOKUP(T90,#REF!,85,FALSE))","v":""},"","",null,null,null,null,null,null,null,null,null,null,null,null,null,"",0,0]
[0,{"$f":"陸連登録!N86","v":0},null,null,{"$f":"陸連登録!M86","v":0},{"$f":"陸連登録!C86","v":0},{"$f":"陸連登録!D86","v":0},0,{"$f":"陸連登録!A86","v":""},{"$f":"陸連登録!P86","v":0},{"$f":"LEFT(陸連登録!L86,4)","v":""},{"$f":"RIGHT(陸連登録!L86,4)","v":""},{"$f":"陸連登録!G86","v":0},{"$f":"陸連登録!B86","v":0},null,"",null,"","",null,"",{"$f":"IF(T91=\"\",\"\",HLOOKUP(T91,#REF!,86,FALSE))","v":""},"","",null,null,null,null,null,null,null,null,null,null,null,null,null,"",0,0]
[0,{"$f":"陸連登録!N87","v":0},null,null,{"$f":"陸連登録!M87","v":0},{"$f":"陸連登録!C87","v":0},{"$f":"陸連登録!D87","v":0},0,{"$f":"陸連登録!A87","v":""},{"$f":"陸連登録!P87","v":0},{"$f":"LEFT(陸連登録!L87,4)","v":""},{"$f":"RIGHT(陸連登録!L87,4)","v":""},{"$f":"陸連登録!G87","v":0},{"$f":"陸連登録!B87","v":0},null,"",null,"","",null,"",{"$f":"IF(T92=\"\",\"\",HLOOKUP(T92,#REF!,87,FALSE))","v":""},"","",null,null,null,null,null,null,null,null,null,null,null,null,null,"",0,0]
[0,{"$f":"陸連登録!N88","v":0},null,null,{"$f":"陸連登録!M88","v":0},{"$f":"陸連登録!C88","v":0},{"$f":"陸連登録!D88","v":0},0,{"$f":"陸連登録!A88","v":""},{"$f":"陸連登録!P88","v":0},{"$f":"LEFT(陸連登録!L88,4)","v":""},{"$f":"RIGHT(陸連登録!L88,4)","v":""},{"$f":"陸連登録!G88","v":0},{"$f":"陸連登録!B88","v":0},null,"",null,"","",null,"",{"$f":"IF(T93=\"\",\"\",HLOOKUP(T93,#REF!,88,FALSE))","v":""},"","",null,null,null,null,null,null,null,null,null,null,null,null,null,"",0,0]
[0,{"$f":"陸連登録!N89","v":0},null,null,{"$f":"陸連登録!M89","v":0},{"$f":"陸連登録!C89","v":0},{"$f":"陸連登録!D89","v":0},0,{"$f":"陸連登録!A89","v":""},{"$f":"陸連登録!P89","v":0},{"$f":"LEFT(陸連登録!L89,4)","v":""},{"$f":"RIGHT(陸連登録!L89,4)","v":""},{"$f":"陸連登録!G89","v":0},{"$f":"陸連登録!B89","v":0},null,"",null,"","",null,"",{"$f":"IF(T94=\"\",\"\",HLOOKUP(T94,#REF!,89,FALSE))","v":""},"","",null,null,null,null,null,null,null,null,null,null,null,null,null,"",0,0]
[0,{"$f":"陸連登録!N90","v":0},null,null,{"$f":"陸連登録!M90","v":0},{"$f":"陸連登録!C90","v":0},{"$f":"陸連登録!D90","v":0},0,{"$f":"陸連登録!A90","v":""},{"$f":"陸連登録!P90","v":0},{"$f":"LEFT(陸連登録!L90,4)","v":""},{"$f":"RIGHT(陸連登録!L90,4)","v":""},{"$f":"陸連登録!G90","v":0},{"$f":"陸連登録!B90","v":0},null,"",null,"","",null,"",{"$f":"IF(T95=\"\",\"\",HLOOKUP(T95,#REF!,90,FALSE))","v":""},"","",null,null,null,null,null,null,null,null,null,null,null,null,null,"",0,0]
[0,{"$f":"陸連登録!N91","v":0},null,null,{"$f":"陸連登録!M91","v":0},{"$f":"陸連登録!C91","v":0},{"$f":"陸連登録!D91","v":0},0,{"$f":"陸連登録!A91","v":""},{"$f":"陸連登録!P91","v":0},{"$f":"LEFT(陸連登録!L91,4)","v":""},{"$f":"RIGHT(陸連登録!L91,4)","v":""},{"$f":"陸連登録!G91","v":0},{"$f":"陸連登録!B91","v":0},null,"",null,"","",null,"",{"$f":"IF(T96=\"\",\"\",HLOOKUP(T96,#REF!,91,FALSE))","v":""},"","",null,null,null,null,null,null,null,null,null,null,null,null,null,"",0,0]
[0,{"$f":"陸連登録!N92","v":0},null,null,{"$f":"陸連登録!M92","v":0},{"$f":"陸連登録!C92","v":0},{"$f":"陸連登録!D92","v":0},0,{"$f":"陸連登録!A92","v":""},{"$f":"陸連登録!P92","v":0},{"$f":"LEFT(陸連登録!L92,4)","v":""},{"$f":"RIGHT(陸連登録!L92,4)","v":""},{"$f":"陸連登録!G92","v":0},{"$f":"陸連登録!B92","v":0},null,"",null,"","",null,"",{"$f":"IF(T97=\"\",\"\",HLOOKUP(T97,#REF!,92,FALSE))","v":""},"","",null,null,null,null,null,null,null,null,null,null,null,null,null,"",0,0]
[0,{"$f":"陸連登録!N93","v":0},null,null,{"$f":"陸連登録!M93","v":0},{"$f":"陸連登録!C93","v":0},{"$f":"陸連登録!D93","v":0},0,{"$f":"陸連登録!A93","v":""},{"$f":"陸連登録!P93","v":0},{"$f":"LEFT(陸連登録!L93,4)","v":""},{"$f":"RIGHT(陸連登録!L93,4)","v":""},{"$f":"陸連登録!G93","v":0},{"$f":"陸連登録!B93","v":0},null,"",null,"","",null,"",{"$f":"IF(T98=\"\",\"\",HLOOKUP(T98,#REF!,93,FALSE))","v":""},"","",null,null,null,null,null,null,null,null,null,null,null,null,null,"",0,0]
[0,{"$f":"陸連登録!N94","v":0},null,null,{"$f":"陸連登録!M94","v":0},{"$f":"陸連登録!C94","v":0},{"$f":"陸連登録!D94","v":0},0,{"$f":"陸連登録!A94","v":""},{"$f":"陸連登録!P94","v":0},{"$f":"LEFT(陸連登録!L94,4)","v":""},{"$f":"RIGHT(陸連登録!L94,4)","v":""},{"$f":"陸連登録!G94","v":0},{"$f":"陸連登録!B94","v":0},null,"",null,"","",null,"",{"$f":"IF(T99=\"\",\"\",HLOOKUP(T99,#REF!,94,FALSE))","v":""},"","",null,null,null,null,null,null,null,null,null,null,null,null,null,"",0,0]
[0,{"$f":"陸連登録!N95","v":0},null,null,{"$f":"陸連登録!M95","v":0},{"$f":"陸連登録!C95","v":0},{"$f":"陸連登録!D95","v":0},0,{"$f":"陸連登録!A95","v":""},{"$f":"陸連登録!P95","v":0},{"$f":"LEFT(陸連登録!L95,4)","v":""},{"$f":"RIGHT(陸連登録!L95,4)","v":""},{"$f":"陸連登録!G95","v":0},{"$f":"陸連登録!B95","v":0},null,"",null,"","",null,"",{"$f":"IF(T100=\"\",\"\",HLOOKUP(T100,#REF!,95,FALSE))","v":""},"","",null,null,null,null,null,null,null,null,null,null,null,null,null,"",0,0]
[0,{"$f":"陸連登録!N96","v":0},null,null,{"$f":"陸連登録!M96","v":0},{"$f":"陸連登録!C96","v":0},{"$f":"陸連登録!D96","v":0},0,{"$f":"陸連登録!A96","v":""},{"$f":"陸連登録!P96","v":0},{"$f":"LEFT(陸連登録!L96,4)","v":""},{"$f":"RIGHT(陸連登録!L96,4)","v":""},{"$f":"陸連登録!G96","v":0},{"$f":"陸連登録!B96","v":0},null,"",null,"","",null,"",{"$f":"IF(T101=\"\",\"\",HLOOKUP(T101,#REF!,96,FALSE))","v":""},"","",null,null,null,null,null,null,null,null,null,null,null,null,null,"",0,0]
[0,{"$f":"陸連登録!N97","v":0},null,null,{"$f":"陸連登録!M97","v":0},{"$f":"陸連登録!C97","v":0},{"$f":"陸連登録!D97","v":0},0,{"$f":"陸連登録!A97","v":""},{"$f":"陸連登録!P97","v":0},{"$f":"LEFT(陸連登録!L97,4)","v":""},{"$f":"RIGHT(陸連登録!L97,4)","v":""},{"$f":"陸連登録!G97","v":0},{"$f":"陸連登録!B97","v":0},null,"",null,"","",null,"",{"$f":"IF(T102=\"\",\"\",HLOOKUP(T102,#REF!,97,FALSE))","v":""},"","",null,null,null,null,null,null,null,null,null,null,null,null,null,"",0,0]
[0,{"$f":"陸連登録!N98","v":0},null,null,{"$f":"陸連登録!M98","v":0},{"$f":"陸連登録!C98","v":0},{"$f":"陸連登録!D98","v":0},0,{"$f":"陸連登録!A98","v":""},{"$f":"陸連登録!P98","v":0},{"$f":"LEFT(陸連登録!L98,4)","v":""},{"$f":"RIGHT(陸連登録!L98,4)","v":""},{"$f":"陸連登録!G98","v":0},{"$f":"陸連登録!B98","v":0},null,{"$f":"IF(O103=\"\",\"\",IF(I103=1,VLOOKUP(O103,$AP$8:$AR$12,3,FALSE),IF(I103=2,VLOOKUP(O103,$AP$15:$AR$19,3,FALSE))))","v":""},null,"","",null,{"$f":"IF(T103=\"\",\"\",IF(I103=1,VLOOKUP(T103,$AP$8:$AR$12,3,FALSE),IF(I103=2,VLOOKUP(T103,$AP$15:$AR$19,3,FALSE))))","v":""},{"$f":"IF(T103=\"\",\"\",HLOOKUP(T103,#REF!,98,FALSE))","v":""},"","",null,null,null,null,null,null,null,null,null,null,null,null,null,"",0,0]
[0,{"$f":"陸連登録!N99","v":0},null,null,{"$f":"陸連登録!M99","v":0},{"$f":"陸連登録!C99","v":0},{"$f":"陸連登録!D99","v":0},0,{"$f":"陸連登録!A99","v":""},{"$f":"陸連登録!P99","v":0},{"$f":"LEFT(陸連登録!L99,4)","v":""},{"$f":"RIGHT(陸連登録!L99,4)","v":""},{"$f":"陸連登録!G99","v":0},{"$f":"陸連登録!B99","v":0},null,"",null,"","",null,"",{"$f":"IF(T104=\"\",\"\",HLOOKUP(T104,#REF!,99,FALSE))","v":""},"","",null,null,null,null,null,null,null,null,null,null,null,null,null,"",0,0]
[0,{"$f":"陸連登録!N100","v":0},null,null,{"$f":"陸連登録!M100","v":0},{"$f":"陸連登録!C100","v":0},{"$f":"陸連登録!D100","v":0},0,{"$f":"陸連登録!A100","v":""},{"$f":"陸連登録!P100","v":0},{"$f":"LEFT(陸連登録!L100,4)","v":""},{"$f":"RIGHT(陸連登録!L100,4)","v":""},{"$f":"陸連登録!G100","v":0},{"$f":"陸連登録!B100","v":0},null,"",null,"","",null,"",{"$f":"IF(T105=\"\",\"\",HLOOKUP(T105,#REF!,100,FALSE))","v":""},"","",null,null,null,null,null,null,null,null,null,null,null,null,null,"",0,0]
[0,{"$f":"陸連登録!N101","v":0},null,null,{"$f":"陸連登録!M101","v":0},{"$f":"陸連登録!C101","v":0},{"$f":"陸連登録!D101","v":0},0,{"$f":"陸連登録!A101","v":""},{"$f":"陸連登録!P101","v":0},{"$f":"LEFT(陸連登録!L101,4)","v":""},{"$f":"RIGHT(陸連登録!L101,4)","v":""},{"$f":"陸連登録!G101","v":0},{"$f":"陸連登録!B101","v":0},null,"",null,"","",null,"",{"$f":"IF(T106=\"\",\"\",HLOOKUP(T106,#REF!,101,FALSE))","v":""},"","",null,null,null,null,null,null,null,null,null,null,null,null,null,"",0,0]
[0,{"$f":"陸連登録!N102","v":0},null,null,{"$f":"陸連登録!M102","v":0},{"$f":"陸連登録!C102","v":0},{"$f":"陸連登録!D102","v":0},0,{"$f":"陸連登録!A102","v":""},{"$f":"陸連登録!P102","v":0},{"$f":"LEFT(陸連登録!L102,4)","v":""},{"$f":"RIGHT(陸連登録!L102,4)","v":""},{"$f":"陸連登録!G102","v":0},{"$f":"陸連登録!B102","v":0},null,"",null,"","",null,"",{"$f":"IF(T107=\"\",\"\",HLOOKUP(T107,#REF!,102,FALSE))","v":""},"","",null,null,null,null,null,null,null,null,null,null,null,null,null,"",0,0]
[0,{"$f":"陸連登録!N103","v":0},null,null,{"$f":"陸連登録!M103","v":0},{"$f":"陸連登録!C103","v":0},{"$f":"陸連登録!D103","v":0},0,{"$f":"陸連登録!A103","v":""},{"$f":"陸連登録!P103","v":0},{"$f":"LEFT(陸連登録!L103,4)","v":""},{"$f":"RIGHT(陸連登録!L103,4)","v":""},{"$f":"陸連登録!G103","v":0},{"$f":"陸連登録!B103","v":0},null,"",null,"","",null,"",{"$f":"IF(T108=\"\",\"\",HLOOKUP(T108,#REF!,103,FALSE))","v":""},"","",null,null,null,null,null,null,null,null,null,null,null,null,null,"",0,0]
[0,{"$f":"陸連登録!N104","v":0},null,null,{"$f":"陸連登録!M104","v":0},{"$f":"陸連登録!C104","v":0},{"$f":"陸連登録!D104","v":0},0,{"$f":"陸連登録!A104","v":""},{"$f":"陸連登録!P104","v":0},{"$f":"LEFT(陸連登録!L104,4)","v":""},{"$f":"RIGHT(陸連登録!L104,4)","v":""},{"$f":"陸連登録!G104","v":0},{"$f":"陸連登録!B104","v":0},null,"",null,"","",null,"",{"$f":"IF(T109=\"\",\"\",HLOOKUP(T109,#REF!,104,FALSE))","v":""},"","",null,null,null,null,null,null,null,null,null,null,null,null,null,"",0,0]
[0,{"$f":"陸連登録!N105","v":0},null,null,{"$f":"陸連登録!M105","v":0},{"$f":"陸連登録!C105","v":0},{"$f":"陸連登録!D105","v":0},0,{"$f":"陸連登録!A105","v":""},{"$f":"陸連登録!P105","v":0},{"$f":"LEFT(陸連登録!L105,4)","v":""},{"$f":"RIGHT(陸連登録!L105,4)","v":""},{"$f":"陸連登録!G105","v":0},{"$f":"陸連登録!B105","v":0},null,"",null,"","",null,"",{"$f":"IF(T110=\"\",\"\",HLOOKUP(T110,#REF!,105,FALSE))","v":""},"","",null,null,null,null,null,null,null,null,null,null,null,null,null,"",0,0]
[0,{"$f":"陸連登録!N106","v":0},null,null,{"$f":"陸連登録!M106","v":0},{"$f":"陸連登録!C106","v":0},{"$f":"陸連登録!D106","v":0},0,{"$f":"陸連登録!A106","v":""},{"$f":"陸連登録!P106","v":0},{"$f":"LEFT(陸連登録!L106,4)","v":""},{"$f":"RIGHT(陸連登録!L106,4)","v":""},{"$f":"陸連登録!G106","v":0},{"$f":"陸連登録!B106","v":0},null,"",null,"","",null,"",{"$f":"IF(T111=\"\",\"\",HLOOKUP(T111,#REF!,106,FALSE))","v":""},"","",null,null,null,null,null,null,null,null,null,null,null,null,null,"",0,0]
[0,{"$f":"陸連登録!N107","v":0},null,null,{"$f":"陸連登録!M107","v":0},{"$f":"陸連登録!C107","v":0},{"$f":"陸連登録!D107","v":0},0,{"$f":"陸連登録!A107","v":""},{"$f":"陸連登録!P107","v":0},{"$f":"LEFT(陸連登録!L107,4)","v":""},{"$f":"RIGHT(陸連登録!L107,4)","v":""},{"$f":"陸連登録!G107","v":0},{"$f":"陸連登録!B107","v":0},null,"",null,"","",null,"",{"$f":"IF(T112=\"\",\"\",HLOOKUP(T112,#REF!,107,FALSE))","v":""},"","",null,null,null,null,null,null,null,null,null,null,null,null,null,"",0,0]
[0,{"$f":"陸連登録!N108","v":0},null,null,{"$f":"陸連登録!M108","v":0},{"$f":"陸連登録!C108","v":0},{"$f":"陸連登録!D108","v":0},0,{"$f":"陸連登録!A108","v":""},{"$f":"陸連登録!P108","v":0},{"$f":"LEFT(陸連登録!L108,4)","v":""},{"$f":"RIGHT(陸連登録!L108,4)","v":""},{"$f":"陸連登録!G108","v":0},{"$f":"陸連登録!B108","v":0},null,"",null,"","",null,"",{"$f":"IF(T113=\"\",\"\",HLOOKUP(T113,#REF!,108,FALSE))","v":""},"","",null,null,null,null,null,null,null,null,null,null,null,null,null,"",0,0]
[0,{"$f":"陸連登録!N109","v":0},null,null,{"$f":"陸連登録!M109","v":0},{"$f":"陸連登録!C109","v":0},{"$f":"陸連登録!D109","v":0},0,{"$f":"陸連登録!A109","v":""},{"$f":"陸連登録!P109","v":0},{"$f":"LEFT(陸連登録!L109,4)","v":""},{"$f":"RIGHT(陸連登録!L109,4)","v":""},{"$f":"陸連登録!G109","v":0},{"$f":"陸連登録!B109","v":0},null,"",null,"","",null,"",{"$f":"IF(T114=\"\",\"\",HLOOKUP(T114,#REF!,109,FALSE))","v":""},"","",null,null,null,null,null,null,null,null,null,null,null,null,null,"",0,0]
[0,{"$f":"陸連登録!N110","v":0},null,null,{"$f":"陸連登録!M110","v":0},{"$f":"陸連登録!C110","v":0},{"$f":"陸連登録!D110","v":0},0,{"$f":"陸連登録!A110","v":""},{"$f":"陸連登録!P110","v":0},{"$f":"LEFT(陸連登録!L110,4)","v":""},{"$f":"RIGHT(陸連登録!L110,4)","v":""},{"$f":"陸連登録!G110","v":0},{"$f":"陸連登録!B110","v":0},null,"",null,"","",null,"",{"$f":"IF(T115=\"\",\"\",HLOOKUP(T115,#REF!,110,FALSE))","v":""},"","",null,null,null,null,null,null,null,null,null,null,null,null,null,"",0,0]
[0,{"$f":"陸連登録!N111","v":0},null,null,{"$f":"陸連登録!M111","v":0},{"$f":"陸連登録!C111","v":0},{"$f":"陸連登録!D111","v":0},0,{"$f":"陸連登録!A111","v":""},{"$f":"陸連登録!P111","v":0},{"$f":"LEFT(陸連登録!L111,4)","v":""},{"$f":"RIGHT(陸連登録!L111,4)","v":""},{"$f":"陸連登録!G111","v":0},{"$f":"陸連登録!B111","v":0},null,"",null,"","",null,"",{"$f":"IF(T116=\"\",\"\",HLOOKUP(T116,#REF!,111,FALSE))","v":""},"","",null,null,null,null,null,null,null,null,null,null,null,null,null,"",0,0]
[null,null,null,null,null,null,null,null,null,null,null,null,null,null,null,null,null,null,null,null,null,null,null,null,null,null,null,null,null,null,null,{"$f":"SUM(AL7:AL116)","v":0},{"$f":"SUM(AM7:AM116)","v":0},{"$f":"SUM(AN7:AN116)","v":0}]
[null,null,null,null,null,null,null,null,null,null,null,null,null,null,null,null,null,null,null,null,null,null,null,null,null,null,null,null,null,null,null,{"$f":"SUM(AF117:AH117)","v":0}]

{"sheet":"混成","index":7,"n_rows":116,"n_cols":41,"rows_kept":116,"cut":false,"hidden":false,"merged":[[20,38,20,39],[5,38,5,39],[1,34,1,35]]}
[null,null,null,null,"所属名",{"$f":"陸連登録!I2","v":0}]
[null,null,null,null,"所属コード",{"$f":"陸連登録!N2","v":0},"全日本通信四種競技三重大会"]
[null,null,null,null,"顧問名",null,null,null,null,"男子",null,null,null,null,{"$f":"COUNTIF($I$7:$I$116,1)-COUNTIF($AG$7:$AG$116,0)","v":0},null,null,null,null,null,null,null,null,null,null,null,null,null,null,null,null,null,null,"4種合計",{"$f":"SUM(AI7:AJ116)","v":0}]
[null,null,null,null,"顧問連絡先",null,null,null,null,"女子",null,null,null,null,{"$f":"COUNTIF($I$7:$I$116,2)-COUNTIF($AH$7:$AH$116,0)","v":0},null,{"$f":"O3+O4","v":0}]
[null,null,null,null,null,null,null,null,null,"大会参加費",null,null,null,null,{"$f":"AI3*1000+(Q4-AI3)*500+T5*800","v":0},null,"プログラム冊数",null,null,null,null,"冊"]
["競技者コード","所属コード","コード２","ナンバーA","ナンバー","名　前","カナ名","掲示板名","性別","学年","生年","月日","個人所属地コード","陸連ID","1種目","コード","記録",null,null,"2種目","コード","記録","種目3","コード","記録3","種目","コード4","自己記録4","種目","コード5","自己記録5","種目数","男子","女子","4種","4種",null,null,"出場制限3名"]
[null,{"$f":"陸連登録!N2","v":0},null,null,{"$f":"陸連登録!M2","v":1000},{"$f":"陸連登録!C2","v":"岡田"},{"$f":"陸連登録!D2","v":0},{"$f":"F7","v":"岡田"},{"$f":"陸連登録!A2","v":1},{"$f":"陸連登録!P2","v":3},{"$f":"LEFT(陸連登録!L2,4)","v":""},{"$f":"RIGHT(陸連登録!L2,4)","v":""},{"$f":"陸連登録!F2","v":0},{"$f":"陸連登録!B2","v":0},null,{"$f":"IF(O7=\"\",\"\",IF(I7=1,VLOOKUP(O7,$AM$7:$AO$13,3,FALSE),IF(I7=2,VLOOKUP(O7,$AM$14:$AO$20,3,FALSE))))","v":""},null,{"$f":"IF(O7=\"\",\"\",0)","v":""},{"$f":"IF(O7=\"\",\"\",2)","v":""},null,{"$f":"IF(T7=\"\",\"\",IF(I7=1,VLOOKUP(T7,$AM$7:$AO$13,3,FALSE),IF(I7=2,VLOOKUP(T7,$AM$14:$AO$20,3,FALSE))))","v":""},null,null,{"$f":"IF(W7=\"\",\"\",IF(I7=1,VLOOKUP(W7,男子種目コード!$A$1:$B$33,2,FALSE),IF(I7=2,VLOOKUP(W7,女子種目コード!$A$1:$B$28,2,FALSE))))","v":""},null,null,{"$f":"IF(Z7=\"\",\"\",IF(I7=1,VLOOKUP(Z7,男子種目コード!$A$1:$B$33,2,FALSE),IF(V7=2,VLOOKUP(I7,女子種目コード!$A$1:$B$28,2,FALSE))))","v":""},null,null,{"$f":"IF(AC7=\"\",\"\",IF(I7=1,VLOOKUP(AC7,男子種目コード!$A$1:$B$33,2,FALSE),IF(Y7=2,VLOOKUP(I7,女子種目コード!$A$1:$B$28,2,FALSE))))","v":""},null,{"$f":"COUNT(P7,U7)","v":0},{"$f":"IF(I7=1,AF7,\"\")","v":0},{"$f":"IF(I7=2,AF7,\"\")","v":""},{"$f":"IF(O7=\"四種\",1,\"\")","v":""},{"$f":"IF(T7=\"四種\",1,\"\")","v":""},null,null,"四種",{"$f":"COUNTIF($P$7:$P$116,1)+COUNTIF($U$7:$U$116,1)","v":0},1]
[null,{"$f":"陸連登録!N3","v":0},null,null,{"$f":"陸連登録!M3","v":0},{"$f":"陸連登録!C3","v":0},{"$f":"陸連登録!D3","v":0},{"$f":"F8","v":0},{"$f":"陸連登録!A3","v":""},{"$f":"陸連登録!P3","v":0},{"$f":"LEFT(陸連登録!L3,4)","v":""},{"$f":"RIGHT(陸連登録!L3,4)","v":""},{"$f":"陸連登録!F3","v":0},{"$f":"陸連登録!B3","v":0},null,"",null,{"$f":"IF(O8=\"\",\"\",0)","v":""},{"$f":"IF(O8=\"\",\"\",2)","v":""},null,"",null,null,{"$f":"IF(W8=\"\",\"\",IF(I8=1,VLOOKUP(W8,男子種目コード!$A$1:$B$33,2,FALSE),IF(I8=2,VLOOKUP(W8,女子種目コード!$A$1:$B$28,2,FALSE))))","v":""},null,null,{"$f":"IF(Z8=\"\",\"\",IF(I8=1,VLOOKUP(Z8,男子種目コード!$A$1:$B$33,2,FALSE),IF(V8=2,VLOOKUP(I8,女子種目コード!$A$1:$B$28,2,FALSE))))","v":""},null,null,{"$f":"IF(AC8=\"\",\"\",IF(I8=1,VLOOKUP(AC8,男子種目コード!$A$1:$B$33,2,FALSE),IF(Y8=2,VLOOKUP(I8,女子種目コード!$A$1:$B$28,2,FALSE))))","v":""},null,{"$f":"COUNT(P8,U8)","v":0},{"$f":"IF(I8=1,AF8,\"\")","v":""},{"$f":"IF(I8=2,AF8,\"\")","v":""},{"$f":"IF(O8=\"四種\",1,\"\")","v":""},{"$f":"IF(T8=\"四種\",1,\"\")","v":""},null,null,"100m",{"$f":"COUNTIF($P$7:$P$116,2)+COUNTIF($U$7:$U$116,2)","v":0},2]
[null,{"$f":"陸連登録!N4","v":0},null,null,{"$f":"陸連登録!M4","v":0},{"$f":"陸連登録!C4","v":0},{"$f":"陸連登録!D4","v":0},0,{"$f":"陸連登録!A4","v":""},{"$f":"陸連登録!P4","v":0},{"$f":"LEFT(陸連登録!L4,4)","v":""},{"$f":"RIGHT(陸連登録!L4,4)","v":""},{"$f":"陸連登録!F4","v":0},{"$f":"陸連登録!B4","v":0},null,"",null,"","",null,"",null,null,{"$f":"IF(W9=\"\",\"\",IF(I9=1,VLOOKUP(W9,男子種目コード!$A$1:$B$33,2,FALSE),IF(I9=2,VLOOKUP(W9,女子種目コード!$A$1:$B$28,2,FALSE))))","v":""},null,null,{"$f":"IF(Z9=\"\",\"\",IF(I9=1,VLOOKUP(Z9,男子種目コード!$A$1:$B$33,2,FALSE),IF(V9=2,VLOOKUP(I9,女子種目コード!$A$1:$B$28,2,FALSE))))","v":""},null,null,{"$f":"IF(AC9=\"\",\"\",IF(I9=1,VLOOKUP(AC9,男子種目コード!$A$1:$B$33,2,FALSE),IF(Y9=2,VLOOKUP(I9,女子種目コード!$A$1:$B$28,2,FALSE))))","v":""},null,0,"","","","",null,null,"200m",{"$f":"COUNTIF($P$7:$P$116,3)+COUNTIF($U$7:$U$116,3)","v":0},3]
[null,{"$f":"陸連登録!N5","v":0},null,null,{"$f":"陸連登録!M5","v":0},{"$f":"陸連登録!C5","v":0},{"$f":"陸連登録!D5","v":0},0,{"$f":"陸連登録!A5","v":""},{"$f":"陸連登録!P5","v":0},{"$f":"LEFT(陸連登録!L5,4)","v":""},{"$f":"RIGHT(陸連登録!L5,4)","v":""},{"$f":"陸連登録!F5","v":0},{"$f":"陸連登録!B5","v":0},null,"",null,"","",null,"",null,null,{"$f":"IF(W10=\"\",\"\",IF(I10=1,VLOOKUP(W10,男子種目コード!$A$1:$B$33,2,FALSE),IF(I10=2,VLOOKUP(W10,女子種目コード!$A$1:$B$28,2,FALSE))))","v":""},null,null,{"$f":"IF(Z10=\"\",\"\",IF(I10=1,VLOOKUP(Z10,男子種目コード!$A$1:$B$33,2,FALSE),IF(V10=2,VLOOKUP(I10,女子種目コード!$A$1:$B$28,2,FALSE))))","v":""},null,null,{"$f":"IF(AC10=\"\",\"\",IF(I10=1,VLOOKUP(AC10,男子種目コード!$A$1:$B$33,2,FALSE),IF(Y10=2,VLOOKUP(I10,女子種目コード!$A$1:$B$28,2,FALSE))))","v":""},null,0,"","","","",null,null,"1500m",{"$f":"COUNTIF($P$7:$P$116,4)+COUNTIF($U$7:$U$116,4)","v":0},4]
[null,{"$f":"陸連登録!N6","v":0},null,null,{"$f":"陸連登録!M6","v":0},{"$f":"陸連登録!C6","v":0},{"$f":"陸連登録!D6","v":0},0,{"$f":"陸連登録!A6","v":""},{"$f":"陸連登録!P6","v":0},{"$f":"LEFT(陸連登録!L6,4)","v":""},{"$f":"RIGHT(陸連登録!L6,4)","v":""},{"$f":"陸連登録!F6","v":0},{"$f":"陸連登録!B6","v":0},null,"",null,"","",null,"",null,null,{"$f":"IF(W11=\"\",\"\",IF(I11=1,VLOOKUP(W11,男子種目コード!$A$1:$B$33,2,FALSE),IF(I11=2,VLOOKUP(W11,女子種目コード!$A$1:$B$28,2,FALSE))))","v":""},null,null,{"$f":"IF(Z11=\"\",\"\",IF(I11=1,VLOOKUP(Z11,男子種目コード!$A$1:$B$33,2,FALSE),IF(V11=2,VLOOKUP(I11,女子種目コード!$A$1:$B$28,2,FALSE))))","v":""},null,null,{"$f":"IF(AC11=\"\",\"\",IF(I11=1,VLOOKUP(AC11,男子種目コード!$A$1:$B$33,2,FALSE),IF(Y11=2,VLOOKUP(I11,女子種目コード!$A$1:$B$28,2,FALSE))))","v":""},null,0,"","","","",null,null,"3000m",{"$f":"COUNTIF($P$7:$P$116,5)+COUNTIF($U$7:$U$116,5)","v":0},5]
[null,{"$f":"陸連登録!N7","v":0},null,null,{"$f":"陸連登録!M7","v":0},{"$f":"陸連登録!C7","v":0},{"$f":"陸連登録!D7","v":0},0,{"$f":"陸連登録!A7","v":""},{"$f":"陸連登録!P7","v":0},{"$f":"LEFT(陸連登録!L7,4)","v":""},{"$f":"RIGHT(陸連登録!L7,4)","v":""},{"$f":"陸連登録!F7","v":0},{"$f":"陸連登録!B7","v":0},null,"",null,"","",null,"",null,null,{"$f":"IF(W12=\"\",\"\",IF(I12=1,VLOOKUP(W12,男子種目コード!$A$1:$B$33,2,FALSE),IF(I12=2,VLOOKUP(W12,女子種目コード!$A$1:$B$28,2,FALSE))))","v":""},null,null,{"$f":"IF(Z12=\"\",\"\",IF(I12=1,VLOOKUP(Z12,男子種目コード!$A$1:$B$33,2,FALSE),IF(V12=2,VLOOKUP(I12,女子種目コード!$A$1:$B$28,2,FALSE))))","v":""},null,null,{"$f":"IF(AC12=\"\",\"\",IF(I12=1,VLOOKUP(AC12,男子種目コード!$A$1:$B$33,2,FALSE),IF(Y12=2,VLOOKUP(I12,女子種目コード!$A$1:$B$28,2,FALSE))))","v":""},null,0,"","","","",null,null,"棒高跳",{"$f":"COUNTIF($P$7:$P$116,6)+COUNTIF($U$7:$U$116,6)","v":0},6]
[null,{"$f":"陸連登録!N8","v":0},null,null,{"$f":"陸連登録!M8","v":0},{"$f":"陸連登録!C8","v":0},{"$f":"陸連登録!D8","v":0},0,{"$f":"陸連登録!A8","v":""},{"$f":"陸連登録!P8","v":0},{"$f":"LEFT(陸連登録!L8,4)","v":""},{"$f":"RIGHT(陸連登録!L8,4)","v":""},{"$f":"陸連登録!F8","v":0},{"$f":"陸連登録!B8","v":0},null,"",null,"","",null,"",null,null,{"$f":"IF(W13=\"\",\"\",IF(I13=1,VLOOKUP(W13,男子種目コード!$A$1:$B$33,2,FALSE),IF(I13=2,VLOOKUP(W13,女子種目コード!$A$1:$B$28,2,FALSE))))","v":""},null,null,{"$f":"IF(Z13=\"\",\"\",IF(I13=1,VLOOKUP(Z13,男子種目コード!$A$1:$B$33,2,FALSE),IF(V13=2,VLOOKUP(I13,女子種目コード!$A$1:$B$28,2,FALSE))))","v":""},null,null,{"$f":"IF(AC13=\"\",\"\",IF(I13=1,VLOOKUP(AC13,男子種目コード!$A$1:$B$33,2,FALSE),IF(Y13=2,VLOOKUP(I13,女子種目コード!$A$1:$B$28,2,FALSE))))","v":""},null,0,"","","","",null,null,"ｼﾞｬﾍﾞﾘｯｸ",{"$f":"COUNTIF($P$7:$P$116,7)+COUNTIF($U$7:$U$116,7)","v":0},7]
[null,{"$f":"陸連登録!N9","v":0},null,null,{"$f":"陸連登録!M9","v":0},{"$f":"陸連登録!C9","v":0},{"$f":"陸連登録!D9","v":0},0,{"$f":"陸連登録!A9","v":""},{"$f":"陸連登録!P9","v":0},{"$f":"LEFT(陸連登録!L9,4)","v":""},{"$f":"RIGHT(陸連登録!L9,4)","v":""},{"$f":"陸連登録!F9","v":0},{"$f":"陸連登録!B9","v":0},null,"",null,"","",null,"",null,null,{"$f":"IF(W14=\"\",\"\",IF(I14=1,VLOOKUP(W14,男子種目コード!$A$1:$B$33,2,FALSE),IF(I14=2,VLOOKUP(W14,女子種目コード!$A$1:$B$28,2,FALSE))))","v":""},null,null,{"$f":"IF(Z14=\"\",\"\",IF(I14=1,VLOOKUP(Z14,男子種目コード!$A$1:$B$33,2,FALSE),IF(V14=2,VLOOKUP(I14,女子種目コード!$A$1:$B$28,2,FALSE))))","v":""},null,null,{"$f":"IF(AC14=\"\",\"\",IF(I14=1,VLOOKUP(AC14,男子種目コード!$A$1:$B$33,2,FALSE),IF(Y14=2,VLOOKUP(I14,女子種目コード!$A$1:$B$28,2,FALSE))))","v":""},null,0,"","","","",null,null,"四種",{"$f":"COUNTIF($P$7:$P$116,10)+COUNTIF($U$7:$U$116,10)","v":0},10]
[null,{"$f":"陸連登録!N10","v":0},null,null,{"$f":"陸連登録!M10","v":0},{"$f":"陸連登録!C10","v":0},{"$f":"陸連登録!D10","v":0},0,{"$f":"陸連登録!A10","v":""},{"$f":"陸連登録!P10","v":0},{"$f":"LEFT(陸連登録!L10,4)","v":""},{"$f":"RIGHT(陸連登録!L10,4)","v":""},{"$f":"陸連登録!F10","v":0},{"$f":"陸連登録!B10","v":0},null,"",null,"","",null,"",null,null,{"$f":"IF(W15=\"\",\"\",IF(I15=1,VLOOKUP(W15,男子種目コード!$A$1:$B$33,2,FALSE),IF(I15=2,VLOOKUP(W15,女子種目コード!$A$1:$B$28,2,FALSE))))","v":""},null,null,{"$f":"IF(Z15=\"\",\"\",IF(I15=1,VLOOKUP(Z15,男子種目コード!$A$1:$B$33,2,FALSE),IF(V15=2,VLOOKUP(I15,女子種目コード!$A$1:$B$28,2,FALSE))))","v":""},null,null,{"$f":"IF(AC15=\"\",\"\",IF(I15=1,VLOOKUP(AC15,男子種目コード!$A$1:$B$33,2,FALSE),IF(Y15=2,VLOOKUP(I15,女子種目コード!$A$1:$B$28,2,FALSE))))","v":""},null,0,"","","","",null,null,"100m",{"$f":"COUNTIF($P$7:$P$116,11)+COUNTIF($U$7:$U$116,11)","v":0},11]
[null,{"$f":"陸連登録!N11","v":0},null,null,{"$f":"陸連登録!M11","v":0},{"$f":"陸連登録!C11","v":0},{"$f":"陸連登録!D11","v":0},0,{"$f":"陸連登録!A11","v":""},{"$f":"陸連登録!P11","v":0},{"$f":"LEFT(陸連登録!L11,4)","v":""},{"$f":"RIGHT(陸連登録!L11,4)","v":""},{"$f":"陸連登録!F11","v":0},{"$f":"陸連登録!B11","v":0},null,"",null,"","",null,"",null,null,{"$f":"IF(W16=\"\",\"\",IF(I16=1,VLOOKUP(W16,男子種目コード!$A$1:$B$33,2,FALSE),IF(I16=2,VLOOKUP(W16,女子種目コード!$A$1:$B$28,2,FALSE))))","v":""},null,null,{"$f":"IF(Z16=\"\",\"\",IF(I16=1,VLOOKUP(Z16,男子種目コード!$A$1:$B$33,2,FALSE),IF(V16=2,VLOOKUP(I16,女子種目コード!$A$1:$B$28,2,FALSE))))","v":""},null,null,{"$f":"IF(AC16=\"\",\"\",IF(I16=1,VLOOKUP(AC16,男子種目コード!$A$1:$B$33,2,FALSE),IF(Y16=2,VLOOKUP(I16,女子種目コード!$A$1:$B$28,2,FALSE))))","v":""},null,0,"","","","",null,null,"200m",{"$f":"COUNTIF($P$7:$P$116,12)+COUNTIF($U$7:$U$116,12)","v":0},12]
[null,{"$f":"陸連登録!N12","v":0},null,null,{"$f":"陸連登録!M12","v":0},{"$f":"陸連登録!C12","v":0},{"$f":"陸連登録!D12","v":0},0,{"$f":"陸連登録!A12","v":""},{"$f":"陸連登録!P12","v":0},{"$f":"LEFT(陸連登録!L12,4)","v":""},{"$f":"RIGHT(陸連登録!L12,4)","v":""},{"$f":"陸連登録!F12","v":0},{"$f":"陸連登録!B12","v":0},null,"",null,"","",null,"",null,null,{"$f":"IF(W17=\"\",\"\",IF(I17=1,VLOOKUP(W17,男子種目コード!$A$1:$B$33,2,FALSE),IF(I17=2,VLOOKUP(W17,女子種目コード!$A$1:$B$28,2,FALSE))))","v":""},null,null,{"$f":"IF(Z17=\"\",\"\",IF(I17=1,VLOOKUP(Z17,男子種目コード!$A$1:$B$33,2,FALSE),IF(V17=2,VLOOKUP(I17,女子種目コード!$A$1:$B$28,2,FALSE))))","v":""},null,null,{"$f":"IF(AC17=\"\",\"\",IF(I17=1,VLOOKUP(AC17,男子種目コード!$A$1:$B$33,2,FALSE),IF(Y17=2,VLOOKUP(I17,女子種目コード!$A$1:$B$28,2,FALSE))))","v":""},null,0,"","","","",null,null,"800m",{"$f":"COUNTIF($P$7:$P$116,13)+COUNTIF($U$7:$U$116,13)","v":0},13]
[null,{"$f":"陸連登録!N13","v":0},null,null,{"$f":"陸連登録!M13","v":0},{"$f":"陸連登録!C13","v":0},{"$f":"陸連登録!D13","v":0},0,{"$f":"陸連登録!A13","v":""},{"$f":"陸連登録!P13","v":0},{"$f":"LEFT(陸連登録!L13,4)","v":""},{"$f":"RIGHT(陸連登録!L13,4)","v":""},{"$f":"陸連登録!F13","v":0},{"$f":"陸連登録!B13","v":0},null,"",null,"","",null,"",null,null,{"$f":"IF(W18=\"\",\"\",IF(I18=1,VLOOKUP(W18,男子種目コード!$A$1:$B$33,2,FALSE),IF(I18=2,VLOOKUP(W18,女子種目コード!$A$1:$B$28,2,FALSE))))","v":""},null,null,{"$f":"IF(Z18=\"\",\"\",IF(I18=1,VLOOKUP(Z18,男子種目コード!$A$1:$B$33,2,FALSE),IF(V18=2,VLOOKUP(I18,女子種目コード!$A$1:$B$28,2,FALSE))))","v":""},null,null,{"$f":"IF(AC18=\"\",\"\",IF(I18=1,VLOOKUP(AC18,男子種目コード!$A$1:$B$33,2,FALSE),IF(Y18=2,VLOOKUP(I18,女子種目コード!$A$1:$B$28,2,FALSE))))","v":""},null,0,"","","","",null,null,"1500m",{"$f":"COUNTIF($P$7:$P$116,14)+COUNTIF($U$7:$U$116,14)","v":0},14]
[null,{"$f":"陸連登録!N14","v":0},null,null,{"$f":"陸連登録!M14","v":0},{"$f":"陸連登録!C14","v":0},{"$f":"陸連登録!D14","v":0},0,{"$f":"陸連登録!A14","v":""},{"$f":"陸連登録!P14","v":0},{"$f":"LEFT(陸連登録!L14,4)","v":""},{"$f":"RIGHT(陸連登録!L14,4)","v":""},{"$f":"陸連登録!F14","v":0},{"$f":"陸連登録!B14","v":0},null,"",null,"","",null,"",null,null,{"$f":"IF(W19=\"\",\"\",IF(I19=1,VLOOKUP(W19,男子種目コード!$A$1:$B$33,2,FALSE),IF(I19=2,VLOOKUP(W19,女子種目コード!$A$1:$B$28,2,FALSE))))","v":""},null,null,{"$f":"IF(Z19=\"\",\"\",IF(I19=1,VLOOKUP(Z19,男子種目コード!$A$1:$B$33,2,FALSE),IF(V19=2,VLOOKUP(I19,女子種目コード!$A$1:$B$28,2,FALSE))))","v":""},null,null,{"$f":"IF(AC19=\"\",\"\",IF(I19=1,VLOOKUP(AC19,男子種目コード!$A$1:$B$33,2,FALSE),IF(Y19=2,VLOOKUP(I19,女子種目コード!$A$1:$B$28,2,FALSE))))","v":""},null,0,"","","","",null,null,"棒高跳",{"$f":"COUNTIF($P$7:$P$116,15)+COUNTIF($U$7:$U$116,15)","v":0},15]
[null,{"$f":"陸連登録!N15","v":0},null,null,{"$f":"陸連登録!M15","v":0},{"$f":"陸連登録!C15","v":0},{"$f":"陸連登録!D15","v":0},0,{"$f":"陸連登録!A15","v":""},{"$f":"陸連登録!P15","v":0},{"$f":"LEFT(陸連登録!L15,4)","v":""},{"$f":"RIGHT(陸連登録!L15,4)","v":""},{"$f":"陸連登録!F15","v":0},{"$f":"陸連登録!B15","v":0},null,"",null,"","",null,"",null,null,{"$f":"IF(W20=\"\",\"\",IF(I20=1,VLOOKUP(W20,男子種目コード!$A$1:$B$33,2,FALSE),IF(I20=2,VLOOKUP(W20,女子種目コード!$A$1:$B$28,2,FALSE))))","v":""},null,null,{"$f":"IF(Z20=\"\",\"\",IF(I20=1,VLOOKUP(Z20,男子種目コード!$A$1:$B$33,2,FALSE),IF(V20=2,VLOOKUP(I20,女子種目コード!$A$1:$B$28,2,FALSE))))","v":""},null,null,{"$f":"IF(AC20=\"\",\"\",IF(I20=1,VLOOKUP(AC20,男子種目コード!$A$1:$B$33,2,FALSE),IF(Y20=2,VLOOKUP(I20,女子種目コード!$A$1:$B$28,2,FALSE))))","v":""},null,0,"","","","",null,null,"ｼﾞｬﾍﾞﾘｯｸ",{"$f":"COUNTIF($P$7:$P$116,16)+COUNTIF($U$7:$U$116,16)","v":0},16]
[null,{"$f":"陸連登録!N16","v":0},null,null,{"$f":"陸連登録!M16","v":0},{"$f":"陸連登録!C16","v":0},{"$f":"陸連登録!D16","v":0},0,{"$f":"陸連登録!A16","v":""},{"$f":"陸連登録!P16","v":0},{"$f":"LEFT(陸連登録!L16,4)","v":""},{"$f":"RIGHT(陸連登録!L16,4)","v":""},{"$f":"陸連登録!F16","v":0},{"$f":"陸連登録!B16","v":0},null,"",null,"","",null,"",null,null,{"$f":"IF(W21=\"\",\"\",IF(I21=1,VLOOKUP(W21,男子種目コード!$A$1:$B$33,2,FALSE),IF(I21=2,VLOOKUP(W21,女子種目コード!$A$1:$B$28,2,FALSE))))","v":""},null,null,{"$f":"IF(Z21=\"\",\"\",IF(I21=1,VLOOKUP(Z21,男子種目コード!$A$1:$B$33,2,FALSE),IF(V21=2,VLOOKUP(I21,女子種目コード!$A$1:$B$28,2,FALSE))))","v":""},null,null,{"$f":"IF(AC21=\"\",\"\",IF(I21=1,VLOOKUP(AC21,男子種目コード!$A$1:$B$33,2,FALSE),IF(Y21=2,VLOOKUP(I21,女子種目コード!$A$1:$B$28,2,FALSE))))","v":""},null,0,"","","","",null,null,"参加競技数"]
[null,{"$f":"陸連登録!N17","v":0},null,null,{"$f":"陸連登録!M17","v":0},{"$f":"陸連登録!C17","v":0},{"$f":"陸連登録!D17","v":0},0,{"$f":"陸連登録!A17","v":""},{"$f":"陸連登録!P17","v":0},{"$f":"LEFT(陸連登録!L17,4)","v":""},{"$f":"RIGHT(陸連登録!L17,4)","v":""},{"$f":"陸連登録!F17","v":0},{"$f":"陸連登録!B17","v":0},null,"",null,"","",null,"",null,null,{"$f":"IF(W22=\"\",\"\",IF(I22=1,VLOOKUP(W22,男子種目コード!$A$1:$B$33,2,FALSE),IF(I22=2,VLOOKUP(W22,女子種目コード!$A$1:$B$28,2,FALSE))))","v":""},null,null,{"$f":"IF(Z22=\"\",\"\",IF(I22=1,VLOOKUP(Z22,男子種目コード!$A$1:$B$33,2,FALSE),IF(V22=2,VLOOKUP(I22,女子種目コード!$A$1:$B$28,2,FALSE))))","v":""},null,null,{"$f":"IF(AC22=\"\",\"\",IF(I22=1,VLOOKUP(AC22,男子種目コード!$A$1:$B$33,2,FALSE),IF(Y22=2,VLOOKUP(I22,女子種目コード!$A$1:$B$28,2,FALSE))))","v":""},null,0,"","","","",null,null,"男子",{"$f":"SUM(AN7:AN13)","v":0}]
[null,{"$f":"陸連登録!N18","v":0},null,null,{"$f":"陸連登録!M18","v":0},{"$f":"陸連登録!C18","v":0},{"$f":"陸連登録!D18","v":0},0,{"$f":"陸連登録!A18","v":""},{"$f":"陸連登録!P18","v":0},{"$f":"LEFT(陸連登録!L18,4)","v":""},{"$f":"RIGHT(陸連登録!L18,4)","v":""},{"$f":"陸連登録!F18","v":0},{"$f":"陸連登録!B18","v":0},null,"",null,"","",null,"",null,null,{"$f":"IF(W23=\"\",\"\",IF(I23=1,VLOOKUP(W23,男子種目コード!$A$1:$B$33,2,FALSE),IF(I23=2,VLOOKUP(W23,女子種目コード!$A$1:$B$28,2,FALSE))))","v":""},null,null,{"$f":"IF(Z23=\"\",\"\",IF(I23=1,VLOOKUP(Z23,男子種目コード!$A$1:$B$33,2,FALSE),IF(V23=2,VLOOKUP(I23,女子種目コード!$A$1:$B$28,2,FALSE))))","v":""},null,null,{"$f":"IF(AC23=\"\",\"\",IF(I23=1,VLOOKUP(AC23,男子種目コード!$A$1:$B$33,2,FALSE),IF(Y23=2,VLOOKUP(I23,女子種目コード!$A$1:$B$28,2,FALSE))))","v":""},null,0,"","","","",null,null,"女子",{"$f":"SUM(AN14:AN19)","v":0}]
[null,{"$f":"陸連登録!N19","v":0},null,null,{"$f":"陸連登録!M19","v":0},{"$f":"陸連登録!C19","v":0},{"$f":"陸連登録!D19","v":0},0,{"$f":"陸連登録!A19","v":""},{"$f":"陸連登録!P19","v":0},{"$f":"LEFT(陸連登録!L19,4)","v":""},{"$f":"RIGHT(陸連登録!L19,4)","v":""},{"$f":"陸連登録!F19","v":0},{"$f":"陸連登録!B19","v":0},null,"",null,"","",null,"",null,null,{"$f":"IF(W24=\"\",\"\",IF(I24=1,VLOOKUP(W24,男子種目コード!$A$1:$B$33,2,FALSE),IF(I24=2,VLOOKUP(W24,女子種目コード!$A$1:$B$28,2,FALSE))))","v":""},null,null,{"$f":"IF(Z24=\"\",\"\",IF(I24=1,VLOOKUP(Z24,男子種目コード!$A$1:$B$33,2,FALSE),IF(V24=2,VLOOKUP(I24,女子種目コード!$A$1:$B$28,2,FALSE))))","v":""},null,null,{"$f":"IF(AC24=\"\",\"\",IF(I24=1,VLOOKUP(AC24,男子種目コード!$A$1:$B$33,2,FALSE),IF(Y24=2,VLOOKUP(I24,女子種目コード!$A$1:$B$28,2,FALSE))))","v":""},null,0,"","","","",null,null,"計",{"$f":"SUM(AN22:AN23)","v":0}]
[null,{"$f":"陸連登録!N20","v":0},null,null,{"$f":"陸連登録!M20","v":0},{"$f":"陸連登録!C20","v":0},{"$f":"陸連登録!D20","v":0},0,{"$f":"陸連登録!A20","v":""},{"$f":"陸連登録!P20","v":0},{"$f":"LEFT(陸連登録!L20,4)","v":""},{"$f":"RIGHT(陸連登録!L20,4)","v":""},{"$f":"陸連登録!F20","v":0},{"$f":"陸連登録!B20","v":0},null,"",null,"","",null,"",null,null,{"$f":"IF(W25=\"\",\"\",IF(I25=1,VLOOKUP(W25,男子種目コード!$A$1:$B$33,2,FALSE),IF(I25=2,VLOOKUP(W25,女子種目コード!$A$1:$B$28,2,FALSE))))","v":""},null,null,{"$f":"IF(Z25=\"\",\"\",IF(I25=1,VLOOKUP(Z25,男子種目コード!$A$1:$B$33,2,FALSE),IF(V25=2,VLOOKUP(I25,女子種目コード!$A$1:$B$28,2,FALSE))))","v":""},null,null,{"$f":"IF(AC25=\"\",\"\",IF(I25=1,VLOOKUP(AC25,男子種目コード!$A$1:$B$33,2,FALSE),IF(Y25=2,VLOOKUP(I25,女子種目コード!$A$1:$B$28,2,FALSE))))","v":""},null,0,"","","",""]
[null,{"$f":"陸連登録!N21","v":0},null,null,{"$f":"陸連登録!M21","v":0},{"$f":"陸連登録!C21","v":0},{"$f":"陸連登録!D21","v":0},0,{"$f":"陸連登録!A21","v":""},{"$f":"陸連登録!P21","v":0},{"$f":"LEFT(陸連登録!L21,4)","v":""},{"$f":"RIGHT(陸連登録!L21,4)","v":""},{"$f":"陸連登録!F21","v":0},{"$f":"陸連登録!B21","v":0},null,"",null,"","",null,"",null,null,{"$f":"IF(W26=\"\",\"\",IF(I26=1,VLOOKUP(W26,男子種目コード!$A$1:$B$33,2,FALSE),IF(I26=2,VLOOKUP(W26,女子種目コード!$A$1:$B$28,2,FALSE))))","v":""},null,null,{"$f":"IF(Z26=\"\",\"\",IF(I26=1,VLOOKUP(Z26,男子種目コード!$A$1:$B$33,2,FALSE),IF(V26=2,VLOOKUP(I26,女子種目コード!$A$1:$B$28,2,FALSE))))","v":""},null,null,{"$f":"IF(AC26=\"\",\"\",IF(I26=1,VLOOKUP(AC26,男子種目コード!$A$1:$B$33,2,FALSE),IF(Y26=2,VLOOKUP(I26,女子種目コード!$A$1:$B$28,2,FALSE))))","v":""},null,0,"","","",""]
[null,{"$f":"陸連登録!N22","v":0},null,null,{"$f":"陸連登録!M22","v":0},{"$f":"陸連登録!C22","v":0},{"$f":"陸連登録!D22","v":0},0,{"$f":"陸連登録!A22","v":""},{"$f":"陸連登録!P22","v":0},{"$f":"LEFT(陸連登録!L22,4)","v":""},{"$f":"RIGHT(陸連登録!L22,4)","v":""},{"$f":"陸連登録!F22","v":0},{"$f":"陸連登録!B22","v":0},null,"",null,"","",null,"",null,null,{"$f":"IF(W27=\"\",\"\",IF(I27=1,VLOOKUP(W27,男子種目コード!$A$1:$B$33,2,FALSE),IF(I27=2,VLOOKUP(W27,女子種目コード!$A$1:$B$28,2,FALSE))))","v":""},null,null,{"$f":"IF(Z27=\"\",\"\",IF(I27=1,VLOOKUP(Z27,男子種目コード!$A$1:$B$33,2,FALSE),IF(V27=2,VLOOKUP(I27,女子種目コード!$A$1:$B$28,2,FALSE))))","v":""},null,null,{"$f":"IF(AC27=\"\",\"\",IF(I27=1,VLOOKUP(AC27,男子種目コード!$A$1:$B$33,2,FALSE),IF(Y27=2,VLOOKUP(I27,女子種目コード!$A$1:$B$28,2,FALSE))))","v":""},null,0,"","","",""]
[null,{"$f":"陸連登録!N23","v":0},null,null,{"$f":"陸連登録!M23","v":0},{"$f":"陸連登録!C23","v":0},{"$f":"陸連登録!D23","v":0},0,{"$f":"陸連登録!A23","v":""},{"$f":"陸連登録!P23","v":0},{"$f":"LEFT(陸連登録!L23,4)","v":""},{"$f":"RIGHT(陸連登録!L23,4)","v":""},{"$f":"陸連登録!F23","v":0},{"$f":"陸連登録!B23","v":0},null,"",null,"","",null,"",null,null,{"$f":"IF(W28=\"\",\"\",IF(I28=1,VLOOKUP(W28,男子種目コード!$A$1:$B$33,2,FALSE),IF(I28=2,VLOOKUP(W28,女子種目コード!$A$1:$B$28,2,FALSE))))","v":""},null,null,{"$f":"IF(Z28=\"\",\"\",IF(I28=1,VLOOKUP(Z28,男子種目コード!$A$1:$B$33,2,FALSE),IF(V28=2,VLOOKUP(I28,女子種目コード!$A$1:$B$28,2,FALSE))))","v":""},null,null,{"$f":"IF(AC28=\"\",\"\",IF(I28=1,VLOOKUP(AC28,男子種目コード!$A$1:$B$33,2,FALSE),IF(Y28=2,VLOOKUP(I28,女子種目コード!$A$1:$B$28,2,FALSE))))","v":""},null,0,"","","",""]
[null,{"$f":"陸連登録!N24","v":0},null,null,{"$f":"陸連登録!M24","v":0},{"$f":"陸連登録!C24","v":0},{"$f":"陸連登録!D24","v":0},0,{"$f":"陸連登録!A24","v":""},{"$f":"陸連登録!P24","v":0},{"$f":"LEFT(陸連登録!L24,4)","v":""},{"$f":"RIGHT(陸連登録!L24,4)","v":""},{"$f":"陸連登録!F24","v":0},{"$f":"陸連登録!B24","v":0},null,"",null,"","",null,"",null,null,{"$f":"IF(W29=\"\",\"\",IF(I29=1,VLOOKUP(W29,男子種目コード!$A$1:$B$33,2,FALSE),IF(I29=2,VLOOKUP(W29,女子種目コード!$A$1:$B$28,2,FALSE))))","v":""},null,null,{"$f":"IF(Z29=\"\",\"\",IF(I29=1,VLOOKUP(Z29,男子種目コード!$A$1:$B$33,2,FALSE),IF(V29=2,VLOOKUP(I29,女子種目コード!$A$1:$B$28,2,FALSE))))","v":""},null,null,{"$f":"IF(AC29=\"\",\"\",IF(I29=1,VLOOKUP(AC29,男子種目コード!$A$1:$B$33,2,FALSE),IF(Y29=2,VLOOKUP(I29,女子種目コード!$A$1:$B$28,2,FALSE))))","v":""},null,0,"","","",""]
[null,{"$f":"陸連登録!N25","v":0},null,null,{"$f":"陸連登録!M25","v":0},{"$f":"陸連登録!C25","v":0},{"$f":"陸連登録!D25","v":0},0,{"$f":"陸連登録!A25","v":""},{"$f":"陸連登録!P25","v":0},{"$f":"LEFT(陸連登録!L25,4)","v":""},{"$f":"RIGHT(陸連登録!L25,4)","v":""},{"$f":"陸連登録!F25","v":0},{"$f":"陸連登録!B25","v":0},null,"",null,"","",null,"",null,null,{"$f":"IF(W30=\"\",\"\",IF(I30=1,VLOOKUP(W30,男子種目コード!$A$1:$B$33,2,FALSE),IF(I30=2,VLOOKUP(W30,女子種目コード!$A$1:$B$28,2,FALSE))))","v":""},null,null,{"$f":"IF(Z30=\"\",\"\",IF(I30=1,VLOOKUP(Z30,男子種目コード!$A$1:$B$33,2,FALSE),IF(V30=2,VLOOKUP(I30,女子種目コード!$A$1:$B$28,2,FALSE))))","v":""},null,null,{"$f":"IF(AC30=\"\",\"\",IF(I30=1,VLOOKUP(AC30,男子種目コード!$A$1:$B$33,2,FALSE),IF(Y30=2,VLOOKUP(I30,女子種目コード!$A$1:$B$28,2,FALSE))))","v":""},null,0,"","","",""]
[null,{"$f":"陸連登録!N26","v":0},null,null,{"$f":"陸連登録!M26","v":0},{"$f":"陸連登録!C26","v":0},{"$f":"陸連登録!D26","v":0},0,{"$f":"陸連登録!A26","v":""},{"$f":"陸連登録!P26","v":0},{"$f":"LEFT(陸連登録!L26,4)","v":""},{"$f":"RIGHT(陸連登録!L26,4)","v":""},{"$f":"陸連登録!F26","v":0},{"$f":"陸連登録!B26","v":0},null,"",null,"","",null,"",null,null,{"$f":"IF(W31=\"\",\"\",IF(I31=1,VLOOKUP(W31,男子種目コード!$A$1:$B$33,2,FALSE),IF(I31=2,VLOOKUP(W31,女子種目コード!$A$1:$B$28,2,FALSE))))","v":""},null,null,{"$f":"IF(Z31=\"\",\"\",IF(I31=1,VLOOKUP(Z31,男子種目コード!$A$1:$B$33,2,FALSE),IF(V31=2,VLOOKUP(I31,女子種目コード!$A$1:$B$28,2,FALSE))))","v":""},null,null,{"$f":"IF(AC31=\"\",\"\",IF(I31=1,VLOOKUP(AC31,男子種目コード!$A$1:$B$33,2,FALSE),IF(Y31=2,VLOOKUP(I31,女子種目コード!$A$1:$B$28,2,FALSE))))","v":""},null,0,"","","",""]
[null,{"$f":"陸連登録!N27","v":0},null,null,{"$f":"陸連登録!M27","v":0},{"$f":"陸連登録!C27","v":0},{"$f":"陸連登録!D27","v":0},0,{"$f":"陸連登録!A27","v":""},{"$f":"陸連登録!P27","v":0},{"$f":"LEFT(陸連登録!L27,4)","v":""},{"$f":"RIGHT(陸連登録!L27,4)","v":""},{"$f":"陸連登録!F27","v":0},{"$f":"陸連登録!B27","v":0},null,"",null,"","",null,"",null,null,{"$f":"IF(W32=\"\",\"\",IF(I32=1,VLOOKUP(W32,男子種目コード!$A$1:$B$33,2,FALSE),IF(I32=2,VLOOKUP(W32,女子種目コード!$A$1:$B$28,2,FALSE))))","v":""},null,null,{"$f":"IF(Z32=\"\",\"\",IF(I32=1,VLOOKUP(Z32,男子種目コード!$A$1:$B$33,2,FALSE),IF(V32=2,VLOOKUP(I32,女子種目コード!$A$1:$B$28,2,FALSE))))","v":""},null,null,{"$f":"IF(AC32=\"\",\"\",IF(I32=1,VLOOKUP(AC32,男子種目コード!$A$1:$B$33,2,FALSE),IF(Y32=2,VLOOKUP(I32,女子種目コード!$A$1:$B$28,2,FALSE))))","v":""},null,0,"","","",""]
[null,{"$f":"陸連登録!N28","v":0},null,null,{"$f":"陸連登録!M28","v":0},{"$f":"陸連登録!C28","v":0},{"$f":"陸連登録!D28","v":0},0,{"$f":"陸連登録!A28","v":""},{"$f":"陸連登録!P28","v":0},{"$f":"LEFT(陸連登録!L28,4)","v":""},{"$f":"RIGHT(陸連登録!L28,4)","v":""},{"$f":"陸連登録!F28","v":0},{"$f":"陸連登録!B28","v":0},null,"",null,"","",null,"",null,null,{"$f":"IF(W33=\"\",\"\",IF(I33=1,VLOOKUP(W33,男子種目コード!$A$1:$B$33,2,FALSE),IF(I33=2,VLOOKUP(W33,女子種目コード!$A$1:$B$28,2,FALSE))))","v":""},null,null,{"$f":"IF(Z33=\"\",\"\",IF(I33=1,VLOOKUP(Z33,男子種目コード!$A$1:$B$33,2,FALSE),IF(V33=2,VLOOKUP(I33,女子種目コード!$A$1:$B$28,2,FALSE))))","v":""},null,null,{"$f":"IF(AC33=\"\",\"\",IF(I33=1,VLOOKUP(AC33,男子種目コード!$A$1:$B$33,2,FALSE),IF(Y33=2,VLOOKUP(I33,女子種目コード!$A$1:$B$28,2,FALSE))))","v":""},null,0,"","","",""]
[null,{"$f":"陸連登録!N29","v":0},null,null,{"$f":"陸連登録!M29","v":0},{"$f":"陸連登録!C29","v":0},{"$f":"陸連登録!D29","v":0},0,{"$f":"陸連登録!A29","v":""},{"$f":"陸連登録!P29","v":0},{"$f":"LEFT(陸連登録!L29,4)","v":""},{"$f":"RIGHT(陸連登録!L29,4)","v":""},{"$f":"陸連登録!F29","v":0},{"$f":"陸連登録!B29","v":0},null,"",null,"","",null,"",null,null,{"$f":"IF(W34=\"\",\"\",IF(I34=1,VLOOKUP(W34,男子種目コード!$A$1:$B$33,2,FALSE),IF(I34=2,VLOOKUP(W34,女子種目コード!$A$1:$B$28,2,FALSE))))","v":""},null,null,{"$f":"IF(Z34=\"\",\"\",IF(I34=1,VLOOKUP(Z34,男子種目コード!$A$1:$B$33,2,FALSE),IF(V34=2,VLOOKUP(I34,女子種目コード!$A$1:$B$28,2,FALSE))))","v":""},null,null,{"$f":"IF(AC34=\"\",\"\",IF(I34=1,VLOOKUP(AC34,男子種目コード!$A$1:$B$33,2,FALSE),IF(Y34=2,VLOOKUP(I34,女子種目コード!$A$1:$B$28,2,FALSE))))","v":""},null,0,"","","",""]
[null,{"$f":"陸連登録!N30","v":0},null,null,{"$f":"陸連登録!M30","v":0},{"$f":"陸連登録!C30","v":0},{"$f":"陸連登録!D30","v":0},0,{"$f":"陸連登録!A30","v":""},{"$f":"陸連登録!P30","v":0},{"$f":"LEFT(陸連登録!L30,4)","v":""},{"$f":"RIGHT(陸連登録!L30,4)","v":""},{"$f":"陸連登録!F30","v":0},{"$f":"陸連登録!B30","v":0},null,"",null,"","",null,"",null,null,{"$f":"IF(W35=\"\",\"\",IF(I35=1,VLOOKUP(W35,男子種目コード!$A$1:$B$33,2,FALSE),IF(I35=2,VLOOKUP(W35,女子種目コード!$A$1:$B$28,2,FALSE))))","v":""},null,null,{"$f":"IF(Z35=\"\",\"\",IF(I35=1,VLOOKUP(Z35,男子種目コード!$A$1:$B$33,2,FALSE),IF(V35=2,VLOOKUP(I35,女子種目コード!$A$1:$B$28,2,FALSE))))","v":""},null,null,{"$f":"IF(AC35=\"\",\"\",IF(I35=1,VLOOKUP(AC35,男子種目コード!$A$1:$B$33,2,FALSE),IF(Y35=2,VLOOKUP(I35,女子種目コード!$A$1:$B$28,2,FALSE))))","v":""},null,0,"","","",""]
[null,{"$f":"陸連登録!N31","v":0},null,null,{"$f":"陸連登録!M31","v":0},{"$f":"陸連登録!C31","v":0},{"$f":"陸連登録!D31","v":0},0,{"$f":"陸連登録!A31","v":""},{"$f":"陸連登録!P31","v":0},{"$f":"LEFT(陸連登録!L31,4)","v":""},{"$f":"RIGHT(陸連登録!L31,4)","v":""},{"$f":"陸連登録!F31","v":0},{"$f":"陸連登録!B31","v":0},null,"",null,"","",null,"",null,null,{"$f":"IF(W36=\"\",\"\",IF(I36=1,VLOOKUP(W36,男子種目コード!$A$1:$B$33,2,FALSE),IF(I36=2,VLOOKUP(W36,女子種目コード!$A$1:$B$28,2,FALSE))))","v":""},null,null,{"$f":"IF(Z36=\"\",\"\",IF(I36=1,VLOOKUP(Z36,男子種目コード!$A$1:$B$33,2,FALSE),IF(V36=2,VLOOKUP(I36,女子種目コード!$A$1:$B$28,2,FALSE))))","v":""},null,null,{"$f":"IF(AC36=\"\",\"\",IF(I36=1,VLOOKUP(AC36,男子種目コード!$A$1:$B$33,2,FALSE),IF(Y36=2,VLOOKUP(I36,女子種目コード!$A$1:$B$28,2,FALSE))))","v":""},null,0,"","","",""]
[null,{"$f":"陸連登録!N32","v":0},null,null,{"$f":"陸連登録!M32","v":0},{"$f":"陸連登録!C32","v":0},{"$f":"陸連登録!D32","v":0},0,{"$f":"陸連登録!A32","v":""},{"$f":"陸連登録!P32","v":0},{"$f":"LEFT(陸連登録!L32,4)","v":""},{"$f":"RIGHT(陸連登録!L32,4)","v":""},{"$f":"陸連登録!F32","v":0},{"$f":"陸連登録!B32","v":0},null,"",null,"","",null,"",null,null,{"$f":"IF(W37=\"\",\"\",IF(I37=1,VLOOKUP(W37,男子種目コード!$A$1:$B$33,2,FALSE),IF(I37=2,VLOOKUP(W37,女子種目コード!$A$1:$B$28,2,FALSE))))","v":""},null,null,{"$f":"IF(Z37=\"\",\"\",IF(I37=1,VLOOKUP(Z37,男子種目コード!$A$1:$B$33,2,FALSE),IF(V37=2,VLOOKUP(I37,女子種目コード!$A$1:$B$28,2,FALSE))))","v":""},null,null,{"$f":"IF(AC37=\"\",\"\",IF(I37=1,VLOOKUP(AC37,男子種目コード!$A$1:$B$33,2,FALSE),IF(Y37=2,VLOOKUP(I37,女子種目コード!$A$1:$B$28,2,FALSE))))","v":""},null,0,"","","",""]
[null,{"$f":"陸連登録!N33","v":0},null,null,{"$f":"陸連登録!M33","v":0},{"$f":"陸連登録!C33","v":0},{"$f":"陸連登録!D33","v":0},0,{"$f":"陸連登録!A33","v":""},{"$f":"陸連登録!P33","v":0},{"$f":"LEFT(陸連登録!L33,4)","v":""},{"$f":"RIGHT(陸連登録!L33,4)","v":""},{"$f":"陸連登録!F33","v":0},{"$f":"陸連登録!B33","v":0},null,"",null,"","",null,"",null,null,{"$f":"IF(W38=\"\",\"\",IF(I38=1,VLOOKUP(W38,男子種目コード!$A$1:$B$33,2,FALSE),IF(I38=2,VLOOKUP(W38,女子種目コード!$A$1:$B$28,2,FALSE))))","v":""},null,null,{"$f":"IF(Z38=\"\",\"\",IF(I38=1,VLOOKUP(Z38,男子種目コード!$A$1:$B$33,2,FALSE),IF(V38=2,VLOOKUP(I38,女子種目コード!$A$1:$B$28,2,FALSE))))","v":""},null,null,{"$f":"IF(AC38=\"\",\"\",IF(I38=1,VLOOKUP(AC38,男子種目コード!$A$1:$B$33,2,FALSE),IF(Y38=2,VLOOKUP(I38,女子種目コード!$A$1:$B$28,2,FALSE))))","v":""},null,0,"","","",""]
[null,{"$f":"陸連登録!N34","v":0},null,null,{"$f":"陸連登録!M34","v":0},{"$f":"陸連登録!C34","v":0},{"$f":"陸連登録!D34","v":0},0,{"$f":"陸連登録!A34","v":""},{"$f":"陸連登録!P34","v":0},{"$f":"LEFT(陸連登録!L34,4)","v":""},{"$f":"RIGHT(陸連登録!L34,4)","v":""},{"$f":"陸連登録!F34","v":0},{"$f":"陸連登録!B34","v":0},null,{"$f":"IF(O39=\"\",\"\",IF(I39=1,VLOOKUP(O39,$AM$7:$AO$13,3,FALSE),IF(I39=2,VLOOKUP(O39,$AM$14:$AO$20,3,FALSE))))","v":""},null,"","",null,{"$f":"IF(T39=\"\",\"\",IF(I39=1,VLOOKUP(T39,$AM$7:$AO$13,3,FALSE),IF(I39=2,VLOOKUP(T39,$AM$14:$AO$20,3,FALSE))))","v":""},null,null,{"$f":"IF(W39=\"\",\"\",IF(I39=1,VLOOKUP(W39,男子種目コード!$A$1:$B$33,2,FALSE),IF(I39=2,VLOOKUP(W39,女子種目コード!$A$1:$B$28,2,FALSE))))","v":""},null,null,{"$f":"IF(Z39=\"\",\"\",IF(I39=1,VLOOKUP(Z39,男子種目コード!$A$1:$B$33,2,FALSE),IF(V39=2,VLOOKUP(I39,女子種目コード!$A$1:$B$28,2,FALSE))))","v":""},null,null,{"$f":"IF(AC39=\"\",\"\",IF(I39=1,VLOOKUP(AC39,男子種目コード!$A$1:$B$33,2,FALSE),IF(Y39=2,VLOOKUP(I39,女子種目コード!$A$1:$B$28,2,FALSE))))","v":""},null,0,"","","",""]
[null,{"$f":"陸連登録!N35","v":0},null,null,{"$f":"陸連登録!M35","v":0},{"$f":"陸連登録!C35","v":0},{"$f":"陸連登録!D35","v":0},0,{"$f":"陸連登録!A35","v":""},{"$f":"陸連登録!P35","v":0},{"$f":"LEFT(陸連登録!L35,4)","v":""},{"$f":"RIGHT(陸連登録!L35,4)","v":""},{"$f":"陸連登録!F35","v":0},{"$f":"陸連登録!B35","v":0},null,"",null,"","",null,"",null,null,{"$f":"IF(W40=\"\",\"\",IF(I40=1,VLOOKUP(W40,男子種目コード!$A$1:$B$33,2,FALSE),IF(I40=2,VLOOKUP(W40,女子種目コード!$A$1:$B$28,2,FALSE))))","v":""},null,null,{"$f":"IF(Z40=\"\",\"\",IF(I40=1,VLOOKUP(Z40,男子種目コード!$A$1:$B$33,2,FALSE),IF(V40=2,VLOOKUP(I40,女子種目コード!$A$1:$B$28,2,FALSE))))","v":""},null,null,{"$f":"IF(AC40=\"\",\"\",IF(I40=1,VLOOKUP(AC40,男子種目コード!$A$1:$B$33,2,FALSE),IF(Y40=2,VLOOKUP(I40,女子種目コード!$A$1:$B$28,2,FALSE))))","v":""},null,0,"","","",""]
[null,{"$f":"陸連登録!N36","v":0},null,null,{"$f":"陸連登録!M36","v":0},{"$f":"陸連登録!C36","v":0},{"$f":"陸連登録!D36","v":0},0,{"$f":"陸連登録!A36","v":""},{"$f":"陸連登録!P36","v":0},{"$f":"LEFT(陸連登録!L36,4)","v":""},{"$f":"RIGHT(陸連登録!L36,4)","v":""},{"$f":"陸連登録!F36","v":0},{"$f":"陸連登録!B36","v":0},null,"",null,"","",null,"",null,null,{"$f":"IF(W41=\"\",\"\",IF(I41=1,VLOOKUP(W41,男子種目コード!$A$1:$B$33,2,FALSE),IF(I41=2,VLOOKUP(W41,女子種目コード!$A$1:$B$28,2,FALSE))))","v":""},null,null,{"$f":"IF(Z41=\"\",\"\",IF(I41=1,VLOOKUP(Z41,男子種目コード!$A$1:$B$33,2,FALSE),IF(V41=2,VLOOKUP(I41,女子種目コード!$A$1:$B$28,2,FALSE))))","v":""},null,null,{"$f":"IF(AC41=\"\",\"\",IF(I41=1,VLOOKUP(AC41,男子種目コード!$A$1:$B$33,2,FALSE),IF(Y41=2,VLOOKUP(I41,女子種目コード!$A$1:$B$28,2,FALSE))))","v":""},null,0,"","","",""]
[null,{"$f":"陸連登録!N37","v":0},null,null,{"$f":"陸連登録!M37","v":0},{"$f":"陸連登録!C37","v":0},{"$f":"陸連登録!D37","v":0},0,{"$f":"陸連登録!A37","v":""},{"$f":"陸連登録!P37","v":0},{"$f":"LEFT(陸連登録!L37,4)","v":""},{"$f":"RIGHT(陸連登録!L37,4)","v":""},{"$f":"陸連登録!F37","v":0},{"$f":"陸連登録!B37","v":0},null,"",null,"","",null,"",null,null,{"$f":"IF(W42=\"\",\"\",IF(I42=1,VLOOKUP(W42,男子種目コード!$A$1:$B$33,2,FALSE),IF(I42=2,VLOOKUP(W42,女子種目コード!$A$1:$B$28,2,FALSE))))","v":""},null,null,{"$f":"IF(Z42=\"\",\"\",IF(I42=1,VLOOKUP(Z42,男子種目コード!$A$1:$B$33,2,FALSE),IF(V42=2,VLOOKUP(I42,女子種目コード!$A$1:$B$28,2,FALSE))))","v":""},null,null,{"$f":"IF(AC42=\"\",\"\",IF(I42=1,VLOOKUP(AC42,男子種目コード!$A$1:$B$33,2,FALSE),IF(Y42=2,VLOOKUP(I42,女子種目コード!$A$1:$B$28,2,FALSE))))","v":""},null,0,"","","",""]
[null,{"$f":"陸連登録!N38","v":0},null,null,{"$f":"陸連登録!M38","v":0},{"$f":"陸連登録!C38","v":0},{"$f":"陸連登録!D38","v":0},0,{"$f":"陸連登録!A38","v":""},{"$f":"陸連登録!P38","v":0},{"$f":"LEFT(陸連登録!L38,4)","v":""},{"$f":"RIGHT(陸連登録!L38,4)","v":""},{"$f":"陸連登録!F38","v":0},{"$f":"陸連登録!B38","v":0},null,"",null,"","",null,"",null,null,{"$f":"IF(W43=\"\",\"\",IF(I43=1,VLOOKUP(W43,男子種目コード!$A$1:$B$33,2,FALSE),IF(I43=2,VLOOKUP(W43,女子種目コード!$A$1:$B$28,2,FALSE))))","v":""},null,null,{"$f":"IF(Z43=\"\",\"\",IF(I43=1,VLOOKUP(Z43,男子種目コード!$A$1:$B$33,2,FALSE),IF(V43=2,VLOOKUP(I43,女子種目コード!$A$1:$B$28,2,FALSE))))","v":""},null,null,{"$f":"IF(AC43=\"\",\"\",IF(I43=1,VLOOKUP(AC43,男子種目コード!$A$1:$B$33,2,FALSE),IF(Y43=2,VLOOKUP(I43,女子種目コード!$A$1:$B$28,2,FALSE))))","v":""},null,0,"","","",""]
[null,{"$f":"陸連登録!N39","v":0},null,null,{"$f":"陸連登録!M39","v":0},{"$f":"陸連登録!C39","v":0},{"$f":"陸連登録!D39","v":0},0,{"$f":"陸連登録!A39","v":""},{"$f":"陸連登録!P39","v":0},{"$f":"LEFT(陸連登録!L39,4)","v":""},{"$f":"RIGHT(陸連登録!L39,4)","v":""},{"$f":"陸連登録!F39","v":0},{"$f":"陸連登録!B39","v":0},null,"",null,"","",null,"",null,null,{"$f":"IF(W44=\"\",\"\",IF(I44=1,VLOOKUP(W44,男子種目コード!$A$1:$B$33,2,FALSE),IF(I44=2,VLOOKUP(W44,女子種目コード!$A$1:$B$28,2,FALSE))))","v":""},null,null,{"$f":"IF(Z44=\"\",\"\",IF(I44=1,VLOOKUP(Z44,男子種目コード!$A$1:$B$33,2,FALSE),IF(V44=2,VLOOKUP(I44,女子種目コード!$A$1:$B$28,2,FALSE))))","v":""},null,null,{"$f":"IF(AC44=\"\",\"\",IF(I44=1,VLOOKUP(AC44,男子種目コード!$A$1:$B$33,2,FALSE),IF(Y44=2,VLOOKUP(I44,女子種目コード!$A$1:$B$28,2,FALSE))))","v":""},null,0,"","","",""]
[null,{"$f":"陸連登録!N40","v":0},null,null,{"$f":"陸連登録!M40","v":0},{"$f":"陸連登録!C40","v":0},{"$f":"陸連登録!D40","v":0},0,{"$f":"陸連登録!A40","v":""},{"$f":"陸連登録!P40","v":0},{"$f":"LEFT(陸連登録!L40,4)","v":""},{"$f":"RIGHT(陸連登録!L40,4)","v":""},{"$f":"陸連登録!F40","v":0},{"$f":"陸連登録!B40","v":0},null,"",null,"","",null,"",null,null,{"$f":"IF(W45=\"\",\"\",IF(I45=1,VLOOKUP(W45,男子種目コード!$A$1:$B$33,2,FALSE),IF(I45=2,VLOOKUP(W45,女子種目コード!$A$1:$B$28,2,FALSE))))","v":""},null,null,{"$f":"IF(Z45=\"\",\"\",IF(I45=1,VLOOKUP(Z45,男子種目コード!$A$1:$B$33,2,FALSE),IF(V45=2,VLOOKUP(I45,女子種目コード!$A$1:$B$28,2,FALSE))))","v":""},null,null,{"$f":"IF(AC45=\"\",\"\",IF(I45=1,VLOOKUP(AC45,男子種目コード!$A$1:$B$33,2,FALSE),IF(Y45=2,VLOOKUP(I45,女子種目コード!$A$1:$B$28,2,FALSE))))","v":""},null,0,"","","",""]
[null,{"$f":"陸連登録!N41","v":0},null,null,{"$f":"陸連登録!M41","v":0},{"$f":"陸連登録!C41","v":0},{"$f":"陸連登録!D41","v":0},0,{"$f":"陸連登録!A41","v":""},{"$f":"陸連登録!P41","v":0},{"$f":"LEFT(陸連登録!L41,4)","v":""},{"$f":"RIGHT(陸連登録!L41,4)","v":""},{"$f":"陸連登録!F41","v":0},{"$f":"陸連登録!B41","v":0},null,"",null,"","",null,"",null,null,{"$f":"IF(W46=\"\",\"\",IF(I46=1,VLOOKUP(W46,男子種目コード!$A$1:$B$33,2,FALSE),IF(I46=2,VLOOKUP(W46,女子種目コード!$A$1:$B$28,2,FALSE))))","v":""},null,null,{"$f":"IF(Z46=\"\",\"\",IF(I46=1,VLOOKUP(Z46,男子種目コード!$A$1:$B$33,2,FALSE),IF(V46=2,VLOOKUP(I46,女子種目コード!$A$1:$B$28,2,FALSE))))","v":""},null,null,{"$f":"IF(AC46=\"\",\"\",IF(I46=1,VLOOKUP(AC46,男子種目コード!$A$1:$B$33,2,FALSE),IF(Y46=2,VLOOKUP(I46,女子種目コード!$A$1:$B$28,2,FALSE))))","v":""},null,0,"","","",""]
[null,{"$f":"陸連登録!N42","v":0},null,null,{"$f":"陸連登録!M42","v":0},{"$f":"陸連登録!C42","v":0},{"$f":"陸連登録!D42","v":0},0,{"$f":"陸連登録!A42","v":""},{"$f":"陸連登録!P42","v":0},{"$f":"LEFT(陸連登録!L42,4)","v":""},{"$f":"RIGHT(陸連登録!L42,4)","v":""},{"$f":"陸連登録!F42","v":0},{"$f":"陸連登録!B42","v":0},null,"",null,"","",null,"",null,null,{"$f":"IF(W47=\"\",\"\",IF(I47=1,VLOOKUP(W47,男子種目コード!$A$1:$B$33,2,FALSE),IF(I47=2,VLOOKUP(W47,女子種目コード!$A$1:$B$28,2,FALSE))))","v":""},null,null,{"$f":"IF(Z47=\"\",\"\",IF(I47=1,VLOOKUP(Z47,男子種目コード!$A$1:$B$33,2,FALSE),IF(V47=2,VLOOKUP(I47,女子種目コード!$A$1:$B$28,2,FALSE))))","v":""},null,null,{"$f":"IF(AC47=\"\",\"\",IF(I47=1,VLOOKUP(AC47,男子種目コード!$A$1:$B$33,2,FALSE),IF(Y47=2,VLOOKUP(I47,女子種目コード!$A$1:$B$28,2,FALSE))))","v":""},null,0,"","","",""]
[null,{"$f":"陸連登録!N43","v":0},null,null,{"$f":"陸連登録!M43","v":0},{"$f":"陸連登録!C43","v":0},{"$f":"陸連登録!D43","v":0},0,{"$f":"陸連登録!A43","v":""},{"$f":"陸連登録!P43","v":0},{"$f":"LEFT(陸連登録!L43,4)","v":""},{"$f":"RIGHT(陸連登録!L43,4)","v":""},{"$f":"陸連登録!F43","v":0},{"$f":"陸連登録!B43","v":0},null,"",null,"","",null,"",null,null,{"$f":"IF(W48=\"\",\"\",IF(I48=1,VLOOKUP(W48,男子種目コード!$A$1:$B$33,2,FALSE),IF(I48=2,VLOOKUP(W48,女子種目コード!$A$1:$B$28,2,FALSE))))","v":""},null,null,{"$f":"IF(Z48=\"\",\"\",IF(I48=1,VLOOKUP(Z48,男子種目コード!$A$1:$B$33,2,FALSE),IF(V48=2,VLOOKUP(I48,女子種目コード!$A$1:$B$28,2,FALSE))))","v":""},null,null,{"$f":"IF(AC48=\"\",\"\",IF(I48=1,VLOOKUP(AC48,男子種目コード!$A$1:$B$33,2,FALSE),IF(Y48=2,VLOOKUP(I48,女子種目コード!$A$1:$B$28,2,FALSE))))","v":""},null,0,"","","",""]
[null,{"$f":"陸連登録!N44","v":0},null,null,{"$f":"陸連登録!M44","v":0},{"$f":"陸連登録!C44","v":0},{"$f":"陸連登録!D44","v":0},0,{"$f":"陸連登録!A44","v":""},{"$f":"陸連登録!P44","v":0},{"$f":"LEFT(陸連登録!L44,4)","v":""},{"$f":"RIGHT(陸連登録!L44,4)","v":""},{"$f":"陸連登録!F44","v":0},{"$f":"陸連登録!B44","v":0},null,"",null,"","",null,"",null,null,{"$f":"IF(W49=\"\",\"\",IF(I49=1,VLOOKUP(W49,男子種目コード!$A$1:$B$33,2,FALSE),IF(I49=2,VLOOKUP(W49,女子種目コード!$A$1:$B$28,2,FALSE))))","v":""},null,null,{"$f":"IF(Z49=\"\",\"\",IF(I49=1,VLOOKUP(Z49,男子種目コード!$A$1:$B$33,2,FALSE),IF(V49=2,VLOOKUP(I49,女子種目コード!$A$1:$B$28,2,FALSE))))","v":""},null,null,{"$f":"IF(AC49=\"\",\"\",IF(I49=1,VLOOKUP(AC49,男子種目コード!$A$1:$B$33,2,FALSE),IF(Y49=2,VLOOKUP(I49,女子種目コード!$A$1:$B$28,2,FALSE))))","v":""},null,0,"","","",""]
[null,{"$f":"陸連登録!N45","v":0},null,null,{"$f":"陸連登録!M45","v":0},{"$f":"陸連登録!C45","v":0},{"$f":"陸連登録!D45","v":0},0,{"$f":"陸連登録!A45","v":""},{"$f":"陸連登録!P45","v":0},{"$f":"LEFT(陸連登録!L45,4)","v":""},{"$f":"RIGHT(陸連登録!L45,4)","v":""},{"$f":"陸連登録!F45","v":0},{"$f":"陸連登録!B45","v":0},null,"",null,"","",null,"",null,null,{"$f":"IF(W50=\"\",\"\",IF(I50=1,VLOOKUP(W50,男子種目コード!$A$1:$B$33,2,FALSE),IF(I50=2,VLOOKUP(W50,女子種目コード!$A$1:$B$28,2,FALSE))))","v":""},null,null,{"$f":"IF(Z50=\"\",\"\",IF(I50=1,VLOOKUP(Z50,男子種目コード!$A$1:$B$33,2,FALSE),IF(V50=2,VLOOKUP(I50,女子種目コード!$A$1:$B$28,2,FALSE))))","v":""},null,null,{"$f":"IF(AC50=\"\",\"\",IF(I50=1,VLOOKUP(AC50,男子種目コード!$A$1:$B$33,2,FALSE),IF(Y50=2,VLOOKUP(I50,女子種目コード!$A$1:$B$28,2,FALSE))))","v":""},null,0,"","","",""]
[null,{"$f":"陸連登録!N46","v":0},null,null,{"$f":"陸連登録!M46","v":0},{"$f":"陸連登録!C46","v":0},{"$f":"陸連登録!D46","v":0},0,{"$f":"陸連登録!A46","v":""},{"$f":"陸連登録!P46","v":0},{"$f":"LEFT(陸連登録!L46,4)","v":""},{"$f":"RIGHT(陸連登録!L46,4)","v":""},{"$f":"陸連登録!F46","v":0},{"$f":"陸連登録!B46","v":0},null,"",null,"","",null,"",null,null,{"$f":"IF(W51=\"\",\"\",IF(I51=1,VLOOKUP(W51,男子種目コード!$A$1:$B$33,2,FALSE),IF(I51=2,VLOOKUP(W51,女子種目コード!$A$1:$B$28,2,FALSE))))","v":""},null,null,{"$f":"IF(Z51=\"\",\"\",IF(I51=1,VLOOKUP(Z51,男子種目コード!$A$1:$B$33,2,FALSE),IF(V51=2,VLOOKUP(I51,女子種目コード!$A$1:$B$28,2,FALSE))))","v":""},null,null,{"$f":"IF(AC51=\"\",\"\",IF(I51=1,VLOOKUP(AC51,男子種目コード!$A$1:$B$33,2,FALSE),IF(Y51=2,VLOOKUP(I51,女子種目コード!$A$1:$B$28,2,FALSE))))","v":""},null,0,"","","",""]
[null,{"$f":"陸連登録!N47","v":0},null,null,{"$f":"陸連登録!M47","v":0},{"$f":"陸連登録!C47","v":0},{"$f":"陸連登録!D47","v":0},0,{"$f":"陸連登録!A47","v":""},{"$f":"陸連登録!P47","v":0},{"$f":"LEFT(陸連登録!L47,4)","v":""},{"$f":"RIGHT(陸連登録!L47,4)","v":""},{"$f":"陸連登録!F47","v":0},{"$f":"陸連登録!B47","v":0},null,"",null,"","",null,"",null,null,{"$f":"IF(W52=\"\",\"\",IF(I52=1,VLOOKUP(W52,男子種目コード!$A$1:$B$33,2,FALSE),IF(I52=2,VLOOKUP(W52,女子種目コード!$A$1:$B$28,2,FALSE))))","v":""},null,null,{"$f":"IF(Z52=\"\",\"\",IF(I52=1,VLOOKUP(Z52,男子種目コード!$A$1:$B$33,2,FALSE),IF(V52=2,VLOOKUP(I52,女子種目コード!$A$1:$B$28,2,FALSE))))","v":""},null,null,{"$f":"IF(AC52=\"\",\"\",IF(I52=1,VLOOKUP(AC52,男子種目コード!$A$1:$B$33,2,FALSE),IF(Y52=2,VLOOKUP(I52,女子種目コード!$A$1:$B$28,2,FALSE))))","v":""},null,0,"","","",""]
[null,{"$f":"陸連登録!N48","v":0},null,null,{"$f":"陸連登録!M48","v":0},{"$f":"陸連登録!C48","v":0},{"$f":"陸連登録!D48","v":0},0,{"$f":"陸連登録!A48","v":""},{"$f":"陸連登録!P48","v":0},{"$f":"LEFT(陸連登録!L48,4)","v":""},{"$f":"RIGHT(陸連登録!L48,4)","v":""},{"$f":"陸連登録!F48","v":0},{"$f":"陸連登録!B48","v":0},null,"",null,"","",null,"",null,null,{"$f":"IF(W53=\"\",\"\",IF(I53=1,VLOOKUP(W53,男子種目コード!$A$1:$B$33,2,FALSE),IF(I53=2,VLOOKUP(W53,女子種目コード!$A$1:$B$28,2,FALSE))))","v":""},null,null,{"$f":"IF(Z53=\"\",\"\",IF(I53=1,VLOOKUP(Z53,男子種目コード!$A$1:$B$33,2,FALSE),IF(V53=2,VLOOKUP(I53,女子種目コード!$A$1:$B$28,2,FALSE))))","v":""},null,null,{"$f":"IF(AC53=\"\",\"\",IF(I53=1,VLOOKUP(AC53,男子種目コード!$A$1:$B$33,2,FALSE),IF(Y53=2,VLOOKUP(I53,女子種目コード!$A$1:$B$28,2,FALSE))))","v":""},null,0,"","","",""]
[null,{"$f":"陸連登録!N49","v":0},null,null,{"$f":"陸連登録!M49","v":0},{"$f":"陸連登録!C49","v":0},{"$f":"陸連登録!D49","v":0},0,{"$f":"陸連登録!A49","v":""},{"$f":"陸連登録!P49","v":0},{"$f":"LEFT(陸連登録!L49,4)","v":""},{"$f":"RIGHT(陸連登録!L49,4)","v":""},{"$f":"陸連登録!F49","v":0},{"$f":"陸連登録!B49","v":0},null,"",null,"","",null,"",null,null,{"$f":"IF(W54=\"\",\"\",IF(I54=1,VLOOKUP(W54,男子種目コード!$A$1:$B$33,2,FALSE),IF(I54=2,VLOOKUP(W54,女子種目コード!$A$1:$B$28,2,FALSE))))","v":""},null,null,{"$f":"IF(Z54=\"\",\"\",IF(I54=1,VLOOKUP(Z54,男子種目コード!$A$1:$B$33,2,FALSE),IF(V54=2,VLOOKUP(I54,女子種目コード!$A$1:$B$28,2,FALSE))))","v":""},null,null,{"$f":"IF(AC54=\"\",\"\",IF(I54=1,VLOOKUP(AC54,男子種目コード!$A$1:$B$33,2,FALSE),IF(Y54=2,VLOOKUP(I54,女子種目コード!$A$1:$B$28,2,FALSE))))","v":""},null,0,"","","",""]
[null,{"$f":"陸連登録!N50","v":0},null,null,{"$f":"陸連登録!M50","v":0},{"$f":"陸連登録!C50","v":0},{"$f":"陸連登録!D50","v":0},0,{"$f":"陸連登録!A50","v":""},{"$f":"陸連登録!P50","v":0},{"$f":"LEFT(陸連登録!L50,4)","v":""},{"$f":"RIGHT(陸連登録!L50,4)","v":""},{"$f":"陸連登録!F50","v":0},{"$f":"陸連登録!B50","v":0},null,"",null,"","",null,"",null,null,{"$f":"IF(W55=\"\",\"\",IF(I55=1,VLOOKUP(W55,男子種目コード!$A$1:$B$33,2,FALSE),IF(I55=2,VLOOKUP(W55,女子種目コード!$A$1:$B$28,2,FALSE))))","v":""},null,null,{"$f":"IF(Z55=\"\",\"\",IF(I55=1,VLOOKUP(Z55,男子種目コード!$A$1:$B$33,2,FALSE),IF(V55=2,VLOOKUP(I55,女子種目コード!$A$1:$B$28,2,FALSE))))","v":""},null,null,{"$f":"IF(AC55=\"\",\"\",IF(I55=1,VLOOKUP(AC55,男子種目コード!$A$1:$B$33,2,FALSE),IF(Y55=2,VLOOKUP(I55,女子種目コード!$A$1:$B$28,2,FALSE))))","v":""},null,0,"","","",""]
[null,{"$f":"陸連登録!N51","v":0},null,null,{"$f":"陸連登録!M51","v":0},{"$f":"陸連登録!C51","v":0},{"$f":"陸連登録!D51","v":0},0,{"$f":"陸連登録!A51","v":""},{"$f":"陸連登録!P51","v":0},{"$f":"LEFT(陸連登録!L51,4)","v":""},{"$f":"RIGHT(陸連登録!L51,4)","v":""},{"$f":"陸連登録!F51","v":0},{"$f":"陸連登録!B51","v":0},null,"",null,"","",null,"",null,null,{"$f":"IF(W56=\"\",\"\",IF(I56=1,VLOOKUP(W56,男子種目コード!$A$1:$B$33,2,FALSE),IF(I56=2,VLOOKUP(W56,女子種目コード!$A$1:$B$28,2,FALSE))))","v":""},null,null,{"$f":"IF(Z56=\"\",\"\",IF(I56=1,VLOOKUP(Z56,男子種目コード!$A$1:$B$33,2,FALSE),IF(V56=2,VLOOKUP(I56,女子種目コード!$A$1:$B$28,2,FALSE))))","v":""},null,null,{"$f":"IF(AC56=\"\",\"\",IF(I56=1,VLOOKUP(AC56,男子種目コード!$A$1:$B$33,2,FALSE),IF(Y56=2,VLOOKUP(I56,女子種目コード!$A$1:$B$28,2,FALSE))))","v":""},null,0,"","","",""]
[null,{"$f":"陸連登録!N52","v":0},null,null,{"$f":"陸連登録!M52","v":0},{"$f":"陸連登録!C52","v":0},{"$f":"陸連登録!D52","v":0},0,{"$f":"陸連登録!A52","v":""},{"$f":"陸連登録!P52","v":0},{"$f":"LEFT(陸連登録!L52,4)","v":""},{"$f":"RIGHT(陸連登録!L52,4)","v":""},{"$f":"陸連登録!F52","v":0},{"$f":"陸連登録!B52","v":0},null,"",null,"","",null,"",null,null,{"$f":"IF(W57=\"\",\"\",IF(I57=1,VLOOKUP(W57,男子種目コード!$A$1:$B$33,2,FALSE),IF(I57=2,VLOOKUP(W57,女子種目コード!$A$1:$B$28,2,FALSE))))","v":""},null,null,{"$f":"IF(Z57=\"\",\"\",IF(I57=1,VLOOKUP(Z57,男子種目コード!$A$1:$B$33,2,FALSE),IF(V57=2,VLOOKUP(I57,女子種目コード!$A$1:$B$28,2,FALSE))))","v":""},null,null,{"$f":"IF(AC57=\"\",\"\",IF(I57=1,VLOOKUP(AC57,男子種目コード!$A$1:$B$33,2,FALSE),IF(Y57=2,VLOOKUP(I57,女子種目コード!$A$1:$B$28,2,FALSE))))","v":""},null,0,"","","",""]
[null,{"$f":"陸連登録!N53","v":0},null,null,{"$f":"陸連登録!M53","v":0},{"$f":"陸連登録!C53","v":0},{"$f":"陸連登録!D53","v":0},0,{"$f":"陸連登録!A53","v":""},{"$f":"陸連登録!P53","v":0},{"$f":"LEFT(陸連登録!L53,4)","v":""},{"$f":"RIGHT(陸連登録!L53,4)","v":""},{"$f":"陸連登録!F53","v":0},{"$f":"陸連登録!B53","v":0},null,"",null,"","",null,"",null,null,{"$f":"IF(W58=\"\",\"\",IF(I58=1,VLOOKUP(W58,男子種目コード!$A$1:$B$33,2,FALSE),IF(I58=2,VLOOKUP(W58,女子種目コード!$A$1:$B$28,2,FALSE))))","v":""},null,null,{"$f":"IF(Z58=\"\",\"\",IF(I58=1,VLOOKUP(Z58,男子種目コード!$A$1:$B$33,2,FALSE),IF(V58=2,VLOOKUP(I58,女子種目コード!$A$1:$B$28,2,FALSE))))","v":""},null,null,{"$f":"IF(AC58=\"\",\"\",IF(I58=1,VLOOKUP(AC58,男子種目コード!$A$1:$B$33,2,FALSE),IF(Y58=2,VLOOKUP(I58,女子種目コード!$A$1:$B$28,2,FALSE))))","v":""},null,0,"","","",""]
[null,{"$f":"陸連登録!N54","v":0},null,null,{"$f":"陸連登録!M54","v":0},{"$f":"陸連登録!C54","v":0},{"$f":"陸連登録!D54","v":0},0,{"$f":"陸連登録!A54","v":""},{"$f":"陸連登録!P54","v":0},{"$f":"LEFT(陸連登録!L54,4)","v":""},{"$f":"RIGHT(陸連登録!L54,4)","v":""},{"$f":"陸連登録!F54","v":0},{"$f":"陸連登録!B54","v":0},null,"",null,"","",null,"",null,null,{"$f":"IF(W59=\"\",\"\",IF(I59=1,VLOOKUP(W59,男子種目コード!$A$1:$B$33,2,FALSE),IF(I59=2,VLOOKUP(W59,女子種目コード!$A$1:$B$28,2,FALSE))))","v":""},null,null,{"$f":"IF(Z59=\"\",\"\",IF(I59=1,VLOOKUP(Z59,男子種目コード!$A$1:$B$33,2,FALSE),IF(V59=2,VLOOKUP(I59,女子種目コード!$A$1:$B$28,2,FALSE))))","v":""},null,null,{"$f":"IF(AC59=\"\",\"\",IF(I59=1,VLOOKUP(AC59,男子種目コード!$A$1:$B$33,2,FALSE),IF(Y59=2,VLOOKUP(I59,女子種目コード!$A$1:$B$28,2,FALSE))))","v":""},null,0,"","","",""]
[null,{"$f":"陸連登録!N55","v":0},null,null,{"$f":"陸連登録!M55","v":0},{"$f":"陸連登録!C55","v":0},{"$f":"陸連登録!D55","v":0},0,{"$f":"陸連登録!A55","v":""},{"$f":"陸連登録!P55","v":0},{"$f":"LEFT(陸連登録!L55,4)","v":""},{"$f":"RIGHT(陸連登録!L55,4)","v":""},{"$f":"陸連登録!F55","v":0},{"$f":"陸連登録!B55","v":0},null,"",null,"","",null,"",null,null,{"$f":"IF(W60=\"\",\"\",IF(I60=1,VLOOKUP(W60,男子種目コード!$A$1:$B$33,2,FALSE),IF(I60=2,VLOOKUP(W60,女子種目コード!$A$1:$B$28,2,FALSE))))","v":""},null,null,{"$f":"IF(Z60=\"\",\"\",IF(I60=1,VLOOKUP(Z60,男子種目コード!$A$1:$B$33,2,FALSE),IF(V60=2,VLOOKUP(I60,女子種目コード!$A$1:$B$28,2,FALSE))))","v":""},null,null,{"$f":"IF(AC60=\"\",\"\",IF(I60=1,VLOOKUP(AC60,男子種目コード!$A$1:$B$33,2,FALSE),IF(Y60=2,VLOOKUP(I60,女子種目コード!$A$1:$B$28,2,FALSE))))","v":""},null,0,"","","",""]
[null,{"$f":"陸連登録!N56","v":0},null,null,{"$f":"陸連登録!M56","v":0},{"$f":"陸連登録!C56","v":0},{"$f":"陸連登録!D56","v":0},0,{"$f":"陸連登録!A56","v":""},{"$f":"陸連登録!P56","v":0},{"$f":"LEFT(陸連登録!L56,4)","v":""},{"$f":"RIGHT(陸連登録!L56,4)","v":""},{"$f":"陸連登録!F56","v":0},{"$f":"陸連登録!B56","v":0},null,"",null,"","",null,"",null,null,{"$f":"IF(W61=\"\",\"\",IF(I61=1,VLOOKUP(W61,男子種目コード!$A$1:$B$33,2,FALSE),IF(I61=2,VLOOKUP(W61,女子種目コード!$A$1:$B$28,2,FALSE))))","v":""},null,null,{"$f":"IF(Z61=\"\",\"\",IF(I61=1,VLOOKUP(Z61,男子種目コード!$A$1:$B$33,2,FALSE),IF(V61=2,VLOOKUP(I61,女子種目コード!$A$1:$B$28,2,FALSE))))","v":""},null,null,{"$f":"IF(AC61=\"\",\"\",IF(I61=1,VLOOKUP(AC61,男子種目コード!$A$1:$B$33,2,FALSE),IF(Y61=2,VLOOKUP(I61,女子種目コード!$A$1:$B$28,2,FALSE))))","v":""},null,0,"","","",""]
[null,{"$f":"陸連登録!N57","v":0},null,null,{"$f":"陸連登録!M57","v":0},{"$f":"陸連登録!C57","v":0},{"$f":"陸連登録!D57","v":0},0,{"$f":"陸連登録!A57","v":""},{"$f":"陸連登録!P57","v":0},{"$f":"LEFT(陸連登録!L57,4)","v":""},{"$f":"RIGHT(陸連登録!L57,4)","v":""},{"$f":"陸連登録!F57","v":0},{"$f":"陸連登録!B57","v":0},null,"",null,"","",null,"",null,null,{"$f":"IF(W62=\"\",\"\",IF(I62=1,VLOOKUP(W62,男子種目コード!$A$1:$B$33,2,FALSE),IF(I62=2,VLOOKUP(W62,女子種目コード!$A$1:$B$28,2,FALSE))))","v":""},null,null,{"$f":"IF(Z62=\"\",\"\",IF(I62=1,VLOOKUP(Z62,男子種目コード!$A$1:$B$33,2,FALSE),IF(V62=2,VLOOKUP(I62,女子種目コード!$A$1:$B$28,2,FALSE))))","v":""},null,null,{"$f":"IF(AC62=\"\",\"\",IF(I62=1,VLOOKUP(AC62,男子種目コード!$A$1:$B$33,2,FALSE),IF(Y62=2,VLOOKUP(I62,女子種目コード!$A$1:$B$28,2,FALSE))))","v":""},null,0,"","","",""]
[null,{"$f":"陸連登録!N58","v":0},null,null,{"$f":"陸連登録!M58","v":0},{"$f":"陸連登録!C58","v":0},{"$f":"陸連登録!D58","v":0},0,{"$f":"陸連登録!A58","v":""},{"$f":"陸連登録!P58","v":0},{"$f":"LEFT(陸連登録!L58,4)","v":""},{"$f":"RIGHT(陸連登録!L58,4)","v":""},{"$f":"陸連登録!F58","v":0},{"$f":"陸連登録!B58","v":0},null,"",null,"","",null,"",null,null,{"$f":"IF(W63=\"\",\"\",IF(I63=1,VLOOKUP(W63,男子種目コード!$A$1:$B$33,2,FALSE),IF(I63=2,VLOOKUP(W63,女子種目コード!$A$1:$B$28,2,FALSE))))","v":""},null,null,{"$f":"IF(Z63=\"\",\"\",IF(I63=1,VLOOKUP(Z63,男子種目コード!$A$1:$B$33,2,FALSE),IF(V63=2,VLOOKUP(I63,女子種目コード!$A$1:$B$28,2,FALSE))))","v":""},null,null,{"$f":"IF(AC63=\"\",\"\",IF(I63=1,VLOOKUP(AC63,男子種目コード!$A$1:$B$33,2,FALSE),IF(Y63=2,VLOOKUP(I63,女子種目コード!$A$1:$B$28,2,FALSE))))","v":""},null,0,"","","",""]
[null,{"$f":"陸連登録!N59","v":0},null,null,{"$f":"陸連登録!M59","v":0},{"$f":"陸連登録!C59","v":0},{"$f":"陸連登録!D59","v":0},0,{"$f":"陸連登録!A59","v":""},{"$f":"陸連登録!P59","v":0},{"$f":"LEFT(陸連登録!L59,4)","v":""},{"$f":"RIGHT(陸連登録!L59,4)","v":""},{"$f":"陸連登録!F59","v":0},{"$f":"陸連登録!B59","v":0},null,"",null,"","",null,"",null,null,{"$f":"IF(W64=\"\",\"\",IF(I64=1,VLOOKUP(W64,男子種目コード!$A$1:$B$33,2,FALSE),IF(I64=2,VLOOKUP(W64,女子種目コード!$A$1:$B$28,2,FALSE))))","v":""},null,null,{"$f":"IF(Z64=\"\",\"\",IF(I64=1,VLOOKUP(Z64,男子種目コード!$A$1:$B$33,2,FALSE),IF(V64=2,VLOOKUP(I64,女子種目コード!$A$1:$B$28,2,FALSE))))","v":""},null,null,{"$f":"IF(AC64=\"\",\"\",IF(I64=1,VLOOKUP(AC64,男子種目コード!$A$1:$B$33,2,FALSE),IF(Y64=2,VLOOKUP(I64,女子種目コード!$A$1:$B$28,2,FALSE))))","v":""},null,0,"","","",""]
[null,{"$f":"陸連登録!N60","v":0},null,null,{"$f":"陸連登録!M60","v":0},{"$f":"陸連登録!C60","v":0},{"$f":"陸連登録!D60","v":0},0,{"$f":"陸連登録!A60","v":""},{"$f":"陸連登録!P60","v":0},{"$f":"LEFT(陸連登録!L60,4)","v":""},{"$f":"RIGHT(陸連登録!L60,4)","v":""},{"$f":"陸連登録!F60","v":0},{"$f":"陸連登録!B60","v":0},null,"",null,"","",null,"",null,null,{"$f":"IF(W65=\"\",\"\",IF(I65=1,VLOOKUP(W65,男子種目コード!$A$1:$B$33,2,FALSE),IF(I65=2,VLOOKUP(W65,女子種目コード!$A$1:$B$28,2,FALSE))))","v":""},null,null,{"$f":"IF(Z65=\"\",\"\",IF(I65=1,VLOOKUP(Z65,男子種目コード!$A$1:$B$33,2,FALSE),IF(V65=2,VLOOKUP(I65,女子種目コード!$A$1:$B$28,2,FALSE))))","v":""},null,null,{"$f":"IF(AC65=\"\",\"\",IF(I65=1,VLOOKUP(AC65,男子種目コード!$A$1:$B$33,2,FALSE),IF(Y65=2,VLOOKUP(I65,女子種目コード!$A$1:$B$28,2,FALSE))))","v":""},null,0,"","","",""]
[null,{"$f":"陸連登録!N61","v":0},null,null,{"$f":"陸連登録!M61","v":0},{"$f":"陸連登録!C61","v":0},{"$f":"陸連登録!D61","v":0},0,{"$f":"陸連登録!A61","v":""},{"$f":"陸連登録!P61","v":0},{"$f":"LEFT(陸連登録!L61,4)","v":""},{"$f":"RIGHT(陸連登録!L61,4)","v":""},{"$f":"陸連登録!F61","v":0},{"$f":"陸連登録!B61","v":0},null,"",null,"","",null,"",null,null,{"$f":"IF(W66=\"\",\"\",IF(I66=1,VLOOKUP(W66,男子種目コード!$A$1:$B$33,2,FALSE),IF(I66=2,VLOOKUP(W66,女子種目コード!$A$1:$B$28,2,FALSE))))","v":""},null,null,{"$f":"IF(Z66=\"\",\"\",IF(I66=1,VLOOKUP(Z66,男子種目コード!$A$1:$B$33,2,FALSE),IF(V66=2,VLOOKUP(I66,女子種目コード!$A$1:$B$28,2,FALSE))))","v":""},null,null,{"$f":"IF(AC66=\"\",\"\",IF(I66=1,VLOOKUP(AC66,男子種目コード!$A$1:$B$33,2,FALSE),IF(Y66=2,VLOOKUP(I66,女子種目コード!$A$1:$B$28,2,FALSE))))","v":""},null,0,"","","",""]
[null,{"$f":"陸連登録!N62","v":0},null,null,{"$f":"陸連登録!M62","v":0},{"$f":"陸連登録!C62","v":0},{"$f":"陸連登録!D62","v":0},0,{"$f":"陸連登録!A62","v":""},{"$f":"陸連登録!P62","v":0},{"$f":"LEFT(陸連登録!L62,4)","v":""},{"$f":"RIGHT(陸連登録!L62,4)","v":""},{"$f":"陸連登録!F62","v":0},{"$f":"陸連登録!B62","v":0},null,"",null,"","",null,"",null,null,{"$f":"IF(W67=\"\",\"\",IF(I67=1,VLOOKUP(W67,男子種目コード!$A$1:$B$33,2,FALSE),IF(I67=2,VLOOKUP(W67,女子種目コード!$A$1:$B$28,2,FALSE))))","v":""},null,null,{"$f":"IF(Z67=\"\",\"\",IF(I67=1,VLOOKUP(Z67,男子種目コード!$A$1:$B$33,2,FALSE),IF(V67=2,VLOOKUP(I67,女子種目コード!$A$1:$B$28,2,FALSE))))","v":""},null,null,{"$f":"IF(AC67=\"\",\"\",IF(I67=1,VLOOKUP(AC67,男子種目コード!$A$1:$B$33,2,FALSE),IF(Y67=2,VLOOKUP(I67,女子種目コード!$A$1:$B$28,2,FALSE))))","v":""},null,0,"","","",""]
[null,{"$f":"陸連登録!N63","v":0},null,null,{"$f":"陸連登録!M63","v":0},{"$f":"陸連登録!C63","v":0},{"$f":"陸連登録!D63","v":0},0,{"$f":"陸連登録!A63","v":""},{"$f":"陸連登録!P63","v":0},{"$f":"LEFT(陸連登録!L63,4)","v":""},{"$f":"RIGHT(陸連登録!L63,4)","v":""},{"$f":"陸連登録!F63","v":0},{"$f":"陸連登録!B63","v":0},null,"",null,"","",null,"",null,null,{"$f":"IF(W68=\"\",\"\",IF(I68=1,VLOOKUP(W68,男子種目コード!$A$1:$B$33,2,FALSE),IF(I68=2,VLOOKUP(W68,女子種目コード!$A$1:$B$28,2,FALSE))))","v":""},null,null,{"$f":"IF(Z68=\"\",\"\",IF(I68=1,VLOOKUP(Z68,男子種目コード!$A$1:$B$33,2,FALSE),IF(V68=2,VLOOKUP(I68,女子種目コード!$A$1:$B$28,2,FALSE))))","v":""},null,null,{"$f":"IF(AC68=\"\",\"\",IF(I68=1,VLOOKUP(AC68,男子種目コード!$A$1:$B$33,2,FALSE),IF(Y68=2,VLOOKUP(I68,女子種目コード!$A$1:$B$28,2,FALSE))))","v":""},null,0,"","","",""]
[null,{"$f":"陸連登録!N64","v":0},null,null,{"$f":"陸連登録!M64","v":0},{"$f":"陸連登録!C64","v":0},{"$f":"陸連登録!D64","v":0},0,{"$f":"陸連登録!A64","v":""},{"$f":"陸連登録!P64","v":0},{"$f":"LEFT(陸連登録!L64,4)","v":""},{"$f":"RIGHT(陸連登録!L64,4)","v":""},{"$f":"陸連登録!F64","v":0},{"$f":"陸連登録!B64","v":0},null,"",null,"","",null,"",null,null,{"$f":"IF(W69=\"\",\"\",IF(I69=1,VLOOKUP(W69,男子種目コード!$A$1:$B$33,2,FALSE),IF(I69=2,VLOOKUP(W69,女子種目コード!$A$1:$B$28,2,FALSE))))","v":""},null,null,{"$f":"IF(Z69=\"\",\"\",IF(I69=1,VLOOKUP(Z69,男子種目コード!$A$1:$B$33,2,FALSE),IF(V69=2,VLOOKUP(I69,女子種目コード!$A$1:$B$28,2,FALSE))))","v":""},null,null,{"$f":"IF(AC69=\"\",\"\",IF(I69=1,VLOOKUP(AC69,男子種目コード!$A$1:$B$33,2,FALSE),IF(Y69=2,VLOOKUP(I69,女子種目コード!$A$1:$B$28,2,FALSE))))","v":""},null,0,"","","",""]
[null,{"$f":"陸連登録!N65","v":0},null,null,{"$f":"陸連登録!M65","v":0},{"$f":"陸連登録!C65","v":0},{"$f":"陸連登録!D65","v":0},0,{"$f":"陸連登録!A65","v":""},{"$f":"陸連登録!P65","v":0},{"$f":"LEFT(陸連登録!L65,4)","v":""},{"$f":"RIGHT(陸連登録!L65,4)","v":""},{"$f":"陸連登録!F65","v":0},{"$f":"陸連登録!B65","v":0},null,"",null,"","",null,"",null,null,{"$f":"IF(W70=\"\",\"\",IF(I70=1,VLOOKUP(W70,男子種目コード!$A$1:$B$33,2,FALSE),IF(I70=2,VLOOKUP(W70,女子種目コード!$A$1:$B$28,2,FALSE))))","v":""},null,null,{"$f":"IF(Z70=\"\",\"\",IF(I70=1,VLOOKUP(Z70,男子種目コード!$A$1:$B$33,2,FALSE),IF(V70=2,VLOOKUP(I70,女子種目コード!$A$1:$B$28,2,FALSE))))","v":""},null,null,{"$f":"IF(AC70=\"\",\"\",IF(I70=1,VLOOKUP(AC70,男子種目コード!$A$1:$B$33,2,FALSE),IF(Y70=2,VLOOKUP(I70,女子種目コード!$A$1:$B$28,2,FALSE))))","v":""},null,0,"","","",""]
[null,{"$f":"陸連登録!N66","v":0},null,null,{"$f":"陸連登録!M66","v":0},{"$f":"陸連登録!C66","v":0},{"$f":"陸連登録!D66","v":0},0,{"$f":"陸連登録!A66","v":""},{"$f":"陸連登録!P66","v":0},{"$f":"LEFT(陸連登録!L66,4)","v":""},{"$f":"RIGHT(陸連登録!L66,4)","v":""},{"$f":"陸連登録!F66","v":0},{"$f":"陸連登録!B66","v":0},null,{"$f":"IF(O71=\"\",\"\",IF(I71=1,VLOOKUP(O71,$AM$7:$AO$13,3,FALSE),IF(I71=2,VLOOKUP(O71,$AM$14:$AO$20,3,FALSE))))","v":""},null,"","",null,{"$f":"IF(T71=\"\",\"\",IF(I71=1,VLOOKUP(T71,$AM$7:$AO$13,3,FALSE),IF(I71=2,VLOOKUP(T71,$AM$14:$AO$20,3,FALSE))))","v":""},null,null,{"$f":"IF(W71=\"\",\"\",IF(I71=1,VLOOKUP(W71,男子種目コード!$A$1:$B$33,2,FALSE),IF(I71=2,VLOOKUP(W71,女子種目コード!$A$1:$B$28,2,FALSE))))","v":""},null,null,{"$f":"IF(Z71=\"\",\"\",IF(I71=1,VLOOKUP(Z71,男子種目コード!$A$1:$B$33,2,FALSE),IF(V71=2,VLOOKUP(I71,女子種目コード!$A$1:$B$28,2,FALSE))))","v":""},null,null,{"$f":"IF(AC71=\"\",\"\",IF(I71=1,VLOOKUP(AC71,男子種目コード!$A$1:$B$33,2,FALSE),IF(Y71=2,VLOOKUP(I71,女子種目コード!$A$1:$B$28,2,FALSE))))","v":""},null,0,"","","",""]
[null,{"$f":"陸連登録!N67","v":0},null,null,{"$f":"陸連登録!M67","v":0},{"$f":"陸連登録!C67","v":0},{"$f":"陸連登録!D67","v":0},{"$f":"F72","v":0},{"$f":"陸連登録!A67","v":""},{"$f":"陸連登録!P67","v":0},{"$f":"LEFT(陸連登録!L67,4)","v":""},{"$f":"RIGHT(陸連登録!L67,4)","v":""},{"$f":"陸連登録!F67","v":0},{"$f":"陸連登録!B67","v":0},null,"",null,{"$f":"IF(O72=\"\",\"\",0)","v":""},{"$f":"IF(O72=\"\",\"\",2)","v":""},null,"",null,null,{"$f":"IF(W72=\"\",\"\",IF(I72=1,VLOOKUP(W72,男子種目コード!$A$1:$B$33,2,FALSE),IF(I72=2,VLOOKUP(W72,女子種目コード!$A$1:$B$28,2,FALSE))))","v":""},null,null,{"$f":"IF(Z72=\"\",\"\",IF(I72=1,VLOOKUP(Z72,男子種目コード!$A$1:$B$33,2,FALSE),IF(V72=2,VLOOKUP(I72,女子種目コード!$A$1:$B$28,2,FALSE))))","v":""},null,null,{"$f":"IF(AC72=\"\",\"\",IF(I72=1,VLOOKUP(AC72,男子種目コード!$A$1:$B$33,2,FALSE),IF(Y72=2,VLOOKUP(I72,女子種目コード!$A$1:$B$28,2,FALSE))))","v":""},null,{"$f":"COUNT(P72,U72)","v":0},{"$f":"IF(I72=1,AF72,\"\")","v":""},{"$f":"IF(I72=2,AF72,\"\")","v":""},{"$f":"IF(O72=\"四種\",1,\"\")","v":""},{"$f":"IF(T72=\"四種\",1,\"\")","v":""}]
[null,{"$f":"陸連登録!N68","v":0},null,null,{"$f":"陸連登録!M68","v":0},{"$f":"陸連登録!C68","v":0},{"$f":"陸連登録!D68","v":0},0,{"$f":"陸連登録!A68","v":""},{"$f":"陸連登録!P68","v":0},{"$f":"LEFT(陸連登録!L68,4)","v":""},{"$f":"RIGHT(陸連登録!L68,4)","v":""},{"$f":"陸連登録!F68","v":0},{"$f":"陸連登録!B68","v":0},null,"",null,"","",null,"",null,null,{"$f":"IF(W73=\"\",\"\",IF(I73=1,VLOOKUP(W73,男子種目コード!$A$1:$B$33,2,FALSE),IF(I73=2,VLOOKUP(W73,女子種目コード!$A$1:$B$28,2,FALSE))))","v":""},null,null,{"$f":"IF(Z73=\"\",\"\",IF(I73=1,VLOOKUP(Z73,男子種目コード!$A$1:$B$33,2,FALSE),IF(V73=2,VLOOKUP(I73,女子種目コード!$A$1:$B$28,2,FALSE))))","v":""},null,null,{"$f":"IF(AC73=\"\",\"\",IF(I73=1,VLOOKUP(AC73,男子種目コード!$A$1:$B$33,2,FALSE),IF(Y73=2,VLOOKUP(I73,女子種目コード!$A$1:$B$28,2,FALSE))))","v":""},null,0,"","","",""]
[null,{"$f":"陸連登録!N69","v":0},null,null,{"$f":"陸連登録!M69","v":0},{"$f":"陸連登録!C69","v":0},{"$f":"陸連登録!D69","v":0},0,{"$f":"陸連登録!A69","v":""},{"$f":"陸連登録!P69","v":0},{"$f":"LEFT(陸連登録!L69,4)","v":""},{"$f":"RIGHT(陸連登録!L69,4)","v":""},{"$f":"陸連登録!F69","v":0},{"$f":"陸連登録!B69","v":0},null,"",null,"","",null,"",null,null,{"$f":"IF(W74=\"\",\"\",IF(I74=1,VLOOKUP(W74,男子種目コード!$A$1:$B$33,2,FALSE),IF(I74=2,VLOOKUP(W74,女子種目コード!$A$1:$B$28,2,FALSE))))","v":""},null,null,{"$f":"IF(Z74=\"\",\"\",IF(I74=1,VLOOKUP(Z74,男子種目コード!$A$1:$B$33,2,FALSE),IF(V74=2,VLOOKUP(I74,女子種目コード!$A$1:$B$28,2,FALSE))))","v":""},null,null,{"$f":"IF(AC74=\"\",\"\",IF(I74=1,VLOOKUP(AC74,男子種目コード!$A$1:$B$33,2,FALSE),IF(Y74=2,VLOOKUP(I74,女子種目コード!$A$1:$B$28,2,FALSE))))","v":""},null,0,"","","",""]
[null,{"$f":"陸連登録!N70","v":0},null,null,{"$f":"陸連登録!M70","v":0},{"$f":"陸連登録!C70","v":0},{"$f":"陸連登録!D70","v":0},0,{"$f":"陸連登録!A70","v":""},{"$f":"陸連登録!P70","v":0},{"$f":"LEFT(陸連登録!L70,4)","v":""},{"$f":"RIGHT(陸連登録!L70,4)","v":""},{"$f":"陸連登録!F70","v":0},{"$f":"陸連登録!B70","v":0},null,"",null,"","",null,"",null,null,{"$f":"IF(W75=\"\",\"\",IF(I75=1,VLOOKUP(W75,男子種目コード!$A$1:$B$33,2,FALSE),IF(I75=2,VLOOKUP(W75,女子種目コード!$A$1:$B$28,2,FALSE))))","v":""},null,null,{"$f":"IF(Z75=\"\",\"\",IF(I75=1,VLOOKUP(Z75,男子種目コード!$A$1:$B$33,2,FALSE),IF(V75=2,VLOOKUP(I75,女子種目コード!$A$1:$B$28,2,FALSE))))","v":""},null,null,{"$f":"IF(AC75=\"\",\"\",IF(I75=1,VLOOKUP(AC75,男子種目コード!$A$1:$B$33,2,FALSE),IF(Y75=2,VLOOKUP(I75,女子種目コード!$A$1:$B$28,2,FALSE))))","v":""},null,0,"","","",""]
[null,{"$f":"陸連登録!N71","v":0},null,null,{"$f":"陸連登録!M71","v":0},{"$f":"陸連登録!C71","v":0},{"$f":"陸連登録!D71","v":0},0,{"$f":"陸連登録!A71","v":""},{"$f":"陸連登録!P71","v":0},{"$f":"LEFT(陸連登録!L71,4)","v":""},{"$f":"RIGHT(陸連登録!L71,4)","v":""},{"$f":"陸連登録!F71","v":0},{"$f":"陸連登録!B71","v":0},null,"",null,"","",null,"",null,null,{"$f":"IF(W76=\"\",\"\",IF(I76=1,VLOOKUP(W76,男子種目コード!$A$1:$B$33,2,FALSE),IF(I76=2,VLOOKUP(W76,女子種目コード!$A$1:$B$28,2,FALSE))))","v":""},null,null,{"$f":"IF(Z76=\"\",\"\",IF(I76=1,VLOOKUP(Z76,男子種目コード!$A$1:$B$33,2,FALSE),IF(V76=2,VLOOKUP(I76,女子種目コード!$A$1:$B$28,2,FALSE))))","v":""},null,null,{"$f":"IF(AC76=\"\",\"\",IF(I76=1,VLOOKUP(AC76,男子種目コード!$A$1:$B$33,2,FALSE),IF(Y76=2,VLOOKUP(I76,女子種目コード!$A$1:$B$28,2,FALSE))))","v":""},null,0,"","","",""]
[null,{"$f":"陸連登録!N72","v":0},null,null,{"$f":"陸連登録!M72","v":0},{"$f":"陸連登録!C72","v":0},{"$f":"陸連登録!D72","v":0},0,{"$f":"陸連登録!A72","v":""},{"$f":"陸連登録!P72","v":0},{"$f":"LEFT(陸連登録!L72,4)","v":""},{"$f":"RIGHT(陸連登録!L72,4)","v":""},{"$f":"陸連登録!F72","v":0},{"$f":"陸連登録!B72","v":0},null,"",null,"","",null,"",null,null,{"$f":"IF(W77=\"\",\"\",IF(I77=1,VLOOKUP(W77,男子種目コード!$A$1:$B$33,2,FALSE),IF(I77=2,VLOOKUP(W77,女子種目コード!$A$1:$B$28,2,FALSE))))","v":""},null,null,{"$f":"IF(Z77=\"\",\"\",IF(I77=1,VLOOKUP(Z77,男子種目コード!$A$1:$B$33,2,FALSE),IF(V77=2,VLOOKUP(I77,女子種目コード!$A$1:$B$28,2,FALSE))))","v":""},null,null,{"$f":"IF(AC77=\"\",\"\",IF(I77=1,VLOOKUP(AC77,男子種目コード!$A$1:$B$33,2,FALSE),IF(Y77=2,VLOOKUP(I77,女子種目コード!$A$1:$B$28,2,FALSE))))","v":""},null,0,"","","",""]
[null,{"$f":"陸連登録!N73","v":0},null,null,{"$f":"陸連登録!M73","v":0},{"$f":"陸連登録!C73","v":0},{"$f":"陸連登録!D73","v":0},0,{"$f":"陸連登録!A73","v":""},{"$f":"陸連登録!P73","v":0},{"$f":"LEFT(陸連登録!L73,4)","v":""},{"$f":"RIGHT(陸連登録!L73,4)","v":""},{"$f":"陸連登録!F73","v":0},{"$f":"陸連登録!B73","v":0},null,"",null,"","",null,"",null,null,{"$f":"IF(W78=\"\",\"\",IF(I78=1,VLOOKUP(W78,男子種目コード!$A$1:$B$33,2,FALSE),IF(I78=2,VLOOKUP(W78,女子種目コード!$A$1:$B$28,2,FALSE))))","v":""},null,null,{"$f":"IF(Z78=\"\",\"\",IF(I78=1,VLOOKUP(Z78,男子種目コード!$A$1:$B$33,2,FALSE),IF(V78=2,VLOOKUP(I78,女子種目コード!$A$1:$B$28,2,FALSE))))","v":""},null,null,{"$f":"IF(AC78=\"\",\"\",IF(I78=1,VLOOKUP(AC78,男子種目コード!$A$1:$B$33,2,FALSE),IF(Y78=2,VLOOKUP(I78,女子種目コード!$A$1:$B$28,2,FALSE))))","v":""},null,0,"","","",""]
[null,{"$f":"陸連登録!N74","v":0},null,null,{"$f":"陸連登録!M74","v":0},{"$f":"陸連登録!C74","v":0},{"$f":"陸連登録!D74","v":0},0,{"$f":"陸連登録!A74","v":""},{"$f":"陸連登録!P74","v":0},{"$f":"LEFT(陸連登録!L74,4)","v":""},{"$f":"RIGHT(陸連登録!L74,4)","v":""},{"$f":"陸連登録!F74","v":0},{"$f":"陸連登録!B74","v":0},null,"",null,"","",null,"",null,null,{"$f":"IF(W79=\"\",\"\",IF(I79=1,VLOOKUP(W79,男子種目コード!$A$1:$B$33,2,FALSE),IF(I79=2,VLOOKUP(W79,女子種目コード!$A$1:$B$28,2,FALSE))))","v":""},null,null,{"$f":"IF(Z79=\"\",\"\",IF(I79=1,VLOOKUP(Z79,男子種目コード!$A$1:$B$33,2,FALSE),IF(V79=2,VLOOKUP(I79,女子種目コード!$A$1:$B$28,2,FALSE))))","v":""},null,null,{"$f":"IF(AC79=\"\",\"\",IF(I79=1,VLOOKUP(AC79,男子種目コード!$A$1:$B$33,2,FALSE),IF(Y79=2,VLOOKUP(I79,女子種目コード!$A$1:$B$28,2,FALSE))))","v":""},null,0,"","","",""]
[null,{"$f":"陸連登録!N75","v":0},null,null,{"$f":"陸連登録!M75","v":0},{"$f":"陸連登録!C75","v":0},{"$f":"陸連登録!D75","v":0},0,{"$f":"陸連登録!A75","v":""},{"$f":"陸連登録!P75","v":0},{"$f":"LEFT(陸連登録!L75,4)","v":""},{"$f":"RIGHT(陸連登録!L75,4)","v":""},{"$f":"陸連登録!F75","v":0},{"$f":"陸連登録!B75","v":0},null,"",null,"","",null,"",null,null,{"$f":"IF(W80=\"\",\"\",IF(I80=1,VLOOKUP(W80,男子種目コード!$A$1:$B$33,2,FALSE),IF(I80=2,VLOOKUP(W80,女子種目コード!$A$1:$B$28,2,FALSE))))","v":""},null,null,{"$f":"IF(Z80=\"\",\"\",IF(I80=1,VLOOKUP(Z80,男子種目コード!$A$1:$B$33,2,FALSE),IF(V80=2,VLOOKUP(I80,女子種目コード!$A$1:$B$28,2,FALSE))))","v":""},null,null,{"$f":"IF(AC80=\"\",\"\",IF(I80=1,VLOOKUP(AC80,男子種目コード!$A$1:$B$33,2,FALSE),IF(Y80=2,VLOOKUP(I80,女子種目コード!$A$1:$B$28,2,FALSE))))","v":""},null,0,"","","",""]
[null,{"$f":"陸連登録!N76","v":0},null,null,{"$f":"陸連登録!M76","v":0},{"$f":"陸連登録!C76","v":0},{"$f":"陸連登録!D76","v":0},0,{"$f":"陸連登録!A76","v":""},{"$f":"陸連登録!P76","v":0},{"$f":"LEFT(陸連登録!L76,4)","v":""},{"$f":"RIGHT(陸連登録!L76,4)","v":""},{"$f":"陸連登録!F76","v":0},{"$f":"陸連登録!B76","v":0},null,"",null,"","",null,"",null,null,{"$f":"IF(W81=\"\",\"\",IF(I81=1,VLOOKUP(W81,男子種目コード!$A$1:$B$33,2,FALSE),IF(I81=2,VLOOKUP(W81,女子種目コード!$A$1:$B$28,2,FALSE))))","v":""},null,null,{"$f":"IF(Z81=\"\",\"\",IF(I81=1,VLOOKUP(Z81,男子種目コード!$A$1:$B$33,2,FALSE),IF(V81=2,VLOOKUP(I81,女子種目コード!$A$1:$B$28,2,FALSE))))","v":""},null,null,{"$f":"IF(AC81=\"\",\"\",IF(I81=1,VLOOKUP(AC81,男子種目コード!$A$1:$B$33,2,FALSE),IF(Y81=2,VLOOKUP(I81,女子種目コード!$A$1:$B$28,2,FALSE))))","v":""},null,0,"","","",""]
[null,{"$f":"陸連登録!N77","v":0},null,null,{"$f":"陸連登録!M77","v":0},{"$f":"陸連登録!C77","v":0},{"$f":"陸連登録!D77","v":0},0,{"$f":"陸連登録!A77","v":""},{"$f":"陸連登録!P77","v":0},{"$f":"LEFT(陸連登録!L77,4)","v":""},{"$f":"RIGHT(陸連登録!L77,4)","v":""},{"$f":"陸連登録!F77","v":0},{"$f":"陸連登録!B77","v":0},null,"",null,"","",null,"",null,null,{"$f":"IF(W82=\"\",\"\",IF(I82=1,VLOOKUP(W82,男子種目コード!$A$1:$B$33,2,FALSE),IF(I82=2,VLOOKUP(W82,女子種目コード!$A$1:$B$28,2,FALSE))))","v":""},null,null,{"$f":"IF(Z82=\"\",\"\",IF(I82=1,VLOOKUP(Z82,男子種目コード!$A$1:$B$33,2,FALSE),IF(V82=2,VLOOKUP(I82,女子種目コード!$A$1:$B$28,2,FALSE))))","v":""},null,null,{"$f":"IF(AC82=\"\",\"\",IF(I82=1,VLOOKUP(AC82,男子種目コード!$A$1:$B$33,2,FALSE),IF(Y82=2,VLOOKUP(I82,女子種目コード!$A$1:$B$28,2,FALSE))))","v":""},null,0,"","","",""]
[null,{"$f":"陸連登録!N78","v":0},null,null,{"$f":"陸連登録!M78","v":0},{"$f":"陸連登録!C78","v":0},{"$f":"陸連登録!D78","v":0},0,{"$f":"陸連登録!A78","v":""},{"$f":"陸連登録!P78","v":0},{"$f":"LEFT(陸連登録!L78,4)","v":""},{"$f":"RIGHT(陸連登録!L78,4)","v":""},{"$f":"陸連登録!F78","v":0},{"$f":"陸連登録!B78","v":0},null,"",null,"","",null,"",null,null,{"$f":"IF(W83=\"\",\"\",IF(I83=1,VLOOKUP(W83,男子種目コード!$A$1:$B$33,2,FALSE),IF(I83=2,VLOOKUP(W83,女子種目コード!$A$1:$B$28,2,FALSE))))","v":""},null,null,{"$f":"IF(Z83=\"\",\"\",IF(I83=1,VLOOKUP(Z83,男子種目コード!$A$1:$B$33,2,FALSE),IF(V83=2,VLOOKUP(I83,女子種目コード!$A$1:$B$28,2,FALSE))))","v":""},null,null,{"$f":"IF(AC83=\"\",\"\",IF(I83=1,VLOOKUP(AC83,男子種目コード!$A$1:$B$33,2,FALSE),IF(Y83=2,VLOOKUP(I83,女子種目コード!$A$1:$B$28,2,FALSE))))","v":""},null,0,"","","",""]
[null,{"$f":"陸連登録!N79","v":0},null,null,{"$f":"陸連登録!M79","v":0},{"$f":"陸連登録!C79","v":0},{"$f":"陸連登録!D79","v":0},0,{"$f":"陸連登録!A79","v":""},{"$f":"陸連登録!P79","v":0},{"$f":"LEFT(陸連登録!L79,4)","v":""},{"$f":"RIGHT(陸連登録!L79,4)","v":""},{"$f":"陸連登録!F79","v":0},{"$f":"陸連登録!B79","v":0},null,"",null,"","",null,"",null,null,{"$f":"IF(W84=\"\",\"\",IF(I84=1,VLOOKUP(W84,男子種目コード!$A$1:$B$33,2,FALSE),IF(I84=2,VLOOKUP(W84,女子種目コード!$A$1:$B$28,2,FALSE))))","v":""},null,null,{"$f":"IF(Z84=\"\",\"\",IF(I84=1,VLOOKUP(Z84,男子種目コード!$A$1:$B$33,2,FALSE),IF(V84=2,VLOOKUP(I84,女子種目コード!$A$1:$B$28,2,FALSE))))","v":""},null,null,{"$f":"IF(AC84=\"\",\"\",IF(I84=1,VLOOKUP(AC84,男子種目コード!$A$1:$B$33,2,FALSE),IF(Y84=2,VLOOKUP(I84,女子種目コード!$A$1:$B$28,2,FALSE))))","v":""},null,0,"","","",""]
[null,{"$f":"陸連登録!N80","v":0},null,null,{"$f":"陸連登録!M80","v":0},{"$f":"陸連登録!C80","v":0},{"$f":"陸連登録!D80","v":0},0,{"$f":"陸連登録!A80","v":""},{"$f":"陸連登録!P80","v":0},{"$f":"LEFT(陸連登録!L80,4)","v":""},{"$f":"RIGHT(陸連登録!L80,4)","v":""},{"$f":"陸連登録!F80","v":0},{"$f":"陸連登録!B80","v":0},null,"",null,"","",null,"",null,null,{"$f":"IF(W85=\"\",\"\",IF(I85=1,VLOOKUP(W85,男子種目コード!$A$1:$B$33,2,FALSE),IF(I85=2,VLOOKUP(W85,女子種目コード!$A$1:$B$28,2,FALSE))))","v":""},null,null,{"$f":"IF(Z85=\"\",\"\",IF(I85=1,VLOOKUP(Z85,男子種目コード!$A$1:$B$33,2,FALSE),IF(V85=2,VLOOKUP(I85,女子種目コード!$A$1:$B$28,2,FALSE))))","v":""},null,null,{"$f":"IF(AC85=\"\",\"\",IF(I85=1,VLOOKUP(AC85,男子種目コード!$A$1:$B$33,2,FALSE),IF(Y85=2,VLOOKUP(I85,女子種目コード!$A$1:$B$28,2,FALSE))))","v":""},null,0,"","","",""]
[null,{"$f":"陸連登録!N81","v":0},null,null,{"$f":"陸連登録!M81","v":0},{"$f":"陸連登録!C81","v":0},{"$f":"陸連登録!D81","v":0},0,{"$f":"陸連登録!A81","v":""},{"$f":"陸連登録!P81","v":0},{"$f":"LEFT(陸連登録!L81,4)","v":""},{"$f":"RIGHT(陸連登録!L81,4)","v":""},{"$f":"陸連登録!F81","v":0},{"$f":"陸連登録!B81","v":0},null,"",null,"","",null,"",null,null,{"$f":"IF(W86=\"\",\"\",IF(I86=1,VLOOKUP(W86,男子種目コード!$A$1:$B$33,2,FALSE),IF(I86=2,VLOOKUP(W86,女子種目コード!$A$1:$B$28,2,FALSE))))","v":""},null,null,{"$f":"IF(Z86=\"\",\"\",IF(I86=1,VLOOKUP(Z86,男子種目コード!$A$1:$B$33,2,FALSE),IF(V86=2,VLOOKUP(I86,女子種目コード!$A$1:$B$28,2,FALSE))))","v":""},null,null,{"$f":"IF(AC86=\"\",\"\",IF(I86=1,VLOOKUP(AC86,男子種目コード!$A$1:$B$33,2,FALSE),IF(Y86=2,VLOOKUP(I86,女子種目コード!$A$1:$B$28,2,FALSE))))","v":""},null,0,"","","",""]
[null,{"$f":"陸連登録!N82","v":0},null,null,{"$f":"陸連登録!M82","v":0},{"$f":"陸連登録!C82","v":0},{"$f":"陸連登録!D82","v":0},0,{"$f":"陸連登録!A82","v":""},{"$f":"陸連登録!P82","v":0},{"$f":"LEFT(陸連登録!L82,4)","v":""},{"$f":"RIGHT(陸連登録!L82,4)","v":""},{"$f":"陸連登録!F82","v":0},{"$f":"陸連登録!B82","v":0},null,"",null,"","",null,"",null,null,{"$f":"IF(W87=\"\",\"\",IF(I87=1,VLOOKUP(W87,男子種目コード!$A$1:$B$33,2,FALSE),IF(I87=2,VLOOKUP(W87,女子種目コード!$A$1:$B$28,2,FALSE))))","v":""},null,null,{"$f":"IF(Z87=\"\",\"\",IF(I87=1,VLOOKUP(Z87,男子種目コード!$A$1:$B$33,2,FALSE),IF(V87=2,VLOOKUP(I87,女子種目コード!$A$1:$B$28,2,FALSE))))","v":""},null,null,{"$f":"IF(AC87=\"\",\"\",IF(I87=1,VLOOKUP(AC87,男子種目コード!$A$1:$B$33,2,FALSE),IF(Y87=2,VLOOKUP(I87,女子種目コード!$A$1:$B$28,2,FALSE))))","v":""},null,0,"","","",""]
[null,{"$f":"陸連登録!N83","v":0},null,null,{"$f":"陸連登録!M83","v":0},{"$f":"陸連登録!C83","v":0},{"$f":"陸連登録!D83","v":0},0,{"$f":"陸連登録!A83","v":""},{"$f":"陸連登録!P83","v":0},{"$f":"LEFT(陸連登録!L83,4)","v":""},{"$f":"RIGHT(陸連登録!L83,4)","v":""},{"$f":"陸連登録!F83","v":0},{"$f":"陸連登録!B83","v":0},null,"",null,"","",null,"",null,null,{"$f":"IF(W88=\"\",\"\",IF(I88=1,VLOOKUP(W88,男子種目コード!$A$1:$B$33,2,FALSE),IF(I88=2,VLOOKUP(W88,女子種目コード!$A$1:$B$28,2,FALSE))))","v":""},null,null,{"$f":"IF(Z88=\"\",\"\",IF(I88=1,VLOOKUP(Z88,男子種目コード!$A$1:$B$33,2,FALSE),IF(V88=2,VLOOKUP(I88,女子種目コード!$A$1:$B$28,2,FALSE))))","v":""},null,null,{"$f":"IF(AC88=\"\",\"\",IF(I88=1,VLOOKUP(AC88,男子種目コード!$A$1:$B$33,2,FALSE),IF(Y88=2,VLOOKUP(I88,女子種目コード!$A$1:$B$28,2,FALSE))))","v":""},null,0,"","","",""]
[null,{"$f":"陸連登録!N84","v":0},null,null,{"$f":"陸連登録!M84","v":0},{"$f":"陸連登録!C84","v":0},{"$f":"陸連登録!D84","v":0},0,{"$f":"陸連登録!A84","v":""},{"$f":"陸連登録!P84","v":0},{"$f":"LEFT(陸連登録!L84,4)","v":""},{"$f":"RIGHT(陸連登録!L84,4)","v":""},{"$f":"陸連登録!F84","v":0},{"$f":"陸連登録!B84","v":0},null,"",null,"","",null,"",null,null,{"$f":"IF(W89=\"\",\"\",IF(I89=1,VLOOKUP(W89,男子種目コード!$A$1:$B$33,2,FALSE),IF(I89=2,VLOOKUP(W89,女子種目コード!$A$1:$B$28,2,FALSE))))","v":""},null,null,{"$f":"IF(Z89=\"\",\"\",IF(I89=1,VLOOKUP(Z89,男子種目コード!$A$1:$B$33,2,FALSE),IF(V89=2,VLOOKUP(I89,女子種目コード!$A$1:$B$28,2,FALSE))))","v":""},null,null,{"$f":"IF(AC89=\"\",\"\",IF(I89=1,VLOOKUP(AC89,男子種目コード!$A$1:$B$33,2,FALSE),IF(Y89=2,VLOOKUP(I89,女子種目コード!$A$1:$B$28,2,FALSE))))","v":""},null,0,"","","",""]
[null,{"$f":"陸連登録!N85","v":0},null,null,{"$f":"陸連登録!M85","v":0},{"$f":"陸連登録!C85","v":0},{"$f":"陸連登録!D85","v":0},0,{"$f":"陸連登録!A85","v":""},{"$f":"陸連登録!P85","v":0},{"$f":"LEFT(陸連登録!L85,4)","v":""},{"$f":"RIGHT(陸連登録!L85,4)","v":""},{"$f":"陸連登録!F85","v":0},{"$f":"陸連登録!B85","v":0},null,"",null,"","",null,"",null,null,{"$f":"IF(W90=\"\",\"\",IF(I90=1,VLOOKUP(W90,男子種目コード!$A$1:$B$33,2,FALSE),IF(I90=2,VLOOKUP(W90,女子種目コード!$A$1:$B$28,2,FALSE))))","v":""},null,null,{"$f":"IF(Z90=\"\",\"\",IF(I90=1,VLOOKUP(Z90,男子種目コード!$A$1:$B$33,2,FALSE),IF(V90=2,VLOOKUP(I90,女子種目コード!$A$1:$B$28,2,FALSE))))","v":""},null,null,{"$f":"IF(AC90=\"\",\"\",IF(I90=1,VLOOKUP(AC90,男子種目コード!$A$1:$B$33,2,FALSE),IF(Y90=2,VLOOKUP(I90,女子種目コード!$A$1:$B$28,2,FALSE))))","v":""},null,0,"","","",""]
[null,{"$f":"陸連登録!N86","v":0},null,null,{"$f":"陸連登録!M86","v":0},{"$f":"陸連登録!C86","v":0},{"$f":"陸連登録!D86","v":0},0,{"$f":"陸連登録!A86","v":""},{"$f":"陸連登録!P86","v":0},{"$f":"LEFT(陸連登録!L86,4)","v":""},{"$f":"RIGHT(陸連登録!L86,4)","v":""},{"$f":"陸連登録!F86","v":0},{"$f":"陸連登録!B86","v":0},null,"",null,"","",null,"",null,null,{"$f":"IF(W91=\"\",\"\",IF(I91=1,VLOOKUP(W91,男子種目コード!$A$1:$B$33,2,FALSE),IF(I91=2,VLOOKUP(W91,女子種目コード!$A$1:$B$28,2,FALSE))))","v":""},null,null,{"$f":"IF(Z91=\"\",\"\",IF(I91=1,VLOOKUP(Z91,男子種目コード!$A$1:$B$33,2,FALSE),IF(V91=2,VLOOKUP(I91,女子種目コード!$A$1:$B$28,2,FALSE))))","v":""},null,null,{"$f":"IF(AC91=\"\",\"\",IF(I91=1,VLOOKUP(AC91,男子種目コード!$A$1:$B$33,2,FALSE),IF(Y91=2,VLOOKUP(I91,女子種目コード!$A$1:$B$28,2,FALSE))))","v":""},null,0,"","","",""]
[null,{"$f":"陸連登録!N87","v":0},null,null,{"$f":"陸連登録!M87","v":0},{"$f":"陸連登録!C87","v":0},{"$f":"陸連登録!D87","v":0},0,{"$f":"陸連登録!A87","v":""},{"$f":"陸連登録!P87","v":0},{"$f":"LEFT(陸連登録!L87,4)","v":""},{"$f":"RIGHT(陸連登録!L87,4)","v":""},{"$f":"陸連登録!F87","v":0},{"$f":"陸連登録!B87","v":0},null,"",null,"","",null,"",null,null,{"$f":"IF(W92=\"\",\"\",IF(I92=1,VLOOKUP(W92,男子種目コード!$A$1:$B$33,2,FALSE),IF(I92=2,VLOOKUP(W92,女子種目コード!$A$1:$B$28,2,FALSE))))","v":""},null,null,{"$f":"IF(Z92=\"\",\"\",IF(I92=1,VLOOKUP(Z92,男子種目コード!$A$1:$B$33,2,FALSE),IF(V92=2,VLOOKUP(I92,女子種目コード!$A$1:$B$28,2,FALSE))))","v":""},null,null,{"$f":"IF(AC92=\"\",\"\",IF(I92=1,VLOOKUP(AC92,男子種目コード!$A$1:$B$33,2,FALSE),IF(Y92=2,VLOOKUP(I92,女子種目コード!$A$1:$B$28,2,FALSE))))","v":""},null,0,"","","",""]
[null,{"$f":"陸連登録!N88","v":0},null,null,{"$f":"陸連登録!M88","v":0},{"$f":"陸連登録!C88","v":0},{"$f":"陸連登録!D88","v":0},0,{"$f":"陸連登録!A88","v":""},{"$f":"陸連登録!P88","v":0},{"$f":"LEFT(陸連登録!L88,4)","v":""},{"$f":"RIGHT(陸連登録!L88,4)","v":""},{"$f":"陸連登録!F88","v":0},{"$f":"陸連登録!B88","v":0},null,"",null,"","",null,"",null,null,{"$f":"IF(W93=\"\",\"\",IF(I93=1,VLOOKUP(W93,男子種目コード!$A$1:$B$33,2,FALSE),IF(I93=2,VLOOKUP(W93,女子種目コード!$A$1:$B$28,2,FALSE))))","v":""},null,null,{"$f":"IF(Z93=\"\",\"\",IF(I93=1,VLOOKUP(Z93,男子種目コード!$A$1:$B$33,2,FALSE),IF(V93=2,VLOOKUP(I93,女子種目コード!$A$1:$B$28,2,FALSE))))","v":""},null,null,{"$f":"IF(AC93=\"\",\"\",IF(I93=1,VLOOKUP(AC93,男子種目コード!$A$1:$B$33,2,FALSE),IF(Y93=2,VLOOKUP(I93,女子種目コード!$A$1:$B$28,2,FALSE))))","v":""},null,0,"","","",""]
[null,{"$f":"陸連登録!N89","v":0},null,null,{"$f":"陸連登録!M89","v":0},{"$f":"陸連登録!C89","v":0},{"$f":"陸連登録!D89","v":0},0,{"$f":"陸連登録!A89","v":""},{"$f":"陸連登録!P89","v":0},{"$f":"LEFT(陸連登録!L89,4)","v":""},{"$f":"RIGHT(陸連登録!L89,4)","v":""},{"$f":"陸連登録!F89","v":0},{"$f":"陸連登録!B89","v":0},null,"",null,"","",null,"",null,null,{"$f":"IF(W94=\"\",\"\",IF(I94=1,VLOOKUP(W94,男子種目コード!$A$1:$B$33,2,FALSE),IF(I94=2,VLOOKUP(W94,女子種目コード!$A$1:$B$28,2,FALSE))))","v":""},null,null,{"$f":"IF(Z94=\"\",\"\",IF(I94=1,VLOOKUP(Z94,男子種目コード!$A$1:$B$33,2,FALSE),IF(V94=2,VLOOKUP(I94,女子種目コード!$A$1:$B$28,2,FALSE))))","v":""},null,null,{"$f":"IF(AC94=\"\",\"\",IF(I94=1,VLOOKUP(AC94,男子種目コード!$A$1:$B$33,2,FALSE),IF(Y94=2,VLOOKUP(I94,女子種目コード!$A$1:$B$28,2,FALSE))))","v":""},null,0,"","","",""]
[null,{"$f":"陸連登録!N90","v":0},null,null,{"$f":"陸連登録!M90","v":0},{"$f":"陸連登録!C90","v":0},{"$f":"陸連登録!D90","v":0},0,{"$f":"陸連登録!A90","v":""},{"$f":"陸連登録!P90","v":0},{"$f":"LEFT(陸連登録!L90,4)","v":""},{"$f":"RIGHT(陸連登録!L90,4)","v":""},{"$f":"陸連登録!F90","v":0},{"$f":"陸連登録!B90","v":0},null,"",null,"","",null,"",null,null,{"$f":"IF(W95=\"\",\"\",IF(I95=1,VLOOKUP(W95,男子種目コード!$A$1:$B$33,2,FALSE),IF(I95=2,VLOOKUP(W95,女子種目コード!$A$1:$B$28,2,FALSE))))","v":""},null,null,{"$f":"IF(Z95=\"\",\"\",IF(I95=1,VLOOKUP(Z95,男子種目コード!$A$1:$B$33,2,FALSE),IF(V95=2,VLOOKUP(I95,女子種目コード!$A$1:$B$28,2,FALSE))))","v":""},null,null,{"$f":"IF(AC95=\"\",\"\",IF(I95=1,VLOOKUP(AC95,男子種目コード!$A$1:$B$33,2,FALSE),IF(Y95=2,VLOOKUP(I95,女子種目コード!$A$1:$B$28,2,FALSE))))","v":""},null,0,"","","",""]
[null,{"$f":"陸連登録!N91","v":0},null,null,{"$f":"陸連登録!M91","v":0},{"$f":"陸連登録!C91","v":0},{"$f":"陸連登録!D91","v":0},0,{"$f":"陸連登録!A91","v":""},{"$f":"陸連登録!P91","v":0},{"$f":"LEFT(陸連登録!L91,4)","v":""},{"$f":"RIGHT(陸連登録!L91,4)","v":""},{"$f":"陸連登録!F91","v":0},{"$f":"陸連登録!B91","v":0},null,"",null,"","",null,"",null,null,{"$f":"IF(W96=\"\",\"\",IF(I96=1,VLOOKUP(W96,男子種目コード!$A$1:$B$33,2,FALSE),IF(I96=2,VLOOKUP(W96,女子種目コード!$A$1:$B$28,2,FALSE))))","v":""},null,null,{"$f":"IF(Z96=\"\",\"\",IF(I96=1,VLOOKUP(Z96,男子種目コード!$A$1:$B$33,2,FALSE),IF(V96=2,VLOOKUP(I96,女子種目コード!$A$1:$B$28,2,FALSE))))","v":""},null,null,{"$f":"IF(AC96=\"\",\"\",IF(I96=1,VLOOKUP(AC96,男子種目コード!$A$1:$B$33,2,FALSE),IF(Y96=2,VLOOKUP(I96,女子種目コード!$A$1:$B$28,2,FALSE))))","v":""},null,0,"","","",""]
[null,{"$f":"陸連登録!N92","v":0},null,null,{"$f":"陸連登録!M92","v":0},{"$f":"陸連登録!C92","v":0},{"$f":"陸連登録!D92","v":0},0,{"$f":"陸連登録!A92","v":""},{"$f":"陸連登録!P92","v":0},{"$f":"LEFT(陸連登録!L92,4)","v":""},{"$f":"RIGHT(陸連登録!L92,4)","v":""},{"$f":"陸連登録!F92","v":0},{"$f":"陸連登録!B92","v":0},null,"",null,"","",null,"",null,null,{"$f":"IF(W97=\"\",\"\",IF(I97=1,VLOOKUP(W97,男子種目コード!$A$1:$B$33,2,FALSE),IF(I97=2,VLOOKUP(W97,女子種目コード!$A$1:$B$28,2,FALSE))))","v":""},null,null,{"$f":"IF(Z97=\"\",\"\",IF(I97=1,VLOOKUP(Z97,男子種目コード!$A$1:$B$33,2,FALSE),IF(V97=2,VLOOKUP(I97,女子種目コード!$A$1:$B$28,2,FALSE))))","v":""},null,null,{"$f":"IF(AC97=\"\",\"\",IF(I97=1,VLOOKUP(AC97,男子種目コード!$A$1:$B$33,2,FALSE),IF(Y97=2,VLOOKUP(I97,女子種目コード!$A$1:$B$28,2,FALSE))))","v":""},null,0,"","","",""]
[null,{"$f":"陸連登録!N93","v":0},null,null,{"$f":"陸連登録!M93","v":0},{"$f":"陸連登録!C93","v":0},{"$f":"陸連登録!D93","v":0},0,{"$f":"陸連登録!A93","v":""},{"$f":"陸連登録!P93","v":0},{"$f":"LEFT(陸連登録!L93,4)","v":""},{"$f":"RIGHT(陸連登録!L93,4)","v":""},{"$f":"陸連登録!F93","v":0},{"$f":"陸連登録!B93","v":0},null,"",null,"","",null,"",null,null,{"$f":"IF(W98=\"\",\"\",IF(I98=1,VLOOKUP(W98,男子種目コード!$A$1:$B$33,2,FALSE),IF(I98=2,VLOOKUP(W98,女子種目コード!$A$1:$B$28,2,FALSE))))","v":""},null,null,{"$f":"IF(Z98=\"\",\"\",IF(I98=1,VLOOKUP(Z98,男子種目コード!$A$1:$B$33,2,FALSE),IF(V98=2,VLOOKUP(I98,女子種目コード!$A$1:$B$28,2,FALSE))))","v":""},null,null,{"$f":"IF(AC98=\"\",\"\",IF(I98=1,VLOOKUP(AC98,男子種目コード!$A$1:$B$33,2,FALSE),IF(Y98=2,VLOOKUP(I98,女子種目コード!$A$1:$B$28,2,FALSE))))","v":""},null,0,"","","",""]
[null,{"$f":"陸連登録!N94","v":0},null,null,{"$f":"陸連登録!M94","v":0},{"$f":"陸連登録!C94","v":0},{"$f":"陸連登録!D94","v":0},0,{"$f":"陸連登録!A94","v":""},{"$f":"陸連登録!P94","v":0},{"$f":"LEFT(陸連登録!L94,4)","v":""},{"$f":"RIGHT(陸連登録!L94,4)","v":""},{"$f":"陸連登録!F94","v":0},{"$f":"陸連登録!B94","v":0},null,"",null,"","",null,"",null,null,{"$f":"IF(W99=\"\",\"\",IF(I99=1,VLOOKUP(W99,男子種目コード!$A$1:$B$33,2,FALSE),IF(I99=2,VLOOKUP(W99,女子種目コード!$A$1:$B$28,2,FALSE))))","v":""},null,null,{"$f":"IF(Z99=\"\",\"\",IF(I99=1,VLOOKUP(Z99,男子種目コード!$A$1:$B$33,2,FALSE),IF(V99=2,VLOOKUP(I99,女子種目コード!$A$1:$B$28,2,FALSE))))","v":""},null,null,{"$f":"IF(AC99=\"\",\"\",IF(I99=1,VLOOKUP(AC99,男子種目コード!$A$1:$B$33,2,FALSE),IF(Y99=2,VLOOKUP(I99,女子種目コード!$A$1:$B$28,2,FALSE))))","v":""},null,0,"","","",""]
[null,{"$f":"陸連登録!N95","v":0},null,null,{"$f":"陸連登録!M95","v":0},{"$f":"陸連登録!C95","v":0},{"$f":"陸連登録!D95","v":0},0,{"$f":"陸連登録!A95","v":""},{"$f":"陸連登録!P95","v":0},{"$f":"LEFT(陸連登録!L95,4)","v":""},{"$f":"RIGHT(陸連登録!L95,4)","v":""},{"$f":"陸連登録!F95","v":0},{"$f":"陸連登録!B95","v":0},null,"",null,"","",null,"",null,null,{"$f":"IF(W100=\"\",\"\",IF(I100=1,VLOOKUP(W100,男子種目コード!$A$1:$B$33,2,FALSE),IF(I100=2,VLOOKUP(W100,女子種目コード!$A$1:$B$28,2,FALSE))))","v":""},null,null,{"$f":"IF(Z100=\"\",\"\",IF(I100=1,VLOOKUP(Z100,男子種目コード!$A$1:$B$33,2,FALSE),IF(V100=2,VLOOKUP(I100,女子種目コード!$A$1:$B$28,2,FALSE))))","v":""},null,null,{"$f":"IF(AC100=\"\",\"\",IF(I100=1,VLOOKUP(AC100,男子種目コード!$A$1:$B$33,2,FALSE),IF(Y100=2,VLOOKUP(I100,女子種目コード!$A$1:$B$28,2,FALSE))))","v":""},null,0,"","","",""]
[null,{"$f":"陸連登録!N96","v":0},null,null,{"$f":"陸連登録!M96","v":0},{"$f":"陸連登録!C96","v":0},{"$f":"陸連登録!D96","v":0},0,{"$f":"陸連登録!A96","v":""},{"$f":"陸連登録!P96","v":0},{"$f":"LEFT(陸連登録!L96,4)","v":""},{"$f":"RIGHT(陸連登録!L96,4)","v":""},{"$f":"陸連登録!F96","v":0},{"$f":"陸連登録!B96","v":0},null,"",null,"","",null,"",null,null,{"$f":"IF(W101=\"\",\"\",IF(I101=1,VLOOKUP(W101,男子種目コード!$A$1:$B$33,2,FALSE),IF(I101=2,VLOOKUP(W101,女子種目コード!$A$1:$B$28,2,FALSE))))","v":""},null,null,{"$f":"IF(Z101=\"\",\"\",IF(I101=1,VLOOKUP(Z101,男子種目コード!$A$1:$B$33,2,FALSE),IF(V101=2,VLOOKUP(I101,女子種目コード!$A$1:$B$28,2,FALSE))))","v":""},null,null,{"$f":"IF(AC101=\"\",\"\",IF(I101=1,VLOOKUP(AC101,男子種目コード!$A$1:$B$33,2,FALSE),IF(Y101=2,VLOOKUP(I101,女子種目コード!$A$1:$B$28,2,FALSE))))","v":""},null,0,"","","",""]
[null,{"$f":"陸連登録!N97","v":0},null,null,{"$f":"陸連登録!M97","v":0},{"$f":"陸連登録!C97","v":0},{"$f":"陸連登録!D97","v":0},0,{"$f":"陸連登録!A97","v":""},{"$f":"陸連登録!P97","v":0},{"$f":"LEFT(陸連登録!L97,4)","v":""},{"$f":"RIGHT(陸連登録!L97,4)","v":""},{"$f":"陸連登録!F97","v":0},{"$f":"陸連登録!B97","v":0},null,"",null,"","",null,"",null,null,{"$f":"IF(W102=\"\",\"\",IF(I102=1,VLOOKUP(W102,男子種目コード!$A$1:$B$33,2,FALSE),IF(I102=2,VLOOKUP(W102,女子種目コード!$A$1:$B$28,2,FALSE))))","v":""},null,null,{"$f":"IF(Z102=\"\",\"\",IF(I102=1,VLOOKUP(Z102,男子種目コード!$A$1:$B$33,2,FALSE),IF(V102=2,VLOOKUP(I102,女子種目コード!$A$1:$B$28,2,FALSE))))","v":""},null,null,{"$f":"IF(AC102=\"\",\"\",IF(I102=1,VLOOKUP(AC102,男子種目コード!$A$1:$B$33,2,FALSE),IF(Y102=2,VLOOKUP(I102,女子種目コード!$A$1:$B$28,2,FALSE))))","v":""},null,0,"","","",""]
[null,{"$f":"陸連登録!N98","v":0},null,null,{"$f":"陸連登録!M98","v":0},{"$f":"陸連登録!C98","v":0},{"$f":"陸連登録!D98","v":0},0,{"$f":"陸連登録!A98","v":""},{"$f":"陸連登録!P98","v":0},{"$f":"LEFT(陸連登録!L98,4)","v":""},{"$f":"RIGHT(陸連登録!L98,4)","v":""},{"$f":"陸連登録!F98","v":0},{"$f":"陸連登録!B98","v":0},null,{"$f":"IF(O103=\"\",\"\",IF(I103=1,VLOOKUP(O103,$AM$7:$AO$13,3,FALSE),IF(I103=2,VLOOKUP(O103,$AM$14:$AO$20,3,FALSE))))","v":""},null,"","",null,{"$f":"IF(T103=\"\",\"\",IF(I103=1,VLOOKUP(T103,$AM$7:$AO$13,3,FALSE),IF(I103=2,VLOOKUP(T103,$AM$14:$AO$20,3,FALSE))))","v":""},null,null,{"$f":"IF(W103=\"\",\"\",IF(I103=1,VLOOKUP(W103,男子種目コード!$A$1:$B$33,2,FALSE),IF(I103=2,VLOOKUP(W103,女子種目コード!$A$1:$B$28,2,FALSE))))","v":""},null,null,{"$f":"IF(Z103=\"\",\"\",IF(I103=1,VLOOKUP(Z103,男子種目コード!$A$1:$B$33,2,FALSE),IF(V103=2,VLOOKUP(I103,女子種目コード!$A$1:$B$28,2,FALSE))))","v":""},null,null,{"$f":"IF(AC103=\"\",\"\",IF(I103=1,VLOOKUP(AC103,男子種目コード!$A$1:$B$33,2,FALSE),IF(Y103=2,VLOOKUP(I103,女子種目コード!$A$1:$B$28,2,FALSE))))","v":""},null,0,"","","",""]
[null,{"$f":"陸連登録!N99","v":0},null,null,{"$f":"陸連登録!M99","v":0},{"$f":"陸連登録!C99","v":0},{"$f":"陸連登録!D99","v":0},0,{"$f":"陸連登録!A99","v":""},{"$f":"陸連登録!P99","v":0},{"$f":"LEFT(陸連登録!L99,4)","v":""},{"$f":"RIGHT(陸連登録!L99,4)","v":""},{"$f":"陸連登録!F99","v":0},{"$f":"陸連登録!B99","v":0},null,"",null,"","",null,"",null,null,{"$f":"IF(W104=\"\",\"\",IF(I104=1,VLOOKUP(W104,男子種目コード!$A$1:$B$33,2,FALSE),IF(I104=2,VLOOKUP(W104,女子種目コード!$A$1:$B$28,2,FALSE))))","v":""},null,null,{"$f":"IF(Z104=\"\",\"\",IF(I104=1,VLOOKUP(Z104,男子種目コード!$A$1:$B$33,2,FALSE),IF(V104=2,VLOOKUP(I104,女子種目コード!$A$1:$B$28,2,FALSE))))","v":""},null,null,{"$f":"IF(AC104=\"\",\"\",IF(I104=1,VLOOKUP(AC104,男子種目コード!$A$1:$B$33,2,FALSE),IF(Y104=2,VLOOKUP(I104,女子種目コード!$A$1:$B$28,2,FALSE))))","v":""},null,0,"","","",""]
[null,{"$f":"陸連登録!N100","v":0},null,null,{"$f":"陸連登録!M100","v":0},{"$f":"陸連登録!C100","v":0},{"$f":"陸連登録!D100","v":0},0,{"$f":"陸連登録!A100","v":""},{"$f":"陸連登録!P100","v":0},{"$f":"LEFT(陸連登録!L100,4)","v":""},{"$f":"RIGHT(陸連登録!L100,4)","v":""},{"$f":"陸連登録!F100","v":0},{"$f":"陸連登録!B100","v":0},null,"",null,"","",null,"",null,null,{"$f":"IF(W105=\"\",\"\",IF(I105=1,VLOOKUP(W105,男子種目コード!$A$1:$B$33,2,FALSE),IF(I105=2,VLOOKUP(W105,女子種目コード!$A$1:$B$28,2,FALSE))))","v":""},null,null,{"$f":"IF(Z105=\"\",\"\",IF(I105=1,VLOOKUP(Z105,男子種目コード!$A$1:$B$33,2,FALSE),IF(V105=2,VLOOKUP(I105,女子種目コード!$A$1:$B$28,2,FALSE))))","v":""},null,null,{"$f":"IF(AC105=\"\",\"\",IF(I105=1,VLOOKUP(AC105,男子種目コード!$A$1:$B$33,2,FALSE),IF(Y105=2,VLOOKUP(I105,女子種目コード!$A$1:$B$28,2,FALSE))))","v":""},null,0,"","","",""]
[null,{"$f":"陸連登録!N101","v":0},null,null,{"$f":"陸連登録!M101","v":0},{"$f":"陸連登録!C101","v":0},{"$f":"陸連登録!D101","v":0},0,{"$f":"陸連登録!A101","v":""},{"$f":"陸連登録!P101","v":0},{"$f":"LEFT(陸連登録!L101,4)","v":""},{"$f":"RIGHT(陸連登録!L101,4)","v":""},{"$f":"陸連登録!F101","v":0},{"$f":"陸連登録!B101","v":0},null,"",null,"","",null,"",null,null,null,null,null,null,null,null,null,null,0,"","","",""]
[null,{"$f":"陸連登録!N102","v":0},null,null,{"$f":"陸連登録!M102","v":0},{"$f":"陸連登録!C102","v":0},{"$f":"陸連登録!D102","v":0},0,{"$f":"陸連登録!A102","v":""},{"$f":"陸連登録!P102","v":0},{"$f":"LEFT(陸連登録!L102,4)","v":""},{"$f":"RIGHT(陸連登録!L102,4)","v":""},{"$f":"陸連登録!F102","v":0},{"$f":"陸連登録!B102","v":0},null,"",null,"","",null,"",null,null,null,null,null,null,null,null,null,null,0,"","","",""]
[null,{"$f":"陸連登録!N103","v":0},null,null,{"$f":"陸連登録!M103","v":0},{"$f":"陸連登録!C103","v":0},{"$f":"陸連登録!D103","v":0},0,{"$f":"陸連登録!A103","v":""},{"$f":"陸連登録!P103","v":0},{"$f":"LEFT(陸連登録!L103,4)","v":""},{"$f":"RIGHT(陸連登録!L103,4)","v":""},{"$f":"陸連登録!F103","v":0},{"$f":"陸連登録!B103","v":0},null,"",null,"","",null,"",null,null,null,null,null,null,null,null,null,null,0,"","","",""]
[null,{"$f":"陸連登録!N104","v":0},null,null,{"$f":"陸連登録!M104","v":0},{"$f":"陸連登録!C104","v":0},{"$f":"陸連登録!D104","v":0},0,{"$f":"陸連登録!A104","v":""},{"$f":"陸連登録!P104","v":0},{"$f":"LEFT(陸連登録!L104,4)","v":""},{"$f":"RIGHT(陸連登録!L104,4)","v":""},{"$f":"陸連登録!F104","v":0},{"$f":"陸連登録!B104","v":0},null,"",null,"","",null,"",null,null,null,null,null,null,null,null,null,null,0,"","","",""]
[null,{"$f":"陸連登録!N105","v":0},null,null,{"$f":"陸連登録!M105","v":0},{"$f":"陸連登録!C105","v":0},{"$f":"陸連登録!D105","v":0},0,{"$f":"陸連登録!A105","v":""},{"$f":"陸連登録!P105","v":0},{"$f":"LEFT(陸連登録!L105,4)","v":""},{"$f":"RIGHT(陸連登録!L105,4)","v":""},{"$f":"陸連登録!F105","v":0},{"$f":"陸連登録!B105","v":0},null,"",null,"","",null,"",null,null,null,null,null,null,null,null,null,null,0,"","","",""]
[null,{"$f":"陸連登録!N106","v":0},null,null,{"$f":"陸連登録!M106","v":0},{"$f":"陸連登録!C106","v":0},{"$f":"陸連登録!D106","v":0},0,{"$f":"陸連登録!A106","v":""},{"$f":"陸連登録!P106","v":0},{"$f":"LEFT(陸連登録!L106,4)","v":""},{"$f":"RIGHT(陸連登録!L106,4)","v":""},{"$f":"陸連登録!F106","v":0},{"$f":"陸連登録!B106","v":0},null,"",null,"","",null,"",null,null,null,null,null,null,null,null,null,null,0,"","","",""]
[null,{"$f":"陸連登録!N107","v":0},null,null,{"$f":"陸連登録!M107","v":0},{"$f":"陸連登録!C107","v":0},{"$f":"陸連登録!D107","v":0},0,{"$f":"陸連登録!A107","v":""},{"$f":"陸連登録!P107","v":0},{"$f":"LEFT(陸連登録!L107,4)","v":""},{"$f":"RIGHT(陸連登録!L107,4)","v":""},{"$f":"陸連登録!F107","v":0},{"$f":"陸連登録!B107","v":0},null,"",null,"","",null,"",null,null,null,null,null,null,null,null,null,null,0,"","","",""]
[null,{"$f":"陸連登録!N108","v":0},null,null,{"$f":"陸連登録!M108","v":0},{"$f":"陸連登録!C108","v":0},{"$f":"陸連登録!D108","v":0},0,{"$f":"陸連登録!A108","v":""},{"$f":"陸連登録!P108","v":0},{"$f":"LEFT(陸連登録!L108,4)","v":""},{"$f":"RIGHT(陸連登録!L108,4)","v":""},{"$f":"陸連登録!F108","v":0},{"$f":"陸連登録!B108","v":0},null,"",null,"","",null,"",null,null,null,null,null,null,null,null,null,null,0,"","","",""]
[null,{"$f":"陸連登録!N109","v":0},null,null,{"$f":"陸連登録!M109","v":0},{"$f":"陸連登録!C109","v":0},{"$f":"陸連登録!D109","v":0},0,{"$f":"陸連登録!A109","v":""},{"$f":"陸連登録!P109","v":0},{"$f":"LEFT(陸連登録!L109,4)","v":""},{"$f":"RIGHT(陸連登録!L109,4)","v":""},{"$f":"陸連登録!F109","v":0},{"$f":"陸連登録!B109","v":0},null,"",null,"","",null,"",null,null,null,null,null,null,null,null,null,null,0,"","","",""]
[null,{"$f":"陸連登録!N110","v":0},null,null,{"$f":"陸連登録!M110","v":0},{"$f":"陸連登録!C110","v":0},{"$f":"陸連登録!D110","v":0},0,{"$f":"陸連登録!A110","v":""},{"$f":"陸連登録!P110","v":0},{"$f":"LEFT(陸連登録!L110,4)","v":""},{"$f":"RIGHT(陸連登録!L110,4)","v":""},{"$f":"陸連登録!F110","v":0},{"$f":"陸連登録!B110","v":0},null,"",null,"","",null,"",null,null,null,null,null,null,null,null,null,null,0,"","","",""]
[null,{"$f":"陸連登録!N111","v":0},null,null,{"$f":"陸連登録!M111","v":0},{"$f":"陸連登録!C111","v":0},{"$f":"陸連登録!D111","v":0},0,{"$f":"陸連登録!A111","v":""},{"$f":"陸連登録!P111","v":0},{"$f":"LEFT(陸連登録!L111,4)","v":""},{"$f":"RIGHT(陸連登録!L111,4)","v":""},{"$f":"陸連登録!F111","v":0},{"$f":"陸連登録!B111","v":0},null,"",null,"","",null,"",null,null,{"$f":"IF(W116=\"\",\"\",IF(I116=1,VLOOKUP(W116,男子種目コード!$A$1:$B$33,2,FALSE),IF(I116=2,VLOOKUP(W116,女子種目コード!$A$1:$B$28,2,FALSE))))","v":""},null,null,{"$f":"IF(Z116=\"\",\"\",IF(I116=1,VLOOKUP(Z116,男子種目コード!$A$1:$B$33,2,FALSE),IF(V116=2,VLOOKUP(I116,女子種目コード!$A$1:$B$28,2,FALSE))))","v":""},null,null,{"$f":"IF(AC116=\"\",\"\",IF(I116=1,VLOOKUP(AC116,男子種目コード!$A$1:$B$33,2,FALSE),IF(Y116=2,VLOOKUP(I116,女子種目コード!$A$1:$B$28,2,FALSE))))","v":""},null,0,"","","",""]

{"sheet":"県選","index":8,"n_rows":118,"n_cols":60,"rows_kept":118,"cut":false,"hidden":false,"merged":[[1,15,1,16],[6,45,6,46],[35,45,35,46],[5,45,5,46],[5,56,5,57],[13,56,13,57],[1,21,1,22]]}
[null,null,null,null,"所属名",{"$f":"陸連登録!I2","v":0},"この大会は三重陸協が承認した者しかエントリーができません。"]
[null,null,null,null,"所属コード",{"$f":"陸連登録!N2","v":0},"三重県選手権"]
[null,null,null,null,"顧問名"]
[null,null,null,null,"顧問連絡先",null,null,null,"大会参加費",null,null,null,null,null,{"$f":"($AF$118*1000+AU64*2000)+O5*800","v":0}]
[null,null,null,null,null,null,null,null,"プログラム冊数",null,null,null,null,null,null,null,"冊"]
["競技者コード","所属コード","コード２","ナンバーA","ナンバー","名前","カナ名","掲示板名","性別","学年","生年","月日","個人所属地コード","陸連ID","種目","コード","記録",null,null,"種目","コード","記録",null,null,"リレー","コード","記録","4×100R","コード","記録",null,null,"4×400R","コード","記録",null,null,null,100,null,null,null,null,null,"NO","種目別人数",null,null,null,null,100,100,null,null,null,null,"男子4×100mR"]
[{"$f":"Z7","v":""},{"$f":"陸連登録!N2","v":0},null,null,{"$f":"陸連登録!M2","v":1000},{"$f":"陸連登録!C2","v":"岡田"},{"$f":"陸連登録!D2","v":0},{"$f":"F7","v":"岡田"},{"$f":"陸連登録!A2","v":1},{"$f":"陸連登録!P2","v":3},{"$f":"LEFT(陸連登録!L2,4)","v":""},{"$f":"RIGHT(陸連登録!L2,4)","v":""},{"$f":"陸連登録!F2","v":0},{"$f":"陸連登録!B2","v":0},null,{"$f":"IF(O7=\"\",\"\",IF(I7=1,VLOOKUP(O7,$AT$8:$AV$34,3,FALSE),IF(I7=2,VLOOKUP(O7,$AT$37:$AV$58,3,FALSE))))","v":""},null,{"$f":"IF(O7=\"\",\"\",0)","v":""},{"$f":"IF(O7=\"\",\"\",2)","v":""},null,{"$f":"IF(T7=\"\",\"\",IF(I7=1,VLOOKUP(T7,$AT$8:$AV$34,3,FALSE),IF(I7=2,VLOOKUP(T7,$AT$37:$AV$58,3,FALSE))))","v":""},null,{"$f":"IF(T7=\"\",\"\",0)","v":""},{"$f":"IF(T7=\"\",\"\",2)","v":""},null,{"$f":"IF(Y7=\"\",\"\",IF(I7=1,VLOOKUP(Y7,男子種目コード!$A$1:$B$33,2,FALSE),IF(I7=2,VLOOKUP(Y7,女子種目コード!$A$1:$B$27,2,FALSE))))","v":""},null,null,null,null,{"$f":"IF(AB7=\"\",\"\",0)","v":""},{"$f":"IF(AB7=\"\",\"\",2)","v":""},null,null,null,null,null,null,200,{"$f":"IF(O7=\"\",\"\",1)","v":""},{"$f":"IF(T7=\"\",\"\",1)","v":""},{"$f":"COUNTIF($Y$7:$Y$116,\"4×100\")","v":0},null,null,{"$f":"E7","v":1000},"男子",null,null,null,null,200,200,{"$f":"COUNTIF(U7:U116,13)","v":0},{"$f":"IF(BA7>0,1,0)","v":0},null,null,"記録"]
[{"$f":"Z8","v":""},{"$f":"陸連登録!N3","v":0},null,null,{"$f":"陸連登録!M3","v":0},{"$f":"陸連登録!C3","v":0},{"$f":"陸連登録!D3","v":0},{"$f":"F8","v":0},{"$f":"陸連登録!A3","v":""},{"$f":"陸連登録!P3","v":0},{"$f":"LEFT(陸連登録!L3,4)","v":""},{"$f":"RIGHT(陸連登録!L3,4)","v":""},{"$f":"陸連登録!F3","v":0},{"$f":"陸連登録!B3","v":0},null,{"$f":"IF(O8=\"\",\"\",IF(I8=1,VLOOKUP(O8,$AT$8:$AV$34,3,FALSE),IF(I8=2,VLOOKUP(O8,$AT$37:$AV$58,3,FALSE))))","v":""},null,{"$f":"IF(O8=\"\",\"\",0)","v":""},{"$f":"IF(O8=\"\",\"\",2)","v":""},null,{"$f":"IF(T8=\"\",\"\",IF(I8=1,VLOOKUP(T8,$AT$8:$AV$34,3,FALSE),IF(I8=2,VLOOKUP(T8,$AT$37:$AV$58,3,FALSE))))","v":""},null,{"$f":"IF(T8=\"\",\"\",0)","v":""},{"$f":"IF(T8=\"\",\"\",2)","v":""},null,{"$f":"IF(Y8=\"\",\"\",IF(I8=1,VLOOKUP(Y8,男子種目コード!$A$1:$B$33,2,FALSE),IF(I8=2,VLOOKUP(Y8,女子種目コード!$A$1:$B$27,2,FALSE))))","v":""},null,null,null,null,{"$f":"IF(AB8=\"\",\"\",0)","v":""},{"$f":"IF(AB8=\"\",\"\",2)","v":""},null,null,null,null,null,null,400,"","",{"$f":"IF(AP7>0,1)","v":false},null,null,0,"100m",{"$f":"COUNTIF($P$7:$P$116,1)+COUNTIF($U$7:$U$116,1)","v":0},1,null,null,400,400,{"$f":"COUNTIF(U7:U116,53)","v":0},{"$f":"IF(BA8>0,1,0)","v":0},null,null,{"$f":"IF(ISERROR(BG8),\"\",BG8)","v":""},"",{"$f":"VLookUpX(13,$A$7:$F$116,1,5)","v":{"$error":"#N/A"}},{"$f":"VLookUpX(13,$A$7:$F$116,1,6)","v":{"$error":"#N/A"}}]
["",{"$f":"陸連登録!N4","v":0},null,null,{"$f":"陸連登録!M4","v":0},{"$f":"陸連登録!C4","v":0},{"$f":"陸連登録!D4","v":0},0,{"$f":"陸連登録!A4","v":""},{"$f":"陸連登録!P4","v":0},{"$f":"LEFT(陸連登録!L4,4)","v":""},{"$f":"RIGHT(陸連登録!L4,4)","v":""},{"$f":"陸連登録!F4","v":0},{"$f":"陸連登録!B4","v":0},null,"",null,"","",null,"",null,"","",null,{"$f":"IF(Y9=\"\",\"\",IF(I9=1,VLOOKUP(Y9,男子種目コード!$A$1:$B$33,2,FALSE),IF(I9=2,VLOOKUP(Y9,女子種目コード!$A$1:$B$27,2,FALSE))))","v":""},null,null,null,null,"","",null,null,null,null,null,null,800,"","",null,null,null,0,"200m",{"$f":"COUNTIF($P$7:$P$116,2)+COUNTIF($U$7:$U$116,2)","v":0},2,null,null,800,800,null,{"$f":"SUM(BB7:BB8)","v":0},null,null,"","",{"$f":"VLookUpX(13,$A$7:$F$116,2,5)","v":{"$error":"#N/A"}},{"$f":"VLookUpX(13,$A$7:$F$116,2,6)","v":{"$error":"#N/A"}}]
["",{"$f":"陸連登録!N5","v":0},null,null,{"$f":"陸連登録!M5","v":0},{"$f":"陸連登録!C5","v":0},{"$f":"陸連登録!D5","v":0},0,{"$f":"陸連登録!A5","v":""},{"$f":"陸連登録!P5","v":0},{"$f":"LEFT(陸連登録!L5,4)","v":""},{"$f":"RIGHT(陸連登録!L5,4)","v":""},{"$f":"陸連登録!F5","v":0},{"$f":"陸連登録!B5","v":0},null,"",null,"","",null,"",null,"","",null,{"$f":"IF(Y10=\"\",\"\",IF(I10=1,VLOOKUP(Y10,男子種目コード!$A$1:$B$33,2,FALSE),IF(I10=2,VLOOKUP(Y10,女子種目コード!$A$1:$B$27,2,FALSE))))","v":""},null,null,null,null,"","",null,null,null,null,null,null,1500,"","",null,null,null,0,"400m",{"$f":"COUNTIF($P$7:$P$116,3)+COUNTIF($U$7:$U$116,3)","v":0},3,null,null,1500,1500,null,null,null,null,"","",{"$f":"VLookUpX(13,$A$7:$F$116,3,5)","v":{"$error":"#N/A"}},{"$f":"VLookUpX(13,$A$7:$F$116,3,6)","v":{"$error":"#N/A"}}]
["",{"$f":"陸連登録!N6","v":0},null,null,{"$f":"陸連登録!M6","v":0},{"$f":"陸連登録!C6","v":0},{"$f":"陸連登録!D6","v":0},0,{"$f":"陸連登録!A6","v":""},{"$f":"陸連登録!P6","v":0},{"$f":"LEFT(陸連登録!L6,4)","v":""},{"$f":"RIGHT(陸連登録!L6,4)","v":""},{"$f":"陸連登録!F6","v":0},{"$f":"陸連登録!B6","v":0},null,"",null,"","",null,"",null,"","",null,{"$f":"IF(Y11=\"\",\"\",IF(I11=1,VLOOKUP(Y11,男子種目コード!$A$1:$B$33,2,FALSE),IF(I11=2,VLOOKUP(Y11,女子種目コード!$A$1:$B$27,2,FALSE))))","v":""},null,null,null,null,"","",null,null,null,null,null,null,5000,"","",null,null,null,0,"800m",{"$f":"COUNTIF($P$7:$P$116,4)+COUNTIF($U$7:$U$116,4)","v":0},4,null,null,5000,5000,null,null,null,null,"","",{"$f":"VLookUpX(13,$A$7:$F$116,4,5)","v":{"$error":"#N/A"}},{"$f":"VLookUpX(13,$A$7:$F$116,4,6)","v":{"$error":"#N/A"}}]
["",{"$f":"陸連登録!N7","v":0},null,null,{"$f":"陸連登録!M7","v":0},{"$f":"陸連登録!C7","v":0},{"$f":"陸連登録!D7","v":0},0,{"$f":"陸連登録!A7","v":""},{"$f":"陸連登録!P7","v":0},{"$f":"LEFT(陸連登録!L7,4)","v":""},{"$f":"RIGHT(陸連登録!L7,4)","v":""},{"$f":"陸連登録!F7","v":0},{"$f":"陸連登録!B7","v":0},null,"",null,"","",null,"",null,"","",null,{"$f":"IF(Y12=\"\",\"\",IF(I12=1,VLOOKUP(Y12,男子種目コード!$A$1:$B$33,2,FALSE),IF(I12=2,VLOOKUP(Y12,女子種目コード!$A$1:$B$27,2,FALSE))))","v":""},null,null,null,null,"","",null,null,null,null,null,null,10000,"","",null,null,null,0,"1500m",{"$f":"COUNTIF($P$7:$P$116,5)+COUNTIF($U$7:$U$116,5)","v":0},5,null,null,10000,10000,null,null,null,null,"","",{"$f":"VLookUpX(13,$A$7:$F$116,5,5)","v":{"$error":"#N/A"}},{"$f":"VLookUpX(13,$A$7:$F$116,5,6)","v":{"$error":"#N/A"}}]
["",{"$f":"陸連登録!N8","v":0},null,null,{"$f":"陸連登録!M8","v":0},{"$f":"陸連登録!C8","v":0},{"$f":"陸連登録!D8","v":0},0,{"$f":"陸連登録!A8","v":""},{"$f":"陸連登録!P8","v":0},{"$f":"LEFT(陸連登録!L8,4)","v":""},{"$f":"RIGHT(陸連登録!L8,4)","v":""},{"$f":"陸連登録!F8","v":0},{"$f":"陸連登録!B8","v":0},null,"",null,"","",null,"",null,"","",null,{"$f":"IF(Y13=\"\",\"\",IF(I13=1,VLOOKUP(Y13,男子種目コード!$A$1:$B$33,2,FALSE),IF(I13=2,VLOOKUP(Y13,女子種目コード!$A$1:$B$27,2,FALSE))))","v":""},null,null,null,null,"","",null,null,null,null,null,null,"100H","","",null,null,null,0,"5000m",{"$f":"COUNTIF($P$7:$P$116,6)+COUNTIF($U$7:$U$116,6)","v":0},6,null,null,"110H","100H",null,null,null,null,"","",{"$f":"VLookUpX(13,$A$7:$F$116,6,5)","v":{"$error":"#N/A"}},{"$f":"VLookUpX(13,$A$7:$F$116,6,6)","v":{"$error":"#N/A"}}]
["",{"$f":"陸連登録!N9","v":0},null,null,{"$f":"陸連登録!M9","v":0},{"$f":"陸連登録!C9","v":0},{"$f":"陸連登録!D9","v":0},0,{"$f":"陸連登録!A9","v":""},{"$f":"陸連登録!P9","v":0},{"$f":"LEFT(陸連登録!L9,4)","v":""},{"$f":"RIGHT(陸連登録!L9,4)","v":""},{"$f":"陸連登録!F9","v":0},{"$f":"陸連登録!B9","v":0},null,"",null,"","",null,"",null,"","",null,{"$f":"IF(Y14=\"\",\"\",IF(I14=1,VLOOKUP(Y14,男子種目コード!$A$1:$B$33,2,FALSE),IF(I14=2,VLOOKUP(Y14,女子種目コード!$A$1:$B$27,2,FALSE))))","v":""},null,null,null,null,"","",null,null,null,null,null,null,"110H","","",null,null,null,0,"10000m",{"$f":"COUNTIF($P$7:$P$116,7)+COUNTIF($U$7:$U$116,7)","v":0},7,null,null,"400H","400H",null,null,null,null,"女子4×100mR"]
["",{"$f":"陸連登録!N10","v":0},null,null,{"$f":"陸連登録!M10","v":0},{"$f":"陸連登録!C10","v":0},{"$f":"陸連登録!D10","v":0},0,{"$f":"陸連登録!A10","v":""},{"$f":"陸連登録!P10","v":0},{"$f":"LEFT(陸連登録!L10,4)","v":""},{"$f":"RIGHT(陸連登録!L10,4)","v":""},{"$f":"陸連登録!F10","v":0},{"$f":"陸連登録!B10","v":0},null,"",null,"","",null,"",null,"","",null,{"$f":"IF(Y15=\"\",\"\",IF(I15=1,VLOOKUP(Y15,男子種目コード!$A$1:$B$33,2,FALSE),IF(I15=2,VLOOKUP(Y15,女子種目コード!$A$1:$B$27,2,FALSE))))","v":""},null,null,null,null,"","",null,null,null,null,null,null,"400H","","",null,null,null,0,"110mH",{"$f":"COUNTIF($P$7:$P$116,8)+COUNTIF($U$7:$U$116,8)","v":0},8,null,null,"3000SC","3000SC",null,null,null,null,"記録"]
["",{"$f":"陸連登録!N11","v":0},null,null,{"$f":"陸連登録!M11","v":0},{"$f":"陸連登録!C11","v":0},{"$f":"陸連登録!D11","v":0},0,{"$f":"陸連登録!A11","v":""},{"$f":"陸連登録!P11","v":0},{"$f":"LEFT(陸連登録!L11,4)","v":""},{"$f":"RIGHT(陸連登録!L11,4)","v":""},{"$f":"陸連登録!F11","v":0},{"$f":"陸連登録!B11","v":0},null,"",null,"","",null,"",null,"","",null,{"$f":"IF(Y16=\"\",\"\",IF(I16=1,VLOOKUP(Y16,男子種目コード!$A$1:$B$33,2,FALSE),IF(I16=2,VLOOKUP(Y16,女子種目コード!$A$1:$B$27,2,FALSE))))","v":""},null,null,null,null,"","",null,null,null,null,null,null,"3000SC","","",null,null,null,0,"400mH",{"$f":"COUNTIF($P$7:$P$116,9)+COUNTIF($U$7:$U$116,9)","v":0},9,null,null,"5000W","5000W",null,null,null,null,{"$f":"IF(ISERROR(BG16),\"\",BG16)","v":""},"",{"$f":"VLookUpX(53,$A$7:$F$116,1,5)","v":{"$error":"#N/A"}},{"$f":"VLookUpX(53,$A$7:$F$116,1,6)","v":{"$error":"#N/A"}}]
["",{"$f":"陸連登録!N12","v":0},null,null,{"$f":"陸連登録!M12","v":0},{"$f":"陸連登録!C12","v":0},{"$f":"陸連登録!D12","v":0},0,{"$f":"陸連登録!A12","v":""},{"$f":"陸連登録!P12","v":0},{"$f":"LEFT(陸連登録!L12,4)","v":""},{"$f":"RIGHT(陸連登録!L12,4)","v":""},{"$f":"陸連登録!F12","v":0},{"$f":"陸連登録!B12","v":0},null,"",null,"","",null,"",null,"","",null,{"$f":"IF(Y17=\"\",\"\",IF(I17=1,VLOOKUP(Y17,男子種目コード!$A$1:$B$33,2,FALSE),IF(I17=2,VLOOKUP(Y17,女子種目コード!$A$1:$B$27,2,FALSE))))","v":""},null,null,null,null,"","",null,null,null,null,null,null,"5000W","","",null,null,null,0,"3000mSC",{"$f":"COUNTIF($P$7:$P$116,10)+COUNTIF($U$7:$U$116,10)","v":0},10,null,null,"走高跳","走高跳",null,null,null,null,"","",{"$f":"VLookUpX(53,$A$7:$F$116,2,5)","v":{"$error":"#N/A"}},{"$f":"VLookUpX(53,$A$7:$F$116,2,6)","v":{"$error":"#N/A"}}]
["",{"$f":"陸連登録!N13","v":0},null,null,{"$f":"陸連登録!M13","v":0},{"$f":"陸連登録!C13","v":0},{"$f":"陸連登録!D13","v":0},0,{"$f":"陸連登録!A13","v":""},{"$f":"陸連登録!P13","v":0},{"$f":"LEFT(陸連登録!L13,4)","v":""},{"$f":"RIGHT(陸連登録!L13,4)","v":""},{"$f":"陸連登録!F13","v":0},{"$f":"陸連登録!B13","v":0},null,"",null,"","",null,"",null,"","",null,{"$f":"IF(Y18=\"\",\"\",IF(I18=1,VLOOKUP(Y18,男子種目コード!$A$1:$B$33,2,FALSE),IF(I18=2,VLOOKUP(Y18,女子種目コード!$A$1:$B$27,2,FALSE))))","v":""},null,null,null,null,"","",null,null,null,null,null,null,"走高跳","","",null,null,null,0,"5000mW",{"$f":"COUNTIF($P$7:$P$116,12)+COUNTIF($U$7:$U$116,12)","v":0},12,null,null,"棒高跳","棒高跳",null,null,null,null,"","",{"$f":"VLookUpX(53,$A$7:$F$116,3,5)","v":{"$error":"#N/A"}},{"$f":"VLookUpX(53,$A$7:$F$116,3,6)","v":{"$error":"#N/A"}}]
["",{"$f":"陸連登録!N14","v":0},null,null,{"$f":"陸連登録!M14","v":0},{"$f":"陸連登録!C14","v":0},{"$f":"陸連登録!D14","v":0},0,{"$f":"陸連登録!A14","v":""},{"$f":"陸連登録!P14","v":0},{"$f":"LEFT(陸連登録!L14,4)","v":""},{"$f":"RIGHT(陸連登録!L14,4)","v":""},{"$f":"陸連登録!F14","v":0},{"$f":"陸連登録!B14","v":0},null,"",null,"","",null,"",null,"","",null,{"$f":"IF(Y19=\"\",\"\",IF(I19=1,VLOOKUP(Y19,男子種目コード!$A$1:$B$33,2,FALSE),IF(I19=2,VLOOKUP(Y19,女子種目コード!$A$1:$B$27,2,FALSE))))","v":""},null,null,null,null,"","",null,null,null,null,null,null,"棒高跳","","",null,null,null,0,"走高跳",{"$f":"COUNTIF($P$7:$P$116,15)+COUNTIF($U$7:$U$116,15)","v":0},15,null,null,"走幅跳","走幅跳",null,null,null,null,"","",{"$f":"VLookUpX(53,$A$7:$F$116,4,5)","v":{"$error":"#N/A"}},{"$f":"VLookUpX(53,$A$7:$F$116,4,6)","v":{"$error":"#N/A"}}]
["",{"$f":"陸連登録!N15","v":0},null,null,{"$f":"陸連登録!M15","v":0},{"$f":"陸連登録!C15","v":0},{"$f":"陸連登録!D15","v":0},0,{"$f":"陸連登録!A15","v":""},{"$f":"陸連登録!P15","v":0},{"$f":"LEFT(陸連登録!L15,4)","v":""},{"$f":"RIGHT(陸連登録!L15,4)","v":""},{"$f":"陸連登録!F15","v":0},{"$f":"陸連登録!B15","v":0},null,"",null,"","",null,"",null,"","",null,{"$f":"IF(Y20=\"\",\"\",IF(I20=1,VLOOKUP(Y20,男子種目コード!$A$1:$B$33,2,FALSE),IF(I20=2,VLOOKUP(Y20,女子種目コード!$A$1:$B$27,2,FALSE))))","v":""},null,null,null,null,"","",null,null,null,null,null,null,"走幅跳","","",null,null,null,0,"棒高跳",{"$f":"COUNTIF($P$7:$P$116,16)+COUNTIF($U$7:$U$116,16)","v":0},16,null,null,"三段跳","三段跳",null,null,null,null,"","",{"$f":"VLookUpX(53,$A$7:$F$116,5,5)","v":{"$error":"#N/A"}},{"$f":"VLookUpX(53,$A$7:$F$116,5,6)","v":{"$error":"#N/A"}}]
["",{"$f":"陸連登録!N16","v":0},null,null,{"$f":"陸連登録!M16","v":0},{"$f":"陸連登録!C16","v":0},{"$f":"陸連登録!D16","v":0},0,{"$f":"陸連登録!A16","v":""},{"$f":"陸連登録!P16","v":0},{"$f":"LEFT(陸連登録!L16,4)","v":""},{"$f":"RIGHT(陸連登録!L16,4)","v":""},{"$f":"陸連登録!F16","v":0},{"$f":"陸連登録!B16","v":0},null,"",null,"","",null,"",null,"","",null,{"$f":"IF(Y21=\"\",\"\",IF(I21=1,VLOOKUP(Y21,男子種目コード!$A$1:$B$33,2,FALSE),IF(I21=2,VLOOKUP(Y21,女子種目コード!$A$1:$B$27,2,FALSE))))","v":""},null,null,null,null,"","",null,null,null,null,null,null,"三段跳","","",null,null,null,0,"走幅跳",{"$f":"COUNTIF($P$7:$P$116,17)+COUNTIF($U$7:$U$116,17)","v":0},17,null,null,"砲丸投","砲丸投",null,null,null,null,"","",{"$f":"VLookUpX(53,$A$7:$F$116,6,5)","v":{"$error":"#N/A"}},{"$f":"VLookUpX(53,$A$7:$F$116,6,6)","v":{"$error":"#N/A"}}]
["",{"$f":"陸連登録!N17","v":0},null,null,{"$f":"陸連登録!M17","v":0},{"$f":"陸連登録!C17","v":0},{"$f":"陸連登録!D17","v":0},0,{"$f":"陸連登録!A17","v":""},{"$f":"陸連登録!P17","v":0},{"$f":"LEFT(陸連登録!L17,4)","v":""},{"$f":"RIGHT(陸連登録!L17,4)","v":""},{"$f":"陸連登録!F17","v":0},{"$f":"陸連登録!B17","v":0},null,"",null,"","",null,"",null,"","",null,{"$f":"IF(Y22=\"\",\"\",IF(I22=1,VLOOKUP(Y22,男子種目コード!$A$1:$B$33,2,FALSE),IF(I22=2,VLOOKUP(Y22,女子種目コード!$A$1:$B$27,2,FALSE))))","v":""},null,null,null,null,"","",null,null,null,null,null,null,"砲丸投","","",null,null,null,0,"三段跳",{"$f":"COUNTIF($P$7:$P$116,18)+COUNTIF($U$7:$U$116,18)","v":0},18,null,null,"円盤投","円盤投"]
["",{"$f":"陸連登録!N18","v":0},null,null,{"$f":"陸連登録!M18","v":0},{"$f":"陸連登録!C18","v":0},{"$f":"陸連登録!D18","v":0},0,{"$f":"陸連登録!A18","v":""},{"$f":"陸連登録!P18","v":0},{"$f":"LEFT(陸連登録!L18,4)","v":""},{"$f":"RIGHT(陸連登録!L18,4)","v":""},{"$f":"陸連登録!F18","v":0},{"$f":"陸連登録!B18","v":0},null,"",null,"","",null,"",null,"","",null,{"$f":"IF(Y23=\"\",\"\",IF(I23=1,VLOOKUP(Y23,男子種目コード!$A$1:$B$33,2,FALSE),IF(I23=2,VLOOKUP(Y23,女子種目コード!$A$1:$B$27,2,FALSE))))","v":""},null,null,null,null,"","",null,null,null,null,null,null,"円盤投","","",null,null,null,0,"砲丸投",{"$f":"COUNTIF($P$7:$P$116,19)+COUNTIF($U$7:$U$116,19)","v":0},19,null,null,"やり投","やり投"]
["",{"$f":"陸連登録!N19","v":0},null,null,{"$f":"陸連登録!M19","v":0},{"$f":"陸連登録!C19","v":0},{"$f":"陸連登録!D19","v":0},0,{"$f":"陸連登録!A19","v":""},{"$f":"陸連登録!P19","v":0},{"$f":"LEFT(陸連登録!L19,4)","v":""},{"$f":"RIGHT(陸連登録!L19,4)","v":""},{"$f":"陸連登録!F19","v":0},{"$f":"陸連登録!B19","v":0},null,"",null,"","",null,"",null,"","",null,{"$f":"IF(Y24=\"\",\"\",IF(I24=1,VLOOKUP(Y24,男子種目コード!$A$1:$B$33,2,FALSE),IF(I24=2,VLOOKUP(Y24,女子種目コード!$A$1:$B$27,2,FALSE))))","v":""},null,null,null,null,"","",null,null,null,null,null,null,"やり投","","",null,null,null,0,"円盤投",{"$f":"COUNTIF($P$7:$P$116,20)+COUNTIF($U$7:$U$116,20)","v":0},20,null,null,"ハンマー投","ハンマー投"]
["",{"$f":"陸連登録!N20","v":0},null,null,{"$f":"陸連登録!M20","v":0},{"$f":"陸連登録!C20","v":0},{"$f":"陸連登録!D20","v":0},0,{"$f":"陸連登録!A20","v":""},{"$f":"陸連登録!P20","v":0},{"$f":"LEFT(陸連登録!L20,4)","v":""},{"$f":"RIGHT(陸連登録!L20,4)","v":""},{"$f":"陸連登録!F20","v":0},{"$f":"陸連登録!B20","v":0},null,"",null,"","",null,"",null,"","",null,{"$f":"IF(Y25=\"\",\"\",IF(I25=1,VLOOKUP(Y25,男子種目コード!$A$1:$B$33,2,FALSE),IF(I25=2,VLOOKUP(Y25,女子種目コード!$A$1:$B$27,2,FALSE))))","v":""},null,null,null,null,"","",null,null,null,null,null,null,"ハンマー投","","",null,null,null,0,"ハンマー投",{"$f":"COUNTIF($P$7:$P$116,21)+COUNTIF($U$7:$U$116,21)","v":0},21,null,null,"少年3000","少年3000"]
["",{"$f":"陸連登録!N21","v":0},null,null,{"$f":"陸連登録!M21","v":0},{"$f":"陸連登録!C21","v":0},{"$f":"陸連登録!D21","v":0},0,{"$f":"陸連登録!A21","v":""},{"$f":"陸連登録!P21","v":0},{"$f":"LEFT(陸連登録!L21,4)","v":""},{"$f":"RIGHT(陸連登録!L21,4)","v":""},{"$f":"陸連登録!F21","v":0},{"$f":"陸連登録!B21","v":0},null,"",null,"","",null,"",null,"","",null,{"$f":"IF(Y26=\"\",\"\",IF(I26=1,VLOOKUP(Y26,男子種目コード!$A$1:$B$33,2,FALSE),IF(I26=2,VLOOKUP(Y26,女子種目コード!$A$1:$B$27,2,FALSE))))","v":""},null,null,null,null,"","",null,null,null,null,null,null,"少年3000","","",null,null,null,0,"やり投",{"$f":"COUNTIF($P$7:$P$116,22)+COUNTIF($U$7:$U$116,22)","v":0},22,null,null,"少年B100","少年B100"]
["",{"$f":"陸連登録!N22","v":0},null,null,{"$f":"陸連登録!M22","v":0},{"$f":"陸連登録!C22","v":0},{"$f":"陸連登録!D22","v":0},0,{"$f":"陸連登録!A22","v":""},{"$f":"陸連登録!P22","v":0},{"$f":"LEFT(陸連登録!L22,4)","v":""},{"$f":"RIGHT(陸連登録!L22,4)","v":""},{"$f":"陸連登録!F22","v":0},{"$f":"陸連登録!B22","v":0},null,"",null,"","",null,"",null,"","",null,{"$f":"IF(Y27=\"\",\"\",IF(I27=1,VLOOKUP(Y27,男子種目コード!$A$1:$B$33,2,FALSE),IF(I27=2,VLOOKUP(Y27,女子種目コード!$A$1:$B$27,2,FALSE))))","v":""},null,null,null,null,"","",null,null,null,null,null,null,"少年B100H","","",null,null,null,0,"少年3000m",{"$f":"COUNTIF($P$7:$P$116,24)+COUNTIF($U$7:$U$116,24)","v":0},24,null,null,"少年砲丸投","少年B100YH"]
["",{"$f":"陸連登録!N23","v":0},null,null,{"$f":"陸連登録!M23","v":0},{"$f":"陸連登録!C23","v":0},{"$f":"陸連登録!D23","v":0},0,{"$f":"陸連登録!A23","v":""},{"$f":"陸連登録!P23","v":0},{"$f":"LEFT(陸連登録!L23,4)","v":""},{"$f":"RIGHT(陸連登録!L23,4)","v":""},{"$f":"陸連登録!F23","v":0},{"$f":"陸連登録!B23","v":0},null,"",null,"","",null,"",null,"","",null,{"$f":"IF(Y28=\"\",\"\",IF(I28=1,VLOOKUP(Y28,男子種目コード!$A$1:$B$33,2,FALSE),IF(I28=2,VLOOKUP(Y28,女子種目コード!$A$1:$B$27,2,FALSE))))","v":""},null,null,null,null,"","",null,null,null,null,null,null,"少年B110JH","","",null,null,null,0,"少年砲丸投",{"$f":"COUNTIF($P$7:$P$116,25)+COUNTIF($U$7:$U$116,25)","v":0},25,null,null,"少年円盤投","4×100"]
["",{"$f":"陸連登録!N24","v":0},null,null,{"$f":"陸連登録!M24","v":0},{"$f":"陸連登録!C24","v":0},{"$f":"陸連登録!D24","v":0},0,{"$f":"陸連登録!A24","v":""},{"$f":"陸連登録!P24","v":0},{"$f":"LEFT(陸連登録!L24,4)","v":""},{"$f":"RIGHT(陸連登録!L24,4)","v":""},{"$f":"陸連登録!F24","v":0},{"$f":"陸連登録!B24","v":0},null,"",null,"","",null,"",null,"","",null,{"$f":"IF(Y29=\"\",\"\",IF(I29=1,VLOOKUP(Y29,男子種目コード!$A$1:$B$33,2,FALSE),IF(I29=2,VLOOKUP(Y29,女子種目コード!$A$1:$B$27,2,FALSE))))","v":""},null,null,null,null,"","",null,null,null,null,null,null,"少年砲丸投","","",null,null,null,0,"少年円盤投",{"$f":"COUNTIF($P$7:$P$116,26)+COUNTIF($U$7:$U$116,26)","v":0},26,null,null,"少年B走幅跳"]
["",{"$f":"陸連登録!N25","v":0},null,null,{"$f":"陸連登録!M25","v":0},{"$f":"陸連登録!C25","v":0},{"$f":"陸連登録!D25","v":0},0,{"$f":"陸連登録!A25","v":""},{"$f":"陸連登録!P25","v":0},{"$f":"LEFT(陸連登録!L25,4)","v":""},{"$f":"RIGHT(陸連登録!L25,4)","v":""},{"$f":"陸連登録!F25","v":0},{"$f":"陸連登録!B25","v":0},null,"",null,"","",null,"",null,"","",null,{"$f":"IF(Y30=\"\",\"\",IF(I30=1,VLOOKUP(Y30,男子種目コード!$A$1:$B$33,2,FALSE),IF(I30=2,VLOOKUP(Y30,女子種目コード!$A$1:$B$27,2,FALSE))))","v":""},null,null,null,null,"","",null,null,null,null,null,null,"少年円盤投","","",null,null,null,0,"少年ハンマー投",{"$f":"COUNTIF($P$7:$P$116,27)+COUNTIF($U$7:$U$116,27)","v":0},27,null,null,"少年B砲丸投"]
["",{"$f":"陸連登録!N26","v":0},null,null,{"$f":"陸連登録!M26","v":0},{"$f":"陸連登録!C26","v":0},{"$f":"陸連登録!D26","v":0},0,{"$f":"陸連登録!A26","v":""},{"$f":"陸連登録!P26","v":0},{"$f":"LEFT(陸連登録!L26,4)","v":""},{"$f":"RIGHT(陸連登録!L26,4)","v":""},{"$f":"陸連登録!F26","v":0},{"$f":"陸連登録!B26","v":0},null,"",null,"","",null,"",null,"","",null,{"$f":"IF(Y31=\"\",\"\",IF(I31=1,VLOOKUP(Y31,男子種目コード!$A$1:$B$33,2,FALSE),IF(I31=2,VLOOKUP(Y31,女子種目コード!$A$1:$B$27,2,FALSE))))","v":""},null,null,null,null,"","",null,null,null,null,null,null,"少年ハンマー投","","",null,null,null,0,"少年B100m",{"$f":"COUNTIF($P$7:$P$116,28)+COUNTIF($U$7:$U$116,28)","v":0},28,null,null,"少年ハンマー投"]
["",{"$f":"陸連登録!N27","v":0},null,null,{"$f":"陸連登録!M27","v":0},{"$f":"陸連登録!C27","v":0},{"$f":"陸連登録!D27","v":0},0,{"$f":"陸連登録!A27","v":""},{"$f":"陸連登録!P27","v":0},{"$f":"LEFT(陸連登録!L27,4)","v":""},{"$f":"RIGHT(陸連登録!L27,4)","v":""},{"$f":"陸連登録!F27","v":0},{"$f":"陸連登録!B27","v":0},null,"",null,"","",null,"",null,"","",null,{"$f":"IF(Y32=\"\",\"\",IF(I32=1,VLOOKUP(Y32,男子種目コード!$A$1:$B$33,2,FALSE),IF(I32=2,VLOOKUP(Y32,女子種目コード!$A$1:$B$27,2,FALSE))))","v":""},null,null,null,null,"","",null,null,null,null,null,null,"男子A","","",null,null,null,0,"少年B砲丸投",{"$f":"COUNTIF($P$7:$P$116,29)+COUNTIF($U$7:$U$116,29)","v":0},29,null,null,"4×100"]
["",{"$f":"陸連登録!N28","v":0},null,null,{"$f":"陸連登録!M28","v":0},{"$f":"陸連登録!C28","v":0},{"$f":"陸連登録!D28","v":0},0,{"$f":"陸連登録!A28","v":""},{"$f":"陸連登録!P28","v":0},{"$f":"LEFT(陸連登録!L28,4)","v":""},{"$f":"RIGHT(陸連登録!L28,4)","v":""},{"$f":"陸連登録!F28","v":0},{"$f":"陸連登録!B28","v":0},null,"",null,"","",null,"",null,"","",null,{"$f":"IF(Y33=\"\",\"\",IF(I33=1,VLOOKUP(Y33,男子種目コード!$A$1:$B$33,2,FALSE),IF(I33=2,VLOOKUP(Y33,女子種目コード!$A$1:$B$27,2,FALSE))))","v":""},null,null,null,null,"","",null,null,null,null,null,null,"男子B","","",null,null,null,0,"少年B走幅跳",{"$f":"COUNTIF($P$7:$P$116,30)+COUNTIF($U$7:$U$116,30)","v":0},30]
["",{"$f":"陸連登録!N29","v":0},null,null,{"$f":"陸連登録!M29","v":0},{"$f":"陸連登録!C29","v":0},{"$f":"陸連登録!D29","v":0},0,{"$f":"陸連登録!A29","v":""},{"$f":"陸連登録!P29","v":0},{"$f":"LEFT(陸連登録!L29,4)","v":""},{"$f":"RIGHT(陸連登録!L29,4)","v":""},{"$f":"陸連登録!F29","v":0},{"$f":"陸連登録!B29","v":0},null,"",null,"","",null,"",null,"","",null,{"$f":"IF(Y34=\"\",\"\",IF(I34=1,VLOOKUP(Y34,男子種目コード!$A$1:$B$33,2,FALSE),IF(I34=2,VLOOKUP(Y34,女子種目コード!$A$1:$B$27,2,FALSE))))","v":""},null,null,null,null,"","",null,null,null,null,null,null,"男子C","","",null,null,null,0,"少年B110JH",{"$f":"COUNTIF($P$7:$P$116,31)+COUNTIF($U$7:$U$116,31)","v":0},31]
["",{"$f":"陸連登録!N30","v":0},null,null,{"$f":"陸連登録!M30","v":0},{"$f":"陸連登録!C30","v":0},{"$f":"陸連登録!D30","v":0},0,{"$f":"陸連登録!A30","v":""},{"$f":"陸連登録!P30","v":0},{"$f":"LEFT(陸連登録!L30,4)","v":""},{"$f":"RIGHT(陸連登録!L30,4)","v":""},{"$f":"陸連登録!F30","v":0},{"$f":"陸連登録!B30","v":0},null,"",null,"","",null,"",null,"","",null,{"$f":"IF(Y35=\"\",\"\",IF(I35=1,VLOOKUP(Y35,男子種目コード!$A$1:$B$33,2,FALSE),IF(I35=2,VLOOKUP(Y35,女子種目コード!$A$1:$B$27,2,FALSE))))","v":""},null,null,null,null,"","",null,null,null,null,null,null,"女子A","","",null,null,null,0,"計",{"$f":"SUM(AU8:AU33)","v":0}]
["",{"$f":"陸連登録!N31","v":0},null,null,{"$f":"陸連登録!M31","v":0},{"$f":"陸連登録!C31","v":0},{"$f":"陸連登録!D31","v":0},0,{"$f":"陸連登録!A31","v":""},{"$f":"陸連登録!P31","v":0},{"$f":"LEFT(陸連登録!L31,4)","v":""},{"$f":"RIGHT(陸連登録!L31,4)","v":""},{"$f":"陸連登録!F31","v":0},{"$f":"陸連登録!B31","v":0},null,"",null,"","",null,"",null,"","",null,{"$f":"IF(Y36=\"\",\"\",IF(I36=1,VLOOKUP(Y36,男子種目コード!$A$1:$B$33,2,FALSE),IF(I36=2,VLOOKUP(Y36,女子種目コード!$A$1:$B$27,2,FALSE))))","v":""},null,null,null,null,"","",null,null,null,null,null,null,"女子B","","",null,null,null,0,"女子"]
["",{"$f":"陸連登録!N32","v":0},null,null,{"$f":"陸連登録!M32","v":0},{"$f":"陸連登録!C32","v":0},{"$f":"陸連登録!D32","v":0},0,{"$f":"陸連登録!A32","v":""},{"$f":"陸連登録!P32","v":0},{"$f":"LEFT(陸連登録!L32,4)","v":""},{"$f":"RIGHT(陸連登録!L32,4)","v":""},{"$f":"陸連登録!F32","v":0},{"$f":"陸連登録!B32","v":0},null,"",null,"","",null,"",null,"","",null,{"$f":"IF(Y37=\"\",\"\",IF(I37=1,VLOOKUP(Y37,男子種目コード!$A$1:$B$33,2,FALSE),IF(I37=2,VLOOKUP(Y37,女子種目コード!$A$1:$B$27,2,FALSE))))","v":""},null,null,null,null,"","",null,null,null,null,null,null,"女子C","","",null,null,null,0,"100m",{"$f":"COUNTIF($P$7:$P$116,40)+COUNTIF($U$7:$U$116,40)","v":0},40]
["",{"$f":"陸連登録!N33","v":0},null,null,{"$f":"陸連登録!M33","v":0},{"$f":"陸連登録!C33","v":0},{"$f":"陸連登録!D33","v":0},0,{"$f":"陸連登録!A33","v":""},{"$f":"陸連登録!P33","v":0},{"$f":"LEFT(陸連登録!L33,4)","v":""},{"$f":"RIGHT(陸連登録!L33,4)","v":""},{"$f":"陸連登録!F33","v":0},{"$f":"陸連登録!B33","v":0},null,"",null,"","",null,"",null,"","",null,{"$f":"IF(Y38=\"\",\"\",IF(I38=1,VLOOKUP(Y38,男子種目コード!$A$1:$B$33,2,FALSE),IF(I38=2,VLOOKUP(Y38,女子種目コード!$A$1:$B$27,2,FALSE))))","v":""},null,null,null,null,"","",null,null,null,null,null,null,null,"","",null,null,null,0,"200m",{"$f":"COUNTIF($P$7:$P$116,41)+COUNTIF($U$7:$U$116,41)","v":0},41]
["",{"$f":"陸連登録!N34","v":0},null,null,{"$f":"陸連登録!M34","v":0},{"$f":"陸連登録!C34","v":0},{"$f":"陸連登録!D34","v":0},0,{"$f":"陸連登録!A34","v":""},{"$f":"陸連登録!P34","v":0},{"$f":"LEFT(陸連登録!L34,4)","v":""},{"$f":"RIGHT(陸連登録!L34,4)","v":""},{"$f":"陸連登録!F34","v":0},{"$f":"陸連登録!B34","v":0},null,"",null,"","",null,"",null,"","",null,{"$f":"IF(Y39=\"\",\"\",IF(I39=1,VLOOKUP(Y39,男子種目コード!$A$1:$B$33,2,FALSE),IF(I39=2,VLOOKUP(Y39,女子種目コード!$A$1:$B$27,2,FALSE))))","v":""},null,null,null,null,"","",null,null,null,null,null,null,null,{"$f":"IF(O39=\"\",\"\",1)","v":""},{"$f":"IF(T39=\"\",\"\",1)","v":""},null,null,null,{"$f":"E39","v":0},"400m",{"$f":"COUNTIF($P$7:$P$116,42)+COUNTIF($U$7:$U$116,42)","v":0},42]
["",{"$f":"陸連登録!N35","v":0},null,null,{"$f":"陸連登録!M35","v":0},{"$f":"陸連登録!C35","v":0},{"$f":"陸連登録!D35","v":0},0,{"$f":"陸連登録!A35","v":""},{"$f":"陸連登録!P35","v":0},{"$f":"LEFT(陸連登録!L35,4)","v":""},{"$f":"RIGHT(陸連登録!L35,4)","v":""},{"$f":"陸連登録!F35","v":0},{"$f":"陸連登録!B35","v":0},null,"",null,"","",null,"",null,"","",null,{"$f":"IF(Y40=\"\",\"\",IF(I40=1,VLOOKUP(Y40,男子種目コード!$A$1:$B$33,2,FALSE),IF(I40=2,VLOOKUP(Y40,女子種目コード!$A$1:$B$27,2,FALSE))))","v":""},null,null,null,null,"","",null,null,null,null,null,null,null,"","",null,null,null,0,"800m",{"$f":"COUNTIF($P$7:$P$116,43)+COUNTIF($U$7:$U$116,43)","v":0},43]
["",{"$f":"陸連登録!N36","v":0},null,null,{"$f":"陸連登録!M36","v":0},{"$f":"陸連登録!C36","v":0},{"$f":"陸連登録!D36","v":0},0,{"$f":"陸連登録!A36","v":""},{"$f":"陸連登録!P36","v":0},{"$f":"LEFT(陸連登録!L36,4)","v":""},{"$f":"RIGHT(陸連登録!L36,4)","v":""},{"$f":"陸連登録!F36","v":0},{"$f":"陸連登録!B36","v":0},null,"",null,"","",null,"",null,"","",null,{"$f":"IF(Y41=\"\",\"\",IF(I41=1,VLOOKUP(Y41,男子種目コード!$A$1:$B$33,2,FALSE),IF(I41=2,VLOOKUP(Y41,女子種目コード!$A$1:$B$27,2,FALSE))))","v":""},null,null,null,null,"","",null,null,null,null,null,null,null,"","",null,null,null,0,"1500m",{"$f":"COUNTIF($P$7:$P$116,44)+COUNTIF($U$7:$U$116,44)","v":0},44]
["",{"$f":"陸連登録!N37","v":0},null,null,{"$f":"陸連登録!M37","v":0},{"$f":"陸連登録!C37","v":0},{"$f":"陸連登録!D37","v":0},0,{"$f":"陸連登録!A37","v":""},{"$f":"陸連登録!P37","v":0},{"$f":"LEFT(陸連登録!L37,4)","v":""},{"$f":"RIGHT(陸連登録!L37,4)","v":""},{"$f":"陸連登録!F37","v":0},{"$f":"陸連登録!B37","v":0},null,"",null,"","",null,"",null,"","",null,{"$f":"IF(Y42=\"\",\"\",IF(I42=1,VLOOKUP(Y42,男子種目コード!$A$1:$B$33,2,FALSE),IF(I42=2,VLOOKUP(Y42,女子種目コード!$A$1:$B$27,2,FALSE))))","v":""},null,null,null,null,"","",null,null,null,null,null,null,null,"","",null,null,null,0,"5000m",{"$f":"COUNTIF($P$7:$P$116,46)+COUNTIF($U$7:$U$116,46)","v":0},46]
["",{"$f":"陸連登録!N38","v":0},null,null,{"$f":"陸連登録!M38","v":0},{"$f":"陸連登録!C38","v":0},{"$f":"陸連登録!D38","v":0},0,{"$f":"陸連登録!A38","v":""},{"$f":"陸連登録!P38","v":0},{"$f":"LEFT(陸連登録!L38,4)","v":""},{"$f":"RIGHT(陸連登録!L38,4)","v":""},{"$f":"陸連登録!F38","v":0},{"$f":"陸連登録!B38","v":0},null,"",null,"","",null,"",null,"","",null,{"$f":"IF(Y43=\"\",\"\",IF(I43=1,VLOOKUP(Y43,男子種目コード!$A$1:$B$33,2,FALSE),IF(I43=2,VLOOKUP(Y43,女子種目コード!$A$1:$B$27,2,FALSE))))","v":""},null,null,null,null,"","",null,null,null,null,null,null,null,"","",null,null,null,0,"10000m",{"$f":"COUNTIF($P$7:$P$116,47)+COUNTIF($U$7:$U$116,47)","v":0},47]
["",{"$f":"陸連登録!N39","v":0},null,null,{"$f":"陸連登録!M39","v":0},{"$f":"陸連登録!C39","v":0},{"$f":"陸連登録!D39","v":0},0,{"$f":"陸連登録!A39","v":""},{"$f":"陸連登録!P39","v":0},{"$f":"LEFT(陸連登録!L39,4)","v":""},{"$f":"RIGHT(陸連登録!L39,4)","v":""},{"$f":"陸連登録!F39","v":0},{"$f":"陸連登録!B39","v":0},null,"",null,"","",null,"",null,"","",null,{"$f":"IF(Y44=\"\",\"\",IF(I44=1,VLOOKUP(Y44,男子種目コード!$A$1:$B$33,2,FALSE),IF(I44=2,VLOOKUP(Y44,女子種目コード!$A$1:$B$27,2,FALSE))))","v":""},null,null,null,null,"","",null,null,null,null,null,null,null,"","",null,null,null,0,"100mH",{"$f":"COUNTIF($P$7:$P$116,48)+COUNTIF($U$7:$U$116,48)","v":0},48]
["",{"$f":"陸連登録!N40","v":0},null,null,{"$f":"陸連登録!M40","v":0},{"$f":"陸連登録!C40","v":0},{"$f":"陸連登録!D40","v":0},0,{"$f":"陸連登録!A40","v":""},{"$f":"陸連登録!P40","v":0},{"$f":"LEFT(陸連登録!L40,4)","v":""},{"$f":"RIGHT(陸連登録!L40,4)","v":""},{"$f":"陸連登録!F40","v":0},{"$f":"陸連登録!B40","v":0},null,"",null,"","",null,"",null,"","",null,{"$f":"IF(Y45=\"\",\"\",IF(I45=1,VLOOKUP(Y45,男子種目コード!$A$1:$B$33,2,FALSE),IF(I45=2,VLOOKUP(Y45,女子種目コード!$A$1:$B$27,2,FALSE))))","v":""},null,null,null,null,"","",null,null,null,null,null,null,null,"","",null,null,null,0,"400mH",{"$f":"COUNTIF($P$7:$P$116,49)+COUNTIF($U$7:$U$116,49)","v":0},49]
["",{"$f":"陸連登録!N41","v":0},null,null,{"$f":"陸連登録!M41","v":0},{"$f":"陸連登録!C41","v":0},{"$f":"陸連登録!D41","v":0},0,{"$f":"陸連登録!A41","v":""},{"$f":"陸連登録!P41","v":0},{"$f":"LEFT(陸連登録!L41,4)","v":""},{"$f":"RIGHT(陸連登録!L41,4)","v":""},{"$f":"陸連登録!F41","v":0},{"$f":"陸連登録!B41","v":0},null,"",null,"","",null,"",null,"","",null,{"$f":"IF(Y46=\"\",\"\",IF(I46=1,VLOOKUP(Y46,男子種目コード!$A$1:$B$33,2,FALSE),IF(I46=2,VLOOKUP(Y46,女子種目コード!$A$1:$B$27,2,FALSE))))","v":""},null,null,null,null,"","",null,null,null,null,null,null,null,"","",null,null,null,0,"3000mSC",{"$f":"COUNTIF($P$7:$P$116,50)+COUNTIF($U$7:$U$116,50)","v":0},50]
["",{"$f":"陸連登録!N42","v":0},null,null,{"$f":"陸連登録!M42","v":0},{"$f":"陸連登録!C42","v":0},{"$f":"陸連登録!D42","v":0},0,{"$f":"陸連登録!A42","v":""},{"$f":"陸連登録!P42","v":0},{"$f":"LEFT(陸連登録!L42,4)","v":""},{"$f":"RIGHT(陸連登録!L42,4)","v":""},{"$f":"陸連登録!F42","v":0},{"$f":"陸連登録!B42","v":0},null,"",null,"","",null,"",null,"","",null,{"$f":"IF(Y47=\"\",\"\",IF(I47=1,VLOOKUP(Y47,男子種目コード!$A$1:$B$33,2,FALSE),IF(I47=2,VLOOKUP(Y47,女子種目コード!$A$1:$B$27,2,FALSE))))","v":""},null,null,null,null,"","",null,null,null,null,null,null,null,"","",null,null,null,0,"5000mW",{"$f":"COUNTIF($P$7:$P$116,52)+COUNTIF($U$7:$U$116,52)","v":0},52]
["",{"$f":"陸連登録!N43","v":0},null,null,{"$f":"陸連登録!M43","v":0},{"$f":"陸連登録!C43","v":0},{"$f":"陸連登録!D43","v":0},0,{"$f":"陸連登録!A43","v":""},{"$f":"陸連登録!P43","v":0},{"$f":"LEFT(陸連登録!L43,4)","v":""},{"$f":"RIGHT(陸連登録!L43,4)","v":""},{"$f":"陸連登録!F43","v":0},{"$f":"陸連登録!B43","v":0},null,"",null,"","",null,"",null,"","",null,{"$f":"IF(Y48=\"\",\"\",IF(I48=1,VLOOKUP(Y48,男子種目コード!$A$1:$B$33,2,FALSE),IF(I48=2,VLOOKUP(Y48,女子種目コード!$A$1:$B$27,2,FALSE))))","v":""},null,null,null,null,"","",null,null,null,null,null,null,null,"","",null,null,null,0,"走高跳",{"$f":"COUNTIF($P$7:$P$116,55)+COUNTIF($U$7:$U$116,55)","v":0},55]
["",{"$f":"陸連登録!N44","v":0},null,null,{"$f":"陸連登録!M44","v":0},{"$f":"陸連登録!C44","v":0},{"$f":"陸連登録!D44","v":0},0,{"$f":"陸連登録!A44","v":""},{"$f":"陸連登録!P44","v":0},{"$f":"LEFT(陸連登録!L44,4)","v":""},{"$f":"RIGHT(陸連登録!L44,4)","v":""},{"$f":"陸連登録!F44","v":0},{"$f":"陸連登録!B44","v":0},null,"",null,"","",null,"",null,"","",null,{"$f":"IF(Y49=\"\",\"\",IF(I49=1,VLOOKUP(Y49,男子種目コード!$A$1:$B$33,2,FALSE),IF(I49=2,VLOOKUP(Y49,女子種目コード!$A$1:$B$27,2,FALSE))))","v":""},null,null,null,null,"","",null,null,null,null,null,null,null,"","",null,null,null,0,"棒高跳",{"$f":"COUNTIF($P$7:$P$116,56)+COUNTIF($U$7:$U$116,56)","v":0},56]
["",{"$f":"陸連登録!N45","v":0},null,null,{"$f":"陸連登録!M45","v":0},{"$f":"陸連登録!C45","v":0},{"$f":"陸連登録!D45","v":0},0,{"$f":"陸連登録!A45","v":""},{"$f":"陸連登録!P45","v":0},{"$f":"LEFT(陸連登録!L45,4)","v":""},{"$f":"RIGHT(陸連登録!L45,4)","v":""},{"$f":"陸連登録!F45","v":0},{"$f":"陸連登録!B45","v":0},null,"",null,"","",null,"",null,"","",null,{"$f":"IF(Y50=\"\",\"\",IF(I50=1,VLOOKUP(Y50,男子種目コード!$A$1:$B$33,2,FALSE),IF(I50=2,VLOOKUP(Y50,女子種目コード!$A$1:$B$27,2,FALSE))))","v":""},null,null,null,null,"","",null,null,null,null,null,null,null,"","",null,null,null,0,"走幅跳",{"$f":"COUNTIF($P$7:$P$116,57)+COUNTIF($U$7:$U$116,57)","v":0},57]
["",{"$f":"陸連登録!N46","v":0},null,null,{"$f":"陸連登録!M46","v":0},{"$f":"陸連登録!C46","v":0},{"$f":"陸連登録!D46","v":0},0,{"$f":"陸連登録!A46","v":""},{"$f":"陸連登録!P46","v":0},{"$f":"LEFT(陸連登録!L46,4)","v":""},{"$f":"RIGHT(陸連登録!L46,4)","v":""},{"$f":"陸連登録!F46","v":0},{"$f":"陸連登録!B46","v":0},null,"",null,"","",null,"",null,"","",null,{"$f":"IF(Y51=\"\",\"\",IF(I51=1,VLOOKUP(Y51,男子種目コード!$A$1:$B$33,2,FALSE),IF(I51=2,VLOOKUP(Y51,女子種目コード!$A$1:$B$27,2,FALSE))))","v":""},null,null,null,null,"","",null,null,null,null,null,null,null,"","",null,null,null,0,"三段跳",{"$f":"COUNTIF($P$7:$P$116,58)+COUNTIF($U$7:$U$116,58)","v":0},58]
["",{"$f":"陸連登録!N47","v":0},null,null,{"$f":"陸連登録!M47","v":0},{"$f":"陸連登録!C47","v":0},{"$f":"陸連登録!D47","v":0},0,{"$f":"陸連登録!A47","v":""},{"$f":"陸連登録!P47","v":0},{"$f":"LEFT(陸連登録!L47,4)","v":""},{"$f":"RIGHT(陸連登録!L47,4)","v":""},{"$f":"陸連登録!F47","v":0},{"$f":"陸連登録!B47","v":0},null,"",null,"","",null,"",null,"","",null,{"$f":"IF(Y52=\"\",\"\",IF(I52=1,VLOOKUP(Y52,男子種目コード!$A$1:$B$33,2,FALSE),IF(I52=2,VLOOKUP(Y52,女子種目コード!$A$1:$B$27,2,FALSE))))","v":""},null,null,null,null,"","",null,null,null,null,null,null,null,"","",null,null,null,0,"砲丸投",{"$f":"COUNTIF($P$7:$P$116,59)+COUNTIF($U$7:$U$116,59)","v":0},59]
["",{"$f":"陸連登録!N48","v":0},null,null,{"$f":"陸連登録!M48","v":0},{"$f":"陸連登録!C48","v":0},{"$f":"陸連登録!D48","v":0},0,{"$f":"陸連登録!A48","v":""},{"$f":"陸連登録!P48","v":0},{"$f":"LEFT(陸連登録!L48,4)","v":""},{"$f":"RIGHT(陸連登録!L48,4)","v":""},{"$f":"陸連登録!F48","v":0},{"$f":"陸連登録!B48","v":0},null,"",null,"","",null,"",null,"","",null,{"$f":"IF(Y53=\"\",\"\",IF(I53=1,VLOOKUP(Y53,男子種目コード!$A$1:$B$33,2,FALSE),IF(I53=2,VLOOKUP(Y53,女子種目コード!$A$1:$B$27,2,FALSE))))","v":""},null,null,null,null,"","",null,null,null,null,null,null,null,"","",null,null,null,0,"円盤投",{"$f":"COUNTIF($P$7:$P$116,60)+COUNTIF($U$7:$U$116,60)","v":0},60]
["",{"$f":"陸連登録!N49","v":0},null,null,{"$f":"陸連登録!M49","v":0},{"$f":"陸連登録!C49","v":0},{"$f":"陸連登録!D49","v":0},0,{"$f":"陸連登録!A49","v":""},{"$f":"陸連登録!P49","v":0},{"$f":"LEFT(陸連登録!L49,4)","v":""},{"$f":"RIGHT(陸連登録!L49,4)","v":""},{"$f":"陸連登録!F49","v":0},{"$f":"陸連登録!B49","v":0},null,"",null,"","",null,"",null,"","",null,{"$f":"IF(Y54=\"\",\"\",IF(I54=1,VLOOKUP(Y54,男子種目コード!$A$1:$B$33,2,FALSE),IF(I54=2,VLOOKUP(Y54,女子種目コード!$A$1:$B$27,2,FALSE))))","v":""},null,null,null,null,"","",null,null,null,null,null,null,null,"","",null,null,null,0,"ハンマー投",{"$f":"COUNTIF($P$7:$P$116,61)+COUNTIF($U$7:$U$116,61)","v":0},61]
["",{"$f":"陸連登録!N50","v":0},null,null,{"$f":"陸連登録!M50","v":0},{"$f":"陸連登録!C50","v":0},{"$f":"陸連登録!D50","v":0},0,{"$f":"陸連登録!A50","v":""},{"$f":"陸連登録!P50","v":0},{"$f":"LEFT(陸連登録!L50,4)","v":""},{"$f":"RIGHT(陸連登録!L50,4)","v":""},{"$f":"陸連登録!F50","v":0},{"$f":"陸連登録!B50","v":0},null,"",null,"","",null,"",null,"","",null,{"$f":"IF(Y55=\"\",\"\",IF(I55=1,VLOOKUP(Y55,男子種目コード!$A$1:$B$33,2,FALSE),IF(I55=2,VLOOKUP(Y55,女子種目コード!$A$1:$B$27,2,FALSE))))","v":""},null,null,null,null,"","",null,null,null,null,null,null,null,"","",null,null,null,0,"やり投",{"$f":"COUNTIF($P$7:$P$116,62)+COUNTIF($U$7:$U$116,62)","v":0},62]
["",{"$f":"陸連登録!N51","v":0},null,null,{"$f":"陸連登録!M51","v":0},{"$f":"陸連登録!C51","v":0},{"$f":"陸連登録!D51","v":0},0,{"$f":"陸連登録!A51","v":""},{"$f":"陸連登録!P51","v":0},{"$f":"LEFT(陸連登録!L51,4)","v":""},{"$f":"RIGHT(陸連登録!L51,4)","v":""},{"$f":"陸連登録!F51","v":0},{"$f":"陸連登録!B51","v":0},null,"",null,"","",null,"",null,"","",null,{"$f":"IF(Y56=\"\",\"\",IF(I56=1,VLOOKUP(Y56,男子種目コード!$A$1:$B$33,2,FALSE),IF(I56=2,VLOOKUP(Y56,女子種目コード!$A$1:$B$27,2,FALSE))))","v":""},null,null,null,null,"","",null,null,null,null,null,null,null,"","",null,null,null,0,"少年3000m",{"$f":"COUNTIF($P$7:$P$116,64)+COUNTIF($U$7:$U$116,64)","v":0},64]
["",{"$f":"陸連登録!N52","v":0},null,null,{"$f":"陸連登録!M52","v":0},{"$f":"陸連登録!C52","v":0},{"$f":"陸連登録!D52","v":0},0,{"$f":"陸連登録!A52","v":""},{"$f":"陸連登録!P52","v":0},{"$f":"LEFT(陸連登録!L52,4)","v":""},{"$f":"RIGHT(陸連登録!L52,4)","v":""},{"$f":"陸連登録!F52","v":0},{"$f":"陸連登録!B52","v":0},null,"",null,"","",null,"",null,"","",null,{"$f":"IF(Y57=\"\",\"\",IF(I57=1,VLOOKUP(Y57,男子種目コード!$A$1:$B$33,2,FALSE),IF(I57=2,VLOOKUP(Y57,女子種目コード!$A$1:$B$27,2,FALSE))))","v":""},null,null,null,null,"","",null,null,null,null,null,null,null,"","",null,null,null,0,"少年B100m",{"$f":"COUNTIF($P$7:$P$116,66)+COUNTIF($U$7:$U$116,66)","v":0},66]
["",{"$f":"陸連登録!N53","v":0},null,null,{"$f":"陸連登録!M53","v":0},{"$f":"陸連登録!C53","v":0},{"$f":"陸連登録!D53","v":0},0,{"$f":"陸連登録!A53","v":""},{"$f":"陸連登録!P53","v":0},{"$f":"LEFT(陸連登録!L53,4)","v":""},{"$f":"RIGHT(陸連登録!L53,4)","v":""},{"$f":"陸連登録!F53","v":0},{"$f":"陸連登録!B53","v":0},null,"",null,"","",null,"",null,"","",null,{"$f":"IF(Y58=\"\",\"\",IF(I58=1,VLOOKUP(Y58,男子種目コード!$A$1:$B$33,2,FALSE),IF(I58=2,VLOOKUP(Y58,女子種目コード!$A$1:$B$27,2,FALSE))))","v":""},null,null,null,null,"","",null,null,null,null,null,null,null,"","",null,null,null,0,"少年B100mYH",{"$f":"COUNTIF($P$7:$P$116,67)+COUNTIF($U$7:$U$116,67)","v":0},67]
["",{"$f":"陸連登録!N54","v":0},null,null,{"$f":"陸連登録!M54","v":0},{"$f":"陸連登録!C54","v":0},{"$f":"陸連登録!D54","v":0},0,{"$f":"陸連登録!A54","v":""},{"$f":"陸連登録!P54","v":0},{"$f":"LEFT(陸連登録!L54,4)","v":""},{"$f":"RIGHT(陸連登録!L54,4)","v":""},{"$f":"陸連登録!F54","v":0},{"$f":"陸連登録!B54","v":0},null,"",null,"","",null,"",null,"","",null,{"$f":"IF(Y59=\"\",\"\",IF(I59=1,VLOOKUP(Y59,男子種目コード!$A$1:$B$33,2,FALSE),IF(I59=2,VLOOKUP(Y59,女子種目コード!$A$1:$B$27,2,FALSE))))","v":""},null,null,null,null,"","",null,null,null,null,null,null,null,"","",null,null,null,0,"計",{"$f":"SUM(AU37:AU57)","v":0}]
["",{"$f":"陸連登録!N55","v":0},null,null,{"$f":"陸連登録!M55","v":0},{"$f":"陸連登録!C55","v":0},{"$f":"陸連登録!D55","v":0},0,{"$f":"陸連登録!A55","v":""},{"$f":"陸連登録!P55","v":0},{"$f":"LEFT(陸連登録!L55,4)","v":""},{"$f":"RIGHT(陸連登録!L55,4)","v":""},{"$f":"陸連登録!F55","v":0},{"$f":"陸連登録!B55","v":0},null,"",null,"","",null,"",null,"","",null,{"$f":"IF(Y60=\"\",\"\",IF(I60=1,VLOOKUP(Y60,男子種目コード!$A$1:$B$33,2,FALSE),IF(I60=2,VLOOKUP(Y60,女子種目コード!$A$1:$B$27,2,FALSE))))","v":""},null,null,null,null,"","",null,null,null,null,null,null,null,"","",null,null,null,0]
["",{"$f":"陸連登録!N56","v":0},null,null,{"$f":"陸連登録!M56","v":0},{"$f":"陸連登録!C56","v":0},{"$f":"陸連登録!D56","v":0},0,{"$f":"陸連登録!A56","v":""},{"$f":"陸連登録!P56","v":0},{"$f":"LEFT(陸連登録!L56,4)","v":""},{"$f":"RIGHT(陸連登録!L56,4)","v":""},{"$f":"陸連登録!F56","v":0},{"$f":"陸連登録!B56","v":0},null,"",null,"","",null,"",null,"","",null,{"$f":"IF(Y61=\"\",\"\",IF(I61=1,VLOOKUP(Y61,男子種目コード!$A$1:$B$33,2,FALSE),IF(I61=2,VLOOKUP(Y61,女子種目コード!$A$1:$B$27,2,FALSE))))","v":""},null,null,null,null,"","",null,null,null,null,null,null,null,"","",null,null,null,0,13,{"$f":"COUNTIF($Z$7:$Z$116,13)","v":0}]
["",{"$f":"陸連登録!N57","v":0},null,null,{"$f":"陸連登録!M57","v":0},{"$f":"陸連登録!C57","v":0},{"$f":"陸連登録!D57","v":0},0,{"$f":"陸連登録!A57","v":""},{"$f":"陸連登録!P57","v":0},{"$f":"LEFT(陸連登録!L57,4)","v":""},{"$f":"RIGHT(陸連登録!L57,4)","v":""},{"$f":"陸連登録!F57","v":0},{"$f":"陸連登録!B57","v":0},null,"",null,"","",null,"",null,"","",null,{"$f":"IF(Y62=\"\",\"\",IF(I62=1,VLOOKUP(Y62,男子種目コード!$A$1:$B$33,2,FALSE),IF(I62=2,VLOOKUP(Y62,女子種目コード!$A$1:$B$27,2,FALSE))))","v":""},null,null,null,null,"","",null,null,null,null,null,null,null,"","",null,null,null,0,53,{"$f":"COUNTIF($Z$7:$Z$116,53)","v":0}]
["",{"$f":"陸連登録!N58","v":0},null,null,{"$f":"陸連登録!M58","v":0},{"$f":"陸連登録!C58","v":0},{"$f":"陸連登録!D58","v":0},0,{"$f":"陸連登録!A58","v":""},{"$f":"陸連登録!P58","v":0},{"$f":"LEFT(陸連登録!L58,4)","v":""},{"$f":"RIGHT(陸連登録!L58,4)","v":""},{"$f":"陸連登録!F58","v":0},{"$f":"陸連登録!B58","v":0},null,"",null,"","",null,"",null,"","",null,{"$f":"IF(Y63=\"\",\"\",IF(I63=1,VLOOKUP(Y63,男子種目コード!$A$1:$B$33,2,FALSE),IF(I63=2,VLOOKUP(Y63,女子種目コード!$A$1:$B$27,2,FALSE))))","v":""},null,null,null,null,"","",null,null,null,null,null,null,null,"","",null,null,null,0,null,{"$f":"COUNTIF(AU61:AU62,0)","v":2}]
["",{"$f":"陸連登録!N59","v":0},null,null,{"$f":"陸連登録!M59","v":0},{"$f":"陸連登録!C59","v":0},{"$f":"陸連登録!D59","v":0},0,{"$f":"陸連登録!A59","v":""},{"$f":"陸連登録!P59","v":0},{"$f":"LEFT(陸連登録!L59,4)","v":""},{"$f":"RIGHT(陸連登録!L59,4)","v":""},{"$f":"陸連登録!F59","v":0},{"$f":"陸連登録!B59","v":0},null,"",null,"","",null,"",null,"","",null,{"$f":"IF(Y64=\"\",\"\",IF(I64=1,VLOOKUP(Y64,男子種目コード!$A$1:$B$33,2,FALSE),IF(I64=2,VLOOKUP(Y64,女子種目コード!$A$1:$B$27,2,FALSE))))","v":""},null,null,null,null,"","",null,null,null,null,null,null,null,"","",null,null,null,0,null,{"$f":"2-AU63","v":0}]
["",{"$f":"陸連登録!N60","v":0},null,null,{"$f":"陸連登録!M60","v":0},{"$f":"陸連登録!C60","v":0},{"$f":"陸連登録!D60","v":0},0,{"$f":"陸連登録!A60","v":""},{"$f":"陸連登録!P60","v":0},{"$f":"LEFT(陸連登録!L60,4)","v":""},{"$f":"RIGHT(陸連登録!L60,4)","v":""},{"$f":"陸連登録!F60","v":0},{"$f":"陸連登録!B60","v":0},null,"",null,"","",null,"",null,"","",null,{"$f":"IF(Y65=\"\",\"\",IF(I65=1,VLOOKUP(Y65,男子種目コード!$A$1:$B$33,2,FALSE),IF(I65=2,VLOOKUP(Y65,女子種目コード!$A$1:$B$27,2,FALSE))))","v":""},null,null,null,null,"","",null,null,null,null,null,null,null,"","",null,null,null,0]
["",{"$f":"陸連登録!N61","v":0},null,null,{"$f":"陸連登録!M61","v":0},{"$f":"陸連登録!C61","v":0},{"$f":"陸連登録!D61","v":0},0,{"$f":"陸連登録!A61","v":""},{"$f":"陸連登録!P61","v":0},{"$f":"LEFT(陸連登録!L61,4)","v":""},{"$f":"RIGHT(陸連登録!L61,4)","v":""},{"$f":"陸連登録!F61","v":0},{"$f":"陸連登録!B61","v":0},null,"",null,"","",null,"",null,"","",null,{"$f":"IF(Y66=\"\",\"\",IF(I66=1,VLOOKUP(Y66,男子種目コード!$A$1:$B$33,2,FALSE),IF(I66=2,VLOOKUP(Y66,女子種目コード!$A$1:$B$27,2,FALSE))))","v":""},null,null,null,null,"","",null,null,null,null,null,null,null,"","",null,null,null,0]
["",{"$f":"陸連登録!N62","v":0},null,null,{"$f":"陸連登録!M62","v":0},{"$f":"陸連登録!C62","v":0},{"$f":"陸連登録!D62","v":0},0,{"$f":"陸連登録!A62","v":""},{"$f":"陸連登録!P62","v":0},{"$f":"LEFT(陸連登録!L62,4)","v":""},{"$f":"RIGHT(陸連登録!L62,4)","v":""},{"$f":"陸連登録!F62","v":0},{"$f":"陸連登録!B62","v":0},null,"",null,"","",null,"",null,"","",null,{"$f":"IF(Y67=\"\",\"\",IF(I67=1,VLOOKUP(Y67,男子種目コード!$A$1:$B$33,2,FALSE),IF(I67=2,VLOOKUP(Y67,女子種目コード!$A$1:$B$27,2,FALSE))))","v":""},null,null,null,null,"","",null,null,null,null,null,null,null,"","",null,null,null,0]
["",{"$f":"陸連登録!N63","v":0},null,null,{"$f":"陸連登録!M63","v":0},{"$f":"陸連登録!C63","v":0},{"$f":"陸連登録!D63","v":0},0,{"$f":"陸連登録!A63","v":""},{"$f":"陸連登録!P63","v":0},{"$f":"LEFT(陸連登録!L63,4)","v":""},{"$f":"RIGHT(陸連登録!L63,4)","v":""},{"$f":"陸連登録!F63","v":0},{"$f":"陸連登録!B63","v":0},null,"",null,"","",null,"",null,"","",null,{"$f":"IF(Y68=\"\",\"\",IF(I68=1,VLOOKUP(Y68,男子種目コード!$A$1:$B$33,2,FALSE),IF(I68=2,VLOOKUP(Y68,女子種目コード!$A$1:$B$27,2,FALSE))))","v":""},null,null,null,null,"","",null,null,null,null,null,null,null,"","",null,null,null,0]
["",{"$f":"陸連登録!N64","v":0},null,null,{"$f":"陸連登録!M64","v":0},{"$f":"陸連登録!C64","v":0},{"$f":"陸連登録!D64","v":0},0,{"$f":"陸連登録!A64","v":""},{"$f":"陸連登録!P64","v":0},{"$f":"LEFT(陸連登録!L64,4)","v":""},{"$f":"RIGHT(陸連登録!L64,4)","v":""},{"$f":"陸連登録!F64","v":0},{"$f":"陸連登録!B64","v":0},null,"",null,"","",null,"",null,"","",null,{"$f":"IF(Y69=\"\",\"\",IF(I69=1,VLOOKUP(Y69,男子種目コード!$A$1:$B$33,2,FALSE),IF(I69=2,VLOOKUP(Y69,女子種目コード!$A$1:$B$27,2,FALSE))))","v":""},null,null,null,null,"","",null,null,null,null,null,null,null,"","",null,null,null,0]
["",{"$f":"陸連登録!N65","v":0},null,null,{"$f":"陸連登録!M65","v":0},{"$f":"陸連登録!C65","v":0},{"$f":"陸連登録!D65","v":0},0,{"$f":"陸連登録!A65","v":""},{"$f":"陸連登録!P65","v":0},{"$f":"LEFT(陸連登録!L65,4)","v":""},{"$f":"RIGHT(陸連登録!L65,4)","v":""},{"$f":"陸連登録!F65","v":0},{"$f":"陸連登録!B65","v":0},null,"",null,"","",null,"",null,"","",null,{"$f":"IF(Y70=\"\",\"\",IF(I70=1,VLOOKUP(Y70,男子種目コード!$A$1:$B$33,2,FALSE),IF(I70=2,VLOOKUP(Y70,女子種目コード!$A$1:$B$27,2,FALSE))))","v":""},null,null,null,null,"","",null,null,null,null,null,null,null,"","",null,null,null,0]
["",{"$f":"陸連登録!N66","v":0},null,null,{"$f":"陸連登録!M66","v":0},{"$f":"陸連登録!C66","v":0},{"$f":"陸連登録!D66","v":0},0,{"$f":"陸連登録!A66","v":""},{"$f":"陸連登録!P66","v":0},{"$f":"LEFT(陸連登録!L66,4)","v":""},{"$f":"RIGHT(陸連登録!L66,4)","v":""},{"$f":"陸連登録!F66","v":0},{"$f":"陸連登録!B66","v":0},null,"",null,"","",null,"",null,"","",null,{"$f":"IF(Y71=\"\",\"\",IF(I71=1,VLOOKUP(Y71,男子種目コード!$A$1:$B$33,2,FALSE),IF(I71=2,VLOOKUP(Y71,女子種目コード!$A$1:$B$27,2,FALSE))))","v":""},null,null,null,null,"","",null,null,null,null,null,null,null,{"$f":"IF(O71=\"\",\"\",1)","v":""},{"$f":"IF(T71=\"\",\"\",1)","v":""},null,null,null,{"$f":"E71","v":0}]
[{"$f":"Z72","v":""},{"$f":"陸連登録!N67","v":0},null,null,{"$f":"陸連登録!M67","v":0},{"$f":"陸連登録!C67","v":0},{"$f":"陸連登録!D67","v":0},{"$f":"F72","v":0},{"$f":"陸連登録!A67","v":""},{"$f":"陸連登録!P67","v":0},{"$f":"LEFT(陸連登録!L67,4)","v":""},{"$f":"RIGHT(陸連登録!L67,4)","v":""},{"$f":"陸連登録!F67","v":0},{"$f":"陸連登録!B67","v":0},null,{"$f":"IF(O72=\"\",\"\",IF(I72=1,VLOOKUP(O72,$AT$8:$AV$34,3,FALSE),IF(I72=2,VLOOKUP(O72,$AT$37:$AV$58,3,FALSE))))","v":""},null,{"$f":"IF(O72=\"\",\"\",0)","v":""},{"$f":"IF(O72=\"\",\"\",2)","v":""},null,{"$f":"IF(T72=\"\",\"\",IF(I72=1,VLOOKUP(T72,$AT$8:$AV$34,3,FALSE),IF(I72=2,VLOOKUP(T72,$AT$37:$AV$58,3,FALSE))))","v":""},null,{"$f":"IF(T72=\"\",\"\",0)","v":""},{"$f":"IF(T72=\"\",\"\",2)","v":""},null,{"$f":"IF(Y72=\"\",\"\",IF(I72=1,VLOOKUP(Y72,男子種目コード!$A$1:$B$33,2,FALSE),IF(I72=2,VLOOKUP(Y72,女子種目コード!$A$1:$B$27,2,FALSE))))","v":""},null,null,null,null,{"$f":"IF(AB72=\"\",\"\",0)","v":""},{"$f":"IF(AB72=\"\",\"\",2)","v":""},null,null,null,null,null,null,null,"","",null,null,null,0]
["",{"$f":"陸連登録!N68","v":0},null,null,{"$f":"陸連登録!M68","v":0},{"$f":"陸連登録!C68","v":0},{"$f":"陸連登録!D68","v":0},0,{"$f":"陸連登録!A68","v":""},{"$f":"陸連登録!P68","v":0},{"$f":"LEFT(陸連登録!L68,4)","v":""},{"$f":"RIGHT(陸連登録!L68,4)","v":""},{"$f":"陸連登録!F68","v":0},{"$f":"陸連登録!B68","v":0},null,"",null,"","",null,"",null,"","",null,{"$f":"IF(Y73=\"\",\"\",IF(I73=1,VLOOKUP(Y73,男子種目コード!$A$1:$B$33,2,FALSE),IF(I73=2,VLOOKUP(Y73,女子種目コード!$A$1:$B$27,2,FALSE))))","v":""},null,null,null,null,"","",null,null,null,null,null,null,null,"","",null,null,null,0]
["",{"$f":"陸連登録!N69","v":0},null,null,{"$f":"陸連登録!M69","v":0},{"$f":"陸連登録!C69","v":0},{"$f":"陸連登録!D69","v":0},0,{"$f":"陸連登録!A69","v":""},{"$f":"陸連登録!P69","v":0},{"$f":"LEFT(陸連登録!L69,4)","v":""},{"$f":"RIGHT(陸連登録!L69,4)","v":""},{"$f":"陸連登録!F69","v":0},{"$f":"陸連登録!B69","v":0},null,"",null,"","",null,"",null,"","",null,{"$f":"IF(Y74=\"\",\"\",IF(I74=1,VLOOKUP(Y74,男子種目コード!$A$1:$B$33,2,FALSE),IF(I74=2,VLOOKUP(Y74,女子種目コード!$A$1:$B$27,2,FALSE))))","v":""},null,null,null,null,"","",null,null,null,null,null,null,null,"","",null,null,null,0]
["",{"$f":"陸連登録!N70","v":0},null,null,{"$f":"陸連登録!M70","v":0},{"$f":"陸連登録!C70","v":0},{"$f":"陸連登録!D70","v":0},0,{"$f":"陸連登録!A70","v":""},{"$f":"陸連登録!P70","v":0},{"$f":"LEFT(陸連登録!L70,4)","v":""},{"$f":"RIGHT(陸連登録!L70,4)","v":""},{"$f":"陸連登録!F70","v":0},{"$f":"陸連登録!B70","v":0},null,"",null,"","",null,"",null,"","",null,{"$f":"IF(Y75=\"\",\"\",IF(I75=1,VLOOKUP(Y75,男子種目コード!$A$1:$B$33,2,FALSE),IF(I75=2,VLOOKUP(Y75,女子種目コード!$A$1:$B$27,2,FALSE))))","v":""},null,null,null,null,"","",null,null,null,null,null,null,null,"","",null,null,null,0]
["",{"$f":"陸連登録!N71","v":0},null,null,{"$f":"陸連登録!M71","v":0},{"$f":"陸連登録!C71","v":0},{"$f":"陸連登録!D71","v":0},0,{"$f":"陸連登録!A71","v":""},{"$f":"陸連登録!P71","v":0},{"$f":"LEFT(陸連登録!L71,4)","v":""},{"$f":"RIGHT(陸連登録!L71,4)","v":""},{"$f":"陸連登録!F71","v":0},{"$f":"陸連登録!B71","v":0},null,"",null,"","",null,"",null,"","",null,{"$f":"IF(Y76=\"\",\"\",IF(I76=1,VLOOKUP(Y76,男子種目コード!$A$1:$B$33,2,FALSE),IF(I76=2,VLOOKUP(Y76,女子種目コード!$A$1:$B$27,2,FALSE))))","v":""},null,null,null,null,"","",null,null,null,null,null,null,null,"","",null,null,null,0]
["",{"$f":"陸連登録!N72","v":0},null,null,{"$f":"陸連登録!M72","v":0},{"$f":"陸連登録!C72","v":0},{"$f":"陸連登録!D72","v":0},0,{"$f":"陸連登録!A72","v":""},{"$f":"陸連登録!P72","v":0},{"$f":"LEFT(陸連登録!L72,4)","v":""},{"$f":"RIGHT(陸連登録!L72,4)","v":""},{"$f":"陸連登録!F72","v":0},{"$f":"陸連登録!B72","v":0},null,"",null,"","",null,"",null,"","",null,{"$f":"IF(Y77=\"\",\"\",IF(I77=1,VLOOKUP(Y77,男子種目コード!$A$1:$B$33,2,FALSE),IF(I77=2,VLOOKUP(Y77,女子種目コード!$A$1:$B$27,2,FALSE))))","v":""},null,null,null,null,"","",null,null,null,null,null,null,null,"","",null,null,null,0]
["",{"$f":"陸連登録!N73","v":0},null,null,{"$f":"陸連登録!M73","v":0},{"$f":"陸連登録!C73","v":0},{"$f":"陸連登録!D73","v":0},0,{"$f":"陸連登録!A73","v":""},{"$f":"陸連登録!P73","v":0},{"$f":"LEFT(陸連登録!L73,4)","v":""},{"$f":"RIGHT(陸連登録!L73,4)","v":""},{"$f":"陸連登録!F73","v":0},{"$f":"陸連登録!B73","v":0},null,"",null,"","",null,"",null,"","",null,{"$f":"IF(Y78=\"\",\"\",IF(I78=1,VLOOKUP(Y78,男子種目コード!$A$1:$B$33,2,FALSE),IF(I78=2,VLOOKUP(Y78,女子種目コード!$A$1:$B$27,2,FALSE))))","v":""},null,null,null,null,"","",null,null,null,null,null,null,null,"","",null,null,null,0]
["",{"$f":"陸連登録!N74","v":0},null,null,{"$f":"陸連登録!M74","v":0},{"$f":"陸連登録!C74","v":0},{"$f":"陸連登録!D74","v":0},0,{"$f":"陸連登録!A74","v":""},{"$f":"陸連登録!P74","v":0},{"$f":"LEFT(陸連登録!L74,4)","v":""},{"$f":"RIGHT(陸連登録!L74,4)","v":""},{"$f":"陸連登録!F74","v":0},{"$f":"陸連登録!B74","v":0},null,"",null,"","",null,"",null,"","",null,{"$f":"IF(Y79=\"\",\"\",IF(I79=1,VLOOKUP(Y79,男子種目コード!$A$1:$B$33,2,FALSE),IF(I79=2,VLOOKUP(Y79,女子種目コード!$A$1:$B$27,2,FALSE))))","v":""},null,null,null,null,"","",null,null,null,null,null,null,null,"","",null,null,null,0]
["",{"$f":"陸連登録!N75","v":0},null,null,{"$f":"陸連登録!M75","v":0},{"$f":"陸連登録!C75","v":0},{"$f":"陸連登録!D75","v":0},0,{"$f":"陸連登録!A75","v":""},{"$f":"陸連登録!P75","v":0},{"$f":"LEFT(陸連登録!L75,4)","v":""},{"$f":"RIGHT(陸連登録!L75,4)","v":""},{"$f":"陸連登録!F75","v":0},{"$f":"陸連登録!B75","v":0},null,"",null,"","",null,"",null,"","",null,{"$f":"IF(Y80=\"\",\"\",IF(I80=1,VLOOKUP(Y80,男子種目コード!$A$1:$B$33,2,FALSE),IF(I80=2,VLOOKUP(Y80,女子種目コード!$A$1:$B$27,2,FALSE))))","v":""},null,null,null,null,"","",null,null,null,null,null,null,null,"","",null,null,null,0]
["",{"$f":"陸連登録!N76","v":0},null,null,{"$f":"陸連登録!M76","v":0},{"$f":"陸連登録!C76","v":0},{"$f":"陸連登録!D76","v":0},0,{"$f":"陸連登録!A76","v":""},{"$f":"陸連登録!P76","v":0},{"$f":"LEFT(陸連登録!L76,4)","v":""},{"$f":"RIGHT(陸連登録!L76,4)","v":""},{"$f":"陸連登録!F76","v":0},{"$f":"陸連登録!B76","v":0},null,"",null,"","",null,"",null,"","",null,{"$f":"IF(Y81=\"\",\"\",IF(I81=1,VLOOKUP(Y81,男子種目コード!$A$1:$B$33,2,FALSE),IF(I81=2,VLOOKUP(Y81,女子種目コード!$A$1:$B$27,2,FALSE))))","v":""},null,null,null,null,"","",null,null,null,null,null,null,null,"","",null,null,null,0]
["",{"$f":"陸連登録!N77","v":0},null,null,{"$f":"陸連登録!M77","v":0},{"$f":"陸連登録!C77","v":0},{"$f":"陸連登録!D77","v":0},0,{"$f":"陸連登録!A77","v":""},{"$f":"陸連登録!P77","v":0},{"$f":"LEFT(陸連登録!L77,4)","v":""},{"$f":"RIGHT(陸連登録!L77,4)","v":""},{"$f":"陸連登録!F77","v":0},{"$f":"陸連登録!B77","v":0},null,"",null,"","",null,"",null,"","",null,{"$f":"IF(Y82=\"\",\"\",IF(I82=1,VLOOKUP(Y82,男子種目コード!$A$1:$B$33,2,FALSE),IF(I82=2,VLOOKUP(Y82,女子種目コード!$A$1:$B$27,2,FALSE))))","v":""},null,null,null,null,"","",null,null,null,null,null,null,null,"","",null,null,null,0]
["",{"$f":"陸連登録!N78","v":0},null,null,{"$f":"陸連登録!M78","v":0},{"$f":"陸連登録!C78","v":0},{"$f":"陸連登録!D78","v":0},0,{"$f":"陸連登録!A78","v":""},{"$f":"陸連登録!P78","v":0},{"$f":"LEFT(陸連登録!L78,4)","v":""},{"$f":"RIGHT(陸連登録!L78,4)","v":""},{"$f":"陸連登録!F78","v":0},{"$f":"陸連登録!B78","v":0},null,"",null,"","",null,"",null,"","",null,{"$f":"IF(Y83=\"\",\"\",IF(I83=1,VLOOKUP(Y83,男子種目コード!$A$1:$B$33,2,FALSE),IF(I83=2,VLOOKUP(Y83,女子種目コード!$A$1:$B$27,2,FALSE))))","v":""},null,null,null,null,"","",null,null,null,null,null,null,null,"","",null,null,null,0]
["",{"$f":"陸連登録!N79","v":0},null,null,{"$f":"陸連登録!M79","v":0},{"$f":"陸連登録!C79","v":0},{"$f":"陸連登録!D79","v":0},0,{"$f":"陸連登録!A79","v":""},{"$f":"陸連登録!P79","v":0},{"$f":"LEFT(陸連登録!L79,4)","v":""},{"$f":"RIGHT(陸連登録!L79,4)","v":""},{"$f":"陸連登録!F79","v":0},{"$f":"陸連登録!B79","v":0},null,"",null,"","",null,"",null,"","",null,{"$f":"IF(Y84=\"\",\"\",IF(I84=1,VLOOKUP(Y84,男子種目コード!$A$1:$B$33,2,FALSE),IF(I84=2,VLOOKUP(Y84,女子種目コード!$A$1:$B$27,2,FALSE))))","v":""},null,null,null,null,"","",null,null,null,null,null,null,null,"","",null,null,null,0]
["",{"$f":"陸連登録!N80","v":0},null,null,{"$f":"陸連登録!M80","v":0},{"$f":"陸連登録!C80","v":0},{"$f":"陸連登録!D80","v":0},0,{"$f":"陸連登録!A80","v":""},{"$f":"陸連登録!P80","v":0},{"$f":"LEFT(陸連登録!L80,4)","v":""},{"$f":"RIGHT(陸連登録!L80,4)","v":""},{"$f":"陸連登録!F80","v":0},{"$f":"陸連登録!B80","v":0},null,"",null,"","",null,"",null,"","",null,{"$f":"IF(Y85=\"\",\"\",IF(I85=1,VLOOKUP(Y85,男子種目コード!$A$1:$B$33,2,FALSE),IF(I85=2,VLOOKUP(Y85,女子種目コード!$A$1:$B$27,2,FALSE))))","v":""},null,null,null,null,"","",null,null,null,null,null,null,null,"","",null,null,null,0]
["",{"$f":"陸連登録!N81","v":0},null,null,{"$f":"陸連登録!M81","v":0},{"$f":"陸連登録!C81","v":0},{"$f":"陸連登録!D81","v":0},0,{"$f":"陸連登録!A81","v":""},{"$f":"陸連登録!P81","v":0},{"$f":"LEFT(陸連登録!L81,4)","v":""},{"$f":"RIGHT(陸連登録!L81,4)","v":""},{"$f":"陸連登録!F81","v":0},{"$f":"陸連登録!B81","v":0},null,"",null,"","",null,"",null,"","",null,{"$f":"IF(Y86=\"\",\"\",IF(I86=1,VLOOKUP(Y86,男子種目コード!$A$1:$B$33,2,FALSE),IF(I86=2,VLOOKUP(Y86,女子種目コード!$A$1:$B$27,2,FALSE))))","v":""},null,null,null,null,"","",null,null,null,null,null,null,null,"","",null,null,null,0]
["",{"$f":"陸連登録!N82","v":0},null,null,{"$f":"陸連登録!M82","v":0},{"$f":"陸連登録!C82","v":0},{"$f":"陸連登録!D82","v":0},0,{"$f":"陸連登録!A82","v":""},{"$f":"陸連登録!P82","v":0},{"$f":"LEFT(陸連登録!L82,4)","v":""},{"$f":"RIGHT(陸連登録!L82,4)","v":""},{"$f":"陸連登録!F82","v":0},{"$f":"陸連登録!B82","v":0},null,"",null,"","",null,"",null,"","",null,{"$f":"IF(Y87=\"\",\"\",IF(I87=1,VLOOKUP(Y87,男子種目コード!$A$1:$B$33,2,FALSE),IF(I87=2,VLOOKUP(Y87,女子種目コード!$A$1:$B$27,2,FALSE))))","v":""},null,null,null,null,"","",null,null,null,null,null,null,null,"","",null,null,null,0]
["",{"$f":"陸連登録!N83","v":0},null,null,{"$f":"陸連登録!M83","v":0},{"$f":"陸連登録!C83","v":0},{"$f":"陸連登録!D83","v":0},0,{"$f":"陸連登録!A83","v":""},{"$f":"陸連登録!P83","v":0},{"$f":"LEFT(陸連登録!L83,4)","v":""},{"$f":"RIGHT(陸連登録!L83,4)","v":""},{"$f":"陸連登録!F83","v":0},{"$f":"陸連登録!B83","v":0},null,"",null,"","",null,"",null,"","",null,{"$f":"IF(Y88=\"\",\"\",IF(I88=1,VLOOKUP(Y88,男子種目コード!$A$1:$B$33,2,FALSE),IF(I88=2,VLOOKUP(Y88,女子種目コード!$A$1:$B$27,2,FALSE))))","v":""},null,null,null,null,"","",null,null,null,null,null,null,null,"","",null,null,null,0]
["",{"$f":"陸連登録!N84","v":0},null,null,{"$f":"陸連登録!M84","v":0},{"$f":"陸連登録!C84","v":0},{"$f":"陸連登録!D84","v":0},0,{"$f":"陸連登録!A84","v":""},{"$f":"陸連登録!P84","v":0},{"$f":"LEFT(陸連登録!L84,4)","v":""},{"$f":"RIGHT(陸連登録!L84,4)","v":""},{"$f":"陸連登録!F84","v":0},{"$f":"陸連登録!B84","v":0},null,"",null,"","",null,"",null,"","",null,{"$f":"IF(Y89=\"\",\"\",IF(I89=1,VLOOKUP(Y89,男子種目コード!$A$1:$B$33,2,FALSE),IF(I89=2,VLOOKUP(Y89,女子種目コード!$A$1:$B$27,2,FALSE))))","v":""},null,null,null,null,"","",null,null,null,null,null,null,null,"","",null,null,null,0]
["",{"$f":"陸連登録!N85","v":0},null,null,{"$f":"陸連登録!M85","v":0},{"$f":"陸連登録!C85","v":0},{"$f":"陸連登録!D85","v":0},0,{"$f":"陸連登録!A85","v":""},{"$f":"陸連登録!P85","v":0},{"$f":"LEFT(陸連登録!L85,4)","v":""},{"$f":"RIGHT(陸連登録!L85,4)","v":""},{"$f":"陸連登録!F85","v":0},{"$f":"陸連登録!B85","v":0},null,"",null,"","",null,"",null,"","",null,{"$f":"IF(Y90=\"\",\"\",IF(I90=1,VLOOKUP(Y90,男子種目コード!$A$1:$B$33,2,FALSE),IF(I90=2,VLOOKUP(Y90,女子種目コード!$A$1:$B$27,2,FALSE))))","v":""},null,null,null,null,"","",null,null,null,null,null,null,null,"","",null,null,null,0]
["",{"$f":"陸連登録!N86","v":0},null,null,{"$f":"陸連登録!M86","v":0},{"$f":"陸連登録!C86","v":0},{"$f":"陸連登録!D86","v":0},0,{"$f":"陸連登録!A86","v":""},{"$f":"陸連登録!P86","v":0},{"$f":"LEFT(陸連登録!L86,4)","v":""},{"$f":"RIGHT(陸連登録!L86,4)","v":""},{"$f":"陸連登録!F86","v":0},{"$f":"陸連登録!B86","v":0},null,"",null,"","",null,"",null,"","",null,{"$f":"IF(Y91=\"\",\"\",IF(I91=1,VLOOKUP(Y91,男子種目コード!$A$1:$B$33,2,FALSE),IF(I91=2,VLOOKUP(Y91,女子種目コード!$A$1:$B$27,2,FALSE))))","v":""},null,null,null,null,"","",null,null,null,null,null,null,null,"","",null,null,null,0]
["",{"$f":"陸連登録!N87","v":0},null,null,{"$f":"陸連登録!M87","v":0},{"$f":"陸連登録!C87","v":0},{"$f":"陸連登録!D87","v":0},0,{"$f":"陸連登録!A87","v":""},{"$f":"陸連登録!P87","v":0},{"$f":"LEFT(陸連登録!L87,4)","v":""},{"$f":"RIGHT(陸連登録!L87,4)","v":""},{"$f":"陸連登録!F87","v":0},{"$f":"陸連登録!B87","v":0},null,"",null,"","",null,"",null,"","",null,{"$f":"IF(Y92=\"\",\"\",IF(I92=1,VLOOKUP(Y92,男子種目コード!$A$1:$B$33,2,FALSE),IF(I92=2,VLOOKUP(Y92,女子種目コード!$A$1:$B$27,2,FALSE))))","v":""},null,null,null,null,"","",null,null,null,null,null,null,null,"","",null,null,null,0]
["",{"$f":"陸連登録!N88","v":0},null,null,{"$f":"陸連登録!M88","v":0},{"$f":"陸連登録!C88","v":0},{"$f":"陸連登録!D88","v":0},0,{"$f":"陸連登録!A88","v":""},{"$f":"陸連登録!P88","v":0},{"$f":"LEFT(陸連登録!L88,4)","v":""},{"$f":"RIGHT(陸連登録!L88,4)","v":""},{"$f":"陸連登録!F88","v":0},{"$f":"陸連登録!B88","v":0},null,"",null,"","",null,"",null,"","",null,{"$f":"IF(Y93=\"\",\"\",IF(I93=1,VLOOKUP(Y93,男子種目コード!$A$1:$B$33,2,FALSE),IF(I93=2,VLOOKUP(Y93,女子種目コード!$A$1:$B$27,2,FALSE))))","v":""},null,null,null,null,"","",null,null,null,null,null,null,null,"","",null,null,null,0]
["",{"$f":"陸連登録!N89","v":0},null,null,{"$f":"陸連登録!M89","v":0},{"$f":"陸連登録!C89","v":0},{"$f":"陸連登録!D89","v":0},0,{"$f":"陸連登録!A89","v":""},{"$f":"陸連登録!P89","v":0},{"$f":"LEFT(陸連登録!L89,4)","v":""},{"$f":"RIGHT(陸連登録!L89,4)","v":""},{"$f":"陸連登録!F89","v":0},{"$f":"陸連登録!B89","v":0},null,"",null,"","",null,"",null,"","",null,{"$f":"IF(Y94=\"\",\"\",IF(I94=1,VLOOKUP(Y94,男子種目コード!$A$1:$B$33,2,FALSE),IF(I94=2,VLOOKUP(Y94,女子種目コード!$A$1:$B$27,2,FALSE))))","v":""},null,null,null,null,"","",null,null,null,null,null,null,null,"","",null,null,null,0]
["",{"$f":"陸連登録!N90","v":0},null,null,{"$f":"陸連登録!M90","v":0},{"$f":"陸連登録!C90","v":0},{"$f":"陸連登録!D90","v":0},0,{"$f":"陸連登録!A90","v":""},{"$f":"陸連登録!P90","v":0},{"$f":"LEFT(陸連登録!L90,4)","v":""},{"$f":"RIGHT(陸連登録!L90,4)","v":""},{"$f":"陸連登録!F90","v":0},{"$f":"陸連登録!B90","v":0},null,"",null,"","",null,"",null,"","",null,{"$f":"IF(Y95=\"\",\"\",IF(I95=1,VLOOKUP(Y95,男子種目コード!$A$1:$B$33,2,FALSE),IF(I95=2,VLOOKUP(Y95,女子種目コード!$A$1:$B$27,2,FALSE))))","v":""},null,null,null,null,"","",null,null,null,null,null,null,null,"","",null,null,null,0]
["",{"$f":"陸連登録!N91","v":0},null,null,{"$f":"陸連登録!M91","v":0},{"$f":"陸連登録!C91","v":0},{"$f":"陸連登録!D91","v":0},0,{"$f":"陸連登録!A91","v":""},{"$f":"陸連登録!P91","v":0},{"$f":"LEFT(陸連登録!L91,4)","v":""},{"$f":"RIGHT(陸連登録!L91,4)","v":""},{"$f":"陸連登録!F91","v":0},{"$f":"陸連登録!B91","v":0},null,"",null,"","",null,"",null,"","",null,{"$f":"IF(Y96=\"\",\"\",IF(I96=1,VLOOKUP(Y96,男子種目コード!$A$1:$B$33,2,FALSE),IF(I96=2,VLOOKUP(Y96,女子種目コード!$A$1:$B$27,2,FALSE))))","v":""},null,null,null,null,"","",null,null,null,null,null,null,null,"","",null,null,null,0]
["",{"$f":"陸連登録!N92","v":0},null,null,{"$f":"陸連登録!M92","v":0},{"$f":"陸連登録!C92","v":0},{"$f":"陸連登録!D92","v":0},0,{"$f":"陸連登録!A92","v":""},{"$f":"陸連登録!P92","v":0},{"$f":"LEFT(陸連登録!L92,4)","v":""},{"$f":"RIGHT(陸連登録!L92,4)","v":""},{"$f":"陸連登録!F92","v":0},{"$f":"陸連登録!B92","v":0},null,"",null,"","",null,"",null,"","",null,{"$f":"IF(Y97=\"\",\"\",IF(I97=1,VLOOKUP(Y97,男子種目コード!$A$1:$B$33,2,FALSE),IF(I97=2,VLOOKUP(Y97,女子種目コード!$A$1:$B$27,2,FALSE))))","v":""},null,null,null,null,"","",null,null,null,null,null,null,null,"","",null,null,null,0]
["",{"$f":"陸連登録!N93","v":0},null,null,{"$f":"陸連登録!M93","v":0},{"$f":"陸連登録!C93","v":0},{"$f":"陸連登録!D93","v":0},0,{"$f":"陸連登録!A93","v":""},{"$f":"陸連登録!P93","v":0},{"$f":"LEFT(陸連登録!L93,4)","v":""},{"$f":"RIGHT(陸連登録!L93,4)","v":""},{"$f":"陸連登録!F93","v":0},{"$f":"陸連登録!B93","v":0},null,"",null,"","",null,"",null,"","",null,{"$f":"IF(Y98=\"\",\"\",IF(I98=1,VLOOKUP(Y98,男子種目コード!$A$1:$B$33,2,FALSE),IF(I98=2,VLOOKUP(Y98,女子種目コード!$A$1:$B$27,2,FALSE))))","v":""},null,null,null,null,"","",null,null,null,null,null,null,null,"","",null,null,null,0]
["",{"$f":"陸連登録!N94","v":0},null,null,{"$f":"陸連登録!M94","v":0},{"$f":"陸連登録!C94","v":0},{"$f":"陸連登録!D94","v":0},0,{"$f":"陸連登録!A94","v":""},{"$f":"陸連登録!P94","v":0},{"$f":"LEFT(陸連登録!L94,4)","v":""},{"$f":"RIGHT(陸連登録!L94,4)","v":""},{"$f":"陸連登録!F94","v":0},{"$f":"陸連登録!B94","v":0},null,"",null,"","",null,"",null,"","",null,{"$f":"IF(Y99=\"\",\"\",IF(I99=1,VLOOKUP(Y99,男子種目コード!$A$1:$B$33,2,FALSE),IF(I99=2,VLOOKUP(Y99,女子種目コード!$A$1:$B$27,2,FALSE))))","v":""},null,null,null,null,"","",null,null,null,null,null,null,null,"","",null,null,null,0]
["",{"$f":"陸連登録!N95","v":0},null,null,{"$f":"陸連登録!M95","v":0},{"$f":"陸連登録!C95","v":0},{"$f":"陸連登録!D95","v":0},0,{"$f":"陸連登録!A95","v":""},{"$f":"陸連登録!P95","v":0},{"$f":"LEFT(陸連登録!L95,4)","v":""},{"$f":"RIGHT(陸連登録!L95,4)","v":""},{"$f":"陸連登録!F95","v":0},{"$f":"陸連登録!B95","v":0},null,"",null,"","",null,"",null,"","",null,{"$f":"IF(Y100=\"\",\"\",IF(I100=1,VLOOKUP(Y100,男子種目コード!$A$1:$B$33,2,FALSE),IF(I100=2,VLOOKUP(Y100,女子種目コード!$A$1:$B$27,2,FALSE))))","v":""},null,null,null,null,"","",null,null,null,null,null,null,null,"","",null,null,null,0]
["",{"$f":"陸連登録!N96","v":0},null,null,{"$f":"陸連登録!M96","v":0},{"$f":"陸連登録!C96","v":0},{"$f":"陸連登録!D96","v":0},0,{"$f":"陸連登録!A96","v":""},{"$f":"陸連登録!P96","v":0},{"$f":"LEFT(陸連登録!L96,4)","v":""},{"$f":"RIGHT(陸連登録!L96,4)","v":""},{"$f":"陸連登録!F96","v":0},{"$f":"陸連登録!B96","v":0},null,"",null,"","",null,"",null,"","",null,{"$f":"IF(Y101=\"\",\"\",IF(I101=1,VLOOKUP(Y101,男子種目コード!$A$1:$B$33,2,FALSE),IF(I101=2,VLOOKUP(Y101,女子種目コード!$A$1:$B$27,2,FALSE))))","v":""},null,null,null,null,"","",null,null,null,null,null,null,null,"","",null,null,null,0]
["",{"$f":"陸連登録!N97","v":0},null,null,{"$f":"陸連登録!M97","v":0},{"$f":"陸連登録!C97","v":0},{"$f":"陸連登録!D97","v":0},0,{"$f":"陸連登録!A97","v":""},{"$f":"陸連登録!P97","v":0},{"$f":"LEFT(陸連登録!L97,4)","v":""},{"$f":"RIGHT(陸連登録!L97,4)","v":""},{"$f":"陸連登録!F97","v":0},{"$f":"陸連登録!B97","v":0},null,"",null,"","",null,"",null,"","",null,{"$f":"IF(Y102=\"\",\"\",IF(I102=1,VLOOKUP(Y102,男子種目コード!$A$1:$B$33,2,FALSE),IF(I102=2,VLOOKUP(Y102,女子種目コード!$A$1:$B$27,2,FALSE))))","v":""},null,null,null,null,"","",null,null,null,null,null,null,null,"","",null,null,null,0]
["",{"$f":"陸連登録!N98","v":0},null,null,{"$f":"陸連登録!M98","v":0},{"$f":"陸連登録!C98","v":0},{"$f":"陸連登録!D98","v":0},0,{"$f":"陸連登録!A98","v":""},{"$f":"陸連登録!P98","v":0},{"$f":"LEFT(陸連登録!L98,4)","v":""},{"$f":"RIGHT(陸連登録!L98,4)","v":""},{"$f":"陸連登録!F98","v":0},{"$f":"陸連登録!B98","v":0},null,"",null,"","",null,"",null,"","",null,{"$f":"IF(Y103=\"\",\"\",IF(I103=1,VLOOKUP(Y103,男子種目コード!$A$1:$B$33,2,FALSE),IF(I103=2,VLOOKUP(Y103,女子種目コード!$A$1:$B$27,2,FALSE))))","v":""},null,null,null,null,"","",null,null,null,null,null,null,null,{"$f":"IF(O103=\"\",\"\",1)","v":""},{"$f":"IF(T103=\"\",\"\",1)","v":""},null,null,null,{"$f":"E103","v":0}]
["",{"$f":"陸連登録!N99","v":0},null,null,{"$f":"陸連登録!M99","v":0},{"$f":"陸連登録!C99","v":0},{"$f":"陸連登録!D99","v":0},0,{"$f":"陸連登録!A99","v":""},{"$f":"陸連登録!P99","v":0},{"$f":"LEFT(陸連登録!L99,4)","v":""},{"$f":"RIGHT(陸連登録!L99,4)","v":""},{"$f":"陸連登録!F99","v":0},{"$f":"陸連登録!B99","v":0},null,"",null,"","",null,"",null,"","",null,{"$f":"IF(Y104=\"\",\"\",IF(I104=1,VLOOKUP(Y104,男子種目コード!$A$1:$B$33,2,FALSE),IF(I104=2,VLOOKUP(Y104,女子種目コード!$A$1:$B$27,2,FALSE))))","v":""},null,null,null,null,"","",null,null,null,null,null,null,null,"","",null,null,null,0]
["",{"$f":"陸連登録!N100","v":0},null,null,{"$f":"陸連登録!M100","v":0},{"$f":"陸連登録!C100","v":0},{"$f":"陸連登録!D100","v":0},0,{"$f":"陸連登録!A100","v":""},{"$f":"陸連登録!P100","v":0},{"$f":"LEFT(陸連登録!L100,4)","v":""},{"$f":"RIGHT(陸連登録!L100,4)","v":""},{"$f":"陸連登録!F100","v":0},{"$f":"陸連登録!B100","v":0},null,"",null,"","",null,"",null,"","",null,{"$f":"IF(Y105=\"\",\"\",IF(I105=1,VLOOKUP(Y105,男子種目コード!$A$1:$B$33,2,FALSE),IF(I105=2,VLOOKUP(Y105,女子種目コード!$A$1:$B$27,2,FALSE))))","v":""},null,null,null,null,"","",null,null,null,null,null,null,null,"","",null,null,null,0]
["",{"$f":"陸連登録!N101","v":0},null,null,{"$f":"陸連登録!M101","v":0},{"$f":"陸連登録!C101","v":0},{"$f":"陸連登録!D101","v":0},0,{"$f":"陸連登録!A101","v":""},{"$f":"陸連登録!P101","v":0},{"$f":"LEFT(陸連登録!L101,4)","v":""},{"$f":"RIGHT(陸連登録!L101,4)","v":""},{"$f":"陸連登録!F101","v":0},{"$f":"陸連登録!B101","v":0},null,"",null,"","",null,"",null,"","",null,{"$f":"IF(Y106=\"\",\"\",IF(I106=1,VLOOKUP(Y106,男子種目コード!$A$1:$B$33,2,FALSE),IF(I106=2,VLOOKUP(Y106,女子種目コード!$A$1:$B$27,2,FALSE))))","v":""},null,null,null,null,"","",null,null,null,null,null,null,null,"","",null,null,null,0]
["",{"$f":"陸連登録!N102","v":0},null,null,{"$f":"陸連登録!M102","v":0},{"$f":"陸連登録!C102","v":0},{"$f":"陸連登録!D102","v":0},0,{"$f":"陸連登録!A102","v":""},{"$f":"陸連登録!P102","v":0},{"$f":"LEFT(陸連登録!L102,4)","v":""},{"$f":"RIGHT(陸連登録!L102,4)","v":""},{"$f":"陸連登録!F102","v":0},{"$f":"陸連登録!B102","v":0},null,"",null,"","",null,"",null,"","",null,{"$f":"IF(Y107=\"\",\"\",IF(I107=1,VLOOKUP(Y107,男子種目コード!$A$1:$B$33,2,FALSE),IF(I107=2,VLOOKUP(Y107,女子種目コード!$A$1:$B$27,2,FALSE))))","v":""},null,null,null,null,"","",null,null,null,null,null,null,null,"","",null,null,null,0]
["",{"$f":"陸連登録!N103","v":0},null,null,{"$f":"陸連登録!M103","v":0},{"$f":"陸連登録!C103","v":0},{"$f":"陸連登録!D103","v":0},0,{"$f":"陸連登録!A103","v":""},{"$f":"陸連登録!P103","v":0},{"$f":"LEFT(陸連登録!L103,4)","v":""},{"$f":"RIGHT(陸連登録!L103,4)","v":""},{"$f":"陸連登録!F103","v":0},{"$f":"陸連登録!B103","v":0},null,"",null,"","",null,"",null,"","",null,{"$f":"IF(Y108=\"\",\"\",IF(I108=1,VLOOKUP(Y108,男子種目コード!$A$1:$B$33,2,FALSE),IF(I108=2,VLOOKUP(Y108,女子種目コード!$A$1:$B$27,2,FALSE))))","v":""},null,null,null,null,"","",null,null,null,null,null,null,null,"","",null,null,null,0]
["",{"$f":"陸連登録!N104","v":0},null,null,{"$f":"陸連登録!M104","v":0},{"$f":"陸連登録!C104","v":0},{"$f":"陸連登録!D104","v":0},0,{"$f":"陸連登録!A104","v":""},{"$f":"陸連登録!P104","v":0},{"$f":"LEFT(陸連登録!L104,4)","v":""},{"$f":"RIGHT(陸連登録!L104,4)","v":""},{"$f":"陸連登録!F104","v":0},{"$f":"陸連登録!B104","v":0},null,"",null,"","",null,"",null,"","",null,{"$f":"IF(Y109=\"\",\"\",IF(I109=1,VLOOKUP(Y109,男子種目コード!$A$1:$B$33,2,FALSE),IF(I109=2,VLOOKUP(Y109,女子種目コード!$A$1:$B$27,2,FALSE))))","v":""},null,null,null,null,"","",null,null,null,null,null,null,null,"","",null,null,null,0]
["",{"$f":"陸連登録!N105","v":0},null,null,{"$f":"陸連登録!M105","v":0},{"$f":"陸連登録!C105","v":0},{"$f":"陸連登録!D105","v":0},0,{"$f":"陸連登録!A105","v":""},{"$f":"陸連登録!P105","v":0},{"$f":"LEFT(陸連登録!L105,4)","v":""},{"$f":"RIGHT(陸連登録!L105,4)","v":""},{"$f":"陸連登録!F105","v":0},{"$f":"陸連登録!B105","v":0},null,"",null,"","",null,"",null,"","",null,{"$f":"IF(Y110=\"\",\"\",IF(I110=1,VLOOKUP(Y110,男子種目コード!$A$1:$B$33,2,FALSE),IF(I110=2,VLOOKUP(Y110,女子種目コード!$A$1:$B$27,2,FALSE))))","v":""},null,null,null,null,"","",null,null,null,null,null,null,null,"","",null,null,null,0]
["",{"$f":"陸連登録!N106","v":0},null,null,{"$f":"陸連登録!M106","v":0},{"$f":"陸連登録!C106","v":0},{"$f":"陸連登録!D106","v":0},0,{"$f":"陸連登録!A106","v":""},{"$f":"陸連登録!P106","v":0},{"$f":"LEFT(陸連登録!L106,4)","v":""},{"$f":"RIGHT(陸連登録!L106,4)","v":""},{"$f":"陸連登録!F106","v":0},{"$f":"陸連登録!B106","v":0},null,"",null,"","",null,"",null,"","",null,{"$f":"IF(Y111=\"\",\"\",IF(I111=1,VLOOKUP(Y111,男子種目コード!$A$1:$B$33,2,FALSE),IF(I111=2,VLOOKUP(Y111,女子種目コード!$A$1:$B$27,2,FALSE))))","v":""},null,null,null,null,"","",null,null,null,null,null,null,null,"","",null,null,null,0]
["",{"$f":"陸連登録!N107","v":0},null,null,{"$f":"陸連登録!M107","v":0},{"$f":"陸連登録!C107","v":0},{"$f":"陸連登録!D107","v":0},0,{"$f":"陸連登録!A107","v":""},{"$f":"陸連登録!P107","v":0},{"$f":"LEFT(陸連登録!L107,4)","v":""},{"$f":"RIGHT(陸連登録!L107,4)","v":""},{"$f":"陸連登録!F107","v":0},{"$f":"陸連登録!B107","v":0},null,"",null,"","",null,"",null,"","",null,{"$f":"IF(Y112=\"\",\"\",IF(I112=1,VLOOKUP(Y112,男子種目コード!$A$1:$B$33,2,FALSE),IF(I112=2,VLOOKUP(Y112,女子種目コード!$A$1:$B$27,2,FALSE))))","v":""},null,null,null,null,"","",null,null,null,null,null,null,null,"","",null,null,null,0]
["",{"$f":"陸連登録!N108","v":0},null,null,{"$f":"陸連登録!M108","v":0},{"$f":"陸連登録!C108","v":0},{"$f":"陸連登録!D108","v":0},0,{"$f":"陸連登録!A108","v":""},{"$f":"陸連登録!P108","v":0},{"$f":"LEFT(陸連登録!L108,4)","v":""},{"$f":"RIGHT(陸連登録!L108,4)","v":""},{"$f":"陸連登録!F108","v":0},{"$f":"陸連登録!B108","v":0},null,"",null,"","",null,"",null,"","",null,{"$f":"IF(Y113=\"\",\"\",IF(I113=1,VLOOKUP(Y113,男子種目コード!$A$1:$B$33,2,FALSE),IF(I113=2,VLOOKUP(Y113,女子種目コード!$A$1:$B$27,2,FALSE))))","v":""},null,null,null,null,"","",null,null,null,null,null,null,null,"","",null,null,null,0]
["",{"$f":"陸連登録!N109","v":0},null,null,{"$f":"陸連登録!M109","v":0},{"$f":"陸連登録!C109","v":0},{"$f":"陸連登録!D109","v":0},0,{"$f":"陸連登録!A109","v":""},{"$f":"陸連登録!P109","v":0},{"$f":"LEFT(陸連登録!L109,4)","v":""},{"$f":"RIGHT(陸連登録!L109,4)","v":""},{"$f":"陸連登録!F109","v":0},{"$f":"陸連登録!B109","v":0},null,"",null,"","",null,"",null,"","",null,{"$f":"IF(Y114=\"\",\"\",IF(I114=1,VLOOKUP(Y114,男子種目コード!$A$1:$B$33,2,FALSE),IF(I114=2,VLOOKUP(Y114,女子種目コード!$A$1:$B$27,2,FALSE))))","v":""},null,null,null,null,"","",null,null,null,null,null,null,null,"","",null,null,null,0]
["",{"$f":"陸連登録!N110","v":0},null,null,{"$f":"陸連登録!M110","v":0},{"$f":"陸連登録!C110","v":0},{"$f":"陸連登録!D110","v":0},0,{"$f":"陸連登録!A110","v":""},{"$f":"陸連登録!P110","v":0},{"$f":"LEFT(陸連登録!L110,4)","v":""},{"$f":"RIGHT(陸連登録!L110,4)","v":""},{"$f":"陸連登録!F110","v":0},{"$f":"陸連登録!B110","v":0},null,"",null,"","",null,"",null,"","",null,{"$f":"IF(Y115=\"\",\"\",IF(I115=1,VLOOKUP(Y115,男子種目コード!$A$1:$B$33,2,FALSE),IF(I115=2,VLOOKUP(Y115,女子種目コード!$A$1:$B$27,2,FALSE))))","v":""},null,null,null,null,"","",null,null,null,null,null,null,null,"","",null,null,null,0]
["",{"$f":"陸連登録!N111","v":0},null,null,{"$f":"陸連登録!M111","v":0},{"$f":"陸連登録!C111","v":0},{"$f":"陸連登録!D111","v":0},0,{"$f":"陸連登録!A111","v":""},{"$f":"陸連登録!P111","v":0},{"$f":"LEFT(陸連登録!L111,4)","v":""},{"$f":"RIGHT(陸連登録!L111,4)","v":""},{"$f":"陸連登録!F111","v":0},{"$f":"陸連登録!B111","v":0},null,"",null,"","",null,"",null,"","",null,{"$f":"IF(Y116=\"\",\"\",IF(I116=1,VLOOKUP(Y116,男子種目コード!$A$1:$B$33,2,FALSE),IF(I116=2,VLOOKUP(Y116,女子種目コード!$A$1:$B$27,2,FALSE))))","v":""},null,null,null,null,"","",null,null,null,null,null,null,null,"","",null,null,null,0]
[null,null,null,null,null,null,null,null,null,null,null,null,null,null,null,null,null,null,null,null,null,null,null,null,null,null,null,null,null,null,null,{"$f":"SUM(AN7:AN116)","v":0},{"$f":"SUM(AO7:AO116)","v":0}]
[null,null,null,null,null,null,null,null,null,null,null,null,null,null,null,null,null,null,null,null,null,null,null,null,null,null,null,null,null,null,null,{"$f":"SUM(AF117:AG117)","v":0}]

{"sheet":"通信","index":9,"n_rows":118,"n_cols":68,"rows_kept":118,"cut":false,"hidden":false,"merged":[[16,47,16,48],[5,45,5,46],[5,47,5,48],[14,45,14,46],[14,47,14,48],[7,45,7,46],[7,47,7,48],[72,42,72,43],[58,42,58,43],[60,42,60,43],[44,42,44,43],[16,45,16,46],[1,6,1,19],[39,42,39,43],[41,42,41,43],[40,42,40,43],[5,42,5,43]]}
[null,null,null,null,"所属名",{"$f":"陸連登録!I2","v":0}]
[null,null,null,null,"所属コード",{"$f":"陸連登録!N2","v":0},"全日本通信三重大会"]
[null,null,null,null,"顧問名",null,"男子",null,null,null,null,null,null,null,{"$f":"COUNTIF($I$7:$I$116,1)-COUNTIF($BF$7:$BF$116,0)","v":0}]
[null,null,null,null,"顧問連絡先",null,"女子",null,null,null,null,null,null,null,{"$f":"COUNTIF($I$7:$I$116,2)-COUNTIF($BG$7:$BG$116,0)","v":0},null,{"$f":"O3+O4","v":0}]
[null,null,null,null,null,null,"大会参加費",null,null,null,null,null,null,null,{"$f":"($AN$117+$AO$117+$AP$117)*1000+V5*800","v":0},null,null,null,null,"プログラム冊数",null,null,null,null,"冊"]
["競技者コード","所属コード",null,null,"ナンバー","名　前","カナ名","掲示板名","性別","学年","生年","月日","個人所属地コード","陸連ID","1種目","コード","記録",null,null,"2種目","コード","記録",null,null,"リレー","コード","記録",null,null,"種目","コード4","自己記録4","種目","コード5","自己記録5",null,null,null,"1年100",null,null,null,"出場制限2名(1名）",null,null,"低学年",null,"高学年",null,null,null,"1年100m","1年100m","低学年R",null,null,"種目数","男子","女子"]
[{"$f":"Z7","v":""},{"$f":"陸連登録!N2","v":0},null,null,{"$f":"陸連登録!M2","v":1000},{"$f":"陸連登録!C2","v":"岡田"},{"$f":"陸連登録!D2","v":0},{"$f":"F7","v":"岡田"},{"$f":"陸連登録!A2","v":1},{"$f":"陸連登録!P2","v":3},{"$f":"LEFT(陸連登録!L2,4)","v":""},{"$f":"RIGHT(陸連登録!L2,4)","v":""},{"$f":"陸連登録!F2","v":0},{"$f":"陸連登録!B2","v":0},null,{"$f":"IF(O7=\"\",\"\",IF(I7=1,VLOOKUP(O7,$AQ$7:$AS$23,3,FALSE),IF(I7=2,VLOOKUP(O7,$AQ$25:$AS$38,3,FALSE))))","v":""},null,{"$f":"IF(O7=\"\",\"\",0)","v":""},{"$f":"IF(O7=\"\",\"\",2)","v":""},null,{"$f":"IF(T7=\"\",\"\",IF(I7=1,VLOOKUP(T7,$AQ$7:$AS$23,3,FALSE),IF(I7=2,VLOOKUP(T7,$AQ$25:$AS$38,3,FALSE))))","v":""},null,{"$f":"IF(T7=\"\",\"\",0)","v":""},{"$f":"IF(T7=\"\",\"\",2)","v":""},null,{"$f":"IF(Y7=\"\",\"\",IF(I7=1,VLOOKUP(Y7,男子種目コード!$D$1:$E$20,2,FALSE),IF(I7=2,VLOOKUP(Y7,女子種目コード!$D$1:$E$20,2,FALSE))))","v":""},null,{"$f":"IF(Y7=\"\",\"\",0)","v":""},{"$f":"IF(Y7=\"\",\"\",2)","v":""},null,{"$f":"IF(AD7=\"\",\"\",IF(I7=1,VLOOKUP(AD7,男子種目コード!$A$1:$B$33,2,FALSE),IF(V7=2,VLOOKUP(I7,女子種目コード!$A$1:$B$28,2,FALSE))))","v":""},null,null,{"$f":"IF(AG7=\"\",\"\",IF(I7=1,VLOOKUP(AG7,男子種目コード!$A$1:$B$33,2,FALSE),IF(AA7=2,VLOOKUP(I7,女子種目コード!$A$1:$B$28,2,FALSE))))","v":""},null,null,null,null,"1年800",{"$f":"IF(O7=\"\",\"\",1)","v":""},{"$f":"IF(OR(AN7=1,T7=\"\"),0,1)","v":0},{"$f":"IF(OR(AN7=1,AO7=1,Y7=\"\"),0,1)","v":0},"1年100m",{"$f":"COUNTIF($P$7:P$116,1)+COUNTIF($U$7:$U$116,1)","v":0},1,"記録",null,"記録",null,null,null,"1年1500m","1年800m","4×100R",null,null,{"$f":"COUNT(P7,U7,Z7)","v":0},{"$f":"IF(I7=1,BE7,\"\")","v":0},{"$f":"IF(I7=2,BE7,\"\")","v":""}]
[{"$f":"Z8","v":""},{"$f":"陸連登録!N3","v":0},null,null,{"$f":"陸連登録!M3","v":0},{"$f":"陸連登録!C3","v":0},{"$f":"陸連登録!D3","v":0},{"$f":"F8","v":0},{"$f":"陸連登録!A3","v":""},{"$f":"陸連登録!P3","v":0},{"$f":"LEFT(陸連登録!L3,4)","v":""},{"$f":"RIGHT(陸連登録!L3,4)","v":""},{"$f":"陸連登録!F3","v":0},{"$f":"陸連登録!B3","v":0},null,{"$f":"IF(O8=\"\",\"\",IF(I8=1,VLOOKUP(O8,$AQ$7:$AS$23,3,FALSE),IF(I8=2,VLOOKUP(O8,$AQ$25:$AS$38,3,FALSE))))","v":""},null,{"$f":"IF(O8=\"\",\"\",0)","v":""},{"$f":"IF(O8=\"\",\"\",2)","v":""},null,{"$f":"IF(T8=\"\",\"\",IF(I8=1,VLOOKUP(T8,$AQ$7:$AS$23,3,FALSE),IF(I8=2,VLOOKUP(T8,$AQ$25:$AS$38,3,FALSE))))","v":""},null,{"$f":"IF(T8=\"\",\"\",0)","v":""},{"$f":"IF(T8=\"\",\"\",2)","v":""},null,{"$f":"IF(Y8=\"\",\"\",IF(I8=1,VLOOKUP(Y8,男子種目コード!$D$1:$E$20,2,FALSE),IF(I8=2,VLOOKUP(Y8,女子種目コード!$D$1:$E$20,2,FALSE))))","v":""},null,{"$f":"IF(Y8=\"\",\"\",0)","v":""},{"$f":"IF(Y8=\"\",\"\",2)","v":""},null,{"$f":"IF(AD8=\"\",\"\",IF(I8=1,VLOOKUP(AD8,男子種目コード!$A$1:$B$33,2,FALSE),IF(V8=2,VLOOKUP(I8,女子種目コード!$A$1:$B$28,2,FALSE))))","v":""},null,null,{"$f":"IF(AG8=\"\",\"\",IF(I8=1,VLOOKUP(AG8,男子種目コード!$A$1:$B$33,2,FALSE),IF(AA8=2,VLOOKUP(I8,女子種目コード!$A$1:$B$28,2,FALSE))))","v":""},null,null,null,null,"1年1500",{"$f":"IF(O8=\"\",\"\",1)","v":""},0,0,"1年1500m",{"$f":"COUNTIF($P$7:P$116,2)+COUNTIF($U7:$U116,2)","v":0},2,{"$f":"COUNTIF($Z7:$Z116,12)","v":0},null,{"$f":"COUNTIF($Z7:$Z116,13)","v":0},null,null,null,"100m","100m","4×100R",null,null,{"$f":"COUNT(P8,U8,Z8)","v":0},{"$f":"IF(I8=1,BE8,\"\")","v":""},{"$f":"IF(I8=2,BE8,\"\")","v":""}]
["",{"$f":"陸連登録!N4","v":0},null,null,{"$f":"陸連登録!M4","v":0},{"$f":"陸連登録!C4","v":0},{"$f":"陸連登録!D4","v":0},0,{"$f":"陸連登録!A4","v":""},{"$f":"陸連登録!P4","v":0},{"$f":"LEFT(陸連登録!L4,4)","v":""},{"$f":"RIGHT(陸連登録!L4,4)","v":""},{"$f":"陸連登録!F4","v":0},{"$f":"陸連登録!B4","v":0},null,"",null,"","",null,"",null,"","",null,{"$f":"IF(Y9=\"\",\"\",IF(I9=1,VLOOKUP(Y9,男子種目コード!$D$1:$E$20,2,FALSE),IF(I9=2,VLOOKUP(Y9,女子種目コード!$D$1:$E$20,2,FALSE))))","v":""},null,"","",null,{"$f":"IF(AD9=\"\",\"\",IF(I9=1,VLOOKUP(AD9,男子種目コード!$A$1:$B$33,2,FALSE),IF(V9=2,VLOOKUP(I9,女子種目コード!$A$1:$B$28,2,FALSE))))","v":""},null,null,{"$f":"IF(AG9=\"\",\"\",IF(I9=1,VLOOKUP(AG9,男子種目コード!$A$1:$B$33,2,FALSE),IF(AA9=2,VLOOKUP(I9,女子種目コード!$A$1:$B$28,2,FALSE))))","v":""},null,null,null,null,"2年100","",0,0,"2年100m",{"$f":"COUNTIF($P$7:P$116,3)+COUNTIF($U$7:$U$116,3)","v":0},3,{"$f":"IF(ISERROR(BM9),\"\",BM9)","v":""},"","","",null,0,"200m","200m",null,null,null,0,"","",null,null,null,null,null,{"$f":"VLookUpX(12,$A$7:$F$116,1,5)","v":{"$error":"#N/A"}},{"$f":"VLookUpX(12,$A$7:$F$116,1,6)","v":{"$error":"#N/A"}},{"$f":"VLookUpX(13,$A$7:$F$116,1,5)","v":{"$error":"#N/A"}},{"$f":"VLookUpX(13,$A$7:$F$116,1,6)","v":{"$error":"#N/A"}}]
["",{"$f":"陸連登録!N5","v":0},null,null,{"$f":"陸連登録!M5","v":0},{"$f":"陸連登録!C5","v":0},{"$f":"陸連登録!D5","v":0},0,{"$f":"陸連登録!A5","v":""},{"$f":"陸連登録!P5","v":0},{"$f":"LEFT(陸連登録!L5,4)","v":""},{"$f":"RIGHT(陸連登録!L5,4)","v":""},{"$f":"陸連登録!F5","v":0},{"$f":"陸連登録!B5","v":0},null,"",null,"","",null,"",null,"","",null,{"$f":"IF(Y10=\"\",\"\",IF(I10=1,VLOOKUP(Y10,男子種目コード!$D$1:$E$20,2,FALSE),IF(I10=2,VLOOKUP(Y10,女子種目コード!$D$1:$E$20,2,FALSE))))","v":""},null,"","",null,{"$f":"IF(AD10=\"\",\"\",IF(I10=1,VLOOKUP(AD10,男子種目コード!$A$1:$B$33,2,FALSE),IF(V10=2,VLOOKUP(I10,女子種目コード!$A$1:$B$28,2,FALSE))))","v":""},null,null,{"$f":"IF(AG10=\"\",\"\",IF(I10=1,VLOOKUP(AG10,男子種目コード!$A$1:$B$33,2,FALSE),IF(AA10=2,VLOOKUP(I10,女子種目コード!$A$1:$B$28,2,FALSE))))","v":""},null,null,null,null,"2年1500","",0,0,"2年1500m",{"$f":"COUNTIF($P$7:P$116,4)+COUNTIF($U$7:$U$116,4)","v":0},4,"","","","",null,null,"400m","800m",null,null,null,0,"","",null,null,null,null,null,{"$f":"VLookUpX(12,$A$7:$F$116,2,5)","v":{"$error":"#N/A"}},{"$f":"VLookUpX(12,$A$7:$F$116,2,6)","v":{"$error":"#N/A"}},{"$f":"VLookUpX(13,$A$7:$F$116,2,5)","v":{"$error":"#N/A"}},{"$f":"VLookUpX(13,$A$7:$F$116,2,6)","v":{"$error":"#N/A"}}]
["",{"$f":"陸連登録!N6","v":0},null,null,{"$f":"陸連登録!M6","v":0},{"$f":"陸連登録!C6","v":0},{"$f":"陸連登録!D6","v":0},0,{"$f":"陸連登録!A6","v":""},{"$f":"陸連登録!P6","v":0},{"$f":"LEFT(陸連登録!L6,4)","v":""},{"$f":"RIGHT(陸連登録!L6,4)","v":""},{"$f":"陸連登録!F6","v":0},{"$f":"陸連登録!B6","v":0},null,"",null,"","",null,"",null,"","",null,{"$f":"IF(Y11=\"\",\"\",IF(I11=1,VLOOKUP(Y11,男子種目コード!$D$1:$E$20,2,FALSE),IF(I11=2,VLOOKUP(Y11,女子種目コード!$D$1:$E$20,2,FALSE))))","v":""},null,"","",null,{"$f":"IF(AD11=\"\",\"\",IF(I11=1,VLOOKUP(AD11,男子種目コード!$A$1:$B$33,2,FALSE),IF(V11=2,VLOOKUP(I11,女子種目コード!$A$1:$B$28,2,FALSE))))","v":""},null,null,{"$f":"IF(AG11=\"\",\"\",IF(I11=1,VLOOKUP(AG11,男子種目コード!$A$1:$B$33,2,FALSE),IF(AA11=2,VLOOKUP(I11,女子種目コード!$A$1:$B$28,2,FALSE))))","v":""},null,null,null,null,"共通100","",0,0,"100m",{"$f":"COUNTIF($P$7:P$116,5)+COUNTIF($U$7:$U$116,5)","v":0},5,"","","","",null,null,"800m","1500m",null,null,null,0,"","",null,null,null,null,null,{"$f":"VLookUpX(12,$A$7:$F$116,3,5)","v":{"$error":"#N/A"}},{"$f":"VLookUpX(12,$A$7:$F$116,3,6)","v":{"$error":"#N/A"}},{"$f":"VLookUpX(13,$A$7:$F$116,3,5)","v":{"$error":"#N/A"}},{"$f":"VLookUpX(13,$A$7:$F$116,3,6)","v":{"$error":"#N/A"}}]
["",{"$f":"陸連登録!N7","v":0},null,null,{"$f":"陸連登録!M7","v":0},{"$f":"陸連登録!C7","v":0},{"$f":"陸連登録!D7","v":0},0,{"$f":"陸連登録!A7","v":""},{"$f":"陸連登録!P7","v":0},{"$f":"LEFT(陸連登録!L7,4)","v":""},{"$f":"RIGHT(陸連登録!L7,4)","v":""},{"$f":"陸連登録!F7","v":0},{"$f":"陸連登録!B7","v":0},null,"",null,"","",null,"",null,"","",null,{"$f":"IF(Y12=\"\",\"\",IF(I12=1,VLOOKUP(Y12,男子種目コード!$D$1:$E$20,2,FALSE),IF(I12=2,VLOOKUP(Y12,女子種目コード!$D$1:$E$20,2,FALSE))))","v":""},null,"","",null,{"$f":"IF(AD12=\"\",\"\",IF(I12=1,VLOOKUP(AD12,男子種目コード!$A$1:$B$33,2,FALSE),IF(V12=2,VLOOKUP(I12,女子種目コード!$A$1:$B$28,2,FALSE))))","v":""},null,null,{"$f":"IF(AG12=\"\",\"\",IF(I12=1,VLOOKUP(AG12,男子種目コード!$A$1:$B$33,2,FALSE),IF(AA12=2,VLOOKUP(I12,女子種目コード!$A$1:$B$28,2,FALSE))))","v":""},null,null,null,null,"共通200","",0,0,"200m",{"$f":"COUNTIF($P$7:P$116,6)+COUNTIF($U$7:$U$116,6)","v":0},6,"","","","",null,null,"1500m","100mH",null,null,null,0,"","",null,null,null,null,null,{"$f":"VLookUpX(12,$A$7:$F$116,4,5)","v":{"$error":"#N/A"}},{"$f":"VLookUpX(12,$A$7:$F$116,4,6)","v":{"$error":"#N/A"}},{"$f":"VLookUpX(13,$A$7:$F$116,4,5)","v":{"$error":"#N/A"}},{"$f":"VLookUpX(13,$A$7:$F$116,4,6)","v":{"$error":"#N/A"}}]
["",{"$f":"陸連登録!N8","v":0},null,null,{"$f":"陸連登録!M8","v":0},{"$f":"陸連登録!C8","v":0},{"$f":"陸連登録!D8","v":0},0,{"$f":"陸連登録!A8","v":""},{"$f":"陸連登録!P8","v":0},{"$f":"LEFT(陸連登録!L8,4)","v":""},{"$f":"RIGHT(陸連登録!L8,4)","v":""},{"$f":"陸連登録!F8","v":0},{"$f":"陸連登録!B8","v":0},null,"",null,"","",null,"",null,"","",null,{"$f":"IF(Y13=\"\",\"\",IF(I13=1,VLOOKUP(Y13,男子種目コード!$D$1:$E$20,2,FALSE),IF(I13=2,VLOOKUP(Y13,女子種目コード!$D$1:$E$20,2,FALSE))))","v":""},null,"","",null,{"$f":"IF(AD13=\"\",\"\",IF(I13=1,VLOOKUP(AD13,男子種目コード!$A$1:$B$33,2,FALSE),IF(V13=2,VLOOKUP(I13,女子種目コード!$A$1:$B$28,2,FALSE))))","v":""},null,null,{"$f":"IF(AG13=\"\",\"\",IF(I13=1,VLOOKUP(AG13,男子種目コード!$A$1:$B$33,2,FALSE),IF(AA13=2,VLOOKUP(I13,女子種目コード!$A$1:$B$28,2,FALSE))))","v":""},null,null,null,null,"共通400",{"$f":"IF(O13=\"\",\"\",1)","v":""},0,0,"400m",{"$f":"COUNTIF($P$7:P$116,7)+COUNTIF($U$7:$U$116,7)","v":0},7,"","","","",null,null,"3000m","走高跳",null,null,null,0,"","",null,null,null,null,null,{"$f":"VLookUpX(12,$A$7:$F$116,5,5)","v":{"$error":"#N/A"}},{"$f":"VLookUpX(12,$A$7:$F$116,5,6)","v":{"$error":"#N/A"}},{"$f":"VLookUpX(13,$A$7:$F$116,5,5)","v":{"$error":"#N/A"}},{"$f":"VLookUpX(13,$A$7:$F$116,5,6)","v":{"$error":"#N/A"}}]
["",{"$f":"陸連登録!N9","v":0},null,null,{"$f":"陸連登録!M9","v":0},{"$f":"陸連登録!C9","v":0},{"$f":"陸連登録!D9","v":0},0,{"$f":"陸連登録!A9","v":""},{"$f":"陸連登録!P9","v":0},{"$f":"LEFT(陸連登録!L9,4)","v":""},{"$f":"RIGHT(陸連登録!L9,4)","v":""},{"$f":"陸連登録!F9","v":0},{"$f":"陸連登録!B9","v":0},null,"",null,"","",null,"",null,"","",null,{"$f":"IF(Y14=\"\",\"\",IF(I14=1,VLOOKUP(Y14,男子種目コード!$D$1:$E$20,2,FALSE),IF(I14=2,VLOOKUP(Y14,女子種目コード!$D$1:$E$20,2,FALSE))))","v":""},null,"","",null,{"$f":"IF(AD14=\"\",\"\",IF(I14=1,VLOOKUP(AD14,男子種目コード!$A$1:$B$33,2,FALSE),IF(V14=2,VLOOKUP(I14,女子種目コード!$A$1:$B$28,2,FALSE))))","v":""},null,null,{"$f":"IF(AG14=\"\",\"\",IF(I14=1,VLOOKUP(AG14,男子種目コード!$A$1:$B$33,2,FALSE),IF(AA14=2,VLOOKUP(I14,女子種目コード!$A$1:$B$28,2,FALSE))))","v":""},null,null,null,null,"共通800","",0,0,"800m",{"$f":"COUNTIF($P$7:P$116,8)+COUNTIF($U$7:$U$116,8)","v":0},8,"","","","",null,null,"110mYH","棒高跳",null,null,null,0,"","",null,null,null,null,null,{"$f":"VLookUpX(12,$A$7:$F$116,6,5)","v":{"$error":"#N/A"}},{"$f":"VLookUpX(12,$A$7:$F$116,6,6)","v":{"$error":"#N/A"}},{"$f":"VLookUpX(13,$A$7:$F$116,6,5)","v":{"$error":"#N/A"}},{"$f":"VLookUpX(13,$A$7:$F$116,6,6)","v":{"$error":"#N/A"}}]
["",{"$f":"陸連登録!N10","v":0},null,null,{"$f":"陸連登録!M10","v":0},{"$f":"陸連登録!C10","v":0},{"$f":"陸連登録!D10","v":0},0,{"$f":"陸連登録!A10","v":""},{"$f":"陸連登録!P10","v":0},{"$f":"LEFT(陸連登録!L10,4)","v":""},{"$f":"RIGHT(陸連登録!L10,4)","v":""},{"$f":"陸連登録!F10","v":0},{"$f":"陸連登録!B10","v":0},null,"",null,"","",null,"",null,"","",null,{"$f":"IF(Y15=\"\",\"\",IF(I15=1,VLOOKUP(Y15,男子種目コード!$D$1:$E$20,2,FALSE),IF(I15=2,VLOOKUP(Y15,女子種目コード!$D$1:$E$20,2,FALSE))))","v":""},null,"","",null,{"$f":"IF(AD15=\"\",\"\",IF(I15=1,VLOOKUP(AD15,男子種目コード!$A$1:$B$33,2,FALSE),IF(V15=2,VLOOKUP(I15,女子種目コード!$A$1:$B$28,2,FALSE))))","v":""},null,null,{"$f":"IF(AG15=\"\",\"\",IF(I15=1,VLOOKUP(AG15,男子種目コード!$A$1:$B$33,2,FALSE),IF(AA15=2,VLOOKUP(I15,女子種目コード!$A$1:$B$28,2,FALSE))))","v":""},null,null,null,null,"共通1500","",0,0,"1500m",{"$f":"COUNTIF($P$7:P$116,9)+COUNTIF($U$7:$U$116,9)","v":0},9,"低学年",null,"高学年",null,null,null,"走高跳","走幅跳",null,null,null,0,"",""]
["",{"$f":"陸連登録!N11","v":0},null,null,{"$f":"陸連登録!M11","v":0},{"$f":"陸連登録!C11","v":0},{"$f":"陸連登録!D11","v":0},0,{"$f":"陸連登録!A11","v":""},{"$f":"陸連登録!P11","v":0},{"$f":"LEFT(陸連登録!L11,4)","v":""},{"$f":"RIGHT(陸連登録!L11,4)","v":""},{"$f":"陸連登録!F11","v":0},{"$f":"陸連登録!B11","v":0},null,"",null,"","",null,"",null,"","",null,{"$f":"IF(Y16=\"\",\"\",IF(I16=1,VLOOKUP(Y16,男子種目コード!$D$1:$E$20,2,FALSE),IF(I16=2,VLOOKUP(Y16,女子種目コード!$D$1:$E$20,2,FALSE))))","v":""},null,"","",null,{"$f":"IF(AD16=\"\",\"\",IF(I16=1,VLOOKUP(AD16,男子種目コード!$A$1:$B$33,2,FALSE),IF(V16=2,VLOOKUP(I16,女子種目コード!$A$1:$B$28,2,FALSE))))","v":""},null,null,{"$f":"IF(AG16=\"\",\"\",IF(I16=1,VLOOKUP(AG16,男子種目コード!$A$1:$B$33,2,FALSE),IF(AA16=2,VLOOKUP(I16,女子種目コード!$A$1:$B$28,2,FALSE))))","v":""},null,null,null,null,"共通3000","",0,0,"3000m",{"$f":"COUNTIF($P$7:P$116,10)+COUNTIF($U$7:$U$116,10)","v":0},10,"記録",null,"記録",null,null,null,"棒高跳","三段跳",null,null,null,0,"",""]
["",{"$f":"陸連登録!N12","v":0},null,null,{"$f":"陸連登録!M12","v":0},{"$f":"陸連登録!C12","v":0},{"$f":"陸連登録!D12","v":0},0,{"$f":"陸連登録!A12","v":""},{"$f":"陸連登録!P12","v":0},{"$f":"LEFT(陸連登録!L12,4)","v":""},{"$f":"RIGHT(陸連登録!L12,4)","v":""},{"$f":"陸連登録!F12","v":0},{"$f":"陸連登録!B12","v":0},null,"",null,"","",null,"",null,"","",null,{"$f":"IF(Y17=\"\",\"\",IF(I17=1,VLOOKUP(Y17,男子種目コード!$D$1:$E$20,2,FALSE),IF(I17=2,VLOOKUP(Y17,女子種目コード!$D$1:$E$20,2,FALSE))))","v":""},null,"","",null,{"$f":"IF(AD17=\"\",\"\",IF(I17=1,VLOOKUP(AD17,男子種目コード!$A$1:$B$33,2,FALSE),IF(V17=2,VLOOKUP(I17,女子種目コード!$A$1:$B$28,2,FALSE))))","v":""},null,null,{"$f":"IF(AG17=\"\",\"\",IF(I17=1,VLOOKUP(AG17,男子種目コード!$A$1:$B$33,2,FALSE),IF(AA17=2,VLOOKUP(I17,女子種目コード!$A$1:$B$28,2,FALSE))))","v":""},null,null,null,null,"共通110H","",0,0,"110mYH",{"$f":"COUNTIF($P$7:P$116,11)+COUNTIF($U$7:$U$116,11)","v":0},11,{"$f":"COUNTIF($Z7:$Z116,38)","v":0},null,{"$f":"COUNTIF($Z7:$Z116,39)","v":0},null,null,null,"走幅跳","砲丸投",null,null,null,0,"",""]
["",{"$f":"陸連登録!N13","v":0},null,null,{"$f":"陸連登録!M13","v":0},{"$f":"陸連登録!C13","v":0},{"$f":"陸連登録!D13","v":0},0,{"$f":"陸連登録!A13","v":""},{"$f":"陸連登録!P13","v":0},{"$f":"LEFT(陸連登録!L13,4)","v":""},{"$f":"RIGHT(陸連登録!L13,4)","v":""},{"$f":"陸連登録!F13","v":0},{"$f":"陸連登録!B13","v":0},null,"",null,"","",null,"",null,"","",null,{"$f":"IF(Y18=\"\",\"\",IF(I18=1,VLOOKUP(Y18,男子種目コード!$D$1:$E$20,2,FALSE),IF(I18=2,VLOOKUP(Y18,女子種目コード!$D$1:$E$20,2,FALSE))))","v":""},null,"","",null,{"$f":"IF(AD18=\"\",\"\",IF(I18=1,VLOOKUP(AD18,男子種目コード!$A$1:$B$33,2,FALSE),IF(V18=2,VLOOKUP(I18,女子種目コード!$A$1:$B$28,2,FALSE))))","v":""},null,null,{"$f":"IF(AG18=\"\",\"\",IF(I18=1,VLOOKUP(AG18,男子種目コード!$A$1:$B$33,2,FALSE),IF(AA18=2,VLOOKUP(I18,女子種目コード!$A$1:$B$28,2,FALSE))))","v":""},null,null,null,null,"共通100H","",0,0,"走高跳",{"$f":"COUNTIF($P$7:P$116,14)+COUNTIF($U$7:$U$116,14)","v":0},14,{"$f":"IF(ISERROR(BM18),\"\",BM18)","v":""},"","","",null,null,"三段跳","円盤投",null,null,null,0,"","",null,null,null,null,null,{"$f":"VLookUpX(38,$A$7:$F$116,1,5)","v":{"$error":"#N/A"}},{"$f":"VLookUpX(38,$A$7:$F$116,1,6)","v":{"$error":"#N/A"}},{"$f":"VLookUpX(39,$A$7:$F$116,1,5)","v":{"$error":"#N/A"}},{"$f":"VLookUpX(39,$A$7:$F$116,1,6)","v":{"$error":"#N/A"}}]
["",{"$f":"陸連登録!N14","v":0},null,null,{"$f":"陸連登録!M14","v":0},{"$f":"陸連登録!C14","v":0},{"$f":"陸連登録!D14","v":0},0,{"$f":"陸連登録!A14","v":""},{"$f":"陸連登録!P14","v":0},{"$f":"LEFT(陸連登録!L14,4)","v":""},{"$f":"RIGHT(陸連登録!L14,4)","v":""},{"$f":"陸連登録!F14","v":0},{"$f":"陸連登録!B14","v":0},null,"",null,"","",null,"",null,"","",null,{"$f":"IF(Y19=\"\",\"\",IF(I19=1,VLOOKUP(Y19,男子種目コード!$D$1:$E$20,2,FALSE),IF(I19=2,VLOOKUP(Y19,女子種目コード!$D$1:$E$20,2,FALSE))))","v":""},null,"","",null,{"$f":"IF(AD19=\"\",\"\",IF(I19=1,VLOOKUP(AD19,男子種目コード!$A$1:$B$33,2,FALSE),IF(V19=2,VLOOKUP(I19,女子種目コード!$A$1:$B$28,2,FALSE))))","v":""},null,null,{"$f":"IF(AG19=\"\",\"\",IF(I19=1,VLOOKUP(AG19,男子種目コード!$A$1:$B$33,2,FALSE),IF(AA19=2,VLOOKUP(I19,女子種目コード!$A$1:$B$28,2,FALSE))))","v":""},null,null,null,null,"共通走高跳","",0,0,"棒高跳",{"$f":"COUNTIF($P$7:P$116,15)+COUNTIF($U$7:$U$116,15)","v":0},15,"","","","",null,null,"砲丸投","2年100m",null,null,null,0,"","",null,null,null,null,null,{"$f":"VLookUpX(38,$A$7:$F$116,2,5)","v":{"$error":"#N/A"}},{"$f":"VLookUpX(38,$A$7:$F$116,2,6)","v":{"$error":"#N/A"}},{"$f":"VLookUpX(39,$A$7:$F$116,2,5)","v":{"$error":"#N/A"}},{"$f":"VLookUpX(39,$A$7:$F$116,2,6)","v":{"$error":"#N/A"}}]
["",{"$f":"陸連登録!N15","v":0},null,null,{"$f":"陸連登録!M15","v":0},{"$f":"陸連登録!C15","v":0},{"$f":"陸連登録!D15","v":0},0,{"$f":"陸連登録!A15","v":""},{"$f":"陸連登録!P15","v":0},{"$f":"LEFT(陸連登録!L15,4)","v":""},{"$f":"RIGHT(陸連登録!L15,4)","v":""},{"$f":"陸連登録!F15","v":0},{"$f":"陸連登録!B15","v":0},null,"",null,"","",null,"",null,"","",null,{"$f":"IF(Y20=\"\",\"\",IF(I20=1,VLOOKUP(Y20,男子種目コード!$D$1:$E$20,2,FALSE),IF(I20=2,VLOOKUP(Y20,女子種目コード!$D$1:$E$20,2,FALSE))))","v":""},null,"","",null,{"$f":"IF(AD20=\"\",\"\",IF(I20=1,VLOOKUP(AD20,男子種目コード!$A$1:$B$33,2,FALSE),IF(V20=2,VLOOKUP(I20,女子種目コード!$A$1:$B$28,2,FALSE))))","v":""},null,null,{"$f":"IF(AG20=\"\",\"\",IF(I20=1,VLOOKUP(AG20,男子種目コード!$A$1:$B$33,2,FALSE),IF(AA20=2,VLOOKUP(I20,女子種目コード!$A$1:$B$28,2,FALSE))))","v":""},null,null,null,null,"共通棒高跳","",0,0,"走幅跳",{"$f":"COUNTIF($P$7:P$116,16)+COUNTIF($U$7:$U$116,16)","v":0},16,"","","","",null,null,"円盤投","100m",null,null,null,0,"","",null,null,null,null,null,{"$f":"VLookUpX(38,$A$7:$F$116,3,5)","v":{"$error":"#N/A"}},{"$f":"VLookUpX(38,$A$7:$F$116,3,6)","v":{"$error":"#N/A"}},{"$f":"VLookUpX(39,$A$7:$F$116,3,5)","v":{"$error":"#N/A"}},{"$f":"VLookUpX(39,$A$7:$F$116,3,6)","v":{"$error":"#N/A"}}]
["",{"$f":"陸連登録!N16","v":0},null,null,{"$f":"陸連登録!M16","v":0},{"$f":"陸連登録!C16","v":0},{"$f":"陸連登録!D16","v":0},0,{"$f":"陸連登録!A16","v":""},{"$f":"陸連登録!P16","v":0},{"$f":"LEFT(陸連登録!L16,4)","v":""},{"$f":"RIGHT(陸連登録!L16,4)","v":""},{"$f":"陸連登録!F16","v":0},{"$f":"陸連登録!B16","v":0},null,"",null,"","",null,"",null,"","",null,{"$f":"IF(Y21=\"\",\"\",IF(I21=1,VLOOKUP(Y21,男子種目コード!$D$1:$E$20,2,FALSE),IF(I21=2,VLOOKUP(Y21,女子種目コード!$D$1:$E$20,2,FALSE))))","v":""},null,"","",null,{"$f":"IF(AD21=\"\",\"\",IF(I21=1,VLOOKUP(AD21,男子種目コード!$A$1:$B$33,2,FALSE),IF(V21=2,VLOOKUP(I21,女子種目コード!$A$1:$B$28,2,FALSE))))","v":""},null,null,{"$f":"IF(AG21=\"\",\"\",IF(I21=1,VLOOKUP(AG21,男子種目コード!$A$1:$B$33,2,FALSE),IF(AA21=2,VLOOKUP(I21,女子種目コード!$A$1:$B$28,2,FALSE))))","v":""},null,null,null,null,"共通走幅跳","",0,0,"三段跳",{"$f":"COUNTIF($P$7:P$116,17)+COUNTIF($U$7:$U$116,17)","v":0},17,"","","","",null,null,"2年100m","200m",null,null,null,0,"","",null,null,null,null,null,{"$f":"VLookUpX(38,$A$7:$F$116,4,5)","v":{"$error":"#N/A"}},{"$f":"VLookUpX(38,$A$7:$F$116,4,6)","v":{"$error":"#N/A"}},{"$f":"VLookUpX(39,$A$7:$F$116,4,5)","v":{"$error":"#N/A"}},{"$f":"VLookUpX(39,$A$7:$F$116,4,6)","v":{"$error":"#N/A"}}]
["",{"$f":"陸連登録!N17","v":0},null,null,{"$f":"陸連登録!M17","v":0},{"$f":"陸連登録!C17","v":0},{"$f":"陸連登録!D17","v":0},0,{"$f":"陸連登録!A17","v":""},{"$f":"陸連登録!P17","v":0},{"$f":"LEFT(陸連登録!L17,4)","v":""},{"$f":"RIGHT(陸連登録!L17,4)","v":""},{"$f":"陸連登録!F17","v":0},{"$f":"陸連登録!B17","v":0},null,"",null,"","",null,"",null,"","",null,{"$f":"IF(Y22=\"\",\"\",IF(I22=1,VLOOKUP(Y22,男子種目コード!$D$1:$E$20,2,FALSE),IF(I22=2,VLOOKUP(Y22,女子種目コード!$D$1:$E$20,2,FALSE))))","v":""},null,"","",null,{"$f":"IF(AD22=\"\",\"\",IF(I22=1,VLOOKUP(AD22,男子種目コード!$A$1:$B$33,2,FALSE),IF(V22=2,VLOOKUP(I22,女子種目コード!$A$1:$B$28,2,FALSE))))","v":""},null,null,{"$f":"IF(AG22=\"\",\"\",IF(I22=1,VLOOKUP(AG22,男子種目コード!$A$1:$B$33,2,FALSE),IF(AA22=2,VLOOKUP(I22,女子種目コード!$A$1:$B$28,2,FALSE))))","v":""},null,null,null,null,"共通三段跳","",0,0,"砲丸投",{"$f":"COUNTIF($P$7:P$116,18)+COUNTIF($U$7:$U$116,18)","v":0},18,"","","","",null,null,"2年1500m","800m",null,null,null,0,"","",null,null,null,null,null,{"$f":"VLookUpX(38,$A$7:$F$116,5,5)","v":{"$error":"#N/A"}},{"$f":"VLookUpX(38,$A$7:$F$116,5,6)","v":{"$error":"#N/A"}},{"$f":"VLookUpX(39,$A$7:$F$116,5,5)","v":{"$error":"#N/A"}},{"$f":"VLookUpX(39,$A$7:$F$116,5,6)","v":{"$error":"#N/A"}}]
["",{"$f":"陸連登録!N18","v":0},null,null,{"$f":"陸連登録!M18","v":0},{"$f":"陸連登録!C18","v":0},{"$f":"陸連登録!D18","v":0},0,{"$f":"陸連登録!A18","v":""},{"$f":"陸連登録!P18","v":0},{"$f":"LEFT(陸連登録!L18,4)","v":""},{"$f":"RIGHT(陸連登録!L18,4)","v":""},{"$f":"陸連登録!F18","v":0},{"$f":"陸連登録!B18","v":0},null,"",null,"","",null,"",null,"","",null,{"$f":"IF(Y23=\"\",\"\",IF(I23=1,VLOOKUP(Y23,男子種目コード!$D$1:$E$20,2,FALSE),IF(I23=2,VLOOKUP(Y23,女子種目コード!$D$1:$E$20,2,FALSE))))","v":""},null,"","",null,{"$f":"IF(AD23=\"\",\"\",IF(I23=1,VLOOKUP(AD23,男子種目コード!$A$1:$B$33,2,FALSE),IF(V23=2,VLOOKUP(I23,女子種目コード!$A$1:$B$28,2,FALSE))))","v":""},null,null,{"$f":"IF(AG23=\"\",\"\",IF(I23=1,VLOOKUP(AG23,男子種目コード!$A$1:$B$33,2,FALSE),IF(AA23=2,VLOOKUP(I23,女子種目コード!$A$1:$B$28,2,FALSE))))","v":""},null,null,null,null,"共通砲丸投","",0,0,"円盤投",{"$f":"COUNTIF($P$7:P$116,19)+COUNTIF($U$7:$U$116,19)","v":0},19,"","","","",null,null,"100m","1500m",null,null,null,0,"","",null,null,null,null,null,{"$f":"VLookUpX(38,$A$7:$F$116,6,5)","v":{"$error":"#N/A"}},{"$f":"VLookUpX(38,$A$7:$F$116,6,6)","v":{"$error":"#N/A"}},{"$f":"VLookUpX(39,$A$7:$F$116,6,5)","v":{"$error":"#N/A"}},{"$f":"VLookUpX(39,$A$7:$F$116,6,6)","v":{"$error":"#N/A"}}]
["",{"$f":"陸連登録!N19","v":0},null,null,{"$f":"陸連登録!M19","v":0},{"$f":"陸連登録!C19","v":0},{"$f":"陸連登録!D19","v":0},0,{"$f":"陸連登録!A19","v":""},{"$f":"陸連登録!P19","v":0},{"$f":"LEFT(陸連登録!L19,4)","v":""},{"$f":"RIGHT(陸連登録!L19,4)","v":""},{"$f":"陸連登録!F19","v":0},{"$f":"陸連登録!B19","v":0},null,"",null,"","",null,"",null,"","",null,{"$f":"IF(Y24=\"\",\"\",IF(I24=1,VLOOKUP(Y24,男子種目コード!$D$1:$E$20,2,FALSE),IF(I24=2,VLOOKUP(Y24,女子種目コード!$D$1:$E$20,2,FALSE))))","v":""},null,"","",null,{"$f":"IF(AD24=\"\",\"\",IF(I24=1,VLOOKUP(AD24,男子種目コード!$A$1:$B$33,2,FALSE),IF(V24=2,VLOOKUP(I24,女子種目コード!$A$1:$B$28,2,FALSE))))","v":""},null,null,{"$f":"IF(AG24=\"\",\"\",IF(I24=1,VLOOKUP(AG24,男子種目コード!$A$1:$B$33,2,FALSE),IF(AA24=2,VLOOKUP(I24,女子種目コード!$A$1:$B$28,2,FALSE))))","v":""},null,null,null,null,"共通円盤投","",0,0,"計",{"$f":"SUM(AR7:AR23)","v":0},null,null,null,null,null,null,null,"200m","100mH",null,null,null,0,"",""]
["",{"$f":"陸連登録!N20","v":0},null,null,{"$f":"陸連登録!M20","v":0},{"$f":"陸連登録!C20","v":0},{"$f":"陸連登録!D20","v":0},0,{"$f":"陸連登録!A20","v":""},{"$f":"陸連登録!P20","v":0},{"$f":"LEFT(陸連登録!L20,4)","v":""},{"$f":"RIGHT(陸連登録!L20,4)","v":""},{"$f":"陸連登録!F20","v":0},{"$f":"陸連登録!B20","v":0},null,"",null,"","",null,"",null,"","",null,{"$f":"IF(Y25=\"\",\"\",IF(I25=1,VLOOKUP(Y25,男子種目コード!$D$1:$E$20,2,FALSE),IF(I25=2,VLOOKUP(Y25,女子種目コード!$D$1:$E$20,2,FALSE))))","v":""},null,"","",null,{"$f":"IF(AD25=\"\",\"\",IF(I25=1,VLOOKUP(AD25,男子種目コード!$A$1:$B$33,2,FALSE),IF(V25=2,VLOOKUP(I25,女子種目コード!$A$1:$B$28,2,FALSE))))","v":""},null,null,{"$f":"IF(AG25=\"\",\"\",IF(I25=1,VLOOKUP(AG25,男子種目コード!$A$1:$B$33,2,FALSE),IF(AA25=2,VLOOKUP(I25,女子種目コード!$A$1:$B$28,2,FALSE))))","v":""},null,null,null,null,"低学年R","",0,0,"1年100m",{"$f":"COUNTIF($P$7:P$116,30)+COUNTIF($U$7:$U$116,30)","v":0},30,null,null,null,null,null,null,"400m","走高跳",null,null,null,0,"",""]
["",{"$f":"陸連登録!N21","v":0},null,null,{"$f":"陸連登録!M21","v":0},{"$f":"陸連登録!C21","v":0},{"$f":"陸連登録!D21","v":0},0,{"$f":"陸連登録!A21","v":""},{"$f":"陸連登録!P21","v":0},{"$f":"LEFT(陸連登録!L21,4)","v":""},{"$f":"RIGHT(陸連登録!L21,4)","v":""},{"$f":"陸連登録!F21","v":0},{"$f":"陸連登録!B21","v":0},null,"",null,"","",null,"",null,"","",null,{"$f":"IF(Y26=\"\",\"\",IF(I26=1,VLOOKUP(Y26,男子種目コード!$D$1:$E$20,2,FALSE),IF(I26=2,VLOOKUP(Y26,女子種目コード!$D$1:$E$20,2,FALSE))))","v":""},null,"","",null,{"$f":"IF(AD26=\"\",\"\",IF(I26=1,VLOOKUP(AD26,男子種目コード!$A$1:$B$33,2,FALSE),IF(V26=2,VLOOKUP(I26,女子種目コード!$A$1:$B$28,2,FALSE))))","v":""},null,null,{"$f":"IF(AG26=\"\",\"\",IF(I26=1,VLOOKUP(AG26,男子種目コード!$A$1:$B$33,2,FALSE),IF(AA26=2,VLOOKUP(I26,女子種目コード!$A$1:$B$28,2,FALSE))))","v":""},null,null,null,null,"4×100R","",0,0,"1年800m",{"$f":"COUNTIF($P$7:P$116,31)+COUNTIF($U$7:$U$116,31)","v":0},31,null,null,null,null,null,null,"800m","棒高跳",null,null,null,0,"",""]
["",{"$f":"陸連登録!N22","v":0},null,null,{"$f":"陸連登録!M22","v":0},{"$f":"陸連登録!C22","v":0},{"$f":"陸連登録!D22","v":0},0,{"$f":"陸連登録!A22","v":""},{"$f":"陸連登録!P22","v":0},{"$f":"LEFT(陸連登録!L22,4)","v":""},{"$f":"RIGHT(陸連登録!L22,4)","v":""},{"$f":"陸連登録!F22","v":0},{"$f":"陸連登録!B22","v":0},null,"",null,"","",null,"",null,"","",null,{"$f":"IF(Y27=\"\",\"\",IF(I27=1,VLOOKUP(Y27,男子種目コード!$D$1:$E$20,2,FALSE),IF(I27=2,VLOOKUP(Y27,女子種目コード!$D$1:$E$20,2,FALSE))))","v":""},null,"","",null,{"$f":"IF(AD27=\"\",\"\",IF(I27=1,VLOOKUP(AD27,男子種目コード!$A$1:$B$33,2,FALSE),IF(V27=2,VLOOKUP(I27,女子種目コード!$A$1:$B$28,2,FALSE))))","v":""},null,null,{"$f":"IF(AG27=\"\",\"\",IF(I27=1,VLOOKUP(AG27,男子種目コード!$A$1:$B$33,2,FALSE),IF(AA27=2,VLOOKUP(I27,女子種目コード!$A$1:$B$28,2,FALSE))))","v":""},null,null,null,null,null,"",0,0,"2年100m",{"$f":"COUNTIF($P$7:P$116,32)+COUNTIF($U$7:$U$116,32)","v":0},32,null,null,null,null,null,null,"1500m","走幅跳",null,null,null,0,"",""]
["",{"$f":"陸連登録!N23","v":0},null,null,{"$f":"陸連登録!M23","v":0},{"$f":"陸連登録!C23","v":0},{"$f":"陸連登録!D23","v":0},0,{"$f":"陸連登録!A23","v":""},{"$f":"陸連登録!P23","v":0},{"$f":"LEFT(陸連登録!L23,4)","v":""},{"$f":"RIGHT(陸連登録!L23,4)","v":""},{"$f":"陸連登録!F23","v":0},{"$f":"陸連登録!B23","v":0},null,"",null,"","",null,"",null,"","",null,{"$f":"IF(Y28=\"\",\"\",IF(I28=1,VLOOKUP(Y28,男子種目コード!$D$1:$E$20,2,FALSE),IF(I28=2,VLOOKUP(Y28,女子種目コード!$D$1:$E$20,2,FALSE))))","v":""},null,"","",null,{"$f":"IF(AD28=\"\",\"\",IF(I28=1,VLOOKUP(AD28,男子種目コード!$A$1:$B$33,2,FALSE),IF(V28=2,VLOOKUP(I28,女子種目コード!$A$1:$B$28,2,FALSE))))","v":""},null,null,{"$f":"IF(AG28=\"\",\"\",IF(I28=1,VLOOKUP(AG28,男子種目コード!$A$1:$B$33,2,FALSE),IF(AA28=2,VLOOKUP(I28,女子種目コード!$A$1:$B$28,2,FALSE))))","v":""},null,null,null,null,null,"",0,0,"100m",{"$f":"COUNTIF($P$7:P$116,33)+COUNTIF($U$7:$U$116,33)","v":0},33,null,null,null,null,null,null,"3000m","三段跳",null,null,null,0,"",""]
["",{"$f":"陸連登録!N24","v":0},null,null,{"$f":"陸連登録!M24","v":0},{"$f":"陸連登録!C24","v":0},{"$f":"陸連登録!D24","v":0},0,{"$f":"陸連登録!A24","v":""},{"$f":"陸連登録!P24","v":0},{"$f":"LEFT(陸連登録!L24,4)","v":""},{"$f":"RIGHT(陸連登録!L24,4)","v":""},{"$f":"陸連登録!F24","v":0},{"$f":"陸連登録!B24","v":0},null,"",null,"","",null,"",null,"","",null,{"$f":"IF(Y29=\"\",\"\",IF(I29=1,VLOOKUP(Y29,男子種目コード!$D$1:$E$20,2,FALSE),IF(I29=2,VLOOKUP(Y29,女子種目コード!$D$1:$E$20,2,FALSE))))","v":""},null,"","",null,{"$f":"IF(AD29=\"\",\"\",IF(I29=1,VLOOKUP(AD29,男子種目コード!$A$1:$B$33,2,FALSE),IF(V29=2,VLOOKUP(I29,女子種目コード!$A$1:$B$28,2,FALSE))))","v":""},null,null,{"$f":"IF(AG29=\"\",\"\",IF(I29=1,VLOOKUP(AG29,男子種目コード!$A$1:$B$33,2,FALSE),IF(AA29=2,VLOOKUP(I29,女子種目コード!$A$1:$B$28,2,FALSE))))","v":""},null,null,null,null,null,"",0,0,"200m",{"$f":"COUNTIF($P$7:P$116,34)+COUNTIF($U$7:$U$116,34)","v":0},34,null,null,null,null,null,null,"110mYH","砲丸投",null,null,null,0,"",""]
["",{"$f":"陸連登録!N25","v":0},null,null,{"$f":"陸連登録!M25","v":0},{"$f":"陸連登録!C25","v":0},{"$f":"陸連登録!D25","v":0},0,{"$f":"陸連登録!A25","v":""},{"$f":"陸連登録!P25","v":0},{"$f":"LEFT(陸連登録!L25,4)","v":""},{"$f":"RIGHT(陸連登録!L25,4)","v":""},{"$f":"陸連登録!F25","v":0},{"$f":"陸連登録!B25","v":0},null,"",null,"","",null,"",null,"","",null,{"$f":"IF(Y30=\"\",\"\",IF(I30=1,VLOOKUP(Y30,男子種目コード!$D$1:$E$20,2,FALSE),IF(I30=2,VLOOKUP(Y30,女子種目コード!$D$1:$E$20,2,FALSE))))","v":""},null,"","",null,{"$f":"IF(AD30=\"\",\"\",IF(I30=1,VLOOKUP(AD30,男子種目コード!$A$1:$B$33,2,FALSE),IF(V30=2,VLOOKUP(I30,女子種目コード!$A$1:$B$28,2,FALSE))))","v":""},null,null,{"$f":"IF(AG30=\"\",\"\",IF(I30=1,VLOOKUP(AG30,男子種目コード!$A$1:$B$33,2,FALSE),IF(AA30=2,VLOOKUP(I30,女子種目コード!$A$1:$B$28,2,FALSE))))","v":""},null,null,null,null,null,"",0,0,"800m",{"$f":"COUNTIF($P$7:P$116,35)+COUNTIF($U$7:$U$116,35)","v":0},35,null,null,null,null,null,null,"走高跳","円盤投",null,null,null,0,"",""]
["",{"$f":"陸連登録!N26","v":0},null,null,{"$f":"陸連登録!M26","v":0},{"$f":"陸連登録!C26","v":0},{"$f":"陸連登録!D26","v":0},0,{"$f":"陸連登録!A26","v":""},{"$f":"陸連登録!P26","v":0},{"$f":"LEFT(陸連登録!L26,4)","v":""},{"$f":"RIGHT(陸連登録!L26,4)","v":""},{"$f":"陸連登録!F26","v":0},{"$f":"陸連登録!B26","v":0},null,"",null,"","",null,"",null,"","",null,{"$f":"IF(Y31=\"\",\"\",IF(I31=1,VLOOKUP(Y31,男子種目コード!$D$1:$E$20,2,FALSE),IF(I31=2,VLOOKUP(Y31,女子種目コード!$D$1:$E$20,2,FALSE))))","v":""},null,"","",null,{"$f":"IF(AD31=\"\",\"\",IF(I31=1,VLOOKUP(AD31,男子種目コード!$A$1:$B$33,2,FALSE),IF(V31=2,VLOOKUP(I31,女子種目コード!$A$1:$B$28,2,FALSE))))","v":""},null,null,{"$f":"IF(AG31=\"\",\"\",IF(I31=1,VLOOKUP(AG31,男子種目コード!$A$1:$B$33,2,FALSE),IF(AA31=2,VLOOKUP(I31,女子種目コード!$A$1:$B$28,2,FALSE))))","v":""},null,null,null,null,null,"",0,0,"1500m",{"$f":"COUNTIF($P$7:P$116,36)+COUNTIF($U$7:$U$116,36)","v":0},36,null,null,null,null,null,null,"棒高跳",null,null,null,null,0,"",""]
["",{"$f":"陸連登録!N27","v":0},null,null,{"$f":"陸連登録!M27","v":0},{"$f":"陸連登録!C27","v":0},{"$f":"陸連登録!D27","v":0},0,{"$f":"陸連登録!A27","v":""},{"$f":"陸連登録!P27","v":0},{"$f":"LEFT(陸連登録!L27,4)","v":""},{"$f":"RIGHT(陸連登録!L27,4)","v":""},{"$f":"陸連登録!F27","v":0},{"$f":"陸連登録!B27","v":0},null,"",null,"","",null,"",null,"","",null,{"$f":"IF(Y32=\"\",\"\",IF(I32=1,VLOOKUP(Y32,男子種目コード!$D$1:$E$20,2,FALSE),IF(I32=2,VLOOKUP(Y32,女子種目コード!$D$1:$E$20,2,FALSE))))","v":""},null,"","",null,{"$f":"IF(AD32=\"\",\"\",IF(I32=1,VLOOKUP(AD32,男子種目コード!$A$1:$B$33,2,FALSE),IF(V32=2,VLOOKUP(I32,女子種目コード!$A$1:$B$28,2,FALSE))))","v":""},null,null,{"$f":"IF(AG32=\"\",\"\",IF(I32=1,VLOOKUP(AG32,男子種目コード!$A$1:$B$33,2,FALSE),IF(AA32=2,VLOOKUP(I32,女子種目コード!$A$1:$B$28,2,FALSE))))","v":""},null,null,null,null,null,"",0,0,"100mH",{"$f":"COUNTIF($P$7:P$116,37)+COUNTIF($U$7:$U$116,37)","v":0},37,null,null,null,null,null,null,"走幅跳",null,null,null,null,0,"",""]
["",{"$f":"陸連登録!N28","v":0},null,null,{"$f":"陸連登録!M28","v":0},{"$f":"陸連登録!C28","v":0},{"$f":"陸連登録!D28","v":0},0,{"$f":"陸連登録!A28","v":""},{"$f":"陸連登録!P28","v":0},{"$f":"LEFT(陸連登録!L28,4)","v":""},{"$f":"RIGHT(陸連登録!L28,4)","v":""},{"$f":"陸連登録!F28","v":0},{"$f":"陸連登録!B28","v":0},null,"",null,"","",null,"",null,"","",null,{"$f":"IF(Y33=\"\",\"\",IF(I33=1,VLOOKUP(Y33,男子種目コード!$D$1:$E$20,2,FALSE),IF(I33=2,VLOOKUP(Y33,女子種目コード!$D$1:$E$20,2,FALSE))))","v":""},null,"","",null,{"$f":"IF(AD33=\"\",\"\",IF(I33=1,VLOOKUP(AD33,男子種目コード!$A$1:$B$33,2,FALSE),IF(V33=2,VLOOKUP(I33,女子種目コード!$A$1:$B$28,2,FALSE))))","v":""},null,null,{"$f":"IF(AG33=\"\",\"\",IF(I33=1,VLOOKUP(AG33,男子種目コード!$A$1:$B$33,2,FALSE),IF(AA33=2,VLOOKUP(I33,女子種目コード!$A$1:$B$28,2,FALSE))))","v":""},null,null,null,null,null,"",0,0,"走高跳",{"$f":"COUNTIF($P$7:P$116,40)+COUNTIF($U$7:$U$116,40)","v":0},40,null,null,null,null,null,null,"三段跳",null,null,null,null,0,"",""]
["",{"$f":"陸連登録!N29","v":0},null,null,{"$f":"陸連登録!M29","v":0},{"$f":"陸連登録!C29","v":0},{"$f":"陸連登録!D29","v":0},0,{"$f":"陸連登録!A29","v":""},{"$f":"陸連登録!P29","v":0},{"$f":"LEFT(陸連登録!L29,4)","v":""},{"$f":"RIGHT(陸連登録!L29,4)","v":""},{"$f":"陸連登録!F29","v":0},{"$f":"陸連登録!B29","v":0},null,"",null,"","",null,"",null,"","",null,{"$f":"IF(Y34=\"\",\"\",IF(I34=1,VLOOKUP(Y34,男子種目コード!$D$1:$E$20,2,FALSE),IF(I34=2,VLOOKUP(Y34,女子種目コード!$D$1:$E$20,2,FALSE))))","v":""},null,"","",null,{"$f":"IF(AD34=\"\",\"\",IF(I34=1,VLOOKUP(AD34,男子種目コード!$A$1:$B$33,2,FALSE),IF(V34=2,VLOOKUP(I34,女子種目コード!$A$1:$B$28,2,FALSE))))","v":""},null,null,{"$f":"IF(AG34=\"\",\"\",IF(I34=1,VLOOKUP(AG34,男子種目コード!$A$1:$B$33,2,FALSE),IF(AA34=2,VLOOKUP(I34,女子種目コード!$A$1:$B$28,2,FALSE))))","v":""},null,null,null,null,null,"",0,0,"棒高跳",{"$f":"COUNTIF($P$7:P$116,44)+COUNTIF($U$7:$U$116,44)","v":0},44,null,null,null,null,null,null,"砲丸投",null,null,null,null,0,"",""]
["",{"$f":"陸連登録!N30","v":0},null,null,{"$f":"陸連登録!M30","v":0},{"$f":"陸連登録!C30","v":0},{"$f":"陸連登録!D30","v":0},0,{"$f":"陸連登録!A30","v":""},{"$f":"陸連登録!P30","v":0},{"$f":"LEFT(陸連登録!L30,4)","v":""},{"$f":"RIGHT(陸連登録!L30,4)","v":""},{"$f":"陸連登録!F30","v":0},{"$f":"陸連登録!B30","v":0},null,"",null,"","",null,"",null,"","",null,{"$f":"IF(Y35=\"\",\"\",IF(I35=1,VLOOKUP(Y35,男子種目コード!$D$1:$E$20,2,FALSE),IF(I35=2,VLOOKUP(Y35,女子種目コード!$D$1:$E$20,2,FALSE))))","v":""},null,"","",null,{"$f":"IF(AD35=\"\",\"\",IF(I35=1,VLOOKUP(AD35,男子種目コード!$A$1:$B$33,2,FALSE),IF(V35=2,VLOOKUP(I35,女子種目コード!$A$1:$B$28,2,FALSE))))","v":""},null,null,{"$f":"IF(AG35=\"\",\"\",IF(I35=1,VLOOKUP(AG35,男子種目コード!$A$1:$B$33,2,FALSE),IF(AA35=2,VLOOKUP(I35,女子種目コード!$A$1:$B$28,2,FALSE))))","v":""},null,null,null,null,null,"",0,0,"走幅跳",{"$f":"COUNTIF($P$7:P$116,41)+COUNTIF($U$7:$U$116,41)","v":0},41,null,null,null,null,null,null,"円盤投",null,null,null,null,0,"",""]
["",{"$f":"陸連登録!N31","v":0},null,null,{"$f":"陸連登録!M31","v":0},{"$f":"陸連登録!C31","v":0},{"$f":"陸連登録!D31","v":0},0,{"$f":"陸連登録!A31","v":""},{"$f":"陸連登録!P31","v":0},{"$f":"LEFT(陸連登録!L31,4)","v":""},{"$f":"RIGHT(陸連登録!L31,4)","v":""},{"$f":"陸連登録!F31","v":0},{"$f":"陸連登録!B31","v":0},null,"",null,"","",null,"",null,"","",null,{"$f":"IF(Y36=\"\",\"\",IF(I36=1,VLOOKUP(Y36,男子種目コード!$D$1:$E$20,2,FALSE),IF(I36=2,VLOOKUP(Y36,女子種目コード!$D$1:$E$20,2,FALSE))))","v":""},null,"","",null,{"$f":"IF(AD36=\"\",\"\",IF(I36=1,VLOOKUP(AD36,男子種目コード!$A$1:$B$33,2,FALSE),IF(V36=2,VLOOKUP(I36,女子種目コード!$A$1:$B$28,2,FALSE))))","v":""},null,null,{"$f":"IF(AG36=\"\",\"\",IF(I36=1,VLOOKUP(AG36,男子種目コード!$A$1:$B$33,2,FALSE),IF(AA36=2,VLOOKUP(I36,女子種目コード!$A$1:$B$28,2,FALSE))))","v":""},null,null,null,null,null,"",0,0,"三段跳",{"$f":"COUNTIF($P$7:P$116,45)+COUNTIF($U$7:$U$116,45)","v":0},45,null,null,null,null,null,null,null,null,null,null,null,0,"",""]
["",{"$f":"陸連登録!N32","v":0},null,null,{"$f":"陸連登録!M32","v":0},{"$f":"陸連登録!C32","v":0},{"$f":"陸連登録!D32","v":0},0,{"$f":"陸連登録!A32","v":""},{"$f":"陸連登録!P32","v":0},{"$f":"LEFT(陸連登録!L32,4)","v":""},{"$f":"RIGHT(陸連登録!L32,4)","v":""},{"$f":"陸連登録!F32","v":0},{"$f":"陸連登録!B32","v":0},null,"",null,"","",null,"",null,"","",null,{"$f":"IF(Y37=\"\",\"\",IF(I37=1,VLOOKUP(Y37,男子種目コード!$D$1:$E$20,2,FALSE),IF(I37=2,VLOOKUP(Y37,女子種目コード!$D$1:$E$20,2,FALSE))))","v":""},null,"","",null,{"$f":"IF(AD37=\"\",\"\",IF(I37=1,VLOOKUP(AD37,男子種目コード!$A$1:$B$33,2,FALSE),IF(V37=2,VLOOKUP(I37,女子種目コード!$A$1:$B$28,2,FALSE))))","v":""},null,null,{"$f":"IF(AG37=\"\",\"\",IF(I37=1,VLOOKUP(AG37,男子種目コード!$A$1:$B$33,2,FALSE),IF(AA37=2,VLOOKUP(I37,女子種目コード!$A$1:$B$28,2,FALSE))))","v":""},null,null,null,null,null,"",0,0,"砲丸投",{"$f":"COUNTIF($P$7:P$116,42)+COUNTIF($U$7:$U$116,42)","v":0},42,null,null,null,null,null,null,null,null,null,null,null,0,"",""]
["",{"$f":"陸連登録!N33","v":0},null,null,{"$f":"陸連登録!M33","v":0},{"$f":"陸連登録!C33","v":0},{"$f":"陸連登録!D33","v":0},0,{"$f":"陸連登録!A33","v":""},{"$f":"陸連登録!P33","v":0},{"$f":"LEFT(陸連登録!L33,4)","v":""},{"$f":"RIGHT(陸連登録!L33,4)","v":""},{"$f":"陸連登録!F33","v":0},{"$f":"陸連登録!B33","v":0},null,"",null,"","",null,"",null,"","",null,{"$f":"IF(Y38=\"\",\"\",IF(I38=1,VLOOKUP(Y38,男子種目コード!$D$1:$E$20,2,FALSE),IF(I38=2,VLOOKUP(Y38,女子種目コード!$D$1:$E$20,2,FALSE))))","v":""},null,"","",null,{"$f":"IF(AD38=\"\",\"\",IF(I38=1,VLOOKUP(AD38,男子種目コード!$A$1:$B$33,2,FALSE),IF(V38=2,VLOOKUP(I38,女子種目コード!$A$1:$B$28,2,FALSE))))","v":""},null,null,{"$f":"IF(AG38=\"\",\"\",IF(I38=1,VLOOKUP(AG38,男子種目コード!$A$1:$B$33,2,FALSE),IF(AA38=2,VLOOKUP(I38,女子種目コード!$A$1:$B$28,2,FALSE))))","v":""},null,null,null,null,null,"",0,0,"円盤投",{"$f":"COUNTIF($P$7:P$116,43)+COUNTIF($U$7:$U$116,43)","v":0},43,null,null,null,null,null,null,null,null,null,null,null,0,"",""]
["",{"$f":"陸連登録!N34","v":0},null,null,{"$f":"陸連登録!M34","v":0},{"$f":"陸連登録!C34","v":0},{"$f":"陸連登録!D34","v":0},0,{"$f":"陸連登録!A34","v":""},{"$f":"陸連登録!P34","v":0},{"$f":"LEFT(陸連登録!L34,4)","v":""},{"$f":"RIGHT(陸連登録!L34,4)","v":""},{"$f":"陸連登録!F34","v":0},{"$f":"陸連登録!B34","v":0},null,"",null,"","",null,"",null,"","",null,{"$f":"IF(Y39=\"\",\"\",IF(I39=1,VLOOKUP(Y39,男子種目コード!$D$1:$E$20,2,FALSE),IF(I39=2,VLOOKUP(Y39,女子種目コード!$D$1:$E$20,2,FALSE))))","v":""},null,"","",null,{"$f":"IF(AD39=\"\",\"\",IF(I39=1,VLOOKUP(AD39,男子種目コード!$A$1:$B$33,2,FALSE),IF(V39=2,VLOOKUP(I39,女子種目コード!$A$1:$B$28,2,FALSE))))","v":""},null,null,{"$f":"IF(AG39=\"\",\"\",IF(I39=1,VLOOKUP(AG39,男子種目コード!$A$1:$B$33,2,FALSE),IF(AA39=2,VLOOKUP(I39,女子種目コード!$A$1:$B$28,2,FALSE))))","v":""},null,null,null,null,null,"",{"$f":"IF(OR(AN39=1,T39=\"\"),0,1)","v":0},{"$f":"IF(OR(AN39=1,AO39=1,Y39=\"\"),0,1)","v":0},"計",{"$f":"SUM(AR25:AR38)","v":0},null,null,null,null,null,null,null,null,null,null,null,null,0,"",""]
["",{"$f":"陸連登録!N35","v":0},null,null,{"$f":"陸連登録!M35","v":0},{"$f":"陸連登録!C35","v":0},{"$f":"陸連登録!D35","v":0},0,{"$f":"陸連登録!A35","v":""},{"$f":"陸連登録!P35","v":0},{"$f":"LEFT(陸連登録!L35,4)","v":""},{"$f":"RIGHT(陸連登録!L35,4)","v":""},{"$f":"陸連登録!F35","v":0},{"$f":"陸連登録!B35","v":0},null,"",null,"","",null,"",null,"","",null,{"$f":"IF(Y40=\"\",\"\",IF(I40=1,VLOOKUP(Y40,男子種目コード!$D$1:$E$20,2,FALSE),IF(I40=2,VLOOKUP(Y40,女子種目コード!$D$1:$E$20,2,FALSE))))","v":""},null,"","",null,{"$f":"IF(AD40=\"\",\"\",IF(I40=1,VLOOKUP(AD40,男子種目コード!$A$1:$B$33,2,FALSE),IF(V40=2,VLOOKUP(I40,女子種目コード!$A$1:$B$28,2,FALSE))))","v":""},null,null,{"$f":"IF(AG40=\"\",\"\",IF(I40=1,VLOOKUP(AG40,男子種目コード!$A$1:$B$33,2,FALSE),IF(AA40=2,VLOOKUP(I40,女子種目コード!$A$1:$B$28,2,FALSE))))","v":""},null,null,null,null,null,"",0,0,"赤枠は制限オーバーです",null,null,null,null,null,null,null,null,null,null,null,null,null,0,"",""]
["",{"$f":"陸連登録!N36","v":0},null,null,{"$f":"陸連登録!M36","v":0},{"$f":"陸連登録!C36","v":0},{"$f":"陸連登録!D36","v":0},0,{"$f":"陸連登録!A36","v":""},{"$f":"陸連登録!P36","v":0},{"$f":"LEFT(陸連登録!L36,4)","v":""},{"$f":"RIGHT(陸連登録!L36,4)","v":""},{"$f":"陸連登録!F36","v":0},{"$f":"陸連登録!B36","v":0},null,"",null,"","",null,"",null,"","",null,{"$f":"IF(Y41=\"\",\"\",IF(I41=1,VLOOKUP(Y41,男子種目コード!$D$1:$E$20,2,FALSE),IF(I41=2,VLOOKUP(Y41,女子種目コード!$D$1:$E$20,2,FALSE))))","v":""},null,"","",null,{"$f":"IF(AD41=\"\",\"\",IF(I41=1,VLOOKUP(AD41,男子種目コード!$A$1:$B$33,2,FALSE),IF(V41=2,VLOOKUP(I41,女子種目コード!$A$1:$B$28,2,FALSE))))","v":""},null,null,{"$f":"IF(AG41=\"\",\"\",IF(I41=1,VLOOKUP(AG41,男子種目コード!$A$1:$B$33,2,FALSE),IF(AA41=2,VLOOKUP(I41,女子種目コード!$A$1:$B$28,2,FALSE))))","v":""},null,null,null,null,null,"",0,0,"参加標準記録",null,null,null,null,null,null,null,null,null,null,null,null,null,0,"",""]
["",{"$f":"陸連登録!N37","v":0},null,null,{"$f":"陸連登録!M37","v":0},{"$f":"陸連登録!C37","v":0},{"$f":"陸連登録!D37","v":0},0,{"$f":"陸連登録!A37","v":""},{"$f":"陸連登録!P37","v":0},{"$f":"LEFT(陸連登録!L37,4)","v":""},{"$f":"RIGHT(陸連登録!L37,4)","v":""},{"$f":"陸連登録!F37","v":0},{"$f":"陸連登録!B37","v":0},null,"",null,"","",null,"",null,"","",null,{"$f":"IF(Y42=\"\",\"\",IF(I42=1,VLOOKUP(Y42,男子種目コード!$D$1:$E$20,2,FALSE),IF(I42=2,VLOOKUP(Y42,女子種目コード!$D$1:$E$20,2,FALSE))))","v":""},null,"","",null,{"$f":"IF(AD42=\"\",\"\",IF(I42=1,VLOOKUP(AD42,男子種目コード!$A$1:$B$33,2,FALSE),IF(V42=2,VLOOKUP(I42,女子種目コード!$A$1:$B$28,2,FALSE))))","v":""},null,null,{"$f":"IF(AG42=\"\",\"\",IF(I42=1,VLOOKUP(AG42,男子種目コード!$A$1:$B$33,2,FALSE),IF(AA42=2,VLOOKUP(I42,女子種目コード!$A$1:$B$28,2,FALSE))))","v":""},null,null,null,null,null,"",0,0,"男子",null,null,null,null,null,null,null,null,null,null,null,null,null,0,"",""]
["",{"$f":"陸連登録!N38","v":0},null,null,{"$f":"陸連登録!M38","v":0},{"$f":"陸連登録!C38","v":0},{"$f":"陸連登録!D38","v":0},0,{"$f":"陸連登録!A38","v":""},{"$f":"陸連登録!P38","v":0},{"$f":"LEFT(陸連登録!L38,4)","v":""},{"$f":"RIGHT(陸連登録!L38,4)","v":""},{"$f":"陸連登録!F38","v":0},{"$f":"陸連登録!B38","v":0},null,"",null,"","",null,"",null,"","",null,{"$f":"IF(Y43=\"\",\"\",IF(I43=1,VLOOKUP(Y43,男子種目コード!$D$1:$E$20,2,FALSE),IF(I43=2,VLOOKUP(Y43,女子種目コード!$D$1:$E$20,2,FALSE))))","v":""},null,"","",null,{"$f":"IF(AD43=\"\",\"\",IF(I43=1,VLOOKUP(AD43,男子種目コード!$A$1:$B$33,2,FALSE),IF(V43=2,VLOOKUP(I43,女子種目コード!$A$1:$B$28,2,FALSE))))","v":""},null,null,{"$f":"IF(AG43=\"\",\"\",IF(I43=1,VLOOKUP(AG43,男子種目コード!$A$1:$B$33,2,FALSE),IF(AA43=2,VLOOKUP(I43,女子種目コード!$A$1:$B$28,2,FALSE))))","v":""},null,null,null,null,null,"",0,0,"2年 100","13.10",null,null,null,null,null,null,null,null,null,null,null,null,0,"",""]
["",{"$f":"陸連登録!N39","v":0},null,null,{"$f":"陸連登録!M39","v":0},{"$f":"陸連登録!C39","v":0},{"$f":"陸連登録!D39","v":0},0,{"$f":"陸連登録!A39","v":""},{"$f":"陸連登録!P39","v":0},{"$f":"LEFT(陸連登録!L39,4)","v":""},{"$f":"RIGHT(陸連登録!L39,4)","v":""},{"$f":"陸連登録!F39","v":0},{"$f":"陸連登録!B39","v":0},null,"",null,"","",null,"",null,"","",null,{"$f":"IF(Y44=\"\",\"\",IF(I44=1,VLOOKUP(Y44,男子種目コード!$D$1:$E$20,2,FALSE),IF(I44=2,VLOOKUP(Y44,女子種目コード!$D$1:$E$20,2,FALSE))))","v":""},null,"","",null,{"$f":"IF(AD44=\"\",\"\",IF(I44=1,VLOOKUP(AD44,男子種目コード!$A$1:$B$33,2,FALSE),IF(V44=2,VLOOKUP(I44,女子種目コード!$A$1:$B$28,2,FALSE))))","v":""},null,null,{"$f":"IF(AG44=\"\",\"\",IF(I44=1,VLOOKUP(AG44,男子種目コード!$A$1:$B$33,2,FALSE),IF(AA44=2,VLOOKUP(I44,女子種目コード!$A$1:$B$28,2,FALSE))))","v":""},null,null,null,null,null,"",0,0,"2年1500","5.10.00",null,null,null,null,null,null,null,null,null,null,null,null,0,"",""]
["",{"$f":"陸連登録!N40","v":0},null,null,{"$f":"陸連登録!M40","v":0},{"$f":"陸連登録!C40","v":0},{"$f":"陸連登録!D40","v":0},0,{"$f":"陸連登録!A40","v":""},{"$f":"陸連登録!P40","v":0},{"$f":"LEFT(陸連登録!L40,4)","v":""},{"$f":"RIGHT(陸連登録!L40,4)","v":""},{"$f":"陸連登録!F40","v":0},{"$f":"陸連登録!B40","v":0},null,"",null,"","",null,"",null,"","",null,{"$f":"IF(Y45=\"\",\"\",IF(I45=1,VLOOKUP(Y45,男子種目コード!$D$1:$E$20,2,FALSE),IF(I45=2,VLOOKUP(Y45,女子種目コード!$D$1:$E$20,2,FALSE))))","v":""},null,"","",null,{"$f":"IF(AD45=\"\",\"\",IF(I45=1,VLOOKUP(AD45,男子種目コード!$A$1:$B$33,2,FALSE),IF(V45=2,VLOOKUP(I45,女子種目コード!$A$1:$B$28,2,FALSE))))","v":""},null,null,{"$f":"IF(AG45=\"\",\"\",IF(I45=1,VLOOKUP(AG45,男子種目コード!$A$1:$B$33,2,FALSE),IF(AA45=2,VLOOKUP(I45,女子種目コード!$A$1:$B$28,2,FALSE))))","v":""},null,null,null,null,null,"",0,0,"共　通",null,null,null,null,null,null,null,null,null,null,null,null,null,0,"",""]
["",{"$f":"陸連登録!N41","v":0},null,null,{"$f":"陸連登録!M41","v":0},{"$f":"陸連登録!C41","v":0},{"$f":"陸連登録!D41","v":0},0,{"$f":"陸連登録!A41","v":""},{"$f":"陸連登録!P41","v":0},{"$f":"LEFT(陸連登録!L41,4)","v":""},{"$f":"RIGHT(陸連登録!L41,4)","v":""},{"$f":"陸連登録!F41","v":0},{"$f":"陸連登録!B41","v":0},null,"",null,"","",null,"",null,"","",null,{"$f":"IF(Y46=\"\",\"\",IF(I46=1,VLOOKUP(Y46,男子種目コード!$D$1:$E$20,2,FALSE),IF(I46=2,VLOOKUP(Y46,女子種目コード!$D$1:$E$20,2,FALSE))))","v":""},null,"","",null,{"$f":"IF(AD46=\"\",\"\",IF(I46=1,VLOOKUP(AD46,男子種目コード!$A$1:$B$33,2,FALSE),IF(V46=2,VLOOKUP(I46,女子種目コード!$A$1:$B$28,2,FALSE))))","v":""},null,null,{"$f":"IF(AG46=\"\",\"\",IF(I46=1,VLOOKUP(AG46,男子種目コード!$A$1:$B$33,2,FALSE),IF(AA46=2,VLOOKUP(I46,女子種目コード!$A$1:$B$28,2,FALSE))))","v":""},null,null,null,null,null,"",0,0,100,"12.60",null,null,null,null,null,null,null,null,null,null,null,null,0,"",""]
["",{"$f":"陸連登録!N42","v":0},null,null,{"$f":"陸連登録!M42","v":0},{"$f":"陸連登録!C42","v":0},{"$f":"陸連登録!D42","v":0},0,{"$f":"陸連登録!A42","v":""},{"$f":"陸連登録!P42","v":0},{"$f":"LEFT(陸連登録!L42,4)","v":""},{"$f":"RIGHT(陸連登録!L42,4)","v":""},{"$f":"陸連登録!F42","v":0},{"$f":"陸連登録!B42","v":0},null,"",null,"","",null,"",null,"","",null,{"$f":"IF(Y47=\"\",\"\",IF(I47=1,VLOOKUP(Y47,男子種目コード!$D$1:$E$20,2,FALSE),IF(I47=2,VLOOKUP(Y47,女子種目コード!$D$1:$E$20,2,FALSE))))","v":""},null,"","",null,{"$f":"IF(AD47=\"\",\"\",IF(I47=1,VLOOKUP(AD47,男子種目コード!$A$1:$B$33,2,FALSE),IF(V47=2,VLOOKUP(I47,女子種目コード!$A$1:$B$28,2,FALSE))))","v":""},null,null,{"$f":"IF(AG47=\"\",\"\",IF(I47=1,VLOOKUP(AG47,男子種目コード!$A$1:$B$33,2,FALSE),IF(AA47=2,VLOOKUP(I47,女子種目コード!$A$1:$B$28,2,FALSE))))","v":""},null,null,null,null,null,"",0,0,200,"25.70",null,null,null,null,null,null,null,null,null,null,null,null,0,"",""]
["",{"$f":"陸連登録!N43","v":0},null,null,{"$f":"陸連登録!M43","v":0},{"$f":"陸連登録!C43","v":0},{"$f":"陸連登録!D43","v":0},0,{"$f":"陸連登録!A43","v":""},{"$f":"陸連登録!P43","v":0},{"$f":"LEFT(陸連登録!L43,4)","v":""},{"$f":"RIGHT(陸連登録!L43,4)","v":""},{"$f":"陸連登録!F43","v":0},{"$f":"陸連登録!B43","v":0},null,"",null,"","",null,"",null,"","",null,{"$f":"IF(Y48=\"\",\"\",IF(I48=1,VLOOKUP(Y48,男子種目コード!$D$1:$E$20,2,FALSE),IF(I48=2,VLOOKUP(Y48,女子種目コード!$D$1:$E$20,2,FALSE))))","v":""},null,"","",null,{"$f":"IF(AD48=\"\",\"\",IF(I48=1,VLOOKUP(AD48,男子種目コード!$A$1:$B$33,2,FALSE),IF(V48=2,VLOOKUP(I48,女子種目コード!$A$1:$B$28,2,FALSE))))","v":""},null,null,{"$f":"IF(AG48=\"\",\"\",IF(I48=1,VLOOKUP(AG48,男子種目コード!$A$1:$B$33,2,FALSE),IF(AA48=2,VLOOKUP(I48,女子種目コード!$A$1:$B$28,2,FALSE))))","v":""},null,null,null,null,null,"",0,0,400,"59.10",null,null,null,null,null,null,null,null,null,null,null,null,0,"",""]
["",{"$f":"陸連登録!N44","v":0},null,null,{"$f":"陸連登録!M44","v":0},{"$f":"陸連登録!C44","v":0},{"$f":"陸連登録!D44","v":0},0,{"$f":"陸連登録!A44","v":""},{"$f":"陸連登録!P44","v":0},{"$f":"LEFT(陸連登録!L44,4)","v":""},{"$f":"RIGHT(陸連登録!L44,4)","v":""},{"$f":"陸連登録!F44","v":0},{"$f":"陸連登録!B44","v":0},null,"",null,"","",null,"",null,"","",null,{"$f":"IF(Y49=\"\",\"\",IF(I49=1,VLOOKUP(Y49,男子種目コード!$D$1:$E$20,2,FALSE),IF(I49=2,VLOOKUP(Y49,女子種目コード!$D$1:$E$20,2,FALSE))))","v":""},null,"","",null,{"$f":"IF(AD49=\"\",\"\",IF(I49=1,VLOOKUP(AD49,男子種目コード!$A$1:$B$33,2,FALSE),IF(V49=2,VLOOKUP(I49,女子種目コード!$A$1:$B$28,2,FALSE))))","v":""},null,null,{"$f":"IF(AG49=\"\",\"\",IF(I49=1,VLOOKUP(AG49,男子種目コード!$A$1:$B$33,2,FALSE),IF(AA49=2,VLOOKUP(I49,女子種目コード!$A$1:$B$28,2,FALSE))))","v":""},null,null,null,null,null,"",0,0,800,"2.18.00",null,null,null,null,null,null,null,null,null,null,null,null,0,"",""]
["",{"$f":"陸連登録!N45","v":0},null,null,{"$f":"陸連登録!M45","v":0},{"$f":"陸連登録!C45","v":0},{"$f":"陸連登録!D45","v":0},0,{"$f":"陸連登録!A45","v":""},{"$f":"陸連登録!P45","v":0},{"$f":"LEFT(陸連登録!L45,4)","v":""},{"$f":"RIGHT(陸連登録!L45,4)","v":""},{"$f":"陸連登録!F45","v":0},{"$f":"陸連登録!B45","v":0},null,"",null,"","",null,"",null,"","",null,{"$f":"IF(Y50=\"\",\"\",IF(I50=1,VLOOKUP(Y50,男子種目コード!$D$1:$E$20,2,FALSE),IF(I50=2,VLOOKUP(Y50,女子種目コード!$D$1:$E$20,2,FALSE))))","v":""},null,"","",null,{"$f":"IF(AD50=\"\",\"\",IF(I50=1,VLOOKUP(AD50,男子種目コード!$A$1:$B$33,2,FALSE),IF(V50=2,VLOOKUP(I50,女子種目コード!$A$1:$B$28,2,FALSE))))","v":""},null,null,{"$f":"IF(AG50=\"\",\"\",IF(I50=1,VLOOKUP(AG50,男子種目コード!$A$1:$B$33,2,FALSE),IF(AA50=2,VLOOKUP(I50,女子種目コード!$A$1:$B$28,2,FALSE))))","v":""},null,null,null,null,null,"",0,0,1500,"4.45.00",null,null,null,null,null,null,null,null,null,null,null,null,0,"",""]
["",{"$f":"陸連登録!N46","v":0},null,null,{"$f":"陸連登録!M46","v":0},{"$f":"陸連登録!C46","v":0},{"$f":"陸連登録!D46","v":0},0,{"$f":"陸連登録!A46","v":""},{"$f":"陸連登録!P46","v":0},{"$f":"LEFT(陸連登録!L46,4)","v":""},{"$f":"RIGHT(陸連登録!L46,4)","v":""},{"$f":"陸連登録!F46","v":0},{"$f":"陸連登録!B46","v":0},null,"",null,"","",null,"",null,"","",null,{"$f":"IF(Y51=\"\",\"\",IF(I51=1,VLOOKUP(Y51,男子種目コード!$D$1:$E$20,2,FALSE),IF(I51=2,VLOOKUP(Y51,女子種目コード!$D$1:$E$20,2,FALSE))))","v":""},null,"","",null,{"$f":"IF(AD51=\"\",\"\",IF(I51=1,VLOOKUP(AD51,男子種目コード!$A$1:$B$33,2,FALSE),IF(V51=2,VLOOKUP(I51,女子種目コード!$A$1:$B$28,2,FALSE))))","v":""},null,null,{"$f":"IF(AG51=\"\",\"\",IF(I51=1,VLOOKUP(AG51,男子種目コード!$A$1:$B$33,2,FALSE),IF(AA51=2,VLOOKUP(I51,女子種目コード!$A$1:$B$28,2,FALSE))))","v":""},null,null,null,null,null,"",0,0,3000,"10.40.00",null,null,null,null,null,null,null,null,null,null,null,null,0,"",""]
["",{"$f":"陸連登録!N47","v":0},null,null,{"$f":"陸連登録!M47","v":0},{"$f":"陸連登録!C47","v":0},{"$f":"陸連登録!D47","v":0},0,{"$f":"陸連登録!A47","v":""},{"$f":"陸連登録!P47","v":0},{"$f":"LEFT(陸連登録!L47,4)","v":""},{"$f":"RIGHT(陸連登録!L47,4)","v":""},{"$f":"陸連登録!F47","v":0},{"$f":"陸連登録!B47","v":0},null,"",null,"","",null,"",null,"","",null,{"$f":"IF(Y52=\"\",\"\",IF(I52=1,VLOOKUP(Y52,男子種目コード!$D$1:$E$20,2,FALSE),IF(I52=2,VLOOKUP(Y52,女子種目コード!$D$1:$E$20,2,FALSE))))","v":""},null,"","",null,{"$f":"IF(AD52=\"\",\"\",IF(I52=1,VLOOKUP(AD52,男子種目コード!$A$1:$B$33,2,FALSE),IF(V52=2,VLOOKUP(I52,女子種目コード!$A$1:$B$28,2,FALSE))))","v":""},null,null,{"$f":"IF(AG52=\"\",\"\",IF(I52=1,VLOOKUP(AG52,男子種目コード!$A$1:$B$33,2,FALSE),IF(AA52=2,VLOOKUP(I52,女子種目コード!$A$1:$B$28,2,FALSE))))","v":""},null,null,null,null,null,"",0,0,"110YH","19.20",null,null,null,null,null,null,null,null,null,null,null,null,0,"",""]
["",{"$f":"陸連登録!N48","v":0},null,null,{"$f":"陸連登録!M48","v":0},{"$f":"陸連登録!C48","v":0},{"$f":"陸連登録!D48","v":0},0,{"$f":"陸連登録!A48","v":""},{"$f":"陸連登録!P48","v":0},{"$f":"LEFT(陸連登録!L48,4)","v":""},{"$f":"RIGHT(陸連登録!L48,4)","v":""},{"$f":"陸連登録!F48","v":0},{"$f":"陸連登録!B48","v":0},null,"",null,"","",null,"",null,"","",null,{"$f":"IF(Y53=\"\",\"\",IF(I53=1,VLOOKUP(Y53,男子種目コード!$D$1:$E$20,2,FALSE),IF(I53=2,VLOOKUP(Y53,女子種目コード!$D$1:$E$20,2,FALSE))))","v":""},null,"","",null,{"$f":"IF(AD53=\"\",\"\",IF(I53=1,VLOOKUP(AD53,男子種目コード!$A$1:$B$33,2,FALSE),IF(V53=2,VLOOKUP(I53,女子種目コード!$A$1:$B$28,2,FALSE))))","v":""},null,null,{"$f":"IF(AG53=\"\",\"\",IF(I53=1,VLOOKUP(AG53,男子種目コード!$A$1:$B$33,2,FALSE),IF(AA53=2,VLOOKUP(I53,女子種目コード!$A$1:$B$28,2,FALSE))))","v":""},null,null,null,null,null,"",0,0,"走高跳","1m50",null,null,null,null,null,null,null,null,null,null,null,null,0,"",""]
["",{"$f":"陸連登録!N49","v":0},null,null,{"$f":"陸連登録!M49","v":0},{"$f":"陸連登録!C49","v":0},{"$f":"陸連登録!D49","v":0},0,{"$f":"陸連登録!A49","v":""},{"$f":"陸連登録!P49","v":0},{"$f":"LEFT(陸連登録!L49,4)","v":""},{"$f":"RIGHT(陸連登録!L49,4)","v":""},{"$f":"陸連登録!F49","v":0},{"$f":"陸連登録!B49","v":0},null,"",null,"","",null,"",null,"","",null,{"$f":"IF(Y54=\"\",\"\",IF(I54=1,VLOOKUP(Y54,男子種目コード!$D$1:$E$20,2,FALSE),IF(I54=2,VLOOKUP(Y54,女子種目コード!$D$1:$E$20,2,FALSE))))","v":""},null,"","",null,{"$f":"IF(AD54=\"\",\"\",IF(I54=1,VLOOKUP(AD54,男子種目コード!$A$1:$B$33,2,FALSE),IF(V54=2,VLOOKUP(I54,女子種目コード!$A$1:$B$28,2,FALSE))))","v":""},null,null,{"$f":"IF(AG54=\"\",\"\",IF(I54=1,VLOOKUP(AG54,男子種目コード!$A$1:$B$33,2,FALSE),IF(AA54=2,VLOOKUP(I54,女子種目コード!$A$1:$B$28,2,FALSE))))","v":""},null,null,null,null,null,"",0,0,"棒高跳","2m80",null,null,null,null,null,null,null,null,null,null,null,null,0,"",""]
["",{"$f":"陸連登録!N50","v":0},null,null,{"$f":"陸連登録!M50","v":0},{"$f":"陸連登録!C50","v":0},{"$f":"陸連登録!D50","v":0},0,{"$f":"陸連登録!A50","v":""},{"$f":"陸連登録!P50","v":0},{"$f":"LEFT(陸連登録!L50,4)","v":""},{"$f":"RIGHT(陸連登録!L50,4)","v":""},{"$f":"陸連登録!F50","v":0},{"$f":"陸連登録!B50","v":0},null,"",null,"","",null,"",null,"","",null,{"$f":"IF(Y55=\"\",\"\",IF(I55=1,VLOOKUP(Y55,男子種目コード!$D$1:$E$20,2,FALSE),IF(I55=2,VLOOKUP(Y55,女子種目コード!$D$1:$E$20,2,FALSE))))","v":""},null,"","",null,{"$f":"IF(AD55=\"\",\"\",IF(I55=1,VLOOKUP(AD55,男子種目コード!$A$1:$B$33,2,FALSE),IF(V55=2,VLOOKUP(I55,女子種目コード!$A$1:$B$28,2,FALSE))))","v":""},null,null,{"$f":"IF(AG55=\"\",\"\",IF(I55=1,VLOOKUP(AG55,男子種目コード!$A$1:$B$33,2,FALSE),IF(AA55=2,VLOOKUP(I55,女子種目コード!$A$1:$B$28,2,FALSE))))","v":""},null,null,null,null,null,"",0,0,"走幅跳","5m40",null,null,null,null,null,null,null,null,null,null,null,null,0,"",""]
["",{"$f":"陸連登録!N51","v":0},null,null,{"$f":"陸連登録!M51","v":0},{"$f":"陸連登録!C51","v":0},{"$f":"陸連登録!D51","v":0},0,{"$f":"陸連登録!A51","v":""},{"$f":"陸連登録!P51","v":0},{"$f":"LEFT(陸連登録!L51,4)","v":""},{"$f":"RIGHT(陸連登録!L51,4)","v":""},{"$f":"陸連登録!F51","v":0},{"$f":"陸連登録!B51","v":0},null,"",null,"","",null,"",null,"","",null,{"$f":"IF(Y56=\"\",\"\",IF(I56=1,VLOOKUP(Y56,男子種目コード!$D$1:$E$20,2,FALSE),IF(I56=2,VLOOKUP(Y56,女子種目コード!$D$1:$E$20,2,FALSE))))","v":""},null,"","",null,{"$f":"IF(AD56=\"\",\"\",IF(I56=1,VLOOKUP(AD56,男子種目コード!$A$1:$B$33,2,FALSE),IF(V56=2,VLOOKUP(I56,女子種目コード!$A$1:$B$28,2,FALSE))))","v":""},null,null,{"$f":"IF(AG56=\"\",\"\",IF(I56=1,VLOOKUP(AG56,男子種目コード!$A$1:$B$33,2,FALSE),IF(AA56=2,VLOOKUP(I56,女子種目コード!$A$1:$B$28,2,FALSE))))","v":""},null,null,null,null,null,"",0,0,"三段跳","10m80",null,null,null,null,null,null,null,null,null,null,null,null,0,"",""]
["",{"$f":"陸連登録!N52","v":0},null,null,{"$f":"陸連登録!M52","v":0},{"$f":"陸連登録!C52","v":0},{"$f":"陸連登録!D52","v":0},0,{"$f":"陸連登録!A52","v":""},{"$f":"陸連登録!P52","v":0},{"$f":"LEFT(陸連登録!L52,4)","v":""},{"$f":"RIGHT(陸連登録!L52,4)","v":""},{"$f":"陸連登録!F52","v":0},{"$f":"陸連登録!B52","v":0},null,"",null,"","",null,"",null,"","",null,{"$f":"IF(Y57=\"\",\"\",IF(I57=1,VLOOKUP(Y57,男子種目コード!$D$1:$E$20,2,FALSE),IF(I57=2,VLOOKUP(Y57,女子種目コード!$D$1:$E$20,2,FALSE))))","v":""},null,"","",null,{"$f":"IF(AD57=\"\",\"\",IF(I57=1,VLOOKUP(AD57,男子種目コード!$A$1:$B$33,2,FALSE),IF(V57=2,VLOOKUP(I57,女子種目コード!$A$1:$B$28,2,FALSE))))","v":""},null,null,{"$f":"IF(AG57=\"\",\"\",IF(I57=1,VLOOKUP(AG57,男子種目コード!$A$1:$B$33,2,FALSE),IF(AA57=2,VLOOKUP(I57,女子種目コード!$A$1:$B$28,2,FALSE))))","v":""},null,null,null,null,null,"",0,0,"砲丸投","9m50",null,null,null,null,null,null,null,null,null,null,null,null,0,"",""]
["",{"$f":"陸連登録!N53","v":0},null,null,{"$f":"陸連登録!M53","v":0},{"$f":"陸連登録!C53","v":0},{"$f":"陸連登録!D53","v":0},0,{"$f":"陸連登録!A53","v":""},{"$f":"陸連登録!P53","v":0},{"$f":"LEFT(陸連登録!L53,4)","v":""},{"$f":"RIGHT(陸連登録!L53,4)","v":""},{"$f":"陸連登録!F53","v":0},{"$f":"陸連登録!B53","v":0},null,"",null,"","",null,"",null,"","",null,{"$f":"IF(Y58=\"\",\"\",IF(I58=1,VLOOKUP(Y58,男子種目コード!$D$1:$E$20,2,FALSE),IF(I58=2,VLOOKUP(Y58,女子種目コード!$D$1:$E$20,2,FALSE))))","v":""},null,"","",null,{"$f":"IF(AD58=\"\",\"\",IF(I58=1,VLOOKUP(AD58,男子種目コード!$A$1:$B$33,2,FALSE),IF(V58=2,VLOOKUP(I58,女子種目コード!$A$1:$B$28,2,FALSE))))","v":""},null,null,{"$f":"IF(AG58=\"\",\"\",IF(I58=1,VLOOKUP(AG58,男子種目コード!$A$1:$B$33,2,FALSE),IF(AA58=2,VLOOKUP(I58,女子種目コード!$A$1:$B$28,2,FALSE))))","v":""},null,null,null,null,null,"",0,0,"円盤投","23m00",null,null,null,null,null,null,null,null,null,null,null,null,0,"",""]
["",{"$f":"陸連登録!N54","v":0},null,null,{"$f":"陸連登録!M54","v":0},{"$f":"陸連登録!C54","v":0},{"$f":"陸連登録!D54","v":0},0,{"$f":"陸連登録!A54","v":""},{"$f":"陸連登録!P54","v":0},{"$f":"LEFT(陸連登録!L54,4)","v":""},{"$f":"RIGHT(陸連登録!L54,4)","v":""},{"$f":"陸連登録!F54","v":0},{"$f":"陸連登録!B54","v":0},null,"",null,"","",null,"",null,"","",null,{"$f":"IF(Y59=\"\",\"\",IF(I59=1,VLOOKUP(Y59,男子種目コード!$D$1:$E$20,2,FALSE),IF(I59=2,VLOOKUP(Y59,女子種目コード!$D$1:$E$20,2,FALSE))))","v":""},null,"","",null,{"$f":"IF(AD59=\"\",\"\",IF(I59=1,VLOOKUP(AD59,男子種目コード!$A$1:$B$33,2,FALSE),IF(V59=2,VLOOKUP(I59,女子種目コード!$A$1:$B$28,2,FALSE))))","v":""},null,null,{"$f":"IF(AG59=\"\",\"\",IF(I59=1,VLOOKUP(AG59,男子種目コード!$A$1:$B$33,2,FALSE),IF(AA59=2,VLOOKUP(I59,女子種目コード!$A$1:$B$28,2,FALSE))))","v":""},null,null,null,null,null,"",0,0,"女子",null,null,null,null,null,null,null,null,null,null,null,null,null,0,"",""]
["",{"$f":"陸連登録!N55","v":0},null,null,{"$f":"陸連登録!M55","v":0},{"$f":"陸連登録!C55","v":0},{"$f":"陸連登録!D55","v":0},0,{"$f":"陸連登録!A55","v":""},{"$f":"陸連登録!P55","v":0},{"$f":"LEFT(陸連登録!L55,4)","v":""},{"$f":"RIGHT(陸連登録!L55,4)","v":""},{"$f":"陸連登録!F55","v":0},{"$f":"陸連登録!B55","v":0},null,"",null,"","",null,"",null,"","",null,{"$f":"IF(Y60=\"\",\"\",IF(I60=1,VLOOKUP(Y60,男子種目コード!$D$1:$E$20,2,FALSE),IF(I60=2,VLOOKUP(Y60,女子種目コード!$D$1:$E$20,2,FALSE))))","v":""},null,"","",null,{"$f":"IF(AD60=\"\",\"\",IF(I60=1,VLOOKUP(AD60,男子種目コード!$A$1:$B$33,2,FALSE),IF(V60=2,VLOOKUP(I60,女子種目コード!$A$1:$B$28,2,FALSE))))","v":""},null,null,{"$f":"IF(AG60=\"\",\"\",IF(I60=1,VLOOKUP(AG60,男子種目コード!$A$1:$B$33,2,FALSE),IF(AA60=2,VLOOKUP(I60,女子種目コード!$A$1:$B$28,2,FALSE))))","v":""},null,null,null,null,null,"",0,0,"2年100","14.70",null,null,null,null,null,null,null,null,null,null,null,null,0,"",""]
["",{"$f":"陸連登録!N56","v":0},null,null,{"$f":"陸連登録!M56","v":0},{"$f":"陸連登録!C56","v":0},{"$f":"陸連登録!D56","v":0},0,{"$f":"陸連登録!A56","v":""},{"$f":"陸連登録!P56","v":0},{"$f":"LEFT(陸連登録!L56,4)","v":""},{"$f":"RIGHT(陸連登録!L56,4)","v":""},{"$f":"陸連登録!F56","v":0},{"$f":"陸連登録!B56","v":0},null,"",null,"","",null,"",null,"","",null,{"$f":"IF(Y61=\"\",\"\",IF(I61=1,VLOOKUP(Y61,男子種目コード!$D$1:$E$20,2,FALSE),IF(I61=2,VLOOKUP(Y61,女子種目コード!$D$1:$E$20,2,FALSE))))","v":""},null,"","",null,{"$f":"IF(AD61=\"\",\"\",IF(I61=1,VLOOKUP(AD61,男子種目コード!$A$1:$B$33,2,FALSE),IF(V61=2,VLOOKUP(I61,女子種目コード!$A$1:$B$28,2,FALSE))))","v":""},null,null,{"$f":"IF(AG61=\"\",\"\",IF(I61=1,VLOOKUP(AG61,男子種目コード!$A$1:$B$33,2,FALSE),IF(AA61=2,VLOOKUP(I61,女子種目コード!$A$1:$B$28,2,FALSE))))","v":""},null,null,null,null,null,"",0,0,"共通",null,null,null,null,null,null,null,null,null,null,null,null,null,0,"",""]
["",{"$f":"陸連登録!N57","v":0},null,null,{"$f":"陸連登録!M57","v":0},{"$f":"陸連登録!C57","v":0},{"$f":"陸連登録!D57","v":0},0,{"$f":"陸連登録!A57","v":""},{"$f":"陸連登録!P57","v":0},{"$f":"LEFT(陸連登録!L57,4)","v":""},{"$f":"RIGHT(陸連登録!L57,4)","v":""},{"$f":"陸連登録!F57","v":0},{"$f":"陸連登録!B57","v":0},null,"",null,"","",null,"",null,"","",null,{"$f":"IF(Y62=\"\",\"\",IF(I62=1,VLOOKUP(Y62,男子種目コード!$D$1:$E$20,2,FALSE),IF(I62=2,VLOOKUP(Y62,女子種目コード!$D$1:$E$20,2,FALSE))))","v":""},null,"","",null,{"$f":"IF(AD62=\"\",\"\",IF(I62=1,VLOOKUP(AD62,男子種目コード!$A$1:$B$33,2,FALSE),IF(V62=2,VLOOKUP(I62,女子種目コード!$A$1:$B$28,2,FALSE))))","v":""},null,null,{"$f":"IF(AG62=\"\",\"\",IF(I62=1,VLOOKUP(AG62,男子種目コード!$A$1:$B$33,2,FALSE),IF(AA62=2,VLOOKUP(I62,女子種目コード!$A$1:$B$28,2,FALSE))))","v":""},null,null,null,null,null,"",0,0,100,"14.10",null,null,null,null,null,null,null,null,null,null,null,null,0,"",""]
["",{"$f":"陸連登録!N58","v":0},null,null,{"$f":"陸連登録!M58","v":0},{"$f":"陸連登録!C58","v":0},{"$f":"陸連登録!D58","v":0},0,{"$f":"陸連登録!A58","v":""},{"$f":"陸連登録!P58","v":0},{"$f":"LEFT(陸連登録!L58,4)","v":""},{"$f":"RIGHT(陸連登録!L58,4)","v":""},{"$f":"陸連登録!F58","v":0},{"$f":"陸連登録!B58","v":0},null,"",null,"","",null,"",null,"","",null,{"$f":"IF(Y63=\"\",\"\",IF(I63=1,VLOOKUP(Y63,男子種目コード!$D$1:$E$20,2,FALSE),IF(I63=2,VLOOKUP(Y63,女子種目コード!$D$1:$E$20,2,FALSE))))","v":""},null,"","",null,{"$f":"IF(AD63=\"\",\"\",IF(I63=1,VLOOKUP(AD63,男子種目コード!$A$1:$B$33,2,FALSE),IF(V63=2,VLOOKUP(I63,女子種目コード!$A$1:$B$28,2,FALSE))))","v":""},null,null,{"$f":"IF(AG63=\"\",\"\",IF(I63=1,VLOOKUP(AG63,男子種目コード!$A$1:$B$33,2,FALSE),IF(AA63=2,VLOOKUP(I63,女子種目コード!$A$1:$B$28,2,FALSE))))","v":""},null,null,null,null,null,"",0,0,200,"29.20",null,null,null,null,null,null,null,null,null,null,null,null,0,"",""]
["",{"$f":"陸連登録!N59","v":0},null,null,{"$f":"陸連登録!M59","v":0},{"$f":"陸連登録!C59","v":0},{"$f":"陸連登録!D59","v":0},0,{"$f":"陸連登録!A59","v":""},{"$f":"陸連登録!P59","v":0},{"$f":"LEFT(陸連登録!L59,4)","v":""},{"$f":"RIGHT(陸連登録!L59,4)","v":""},{"$f":"陸連登録!F59","v":0},{"$f":"陸連登録!B59","v":0},null,"",null,"","",null,"",null,"","",null,{"$f":"IF(Y64=\"\",\"\",IF(I64=1,VLOOKUP(Y64,男子種目コード!$D$1:$E$20,2,FALSE),IF(I64=2,VLOOKUP(Y64,女子種目コード!$D$1:$E$20,2,FALSE))))","v":""},null,"","",null,{"$f":"IF(AD64=\"\",\"\",IF(I64=1,VLOOKUP(AD64,男子種目コード!$A$1:$B$33,2,FALSE),IF(V64=2,VLOOKUP(I64,女子種目コード!$A$1:$B$28,2,FALSE))))","v":""},null,null,{"$f":"IF(AG64=\"\",\"\",IF(I64=1,VLOOKUP(AG64,男子種目コード!$A$1:$B$33,2,FALSE),IF(AA64=2,VLOOKUP(I64,女子種目コード!$A$1:$B$28,2,FALSE))))","v":""},null,null,null,null,null,"",0,0,800,"2.38.00",null,null,null,null,null,null,null,null,null,null,null,null,0,"",""]
["",{"$f":"陸連登録!N60","v":0},null,null,{"$f":"陸連登録!M60","v":0},{"$f":"陸連登録!C60","v":0},{"$f":"陸連登録!D60","v":0},0,{"$f":"陸連登録!A60","v":""},{"$f":"陸連登録!P60","v":0},{"$f":"LEFT(陸連登録!L60,4)","v":""},{"$f":"RIGHT(陸連登録!L60,4)","v":""},{"$f":"陸連登録!F60","v":0},{"$f":"陸連登録!B60","v":0},null,"",null,"","",null,"",null,"","",null,{"$f":"IF(Y65=\"\",\"\",IF(I65=1,VLOOKUP(Y65,男子種目コード!$D$1:$E$20,2,FALSE),IF(I65=2,VLOOKUP(Y65,女子種目コード!$D$1:$E$20,2,FALSE))))","v":""},null,"","",null,{"$f":"IF(AD65=\"\",\"\",IF(I65=1,VLOOKUP(AD65,男子種目コード!$A$1:$B$33,2,FALSE),IF(V65=2,VLOOKUP(I65,女子種目コード!$A$1:$B$28,2,FALSE))))","v":""},null,null,{"$f":"IF(AG65=\"\",\"\",IF(I65=1,VLOOKUP(AG65,男子種目コード!$A$1:$B$33,2,FALSE),IF(AA65=2,VLOOKUP(I65,女子種目コード!$A$1:$B$28,2,FALSE))))","v":""},null,null,null,null,null,"",0,0,1500,"5.40.00",null,null,null,null,null,null,null,null,null,null,null,null,0,"",""]
["",{"$f":"陸連登録!N61","v":0},null,null,{"$f":"陸連登録!M61","v":0},{"$f":"陸連登録!C61","v":0},{"$f":"陸連登録!D61","v":0},0,{"$f":"陸連登録!A61","v":""},{"$f":"陸連登録!P61","v":0},{"$f":"LEFT(陸連登録!L61,4)","v":""},{"$f":"RIGHT(陸連登録!L61,4)","v":""},{"$f":"陸連登録!F61","v":0},{"$f":"陸連登録!B61","v":0},null,"",null,"","",null,"",null,"","",null,{"$f":"IF(Y66=\"\",\"\",IF(I66=1,VLOOKUP(Y66,男子種目コード!$D$1:$E$20,2,FALSE),IF(I66=2,VLOOKUP(Y66,女子種目コード!$D$1:$E$20,2,FALSE))))","v":""},null,"","",null,{"$f":"IF(AD66=\"\",\"\",IF(I66=1,VLOOKUP(AD66,男子種目コード!$A$1:$B$33,2,FALSE),IF(V66=2,VLOOKUP(I66,女子種目コード!$A$1:$B$28,2,FALSE))))","v":""},null,null,{"$f":"IF(AG66=\"\",\"\",IF(I66=1,VLOOKUP(AG66,男子種目コード!$A$1:$B$33,2,FALSE),IF(AA66=2,VLOOKUP(I66,女子種目コード!$A$1:$B$28,2,FALSE))))","v":""},null,null,null,null,null,"",0,0,"100H","18.80",null,null,null,null,null,null,null,null,null,null,null,null,0,"",""]
["",{"$f":"陸連登録!N62","v":0},null,null,{"$f":"陸連登録!M62","v":0},{"$f":"陸連登録!C62","v":0},{"$f":"陸連登録!D62","v":0},0,{"$f":"陸連登録!A62","v":""},{"$f":"陸連登録!P62","v":0},{"$f":"LEFT(陸連登録!L62,4)","v":""},{"$f":"RIGHT(陸連登録!L62,4)","v":""},{"$f":"陸連登録!F62","v":0},{"$f":"陸連登録!B62","v":0},null,"",null,"","",null,"",null,"","",null,{"$f":"IF(Y67=\"\",\"\",IF(I67=1,VLOOKUP(Y67,男子種目コード!$D$1:$E$20,2,FALSE),IF(I67=2,VLOOKUP(Y67,女子種目コード!$D$1:$E$20,2,FALSE))))","v":""},null,"","",null,{"$f":"IF(AD67=\"\",\"\",IF(I67=1,VLOOKUP(AD67,男子種目コード!$A$1:$B$33,2,FALSE),IF(V67=2,VLOOKUP(I67,女子種目コード!$A$1:$B$28,2,FALSE))))","v":""},null,null,{"$f":"IF(AG67=\"\",\"\",IF(I67=1,VLOOKUP(AG67,男子種目コード!$A$1:$B$33,2,FALSE),IF(AA67=2,VLOOKUP(I67,女子種目コード!$A$1:$B$28,2,FALSE))))","v":""},null,null,null,null,null,"",0,0,"走高跳","1m30",null,null,null,null,null,null,null,null,null,null,null,null,0,"",""]
["",{"$f":"陸連登録!N63","v":0},null,null,{"$f":"陸連登録!M63","v":0},{"$f":"陸連登録!C63","v":0},{"$f":"陸連登録!D63","v":0},0,{"$f":"陸連登録!A63","v":""},{"$f":"陸連登録!P63","v":0},{"$f":"LEFT(陸連登録!L63,4)","v":""},{"$f":"RIGHT(陸連登録!L63,4)","v":""},{"$f":"陸連登録!F63","v":0},{"$f":"陸連登録!B63","v":0},null,"",null,"","",null,"",null,"","",null,{"$f":"IF(Y68=\"\",\"\",IF(I68=1,VLOOKUP(Y68,男子種目コード!$D$1:$E$20,2,FALSE),IF(I68=2,VLOOKUP(Y68,女子種目コード!$D$1:$E$20,2,FALSE))))","v":""},null,"","",null,{"$f":"IF(AD68=\"\",\"\",IF(I68=1,VLOOKUP(AD68,男子種目コード!$A$1:$B$33,2,FALSE),IF(V68=2,VLOOKUP(I68,女子種目コード!$A$1:$B$28,2,FALSE))))","v":""},null,null,{"$f":"IF(AG68=\"\",\"\",IF(I68=1,VLOOKUP(AG68,男子種目コード!$A$1:$B$33,2,FALSE),IF(AA68=2,VLOOKUP(I68,女子種目コード!$A$1:$B$28,2,FALSE))))","v":""},null,null,null,null,null,"",0,0,"棒高跳","1m80",null,null,null,null,null,null,null,null,null,null,null,null,0,"",""]
["",{"$f":"陸連登録!N64","v":0},null,null,{"$f":"陸連登録!M64","v":0},{"$f":"陸連登録!C64","v":0},{"$f":"陸連登録!D64","v":0},0,{"$f":"陸連登録!A64","v":""},{"$f":"陸連登録!P64","v":0},{"$f":"LEFT(陸連登録!L64,4)","v":""},{"$f":"RIGHT(陸連登録!L64,4)","v":""},{"$f":"陸連登録!F64","v":0},{"$f":"陸連登録!B64","v":0},null,"",null,"","",null,"",null,"","",null,{"$f":"IF(Y69=\"\",\"\",IF(I69=1,VLOOKUP(Y69,男子種目コード!$D$1:$E$20,2,FALSE),IF(I69=2,VLOOKUP(Y69,女子種目コード!$D$1:$E$20,2,FALSE))))","v":""},null,"","",null,{"$f":"IF(AD69=\"\",\"\",IF(I69=1,VLOOKUP(AD69,男子種目コード!$A$1:$B$33,2,FALSE),IF(V69=2,VLOOKUP(I69,女子種目コード!$A$1:$B$28,2,FALSE))))","v":""},null,null,{"$f":"IF(AG69=\"\",\"\",IF(I69=1,VLOOKUP(AG69,男子種目コード!$A$1:$B$33,2,FALSE),IF(AA69=2,VLOOKUP(I69,女子種目コード!$A$1:$B$28,2,FALSE))))","v":""},null,null,null,null,null,"",0,0,"走幅跳","4m30",null,null,null,null,null,null,null,null,null,null,null,null,0,"",""]
["",{"$f":"陸連登録!N65","v":0},null,null,{"$f":"陸連登録!M65","v":0},{"$f":"陸連登録!C65","v":0},{"$f":"陸連登録!D65","v":0},0,{"$f":"陸連登録!A65","v":""},{"$f":"陸連登録!P65","v":0},{"$f":"LEFT(陸連登録!L65,4)","v":""},{"$f":"RIGHT(陸連登録!L65,4)","v":""},{"$f":"陸連登録!F65","v":0},{"$f":"陸連登録!B65","v":0},null,"",null,"","",null,"",null,"","",null,{"$f":"IF(Y70=\"\",\"\",IF(I70=1,VLOOKUP(Y70,男子種目コード!$D$1:$E$20,2,FALSE),IF(I70=2,VLOOKUP(Y70,女子種目コード!$D$1:$E$20,2,FALSE))))","v":""},null,"","",null,{"$f":"IF(AD70=\"\",\"\",IF(I70=1,VLOOKUP(AD70,男子種目コード!$A$1:$B$33,2,FALSE),IF(V70=2,VLOOKUP(I70,女子種目コード!$A$1:$B$28,2,FALSE))))","v":""},null,null,{"$f":"IF(AG70=\"\",\"\",IF(I70=1,VLOOKUP(AG70,男子種目コード!$A$1:$B$33,2,FALSE),IF(AA70=2,VLOOKUP(I70,女子種目コード!$A$1:$B$28,2,FALSE))))","v":""},null,null,null,null,null,"",0,0,"三段跳","9m00",null,null,null,null,null,null,null,null,null,null,null,null,0,"",""]
["",{"$f":"陸連登録!N66","v":0},null,null,{"$f":"陸連登録!M66","v":0},{"$f":"陸連登録!C66","v":0},{"$f":"陸連登録!D66","v":0},0,{"$f":"陸連登録!A66","v":""},{"$f":"陸連登録!P66","v":0},{"$f":"LEFT(陸連登録!L66,4)","v":""},{"$f":"RIGHT(陸連登録!L66,4)","v":""},{"$f":"陸連登録!F66","v":0},{"$f":"陸連登録!B66","v":0},null,"",null,"","",null,"",null,"","",null,{"$f":"IF(Y71=\"\",\"\",IF(I71=1,VLOOKUP(Y71,男子種目コード!$D$1:$E$20,2,FALSE),IF(I71=2,VLOOKUP(Y71,女子種目コード!$D$1:$E$20,2,FALSE))))","v":""},null,"","",null,{"$f":"IF(AD71=\"\",\"\",IF(I71=1,VLOOKUP(AD71,男子種目コード!$A$1:$B$33,2,FALSE),IF(V71=2,VLOOKUP(I71,女子種目コード!$A$1:$B$28,2,FALSE))))","v":""},null,null,{"$f":"IF(AG71=\"\",\"\",IF(I71=1,VLOOKUP(AG71,男子種目コード!$A$1:$B$33,2,FALSE),IF(AA71=2,VLOOKUP(I71,女子種目コード!$A$1:$B$28,2,FALSE))))","v":""},null,null,null,null,null,"",{"$f":"IF(OR(AN71=1,T71=\"\"),0,1)","v":0},{"$f":"IF(OR(AN71=1,AO71=1,Y71=\"\"),0,1)","v":0},"砲丸投","8m50",null,null,null,null,null,null,null,null,null,null,null,null,0,"",""]
[{"$f":"Z72","v":""},{"$f":"陸連登録!N67","v":0},null,null,{"$f":"陸連登録!M67","v":0},{"$f":"陸連登録!C67","v":0},{"$f":"陸連登録!D67","v":0},{"$f":"F72","v":0},{"$f":"陸連登録!A67","v":""},{"$f":"陸連登録!P67","v":0},{"$f":"LEFT(陸連登録!L67,4)","v":""},{"$f":"RIGHT(陸連登録!L67,4)","v":""},{"$f":"陸連登録!F67","v":0},{"$f":"陸連登録!B67","v":0},null,{"$f":"IF(O72=\"\",\"\",IF(I72=1,VLOOKUP(O72,$AQ$7:$AS$23,3,FALSE),IF(I72=2,VLOOKUP(O72,$AQ$25:$AS$38,3,FALSE))))","v":""},null,{"$f":"IF(O72=\"\",\"\",0)","v":""},{"$f":"IF(O72=\"\",\"\",2)","v":""},null,{"$f":"IF(T72=\"\",\"\",IF(I72=1,VLOOKUP(T72,$AQ$7:$AS$23,3,FALSE),IF(I72=2,VLOOKUP(T72,$AQ$25:$AS$38,3,FALSE))))","v":""},null,{"$f":"IF(T72=\"\",\"\",0)","v":""},{"$f":"IF(T72=\"\",\"\",2)","v":""},null,{"$f":"IF(Y72=\"\",\"\",IF(I72=1,VLOOKUP(Y72,男子種目コード!$D$1:$E$20,2,FALSE),IF(I72=2,VLOOKUP(Y72,女子種目コード!$D$1:$E$20,2,FALSE))))","v":""},null,{"$f":"IF(Y72=\"\",\"\",0)","v":""},{"$f":"IF(Y72=\"\",\"\",2)","v":""},null,{"$f":"IF(AD72=\"\",\"\",IF(I72=1,VLOOKUP(AD72,男子種目コード!$A$1:$B$33,2,FALSE),IF(V72=2,VLOOKUP(I72,女子種目コード!$A$1:$B$28,2,FALSE))))","v":""},null,null,{"$f":"IF(AG72=\"\",\"\",IF(I72=1,VLOOKUP(AG72,男子種目コード!$A$1:$B$33,2,FALSE),IF(AA72=2,VLOOKUP(I72,女子種目コード!$A$1:$B$28,2,FALSE))))","v":""},null,null,null,null,null,{"$f":"IF(O72=\"\",\"\",1)","v":""},0,0,"円盤投","20m00",null,null,null,null,null,null,null,null,null,null,null,null,{"$f":"COUNT(P72,U72,Z72)","v":0},{"$f":"IF(I72=1,BE72,\"\")","v":""},{"$f":"IF(I72=2,BE72,\"\")","v":""}]
["",{"$f":"陸連登録!N68","v":0},null,null,{"$f":"陸連登録!M68","v":0},{"$f":"陸連登録!C68","v":0},{"$f":"陸連登録!D68","v":0},0,{"$f":"陸連登録!A68","v":""},{"$f":"陸連登録!P68","v":0},{"$f":"LEFT(陸連登録!L68,4)","v":""},{"$f":"RIGHT(陸連登録!L68,4)","v":""},{"$f":"陸連登録!F68","v":0},{"$f":"陸連登録!B68","v":0},null,"",null,"","",null,"",null,"","",null,{"$f":"IF(Y73=\"\",\"\",IF(I73=1,VLOOKUP(Y73,男子種目コード!$D$1:$E$20,2,FALSE),IF(I73=2,VLOOKUP(Y73,女子種目コード!$D$1:$E$20,2,FALSE))))","v":""},null,"","",null,{"$f":"IF(AD73=\"\",\"\",IF(I73=1,VLOOKUP(AD73,男子種目コード!$A$1:$B$33,2,FALSE),IF(V73=2,VLOOKUP(I73,女子種目コード!$A$1:$B$28,2,FALSE))))","v":""},null,null,{"$f":"IF(AG73=\"\",\"\",IF(I73=1,VLOOKUP(AG73,男子種目コード!$A$1:$B$33,2,FALSE),IF(AA73=2,VLOOKUP(I73,女子種目コード!$A$1:$B$28,2,FALSE))))","v":""},null,null,null,null,null,"",0,0,"１年種目・リレーはなし",null,null,null,null,null,null,null,null,null,null,null,null,null,0,"",""]
["",{"$f":"陸連登録!N69","v":0},null,null,{"$f":"陸連登録!M69","v":0},{"$f":"陸連登録!C69","v":0},{"$f":"陸連登録!D69","v":0},0,{"$f":"陸連登録!A69","v":""},{"$f":"陸連登録!P69","v":0},{"$f":"LEFT(陸連登録!L69,4)","v":""},{"$f":"RIGHT(陸連登録!L69,4)","v":""},{"$f":"陸連登録!F69","v":0},{"$f":"陸連登録!B69","v":0},null,"",null,"","",null,"",null,"","",null,{"$f":"IF(Y74=\"\",\"\",IF(I74=1,VLOOKUP(Y74,男子種目コード!$D$1:$E$20,2,FALSE),IF(I74=2,VLOOKUP(Y74,女子種目コード!$D$1:$E$20,2,FALSE))))","v":""},null,"","",null,{"$f":"IF(AD74=\"\",\"\",IF(I74=1,VLOOKUP(AD74,男子種目コード!$A$1:$B$33,2,FALSE),IF(V74=2,VLOOKUP(I74,女子種目コード!$A$1:$B$28,2,FALSE))))","v":""},null,null,{"$f":"IF(AG74=\"\",\"\",IF(I74=1,VLOOKUP(AG74,男子種目コード!$A$1:$B$33,2,FALSE),IF(AA74=2,VLOOKUP(I74,女子種目コード!$A$1:$B$28,2,FALSE))))","v":""},null,null,null,null,null,"",0,0,null,null,null,null,null,null,null,null,null,null,null,null,null,null,0,"",""]
["",{"$f":"陸連登録!N70","v":0},null,null,{"$f":"陸連登録!M70","v":0},{"$f":"陸連登録!C70","v":0},{"$f":"陸連登録!D70","v":0},0,{"$f":"陸連登録!A70","v":""},{"$f":"陸連登録!P70","v":0},{"$f":"LEFT(陸連登録!L70,4)","v":""},{"$f":"RIGHT(陸連登録!L70,4)","v":""},{"$f":"陸連登録!F70","v":0},{"$f":"陸連登録!B70","v":0},null,"",null,"","",null,"",null,"","",null,{"$f":"IF(Y75=\"\",\"\",IF(I75=1,VLOOKUP(Y75,男子種目コード!$D$1:$E$20,2,FALSE),IF(I75=2,VLOOKUP(Y75,女子種目コード!$D$1:$E$20,2,FALSE))))","v":""},null,"","",null,{"$f":"IF(AD75=\"\",\"\",IF(I75=1,VLOOKUP(AD75,男子種目コード!$A$1:$B$33,2,FALSE),IF(V75=2,VLOOKUP(I75,女子種目コード!$A$1:$B$28,2,FALSE))))","v":""},null,null,{"$f":"IF(AG75=\"\",\"\",IF(I75=1,VLOOKUP(AG75,男子種目コード!$A$1:$B$33,2,FALSE),IF(AA75=2,VLOOKUP(I75,女子種目コード!$A$1:$B$28,2,FALSE))))","v":""},null,null,null,null,null,"",0,0,null,null,null,null,null,null,null,null,null,null,null,null,null,null,0,"",""]
["",{"$f":"陸連登録!N71","v":0},null,null,{"$f":"陸連登録!M71","v":0},{"$f":"陸連登録!C71","v":0},{"$f":"陸連登録!D71","v":0},0,{"$f":"陸連登録!A71","v":""},{"$f":"陸連登録!P71","v":0},{"$f":"LEFT(陸連登録!L71,4)","v":""},{"$f":"RIGHT(陸連登録!L71,4)","v":""},{"$f":"陸連登録!F71","v":0},{"$f":"陸連登録!B71","v":0},null,"",null,"","",null,"",null,"","",null,{"$f":"IF(Y76=\"\",\"\",IF(I76=1,VLOOKUP(Y76,男子種目コード!$D$1:$E$20,2,FALSE),IF(I76=2,VLOOKUP(Y76,女子種目コード!$D$1:$E$20,2,FALSE))))","v":""},null,"","",null,{"$f":"IF(AD76=\"\",\"\",IF(I76=1,VLOOKUP(AD76,男子種目コード!$A$1:$B$33,2,FALSE),IF(V76=2,VLOOKUP(I76,女子種目コード!$A$1:$B$28,2,FALSE))))","v":""},null,null,{"$f":"IF(AG76=\"\",\"\",IF(I76=1,VLOOKUP(AG76,男子種目コード!$A$1:$B$33,2,FALSE),IF(AA76=2,VLOOKUP(I76,女子種目コード!$A$1:$B$28,2,FALSE))))","v":""},null,null,null,null,null,"",0,0,null,null,null,null,null,null,null,null,null,null,null,null,null,null,0,"",""]
["",{"$f":"陸連登録!N72","v":0},null,null,{"$f":"陸連登録!M72","v":0},{"$f":"陸連登録!C72","v":0},{"$f":"陸連登録!D72","v":0},0,{"$f":"陸連登録!A72","v":""},{"$f":"陸連登録!P72","v":0},{"$f":"LEFT(陸連登録!L72,4)","v":""},{"$f":"RIGHT(陸連登録!L72,4)","v":""},{"$f":"陸連登録!F72","v":0},{"$f":"陸連登録!B72","v":0},null,"",null,"","",null,"",null,"","",null,{"$f":"IF(Y77=\"\",\"\",IF(I77=1,VLOOKUP(Y77,男子種目コード!$D$1:$E$20,2,FALSE),IF(I77=2,VLOOKUP(Y77,女子種目コード!$D$1:$E$20,2,FALSE))))","v":""},null,"","",null,{"$f":"IF(AD77=\"\",\"\",IF(I77=1,VLOOKUP(AD77,男子種目コード!$A$1:$B$33,2,FALSE),IF(V77=2,VLOOKUP(I77,女子種目コード!$A$1:$B$28,2,FALSE))))","v":""},null,null,{"$f":"IF(AG77=\"\",\"\",IF(I77=1,VLOOKUP(AG77,男子種目コード!$A$1:$B$33,2,FALSE),IF(AA77=2,VLOOKUP(I77,女子種目コード!$A$1:$B$28,2,FALSE))))","v":""},null,null,null,null,null,"",0,0,null,null,null,null,null,null,null,null,null,null,null,null,null,null,0,"",""]
["",{"$f":"陸連登録!N73","v":0},null,null,{"$f":"陸連登録!M73","v":0},{"$f":"陸連登録!C73","v":0},{"$f":"陸連登録!D73","v":0},0,{"$f":"陸連登録!A73","v":""},{"$f":"陸連登録!P73","v":0},{"$f":"LEFT(陸連登録!L73,4)","v":""},{"$f":"RIGHT(陸連登録!L73,4)","v":""},{"$f":"陸連登録!F73","v":0},{"$f":"陸連登録!B73","v":0},null,"",null,"","",null,"",null,"","",null,{"$f":"IF(Y78=\"\",\"\",IF(I78=1,VLOOKUP(Y78,男子種目コード!$D$1:$E$20,2,FALSE),IF(I78=2,VLOOKUP(Y78,女子種目コード!$D$1:$E$20,2,FALSE))))","v":""},null,"","",null,{"$f":"IF(AD78=\"\",\"\",IF(I78=1,VLOOKUP(AD78,男子種目コード!$A$1:$B$33,2,FALSE),IF(V78=2,VLOOKUP(I78,女子種目コード!$A$1:$B$28,2,FALSE))))","v":""},null,null,{"$f":"IF(AG78=\"\",\"\",IF(I78=1,VLOOKUP(AG78,男子種目コード!$A$1:$B$33,2,FALSE),IF(AA78=2,VLOOKUP(I78,女子種目コード!$A$1:$B$28,2,FALSE))))","v":""},null,null,null,null,null,"",0,0,null,null,null,null,null,null,null,null,null,null,null,null,null,null,0,"",""]
["",{"$f":"陸連登録!N74","v":0},null,null,{"$f":"陸連登録!M74","v":0},{"$f":"陸連登録!C74","v":0},{"$f":"陸連登録!D74","v":0},0,{"$f":"陸連登録!A74","v":""},{"$f":"陸連登録!P74","v":0},{"$f":"LEFT(陸連登録!L74,4)","v":""},{"$f":"RIGHT(陸連登録!L74,4)","v":""},{"$f":"陸連登録!F74","v":0},{"$f":"陸連登録!B74","v":0},null,"",null,"","",null,"",null,"","",null,{"$f":"IF(Y79=\"\",\"\",IF(I79=1,VLOOKUP(Y79,男子種目コード!$D$1:$E$20,2,FALSE),IF(I79=2,VLOOKUP(Y79,女子種目コード!$D$1:$E$20,2,FALSE))))","v":""},null,"","",null,{"$f":"IF(AD79=\"\",\"\",IF(I79=1,VLOOKUP(AD79,男子種目コード!$A$1:$B$33,2,FALSE),IF(V79=2,VLOOKUP(I79,女子種目コード!$A$1:$B$28,2,FALSE))))","v":""},null,null,{"$f":"IF(AG79=\"\",\"\",IF(I79=1,VLOOKUP(AG79,男子種目コード!$A$1:$B$33,2,FALSE),IF(AA79=2,VLOOKUP(I79,女子種目コード!$A$1:$B$28,2,FALSE))))","v":""},null,null,null,null,null,"",0,0,null,null,null,null,null,null,null,null,null,null,null,null,null,null,0,"",""]
["",{"$f":"陸連登録!N75","v":0},null,null,{"$f":"陸連登録!M75","v":0},{"$f":"陸連登録!C75","v":0},{"$f":"陸連登録!D75","v":0},0,{"$f":"陸連登録!A75","v":""},{"$f":"陸連登録!P75","v":0},{"$f":"LEFT(陸連登録!L75,4)","v":""},{"$f":"RIGHT(陸連登録!L75,4)","v":""},{"$f":"陸連登録!F75","v":0},{"$f":"陸連登録!B75","v":0},null,"",null,"","",null,"",null,"","",null,{"$f":"IF(Y80=\"\",\"\",IF(I80=1,VLOOKUP(Y80,男子種目コード!$D$1:$E$20,2,FALSE),IF(I80=2,VLOOKUP(Y80,女子種目コード!$D$1:$E$20,2,FALSE))))","v":""},null,"","",null,{"$f":"IF(AD80=\"\",\"\",IF(I80=1,VLOOKUP(AD80,男子種目コード!$A$1:$B$33,2,FALSE),IF(V80=2,VLOOKUP(I80,女子種目コード!$A$1:$B$28,2,FALSE))))","v":""},null,null,{"$f":"IF(AG80=\"\",\"\",IF(I80=1,VLOOKUP(AG80,男子種目コード!$A$1:$B$33,2,FALSE),IF(AA80=2,VLOOKUP(I80,女子種目コード!$A$1:$B$28,2,FALSE))))","v":""},null,null,null,null,null,"",0,0,null,null,null,null,null,null,null,null,null,null,null,null,null,null,0,"",""]
["",{"$f":"陸連登録!N76","v":0},null,null,{"$f":"陸連登録!M76","v":0},{"$f":"陸連登録!C76","v":0},{"$f":"陸連登録!D76","v":0},0,{"$f":"陸連登録!A76","v":""},{"$f":"陸連登録!P76","v":0},{"$f":"LEFT(陸連登録!L76,4)","v":""},{"$f":"RIGHT(陸連登録!L76,4)","v":""},{"$f":"陸連登録!F76","v":0},{"$f":"陸連登録!B76","v":0},null,"",null,"","",null,"",null,"","",null,{"$f":"IF(Y81=\"\",\"\",IF(I81=1,VLOOKUP(Y81,男子種目コード!$D$1:$E$20,2,FALSE),IF(I81=2,VLOOKUP(Y81,女子種目コード!$D$1:$E$20,2,FALSE))))","v":""},null,"","",null,{"$f":"IF(AD81=\"\",\"\",IF(I81=1,VLOOKUP(AD81,男子種目コード!$A$1:$B$33,2,FALSE),IF(V81=2,VLOOKUP(I81,女子種目コード!$A$1:$B$28,2,FALSE))))","v":""},null,null,{"$f":"IF(AG81=\"\",\"\",IF(I81=1,VLOOKUP(AG81,男子種目コード!$A$1:$B$33,2,FALSE),IF(AA81=2,VLOOKUP(I81,女子種目コード!$A$1:$B$28,2,FALSE))))","v":""},null,null,null,null,null,"",0,0,null,null,null,null,null,null,null,null,null,null,null,null,null,null,0,"",""]
["",{"$f":"陸連登録!N77","v":0},null,null,{"$f":"陸連登録!M77","v":0},{"$f":"陸連登録!C77","v":0},{"$f":"陸連登録!D77","v":0},0,{"$f":"陸連登録!A77","v":""},{"$f":"陸連登録!P77","v":0},{"$f":"LEFT(陸連登録!L77,4)","v":""},{"$f":"RIGHT(陸連登録!L77,4)","v":""},{"$f":"陸連登録!F77","v":0},{"$f":"陸連登録!B77","v":0},null,"",null,"","",null,"",null,"","",null,{"$f":"IF(Y82=\"\",\"\",IF(I82=1,VLOOKUP(Y82,男子種目コード!$D$1:$E$20,2,FALSE),IF(I82=2,VLOOKUP(Y82,女子種目コード!$D$1:$E$20,2,FALSE))))","v":""},null,"","",null,{"$f":"IF(AD82=\"\",\"\",IF(I82=1,VLOOKUP(AD82,男子種目コード!$A$1:$B$33,2,FALSE),IF(V82=2,VLOOKUP(I82,女子種目コード!$A$1:$B$28,2,FALSE))))","v":""},null,null,{"$f":"IF(AG82=\"\",\"\",IF(I82=1,VLOOKUP(AG82,男子種目コード!$A$1:$B$33,2,FALSE),IF(AA82=2,VLOOKUP(I82,女子種目コード!$A$1:$B$28,2,FALSE))))","v":""},null,null,null,null,null,"",0,0,null,null,null,null,null,null,null,null,null,null,null,null,null,null,0,"",""]
["",{"$f":"陸連登録!N78","v":0},null,null,{"$f":"陸連登録!M78","v":0},{"$f":"陸連登録!C78","v":0},{"$f":"陸連登録!D78","v":0},0,{"$f":"陸連登録!A78","v":""},{"$f":"陸連登録!P78","v":0},{"$f":"LEFT(陸連登録!L78,4)","v":""},{"$f":"RIGHT(陸連登録!L78,4)","v":""},{"$f":"陸連登録!F78","v":0},{"$f":"陸連登録!B78","v":0},null,"",null,"","",null,"",null,"","",null,{"$f":"IF(Y83=\"\",\"\",IF(I83=1,VLOOKUP(Y83,男子種目コード!$D$1:$E$20,2,FALSE),IF(I83=2,VLOOKUP(Y83,女子種目コード!$D$1:$E$20,2,FALSE))))","v":""},null,"","",null,{"$f":"IF(AD83=\"\",\"\",IF(I83=1,VLOOKUP(AD83,男子種目コード!$A$1:$B$33,2,FALSE),IF(V83=2,VLOOKUP(I83,女子種目コード!$A$1:$B$28,2,FALSE))))","v":""},null,null,{"$f":"IF(AG83=\"\",\"\",IF(I83=1,VLOOKUP(AG83,男子種目コード!$A$1:$B$33,2,FALSE),IF(AA83=2,VLOOKUP(I83,女子種目コード!$A$1:$B$28,2,FALSE))))","v":""},null,null,null,null,null,"",0,0,null,null,null,null,null,null,null,null,null,null,null,null,null,null,0,"",""]
["",{"$f":"陸連登録!N79","v":0},null,null,{"$f":"陸連登録!M79","v":0},{"$f":"陸連登録!C79","v":0},{"$f":"陸連登録!D79","v":0},0,{"$f":"陸連登録!A79","v":""},{"$f":"陸連登録!P79","v":0},{"$f":"LEFT(陸連登録!L79,4)","v":""},{"$f":"RIGHT(陸連登録!L79,4)","v":""},{"$f":"陸連登録!F79","v":0},{"$f":"陸連登録!B79","v":0},null,"",null,"","",null,"",null,"","",null,{"$f":"IF(Y84=\"\",\"\",IF(I84=1,VLOOKUP(Y84,男子種目コード!$D$1:$E$20,2,FALSE),IF(I84=2,VLOOKUP(Y84,女子種目コード!$D$1:$E$20,2,FALSE))))","v":""},null,"","",null,{"$f":"IF(AD84=\"\",\"\",IF(I84=1,VLOOKUP(AD84,男子種目コード!$A$1:$B$33,2,FALSE),IF(V84=2,VLOOKUP(I84,女子種目コード!$A$1:$B$28,2,FALSE))))","v":""},null,null,{"$f":"IF(AG84=\"\",\"\",IF(I84=1,VLOOKUP(AG84,男子種目コード!$A$1:$B$33,2,FALSE),IF(AA84=2,VLOOKUP(I84,女子種目コード!$A$1:$B$28,2,FALSE))))","v":""},null,null,null,null,null,"",0,0,null,null,null,null,null,null,null,null,null,null,null,null,null,null,0,"",""]
["",{"$f":"陸連登録!N80","v":0},null,null,{"$f":"陸連登録!M80","v":0},{"$f":"陸連登録!C80","v":0},{"$f":"陸連登録!D80","v":0},0,{"$f":"陸連登録!A80","v":""},{"$f":"陸連登録!P80","v":0},{"$f":"LEFT(陸連登録!L80,4)","v":""},{"$f":"RIGHT(陸連登録!L80,4)","v":""},{"$f":"陸連登録!F80","v":0},{"$f":"陸連登録!B80","v":0},null,"",null,"","",null,"",null,"","",null,{"$f":"IF(Y85=\"\",\"\",IF(I85=1,VLOOKUP(Y85,男子種目コード!$D$1:$E$20,2,FALSE),IF(I85=2,VLOOKUP(Y85,女子種目コード!$D$1:$E$20,2,FALSE))))","v":""},null,"","",null,{"$f":"IF(AD85=\"\",\"\",IF(I85=1,VLOOKUP(AD85,男子種目コード!$A$1:$B$33,2,FALSE),IF(V85=2,VLOOKUP(I85,女子種目コード!$A$1:$B$28,2,FALSE))))","v":""},null,null,{"$f":"IF(AG85=\"\",\"\",IF(I85=1,VLOOKUP(AG85,男子種目コード!$A$1:$B$33,2,FALSE),IF(AA85=2,VLOOKUP(I85,女子種目コード!$A$1:$B$28,2,FALSE))))","v":""},null,null,null,null,null,"",0,0,null,null,null,null,null,null,null,null,null,null,null,null,null,null,0,"",""]
["",{"$f":"陸連登録!N81","v":0},null,null,{"$f":"陸連登録!M81","v":0},{"$f":"陸連登録!C81","v":0},{"$f":"陸連登録!D81","v":0},0,{"$f":"陸連登録!A81","v":""},{"$f":"陸連登録!P81","v":0},{"$f":"LEFT(陸連登録!L81,4)","v":""},{"$f":"RIGHT(陸連登録!L81,4)","v":""},{"$f":"陸連登録!F81","v":0},{"$f":"陸連登録!B81","v":0},null,"",null,"","",null,"",null,"","",null,{"$f":"IF(Y86=\"\",\"\",IF(I86=1,VLOOKUP(Y86,男子種目コード!$D$1:$E$20,2,FALSE),IF(I86=2,VLOOKUP(Y86,女子種目コード!$D$1:$E$20,2,FALSE))))","v":""},null,"","",null,{"$f":"IF(AD86=\"\",\"\",IF(I86=1,VLOOKUP(AD86,男子種目コード!$A$1:$B$33,2,FALSE),IF(V86=2,VLOOKUP(I86,女子種目コード!$A$1:$B$28,2,FALSE))))","v":""},null,null,{"$f":"IF(AG86=\"\",\"\",IF(I86=1,VLOOKUP(AG86,男子種目コード!$A$1:$B$33,2,FALSE),IF(AA86=2,VLOOKUP(I86,女子種目コード!$A$1:$B$28,2,FALSE))))","v":""},null,null,null,null,null,"",0,0,null,null,null,null,null,null,null,null,null,null,null,null,null,null,0,"",""]
["",{"$f":"陸連登録!N82","v":0},null,null,{"$f":"陸連登録!M82","v":0},{"$f":"陸連登録!C82","v":0},{"$f":"陸連登録!D82","v":0},0,{"$f":"陸連登録!A82","v":""},{"$f":"陸連登録!P82","v":0},{"$f":"LEFT(陸連登録!L82,4)","v":""},{"$f":"RIGHT(陸連登録!L82,4)","v":""},{"$f":"陸連登録!F82","v":0},{"$f":"陸連登録!B82","v":0},null,"",null,"","",null,"",null,"","",null,{"$f":"IF(Y87=\"\",\"\",IF(I87=1,VLOOKUP(Y87,男子種目コード!$D$1:$E$20,2,FALSE),IF(I87=2,VLOOKUP(Y87,女子種目コード!$D$1:$E$20,2,FALSE))))","v":""},null,"","",null,{"$f":"IF(AD87=\"\",\"\",IF(I87=1,VLOOKUP(AD87,男子種目コード!$A$1:$B$33,2,FALSE),IF(V87=2,VLOOKUP(I87,女子種目コード!$A$1:$B$28,2,FALSE))))","v":""},null,null,{"$f":"IF(AG87=\"\",\"\",IF(I87=1,VLOOKUP(AG87,男子種目コード!$A$1:$B$33,2,FALSE),IF(AA87=2,VLOOKUP(I87,女子種目コード!$A$1:$B$28,2,FALSE))))","v":""},null,null,null,null,null,"",0,0,null,null,null,null,null,null,null,null,null,null,null,null,null,null,0,"",""]
["",{"$f":"陸連登録!N83","v":0},null,null,{"$f":"陸連登録!M83","v":0},{"$f":"陸連登録!C83","v":0},{"$f":"陸連登録!D83","v":0},0,{"$f":"陸連登録!A83","v":""},{"$f":"陸連登録!P83","v":0},{"$f":"LEFT(陸連登録!L83,4)","v":""},{"$f":"RIGHT(陸連登録!L83,4)","v":""},{"$f":"陸連登録!F83","v":0},{"$f":"陸連登録!B83","v":0},null,"",null,"","",null,"",null,"","",null,{"$f":"IF(Y88=\"\",\"\",IF(I88=1,VLOOKUP(Y88,男子種目コード!$D$1:$E$20,2,FALSE),IF(I88=2,VLOOKUP(Y88,女子種目コード!$D$1:$E$20,2,FALSE))))","v":""},null,"","",null,{"$f":"IF(AD88=\"\",\"\",IF(I88=1,VLOOKUP(AD88,男子種目コード!$A$1:$B$33,2,FALSE),IF(V88=2,VLOOKUP(I88,女子種目コード!$A$1:$B$28,2,FALSE))))","v":""},null,null,{"$f":"IF(AG88=\"\",\"\",IF(I88=1,VLOOKUP(AG88,男子種目コード!$A$1:$B$33,2,FALSE),IF(AA88=2,VLOOKUP(I88,女子種目コード!$A$1:$B$28,2,FALSE))))","v":""},null,null,null,null,null,"",0,0,null,null,null,null,null,null,null,null,null,null,null,null,null,null,0,"",""]
["",{"$f":"陸連登録!N84","v":0},null,null,{"$f":"陸連登録!M84","v":0},{"$f":"陸連登録!C84","v":0},{"$f":"陸連登録!D84","v":0},0,{"$f":"陸連登録!A84","v":""},{"$f":"陸連登録!P84","v":0},{"$f":"LEFT(陸連登録!L84,4)","v":""},{"$f":"RIGHT(陸連登録!L84,4)","v":""},{"$f":"陸連登録!F84","v":0},{"$f":"陸連登録!B84","v":0},null,"",null,"","",null,"",null,"","",null,{"$f":"IF(Y89=\"\",\"\",IF(I89=1,VLOOKUP(Y89,男子種目コード!$D$1:$E$20,2,FALSE),IF(I89=2,VLOOKUP(Y89,女子種目コード!$D$1:$E$20,2,FALSE))))","v":""},null,"","",null,{"$f":"IF(AD89=\"\",\"\",IF(I89=1,VLOOKUP(AD89,男子種目コード!$A$1:$B$33,2,FALSE),IF(V89=2,VLOOKUP(I89,女子種目コード!$A$1:$B$28,2,FALSE))))","v":""},null,null,{"$f":"IF(AG89=\"\",\"\",IF(I89=1,VLOOKUP(AG89,男子種目コード!$A$1:$B$33,2,FALSE),IF(AA89=2,VLOOKUP(I89,女子種目コード!$A$1:$B$28,2,FALSE))))","v":""},null,null,null,null,null,"",0,0,null,null,null,null,null,null,null,null,null,null,null,null,null,null,0,"",""]
["",{"$f":"陸連登録!N85","v":0},null,null,{"$f":"陸連登録!M85","v":0},{"$f":"陸連登録!C85","v":0},{"$f":"陸連登録!D85","v":0},0,{"$f":"陸連登録!A85","v":""},{"$f":"陸連登録!P85","v":0},{"$f":"LEFT(陸連登録!L85,4)","v":""},{"$f":"RIGHT(陸連登録!L85,4)","v":""},{"$f":"陸連登録!F85","v":0},{"$f":"陸連登録!B85","v":0},null,"",null,"","",null,"",null,"","",null,{"$f":"IF(Y90=\"\",\"\",IF(I90=1,VLOOKUP(Y90,男子種目コード!$D$1:$E$20,2,FALSE),IF(I90=2,VLOOKUP(Y90,女子種目コード!$D$1:$E$20,2,FALSE))))","v":""},null,"","",null,{"$f":"IF(AD90=\"\",\"\",IF(I90=1,VLOOKUP(AD90,男子種目コード!$A$1:$B$33,2,FALSE),IF(V90=2,VLOOKUP(I90,女子種目コード!$A$1:$B$28,2,FALSE))))","v":""},null,null,{"$f":"IF(AG90=\"\",\"\",IF(I90=1,VLOOKUP(AG90,男子種目コード!$A$1:$B$33,2,FALSE),IF(AA90=2,VLOOKUP(I90,女子種目コード!$A$1:$B$28,2,FALSE))))","v":""},null,null,null,null,null,"",0,0,null,null,null,null,null,null,null,null,null,null,null,null,null,null,0,"",""]
["",{"$f":"陸連登録!N86","v":0},null,null,{"$f":"陸連登録!M86","v":0},{"$f":"陸連登録!C86","v":0},{"$f":"陸連登録!D86","v":0},0,{"$f":"陸連登録!A86","v":""},{"$f":"陸連登録!P86","v":0},{"$f":"LEFT(陸連登録!L86,4)","v":""},{"$f":"RIGHT(陸連登録!L86,4)","v":""},{"$f":"陸連登録!F86","v":0},{"$f":"陸連登録!B86","v":0},null,"",null,"","",null,"",null,"","",null,{"$f":"IF(Y91=\"\",\"\",IF(I91=1,VLOOKUP(Y91,男子種目コード!$D$1:$E$20,2,FALSE),IF(I91=2,VLOOKUP(Y91,女子種目コード!$D$1:$E$20,2,FALSE))))","v":""},null,"","",null,{"$f":"IF(AD91=\"\",\"\",IF(I91=1,VLOOKUP(AD91,男子種目コード!$A$1:$B$33,2,FALSE),IF(V91=2,VLOOKUP(I91,女子種目コード!$A$1:$B$28,2,FALSE))))","v":""},null,null,{"$f":"IF(AG91=\"\",\"\",IF(I91=1,VLOOKUP(AG91,男子種目コード!$A$1:$B$33,2,FALSE),IF(AA91=2,VLOOKUP(I91,女子種目コード!$A$1:$B$28,2,FALSE))))","v":""},null,null,null,null,null,"",0,0,null,null,null,null,null,null,null,null,null,null,null,null,null,null,0,"",""]
["",{"$f":"陸連登録!N87","v":0},null,null,{"$f":"陸連登録!M87","v":0},{"$f":"陸連登録!C87","v":0},{"$f":"陸連登録!D87","v":0},0,{"$f":"陸連登録!A87","v":""},{"$f":"陸連登録!P87","v":0},{"$f":"LEFT(陸連登録!L87,4)","v":""},{"$f":"RIGHT(陸連登録!L87,4)","v":""},{"$f":"陸連登録!F87","v":0},{"$f":"陸連登録!B87","v":0},null,"",null,"","",null,"",null,"","",null,{"$f":"IF(Y92=\"\",\"\",IF(I92=1,VLOOKUP(Y92,男子種目コード!$D$1:$E$20,2,FALSE),IF(I92=2,VLOOKUP(Y92,女子種目コード!$D$1:$E$20,2,FALSE))))","v":""},null,"","",null,{"$f":"IF(AD92=\"\",\"\",IF(I92=1,VLOOKUP(AD92,男子種目コード!$A$1:$B$33,2,FALSE),IF(V92=2,VLOOKUP(I92,女子種目コード!$A$1:$B$28,2,FALSE))))","v":""},null,null,{"$f":"IF(AG92=\"\",\"\",IF(I92=1,VLOOKUP(AG92,男子種目コード!$A$1:$B$33,2,FALSE),IF(AA92=2,VLOOKUP(I92,女子種目コード!$A$1:$B$28,2,FALSE))))","v":""},null,null,null,null,null,"",0,0,null,null,null,null,null,null,null,null,null,null,null,null,null,null,0,"",""]
["",{"$f":"陸連登録!N88","v":0},null,null,{"$f":"陸連登録!M88","v":0},{"$f":"陸連登録!C88","v":0},{"$f":"陸連登録!D88","v":0},0,{"$f":"陸連登録!A88","v":""},{"$f":"陸連登録!P88","v":0},{"$f":"LEFT(陸連登録!L88,4)","v":""},{"$f":"RIGHT(陸連登録!L88,4)","v":""},{"$f":"陸連登録!F88","v":0},{"$f":"陸連登録!B88","v":0},null,"",null,"","",null,"",null,"","",null,{"$f":"IF(Y93=\"\",\"\",IF(I93=1,VLOOKUP(Y93,男子種目コード!$D$1:$E$20,2,FALSE),IF(I93=2,VLOOKUP(Y93,女子種目コード!$D$1:$E$20,2,FALSE))))","v":""},null,"","",null,{"$f":"IF(AD93=\"\",\"\",IF(I93=1,VLOOKUP(AD93,男子種目コード!$A$1:$B$33,2,FALSE),IF(V93=2,VLOOKUP(I93,女子種目コード!$A$1:$B$28,2,FALSE))))","v":""},null,null,{"$f":"IF(AG93=\"\",\"\",IF(I93=1,VLOOKUP(AG93,男子種目コード!$A$1:$B$33,2,FALSE),IF(AA93=2,VLOOKUP(I93,女子種目コード!$A$1:$B$28,2,FALSE))))","v":""},null,null,null,null,null,"",0,0,null,null,null,null,null,null,null,null,null,null,null,null,null,null,0,"",""]
["",{"$f":"陸連登録!N89","v":0},null,null,{"$f":"陸連登録!M89","v":0},{"$f":"陸連登録!C89","v":0},{"$f":"陸連登録!D89","v":0},0,{"$f":"陸連登録!A89","v":""},{"$f":"陸連登録!P89","v":0},{"$f":"LEFT(陸連登録!L89,4)","v":""},{"$f":"RIGHT(陸連登録!L89,4)","v":""},{"$f":"陸連登録!F89","v":0},{"$f":"陸連登録!B89","v":0},null,"",null,"","",null,"",null,"","",null,{"$f":"IF(Y94=\"\",\"\",IF(I94=1,VLOOKUP(Y94,男子種目コード!$D$1:$E$20,2,FALSE),IF(I94=2,VLOOKUP(Y94,女子種目コード!$D$1:$E$20,2,FALSE))))","v":""},null,"","",null,{"$f":"IF(AD94=\"\",\"\",IF(I94=1,VLOOKUP(AD94,男子種目コード!$A$1:$B$33,2,FALSE),IF(V94=2,VLOOKUP(I94,女子種目コード!$A$1:$B$28,2,FALSE))))","v":""},null,null,{"$f":"IF(AG94=\"\",\"\",IF(I94=1,VLOOKUP(AG94,男子種目コード!$A$1:$B$33,2,FALSE),IF(AA94=2,VLOOKUP(I94,女子種目コード!$A$1:$B$28,2,FALSE))))","v":""},null,null,null,null,null,"",0,0,null,null,null,null,null,null,null,null,null,null,null,null,null,null,0,"",""]
["",{"$f":"陸連登録!N90","v":0},null,null,{"$f":"陸連登録!M90","v":0},{"$f":"陸連登録!C90","v":0},{"$f":"陸連登録!D90","v":0},0,{"$f":"陸連登録!A90","v":""},{"$f":"陸連登録!P90","v":0},{"$f":"LEFT(陸連登録!L90,4)","v":""},{"$f":"RIGHT(陸連登録!L90,4)","v":""},{"$f":"陸連登録!F90","v":0},{"$f":"陸連登録!B90","v":0},null,"",null,"","",null,"",null,"","",null,{"$f":"IF(Y95=\"\",\"\",IF(I95=1,VLOOKUP(Y95,男子種目コード!$D$1:$E$20,2,FALSE),IF(I95=2,VLOOKUP(Y95,女子種目コード!$D$1:$E$20,2,FALSE))))","v":""},null,"","",null,{"$f":"IF(AD95=\"\",\"\",IF(I95=1,VLOOKUP(AD95,男子種目コード!$A$1:$B$33,2,FALSE),IF(V95=2,VLOOKUP(I95,女子種目コード!$A$1:$B$28,2,FALSE))))","v":""},null,null,{"$f":"IF(AG95=\"\",\"\",IF(I95=1,VLOOKUP(AG95,男子種目コード!$A$1:$B$33,2,FALSE),IF(AA95=2,VLOOKUP(I95,女子種目コード!$A$1:$B$28,2,FALSE))))","v":""},null,null,null,null,null,"",0,0,null,null,null,null,null,null,null,null,null,null,null,null,null,null,0,"",""]
["",{"$f":"陸連登録!N91","v":0},null,null,{"$f":"陸連登録!M91","v":0},{"$f":"陸連登録!C91","v":0},{"$f":"陸連登録!D91","v":0},0,{"$f":"陸連登録!A91","v":""},{"$f":"陸連登録!P91","v":0},{"$f":"LEFT(陸連登録!L91,4)","v":""},{"$f":"RIGHT(陸連登録!L91,4)","v":""},{"$f":"陸連登録!F91","v":0},{"$f":"陸連登録!B91","v":0},null,"",null,"","",null,"",null,"","",null,{"$f":"IF(Y96=\"\",\"\",IF(I96=1,VLOOKUP(Y96,男子種目コード!$D$1:$E$20,2,FALSE),IF(I96=2,VLOOKUP(Y96,女子種目コード!$D$1:$E$20,2,FALSE))))","v":""},null,"","",null,{"$f":"IF(AD96=\"\",\"\",IF(I96=1,VLOOKUP(AD96,男子種目コード!$A$1:$B$33,2,FALSE),IF(V96=2,VLOOKUP(I96,女子種目コード!$A$1:$B$28,2,FALSE))))","v":""},null,null,{"$f":"IF(AG96=\"\",\"\",IF(I96=1,VLOOKUP(AG96,男子種目コード!$A$1:$B$33,2,FALSE),IF(AA96=2,VLOOKUP(I96,女子種目コード!$A$1:$B$28,2,FALSE))))","v":""},null,null,null,null,null,"",0,0,null,null,null,null,null,null,null,null,null,null,null,null,null,null,0,"",""]
["",{"$f":"陸連登録!N92","v":0},null,null,{"$f":"陸連登録!M92","v":0},{"$f":"陸連登録!C92","v":0},{"$f":"陸連登録!D92","v":0},0,{"$f":"陸連登録!A92","v":""},{"$f":"陸連登録!P92","v":0},{"$f":"LEFT(陸連登録!L92,4)","v":""},{"$f":"RIGHT(陸連登録!L92,4)","v":""},{"$f":"陸連登録!F92","v":0},{"$f":"陸連登録!B92","v":0},null,"",null,"","",null,"",null,"","",null,{"$f":"IF(Y97=\"\",\"\",IF(I97=1,VLOOKUP(Y97,男子種目コード!$D$1:$E$20,2,FALSE),IF(I97=2,VLOOKUP(Y97,女子種目コード!$D$1:$E$20,2,FALSE))))","v":""},null,"","",null,{"$f":"IF(AD97=\"\",\"\",IF(I97=1,VLOOKUP(AD97,男子種目コード!$A$1:$B$33,2,FALSE),IF(V97=2,VLOOKUP(I97,女子種目コード!$A$1:$B$28,2,FALSE))))","v":""},null,null,{"$f":"IF(AG97=\"\",\"\",IF(I97=1,VLOOKUP(AG97,男子種目コード!$A$1:$B$33,2,FALSE),IF(AA97=2,VLOOKUP(I97,女子種目コード!$A$1:$B$28,2,FALSE))))","v":""},null,null,null,null,null,"",0,0,null,null,null,null,null,null,null,null,null,null,null,null,null,null,0,"",""]
["",{"$f":"陸連登録!N93","v":0},null,null,{"$f":"陸連登録!M93","v":0},{"$f":"陸連登録!C93","v":0},{"$f":"陸連登録!D93","v":0},0,{"$f":"陸連登録!A93","v":""},{"$f":"陸連登録!P93","v":0},{"$f":"LEFT(陸連登録!L93,4)","v":""},{"$f":"RIGHT(陸連登録!L93,4)","v":""},{"$f":"陸連登録!F93","v":0},{"$f":"陸連登録!B93","v":0},null,"",null,"","",null,"",null,"","",null,{"$f":"IF(Y98=\"\",\"\",IF(I98=1,VLOOKUP(Y98,男子種目コード!$D$1:$E$20,2,FALSE),IF(I98=2,VLOOKUP(Y98,女子種目コード!$D$1:$E$20,2,FALSE))))","v":""},null,"","",null,{"$f":"IF(AD98=\"\",\"\",IF(I98=1,VLOOKUP(AD98,男子種目コード!$A$1:$B$33,2,FALSE),IF(V98=2,VLOOKUP(I98,女子種目コード!$A$1:$B$28,2,FALSE))))","v":""},null,null,{"$f":"IF(AG98=\"\",\"\",IF(I98=1,VLOOKUP(AG98,男子種目コード!$A$1:$B$33,2,FALSE),IF(AA98=2,VLOOKUP(I98,女子種目コード!$A$1:$B$28,2,FALSE))))","v":""},null,null,null,null,null,"",0,0,null,null,null,null,null,null,null,null,null,null,null,null,null,null,0,"",""]
["",{"$f":"陸連登録!N94","v":0},null,null,{"$f":"陸連登録!M94","v":0},{"$f":"陸連登録!C94","v":0},{"$f":"陸連登録!D94","v":0},0,{"$f":"陸連登録!A94","v":""},{"$f":"陸連登録!P94","v":0},{"$f":"LEFT(陸連登録!L94,4)","v":""},{"$f":"RIGHT(陸連登録!L94,4)","v":""},{"$f":"陸連登録!F94","v":0},{"$f":"陸連登録!B94","v":0},null,"",null,"","",null,"",null,"","",null,{"$f":"IF(Y99=\"\",\"\",IF(I99=1,VLOOKUP(Y99,男子種目コード!$D$1:$E$20,2,FALSE),IF(I99=2,VLOOKUP(Y99,女子種目コード!$D$1:$E$20,2,FALSE))))","v":""},null,"","",null,{"$f":"IF(AD99=\"\",\"\",IF(I99=1,VLOOKUP(AD99,男子種目コード!$A$1:$B$33,2,FALSE),IF(V99=2,VLOOKUP(I99,女子種目コード!$A$1:$B$28,2,FALSE))))","v":""},null,null,{"$f":"IF(AG99=\"\",\"\",IF(I99=1,VLOOKUP(AG99,男子種目コード!$A$1:$B$33,2,FALSE),IF(AA99=2,VLOOKUP(I99,女子種目コード!$A$1:$B$28,2,FALSE))))","v":""},null,null,null,null,null,"",0,0,null,null,null,null,null,null,null,null,null,null,null,null,null,null,0,"",""]
["",{"$f":"陸連登録!N95","v":0},null,null,{"$f":"陸連登録!M95","v":0},{"$f":"陸連登録!C95","v":0},{"$f":"陸連登録!D95","v":0},0,{"$f":"陸連登録!A95","v":""},{"$f":"陸連登録!P95","v":0},{"$f":"LEFT(陸連登録!L95,4)","v":""},{"$f":"RIGHT(陸連登録!L95,4)","v":""},{"$f":"陸連登録!F95","v":0},{"$f":"陸連登録!B95","v":0},null,"",null,"","",null,"",null,"","",null,{"$f":"IF(Y100=\"\",\"\",IF(I100=1,VLOOKUP(Y100,男子種目コード!$D$1:$E$20,2,FALSE),IF(I100=2,VLOOKUP(Y100,女子種目コード!$D$1:$E$20,2,FALSE))))","v":""},null,"","",null,{"$f":"IF(AD100=\"\",\"\",IF(I100=1,VLOOKUP(AD100,男子種目コード!$A$1:$B$33,2,FALSE),IF(V100=2,VLOOKUP(I100,女子種目コード!$A$1:$B$28,2,FALSE))))","v":""},null,null,{"$f":"IF(AG100=\"\",\"\",IF(I100=1,VLOOKUP(AG100,男子種目コード!$A$1:$B$33,2,FALSE),IF(AA100=2,VLOOKUP(I100,女子種目コード!$A$1:$B$28,2,FALSE))))","v":""},null,null,null,null,null,"",0,0,null,null,null,null,null,null,null,null,null,null,null,null,null,null,0,"",""]
["",{"$f":"陸連登録!N96","v":0},null,null,{"$f":"陸連登録!M96","v":0},{"$f":"陸連登録!C96","v":0},{"$f":"陸連登録!D96","v":0},0,{"$f":"陸連登録!A96","v":""},{"$f":"陸連登録!P96","v":0},{"$f":"LEFT(陸連登録!L96,4)","v":""},{"$f":"RIGHT(陸連登録!L96,4)","v":""},{"$f":"陸連登録!F96","v":0},{"$f":"陸連登録!B96","v":0},null,"",null,"","",null,"",null,"","",null,{"$f":"IF(Y101=\"\",\"\",IF(I101=1,VLOOKUP(Y101,男子種目コード!$D$1:$E$20,2,FALSE),IF(I101=2,VLOOKUP(Y101,女子種目コード!$D$1:$E$20,2,FALSE))))","v":""},null,"","",null,{"$f":"IF(AD101=\"\",\"\",IF(I101=1,VLOOKUP(AD101,男子種目コード!$A$1:$B$33,2,FALSE),IF(V101=2,VLOOKUP(I101,女子種目コード!$A$1:$B$28,2,FALSE))))","v":""},null,null,{"$f":"IF(AG101=\"\",\"\",IF(I101=1,VLOOKUP(AG101,男子種目コード!$A$1:$B$33,2,FALSE),IF(AA101=2,VLOOKUP(I101,女子種目コード!$A$1:$B$28,2,FALSE))))","v":""},null,null,null,null,null,"",0,0,null,null,null,null,null,null,null,null,null,null,null,null,null,null,0,"",""]
["",{"$f":"陸連登録!N97","v":0},null,null,{"$f":"陸連登録!M97","v":0},{"$f":"陸連登録!C97","v":0},{"$f":"陸連登録!D97","v":0},0,{"$f":"陸連登録!A97","v":""},{"$f":"陸連登録!P97","v":0},{"$f":"LEFT(陸連登録!L97,4)","v":""},{"$f":"RIGHT(陸連登録!L97,4)","v":""},{"$f":"陸連登録!F97","v":0},{"$f":"陸連登録!B97","v":0},null,"",null,"","",null,"",null,"","",null,{"$f":"IF(Y102=\"\",\"\",IF(I102=1,VLOOKUP(Y102,男子種目コード!$D$1:$E$20,2,FALSE),IF(I102=2,VLOOKUP(Y102,女子種目コード!$D$1:$E$20,2,FALSE))))","v":""},null,"","",null,{"$f":"IF(AD102=\"\",\"\",IF(I102=1,VLOOKUP(AD102,男子種目コード!$A$1:$B$33,2,FALSE),IF(V102=2,VLOOKUP(I102,女子種目コード!$A$1:$B$28,2,FALSE))))","v":""},null,null,{"$f":"IF(AG102=\"\",\"\",IF(I102=1,VLOOKUP(AG102,男子種目コード!$A$1:$B$33,2,FALSE),IF(AA102=2,VLOOKUP(I102,女子種目コード!$A$1:$B$28,2,FALSE))))","v":""},null,null,null,null,null,"",0,0,null,null,null,null,null,null,null,null,null,null,null,null,null,null,0,"",""]
["",{"$f":"陸連登録!N98","v":0},null,null,{"$f":"陸連登録!M98","v":0},{"$f":"陸連登録!C98","v":0},{"$f":"陸連登録!D98","v":0},0,{"$f":"陸連登録!A98","v":""},{"$f":"陸連登録!P98","v":0},{"$f":"LEFT(陸連登録!L98,4)","v":""},{"$f":"RIGHT(陸連登録!L98,4)","v":""},{"$f":"陸連登録!F98","v":0},{"$f":"陸連登録!B98","v":0},null,"",null,"","",null,"",null,"","",null,{"$f":"IF(Y103=\"\",\"\",IF(I103=1,VLOOKUP(Y103,男子種目コード!$D$1:$E$20,2,FALSE),IF(I103=2,VLOOKUP(Y103,女子種目コード!$D$1:$E$20,2,FALSE))))","v":""},null,"","",null,{"$f":"IF(AD103=\"\",\"\",IF(I103=1,VLOOKUP(AD103,男子種目コード!$A$1:$B$33,2,FALSE),IF(V103=2,VLOOKUP(I103,女子種目コード!$A$1:$B$28,2,FALSE))))","v":""},null,null,{"$f":"IF(AG103=\"\",\"\",IF(I103=1,VLOOKUP(AG103,男子種目コード!$A$1:$B$33,2,FALSE),IF(AA103=2,VLOOKUP(I103,女子種目コード!$A$1:$B$28,2,FALSE))))","v":""},null,null,null,null,null,"",{"$f":"IF(OR(AN103=1,T103=\"\"),0,1)","v":0},{"$f":"IF(OR(AN103=1,AO103=1,Y103=\"\"),0,1)","v":0},null,null,null,null,null,null,null,null,null,null,null,null,null,null,0,"",""]
["",{"$f":"陸連登録!N99","v":0},null,null,{"$f":"陸連登録!M99","v":0},{"$f":"陸連登録!C99","v":0},{"$f":"陸連登録!D99","v":0},0,{"$f":"陸連登録!A99","v":""},{"$f":"陸連登録!P99","v":0},{"$f":"LEFT(陸連登録!L99,4)","v":""},{"$f":"RIGHT(陸連登録!L99,4)","v":""},{"$f":"陸連登録!F99","v":0},{"$f":"陸連登録!B99","v":0},null,"",null,"","",null,"",null,"","",null,{"$f":"IF(Y104=\"\",\"\",IF(I104=1,VLOOKUP(Y104,男子種目コード!$D$1:$E$20,2,FALSE),IF(I104=2,VLOOKUP(Y104,女子種目コード!$D$1:$E$20,2,FALSE))))","v":""},null,"","",null,{"$f":"IF(AD104=\"\",\"\",IF(I104=1,VLOOKUP(AD104,男子種目コード!$A$1:$B$33,2,FALSE),IF(V104=2,VLOOKUP(I104,女子種目コード!$A$1:$B$28,2,FALSE))))","v":""},null,null,{"$f":"IF(AG104=\"\",\"\",IF(I104=1,VLOOKUP(AG104,男子種目コード!$A$1:$B$33,2,FALSE),IF(AA104=2,VLOOKUP(I104,女子種目コード!$A$1:$B$28,2,FALSE))))","v":""},null,null,null,null,null,"",{"$f":"IF(OR(AN104=1,T104=\"\"),0,1)","v":0},{"$f":"IF(OR(AN104=1,AO104=1,Y104=\"\"),0,1)","v":0},null,null,null,null,null,null,null,null,null,null,null,null,null,null,0,"",""]
["",{"$f":"陸連登録!N100","v":0},null,null,{"$f":"陸連登録!M100","v":0},{"$f":"陸連登録!C100","v":0},{"$f":"陸連登録!D100","v":0},0,{"$f":"陸連登録!A100","v":""},{"$f":"陸連登録!P100","v":0},{"$f":"LEFT(陸連登録!L100,4)","v":""},{"$f":"RIGHT(陸連登録!L100,4)","v":""},{"$f":"陸連登録!F100","v":0},{"$f":"陸連登録!B100","v":0},null,"",null,"","",null,"",null,"","",null,{"$f":"IF(Y105=\"\",\"\",IF(I105=1,VLOOKUP(Y105,男子種目コード!$D$1:$E$20,2,FALSE),IF(I105=2,VLOOKUP(Y105,女子種目コード!$D$1:$E$20,2,FALSE))))","v":""},null,"","",null,{"$f":"IF(AD105=\"\",\"\",IF(I105=1,VLOOKUP(AD105,男子種目コード!$A$1:$B$33,2,FALSE),IF(V105=2,VLOOKUP(I105,女子種目コード!$A$1:$B$28,2,FALSE))))","v":""},null,null,{"$f":"IF(AG105=\"\",\"\",IF(I105=1,VLOOKUP(AG105,男子種目コード!$A$1:$B$33,2,FALSE),IF(AA105=2,VLOOKUP(I105,女子種目コード!$A$1:$B$28,2,FALSE))))","v":""},null,null,null,null,null,"",{"$f":"IF(OR(AN105=1,T105=\"\"),0,1)","v":0},{"$f":"IF(OR(AN105=1,AO105=1,Y105=\"\"),0,1)","v":0},null,null,null,null,null,null,null,null,null,null,null,null,null,null,0,"",""]
["",{"$f":"陸連登録!N101","v":0},null,null,{"$f":"陸連登録!M101","v":0},{"$f":"陸連登録!C101","v":0},{"$f":"陸連登録!D101","v":0},0,{"$f":"陸連登録!A101","v":""},{"$f":"陸連登録!P101","v":0},{"$f":"LEFT(陸連登録!L101,4)","v":""},{"$f":"RIGHT(陸連登録!L101,4)","v":""},{"$f":"陸連登録!F101","v":0},{"$f":"陸連登録!B101","v":0},null,"",null,"","",null,"",null,"","",null,{"$f":"IF(Y106=\"\",\"\",IF(I106=1,VLOOKUP(Y106,男子種目コード!$D$1:$E$20,2,FALSE),IF(I106=2,VLOOKUP(Y106,女子種目コード!$D$1:$E$20,2,FALSE))))","v":""},null,"","",null,null,null,null,null,null,null,null,null,null,null,null,null,null,null,null,null,null,null,null,null,null,null,null,null,null,null,0,"",""]
["",{"$f":"陸連登録!N102","v":0},null,null,{"$f":"陸連登録!M102","v":0},{"$f":"陸連登録!C102","v":0},{"$f":"陸連登録!D102","v":0},0,{"$f":"陸連登録!A102","v":""},{"$f":"陸連登録!P102","v":0},{"$f":"LEFT(陸連登録!L102,4)","v":""},{"$f":"RIGHT(陸連登録!L102,4)","v":""},{"$f":"陸連登録!F102","v":0},{"$f":"陸連登録!B102","v":0},null,"",null,"","",null,"",null,"","",null,{"$f":"IF(Y107=\"\",\"\",IF(I107=1,VLOOKUP(Y107,男子種目コード!$D$1:$E$20,2,FALSE),IF(I107=2,VLOOKUP(Y107,女子種目コード!$D$1:$E$20,2,FALSE))))","v":""},null,"","",null,null,null,null,null,null,null,null,null,null,null,null,null,null,null,null,null,null,null,null,null,null,null,null,null,null,null,0,"",""]
["",{"$f":"陸連登録!N103","v":0},null,null,{"$f":"陸連登録!M103","v":0},{"$f":"陸連登録!C103","v":0},{"$f":"陸連登録!D103","v":0},0,{"$f":"陸連登録!A103","v":""},{"$f":"陸連登録!P103","v":0},{"$f":"LEFT(陸連登録!L103,4)","v":""},{"$f":"RIGHT(陸連登録!L103,4)","v":""},{"$f":"陸連登録!F103","v":0},{"$f":"陸連登録!B103","v":0},null,"",null,"","",null,"",null,"","",null,{"$f":"IF(Y108=\"\",\"\",IF(I108=1,VLOOKUP(Y108,男子種目コード!$D$1:$E$20,2,FALSE),IF(I108=2,VLOOKUP(Y108,女子種目コード!$D$1:$E$20,2,FALSE))))","v":""},null,"","",null,null,null,null,null,null,null,null,null,null,null,null,null,null,null,null,null,null,null,null,null,null,null,null,null,null,null,0,"",""]
["",{"$f":"陸連登録!N104","v":0},null,null,{"$f":"陸連登録!M104","v":0},{"$f":"陸連登録!C104","v":0},{"$f":"陸連登録!D104","v":0},0,{"$f":"陸連登録!A104","v":""},{"$f":"陸連登録!P104","v":0},{"$f":"LEFT(陸連登録!L104,4)","v":""},{"$f":"RIGHT(陸連登録!L104,4)","v":""},{"$f":"陸連登録!F104","v":0},{"$f":"陸連登録!B104","v":0},null,"",null,"","",null,"",null,"","",null,{"$f":"IF(Y109=\"\",\"\",IF(I109=1,VLOOKUP(Y109,男子種目コード!$D$1:$E$20,2,FALSE),IF(I109=2,VLOOKUP(Y109,女子種目コード!$D$1:$E$20,2,FALSE))))","v":""},null,"","",null,null,null,null,null,null,null,null,null,null,null,null,null,null,null,null,null,null,null,null,null,null,null,null,null,null,null,0,"",""]
["",{"$f":"陸連登録!N105","v":0},null,null,{"$f":"陸連登録!M105","v":0},{"$f":"陸連登録!C105","v":0},{"$f":"陸連登録!D105","v":0},0,{"$f":"陸連登録!A105","v":""},{"$f":"陸連登録!P105","v":0},{"$f":"LEFT(陸連登録!L105,4)","v":""},{"$f":"RIGHT(陸連登録!L105,4)","v":""},{"$f":"陸連登録!F105","v":0},{"$f":"陸連登録!B105","v":0},null,"",null,"","",null,"",null,"","",null,{"$f":"IF(Y110=\"\",\"\",IF(I110=1,VLOOKUP(Y110,男子種目コード!$D$1:$E$20,2,FALSE),IF(I110=2,VLOOKUP(Y110,女子種目コード!$D$1:$E$20,2,FALSE))))","v":""},null,"","",null,null,null,null,null,null,null,null,null,null,null,null,null,null,null,null,null,null,null,null,null,null,null,null,null,null,null,0,"",""]
["",{"$f":"陸連登録!N106","v":0},null,null,{"$f":"陸連登録!M106","v":0},{"$f":"陸連登録!C106","v":0},{"$f":"陸連登録!D106","v":0},0,{"$f":"陸連登録!A106","v":""},{"$f":"陸連登録!P106","v":0},{"$f":"LEFT(陸連登録!L106,4)","v":""},{"$f":"RIGHT(陸連登録!L106,4)","v":""},{"$f":"陸連登録!F106","v":0},{"$f":"陸連登録!B106","v":0},null,"",null,"","",null,"",null,"","",null,{"$f":"IF(Y111=\"\",\"\",IF(I111=1,VLOOKUP(Y111,男子種目コード!$D$1:$E$20,2,FALSE),IF(I111=2,VLOOKUP(Y111,女子種目コード!$D$1:$E$20,2,FALSE))))","v":""},null,"","",null,null,null,null,null,null,null,null,null,null,null,null,null,null,null,null,null,null,null,null,null,null,null,null,null,null,null,0,"",""]
["",{"$f":"陸連登録!N107","v":0},null,null,{"$f":"陸連登録!M107","v":0},{"$f":"陸連登録!C107","v":0},{"$f":"陸連登録!D107","v":0},0,{"$f":"陸連登録!A107","v":""},{"$f":"陸連登録!P107","v":0},{"$f":"LEFT(陸連登録!L107,4)","v":""},{"$f":"RIGHT(陸連登録!L107,4)","v":""},{"$f":"陸連登録!F107","v":0},{"$f":"陸連登録!B107","v":0},null,"",null,"","",null,"",null,"","",null,{"$f":"IF(Y112=\"\",\"\",IF(I112=1,VLOOKUP(Y112,男子種目コード!$D$1:$E$20,2,FALSE),IF(I112=2,VLOOKUP(Y112,女子種目コード!$D$1:$E$20,2,FALSE))))","v":""},null,"","",null,null,null,null,null,null,null,null,null,null,null,null,null,null,null,null,null,null,null,null,null,null,null,null,null,null,null,0,"",""]
["",{"$f":"陸連登録!N108","v":0},null,null,{"$f":"陸連登録!M108","v":0},{"$f":"陸連登録!C108","v":0},{"$f":"陸連登録!D108","v":0},0,{"$f":"陸連登録!A108","v":""},{"$f":"陸連登録!P108","v":0},{"$f":"LEFT(陸連登録!L108,4)","v":""},{"$f":"RIGHT(陸連登録!L108,4)","v":""},{"$f":"陸連登録!F108","v":0},{"$f":"陸連登録!B108","v":0},null,"",null,"","",null,"",null,"","",null,{"$f":"IF(Y113=\"\",\"\",IF(I113=1,VLOOKUP(Y113,男子種目コード!$D$1:$E$20,2,FALSE),IF(I113=2,VLOOKUP(Y113,女子種目コード!$D$1:$E$20,2,FALSE))))","v":""},null,"","",null,null,null,null,null,null,null,null,null,null,null,null,null,null,null,null,null,null,null,null,null,null,null,null,null,null,null,0,"",""]
["",{"$f":"陸連登録!N109","v":0},null,null,{"$f":"陸連登録!M109","v":0},{"$f":"陸連登録!C109","v":0},{"$f":"陸連登録!D109","v":0},0,{"$f":"陸連登録!A109","v":""},{"$f":"陸連登録!P109","v":0},{"$f":"LEFT(陸連登録!L109,4)","v":""},{"$f":"RIGHT(陸連登録!L109,4)","v":""},{"$f":"陸連登録!F109","v":0},{"$f":"陸連登録!B109","v":0},null,"",null,"","",null,"",null,"","",null,{"$f":"IF(Y114=\"\",\"\",IF(I114=1,VLOOKUP(Y114,男子種目コード!$D$1:$E$20,2,FALSE),IF(I114=2,VLOOKUP(Y114,女子種目コード!$D$1:$E$20,2,FALSE))))","v":""},null,"","",null,null,null,null,null,null,null,null,null,null,null,null,null,null,null,null,null,null,null,null,null,null,null,null,null,null,null,0,"",""]
["",{"$f":"陸連登録!N110","v":0},null,null,{"$f":"陸連登録!M110","v":0},{"$f":"陸連登録!C110","v":0},{"$f":"陸連登録!D110","v":0},0,{"$f":"陸連登録!A110","v":""},{"$f":"陸連登録!P110","v":0},{"$f":"LEFT(陸連登録!L110,4)","v":""},{"$f":"RIGHT(陸連登録!L110,4)","v":""},{"$f":"陸連登録!F110","v":0},{"$f":"陸連登録!B110","v":0},null,"",null,"","",null,"",null,"","",null,{"$f":"IF(Y115=\"\",\"\",IF(I115=1,VLOOKUP(Y115,男子種目コード!$D$1:$E$20,2,FALSE),IF(I115=2,VLOOKUP(Y115,女子種目コード!$D$1:$E$20,2,FALSE))))","v":""},null,"","",null,null,null,null,null,null,null,null,null,null,null,null,null,null,null,null,null,null,null,null,null,null,{"$f":"IF(I115=2,AX117,\"\")","v":""},null,null,null,null,0,"",""]
["",{"$f":"陸連登録!N111","v":0},null,null,{"$f":"陸連登録!M111","v":0},{"$f":"陸連登録!C111","v":0},{"$f":"陸連登録!D111","v":0},0,{"$f":"陸連登録!A111","v":""},{"$f":"陸連登録!P111","v":0},{"$f":"LEFT(陸連登録!L111,4)","v":""},{"$f":"RIGHT(陸連登録!L111,4)","v":""},{"$f":"陸連登録!F111","v":0},{"$f":"陸連登録!B111","v":0},null,"",null,"","",null,"",null,"","",null,{"$f":"IF(Y116=\"\",\"\",IF(I116=1,VLOOKUP(Y116,男子種目コード!$D$1:$E$20,2,FALSE),IF(I116=2,VLOOKUP(Y116,女子種目コード!$D$1:$E$20,2,FALSE))))","v":""},null,"","",null,{"$f":"IF(AD116=\"\",\"\",IF(I116=1,VLOOKUP(AD116,男子種目コード!$A$1:$B$33,2,FALSE),IF(V116=2,VLOOKUP(I116,女子種目コード!$A$1:$B$28,2,FALSE))))","v":""},null,null,{"$f":"IF(AG116=\"\",\"\",IF(I116=1,VLOOKUP(AG116,男子種目コード!$A$1:$B$33,2,FALSE),IF(AA116=2,VLOOKUP(I116,女子種目コード!$A$1:$B$28,2,FALSE))))","v":""},null,null,null,null,null,"",{"$f":"IF(OR(AN116=1,T116=\"\"),0,1)","v":0},{"$f":"IF(OR(AN116=1,AO116=1,Y116=\"\"),0,1)","v":0},null,null,null,null,null,null,null,null,null,{"$f":"IF(I116=2,AX118,\"\")","v":""},null,null,null,null,0,"",""]
[null,null,null,null,null,null,null,null,null,null,null,null,null,null,null,null,null,null,null,null,null,null,null,null,null,null,null,null,null,null,null,null,null,null,null,null,null,null,null,{"$f":"SUM(AN7:AN116)","v":0},{"$f":"SUM(AO7:AO116)","v":0},{"$f":"SUM(AP7:AP116)","v":0},null,null,null,null,null,null,null,{"$f":"COUNT(P115,U115,Z115)","v":0},{"$f":"IF(I115=1,AX117,\"\")","v":""}]
[null,null,null,null,null,null,null,null,null,null,null,null,null,null,null,null,null,null,null,null,null,null,null,null,null,null,null,null,null,null,null,null,null,null,null,null,null,null,null,null,null,null,null,null,null,null,null,null,null,{"$f":"COUNT(P116,U116,Z116)","v":0},{"$f":"IF(I116=1,AX118,\"\")","v":""}]

{"sheet":"選抜","index":10,"n_rows":118,"n_cols":68,"rows_kept":118,"cut":false,"hidden":false,"merged":[[16,47,16,48],[12,44,13,44],[16,45,16,46],[5,45,5,46],[5,47,5,48],[14,45,14,46],[14,47,14,48],[7,45,7,46],[7,47,7,48],[42,42,42,43],[30,42,30,43],[29,42,29,43],[1,16,1,17],[5,42,5,43],[1,18,1,19]]}
[null,null,null,null,"所属名",{"$f":"陸連登録!I2","v":0}]
[null,null,null,null,"所属コード",{"$f":"陸連登録!N2","v":0},"三重県中学選抜大会"]
[null,null,null,null,"顧問名",null,"男子",null,null,null,null,null,null,null,{"$f":"COUNTIF($I$7:$I$116,1)-COUNTIF($BF$7:$BF$116,0)","v":0}]
[null,null,null,null,"顧問連絡先",null,"女子",null,null,null,null,null,null,null,{"$f":"COUNTIF($I$7:$I$116,2)-COUNTIF($BG$7:$BG$116,0)","v":0},null,{"$f":"O3+O4","v":0}]
[null,null,null,null,null,null,"大会参加費",null,null,null,null,null,null,null,{"$f":"($AN$117+$AO$117)*1000+V5*800","v":0},null,null,null,null,"プログラム冊数",null,null,null,null,null,null,null,null,null,null,null,null,null,null,null,null,null,null,null,null,null,null,"冊"]
["競技者コード","所属コード",null,null,"ナンバー","名　前","カナ名","掲示板名","性別","学年","生年","月日","個人所属地コード","陸連ID","1種目","コード","記録",null,null,"2種目","コード","記録",null,null,"リレー","コード","記録",null,null,"種目","コード4","自己記録4","種目","コード5","自己記録5",null,null,null,"1年100",null,null,null,"種目別人数",null,null,"低学年",null,"高学年",null,null,null,100,100,null,null,null,"種目数","男子","女子"]
[{"$f":"Z7","v":""},{"$f":"陸連登録!N2","v":0},null,null,{"$f":"陸連登録!M2","v":1000},{"$f":"陸連登録!C2","v":"岡田"},{"$f":"陸連登録!D2","v":0},{"$f":"F7","v":"岡田"},{"$f":"陸連登録!A2","v":1},{"$f":"陸連登録!P2","v":3},{"$f":"#REF!","v":{"$error":"#REF!"}},{"$f":"#REF!","v":{"$error":"#REF!"}},{"$f":"#REF!","v":{"$error":"#REF!"}},{"$f":"陸連登録!B2","v":0},null,{"$f":"IF(O7=\"\",\"\",IF(I7=1,VLOOKUP(O7,男子種目コード!$M$1:$N$13,2,FALSE),IF(I7=2,VLOOKUP(O7,女子種目コード!$M$1:$N$10,2,FALSE))))","v":""},null,{"$f":"IF(O7=\"\",\"\",0)","v":""},{"$f":"IF(O7=\"\",\"\",2)","v":""},null,{"$f":"IF(T7=\"\",\"\",IF(I7=1,VLOOKUP(T7,男子種目コード!$M$1:$N$13,2,FALSE),IF(I7=2,VLOOKUP(T7,女子種目コード!$M$1:$N$10,2,FALSE))))","v":""},null,{"$f":"IF(T7=\"\",\"\",0)","v":""},{"$f":"IF(T7=\"\",\"\",2)","v":""},null,{"$f":"IF(Y7=\"\",\"\",IF(I7=1,VLOOKUP(Y7,男子種目コード!$D$1:$E$20,2,FALSE),IF(I7=2,VLOOKUP(Y7,女子種目コード!$D$1:$E$20,2,FALSE))))","v":""},null,{"$f":"IF(Y7=\"\",\"\",0)","v":""},{"$f":"IF(Y7=\"\",\"\",2)","v":""},null,{"$f":"IF(AD7=\"\",\"\",IF(I7=1,VLOOKUP(AD7,男子種目コード!$A$1:$B$33,2,FALSE),IF(V7=2,VLOOKUP(I7,女子種目コード!$A$1:$B$28,2,FALSE))))","v":""},null,null,{"$f":"IF(AG7=\"\",\"\",IF(I7=1,VLOOKUP(AG7,男子種目コード!$A$1:$B$33,2,FALSE),IF(AA7=2,VLOOKUP(I7,女子種目コード!$A$1:$B$28,2,FALSE))))","v":""},null,null,null,null,"1年800",{"$f":"IF(O7=\"\",\"\",1)","v":""},{"$f":"IF(OR(AN7=1,T7=\"\"),0,1)","v":0},{"$f":"IF(OR(AN7=1,AO7=1,Y7=\"\"),0,1)","v":0},100,{"$f":"COUNTIF($P$7:P$116,101)+COUNTIF($U$7:$U$116,101)","v":0},null,"記録",null,"記録",null,null,null,200,200,null,null,null,{"$f":"COUNT(P7,U7,Z7)","v":0},{"$f":"IF(I7=1,BE7,\"\")","v":0},{"$f":"IF(I7=2,BE7,\"\")","v":""}]
["",{"$f":"陸連登録!N3","v":0},null,null,{"$f":"陸連登録!M3","v":0},{"$f":"陸連登録!C3","v":0},{"$f":"陸連登録!D3","v":0},{"$f":"F8","v":0},{"$f":"陸連登録!A3","v":""},{"$f":"陸連登録!P3","v":0},{"$f":"#REF!","v":{"$error":"#REF!"}},{"$f":"#REF!","v":{"$error":"#REF!"}},{"$f":"#REF!","v":{"$error":"#REF!"}},{"$f":"陸連登録!B3","v":0},null,{"$f":"IF(O8=\"\",\"\",IF(I8=1,VLOOKUP(O8,男子種目コード!$M$1:$N$13,2,FALSE),IF(I8=2,VLOOKUP(O8,女子種目コード!$M$1:$N$10,2,FALSE))))","v":""},null,"","",null,{"$f":"IF(T8=\"\",\"\",IF(I8=1,VLOOKUP(T8,男子種目コード!$M$1:$N$13,2,FALSE),IF(I8=2,VLOOKUP(T8,女子種目コード!$M$1:$N$10,2,FALSE))))","v":""},null,"","",null,{"$f":"IF(Y8=\"\",\"\",IF(I8=1,VLOOKUP(Y8,男子種目コード!$D$1:$E$20,2,FALSE),IF(I8=2,VLOOKUP(Y8,女子種目コード!$D$1:$E$20,2,FALSE))))","v":""},null,"","",null,{"$f":"IF(AD8=\"\",\"\",IF(I8=1,VLOOKUP(AD8,男子種目コード!$A$1:$B$33,2,FALSE),IF(V8=2,VLOOKUP(I8,女子種目コード!$A$1:$B$28,2,FALSE))))","v":""},null,null,{"$f":"IF(AG8=\"\",\"\",IF(I8=1,VLOOKUP(AG8,男子種目コード!$A$1:$B$33,2,FALSE),IF(AA8=2,VLOOKUP(I8,女子種目コード!$A$1:$B$28,2,FALSE))))","v":""},null,null,null,null,"1年1500","",0,0,200,{"$f":"COUNTIF($P$7:P$116,102)+COUNTIF($U7:$U116,102)","v":0},null,{"$f":"COUNTIF($Z7:$Z116,12)","v":0},null,{"$f":"COUNTIF($Z7:$Z116,13)","v":0},null,null,null,400,800,null,null,null,0,"",""]
["",{"$f":"陸連登録!N4","v":0},null,null,{"$f":"陸連登録!M4","v":0},{"$f":"陸連登録!C4","v":0},{"$f":"陸連登録!D4","v":0},0,{"$f":"陸連登録!A4","v":""},{"$f":"陸連登録!P4","v":0},{"$f":"#REF!","v":{"$error":"#REF!"}},{"$f":"#REF!","v":{"$error":"#REF!"}},{"$f":"#REF!","v":{"$error":"#REF!"}},{"$f":"陸連登録!B4","v":0},null,{"$f":"IF(O9=\"\",\"\",IF(I9=1,VLOOKUP(O9,男子種目コード!$M$1:$N$13,2,FALSE),IF(I9=2,VLOOKUP(O9,女子種目コード!$M$1:$N$10,2,FALSE))))","v":""},null,"","",null,{"$f":"IF(T9=\"\",\"\",IF(I9=1,VLOOKUP(T9,男子種目コード!$M$1:$N$13,2,FALSE),IF(I9=2,VLOOKUP(T9,女子種目コード!$M$1:$N$10,2,FALSE))))","v":""},null,"","",null,{"$f":"IF(Y9=\"\",\"\",IF(I9=1,VLOOKUP(Y9,男子種目コード!$D$1:$E$20,2,FALSE),IF(I9=2,VLOOKUP(Y9,女子種目コード!$D$1:$E$20,2,FALSE))))","v":""},null,"","",null,{"$f":"IF(AD9=\"\",\"\",IF(I9=1,VLOOKUP(AD9,男子種目コード!$A$1:$B$33,2,FALSE),IF(V9=2,VLOOKUP(I9,女子種目コード!$A$1:$B$28,2,FALSE))))","v":""},null,null,{"$f":"IF(AG9=\"\",\"\",IF(I9=1,VLOOKUP(AG9,男子種目コード!$A$1:$B$33,2,FALSE),IF(AA9=2,VLOOKUP(I9,女子種目コード!$A$1:$B$28,2,FALSE))))","v":""},null,null,null,null,"2年100","",0,0,400,{"$f":"COUNTIF($P$7:P$116,103)+COUNTIF($U$7:$U$116,103)","v":0},null,{"$f":"IF(ISERROR(BM9),\"\",BM9)","v":""},"","","",null,0,800,1500,null,null,null,0,"","",null,null,null,null,null,{"$f":"[2]!VLookUpX(12,$A$7:$F$116,1,5)","v":{"$error":"#NAME?"}},{"$f":"[2]!VLookUpX(12,$A$7:$F$116,1,6)","v":{"$error":"#NAME?"}},{"$f":"[2]!VLookUpX(13,$A$7:$F$116,1,5)","v":{"$error":"#NAME?"}},{"$f":"[2]!VLookUpX(13,$A$7:$F$116,1,6)","v":{"$error":"#NAME?"}}]
["",{"$f":"陸連登録!N5","v":0},null,null,{"$f":"陸連登録!M5","v":0},{"$f":"陸連登録!C5","v":0},{"$f":"陸連登録!D5","v":0},0,{"$f":"陸連登録!A5","v":""},{"$f":"陸連登録!P5","v":0},{"$f":"#REF!","v":{"$error":"#REF!"}},{"$f":"#REF!","v":{"$error":"#REF!"}},{"$f":"#REF!","v":{"$error":"#REF!"}},{"$f":"陸連登録!B5","v":0},null,{"$f":"IF(O10=\"\",\"\",IF(I10=1,VLOOKUP(O10,男子種目コード!$M$1:$N$13,2,FALSE),IF(I10=2,VLOOKUP(O10,女子種目コード!$M$1:$N$10,2,FALSE))))","v":""},null,"","",null,{"$f":"IF(T10=\"\",\"\",IF(I10=1,VLOOKUP(T10,男子種目コード!$M$1:$N$13,2,FALSE),IF(I10=2,VLOOKUP(T10,女子種目コード!$M$1:$N$10,2,FALSE))))","v":""},null,"","",null,{"$f":"IF(Y10=\"\",\"\",IF(I10=1,VLOOKUP(Y10,男子種目コード!$D$1:$E$20,2,FALSE),IF(I10=2,VLOOKUP(Y10,女子種目コード!$D$1:$E$20,2,FALSE))))","v":""},null,"","",null,{"$f":"IF(AD10=\"\",\"\",IF(I10=1,VLOOKUP(AD10,男子種目コード!$A$1:$B$33,2,FALSE),IF(V10=2,VLOOKUP(I10,女子種目コード!$A$1:$B$28,2,FALSE))))","v":""},null,null,{"$f":"IF(AG10=\"\",\"\",IF(I10=1,VLOOKUP(AG10,男子種目コード!$A$1:$B$33,2,FALSE),IF(AA10=2,VLOOKUP(I10,女子種目コード!$A$1:$B$28,2,FALSE))))","v":""},null,null,null,null,"2年1500","",0,0,800,{"$f":"COUNTIF($P$7:P$116,104)+COUNTIF($U$7:$U$116,104)","v":0},null,"","","","",null,null,1500,"100H",null,null,null,0,"","",null,null,null,null,null,{"$f":"[2]!VLookUpX(12,$A$7:$F$116,2,5)","v":{"$error":"#NAME?"}},{"$f":"[2]!VLookUpX(12,$A$7:$F$116,2,6)","v":{"$error":"#NAME?"}},{"$f":"[2]!VLookUpX(13,$A$7:$F$116,2,5)","v":{"$error":"#NAME?"}},{"$f":"[2]!VLookUpX(13,$A$7:$F$116,2,6)","v":{"$error":"#NAME?"}}]
["",{"$f":"陸連登録!N6","v":0},null,null,{"$f":"陸連登録!M6","v":0},{"$f":"陸連登録!C6","v":0},{"$f":"陸連登録!D6","v":0},0,{"$f":"陸連登録!A6","v":""},{"$f":"陸連登録!P6","v":0},{"$f":"#REF!","v":{"$error":"#REF!"}},{"$f":"#REF!","v":{"$error":"#REF!"}},{"$f":"#REF!","v":{"$error":"#REF!"}},{"$f":"陸連登録!B6","v":0},null,{"$f":"IF(O11=\"\",\"\",IF(I11=1,VLOOKUP(O11,男子種目コード!$M$1:$N$13,2,FALSE),IF(I11=2,VLOOKUP(O11,女子種目コード!$M$1:$N$10,2,FALSE))))","v":""},null,"","",null,{"$f":"IF(T11=\"\",\"\",IF(I11=1,VLOOKUP(T11,男子種目コード!$M$1:$N$13,2,FALSE),IF(I11=2,VLOOKUP(T11,女子種目コード!$M$1:$N$10,2,FALSE))))","v":""},null,"","",null,{"$f":"IF(Y11=\"\",\"\",IF(I11=1,VLOOKUP(Y11,男子種目コード!$D$1:$E$20,2,FALSE),IF(I11=2,VLOOKUP(Y11,女子種目コード!$D$1:$E$20,2,FALSE))))","v":""},null,"","",null,{"$f":"IF(AD11=\"\",\"\",IF(I11=1,VLOOKUP(AD11,男子種目コード!$A$1:$B$33,2,FALSE),IF(V11=2,VLOOKUP(I11,女子種目コード!$A$1:$B$28,2,FALSE))))","v":""},null,null,{"$f":"IF(AG11=\"\",\"\",IF(I11=1,VLOOKUP(AG11,男子種目コード!$A$1:$B$33,2,FALSE),IF(AA11=2,VLOOKUP(I11,女子種目コード!$A$1:$B$28,2,FALSE))))","v":""},null,null,null,null,"共通100","",0,0,1500,{"$f":"COUNTIF($P$7:P$116,105)+COUNTIF($U$7:$U$116,105)","v":0},null,"","","","",null,null,3000,"走高跳",null,null,null,0,"","",null,null,null,null,null,{"$f":"[2]!VLookUpX(12,$A$7:$F$116,3,5)","v":{"$error":"#NAME?"}},{"$f":"[2]!VLookUpX(12,$A$7:$F$116,3,6)","v":{"$error":"#NAME?"}},{"$f":"[2]!VLookUpX(13,$A$7:$F$116,3,5)","v":{"$error":"#NAME?"}},{"$f":"[2]!VLookUpX(13,$A$7:$F$116,3,6)","v":{"$error":"#NAME?"}}]
["",{"$f":"陸連登録!N7","v":0},null,null,{"$f":"陸連登録!M7","v":0},{"$f":"陸連登録!C7","v":0},{"$f":"陸連登録!D7","v":0},0,{"$f":"陸連登録!A7","v":""},{"$f":"陸連登録!P7","v":0},{"$f":"#REF!","v":{"$error":"#REF!"}},{"$f":"#REF!","v":{"$error":"#REF!"}},{"$f":"#REF!","v":{"$error":"#REF!"}},{"$f":"陸連登録!B7","v":0},null,{"$f":"IF(O12=\"\",\"\",IF(I12=1,VLOOKUP(O12,男子種目コード!$M$1:$N$13,2,FALSE),IF(I12=2,VLOOKUP(O12,女子種目コード!$M$1:$N$10,2,FALSE))))","v":""},null,"","",null,{"$f":"IF(T12=\"\",\"\",IF(I12=1,VLOOKUP(T12,男子種目コード!$M$1:$N$13,2,FALSE),IF(I12=2,VLOOKUP(T12,女子種目コード!$M$1:$N$10,2,FALSE))))","v":""},null,"","",null,{"$f":"IF(Y12=\"\",\"\",IF(I12=1,VLOOKUP(Y12,男子種目コード!$D$1:$E$20,2,FALSE),IF(I12=2,VLOOKUP(Y12,女子種目コード!$D$1:$E$20,2,FALSE))))","v":""},null,"","",null,{"$f":"IF(AD12=\"\",\"\",IF(I12=1,VLOOKUP(AD12,男子種目コード!$A$1:$B$33,2,FALSE),IF(V12=2,VLOOKUP(I12,女子種目コード!$A$1:$B$28,2,FALSE))))","v":""},null,null,{"$f":"IF(AG12=\"\",\"\",IF(I12=1,VLOOKUP(AG12,男子種目コード!$A$1:$B$33,2,FALSE),IF(AA12=2,VLOOKUP(I12,女子種目コード!$A$1:$B$28,2,FALSE))))","v":""},null,null,null,null,"共通200","",0,0,3000,{"$f":"COUNTIF($P$7:P$116,106)+COUNTIF($U$7:$U$116,106)","v":0},null,"","","","",null,null,"110H","走幅跳",null,null,null,0,"","",null,null,null,null,null,{"$f":"[2]!VLookUpX(12,$A$7:$F$116,4,5)","v":{"$error":"#NAME?"}},{"$f":"[2]!VLookUpX(12,$A$7:$F$116,4,6)","v":{"$error":"#NAME?"}},{"$f":"[2]!VLookUpX(13,$A$7:$F$116,4,5)","v":{"$error":"#NAME?"}},{"$f":"[2]!VLookUpX(13,$A$7:$F$116,4,6)","v":{"$error":"#NAME?"}}]
["",{"$f":"陸連登録!N8","v":0},null,null,{"$f":"陸連登録!M8","v":0},{"$f":"陸連登録!C8","v":0},{"$f":"陸連登録!D8","v":0},0,{"$f":"陸連登録!A8","v":""},{"$f":"陸連登録!P8","v":0},{"$f":"#REF!","v":{"$error":"#REF!"}},{"$f":"#REF!","v":{"$error":"#REF!"}},{"$f":"#REF!","v":{"$error":"#REF!"}},{"$f":"陸連登録!B8","v":0},null,{"$f":"IF(O13=\"\",\"\",IF(I13=1,VLOOKUP(O13,男子種目コード!$M$1:$N$13,2,FALSE),IF(I13=2,VLOOKUP(O13,女子種目コード!$M$1:$N$10,2,FALSE))))","v":""},null,"","",null,{"$f":"IF(T13=\"\",\"\",IF(I13=1,VLOOKUP(T13,男子種目コード!$M$1:$N$13,2,FALSE),IF(I13=2,VLOOKUP(T13,女子種目コード!$M$1:$N$10,2,FALSE))))","v":""},null,"","",null,{"$f":"IF(Y13=\"\",\"\",IF(I13=1,VLOOKUP(Y13,男子種目コード!$D$1:$E$20,2,FALSE),IF(I13=2,VLOOKUP(Y13,女子種目コード!$D$1:$E$20,2,FALSE))))","v":""},null,"","",null,{"$f":"IF(AD13=\"\",\"\",IF(I13=1,VLOOKUP(AD13,男子種目コード!$A$1:$B$33,2,FALSE),IF(V13=2,VLOOKUP(I13,女子種目コード!$A$1:$B$28,2,FALSE))))","v":""},null,null,{"$f":"IF(AG13=\"\",\"\",IF(I13=1,VLOOKUP(AG13,男子種目コード!$A$1:$B$33,2,FALSE),IF(AA13=2,VLOOKUP(I13,女子種目コード!$A$1:$B$28,2,FALSE))))","v":""},null,null,null,null,"共通400","",0,0,"110H",{"$f":"COUNTIF($P$7:P$116,107)+COUNTIF($U$7:$U$116,107)","v":0},null,"","","","",null,null,"走高跳","砲丸投",null,null,null,0,"","",null,null,null,null,null,{"$f":"[2]!VLookUpX(12,$A$7:$F$116,5,5)","v":{"$error":"#NAME?"}},{"$f":"[2]!VLookUpX(12,$A$7:$F$116,5,6)","v":{"$error":"#NAME?"}},{"$f":"[2]!VLookUpX(13,$A$7:$F$116,5,5)","v":{"$error":"#NAME?"}},{"$f":"[2]!VLookUpX(13,$A$7:$F$116,5,6)","v":{"$error":"#NAME?"}}]
["",{"$f":"陸連登録!N9","v":0},null,null,{"$f":"陸連登録!M9","v":0},{"$f":"陸連登録!C9","v":0},{"$f":"陸連登録!D9","v":0},0,{"$f":"陸連登録!A9","v":""},{"$f":"陸連登録!P9","v":0},{"$f":"#REF!","v":{"$error":"#REF!"}},{"$f":"#REF!","v":{"$error":"#REF!"}},{"$f":"#REF!","v":{"$error":"#REF!"}},{"$f":"陸連登録!B9","v":0},null,{"$f":"IF(O14=\"\",\"\",IF(I14=1,VLOOKUP(O14,男子種目コード!$M$1:$N$13,2,FALSE),IF(I14=2,VLOOKUP(O14,女子種目コード!$M$1:$N$10,2,FALSE))))","v":""},null,"","",null,{"$f":"IF(T14=\"\",\"\",IF(I14=1,VLOOKUP(T14,男子種目コード!$M$1:$N$13,2,FALSE),IF(I14=2,VLOOKUP(T14,女子種目コード!$M$1:$N$10,2,FALSE))))","v":""},null,"","",null,{"$f":"IF(Y14=\"\",\"\",IF(I14=1,VLOOKUP(Y14,男子種目コード!$D$1:$E$20,2,FALSE),IF(I14=2,VLOOKUP(Y14,女子種目コード!$D$1:$E$20,2,FALSE))))","v":""},null,"","",null,{"$f":"IF(AD14=\"\",\"\",IF(I14=1,VLOOKUP(AD14,男子種目コード!$A$1:$B$33,2,FALSE),IF(V14=2,VLOOKUP(I14,女子種目コード!$A$1:$B$28,2,FALSE))))","v":""},null,null,{"$f":"IF(AG14=\"\",\"\",IF(I14=1,VLOOKUP(AG14,男子種目コード!$A$1:$B$33,2,FALSE),IF(AA14=2,VLOOKUP(I14,女子種目コード!$A$1:$B$28,2,FALSE))))","v":""},null,null,null,null,"共通800","",0,0,"走高跳",{"$f":"COUNTIF($P$7:P$116,108)+COUNTIF($U$7:$U$116,108)","v":0},null,"","","","",null,null,"棒高跳","四種",null,null,null,0,"","",null,null,null,null,null,{"$f":"[2]!VLookUpX(12,$A$7:$F$116,6,5)","v":{"$error":"#NAME?"}},{"$f":"[2]!VLookUpX(12,$A$7:$F$116,6,6)","v":{"$error":"#NAME?"}},{"$f":"[2]!VLookUpX(13,$A$7:$F$116,6,5)","v":{"$error":"#NAME?"}},{"$f":"[2]!VLookUpX(13,$A$7:$F$116,6,6)","v":{"$error":"#NAME?"}}]
["",{"$f":"陸連登録!N10","v":0},null,null,{"$f":"陸連登録!M10","v":0},{"$f":"陸連登録!C10","v":0},{"$f":"陸連登録!D10","v":0},0,{"$f":"陸連登録!A10","v":""},{"$f":"陸連登録!P10","v":0},{"$f":"#REF!","v":{"$error":"#REF!"}},{"$f":"#REF!","v":{"$error":"#REF!"}},{"$f":"#REF!","v":{"$error":"#REF!"}},{"$f":"陸連登録!B10","v":0},null,{"$f":"IF(O15=\"\",\"\",IF(I15=1,VLOOKUP(O15,男子種目コード!$M$1:$N$13,2,FALSE),IF(I15=2,VLOOKUP(O15,女子種目コード!$M$1:$N$10,2,FALSE))))","v":""},null,"","",null,{"$f":"IF(T15=\"\",\"\",IF(I15=1,VLOOKUP(T15,男子種目コード!$M$1:$N$13,2,FALSE),IF(I15=2,VLOOKUP(T15,女子種目コード!$M$1:$N$10,2,FALSE))))","v":""},null,"","",null,{"$f":"IF(Y15=\"\",\"\",IF(I15=1,VLOOKUP(Y15,男子種目コード!$D$1:$E$20,2,FALSE),IF(I15=2,VLOOKUP(Y15,女子種目コード!$D$1:$E$20,2,FALSE))))","v":""},null,"","",null,{"$f":"IF(AD15=\"\",\"\",IF(I15=1,VLOOKUP(AD15,男子種目コード!$A$1:$B$33,2,FALSE),IF(V15=2,VLOOKUP(I15,女子種目コード!$A$1:$B$28,2,FALSE))))","v":""},null,null,{"$f":"IF(AG15=\"\",\"\",IF(I15=1,VLOOKUP(AG15,男子種目コード!$A$1:$B$33,2,FALSE),IF(AA15=2,VLOOKUP(I15,女子種目コード!$A$1:$B$28,2,FALSE))))","v":""},null,null,null,null,"共通1500","",0,0,"棒高跳",{"$f":"COUNTIF($P$7:P$116,109)+COUNTIF($U$7:$U$116,109)","v":0},null,"低学年",null,"高学年",null,null,null,"走幅跳",null,null,null,null,0,"",""]
["",{"$f":"陸連登録!N11","v":0},null,null,{"$f":"陸連登録!M11","v":0},{"$f":"陸連登録!C11","v":0},{"$f":"陸連登録!D11","v":0},0,{"$f":"陸連登録!A11","v":""},{"$f":"陸連登録!P11","v":0},{"$f":"#REF!","v":{"$error":"#REF!"}},{"$f":"#REF!","v":{"$error":"#REF!"}},{"$f":"#REF!","v":{"$error":"#REF!"}},{"$f":"陸連登録!B11","v":0},null,{"$f":"IF(O16=\"\",\"\",IF(I16=1,VLOOKUP(O16,男子種目コード!$M$1:$N$13,2,FALSE),IF(I16=2,VLOOKUP(O16,女子種目コード!$M$1:$N$10,2,FALSE))))","v":""},null,"","",null,{"$f":"IF(T16=\"\",\"\",IF(I16=1,VLOOKUP(T16,男子種目コード!$M$1:$N$13,2,FALSE),IF(I16=2,VLOOKUP(T16,女子種目コード!$M$1:$N$10,2,FALSE))))","v":""},null,"","",null,{"$f":"IF(Y16=\"\",\"\",IF(I16=1,VLOOKUP(Y16,男子種目コード!$D$1:$E$20,2,FALSE),IF(I16=2,VLOOKUP(Y16,女子種目コード!$D$1:$E$20,2,FALSE))))","v":""},null,"","",null,{"$f":"IF(AD16=\"\",\"\",IF(I16=1,VLOOKUP(AD16,男子種目コード!$A$1:$B$33,2,FALSE),IF(V16=2,VLOOKUP(I16,女子種目コード!$A$1:$B$28,2,FALSE))))","v":""},null,null,{"$f":"IF(AG16=\"\",\"\",IF(I16=1,VLOOKUP(AG16,男子種目コード!$A$1:$B$33,2,FALSE),IF(AA16=2,VLOOKUP(I16,女子種目コード!$A$1:$B$28,2,FALSE))))","v":""},null,null,null,null,"共通3000","",0,0,"走幅跳",{"$f":"COUNTIF($P$7:P$116,110)+COUNTIF($U$7:$U$116,110)","v":0},null,"記録",null,"記録",null,null,null,"砲丸投",null,null,null,null,0,"",""]
["",{"$f":"陸連登録!N12","v":0},null,null,{"$f":"陸連登録!M12","v":0},{"$f":"陸連登録!C12","v":0},{"$f":"陸連登録!D12","v":0},0,{"$f":"陸連登録!A12","v":""},{"$f":"陸連登録!P12","v":0},{"$f":"#REF!","v":{"$error":"#REF!"}},{"$f":"#REF!","v":{"$error":"#REF!"}},{"$f":"#REF!","v":{"$error":"#REF!"}},{"$f":"陸連登録!B12","v":0},null,{"$f":"IF(O17=\"\",\"\",IF(I17=1,VLOOKUP(O17,男子種目コード!$M$1:$N$13,2,FALSE),IF(I17=2,VLOOKUP(O17,女子種目コード!$M$1:$N$10,2,FALSE))))","v":""},null,"","",null,{"$f":"IF(T17=\"\",\"\",IF(I17=1,VLOOKUP(T17,男子種目コード!$M$1:$N$13,2,FALSE),IF(I17=2,VLOOKUP(T17,女子種目コード!$M$1:$N$10,2,FALSE))))","v":""},null,"","",null,{"$f":"IF(Y17=\"\",\"\",IF(I17=1,VLOOKUP(Y17,男子種目コード!$D$1:$E$20,2,FALSE),IF(I17=2,VLOOKUP(Y17,女子種目コード!$D$1:$E$20,2,FALSE))))","v":""},null,"","",null,{"$f":"IF(AD17=\"\",\"\",IF(I17=1,VLOOKUP(AD17,男子種目コード!$A$1:$B$33,2,FALSE),IF(V17=2,VLOOKUP(I17,女子種目コード!$A$1:$B$28,2,FALSE))))","v":""},null,null,{"$f":"IF(AG17=\"\",\"\",IF(I17=1,VLOOKUP(AG17,男子種目コード!$A$1:$B$33,2,FALSE),IF(AA17=2,VLOOKUP(I17,女子種目コード!$A$1:$B$28,2,FALSE))))","v":""},null,null,null,null,"共通110H","",0,0,"砲丸投",{"$f":"COUNTIF($P$7:P$116,111)+COUNTIF($U$7:$U$116,111)","v":0},null,{"$f":"COUNTIF($Z16:$Z125,38)","v":0},null,{"$f":"COUNTIF($Z16:$Z125,39)","v":0},null,null,null,"四種",null,null,null,null,0,"",""]
["",{"$f":"陸連登録!N13","v":0},null,null,{"$f":"陸連登録!M13","v":0},{"$f":"陸連登録!C13","v":0},{"$f":"陸連登録!D13","v":0},0,{"$f":"陸連登録!A13","v":""},{"$f":"陸連登録!P13","v":0},{"$f":"#REF!","v":{"$error":"#REF!"}},{"$f":"#REF!","v":{"$error":"#REF!"}},{"$f":"#REF!","v":{"$error":"#REF!"}},{"$f":"陸連登録!B13","v":0},null,{"$f":"IF(O18=\"\",\"\",IF(I18=1,VLOOKUP(O18,男子種目コード!$M$1:$N$13,2,FALSE),IF(I18=2,VLOOKUP(O18,女子種目コード!$M$1:$N$10,2,FALSE))))","v":""},null,"","",null,{"$f":"IF(T18=\"\",\"\",IF(I18=1,VLOOKUP(T18,男子種目コード!$M$1:$N$13,2,FALSE),IF(I18=2,VLOOKUP(T18,女子種目コード!$M$1:$N$10,2,FALSE))))","v":""},null,"","",null,{"$f":"IF(Y18=\"\",\"\",IF(I18=1,VLOOKUP(Y18,男子種目コード!$D$1:$E$20,2,FALSE),IF(I18=2,VLOOKUP(Y18,女子種目コード!$D$1:$E$20,2,FALSE))))","v":""},null,"","",null,{"$f":"IF(AD18=\"\",\"\",IF(I18=1,VLOOKUP(AD18,男子種目コード!$A$1:$B$33,2,FALSE),IF(V18=2,VLOOKUP(I18,女子種目コード!$A$1:$B$28,2,FALSE))))","v":""},null,null,{"$f":"IF(AG18=\"\",\"\",IF(I18=1,VLOOKUP(AG18,男子種目コード!$A$1:$B$33,2,FALSE),IF(AA18=2,VLOOKUP(I18,女子種目コード!$A$1:$B$28,2,FALSE))))","v":""},null,null,null,null,"共通100H","",0,0,"四種",{"$f":"COUNTIF($P$7:P$116,112)+COUNTIF($U$7:$U$116,112)","v":0},null,{"$f":"IF(ISERROR(BM18),\"\",BM18)","v":""},"","","",null,null,null,null,null,null,null,0,"","",null,null,null,null,null,{"$f":"[2]!VLookUpX(38,$A$7:$F$116,1,5)","v":{"$error":"#NAME?"}},{"$f":"[2]!VLookUpX(38,$A$7:$F$116,1,6)","v":{"$error":"#NAME?"}},{"$f":"[2]!VLookUpX(39,$A$7:$F$116,1,5)","v":{"$error":"#NAME?"}},{"$f":"[2]!VLookUpX(39,$A$7:$F$116,1,6)","v":{"$error":"#NAME?"}}]
["",{"$f":"陸連登録!N14","v":0},null,null,{"$f":"陸連登録!M14","v":0},{"$f":"陸連登録!C14","v":0},{"$f":"陸連登録!D14","v":0},0,{"$f":"陸連登録!A14","v":""},{"$f":"陸連登録!P14","v":0},{"$f":"#REF!","v":{"$error":"#REF!"}},{"$f":"#REF!","v":{"$error":"#REF!"}},{"$f":"#REF!","v":{"$error":"#REF!"}},{"$f":"陸連登録!B14","v":0},null,{"$f":"IF(O19=\"\",\"\",IF(I19=1,VLOOKUP(O19,男子種目コード!$M$1:$N$13,2,FALSE),IF(I19=2,VLOOKUP(O19,女子種目コード!$M$1:$N$10,2,FALSE))))","v":""},null,"","",null,{"$f":"IF(T19=\"\",\"\",IF(I19=1,VLOOKUP(T19,男子種目コード!$M$1:$N$13,2,FALSE),IF(I19=2,VLOOKUP(T19,女子種目コード!$M$1:$N$10,2,FALSE))))","v":""},null,"","",null,{"$f":"IF(Y19=\"\",\"\",IF(I19=1,VLOOKUP(Y19,男子種目コード!$D$1:$E$20,2,FALSE),IF(I19=2,VLOOKUP(Y19,女子種目コード!$D$1:$E$20,2,FALSE))))","v":""},null,"","",null,{"$f":"IF(AD19=\"\",\"\",IF(I19=1,VLOOKUP(AD19,男子種目コード!$A$1:$B$33,2,FALSE),IF(V19=2,VLOOKUP(I19,女子種目コード!$A$1:$B$28,2,FALSE))))","v":""},null,null,{"$f":"IF(AG19=\"\",\"\",IF(I19=1,VLOOKUP(AG19,男子種目コード!$A$1:$B$33,2,FALSE),IF(AA19=2,VLOOKUP(I19,女子種目コード!$A$1:$B$28,2,FALSE))))","v":""},null,null,null,null,"共通走高跳","",0,0,"計",{"$f":"SUM(AR7:AR18)","v":0},null,"","","","",null,null,null,null,null,null,null,0,"","",null,null,null,null,null,{"$f":"[2]!VLookUpX(38,$A$7:$F$116,2,5)","v":{"$error":"#NAME?"}},{"$f":"[2]!VLookUpX(38,$A$7:$F$116,2,6)","v":{"$error":"#NAME?"}},{"$f":"[2]!VLookUpX(39,$A$7:$F$116,2,5)","v":{"$error":"#NAME?"}},{"$f":"[2]!VLookUpX(39,$A$7:$F$116,2,6)","v":{"$error":"#NAME?"}}]
["",{"$f":"陸連登録!N15","v":0},null,null,{"$f":"陸連登録!M15","v":0},{"$f":"陸連登録!C15","v":0},{"$f":"陸連登録!D15","v":0},0,{"$f":"陸連登録!A15","v":""},{"$f":"陸連登録!P15","v":0},{"$f":"#REF!","v":{"$error":"#REF!"}},{"$f":"#REF!","v":{"$error":"#REF!"}},{"$f":"#REF!","v":{"$error":"#REF!"}},{"$f":"陸連登録!B15","v":0},null,{"$f":"IF(O20=\"\",\"\",IF(I20=1,VLOOKUP(O20,男子種目コード!$M$1:$N$13,2,FALSE),IF(I20=2,VLOOKUP(O20,女子種目コード!$M$1:$N$10,2,FALSE))))","v":""},null,"","",null,{"$f":"IF(T20=\"\",\"\",IF(I20=1,VLOOKUP(T20,男子種目コード!$M$1:$N$13,2,FALSE),IF(I20=2,VLOOKUP(T20,女子種目コード!$M$1:$N$10,2,FALSE))))","v":""},null,"","",null,{"$f":"IF(Y20=\"\",\"\",IF(I20=1,VLOOKUP(Y20,男子種目コード!$D$1:$E$20,2,FALSE),IF(I20=2,VLOOKUP(Y20,女子種目コード!$D$1:$E$20,2,FALSE))))","v":""},null,"","",null,{"$f":"IF(AD20=\"\",\"\",IF(I20=1,VLOOKUP(AD20,男子種目コード!$A$1:$B$33,2,FALSE),IF(V20=2,VLOOKUP(I20,女子種目コード!$A$1:$B$28,2,FALSE))))","v":""},null,null,{"$f":"IF(AG20=\"\",\"\",IF(I20=1,VLOOKUP(AG20,男子種目コード!$A$1:$B$33,2,FALSE),IF(AA20=2,VLOOKUP(I20,女子種目コード!$A$1:$B$28,2,FALSE))))","v":""},null,null,null,null,"共通棒高跳","",0,0,100,{"$f":"COUNTIF($P$7:P$116,113)+COUNTIF($U$7:$U$116,113)","v":0},null,"","","","",null,null,null,null,null,null,null,0,"","",null,null,null,null,null,{"$f":"[2]!VLookUpX(38,$A$7:$F$116,3,5)","v":{"$error":"#NAME?"}},{"$f":"[2]!VLookUpX(38,$A$7:$F$116,3,6)","v":{"$error":"#NAME?"}},{"$f":"[2]!VLookUpX(39,$A$7:$F$116,3,5)","v":{"$error":"#NAME?"}},{"$f":"[2]!VLookUpX(39,$A$7:$F$116,3,6)","v":{"$error":"#NAME?"}}]
["",{"$f":"陸連登録!N16","v":0},null,null,{"$f":"陸連登録!M16","v":0},{"$f":"陸連登録!C16","v":0},{"$f":"陸連登録!D16","v":0},0,{"$f":"陸連登録!A16","v":""},{"$f":"陸連登録!P16","v":0},{"$f":"#REF!","v":{"$error":"#REF!"}},{"$f":"#REF!","v":{"$error":"#REF!"}},{"$f":"#REF!","v":{"$error":"#REF!"}},{"$f":"陸連登録!B16","v":0},null,{"$f":"IF(O21=\"\",\"\",IF(I21=1,VLOOKUP(O21,男子種目コード!$M$1:$N$13,2,FALSE),IF(I21=2,VLOOKUP(O21,女子種目コード!$M$1:$N$10,2,FALSE))))","v":""},null,"","",null,{"$f":"IF(T21=\"\",\"\",IF(I21=1,VLOOKUP(T21,男子種目コード!$M$1:$N$13,2,FALSE),IF(I21=2,VLOOKUP(T21,女子種目コード!$M$1:$N$10,2,FALSE))))","v":""},null,"","",null,{"$f":"IF(Y21=\"\",\"\",IF(I21=1,VLOOKUP(Y21,男子種目コード!$D$1:$E$20,2,FALSE),IF(I21=2,VLOOKUP(Y21,女子種目コード!$D$1:$E$20,2,FALSE))))","v":""},null,"","",null,{"$f":"IF(AD21=\"\",\"\",IF(I21=1,VLOOKUP(AD21,男子種目コード!$A$1:$B$33,2,FALSE),IF(V21=2,VLOOKUP(I21,女子種目コード!$A$1:$B$28,2,FALSE))))","v":""},null,null,{"$f":"IF(AG21=\"\",\"\",IF(I21=1,VLOOKUP(AG21,男子種目コード!$A$1:$B$33,2,FALSE),IF(AA21=2,VLOOKUP(I21,女子種目コード!$A$1:$B$28,2,FALSE))))","v":""},null,null,null,null,"共通走幅跳","",0,0,200,{"$f":"COUNTIF($P$7:P$116,114)+COUNTIF($U$7:$U$116,114)","v":0},null,"","","","",null,null,null,null,null,null,null,0,"","",null,null,null,null,null,{"$f":"[2]!VLookUpX(38,$A$7:$F$116,4,5)","v":{"$error":"#NAME?"}},{"$f":"[2]!VLookUpX(38,$A$7:$F$116,4,6)","v":{"$error":"#NAME?"}},{"$f":"[2]!VLookUpX(39,$A$7:$F$116,4,5)","v":{"$error":"#NAME?"}},{"$f":"[2]!VLookUpX(39,$A$7:$F$116,4,6)","v":{"$error":"#NAME?"}}]
["",{"$f":"陸連登録!N17","v":0},null,null,{"$f":"陸連登録!M17","v":0},{"$f":"陸連登録!C17","v":0},{"$f":"陸連登録!D17","v":0},0,{"$f":"陸連登録!A17","v":""},{"$f":"陸連登録!P17","v":0},{"$f":"#REF!","v":{"$error":"#REF!"}},{"$f":"#REF!","v":{"$error":"#REF!"}},{"$f":"#REF!","v":{"$error":"#REF!"}},{"$f":"陸連登録!B17","v":0},null,{"$f":"IF(O22=\"\",\"\",IF(I22=1,VLOOKUP(O22,男子種目コード!$M$1:$N$13,2,FALSE),IF(I22=2,VLOOKUP(O22,女子種目コード!$M$1:$N$10,2,FALSE))))","v":""},null,"","",null,{"$f":"IF(T22=\"\",\"\",IF(I22=1,VLOOKUP(T22,男子種目コード!$M$1:$N$13,2,FALSE),IF(I22=2,VLOOKUP(T22,女子種目コード!$M$1:$N$10,2,FALSE))))","v":""},null,"","",null,{"$f":"IF(Y22=\"\",\"\",IF(I22=1,VLOOKUP(Y22,男子種目コード!$D$1:$E$20,2,FALSE),IF(I22=2,VLOOKUP(Y22,女子種目コード!$D$1:$E$20,2,FALSE))))","v":""},null,"","",null,{"$f":"IF(AD22=\"\",\"\",IF(I22=1,VLOOKUP(AD22,男子種目コード!$A$1:$B$33,2,FALSE),IF(V22=2,VLOOKUP(I22,女子種目コード!$A$1:$B$28,2,FALSE))))","v":""},null,null,{"$f":"IF(AG22=\"\",\"\",IF(I22=1,VLOOKUP(AG22,男子種目コード!$A$1:$B$33,2,FALSE),IF(AA22=2,VLOOKUP(I22,女子種目コード!$A$1:$B$28,2,FALSE))))","v":""},null,null,null,null,"共通三段跳","",0,0,800,{"$f":"COUNTIF($P$7:P$116,115)+COUNTIF($U$7:$U$116,115)","v":0},null,"","","","",null,null,null,null,null,null,null,0,"","",null,null,null,null,null,{"$f":"[2]!VLookUpX(38,$A$7:$F$116,5,5)","v":{"$error":"#NAME?"}},{"$f":"[2]!VLookUpX(38,$A$7:$F$116,5,6)","v":{"$error":"#NAME?"}},{"$f":"[2]!VLookUpX(39,$A$7:$F$116,5,5)","v":{"$error":"#NAME?"}},{"$f":"[2]!VLookUpX(39,$A$7:$F$116,5,6)","v":{"$error":"#NAME?"}}]
["",{"$f":"陸連登録!N18","v":0},null,null,{"$f":"陸連登録!M18","v":0},{"$f":"陸連登録!C18","v":0},{"$f":"陸連登録!D18","v":0},0,{"$f":"陸連登録!A18","v":""},{"$f":"陸連登録!P18","v":0},{"$f":"#REF!","v":{"$error":"#REF!"}},{"$f":"#REF!","v":{"$error":"#REF!"}},{"$f":"#REF!","v":{"$error":"#REF!"}},{"$f":"陸連登録!B18","v":0},null,{"$f":"IF(O23=\"\",\"\",IF(I23=1,VLOOKUP(O23,男子種目コード!$M$1:$N$13,2,FALSE),IF(I23=2,VLOOKUP(O23,女子種目コード!$M$1:$N$10,2,FALSE))))","v":""},null,"","",null,{"$f":"IF(T23=\"\",\"\",IF(I23=1,VLOOKUP(T23,男子種目コード!$M$1:$N$13,2,FALSE),IF(I23=2,VLOOKUP(T23,女子種目コード!$M$1:$N$10,2,FALSE))))","v":""},null,"","",null,{"$f":"IF(Y23=\"\",\"\",IF(I23=1,VLOOKUP(Y23,男子種目コード!$D$1:$E$20,2,FALSE),IF(I23=2,VLOOKUP(Y23,女子種目コード!$D$1:$E$20,2,FALSE))))","v":""},null,"","",null,{"$f":"IF(AD23=\"\",\"\",IF(I23=1,VLOOKUP(AD23,男子種目コード!$A$1:$B$33,2,FALSE),IF(V23=2,VLOOKUP(I23,女子種目コード!$A$1:$B$28,2,FALSE))))","v":""},null,null,{"$f":"IF(AG23=\"\",\"\",IF(I23=1,VLOOKUP(AG23,男子種目コード!$A$1:$B$33,2,FALSE),IF(AA23=2,VLOOKUP(I23,女子種目コード!$A$1:$B$28,2,FALSE))))","v":""},null,null,null,null,"共通砲丸投","",0,0,1500,{"$f":"COUNTIF($P$7:P$116,116)+COUNTIF($U$7:$U$116,116)","v":0},null,"","","","",null,null,null,null,null,null,null,0,"","",null,null,null,null,null,{"$f":"[2]!VLookUpX(38,$A$7:$F$116,6,5)","v":{"$error":"#NAME?"}},{"$f":"[2]!VLookUpX(38,$A$7:$F$116,6,6)","v":{"$error":"#NAME?"}},{"$f":"[2]!VLookUpX(39,$A$7:$F$116,6,5)","v":{"$error":"#NAME?"}},{"$f":"[2]!VLookUpX(39,$A$7:$F$116,6,6)","v":{"$error":"#NAME?"}}]
["",{"$f":"陸連登録!N19","v":0},null,null,{"$f":"陸連登録!M19","v":0},{"$f":"陸連登録!C19","v":0},{"$f":"陸連登録!D19","v":0},0,{"$f":"陸連登録!A19","v":""},{"$f":"陸連登録!P19","v":0},{"$f":"#REF!","v":{"$error":"#REF!"}},{"$f":"#REF!","v":{"$error":"#REF!"}},{"$f":"#REF!","v":{"$error":"#REF!"}},{"$f":"陸連登録!B19","v":0},null,{"$f":"IF(O24=\"\",\"\",IF(I24=1,VLOOKUP(O24,男子種目コード!$M$1:$N$13,2,FALSE),IF(I24=2,VLOOKUP(O24,女子種目コード!$M$1:$N$10,2,FALSE))))","v":""},null,"","",null,{"$f":"IF(T24=\"\",\"\",IF(I24=1,VLOOKUP(T24,男子種目コード!$M$1:$N$13,2,FALSE),IF(I24=2,VLOOKUP(T24,女子種目コード!$M$1:$N$10,2,FALSE))))","v":""},null,"","",null,{"$f":"IF(Y24=\"\",\"\",IF(I24=1,VLOOKUP(Y24,男子種目コード!$D$1:$E$20,2,FALSE),IF(I24=2,VLOOKUP(Y24,女子種目コード!$D$1:$E$20,2,FALSE))))","v":""},null,"","",null,{"$f":"IF(AD24=\"\",\"\",IF(I24=1,VLOOKUP(AD24,男子種目コード!$A$1:$B$33,2,FALSE),IF(V24=2,VLOOKUP(I24,女子種目コード!$A$1:$B$28,2,FALSE))))","v":""},null,null,{"$f":"IF(AG24=\"\",\"\",IF(I24=1,VLOOKUP(AG24,男子種目コード!$A$1:$B$33,2,FALSE),IF(AA24=2,VLOOKUP(I24,女子種目コード!$A$1:$B$28,2,FALSE))))","v":""},null,null,null,null,"共通円盤投","",0,0,"100H",{"$f":"COUNTIF($P$7:P$116,117)+COUNTIF($U$7:$U$116,117)","v":0},null,null,null,null,null,null,null,null,null,null,null,null,0,"",""]
["",{"$f":"陸連登録!N20","v":0},null,null,{"$f":"陸連登録!M20","v":0},{"$f":"陸連登録!C20","v":0},{"$f":"陸連登録!D20","v":0},0,{"$f":"陸連登録!A20","v":""},{"$f":"陸連登録!P20","v":0},{"$f":"#REF!","v":{"$error":"#REF!"}},{"$f":"#REF!","v":{"$error":"#REF!"}},{"$f":"#REF!","v":{"$error":"#REF!"}},{"$f":"陸連登録!B20","v":0},null,{"$f":"IF(O25=\"\",\"\",IF(I25=1,VLOOKUP(O25,男子種目コード!$M$1:$N$13,2,FALSE),IF(I25=2,VLOOKUP(O25,女子種目コード!$M$1:$N$10,2,FALSE))))","v":""},null,"","",null,{"$f":"IF(T25=\"\",\"\",IF(I25=1,VLOOKUP(T25,男子種目コード!$M$1:$N$13,2,FALSE),IF(I25=2,VLOOKUP(T25,女子種目コード!$M$1:$N$10,2,FALSE))))","v":""},null,"","",null,{"$f":"IF(Y25=\"\",\"\",IF(I25=1,VLOOKUP(Y25,男子種目コード!$D$1:$E$20,2,FALSE),IF(I25=2,VLOOKUP(Y25,女子種目コード!$D$1:$E$20,2,FALSE))))","v":""},null,"","",null,{"$f":"IF(AD25=\"\",\"\",IF(I25=1,VLOOKUP(AD25,男子種目コード!$A$1:$B$33,2,FALSE),IF(V25=2,VLOOKUP(I25,女子種目コード!$A$1:$B$28,2,FALSE))))","v":""},null,null,{"$f":"IF(AG25=\"\",\"\",IF(I25=1,VLOOKUP(AG25,男子種目コード!$A$1:$B$33,2,FALSE),IF(AA25=2,VLOOKUP(I25,女子種目コード!$A$1:$B$28,2,FALSE))))","v":""},null,null,null,null,"低学年R","",0,0,"走高跳",{"$f":"COUNTIF($P$7:P$116,118)+COUNTIF($U$7:$U$116,118)","v":0},null,null,null,null,null,null,null,null,null,null,null,null,0,"",""]
["",{"$f":"陸連登録!N21","v":0},null,null,{"$f":"陸連登録!M21","v":0},{"$f":"陸連登録!C21","v":0},{"$f":"陸連登録!D21","v":0},0,{"$f":"陸連登録!A21","v":""},{"$f":"陸連登録!P21","v":0},{"$f":"#REF!","v":{"$error":"#REF!"}},{"$f":"#REF!","v":{"$error":"#REF!"}},{"$f":"#REF!","v":{"$error":"#REF!"}},{"$f":"陸連登録!B21","v":0},null,{"$f":"IF(O26=\"\",\"\",IF(I26=1,VLOOKUP(O26,男子種目コード!$M$1:$N$13,2,FALSE),IF(I26=2,VLOOKUP(O26,女子種目コード!$M$1:$N$10,2,FALSE))))","v":""},null,"","",null,{"$f":"IF(T26=\"\",\"\",IF(I26=1,VLOOKUP(T26,男子種目コード!$M$1:$N$13,2,FALSE),IF(I26=2,VLOOKUP(T26,女子種目コード!$M$1:$N$10,2,FALSE))))","v":""},null,"","",null,{"$f":"IF(Y26=\"\",\"\",IF(I26=1,VLOOKUP(Y26,男子種目コード!$D$1:$E$20,2,FALSE),IF(I26=2,VLOOKUP(Y26,女子種目コード!$D$1:$E$20,2,FALSE))))","v":""},null,"","",null,{"$f":"IF(AD26=\"\",\"\",IF(I26=1,VLOOKUP(AD26,男子種目コード!$A$1:$B$33,2,FALSE),IF(V26=2,VLOOKUP(I26,女子種目コード!$A$1:$B$28,2,FALSE))))","v":""},null,null,{"$f":"IF(AG26=\"\",\"\",IF(I26=1,VLOOKUP(AG26,男子種目コード!$A$1:$B$33,2,FALSE),IF(AA26=2,VLOOKUP(I26,女子種目コード!$A$1:$B$28,2,FALSE))))","v":""},null,null,null,null,"4×100R","",0,0,"走幅跳",{"$f":"COUNTIF($P$7:P$116,119)+COUNTIF($U$7:$U$116,119)","v":0},null,null,null,null,null,null,null,null,null,null,null,null,0,"",""]
["",{"$f":"陸連登録!N22","v":0},null,null,{"$f":"陸連登録!M22","v":0},{"$f":"陸連登録!C22","v":0},{"$f":"陸連登録!D22","v":0},0,{"$f":"陸連登録!A22","v":""},{"$f":"陸連登録!P22","v":0},{"$f":"#REF!","v":{"$error":"#REF!"}},{"$f":"#REF!","v":{"$error":"#REF!"}},{"$f":"#REF!","v":{"$error":"#REF!"}},{"$f":"陸連登録!B22","v":0},null,{"$f":"IF(O27=\"\",\"\",IF(I27=1,VLOOKUP(O27,男子種目コード!$M$1:$N$13,2,FALSE),IF(I27=2,VLOOKUP(O27,女子種目コード!$M$1:$N$10,2,FALSE))))","v":""},null,"","",null,{"$f":"IF(T27=\"\",\"\",IF(I27=1,VLOOKUP(T27,男子種目コード!$M$1:$N$13,2,FALSE),IF(I27=2,VLOOKUP(T27,女子種目コード!$M$1:$N$10,2,FALSE))))","v":""},null,"","",null,{"$f":"IF(Y27=\"\",\"\",IF(I27=1,VLOOKUP(Y27,男子種目コード!$D$1:$E$20,2,FALSE),IF(I27=2,VLOOKUP(Y27,女子種目コード!$D$1:$E$20,2,FALSE))))","v":""},null,"","",null,{"$f":"IF(AD27=\"\",\"\",IF(I27=1,VLOOKUP(AD27,男子種目コード!$A$1:$B$33,2,FALSE),IF(V27=2,VLOOKUP(I27,女子種目コード!$A$1:$B$28,2,FALSE))))","v":""},null,null,{"$f":"IF(AG27=\"\",\"\",IF(I27=1,VLOOKUP(AG27,男子種目コード!$A$1:$B$33,2,FALSE),IF(AA27=2,VLOOKUP(I27,女子種目コード!$A$1:$B$28,2,FALSE))))","v":""},null,null,null,null,null,"",0,0,"砲丸投",{"$f":"COUNTIF($P$7:P$116,120)+COUNTIF($U$7:$U$116,120)","v":0},null,null,null,null,null,null,null,null,null,null,null,null,0,"",""]
["",{"$f":"陸連登録!N23","v":0},null,null,{"$f":"陸連登録!M23","v":0},{"$f":"陸連登録!C23","v":0},{"$f":"陸連登録!D23","v":0},0,{"$f":"陸連登録!A23","v":""},{"$f":"陸連登録!P23","v":0},{"$f":"#REF!","v":{"$error":"#REF!"}},{"$f":"#REF!","v":{"$error":"#REF!"}},{"$f":"#REF!","v":{"$error":"#REF!"}},{"$f":"陸連登録!B23","v":0},null,{"$f":"IF(O28=\"\",\"\",IF(I28=1,VLOOKUP(O28,男子種目コード!$M$1:$N$13,2,FALSE),IF(I28=2,VLOOKUP(O28,女子種目コード!$M$1:$N$10,2,FALSE))))","v":""},null,"","",null,{"$f":"IF(T28=\"\",\"\",IF(I28=1,VLOOKUP(T28,男子種目コード!$M$1:$N$13,2,FALSE),IF(I28=2,VLOOKUP(T28,女子種目コード!$M$1:$N$10,2,FALSE))))","v":""},null,"","",null,{"$f":"IF(Y28=\"\",\"\",IF(I28=1,VLOOKUP(Y28,男子種目コード!$D$1:$E$20,2,FALSE),IF(I28=2,VLOOKUP(Y28,女子種目コード!$D$1:$E$20,2,FALSE))))","v":""},null,"","",null,{"$f":"IF(AD28=\"\",\"\",IF(I28=1,VLOOKUP(AD28,男子種目コード!$A$1:$B$33,2,FALSE),IF(V28=2,VLOOKUP(I28,女子種目コード!$A$1:$B$28,2,FALSE))))","v":""},null,null,{"$f":"IF(AG28=\"\",\"\",IF(I28=1,VLOOKUP(AG28,男子種目コード!$A$1:$B$33,2,FALSE),IF(AA28=2,VLOOKUP(I28,女子種目コード!$A$1:$B$28,2,FALSE))))","v":""},null,null,null,null,null,"",0,0,"四種",{"$f":"COUNTIF($P$7:P$116,121)+COUNTIF($U$7:$U$116,121)","v":0},null,null,null,null,null,null,null,null,null,null,null,null,0,"",""]
["",{"$f":"陸連登録!N24","v":0},null,null,{"$f":"陸連登録!M24","v":0},{"$f":"陸連登録!C24","v":0},{"$f":"陸連登録!D24","v":0},0,{"$f":"陸連登録!A24","v":""},{"$f":"陸連登録!P24","v":0},{"$f":"#REF!","v":{"$error":"#REF!"}},{"$f":"#REF!","v":{"$error":"#REF!"}},{"$f":"#REF!","v":{"$error":"#REF!"}},{"$f":"陸連登録!B24","v":0},null,{"$f":"IF(O29=\"\",\"\",IF(I29=1,VLOOKUP(O29,男子種目コード!$M$1:$N$13,2,FALSE),IF(I29=2,VLOOKUP(O29,女子種目コード!$M$1:$N$10,2,FALSE))))","v":""},null,"","",null,{"$f":"IF(T29=\"\",\"\",IF(I29=1,VLOOKUP(T29,男子種目コード!$M$1:$N$13,2,FALSE),IF(I29=2,VLOOKUP(T29,女子種目コード!$M$1:$N$10,2,FALSE))))","v":""},null,"","",null,{"$f":"IF(Y29=\"\",\"\",IF(I29=1,VLOOKUP(Y29,男子種目コード!$D$1:$E$20,2,FALSE),IF(I29=2,VLOOKUP(Y29,女子種目コード!$D$1:$E$20,2,FALSE))))","v":""},null,"","",null,{"$f":"IF(AD29=\"\",\"\",IF(I29=1,VLOOKUP(AD29,男子種目コード!$A$1:$B$33,2,FALSE),IF(V29=2,VLOOKUP(I29,女子種目コード!$A$1:$B$28,2,FALSE))))","v":""},null,null,{"$f":"IF(AG29=\"\",\"\",IF(I29=1,VLOOKUP(AG29,男子種目コード!$A$1:$B$33,2,FALSE),IF(AA29=2,VLOOKUP(I29,女子種目コード!$A$1:$B$28,2,FALSE))))","v":""},null,null,null,null,null,"",0,0,"計",{"$f":"SUM(AR20:AR28)","v":0},null,null,null,null,null,null,null,null,null,null,null,null,0,"",""]
["",{"$f":"陸連登録!N25","v":0},null,null,{"$f":"陸連登録!M25","v":0},{"$f":"陸連登録!C25","v":0},{"$f":"陸連登録!D25","v":0},0,{"$f":"陸連登録!A25","v":""},{"$f":"陸連登録!P25","v":0},{"$f":"#REF!","v":{"$error":"#REF!"}},{"$f":"#REF!","v":{"$error":"#REF!"}},{"$f":"#REF!","v":{"$error":"#REF!"}},{"$f":"陸連登録!B25","v":0},null,{"$f":"IF(O30=\"\",\"\",IF(I30=1,VLOOKUP(O30,男子種目コード!$M$1:$N$13,2,FALSE),IF(I30=2,VLOOKUP(O30,女子種目コード!$M$1:$N$10,2,FALSE))))","v":""},null,"","",null,{"$f":"IF(T30=\"\",\"\",IF(I30=1,VLOOKUP(T30,男子種目コード!$M$1:$N$13,2,FALSE),IF(I30=2,VLOOKUP(T30,女子種目コード!$M$1:$N$10,2,FALSE))))","v":""},null,"","",null,{"$f":"IF(Y30=\"\",\"\",IF(I30=1,VLOOKUP(Y30,男子種目コード!$D$1:$E$20,2,FALSE),IF(I30=2,VLOOKUP(Y30,女子種目コード!$D$1:$E$20,2,FALSE))))","v":""},null,"","",null,{"$f":"IF(AD30=\"\",\"\",IF(I30=1,VLOOKUP(AD30,男子種目コード!$A$1:$B$33,2,FALSE),IF(V30=2,VLOOKUP(I30,女子種目コード!$A$1:$B$28,2,FALSE))))","v":""},null,null,{"$f":"IF(AG30=\"\",\"\",IF(I30=1,VLOOKUP(AG30,男子種目コード!$A$1:$B$33,2,FALSE),IF(AA30=2,VLOOKUP(I30,女子種目コード!$A$1:$B$28,2,FALSE))))","v":""},null,null,null,null,null,"",0,0,"参加標準記録",null,null,null,null,null,null,null,null,null,null,null,null,null,0,"",""]
["",{"$f":"陸連登録!N26","v":0},null,null,{"$f":"陸連登録!M26","v":0},{"$f":"陸連登録!C26","v":0},{"$f":"陸連登録!D26","v":0},0,{"$f":"陸連登録!A26","v":""},{"$f":"陸連登録!P26","v":0},{"$f":"#REF!","v":{"$error":"#REF!"}},{"$f":"#REF!","v":{"$error":"#REF!"}},{"$f":"#REF!","v":{"$error":"#REF!"}},{"$f":"陸連登録!B26","v":0},null,{"$f":"IF(O31=\"\",\"\",IF(I31=1,VLOOKUP(O31,男子種目コード!$M$1:$N$13,2,FALSE),IF(I31=2,VLOOKUP(O31,女子種目コード!$M$1:$N$10,2,FALSE))))","v":""},null,"","",null,{"$f":"IF(T31=\"\",\"\",IF(I31=1,VLOOKUP(T31,男子種目コード!$M$1:$N$13,2,FALSE),IF(I31=2,VLOOKUP(T31,女子種目コード!$M$1:$N$10,2,FALSE))))","v":""},null,"","",null,{"$f":"IF(Y31=\"\",\"\",IF(I31=1,VLOOKUP(Y31,男子種目コード!$D$1:$E$20,2,FALSE),IF(I31=2,VLOOKUP(Y31,女子種目コード!$D$1:$E$20,2,FALSE))))","v":""},null,"","",null,{"$f":"IF(AD31=\"\",\"\",IF(I31=1,VLOOKUP(AD31,男子種目コード!$A$1:$B$33,2,FALSE),IF(V31=2,VLOOKUP(I31,女子種目コード!$A$1:$B$28,2,FALSE))))","v":""},null,null,{"$f":"IF(AG31=\"\",\"\",IF(I31=1,VLOOKUP(AG31,男子種目コード!$A$1:$B$33,2,FALSE),IF(AA31=2,VLOOKUP(I31,女子種目コード!$A$1:$B$28,2,FALSE))))","v":""},null,null,null,null,null,"",0,0,"男子",null,null,null,null,null,null,null,null,null,null,null,null,null,0,"",""]
["",{"$f":"陸連登録!N27","v":0},null,null,{"$f":"陸連登録!M27","v":0},{"$f":"陸連登録!C27","v":0},{"$f":"陸連登録!D27","v":0},0,{"$f":"陸連登録!A27","v":""},{"$f":"陸連登録!P27","v":0},{"$f":"#REF!","v":{"$error":"#REF!"}},{"$f":"#REF!","v":{"$error":"#REF!"}},{"$f":"#REF!","v":{"$error":"#REF!"}},{"$f":"陸連登録!B27","v":0},null,{"$f":"IF(O32=\"\",\"\",IF(I32=1,VLOOKUP(O32,男子種目コード!$M$1:$N$13,2,FALSE),IF(I32=2,VLOOKUP(O32,女子種目コード!$M$1:$N$10,2,FALSE))))","v":""},null,"","",null,{"$f":"IF(T32=\"\",\"\",IF(I32=1,VLOOKUP(T32,男子種目コード!$M$1:$N$13,2,FALSE),IF(I32=2,VLOOKUP(T32,女子種目コード!$M$1:$N$10,2,FALSE))))","v":""},null,"","",null,{"$f":"IF(Y32=\"\",\"\",IF(I32=1,VLOOKUP(Y32,男子種目コード!$D$1:$E$20,2,FALSE),IF(I32=2,VLOOKUP(Y32,女子種目コード!$D$1:$E$20,2,FALSE))))","v":""},null,"","",null,{"$f":"IF(AD32=\"\",\"\",IF(I32=1,VLOOKUP(AD32,男子種目コード!$A$1:$B$33,2,FALSE),IF(V32=2,VLOOKUP(I32,女子種目コード!$A$1:$B$28,2,FALSE))))","v":""},null,null,{"$f":"IF(AG32=\"\",\"\",IF(I32=1,VLOOKUP(AG32,男子種目コード!$A$1:$B$33,2,FALSE),IF(AA32=2,VLOOKUP(I32,女子種目コード!$A$1:$B$28,2,FALSE))))","v":""},null,null,null,null,null,"",0,0,100,"11.90",null,null,null,null,null,null,null,null,null,null,null,null,0,"",""]
["",{"$f":"陸連登録!N28","v":0},null,null,{"$f":"陸連登録!M28","v":0},{"$f":"陸連登録!C28","v":0},{"$f":"陸連登録!D28","v":0},0,{"$f":"陸連登録!A28","v":""},{"$f":"陸連登録!P28","v":0},{"$f":"#REF!","v":{"$error":"#REF!"}},{"$f":"#REF!","v":{"$error":"#REF!"}},{"$f":"#REF!","v":{"$error":"#REF!"}},{"$f":"陸連登録!B28","v":0},null,{"$f":"IF(O33=\"\",\"\",IF(I33=1,VLOOKUP(O33,男子種目コード!$M$1:$N$13,2,FALSE),IF(I33=2,VLOOKUP(O33,女子種目コード!$M$1:$N$10,2,FALSE))))","v":""},null,"","",null,{"$f":"IF(T33=\"\",\"\",IF(I33=1,VLOOKUP(T33,男子種目コード!$M$1:$N$13,2,FALSE),IF(I33=2,VLOOKUP(T33,女子種目コード!$M$1:$N$10,2,FALSE))))","v":""},null,"","",null,{"$f":"IF(Y33=\"\",\"\",IF(I33=1,VLOOKUP(Y33,男子種目コード!$D$1:$E$20,2,FALSE),IF(I33=2,VLOOKUP(Y33,女子種目コード!$D$1:$E$20,2,FALSE))))","v":""},null,"","",null,{"$f":"IF(AD33=\"\",\"\",IF(I33=1,VLOOKUP(AD33,男子種目コード!$A$1:$B$33,2,FALSE),IF(V33=2,VLOOKUP(I33,女子種目コード!$A$1:$B$28,2,FALSE))))","v":""},null,null,{"$f":"IF(AG33=\"\",\"\",IF(I33=1,VLOOKUP(AG33,男子種目コード!$A$1:$B$33,2,FALSE),IF(AA33=2,VLOOKUP(I33,女子種目コード!$A$1:$B$28,2,FALSE))))","v":""},null,null,null,null,null,"",0,0,200,"24.30",null,null,null,null,null,null,null,null,null,null,null,null,0,"",""]
["",{"$f":"陸連登録!N29","v":0},null,null,{"$f":"陸連登録!M29","v":0},{"$f":"陸連登録!C29","v":0},{"$f":"陸連登録!D29","v":0},0,{"$f":"陸連登録!A29","v":""},{"$f":"陸連登録!P29","v":0},{"$f":"#REF!","v":{"$error":"#REF!"}},{"$f":"#REF!","v":{"$error":"#REF!"}},{"$f":"#REF!","v":{"$error":"#REF!"}},{"$f":"陸連登録!B29","v":0},null,{"$f":"IF(O34=\"\",\"\",IF(I34=1,VLOOKUP(O34,男子種目コード!$M$1:$N$13,2,FALSE),IF(I34=2,VLOOKUP(O34,女子種目コード!$M$1:$N$10,2,FALSE))))","v":""},null,"","",null,{"$f":"IF(T34=\"\",\"\",IF(I34=1,VLOOKUP(T34,男子種目コード!$M$1:$N$13,2,FALSE),IF(I34=2,VLOOKUP(T34,女子種目コード!$M$1:$N$10,2,FALSE))))","v":""},null,"","",null,{"$f":"IF(Y34=\"\",\"\",IF(I34=1,VLOOKUP(Y34,男子種目コード!$D$1:$E$20,2,FALSE),IF(I34=2,VLOOKUP(Y34,女子種目コード!$D$1:$E$20,2,FALSE))))","v":""},null,"","",null,{"$f":"IF(AD34=\"\",\"\",IF(I34=1,VLOOKUP(AD34,男子種目コード!$A$1:$B$33,2,FALSE),IF(V34=2,VLOOKUP(I34,女子種目コード!$A$1:$B$28,2,FALSE))))","v":""},null,null,{"$f":"IF(AG34=\"\",\"\",IF(I34=1,VLOOKUP(AG34,男子種目コード!$A$1:$B$33,2,FALSE),IF(AA34=2,VLOOKUP(I34,女子種目コード!$A$1:$B$28,2,FALSE))))","v":""},null,null,null,null,null,"",0,0,400,"55.80",null,null,null,null,null,null,null,null,null,null,null,null,0,"",""]
["",{"$f":"陸連登録!N30","v":0},null,null,{"$f":"陸連登録!M30","v":0},{"$f":"陸連登録!C30","v":0},{"$f":"陸連登録!D30","v":0},0,{"$f":"陸連登録!A30","v":""},{"$f":"陸連登録!P30","v":0},{"$f":"#REF!","v":{"$error":"#REF!"}},{"$f":"#REF!","v":{"$error":"#REF!"}},{"$f":"#REF!","v":{"$error":"#REF!"}},{"$f":"陸連登録!B30","v":0},null,{"$f":"IF(O35=\"\",\"\",IF(I35=1,VLOOKUP(O35,男子種目コード!$M$1:$N$13,2,FALSE),IF(I35=2,VLOOKUP(O35,女子種目コード!$M$1:$N$10,2,FALSE))))","v":""},null,"","",null,{"$f":"IF(T35=\"\",\"\",IF(I35=1,VLOOKUP(T35,男子種目コード!$M$1:$N$13,2,FALSE),IF(I35=2,VLOOKUP(T35,女子種目コード!$M$1:$N$10,2,FALSE))))","v":""},null,"","",null,{"$f":"IF(Y35=\"\",\"\",IF(I35=1,VLOOKUP(Y35,男子種目コード!$D$1:$E$20,2,FALSE),IF(I35=2,VLOOKUP(Y35,女子種目コード!$D$1:$E$20,2,FALSE))))","v":""},null,"","",null,{"$f":"IF(AD35=\"\",\"\",IF(I35=1,VLOOKUP(AD35,男子種目コード!$A$1:$B$33,2,FALSE),IF(V35=2,VLOOKUP(I35,女子種目コード!$A$1:$B$28,2,FALSE))))","v":""},null,null,{"$f":"IF(AG35=\"\",\"\",IF(I35=1,VLOOKUP(AG35,男子種目コード!$A$1:$B$33,2,FALSE),IF(AA35=2,VLOOKUP(I35,女子種目コード!$A$1:$B$28,2,FALSE))))","v":""},null,null,null,null,null,"",0,0,800,"2.09.00",null,null,null,null,null,null,null,null,null,null,null,null,0,"",""]
["",{"$f":"陸連登録!N31","v":0},null,null,{"$f":"陸連登録!M31","v":0},{"$f":"陸連登録!C31","v":0},{"$f":"陸連登録!D31","v":0},0,{"$f":"陸連登録!A31","v":""},{"$f":"陸連登録!P31","v":0},{"$f":"#REF!","v":{"$error":"#REF!"}},{"$f":"#REF!","v":{"$error":"#REF!"}},{"$f":"#REF!","v":{"$error":"#REF!"}},{"$f":"陸連登録!B31","v":0},null,{"$f":"IF(O36=\"\",\"\",IF(I36=1,VLOOKUP(O36,男子種目コード!$M$1:$N$13,2,FALSE),IF(I36=2,VLOOKUP(O36,女子種目コード!$M$1:$N$10,2,FALSE))))","v":""},null,"","",null,{"$f":"IF(T36=\"\",\"\",IF(I36=1,VLOOKUP(T36,男子種目コード!$M$1:$N$13,2,FALSE),IF(I36=2,VLOOKUP(T36,女子種目コード!$M$1:$N$10,2,FALSE))))","v":""},null,"","",null,{"$f":"IF(Y36=\"\",\"\",IF(I36=1,VLOOKUP(Y36,男子種目コード!$D$1:$E$20,2,FALSE),IF(I36=2,VLOOKUP(Y36,女子種目コード!$D$1:$E$20,2,FALSE))))","v":""},null,"","",null,{"$f":"IF(AD36=\"\",\"\",IF(I36=1,VLOOKUP(AD36,男子種目コード!$A$1:$B$33,2,FALSE),IF(V36=2,VLOOKUP(I36,女子種目コード!$A$1:$B$28,2,FALSE))))","v":""},null,null,{"$f":"IF(AG36=\"\",\"\",IF(I36=1,VLOOKUP(AG36,男子種目コード!$A$1:$B$33,2,FALSE),IF(AA36=2,VLOOKUP(I36,女子種目コード!$A$1:$B$28,2,FALSE))))","v":""},null,null,null,null,null,"",0,0,1500,"4.30.00",null,null,null,null,null,null,null,null,null,null,null,null,0,"",""]
["",{"$f":"陸連登録!N32","v":0},null,null,{"$f":"陸連登録!M32","v":0},{"$f":"陸連登録!C32","v":0},{"$f":"陸連登録!D32","v":0},0,{"$f":"陸連登録!A32","v":""},{"$f":"陸連登録!P32","v":0},{"$f":"#REF!","v":{"$error":"#REF!"}},{"$f":"#REF!","v":{"$error":"#REF!"}},{"$f":"#REF!","v":{"$error":"#REF!"}},{"$f":"陸連登録!B32","v":0},null,{"$f":"IF(O37=\"\",\"\",IF(I37=1,VLOOKUP(O37,男子種目コード!$M$1:$N$13,2,FALSE),IF(I37=2,VLOOKUP(O37,女子種目コード!$M$1:$N$10,2,FALSE))))","v":""},null,"","",null,{"$f":"IF(T37=\"\",\"\",IF(I37=1,VLOOKUP(T37,男子種目コード!$M$1:$N$13,2,FALSE),IF(I37=2,VLOOKUP(T37,女子種目コード!$M$1:$N$10,2,FALSE))))","v":""},null,"","",null,{"$f":"IF(Y37=\"\",\"\",IF(I37=1,VLOOKUP(Y37,男子種目コード!$D$1:$E$20,2,FALSE),IF(I37=2,VLOOKUP(Y37,女子種目コード!$D$1:$E$20,2,FALSE))))","v":""},null,"","",null,{"$f":"IF(AD37=\"\",\"\",IF(I37=1,VLOOKUP(AD37,男子種目コード!$A$1:$B$33,2,FALSE),IF(V37=2,VLOOKUP(I37,女子種目コード!$A$1:$B$28,2,FALSE))))","v":""},null,null,{"$f":"IF(AG37=\"\",\"\",IF(I37=1,VLOOKUP(AG37,男子種目コード!$A$1:$B$33,2,FALSE),IF(AA37=2,VLOOKUP(I37,女子種目コード!$A$1:$B$28,2,FALSE))))","v":""},null,null,null,null,null,"",0,0,3000,"9.45.00",null,null,null,null,null,null,null,null,null,null,null,null,0,"",""]
["",{"$f":"陸連登録!N33","v":0},null,null,{"$f":"陸連登録!M33","v":0},{"$f":"陸連登録!C33","v":0},{"$f":"陸連登録!D33","v":0},0,{"$f":"陸連登録!A33","v":""},{"$f":"陸連登録!P33","v":0},{"$f":"#REF!","v":{"$error":"#REF!"}},{"$f":"#REF!","v":{"$error":"#REF!"}},{"$f":"#REF!","v":{"$error":"#REF!"}},{"$f":"陸連登録!B33","v":0},null,{"$f":"IF(O38=\"\",\"\",IF(I38=1,VLOOKUP(O38,男子種目コード!$M$1:$N$13,2,FALSE),IF(I38=2,VLOOKUP(O38,女子種目コード!$M$1:$N$10,2,FALSE))))","v":""},null,"","",null,{"$f":"IF(T38=\"\",\"\",IF(I38=1,VLOOKUP(T38,男子種目コード!$M$1:$N$13,2,FALSE),IF(I38=2,VLOOKUP(T38,女子種目コード!$M$1:$N$10,2,FALSE))))","v":""},null,"","",null,{"$f":"IF(Y38=\"\",\"\",IF(I38=1,VLOOKUP(Y38,男子種目コード!$D$1:$E$20,2,FALSE),IF(I38=2,VLOOKUP(Y38,女子種目コード!$D$1:$E$20,2,FALSE))))","v":""},null,"","",null,{"$f":"IF(AD38=\"\",\"\",IF(I38=1,VLOOKUP(AD38,男子種目コード!$A$1:$B$33,2,FALSE),IF(V38=2,VLOOKUP(I38,女子種目コード!$A$1:$B$28,2,FALSE))))","v":""},null,null,{"$f":"IF(AG38=\"\",\"\",IF(I38=1,VLOOKUP(AG38,男子種目コード!$A$1:$B$33,2,FALSE),IF(AA38=2,VLOOKUP(I38,女子種目コード!$A$1:$B$28,2,FALSE))))","v":""},null,null,null,null,null,"",0,0,"110YH","17.00",null,null,null,null,null,null,null,null,null,null,null,null,0,"",""]
[{"$f":"Z39","v":""},{"$f":"陸連登録!N34","v":0},null,null,{"$f":"陸連登録!M34","v":0},{"$f":"陸連登録!C34","v":0},{"$f":"陸連登録!D34","v":0},0,{"$f":"陸連登録!A34","v":""},{"$f":"陸連登録!P34","v":0},{"$f":"#REF!","v":{"$error":"#REF!"}},{"$f":"#REF!","v":{"$error":"#REF!"}},{"$f":"#REF!","v":{"$error":"#REF!"}},{"$f":"陸連登録!B34","v":0},null,{"$f":"IF(O39=\"\",\"\",IF(I39=1,VLOOKUP(O39,男子種目コード!$M$1:$N$13,2,FALSE),IF(I39=2,VLOOKUP(O39,女子種目コード!$M$1:$N$10,2,FALSE))))","v":""},null,{"$f":"IF(O39=\"\",\"\",0)","v":""},{"$f":"IF(O39=\"\",\"\",2)","v":""},null,{"$f":"IF(T39=\"\",\"\",IF(I39=1,VLOOKUP(T39,男子種目コード!$M$1:$N$13,2,FALSE),IF(I39=2,VLOOKUP(T39,女子種目コード!$M$1:$N$10,2,FALSE))))","v":""},null,{"$f":"IF(T39=\"\",\"\",0)","v":""},{"$f":"IF(T39=\"\",\"\",2)","v":""},null,{"$f":"IF(Y39=\"\",\"\",IF(I39=1,VLOOKUP(Y39,男子種目コード!$D$1:$E$20,2,FALSE),IF(I39=2,VLOOKUP(Y39,女子種目コード!$D$1:$E$20,2,FALSE))))","v":""},null,{"$f":"IF(Y39=\"\",\"\",0)","v":""},{"$f":"IF(Y39=\"\",\"\",2)","v":""},null,{"$f":"IF(AD39=\"\",\"\",IF(I39=1,VLOOKUP(AD39,男子種目コード!$A$1:$B$33,2,FALSE),IF(V39=2,VLOOKUP(I39,女子種目コード!$A$1:$B$28,2,FALSE))))","v":""},null,null,{"$f":"IF(AG39=\"\",\"\",IF(I39=1,VLOOKUP(AG39,男子種目コード!$A$1:$B$33,2,FALSE),IF(AA39=2,VLOOKUP(I39,女子種目コード!$A$1:$B$28,2,FALSE))))","v":""},null,null,null,null,null,{"$f":"IF(O39=\"\",\"\",1)","v":""},{"$f":"IF(OR(AN39=1,T39=\"\"),0,1)","v":0},{"$f":"IF(OR(AN39=1,AO39=1,Y39=\"\"),0,1)","v":0},"走高跳","1m65",null,null,null,null,null,null,null,null,null,null,null,null,{"$f":"COUNT(P39,U39,Z39)","v":0},{"$f":"IF(I39=1,BE39,\"\")","v":""},{"$f":"IF(I39=2,BE39,\"\")","v":""}]
["",{"$f":"陸連登録!N35","v":0},null,null,{"$f":"陸連登録!M35","v":0},{"$f":"陸連登録!C35","v":0},{"$f":"陸連登録!D35","v":0},0,{"$f":"陸連登録!A35","v":""},{"$f":"陸連登録!P35","v":0},{"$f":"#REF!","v":{"$error":"#REF!"}},{"$f":"#REF!","v":{"$error":"#REF!"}},{"$f":"#REF!","v":{"$error":"#REF!"}},{"$f":"陸連登録!B35","v":0},null,{"$f":"IF(O40=\"\",\"\",IF(I40=1,VLOOKUP(O40,男子種目コード!$M$1:$N$13,2,FALSE),IF(I40=2,VLOOKUP(O40,女子種目コード!$M$1:$N$10,2,FALSE))))","v":""},null,"","",null,{"$f":"IF(T40=\"\",\"\",IF(I40=1,VLOOKUP(T40,男子種目コード!$M$1:$N$13,2,FALSE),IF(I40=2,VLOOKUP(T40,女子種目コード!$M$1:$N$10,2,FALSE))))","v":""},null,"","",null,{"$f":"IF(Y40=\"\",\"\",IF(I40=1,VLOOKUP(Y40,男子種目コード!$D$1:$E$20,2,FALSE),IF(I40=2,VLOOKUP(Y40,女子種目コード!$D$1:$E$20,2,FALSE))))","v":""},null,"","",null,{"$f":"IF(AD40=\"\",\"\",IF(I40=1,VLOOKUP(AD40,男子種目コード!$A$1:$B$33,2,FALSE),IF(V40=2,VLOOKUP(I40,女子種目コード!$A$1:$B$28,2,FALSE))))","v":""},null,null,{"$f":"IF(AG40=\"\",\"\",IF(I40=1,VLOOKUP(AG40,男子種目コード!$A$1:$B$33,2,FALSE),IF(AA40=2,VLOOKUP(I40,女子種目コード!$A$1:$B$28,2,FALSE))))","v":""},null,null,null,null,null,"",0,0,"棒高跳","3m30",null,null,null,null,null,null,null,null,null,null,null,null,0,"",""]
["",{"$f":"陸連登録!N36","v":0},null,null,{"$f":"陸連登録!M36","v":0},{"$f":"陸連登録!C36","v":0},{"$f":"陸連登録!D36","v":0},0,{"$f":"陸連登録!A36","v":""},{"$f":"陸連登録!P36","v":0},{"$f":"#REF!","v":{"$error":"#REF!"}},{"$f":"#REF!","v":{"$error":"#REF!"}},{"$f":"#REF!","v":{"$error":"#REF!"}},{"$f":"陸連登録!B36","v":0},null,{"$f":"IF(O41=\"\",\"\",IF(I41=1,VLOOKUP(O41,男子種目コード!$M$1:$N$13,2,FALSE),IF(I41=2,VLOOKUP(O41,女子種目コード!$M$1:$N$10,2,FALSE))))","v":""},null,"","",null,{"$f":"IF(T41=\"\",\"\",IF(I41=1,VLOOKUP(T41,男子種目コード!$M$1:$N$13,2,FALSE),IF(I41=2,VLOOKUP(T41,女子種目コード!$M$1:$N$10,2,FALSE))))","v":""},null,"","",null,{"$f":"IF(Y41=\"\",\"\",IF(I41=1,VLOOKUP(Y41,男子種目コード!$D$1:$E$20,2,FALSE),IF(I41=2,VLOOKUP(Y41,女子種目コード!$D$1:$E$20,2,FALSE))))","v":""},null,"","",null,{"$f":"IF(AD41=\"\",\"\",IF(I41=1,VLOOKUP(AD41,男子種目コード!$A$1:$B$33,2,FALSE),IF(V41=2,VLOOKUP(I41,女子種目コード!$A$1:$B$28,2,FALSE))))","v":""},null,null,{"$f":"IF(AG41=\"\",\"\",IF(I41=1,VLOOKUP(AG41,男子種目コード!$A$1:$B$33,2,FALSE),IF(AA41=2,VLOOKUP(I41,女子種目コード!$A$1:$B$28,2,FALSE))))","v":""},null,null,null,null,null,"",0,0,"走幅跳","6m00",null,null,null,null,null,null,null,null,null,null,null,null,0,"",""]
["",{"$f":"陸連登録!N37","v":0},null,null,{"$f":"陸連登録!M37","v":0},{"$f":"陸連登録!C37","v":0},{"$f":"陸連登録!D37","v":0},0,{"$f":"陸連登録!A37","v":""},{"$f":"陸連登録!P37","v":0},{"$f":"#REF!","v":{"$error":"#REF!"}},{"$f":"#REF!","v":{"$error":"#REF!"}},{"$f":"#REF!","v":{"$error":"#REF!"}},{"$f":"陸連登録!B37","v":0},null,{"$f":"IF(O42=\"\",\"\",IF(I42=1,VLOOKUP(O42,男子種目コード!$M$1:$N$13,2,FALSE),IF(I42=2,VLOOKUP(O42,女子種目コード!$M$1:$N$10,2,FALSE))))","v":""},null,"","",null,{"$f":"IF(T42=\"\",\"\",IF(I42=1,VLOOKUP(T42,男子種目コード!$M$1:$N$13,2,FALSE),IF(I42=2,VLOOKUP(T42,女子種目コード!$M$1:$N$10,2,FALSE))))","v":""},null,"","",null,{"$f":"IF(Y42=\"\",\"\",IF(I42=1,VLOOKUP(Y42,男子種目コード!$D$1:$E$20,2,FALSE),IF(I42=2,VLOOKUP(Y42,女子種目コード!$D$1:$E$20,2,FALSE))))","v":""},null,"","",null,{"$f":"IF(AD42=\"\",\"\",IF(I42=1,VLOOKUP(AD42,男子種目コード!$A$1:$B$33,2,FALSE),IF(V42=2,VLOOKUP(I42,女子種目コード!$A$1:$B$28,2,FALSE))))","v":""},null,null,{"$f":"IF(AG42=\"\",\"\",IF(I42=1,VLOOKUP(AG42,男子種目コード!$A$1:$B$33,2,FALSE),IF(AA42=2,VLOOKUP(I42,女子種目コード!$A$1:$B$28,2,FALSE))))","v":""},null,null,null,null,null,"",0,0,"砲丸投","10m50",null,null,null,null,null,null,null,null,null,null,null,null,0,"",""]
["",{"$f":"陸連登録!N38","v":0},null,null,{"$f":"陸連登録!M38","v":0},{"$f":"陸連登録!C38","v":0},{"$f":"陸連登録!D38","v":0},0,{"$f":"陸連登録!A38","v":""},{"$f":"陸連登録!P38","v":0},{"$f":"#REF!","v":{"$error":"#REF!"}},{"$f":"#REF!","v":{"$error":"#REF!"}},{"$f":"#REF!","v":{"$error":"#REF!"}},{"$f":"陸連登録!B38","v":0},null,{"$f":"IF(O43=\"\",\"\",IF(I43=1,VLOOKUP(O43,男子種目コード!$M$1:$N$13,2,FALSE),IF(I43=2,VLOOKUP(O43,女子種目コード!$M$1:$N$10,2,FALSE))))","v":""},null,"","",null,{"$f":"IF(T43=\"\",\"\",IF(I43=1,VLOOKUP(T43,男子種目コード!$M$1:$N$13,2,FALSE),IF(I43=2,VLOOKUP(T43,女子種目コード!$M$1:$N$10,2,FALSE))))","v":""},null,"","",null,{"$f":"IF(Y43=\"\",\"\",IF(I43=1,VLOOKUP(Y43,男子種目コード!$D$1:$E$20,2,FALSE),IF(I43=2,VLOOKUP(Y43,女子種目コード!$D$1:$E$20,2,FALSE))))","v":""},null,"","",null,{"$f":"IF(AD43=\"\",\"\",IF(I43=1,VLOOKUP(AD43,男子種目コード!$A$1:$B$33,2,FALSE),IF(V43=2,VLOOKUP(I43,女子種目コード!$A$1:$B$28,2,FALSE))))","v":""},null,null,{"$f":"IF(AG43=\"\",\"\",IF(I43=1,VLOOKUP(AG43,男子種目コード!$A$1:$B$33,2,FALSE),IF(AA43=2,VLOOKUP(I43,女子種目コード!$A$1:$B$28,2,FALSE))))","v":""},null,null,null,null,null,"",0,0,"女子",null,null,null,null,null,null,null,null,null,null,null,null,null,0,"",""]
["",{"$f":"陸連登録!N39","v":0},null,null,{"$f":"陸連登録!M39","v":0},{"$f":"陸連登録!C39","v":0},{"$f":"陸連登録!D39","v":0},0,{"$f":"陸連登録!A39","v":""},{"$f":"陸連登録!P39","v":0},{"$f":"#REF!","v":{"$error":"#REF!"}},{"$f":"#REF!","v":{"$error":"#REF!"}},{"$f":"#REF!","v":{"$error":"#REF!"}},{"$f":"陸連登録!B39","v":0},null,{"$f":"IF(O44=\"\",\"\",IF(I44=1,VLOOKUP(O44,男子種目コード!$M$1:$N$13,2,FALSE),IF(I44=2,VLOOKUP(O44,女子種目コード!$M$1:$N$10,2,FALSE))))","v":""},null,"","",null,{"$f":"IF(T44=\"\",\"\",IF(I44=1,VLOOKUP(T44,男子種目コード!$M$1:$N$13,2,FALSE),IF(I44=2,VLOOKUP(T44,女子種目コード!$M$1:$N$10,2,FALSE))))","v":""},null,"","",null,{"$f":"IF(Y44=\"\",\"\",IF(I44=1,VLOOKUP(Y44,男子種目コード!$D$1:$E$20,2,FALSE),IF(I44=2,VLOOKUP(Y44,女子種目コード!$D$1:$E$20,2,FALSE))))","v":""},null,"","",null,{"$f":"IF(AD44=\"\",\"\",IF(I44=1,VLOOKUP(AD44,男子種目コード!$A$1:$B$33,2,FALSE),IF(V44=2,VLOOKUP(I44,女子種目コード!$A$1:$B$28,2,FALSE))))","v":""},null,null,{"$f":"IF(AG44=\"\",\"\",IF(I44=1,VLOOKUP(AG44,男子種目コード!$A$1:$B$33,2,FALSE),IF(AA44=2,VLOOKUP(I44,女子種目コード!$A$1:$B$28,2,FALSE))))","v":""},null,null,null,null,null,"",0,0,100,"13.40",null,null,null,null,null,null,null,null,null,null,null,null,0,"",""]
["",{"$f":"陸連登録!N40","v":0},null,null,{"$f":"陸連登録!M40","v":0},{"$f":"陸連登録!C40","v":0},{"$f":"陸連登録!D40","v":0},0,{"$f":"陸連登録!A40","v":""},{"$f":"陸連登録!P40","v":0},{"$f":"#REF!","v":{"$error":"#REF!"}},{"$f":"#REF!","v":{"$error":"#REF!"}},{"$f":"#REF!","v":{"$error":"#REF!"}},{"$f":"陸連登録!B40","v":0},null,{"$f":"IF(O45=\"\",\"\",IF(I45=1,VLOOKUP(O45,男子種目コード!$M$1:$N$13,2,FALSE),IF(I45=2,VLOOKUP(O45,女子種目コード!$M$1:$N$10,2,FALSE))))","v":""},null,"","",null,{"$f":"IF(T45=\"\",\"\",IF(I45=1,VLOOKUP(T45,男子種目コード!$M$1:$N$13,2,FALSE),IF(I45=2,VLOOKUP(T45,女子種目コード!$M$1:$N$10,2,FALSE))))","v":""},null,"","",null,{"$f":"IF(Y45=\"\",\"\",IF(I45=1,VLOOKUP(Y45,男子種目コード!$D$1:$E$20,2,FALSE),IF(I45=2,VLOOKUP(Y45,女子種目コード!$D$1:$E$20,2,FALSE))))","v":""},null,"","",null,{"$f":"IF(AD45=\"\",\"\",IF(I45=1,VLOOKUP(AD45,男子種目コード!$A$1:$B$33,2,FALSE),IF(V45=2,VLOOKUP(I45,女子種目コード!$A$1:$B$28,2,FALSE))))","v":""},null,null,{"$f":"IF(AG45=\"\",\"\",IF(I45=1,VLOOKUP(AG45,男子種目コード!$A$1:$B$33,2,FALSE),IF(AA45=2,VLOOKUP(I45,女子種目コード!$A$1:$B$28,2,FALSE))))","v":""},null,null,null,null,null,"",0,0,200,"27.80",null,null,null,null,null,null,null,null,null,null,null,null,0,"",""]
["",{"$f":"陸連登録!N41","v":0},null,null,{"$f":"陸連登録!M41","v":0},{"$f":"陸連登録!C41","v":0},{"$f":"陸連登録!D41","v":0},0,{"$f":"陸連登録!A41","v":""},{"$f":"陸連登録!P41","v":0},{"$f":"#REF!","v":{"$error":"#REF!"}},{"$f":"#REF!","v":{"$error":"#REF!"}},{"$f":"#REF!","v":{"$error":"#REF!"}},{"$f":"陸連登録!B41","v":0},null,{"$f":"IF(O46=\"\",\"\",IF(I46=1,VLOOKUP(O46,男子種目コード!$M$1:$N$13,2,FALSE),IF(I46=2,VLOOKUP(O46,女子種目コード!$M$1:$N$10,2,FALSE))))","v":""},null,"","",null,{"$f":"IF(T46=\"\",\"\",IF(I46=1,VLOOKUP(T46,男子種目コード!$M$1:$N$13,2,FALSE),IF(I46=2,VLOOKUP(T46,女子種目コード!$M$1:$N$10,2,FALSE))))","v":""},null,"","",null,{"$f":"IF(Y46=\"\",\"\",IF(I46=1,VLOOKUP(Y46,男子種目コード!$D$1:$E$20,2,FALSE),IF(I46=2,VLOOKUP(Y46,女子種目コード!$D$1:$E$20,2,FALSE))))","v":""},null,"","",null,{"$f":"IF(AD46=\"\",\"\",IF(I46=1,VLOOKUP(AD46,男子種目コード!$A$1:$B$33,2,FALSE),IF(V46=2,VLOOKUP(I46,女子種目コード!$A$1:$B$28,2,FALSE))))","v":""},null,null,{"$f":"IF(AG46=\"\",\"\",IF(I46=1,VLOOKUP(AG46,男子種目コード!$A$1:$B$33,2,FALSE),IF(AA46=2,VLOOKUP(I46,女子種目コード!$A$1:$B$28,2,FALSE))))","v":""},null,null,null,null,null,"",0,0,800,"2.28.00",null,null,null,null,null,null,null,null,null,null,null,null,0,"",""]
["",{"$f":"陸連登録!N42","v":0},null,null,{"$f":"陸連登録!M42","v":0},{"$f":"陸連登録!C42","v":0},{"$f":"陸連登録!D42","v":0},0,{"$f":"陸連登録!A42","v":""},{"$f":"陸連登録!P42","v":0},{"$f":"#REF!","v":{"$error":"#REF!"}},{"$f":"#REF!","v":{"$error":"#REF!"}},{"$f":"#REF!","v":{"$error":"#REF!"}},{"$f":"陸連登録!B42","v":0},null,{"$f":"IF(O47=\"\",\"\",IF(I47=1,VLOOKUP(O47,男子種目コード!$M$1:$N$13,2,FALSE),IF(I47=2,VLOOKUP(O47,女子種目コード!$M$1:$N$10,2,FALSE))))","v":""},null,"","",null,{"$f":"IF(T47=\"\",\"\",IF(I47=1,VLOOKUP(T47,男子種目コード!$M$1:$N$13,2,FALSE),IF(I47=2,VLOOKUP(T47,女子種目コード!$M$1:$N$10,2,FALSE))))","v":""},null,"","",null,{"$f":"IF(Y47=\"\",\"\",IF(I47=1,VLOOKUP(Y47,男子種目コード!$D$1:$E$20,2,FALSE),IF(I47=2,VLOOKUP(Y47,女子種目コード!$D$1:$E$20,2,FALSE))))","v":""},null,"","",null,{"$f":"IF(AD47=\"\",\"\",IF(I47=1,VLOOKUP(AD47,男子種目コード!$A$1:$B$33,2,FALSE),IF(V47=2,VLOOKUP(I47,女子種目コード!$A$1:$B$28,2,FALSE))))","v":""},null,null,{"$f":"IF(AG47=\"\",\"\",IF(I47=1,VLOOKUP(AG47,男子種目コード!$A$1:$B$33,2,FALSE),IF(AA47=2,VLOOKUP(I47,女子種目コード!$A$1:$B$28,2,FALSE))))","v":""},null,null,null,null,null,"",0,0,1500,"5.10.00",null,null,null,null,null,null,null,null,null,null,null,null,0,"",""]
["",{"$f":"陸連登録!N43","v":0},null,null,{"$f":"陸連登録!M43","v":0},{"$f":"陸連登録!C43","v":0},{"$f":"陸連登録!D43","v":0},0,{"$f":"陸連登録!A43","v":""},{"$f":"陸連登録!P43","v":0},{"$f":"#REF!","v":{"$error":"#REF!"}},{"$f":"#REF!","v":{"$error":"#REF!"}},{"$f":"#REF!","v":{"$error":"#REF!"}},{"$f":"陸連登録!B43","v":0},null,{"$f":"IF(O48=\"\",\"\",IF(I48=1,VLOOKUP(O48,男子種目コード!$M$1:$N$13,2,FALSE),IF(I48=2,VLOOKUP(O48,女子種目コード!$M$1:$N$10,2,FALSE))))","v":""},null,"","",null,{"$f":"IF(T48=\"\",\"\",IF(I48=1,VLOOKUP(T48,男子種目コード!$M$1:$N$13,2,FALSE),IF(I48=2,VLOOKUP(T48,女子種目コード!$M$1:$N$10,2,FALSE))))","v":""},null,"","",null,{"$f":"IF(Y48=\"\",\"\",IF(I48=1,VLOOKUP(Y48,男子種目コード!$D$1:$E$20,2,FALSE),IF(I48=2,VLOOKUP(Y48,女子種目コード!$D$1:$E$20,2,FALSE))))","v":""},null,"","",null,{"$f":"IF(AD48=\"\",\"\",IF(I48=1,VLOOKUP(AD48,男子種目コード!$A$1:$B$33,2,FALSE),IF(V48=2,VLOOKUP(I48,女子種目コード!$A$1:$B$28,2,FALSE))))","v":""},null,null,{"$f":"IF(AG48=\"\",\"\",IF(I48=1,VLOOKUP(AG48,男子種目コード!$A$1:$B$33,2,FALSE),IF(AA48=2,VLOOKUP(I48,女子種目コード!$A$1:$B$28,2,FALSE))))","v":""},null,null,null,null,null,"",0,0,"100H","16.70",null,null,null,null,null,null,null,null,null,null,null,null,0,"",""]
["",{"$f":"陸連登録!N44","v":0},null,null,{"$f":"陸連登録!M44","v":0},{"$f":"陸連登録!C44","v":0},{"$f":"陸連登録!D44","v":0},0,{"$f":"陸連登録!A44","v":""},{"$f":"陸連登録!P44","v":0},{"$f":"#REF!","v":{"$error":"#REF!"}},{"$f":"#REF!","v":{"$error":"#REF!"}},{"$f":"#REF!","v":{"$error":"#REF!"}},{"$f":"陸連登録!B44","v":0},null,{"$f":"IF(O49=\"\",\"\",IF(I49=1,VLOOKUP(O49,男子種目コード!$M$1:$N$13,2,FALSE),IF(I49=2,VLOOKUP(O49,女子種目コード!$M$1:$N$10,2,FALSE))))","v":""},null,"","",null,{"$f":"IF(T49=\"\",\"\",IF(I49=1,VLOOKUP(T49,男子種目コード!$M$1:$N$13,2,FALSE),IF(I49=2,VLOOKUP(T49,女子種目コード!$M$1:$N$10,2,FALSE))))","v":""},null,"","",null,{"$f":"IF(Y49=\"\",\"\",IF(I49=1,VLOOKUP(Y49,男子種目コード!$D$1:$E$20,2,FALSE),IF(I49=2,VLOOKUP(Y49,女子種目コード!$D$1:$E$20,2,FALSE))))","v":""},null,"","",null,{"$f":"IF(AD49=\"\",\"\",IF(I49=1,VLOOKUP(AD49,男子種目コード!$A$1:$B$33,2,FALSE),IF(V49=2,VLOOKUP(I49,女子種目コード!$A$1:$B$28,2,FALSE))))","v":""},null,null,{"$f":"IF(AG49=\"\",\"\",IF(I49=1,VLOOKUP(AG49,男子種目コード!$A$1:$B$33,2,FALSE),IF(AA49=2,VLOOKUP(I49,女子種目コード!$A$1:$B$28,2,FALSE))))","v":""},null,null,null,null,null,"",0,0,"走高跳","1m45",null,null,null,null,null,null,null,null,null,null,null,null,0,"",""]
["",{"$f":"陸連登録!N45","v":0},null,null,{"$f":"陸連登録!M45","v":0},{"$f":"陸連登録!C45","v":0},{"$f":"陸連登録!D45","v":0},0,{"$f":"陸連登録!A45","v":""},{"$f":"陸連登録!P45","v":0},{"$f":"#REF!","v":{"$error":"#REF!"}},{"$f":"#REF!","v":{"$error":"#REF!"}},{"$f":"#REF!","v":{"$error":"#REF!"}},{"$f":"陸連登録!B45","v":0},null,{"$f":"IF(O50=\"\",\"\",IF(I50=1,VLOOKUP(O50,男子種目コード!$M$1:$N$13,2,FALSE),IF(I50=2,VLOOKUP(O50,女子種目コード!$M$1:$N$10,2,FALSE))))","v":""},null,"","",null,{"$f":"IF(T50=\"\",\"\",IF(I50=1,VLOOKUP(T50,男子種目コード!$M$1:$N$13,2,FALSE),IF(I50=2,VLOOKUP(T50,女子種目コード!$M$1:$N$10,2,FALSE))))","v":""},null,"","",null,{"$f":"IF(Y50=\"\",\"\",IF(I50=1,VLOOKUP(Y50,男子種目コード!$D$1:$E$20,2,FALSE),IF(I50=2,VLOOKUP(Y50,女子種目コード!$D$1:$E$20,2,FALSE))))","v":""},null,"","",null,{"$f":"IF(AD50=\"\",\"\",IF(I50=1,VLOOKUP(AD50,男子種目コード!$A$1:$B$33,2,FALSE),IF(V50=2,VLOOKUP(I50,女子種目コード!$A$1:$B$28,2,FALSE))))","v":""},null,null,{"$f":"IF(AG50=\"\",\"\",IF(I50=1,VLOOKUP(AG50,男子種目コード!$A$1:$B$33,2,FALSE),IF(AA50=2,VLOOKUP(I50,女子種目コード!$A$1:$B$28,2,FALSE))))","v":""},null,null,null,null,null,"",0,0,"走幅跳","4m90",null,null,null,null,null,null,null,null,null,null,null,null,0,"",""]
["",{"$f":"陸連登録!N46","v":0},null,null,{"$f":"陸連登録!M46","v":0},{"$f":"陸連登録!C46","v":0},{"$f":"陸連登録!D46","v":0},0,{"$f":"陸連登録!A46","v":""},{"$f":"陸連登録!P46","v":0},{"$f":"#REF!","v":{"$error":"#REF!"}},{"$f":"#REF!","v":{"$error":"#REF!"}},{"$f":"#REF!","v":{"$error":"#REF!"}},{"$f":"陸連登録!B46","v":0},null,{"$f":"IF(O51=\"\",\"\",IF(I51=1,VLOOKUP(O51,男子種目コード!$M$1:$N$13,2,FALSE),IF(I51=2,VLOOKUP(O51,女子種目コード!$M$1:$N$10,2,FALSE))))","v":""},null,"","",null,{"$f":"IF(T51=\"\",\"\",IF(I51=1,VLOOKUP(T51,男子種目コード!$M$1:$N$13,2,FALSE),IF(I51=2,VLOOKUP(T51,女子種目コード!$M$1:$N$10,2,FALSE))))","v":""},null,"","",null,{"$f":"IF(Y51=\"\",\"\",IF(I51=1,VLOOKUP(Y51,男子種目コード!$D$1:$E$20,2,FALSE),IF(I51=2,VLOOKUP(Y51,女子種目コード!$D$1:$E$20,2,FALSE))))","v":""},null,"","",null,{"$f":"IF(AD51=\"\",\"\",IF(I51=1,VLOOKUP(AD51,男子種目コード!$A$1:$B$33,2,FALSE),IF(V51=2,VLOOKUP(I51,女子種目コード!$A$1:$B$28,2,FALSE))))","v":""},null,null,{"$f":"IF(AG51=\"\",\"\",IF(I51=1,VLOOKUP(AG51,男子種目コード!$A$1:$B$33,2,FALSE),IF(AA51=2,VLOOKUP(I51,女子種目コード!$A$1:$B$28,2,FALSE))))","v":""},null,null,null,null,null,"",0,0,"砲丸投","10m50",null,null,null,null,null,null,null,null,null,null,null,null,0,"",""]
["",{"$f":"陸連登録!N47","v":0},null,null,{"$f":"陸連登録!M47","v":0},{"$f":"陸連登録!C47","v":0},{"$f":"陸連登録!D47","v":0},0,{"$f":"陸連登録!A47","v":""},{"$f":"陸連登録!P47","v":0},{"$f":"#REF!","v":{"$error":"#REF!"}},{"$f":"#REF!","v":{"$error":"#REF!"}},{"$f":"#REF!","v":{"$error":"#REF!"}},{"$f":"陸連登録!B47","v":0},null,{"$f":"IF(O52=\"\",\"\",IF(I52=1,VLOOKUP(O52,男子種目コード!$M$1:$N$13,2,FALSE),IF(I52=2,VLOOKUP(O52,女子種目コード!$M$1:$N$10,2,FALSE))))","v":""},null,"","",null,{"$f":"IF(T52=\"\",\"\",IF(I52=1,VLOOKUP(T52,男子種目コード!$M$1:$N$13,2,FALSE),IF(I52=2,VLOOKUP(T52,女子種目コード!$M$1:$N$10,2,FALSE))))","v":""},null,"","",null,{"$f":"IF(Y52=\"\",\"\",IF(I52=1,VLOOKUP(Y52,男子種目コード!$D$1:$E$20,2,FALSE),IF(I52=2,VLOOKUP(Y52,女子種目コード!$D$1:$E$20,2,FALSE))))","v":""},null,"","",null,{"$f":"IF(AD52=\"\",\"\",IF(I52=1,VLOOKUP(AD52,男子種目コード!$A$1:$B$33,2,FALSE),IF(V52=2,VLOOKUP(I52,女子種目コード!$A$1:$B$28,2,FALSE))))","v":""},null,null,{"$f":"IF(AG52=\"\",\"\",IF(I52=1,VLOOKUP(AG52,男子種目コード!$A$1:$B$33,2,FALSE),IF(AA52=2,VLOOKUP(I52,女子種目コード!$A$1:$B$28,2,FALSE))))","v":""},null,null,null,null,null,"",0,0,null,null,null,null,null,null,null,null,null,null,null,null,null,null,0,"",""]
["",{"$f":"陸連登録!N48","v":0},null,null,{"$f":"陸連登録!M48","v":0},{"$f":"陸連登録!C48","v":0},{"$f":"陸連登録!D48","v":0},0,{"$f":"陸連登録!A48","v":""},{"$f":"陸連登録!P48","v":0},{"$f":"#REF!","v":{"$error":"#REF!"}},{"$f":"#REF!","v":{"$error":"#REF!"}},{"$f":"#REF!","v":{"$error":"#REF!"}},{"$f":"陸連登録!B48","v":0},null,{"$f":"IF(O53=\"\",\"\",IF(I53=1,VLOOKUP(O53,男子種目コード!$M$1:$N$13,2,FALSE),IF(I53=2,VLOOKUP(O53,女子種目コード!$M$1:$N$10,2,FALSE))))","v":""},null,"","",null,{"$f":"IF(T53=\"\",\"\",IF(I53=1,VLOOKUP(T53,男子種目コード!$M$1:$N$13,2,FALSE),IF(I53=2,VLOOKUP(T53,女子種目コード!$M$1:$N$10,2,FALSE))))","v":""},null,"","",null,{"$f":"IF(Y53=\"\",\"\",IF(I53=1,VLOOKUP(Y53,男子種目コード!$D$1:$E$20,2,FALSE),IF(I53=2,VLOOKUP(Y53,女子種目コード!$D$1:$E$20,2,FALSE))))","v":""},null,"","",null,{"$f":"IF(AD53=\"\",\"\",IF(I53=1,VLOOKUP(AD53,男子種目コード!$A$1:$B$33,2,FALSE),IF(V53=2,VLOOKUP(I53,女子種目コード!$A$1:$B$28,2,FALSE))))","v":""},null,null,{"$f":"IF(AG53=\"\",\"\",IF(I53=1,VLOOKUP(AG53,男子種目コード!$A$1:$B$33,2,FALSE),IF(AA53=2,VLOOKUP(I53,女子種目コード!$A$1:$B$28,2,FALSE))))","v":""},null,null,null,null,null,"",0,0,null,null,null,null,null,null,null,null,null,null,null,null,null,null,0,"",""]
["",{"$f":"陸連登録!N49","v":0},null,null,{"$f":"陸連登録!M49","v":0},{"$f":"陸連登録!C49","v":0},{"$f":"陸連登録!D49","v":0},0,{"$f":"陸連登録!A49","v":""},{"$f":"陸連登録!P49","v":0},{"$f":"#REF!","v":{"$error":"#REF!"}},{"$f":"#REF!","v":{"$error":"#REF!"}},{"$f":"#REF!","v":{"$error":"#REF!"}},{"$f":"陸連登録!B49","v":0},null,{"$f":"IF(O54=\"\",\"\",IF(I54=1,VLOOKUP(O54,男子種目コード!$M$1:$N$13,2,FALSE),IF(I54=2,VLOOKUP(O54,女子種目コード!$M$1:$N$10,2,FALSE))))","v":""},null,"","",null,{"$f":"IF(T54=\"\",\"\",IF(I54=1,VLOOKUP(T54,男子種目コード!$M$1:$N$13,2,FALSE),IF(I54=2,VLOOKUP(T54,女子種目コード!$M$1:$N$10,2,FALSE))))","v":""},null,"","",null,{"$f":"IF(Y54=\"\",\"\",IF(I54=1,VLOOKUP(Y54,男子種目コード!$D$1:$E$20,2,FALSE),IF(I54=2,VLOOKUP(Y54,女子種目コード!$D$1:$E$20,2,FALSE))))","v":""},null,"","",null,{"$f":"IF(AD54=\"\",\"\",IF(I54=1,VLOOKUP(AD54,男子種目コード!$A$1:$B$33,2,FALSE),IF(V54=2,VLOOKUP(I54,女子種目コード!$A$1:$B$28,2,FALSE))))","v":""},null,null,{"$f":"IF(AG54=\"\",\"\",IF(I54=1,VLOOKUP(AG54,男子種目コード!$A$1:$B$33,2,FALSE),IF(AA54=2,VLOOKUP(I54,女子種目コード!$A$1:$B$28,2,FALSE))))","v":""},null,null,null,null,null,"",0,0,null,null,null,null,null,null,null,null,null,null,null,null,null,null,0,"",""]
["",{"$f":"陸連登録!N50","v":0},null,null,{"$f":"陸連登録!M50","v":0},{"$f":"陸連登録!C50","v":0},{"$f":"陸連登録!D50","v":0},0,{"$f":"陸連登録!A50","v":""},{"$f":"陸連登録!P50","v":0},{"$f":"#REF!","v":{"$error":"#REF!"}},{"$f":"#REF!","v":{"$error":"#REF!"}},{"$f":"#REF!","v":{"$error":"#REF!"}},{"$f":"陸連登録!B50","v":0},null,{"$f":"IF(O55=\"\",\"\",IF(I55=1,VLOOKUP(O55,男子種目コード!$M$1:$N$13,2,FALSE),IF(I55=2,VLOOKUP(O55,女子種目コード!$M$1:$N$10,2,FALSE))))","v":""},null,"","",null,{"$f":"IF(T55=\"\",\"\",IF(I55=1,VLOOKUP(T55,男子種目コード!$M$1:$N$13,2,FALSE),IF(I55=2,VLOOKUP(T55,女子種目コード!$M$1:$N$10,2,FALSE))))","v":""},null,"","",null,{"$f":"IF(Y55=\"\",\"\",IF(I55=1,VLOOKUP(Y55,男子種目コード!$D$1:$E$20,2,FALSE),IF(I55=2,VLOOKUP(Y55,女子種目コード!$D$1:$E$20,2,FALSE))))","v":""},null,"","",null,{"$f":"IF(AD55=\"\",\"\",IF(I55=1,VLOOKUP(AD55,男子種目コード!$A$1:$B$33,2,FALSE),IF(V55=2,VLOOKUP(I55,女子種目コード!$A$1:$B$28,2,FALSE))))","v":""},null,null,{"$f":"IF(AG55=\"\",\"\",IF(I55=1,VLOOKUP(AG55,男子種目コード!$A$1:$B$33,2,FALSE),IF(AA55=2,VLOOKUP(I55,女子種目コード!$A$1:$B$28,2,FALSE))))","v":""},null,null,null,null,null,"",0,0,null,null,null,null,null,null,null,null,null,null,null,null,null,null,0,"",""]
["",{"$f":"陸連登録!N51","v":0},null,null,{"$f":"陸連登録!M51","v":0},{"$f":"陸連登録!C51","v":0},{"$f":"陸連登録!D51","v":0},0,{"$f":"陸連登録!A51","v":""},{"$f":"陸連登録!P51","v":0},{"$f":"#REF!","v":{"$error":"#REF!"}},{"$f":"#REF!","v":{"$error":"#REF!"}},{"$f":"#REF!","v":{"$error":"#REF!"}},{"$f":"陸連登録!B51","v":0},null,{"$f":"IF(O56=\"\",\"\",IF(I56=1,VLOOKUP(O56,男子種目コード!$M$1:$N$13,2,FALSE),IF(I56=2,VLOOKUP(O56,女子種目コード!$M$1:$N$10,2,FALSE))))","v":""},null,"","",null,{"$f":"IF(T56=\"\",\"\",IF(I56=1,VLOOKUP(T56,男子種目コード!$M$1:$N$13,2,FALSE),IF(I56=2,VLOOKUP(T56,女子種目コード!$M$1:$N$10,2,FALSE))))","v":""},null,"","",null,{"$f":"IF(Y56=\"\",\"\",IF(I56=1,VLOOKUP(Y56,男子種目コード!$D$1:$E$20,2,FALSE),IF(I56=2,VLOOKUP(Y56,女子種目コード!$D$1:$E$20,2,FALSE))))","v":""},null,"","",null,{"$f":"IF(AD56=\"\",\"\",IF(I56=1,VLOOKUP(AD56,男子種目コード!$A$1:$B$33,2,FALSE),IF(V56=2,VLOOKUP(I56,女子種目コード!$A$1:$B$28,2,FALSE))))","v":""},null,null,{"$f":"IF(AG56=\"\",\"\",IF(I56=1,VLOOKUP(AG56,男子種目コード!$A$1:$B$33,2,FALSE),IF(AA56=2,VLOOKUP(I56,女子種目コード!$A$1:$B$28,2,FALSE))))","v":""},null,null,null,null,null,"",0,0,null,null,null,null,null,null,null,null,null,null,null,null,null,null,0,"",""]
["",{"$f":"陸連登録!N52","v":0},null,null,{"$f":"陸連登録!M52","v":0},{"$f":"陸連登録!C52","v":0},{"$f":"陸連登録!D52","v":0},0,{"$f":"陸連登録!A52","v":""},{"$f":"陸連登録!P52","v":0},{"$f":"#REF!","v":{"$error":"#REF!"}},{"$f":"#REF!","v":{"$error":"#REF!"}},{"$f":"#REF!","v":{"$error":"#REF!"}},{"$f":"陸連登録!B52","v":0},null,{"$f":"IF(O57=\"\",\"\",IF(I57=1,VLOOKUP(O57,男子種目コード!$M$1:$N$13,2,FALSE),IF(I57=2,VLOOKUP(O57,女子種目コード!$M$1:$N$10,2,FALSE))))","v":""},null,"","",null,{"$f":"IF(T57=\"\",\"\",IF(I57=1,VLOOKUP(T57,男子種目コード!$M$1:$N$13,2,FALSE),IF(I57=2,VLOOKUP(T57,女子種目コード!$M$1:$N$10,2,FALSE))))","v":""},null,"","",null,{"$f":"IF(Y57=\"\",\"\",IF(I57=1,VLOOKUP(Y57,男子種目コード!$D$1:$E$20,2,FALSE),IF(I57=2,VLOOKUP(Y57,女子種目コード!$D$1:$E$20,2,FALSE))))","v":""},null,"","",null,{"$f":"IF(AD57=\"\",\"\",IF(I57=1,VLOOKUP(AD57,男子種目コード!$A$1:$B$33,2,FALSE),IF(V57=2,VLOOKUP(I57,女子種目コード!$A$1:$B$28,2,FALSE))))","v":""},null,null,{"$f":"IF(AG57=\"\",\"\",IF(I57=1,VLOOKUP(AG57,男子種目コード!$A$1:$B$33,2,FALSE),IF(AA57=2,VLOOKUP(I57,女子種目コード!$A$1:$B$28,2,FALSE))))","v":""},null,null,null,null,null,"",0,0,null,null,null,null,null,null,null,null,null,null,null,null,null,null,0,"",""]
["",{"$f":"陸連登録!N53","v":0},null,null,{"$f":"陸連登録!M53","v":0},{"$f":"陸連登録!C53","v":0},{"$f":"陸連登録!D53","v":0},0,{"$f":"陸連登録!A53","v":""},{"$f":"陸連登録!P53","v":0},{"$f":"#REF!","v":{"$error":"#REF!"}},{"$f":"#REF!","v":{"$error":"#REF!"}},{"$f":"#REF!","v":{"$error":"#REF!"}},{"$f":"陸連登録!B53","v":0},null,{"$f":"IF(O58=\"\",\"\",IF(I58=1,VLOOKUP(O58,男子種目コード!$M$1:$N$13,2,FALSE),IF(I58=2,VLOOKUP(O58,女子種目コード!$M$1:$N$10,2,FALSE))))","v":""},null,"","",null,{"$f":"IF(T58=\"\",\"\",IF(I58=1,VLOOKUP(T58,男子種目コード!$M$1:$N$13,2,FALSE),IF(I58=2,VLOOKUP(T58,女子種目コード!$M$1:$N$10,2,FALSE))))","v":""},null,"","",null,{"$f":"IF(Y58=\"\",\"\",IF(I58=1,VLOOKUP(Y58,男子種目コード!$D$1:$E$20,2,FALSE),IF(I58=2,VLOOKUP(Y58,女子種目コード!$D$1:$E$20,2,FALSE))))","v":""},null,"","",null,{"$f":"IF(AD58=\"\",\"\",IF(I58=1,VLOOKUP(AD58,男子種目コード!$A$1:$B$33,2,FALSE),IF(V58=2,VLOOKUP(I58,女子種目コード!$A$1:$B$28,2,FALSE))))","v":""},null,null,{"$f":"IF(AG58=\"\",\"\",IF(I58=1,VLOOKUP(AG58,男子種目コード!$A$1:$B$33,2,FALSE),IF(AA58=2,VLOOKUP(I58,女子種目コード!$A$1:$B$28,2,FALSE))))","v":""},null,null,null,null,null,"",0,0,null,null,null,null,null,null,null,null,null,null,null,null,null,null,0,"",""]
["",{"$f":"陸連登録!N54","v":0},null,null,{"$f":"陸連登録!M54","v":0},{"$f":"陸連登録!C54","v":0},{"$f":"陸連登録!D54","v":0},0,{"$f":"陸連登録!A54","v":""},{"$f":"陸連登録!P54","v":0},{"$f":"#REF!","v":{"$error":"#REF!"}},{"$f":"#REF!","v":{"$error":"#REF!"}},{"$f":"#REF!","v":{"$error":"#REF!"}},{"$f":"陸連登録!B54","v":0},null,{"$f":"IF(O59=\"\",\"\",IF(I59=1,VLOOKUP(O59,男子種目コード!$M$1:$N$13,2,FALSE),IF(I59=2,VLOOKUP(O59,女子種目コード!$M$1:$N$10,2,FALSE))))","v":""},null,"","",null,{"$f":"IF(T59=\"\",\"\",IF(I59=1,VLOOKUP(T59,男子種目コード!$M$1:$N$13,2,FALSE),IF(I59=2,VLOOKUP(T59,女子種目コード!$M$1:$N$10,2,FALSE))))","v":""},null,"","",null,{"$f":"IF(Y59=\"\",\"\",IF(I59=1,VLOOKUP(Y59,男子種目コード!$D$1:$E$20,2,FALSE),IF(I59=2,VLOOKUP(Y59,女子種目コード!$D$1:$E$20,2,FALSE))))","v":""},null,"","",null,{"$f":"IF(AD59=\"\",\"\",IF(I59=1,VLOOKUP(AD59,男子種目コード!$A$1:$B$33,2,FALSE),IF(V59=2,VLOOKUP(I59,女子種目コード!$A$1:$B$28,2,FALSE))))","v":""},null,null,{"$f":"IF(AG59=\"\",\"\",IF(I59=1,VLOOKUP(AG59,男子種目コード!$A$1:$B$33,2,FALSE),IF(AA59=2,VLOOKUP(I59,女子種目コード!$A$1:$B$28,2,FALSE))))","v":""},null,null,null,null,null,"",0,0,null,null,null,null,null,null,null,null,null,null,null,null,null,null,0,"",""]
["",{"$f":"陸連登録!N55","v":0},null,null,{"$f":"陸連登録!M55","v":0},{"$f":"陸連登録!C55","v":0},{"$f":"陸連登録!D55","v":0},0,{"$f":"陸連登録!A55","v":""},{"$f":"陸連登録!P55","v":0},{"$f":"#REF!","v":{"$error":"#REF!"}},{"$f":"#REF!","v":{"$error":"#REF!"}},{"$f":"#REF!","v":{"$error":"#REF!"}},{"$f":"陸連登録!B55","v":0},null,{"$f":"IF(O60=\"\",\"\",IF(I60=1,VLOOKUP(O60,男子種目コード!$M$1:$N$13,2,FALSE),IF(I60=2,VLOOKUP(O60,女子種目コード!$M$1:$N$10,2,FALSE))))","v":""},null,"","",null,{"$f":"IF(T60=\"\",\"\",IF(I60=1,VLOOKUP(T60,男子種目コード!$M$1:$N$13,2,FALSE),IF(I60=2,VLOOKUP(T60,女子種目コード!$M$1:$N$10,2,FALSE))))","v":""},null,"","",null,{"$f":"IF(Y60=\"\",\"\",IF(I60=1,VLOOKUP(Y60,男子種目コード!$D$1:$E$20,2,FALSE),IF(I60=2,VLOOKUP(Y60,女子種目コード!$D$1:$E$20,2,FALSE))))","v":""},null,"","",null,{"$f":"IF(AD60=\"\",\"\",IF(I60=1,VLOOKUP(AD60,男子種目コード!$A$1:$B$33,2,FALSE),IF(V60=2,VLOOKUP(I60,女子種目コード!$A$1:$B$28,2,FALSE))))","v":""},null,null,{"$f":"IF(AG60=\"\",\"\",IF(I60=1,VLOOKUP(AG60,男子種目コード!$A$1:$B$33,2,FALSE),IF(AA60=2,VLOOKUP(I60,女子種目コード!$A$1:$B$28,2,FALSE))))","v":""},null,null,null,null,null,"",0,0,null,null,null,null,null,null,null,null,null,null,null,null,null,null,0,"",""]
["",{"$f":"陸連登録!N56","v":0},null,null,{"$f":"陸連登録!M56","v":0},{"$f":"陸連登録!C56","v":0},{"$f":"陸連登録!D56","v":0},0,{"$f":"陸連登録!A56","v":""},{"$f":"陸連登録!P56","v":0},{"$f":"#REF!","v":{"$error":"#REF!"}},{"$f":"#REF!","v":{"$error":"#REF!"}},{"$f":"#REF!","v":{"$error":"#REF!"}},{"$f":"陸連登録!B56","v":0},null,{"$f":"IF(O61=\"\",\"\",IF(I61=1,VLOOKUP(O61,男子種目コード!$M$1:$N$13,2,FALSE),IF(I61=2,VLOOKUP(O61,女子種目コード!$M$1:$N$10,2,FALSE))))","v":""},null,"","",null,{"$f":"IF(T61=\"\",\"\",IF(I61=1,VLOOKUP(T61,男子種目コード!$M$1:$N$13,2,FALSE),IF(I61=2,VLOOKUP(T61,女子種目コード!$M$1:$N$10,2,FALSE))))","v":""},null,"","",null,{"$f":"IF(Y61=\"\",\"\",IF(I61=1,VLOOKUP(Y61,男子種目コード!$D$1:$E$20,2,FALSE),IF(I61=2,VLOOKUP(Y61,女子種目コード!$D$1:$E$20,2,FALSE))))","v":""},null,"","",null,{"$f":"IF(AD61=\"\",\"\",IF(I61=1,VLOOKUP(AD61,男子種目コード!$A$1:$B$33,2,FALSE),IF(V61=2,VLOOKUP(I61,女子種目コード!$A$1:$B$28,2,FALSE))))","v":""},null,null,{"$f":"IF(AG61=\"\",\"\",IF(I61=1,VLOOKUP(AG61,男子種目コード!$A$1:$B$33,2,FALSE),IF(AA61=2,VLOOKUP(I61,女子種目コード!$A$1:$B$28,2,FALSE))))","v":""},null,null,null,null,null,"",0,0,null,null,null,null,null,null,null,null,null,null,null,null,null,null,0,"",""]
["",{"$f":"陸連登録!N57","v":0},null,null,{"$f":"陸連登録!M57","v":0},{"$f":"陸連登録!C57","v":0},{"$f":"陸連登録!D57","v":0},0,{"$f":"陸連登録!A57","v":""},{"$f":"陸連登録!P57","v":0},{"$f":"#REF!","v":{"$error":"#REF!"}},{"$f":"#REF!","v":{"$error":"#REF!"}},{"$f":"#REF!","v":{"$error":"#REF!"}},{"$f":"陸連登録!B57","v":0},null,{"$f":"IF(O62=\"\",\"\",IF(I62=1,VLOOKUP(O62,男子種目コード!$M$1:$N$13,2,FALSE),IF(I62=2,VLOOKUP(O62,女子種目コード!$M$1:$N$10,2,FALSE))))","v":""},null,"","",null,{"$f":"IF(T62=\"\",\"\",IF(I62=1,VLOOKUP(T62,男子種目コード!$M$1:$N$13,2,FALSE),IF(I62=2,VLOOKUP(T62,女子種目コード!$M$1:$N$10,2,FALSE))))","v":""},null,"","",null,{"$f":"IF(Y62=\"\",\"\",IF(I62=1,VLOOKUP(Y62,男子種目コード!$D$1:$E$20,2,FALSE),IF(I62=2,VLOOKUP(Y62,女子種目コード!$D$1:$E$20,2,FALSE))))","v":""},null,"","",null,{"$f":"IF(AD62=\"\",\"\",IF(I62=1,VLOOKUP(AD62,男子種目コード!$A$1:$B$33,2,FALSE),IF(V62=2,VLOOKUP(I62,女子種目コード!$A$1:$B$28,2,FALSE))))","v":""},null,null,{"$f":"IF(AG62=\"\",\"\",IF(I62=1,VLOOKUP(AG62,男子種目コード!$A$1:$B$33,2,FALSE),IF(AA62=2,VLOOKUP(I62,女子種目コード!$A$1:$B$28,2,FALSE))))","v":""},null,null,null,null,null,"",0,0,null,null,null,null,null,null,null,null,null,null,null,null,null,null,0,"",""]
["",{"$f":"陸連登録!N58","v":0},null,null,{"$f":"陸連登録!M58","v":0},{"$f":"陸連登録!C58","v":0},{"$f":"陸連登録!D58","v":0},0,{"$f":"陸連登録!A58","v":""},{"$f":"陸連登録!P58","v":0},{"$f":"#REF!","v":{"$error":"#REF!"}},{"$f":"#REF!","v":{"$error":"#REF!"}},{"$f":"#REF!","v":{"$error":"#REF!"}},{"$f":"陸連登録!B58","v":0},null,{"$f":"IF(O63=\"\",\"\",IF(I63=1,VLOOKUP(O63,男子種目コード!$M$1:$N$13,2,FALSE),IF(I63=2,VLOOKUP(O63,女子種目コード!$M$1:$N$10,2,FALSE))))","v":""},null,"","",null,{"$f":"IF(T63=\"\",\"\",IF(I63=1,VLOOKUP(T63,男子種目コード!$M$1:$N$13,2,FALSE),IF(I63=2,VLOOKUP(T63,女子種目コード!$M$1:$N$10,2,FALSE))))","v":""},null,"","",null,{"$f":"IF(Y63=\"\",\"\",IF(I63=1,VLOOKUP(Y63,男子種目コード!$D$1:$E$20,2,FALSE),IF(I63=2,VLOOKUP(Y63,女子種目コード!$D$1:$E$20,2,FALSE))))","v":""},null,"","",null,{"$f":"IF(AD63=\"\",\"\",IF(I63=1,VLOOKUP(AD63,男子種目コード!$A$1:$B$33,2,FALSE),IF(V63=2,VLOOKUP(I63,女子種目コード!$A$1:$B$28,2,FALSE))))","v":""},null,null,{"$f":"IF(AG63=\"\",\"\",IF(I63=1,VLOOKUP(AG63,男子種目コード!$A$1:$B$33,2,FALSE),IF(AA63=2,VLOOKUP(I63,女子種目コード!$A$1:$B$28,2,FALSE))))","v":""},null,null,null,null,null,"",0,0,null,null,null,null,null,null,null,null,null,null,null,null,null,null,0,"",""]
["",{"$f":"陸連登録!N59","v":0},null,null,{"$f":"陸連登録!M59","v":0},{"$f":"陸連登録!C59","v":0},{"$f":"陸連登録!D59","v":0},0,{"$f":"陸連登録!A59","v":""},{"$f":"陸連登録!P59","v":0},{"$f":"#REF!","v":{"$error":"#REF!"}},{"$f":"#REF!","v":{"$error":"#REF!"}},{"$f":"#REF!","v":{"$error":"#REF!"}},{"$f":"陸連登録!B59","v":0},null,{"$f":"IF(O64=\"\",\"\",IF(I64=1,VLOOKUP(O64,男子種目コード!$M$1:$N$13,2,FALSE),IF(I64=2,VLOOKUP(O64,女子種目コード!$M$1:$N$10,2,FALSE))))","v":""},null,"","",null,{"$f":"IF(T64=\"\",\"\",IF(I64=1,VLOOKUP(T64,男子種目コード!$M$1:$N$13,2,FALSE),IF(I64=2,VLOOKUP(T64,女子種目コード!$M$1:$N$10,2,FALSE))))","v":""},null,"","",null,{"$f":"IF(Y64=\"\",\"\",IF(I64=1,VLOOKUP(Y64,男子種目コード!$D$1:$E$20,2,FALSE),IF(I64=2,VLOOKUP(Y64,女子種目コード!$D$1:$E$20,2,FALSE))))","v":""},null,"","",null,{"$f":"IF(AD64=\"\",\"\",IF(I64=1,VLOOKUP(AD64,男子種目コード!$A$1:$B$33,2,FALSE),IF(V64=2,VLOOKUP(I64,女子種目コード!$A$1:$B$28,2,FALSE))))","v":""},null,null,{"$f":"IF(AG64=\"\",\"\",IF(I64=1,VLOOKUP(AG64,男子種目コード!$A$1:$B$33,2,FALSE),IF(AA64=2,VLOOKUP(I64,女子種目コード!$A$1:$B$28,2,FALSE))))","v":""},null,null,null,null,null,"",0,0,null,null,null,null,null,null,null,null,null,null,null,null,null,null,0,"",""]
["",{"$f":"陸連登録!N60","v":0},null,null,{"$f":"陸連登録!M60","v":0},{"$f":"陸連登録!C60","v":0},{"$f":"陸連登録!D60","v":0},0,{"$f":"陸連登録!A60","v":""},{"$f":"陸連登録!P60","v":0},{"$f":"#REF!","v":{"$error":"#REF!"}},{"$f":"#REF!","v":{"$error":"#REF!"}},{"$f":"#REF!","v":{"$error":"#REF!"}},{"$f":"陸連登録!B60","v":0},null,{"$f":"IF(O65=\"\",\"\",IF(I65=1,VLOOKUP(O65,男子種目コード!$M$1:$N$13,2,FALSE),IF(I65=2,VLOOKUP(O65,女子種目コード!$M$1:$N$10,2,FALSE))))","v":""},null,"","",null,{"$f":"IF(T65=\"\",\"\",IF(I65=1,VLOOKUP(T65,男子種目コード!$M$1:$N$13,2,FALSE),IF(I65=2,VLOOKUP(T65,女子種目コード!$M$1:$N$10,2,FALSE))))","v":""},null,"","",null,{"$f":"IF(Y65=\"\",\"\",IF(I65=1,VLOOKUP(Y65,男子種目コード!$D$1:$E$20,2,FALSE),IF(I65=2,VLOOKUP(Y65,女子種目コード!$D$1:$E$20,2,FALSE))))","v":""},null,"","",null,{"$f":"IF(AD65=\"\",\"\",IF(I65=1,VLOOKUP(AD65,男子種目コード!$A$1:$B$33,2,FALSE),IF(V65=2,VLOOKUP(I65,女子種目コード!$A$1:$B$28,2,FALSE))))","v":""},null,null,{"$f":"IF(AG65=\"\",\"\",IF(I65=1,VLOOKUP(AG65,男子種目コード!$A$1:$B$33,2,FALSE),IF(AA65=2,VLOOKUP(I65,女子種目コード!$A$1:$B$28,2,FALSE))))","v":""},null,null,null,null,null,"",0,0,null,null,null,null,null,null,null,null,null,null,null,null,null,null,0,"",""]
["",{"$f":"陸連登録!N61","v":0},null,null,{"$f":"陸連登録!M61","v":0},{"$f":"陸連登録!C61","v":0},{"$f":"陸連登録!D61","v":0},0,{"$f":"陸連登録!A61","v":""},{"$f":"陸連登録!P61","v":0},{"$f":"#REF!","v":{"$error":"#REF!"}},{"$f":"#REF!","v":{"$error":"#REF!"}},{"$f":"#REF!","v":{"$error":"#REF!"}},{"$f":"陸連登録!B61","v":0},null,{"$f":"IF(O66=\"\",\"\",IF(I66=1,VLOOKUP(O66,男子種目コード!$M$1:$N$13,2,FALSE),IF(I66=2,VLOOKUP(O66,女子種目コード!$M$1:$N$10,2,FALSE))))","v":""},null,"","",null,{"$f":"IF(T66=\"\",\"\",IF(I66=1,VLOOKUP(T66,男子種目コード!$M$1:$N$13,2,FALSE),IF(I66=2,VLOOKUP(T66,女子種目コード!$M$1:$N$10,2,FALSE))))","v":""},null,"","",null,{"$f":"IF(Y66=\"\",\"\",IF(I66=1,VLOOKUP(Y66,男子種目コード!$D$1:$E$20,2,FALSE),IF(I66=2,VLOOKUP(Y66,女子種目コード!$D$1:$E$20,2,FALSE))))","v":""},null,"","",null,{"$f":"IF(AD66=\"\",\"\",IF(I66=1,VLOOKUP(AD66,男子種目コード!$A$1:$B$33,2,FALSE),IF(V66=2,VLOOKUP(I66,女子種目コード!$A$1:$B$28,2,FALSE))))","v":""},null,null,{"$f":"IF(AG66=\"\",\"\",IF(I66=1,VLOOKUP(AG66,男子種目コード!$A$1:$B$33,2,FALSE),IF(AA66=2,VLOOKUP(I66,女子種目コード!$A$1:$B$28,2,FALSE))))","v":""},null,null,null,null,null,"",0,0,null,null,null,null,null,null,null,null,null,null,null,null,null,null,0,"",""]
["",{"$f":"陸連登録!N62","v":0},null,null,{"$f":"陸連登録!M62","v":0},{"$f":"陸連登録!C62","v":0},{"$f":"陸連登録!D62","v":0},0,{"$f":"陸連登録!A62","v":""},{"$f":"陸連登録!P62","v":0},{"$f":"#REF!","v":{"$error":"#REF!"}},{"$f":"#REF!","v":{"$error":"#REF!"}},{"$f":"#REF!","v":{"$error":"#REF!"}},{"$f":"陸連登録!B62","v":0},null,{"$f":"IF(O67=\"\",\"\",IF(I67=1,VLOOKUP(O67,男子種目コード!$M$1:$N$13,2,FALSE),IF(I67=2,VLOOKUP(O67,女子種目コード!$M$1:$N$10,2,FALSE))))","v":""},null,"","",null,{"$f":"IF(T67=\"\",\"\",IF(I67=1,VLOOKUP(T67,男子種目コード!$M$1:$N$13,2,FALSE),IF(I67=2,VLOOKUP(T67,女子種目コード!$M$1:$N$10,2,FALSE))))","v":""},null,"","",null,{"$f":"IF(Y67=\"\",\"\",IF(I67=1,VLOOKUP(Y67,男子種目コード!$D$1:$E$20,2,FALSE),IF(I67=2,VLOOKUP(Y67,女子種目コード!$D$1:$E$20,2,FALSE))))","v":""},null,"","",null,{"$f":"IF(AD67=\"\",\"\",IF(I67=1,VLOOKUP(AD67,男子種目コード!$A$1:$B$33,2,FALSE),IF(V67=2,VLOOKUP(I67,女子種目コード!$A$1:$B$28,2,FALSE))))","v":""},null,null,{"$f":"IF(AG67=\"\",\"\",IF(I67=1,VLOOKUP(AG67,男子種目コード!$A$1:$B$33,2,FALSE),IF(AA67=2,VLOOKUP(I67,女子種目コード!$A$1:$B$28,2,FALSE))))","v":""},null,null,null,null,null,"",0,0,null,null,null,null,null,null,null,null,null,null,null,null,null,null,0,"",""]
["",{"$f":"陸連登録!N63","v":0},null,null,{"$f":"陸連登録!M63","v":0},{"$f":"陸連登録!C63","v":0},{"$f":"陸連登録!D63","v":0},0,{"$f":"陸連登録!A63","v":""},{"$f":"陸連登録!P63","v":0},{"$f":"#REF!","v":{"$error":"#REF!"}},{"$f":"#REF!","v":{"$error":"#REF!"}},{"$f":"#REF!","v":{"$error":"#REF!"}},{"$f":"陸連登録!B63","v":0},null,{"$f":"IF(O68=\"\",\"\",IF(I68=1,VLOOKUP(O68,男子種目コード!$M$1:$N$13,2,FALSE),IF(I68=2,VLOOKUP(O68,女子種目コード!$M$1:$N$10,2,FALSE))))","v":""},null,"","",null,{"$f":"IF(T68=\"\",\"\",IF(I68=1,VLOOKUP(T68,男子種目コード!$M$1:$N$13,2,FALSE),IF(I68=2,VLOOKUP(T68,女子種目コード!$M$1:$N$10,2,FALSE))))","v":""},null,"","",null,{"$f":"IF(Y68=\"\",\"\",IF(I68=1,VLOOKUP(Y68,男子種目コード!$D$1:$E$20,2,FALSE),IF(I68=2,VLOOKUP(Y68,女子種目コード!$D$1:$E$20,2,FALSE))))","v":""},null,"","",null,{"$f":"IF(AD68=\"\",\"\",IF(I68=1,VLOOKUP(AD68,男子種目コード!$A$1:$B$33,2,FALSE),IF(V68=2,VLOOKUP(I68,女子種目コード!$A$1:$B$28,2,FALSE))))","v":""},null,null,{"$f":"IF(AG68=\"\",\"\",IF(I68=1,VLOOKUP(AG68,男子種目コード!$A$1:$B$33,2,FALSE),IF(AA68=2,VLOOKUP(I68,女子種目コード!$A$1:$B$28,2,FALSE))))","v":""},null,null,null,null,null,"",0,0,null,null,null,null,null,null,null,null,null,null,null,null,null,null,0,"",""]
["",{"$f":"陸連登録!N64","v":0},null,null,{"$f":"陸連登録!M64","v":0},{"$f":"陸連登録!C64","v":0},{"$f":"陸連登録!D64","v":0},0,{"$f":"陸連登録!A64","v":""},{"$f":"陸連登録!P64","v":0},{"$f":"#REF!","v":{"$error":"#REF!"}},{"$f":"#REF!","v":{"$error":"#REF!"}},{"$f":"#REF!","v":{"$error":"#REF!"}},{"$f":"陸連登録!B64","v":0},null,{"$f":"IF(O69=\"\",\"\",IF(I69=1,VLOOKUP(O69,男子種目コード!$M$1:$N$13,2,FALSE),IF(I69=2,VLOOKUP(O69,女子種目コード!$M$1:$N$10,2,FALSE))))","v":""},null,"","",null,{"$f":"IF(T69=\"\",\"\",IF(I69=1,VLOOKUP(T69,男子種目コード!$M$1:$N$13,2,FALSE),IF(I69=2,VLOOKUP(T69,女子種目コード!$M$1:$N$10,2,FALSE))))","v":""},null,"","",null,{"$f":"IF(Y69=\"\",\"\",IF(I69=1,VLOOKUP(Y69,男子種目コード!$D$1:$E$20,2,FALSE),IF(I69=2,VLOOKUP(Y69,女子種目コード!$D$1:$E$20,2,FALSE))))","v":""},null,"","",null,{"$f":"IF(AD69=\"\",\"\",IF(I69=1,VLOOKUP(AD69,男子種目コード!$A$1:$B$33,2,FALSE),IF(V69=2,VLOOKUP(I69,女子種目コード!$A$1:$B$28,2,FALSE))))","v":""},null,null,{"$f":"IF(AG69=\"\",\"\",IF(I69=1,VLOOKUP(AG69,男子種目コード!$A$1:$B$33,2,FALSE),IF(AA69=2,VLOOKUP(I69,女子種目コード!$A$1:$B$28,2,FALSE))))","v":""},null,null,null,null,null,"",0,0,null,null,null,null,null,null,null,null,null,null,null,null,null,null,0,"",""]
["",{"$f":"陸連登録!N65","v":0},null,null,{"$f":"陸連登録!M65","v":0},{"$f":"陸連登録!C65","v":0},{"$f":"陸連登録!D65","v":0},0,{"$f":"陸連登録!A65","v":""},{"$f":"陸連登録!P65","v":0},{"$f":"#REF!","v":{"$error":"#REF!"}},{"$f":"#REF!","v":{"$error":"#REF!"}},{"$f":"#REF!","v":{"$error":"#REF!"}},{"$f":"陸連登録!B65","v":0},null,{"$f":"IF(O70=\"\",\"\",IF(I70=1,VLOOKUP(O70,男子種目コード!$M$1:$N$13,2,FALSE),IF(I70=2,VLOOKUP(O70,女子種目コード!$M$1:$N$10,2,FALSE))))","v":""},null,"","",null,{"$f":"IF(T70=\"\",\"\",IF(I70=1,VLOOKUP(T70,男子種目コード!$M$1:$N$13,2,FALSE),IF(I70=2,VLOOKUP(T70,女子種目コード!$M$1:$N$10,2,FALSE))))","v":""},null,"","",null,{"$f":"IF(Y70=\"\",\"\",IF(I70=1,VLOOKUP(Y70,男子種目コード!$D$1:$E$20,2,FALSE),IF(I70=2,VLOOKUP(Y70,女子種目コード!$D$1:$E$20,2,FALSE))))","v":""},null,"","",null,{"$f":"IF(AD70=\"\",\"\",IF(I70=1,VLOOKUP(AD70,男子種目コード!$A$1:$B$33,2,FALSE),IF(V70=2,VLOOKUP(I70,女子種目コード!$A$1:$B$28,2,FALSE))))","v":""},null,null,{"$f":"IF(AG70=\"\",\"\",IF(I70=1,VLOOKUP(AG70,男子種目コード!$A$1:$B$33,2,FALSE),IF(AA70=2,VLOOKUP(I70,女子種目コード!$A$1:$B$28,2,FALSE))))","v":""},null,null,null,null,null,"",0,0,null,null,null,null,null,null,null,null,null,null,null,null,null,null,0,"",""]
[{"$f":"Z71","v":""},{"$f":"陸連登録!N66","v":0},null,null,{"$f":"陸連登録!M66","v":0},{"$f":"陸連登録!C66","v":0},{"$f":"陸連登録!D66","v":0},0,{"$f":"陸連登録!A66","v":""},{"$f":"陸連登録!P66","v":0},{"$f":"#REF!","v":{"$error":"#REF!"}},{"$f":"#REF!","v":{"$error":"#REF!"}},{"$f":"#REF!","v":{"$error":"#REF!"}},{"$f":"陸連登録!B66","v":0},null,{"$f":"IF(O71=\"\",\"\",IF(I71=1,VLOOKUP(O71,男子種目コード!$M$1:$N$13,2,FALSE),IF(I71=2,VLOOKUP(O71,女子種目コード!$M$1:$N$10,2,FALSE))))","v":""},null,{"$f":"IF(O71=\"\",\"\",0)","v":""},{"$f":"IF(O71=\"\",\"\",2)","v":""},null,{"$f":"IF(T71=\"\",\"\",IF(I71=1,VLOOKUP(T71,男子種目コード!$M$1:$N$13,2,FALSE),IF(I71=2,VLOOKUP(T71,女子種目コード!$M$1:$N$10,2,FALSE))))","v":""},null,{"$f":"IF(T71=\"\",\"\",0)","v":""},{"$f":"IF(T71=\"\",\"\",2)","v":""},null,{"$f":"IF(Y71=\"\",\"\",IF(I71=1,VLOOKUP(Y71,男子種目コード!$D$1:$E$20,2,FALSE),IF(I71=2,VLOOKUP(Y71,女子種目コード!$D$1:$E$20,2,FALSE))))","v":""},null,{"$f":"IF(Y71=\"\",\"\",0)","v":""},{"$f":"IF(Y71=\"\",\"\",2)","v":""},null,{"$f":"IF(AD71=\"\",\"\",IF(I71=1,VLOOKUP(AD71,男子種目コード!$A$1:$B$33,2,FALSE),IF(V71=2,VLOOKUP(I71,女子種目コード!$A$1:$B$28,2,FALSE))))","v":""},null,null,{"$f":"IF(AG71=\"\",\"\",IF(I71=1,VLOOKUP(AG71,男子種目コード!$A$1:$B$33,2,FALSE),IF(AA71=2,VLOOKUP(I71,女子種目コード!$A$1:$B$28,2,FALSE))))","v":""},null,null,null,null,null,{"$f":"IF(O71=\"\",\"\",1)","v":""},{"$f":"IF(OR(AN71=1,T71=\"\"),0,1)","v":0},{"$f":"IF(OR(AN71=1,AO71=1,Y71=\"\"),0,1)","v":0},null,null,null,null,null,null,null,null,null,null,null,null,null,null,{"$f":"COUNT(P71,U71,Z71)","v":0},{"$f":"IF(I71=1,BE71,\"\")","v":""},{"$f":"IF(I71=2,BE71,\"\")","v":""}]
["",{"$f":"陸連登録!N67","v":0},null,null,{"$f":"陸連登録!M67","v":0},{"$f":"陸連登録!C67","v":0},{"$f":"陸連登録!D67","v":0},{"$f":"F72","v":0},{"$f":"陸連登録!A67","v":""},{"$f":"陸連登録!P67","v":0},{"$f":"#REF!","v":{"$error":"#REF!"}},{"$f":"#REF!","v":{"$error":"#REF!"}},{"$f":"#REF!","v":{"$error":"#REF!"}},{"$f":"陸連登録!B67","v":0},null,{"$f":"IF(O72=\"\",\"\",IF(I72=1,VLOOKUP(O72,男子種目コード!$M$1:$N$13,2,FALSE),IF(I72=2,VLOOKUP(O72,女子種目コード!$M$1:$N$10,2,FALSE))))","v":""},null,"","",null,{"$f":"IF(T72=\"\",\"\",IF(I72=1,VLOOKUP(T72,男子種目コード!$M$1:$N$13,2,FALSE),IF(I72=2,VLOOKUP(T72,女子種目コード!$M$1:$N$10,2,FALSE))))","v":""},null,"","",null,{"$f":"IF(Y72=\"\",\"\",IF(I72=1,VLOOKUP(Y72,男子種目コード!$D$1:$E$20,2,FALSE),IF(I72=2,VLOOKUP(Y72,女子種目コード!$D$1:$E$20,2,FALSE))))","v":""},null,"","",null,{"$f":"IF(AD72=\"\",\"\",IF(I72=1,VLOOKUP(AD72,男子種目コード!$A$1:$B$33,2,FALSE),IF(V72=2,VLOOKUP(I72,女子種目コード!$A$1:$B$28,2,FALSE))))","v":""},null,null,{"$f":"IF(AG72=\"\",\"\",IF(I72=1,VLOOKUP(AG72,男子種目コード!$A$1:$B$33,2,FALSE),IF(AA72=2,VLOOKUP(I72,女子種目コード!$A$1:$B$28,2,FALSE))))","v":""},null,null,null,null,null,"",0,0,null,null,null,null,null,null,null,null,null,null,null,null,null,null,0,"",""]
["",{"$f":"陸連登録!N68","v":0},null,null,{"$f":"陸連登録!M68","v":0},{"$f":"陸連登録!C68","v":0},{"$f":"陸連登録!D68","v":0},0,{"$f":"陸連登録!A68","v":""},{"$f":"陸連登録!P68","v":0},{"$f":"#REF!","v":{"$error":"#REF!"}},{"$f":"#REF!","v":{"$error":"#REF!"}},{"$f":"#REF!","v":{"$error":"#REF!"}},{"$f":"陸連登録!B68","v":0},null,{"$f":"IF(O73=\"\",\"\",IF(I73=1,VLOOKUP(O73,男子種目コード!$M$1:$N$13,2,FALSE),IF(I73=2,VLOOKUP(O73,女子種目コード!$M$1:$N$10,2,FALSE))))","v":""},null,"","",null,{"$f":"IF(T73=\"\",\"\",IF(I73=1,VLOOKUP(T73,男子種目コード!$M$1:$N$13,2,FALSE),IF(I73=2,VLOOKUP(T73,女子種目コード!$M$1:$N$10,2,FALSE))))","v":""},null,"","",null,{"$f":"IF(Y73=\"\",\"\",IF(I73=1,VLOOKUP(Y73,男子種目コード!$D$1:$E$20,2,FALSE),IF(I73=2,VLOOKUP(Y73,女子種目コード!$D$1:$E$20,2,FALSE))))","v":""},null,"","",null,{"$f":"IF(AD73=\"\",\"\",IF(I73=1,VLOOKUP(AD73,男子種目コード!$A$1:$B$33,2,FALSE),IF(V73=2,VLOOKUP(I73,女子種目コード!$A$1:$B$28,2,FALSE))))","v":""},null,null,{"$f":"IF(AG73=\"\",\"\",IF(I73=1,VLOOKUP(AG73,男子種目コード!$A$1:$B$33,2,FALSE),IF(AA73=2,VLOOKUP(I73,女子種目コード!$A$1:$B$28,2,FALSE))))","v":""},null,null,null,null,null,"",0,0,null,null,null,null,null,null,null,null,null,null,null,null,null,null,0,"",""]
["",{"$f":"陸連登録!N69","v":0},null,null,{"$f":"陸連登録!M69","v":0},{"$f":"陸連登録!C69","v":0},{"$f":"陸連登録!D69","v":0},0,{"$f":"陸連登録!A69","v":""},{"$f":"陸連登録!P69","v":0},{"$f":"#REF!","v":{"$error":"#REF!"}},{"$f":"#REF!","v":{"$error":"#REF!"}},{"$f":"#REF!","v":{"$error":"#REF!"}},{"$f":"陸連登録!B69","v":0},null,{"$f":"IF(O74=\"\",\"\",IF(I74=1,VLOOKUP(O74,男子種目コード!$M$1:$N$13,2,FALSE),IF(I74=2,VLOOKUP(O74,女子種目コード!$M$1:$N$10,2,FALSE))))","v":""},null,"","",null,{"$f":"IF(T74=\"\",\"\",IF(I74=1,VLOOKUP(T74,男子種目コード!$M$1:$N$13,2,FALSE),IF(I74=2,VLOOKUP(T74,女子種目コード!$M$1:$N$10,2,FALSE))))","v":""},null,"","",null,{"$f":"IF(Y74=\"\",\"\",IF(I74=1,VLOOKUP(Y74,男子種目コード!$D$1:$E$20,2,FALSE),IF(I74=2,VLOOKUP(Y74,女子種目コード!$D$1:$E$20,2,FALSE))))","v":""},null,"","",null,{"$f":"IF(AD74=\"\",\"\",IF(I74=1,VLOOKUP(AD74,男子種目コード!$A$1:$B$33,2,FALSE),IF(V74=2,VLOOKUP(I74,女子種目コード!$A$1:$B$28,2,FALSE))))","v":""},null,null,{"$f":"IF(AG74=\"\",\"\",IF(I74=1,VLOOKUP(AG74,男子種目コード!$A$1:$B$33,2,FALSE),IF(AA74=2,VLOOKUP(I74,女子種目コード!$A$1:$B$28,2,FALSE))))","v":""},null,null,null,null,null,"",0,0,null,null,null,null,null,null,null,null,null,null,null,null,null,null,0,"",""]
["",{"$f":"陸連登録!N70","v":0},null,null,{"$f":"陸連登録!M70","v":0},{"$f":"陸連登録!C70","v":0},{"$f":"陸連登録!D70","v":0},0,{"$f":"陸連登録!A70","v":""},{"$f":"陸連登録!P70","v":0},{"$f":"#REF!","v":{"$error":"#REF!"}},{"$f":"#REF!","v":{"$error":"#REF!"}},{"$f":"#REF!","v":{"$error":"#REF!"}},{"$f":"陸連登録!B70","v":0},null,{"$f":"IF(O75=\"\",\"\",IF(I75=1,VLOOKUP(O75,男子種目コード!$M$1:$N$13,2,FALSE),IF(I75=2,VLOOKUP(O75,女子種目コード!$M$1:$N$10,2,FALSE))))","v":""},null,"","",null,{"$f":"IF(T75=\"\",\"\",IF(I75=1,VLOOKUP(T75,男子種目コード!$M$1:$N$13,2,FALSE),IF(I75=2,VLOOKUP(T75,女子種目コード!$M$1:$N$10,2,FALSE))))","v":""},null,"","",null,{"$f":"IF(Y75=\"\",\"\",IF(I75=1,VLOOKUP(Y75,男子種目コード!$D$1:$E$20,2,FALSE),IF(I75=2,VLOOKUP(Y75,女子種目コード!$D$1:$E$20,2,FALSE))))","v":""},null,"","",null,{"$f":"IF(AD75=\"\",\"\",IF(I75=1,VLOOKUP(AD75,男子種目コード!$A$1:$B$33,2,FALSE),IF(V75=2,VLOOKUP(I75,女子種目コード!$A$1:$B$28,2,FALSE))))","v":""},null,null,{"$f":"IF(AG75=\"\",\"\",IF(I75=1,VLOOKUP(AG75,男子種目コード!$A$1:$B$33,2,FALSE),IF(AA75=2,VLOOKUP(I75,女子種目コード!$A$1:$B$28,2,FALSE))))","v":""},null,null,null,null,null,"",0,0,null,null,null,null,null,null,null,null,null,null,null,null,null,null,0,"",""]
["",{"$f":"陸連登録!N71","v":0},null,null,{"$f":"陸連登録!M71","v":0},{"$f":"陸連登録!C71","v":0},{"$f":"陸連登録!D71","v":0},0,{"$f":"陸連登録!A71","v":""},{"$f":"陸連登録!P71","v":0},{"$f":"#REF!","v":{"$error":"#REF!"}},{"$f":"#REF!","v":{"$error":"#REF!"}},{"$f":"#REF!","v":{"$error":"#REF!"}},{"$f":"陸連登録!B71","v":0},null,{"$f":"IF(O76=\"\",\"\",IF(I76=1,VLOOKUP(O76,男子種目コード!$M$1:$N$13,2,FALSE),IF(I76=2,VLOOKUP(O76,女子種目コード!$M$1:$N$10,2,FALSE))))","v":""},null,"","",null,{"$f":"IF(T76=\"\",\"\",IF(I76=1,VLOOKUP(T76,男子種目コード!$M$1:$N$13,2,FALSE),IF(I76=2,VLOOKUP(T76,女子種目コード!$M$1:$N$10,2,FALSE))))","v":""},null,"","",null,{"$f":"IF(Y76=\"\",\"\",IF(I76=1,VLOOKUP(Y76,男子種目コード!$D$1:$E$20,2,FALSE),IF(I76=2,VLOOKUP(Y76,女子種目コード!$D$1:$E$20,2,FALSE))))","v":""},null,"","",null,{"$f":"IF(AD76=\"\",\"\",IF(I76=1,VLOOKUP(AD76,男子種目コード!$A$1:$B$33,2,FALSE),IF(V76=2,VLOOKUP(I76,女子種目コード!$A$1:$B$28,2,FALSE))))","v":""},null,null,{"$f":"IF(AG76=\"\",\"\",IF(I76=1,VLOOKUP(AG76,男子種目コード!$A$1:$B$33,2,FALSE),IF(AA76=2,VLOOKUP(I76,女子種目コード!$A$1:$B$28,2,FALSE))))","v":""},null,null,null,null,null,"",0,0,null,null,null,null,null,null,null,null,null,null,null,null,null,null,0,"",""]
["",{"$f":"陸連登録!N72","v":0},null,null,{"$f":"陸連登録!M72","v":0},{"$f":"陸連登録!C72","v":0},{"$f":"陸連登録!D72","v":0},0,{"$f":"陸連登録!A72","v":""},{"$f":"陸連登録!P72","v":0},{"$f":"#REF!","v":{"$error":"#REF!"}},{"$f":"#REF!","v":{"$error":"#REF!"}},{"$f":"#REF!","v":{"$error":"#REF!"}},{"$f":"陸連登録!B72","v":0},null,{"$f":"IF(O77=\"\",\"\",IF(I77=1,VLOOKUP(O77,男子種目コード!$M$1:$N$13,2,FALSE),IF(I77=2,VLOOKUP(O77,女子種目コード!$M$1:$N$10,2,FALSE))))","v":""},null,"","",null,{"$f":"IF(T77=\"\",\"\",IF(I77=1,VLOOKUP(T77,男子種目コード!$M$1:$N$13,2,FALSE),IF(I77=2,VLOOKUP(T77,女子種目コード!$M$1:$N$10,2,FALSE))))","v":""},null,"","",null,{"$f":"IF(Y77=\"\",\"\",IF(I77=1,VLOOKUP(Y77,男子種目コード!$D$1:$E$20,2,FALSE),IF(I77=2,VLOOKUP(Y77,女子種目コード!$D$1:$E$20,2,FALSE))))","v":""},null,"","",null,{"$f":"IF(AD77=\"\",\"\",IF(I77=1,VLOOKUP(AD77,男子種目コード!$A$1:$B$33,2,FALSE),IF(V77=2,VLOOKUP(I77,女子種目コード!$A$1:$B$28,2,FALSE))))","v":""},null,null,{"$f":"IF(AG77=\"\",\"\",IF(I77=1,VLOOKUP(AG77,男子種目コード!$A$1:$B$33,2,FALSE),IF(AA77=2,VLOOKUP(I77,女子種目コード!$A$1:$B$28,2,FALSE))))","v":""},null,null,null,null,null,"",0,0,null,null,null,null,null,null,null,null,null,null,null,null,null,null,0,"",""]
["",{"$f":"陸連登録!N73","v":0},null,null,{"$f":"陸連登録!M73","v":0},{"$f":"陸連登録!C73","v":0},{"$f":"陸連登録!D73","v":0},0,{"$f":"陸連登録!A73","v":""},{"$f":"陸連登録!P73","v":0},{"$f":"#REF!","v":{"$error":"#REF!"}},{"$f":"#REF!","v":{"$error":"#REF!"}},{"$f":"#REF!","v":{"$error":"#REF!"}},{"$f":"陸連登録!B73","v":0},null,{"$f":"IF(O78=\"\",\"\",IF(I78=1,VLOOKUP(O78,男子種目コード!$M$1:$N$13,2,FALSE),IF(I78=2,VLOOKUP(O78,女子種目コード!$M$1:$N$10,2,FALSE))))","v":""},null,"","",null,{"$f":"IF(T78=\"\",\"\",IF(I78=1,VLOOKUP(T78,男子種目コード!$M$1:$N$13,2,FALSE),IF(I78=2,VLOOKUP(T78,女子種目コード!$M$1:$N$10,2,FALSE))))","v":""},null,"","",null,{"$f":"IF(Y78=\"\",\"\",IF(I78=1,VLOOKUP(Y78,男子種目コード!$D$1:$E$20,2,FALSE),IF(I78=2,VLOOKUP(Y78,女子種目コード!$D$1:$E$20,2,FALSE))))","v":""},null,"","",null,{"$f":"IF(AD78=\"\",\"\",IF(I78=1,VLOOKUP(AD78,男子種目コード!$A$1:$B$33,2,FALSE),IF(V78=2,VLOOKUP(I78,女子種目コード!$A$1:$B$28,2,FALSE))))","v":""},null,null,{"$f":"IF(AG78=\"\",\"\",IF(I78=1,VLOOKUP(AG78,男子種目コード!$A$1:$B$33,2,FALSE),IF(AA78=2,VLOOKUP(I78,女子種目コード!$A$1:$B$28,2,FALSE))))","v":""},null,null,null,null,null,"",0,0,null,null,null,null,null,null,null,null,null,null,null,null,null,null,0,"",""]
["",{"$f":"陸連登録!N74","v":0},null,null,{"$f":"陸連登録!M74","v":0},{"$f":"陸連登録!C74","v":0},{"$f":"陸連登録!D74","v":0},0,{"$f":"陸連登録!A74","v":""},{"$f":"陸連登録!P74","v":0},{"$f":"#REF!","v":{"$error":"#REF!"}},{"$f":"#REF!","v":{"$error":"#REF!"}},{"$f":"#REF!","v":{"$error":"#REF!"}},{"$f":"陸連登録!B74","v":0},null,{"$f":"IF(O79=\"\",\"\",IF(I79=1,VLOOKUP(O79,男子種目コード!$M$1:$N$13,2,FALSE),IF(I79=2,VLOOKUP(O79,女子種目コード!$M$1:$N$10,2,FALSE))))","v":""},null,"","",null,{"$f":"IF(T79=\"\",\"\",IF(I79=1,VLOOKUP(T79,男子種目コード!$M$1:$N$13,2,FALSE),IF(I79=2,VLOOKUP(T79,女子種目コード!$M$1:$N$10,2,FALSE))))","v":""},null,"","",null,{"$f":"IF(Y79=\"\",\"\",IF(I79=1,VLOOKUP(Y79,男子種目コード!$D$1:$E$20,2,FALSE),IF(I79=2,VLOOKUP(Y79,女子種目コード!$D$1:$E$20,2,FALSE))))","v":""},null,"","",null,{"$f":"IF(AD79=\"\",\"\",IF(I79=1,VLOOKUP(AD79,男子種目コード!$A$1:$B$33,2,FALSE),IF(V79=2,VLOOKUP(I79,女子種目コード!$A$1:$B$28,2,FALSE))))","v":""},null,null,{"$f":"IF(AG79=\"\",\"\",IF(I79=1,VLOOKUP(AG79,男子種目コード!$A$1:$B$33,2,FALSE),IF(AA79=2,VLOOKUP(I79,女子種目コード!$A$1:$B$28,2,FALSE))))","v":""},null,null,null,null,null,"",0,0,null,null,null,null,null,null,null,null,null,null,null,null,null,null,0,"",""]
["",{"$f":"陸連登録!N75","v":0},null,null,{"$f":"陸連登録!M75","v":0},{"$f":"陸連登録!C75","v":0},{"$f":"陸連登録!D75","v":0},0,{"$f":"陸連登録!A75","v":""},{"$f":"陸連登録!P75","v":0},{"$f":"#REF!","v":{"$error":"#REF!"}},{"$f":"#REF!","v":{"$error":"#REF!"}},{"$f":"#REF!","v":{"$error":"#REF!"}},{"$f":"陸連登録!B75","v":0},null,{"$f":"IF(O80=\"\",\"\",IF(I80=1,VLOOKUP(O80,男子種目コード!$M$1:$N$13,2,FALSE),IF(I80=2,VLOOKUP(O80,女子種目コード!$M$1:$N$10,2,FALSE))))","v":""},null,"","",null,{"$f":"IF(T80=\"\",\"\",IF(I80=1,VLOOKUP(T80,男子種目コード!$M$1:$N$13,2,FALSE),IF(I80=2,VLOOKUP(T80,女子種目コード!$M$1:$N$10,2,FALSE))))","v":""},null,"","",null,{"$f":"IF(Y80=\"\",\"\",IF(I80=1,VLOOKUP(Y80,男子種目コード!$D$1:$E$20,2,FALSE),IF(I80=2,VLOOKUP(Y80,女子種目コード!$D$1:$E$20,2,FALSE))))","v":""},null,"","",null,{"$f":"IF(AD80=\"\",\"\",IF(I80=1,VLOOKUP(AD80,男子種目コード!$A$1:$B$33,2,FALSE),IF(V80=2,VLOOKUP(I80,女子種目コード!$A$1:$B$28,2,FALSE))))","v":""},null,null,{"$f":"IF(AG80=\"\",\"\",IF(I80=1,VLOOKUP(AG80,男子種目コード!$A$1:$B$33,2,FALSE),IF(AA80=2,VLOOKUP(I80,女子種目コード!$A$1:$B$28,2,FALSE))))","v":""},null,null,null,null,null,"",0,0,null,null,null,null,null,null,null,null,null,null,null,null,null,null,0,"",""]
["",{"$f":"陸連登録!N76","v":0},null,null,{"$f":"陸連登録!M76","v":0},{"$f":"陸連登録!C76","v":0},{"$f":"陸連登録!D76","v":0},0,{"$f":"陸連登録!A76","v":""},{"$f":"陸連登録!P76","v":0},{"$f":"#REF!","v":{"$error":"#REF!"}},{"$f":"#REF!","v":{"$error":"#REF!"}},{"$f":"#REF!","v":{"$error":"#REF!"}},{"$f":"陸連登録!B76","v":0},null,{"$f":"IF(O81=\"\",\"\",IF(I81=1,VLOOKUP(O81,男子種目コード!$M$1:$N$13,2,FALSE),IF(I81=2,VLOOKUP(O81,女子種目コード!$M$1:$N$10,2,FALSE))))","v":""},null,"","",null,{"$f":"IF(T81=\"\",\"\",IF(I81=1,VLOOKUP(T81,男子種目コード!$M$1:$N$13,2,FALSE),IF(I81=2,VLOOKUP(T81,女子種目コード!$M$1:$N$10,2,FALSE))))","v":""},null,"","",null,{"$f":"IF(Y81=\"\",\"\",IF(I81=1,VLOOKUP(Y81,男子種目コード!$D$1:$E$20,2,FALSE),IF(I81=2,VLOOKUP(Y81,女子種目コード!$D$1:$E$20,2,FALSE))))","v":""},null,"","",null,{"$f":"IF(AD81=\"\",\"\",IF(I81=1,VLOOKUP(AD81,男子種目コード!$A$1:$B$33,2,FALSE),IF(V81=2,VLOOKUP(I81,女子種目コード!$A$1:$B$28,2,FALSE))))","v":""},null,null,{"$f":"IF(AG81=\"\",\"\",IF(I81=1,VLOOKUP(AG81,男子種目コード!$A$1:$B$33,2,FALSE),IF(AA81=2,VLOOKUP(I81,女子種目コード!$A$1:$B$28,2,FALSE))))","v":""},null,null,null,null,null,"",0,0,null,null,null,null,null,null,null,null,null,null,null,null,null,null,0,"",""]
["",{"$f":"陸連登録!N77","v":0},null,null,{"$f":"陸連登録!M77","v":0},{"$f":"陸連登録!C77","v":0},{"$f":"陸連登録!D77","v":0},0,{"$f":"陸連登録!A77","v":""},{"$f":"陸連登録!P77","v":0},{"$f":"#REF!","v":{"$error":"#REF!"}},{"$f":"#REF!","v":{"$error":"#REF!"}},{"$f":"#REF!","v":{"$error":"#REF!"}},{"$f":"陸連登録!B77","v":0},null,{"$f":"IF(O82=\"\",\"\",IF(I82=1,VLOOKUP(O82,男子種目コード!$M$1:$N$13,2,FALSE),IF(I82=2,VLOOKUP(O82,女子種目コード!$M$1:$N$10,2,FALSE))))","v":""},null,"","",null,{"$f":"IF(T82=\"\",\"\",IF(I82=1,VLOOKUP(T82,男子種目コード!$M$1:$N$13,2,FALSE),IF(I82=2,VLOOKUP(T82,女子種目コード!$M$1:$N$10,2,FALSE))))","v":""},null,"","",null,{"$f":"IF(Y82=\"\",\"\",IF(I82=1,VLOOKUP(Y82,男子種目コード!$D$1:$E$20,2,FALSE),IF(I82=2,VLOOKUP(Y82,女子種目コード!$D$1:$E$20,2,FALSE))))","v":""},null,"","",null,{"$f":"IF(AD82=\"\",\"\",IF(I82=1,VLOOKUP(AD82,男子種目コード!$A$1:$B$33,2,FALSE),IF(V82=2,VLOOKUP(I82,女子種目コード!$A$1:$B$28,2,FALSE))))","v":""},null,null,{"$f":"IF(AG82=\"\",\"\",IF(I82=1,VLOOKUP(AG82,男子種目コード!$A$1:$B$33,2,FALSE),IF(AA82=2,VLOOKUP(I82,女子種目コード!$A$1:$B$28,2,FALSE))))","v":""},null,null,null,null,null,"",0,0,null,null,null,null,null,null,null,null,null,null,null,null,null,null,0,"",""]
["",{"$f":"陸連登録!N78","v":0},null,null,{"$f":"陸連登録!M78","v":0},{"$f":"陸連登録!C78","v":0},{"$f":"陸連登録!D78","v":0},0,{"$f":"陸連登録!A78","v":""},{"$f":"陸連登録!P78","v":0},{"$f":"#REF!","v":{"$error":"#REF!"}},{"$f":"#REF!","v":{"$error":"#REF!"}},{"$f":"#REF!","v":{"$error":"#REF!"}},{"$f":"陸連登録!B78","v":0},null,{"$f":"IF(O83=\"\",\"\",IF(I83=1,VLOOKUP(O83,男子種目コード!$M$1:$N$13,2,FALSE),IF(I83=2,VLOOKUP(O83,女子種目コード!$M$1:$N$10,2,FALSE))))","v":""},null,"","",null,{"$f":"IF(T83=\"\",\"\",IF(I83=1,VLOOKUP(T83,男子種目コード!$M$1:$N$13,2,FALSE),IF(I83=2,VLOOKUP(T83,女子種目コード!$M$1:$N$10,2,FALSE))))","v":""},null,"","",null,{"$f":"IF(Y83=\"\",\"\",IF(I83=1,VLOOKUP(Y83,男子種目コード!$D$1:$E$20,2,FALSE),IF(I83=2,VLOOKUP(Y83,女子種目コード!$D$1:$E$20,2,FALSE))))","v":""},null,"","",null,{"$f":"IF(AD83=\"\",\"\",IF(I83=1,VLOOKUP(AD83,男子種目コード!$A$1:$B$33,2,FALSE),IF(V83=2,VLOOKUP(I83,女子種目コード!$A$1:$B$28,2,FALSE))))","v":""},null,null,{"$f":"IF(AG83=\"\",\"\",IF(I83=1,VLOOKUP(AG83,男子種目コード!$A$1:$B$33,2,FALSE),IF(AA83=2,VLOOKUP(I83,女子種目コード!$A$1:$B$28,2,FALSE))))","v":""},null,null,null,null,null,"",0,0,null,null,null,null,null,null,null,null,null,null,null,null,null,null,0,"",""]
["",{"$f":"陸連登録!N79","v":0},null,null,{"$f":"陸連登録!M79","v":0},{"$f":"陸連登録!C79","v":0},{"$f":"陸連登録!D79","v":0},0,{"$f":"陸連登録!A79","v":""},{"$f":"陸連登録!P79","v":0},{"$f":"#REF!","v":{"$error":"#REF!"}},{"$f":"#REF!","v":{"$error":"#REF!"}},{"$f":"#REF!","v":{"$error":"#REF!"}},{"$f":"陸連登録!B79","v":0},null,{"$f":"IF(O84=\"\",\"\",IF(I84=1,VLOOKUP(O84,男子種目コード!$M$1:$N$13,2,FALSE),IF(I84=2,VLOOKUP(O84,女子種目コード!$M$1:$N$10,2,FALSE))))","v":""},null,"","",null,{"$f":"IF(T84=\"\",\"\",IF(I84=1,VLOOKUP(T84,男子種目コード!$M$1:$N$13,2,FALSE),IF(I84=2,VLOOKUP(T84,女子種目コード!$M$1:$N$10,2,FALSE))))","v":""},null,"","",null,{"$f":"IF(Y84=\"\",\"\",IF(I84=1,VLOOKUP(Y84,男子種目コード!$D$1:$E$20,2,FALSE),IF(I84=2,VLOOKUP(Y84,女子種目コード!$D$1:$E$20,2,FALSE))))","v":""},null,"","",null,{"$f":"IF(AD84=\"\",\"\",IF(I84=1,VLOOKUP(AD84,男子種目コード!$A$1:$B$33,2,FALSE),IF(V84=2,VLOOKUP(I84,女子種目コード!$A$1:$B$28,2,FALSE))))","v":""},null,null,{"$f":"IF(AG84=\"\",\"\",IF(I84=1,VLOOKUP(AG84,男子種目コード!$A$1:$B$33,2,FALSE),IF(AA84=2,VLOOKUP(I84,女子種目コード!$A$1:$B$28,2,FALSE))))","v":""},null,null,null,null,null,"",0,0,null,null,null,null,null,null,null,null,null,null,null,null,null,null,0,"",""]
["",{"$f":"陸連登録!N80","v":0},null,null,{"$f":"陸連登録!M80","v":0},{"$f":"陸連登録!C80","v":0},{"$f":"陸連登録!D80","v":0},0,{"$f":"陸連登録!A80","v":""},{"$f":"陸連登録!P80","v":0},{"$f":"#REF!","v":{"$error":"#REF!"}},{"$f":"#REF!","v":{"$error":"#REF!"}},{"$f":"#REF!","v":{"$error":"#REF!"}},{"$f":"陸連登録!B80","v":0},null,{"$f":"IF(O85=\"\",\"\",IF(I85=1,VLOOKUP(O85,男子種目コード!$M$1:$N$13,2,FALSE),IF(I85=2,VLOOKUP(O85,女子種目コード!$M$1:$N$10,2,FALSE))))","v":""},null,"","",null,{"$f":"IF(T85=\"\",\"\",IF(I85=1,VLOOKUP(T85,男子種目コード!$M$1:$N$13,2,FALSE),IF(I85=2,VLOOKUP(T85,女子種目コード!$M$1:$N$10,2,FALSE))))","v":""},null,"","",null,{"$f":"IF(Y85=\"\",\"\",IF(I85=1,VLOOKUP(Y85,男子種目コード!$D$1:$E$20,2,FALSE),IF(I85=2,VLOOKUP(Y85,女子種目コード!$D$1:$E$20,2,FALSE))))","v":""},null,"","",null,{"$f":"IF(AD85=\"\",\"\",IF(I85=1,VLOOKUP(AD85,男子種目コード!$A$1:$B$33,2,FALSE),IF(V85=2,VLOOKUP(I85,女子種目コード!$A$1:$B$28,2,FALSE))))","v":""},null,null,{"$f":"IF(AG85=\"\",\"\",IF(I85=1,VLOOKUP(AG85,男子種目コード!$A$1:$B$33,2,FALSE),IF(AA85=2,VLOOKUP(I85,女子種目コード!$A$1:$B$28,2,FALSE))))","v":""},null,null,null,null,null,"",0,0,null,null,null,null,null,null,null,null,null,null,null,null,null,null,0,"",""]
["",{"$f":"陸連登録!N81","v":0},null,null,{"$f":"陸連登録!M81","v":0},{"$f":"陸連登録!C81","v":0},{"$f":"陸連登録!D81","v":0},0,{"$f":"陸連登録!A81","v":""},{"$f":"陸連登録!P81","v":0},{"$f":"#REF!","v":{"$error":"#REF!"}},{"$f":"#REF!","v":{"$error":"#REF!"}},{"$f":"#REF!","v":{"$error":"#REF!"}},{"$f":"陸連登録!B81","v":0},null,{"$f":"IF(O86=\"\",\"\",IF(I86=1,VLOOKUP(O86,男子種目コード!$M$1:$N$13,2,FALSE),IF(I86=2,VLOOKUP(O86,女子種目コード!$M$1:$N$10,2,FALSE))))","v":""},null,"","",null,{"$f":"IF(T86=\"\",\"\",IF(I86=1,VLOOKUP(T86,男子種目コード!$M$1:$N$13,2,FALSE),IF(I86=2,VLOOKUP(T86,女子種目コード!$M$1:$N$10,2,FALSE))))","v":""},null,"","",null,{"$f":"IF(Y86=\"\",\"\",IF(I86=1,VLOOKUP(Y86,男子種目コード!$D$1:$E$20,2,FALSE),IF(I86=2,VLOOKUP(Y86,女子種目コード!$D$1:$E$20,2,FALSE))))","v":""},null,"","",null,{"$f":"IF(AD86=\"\",\"\",IF(I86=1,VLOOKUP(AD86,男子種目コード!$A$1:$B$33,2,FALSE),IF(V86=2,VLOOKUP(I86,女子種目コード!$A$1:$B$28,2,FALSE))))","v":""},null,null,{"$f":"IF(AG86=\"\",\"\",IF(I86=1,VLOOKUP(AG86,男子種目コード!$A$1:$B$33,2,FALSE),IF(AA86=2,VLOOKUP(I86,女子種目コード!$A$1:$B$28,2,FALSE))))","v":""},null,null,null,null,null,"",0,0,null,null,null,null,null,null,null,null,null,null,null,null,null,null,0,"",""]
["",{"$f":"陸連登録!N82","v":0},null,null,{"$f":"陸連登録!M82","v":0},{"$f":"陸連登録!C82","v":0},{"$f":"陸連登録!D82","v":0},0,{"$f":"陸連登録!A82","v":""},{"$f":"陸連登録!P82","v":0},{"$f":"#REF!","v":{"$error":"#REF!"}},{"$f":"#REF!","v":{"$error":"#REF!"}},{"$f":"#REF!","v":{"$error":"#REF!"}},{"$f":"陸連登録!B82","v":0},null,{"$f":"IF(O87=\"\",\"\",IF(I87=1,VLOOKUP(O87,男子種目コード!$M$1:$N$13,2,FALSE),IF(I87=2,VLOOKUP(O87,女子種目コード!$M$1:$N$10,2,FALSE))))","v":""},null,"","",null,{"$f":"IF(T87=\"\",\"\",IF(I87=1,VLOOKUP(T87,男子種目コード!$M$1:$N$13,2,FALSE),IF(I87=2,VLOOKUP(T87,女子種目コード!$M$1:$N$10,2,FALSE))))","v":""},null,"","",null,{"$f":"IF(Y87=\"\",\"\",IF(I87=1,VLOOKUP(Y87,男子種目コード!$D$1:$E$20,2,FALSE),IF(I87=2,VLOOKUP(Y87,女子種目コード!$D$1:$E$20,2,FALSE))))","v":""},null,"","",null,{"$f":"IF(AD87=\"\",\"\",IF(I87=1,VLOOKUP(AD87,男子種目コード!$A$1:$B$33,2,FALSE),IF(V87=2,VLOOKUP(I87,女子種目コード!$A$1:$B$28,2,FALSE))))","v":""},null,null,{"$f":"IF(AG87=\"\",\"\",IF(I87=1,VLOOKUP(AG87,男子種目コード!$A$1:$B$33,2,FALSE),IF(AA87=2,VLOOKUP(I87,女子種目コード!$A$1:$B$28,2,FALSE))))","v":""},null,null,null,null,null,"",0,0,null,null,null,null,null,null,null,null,null,null,null,null,null,null,0,"",""]
["",{"$f":"陸連登録!N83","v":0},null,null,{"$f":"陸連登録!M83","v":0},{"$f":"陸連登録!C83","v":0},{"$f":"陸連登録!D83","v":0},0,{"$f":"陸連登録!A83","v":""},{"$f":"陸連登録!P83","v":0},{"$f":"#REF!","v":{"$error":"#REF!"}},{"$f":"#REF!","v":{"$error":"#REF!"}},{"$f":"#REF!","v":{"$error":"#REF!"}},{"$f":"陸連登録!B83","v":0},null,{"$f":"IF(O88=\"\",\"\",IF(I88=1,VLOOKUP(O88,男子種目コード!$M$1:$N$13,2,FALSE),IF(I88=2,VLOOKUP(O88,女子種目コード!$M$1:$N$10,2,FALSE))))","v":""},null,"","",null,{"$f":"IF(T88=\"\",\"\",IF(I88=1,VLOOKUP(T88,男子種目コード!$M$1:$N$13,2,FALSE),IF(I88=2,VLOOKUP(T88,女子種目コード!$M$1:$N$10,2,FALSE))))","v":""},null,"","",null,{"$f":"IF(Y88=\"\",\"\",IF(I88=1,VLOOKUP(Y88,男子種目コード!$D$1:$E$20,2,FALSE),IF(I88=2,VLOOKUP(Y88,女子種目コード!$D$1:$E$20,2,FALSE))))","v":""},null,"","",null,{"$f":"IF(AD88=\"\",\"\",IF(I88=1,VLOOKUP(AD88,男子種目コード!$A$1:$B$33,2,FALSE),IF(V88=2,VLOOKUP(I88,女子種目コード!$A$1:$B$28,2,FALSE))))","v":""},null,null,{"$f":"IF(AG88=\"\",\"\",IF(I88=1,VLOOKUP(AG88,男子種目コード!$A$1:$B$33,2,FALSE),IF(AA88=2,VLOOKUP(I88,女子種目コード!$A$1:$B$28,2,FALSE))))","v":""},null,null,null,null,null,"",0,0,null,null,null,null,null,null,null,null,null,null,null,null,null,null,0,"",""]
["",{"$f":"陸連登録!N84","v":0},null,null,{"$f":"陸連登録!M84","v":0},{"$f":"陸連登録!C84","v":0},{"$f":"陸連登録!D84","v":0},0,{"$f":"陸連登録!A84","v":""},{"$f":"陸連登録!P84","v":0},{"$f":"#REF!","v":{"$error":"#REF!"}},{"$f":"#REF!","v":{"$error":"#REF!"}},{"$f":"#REF!","v":{"$error":"#REF!"}},{"$f":"陸連登録!B84","v":0},null,{"$f":"IF(O89=\"\",\"\",IF(I89=1,VLOOKUP(O89,男子種目コード!$M$1:$N$13,2,FALSE),IF(I89=2,VLOOKUP(O89,女子種目コード!$M$1:$N$10,2,FALSE))))","v":""},null,"","",null,{"$f":"IF(T89=\"\",\"\",IF(I89=1,VLOOKUP(T89,男子種目コード!$M$1:$N$13,2,FALSE),IF(I89=2,VLOOKUP(T89,女子種目コード!$M$1:$N$10,2,FALSE))))","v":""},null,"","",null,{"$f":"IF(Y89=\"\",\"\",IF(I89=1,VLOOKUP(Y89,男子種目コード!$D$1:$E$20,2,FALSE),IF(I89=2,VLOOKUP(Y89,女子種目コード!$D$1:$E$20,2,FALSE))))","v":""},null,"","",null,{"$f":"IF(AD89=\"\",\"\",IF(I89=1,VLOOKUP(AD89,男子種目コード!$A$1:$B$33,2,FALSE),IF(V89=2,VLOOKUP(I89,女子種目コード!$A$1:$B$28,2,FALSE))))","v":""},null,null,{"$f":"IF(AG89=\"\",\"\",IF(I89=1,VLOOKUP(AG89,男子種目コード!$A$1:$B$33,2,FALSE),IF(AA89=2,VLOOKUP(I89,女子種目コード!$A$1:$B$28,2,FALSE))))","v":""},null,null,null,null,null,"",0,0,null,null,null,null,null,null,null,null,null,null,null,null,null,null,0,"",""]
["",{"$f":"陸連登録!N85","v":0},null,null,{"$f":"陸連登録!M85","v":0},{"$f":"陸連登録!C85","v":0},{"$f":"陸連登録!D85","v":0},0,{"$f":"陸連登録!A85","v":""},{"$f":"陸連登録!P85","v":0},{"$f":"#REF!","v":{"$error":"#REF!"}},{"$f":"#REF!","v":{"$error":"#REF!"}},{"$f":"#REF!","v":{"$error":"#REF!"}},{"$f":"陸連登録!B85","v":0},null,{"$f":"IF(O90=\"\",\"\",IF(I90=1,VLOOKUP(O90,男子種目コード!$M$1:$N$13,2,FALSE),IF(I90=2,VLOOKUP(O90,女子種目コード!$M$1:$N$10,2,FALSE))))","v":""},null,"","",null,{"$f":"IF(T90=\"\",\"\",IF(I90=1,VLOOKUP(T90,男子種目コード!$M$1:$N$13,2,FALSE),IF(I90=2,VLOOKUP(T90,女子種目コード!$M$1:$N$10,2,FALSE))))","v":""},null,"","",null,{"$f":"IF(Y90=\"\",\"\",IF(I90=1,VLOOKUP(Y90,男子種目コード!$D$1:$E$20,2,FALSE),IF(I90=2,VLOOKUP(Y90,女子種目コード!$D$1:$E$20,2,FALSE))))","v":""},null,"","",null,{"$f":"IF(AD90=\"\",\"\",IF(I90=1,VLOOKUP(AD90,男子種目コード!$A$1:$B$33,2,FALSE),IF(V90=2,VLOOKUP(I90,女子種目コード!$A$1:$B$28,2,FALSE))))","v":""},null,null,{"$f":"IF(AG90=\"\",\"\",IF(I90=1,VLOOKUP(AG90,男子種目コード!$A$1:$B$33,2,FALSE),IF(AA90=2,VLOOKUP(I90,女子種目コード!$A$1:$B$28,2,FALSE))))","v":""},null,null,null,null,null,"",0,0,null,null,null,null,null,null,null,null,null,null,null,null,null,null,0,"",""]
["",{"$f":"陸連登録!N86","v":0},null,null,{"$f":"陸連登録!M86","v":0},{"$f":"陸連登録!C86","v":0},{"$f":"陸連登録!D86","v":0},0,{"$f":"陸連登録!A86","v":""},{"$f":"陸連登録!P86","v":0},{"$f":"#REF!","v":{"$error":"#REF!"}},{"$f":"#REF!","v":{"$error":"#REF!"}},{"$f":"#REF!","v":{"$error":"#REF!"}},{"$f":"陸連登録!B86","v":0},null,{"$f":"IF(O91=\"\",\"\",IF(I91=1,VLOOKUP(O91,男子種目コード!$M$1:$N$13,2,FALSE),IF(I91=2,VLOOKUP(O91,女子種目コード!$M$1:$N$10,2,FALSE))))","v":""},null,"","",null,{"$f":"IF(T91=\"\",\"\",IF(I91=1,VLOOKUP(T91,男子種目コード!$M$1:$N$13,2,FALSE),IF(I91=2,VLOOKUP(T91,女子種目コード!$M$1:$N$10,2,FALSE))))","v":""},null,"","",null,{"$f":"IF(Y91=\"\",\"\",IF(I91=1,VLOOKUP(Y91,男子種目コード!$D$1:$E$20,2,FALSE),IF(I91=2,VLOOKUP(Y91,女子種目コード!$D$1:$E$20,2,FALSE))))","v":""},null,"","",null,{"$f":"IF(AD91=\"\",\"\",IF(I91=1,VLOOKUP(AD91,男子種目コード!$A$1:$B$33,2,FALSE),IF(V91=2,VLOOKUP(I91,女子種目コード!$A$1:$B$28,2,FALSE))))","v":""},null,null,{"$f":"IF(AG91=\"\",\"\",IF(I91=1,VLOOKUP(AG91,男子種目コード!$A$1:$B$33,2,FALSE),IF(AA91=2,VLOOKUP(I91,女子種目コード!$A$1:$B$28,2,FALSE))))","v":""},null,null,null,null,null,"",0,0,null,null,null,null,null,null,null,null,null,null,null,null,null,null,0,"",""]
["",{"$f":"陸連登録!N87","v":0},null,null,{"$f":"陸連登録!M87","v":0},{"$f":"陸連登録!C87","v":0},{"$f":"陸連登録!D87","v":0},0,{"$f":"陸連登録!A87","v":""},{"$f":"陸連登録!P87","v":0},{"$f":"#REF!","v":{"$error":"#REF!"}},{"$f":"#REF!","v":{"$error":"#REF!"}},{"$f":"#REF!","v":{"$error":"#REF!"}},{"$f":"陸連登録!B87","v":0},null,{"$f":"IF(O92=\"\",\"\",IF(I92=1,VLOOKUP(O92,男子種目コード!$M$1:$N$13,2,FALSE),IF(I92=2,VLOOKUP(O92,女子種目コード!$M$1:$N$10,2,FALSE))))","v":""},null,"","",null,{"$f":"IF(T92=\"\",\"\",IF(I92=1,VLOOKUP(T92,男子種目コード!$M$1:$N$13,2,FALSE),IF(I92=2,VLOOKUP(T92,女子種目コード!$M$1:$N$10,2,FALSE))))","v":""},null,"","",null,{"$f":"IF(Y92=\"\",\"\",IF(I92=1,VLOOKUP(Y92,男子種目コード!$D$1:$E$20,2,FALSE),IF(I92=2,VLOOKUP(Y92,女子種目コード!$D$1:$E$20,2,FALSE))))","v":""},null,"","",null,{"$f":"IF(AD92=\"\",\"\",IF(I92=1,VLOOKUP(AD92,男子種目コード!$A$1:$B$33,2,FALSE),IF(V92=2,VLOOKUP(I92,女子種目コード!$A$1:$B$28,2,FALSE))))","v":""},null,null,{"$f":"IF(AG92=\"\",\"\",IF(I92=1,VLOOKUP(AG92,男子種目コード!$A$1:$B$33,2,FALSE),IF(AA92=2,VLOOKUP(I92,女子種目コード!$A$1:$B$28,2,FALSE))))","v":""},null,null,null,null,null,"",0,0,null,null,null,null,null,null,null,null,null,null,null,null,null,null,0,"",""]
["",{"$f":"陸連登録!N88","v":0},null,null,{"$f":"陸連登録!M88","v":0},{"$f":"陸連登録!C88","v":0},{"$f":"陸連登録!D88","v":0},0,{"$f":"陸連登録!A88","v":""},{"$f":"陸連登録!P88","v":0},{"$f":"#REF!","v":{"$error":"#REF!"}},{"$f":"#REF!","v":{"$error":"#REF!"}},{"$f":"#REF!","v":{"$error":"#REF!"}},{"$f":"陸連登録!B88","v":0},null,{"$f":"IF(O93=\"\",\"\",IF(I93=1,VLOOKUP(O93,男子種目コード!$M$1:$N$13,2,FALSE),IF(I93=2,VLOOKUP(O93,女子種目コード!$M$1:$N$10,2,FALSE))))","v":""},null,"","",null,{"$f":"IF(T93=\"\",\"\",IF(I93=1,VLOOKUP(T93,男子種目コード!$M$1:$N$13,2,FALSE),IF(I93=2,VLOOKUP(T93,女子種目コード!$M$1:$N$10,2,FALSE))))","v":""},null,"","",null,{"$f":"IF(Y93=\"\",\"\",IF(I93=1,VLOOKUP(Y93,男子種目コード!$D$1:$E$20,2,FALSE),IF(I93=2,VLOOKUP(Y93,女子種目コード!$D$1:$E$20,2,FALSE))))","v":""},null,"","",null,{"$f":"IF(AD93=\"\",\"\",IF(I93=1,VLOOKUP(AD93,男子種目コード!$A$1:$B$33,2,FALSE),IF(V93=2,VLOOKUP(I93,女子種目コード!$A$1:$B$28,2,FALSE))))","v":""},null,null,{"$f":"IF(AG93=\"\",\"\",IF(I93=1,VLOOKUP(AG93,男子種目コード!$A$1:$B$33,2,FALSE),IF(AA93=2,VLOOKUP(I93,女子種目コード!$A$1:$B$28,2,FALSE))))","v":""},null,null,null,null,null,"",0,0,null,null,null,null,null,null,null,null,null,null,null,null,null,null,0,"",""]
["",{"$f":"陸連登録!N89","v":0},null,null,{"$f":"陸連登録!M89","v":0},{"$f":"陸連登録!C89","v":0},{"$f":"陸連登録!D89","v":0},0,{"$f":"陸連登録!A89","v":""},{"$f":"陸連登録!P89","v":0},{"$f":"#REF!","v":{"$error":"#REF!"}},{"$f":"#REF!","v":{"$error":"#REF!"}},{"$f":"#REF!","v":{"$error":"#REF!"}},{"$f":"陸連登録!B89","v":0},null,{"$f":"IF(O94=\"\",\"\",IF(I94=1,VLOOKUP(O94,男子種目コード!$M$1:$N$13,2,FALSE),IF(I94=2,VLOOKUP(O94,女子種目コード!$M$1:$N$10,2,FALSE))))","v":""},null,"","",null,{"$f":"IF(T94=\"\",\"\",IF(I94=1,VLOOKUP(T94,男子種目コード!$M$1:$N$13,2,FALSE),IF(I94=2,VLOOKUP(T94,女子種目コード!$M$1:$N$10,2,FALSE))))","v":""},null,"","",null,{"$f":"IF(Y94=\"\",\"\",IF(I94=1,VLOOKUP(Y94,男子種目コード!$D$1:$E$20,2,FALSE),IF(I94=2,VLOOKUP(Y94,女子種目コード!$D$1:$E$20,2,FALSE))))","v":""},null,"","",null,{"$f":"IF(AD94=\"\",\"\",IF(I94=1,VLOOKUP(AD94,男子種目コード!$A$1:$B$33,2,FALSE),IF(V94=2,VLOOKUP(I94,女子種目コード!$A$1:$B$28,2,FALSE))))","v":""},null,null,{"$f":"IF(AG94=\"\",\"\",IF(I94=1,VLOOKUP(AG94,男子種目コード!$A$1:$B$33,2,FALSE),IF(AA94=2,VLOOKUP(I94,女子種目コード!$A$1:$B$28,2,FALSE))))","v":""},null,null,null,null,null,"",0,0,null,null,null,null,null,null,null,null,null,null,null,null,null,null,0,"",""]
["",{"$f":"陸連登録!N90","v":0},null,null,{"$f":"陸連登録!M90","v":0},{"$f":"陸連登録!C90","v":0},{"$f":"陸連登録!D90","v":0},0,{"$f":"陸連登録!A90","v":""},{"$f":"陸連登録!P90","v":0},{"$f":"#REF!","v":{"$error":"#REF!"}},{"$f":"#REF!","v":{"$error":"#REF!"}},{"$f":"#REF!","v":{"$error":"#REF!"}},{"$f":"陸連登録!B90","v":0},null,{"$f":"IF(O95=\"\",\"\",IF(I95=1,VLOOKUP(O95,男子種目コード!$M$1:$N$13,2,FALSE),IF(I95=2,VLOOKUP(O95,女子種目コード!$M$1:$N$10,2,FALSE))))","v":""},null,"","",null,{"$f":"IF(T95=\"\",\"\",IF(I95=1,VLOOKUP(T95,男子種目コード!$M$1:$N$13,2,FALSE),IF(I95=2,VLOOKUP(T95,女子種目コード!$M$1:$N$10,2,FALSE))))","v":""},null,"","",null,{"$f":"IF(Y95=\"\",\"\",IF(I95=1,VLOOKUP(Y95,男子種目コード!$D$1:$E$20,2,FALSE),IF(I95=2,VLOOKUP(Y95,女子種目コード!$D$1:$E$20,2,FALSE))))","v":""},null,"","",null,{"$f":"IF(AD95=\"\",\"\",IF(I95=1,VLOOKUP(AD95,男子種目コード!$A$1:$B$33,2,FALSE),IF(V95=2,VLOOKUP(I95,女子種目コード!$A$1:$B$28,2,FALSE))))","v":""},null,null,{"$f":"IF(AG95=\"\",\"\",IF(I95=1,VLOOKUP(AG95,男子種目コード!$A$1:$B$33,2,FALSE),IF(AA95=2,VLOOKUP(I95,女子種目コード!$A$1:$B$28,2,FALSE))))","v":""},null,null,null,null,null,"",0,0,null,null,null,null,null,null,null,null,null,null,null,null,null,null,0,"",""]
["",{"$f":"陸連登録!N91","v":0},null,null,{"$f":"陸連登録!M91","v":0},{"$f":"陸連登録!C91","v":0},{"$f":"陸連登録!D91","v":0},0,{"$f":"陸連登録!A91","v":""},{"$f":"陸連登録!P91","v":0},{"$f":"#REF!","v":{"$error":"#REF!"}},{"$f":"#REF!","v":{"$error":"#REF!"}},{"$f":"#REF!","v":{"$error":"#REF!"}},{"$f":"陸連登録!B91","v":0},null,{"$f":"IF(O96=\"\",\"\",IF(I96=1,VLOOKUP(O96,男子種目コード!$M$1:$N$13,2,FALSE),IF(I96=2,VLOOKUP(O96,女子種目コード!$M$1:$N$10,2,FALSE))))","v":""},null,"","",null,{"$f":"IF(T96=\"\",\"\",IF(I96=1,VLOOKUP(T96,男子種目コード!$M$1:$N$13,2,FALSE),IF(I96=2,VLOOKUP(T96,女子種目コード!$M$1:$N$10,2,FALSE))))","v":""},null,"","",null,{"$f":"IF(Y96=\"\",\"\",IF(I96=1,VLOOKUP(Y96,男子種目コード!$D$1:$E$20,2,FALSE),IF(I96=2,VLOOKUP(Y96,女子種目コード!$D$1:$E$20,2,FALSE))))","v":""},null,"","",null,{"$f":"IF(AD96=\"\",\"\",IF(I96=1,VLOOKUP(AD96,男子種目コード!$A$1:$B$33,2,FALSE),IF(V96=2,VLOOKUP(I96,女子種目コード!$A$1:$B$28,2,FALSE))))","v":""},null,null,{"$f":"IF(AG96=\"\",\"\",IF(I96=1,VLOOKUP(AG96,男子種目コード!$A$1:$B$33,2,FALSE),IF(AA96=2,VLOOKUP(I96,女子種目コード!$A$1:$B$28,2,FALSE))))","v":""},null,null,null,null,null,"",0,0,null,null,null,null,null,null,null,null,null,null,null,null,null,null,0,"",""]
["",{"$f":"陸連登録!N92","v":0},null,null,{"$f":"陸連登録!M92","v":0},{"$f":"陸連登録!C92","v":0},{"$f":"陸連登録!D92","v":0},0,{"$f":"陸連登録!A92","v":""},{"$f":"陸連登録!P92","v":0},{"$f":"#REF!","v":{"$error":"#REF!"}},{"$f":"#REF!","v":{"$error":"#REF!"}},{"$f":"#REF!","v":{"$error":"#REF!"}},{"$f":"陸連登録!B92","v":0},null,{"$f":"IF(O97=\"\",\"\",IF(I97=1,VLOOKUP(O97,男子種目コード!$M$1:$N$13,2,FALSE),IF(I97=2,VLOOKUP(O97,女子種目コード!$M$1:$N$10,2,FALSE))))","v":""},null,"","",null,{"$f":"IF(T97=\"\",\"\",IF(I97=1,VLOOKUP(T97,男子種目コード!$M$1:$N$13,2,FALSE),IF(I97=2,VLOOKUP(T97,女子種目コード!$M$1:$N$10,2,FALSE))))","v":""},null,"","",null,{"$f":"IF(Y97=\"\",\"\",IF(I97=1,VLOOKUP(Y97,男子種目コード!$D$1:$E$20,2,FALSE),IF(I97=2,VLOOKUP(Y97,女子種目コード!$D$1:$E$20,2,FALSE))))","v":""},null,"","",null,{"$f":"IF(AD97=\"\",\"\",IF(I97=1,VLOOKUP(AD97,男子種目コード!$A$1:$B$33,2,FALSE),IF(V97=2,VLOOKUP(I97,女子種目コード!$A$1:$B$28,2,FALSE))))","v":""},null,null,{"$f":"IF(AG97=\"\",\"\",IF(I97=1,VLOOKUP(AG97,男子種目コード!$A$1:$B$33,2,FALSE),IF(AA97=2,VLOOKUP(I97,女子種目コード!$A$1:$B$28,2,FALSE))))","v":""},null,null,null,null,null,"",0,0,null,null,null,null,null,null,null,null,null,null,null,null,null,null,0,"",""]
["",{"$f":"陸連登録!N93","v":0},null,null,{"$f":"陸連登録!M93","v":0},{"$f":"陸連登録!C93","v":0},{"$f":"陸連登録!D93","v":0},0,{"$f":"陸連登録!A93","v":""},{"$f":"陸連登録!P93","v":0},{"$f":"#REF!","v":{"$error":"#REF!"}},{"$f":"#REF!","v":{"$error":"#REF!"}},{"$f":"#REF!","v":{"$error":"#REF!"}},{"$f":"陸連登録!B93","v":0},null,{"$f":"IF(O98=\"\",\"\",IF(I98=1,VLOOKUP(O98,男子種目コード!$M$1:$N$13,2,FALSE),IF(I98=2,VLOOKUP(O98,女子種目コード!$M$1:$N$10,2,FALSE))))","v":""},null,"","",null,{"$f":"IF(T98=\"\",\"\",IF(I98=1,VLOOKUP(T98,男子種目コード!$M$1:$N$13,2,FALSE),IF(I98=2,VLOOKUP(T98,女子種目コード!$M$1:$N$10,2,FALSE))))","v":""},null,"","",null,{"$f":"IF(Y98=\"\",\"\",IF(I98=1,VLOOKUP(Y98,男子種目コード!$D$1:$E$20,2,FALSE),IF(I98=2,VLOOKUP(Y98,女子種目コード!$D$1:$E$20,2,FALSE))))","v":""},null,"","",null,{"$f":"IF(AD98=\"\",\"\",IF(I98=1,VLOOKUP(AD98,男子種目コード!$A$1:$B$33,2,FALSE),IF(V98=2,VLOOKUP(I98,女子種目コード!$A$1:$B$28,2,FALSE))))","v":""},null,null,{"$f":"IF(AG98=\"\",\"\",IF(I98=1,VLOOKUP(AG98,男子種目コード!$A$1:$B$33,2,FALSE),IF(AA98=2,VLOOKUP(I98,女子種目コード!$A$1:$B$28,2,FALSE))))","v":""},null,null,null,null,null,"",0,0,null,null,null,null,null,null,null,null,null,null,null,null,null,null,0,"",""]
["",{"$f":"陸連登録!N94","v":0},null,null,{"$f":"陸連登録!M94","v":0},{"$f":"陸連登録!C94","v":0},{"$f":"陸連登録!D94","v":0},0,{"$f":"陸連登録!A94","v":""},{"$f":"陸連登録!P94","v":0},{"$f":"#REF!","v":{"$error":"#REF!"}},{"$f":"#REF!","v":{"$error":"#REF!"}},{"$f":"#REF!","v":{"$error":"#REF!"}},{"$f":"陸連登録!B94","v":0},null,{"$f":"IF(O99=\"\",\"\",IF(I99=1,VLOOKUP(O99,男子種目コード!$M$1:$N$13,2,FALSE),IF(I99=2,VLOOKUP(O99,女子種目コード!$M$1:$N$10,2,FALSE))))","v":""},null,"","",null,{"$f":"IF(T99=\"\",\"\",IF(I99=1,VLOOKUP(T99,男子種目コード!$M$1:$N$13,2,FALSE),IF(I99=2,VLOOKUP(T99,女子種目コード!$M$1:$N$10,2,FALSE))))","v":""},null,"","",null,{"$f":"IF(Y99=\"\",\"\",IF(I99=1,VLOOKUP(Y99,男子種目コード!$D$1:$E$20,2,FALSE),IF(I99=2,VLOOKUP(Y99,女子種目コード!$D$1:$E$20,2,FALSE))))","v":""},null,"","",null,{"$f":"IF(AD99=\"\",\"\",IF(I99=1,VLOOKUP(AD99,男子種目コード!$A$1:$B$33,2,FALSE),IF(V99=2,VLOOKUP(I99,女子種目コード!$A$1:$B$28,2,FALSE))))","v":""},null,null,{"$f":"IF(AG99=\"\",\"\",IF(I99=1,VLOOKUP(AG99,男子種目コード!$A$1:$B$33,2,FALSE),IF(AA99=2,VLOOKUP(I99,女子種目コード!$A$1:$B$28,2,FALSE))))","v":""},null,null,null,null,null,"",0,0,null,null,null,null,null,null,null,null,null,null,null,null,null,null,0,"",""]
["",{"$f":"陸連登録!N95","v":0},null,null,{"$f":"陸連登録!M95","v":0},{"$f":"陸連登録!C95","v":0},{"$f":"陸連登録!D95","v":0},0,{"$f":"陸連登録!A95","v":""},{"$f":"陸連登録!P95","v":0},{"$f":"#REF!","v":{"$error":"#REF!"}},{"$f":"#REF!","v":{"$error":"#REF!"}},{"$f":"#REF!","v":{"$error":"#REF!"}},{"$f":"陸連登録!B95","v":0},null,{"$f":"IF(O100=\"\",\"\",IF(I100=1,VLOOKUP(O100,男子種目コード!$M$1:$N$13,2,FALSE),IF(I100=2,VLOOKUP(O100,女子種目コード!$M$1:$N$10,2,FALSE))))","v":""},null,"","",null,{"$f":"IF(T100=\"\",\"\",IF(I100=1,VLOOKUP(T100,男子種目コード!$M$1:$N$13,2,FALSE),IF(I100=2,VLOOKUP(T100,女子種目コード!$M$1:$N$10,2,FALSE))))","v":""},null,"","",null,{"$f":"IF(Y100=\"\",\"\",IF(I100=1,VLOOKUP(Y100,男子種目コード!$D$1:$E$20,2,FALSE),IF(I100=2,VLOOKUP(Y100,女子種目コード!$D$1:$E$20,2,FALSE))))","v":""},null,"","",null,{"$f":"IF(AD100=\"\",\"\",IF(I100=1,VLOOKUP(AD100,男子種目コード!$A$1:$B$33,2,FALSE),IF(V100=2,VLOOKUP(I100,女子種目コード!$A$1:$B$28,2,FALSE))))","v":""},null,null,{"$f":"IF(AG100=\"\",\"\",IF(I100=1,VLOOKUP(AG100,男子種目コード!$A$1:$B$33,2,FALSE),IF(AA100=2,VLOOKUP(I100,女子種目コード!$A$1:$B$28,2,FALSE))))","v":""},null,null,null,null,null,"",0,0,null,null,null,null,null,null,null,null,null,null,null,null,null,null,0,"",""]
["",{"$f":"陸連登録!N96","v":0},null,null,{"$f":"陸連登録!M96","v":0},{"$f":"陸連登録!C96","v":0},{"$f":"陸連登録!D96","v":0},0,{"$f":"陸連登録!A96","v":""},{"$f":"陸連登録!P96","v":0},{"$f":"#REF!","v":{"$error":"#REF!"}},{"$f":"#REF!","v":{"$error":"#REF!"}},{"$f":"#REF!","v":{"$error":"#REF!"}},{"$f":"陸連登録!B96","v":0},null,{"$f":"IF(O101=\"\",\"\",IF(I101=1,VLOOKUP(O101,男子種目コード!$M$1:$N$13,2,FALSE),IF(I101=2,VLOOKUP(O101,女子種目コード!$M$1:$N$10,2,FALSE))))","v":""},null,"","",null,{"$f":"IF(T101=\"\",\"\",IF(I101=1,VLOOKUP(T101,男子種目コード!$M$1:$N$13,2,FALSE),IF(I101=2,VLOOKUP(T101,女子種目コード!$M$1:$N$10,2,FALSE))))","v":""},null,"","",null,{"$f":"IF(Y101=\"\",\"\",IF(I101=1,VLOOKUP(Y101,男子種目コード!$D$1:$E$20,2,FALSE),IF(I101=2,VLOOKUP(Y101,女子種目コード!$D$1:$E$20,2,FALSE))))","v":""},null,"","",null,{"$f":"IF(AD101=\"\",\"\",IF(I101=1,VLOOKUP(AD101,男子種目コード!$A$1:$B$33,2,FALSE),IF(V101=2,VLOOKUP(I101,女子種目コード!$A$1:$B$28,2,FALSE))))","v":""},null,null,{"$f":"IF(AG101=\"\",\"\",IF(I101=1,VLOOKUP(AG101,男子種目コード!$A$1:$B$33,2,FALSE),IF(AA101=2,VLOOKUP(I101,女子種目コード!$A$1:$B$28,2,FALSE))))","v":""},null,null,null,null,null,"",0,0,null,null,null,null,null,null,null,null,null,null,null,null,null,null,0,"",""]
["",{"$f":"陸連登録!N97","v":0},null,null,{"$f":"陸連登録!M97","v":0},{"$f":"陸連登録!C97","v":0},{"$f":"陸連登録!D97","v":0},0,{"$f":"陸連登録!A97","v":""},{"$f":"陸連登録!P97","v":0},{"$f":"#REF!","v":{"$error":"#REF!"}},{"$f":"#REF!","v":{"$error":"#REF!"}},{"$f":"#REF!","v":{"$error":"#REF!"}},{"$f":"陸連登録!B97","v":0},null,{"$f":"IF(O102=\"\",\"\",IF(I102=1,VLOOKUP(O102,男子種目コード!$M$1:$N$13,2,FALSE),IF(I102=2,VLOOKUP(O102,女子種目コード!$M$1:$N$10,2,FALSE))))","v":""},null,"","",null,{"$f":"IF(T102=\"\",\"\",IF(I102=1,VLOOKUP(T102,男子種目コード!$M$1:$N$13,2,FALSE),IF(I102=2,VLOOKUP(T102,女子種目コード!$M$1:$N$10,2,FALSE))))","v":""},null,"","",null,{"$f":"IF(Y102=\"\",\"\",IF(I102=1,VLOOKUP(Y102,男子種目コード!$D$1:$E$20,2,FALSE),IF(I102=2,VLOOKUP(Y102,女子種目コード!$D$1:$E$20,2,FALSE))))","v":""},null,"","",null,{"$f":"IF(AD102=\"\",\"\",IF(I102=1,VLOOKUP(AD102,男子種目コード!$A$1:$B$33,2,FALSE),IF(V102=2,VLOOKUP(I102,女子種目コード!$A$1:$B$28,2,FALSE))))","v":""},null,null,{"$f":"IF(AG102=\"\",\"\",IF(I102=1,VLOOKUP(AG102,男子種目コード!$A$1:$B$33,2,FALSE),IF(AA102=2,VLOOKUP(I102,女子種目コード!$A$1:$B$28,2,FALSE))))","v":""},null,null,null,null,null,"",0,0,null,null,null,null,null,null,null,null,null,null,null,null,null,null,0,"",""]
[{"$f":"Z103","v":""},{"$f":"陸連登録!N98","v":0},null,null,{"$f":"陸連登録!M98","v":0},{"$f":"陸連登録!C98","v":0},{"$f":"陸連登録!D98","v":0},0,{"$f":"陸連登録!A98","v":""},{"$f":"陸連登録!P98","v":0},{"$f":"#REF!","v":{"$error":"#REF!"}},{"$f":"#REF!","v":{"$error":"#REF!"}},{"$f":"#REF!","v":{"$error":"#REF!"}},{"$f":"陸連登録!B98","v":0},null,{"$f":"IF(O103=\"\",\"\",IF(I103=1,VLOOKUP(O103,男子種目コード!$M$1:$N$13,2,FALSE),IF(I103=2,VLOOKUP(O103,女子種目コード!$M$1:$N$10,2,FALSE))))","v":""},null,{"$f":"IF(O103=\"\",\"\",0)","v":""},{"$f":"IF(O103=\"\",\"\",2)","v":""},null,{"$f":"IF(T103=\"\",\"\",IF(I103=1,VLOOKUP(T103,男子種目コード!$M$1:$N$13,2,FALSE),IF(I103=2,VLOOKUP(T103,女子種目コード!$M$1:$N$10,2,FALSE))))","v":""},null,{"$f":"IF(T103=\"\",\"\",0)","v":""},{"$f":"IF(T103=\"\",\"\",2)","v":""},null,{"$f":"IF(Y103=\"\",\"\",IF(I103=1,VLOOKUP(Y103,男子種目コード!$D$1:$E$20,2,FALSE),IF(I103=2,VLOOKUP(Y103,女子種目コード!$D$1:$E$20,2,FALSE))))","v":""},null,{"$f":"IF(Y103=\"\",\"\",0)","v":""},{"$f":"IF(Y103=\"\",\"\",2)","v":""},null,{"$f":"IF(AD103=\"\",\"\",IF(I103=1,VLOOKUP(AD103,男子種目コード!$A$1:$B$33,2,FALSE),IF(V103=2,VLOOKUP(I103,女子種目コード!$A$1:$B$28,2,FALSE))))","v":""},null,null,{"$f":"IF(AG103=\"\",\"\",IF(I103=1,VLOOKUP(AG103,男子種目コード!$A$1:$B$33,2,FALSE),IF(AA103=2,VLOOKUP(I103,女子種目コード!$A$1:$B$28,2,FALSE))))","v":""},null,null,null,null,null,"",{"$f":"IF(OR(AN103=1,T103=\"\"),0,1)","v":0},{"$f":"IF(OR(AN103=1,AO103=1,Y103=\"\"),0,1)","v":0},null,null,null,null,null,null,null,null,null,null,null,null,null,null,{"$f":"COUNT(P103,U103,Z103)","v":0},{"$f":"IF(I103=1,BE103,\"\")","v":""},{"$f":"IF(I103=2,BE103,\"\")","v":""}]
["",{"$f":"陸連登録!N99","v":0},null,null,{"$f":"陸連登録!M99","v":0},{"$f":"陸連登録!C99","v":0},{"$f":"陸連登録!D99","v":0},0,{"$f":"陸連登録!A99","v":""},{"$f":"陸連登録!P99","v":0},{"$f":"#REF!","v":{"$error":"#REF!"}},{"$f":"#REF!","v":{"$error":"#REF!"}},{"$f":"#REF!","v":{"$error":"#REF!"}},{"$f":"陸連登録!B99","v":0},null,{"$f":"IF(O104=\"\",\"\",IF(I104=1,VLOOKUP(O104,男子種目コード!$M$1:$N$13,2,FALSE),IF(I104=2,VLOOKUP(O104,女子種目コード!$M$1:$N$10,2,FALSE))))","v":""},null,"","",null,{"$f":"IF(T104=\"\",\"\",IF(I104=1,VLOOKUP(T104,男子種目コード!$M$1:$N$13,2,FALSE),IF(I104=2,VLOOKUP(T104,女子種目コード!$M$1:$N$10,2,FALSE))))","v":""},null,"","",null,{"$f":"IF(Y104=\"\",\"\",IF(I104=1,VLOOKUP(Y104,男子種目コード!$D$1:$E$20,2,FALSE),IF(I104=2,VLOOKUP(Y104,女子種目コード!$D$1:$E$20,2,FALSE))))","v":""},null,"","",null,{"$f":"IF(AD104=\"\",\"\",IF(I104=1,VLOOKUP(AD104,男子種目コード!$A$1:$B$33,2,FALSE),IF(V104=2,VLOOKUP(I104,女子種目コード!$A$1:$B$28,2,FALSE))))","v":""},null,null,{"$f":"IF(AG104=\"\",\"\",IF(I104=1,VLOOKUP(AG104,男子種目コード!$A$1:$B$33,2,FALSE),IF(AA104=2,VLOOKUP(I104,女子種目コード!$A$1:$B$28,2,FALSE))))","v":""},null,null,null,null,null,"",{"$f":"IF(OR(AN104=1,T104=\"\"),0,1)","v":0},{"$f":"IF(OR(AN104=1,AO104=1,Y104=\"\"),0,1)","v":0},null,null,null,null,null,null,null,null,null,null,null,null,null,null,0,"",""]
["",{"$f":"陸連登録!N100","v":0},null,null,{"$f":"陸連登録!M100","v":0},{"$f":"陸連登録!C100","v":0},{"$f":"陸連登録!D100","v":0},0,{"$f":"陸連登録!A100","v":""},{"$f":"陸連登録!P100","v":0},{"$f":"#REF!","v":{"$error":"#REF!"}},{"$f":"#REF!","v":{"$error":"#REF!"}},{"$f":"#REF!","v":{"$error":"#REF!"}},{"$f":"陸連登録!B100","v":0},null,{"$f":"IF(O105=\"\",\"\",IF(I105=1,VLOOKUP(O105,男子種目コード!$M$1:$N$13,2,FALSE),IF(I105=2,VLOOKUP(O105,女子種目コード!$M$1:$N$10,2,FALSE))))","v":""},null,"","",null,{"$f":"IF(T105=\"\",\"\",IF(I105=1,VLOOKUP(T105,男子種目コード!$M$1:$N$13,2,FALSE),IF(I105=2,VLOOKUP(T105,女子種目コード!$M$1:$N$10,2,FALSE))))","v":""},null,"","",null,{"$f":"IF(Y105=\"\",\"\",IF(I105=1,VLOOKUP(Y105,男子種目コード!$D$1:$E$20,2,FALSE),IF(I105=2,VLOOKUP(Y105,女子種目コード!$D$1:$E$20,2,FALSE))))","v":""},null,"","",null,{"$f":"IF(AD105=\"\",\"\",IF(I105=1,VLOOKUP(AD105,男子種目コード!$A$1:$B$33,2,FALSE),IF(V105=2,VLOOKUP(I105,女子種目コード!$A$1:$B$28,2,FALSE))))","v":""},null,null,{"$f":"IF(AG105=\"\",\"\",IF(I105=1,VLOOKUP(AG105,男子種目コード!$A$1:$B$33,2,FALSE),IF(AA105=2,VLOOKUP(I105,女子種目コード!$A$1:$B$28,2,FALSE))))","v":""},null,null,null,null,null,"",{"$f":"IF(OR(AN105=1,T105=\"\"),0,1)","v":0},{"$f":"IF(OR(AN105=1,AO105=1,Y105=\"\"),0,1)","v":0},null,null,null,null,null,null,null,null,null,null,null,null,null,null,0,"",""]
["",{"$f":"陸連登録!N101","v":0},null,null,{"$f":"陸連登録!M101","v":0},{"$f":"陸連登録!C101","v":0},{"$f":"陸連登録!D101","v":0},0,{"$f":"陸連登録!A101","v":""},{"$f":"陸連登録!P101","v":0},{"$f":"#REF!","v":{"$error":"#REF!"}},{"$f":"#REF!","v":{"$error":"#REF!"}},{"$f":"#REF!","v":{"$error":"#REF!"}},{"$f":"陸連登録!B101","v":0},null,{"$f":"IF(O106=\"\",\"\",IF(I106=1,VLOOKUP(O106,男子種目コード!$M$1:$N$13,2,FALSE),IF(I106=2,VLOOKUP(O106,女子種目コード!$M$1:$N$10,2,FALSE))))","v":""},null,"","",null,{"$f":"IF(T106=\"\",\"\",IF(I106=1,VLOOKUP(T106,男子種目コード!$M$1:$N$13,2,FALSE),IF(I106=2,VLOOKUP(T106,女子種目コード!$M$1:$N$10,2,FALSE))))","v":""},null,"","",null,{"$f":"IF(Y106=\"\",\"\",IF(I106=1,VLOOKUP(Y106,男子種目コード!$D$1:$E$20,2,FALSE),IF(I106=2,VLOOKUP(Y106,女子種目コード!$D$1:$E$20,2,FALSE))))","v":""},null,"","",null,null,null,null,null,null,null,null,null,null,null,null,null,null,null,null,null,null,null,null,null,null,null,null,null,null,null,0,"",""]
["",{"$f":"陸連登録!N102","v":0},null,null,{"$f":"陸連登録!M102","v":0},{"$f":"陸連登録!C102","v":0},{"$f":"陸連登録!D102","v":0},0,{"$f":"陸連登録!A102","v":""},{"$f":"陸連登録!P102","v":0},{"$f":"#REF!","v":{"$error":"#REF!"}},{"$f":"#REF!","v":{"$error":"#REF!"}},{"$f":"#REF!","v":{"$error":"#REF!"}},{"$f":"陸連登録!B102","v":0},null,{"$f":"IF(O107=\"\",\"\",IF(I107=1,VLOOKUP(O107,男子種目コード!$M$1:$N$13,2,FALSE),IF(I107=2,VLOOKUP(O107,女子種目コード!$M$1:$N$10,2,FALSE))))","v":""},null,"","",null,{"$f":"IF(T107=\"\",\"\",IF(I107=1,VLOOKUP(T107,男子種目コード!$M$1:$N$13,2,FALSE),IF(I107=2,VLOOKUP(T107,女子種目コード!$M$1:$N$10,2,FALSE))))","v":""},null,"","",null,{"$f":"IF(Y107=\"\",\"\",IF(I107=1,VLOOKUP(Y107,男子種目コード!$D$1:$E$20,2,FALSE),IF(I107=2,VLOOKUP(Y107,女子種目コード!$D$1:$E$20,2,FALSE))))","v":""},null,"","",null,null,null,null,null,null,null,null,null,null,null,null,null,null,null,null,null,null,null,null,null,null,null,null,null,null,null,0,"",""]
["",{"$f":"陸連登録!N103","v":0},null,null,{"$f":"陸連登録!M103","v":0},{"$f":"陸連登録!C103","v":0},{"$f":"陸連登録!D103","v":0},0,{"$f":"陸連登録!A103","v":""},{"$f":"陸連登録!P103","v":0},{"$f":"#REF!","v":{"$error":"#REF!"}},{"$f":"#REF!","v":{"$error":"#REF!"}},{"$f":"#REF!","v":{"$error":"#REF!"}},{"$f":"陸連登録!B103","v":0},null,{"$f":"IF(O108=\"\",\"\",IF(I108=1,VLOOKUP(O108,男子種目コード!$M$1:$N$13,2,FALSE),IF(I108=2,VLOOKUP(O108,女子種目コード!$M$1:$N$10,2,FALSE))))","v":""},null,"","",null,{"$f":"IF(T108=\"\",\"\",IF(I108=1,VLOOKUP(T108,男子種目コード!$M$1:$N$13,2,FALSE),IF(I108=2,VLOOKUP(T108,女子種目コード!$M$1:$N$10,2,FALSE))))","v":""},null,"","",null,{"$f":"IF(Y108=\"\",\"\",IF(I108=1,VLOOKUP(Y108,男子種目コード!$D$1:$E$20,2,FALSE),IF(I108=2,VLOOKUP(Y108,女子種目コード!$D$1:$E$20,2,FALSE))))","v":""},null,"","",null,null,null,null,null,null,null,null,null,null,null,null,null,null,null,null,null,null,null,null,null,null,null,null,null,null,null,0,"",""]
["",{"$f":"陸連登録!N104","v":0},null,null,{"$f":"陸連登録!M104","v":0},{"$f":"陸連登録!C104","v":0},{"$f":"陸連登録!D104","v":0},0,{"$f":"陸連登録!A104","v":""},{"$f":"陸連登録!P104","v":0},{"$f":"#REF!","v":{"$error":"#REF!"}},{"$f":"#REF!","v":{"$error":"#REF!"}},{"$f":"#REF!","v":{"$error":"#REF!"}},{"$f":"陸連登録!B104","v":0},null,{"$f":"IF(O109=\"\",\"\",IF(I109=1,VLOOKUP(O109,男子種目コード!$M$1:$N$13,2,FALSE),IF(I109=2,VLOOKUP(O109,女子種目コード!$M$1:$N$10,2,FALSE))))","v":""},null,"","",null,{"$f":"IF(T109=\"\",\"\",IF(I109=1,VLOOKUP(T109,男子種目コード!$M$1:$N$13,2,FALSE),IF(I109=2,VLOOKUP(T109,女子種目コード!$M$1:$N$10,2,FALSE))))","v":""},null,"","",null,{"$f":"IF(Y109=\"\",\"\",IF(I109=1,VLOOKUP(Y109,男子種目コード!$D$1:$E$20,2,FALSE),IF(I109=2,VLOOKUP(Y109,女子種目コード!$D$1:$E$20,2,FALSE))))","v":""},null,"","",null,null,null,null,null,null,null,null,null,null,null,null,null,null,null,null,null,null,null,null,null,null,null,null,null,null,null,0,"",""]
["",{"$f":"陸連登録!N105","v":0},null,null,{"$f":"陸連登録!M105","v":0},{"$f":"陸連登録!C105","v":0},{"$f":"陸連登録!D105","v":0},0,{"$f":"陸連登録!A105","v":""},{"$f":"陸連登録!P105","v":0},{"$f":"#REF!","v":{"$error":"#REF!"}},{"$f":"#REF!","v":{"$error":"#REF!"}},{"$f":"#REF!","v":{"$error":"#REF!"}},{"$f":"陸連登録!B105","v":0},null,{"$f":"IF(O110=\"\",\"\",IF(I110=1,VLOOKUP(O110,男子種目コード!$M$1:$N$13,2,FALSE),IF(I110=2,VLOOKUP(O110,女子種目コード!$M$1:$N$10,2,FALSE))))","v":""},null,"","",null,{"$f":"IF(T110=\"\",\"\",IF(I110=1,VLOOKUP(T110,男子種目コード!$M$1:$N$13,2,FALSE),IF(I110=2,VLOOKUP(T110,女子種目コード!$M$1:$N$10,2,FALSE))))","v":""},null,"","",null,{"$f":"IF(Y110=\"\",\"\",IF(I110=1,VLOOKUP(Y110,男子種目コード!$D$1:$E$20,2,FALSE),IF(I110=2,VLOOKUP(Y110,女子種目コード!$D$1:$E$20,2,FALSE))))","v":""},null,"","",null,null,null,null,null,null,null,null,null,null,null,null,null,null,null,null,null,null,null,null,null,null,null,null,null,null,null,0,"",""]
["",{"$f":"陸連登録!N106","v":0},null,null,{"$f":"陸連登録!M106","v":0},{"$f":"陸連登録!C106","v":0},{"$f":"陸連登録!D106","v":0},0,{"$f":"陸連登録!A106","v":""},{"$f":"陸連登録!P106","v":0},{"$f":"#REF!","v":{"$error":"#REF!"}},{"$f":"#REF!","v":{"$error":"#REF!"}},{"$f":"#REF!","v":{"$error":"#REF!"}},{"$f":"陸連登録!B106","v":0},null,{"$f":"IF(O111=\"\",\"\",IF(I111=1,VLOOKUP(O111,男子種目コード!$M$1:$N$13,2,FALSE),IF(I111=2,VLOOKUP(O111,女子種目コード!$M$1:$N$10,2,FALSE))))","v":""},null,"","",null,{"$f":"IF(T111=\"\",\"\",IF(I111=1,VLOOKUP(T111,男子種目コード!$M$1:$N$13,2,FALSE),IF(I111=2,VLOOKUP(T111,女子種目コード!$M$1:$N$10,2,FALSE))))","v":""},null,"","",null,{"$f":"IF(Y111=\"\",\"\",IF(I111=1,VLOOKUP(Y111,男子種目コード!$D$1:$E$20,2,FALSE),IF(I111=2,VLOOKUP(Y111,女子種目コード!$D$1:$E$20,2,FALSE))))","v":""},null,"","",null,null,null,null,null,null,null,null,null,null,null,null,null,null,null,null,null,null,null,null,null,null,null,null,null,null,null,0,"",""]
["",{"$f":"陸連登録!N107","v":0},null,null,{"$f":"陸連登録!M107","v":0},{"$f":"陸連登録!C107","v":0},{"$f":"陸連登録!D107","v":0},0,{"$f":"陸連登録!A107","v":""},{"$f":"陸連登録!P107","v":0},{"$f":"#REF!","v":{"$error":"#REF!"}},{"$f":"#REF!","v":{"$error":"#REF!"}},{"$f":"#REF!","v":{"$error":"#REF!"}},{"$f":"陸連登録!B107","v":0},null,{"$f":"IF(O112=\"\",\"\",IF(I112=1,VLOOKUP(O112,男子種目コード!$M$1:$N$13,2,FALSE),IF(I112=2,VLOOKUP(O112,女子種目コード!$M$1:$N$10,2,FALSE))))","v":""},null,"","",null,{"$f":"IF(T112=\"\",\"\",IF(I112=1,VLOOKUP(T112,男子種目コード!$M$1:$N$13,2,FALSE),IF(I112=2,VLOOKUP(T112,女子種目コード!$M$1:$N$10,2,FALSE))))","v":""},null,"","",null,{"$f":"IF(Y112=\"\",\"\",IF(I112=1,VLOOKUP(Y112,男子種目コード!$D$1:$E$20,2,FALSE),IF(I112=2,VLOOKUP(Y112,女子種目コード!$D$1:$E$20,2,FALSE))))","v":""},null,"","",null,null,null,null,null,null,null,null,null,null,null,null,null,null,null,null,null,null,null,null,null,null,null,null,null,null,null,0,"",""]
["",{"$f":"陸連登録!N108","v":0},null,null,{"$f":"陸連登録!M108","v":0},{"$f":"陸連登録!C108","v":0},{"$f":"陸連登録!D108","v":0},0,{"$f":"陸連登録!A108","v":""},{"$f":"陸連登録!P108","v":0},{"$f":"#REF!","v":{"$error":"#REF!"}},{"$f":"#REF!","v":{"$error":"#REF!"}},{"$f":"#REF!","v":{"$error":"#REF!"}},{"$f":"陸連登録!B108","v":0},null,{"$f":"IF(O113=\"\",\"\",IF(I113=1,VLOOKUP(O113,男子種目コード!$M$1:$N$13,2,FALSE),IF(I113=2,VLOOKUP(O113,女子種目コード!$M$1:$N$10,2,FALSE))))","v":""},null,"","",null,{"$f":"IF(T113=\"\",\"\",IF(I113=1,VLOOKUP(T113,男子種目コード!$M$1:$N$13,2,FALSE),IF(I113=2,VLOOKUP(T113,女子種目コード!$M$1:$N$10,2,FALSE))))","v":""},null,"","",null,{"$f":"IF(Y113=\"\",\"\",IF(I113=1,VLOOKUP(Y113,男子種目コード!$D$1:$E$20,2,FALSE),IF(I113=2,VLOOKUP(Y113,女子種目コード!$D$1:$E$20,2,FALSE))))","v":""},null,"","",null,null,null,null,null,null,null,null,null,null,null,null,null,null,null,null,null,null,null,null,null,null,null,null,null,null,null,0,"",""]
["",{"$f":"陸連登録!N109","v":0},null,null,{"$f":"陸連登録!M109","v":0},{"$f":"陸連登録!C109","v":0},{"$f":"陸連登録!D109","v":0},0,{"$f":"陸連登録!A109","v":""},{"$f":"陸連登録!P109","v":0},{"$f":"#REF!","v":{"$error":"#REF!"}},{"$f":"#REF!","v":{"$error":"#REF!"}},{"$f":"#REF!","v":{"$error":"#REF!"}},{"$f":"陸連登録!B109","v":0},null,{"$f":"IF(O114=\"\",\"\",IF(I114=1,VLOOKUP(O114,男子種目コード!$M$1:$N$13,2,FALSE),IF(I114=2,VLOOKUP(O114,女子種目コード!$M$1:$N$10,2,FALSE))))","v":""},null,"","",null,{"$f":"IF(T114=\"\",\"\",IF(I114=1,VLOOKUP(T114,男子種目コード!$M$1:$N$13,2,FALSE),IF(I114=2,VLOOKUP(T114,女子種目コード!$M$1:$N$10,2,FALSE))))","v":""},null,"","",null,{"$f":"IF(Y114=\"\",\"\",IF(I114=1,VLOOKUP(Y114,男子種目コード!$D$1:$E$20,2,FALSE),IF(I114=2,VLOOKUP(Y114,女子種目コード!$D$1:$E$20,2,FALSE))))","v":""},null,"","",null,null,null,null,null,null,null,null,null,null,null,null,null,null,null,null,null,null,null,null,null,null,null,null,null,null,null,0,"",""]
["",{"$f":"陸連登録!N110","v":0},null,null,{"$f":"陸連登録!M110","v":0},{"$f":"陸連登録!C110","v":0},{"$f":"陸連登録!D110","v":0},0,{"$f":"陸連登録!A110","v":""},{"$f":"陸連登録!P110","v":0},{"$f":"#REF!","v":{"$error":"#REF!"}},{"$f":"#REF!","v":{"$error":"#REF!"}},{"$f":"#REF!","v":{"$error":"#REF!"}},{"$f":"陸連登録!B110","v":0},null,{"$f":"IF(O115=\"\",\"\",IF(I115=1,VLOOKUP(O115,男子種目コード!$M$1:$N$13,2,FALSE),IF(I115=2,VLOOKUP(O115,女子種目コード!$M$1:$N$10,2,FALSE))))","v":""},null,"","",null,{"$f":"IF(T115=\"\",\"\",IF(I115=1,VLOOKUP(T115,男子種目コード!$M$1:$N$13,2,FALSE),IF(I115=2,VLOOKUP(T115,女子種目コード!$M$1:$N$10,2,FALSE))))","v":""},null,"","",null,{"$f":"IF(Y115=\"\",\"\",IF(I115=1,VLOOKUP(Y115,男子種目コード!$D$1:$E$20,2,FALSE),IF(I115=2,VLOOKUP(Y115,女子種目コード!$D$1:$E$20,2,FALSE))))","v":""},null,"","",null,null,null,null,null,null,null,null,null,null,null,null,null,null,null,null,null,null,null,null,null,null,null,null,null,null,null,0,"",""]
["",{"$f":"陸連登録!N111","v":0},null,null,{"$f":"陸連登録!M111","v":0},{"$f":"陸連登録!C111","v":0},{"$f":"陸連登録!D111","v":0},0,{"$f":"陸連登録!A111","v":""},{"$f":"陸連登録!P111","v":0},{"$f":"#REF!","v":{"$error":"#REF!"}},{"$f":"#REF!","v":{"$error":"#REF!"}},{"$f":"#REF!","v":{"$error":"#REF!"}},{"$f":"陸連登録!B111","v":0},null,{"$f":"IF(O116=\"\",\"\",IF(I116=1,VLOOKUP(O116,男子種目コード!$M$1:$N$13,2,FALSE),IF(I116=2,VLOOKUP(O116,女子種目コード!$M$1:$N$10,2,FALSE))))","v":""},null,"","",null,{"$f":"IF(T116=\"\",\"\",IF(I116=1,VLOOKUP(T116,男子種目コード!$M$1:$N$13,2,FALSE),IF(I116=2,VLOOKUP(T116,女子種目コード!$M$1:$N$10,2,FALSE))))","v":""},null,"","",null,{"$f":"IF(Y116=\"\",\"\",IF(I116=1,VLOOKUP(Y116,男子種目コード!$D$1:$E$20,2,FALSE),IF(I116=2,VLOOKUP(Y116,女子種目コード!$D$1:$E$20,2,FALSE))))","v":""},null,"","",null,{"$f":"IF(AD116=\"\",\"\",IF(I116=1,VLOOKUP(AD116,男子種目コード!$A$1:$B$33,2,FALSE),IF(V116=2,VLOOKUP(I116,女子種目コード!$A$1:$B$28,2,FALSE))))","v":""},null,null,{"$f":"IF(AG116=\"\",\"\",IF(I116=1,VLOOKUP(AG116,男子種目コード!$A$1:$B$33,2,FALSE),IF(AA116=2,VLOOKUP(I116,女子種目コード!$A$1:$B$28,2,FALSE))))","v":""},null,null,null,null,null,{"$f":"IF(O116=\"\",\"\",1)","v":""},{"$f":"IF(OR(AN116=1,T116=\"\"),0,1)","v":0},{"$f":"IF(OR(AN116=1,AO116=1,Y116=\"\"),0,1)","v":0},null,null,null,null,null,null,null,null,null,null,null,null,null,null,0,"",""]
[null,null,null,null,null,null,null,null,null,null,null,null,null,null,null,null,null,null,null,null,null,null,null,null,null,null,null,null,null,null,null,null,null,null,null,null,null,null,null,{"$f":"SUM(AN7:AN116)","v":0},{"$f":"SUM(AO7:AO116)","v":0},null,null,null,null,null,null,null,null,{"$f":"COUNT(P115,U115,Z115)","v":0},{"$f":"IF(I115=1,AX117,\"\")","v":""},{"$f":"IF(I115=2,AX117,\"\")","v":""}]
[null,null,null,null,null,null,null,null,null,null,null,null,null,null,null,null,null,null,null,null,null,null,null,null,null,null,null,null,null,null,null,null,null,null,null,null,null,null,null,null,null,null,null,null,null,null,null,null,null,{"$f":"COUNT(P116,U116,Z116)","v":0},{"$f":"IF(I116=1,AX118,\"\")","v":""},{"$f":"IF(I116=2,AX118,\"\")","v":""}]

{"sheet":"ジュニアO","index":11,"n_rows":118,"n_cols":57,"rows_kept":118,"cut":false,"hidden":false,"merged":[[89,40,89,41],[48,40,48,41],[59,40,59,41],[66,40,66,41],[72,40,72,41],[26,40,26,41],[80,40,80,41],[47,43,47,44],[29,43,29,44],[1,6,1,18],[6,40,6,41],[5,40,5,41],[15,43,15,44],[5,43,5,44],[6,43,6,44],[39,43,39,44],[47,40,47,41],[35,43,36,43],[24,43,24,44],[20,43,21,43]]}
[null,null,null,null,"所属名",{"$f":"陸連登録!I2","v":0}]
[null,null,null,null,"所属コード",{"$f":"陸連登録!N2","v":0},"三重県ジュニアオリンピック"]
[null,null,null,null,"顧問名",null,null,null,null,"男子",null,null,null,null,{"$f":"COUNTIF($I$7:$I$116,1)-COUNTIF($BD$7:$BD$116,0)","v":0},null,null,"プログラム冊数",null,null,null,null,"冊"]
[null,null,null,null,"顧問連絡先",null,null,null,null,"女子",null,null,null,null,{"$f":"COUNTIF($I$7:$I$116,2)-COUNTIF($BE$7:$BE$116,0)","v":0},null,{"$f":"O3+O4","v":0}]
[null,null,null,null,null,null,"大会参加費",null,null,null,null,null,null,null,{"$f":"$AG$118*1000+U3*800","v":0},null,{"$f":"$AG$118","v":0},"生年月日を確認してエントリーして下さい"]
["競技者コード","所属コード",null,null,"ナンバー","名前","カナ名","掲示板名","性別","学年","生年","月日","個人所属地コード","陸連ID","1種目","コード","記録","大会名　略字でよい",null,null,"2種目","コード","記録","大会名　略字でよい",null,null,"コード","自己記録3","種目","コード","自己記録4","種目","コード","自己記録5",null,null,null,"A-100",null,null,"種目別人数",null,null,"参加標準記録",null,null,"A 100m","A 100m",null,null,null,null,null,null,"種目数","男子","女子"]
[null,{"$f":"陸連登録!N2","v":0},null,null,{"$f":"陸連登録!M2","v":1000},{"$f":"陸連登録!C2","v":"岡田"},{"$f":"陸連登録!D2","v":0},{"$f":"F7","v":"岡田"},{"$f":"陸連登録!A2","v":1},{"$f":"陸連登録!P2","v":3},{"$f":"LEFT(陸連登録!L2,4)","v":""},{"$f":"RIGHT(陸連登録!L2,4)","v":""},{"$f":"#REF!","v":{"$error":"#REF!"}},{"$f":"陸連登録!B2","v":0},null,{"$f":"IF(O7=\"\",\"\",IF(I7=1,VLOOKUP(O7,$AO$8:$AQ$25,3,FALSE),IF(I7=2,VLOOKUP(O7,$AO$28:$AQ$45,3,FALSE))))","v":""},null,null,{"$f":"IF(O7=\"\",\"\",0)","v":""},{"$f":"IF(O7=\"\",\"\",2)","v":""},null,{"$f":"IF(U7=\"\",\"\",IF(I7=1,VLOOKUP(U7,$AO$8:$AQ$25,3,FALSE),IF(I7=2,VLOOKUP(U7,$AO$28:$AQ$45,3,FALSE))))","v":""},null,null,{"$f":"IF(U7=\"\",\"\",0)","v":""},{"$f":"IF(U7=\"\",\"\",2)","v":""},{"$f":"IF(X7=\"\",\"\",IF(I7=1,VLOOKUP(X7,男子種目コード!$J$2:$K$30,2,FALSE),IF(I7=2,VLOOKUP(X7,女子種目コード!$J$2:$K$28,2,FALSE))))","v":""},null,null,{"$f":"IF(AC7=\"\",\"\",IF(I7=1,VLOOKUP(AC7,男子種目コード!$J$2:$K$30,2,FALSE),IF(I7=2,VLOOKUP(AC7,女子種目コード!$J$2:$K$28,2,FALSE))))","v":""},null,null,{"$f":"IF(AF7=\"\",\"\",IF(I7=1,VLOOKUP(AF7,男子種目コード!$J$2:$K$30,2,FALSE),IF(I7=2,VLOOKUP(AF7,女子種目コード!$J$2:$K$28,2,FALSE))))","v":""},null,null,null,null,"A-200",{"$f":"IF(O7=\"\",\"\",1)","v":""},{"$f":"IF(U7=\"\",\"\",1)","v":""},"男子",null,null,"男子A(3年）",null,null,"A 200m","A 200m",null,{"$f":"IF(OR(AM7=1,U7=\"\"),0,1)","v":0},null,null,null,null,{"$f":"COUNT(P7,V7,AA7)","v":0},{"$f":"IF(I7=1,BC7,\"\")","v":0},{"$f":"IF(I7=2,BC7,\"\")","v":""}]
[null,{"$f":"陸連登録!N3","v":0},null,null,{"$f":"陸連登録!M3","v":0},{"$f":"陸連登録!C3","v":0},{"$f":"陸連登録!D3","v":0},{"$f":"F8","v":0},{"$f":"陸連登録!A3","v":""},{"$f":"陸連登録!P3","v":0},{"$f":"LEFT(陸連登録!L3,4)","v":""},{"$f":"RIGHT(陸連登録!L3,4)","v":""},{"$f":"#REF!","v":{"$error":"#REF!"}},{"$f":"陸連登録!B3","v":0},null,"",null,null,{"$f":"IF(O8=\"\",\"\",0)","v":""},{"$f":"IF(O8=\"\",\"\",2)","v":""},null,"",null,null,{"$f":"IF(U8=\"\",\"\",0)","v":""},{"$f":"IF(U8=\"\",\"\",2)","v":""},{"$f":"IF(X8=\"\",\"\",IF(I8=1,VLOOKUP(X8,男子種目コード!$J$2:$K$30,2,FALSE),IF(I8=2,VLOOKUP(X8,女子種目コード!$J$2:$K$28,2,FALSE))))","v":""},null,null,{"$f":"IF(AC8=\"\",\"\",IF(I8=1,VLOOKUP(AC8,男子種目コード!$J$2:$K$30,2,FALSE),IF(I8=2,VLOOKUP(AC8,女子種目コード!$J$2:$K$28,2,FALSE))))","v":""},null,null,{"$f":"IF(AF8=\"\",\"\",IF(I8=1,VLOOKUP(AF8,男子種目コード!$J$2:$K$30,2,FALSE),IF(I8=2,VLOOKUP(AF8,女子種目コード!$J$2:$K$28,2,FALSE))))","v":""},null,null,null,null,"A-400",{"$f":"IF(O8=\"\",\"\",1)","v":""},{"$f":"IF(U8=\"\",\"\",1)","v":""},"A 100m",{"$f":"COUNTIF($P$7:$P$116,6)+COUNTIF($V$7:$V$116,6)","v":0},6,100,"11.90",null,"A 3000m","A 3000m",null,0,null,null,null,null,0,"",""]
[null,{"$f":"陸連登録!N4","v":0},null,null,{"$f":"陸連登録!M4","v":0},{"$f":"陸連登録!C4","v":0},{"$f":"陸連登録!D4","v":0},0,{"$f":"陸連登録!A4","v":""},{"$f":"陸連登録!P4","v":0},{"$f":"LEFT(陸連登録!L4,4)","v":""},{"$f":"RIGHT(陸連登録!L4,4)","v":""},{"$f":"#REF!","v":{"$error":"#REF!"}},{"$f":"陸連登録!B4","v":0},null,"",null,null,"","",null,"",null,null,"","",{"$f":"IF(X9=\"\",\"\",IF(I9=1,VLOOKUP(X9,男子種目コード!$J$2:$K$30,2,FALSE),IF(I9=2,VLOOKUP(X9,女子種目コード!$J$2:$K$28,2,FALSE))))","v":""},null,null,{"$f":"IF(AC9=\"\",\"\",IF(I9=1,VLOOKUP(AC9,男子種目コード!$J$2:$K$30,2,FALSE),IF(I9=2,VLOOKUP(AC9,女子種目コード!$J$2:$K$28,2,FALSE))))","v":""},null,null,{"$f":"IF(AF9=\"\",\"\",IF(I9=1,VLOOKUP(AF9,男子種目コード!$J$2:$K$30,2,FALSE),IF(I9=2,VLOOKUP(AF9,女子種目コード!$J$2:$K$28,2,FALSE))))","v":""},null,null,null,null,"A-800","","","A 200m",{"$f":"COUNTIF($P$7:$P$116,7)+COUNTIF($V$7:$V$116,7)","v":0},7,200,"24.20",null,"A 110mJH","A 100mYH",null,0,null,null,null,null,0,"",""]
[null,{"$f":"陸連登録!N5","v":0},null,null,{"$f":"陸連登録!M5","v":0},{"$f":"陸連登録!C5","v":0},{"$f":"陸連登録!D5","v":0},0,{"$f":"陸連登録!A5","v":""},{"$f":"陸連登録!P5","v":0},{"$f":"LEFT(陸連登録!L5,4)","v":""},{"$f":"RIGHT(陸連登録!L5,4)","v":""},{"$f":"#REF!","v":{"$error":"#REF!"}},{"$f":"陸連登録!B5","v":0},null,"",null,null,"","",null,"",null,null,"","",{"$f":"IF(X10=\"\",\"\",IF(I10=1,VLOOKUP(X10,男子種目コード!$J$2:$K$30,2,FALSE),IF(I10=2,VLOOKUP(X10,女子種目コード!$J$2:$K$28,2,FALSE))))","v":""},null,null,{"$f":"IF(AC10=\"\",\"\",IF(I10=1,VLOOKUP(AC10,男子種目コード!$J$2:$K$30,2,FALSE),IF(I10=2,VLOOKUP(AC10,女子種目コード!$J$2:$K$28,2,FALSE))))","v":""},null,null,{"$f":"IF(AF10=\"\",\"\",IF(I10=1,VLOOKUP(AF10,男子種目コード!$J$2:$K$30,2,FALSE),IF(I10=2,VLOOKUP(AF10,女子種目コード!$J$2:$K$28,2,FALSE))))","v":""},null,null,null,null,"A-3000","","","A 3000m",{"$f":"COUNTIF($P$7:$P$116,10)+COUNTIF($V$7:$V$116,10)","v":0},10,3000,"9.50.00",null,"A 走高跳","A 走高跳",null,0,null,null,null,null,0,"",""]
[null,{"$f":"陸連登録!N6","v":0},null,null,{"$f":"陸連登録!M6","v":0},{"$f":"陸連登録!C6","v":0},{"$f":"陸連登録!D6","v":0},0,{"$f":"陸連登録!A6","v":""},{"$f":"陸連登録!P6","v":0},{"$f":"LEFT(陸連登録!L6,4)","v":""},{"$f":"RIGHT(陸連登録!L6,4)","v":""},{"$f":"#REF!","v":{"$error":"#REF!"}},{"$f":"陸連登録!B6","v":0},null,"",null,null,"","",null,"",null,null,"","",{"$f":"IF(X11=\"\",\"\",IF(I11=1,VLOOKUP(X11,男子種目コード!$J$2:$K$30,2,FALSE),IF(I11=2,VLOOKUP(X11,女子種目コード!$J$2:$K$28,2,FALSE))))","v":""},null,null,{"$f":"IF(AC11=\"\",\"\",IF(I11=1,VLOOKUP(AC11,男子種目コード!$J$2:$K$30,2,FALSE),IF(I11=2,VLOOKUP(AC11,女子種目コード!$J$2:$K$28,2,FALSE))))","v":""},null,null,{"$f":"IF(AF11=\"\",\"\",IF(I11=1,VLOOKUP(AF11,男子種目コード!$J$2:$K$30,2,FALSE),IF(I11=2,VLOOKUP(AF11,女子種目コード!$J$2:$K$28,2,FALSE))))","v":""},null,null,null,null,"A-100H","","","A 110mJH",{"$f":"COUNTIF($P$7:$P$116,11)+COUNTIF($V$7:$V$116,11)","v":0},11,"110JH","18.30",null,"A 砲丸投","A 砲丸投",null,0,null,null,null,null,0,"",""]
[null,{"$f":"陸連登録!N7","v":0},null,null,{"$f":"陸連登録!M7","v":0},{"$f":"陸連登録!C7","v":0},{"$f":"陸連登録!D7","v":0},0,{"$f":"陸連登録!A7","v":""},{"$f":"陸連登録!P7","v":0},{"$f":"LEFT(陸連登録!L7,4)","v":""},{"$f":"RIGHT(陸連登録!L7,4)","v":""},{"$f":"#REF!","v":{"$error":"#REF!"}},{"$f":"陸連登録!B7","v":0},null,"",null,null,"","",null,"",null,null,"","",{"$f":"IF(X12=\"\",\"\",IF(I12=1,VLOOKUP(X12,男子種目コード!$J$2:$K$30,2,FALSE),IF(I12=2,VLOOKUP(X12,女子種目コード!$J$2:$K$28,2,FALSE))))","v":""},null,null,{"$f":"IF(AC12=\"\",\"\",IF(I12=1,VLOOKUP(AC12,男子種目コード!$J$2:$K$30,2,FALSE),IF(I12=2,VLOOKUP(AC12,女子種目コード!$J$2:$K$28,2,FALSE))))","v":""},null,null,{"$f":"IF(AF12=\"\",\"\",IF(I12=1,VLOOKUP(AF12,男子種目コード!$J$2:$K$30,2,FALSE),IF(I12=2,VLOOKUP(AF12,女子種目コード!$J$2:$K$28,2,FALSE))))","v":""},null,null,null,null,"A-110H","","","A 走高跳",{"$f":"COUNTIF($P$7:$P$116,12)+COUNTIF($V$7:$V$116,12)","v":0},12,"走高跳","1m60",null,"AB共通円盤投","AB共通円盤投",null,0,null,null,null,null,0,"",""]
[null,{"$f":"陸連登録!N8","v":0},null,null,{"$f":"陸連登録!M8","v":0},{"$f":"陸連登録!C8","v":0},{"$f":"陸連登録!D8","v":0},0,{"$f":"陸連登録!A8","v":""},{"$f":"陸連登録!P8","v":0},{"$f":"LEFT(陸連登録!L8,4)","v":""},{"$f":"RIGHT(陸連登録!L8,4)","v":""},{"$f":"#REF!","v":{"$error":"#REF!"}},{"$f":"陸連登録!B8","v":0},null,"",null,null,"","",null,"",null,null,"","",{"$f":"IF(X13=\"\",\"\",IF(I13=1,VLOOKUP(X13,男子種目コード!$J$2:$K$30,2,FALSE),IF(I13=2,VLOOKUP(X13,女子種目コード!$J$2:$K$28,2,FALSE))))","v":""},null,null,{"$f":"IF(AC13=\"\",\"\",IF(I13=1,VLOOKUP(AC13,男子種目コード!$J$2:$K$30,2,FALSE),IF(I13=2,VLOOKUP(AC13,女子種目コード!$J$2:$K$28,2,FALSE))))","v":""},null,null,{"$f":"IF(AF13=\"\",\"\",IF(I13=1,VLOOKUP(AF13,男子種目コード!$J$2:$K$30,2,FALSE),IF(I13=2,VLOOKUP(AF13,女子種目コード!$J$2:$K$28,2,FALSE))))","v":""},null,null,null,null,"A-走高跳","","","A 砲丸投",{"$f":"COUNTIF($P$7:$P$116,13)+COUNTIF($V$7:$V$116,13)","v":0},13,"砲丸投","9m50",null,"共通ジャベリック","共通ジャベリック",null,0,null,null,null,null,0,"",""]
[null,{"$f":"陸連登録!N9","v":0},null,null,{"$f":"陸連登録!M9","v":0},{"$f":"陸連登録!C9","v":0},{"$f":"陸連登録!D9","v":0},0,{"$f":"陸連登録!A9","v":""},{"$f":"陸連登録!P9","v":0},{"$f":"LEFT(陸連登録!L9,4)","v":""},{"$f":"RIGHT(陸連登録!L9,4)","v":""},{"$f":"#REF!","v":{"$error":"#REF!"}},{"$f":"陸連登録!B9","v":0},null,"",null,null,"","",null,"",null,null,"","",{"$f":"IF(X14=\"\",\"\",IF(I14=1,VLOOKUP(X14,男子種目コード!$J$2:$K$30,2,FALSE),IF(I14=2,VLOOKUP(X14,女子種目コード!$J$2:$K$28,2,FALSE))))","v":""},null,null,{"$f":"IF(AC14=\"\",\"\",IF(I14=1,VLOOKUP(AC14,男子種目コード!$J$2:$K$30,2,FALSE),IF(I14=2,VLOOKUP(AC14,女子種目コード!$J$2:$K$28,2,FALSE))))","v":""},null,null,{"$f":"IF(AF14=\"\",\"\",IF(I14=1,VLOOKUP(AF14,男子種目コード!$J$2:$K$30,2,FALSE),IF(I14=2,VLOOKUP(AF14,女子種目コード!$J$2:$K$28,2,FALSE))))","v":""},null,null,null,null,"A-砲丸投","","","B 100m",{"$f":"COUNTIF($P$7:$P$116,14)+COUNTIF($V$7:$V$116,14)","v":0},14,"円盤投","28m00",null,"B 100m","B 100m",null,0,null,null,null,null,0,"",""]
[null,{"$f":"陸連登録!N10","v":0},null,null,{"$f":"陸連登録!M10","v":0},{"$f":"陸連登録!C10","v":0},{"$f":"陸連登録!D10","v":0},0,{"$f":"陸連登録!A10","v":""},{"$f":"陸連登録!P10","v":0},{"$f":"LEFT(陸連登録!L10,4)","v":""},{"$f":"RIGHT(陸連登録!L10,4)","v":""},{"$f":"#REF!","v":{"$error":"#REF!"}},{"$f":"陸連登録!B10","v":0},null,"",null,null,"","",null,"",null,null,"","",{"$f":"IF(X15=\"\",\"\",IF(I15=1,VLOOKUP(X15,男子種目コード!$J$2:$K$30,2,FALSE),IF(I15=2,VLOOKUP(X15,女子種目コード!$J$2:$K$28,2,FALSE))))","v":""},null,null,{"$f":"IF(AC15=\"\",\"\",IF(I15=1,VLOOKUP(AC15,男子種目コード!$J$2:$K$30,2,FALSE),IF(I15=2,VLOOKUP(AC15,女子種目コード!$J$2:$K$28,2,FALSE))))","v":""},null,null,{"$f":"IF(AF15=\"\",\"\",IF(I15=1,VLOOKUP(AF15,男子種目コード!$J$2:$K$30,2,FALSE),IF(I15=2,VLOOKUP(AF15,女子種目コード!$J$2:$K$28,2,FALSE))))","v":""},null,null,null,null,"B-100","","","B 1500m",{"$f":"COUNTIF($P$7:$P$116,15)+COUNTIF($V$7:$V$116,15)","v":0},15,"ｼﾞｬﾍﾞﾘｯｸ","40m00",null,"B 1500m","B 1500m",null,0,null,null,null,null,0,"",""]
[null,{"$f":"陸連登録!N11","v":0},null,null,{"$f":"陸連登録!M11","v":0},{"$f":"陸連登録!C11","v":0},{"$f":"陸連登録!D11","v":0},0,{"$f":"陸連登録!A11","v":""},{"$f":"陸連登録!P11","v":0},{"$f":"LEFT(陸連登録!L11,4)","v":""},{"$f":"RIGHT(陸連登録!L11,4)","v":""},{"$f":"#REF!","v":{"$error":"#REF!"}},{"$f":"陸連登録!B11","v":0},null,"",null,null,"","",null,"",null,null,"","",{"$f":"IF(X16=\"\",\"\",IF(I16=1,VLOOKUP(X16,男子種目コード!$J$2:$K$30,2,FALSE),IF(I16=2,VLOOKUP(X16,女子種目コード!$J$2:$K$28,2,FALSE))))","v":""},null,null,{"$f":"IF(AC16=\"\",\"\",IF(I16=1,VLOOKUP(AC16,男子種目コード!$J$2:$K$30,2,FALSE),IF(I16=2,VLOOKUP(AC16,女子種目コード!$J$2:$K$28,2,FALSE))))","v":""},null,null,{"$f":"IF(AF16=\"\",\"\",IF(I16=1,VLOOKUP(AF16,男子種目コード!$J$2:$K$30,2,FALSE),IF(I16=2,VLOOKUP(AF16,女子種目コード!$J$2:$K$28,2,FALSE))))","v":""},null,null,null,null,"B-1500","","","B 110mYH",{"$f":"COUNTIF($P$7:$P$116,16)+COUNTIF($V$7:$V$116,16)","v":0},16,"男子B(2年）",null,null,"B 110mYH","B 100mMH",null,0,null,null,null,null,0,"",""]
[null,{"$f":"陸連登録!N12","v":0},null,null,{"$f":"陸連登録!M12","v":0},{"$f":"陸連登録!C12","v":0},{"$f":"陸連登録!D12","v":0},0,{"$f":"陸連登録!A12","v":""},{"$f":"陸連登録!P12","v":0},{"$f":"LEFT(陸連登録!L12,4)","v":""},{"$f":"RIGHT(陸連登録!L12,4)","v":""},{"$f":"#REF!","v":{"$error":"#REF!"}},{"$f":"陸連登録!B12","v":0},null,"",null,null,"","",null,"",null,null,"","",{"$f":"IF(X17=\"\",\"\",IF(I17=1,VLOOKUP(X17,男子種目コード!$J$2:$K$30,2,FALSE),IF(I17=2,VLOOKUP(X17,女子種目コード!$J$2:$K$28,2,FALSE))))","v":""},null,null,{"$f":"IF(AC17=\"\",\"\",IF(I17=1,VLOOKUP(AC17,男子種目コード!$J$2:$K$30,2,FALSE),IF(I17=2,VLOOKUP(AC17,女子種目コード!$J$2:$K$28,2,FALSE))))","v":""},null,null,{"$f":"IF(AF17=\"\",\"\",IF(I17=1,VLOOKUP(AF17,男子種目コード!$J$2:$K$30,2,FALSE),IF(I17=2,VLOOKUP(AF17,女子種目コード!$J$2:$K$28,2,FALSE))))","v":""},null,null,null,null,"B-100H","","","B 走幅跳",{"$f":"COUNTIF($P$7:$P$116,17)+COUNTIF($V$7:$V$116,17)","v":0},17,100,"12.40",null,"B 走幅跳","B 走幅跳",null,0,null,null,null,null,0,"",""]
[null,{"$f":"陸連登録!N13","v":0},null,null,{"$f":"陸連登録!M13","v":0},{"$f":"陸連登録!C13","v":0},{"$f":"陸連登録!D13","v":0},0,{"$f":"陸連登録!A13","v":""},{"$f":"陸連登録!P13","v":0},{"$f":"LEFT(陸連登録!L13,4)","v":""},{"$f":"RIGHT(陸連登録!L13,4)","v":""},{"$f":"#REF!","v":{"$error":"#REF!"}},{"$f":"陸連登録!B13","v":0},null,"",null,null,"","",null,"",null,null,"","",{"$f":"IF(X18=\"\",\"\",IF(I18=1,VLOOKUP(X18,男子種目コード!$J$2:$K$30,2,FALSE),IF(I18=2,VLOOKUP(X18,女子種目コード!$J$2:$K$28,2,FALSE))))","v":""},null,null,{"$f":"IF(AC18=\"\",\"\",IF(I18=1,VLOOKUP(AC18,男子種目コード!$J$2:$K$30,2,FALSE),IF(I18=2,VLOOKUP(AC18,女子種目コード!$J$2:$K$28,2,FALSE))))","v":""},null,null,{"$f":"IF(AF18=\"\",\"\",IF(I18=1,VLOOKUP(AF18,男子種目コード!$J$2:$K$30,2,FALSE),IF(I18=2,VLOOKUP(AF18,女子種目コード!$J$2:$K$28,2,FALSE))))","v":""},null,null,null,null,"B-110H","","","B 砲丸投",{"$f":"COUNTIF($P$7:$P$116,25)+COUNTIF($V$7:$V$116,25)","v":0},25,1500,"4.45.00",null,"B 砲丸投","B 砲丸投",null,0,null,null,null,null,0,"",""]
[null,{"$f":"陸連登録!N14","v":0},null,null,{"$f":"陸連登録!M14","v":0},{"$f":"陸連登録!C14","v":0},{"$f":"陸連登録!D14","v":0},0,{"$f":"陸連登録!A14","v":""},{"$f":"陸連登録!P14","v":0},{"$f":"LEFT(陸連登録!L14,4)","v":""},{"$f":"RIGHT(陸連登録!L14,4)","v":""},{"$f":"#REF!","v":{"$error":"#REF!"}},{"$f":"陸連登録!B14","v":0},null,"",null,null,"","",null,"",null,null,"","",{"$f":"IF(X19=\"\",\"\",IF(I19=1,VLOOKUP(X19,男子種目コード!$J$2:$K$30,2,FALSE),IF(I19=2,VLOOKUP(X19,女子種目コード!$J$2:$K$28,2,FALSE))))","v":""},null,null,{"$f":"IF(AC19=\"\",\"\",IF(I19=1,VLOOKUP(AC19,男子種目コード!$J$2:$K$30,2,FALSE),IF(I19=2,VLOOKUP(AC19,女子種目コード!$J$2:$K$28,2,FALSE))))","v":""},null,null,{"$f":"IF(AF19=\"\",\"\",IF(I19=1,VLOOKUP(AF19,男子種目コード!$J$2:$K$30,2,FALSE),IF(I19=2,VLOOKUP(AF19,女子種目コード!$J$2:$K$28,2,FALSE))))","v":""},null,null,null,null,"B-走高跳","","","C 100m",{"$f":"COUNTIF($P$7:$P$116,18)+COUNTIF($V$7:$V$116,18)","v":0},18,"110JH","21.00",null,"AB共通円盤投","AB共通円盤投",null,0,null,null,null,null,0,"",""]
[null,{"$f":"陸連登録!N15","v":0},null,null,{"$f":"陸連登録!M15","v":0},{"$f":"陸連登録!C15","v":0},{"$f":"陸連登録!D15","v":0},0,{"$f":"陸連登録!A15","v":""},{"$f":"陸連登録!P15","v":0},{"$f":"LEFT(陸連登録!L15,4)","v":""},{"$f":"RIGHT(陸連登録!L15,4)","v":""},{"$f":"#REF!","v":{"$error":"#REF!"}},{"$f":"陸連登録!B15","v":0},null,"",null,null,"","",null,"",null,null,"","",{"$f":"IF(X20=\"\",\"\",IF(I20=1,VLOOKUP(X20,男子種目コード!$J$2:$K$30,2,FALSE),IF(I20=2,VLOOKUP(X20,女子種目コード!$J$2:$K$28,2,FALSE))))","v":""},null,null,{"$f":"IF(AC20=\"\",\"\",IF(I20=1,VLOOKUP(AC20,男子種目コード!$J$2:$K$30,2,FALSE),IF(I20=2,VLOOKUP(AC20,女子種目コード!$J$2:$K$28,2,FALSE))))","v":""},null,null,{"$f":"IF(AF20=\"\",\"\",IF(I20=1,VLOOKUP(AF20,男子種目コード!$J$2:$K$30,2,FALSE),IF(I20=2,VLOOKUP(AF20,女子種目コード!$J$2:$K$28,2,FALSE))))","v":""},null,null,null,null,"B-走幅跳","","","C 1500m",{"$f":"COUNTIF($P$7:$P$116,24)+COUNTIF($V$7:$V$116,24)","v":0},24,"走幅跳","5m20",null,"共通ジャベリック","共通ジャベリック",null,0,null,null,null,null,0,"",""]
[null,{"$f":"陸連登録!N16","v":0},null,null,{"$f":"陸連登録!M16","v":0},{"$f":"陸連登録!C16","v":0},{"$f":"陸連登録!D16","v":0},0,{"$f":"陸連登録!A16","v":""},{"$f":"陸連登録!P16","v":0},{"$f":"LEFT(陸連登録!L16,4)","v":""},{"$f":"RIGHT(陸連登録!L16,4)","v":""},{"$f":"#REF!","v":{"$error":"#REF!"}},{"$f":"陸連登録!B16","v":0},null,"",null,null,"","",null,"",null,null,"","",{"$f":"IF(X21=\"\",\"\",IF(I21=1,VLOOKUP(X21,男子種目コード!$J$2:$K$30,2,FALSE),IF(I21=2,VLOOKUP(X21,女子種目コード!$J$2:$K$28,2,FALSE))))","v":""},null,null,{"$f":"IF(AC21=\"\",\"\",IF(I21=1,VLOOKUP(AC21,男子種目コード!$J$2:$K$30,2,FALSE),IF(I21=2,VLOOKUP(AC21,女子種目コード!$J$2:$K$28,2,FALSE))))","v":""},null,null,{"$f":"IF(AF21=\"\",\"\",IF(I21=1,VLOOKUP(AF21,男子種目コード!$J$2:$K$30,2,FALSE),IF(I21=2,VLOOKUP(AF21,女子種目コード!$J$2:$K$28,2,FALSE))))","v":""},null,null,null,null,"B-砲丸投","","","C 100mH",{"$f":"COUNTIF($P$7:$P$116,26)+COUNTIF($V$7:$V$116,26)","v":0},26,"砲丸投","5k  8m00",null,"C 100m","C 100m",null,0,null,null,null,null,0,"",""]
[null,{"$f":"陸連登録!N17","v":0},null,null,{"$f":"陸連登録!M17","v":0},{"$f":"陸連登録!C17","v":0},{"$f":"陸連登録!D17","v":0},0,{"$f":"陸連登録!A17","v":""},{"$f":"陸連登録!P17","v":0},{"$f":"LEFT(陸連登録!L17,4)","v":""},{"$f":"RIGHT(陸連登録!L17,4)","v":""},{"$f":"#REF!","v":{"$error":"#REF!"}},{"$f":"陸連登録!B17","v":0},null,"",null,null,"","",null,"",null,null,"","",{"$f":"IF(X22=\"\",\"\",IF(I22=1,VLOOKUP(X22,男子種目コード!$J$2:$K$30,2,FALSE),IF(I22=2,VLOOKUP(X22,女子種目コード!$J$2:$K$28,2,FALSE))))","v":""},null,null,{"$f":"IF(AC22=\"\",\"\",IF(I22=1,VLOOKUP(AC22,男子種目コード!$J$2:$K$30,2,FALSE),IF(I22=2,VLOOKUP(AC22,女子種目コード!$J$2:$K$28,2,FALSE))))","v":""},null,null,{"$f":"IF(AF22=\"\",\"\",IF(I22=1,VLOOKUP(AF22,男子種目コード!$J$2:$K$30,2,FALSE),IF(I22=2,VLOOKUP(AF22,女子種目コード!$J$2:$K$28,2,FALSE))))","v":""},null,null,null,null,"C-100","","","C 走幅跳",{"$f":"COUNTIF($P$7:$P$116,20)+COUNTIF($V$7:$V$116,20)","v":0},20,null,"4k 10m00",null,"C 1500m","C 800m",null,0,null,null,null,null,0,"",""]
[null,{"$f":"陸連登録!N18","v":0},null,null,{"$f":"陸連登録!M18","v":0},{"$f":"陸連登録!C18","v":0},{"$f":"陸連登録!D18","v":0},0,{"$f":"陸連登録!A18","v":""},{"$f":"陸連登録!P18","v":0},{"$f":"LEFT(陸連登録!L18,4)","v":""},{"$f":"RIGHT(陸連登録!L18,4)","v":""},{"$f":"#REF!","v":{"$error":"#REF!"}},{"$f":"陸連登録!B18","v":0},null,"",null,null,"","",null,"",null,null,"","",{"$f":"IF(X23=\"\",\"\",IF(I23=1,VLOOKUP(X23,男子種目コード!$J$2:$K$30,2,FALSE),IF(I23=2,VLOOKUP(X23,女子種目コード!$J$2:$K$28,2,FALSE))))","v":""},null,null,{"$f":"IF(AC23=\"\",\"\",IF(I23=1,VLOOKUP(AC23,男子種目コード!$J$2:$K$30,2,FALSE),IF(I23=2,VLOOKUP(AC23,女子種目コード!$J$2:$K$28,2,FALSE))))","v":""},null,null,{"$f":"IF(AF23=\"\",\"\",IF(I23=1,VLOOKUP(AF23,男子種目コード!$J$2:$K$30,2,FALSE),IF(I23=2,VLOOKUP(AF23,女子種目コード!$J$2:$K$28,2,FALSE))))","v":""},null,null,null,null,"C-100H","","","C 砲丸投",{"$f":"COUNTIF($P$7:$P$116,29)+COUNTIF($V$7:$V$116,29)","v":0},29,"円盤投","28m00",null,"C 走幅跳","C 走幅跳",null,0,null,null,null,null,0,"",""]
[null,{"$f":"陸連登録!N19","v":0},null,null,{"$f":"陸連登録!M19","v":0},{"$f":"陸連登録!C19","v":0},{"$f":"陸連登録!D19","v":0},0,{"$f":"陸連登録!A19","v":""},{"$f":"陸連登録!P19","v":0},{"$f":"LEFT(陸連登録!L19,4)","v":""},{"$f":"RIGHT(陸連登録!L19,4)","v":""},{"$f":"#REF!","v":{"$error":"#REF!"}},{"$f":"陸連登録!B19","v":0},null,"",null,null,"","",null,"",null,null,"","",{"$f":"IF(X24=\"\",\"\",IF(I24=1,VLOOKUP(X24,男子種目コード!$J$2:$K$30,2,FALSE),IF(I24=2,VLOOKUP(X24,女子種目コード!$J$2:$K$28,2,FALSE))))","v":""},null,null,{"$f":"IF(AC24=\"\",\"\",IF(I24=1,VLOOKUP(AC24,男子種目コード!$J$2:$K$30,2,FALSE),IF(I24=2,VLOOKUP(AC24,女子種目コード!$J$2:$K$28,2,FALSE))))","v":""},null,null,{"$f":"IF(AF24=\"\",\"\",IF(I24=1,VLOOKUP(AF24,男子種目コード!$J$2:$K$30,2,FALSE),IF(I24=2,VLOOKUP(AF24,女子種目コード!$J$2:$K$28,2,FALSE))))","v":""},null,null,null,null,"C-走幅跳","","","AB共通円盤投",{"$f":"COUNTIF($P$7:$P$116,22)+COUNTIF($V$7:$V$116,22)","v":0},22,"ｼﾞｬﾍﾞﾘｯｸ","40m00",null,"共通ジャベリック","共通ジャベリック",null,0,null,null,null,null,0,"",""]
[null,{"$f":"陸連登録!N20","v":0},null,null,{"$f":"陸連登録!M20","v":0},{"$f":"陸連登録!C20","v":0},{"$f":"陸連登録!D20","v":0},0,{"$f":"陸連登録!A20","v":""},{"$f":"陸連登録!P20","v":0},{"$f":"LEFT(陸連登録!L20,4)","v":""},{"$f":"RIGHT(陸連登録!L20,4)","v":""},{"$f":"#REF!","v":{"$error":"#REF!"}},{"$f":"陸連登録!B20","v":0},null,"",null,null,"","",null,"",null,null,"","",{"$f":"IF(X25=\"\",\"\",IF(I25=1,VLOOKUP(X25,男子種目コード!$J$2:$K$30,2,FALSE),IF(I25=2,VLOOKUP(X25,女子種目コード!$J$2:$K$28,2,FALSE))))","v":""},null,null,{"$f":"IF(AC25=\"\",\"\",IF(I25=1,VLOOKUP(AC25,男子種目コード!$J$2:$K$30,2,FALSE),IF(I25=2,VLOOKUP(AC25,女子種目コード!$J$2:$K$28,2,FALSE))))","v":""},null,null,{"$f":"IF(AF25=\"\",\"\",IF(I25=1,VLOOKUP(AF25,男子種目コード!$J$2:$K$30,2,FALSE),IF(I25=2,VLOOKUP(AF25,女子種目コード!$J$2:$K$28,2,FALSE))))","v":""},null,null,null,null,"C-砲丸投","","","共通ジャベリック",{"$f":"COUNTIF($P$7:$P$116,23)+COUNTIF($V$7:$V$116,23)","v":0},23,"男子C(1年）",null,null,null,null,null,0,null,null,null,null,0,"",""]
[null,{"$f":"陸連登録!N21","v":0},null,null,{"$f":"陸連登録!M21","v":0},{"$f":"陸連登録!C21","v":0},{"$f":"陸連登録!D21","v":0},0,{"$f":"陸連登録!A21","v":""},{"$f":"陸連登録!P21","v":0},{"$f":"LEFT(陸連登録!L21,4)","v":""},{"$f":"RIGHT(陸連登録!L21,4)","v":""},{"$f":"#REF!","v":{"$error":"#REF!"}},{"$f":"陸連登録!B21","v":0},null,"",null,null,"","",null,"",null,null,"","",{"$f":"IF(X26=\"\",\"\",IF(I26=1,VLOOKUP(X26,男子種目コード!$J$2:$K$30,2,FALSE),IF(I26=2,VLOOKUP(X26,女子種目コード!$J$2:$K$28,2,FALSE))))","v":""},null,null,{"$f":"IF(AC26=\"\",\"\",IF(I26=1,VLOOKUP(AC26,男子種目コード!$J$2:$K$30,2,FALSE),IF(I26=2,VLOOKUP(AC26,女子種目コード!$J$2:$K$28,2,FALSE))))","v":""},null,null,{"$f":"IF(AF26=\"\",\"\",IF(I26=1,VLOOKUP(AF26,男子種目コード!$J$2:$K$30,2,FALSE),IF(I26=2,VLOOKUP(AF26,女子種目コード!$J$2:$K$28,2,FALSE))))","v":""},null,null,null,null,"AB円盤投","","","計",{"$f":"SUM(AP8:AP25)","v":0},null,100,"13.10",null,null,null,null,0,null,null,null,null,0,"",""]
[null,{"$f":"陸連登録!N22","v":0},null,null,{"$f":"陸連登録!M22","v":0},{"$f":"陸連登録!C22","v":0},{"$f":"陸連登録!D22","v":0},0,{"$f":"陸連登録!A22","v":""},{"$f":"陸連登録!P22","v":0},{"$f":"LEFT(陸連登録!L22,4)","v":""},{"$f":"RIGHT(陸連登録!L22,4)","v":""},{"$f":"#REF!","v":{"$error":"#REF!"}},{"$f":"陸連登録!B22","v":0},null,"",null,null,"","",null,"",null,null,"","",{"$f":"IF(X27=\"\",\"\",IF(I27=1,VLOOKUP(X27,男子種目コード!$J$2:$K$30,2,FALSE),IF(I27=2,VLOOKUP(X27,女子種目コード!$J$2:$K$28,2,FALSE))))","v":""},null,null,{"$f":"IF(AC27=\"\",\"\",IF(I27=1,VLOOKUP(AC27,男子種目コード!$J$2:$K$30,2,FALSE),IF(I27=2,VLOOKUP(AC27,女子種目コード!$J$2:$K$28,2,FALSE))))","v":""},null,null,{"$f":"IF(AF27=\"\",\"\",IF(I27=1,VLOOKUP(AF27,男子種目コード!$J$2:$K$30,2,FALSE),IF(I27=2,VLOOKUP(AF27,女子種目コード!$J$2:$K$28,2,FALSE))))","v":""},null,null,null,null,"ABｼﾞｬﾍﾞﾘｯｸ","","","女子",null,null,1500,"5.10.00",null,null,null,null,0,null,null,null,null,0,"",""]
[null,{"$f":"陸連登録!N23","v":0},null,null,{"$f":"陸連登録!M23","v":0},{"$f":"陸連登録!C23","v":0},{"$f":"陸連登録!D23","v":0},0,{"$f":"陸連登録!A23","v":""},{"$f":"陸連登録!P23","v":0},{"$f":"LEFT(陸連登録!L23,4)","v":""},{"$f":"RIGHT(陸連登録!L23,4)","v":""},{"$f":"#REF!","v":{"$error":"#REF!"}},{"$f":"陸連登録!B23","v":0},null,"",null,null,"","",null,"",null,null,"","",{"$f":"IF(X28=\"\",\"\",IF(I28=1,VLOOKUP(X28,男子種目コード!$J$2:$K$30,2,FALSE),IF(I28=2,VLOOKUP(X28,女子種目コード!$J$2:$K$28,2,FALSE))))","v":""},null,null,{"$f":"IF(AC28=\"\",\"\",IF(I28=1,VLOOKUP(AC28,男子種目コード!$J$2:$K$30,2,FALSE),IF(I28=2,VLOOKUP(AC28,女子種目コード!$J$2:$K$28,2,FALSE))))","v":""},null,null,{"$f":"IF(AF28=\"\",\"\",IF(I28=1,VLOOKUP(AF28,男子種目コード!$J$2:$K$30,2,FALSE),IF(I28=2,VLOOKUP(AF28,女子種目コード!$J$2:$K$28,2,FALSE))))","v":""},null,null,null,null,null,"","","A 100m",{"$f":"COUNTIF($P$7:$P$116,35)+COUNTIF($V$7:$V$116,35)","v":0},35,"走幅跳","4m40",null,null,null,null,0,null,null,null,null,0,"",""]
[null,{"$f":"陸連登録!N24","v":0},null,null,{"$f":"陸連登録!M24","v":0},{"$f":"陸連登録!C24","v":0},{"$f":"陸連登録!D24","v":0},0,{"$f":"陸連登録!A24","v":""},{"$f":"陸連登録!P24","v":0},{"$f":"LEFT(陸連登録!L24,4)","v":""},{"$f":"RIGHT(陸連登録!L24,4)","v":""},{"$f":"#REF!","v":{"$error":"#REF!"}},{"$f":"陸連登録!B24","v":0},null,"",null,null,"","",null,"",null,null,"","",{"$f":"IF(X29=\"\",\"\",IF(I29=1,VLOOKUP(X29,男子種目コード!$J$2:$K$30,2,FALSE),IF(I29=2,VLOOKUP(X29,女子種目コード!$J$2:$K$28,2,FALSE))))","v":""},null,null,{"$f":"IF(AC29=\"\",\"\",IF(I29=1,VLOOKUP(AC29,男子種目コード!$J$2:$K$30,2,FALSE),IF(I29=2,VLOOKUP(AC29,女子種目コード!$J$2:$K$28,2,FALSE))))","v":""},null,null,{"$f":"IF(AF29=\"\",\"\",IF(I29=1,VLOOKUP(AF29,男子種目コード!$J$2:$K$30,2,FALSE),IF(I29=2,VLOOKUP(AF29,女子種目コード!$J$2:$K$28,2,FALSE))))","v":""},null,null,null,null,null,"","","A 200m",{"$f":"COUNTIF($P$7:$P$116,36)+COUNTIF($V$7:$V$116,36)","v":0},36,"ｼﾞｬﾍﾞﾘｯｸ","40m00",null,null,null,null,0,null,null,null,null,0,"",""]
[null,{"$f":"陸連登録!N25","v":0},null,null,{"$f":"陸連登録!M25","v":0},{"$f":"陸連登録!C25","v":0},{"$f":"陸連登録!D25","v":0},0,{"$f":"陸連登録!A25","v":""},{"$f":"陸連登録!P25","v":0},{"$f":"LEFT(陸連登録!L25,4)","v":""},{"$f":"RIGHT(陸連登録!L25,4)","v":""},{"$f":"#REF!","v":{"$error":"#REF!"}},{"$f":"陸連登録!B25","v":0},null,"",null,null,"","",null,"",null,null,"","",{"$f":"IF(X30=\"\",\"\",IF(I30=1,VLOOKUP(X30,男子種目コード!$J$2:$K$30,2,FALSE),IF(I30=2,VLOOKUP(X30,女子種目コード!$J$2:$K$28,2,FALSE))))","v":""},null,null,{"$f":"IF(AC30=\"\",\"\",IF(I30=1,VLOOKUP(AC30,男子種目コード!$J$2:$K$30,2,FALSE),IF(I30=2,VLOOKUP(AC30,女子種目コード!$J$2:$K$28,2,FALSE))))","v":""},null,null,{"$f":"IF(AF30=\"\",\"\",IF(I30=1,VLOOKUP(AF30,男子種目コード!$J$2:$K$30,2,FALSE),IF(I30=2,VLOOKUP(AF30,女子種目コード!$J$2:$K$28,2,FALSE))))","v":""},null,null,null,null,null,"","","A 3000m",{"$f":"COUNTIF($P$7:$P$116,37)+COUNTIF($V$7:$V$116,37)","v":0},37,"女子A(3年）",null,null,null,null,null,0,null,null,null,null,0,"",""]
[null,{"$f":"陸連登録!N26","v":0},null,null,{"$f":"陸連登録!M26","v":0},{"$f":"陸連登録!C26","v":0},{"$f":"陸連登録!D26","v":0},0,{"$f":"陸連登録!A26","v":""},{"$f":"陸連登録!P26","v":0},{"$f":"LEFT(陸連登録!L26,4)","v":""},{"$f":"RIGHT(陸連登録!L26,4)","v":""},{"$f":"#REF!","v":{"$error":"#REF!"}},{"$f":"陸連登録!B26","v":0},null,"",null,null,"","",null,"",null,null,"","",{"$f":"IF(X31=\"\",\"\",IF(I31=1,VLOOKUP(X31,男子種目コード!$J$2:$K$30,2,FALSE),IF(I31=2,VLOOKUP(X31,女子種目コード!$J$2:$K$28,2,FALSE))))","v":""},null,null,{"$f":"IF(AC31=\"\",\"\",IF(I31=1,VLOOKUP(AC31,男子種目コード!$J$2:$K$30,2,FALSE),IF(I31=2,VLOOKUP(AC31,女子種目コード!$J$2:$K$28,2,FALSE))))","v":""},null,null,{"$f":"IF(AF31=\"\",\"\",IF(I31=1,VLOOKUP(AF31,男子種目コード!$J$2:$K$30,2,FALSE),IF(I31=2,VLOOKUP(AF31,女子種目コード!$J$2:$K$28,2,FALSE))))","v":""},null,null,null,null,null,"","","A 100mYH",{"$f":"COUNTIF($P$7:$P$116,38)+COUNTIF($V$7:$V$116,38)","v":0},38,100,"13.50",null,null,null,null,0,null,null,null,null,0,"",""]
[null,{"$f":"陸連登録!N27","v":0},null,null,{"$f":"陸連登録!M27","v":0},{"$f":"陸連登録!C27","v":0},{"$f":"陸連登録!D27","v":0},0,{"$f":"陸連登録!A27","v":""},{"$f":"陸連登録!P27","v":0},{"$f":"LEFT(陸連登録!L27,4)","v":""},{"$f":"RIGHT(陸連登録!L27,4)","v":""},{"$f":"#REF!","v":{"$error":"#REF!"}},{"$f":"陸連登録!B27","v":0},null,"",null,null,"","",null,"",null,null,"","",{"$f":"IF(X32=\"\",\"\",IF(I32=1,VLOOKUP(X32,男子種目コード!$J$2:$K$30,2,FALSE),IF(I32=2,VLOOKUP(X32,女子種目コード!$J$2:$K$28,2,FALSE))))","v":""},null,null,{"$f":"IF(AC32=\"\",\"\",IF(I32=1,VLOOKUP(AC32,男子種目コード!$J$2:$K$30,2,FALSE),IF(I32=2,VLOOKUP(AC32,女子種目コード!$J$2:$K$28,2,FALSE))))","v":""},null,null,{"$f":"IF(AF32=\"\",\"\",IF(I32=1,VLOOKUP(AF32,男子種目コード!$J$2:$K$30,2,FALSE),IF(I32=2,VLOOKUP(AF32,女子種目コード!$J$2:$K$28,2,FALSE))))","v":""},null,null,null,null,null,"","","A 走高跳",{"$f":"COUNTIF($P$7:$P$116,39)+COUNTIF($V$7:$V$116,39)","v":0},39,200,"28.40",null,null,null,null,0,null,null,null,null,0,"",""]
[null,{"$f":"陸連登録!N28","v":0},null,null,{"$f":"陸連登録!M28","v":0},{"$f":"陸連登録!C28","v":0},{"$f":"陸連登録!D28","v":0},0,{"$f":"陸連登録!A28","v":""},{"$f":"陸連登録!P28","v":0},{"$f":"LEFT(陸連登録!L28,4)","v":""},{"$f":"RIGHT(陸連登録!L28,4)","v":""},{"$f":"#REF!","v":{"$error":"#REF!"}},{"$f":"陸連登録!B28","v":0},null,"",null,null,"","",null,"",null,null,"","",null,null,null,null,null,null,null,null,null,null,null,null,"","","A 砲丸投",{"$f":"COUNTIF($P$7:$P$116,53)+COUNTIF($V$7:$V$116,53)","v":0},53,3000,"11.20.00",null,null,null,null,0,null,null,null,null,0,"",""]
[null,{"$f":"陸連登録!N29","v":0},null,null,{"$f":"陸連登録!M29","v":0},{"$f":"陸連登録!C29","v":0},{"$f":"陸連登録!D29","v":0},0,{"$f":"陸連登録!A29","v":""},{"$f":"陸連登録!P29","v":0},{"$f":"LEFT(陸連登録!L29,4)","v":""},{"$f":"RIGHT(陸連登録!L29,4)","v":""},{"$f":"#REF!","v":{"$error":"#REF!"}},{"$f":"陸連登録!B29","v":0},null,"",null,null,"","",null,"",null,null,"","",null,null,null,null,null,null,null,null,null,null,null,null,"","","B 100m",{"$f":"COUNTIF($P$7:$P$116,40)+COUNTIF($V$7:$V$116,40)","v":0},40,"100H","17.50",null,null,null,null,0,null,null,null,null,0,"",""]
[null,{"$f":"陸連登録!N30","v":0},null,null,{"$f":"陸連登録!M30","v":0},{"$f":"陸連登録!C30","v":0},{"$f":"陸連登録!D30","v":0},0,{"$f":"陸連登録!A30","v":""},{"$f":"陸連登録!P30","v":0},{"$f":"LEFT(陸連登録!L30,4)","v":""},{"$f":"RIGHT(陸連登録!L30,4)","v":""},{"$f":"#REF!","v":{"$error":"#REF!"}},{"$f":"陸連登録!B30","v":0},null,"",null,null,"","",null,"",null,null,"","",{"$f":"IF(X35=\"\",\"\",IF(I35=1,VLOOKUP(X35,男子種目コード!$J$2:$K$30,2,FALSE),IF(I35=2,VLOOKUP(X35,女子種目コード!$J$2:$K$28,2,FALSE))))","v":""},null,null,{"$f":"IF(AC35=\"\",\"\",IF(I35=1,VLOOKUP(AC35,男子種目コード!$J$2:$K$30,2,FALSE),IF(I35=2,VLOOKUP(AC35,女子種目コード!$J$2:$K$28,2,FALSE))))","v":""},null,null,{"$f":"IF(AF35=\"\",\"\",IF(I35=1,VLOOKUP(AF35,男子種目コード!$J$2:$K$30,2,FALSE),IF(I35=2,VLOOKUP(AF35,女子種目コード!$J$2:$K$28,2,FALSE))))","v":""},null,null,null,null,null,"","","B 1500m",{"$f":"COUNTIF($P$7:$P$116,41)+COUNTIF($V$7:$V$116,41)","v":0},41,"走高跳","1m35",null,null,null,null,0,null,null,null,null,0,"",""]
[null,{"$f":"陸連登録!N31","v":0},null,null,{"$f":"陸連登録!M31","v":0},{"$f":"陸連登録!C31","v":0},{"$f":"陸連登録!D31","v":0},0,{"$f":"陸連登録!A31","v":""},{"$f":"陸連登録!P31","v":0},{"$f":"LEFT(陸連登録!L31,4)","v":""},{"$f":"RIGHT(陸連登録!L31,4)","v":""},{"$f":"#REF!","v":{"$error":"#REF!"}},{"$f":"陸連登録!B31","v":0},null,"",null,null,"","",null,"",null,null,"","",{"$f":"IF(X36=\"\",\"\",IF(I36=1,VLOOKUP(X36,男子種目コード!$J$2:$K$30,2,FALSE),IF(I36=2,VLOOKUP(X36,女子種目コード!$J$2:$K$28,2,FALSE))))","v":""},null,null,{"$f":"IF(AC36=\"\",\"\",IF(I36=1,VLOOKUP(AC36,男子種目コード!$J$2:$K$30,2,FALSE),IF(I36=2,VLOOKUP(AC36,女子種目コード!$J$2:$K$28,2,FALSE))))","v":""},null,null,{"$f":"IF(AF36=\"\",\"\",IF(I36=1,VLOOKUP(AF36,男子種目コード!$J$2:$K$30,2,FALSE),IF(I36=2,VLOOKUP(AF36,女子種目コード!$J$2:$K$28,2,FALSE))))","v":""},null,null,null,null,null,"","","B 100mMH",{"$f":"COUNTIF($P$7:$P$116,42)+COUNTIF($V$7:$V$116,42)","v":0},42,"砲丸投","4k  7m00",null,null,null,null,0,null,null,null,null,0,"",""]
[null,{"$f":"陸連登録!N32","v":0},null,null,{"$f":"陸連登録!M32","v":0},{"$f":"陸連登録!C32","v":0},{"$f":"陸連登録!D32","v":0},0,{"$f":"陸連登録!A32","v":""},{"$f":"陸連登録!P32","v":0},{"$f":"LEFT(陸連登録!L32,4)","v":""},{"$f":"RIGHT(陸連登録!L32,4)","v":""},{"$f":"#REF!","v":{"$error":"#REF!"}},{"$f":"陸連登録!B32","v":0},null,"",null,null,"","",null,"",null,null,"","",{"$f":"IF(X37=\"\",\"\",IF(I37=1,VLOOKUP(X37,男子種目コード!$J$2:$K$30,2,FALSE),IF(I37=2,VLOOKUP(X37,女子種目コード!$J$2:$K$28,2,FALSE))))","v":""},null,null,{"$f":"IF(AC37=\"\",\"\",IF(I37=1,VLOOKUP(AC37,男子種目コード!$J$2:$K$30,2,FALSE),IF(I37=2,VLOOKUP(AC37,女子種目コード!$J$2:$K$28,2,FALSE))))","v":""},null,null,{"$f":"IF(AF37=\"\",\"\",IF(I37=1,VLOOKUP(AF37,男子種目コード!$J$2:$K$30,2,FALSE),IF(I37=2,VLOOKUP(AF37,女子種目コード!$J$2:$K$28,2,FALSE))))","v":""},null,null,null,null,null,"","","B 走幅跳",{"$f":"COUNTIF($P$7:$P$116,44)+COUNTIF($V$7:$V$116,44)","v":0},44,null,"2.7k 9m50",null,null,null,null,0,null,null,null,null,0,"",""]
[null,{"$f":"陸連登録!N33","v":0},null,null,{"$f":"陸連登録!M33","v":0},{"$f":"陸連登録!C33","v":0},{"$f":"陸連登録!D33","v":0},0,{"$f":"陸連登録!A33","v":""},{"$f":"陸連登録!P33","v":0},{"$f":"LEFT(陸連登録!L33,4)","v":""},{"$f":"RIGHT(陸連登録!L33,4)","v":""},{"$f":"#REF!","v":{"$error":"#REF!"}},{"$f":"陸連登録!B33","v":0},null,"",null,null,"","",null,"",null,null,"","",{"$f":"IF(X38=\"\",\"\",IF(I38=1,VLOOKUP(X38,男子種目コード!$J$2:$K$30,2,FALSE),IF(I38=2,VLOOKUP(X38,女子種目コード!$J$2:$K$28,2,FALSE))))","v":""},null,null,{"$f":"IF(AC38=\"\",\"\",IF(I38=1,VLOOKUP(AC38,男子種目コード!$J$2:$K$30,2,FALSE),IF(I38=2,VLOOKUP(AC38,女子種目コード!$J$2:$K$28,2,FALSE))))","v":""},null,null,{"$f":"IF(AF38=\"\",\"\",IF(I38=1,VLOOKUP(AF38,男子種目コード!$J$2:$K$30,2,FALSE),IF(I38=2,VLOOKUP(AF38,女子種目コード!$J$2:$K$28,2,FALSE))))","v":""},null,null,null,null,null,"","","B 砲丸投",{"$f":"COUNTIF($P$7:$P$116,45)+COUNTIF($V$7:$V$116,45)","v":0},45,"円盤投","23m00",null,null,null,null,0,null,null,null,null,0,"",""]
[null,{"$f":"陸連登録!N34","v":0},null,null,{"$f":"陸連登録!M34","v":0},{"$f":"陸連登録!C34","v":0},{"$f":"陸連登録!D34","v":0},0,{"$f":"陸連登録!A34","v":""},{"$f":"陸連登録!P34","v":0},{"$f":"LEFT(陸連登録!L34,4)","v":""},{"$f":"RIGHT(陸連登録!L34,4)","v":""},{"$f":"#REF!","v":{"$error":"#REF!"}},{"$f":"陸連登録!B34","v":0},null,{"$f":"IF(O39=\"\",\"\",IF(I39=1,VLOOKUP(O39,$AO$8:$AQ$25,3,FALSE),IF(I39=2,VLOOKUP(O39,$AO$28:$AQ$45,3,FALSE))))","v":""},null,null,"","",null,{"$f":"IF(U39=\"\",\"\",IF(I39=1,VLOOKUP(U39,$AO$8:$AQ$25,3,FALSE),IF(I39=2,VLOOKUP(U39,$AO$28:$AQ$45,3,FALSE))))","v":""},null,null,"","",{"$f":"IF(X39=\"\",\"\",IF(I39=1,VLOOKUP(X39,男子種目コード!$J$2:$K$30,2,FALSE),IF(I39=2,VLOOKUP(X39,女子種目コード!$J$2:$K$28,2,FALSE))))","v":""},null,null,{"$f":"IF(AC39=\"\",\"\",IF(I39=1,VLOOKUP(AC39,男子種目コード!$J$2:$K$30,2,FALSE),IF(I39=2,VLOOKUP(AC39,女子種目コード!$J$2:$K$28,2,FALSE))))","v":""},null,null,{"$f":"IF(AF39=\"\",\"\",IF(I39=1,VLOOKUP(AF39,男子種目コード!$J$2:$K$30,2,FALSE),IF(I39=2,VLOOKUP(AF39,女子種目コード!$J$2:$K$28,2,FALSE))))","v":""},null,null,null,null,null,"","","C 100m",{"$f":"COUNTIF($P$7:$P$116,46)+COUNTIF($V$7:$V$116,46)","v":0},46,"ｼﾞｬﾍﾞﾘｯｸ","28m00",null,null,null,null,{"$f":"IF(OR(AM39=1,U39=\"\"),0,1)","v":0},null,null,null,null,{"$f":"COUNT(P39,V39,AA39)","v":0},{"$f":"IF(I39=1,BC39,\"\")","v":""},{"$f":"IF(I39=2,BC39,\"\")","v":""}]
[null,{"$f":"陸連登録!N35","v":0},null,null,{"$f":"陸連登録!M35","v":0},{"$f":"陸連登録!C35","v":0},{"$f":"陸連登録!D35","v":0},0,{"$f":"陸連登録!A35","v":""},{"$f":"陸連登録!P35","v":0},{"$f":"LEFT(陸連登録!L35,4)","v":""},{"$f":"RIGHT(陸連登録!L35,4)","v":""},{"$f":"#REF!","v":{"$error":"#REF!"}},{"$f":"陸連登録!B35","v":0},null,"",null,null,"","",null,"",null,null,"","",{"$f":"IF(X40=\"\",\"\",IF(I40=1,VLOOKUP(X40,男子種目コード!$J$2:$K$30,2,FALSE),IF(I40=2,VLOOKUP(X40,女子種目コード!$J$2:$K$28,2,FALSE))))","v":""},null,null,{"$f":"IF(AC40=\"\",\"\",IF(I40=1,VLOOKUP(AC40,男子種目コード!$J$2:$K$30,2,FALSE),IF(I40=2,VLOOKUP(AC40,女子種目コード!$J$2:$K$28,2,FALSE))))","v":""},null,null,{"$f":"IF(AF40=\"\",\"\",IF(I40=1,VLOOKUP(AF40,男子種目コード!$J$2:$K$30,2,FALSE),IF(I40=2,VLOOKUP(AF40,女子種目コード!$J$2:$K$28,2,FALSE))))","v":""},null,null,null,null,null,"","","C 800m",{"$f":"COUNTIF($P$7:$P$116,52)+COUNTIF($V$7:$V$116,52)","v":0},52,"女子B(2年）",null,null,null,null,null,0,null,null,null,null,0,"",""]
[null,{"$f":"陸連登録!N36","v":0},null,null,{"$f":"陸連登録!M36","v":0},{"$f":"陸連登録!C36","v":0},{"$f":"陸連登録!D36","v":0},0,{"$f":"陸連登録!A36","v":""},{"$f":"陸連登録!P36","v":0},{"$f":"LEFT(陸連登録!L36,4)","v":""},{"$f":"RIGHT(陸連登録!L36,4)","v":""},{"$f":"#REF!","v":{"$error":"#REF!"}},{"$f":"陸連登録!B36","v":0},null,"",null,null,"","",null,"",null,null,"","",{"$f":"IF(X41=\"\",\"\",IF(I41=1,VLOOKUP(X41,男子種目コード!$J$2:$K$30,2,FALSE),IF(I41=2,VLOOKUP(X41,女子種目コード!$J$2:$K$28,2,FALSE))))","v":""},null,null,{"$f":"IF(AC41=\"\",\"\",IF(I41=1,VLOOKUP(AC41,男子種目コード!$J$2:$K$30,2,FALSE),IF(I41=2,VLOOKUP(AC41,女子種目コード!$J$2:$K$28,2,FALSE))))","v":""},null,null,{"$f":"IF(AF41=\"\",\"\",IF(I41=1,VLOOKUP(AF41,男子種目コード!$J$2:$K$30,2,FALSE),IF(I41=2,VLOOKUP(AF41,女子種目コード!$J$2:$K$28,2,FALSE))))","v":""},null,null,null,null,null,"","","C 100mH",{"$f":"COUNTIF($P$7:$P$116,54)+COUNTIF($V$7:$V$116,54)","v":0},54,100,"13.70",null,null,null,null,0,null,null,null,null,0,"",""]
[null,{"$f":"陸連登録!N37","v":0},null,null,{"$f":"陸連登録!M37","v":0},{"$f":"陸連登録!C37","v":0},{"$f":"陸連登録!D37","v":0},0,{"$f":"陸連登録!A37","v":""},{"$f":"陸連登録!P37","v":0},{"$f":"LEFT(陸連登録!L37,4)","v":""},{"$f":"RIGHT(陸連登録!L37,4)","v":""},{"$f":"#REF!","v":{"$error":"#REF!"}},{"$f":"陸連登録!B37","v":0},null,"",null,null,"","",null,"",null,null,"","",{"$f":"IF(X42=\"\",\"\",IF(I42=1,VLOOKUP(X42,男子種目コード!$J$2:$K$30,2,FALSE),IF(I42=2,VLOOKUP(X42,女子種目コード!$J$2:$K$28,2,FALSE))))","v":""},null,null,{"$f":"IF(AC42=\"\",\"\",IF(I42=1,VLOOKUP(AC42,男子種目コード!$J$2:$K$30,2,FALSE),IF(I42=2,VLOOKUP(AC42,女子種目コード!$J$2:$K$28,2,FALSE))))","v":""},null,null,{"$f":"IF(AF42=\"\",\"\",IF(I42=1,VLOOKUP(AF42,男子種目コード!$J$2:$K$30,2,FALSE),IF(I42=2,VLOOKUP(AF42,女子種目コード!$J$2:$K$28,2,FALSE))))","v":""},null,null,null,null,null,"","","C 走幅跳",{"$f":"COUNTIF($P$7:$P$116,48)+COUNTIF($V$7:$V$116,48)","v":0},48,1500,"5.30.00",null,null,null,null,0,null,null,null,null,0,"",""]
[null,{"$f":"陸連登録!N38","v":0},null,null,{"$f":"陸連登録!M38","v":0},{"$f":"陸連登録!C38","v":0},{"$f":"陸連登録!D38","v":0},0,{"$f":"陸連登録!A38","v":""},{"$f":"陸連登録!P38","v":0},{"$f":"LEFT(陸連登録!L38,4)","v":""},{"$f":"RIGHT(陸連登録!L38,4)","v":""},{"$f":"#REF!","v":{"$error":"#REF!"}},{"$f":"陸連登録!B38","v":0},null,"",null,null,"","",null,"",null,null,"","",{"$f":"IF(X43=\"\",\"\",IF(I43=1,VLOOKUP(X43,男子種目コード!$J$2:$K$30,2,FALSE),IF(I43=2,VLOOKUP(X43,女子種目コード!$J$2:$K$28,2,FALSE))))","v":""},null,null,{"$f":"IF(AC43=\"\",\"\",IF(I43=1,VLOOKUP(AC43,男子種目コード!$J$2:$K$30,2,FALSE),IF(I43=2,VLOOKUP(AC43,女子種目コード!$J$2:$K$28,2,FALSE))))","v":""},null,null,{"$f":"IF(AF43=\"\",\"\",IF(I43=1,VLOOKUP(AF43,男子種目コード!$J$2:$K$30,2,FALSE),IF(I43=2,VLOOKUP(AF43,女子種目コード!$J$2:$K$28,2,FALSE))))","v":""},null,null,null,null,null,"","","C 砲丸投",{"$f":"COUNTIF($P$7:$P$116,55)+COUNTIF($V$7:$V$116,55)","v":0},55,"100H","19.00",null,null,null,null,0,null,null,null,null,0,"",""]
[null,{"$f":"陸連登録!N39","v":0},null,null,{"$f":"陸連登録!M39","v":0},{"$f":"陸連登録!C39","v":0},{"$f":"陸連登録!D39","v":0},0,{"$f":"陸連登録!A39","v":""},{"$f":"陸連登録!P39","v":0},{"$f":"LEFT(陸連登録!L39,4)","v":""},{"$f":"RIGHT(陸連登録!L39,4)","v":""},{"$f":"#REF!","v":{"$error":"#REF!"}},{"$f":"陸連登録!B39","v":0},null,"",null,null,"","",null,"",null,null,"","",{"$f":"IF(X44=\"\",\"\",IF(I44=1,VLOOKUP(X44,男子種目コード!$J$2:$K$30,2,FALSE),IF(I44=2,VLOOKUP(X44,女子種目コード!$J$2:$K$28,2,FALSE))))","v":""},null,null,{"$f":"IF(AC44=\"\",\"\",IF(I44=1,VLOOKUP(AC44,男子種目コード!$J$2:$K$30,2,FALSE),IF(I44=2,VLOOKUP(AC44,女子種目コード!$J$2:$K$28,2,FALSE))))","v":""},null,null,{"$f":"IF(AF44=\"\",\"\",IF(I44=1,VLOOKUP(AF44,男子種目コード!$J$2:$K$30,2,FALSE),IF(I44=2,VLOOKUP(AF44,女子種目コード!$J$2:$K$28,2,FALSE))))","v":""},null,null,null,null,null,"","","AB共通円盤投",{"$f":"COUNTIF($P$7:$P$116,50)+COUNTIF($V$7:$V$116,50)","v":0},50,"走幅跳","4m30",null,null,null,null,0,null,null,null,null,0,"",""]
[null,{"$f":"陸連登録!N40","v":0},null,null,{"$f":"陸連登録!M40","v":0},{"$f":"陸連登録!C40","v":0},{"$f":"陸連登録!D40","v":0},0,{"$f":"陸連登録!A40","v":""},{"$f":"陸連登録!P40","v":0},{"$f":"LEFT(陸連登録!L40,4)","v":""},{"$f":"RIGHT(陸連登録!L40,4)","v":""},{"$f":"#REF!","v":{"$error":"#REF!"}},{"$f":"陸連登録!B40","v":0},null,"",null,null,"","",null,"",null,null,"","",{"$f":"IF(X45=\"\",\"\",IF(I45=1,VLOOKUP(X45,男子種目コード!$J$2:$K$30,2,FALSE),IF(I45=2,VLOOKUP(X45,女子種目コード!$J$2:$K$28,2,FALSE))))","v":""},null,null,{"$f":"IF(AC45=\"\",\"\",IF(I45=1,VLOOKUP(AC45,男子種目コード!$J$2:$K$30,2,FALSE),IF(I45=2,VLOOKUP(AC45,女子種目コード!$J$2:$K$28,2,FALSE))))","v":""},null,null,{"$f":"IF(AF45=\"\",\"\",IF(I45=1,VLOOKUP(AF45,男子種目コード!$J$2:$K$30,2,FALSE),IF(I45=2,VLOOKUP(AF45,女子種目コード!$J$2:$K$28,2,FALSE))))","v":""},null,null,null,null,null,"","","共通ジャベリック",{"$f":"COUNTIF($P$7:$P$116,51)+COUNTIF($V$7:$V$116,51)","v":0},51,"砲丸投","8m00",null,null,null,null,0,null,null,null,null,0,"",""]
[null,{"$f":"陸連登録!N41","v":0},null,null,{"$f":"陸連登録!M41","v":0},{"$f":"陸連登録!C41","v":0},{"$f":"陸連登録!D41","v":0},0,{"$f":"陸連登録!A41","v":""},{"$f":"陸連登録!P41","v":0},{"$f":"LEFT(陸連登録!L41,4)","v":""},{"$f":"RIGHT(陸連登録!L41,4)","v":""},{"$f":"#REF!","v":{"$error":"#REF!"}},{"$f":"陸連登録!B41","v":0},null,"",null,null,"","",null,"",null,null,"","",{"$f":"IF(X46=\"\",\"\",IF(I46=1,VLOOKUP(X46,男子種目コード!$J$2:$K$30,2,FALSE),IF(I46=2,VLOOKUP(X46,女子種目コード!$J$2:$K$28,2,FALSE))))","v":""},null,null,{"$f":"IF(AC46=\"\",\"\",IF(I46=1,VLOOKUP(AC46,男子種目コード!$J$2:$K$30,2,FALSE),IF(I46=2,VLOOKUP(AC46,女子種目コード!$J$2:$K$28,2,FALSE))))","v":""},null,null,{"$f":"IF(AF46=\"\",\"\",IF(I46=1,VLOOKUP(AF46,男子種目コード!$J$2:$K$30,2,FALSE),IF(I46=2,VLOOKUP(AF46,女子種目コード!$J$2:$K$28,2,FALSE))))","v":""},null,null,null,null,null,"","","計",{"$f":"SUM(AP28:AP45)","v":0},null,"円盤投","23m00",null,null,null,null,0,null,null,null,null,0,"",""]
[null,{"$f":"陸連登録!N42","v":0},null,null,{"$f":"陸連登録!M42","v":0},{"$f":"陸連登録!C42","v":0},{"$f":"陸連登録!D42","v":0},0,{"$f":"陸連登録!A42","v":""},{"$f":"陸連登録!P42","v":0},{"$f":"LEFT(陸連登録!L42,4)","v":""},{"$f":"RIGHT(陸連登録!L42,4)","v":""},{"$f":"#REF!","v":{"$error":"#REF!"}},{"$f":"陸連登録!B42","v":0},null,"",null,null,"","",null,"",null,null,"","",{"$f":"IF(X47=\"\",\"\",IF(I47=1,VLOOKUP(X47,男子種目コード!$J$2:$K$30,2,FALSE),IF(I47=2,VLOOKUP(X47,女子種目コード!$J$2:$K$28,2,FALSE))))","v":""},null,null,{"$f":"IF(AC47=\"\",\"\",IF(I47=1,VLOOKUP(AC47,男子種目コード!$J$2:$K$30,2,FALSE),IF(I47=2,VLOOKUP(AC47,女子種目コード!$J$2:$K$28,2,FALSE))))","v":""},null,null,{"$f":"IF(AF47=\"\",\"\",IF(I47=1,VLOOKUP(AF47,男子種目コード!$J$2:$K$30,2,FALSE),IF(I47=2,VLOOKUP(AF47,女子種目コード!$J$2:$K$28,2,FALSE))))","v":""},null,null,null,null,null,"","",null,null,null,"ｼﾞｬﾍﾞﾘｯｸ","28m00",null,null,null,null,0,null,null,null,null,0,"",""]
[null,{"$f":"陸連登録!N43","v":0},null,null,{"$f":"陸連登録!M43","v":0},{"$f":"陸連登録!C43","v":0},{"$f":"陸連登録!D43","v":0},0,{"$f":"陸連登録!A43","v":""},{"$f":"陸連登録!P43","v":0},{"$f":"LEFT(陸連登録!L43,4)","v":""},{"$f":"RIGHT(陸連登録!L43,4)","v":""},{"$f":"#REF!","v":{"$error":"#REF!"}},{"$f":"陸連登録!B43","v":0},null,"",null,null,"","",null,"",null,null,"","",{"$f":"IF(X48=\"\",\"\",IF(I48=1,VLOOKUP(X48,男子種目コード!$J$2:$K$30,2,FALSE),IF(I48=2,VLOOKUP(X48,女子種目コード!$J$2:$K$28,2,FALSE))))","v":""},null,null,{"$f":"IF(AC48=\"\",\"\",IF(I48=1,VLOOKUP(AC48,男子種目コード!$J$2:$K$30,2,FALSE),IF(I48=2,VLOOKUP(AC48,女子種目コード!$J$2:$K$28,2,FALSE))))","v":""},null,null,{"$f":"IF(AF48=\"\",\"\",IF(I48=1,VLOOKUP(AF48,男子種目コード!$J$2:$K$30,2,FALSE),IF(I48=2,VLOOKUP(AF48,女子種目コード!$J$2:$K$28,2,FALSE))))","v":""},null,null,null,null,null,"","",null,null,null,"女子C(1年）",null,null,null,null,null,0,null,null,null,null,0,"",""]
[null,{"$f":"陸連登録!N44","v":0},null,null,{"$f":"陸連登録!M44","v":0},{"$f":"陸連登録!C44","v":0},{"$f":"陸連登録!D44","v":0},0,{"$f":"陸連登録!A44","v":""},{"$f":"陸連登録!P44","v":0},{"$f":"LEFT(陸連登録!L44,4)","v":""},{"$f":"RIGHT(陸連登録!L44,4)","v":""},{"$f":"#REF!","v":{"$error":"#REF!"}},{"$f":"陸連登録!B44","v":0},null,"",null,null,"","",null,"",null,null,"","",{"$f":"IF(X49=\"\",\"\",IF(I49=1,VLOOKUP(X49,男子種目コード!$J$2:$K$30,2,FALSE),IF(I49=2,VLOOKUP(X49,女子種目コード!$J$2:$K$28,2,FALSE))))","v":""},null,null,{"$f":"IF(AC49=\"\",\"\",IF(I49=1,VLOOKUP(AC49,男子種目コード!$J$2:$K$30,2,FALSE),IF(I49=2,VLOOKUP(AC49,女子種目コード!$J$2:$K$28,2,FALSE))))","v":""},null,null,{"$f":"IF(AF49=\"\",\"\",IF(I49=1,VLOOKUP(AF49,男子種目コード!$J$2:$K$30,2,FALSE),IF(I49=2,VLOOKUP(AF49,女子種目コード!$J$2:$K$28,2,FALSE))))","v":""},null,null,null,null,null,"","",null,null,null,100,"14.20",null,null,null,null,0,null,null,null,null,0,"",""]
[null,{"$f":"陸連登録!N45","v":0},null,null,{"$f":"陸連登録!M45","v":0},{"$f":"陸連登録!C45","v":0},{"$f":"陸連登録!D45","v":0},0,{"$f":"陸連登録!A45","v":""},{"$f":"陸連登録!P45","v":0},{"$f":"LEFT(陸連登録!L45,4)","v":""},{"$f":"RIGHT(陸連登録!L45,4)","v":""},{"$f":"#REF!","v":{"$error":"#REF!"}},{"$f":"陸連登録!B45","v":0},null,"",null,null,"","",null,"",null,null,"","",{"$f":"IF(X50=\"\",\"\",IF(I50=1,VLOOKUP(X50,男子種目コード!$J$2:$K$30,2,FALSE),IF(I50=2,VLOOKUP(X50,女子種目コード!$J$2:$K$28,2,FALSE))))","v":""},null,null,{"$f":"IF(AC50=\"\",\"\",IF(I50=1,VLOOKUP(AC50,男子種目コード!$J$2:$K$30,2,FALSE),IF(I50=2,VLOOKUP(AC50,女子種目コード!$J$2:$K$28,2,FALSE))))","v":""},null,null,{"$f":"IF(AF50=\"\",\"\",IF(I50=1,VLOOKUP(AF50,男子種目コード!$J$2:$K$30,2,FALSE),IF(I50=2,VLOOKUP(AF50,女子種目コード!$J$2:$K$28,2,FALSE))))","v":""},null,null,null,null,null,"","",null,null,null,800,"2.45.00",null,null,null,null,0,null,null,null,null,0,"",""]
[null,{"$f":"陸連登録!N46","v":0},null,null,{"$f":"陸連登録!M46","v":0},{"$f":"陸連登録!C46","v":0},{"$f":"陸連登録!D46","v":0},0,{"$f":"陸連登録!A46","v":""},{"$f":"陸連登録!P46","v":0},{"$f":"LEFT(陸連登録!L46,4)","v":""},{"$f":"RIGHT(陸連登録!L46,4)","v":""},{"$f":"#REF!","v":{"$error":"#REF!"}},{"$f":"陸連登録!B46","v":0},null,"",null,null,"","",null,"",null,null,"","",{"$f":"IF(X51=\"\",\"\",IF(I51=1,VLOOKUP(X51,男子種目コード!$J$2:$K$30,2,FALSE),IF(I51=2,VLOOKUP(X51,女子種目コード!$J$2:$K$28,2,FALSE))))","v":""},null,null,{"$f":"IF(AC51=\"\",\"\",IF(I51=1,VLOOKUP(AC51,男子種目コード!$J$2:$K$30,2,FALSE),IF(I51=2,VLOOKUP(AC51,女子種目コード!$J$2:$K$28,2,FALSE))))","v":""},null,null,{"$f":"IF(AF51=\"\",\"\",IF(I51=1,VLOOKUP(AF51,男子種目コード!$J$2:$K$30,2,FALSE),IF(I51=2,VLOOKUP(AF51,女子種目コード!$J$2:$K$28,2,FALSE))))","v":""},null,null,null,null,null,"","",null,null,null,"走幅跳","4m00",null,null,null,null,0,null,null,null,null,0,"",""]
[null,{"$f":"陸連登録!N47","v":0},null,null,{"$f":"陸連登録!M47","v":0},{"$f":"陸連登録!C47","v":0},{"$f":"陸連登録!D47","v":0},0,{"$f":"陸連登録!A47","v":""},{"$f":"陸連登録!P47","v":0},{"$f":"LEFT(陸連登録!L47,4)","v":""},{"$f":"RIGHT(陸連登録!L47,4)","v":""},{"$f":"#REF!","v":{"$error":"#REF!"}},{"$f":"陸連登録!B47","v":0},null,"",null,null,"","",null,"",null,null,"","",{"$f":"IF(X52=\"\",\"\",IF(I52=1,VLOOKUP(X52,男子種目コード!$J$2:$K$30,2,FALSE),IF(I52=2,VLOOKUP(X52,女子種目コード!$J$2:$K$28,2,FALSE))))","v":""},null,null,{"$f":"IF(AC52=\"\",\"\",IF(I52=1,VLOOKUP(AC52,男子種目コード!$J$2:$K$30,2,FALSE),IF(I52=2,VLOOKUP(AC52,女子種目コード!$J$2:$K$28,2,FALSE))))","v":""},null,null,{"$f":"IF(AF52=\"\",\"\",IF(I52=1,VLOOKUP(AF52,男子種目コード!$J$2:$K$30,2,FALSE),IF(I52=2,VLOOKUP(AF52,女子種目コード!$J$2:$K$28,2,FALSE))))","v":""},null,null,null,null,null,"","",null,null,null,"ｼﾞｬﾍﾞﾘｯｸ","28m00",null,null,null,null,0,null,null,null,null,0,"",""]
[null,{"$f":"陸連登録!N48","v":0},null,null,{"$f":"陸連登録!M48","v":0},{"$f":"陸連登録!C48","v":0},{"$f":"陸連登録!D48","v":0},0,{"$f":"陸連登録!A48","v":""},{"$f":"陸連登録!P48","v":0},{"$f":"LEFT(陸連登録!L48,4)","v":""},{"$f":"RIGHT(陸連登録!L48,4)","v":""},{"$f":"#REF!","v":{"$error":"#REF!"}},{"$f":"陸連登録!B48","v":0},null,"",null,null,"","",null,"",null,null,"","",{"$f":"IF(X53=\"\",\"\",IF(I53=1,VLOOKUP(X53,男子種目コード!$J$2:$K$30,2,FALSE),IF(I53=2,VLOOKUP(X53,女子種目コード!$J$2:$K$28,2,FALSE))))","v":""},null,null,{"$f":"IF(AC53=\"\",\"\",IF(I53=1,VLOOKUP(AC53,男子種目コード!$J$2:$K$30,2,FALSE),IF(I53=2,VLOOKUP(AC53,女子種目コード!$J$2:$K$28,2,FALSE))))","v":""},null,null,{"$f":"IF(AF53=\"\",\"\",IF(I53=1,VLOOKUP(AF53,男子種目コード!$J$2:$K$30,2,FALSE),IF(I53=2,VLOOKUP(AF53,女子種目コード!$J$2:$K$28,2,FALSE))))","v":""},null,null,null,null,null,"","",null,null,null,null,null,null,null,null,null,0,null,null,null,null,0,"",""]
[null,{"$f":"陸連登録!N49","v":0},null,null,{"$f":"陸連登録!M49","v":0},{"$f":"陸連登録!C49","v":0},{"$f":"陸連登録!D49","v":0},0,{"$f":"陸連登録!A49","v":""},{"$f":"陸連登録!P49","v":0},{"$f":"LEFT(陸連登録!L49,4)","v":""},{"$f":"RIGHT(陸連登録!L49,4)","v":""},{"$f":"#REF!","v":{"$error":"#REF!"}},{"$f":"陸連登録!B49","v":0},null,"",null,null,"","",null,"",null,null,"","",{"$f":"IF(X54=\"\",\"\",IF(I54=1,VLOOKUP(X54,男子種目コード!$J$2:$K$30,2,FALSE),IF(I54=2,VLOOKUP(X54,女子種目コード!$J$2:$K$28,2,FALSE))))","v":""},null,null,{"$f":"IF(AC54=\"\",\"\",IF(I54=1,VLOOKUP(AC54,男子種目コード!$J$2:$K$30,2,FALSE),IF(I54=2,VLOOKUP(AC54,女子種目コード!$J$2:$K$28,2,FALSE))))","v":""},null,null,{"$f":"IF(AF54=\"\",\"\",IF(I54=1,VLOOKUP(AF54,男子種目コード!$J$2:$K$30,2,FALSE),IF(I54=2,VLOOKUP(AF54,女子種目コード!$J$2:$K$28,2,FALSE))))","v":""},null,null,null,null,null,"","",null,null,null,null,null,null,null,null,null,0,null,null,null,null,0,"",""]
[null,{"$f":"陸連登録!N50","v":0},null,null,{"$f":"陸連登録!M50","v":0},{"$f":"陸連登録!C50","v":0},{"$f":"陸連登録!D50","v":0},0,{"$f":"陸連登録!A50","v":""},{"$f":"陸連登録!P50","v":0},{"$f":"LEFT(陸連登録!L50,4)","v":""},{"$f":"RIGHT(陸連登録!L50,4)","v":""},{"$f":"#REF!","v":{"$error":"#REF!"}},{"$f":"陸連登録!B50","v":0},null,"",null,null,"","",null,"",null,null,"","",{"$f":"IF(X55=\"\",\"\",IF(I55=1,VLOOKUP(X55,男子種目コード!$J$2:$K$30,2,FALSE),IF(I55=2,VLOOKUP(X55,女子種目コード!$J$2:$K$28,2,FALSE))))","v":""},null,null,{"$f":"IF(AC55=\"\",\"\",IF(I55=1,VLOOKUP(AC55,男子種目コード!$J$2:$K$30,2,FALSE),IF(I55=2,VLOOKUP(AC55,女子種目コード!$J$2:$K$28,2,FALSE))))","v":""},null,null,{"$f":"IF(AF55=\"\",\"\",IF(I55=1,VLOOKUP(AF55,男子種目コード!$J$2:$K$30,2,FALSE),IF(I55=2,VLOOKUP(AF55,女子種目コード!$J$2:$K$28,2,FALSE))))","v":""},null,null,null,null,null,"","",null,null,null,null,null,null,null,null,null,0,null,null,null,null,0,"",""]
[null,{"$f":"陸連登録!N51","v":0},null,null,{"$f":"陸連登録!M51","v":0},{"$f":"陸連登録!C51","v":0},{"$f":"陸連登録!D51","v":0},0,{"$f":"陸連登録!A51","v":""},{"$f":"陸連登録!P51","v":0},{"$f":"LEFT(陸連登録!L51,4)","v":""},{"$f":"RIGHT(陸連登録!L51,4)","v":""},{"$f":"#REF!","v":{"$error":"#REF!"}},{"$f":"陸連登録!B51","v":0},null,"",null,null,"","",null,"",null,null,"","",{"$f":"IF(X56=\"\",\"\",IF(I56=1,VLOOKUP(X56,男子種目コード!$J$2:$K$30,2,FALSE),IF(I56=2,VLOOKUP(X56,女子種目コード!$J$2:$K$28,2,FALSE))))","v":""},null,null,{"$f":"IF(AC56=\"\",\"\",IF(I56=1,VLOOKUP(AC56,男子種目コード!$J$2:$K$30,2,FALSE),IF(I56=2,VLOOKUP(AC56,女子種目コード!$J$2:$K$28,2,FALSE))))","v":""},null,null,{"$f":"IF(AF56=\"\",\"\",IF(I56=1,VLOOKUP(AF56,男子種目コード!$J$2:$K$30,2,FALSE),IF(I56=2,VLOOKUP(AF56,女子種目コード!$J$2:$K$28,2,FALSE))))","v":""},null,null,null,null,null,"","",null,null,null,null,null,null,null,null,null,0,null,null,null,null,0,"",""]
[null,{"$f":"陸連登録!N52","v":0},null,null,{"$f":"陸連登録!M52","v":0},{"$f":"陸連登録!C52","v":0},{"$f":"陸連登録!D52","v":0},0,{"$f":"陸連登録!A52","v":""},{"$f":"陸連登録!P52","v":0},{"$f":"LEFT(陸連登録!L52,4)","v":""},{"$f":"RIGHT(陸連登録!L52,4)","v":""},{"$f":"#REF!","v":{"$error":"#REF!"}},{"$f":"陸連登録!B52","v":0},null,"",null,null,"","",null,"",null,null,"","",{"$f":"IF(X57=\"\",\"\",IF(I57=1,VLOOKUP(X57,男子種目コード!$J$2:$K$30,2,FALSE),IF(I57=2,VLOOKUP(X57,女子種目コード!$J$2:$K$28,2,FALSE))))","v":""},null,null,{"$f":"IF(AC57=\"\",\"\",IF(I57=1,VLOOKUP(AC57,男子種目コード!$J$2:$K$30,2,FALSE),IF(I57=2,VLOOKUP(AC57,女子種目コード!$J$2:$K$28,2,FALSE))))","v":""},null,null,{"$f":"IF(AF57=\"\",\"\",IF(I57=1,VLOOKUP(AF57,男子種目コード!$J$2:$K$30,2,FALSE),IF(I57=2,VLOOKUP(AF57,女子種目コード!$J$2:$K$28,2,FALSE))))","v":""},null,null,null,null,null,"","",null,null,null,null,null,null,null,null,null,0,null,null,null,null,0,"",""]
[null,{"$f":"陸連登録!N53","v":0},null,null,{"$f":"陸連登録!M53","v":0},{"$f":"陸連登録!C53","v":0},{"$f":"陸連登録!D53","v":0},0,{"$f":"陸連登録!A53","v":""},{"$f":"陸連登録!P53","v":0},{"$f":"LEFT(陸連登録!L53,4)","v":""},{"$f":"RIGHT(陸連登録!L53,4)","v":""},{"$f":"#REF!","v":{"$error":"#REF!"}},{"$f":"陸連登録!B53","v":0},null,"",null,null,"","",null,"",null,null,"","",{"$f":"IF(X58=\"\",\"\",IF(I58=1,VLOOKUP(X58,男子種目コード!$J$2:$K$30,2,FALSE),IF(I58=2,VLOOKUP(X58,女子種目コード!$J$2:$K$28,2,FALSE))))","v":""},null,null,{"$f":"IF(AC58=\"\",\"\",IF(I58=1,VLOOKUP(AC58,男子種目コード!$J$2:$K$30,2,FALSE),IF(I58=2,VLOOKUP(AC58,女子種目コード!$J$2:$K$28,2,FALSE))))","v":""},null,null,{"$f":"IF(AF58=\"\",\"\",IF(I58=1,VLOOKUP(AF58,男子種目コード!$J$2:$K$30,2,FALSE),IF(I58=2,VLOOKUP(AF58,女子種目コード!$J$2:$K$28,2,FALSE))))","v":""},null,null,null,null,null,"","",null,null,null,null,null,null,null,null,null,0,null,null,null,null,0,"",""]
[null,{"$f":"陸連登録!N54","v":0},null,null,{"$f":"陸連登録!M54","v":0},{"$f":"陸連登録!C54","v":0},{"$f":"陸連登録!D54","v":0},0,{"$f":"陸連登録!A54","v":""},{"$f":"陸連登録!P54","v":0},{"$f":"LEFT(陸連登録!L54,4)","v":""},{"$f":"RIGHT(陸連登録!L54,4)","v":""},{"$f":"#REF!","v":{"$error":"#REF!"}},{"$f":"陸連登録!B54","v":0},null,"",null,null,"","",null,"",null,null,"","",{"$f":"IF(X59=\"\",\"\",IF(I59=1,VLOOKUP(X59,男子種目コード!$J$2:$K$30,2,FALSE),IF(I59=2,VLOOKUP(X59,女子種目コード!$J$2:$K$28,2,FALSE))))","v":""},null,null,{"$f":"IF(AC59=\"\",\"\",IF(I59=1,VLOOKUP(AC59,男子種目コード!$J$2:$K$30,2,FALSE),IF(I59=2,VLOOKUP(AC59,女子種目コード!$J$2:$K$28,2,FALSE))))","v":""},null,null,{"$f":"IF(AF59=\"\",\"\",IF(I59=1,VLOOKUP(AF59,男子種目コード!$J$2:$K$30,2,FALSE),IF(I59=2,VLOOKUP(AF59,女子種目コード!$J$2:$K$28,2,FALSE))))","v":""},null,null,null,null,null,"","",null,null,null,null,null,null,null,null,null,0,null,null,null,null,0,"",""]
[null,{"$f":"陸連登録!N55","v":0},null,null,{"$f":"陸連登録!M55","v":0},{"$f":"陸連登録!C55","v":0},{"$f":"陸連登録!D55","v":0},0,{"$f":"陸連登録!A55","v":""},{"$f":"陸連登録!P55","v":0},{"$f":"LEFT(陸連登録!L55,4)","v":""},{"$f":"RIGHT(陸連登録!L55,4)","v":""},{"$f":"#REF!","v":{"$error":"#REF!"}},{"$f":"陸連登録!B55","v":0},null,"",null,null,"","",null,"",null,null,"","",{"$f":"IF(X60=\"\",\"\",IF(I60=1,VLOOKUP(X60,男子種目コード!$J$2:$K$30,2,FALSE),IF(I60=2,VLOOKUP(X60,女子種目コード!$J$2:$K$28,2,FALSE))))","v":""},null,null,{"$f":"IF(AC60=\"\",\"\",IF(I60=1,VLOOKUP(AC60,男子種目コード!$J$2:$K$30,2,FALSE),IF(I60=2,VLOOKUP(AC60,女子種目コード!$J$2:$K$28,2,FALSE))))","v":""},null,null,{"$f":"IF(AF60=\"\",\"\",IF(I60=1,VLOOKUP(AF60,男子種目コード!$J$2:$K$30,2,FALSE),IF(I60=2,VLOOKUP(AF60,女子種目コード!$J$2:$K$28,2,FALSE))))","v":""},null,null,null,null,null,"","",null,null,null,null,null,null,null,null,null,0,null,null,null,null,0,"",""]
[null,{"$f":"陸連登録!N56","v":0},null,null,{"$f":"陸連登録!M56","v":0},{"$f":"陸連登録!C56","v":0},{"$f":"陸連登録!D56","v":0},0,{"$f":"陸連登録!A56","v":""},{"$f":"陸連登録!P56","v":0},{"$f":"LEFT(陸連登録!L56,4)","v":""},{"$f":"RIGHT(陸連登録!L56,4)","v":""},{"$f":"#REF!","v":{"$error":"#REF!"}},{"$f":"陸連登録!B56","v":0},null,"",null,null,"","",null,"",null,null,"","",{"$f":"IF(X61=\"\",\"\",IF(I61=1,VLOOKUP(X61,男子種目コード!$J$2:$K$30,2,FALSE),IF(I61=2,VLOOKUP(X61,女子種目コード!$J$2:$K$28,2,FALSE))))","v":""},null,null,{"$f":"IF(AC61=\"\",\"\",IF(I61=1,VLOOKUP(AC61,男子種目コード!$J$2:$K$30,2,FALSE),IF(I61=2,VLOOKUP(AC61,女子種目コード!$J$2:$K$28,2,FALSE))))","v":""},null,null,{"$f":"IF(AF61=\"\",\"\",IF(I61=1,VLOOKUP(AF61,男子種目コード!$J$2:$K$30,2,FALSE),IF(I61=2,VLOOKUP(AF61,女子種目コード!$J$2:$K$28,2,FALSE))))","v":""},null,null,null,null,null,"","",null,null,null,null,null,null,null,null,null,0,null,null,null,null,0,"",""]
[null,{"$f":"陸連登録!N57","v":0},null,null,{"$f":"陸連登録!M57","v":0},{"$f":"陸連登録!C57","v":0},{"$f":"陸連登録!D57","v":0},0,{"$f":"陸連登録!A57","v":""},{"$f":"陸連登録!P57","v":0},{"$f":"LEFT(陸連登録!L57,4)","v":""},{"$f":"RIGHT(陸連登録!L57,4)","v":""},{"$f":"#REF!","v":{"$error":"#REF!"}},{"$f":"陸連登録!B57","v":0},null,"",null,null,"","",null,"",null,null,"","",{"$f":"IF(X62=\"\",\"\",IF(I62=1,VLOOKUP(X62,男子種目コード!$J$2:$K$30,2,FALSE),IF(I62=2,VLOOKUP(X62,女子種目コード!$J$2:$K$28,2,FALSE))))","v":""},null,null,{"$f":"IF(AC62=\"\",\"\",IF(I62=1,VLOOKUP(AC62,男子種目コード!$J$2:$K$30,2,FALSE),IF(I62=2,VLOOKUP(AC62,女子種目コード!$J$2:$K$28,2,FALSE))))","v":""},null,null,{"$f":"IF(AF62=\"\",\"\",IF(I62=1,VLOOKUP(AF62,男子種目コード!$J$2:$K$30,2,FALSE),IF(I62=2,VLOOKUP(AF62,女子種目コード!$J$2:$K$28,2,FALSE))))","v":""},null,null,null,null,null,"","",null,null,null,null,null,null,null,null,null,0,null,null,null,null,0,"",""]
[null,{"$f":"陸連登録!N58","v":0},null,null,{"$f":"陸連登録!M58","v":0},{"$f":"陸連登録!C58","v":0},{"$f":"陸連登録!D58","v":0},0,{"$f":"陸連登録!A58","v":""},{"$f":"陸連登録!P58","v":0},{"$f":"LEFT(陸連登録!L58,4)","v":""},{"$f":"RIGHT(陸連登録!L58,4)","v":""},{"$f":"#REF!","v":{"$error":"#REF!"}},{"$f":"陸連登録!B58","v":0},null,"",null,null,"","",null,"",null,null,"","",{"$f":"IF(X63=\"\",\"\",IF(I63=1,VLOOKUP(X63,男子種目コード!$J$2:$K$30,2,FALSE),IF(I63=2,VLOOKUP(X63,女子種目コード!$J$2:$K$28,2,FALSE))))","v":""},null,null,{"$f":"IF(AC63=\"\",\"\",IF(I63=1,VLOOKUP(AC63,男子種目コード!$J$2:$K$30,2,FALSE),IF(I63=2,VLOOKUP(AC63,女子種目コード!$J$2:$K$28,2,FALSE))))","v":""},null,null,{"$f":"IF(AF63=\"\",\"\",IF(I63=1,VLOOKUP(AF63,男子種目コード!$J$2:$K$30,2,FALSE),IF(I63=2,VLOOKUP(AF63,女子種目コード!$J$2:$K$28,2,FALSE))))","v":""},null,null,null,null,null,"","",null,null,null,null,null,null,null,null,null,0,null,null,null,null,0,"",""]
[null,{"$f":"陸連登録!N59","v":0},null,null,{"$f":"陸連登録!M59","v":0},{"$f":"陸連登録!C59","v":0},{"$f":"陸連登録!D59","v":0},0,{"$f":"陸連登録!A59","v":""},{"$f":"陸連登録!P59","v":0},{"$f":"LEFT(陸連登録!L59,4)","v":""},{"$f":"RIGHT(陸連登録!L59,4)","v":""},{"$f":"#REF!","v":{"$error":"#REF!"}},{"$f":"陸連登録!B59","v":0},null,"",null,null,"","",null,"",null,null,"","",{"$f":"IF(X64=\"\",\"\",IF(I64=1,VLOOKUP(X64,男子種目コード!$J$2:$K$30,2,FALSE),IF(I64=2,VLOOKUP(X64,女子種目コード!$J$2:$K$28,2,FALSE))))","v":""},null,null,{"$f":"IF(AC64=\"\",\"\",IF(I64=1,VLOOKUP(AC64,男子種目コード!$J$2:$K$30,2,FALSE),IF(I64=2,VLOOKUP(AC64,女子種目コード!$J$2:$K$28,2,FALSE))))","v":""},null,null,{"$f":"IF(AF64=\"\",\"\",IF(I64=1,VLOOKUP(AF64,男子種目コード!$J$2:$K$30,2,FALSE),IF(I64=2,VLOOKUP(AF64,女子種目コード!$J$2:$K$28,2,FALSE))))","v":""},null,null,null,null,null,"","",null,null,null,null,null,null,null,null,null,0,null,null,null,null,0,"",""]
[null,{"$f":"陸連登録!N60","v":0},null,null,{"$f":"陸連登録!M60","v":0},{"$f":"陸連登録!C60","v":0},{"$f":"陸連登録!D60","v":0},0,{"$f":"陸連登録!A60","v":""},{"$f":"陸連登録!P60","v":0},{"$f":"LEFT(陸連登録!L60,4)","v":""},{"$f":"RIGHT(陸連登録!L60,4)","v":""},{"$f":"#REF!","v":{"$error":"#REF!"}},{"$f":"陸連登録!B60","v":0},null,"",null,null,"","",null,"",null,null,"","",{"$f":"IF(X65=\"\",\"\",IF(I65=1,VLOOKUP(X65,男子種目コード!$J$2:$K$30,2,FALSE),IF(I65=2,VLOOKUP(X65,女子種目コード!$J$2:$K$28,2,FALSE))))","v":""},null,null,{"$f":"IF(AC65=\"\",\"\",IF(I65=1,VLOOKUP(AC65,男子種目コード!$J$2:$K$30,2,FALSE),IF(I65=2,VLOOKUP(AC65,女子種目コード!$J$2:$K$28,2,FALSE))))","v":""},null,null,{"$f":"IF(AF65=\"\",\"\",IF(I65=1,VLOOKUP(AF65,男子種目コード!$J$2:$K$30,2,FALSE),IF(I65=2,VLOOKUP(AF65,女子種目コード!$J$2:$K$28,2,FALSE))))","v":""},null,null,null,null,null,"","",null,null,null,null,null,null,null,null,null,0,null,null,null,null,0,"",""]
[null,{"$f":"陸連登録!N61","v":0},null,null,{"$f":"陸連登録!M61","v":0},{"$f":"陸連登録!C61","v":0},{"$f":"陸連登録!D61","v":0},0,{"$f":"陸連登録!A61","v":""},{"$f":"陸連登録!P61","v":0},{"$f":"LEFT(陸連登録!L61,4)","v":""},{"$f":"RIGHT(陸連登録!L61,4)","v":""},{"$f":"#REF!","v":{"$error":"#REF!"}},{"$f":"陸連登録!B61","v":0},null,"",null,null,"","",null,"",null,null,"","",{"$f":"IF(X66=\"\",\"\",IF(I66=1,VLOOKUP(X66,男子種目コード!$J$2:$K$30,2,FALSE),IF(I66=2,VLOOKUP(X66,女子種目コード!$J$2:$K$28,2,FALSE))))","v":""},null,null,{"$f":"IF(AC66=\"\",\"\",IF(I66=1,VLOOKUP(AC66,男子種目コード!$J$2:$K$30,2,FALSE),IF(I66=2,VLOOKUP(AC66,女子種目コード!$J$2:$K$28,2,FALSE))))","v":""},null,null,{"$f":"IF(AF66=\"\",\"\",IF(I66=1,VLOOKUP(AF66,男子種目コード!$J$2:$K$30,2,FALSE),IF(I66=2,VLOOKUP(AF66,女子種目コード!$J$2:$K$28,2,FALSE))))","v":""},null,null,null,null,null,"","",null,null,null,null,null,null,null,null,null,0,null,null,null,null,0,"",""]
[null,{"$f":"陸連登録!N62","v":0},null,null,{"$f":"陸連登録!M62","v":0},{"$f":"陸連登録!C62","v":0},{"$f":"陸連登録!D62","v":0},0,{"$f":"陸連登録!A62","v":""},{"$f":"陸連登録!P62","v":0},{"$f":"LEFT(陸連登録!L62,4)","v":""},{"$f":"RIGHT(陸連登録!L62,4)","v":""},{"$f":"#REF!","v":{"$error":"#REF!"}},{"$f":"陸連登録!B62","v":0},null,"",null,null,"","",null,"",null,null,"","",{"$f":"IF(X67=\"\",\"\",IF(I67=1,VLOOKUP(X67,男子種目コード!$J$2:$K$30,2,FALSE),IF(I67=2,VLOOKUP(X67,女子種目コード!$J$2:$K$28,2,FALSE))))","v":""},null,null,{"$f":"IF(AC67=\"\",\"\",IF(I67=1,VLOOKUP(AC67,男子種目コード!$J$2:$K$30,2,FALSE),IF(I67=2,VLOOKUP(AC67,女子種目コード!$J$2:$K$28,2,FALSE))))","v":""},null,null,{"$f":"IF(AF67=\"\",\"\",IF(I67=1,VLOOKUP(AF67,男子種目コード!$J$2:$K$30,2,FALSE),IF(I67=2,VLOOKUP(AF67,女子種目コード!$J$2:$K$28,2,FALSE))))","v":""},null,null,null,null,null,"","",null,null,null,null,null,null,null,null,null,0,null,null,null,null,0,"",""]
[null,{"$f":"陸連登録!N63","v":0},null,null,{"$f":"陸連登録!M63","v":0},{"$f":"陸連登録!C63","v":0},{"$f":"陸連登録!D63","v":0},0,{"$f":"陸連登録!A63","v":""},{"$f":"陸連登録!P63","v":0},{"$f":"LEFT(陸連登録!L63,4)","v":""},{"$f":"RIGHT(陸連登録!L63,4)","v":""},{"$f":"#REF!","v":{"$error":"#REF!"}},{"$f":"陸連登録!B63","v":0},null,"",null,null,"","",null,"",null,null,"","",{"$f":"IF(X68=\"\",\"\",IF(I68=1,VLOOKUP(X68,男子種目コード!$J$2:$K$30,2,FALSE),IF(I68=2,VLOOKUP(X68,女子種目コード!$J$2:$K$28,2,FALSE))))","v":""},null,null,{"$f":"IF(AC68=\"\",\"\",IF(I68=1,VLOOKUP(AC68,男子種目コード!$J$2:$K$30,2,FALSE),IF(I68=2,VLOOKUP(AC68,女子種目コード!$J$2:$K$28,2,FALSE))))","v":""},null,null,{"$f":"IF(AF68=\"\",\"\",IF(I68=1,VLOOKUP(AF68,男子種目コード!$J$2:$K$30,2,FALSE),IF(I68=2,VLOOKUP(AF68,女子種目コード!$J$2:$K$28,2,FALSE))))","v":""},null,null,null,null,null,"","",null,null,null,null,null,null,null,null,null,0,null,null,null,null,0,"",""]
[null,{"$f":"陸連登録!N64","v":0},null,null,{"$f":"陸連登録!M64","v":0},{"$f":"陸連登録!C64","v":0},{"$f":"陸連登録!D64","v":0},0,{"$f":"陸連登録!A64","v":""},{"$f":"陸連登録!P64","v":0},{"$f":"LEFT(陸連登録!L64,4)","v":""},{"$f":"RIGHT(陸連登録!L64,4)","v":""},{"$f":"#REF!","v":{"$error":"#REF!"}},{"$f":"陸連登録!B64","v":0},null,"",null,null,"","",null,"",null,null,"","",{"$f":"IF(X69=\"\",\"\",IF(I69=1,VLOOKUP(X69,男子種目コード!$J$2:$K$30,2,FALSE),IF(I69=2,VLOOKUP(X69,女子種目コード!$J$2:$K$28,2,FALSE))))","v":""},null,null,{"$f":"IF(AC69=\"\",\"\",IF(I69=1,VLOOKUP(AC69,男子種目コード!$J$2:$K$30,2,FALSE),IF(I69=2,VLOOKUP(AC69,女子種目コード!$J$2:$K$28,2,FALSE))))","v":""},null,null,{"$f":"IF(AF69=\"\",\"\",IF(I69=1,VLOOKUP(AF69,男子種目コード!$J$2:$K$30,2,FALSE),IF(I69=2,VLOOKUP(AF69,女子種目コード!$J$2:$K$28,2,FALSE))))","v":""},null,null,null,null,null,"","",null,null,null,null,null,null,null,null,null,0,null,null,null,null,0,"",""]
[null,{"$f":"陸連登録!N65","v":0},null,null,{"$f":"陸連登録!M65","v":0},{"$f":"陸連登録!C65","v":0},{"$f":"陸連登録!D65","v":0},0,{"$f":"陸連登録!A65","v":""},{"$f":"陸連登録!P65","v":0},{"$f":"LEFT(陸連登録!L65,4)","v":""},{"$f":"RIGHT(陸連登録!L65,4)","v":""},{"$f":"#REF!","v":{"$error":"#REF!"}},{"$f":"陸連登録!B65","v":0},null,"",null,null,"","",null,"",null,null,"","",{"$f":"IF(X70=\"\",\"\",IF(I70=1,VLOOKUP(X70,男子種目コード!$J$2:$K$30,2,FALSE),IF(I70=2,VLOOKUP(X70,女子種目コード!$J$2:$K$28,2,FALSE))))","v":""},null,null,{"$f":"IF(AC70=\"\",\"\",IF(I70=1,VLOOKUP(AC70,男子種目コード!$J$2:$K$30,2,FALSE),IF(I70=2,VLOOKUP(AC70,女子種目コード!$J$2:$K$28,2,FALSE))))","v":""},null,null,{"$f":"IF(AF70=\"\",\"\",IF(I70=1,VLOOKUP(AF70,男子種目コード!$J$2:$K$30,2,FALSE),IF(I70=2,VLOOKUP(AF70,女子種目コード!$J$2:$K$28,2,FALSE))))","v":""},null,null,null,null,null,"","",null,null,null,null,null,null,null,null,null,0,null,null,null,null,0,"",""]
[null,{"$f":"陸連登録!N66","v":0},null,null,{"$f":"陸連登録!M66","v":0},{"$f":"陸連登録!C66","v":0},{"$f":"陸連登録!D66","v":0},0,{"$f":"陸連登録!A66","v":""},{"$f":"陸連登録!P66","v":0},{"$f":"LEFT(陸連登録!L66,4)","v":""},{"$f":"RIGHT(陸連登録!L66,4)","v":""},{"$f":"#REF!","v":{"$error":"#REF!"}},{"$f":"陸連登録!B66","v":0},null,{"$f":"IF(O71=\"\",\"\",IF(I71=1,VLOOKUP(O71,$AO$8:$AQ$25,3,FALSE),IF(I71=2,VLOOKUP(O71,$AO$28:$AQ$45,3,FALSE))))","v":""},null,null,"","",null,{"$f":"IF(U71=\"\",\"\",IF(I71=1,VLOOKUP(U71,$AO$8:$AQ$25,3,FALSE),IF(I71=2,VLOOKUP(U71,$AO$28:$AQ$45,3,FALSE))))","v":""},null,null,"","",{"$f":"IF(X71=\"\",\"\",IF(I71=1,VLOOKUP(X71,男子種目コード!$J$2:$K$30,2,FALSE),IF(I71=2,VLOOKUP(X71,女子種目コード!$J$2:$K$28,2,FALSE))))","v":""},null,null,{"$f":"IF(AC71=\"\",\"\",IF(I71=1,VLOOKUP(AC71,男子種目コード!$J$2:$K$30,2,FALSE),IF(I71=2,VLOOKUP(AC71,女子種目コード!$J$2:$K$28,2,FALSE))))","v":""},null,null,{"$f":"IF(AF71=\"\",\"\",IF(I71=1,VLOOKUP(AF71,男子種目コード!$J$2:$K$30,2,FALSE),IF(I71=2,VLOOKUP(AF71,女子種目コード!$J$2:$K$28,2,FALSE))))","v":""},null,null,null,null,null,"","",null,null,null,null,null,null,null,null,null,{"$f":"IF(OR(AM71=1,U71=\"\"),0,1)","v":0},null,null,null,null,{"$f":"COUNT(P71,V71,AA71)","v":0},{"$f":"IF(I71=1,BC71,\"\")","v":""},{"$f":"IF(I71=2,BC71,\"\")","v":""}]
[null,{"$f":"陸連登録!N67","v":0},null,null,{"$f":"陸連登録!M67","v":0},{"$f":"陸連登録!C67","v":0},{"$f":"陸連登録!D67","v":0},{"$f":"F72","v":0},{"$f":"陸連登録!A67","v":""},{"$f":"陸連登録!P67","v":0},{"$f":"LEFT(陸連登録!L67,4)","v":""},{"$f":"RIGHT(陸連登録!L67,4)","v":""},{"$f":"#REF!","v":{"$error":"#REF!"}},{"$f":"陸連登録!B67","v":0},null,"",null,null,{"$f":"IF(O72=\"\",\"\",0)","v":""},{"$f":"IF(O72=\"\",\"\",2)","v":""},null,"",null,null,{"$f":"IF(U72=\"\",\"\",0)","v":""},{"$f":"IF(U72=\"\",\"\",2)","v":""},{"$f":"IF(X72=\"\",\"\",IF(I72=1,VLOOKUP(X72,男子種目コード!$J$2:$K$30,2,FALSE),IF(I72=2,VLOOKUP(X72,女子種目コード!$J$2:$K$28,2,FALSE))))","v":""},null,null,{"$f":"IF(AC72=\"\",\"\",IF(I72=1,VLOOKUP(AC72,男子種目コード!$J$2:$K$30,2,FALSE),IF(I72=2,VLOOKUP(AC72,女子種目コード!$J$2:$K$28,2,FALSE))))","v":""},null,null,{"$f":"IF(AF72=\"\",\"\",IF(I72=1,VLOOKUP(AF72,男子種目コード!$J$2:$K$30,2,FALSE),IF(I72=2,VLOOKUP(AF72,女子種目コード!$J$2:$K$28,2,FALSE))))","v":""},null,null,null,null,null,"","",null,null,null,null,null,null,null,null,null,0,null,null,null,null,0,"",""]
[null,{"$f":"陸連登録!N68","v":0},null,null,{"$f":"陸連登録!M68","v":0},{"$f":"陸連登録!C68","v":0},{"$f":"陸連登録!D68","v":0},0,{"$f":"陸連登録!A68","v":""},{"$f":"陸連登録!P68","v":0},{"$f":"LEFT(陸連登録!L68,4)","v":""},{"$f":"RIGHT(陸連登録!L68,4)","v":""},{"$f":"#REF!","v":{"$error":"#REF!"}},{"$f":"陸連登録!B68","v":0},null,"",null,null,"","",null,"",null,null,"","",{"$f":"IF(X73=\"\",\"\",IF(I73=1,VLOOKUP(X73,男子種目コード!$J$2:$K$30,2,FALSE),IF(I73=2,VLOOKUP(X73,女子種目コード!$J$2:$K$28,2,FALSE))))","v":""},null,null,{"$f":"IF(AC73=\"\",\"\",IF(I73=1,VLOOKUP(AC73,男子種目コード!$J$2:$K$30,2,FALSE),IF(I73=2,VLOOKUP(AC73,女子種目コード!$J$2:$K$28,2,FALSE))))","v":""},null,null,{"$f":"IF(AF73=\"\",\"\",IF(I73=1,VLOOKUP(AF73,男子種目コード!$J$2:$K$30,2,FALSE),IF(I73=2,VLOOKUP(AF73,女子種目コード!$J$2:$K$28,2,FALSE))))","v":""},null,null,null,null,null,"","",null,null,null,null,null,null,null,null,null,0,null,null,null,null,0,"",""]
[null,{"$f":"陸連登録!N69","v":0},null,null,{"$f":"陸連登録!M69","v":0},{"$f":"陸連登録!C69","v":0},{"$f":"陸連登録!D69","v":0},0,{"$f":"陸連登録!A69","v":""},{"$f":"陸連登録!P69","v":0},{"$f":"LEFT(陸連登録!L69,4)","v":""},{"$f":"RIGHT(陸連登録!L69,4)","v":""},{"$f":"#REF!","v":{"$error":"#REF!"}},{"$f":"陸連登録!B69","v":0},null,"",null,null,"","",null,"",null,null,"","",{"$f":"IF(X74=\"\",\"\",IF(I74=1,VLOOKUP(X74,男子種目コード!$J$2:$K$30,2,FALSE),IF(I74=2,VLOOKUP(X74,女子種目コード!$J$2:$K$28,2,FALSE))))","v":""},null,null,{"$f":"IF(AC74=\"\",\"\",IF(I74=1,VLOOKUP(AC74,男子種目コード!$J$2:$K$30,2,FALSE),IF(I74=2,VLOOKUP(AC74,女子種目コード!$J$2:$K$28,2,FALSE))))","v":""},null,null,{"$f":"IF(AF74=\"\",\"\",IF(I74=1,VLOOKUP(AF74,男子種目コード!$J$2:$K$30,2,FALSE),IF(I74=2,VLOOKUP(AF74,女子種目コード!$J$2:$K$28,2,FALSE))))","v":""},null,null,null,null,null,{"$f":"IF(O74=\"\",\"\",1)","v":""},{"$f":"IF(U74=\"\",\"\",1)","v":""},null,null,null,null,null,null,null,null,null,0,null,null,null,null,0,"",""]
[null,{"$f":"陸連登録!N70","v":0},null,null,{"$f":"陸連登録!M70","v":0},{"$f":"陸連登録!C70","v":0},{"$f":"陸連登録!D70","v":0},0,{"$f":"陸連登録!A70","v":""},{"$f":"陸連登録!P70","v":0},{"$f":"LEFT(陸連登録!L70,4)","v":""},{"$f":"RIGHT(陸連登録!L70,4)","v":""},{"$f":"#REF!","v":{"$error":"#REF!"}},{"$f":"陸連登録!B70","v":0},null,"",null,null,"","",null,"",null,null,"","",{"$f":"IF(X75=\"\",\"\",IF(I75=1,VLOOKUP(X75,男子種目コード!$J$2:$K$30,2,FALSE),IF(I75=2,VLOOKUP(X75,女子種目コード!$J$2:$K$28,2,FALSE))))","v":""},null,null,{"$f":"IF(AC75=\"\",\"\",IF(I75=1,VLOOKUP(AC75,男子種目コード!$J$2:$K$30,2,FALSE),IF(I75=2,VLOOKUP(AC75,女子種目コード!$J$2:$K$28,2,FALSE))))","v":""},null,null,{"$f":"IF(AF75=\"\",\"\",IF(I75=1,VLOOKUP(AF75,男子種目コード!$J$2:$K$30,2,FALSE),IF(I75=2,VLOOKUP(AF75,女子種目コード!$J$2:$K$28,2,FALSE))))","v":""},null,null,null,null,null,"","",null,null,null,null,null,null,null,null,null,0,null,null,null,null,0,"",""]
[null,{"$f":"陸連登録!N71","v":0},null,null,{"$f":"陸連登録!M71","v":0},{"$f":"陸連登録!C71","v":0},{"$f":"陸連登録!D71","v":0},0,{"$f":"陸連登録!A71","v":""},{"$f":"陸連登録!P71","v":0},{"$f":"LEFT(陸連登録!L71,4)","v":""},{"$f":"RIGHT(陸連登録!L71,4)","v":""},{"$f":"#REF!","v":{"$error":"#REF!"}},{"$f":"陸連登録!B71","v":0},null,"",null,null,"","",null,"",null,null,"","",{"$f":"IF(X76=\"\",\"\",IF(I76=1,VLOOKUP(X76,男子種目コード!$J$2:$K$30,2,FALSE),IF(I76=2,VLOOKUP(X76,女子種目コード!$J$2:$K$28,2,FALSE))))","v":""},null,null,{"$f":"IF(AC76=\"\",\"\",IF(I76=1,VLOOKUP(AC76,男子種目コード!$J$2:$K$30,2,FALSE),IF(I76=2,VLOOKUP(AC76,女子種目コード!$J$2:$K$28,2,FALSE))))","v":""},null,null,{"$f":"IF(AF76=\"\",\"\",IF(I76=1,VLOOKUP(AF76,男子種目コード!$J$2:$K$30,2,FALSE),IF(I76=2,VLOOKUP(AF76,女子種目コード!$J$2:$K$28,2,FALSE))))","v":""},null,null,null,null,null,"","",null,null,null,null,null,null,null,null,null,0,null,null,null,null,0,"",""]
[null,{"$f":"陸連登録!N72","v":0},null,null,{"$f":"陸連登録!M72","v":0},{"$f":"陸連登録!C72","v":0},{"$f":"陸連登録!D72","v":0},0,{"$f":"陸連登録!A72","v":""},{"$f":"陸連登録!P72","v":0},{"$f":"LEFT(陸連登録!L72,4)","v":""},{"$f":"RIGHT(陸連登録!L72,4)","v":""},{"$f":"#REF!","v":{"$error":"#REF!"}},{"$f":"陸連登録!B72","v":0},null,"",null,null,"","",null,"",null,null,"","",{"$f":"IF(X77=\"\",\"\",IF(I77=1,VLOOKUP(X77,男子種目コード!$J$2:$K$30,2,FALSE),IF(I77=2,VLOOKUP(X77,女子種目コード!$J$2:$K$28,2,FALSE))))","v":""},null,null,{"$f":"IF(AC77=\"\",\"\",IF(I77=1,VLOOKUP(AC77,男子種目コード!$J$2:$K$30,2,FALSE),IF(I77=2,VLOOKUP(AC77,女子種目コード!$J$2:$K$28,2,FALSE))))","v":""},null,null,{"$f":"IF(AF77=\"\",\"\",IF(I77=1,VLOOKUP(AF77,男子種目コード!$J$2:$K$30,2,FALSE),IF(I77=2,VLOOKUP(AF77,女子種目コード!$J$2:$K$28,2,FALSE))))","v":""},null,null,null,null,null,"","",null,null,null,null,null,null,null,null,null,0,null,null,null,null,0,"",""]
[null,{"$f":"陸連登録!N73","v":0},null,null,{"$f":"陸連登録!M73","v":0},{"$f":"陸連登録!C73","v":0},{"$f":"陸連登録!D73","v":0},0,{"$f":"陸連登録!A73","v":""},{"$f":"陸連登録!P73","v":0},{"$f":"LEFT(陸連登録!L73,4)","v":""},{"$f":"RIGHT(陸連登録!L73,4)","v":""},{"$f":"#REF!","v":{"$error":"#REF!"}},{"$f":"陸連登録!B73","v":0},null,"",null,null,"","",null,"",null,null,"","",{"$f":"IF(X78=\"\",\"\",IF(I78=1,VLOOKUP(X78,男子種目コード!$J$2:$K$30,2,FALSE),IF(I78=2,VLOOKUP(X78,女子種目コード!$J$2:$K$28,2,FALSE))))","v":""},null,null,{"$f":"IF(AC78=\"\",\"\",IF(I78=1,VLOOKUP(AC78,男子種目コード!$J$2:$K$30,2,FALSE),IF(I78=2,VLOOKUP(AC78,女子種目コード!$J$2:$K$28,2,FALSE))))","v":""},null,null,{"$f":"IF(AF78=\"\",\"\",IF(I78=1,VLOOKUP(AF78,男子種目コード!$J$2:$K$30,2,FALSE),IF(I78=2,VLOOKUP(AF78,女子種目コード!$J$2:$K$28,2,FALSE))))","v":""},null,null,null,null,null,"","",null,null,null,null,null,null,null,null,null,0,null,null,null,null,0,"",""]
[null,{"$f":"陸連登録!N74","v":0},null,null,{"$f":"陸連登録!M74","v":0},{"$f":"陸連登録!C74","v":0},{"$f":"陸連登録!D74","v":0},0,{"$f":"陸連登録!A74","v":""},{"$f":"陸連登録!P74","v":0},{"$f":"LEFT(陸連登録!L74,4)","v":""},{"$f":"RIGHT(陸連登録!L74,4)","v":""},{"$f":"#REF!","v":{"$error":"#REF!"}},{"$f":"陸連登録!B74","v":0},null,"",null,null,"","",null,"",null,null,"","",{"$f":"IF(X79=\"\",\"\",IF(I79=1,VLOOKUP(X79,男子種目コード!$J$2:$K$30,2,FALSE),IF(I79=2,VLOOKUP(X79,女子種目コード!$J$2:$K$28,2,FALSE))))","v":""},null,null,{"$f":"IF(AC79=\"\",\"\",IF(I79=1,VLOOKUP(AC79,男子種目コード!$J$2:$K$30,2,FALSE),IF(I79=2,VLOOKUP(AC79,女子種目コード!$J$2:$K$28,2,FALSE))))","v":""},null,null,{"$f":"IF(AF79=\"\",\"\",IF(I79=1,VLOOKUP(AF79,男子種目コード!$J$2:$K$30,2,FALSE),IF(I79=2,VLOOKUP(AF79,女子種目コード!$J$2:$K$28,2,FALSE))))","v":""},null,null,null,null,null,"","",null,null,null,null,null,null,null,null,null,0,null,null,null,null,0,"",""]
[null,{"$f":"陸連登録!N75","v":0},null,null,{"$f":"陸連登録!M75","v":0},{"$f":"陸連登録!C75","v":0},{"$f":"陸連登録!D75","v":0},0,{"$f":"陸連登録!A75","v":""},{"$f":"陸連登録!P75","v":0},{"$f":"LEFT(陸連登録!L75,4)","v":""},{"$f":"RIGHT(陸連登録!L75,4)","v":""},{"$f":"#REF!","v":{"$error":"#REF!"}},{"$f":"陸連登録!B75","v":0},null,"",null,null,"","",null,"",null,null,"","",{"$f":"IF(X80=\"\",\"\",IF(I80=1,VLOOKUP(X80,男子種目コード!$J$2:$K$30,2,FALSE),IF(I80=2,VLOOKUP(X80,女子種目コード!$J$2:$K$28,2,FALSE))))","v":""},null,null,{"$f":"IF(AC80=\"\",\"\",IF(I80=1,VLOOKUP(AC80,男子種目コード!$J$2:$K$30,2,FALSE),IF(I80=2,VLOOKUP(AC80,女子種目コード!$J$2:$K$28,2,FALSE))))","v":""},null,null,{"$f":"IF(AF80=\"\",\"\",IF(I80=1,VLOOKUP(AF80,男子種目コード!$J$2:$K$30,2,FALSE),IF(I80=2,VLOOKUP(AF80,女子種目コード!$J$2:$K$28,2,FALSE))))","v":""},null,null,null,null,null,"","",null,null,null,null,null,null,null,null,null,0,null,null,null,null,0,"",""]
[null,{"$f":"陸連登録!N76","v":0},null,null,{"$f":"陸連登録!M76","v":0},{"$f":"陸連登録!C76","v":0},{"$f":"陸連登録!D76","v":0},0,{"$f":"陸連登録!A76","v":""},{"$f":"陸連登録!P76","v":0},{"$f":"LEFT(陸連登録!L76,4)","v":""},{"$f":"RIGHT(陸連登録!L76,4)","v":""},{"$f":"#REF!","v":{"$error":"#REF!"}},{"$f":"陸連登録!B76","v":0},null,"",null,null,"","",null,"",null,null,"","",{"$f":"IF(X81=\"\",\"\",IF(I81=1,VLOOKUP(X81,男子種目コード!$J$2:$K$30,2,FALSE),IF(I81=2,VLOOKUP(X81,女子種目コード!$J$2:$K$28,2,FALSE))))","v":""},null,null,{"$f":"IF(AC81=\"\",\"\",IF(I81=1,VLOOKUP(AC81,男子種目コード!$J$2:$K$30,2,FALSE),IF(I81=2,VLOOKUP(AC81,女子種目コード!$J$2:$K$28,2,FALSE))))","v":""},null,null,{"$f":"IF(AF81=\"\",\"\",IF(I81=1,VLOOKUP(AF81,男子種目コード!$J$2:$K$30,2,FALSE),IF(I81=2,VLOOKUP(AF81,女子種目コード!$J$2:$K$28,2,FALSE))))","v":""},null,null,null,null,null,"","",null,null,null,null,null,null,null,null,null,0,null,null,null,null,0,"",""]
[null,{"$f":"陸連登録!N77","v":0},null,null,{"$f":"陸連登録!M77","v":0},{"$f":"陸連登録!C77","v":0},{"$f":"陸連登録!D77","v":0},0,{"$f":"陸連登録!A77","v":""},{"$f":"陸連登録!P77","v":0},{"$f":"LEFT(陸連登録!L77,4)","v":""},{"$f":"RIGHT(陸連登録!L77,4)","v":""},{"$f":"#REF!","v":{"$error":"#REF!"}},{"$f":"陸連登録!B77","v":0},null,"",null,null,"","",null,"",null,null,"","",{"$f":"IF(X82=\"\",\"\",IF(I82=1,VLOOKUP(X82,男子種目コード!$J$2:$K$30,2,FALSE),IF(I82=2,VLOOKUP(X82,女子種目コード!$J$2:$K$28,2,FALSE))))","v":""},null,null,{"$f":"IF(AC82=\"\",\"\",IF(I82=1,VLOOKUP(AC82,男子種目コード!$J$2:$K$30,2,FALSE),IF(I82=2,VLOOKUP(AC82,女子種目コード!$J$2:$K$28,2,FALSE))))","v":""},null,null,{"$f":"IF(AF82=\"\",\"\",IF(I82=1,VLOOKUP(AF82,男子種目コード!$J$2:$K$30,2,FALSE),IF(I82=2,VLOOKUP(AF82,女子種目コード!$J$2:$K$28,2,FALSE))))","v":""},null,null,null,null,null,"","",null,null,null,null,null,null,null,null,null,0,null,null,null,null,0,"",""]
[null,{"$f":"陸連登録!N78","v":0},null,null,{"$f":"陸連登録!M78","v":0},{"$f":"陸連登録!C78","v":0},{"$f":"陸連登録!D78","v":0},0,{"$f":"陸連登録!A78","v":""},{"$f":"陸連登録!P78","v":0},{"$f":"LEFT(陸連登録!L78,4)","v":""},{"$f":"RIGHT(陸連登録!L78,4)","v":""},{"$f":"#REF!","v":{"$error":"#REF!"}},{"$f":"陸連登録!B78","v":0},null,"",null,null,"","",null,"",null,null,"","",{"$f":"IF(X83=\"\",\"\",IF(I83=1,VLOOKUP(X83,男子種目コード!$J$2:$K$30,2,FALSE),IF(I83=2,VLOOKUP(X83,女子種目コード!$J$2:$K$28,2,FALSE))))","v":""},null,null,{"$f":"IF(AC83=\"\",\"\",IF(I83=1,VLOOKUP(AC83,男子種目コード!$J$2:$K$30,2,FALSE),IF(I83=2,VLOOKUP(AC83,女子種目コード!$J$2:$K$28,2,FALSE))))","v":""},null,null,{"$f":"IF(AF83=\"\",\"\",IF(I83=1,VLOOKUP(AF83,男子種目コード!$J$2:$K$30,2,FALSE),IF(I83=2,VLOOKUP(AF83,女子種目コード!$J$2:$K$28,2,FALSE))))","v":""},null,null,null,null,null,"","",null,null,null,null,null,null,null,null,null,0,null,null,null,null,0,"",""]
[null,{"$f":"陸連登録!N79","v":0},null,null,{"$f":"陸連登録!M79","v":0},{"$f":"陸連登録!C79","v":0},{"$f":"陸連登録!D79","v":0},0,{"$f":"陸連登録!A79","v":""},{"$f":"陸連登録!P79","v":0},{"$f":"LEFT(陸連登録!L79,4)","v":""},{"$f":"RIGHT(陸連登録!L79,4)","v":""},{"$f":"#REF!","v":{"$error":"#REF!"}},{"$f":"陸連登録!B79","v":0},null,"",null,null,"","",null,"",null,null,"","",{"$f":"IF(X84=\"\",\"\",IF(I84=1,VLOOKUP(X84,男子種目コード!$J$2:$K$30,2,FALSE),IF(I84=2,VLOOKUP(X84,女子種目コード!$J$2:$K$28,2,FALSE))))","v":""},null,null,{"$f":"IF(AC84=\"\",\"\",IF(I84=1,VLOOKUP(AC84,男子種目コード!$J$2:$K$30,2,FALSE),IF(I84=2,VLOOKUP(AC84,女子種目コード!$J$2:$K$28,2,FALSE))))","v":""},null,null,{"$f":"IF(AF84=\"\",\"\",IF(I84=1,VLOOKUP(AF84,男子種目コード!$J$2:$K$30,2,FALSE),IF(I84=2,VLOOKUP(AF84,女子種目コード!$J$2:$K$28,2,FALSE))))","v":""},null,null,null,null,null,"","",null,null,null,null,null,null,null,null,null,0,null,null,null,null,0,"",""]
[null,{"$f":"陸連登録!N80","v":0},null,null,{"$f":"陸連登録!M80","v":0},{"$f":"陸連登録!C80","v":0},{"$f":"陸連登録!D80","v":0},0,{"$f":"陸連登録!A80","v":""},{"$f":"陸連登録!P80","v":0},{"$f":"LEFT(陸連登録!L80,4)","v":""},{"$f":"RIGHT(陸連登録!L80,4)","v":""},{"$f":"#REF!","v":{"$error":"#REF!"}},{"$f":"陸連登録!B80","v":0},null,"",null,null,"","",null,"",null,null,"","",{"$f":"IF(X85=\"\",\"\",IF(I85=1,VLOOKUP(X85,男子種目コード!$J$2:$K$30,2,FALSE),IF(I85=2,VLOOKUP(X85,女子種目コード!$J$2:$K$28,2,FALSE))))","v":""},null,null,{"$f":"IF(AC85=\"\",\"\",IF(I85=1,VLOOKUP(AC85,男子種目コード!$J$2:$K$30,2,FALSE),IF(I85=2,VLOOKUP(AC85,女子種目コード!$J$2:$K$28,2,FALSE))))","v":""},null,null,{"$f":"IF(AF85=\"\",\"\",IF(I85=1,VLOOKUP(AF85,男子種目コード!$J$2:$K$30,2,FALSE),IF(I85=2,VLOOKUP(AF85,女子種目コード!$J$2:$K$28,2,FALSE))))","v":""},null,null,null,null,null,"","",null,null,null,null,null,null,null,null,null,0,null,null,null,null,0,"",""]
[null,{"$f":"陸連登録!N81","v":0},null,null,{"$f":"陸連登録!M81","v":0},{"$f":"陸連登録!C81","v":0},{"$f":"陸連登録!D81","v":0},0,{"$f":"陸連登録!A81","v":""},{"$f":"陸連登録!P81","v":0},{"$f":"LEFT(陸連登録!L81,4)","v":""},{"$f":"RIGHT(陸連登録!L81,4)","v":""},{"$f":"#REF!","v":{"$error":"#REF!"}},{"$f":"陸連登録!B81","v":0},null,"",null,null,"","",null,"",null,null,"","",{"$f":"IF(X86=\"\",\"\",IF(I86=1,VLOOKUP(X86,男子種目コード!$J$2:$K$30,2,FALSE),IF(I86=2,VLOOKUP(X86,女子種目コード!$J$2:$K$28,2,FALSE))))","v":""},null,null,{"$f":"IF(AC86=\"\",\"\",IF(I86=1,VLOOKUP(AC86,男子種目コード!$J$2:$K$30,2,FALSE),IF(I86=2,VLOOKUP(AC86,女子種目コード!$J$2:$K$28,2,FALSE))))","v":""},null,null,{"$f":"IF(AF86=\"\",\"\",IF(I86=1,VLOOKUP(AF86,男子種目コード!$J$2:$K$30,2,FALSE),IF(I86=2,VLOOKUP(AF86,女子種目コード!$J$2:$K$28,2,FALSE))))","v":""},null,null,null,null,null,"","",null,null,null,null,null,null,null,null,null,0,null,null,null,null,0,"",""]
[null,{"$f":"陸連登録!N82","v":0},null,null,{"$f":"陸連登録!M82","v":0},{"$f":"陸連登録!C82","v":0},{"$f":"陸連登録!D82","v":0},0,{"$f":"陸連登録!A82","v":""},{"$f":"陸連登録!P82","v":0},{"$f":"LEFT(陸連登録!L82,4)","v":""},{"$f":"RIGHT(陸連登録!L82,4)","v":""},{"$f":"#REF!","v":{"$error":"#REF!"}},{"$f":"陸連登録!B82","v":0},null,"",null,null,"","",null,"",null,null,"","",{"$f":"IF(X87=\"\",\"\",IF(I87=1,VLOOKUP(X87,男子種目コード!$J$2:$K$30,2,FALSE),IF(I87=2,VLOOKUP(X87,女子種目コード!$J$2:$K$28,2,FALSE))))","v":""},null,null,{"$f":"IF(AC87=\"\",\"\",IF(I87=1,VLOOKUP(AC87,男子種目コード!$J$2:$K$30,2,FALSE),IF(I87=2,VLOOKUP(AC87,女子種目コード!$J$2:$K$28,2,FALSE))))","v":""},null,null,{"$f":"IF(AF87=\"\",\"\",IF(I87=1,VLOOKUP(AF87,男子種目コード!$J$2:$K$30,2,FALSE),IF(I87=2,VLOOKUP(AF87,女子種目コード!$J$2:$K$28,2,FALSE))))","v":""},null,null,null,null,null,"","",null,null,null,null,null,null,null,null,null,0,null,null,null,null,0,"",""]
[null,{"$f":"陸連登録!N83","v":0},null,null,{"$f":"陸連登録!M83","v":0},{"$f":"陸連登録!C83","v":0},{"$f":"陸連登録!D83","v":0},0,{"$f":"陸連登録!A83","v":""},{"$f":"陸連登録!P83","v":0},{"$f":"LEFT(陸連登録!L83,4)","v":""},{"$f":"RIGHT(陸連登録!L83,4)","v":""},{"$f":"#REF!","v":{"$error":"#REF!"}},{"$f":"陸連登録!B83","v":0},null,"",null,null,"","",null,"",null,null,"","",{"$f":"IF(X88=\"\",\"\",IF(I88=1,VLOOKUP(X88,男子種目コード!$J$2:$K$30,2,FALSE),IF(I88=2,VLOOKUP(X88,女子種目コード!$J$2:$K$28,2,FALSE))))","v":""},null,null,{"$f":"IF(AC88=\"\",\"\",IF(I88=1,VLOOKUP(AC88,男子種目コード!$J$2:$K$30,2,FALSE),IF(I88=2,VLOOKUP(AC88,女子種目コード!$J$2:$K$28,2,FALSE))))","v":""},null,null,{"$f":"IF(AF88=\"\",\"\",IF(I88=1,VLOOKUP(AF88,男子種目コード!$J$2:$K$30,2,FALSE),IF(I88=2,VLOOKUP(AF88,女子種目コード!$J$2:$K$28,2,FALSE))))","v":""},null,null,null,null,null,"","",null,null,null,null,null,null,null,null,null,0,null,null,null,null,0,"",""]
[null,{"$f":"陸連登録!N84","v":0},null,null,{"$f":"陸連登録!M84","v":0},{"$f":"陸連登録!C84","v":0},{"$f":"陸連登録!D84","v":0},0,{"$f":"陸連登録!A84","v":""},{"$f":"陸連登録!P84","v":0},{"$f":"LEFT(陸連登録!L84,4)","v":""},{"$f":"RIGHT(陸連登録!L84,4)","v":""},{"$f":"#REF!","v":{"$error":"#REF!"}},{"$f":"陸連登録!B84","v":0},null,"",null,null,"","",null,"",null,null,"","",{"$f":"IF(X89=\"\",\"\",IF(I89=1,VLOOKUP(X89,男子種目コード!$J$2:$K$30,2,FALSE),IF(I89=2,VLOOKUP(X89,女子種目コード!$J$2:$K$28,2,FALSE))))","v":""},null,null,{"$f":"IF(AC89=\"\",\"\",IF(I89=1,VLOOKUP(AC89,男子種目コード!$J$2:$K$30,2,FALSE),IF(I89=2,VLOOKUP(AC89,女子種目コード!$J$2:$K$28,2,FALSE))))","v":""},null,null,{"$f":"IF(AF89=\"\",\"\",IF(I89=1,VLOOKUP(AF89,男子種目コード!$J$2:$K$30,2,FALSE),IF(I89=2,VLOOKUP(AF89,女子種目コード!$J$2:$K$28,2,FALSE))))","v":""},null,null,null,null,null,"","",null,null,null,null,null,null,null,null,null,0,null,null,null,null,0,"",""]
[null,{"$f":"陸連登録!N85","v":0},null,null,{"$f":"陸連登録!M85","v":0},{"$f":"陸連登録!C85","v":0},{"$f":"陸連登録!D85","v":0},0,{"$f":"陸連登録!A85","v":""},{"$f":"陸連登録!P85","v":0},{"$f":"LEFT(陸連登録!L85,4)","v":""},{"$f":"RIGHT(陸連登録!L85,4)","v":""},{"$f":"#REF!","v":{"$error":"#REF!"}},{"$f":"陸連登録!B85","v":0},null,"",null,null,"","",null,"",null,null,"","",{"$f":"IF(X90=\"\",\"\",IF(I90=1,VLOOKUP(X90,男子種目コード!$J$2:$K$30,2,FALSE),IF(I90=2,VLOOKUP(X90,女子種目コード!$J$2:$K$28,2,FALSE))))","v":""},null,null,{"$f":"IF(AC90=\"\",\"\",IF(I90=1,VLOOKUP(AC90,男子種目コード!$J$2:$K$30,2,FALSE),IF(I90=2,VLOOKUP(AC90,女子種目コード!$J$2:$K$28,2,FALSE))))","v":""},null,null,{"$f":"IF(AF90=\"\",\"\",IF(I90=1,VLOOKUP(AF90,男子種目コード!$J$2:$K$30,2,FALSE),IF(I90=2,VLOOKUP(AF90,女子種目コード!$J$2:$K$28,2,FALSE))))","v":""},null,null,null,null,null,"","",null,null,null,null,null,null,null,null,null,0,null,null,null,null,0,"",""]
[null,{"$f":"陸連登録!N86","v":0},null,null,{"$f":"陸連登録!M86","v":0},{"$f":"陸連登録!C86","v":0},{"$f":"陸連登録!D86","v":0},0,{"$f":"陸連登録!A86","v":""},{"$f":"陸連登録!P86","v":0},{"$f":"LEFT(陸連登録!L86,4)","v":""},{"$f":"RIGHT(陸連登録!L86,4)","v":""},{"$f":"#REF!","v":{"$error":"#REF!"}},{"$f":"陸連登録!B86","v":0},null,"",null,null,"","",null,"",null,null,"","",{"$f":"IF(X91=\"\",\"\",IF(I91=1,VLOOKUP(X91,男子種目コード!$J$2:$K$30,2,FALSE),IF(I91=2,VLOOKUP(X91,女子種目コード!$J$2:$K$28,2,FALSE))))","v":""},null,null,{"$f":"IF(AC91=\"\",\"\",IF(I91=1,VLOOKUP(AC91,男子種目コード!$J$2:$K$30,2,FALSE),IF(I91=2,VLOOKUP(AC91,女子種目コード!$J$2:$K$28,2,FALSE))))","v":""},null,null,{"$f":"IF(AF91=\"\",\"\",IF(I91=1,VLOOKUP(AF91,男子種目コード!$J$2:$K$30,2,FALSE),IF(I91=2,VLOOKUP(AF91,女子種目コード!$J$2:$K$28,2,FALSE))))","v":""},null,null,null,null,null,"","",null,null,null,null,null,null,null,null,null,0,null,null,null,null,0,"",""]
[null,{"$f":"陸連登録!N87","v":0},null,null,{"$f":"陸連登録!M87","v":0},{"$f":"陸連登録!C87","v":0},{"$f":"陸連登録!D87","v":0},0,{"$f":"陸連登録!A87","v":""},{"$f":"陸連登録!P87","v":0},{"$f":"LEFT(陸連登録!L87,4)","v":""},{"$f":"RIGHT(陸連登録!L87,4)","v":""},{"$f":"#REF!","v":{"$error":"#REF!"}},{"$f":"陸連登録!B87","v":0},null,"",null,null,"","",null,"",null,null,"","",{"$f":"IF(X92=\"\",\"\",IF(I92=1,VLOOKUP(X92,男子種目コード!$J$2:$K$30,2,FALSE),IF(I92=2,VLOOKUP(X92,女子種目コード!$J$2:$K$28,2,FALSE))))","v":""},null,null,{"$f":"IF(AC92=\"\",\"\",IF(I92=1,VLOOKUP(AC92,男子種目コード!$J$2:$K$30,2,FALSE),IF(I92=2,VLOOKUP(AC92,女子種目コード!$J$2:$K$28,2,FALSE))))","v":""},null,null,{"$f":"IF(AF92=\"\",\"\",IF(I92=1,VLOOKUP(AF92,男子種目コード!$J$2:$K$30,2,FALSE),IF(I92=2,VLOOKUP(AF92,女子種目コード!$J$2:$K$28,2,FALSE))))","v":""},null,null,null,null,null,"","",null,null,null,null,null,null,null,null,null,0,null,null,null,null,0,"",""]
[null,{"$f":"陸連登録!N88","v":0},null,null,{"$f":"陸連登録!M88","v":0},{"$f":"陸連登録!C88","v":0},{"$f":"陸連登録!D88","v":0},0,{"$f":"陸連登録!A88","v":""},{"$f":"陸連登録!P88","v":0},{"$f":"LEFT(陸連登録!L88,4)","v":""},{"$f":"RIGHT(陸連登録!L88,4)","v":""},{"$f":"#REF!","v":{"$error":"#REF!"}},{"$f":"陸連登録!B88","v":0},null,"",null,null,"","",null,"",null,null,"","",{"$f":"IF(X93=\"\",\"\",IF(I93=1,VLOOKUP(X93,男子種目コード!$J$2:$K$30,2,FALSE),IF(I93=2,VLOOKUP(X93,女子種目コード!$J$2:$K$28,2,FALSE))))","v":""},null,null,{"$f":"IF(AC93=\"\",\"\",IF(I93=1,VLOOKUP(AC93,男子種目コード!$J$2:$K$30,2,FALSE),IF(I93=2,VLOOKUP(AC93,女子種目コード!$J$2:$K$28,2,FALSE))))","v":""},null,null,{"$f":"IF(AF93=\"\",\"\",IF(I93=1,VLOOKUP(AF93,男子種目コード!$J$2:$K$30,2,FALSE),IF(I93=2,VLOOKUP(AF93,女子種目コード!$J$2:$K$28,2,FALSE))))","v":""},null,null,null,null,null,"","",null,null,null,null,null,null,null,null,null,0,null,null,null,null,0,"",""]
[null,{"$f":"陸連登録!N89","v":0},null,null,{"$f":"陸連登録!M89","v":0},{"$f":"陸連登録!C89","v":0},{"$f":"陸連登録!D89","v":0},0,{"$f":"陸連登録!A89","v":""},{"$f":"陸連登録!P89","v":0},{"$f":"LEFT(陸連登録!L89,4)","v":""},{"$f":"RIGHT(陸連登録!L89,4)","v":""},{"$f":"#REF!","v":{"$error":"#REF!"}},{"$f":"陸連登録!B89","v":0},null,"",null,null,"","",null,"",null,null,"","",{"$f":"IF(X94=\"\",\"\",IF(I94=1,VLOOKUP(X94,男子種目コード!$J$2:$K$30,2,FALSE),IF(I94=2,VLOOKUP(X94,女子種目コード!$J$2:$K$28,2,FALSE))))","v":""},null,null,{"$f":"IF(AC94=\"\",\"\",IF(I94=1,VLOOKUP(AC94,男子種目コード!$J$2:$K$30,2,FALSE),IF(I94=2,VLOOKUP(AC94,女子種目コード!$J$2:$K$28,2,FALSE))))","v":""},null,null,{"$f":"IF(AF94=\"\",\"\",IF(I94=1,VLOOKUP(AF94,男子種目コード!$J$2:$K$30,2,FALSE),IF(I94=2,VLOOKUP(AF94,女子種目コード!$J$2:$K$28,2,FALSE))))","v":""},null,null,null,null,null,"","",null,null,null,null,null,null,null,null,null,0,null,null,null,null,0,"",""]
[null,{"$f":"陸連登録!N90","v":0},null,null,{"$f":"陸連登録!M90","v":0},{"$f":"陸連登録!C90","v":0},{"$f":"陸連登録!D90","v":0},0,{"$f":"陸連登録!A90","v":""},{"$f":"陸連登録!P90","v":0},{"$f":"LEFT(陸連登録!L90,4)","v":""},{"$f":"RIGHT(陸連登録!L90,4)","v":""},{"$f":"#REF!","v":{"$error":"#REF!"}},{"$f":"陸連登録!B90","v":0},null,"",null,null,"","",null,"",null,null,"","",{"$f":"IF(X95=\"\",\"\",IF(I95=1,VLOOKUP(X95,男子種目コード!$J$2:$K$30,2,FALSE),IF(I95=2,VLOOKUP(X95,女子種目コード!$J$2:$K$28,2,FALSE))))","v":""},null,null,{"$f":"IF(AC95=\"\",\"\",IF(I95=1,VLOOKUP(AC95,男子種目コード!$J$2:$K$30,2,FALSE),IF(I95=2,VLOOKUP(AC95,女子種目コード!$J$2:$K$28,2,FALSE))))","v":""},null,null,{"$f":"IF(AF95=\"\",\"\",IF(I95=1,VLOOKUP(AF95,男子種目コード!$J$2:$K$30,2,FALSE),IF(I95=2,VLOOKUP(AF95,女子種目コード!$J$2:$K$28,2,FALSE))))","v":""},null,null,null,null,null,"","",null,null,null,null,null,null,null,null,null,0,null,null,null,null,0,"",""]
[null,{"$f":"陸連登録!N91","v":0},null,null,{"$f":"陸連登録!M91","v":0},{"$f":"陸連登録!C91","v":0},{"$f":"陸連登録!D91","v":0},0,{"$f":"陸連登録!A91","v":""},{"$f":"陸連登録!P91","v":0},{"$f":"LEFT(陸連登録!L91,4)","v":""},{"$f":"RIGHT(陸連登録!L91,4)","v":""},{"$f":"#REF!","v":{"$error":"#REF!"}},{"$f":"陸連登録!B91","v":0},null,"",null,null,"","",null,"",null,null,"","",{"$f":"IF(X96=\"\",\"\",IF(I96=1,VLOOKUP(X96,男子種目コード!$J$2:$K$30,2,FALSE),IF(I96=2,VLOOKUP(X96,女子種目コード!$J$2:$K$28,2,FALSE))))","v":""},null,null,{"$f":"IF(AC96=\"\",\"\",IF(I96=1,VLOOKUP(AC96,男子種目コード!$J$2:$K$30,2,FALSE),IF(I96=2,VLOOKUP(AC96,女子種目コード!$J$2:$K$28,2,FALSE))))","v":""},null,null,{"$f":"IF(AF96=\"\",\"\",IF(I96=1,VLOOKUP(AF96,男子種目コード!$J$2:$K$30,2,FALSE),IF(I96=2,VLOOKUP(AF96,女子種目コード!$J$2:$K$28,2,FALSE))))","v":""},null,null,null,null,null,"","",null,null,null,null,null,null,null,null,null,0,null,null,null,null,0,"",""]
[null,{"$f":"陸連登録!N92","v":0},null,null,{"$f":"陸連登録!M92","v":0},{"$f":"陸連登録!C92","v":0},{"$f":"陸連登録!D92","v":0},0,{"$f":"陸連登録!A92","v":""},{"$f":"陸連登録!P92","v":0},{"$f":"LEFT(陸連登録!L92,4)","v":""},{"$f":"RIGHT(陸連登録!L92,4)","v":""},{"$f":"#REF!","v":{"$error":"#REF!"}},{"$f":"陸連登録!B92","v":0},null,"",null,null,"","",null,"",null,null,"","",{"$f":"IF(X97=\"\",\"\",IF(I97=1,VLOOKUP(X97,男子種目コード!$J$2:$K$30,2,FALSE),IF(I97=2,VLOOKUP(X97,女子種目コード!$J$2:$K$28,2,FALSE))))","v":""},null,null,{"$f":"IF(AC97=\"\",\"\",IF(I97=1,VLOOKUP(AC97,男子種目コード!$J$2:$K$30,2,FALSE),IF(I97=2,VLOOKUP(AC97,女子種目コード!$J$2:$K$28,2,FALSE))))","v":""},null,null,{"$f":"IF(AF97=\"\",\"\",IF(I97=1,VLOOKUP(AF97,男子種目コード!$J$2:$K$30,2,FALSE),IF(I97=2,VLOOKUP(AF97,女子種目コード!$J$2:$K$28,2,FALSE))))","v":""},null,null,null,null,null,"","",null,null,null,null,null,null,null,null,null,0,null,null,null,null,0,"",""]
[null,{"$f":"陸連登録!N93","v":0},null,null,{"$f":"陸連登録!M93","v":0},{"$f":"陸連登録!C93","v":0},{"$f":"陸連登録!D93","v":0},0,{"$f":"陸連登録!A93","v":""},{"$f":"陸連登録!P93","v":0},{"$f":"LEFT(陸連登録!L93,4)","v":""},{"$f":"RIGHT(陸連登録!L93,4)","v":""},{"$f":"#REF!","v":{"$error":"#REF!"}},{"$f":"陸連登録!B93","v":0},null,"",null,null,"","",null,"",null,null,"","",{"$f":"IF(X98=\"\",\"\",IF(I98=1,VLOOKUP(X98,男子種目コード!$J$2:$K$30,2,FALSE),IF(I98=2,VLOOKUP(X98,女子種目コード!$J$2:$K$28,2,FALSE))))","v":""},null,null,{"$f":"IF(AC98=\"\",\"\",IF(I98=1,VLOOKUP(AC98,男子種目コード!$J$2:$K$30,2,FALSE),IF(I98=2,VLOOKUP(AC98,女子種目コード!$J$2:$K$28,2,FALSE))))","v":""},null,null,{"$f":"IF(AF98=\"\",\"\",IF(I98=1,VLOOKUP(AF98,男子種目コード!$J$2:$K$30,2,FALSE),IF(I98=2,VLOOKUP(AF98,女子種目コード!$J$2:$K$28,2,FALSE))))","v":""},null,null,null,null,null,"","",null,null,null,null,null,null,null,null,null,0,null,null,null,null,0,"",""]
[null,{"$f":"陸連登録!N94","v":0},null,null,{"$f":"陸連登録!M94","v":0},{"$f":"陸連登録!C94","v":0},{"$f":"陸連登録!D94","v":0},0,{"$f":"陸連登録!A94","v":""},{"$f":"陸連登録!P94","v":0},{"$f":"LEFT(陸連登録!L94,4)","v":""},{"$f":"RIGHT(陸連登録!L94,4)","v":""},{"$f":"#REF!","v":{"$error":"#REF!"}},{"$f":"陸連登録!B94","v":0},null,"",null,null,"","",null,"",null,null,"","",{"$f":"IF(X99=\"\",\"\",IF(I99=1,VLOOKUP(X99,男子種目コード!$J$2:$K$30,2,FALSE),IF(I99=2,VLOOKUP(X99,女子種目コード!$J$2:$K$28,2,FALSE))))","v":""},null,null,{"$f":"IF(AC99=\"\",\"\",IF(I99=1,VLOOKUP(AC99,男子種目コード!$J$2:$K$30,2,FALSE),IF(I99=2,VLOOKUP(AC99,女子種目コード!$J$2:$K$28,2,FALSE))))","v":""},null,null,{"$f":"IF(AF99=\"\",\"\",IF(I99=1,VLOOKUP(AF99,男子種目コード!$J$2:$K$30,2,FALSE),IF(I99=2,VLOOKUP(AF99,女子種目コード!$J$2:$K$28,2,FALSE))))","v":""},null,null,null,null,null,"","",null,null,null,null,null,null,null,null,null,0,null,null,null,null,0,"",""]
[null,{"$f":"陸連登録!N95","v":0},null,null,{"$f":"陸連登録!M95","v":0},{"$f":"陸連登録!C95","v":0},{"$f":"陸連登録!D95","v":0},0,{"$f":"陸連登録!A95","v":""},{"$f":"陸連登録!P95","v":0},{"$f":"LEFT(陸連登録!L95,4)","v":""},{"$f":"RIGHT(陸連登録!L95,4)","v":""},{"$f":"#REF!","v":{"$error":"#REF!"}},{"$f":"陸連登録!B95","v":0},null,"",null,null,"","",null,"",null,null,"","",{"$f":"IF(X100=\"\",\"\",IF(I100=1,VLOOKUP(X100,男子種目コード!$J$2:$K$30,2,FALSE),IF(I100=2,VLOOKUP(X100,女子種目コード!$J$2:$K$28,2,FALSE))))","v":""},null,null,{"$f":"IF(AC100=\"\",\"\",IF(I100=1,VLOOKUP(AC100,男子種目コード!$J$2:$K$30,2,FALSE),IF(I100=2,VLOOKUP(AC100,女子種目コード!$J$2:$K$28,2,FALSE))))","v":""},null,null,{"$f":"IF(AF100=\"\",\"\",IF(I100=1,VLOOKUP(AF100,男子種目コード!$J$2:$K$30,2,FALSE),IF(I100=2,VLOOKUP(AF100,女子種目コード!$J$2:$K$28,2,FALSE))))","v":""},null,null,null,null,null,"","",null,null,null,null,null,null,null,null,null,0,null,null,null,null,0,"",""]
[null,{"$f":"陸連登録!N96","v":0},null,null,{"$f":"陸連登録!M96","v":0},{"$f":"陸連登録!C96","v":0},{"$f":"陸連登録!D96","v":0},0,{"$f":"陸連登録!A96","v":""},{"$f":"陸連登録!P96","v":0},{"$f":"LEFT(陸連登録!L96,4)","v":""},{"$f":"RIGHT(陸連登録!L96,4)","v":""},{"$f":"#REF!","v":{"$error":"#REF!"}},{"$f":"陸連登録!B96","v":0},null,"",null,null,"","",null,"",null,null,"","",{"$f":"IF(X101=\"\",\"\",IF(I101=1,VLOOKUP(X101,男子種目コード!$J$2:$K$30,2,FALSE),IF(I101=2,VLOOKUP(X101,女子種目コード!$J$2:$K$28,2,FALSE))))","v":""},null,null,{"$f":"IF(AC101=\"\",\"\",IF(I101=1,VLOOKUP(AC101,男子種目コード!$J$2:$K$30,2,FALSE),IF(I101=2,VLOOKUP(AC101,女子種目コード!$J$2:$K$28,2,FALSE))))","v":""},null,null,{"$f":"IF(AF101=\"\",\"\",IF(I101=1,VLOOKUP(AF101,男子種目コード!$J$2:$K$30,2,FALSE),IF(I101=2,VLOOKUP(AF101,女子種目コード!$J$2:$K$28,2,FALSE))))","v":""},null,null,null,null,null,"","",null,null,null,null,null,null,null,null,null,0,null,null,null,null,0,"",""]
[null,{"$f":"陸連登録!N97","v":0},null,null,{"$f":"陸連登録!M97","v":0},{"$f":"陸連登録!C97","v":0},{"$f":"陸連登録!D97","v":0},0,{"$f":"陸連登録!A97","v":""},{"$f":"陸連登録!P97","v":0},{"$f":"LEFT(陸連登録!L97,4)","v":""},{"$f":"RIGHT(陸連登録!L97,4)","v":""},{"$f":"#REF!","v":{"$error":"#REF!"}},{"$f":"陸連登録!B97","v":0},null,"",null,null,"","",null,"",null,null,"","",{"$f":"IF(X102=\"\",\"\",IF(I102=1,VLOOKUP(X102,男子種目コード!$J$2:$K$30,2,FALSE),IF(I102=2,VLOOKUP(X102,女子種目コード!$J$2:$K$28,2,FALSE))))","v":""},null,null,{"$f":"IF(AC102=\"\",\"\",IF(I102=1,VLOOKUP(AC102,男子種目コード!$J$2:$K$30,2,FALSE),IF(I102=2,VLOOKUP(AC102,女子種目コード!$J$2:$K$28,2,FALSE))))","v":""},null,null,{"$f":"IF(AF102=\"\",\"\",IF(I102=1,VLOOKUP(AF102,男子種目コード!$J$2:$K$30,2,FALSE),IF(I102=2,VLOOKUP(AF102,女子種目コード!$J$2:$K$28,2,FALSE))))","v":""},null,null,null,null,null,"","",null,null,null,null,null,null,null,null,null,0,null,null,null,null,0,"",""]
[null,{"$f":"陸連登録!N98","v":0},null,null,{"$f":"陸連登録!M98","v":0},{"$f":"陸連登録!C98","v":0},{"$f":"陸連登録!D98","v":0},0,{"$f":"陸連登録!A98","v":""},{"$f":"陸連登録!P98","v":0},{"$f":"LEFT(陸連登録!L98,4)","v":""},{"$f":"RIGHT(陸連登録!L98,4)","v":""},{"$f":"#REF!","v":{"$error":"#REF!"}},{"$f":"陸連登録!B98","v":0},null,{"$f":"IF(O103=\"\",\"\",IF(I103=1,VLOOKUP(O103,$AO$8:$AQ$25,3,FALSE),IF(I103=2,VLOOKUP(O103,$AO$28:$AQ$45,3,FALSE))))","v":""},null,null,"","",null,{"$f":"IF(U103=\"\",\"\",IF(I103=1,VLOOKUP(U103,$AO$8:$AQ$25,3,FALSE),IF(I103=2,VLOOKUP(U103,$AO$28:$AQ$45,3,FALSE))))","v":""},null,null,"","",{"$f":"IF(X103=\"\",\"\",IF(I103=1,VLOOKUP(X103,男子種目コード!$J$2:$K$30,2,FALSE),IF(I103=2,VLOOKUP(X103,女子種目コード!$J$2:$K$28,2,FALSE))))","v":""},null,null,{"$f":"IF(AC103=\"\",\"\",IF(I103=1,VLOOKUP(AC103,男子種目コード!$J$2:$K$30,2,FALSE),IF(I103=2,VLOOKUP(AC103,女子種目コード!$J$2:$K$28,2,FALSE))))","v":""},null,null,{"$f":"IF(AF103=\"\",\"\",IF(I103=1,VLOOKUP(AF103,男子種目コード!$J$2:$K$30,2,FALSE),IF(I103=2,VLOOKUP(AF103,女子種目コード!$J$2:$K$28,2,FALSE))))","v":""},null,null,null,null,null,"","",null,null,null,null,null,null,null,null,null,{"$f":"IF(OR(AM103=1,U103=\"\"),0,1)","v":0},null,null,null,null,{"$f":"COUNT(P103,V103,AA103)","v":0},{"$f":"IF(I103=1,BC103,\"\")","v":""},{"$f":"IF(I103=2,BC103,\"\")","v":""}]
[null,{"$f":"陸連登録!N99","v":0},null,null,{"$f":"陸連登録!M99","v":0},{"$f":"陸連登録!C99","v":0},{"$f":"陸連登録!D99","v":0},0,{"$f":"陸連登録!A99","v":""},{"$f":"陸連登録!P99","v":0},{"$f":"LEFT(陸連登録!L99,4)","v":""},{"$f":"RIGHT(陸連登録!L99,4)","v":""},{"$f":"#REF!","v":{"$error":"#REF!"}},{"$f":"陸連登録!B99","v":0},null,"",null,null,"","",null,"",null,null,"","",{"$f":"IF(X104=\"\",\"\",IF(I104=1,VLOOKUP(X104,男子種目コード!$J$2:$K$30,2,FALSE),IF(I104=2,VLOOKUP(X104,女子種目コード!$J$2:$K$28,2,FALSE))))","v":""},null,null,{"$f":"IF(AC104=\"\",\"\",IF(I104=1,VLOOKUP(AC104,男子種目コード!$J$2:$K$30,2,FALSE),IF(I104=2,VLOOKUP(AC104,女子種目コード!$J$2:$K$28,2,FALSE))))","v":""},null,null,{"$f":"IF(AF104=\"\",\"\",IF(I104=1,VLOOKUP(AF104,男子種目コード!$J$2:$K$30,2,FALSE),IF(I104=2,VLOOKUP(AF104,女子種目コード!$J$2:$K$28,2,FALSE))))","v":""},null,null,null,null,null,"","",null,null,null,null,null,null,null,null,null,0,null,null,null,null,0,"",""]
[null,{"$f":"陸連登録!N100","v":0},null,null,{"$f":"陸連登録!M100","v":0},{"$f":"陸連登録!C100","v":0},{"$f":"陸連登録!D100","v":0},0,{"$f":"陸連登録!A100","v":""},{"$f":"陸連登録!P100","v":0},{"$f":"LEFT(陸連登録!L100,4)","v":""},{"$f":"RIGHT(陸連登録!L100,4)","v":""},{"$f":"#REF!","v":{"$error":"#REF!"}},{"$f":"陸連登録!B100","v":0},null,"",null,null,"","",null,"",null,null,"","",{"$f":"IF(X105=\"\",\"\",IF(I105=1,VLOOKUP(X105,男子種目コード!$J$2:$K$30,2,FALSE),IF(I105=2,VLOOKUP(X105,女子種目コード!$J$2:$K$28,2,FALSE))))","v":""},null,null,{"$f":"IF(AC105=\"\",\"\",IF(I105=1,VLOOKUP(AC105,男子種目コード!$J$2:$K$30,2,FALSE),IF(I105=2,VLOOKUP(AC105,女子種目コード!$J$2:$K$28,2,FALSE))))","v":""},null,null,{"$f":"IF(AF105=\"\",\"\",IF(I105=1,VLOOKUP(AF105,男子種目コード!$J$2:$K$30,2,FALSE),IF(I105=2,VLOOKUP(AF105,女子種目コード!$J$2:$K$28,2,FALSE))))","v":""},null,null,null,null,null,"","",null,null,null,null,null,null,null,null,null,0,null,null,null,null,0,"",""]
[null,{"$f":"陸連登録!N101","v":0},null,null,{"$f":"陸連登録!M101","v":0},{"$f":"陸連登録!C101","v":0},{"$f":"陸連登録!D101","v":0},0,{"$f":"陸連登録!A101","v":""},{"$f":"陸連登録!P101","v":0},{"$f":"LEFT(陸連登録!L101,4)","v":""},{"$f":"RIGHT(陸連登録!L101,4)","v":""},{"$f":"#REF!","v":{"$error":"#REF!"}},{"$f":"陸連登録!B101","v":0},null,"",null,null,"","",null,"",null,null,"","",{"$f":"IF(X106=\"\",\"\",IF(I106=1,VLOOKUP(X106,男子種目コード!$J$2:$K$30,2,FALSE),IF(I106=2,VLOOKUP(X106,女子種目コード!$J$2:$K$28,2,FALSE))))","v":""},null,null,{"$f":"IF(AC106=\"\",\"\",IF(I106=1,VLOOKUP(AC106,男子種目コード!$J$2:$K$30,2,FALSE),IF(I106=2,VLOOKUP(AC106,女子種目コード!$J$2:$K$28,2,FALSE))))","v":""},null,null,{"$f":"IF(AF106=\"\",\"\",IF(I106=1,VLOOKUP(AF106,男子種目コード!$J$2:$K$30,2,FALSE),IF(I106=2,VLOOKUP(AF106,女子種目コード!$J$2:$K$28,2,FALSE))))","v":""},null,null,null,null,null,"","",null,null,null,null,null,null,null,null,null,0,null,null,null,null,0,"",""]
[null,{"$f":"陸連登録!N102","v":0},null,null,{"$f":"陸連登録!M102","v":0},{"$f":"陸連登録!C102","v":0},{"$f":"陸連登録!D102","v":0},0,{"$f":"陸連登録!A102","v":""},{"$f":"陸連登録!P102","v":0},{"$f":"LEFT(陸連登録!L102,4)","v":""},{"$f":"RIGHT(陸連登録!L102,4)","v":""},{"$f":"#REF!","v":{"$error":"#REF!"}},{"$f":"陸連登録!B102","v":0},null,"",null,null,"","",null,"",null,null,"","",{"$f":"IF(X107=\"\",\"\",IF(I107=1,VLOOKUP(X107,男子種目コード!$J$2:$K$30,2,FALSE),IF(I107=2,VLOOKUP(X107,女子種目コード!$J$2:$K$28,2,FALSE))))","v":""},null,null,{"$f":"IF(AC107=\"\",\"\",IF(I107=1,VLOOKUP(AC107,男子種目コード!$J$2:$K$30,2,FALSE),IF(I107=2,VLOOKUP(AC107,女子種目コード!$J$2:$K$28,2,FALSE))))","v":""},null,null,{"$f":"IF(AF107=\"\",\"\",IF(I107=1,VLOOKUP(AF107,男子種目コード!$J$2:$K$30,2,FALSE),IF(I107=2,VLOOKUP(AF107,女子種目コード!$J$2:$K$28,2,FALSE))))","v":""},null,null,null,null,null,"","",null,null,null,null,null,null,null,null,null,0,null,null,null,null,0,"",""]
[null,{"$f":"陸連登録!N103","v":0},null,null,{"$f":"陸連登録!M103","v":0},{"$f":"陸連登録!C103","v":0},{"$f":"陸連登録!D103","v":0},0,{"$f":"陸連登録!A103","v":""},{"$f":"陸連登録!P103","v":0},{"$f":"LEFT(陸連登録!L103,4)","v":""},{"$f":"RIGHT(陸連登録!L103,4)","v":""},{"$f":"#REF!","v":{"$error":"#REF!"}},{"$f":"陸連登録!B103","v":0},null,"",null,null,"","",null,"",null,null,"","",null,null,null,null,null,null,null,null,null,null,null,null,"","",null,null,null,null,null,null,null,null,null,0,null,null,null,null,0,"",""]
[null,{"$f":"陸連登録!N104","v":0},null,null,{"$f":"陸連登録!M104","v":0},{"$f":"陸連登録!C104","v":0},{"$f":"陸連登録!D104","v":0},0,{"$f":"陸連登録!A104","v":""},{"$f":"陸連登録!P104","v":0},{"$f":"LEFT(陸連登録!L104,4)","v":""},{"$f":"RIGHT(陸連登録!L104,4)","v":""},{"$f":"#REF!","v":{"$error":"#REF!"}},{"$f":"陸連登録!B104","v":0},null,"",null,null,"","",null,"",null,null,"","",null,null,null,null,null,null,null,null,null,null,null,null,"","",null,null,null,null,null,null,null,null,null,0,null,null,null,null,0,"",""]
[null,{"$f":"陸連登録!N105","v":0},null,null,{"$f":"陸連登録!M105","v":0},{"$f":"陸連登録!C105","v":0},{"$f":"陸連登録!D105","v":0},0,{"$f":"陸連登録!A105","v":""},{"$f":"陸連登録!P105","v":0},{"$f":"LEFT(陸連登録!L105,4)","v":""},{"$f":"RIGHT(陸連登録!L105,4)","v":""},{"$f":"#REF!","v":{"$error":"#REF!"}},{"$f":"陸連登録!B105","v":0},null,"",null,null,"","",null,"",null,null,"","",null,null,null,null,null,null,null,null,null,null,null,null,"","",null,null,null,null,null,null,null,null,null,0,null,null,null,null,0,"",""]
[null,{"$f":"陸連登録!N106","v":0},null,null,{"$f":"陸連登録!M106","v":0},{"$f":"陸連登録!C106","v":0},{"$f":"陸連登録!D106","v":0},0,{"$f":"陸連登録!A106","v":""},{"$f":"陸連登録!P106","v":0},{"$f":"LEFT(陸連登録!L106,4)","v":""},{"$f":"RIGHT(陸連登録!L106,4)","v":""},{"$f":"#REF!","v":{"$error":"#REF!"}},{"$f":"陸連登録!B106","v":0},null,"",null,null,"","",null,"",null,null,"","",null,null,null,null,null,null,null,null,null,null,null,null,"","",null,null,null,null,null,null,null,null,null,0,null,null,null,null,0,"",""]
[null,{"$f":"陸連登録!N107","v":0},null,null,{"$f":"陸連登録!M107","v":0},{"$f":"陸連登録!C107","v":0},{"$f":"陸連登録!D107","v":0},0,{"$f":"陸連登録!A107","v":""},{"$f":"陸連登録!P107","v":0},{"$f":"LEFT(陸連登録!L107,4)","v":""},{"$f":"RIGHT(陸連登録!L107,4)","v":""},{"$f":"#REF!","v":{"$error":"#REF!"}},{"$f":"陸連登録!B107","v":0},null,"",null,null,"","",null,"",null,null,"","",null,null,null,null,null,null,null,null,null,null,null,null,"","",null,null,null,null,null,null,null,null,null,0,null,null,null,null,0,"",""]
[null,{"$f":"陸連登録!N108","v":0},null,null,{"$f":"陸連登録!M108","v":0},{"$f":"陸連登録!C108","v":0},{"$f":"陸連登録!D108","v":0},0,{"$f":"陸連登録!A108","v":""},{"$f":"陸連登録!P108","v":0},{"$f":"LEFT(陸連登録!L108,4)","v":""},{"$f":"RIGHT(陸連登録!L108,4)","v":""},{"$f":"#REF!","v":{"$error":"#REF!"}},{"$f":"陸連登録!B108","v":0},null,"",null,null,"","",null,"",null,null,"","",null,null,null,null,null,null,null,null,null,null,null,null,"","",null,null,null,null,null,null,null,null,null,0,null,null,null,null,0,"",""]
[null,{"$f":"陸連登録!N109","v":0},null,null,{"$f":"陸連登録!M109","v":0},{"$f":"陸連登録!C109","v":0},{"$f":"陸連登録!D109","v":0},0,{"$f":"陸連登録!A109","v":""},{"$f":"陸連登録!P109","v":0},{"$f":"LEFT(陸連登録!L109,4)","v":""},{"$f":"RIGHT(陸連登録!L109,4)","v":""},{"$f":"#REF!","v":{"$error":"#REF!"}},{"$f":"陸連登録!B109","v":0},null,"",null,null,"","",null,"",null,null,"","",null,null,null,null,null,null,null,null,null,null,null,null,"","",null,null,null,null,null,null,null,null,null,0,null,null,null,null,0,"",""]
[null,{"$f":"陸連登録!N110","v":0},null,null,{"$f":"陸連登録!M110","v":0},{"$f":"陸連登録!C110","v":0},{"$f":"陸連登録!D110","v":0},0,{"$f":"陸連登録!A110","v":""},{"$f":"陸連登録!P110","v":0},{"$f":"LEFT(陸連登録!L110,4)","v":""},{"$f":"RIGHT(陸連登録!L110,4)","v":""},{"$f":"#REF!","v":{"$error":"#REF!"}},{"$f":"陸連登録!B110","v":0},null,"",null,null,"","",null,"",null,null,"","",null,null,null,null,null,null,null,null,null,null,null,null,"","",null,null,null,null,null,null,null,null,null,0,null,null,null,null,0,"",""]
[null,{"$f":"陸連登録!N111","v":0},null,null,{"$f":"陸連登録!M111","v":0},{"$f":"陸連登録!C111","v":0},{"$f":"陸連登録!D111","v":0},0,{"$f":"陸連登録!A111","v":""},{"$f":"陸連登録!P111","v":0},{"$f":"LEFT(陸連登録!L111,4)","v":""},{"$f":"RIGHT(陸連登録!L111,4)","v":""},{"$f":"#REF!","v":{"$error":"#REF!"}},{"$f":"陸連登録!B111","v":0},null,"",null,null,"","",null,"",null,null,"","",null,null,null,null,null,null,null,null,null,null,null,null,"","",null,null,null,null,null,null,null,null,null,0,null,null,null,null,0,"",""]
[null,null,null,null,null,null,null,null,null,null,null,null,null,null,null,null,null,null,null,null,null,null,null,null,null,null,null,null,null,null,null,null,{"$f":"SUM(AM7:AM116)","v":0},{"$f":"SUM(AN7:AN116)","v":0}]
[null,null,null,null,null,null,null,null,null,null,null,null,null,null,null,null,null,null,null,null,null,null,null,null,null,null,null,null,null,null,null,null,{"$f":"SUM(AG117:AH117)","v":0}]

{"sheet":"所属コード","index":12,"n_rows":189,"n_cols":7,"rows_kept":189,"cut":false,"hidden":true,"merged":[]}
["所属名","所属NO","所属名","所属名略称","所属地NO"]
["成徳","235001","成徳","桑名市",100,null,"桑員"]
["明正","235002","明正","桑名市",100,null,"桑員"]
["光風","235003","光風","桑名市",100,null,"桑員"]
["陽和","235004","陽和","桑名市",100,null,"桑員"]
["正和","235005","正和","桑名市",100,null,"桑員"]
["陵成","235006","陵成","桑名市",100,null,"桑員"]
["光陵","235007","光陵","桑名市",100,null,"桑員"]
["多度","235008","多度","桑名市",100,null,"桑員"]
["長島","235009","長島","桑名市",100,null,"桑員"]
["津田学園","235010","津田学園","桑名市",100,null,"桑員"]
["木曽岬","235011","木曽岬","桑名郡",100,null,"桑員"]
["北勢","235012","北勢","いなべ市",100,null,"桑員"]
["員弁","235013","員弁","いなべ市",100,null,"桑員"]
["大安","235014","大安","いなべ市",100,null,"桑員"]
["東員第一","235015","東員第一","員弁郡",100,null,"桑員"]
["東員第二","235016","東員第二","員弁郡",100,null,"桑員"]
["藤原","235017","藤原","いなべ市",100,null,"桑員"]
["中部","235018","中部","四日市",101,null,"三泗"]
["港","235019","港","四日市",101,null,"三泗"]
["塩浜","235020","塩浜","四日市",101,null,"三泗"]
["山手","235021","山手","四日市",101,null,"三泗"]
["富洲原","235022","富洲原","四日市",101,null,"三泗"]
["富田","235023","富田","四日市",101,null,"三泗"]
["笹川","235024","笹川","四日市",101,null,"三泗"]
["四日市南","235025","四日市南","四日市",101,null,"三泗"]
["西陵","235026","西陵","四日市",101,null,"三泗"]
["三滝","235027","三滝","四日市",101,null,"三泗"]
["大池","235028","大池","四日市",101,null,"三泗"]
["朝明","235029","朝明","四日市",101,null,"三泗"]
["保々","235030","保々","四日市",101,null,"三泗"]
["常磐","235031","常磐","四日市",101,null,"三泗"]
["西笹川","235032","西笹川","四日市",101,null,"三泗"]
["三重平","235033","三重平","四日市",101,null,"三泗"]
["羽津","235034","羽津","四日市",101,null,"三泗"]
["西朝明","235035","西朝明","四日市",101,null,"三泗"]
["桜","235036","桜","四日市",101,null,"三泗"]
["内部","235037","内部","四日市",101,null,"三泗"]
["暁","235038","暁","四日市",101,null,"三泗"]
["海星","235039","海星","四日市",101,null,"三泗"]
["ﾒﾘﾉｰﾙ","235040","ﾒﾘﾉｰﾙ","四日市",101,null,"三泗"]
["菰野","235041","菰野","三重郡",101,null,"三泗"]
["八風","235042","八風","三重郡",101,null,"三泗"]
["楠","235043","楠","四日市",101,null,"三泗"]
["朝日","235044","朝日","三重郡",101,null,"三泗"]
["川越","235045","川越","三重郡",101,null,"三泗"]
["平田野","235046","平田野","鈴鹿市",103,null,"鈴亀"]
["白鳥","235047","白鳥","鈴鹿市",103,null,"鈴亀"]
["神戸","235048","神戸","鈴鹿市",103,null,"鈴亀"]
["大木","235049","大木","鈴鹿市",103,null,"鈴亀"]
["千代崎","235050","千代崎","鈴鹿市",103,null,"鈴亀"]
["白子","235051","白子","鈴鹿市",103,null,"鈴亀"]
["天栄","235052","天栄","鈴鹿市",103,null,"鈴亀"]
["鈴峰","235053","鈴峰","鈴鹿市",103,null,"鈴亀"]
["鼓ヶ浦","235054","鼓ヶ浦","鈴鹿市",103,null,"鈴亀"]
["創徳","235055","創徳","鈴鹿市",103,null,"鈴亀"]
["鈴鹿","235056","鈴鹿","鈴鹿市",103,null,"鈴亀"]
["亀山","235057","亀山","亀山市",103,null,"鈴亀"]
["亀山中部","235058","亀山中部","亀山市",103,null,"鈴亀"]
["関","235059","関","亀山市",103,null,"鈴亀"]
["橋北","235060","橋北","津市",104,null,"津"]
["東橋内","235061","東橋内","津市",104,null,"津"]
["西橋内","235062","西橋内","津市",104,null,"津"]
["橋南","235063","橋南","津市",104,null,"津"]
["南郊","235064","南郊","津市",104,null,"津"]
["西郊","235065","西郊","津市",104,null,"津"]
["一身田","235066","一身田","津市",104,null,"津"]
["一身田国児","235067","一身田国児","津市",104,null,"津"]
["南が丘","235068","南が丘","津市",104,null,"津"]
["高田","235069","高田","津市",104,null,"津"]
["セントヨゼフ","235070","セントヨゼフ","津市",104,null,"津"]
["三重大附属","235071","三重大附属","津市",104,null,"津"]
["豊里","235072","豊里","津市",104,null,"津"]
["朝陽","235073","朝陽","津市",104,null,"津"]
["芸濃","235074","芸濃","津市",104,null,"津"]
["美里","235075","美里","津市",104,null,"津"]
["東観","235076","東観","津市",104,null,"津"]
["久居","235077","久居","津市",104,null,"津"]
["久居西","235078","久居西","津市",104,null,"津"]
["久居東","235079","久居東","津市",104,null,"津"]
["香海","235080","香海","津市",104,null,"津"]
["一志","235081","一志","津市",104,null,"津"]
["白山","235082","白山","津市",104,null,"津"]
["嬉野","235083","嬉野","松阪市",105,null,"松多"]
["美杉","235084","美杉","津市",104,null,"津"]
["三雲","235085","三雲","松阪市",105,null,"松多"]
["殿町","235086","殿町","松阪市",105,null,"松多"]
["鎌田","235087","鎌田","松阪市",105,null,"松多"]
["久保","235088","久保","松阪市",105,null,"松多"]
["松阪東部","235089","松阪東部","松阪市",105,null,"松多"]
["松阪中部","235090","松阪中部","松阪市",105,null,"松多"]
["大江","235091","大江","松阪市",105,null,"松多"]
["西","235092","西","松阪市",105,null,"松多"]
["三重","235093","三重","松阪市",105,null,"松多"]
["飯南","235094","飯南","松阪市",105,null,"松多"]
["飯高西","235095","飯高西","松阪市",105,null,"松多"]
["飯高東","235096","飯高東","松阪市",105,null,"松多"]
["多気","235097","多気","多気郡",105,null,"松多"]
["明和","235098","明和","多気郡",105,null,"松多"]
["協和","235099","協和","多気郡",105,null,"松多"]
["大台","235100","大台","多気郡",105,null,"松多"]
["勢和","235101","勢和","多気郡",105,null,"松多"]
["多気宮川","235102","多気宮川","多気郡",105,null,"松多"]
["倉田山","235103","倉田山","伊勢市",106,null,"伊度"]
["厚生","235104","厚生","伊勢市",106,null,"伊度"]
["伊勢宮川","235105","伊勢宮川","伊勢市",106,null,"伊度"]
["伊勢港","235106","伊勢港","伊勢市",106,null,"伊度"]
["豊浜","235107","豊浜","伊勢市",106,null,"伊度"]
["北浜","235108","北浜","伊勢市",106,null,"伊度"]
["沼木","235109","沼木","伊勢市",106,null,"伊度"]
["城田","235110","城田","伊勢市",106,null,"伊度"]
["五十鈴","235111","五十鈴","伊勢市",106,null,"伊度"]
["皇學館","235112","皇學館","伊勢市",106,null,"伊度"]
["二見","235113","二見","伊勢市",106,null,"伊度"]
["御薗","235114","御薗","伊勢市",106,null,"伊度"]
["小俣","235115","小俣","伊勢市",106,null,"伊度"]
["玉城","235116","玉城","度会郡",106,null,"伊度"]
["大宮","235117","大宮","度会郡",106,null,"伊度"]
["大紀","235119","大紀","度会郡",106,null,"伊度"]
["南島","235121","南島","度会郡",106,null,"伊度"]
["南島西","235122","南島西","度会郡",106,null,"伊度"]
["南勢","235123","南勢","度会郡",106,null,"伊度"]
["度会","235124","度会","度会郡",106,null,"伊度"]
["鳥羽東","235125","鳥羽東","鳥羽市",107,null,"鳥志"]
["答志","235126","答志","鳥羽市",107,null,"鳥志"]
["神島","235127","神島","鳥羽市",107,null,"鳥志"]
["加茂","235128","加茂","鳥羽市",107,null,"鳥志"]
["鏡浦","235129","鏡浦","鳥羽市",107,null,"鳥志"]
["長岡","235130","長岡","鳥羽市",107,null,"鳥志"]
["浜島","235131","浜島","志摩市",107,null,"鳥志"]
["波切","235132","波切","志摩市",107,null,"鳥志"]
["船越","235133","船越","志摩市",107,null,"鳥志"]
["片田","235134","片田","志摩市",107,null,"鳥志"]
["和具","235135","和具","志摩市",107,null,"鳥志"]
["越賀","235136","越賀","志摩市",107,null,"鳥志"]
["文岡","235137","文岡","志摩市",107,null,"鳥志"]
["東海","235138","東海","志摩市",107,null,"鳥志"]
["安乗","235139","安乗","志摩市",107,null,"鳥志"]
["磯部","235140","磯部","志摩市",107,null,"鳥志"]
["的矢","235141","的矢","志摩市",107,null,"鳥志"]
["崇広","235142","崇広","伊賀市",108,null,"伊賀"]
["城東","235143","城東","伊賀市",108,null,"伊賀"]
["緑ヶ丘","235144","緑ヶ丘","伊賀市",108,null,"伊賀"]
["成和","235146","成和","伊賀市",108,null,"伊賀"]
["丸山","235147","丸山","伊賀市",108,null,"伊賀"]
["日生付属","235148","日生付属","伊賀市",108,null,"伊賀"]
["名張","235149","名張","名張市",109,null,"名張"]
["赤目","235150","赤目","名張市",109,null,"名張"]
["桔梗が丘","235151","桔梗が丘","名張市",109,null,"名張"]
["名張北","235152","名張北","名張市",109,null,"名張"]
["南","235153","南","名張市",109,null,"名張"]
["青山","235154","青山","伊賀市",109,null,"名張"]
["柘植","235155","柘植","伊賀市",109,null,"名張"]
["霊峰","235156","霊峰","伊賀市",109,null,"名張"]
["島ヶ原","235157","島ヶ原","伊賀市",109,null,"名張"]
["阿山","235158","阿山","伊賀市",109,null,"名張"]
["大山田","235159","大山田","伊賀市",109,null,"名張"]
["尾鷲","235160","尾鷲","尾鷲市",109,null,"名張"]
["九鬼","235161","九鬼","尾鷲市",110,null,"尾北"]
["北輪内","235162","北輪内","尾鷲市",110,null,"尾北"]
["輪内","235163","輪内","尾鷲市",110,null,"尾北"]
["紀北","235164","紀北","北牟婁",110,null,"尾北"]
["赤羽","235165","赤羽","北牟婁",110,null,"尾北"]
["潮南","235166","潮南","北牟婁",110,null,"尾北"]
["三船","235167","三船","北牟婁",110,null,"尾北"]
["荒坂","235168","荒坂","熊野市",111,null,"熊南"]
["新鹿","235169","新鹿","熊野市",111,null,"熊南"]
["木本","235170","木本","熊野市",111,null,"熊南"]
["有馬","235171","有馬","熊野市",111,null,"熊南"]
["育生","235172","育生","熊野市",111,null,"熊南"]
["神上","235173","神上","熊野市",111,null,"熊南"]
["五郷","235174","五郷","熊野市",111,null,"熊南"]
["飛鳥","235175","飛鳥","熊野市",111,null,"熊南"]
["御浜","235176","御浜","南牟婁",111,null,"熊南"]
["阿田和","235177","阿田和","南牟婁",111,null,"熊南"]
["尾呂志学園","235178","尾呂志学園","南牟婁",111,null,"熊南"]
["相野谷","235179","相野谷","南牟婁",111,null,"熊南"]
["入鹿","235180","入鹿","南牟婁",111,null,"熊南"]
["矢渕","235181","矢渕","南牟婁",111,null,"熊南"]
["Y_W_C","230082","Y_W_C","三重",101,null,"三泗"]
["四日市陸上","239128","四日市陸上","三重",101,null,"三泗"]
["ASSA-TC","230081","ASSA-TC","三重",103,null,"鈴亀"]
["イムラＡＡ","239125","イムラＡＡ","三重",103,null,"鈴亀"]
["橋南スポク","230096","橋南スポク","三重",104,null,"津"]
["J＆E久居","239127","J＆E久居","三重",104,null,"津"]
["伊賀TC","230092","伊賀ＴＣ","三重",108,null,"伊賀"]
["上野ＡＣ","239125","上野ＡＣ","三重",108,null,"伊賀"]
["名張ｸﾗﾌﾞ","230116","名張クラブ","三重",109,null,"名張"]
["熊野ＲＣ","230115","熊野ＲＣ","三重",111,null,"熊南"]

{"sheet":"DENSO_CUP","index":13,"n_rows":117,"n_cols":37,"rows_kept":117,"cut":false,"hidden":false,"merged":[[1,7,1,17],[5,34,5,35]]}
[null,null,null,null,"所属名",{"$f":"陸連登録!I2","v":0}]
[null,null,null,null,"所属コード",{"$f":"陸連登録!N2","v":0},null,"ＤＥＮＳＯ　ＣＵＰ"]
[null,null,null,null,"顧問名",null,null,null,null,null,null,"参加人数",null,null,{"$f":"AH117","v":0}]
[null,null,null,null,"顧問連絡先",null,null,null,null,null,null,"大会参加費",null,null,{"$f":"AH117*500","v":0}]
[]
["競技者コード","所属コード",null,null,"ナンバー","名前","カナ名","掲示板名","性別","学年","生年","月日","個人所属地コード","陸連ID","種目","コード","記録","リレー","コード","記録","種目3","コード","記録3","種目4","コード","自己記録4","種目5","コード","自己記録5","オープン参加フラグ",null,null,"中学男子5ｋ",null,"種目別人数"]
[null,{"$f":"陸連登録!N2","v":0},null,null,{"$f":"陸連登録!M2","v":1000},{"$f":"陸連登録!C2","v":"岡田"},{"$f":"陸連登録!D2","v":0},{"$f":"F7","v":"岡田"},{"$f":"陸連登録!A2","v":1},{"$f":"陸連登録!P2","v":3},{"$f":"LEFT(陸連登録!L2,4)","v":""},{"$f":"RIGHT(陸連登録!L2,4)","v":""},{"$f":"陸連登録!F2","v":0},{"$f":"陸連登録!B2","v":0},null,{"$f":"IF(O7=\"\",\"\",IF(I7=1,VLOOKUP(O7,$AI$7:$AK$9,3,FALSE),IF(I7=2,VLOOKUP(O7,$AI$10:$AK$11,3,FALSE))))","v":""},null,{"$f":"$F$1","v":0},"中学",{"$f":"CONCATENATE(R7,S7)","v":"0中学"},null,null,null,null,null,null,null,null,null,0,null,null,"中学女子3ｋ",{"$f":"IF(O7=\"\",\"\",1)","v":""},"1500m",{"$f":"COUNTIF($P$7:$P$116,1)","v":0},1]
[null,{"$f":"陸連登録!N3","v":0},null,null,{"$f":"陸連登録!M3","v":0},{"$f":"陸連登録!C3","v":0},{"$f":"陸連登録!D3","v":0},{"$f":"F8","v":0},{"$f":"陸連登録!A3","v":""},{"$f":"陸連登録!P3","v":0},{"$f":"LEFT(陸連登録!L3,4)","v":""},{"$f":"RIGHT(陸連登録!L3,4)","v":""},{"$f":"陸連登録!F3","v":0},{"$f":"陸連登録!B3","v":0},null,{"$f":"IF(O8=\"\",\"\",IF(I8=1,VLOOKUP(O8,$AI$7:$AK$9,3,FALSE),IF(I8=2,VLOOKUP(O8,$AI$10:$AK$11,3,FALSE))))","v":""},null,{"$f":"$F$1","v":0},"中学",{"$f":"CONCATENATE(R8,S8)","v":"0中学"},null,null,null,null,null,null,null,null,null,0,null,null,null,{"$f":"IF(O8=\"\",\"\",1)","v":""},"3000m",{"$f":"COUNTIF($P$7:$P$116,2)","v":0},2]
[null,{"$f":"陸連登録!N4","v":0},null,null,{"$f":"陸連登録!M4","v":0},{"$f":"陸連登録!C4","v":0},{"$f":"陸連登録!D4","v":0},0,{"$f":"陸連登録!A4","v":""},{"$f":"陸連登録!P4","v":0},{"$f":"LEFT(陸連登録!L4,4)","v":""},{"$f":"RIGHT(陸連登録!L4,4)","v":""},{"$f":"陸連登録!F4","v":0},{"$f":"陸連登録!B4","v":0},null,"",null,0,"中学","0中学",null,null,null,null,null,null,null,null,null,0,null,null,null,"","5000m",{"$f":"COUNTIF($P$7:$P$116,3)","v":0},3]
[null,{"$f":"陸連登録!N5","v":0},null,null,{"$f":"陸連登録!M5","v":0},{"$f":"陸連登録!C5","v":0},{"$f":"陸連登録!D5","v":0},0,{"$f":"陸連登録!A5","v":""},{"$f":"陸連登録!P5","v":0},{"$f":"LEFT(陸連登録!L5,4)","v":""},{"$f":"RIGHT(陸連登録!L5,4)","v":""},{"$f":"陸連登録!F5","v":0},{"$f":"陸連登録!B5","v":0},null,"",null,0,"中学","0中学",null,null,null,null,null,null,null,null,null,0,null,null,null,"","1500m",{"$f":"COUNTIF($P$7:$P$116,6)","v":0},6]
[null,{"$f":"陸連登録!N6","v":0},null,null,{"$f":"陸連登録!M6","v":0},{"$f":"陸連登録!C6","v":0},{"$f":"陸連登録!D6","v":0},0,{"$f":"陸連登録!A6","v":""},{"$f":"陸連登録!P6","v":0},{"$f":"LEFT(陸連登録!L6,4)","v":""},{"$f":"RIGHT(陸連登録!L6,4)","v":""},{"$f":"陸連登録!F6","v":0},{"$f":"陸連登録!B6","v":0},null,"",null,0,"中学","0中学",null,null,null,null,null,null,null,null,null,0,null,null,null,"","3000m",{"$f":"COUNTIF($P$7:$P$116,7)","v":0},7]
[null,{"$f":"陸連登録!N7","v":0},null,null,{"$f":"陸連登録!M7","v":0},{"$f":"陸連登録!C7","v":0},{"$f":"陸連登録!D7","v":0},0,{"$f":"陸連登録!A7","v":""},{"$f":"陸連登録!P7","v":0},{"$f":"LEFT(陸連登録!L7,4)","v":""},{"$f":"RIGHT(陸連登録!L7,4)","v":""},{"$f":"陸連登録!F7","v":0},{"$f":"陸連登録!B7","v":0},null,"",null,0,"中学","0中学",null,null,null,null,null,null,null,null,null,0,null,null,null,"","計",{"$f":"SUM(AJ7:AJ11)","v":0}]
[null,{"$f":"陸連登録!N8","v":0},null,null,{"$f":"陸連登録!M8","v":0},{"$f":"陸連登録!C8","v":0},{"$f":"陸連登録!D8","v":0},0,{"$f":"陸連登録!A8","v":""},{"$f":"陸連登録!P8","v":0},{"$f":"LEFT(陸連登録!L8,4)","v":""},{"$f":"RIGHT(陸連登録!L8,4)","v":""},{"$f":"陸連登録!F8","v":0},{"$f":"陸連登録!B8","v":0},null,"",null,0,"中学","0中学",null,null,null,null,null,null,null,null,null,0,null,null,null,""]
[null,{"$f":"陸連登録!N9","v":0},null,null,{"$f":"陸連登録!M9","v":0},{"$f":"陸連登録!C9","v":0},{"$f":"陸連登録!D9","v":0},0,{"$f":"陸連登録!A9","v":""},{"$f":"陸連登録!P9","v":0},{"$f":"LEFT(陸連登録!L9,4)","v":""},{"$f":"RIGHT(陸連登録!L9,4)","v":""},{"$f":"陸連登録!F9","v":0},{"$f":"陸連登録!B9","v":0},null,"",null,0,"中学","0中学",null,null,null,null,null,null,null,null,null,0,null,null,null,""]
[null,{"$f":"陸連登録!N10","v":0},null,null,{"$f":"陸連登録!M10","v":0},{"$f":"陸連登録!C10","v":0},{"$f":"陸連登録!D10","v":0},0,{"$f":"陸連登録!A10","v":""},{"$f":"陸連登録!P10","v":0},{"$f":"LEFT(陸連登録!L10,4)","v":""},{"$f":"RIGHT(陸連登録!L10,4)","v":""},{"$f":"陸連登録!F10","v":0},{"$f":"陸連登録!B10","v":0},null,"",null,0,"中学","0中学",null,null,null,null,null,null,null,null,null,0,null,null,null,""]
[null,{"$f":"陸連登録!N11","v":0},null,null,{"$f":"陸連登録!M11","v":0},{"$f":"陸連登録!C11","v":0},{"$f":"陸連登録!D11","v":0},0,{"$f":"陸連登録!A11","v":""},{"$f":"陸連登録!P11","v":0},{"$f":"LEFT(陸連登録!L11,4)","v":""},{"$f":"RIGHT(陸連登録!L11,4)","v":""},{"$f":"陸連登録!F11","v":0},{"$f":"陸連登録!B11","v":0},null,"",null,0,"中学","0中学",null,null,null,null,null,null,null,null,null,0,null,null,null,""]
[null,{"$f":"陸連登録!N12","v":0},null,null,{"$f":"陸連登録!M12","v":0},{"$f":"陸連登録!C12","v":0},{"$f":"陸連登録!D12","v":0},0,{"$f":"陸連登録!A12","v":""},{"$f":"陸連登録!P12","v":0},{"$f":"LEFT(陸連登録!L12,4)","v":""},{"$f":"RIGHT(陸連登録!L12,4)","v":""},{"$f":"陸連登録!F12","v":0},{"$f":"陸連登録!B12","v":0},null,"",null,0,"中学","0中学",null,null,null,null,null,null,null,null,null,0,null,null,null,""]
[null,{"$f":"陸連登録!N13","v":0},null,null,{"$f":"陸連登録!M13","v":0},{"$f":"陸連登録!C13","v":0},{"$f":"陸連登録!D13","v":0},0,{"$f":"陸連登録!A13","v":""},{"$f":"陸連登録!P13","v":0},{"$f":"LEFT(陸連登録!L13,4)","v":""},{"$f":"RIGHT(陸連登録!L13,4)","v":""},{"$f":"陸連登録!F13","v":0},{"$f":"陸連登録!B13","v":0},null,"",null,0,"中学","0中学",null,null,null,null,null,null,null,null,null,0,null,null,null,""]
[null,{"$f":"陸連登録!N14","v":0},null,null,{"$f":"陸連登録!M14","v":0},{"$f":"陸連登録!C14","v":0},{"$f":"陸連登録!D14","v":0},0,{"$f":"陸連登録!A14","v":""},{"$f":"陸連登録!P14","v":0},{"$f":"LEFT(陸連登録!L14,4)","v":""},{"$f":"RIGHT(陸連登録!L14,4)","v":""},{"$f":"陸連登録!F14","v":0},{"$f":"陸連登録!B14","v":0},null,"",null,0,"中学","0中学",null,null,null,null,null,null,null,null,null,0,null,null,null,""]
[null,{"$f":"陸連登録!N15","v":0},null,null,{"$f":"陸連登録!M15","v":0},{"$f":"陸連登録!C15","v":0},{"$f":"陸連登録!D15","v":0},0,{"$f":"陸連登録!A15","v":""},{"$f":"陸連登録!P15","v":0},{"$f":"LEFT(陸連登録!L15,4)","v":""},{"$f":"RIGHT(陸連登録!L15,4)","v":""},{"$f":"陸連登録!F15","v":0},{"$f":"陸連登録!B15","v":0},null,"",null,0,"中学","0中学",null,null,null,null,null,null,null,null,null,0,null,null,null,""]
[null,{"$f":"陸連登録!N16","v":0},null,null,{"$f":"陸連登録!M16","v":0},{"$f":"陸連登録!C16","v":0},{"$f":"陸連登録!D16","v":0},0,{"$f":"陸連登録!A16","v":""},{"$f":"陸連登録!P16","v":0},{"$f":"LEFT(陸連登録!L16,4)","v":""},{"$f":"RIGHT(陸連登録!L16,4)","v":""},{"$f":"陸連登録!F16","v":0},{"$f":"陸連登録!B16","v":0},null,"",null,0,"中学","0中学",null,null,null,null,null,null,null,null,null,0,null,null,null,""]
[null,{"$f":"陸連登録!N17","v":0},null,null,{"$f":"陸連登録!M17","v":0},{"$f":"陸連登録!C17","v":0},{"$f":"陸連登録!D17","v":0},0,{"$f":"陸連登録!A17","v":""},{"$f":"陸連登録!P17","v":0},{"$f":"LEFT(陸連登録!L17,4)","v":""},{"$f":"RIGHT(陸連登録!L17,4)","v":""},{"$f":"陸連登録!F17","v":0},{"$f":"陸連登録!B17","v":0},null,"",null,0,"中学","0中学",null,null,null,null,null,null,null,null,null,0,null,null,null,""]
[null,{"$f":"陸連登録!N18","v":0},null,null,{"$f":"陸連登録!M18","v":0},{"$f":"陸連登録!C18","v":0},{"$f":"陸連登録!D18","v":0},0,{"$f":"陸連登録!A18","v":""},{"$f":"陸連登録!P18","v":0},{"$f":"LEFT(陸連登録!L18,4)","v":""},{"$f":"RIGHT(陸連登録!L18,4)","v":""},{"$f":"陸連登録!F18","v":0},{"$f":"陸連登録!B18","v":0},null,"",null,0,"中学","0中学",null,null,null,null,null,null,null,null,null,0,null,null,null,""]
[null,{"$f":"陸連登録!N19","v":0},null,null,{"$f":"陸連登録!M19","v":0},{"$f":"陸連登録!C19","v":0},{"$f":"陸連登録!D19","v":0},0,{"$f":"陸連登録!A19","v":""},{"$f":"陸連登録!P19","v":0},{"$f":"LEFT(陸連登録!L19,4)","v":""},{"$f":"RIGHT(陸連登録!L19,4)","v":""},{"$f":"陸連登録!F19","v":0},{"$f":"陸連登録!B19","v":0},null,"",null,0,"中学","0中学",null,null,null,null,null,null,null,null,null,0,null,null,null,""]
[null,{"$f":"陸連登録!N20","v":0},null,null,{"$f":"陸連登録!M20","v":0},{"$f":"陸連登録!C20","v":0},{"$f":"陸連登録!D20","v":0},0,{"$f":"陸連登録!A20","v":""},{"$f":"陸連登録!P20","v":0},{"$f":"LEFT(陸連登録!L20,4)","v":""},{"$f":"RIGHT(陸連登録!L20,4)","v":""},{"$f":"陸連登録!F20","v":0},{"$f":"陸連登録!B20","v":0},null,"",null,0,"中学","0中学",null,null,null,null,null,null,null,null,null,0,null,null,null,""]
[null,{"$f":"陸連登録!N21","v":0},null,null,{"$f":"陸連登録!M21","v":0},{"$f":"陸連登録!C21","v":0},{"$f":"陸連登録!D21","v":0},0,{"$f":"陸連登録!A21","v":""},{"$f":"陸連登録!P21","v":0},{"$f":"LEFT(陸連登録!L21,4)","v":""},{"$f":"RIGHT(陸連登録!L21,4)","v":""},{"$f":"陸連登録!F21","v":0},{"$f":"陸連登録!B21","v":0},null,"",null,0,"中学","0中学",null,null,null,null,null,null,null,null,null,0,null,null,null,""]
[null,{"$f":"陸連登録!N22","v":0},null,null,{"$f":"陸連登録!M22","v":0},{"$f":"陸連登録!C22","v":0},{"$f":"陸連登録!D22","v":0},0,{"$f":"陸連登録!A22","v":""},{"$f":"陸連登録!P22","v":0},{"$f":"LEFT(陸連登録!L22,4)","v":""},{"$f":"RIGHT(陸連登録!L22,4)","v":""},{"$f":"陸連登録!F22","v":0},{"$f":"陸連登録!B22","v":0},null,"",null,0,"中学","0中学",null,null,null,null,null,null,null,null,null,0,null,null,null,""]
[null,{"$f":"陸連登録!N23","v":0},null,null,{"$f":"陸連登録!M23","v":0},{"$f":"陸連登録!C23","v":0},{"$f":"陸連登録!D23","v":0},0,{"$f":"陸連登録!A23","v":""},{"$f":"陸連登録!P23","v":0},{"$f":"LEFT(陸連登録!L23,4)","v":""},{"$f":"RIGHT(陸連登録!L23,4)","v":""},{"$f":"陸連登録!F23","v":0},{"$f":"陸連登録!B23","v":0},null,"",null,0,"中学","0中学",null,null,null,null,null,null,null,null,null,0,null,null,null,""]
[null,{"$f":"陸連登録!N24","v":0},null,null,{"$f":"陸連登録!M24","v":0},{"$f":"陸連登録!C24","v":0},{"$f":"陸連登録!D24","v":0},0,{"$f":"陸連登録!A24","v":""},{"$f":"陸連登録!P24","v":0},{"$f":"LEFT(陸連登録!L24,4)","v":""},{"$f":"RIGHT(陸連登録!L24,4)","v":""},{"$f":"陸連登録!F24","v":0},{"$f":"陸連登録!B24","v":0},null,"",null,0,"中学","0中学",null,null,null,null,null,null,null,null,null,0,null,null,null,""]
[null,{"$f":"陸連登録!N25","v":0},null,null,{"$f":"陸連登録!M25","v":0},{"$f":"陸連登録!C25","v":0},{"$f":"陸連登録!D25","v":0},0,{"$f":"陸連登録!A25","v":""},{"$f":"陸連登録!P25","v":0},{"$f":"LEFT(陸連登録!L25,4)","v":""},{"$f":"RIGHT(陸連登録!L25,4)","v":""},{"$f":"陸連登録!F25","v":0},{"$f":"陸連登録!B25","v":0},null,"",null,0,"中学","0中学",null,null,null,null,null,null,null,null,null,0,null,null,null,""]
[null,{"$f":"陸連登録!N26","v":0},null,null,{"$f":"陸連登録!M26","v":0},{"$f":"陸連登録!C26","v":0},{"$f":"陸連登録!D26","v":0},0,{"$f":"陸連登録!A26","v":""},{"$f":"陸連登録!P26","v":0},{"$f":"LEFT(陸連登録!L26,4)","v":""},{"$f":"RIGHT(陸連登録!L26,4)","v":""},{"$f":"陸連登録!F26","v":0},{"$f":"陸連登録!B26","v":0},null,"",null,0,"中学","0中学",null,null,null,null,null,null,null,null,null,0,null,null,null,""]
[null,{"$f":"陸連登録!N27","v":0},null,null,{"$f":"陸連登録!M27","v":0},{"$f":"陸連登録!C27","v":0},{"$f":"陸連登録!D27","v":0},0,{"$f":"陸連登録!A27","v":""},{"$f":"陸連登録!P27","v":0},{"$f":"LEFT(陸連登録!L27,4)","v":""},{"$f":"RIGHT(陸連登録!L27,4)","v":""},{"$f":"陸連登録!F27","v":0},{"$f":"陸連登録!B27","v":0},null,"",null,0,"中学","0中学",null,null,null,null,null,null,null,null,null,0,null,null,null,""]
[null,{"$f":"陸連登録!N28","v":0},null,null,{"$f":"陸連登録!M28","v":0},{"$f":"陸連登録!C28","v":0},{"$f":"陸連登録!D28","v":0},0,{"$f":"陸連登録!A28","v":""},{"$f":"陸連登録!P28","v":0},{"$f":"LEFT(陸連登録!L28,4)","v":""},{"$f":"RIGHT(陸連登録!L28,4)","v":""},{"$f":"陸連登録!F28","v":0},{"$f":"陸連登録!B28","v":0},null,"",null,0,"中学","0中学",null,null,null,null,null,null,null,null,null,0,null,null,null,""]
[null,{"$f":"陸連登録!N29","v":0},null,null,{"$f":"陸連登録!M29","v":0},{"$f":"陸連登録!C29","v":0},{"$f":"陸連登録!D29","v":0},0,{"$f":"陸連登録!A29","v":""},{"$f":"陸連登録!P29","v":0},{"$f":"LEFT(陸連登録!L29,4)","v":""},{"$f":"RIGHT(陸連登録!L29,4)","v":""},{"$f":"陸連登録!F29","v":0},{"$f":"陸連登録!B29","v":0},null,"",null,0,"中学","0中学",null,null,null,null,null,null,null,null,null,0,null,null,null,""]
[null,{"$f":"陸連登録!N30","v":0},null,null,{"$f":"陸連登録!M30","v":0},{"$f":"陸連登録!C30","v":0},{"$f":"陸連登録!D30","v":0},0,{"$f":"陸連登録!A30","v":""},{"$f":"陸連登録!P30","v":0},{"$f":"LEFT(陸連登録!L30,4)","v":""},{"$f":"RIGHT(陸連登録!L30,4)","v":""},{"$f":"陸連登録!F30","v":0},{"$f":"陸連登録!B30","v":0},null,"",null,0,"中学","0中学",null,null,null,null,null,null,null,null,null,0,null,null,null,""]
[null,{"$f":"陸連登録!N31","v":0},null,null,{"$f":"陸連登録!M31","v":0},{"$f":"陸連登録!C31","v":0},{"$f":"陸連登録!D31","v":0},0,{"$f":"陸連登録!A31","v":""},{"$f":"陸連登録!P31","v":0},{"$f":"LEFT(陸連登録!L31,4)","v":""},{"$f":"RIGHT(陸連登録!L31,4)","v":""},{"$f":"陸連登録!F31","v":0},{"$f":"陸連登録!B31","v":0},null,"",null,0,"中学","0中学",null,null,null,null,null,null,null,null,null,0,null,null,null,""]
[null,{"$f":"陸連登録!N32","v":0},null,null,{"$f":"陸連登録!M32","v":0},{"$f":"陸連登録!C32","v":0},{"$f":"陸連登録!D32","v":0},0,{"$f":"陸連登録!A32","v":""},{"$f":"陸連登録!P32","v":0},{"$f":"LEFT(陸連登録!L32,4)","v":""},{"$f":"RIGHT(陸連登録!L32,4)","v":""},{"$f":"陸連登録!F32","v":0},{"$f":"陸連登録!B32","v":0},null,"",null,0,"中学","0中学",null,null,null,null,null,null,null,null,null,0,null,null,null,""]
[null,{"$f":"陸連登録!N33","v":0},null,null,{"$f":"陸連登録!M33","v":0},{"$f":"陸連登録!C33","v":0},{"$f":"陸連登録!D33","v":0},0,{"$f":"陸連登録!A33","v":""},{"$f":"陸連登録!P33","v":0},{"$f":"LEFT(陸連登録!L33,4)","v":""},{"$f":"RIGHT(陸連登録!L33,4)","v":""},{"$f":"陸連登録!F33","v":0},{"$f":"陸連登録!B33","v":0},null,"",null,0,"中学","0中学",null,null,null,null,null,null,null,null,null,0,null,null,null,""]
[null,{"$f":"陸連登録!N34","v":0},null,null,{"$f":"陸連登録!M34","v":0},{"$f":"陸連登録!C34","v":0},{"$f":"陸連登録!D34","v":0},0,{"$f":"陸連登録!A34","v":""},{"$f":"陸連登録!P34","v":0},{"$f":"LEFT(陸連登録!L34,4)","v":""},{"$f":"RIGHT(陸連登録!L34,4)","v":""},{"$f":"陸連登録!F34","v":0},{"$f":"陸連登録!B34","v":0},null,"",null,0,"中学","0中学",null,null,null,null,null,null,null,null,null,0,null,null,null,""]
[null,{"$f":"陸連登録!N35","v":0},null,null,{"$f":"陸連登録!M35","v":0},{"$f":"陸連登録!C35","v":0},{"$f":"陸連登録!D35","v":0},0,{"$f":"陸連登録!A35","v":""},{"$f":"陸連登録!P35","v":0},{"$f":"LEFT(陸連登録!L35,4)","v":""},{"$f":"RIGHT(陸連登録!L35,4)","v":""},{"$f":"陸連登録!F35","v":0},{"$f":"陸連登録!B35","v":0},null,"",null,0,"中学","0中学",null,null,null,null,null,null,null,null,null,0,null,null,null,""]
[null,{"$f":"陸連登録!N36","v":0},null,null,{"$f":"陸連登録!M36","v":0},{"$f":"陸連登録!C36","v":0},{"$f":"陸連登録!D36","v":0},0,{"$f":"陸連登録!A36","v":""},{"$f":"陸連登録!P36","v":0},{"$f":"LEFT(陸連登録!L36,4)","v":""},{"$f":"RIGHT(陸連登録!L36,4)","v":""},{"$f":"陸連登録!F36","v":0},{"$f":"陸連登録!B36","v":0},null,"",null,0,"中学","0中学",null,null,null,null,null,null,null,null,null,0,null,null,null,""]
[null,{"$f":"陸連登録!N37","v":0},null,null,{"$f":"陸連登録!M37","v":0},{"$f":"陸連登録!C37","v":0},{"$f":"陸連登録!D37","v":0},0,{"$f":"陸連登録!A37","v":""},{"$f":"陸連登録!P37","v":0},{"$f":"LEFT(陸連登録!L37,4)","v":""},{"$f":"RIGHT(陸連登録!L37,4)","v":""},{"$f":"陸連登録!F37","v":0},{"$f":"陸連登録!B37","v":0},null,"",null,0,"中学","0中学",null,null,null,null,null,null,null,null,null,0,null,null,null,""]
[null,{"$f":"陸連登録!N38","v":0},null,null,{"$f":"陸連登録!M38","v":0},{"$f":"陸連登録!C38","v":0},{"$f":"陸連登録!D38","v":0},0,{"$f":"陸連登録!A38","v":""},{"$f":"陸連登録!P38","v":0},{"$f":"LEFT(陸連登録!L38,4)","v":""},{"$f":"RIGHT(陸連登録!L38,4)","v":""},{"$f":"陸連登録!F38","v":0},{"$f":"陸連登録!B38","v":0},null,"",null,0,"中学","0中学",null,null,null,null,null,null,null,null,null,0,null,null,null,""]
[null,{"$f":"陸連登録!N39","v":0},null,null,{"$f":"陸連登録!M39","v":0},{"$f":"陸連登録!C39","v":0},{"$f":"陸連登録!D39","v":0},0,{"$f":"陸連登録!A39","v":""},{"$f":"陸連登録!P39","v":0},{"$f":"LEFT(陸連登録!L39,4)","v":""},{"$f":"RIGHT(陸連登録!L39,4)","v":""},{"$f":"陸連登録!F39","v":0},{"$f":"陸連登録!B39","v":0},null,"",null,0,"中学","0中学",null,null,null,null,null,null,null,null,null,0,null,null,null,""]
[null,{"$f":"陸連登録!N40","v":0},null,null,{"$f":"陸連登録!M40","v":0},{"$f":"陸連登録!C40","v":0},{"$f":"陸連登録!D40","v":0},0,{"$f":"陸連登録!A40","v":""},{"$f":"陸連登録!P40","v":0},{"$f":"LEFT(陸連登録!L40,4)","v":""},{"$f":"RIGHT(陸連登録!L40,4)","v":""},{"$f":"陸連登録!F40","v":0},{"$f":"陸連登録!B40","v":0},null,"",null,0,"中学","0中学",null,null,null,null,null,null,null,null,null,0,null,null,null,""]
[null,{"$f":"陸連登録!N41","v":0},null,null,{"$f":"陸連登録!M41","v":0},{"$f":"陸連登録!C41","v":0},{"$f":"陸連登録!D41","v":0},0,{"$f":"陸連登録!A41","v":""},{"$f":"陸連登録!P41","v":0},{"$f":"LEFT(陸連登録!L41,4)","v":""},{"$f":"RIGHT(陸連登録!L41,4)","v":""},{"$f":"陸連登録!F41","v":0},{"$f":"陸連登録!B41","v":0},null,"",null,0,"中学","0中学",null,null,null,null,null,null,null,null,null,0,null,null,null,""]
[null,{"$f":"陸連登録!N42","v":0},null,null,{"$f":"陸連登録!M42","v":0},{"$f":"陸連登録!C42","v":0},{"$f":"陸連登録!D42","v":0},0,{"$f":"陸連登録!A42","v":""},{"$f":"陸連登録!P42","v":0},{"$f":"LEFT(陸連登録!L42,4)","v":""},{"$f":"RIGHT(陸連登録!L42,4)","v":""},{"$f":"陸連登録!F42","v":0},{"$f":"陸連登録!B42","v":0},null,"",null,0,"中学","0中学",null,null,null,null,null,null,null,null,null,0,null,null,null,""]
[null,{"$f":"陸連登録!N43","v":0},null,null,{"$f":"陸連登録!M43","v":0},{"$f":"陸連登録!C43","v":0},{"$f":"陸連登録!D43","v":0},0,{"$f":"陸連登録!A43","v":""},{"$f":"陸連登録!P43","v":0},{"$f":"LEFT(陸連登録!L43,4)","v":""},{"$f":"RIGHT(陸連登録!L43,4)","v":""},{"$f":"陸連登録!F43","v":0},{"$f":"陸連登録!B43","v":0},null,"",null,0,"中学","0中学",null,null,null,null,null,null,null,null,null,0,null,null,null,""]
[null,{"$f":"陸連登録!N44","v":0},null,null,{"$f":"陸連登録!M44","v":0},{"$f":"陸連登録!C44","v":0},{"$f":"陸連登録!D44","v":0},0,{"$f":"陸連登録!A44","v":""},{"$f":"陸連登録!P44","v":0},{"$f":"LEFT(陸連登録!L44,4)","v":""},{"$f":"RIGHT(陸連登録!L44,4)","v":""},{"$f":"陸連登録!F44","v":0},{"$f":"陸連登録!B44","v":0},null,"",null,0,"中学","0中学",null,null,null,null,null,null,null,null,null,0,null,null,null,""]
[null,{"$f":"陸連登録!N45","v":0},null,null,{"$f":"陸連登録!M45","v":0},{"$f":"陸連登録!C45","v":0},{"$f":"陸連登録!D45","v":0},0,{"$f":"陸連登録!A45","v":""},{"$f":"陸連登録!P45","v":0},{"$f":"LEFT(陸連登録!L45,4)","v":""},{"$f":"RIGHT(陸連登録!L45,4)","v":""},{"$f":"陸連登録!F45","v":0},{"$f":"陸連登録!B45","v":0},null,"",null,0,"中学","0中学",null,null,null,null,null,null,null,null,null,0,null,null,null,""]
[null,{"$f":"陸連登録!N46","v":0},null,null,{"$f":"陸連登録!M46","v":0},{"$f":"陸連登録!C46","v":0},{"$f":"陸連登録!D46","v":0},0,{"$f":"陸連登録!A46","v":""},{"$f":"陸連登録!P46","v":0},{"$f":"LEFT(陸連登録!L46,4)","v":""},{"$f":"RIGHT(陸連登録!L46,4)","v":""},{"$f":"陸連登録!F46","v":0},{"$f":"陸連登録!B46","v":0},null,"",null,0,"中学","0中学",null,null,null,null,null,null,null,null,null,0,null,null,null,""]
[null,{"$f":"陸連登録!N47","v":0},null,null,{"$f":"陸連登録!M47","v":0},{"$f":"陸連登録!C47","v":0},{"$f":"陸連登録!D47","v":0},0,{"$f":"陸連登録!A47","v":""},{"$f":"陸連登録!P47","v":0},{"$f":"LEFT(陸連登録!L47,4)","v":""},{"$f":"RIGHT(陸連登録!L47,4)","v":""},{"$f":"陸連登録!F47","v":0},{"$f":"陸連登録!B47","v":0},null,"",null,0,"中学","0中学",null,null,null,null,null,null,null,null,null,0,null,null,null,""]
[null,{"$f":"陸連登録!N48","v":0},null,null,{"$f":"陸連登録!M48","v":0},{"$f":"陸連登録!C48","v":0},{"$f":"陸連登録!D48","v":0},0,{"$f":"陸連登録!A48","v":""},{"$f":"陸連登録!P48","v":0},{"$f":"LEFT(陸連登録!L48,4)","v":""},{"$f":"RIGHT(陸連登録!L48,4)","v":""},{"$f":"陸連登録!F48","v":0},{"$f":"陸連登録!B48","v":0},null,"",null,0,"中学","0中学",null,null,null,null,null,null,null,null,null,0,null,null,null,""]
[null,{"$f":"陸連登録!N49","v":0},null,null,{"$f":"陸連登録!M49","v":0},{"$f":"陸連登録!C49","v":0},{"$f":"陸連登録!D49","v":0},0,{"$f":"陸連登録!A49","v":""},{"$f":"陸連登録!P49","v":0},{"$f":"LEFT(陸連登録!L49,4)","v":""},{"$f":"RIGHT(陸連登録!L49,4)","v":""},{"$f":"陸連登録!F49","v":0},{"$f":"陸連登録!B49","v":0},null,"",null,0,"中学","0中学",null,null,null,null,null,null,null,null,null,0,null,null,null,""]
[null,{"$f":"陸連登録!N50","v":0},null,null,{"$f":"陸連登録!M50","v":0},{"$f":"陸連登録!C50","v":0},{"$f":"陸連登録!D50","v":0},0,{"$f":"陸連登録!A50","v":""},{"$f":"陸連登録!P50","v":0},{"$f":"LEFT(陸連登録!L50,4)","v":""},{"$f":"RIGHT(陸連登録!L50,4)","v":""},{"$f":"陸連登録!F50","v":0},{"$f":"陸連登録!B50","v":0},null,"",null,0,"中学","0中学",null,null,null,null,null,null,null,null,null,0,null,null,null,""]
[null,{"$f":"陸連登録!N51","v":0},null,null,{"$f":"陸連登録!M51","v":0},{"$f":"陸連登録!C51","v":0},{"$f":"陸連登録!D51","v":0},0,{"$f":"陸連登録!A51","v":""},{"$f":"陸連登録!P51","v":0},{"$f":"LEFT(陸連登録!L51,4)","v":""},{"$f":"RIGHT(陸連登録!L51,4)","v":""},{"$f":"陸連登録!F51","v":0},{"$f":"陸連登録!B51","v":0},null,"",null,0,"中学","0中学",null,null,null,null,null,null,null,null,null,0,null,null,null,""]
[null,{"$f":"陸連登録!N52","v":0},null,null,{"$f":"陸連登録!M52","v":0},{"$f":"陸連登録!C52","v":0},{"$f":"陸連登録!D52","v":0},0,{"$f":"陸連登録!A52","v":""},{"$f":"陸連登録!P52","v":0},{"$f":"LEFT(陸連登録!L52,4)","v":""},{"$f":"RIGHT(陸連登録!L52,4)","v":""},{"$f":"陸連登録!F52","v":0},{"$f":"陸連登録!B52","v":0},null,"",null,0,"中学","0中学",null,null,null,null,null,null,null,null,null,0,null,null,null,""]
[null,{"$f":"陸連登録!N53","v":0},null,null,{"$f":"陸連登録!M53","v":0},{"$f":"陸連登録!C53","v":0},{"$f":"陸連登録!D53","v":0},0,{"$f":"陸連登録!A53","v":""},{"$f":"陸連登録!P53","v":0},{"$f":"LEFT(陸連登録!L53,4)","v":""},{"$f":"RIGHT(陸連登録!L53,4)","v":""},{"$f":"陸連登録!F53","v":0},{"$f":"陸連登録!B53","v":0},null,"",null,0,"中学","0中学",null,null,null,null,null,null,null,null,null,0,null,null,null,""]
[null,{"$f":"陸連登録!N54","v":0},null,null,{"$f":"陸連登録!M54","v":0},{"$f":"陸連登録!C54","v":0},{"$f":"陸連登録!D54","v":0},0,{"$f":"陸連登録!A54","v":""},{"$f":"陸連登録!P54","v":0},{"$f":"LEFT(陸連登録!L54,4)","v":""},{"$f":"RIGHT(陸連登録!L54,4)","v":""},{"$f":"陸連登録!F54","v":0},{"$f":"陸連登録!B54","v":0},null,"",null,0,"中学","0中学",null,null,null,null,null,null,null,null,null,0,null,null,null,""]
[null,{"$f":"陸連登録!N55","v":0},null,null,{"$f":"陸連登録!M55","v":0},{"$f":"陸連登録!C55","v":0},{"$f":"陸連登録!D55","v":0},0,{"$f":"陸連登録!A55","v":""},{"$f":"陸連登録!P55","v":0},{"$f":"LEFT(陸連登録!L55,4)","v":""},{"$f":"RIGHT(陸連登録!L55,4)","v":""},{"$f":"陸連登録!F55","v":0},{"$f":"陸連登録!B55","v":0},null,"",null,0,"中学","0中学",null,null,null,null,null,null,null,null,null,0,null,null,null,""]
[null,{"$f":"陸連登録!N56","v":0},null,null,{"$f":"陸連登録!M56","v":0},{"$f":"陸連登録!C56","v":0},{"$f":"陸連登録!D56","v":0},0,{"$f":"陸連登録!A56","v":""},{"$f":"陸連登録!P56","v":0},{"$f":"LEFT(陸連登録!L56,4)","v":""},{"$f":"RIGHT(陸連登録!L56,4)","v":""},{"$f":"陸連登録!F56","v":0},{"$f":"陸連登録!B56","v":0},null,"",null,0,"中学","0中学",null,null,null,null,null,null,null,null,null,0,null,null,null,""]
[null,{"$f":"陸連登録!N57","v":0},null,null,{"$f":"陸連登録!M57","v":0},{"$f":"陸連登録!C57","v":0},{"$f":"陸連登録!D57","v":0},0,{"$f":"陸連登録!A57","v":""},{"$f":"陸連登録!P57","v":0},{"$f":"LEFT(陸連登録!L57,4)","v":""},{"$f":"RIGHT(陸連登録!L57,4)","v":""},{"$f":"陸連登録!F57","v":0},{"$f":"陸連登録!B57","v":0},null,"",null,0,"中学","0中学",null,null,null,null,null,null,null,null,null,0,null,null,null,""]
[null,{"$f":"陸連登録!N58","v":0},null,null,{"$f":"陸連登録!M58","v":0},{"$f":"陸連登録!C58","v":0},{"$f":"陸連登録!D58","v":0},0,{"$f":"陸連登録!A58","v":""},{"$f":"陸連登録!P58","v":0},{"$f":"LEFT(陸連登録!L58,4)","v":""},{"$f":"RIGHT(陸連登録!L58,4)","v":""},{"$f":"陸連登録!F58","v":0},{"$f":"陸連登録!B58","v":0},null,"",null,0,"中学","0中学",null,null,null,null,null,null,null,null,null,0,null,null,null,""]
[null,{"$f":"陸連登録!N59","v":0},null,null,{"$f":"陸連登録!M59","v":0},{"$f":"陸連登録!C59","v":0},{"$f":"陸連登録!D59","v":0},0,{"$f":"陸連登録!A59","v":""},{"$f":"陸連登録!P59","v":0},{"$f":"LEFT(陸連登録!L59,4)","v":""},{"$f":"RIGHT(陸連登録!L59,4)","v":""},{"$f":"陸連登録!F59","v":0},{"$f":"陸連登録!B59","v":0},null,"",null,0,"中学","0中学",null,null,null,null,null,null,null,null,null,0,null,null,null,""]
[null,{"$f":"陸連登録!N60","v":0},null,null,{"$f":"陸連登録!M60","v":0},{"$f":"陸連登録!C60","v":0},{"$f":"陸連登録!D60","v":0},0,{"$f":"陸連登録!A60","v":""},{"$f":"陸連登録!P60","v":0},{"$f":"LEFT(陸連登録!L60,4)","v":""},{"$f":"RIGHT(陸連登録!L60,4)","v":""},{"$f":"陸連登録!F60","v":0},{"$f":"陸連登録!B60","v":0},null,"",null,0,"中学","0中学",null,null,null,null,null,null,null,null,null,0,null,null,null,""]
[null,{"$f":"陸連登録!N61","v":0},null,null,{"$f":"陸連登録!M61","v":0},{"$f":"陸連登録!C61","v":0},{"$f":"陸連登録!D61","v":0},0,{"$f":"陸連登録!A61","v":""},{"$f":"陸連登録!P61","v":0},{"$f":"LEFT(陸連登録!L61,4)","v":""},{"$f":"RIGHT(陸連登録!L61,4)","v":""},{"$f":"陸連登録!F61","v":0},{"$f":"陸連登録!B61","v":0},null,"",null,0,"中学","0中学",null,null,null,null,null,null,null,null,null,0,null,null,null,""]
[null,{"$f":"陸連登録!N62","v":0},null,null,{"$f":"陸連登録!M62","v":0},{"$f":"陸連登録!C62","v":0},{"$f":"陸連登録!D62","v":0},0,{"$f":"陸連登録!A62","v":""},{"$f":"陸連登録!P62","v":0},{"$f":"LEFT(陸連登録!L62,4)","v":""},{"$f":"RIGHT(陸連登録!L62,4)","v":""},{"$f":"陸連登録!F62","v":0},{"$f":"陸連登録!B62","v":0},null,"",null,0,"中学","0中学",null,null,null,null,null,null,null,null,null,0,null,null,null,""]
[null,{"$f":"陸連登録!N63","v":0},null,null,{"$f":"陸連登録!M63","v":0},{"$f":"陸連登録!C63","v":0},{"$f":"陸連登録!D63","v":0},0,{"$f":"陸連登録!A63","v":""},{"$f":"陸連登録!P63","v":0},{"$f":"LEFT(陸連登録!L63,4)","v":""},{"$f":"RIGHT(陸連登録!L63,4)","v":""},{"$f":"陸連登録!F63","v":0},{"$f":"陸連登録!B63","v":0},null,"",null,0,"中学","0中学",null,null,null,null,null,null,null,null,null,0,null,null,null,""]
[null,{"$f":"陸連登録!N64","v":0},null,null,{"$f":"陸連登録!M64","v":0},{"$f":"陸連登録!C64","v":0},{"$f":"陸連登録!D64","v":0},0,{"$f":"陸連登録!A64","v":""},{"$f":"陸連登録!P64","v":0},{"$f":"LEFT(陸連登録!L64,4)","v":""},{"$f":"RIGHT(陸連登録!L64,4)","v":""},{"$f":"陸連登録!F64","v":0},{"$f":"陸連登録!B64","v":0},null,"",null,0,"中学","0中学",null,null,null,null,null,null,null,null,null,0,null,null,null,""]
[null,{"$f":"陸連登録!N65","v":0},null,null,{"$f":"陸連登録!M65","v":0},{"$f":"陸連登録!C65","v":0},{"$f":"陸連登録!D65","v":0},0,{"$f":"陸連登録!A65","v":""},{"$f":"陸連登録!P65","v":0},{"$f":"LEFT(陸連登録!L65,4)","v":""},{"$f":"RIGHT(陸連登録!L65,4)","v":""},{"$f":"陸連登録!F65","v":0},{"$f":"陸連登録!B65","v":0},null,"",null,0,"中学","0中学",null,null,null,null,null,null,null,null,null,0,null,null,null,""]
[null,{"$f":"陸連登録!N66","v":0},null,null,{"$f":"陸連登録!M66","v":0},{"$f":"陸連登録!C66","v":0},{"$f":"陸連登録!D66","v":0},0,{"$f":"陸連登録!A66","v":""},{"$f":"陸連登録!P66","v":0},{"$f":"LEFT(陸連登録!L66,4)","v":""},{"$f":"RIGHT(陸連登録!L66,4)","v":""},{"$f":"陸連登録!F66","v":0},{"$f":"陸連登録!B66","v":0},null,"",null,0,"中学","0中学",null,null,null,null,null,null,null,null,null,0,null,null,null,""]
[null,{"$f":"陸連登録!N67","v":0},null,null,{"$f":"陸連登録!M67","v":0},{"$f":"陸連登録!C67","v":0},{"$f":"陸連登録!D67","v":0},{"$f":"F72","v":0},{"$f":"陸連登録!A67","v":""},{"$f":"陸連登録!P67","v":0},{"$f":"LEFT(陸連登録!L67,4)","v":""},{"$f":"RIGHT(陸連登録!L67,4)","v":""},{"$f":"陸連登録!F67","v":0},{"$f":"陸連登録!B67","v":0},null,{"$f":"IF(O72=\"\",\"\",IF(I72=1,VLOOKUP(O72,$AI$7:$AK$9,3,FALSE),IF(I72=2,VLOOKUP(O72,$AI$10:$AK$11,3,FALSE))))","v":""},null,{"$f":"$F$1","v":0},"中学",{"$f":"CONCATENATE(R72,S72)","v":"0中学"},null,null,null,null,null,null,null,null,null,0,null,null,null,{"$f":"IF(O72=\"\",\"\",1)","v":""}]
[null,{"$f":"陸連登録!N68","v":0},null,null,{"$f":"陸連登録!M68","v":0},{"$f":"陸連登録!C68","v":0},{"$f":"陸連登録!D68","v":0},0,{"$f":"陸連登録!A68","v":""},{"$f":"陸連登録!P68","v":0},{"$f":"LEFT(陸連登録!L68,4)","v":""},{"$f":"RIGHT(陸連登録!L68,4)","v":""},{"$f":"陸連登録!F68","v":0},{"$f":"陸連登録!B68","v":0},null,"",null,0,"中学","0中学",null,null,null,null,null,null,null,null,null,0,null,null,null,""]
[null,{"$f":"陸連登録!N69","v":0},null,null,{"$f":"陸連登録!M69","v":0},{"$f":"陸連登録!C69","v":0},{"$f":"陸連登録!D69","v":0},0,{"$f":"陸連登録!A69","v":""},{"$f":"陸連登録!P69","v":0},{"$f":"LEFT(陸連登録!L69,4)","v":""},{"$f":"RIGHT(陸連登録!L69,4)","v":""},{"$f":"陸連登録!F69","v":0},{"$f":"陸連登録!B69","v":0},null,"",null,0,"中学","0中学",null,null,null,null,null,null,null,null,null,0,null,null,null,""]
[null,{"$f":"陸連登録!N70","v":0},null,null,{"$f":"陸連登録!M70","v":0},{"$f":"陸連登録!C70","v":0},{"$f":"陸連登録!D70","v":0},0,{"$f":"陸連登録!A70","v":""},{"$f":"陸連登録!P70","v":0},{"$f":"LEFT(陸連登録!L70,4)","v":""},{"$f":"RIGHT(陸連登録!L70,4)","v":""},{"$f":"陸連登録!F70","v":0},{"$f":"陸連登録!B70","v":0},null,"",null,0,"中学","0中学",null,null,null,null,null,null,null,null,null,0,null,null,null,""]
[null,{"$f":"陸連登録!N71","v":0},null,null,{"$f":"陸連登録!M71","v":0},{"$f":"陸連登録!C71","v":0},{"$f":"陸連登録!D71","v":0},0,{"$f":"陸連登録!A71","v":""},{"$f":"陸連登録!P71","v":0},{"$f":"LEFT(陸連登録!L71,4)","v":""},{"$f":"RIGHT(陸連登録!L71,4)","v":""},{"$f":"陸連登録!F71","v":0},{"$f":"陸連登録!B71","v":0},null,"",null,0,"中学","0中学",null,null,null,null,null,null,null,null,null,0,null,null,null,""]
[null,{"$f":"陸連登録!N72","v":0},null,null,{"$f":"陸連登録!M72","v":0},{"$f":"陸連登録!C72","v":0},{"$f":"陸連登録!D72","v":0},0,{"$f":"陸連登録!A72","v":""},{"$f":"陸連登録!P72","v":0},{"$f":"LEFT(陸連登録!L72,4)","v":""},{"$f":"RIGHT(陸連登録!L72,4)","v":""},{"$f":"陸連登録!F72","v":0},{"$f":"陸連登録!B72","v":0},null,"",null,0,"中学","0中学",null,null,null,null,null,null,null,null,null,0,null,null,null,""]
[null,{"$f":"陸連登録!N73","v":0},null,null,{"$f":"陸連登録!M73","v":0},{"$f":"陸連登録!C73","v":0},{"$f":"陸連登録!D73","v":0},0,{"$f":"陸連登録!A73","v":""},{"$f":"陸連登録!P73","v":0},{"$f":"LEFT(陸連登録!L73,4)","v":""},{"$f":"RIGHT(陸連登録!L73,4)","v":""},{"$f":"陸連登録!F73","v":0},{"$f":"陸連登録!B73","v":0},null,"",null,0,"中学","0中学",null,null,null,null,null,null,null,null,null,0,null,null,null,""]
[null,{"$f":"陸連登録!N74","v":0},null,null,{"$f":"陸連登録!M74","v":0},{"$f":"陸連登録!C74","v":0},{"$f":"陸連登録!D74","v":0},0,{"$f":"陸連登録!A74","v":""},{"$f":"陸連登録!P74","v":0},{"$f":"LEFT(陸連登録!L74,4)","v":""},{"$f":"RIGHT(陸連登録!L74,4)","v":""},{"$f":"陸連登録!F74","v":0},{"$f":"陸連登録!B74","v":0},null,"",null,0,"中学","0中学",null,null,null,null,null,null,null,null,null,0,null,null,null,""]
[null,{"$f":"陸連登録!N75","v":0},null,null,{"$f":"陸連登録!M75","v":0},{"$f":"陸連登録!C75","v":0},{"$f":"陸連登録!D75","v":0},0,{"$f":"陸連登録!A75","v":""},{"$f":"陸連登録!P75","v":0},{"$f":"LEFT(陸連登録!L75,4)","v":""},{"$f":"RIGHT(陸連登録!L75,4)","v":""},{"$f":"陸連登録!F75","v":0},{"$f":"陸連登録!B75","v":0},null,"",null,0,"中学","0中学",null,null,null,null,null,null,null,null,null,0,null,null,null,""]
[null,{"$f":"陸連登録!N76","v":0},null,null,{"$f":"陸連登録!M76","v":0},{"$f":"陸連登録!C76","v":0},{"$f":"陸連登録!D76","v":0},0,{"$f":"陸連登録!A76","v":""},{"$f":"陸連登録!P76","v":0},{"$f":"LEFT(陸連登録!L76,4)","v":""},{"$f":"RIGHT(陸連登録!L76,4)","v":""},{"$f":"陸連登録!F76","v":0},{"$f":"陸連登録!B76","v":0},null,"",null,0,"中学","0中学",null,null,null,null,null,null,null,null,null,0,null,null,null,""]
[null,{"$f":"陸連登録!N77","v":0},null,null,{"$f":"陸連登録!M77","v":0},{"$f":"陸連登録!C77","v":0},{"$f":"陸連登録!D77","v":0},0,{"$f":"陸連登録!A77","v":""},{"$f":"陸連登録!P77","v":0},{"$f":"LEFT(陸連登録!L77,4)","v":""},{"$f":"RIGHT(陸連登録!L77,4)","v":""},{"$f":"陸連登録!F77","v":0},{"$f":"陸連登録!B77","v":0},null,"",null,0,"中学","0中学",null,null,null,null,null,null,null,null,null,0,null,null,null,""]
[null,{"$f":"陸連登録!N78","v":0},null,null,{"$f":"陸連登録!M78","v":0},{"$f":"陸連登録!C78","v":0},{"$f":"陸連登録!D78","v":0},0,{"$f":"陸連登録!A78","v":""},{"$f":"陸連登録!P78","v":0},{"$f":"LEFT(陸連登録!L78,4)","v":""},{"$f":"RIGHT(陸連登録!L78,4)","v":""},{"$f":"陸連登録!F78","v":0},{"$f":"陸連登録!B78","v":0},null,"",null,0,"中学","0中学",null,null,null,null,null,null,null,null,null,0,null,null,null,""]
[null,{"$f":"陸連登録!N79","v":0},null,null,{"$f":"陸連登録!M79","v":0},{"$f":"陸連登録!C79","v":0},{"$f":"陸連登録!D79","v":0},0,{"$f":"陸連登録!A79","v":""},{"$f":"陸連登録!P79","v":0},{"$f":"LEFT(陸連登録!L79,4)","v":""},{"$f":"RIGHT(陸連登録!L79,4)","v":""},{"$f":"陸連登録!F79","v":0},{"$f":"陸連登録!B79","v":0},null,"",null,0,"中学","0中学",null,null,null,null,null,null,null,null,null,0,null,null,null,""]
[null,{"$f":"陸連登録!N80","v":0},null,null,{"$f":"陸連登録!M80","v":0},{"$f":"陸連登録!C80","v":0},{"$f":"陸連登録!D80","v":0},0,{"$f":"陸連登録!A80","v":""},{"$f":"陸連登録!P80","v":0},{"$f":"LEFT(陸連登録!L80,4)","v":""},{"$f":"RIGHT(陸連登録!L80,4)","v":""},{"$f":"陸連登録!F80","v":0},{"$f":"陸連登録!B80","v":0},null,"",null,0,"中学","0中学",null,null,null,null,null,null,null,null,null,0,null,null,null,""]
[null,{"$f":"陸連登録!N81","v":0},null,null,{"$f":"陸連登録!M81","v":0},{"$f":"陸連登録!C81","v":0},{"$f":"陸連登録!D81","v":0},0,{"$f":"陸連登録!A81","v":""},{"$f":"陸連登録!P81","v":0},{"$f":"LEFT(陸連登録!L81,4)","v":""},{"$f":"RIGHT(陸連登録!L81,4)","v":""},{"$f":"陸連登録!F81","v":0},{"$f":"陸連登録!B81","v":0},null,"",null,0,"中学","0中学",null,null,null,null,null,null,null,null,null,0,null,null,null,""]
[null,{"$f":"陸連登録!N82","v":0},null,null,{"$f":"陸連登録!M82","v":0},{"$f":"陸連登録!C82","v":0},{"$f":"陸連登録!D82","v":0},0,{"$f":"陸連登録!A82","v":""},{"$f":"陸連登録!P82","v":0},{"$f":"LEFT(陸連登録!L82,4)","v":""},{"$f":"RIGHT(陸連登録!L82,4)","v":""},{"$f":"陸連登録!F82","v":0},{"$f":"陸連登録!B82","v":0},null,"",null,0,"中学","0中学",null,null,null,null,null,null,null,null,null,0,null,null,null,""]
[null,{"$f":"陸連登録!N83","v":0},null,null,{"$f":"陸連登録!M83","v":0},{"$f":"陸連登録!C83","v":0},{"$f":"陸連登録!D83","v":0},0,{"$f":"陸連登録!A83","v":""},{"$f":"陸連登録!P83","v":0},{"$f":"LEFT(陸連登録!L83,4)","v":""},{"$f":"RIGHT(陸連登録!L83,4)","v":""},{"$f":"陸連登録!F83","v":0},{"$f":"陸連登録!B83","v":0},null,"",null,0,"中学","0中学",null,null,null,null,null,null,null,null,null,0,null,null,null,""]
[null,{"$f":"陸連登録!N84","v":0},null,null,{"$f":"陸連登録!M84","v":0},{"$f":"陸連登録!C84","v":0},{"$f":"陸連登録!D84","v":0},0,{"$f":"陸連登録!A84","v":""},{"$f":"陸連登録!P84","v":0},{"$f":"LEFT(陸連登録!L84,4)","v":""},{"$f":"RIGHT(陸連登録!L84,4)","v":""},{"$f":"陸連登録!F84","v":0},{"$f":"陸連登録!B84","v":0},null,"",null,0,"中学","0中学",null,null,null,null,null,null,null,null,null,0,null,null,null,""]
[null,{"$f":"陸連登録!N85","v":0},null,null,{"$f":"陸連登録!M85","v":0},{"$f":"陸連登録!C85","v":0},{"$f":"陸連登録!D85","v":0},0,{"$f":"陸連登録!A85","v":""},{"$f":"陸連登録!P85","v":0},{"$f":"LEFT(陸連登録!L85,4)","v":""},{"$f":"RIGHT(陸連登録!L85,4)","v":""},{"$f":"陸連登録!F85","v":0},{"$f":"陸連登録!B85","v":0},null,"",null,0,"中学","0中学",null,null,null,null,null,null,null,null,null,0,null,null,null,""]
[null,{"$f":"陸連登録!N86","v":0},null,null,{"$f":"陸連登録!M86","v":0},{"$f":"陸連登録!C86","v":0},{"$f":"陸連登録!D86","v":0},0,{"$f":"陸連登録!A86","v":""},{"$f":"陸連登録!P86","v":0},{"$f":"LEFT(陸連登録!L86,4)","v":""},{"$f":"RIGHT(陸連登録!L86,4)","v":""},{"$f":"陸連登録!F86","v":0},{"$f":"陸連登録!B86","v":0},null,"",null,0,"中学","0中学",null,null,null,null,null,null,null,null,null,0,null,null,null,""]
[null,{"$f":"陸連登録!N87","v":0},null,null,{"$f":"陸連登録!M87","v":0},{"$f":"陸連登録!C87","v":0},{"$f":"陸連登録!D87","v":0},0,{"$f":"陸連登録!A87","v":""},{"$f":"陸連登録!P87","v":0},{"$f":"LEFT(陸連登録!L87,4)","v":""},{"$f":"RIGHT(陸連登録!L87,4)","v":""},{"$f":"陸連登録!F87","v":0},{"$f":"陸連登録!B87","v":0},null,"",null,0,"中学","0中学",null,null,null,null,null,null,null,null,null,0,null,null,null,""]
[null,{"$f":"陸連登録!N88","v":0},null,null,{"$f":"陸連登録!M88","v":0},{"$f":"陸連登録!C88","v":0},{"$f":"陸連登録!D88","v":0},0,{"$f":"陸連登録!A88","v":""},{"$f":"陸連登録!P88","v":0},{"$f":"LEFT(陸連登録!L88,4)","v":""},{"$f":"RIGHT(陸連登録!L88,4)","v":""},{"$f":"陸連登録!F88","v":0},{"$f":"陸連登録!B88","v":0},null,"",null,0,"中学","0中学",null,null,null,null,null,null,null,null,null,0,null,null,null,""]
[null,{"$f":"陸連登録!N89","v":0},null,null,{"$f":"陸連登録!M89","v":0},{"$f":"陸連登録!C89","v":0},{"$f":"陸連登録!D89","v":0},0,{"$f":"陸連登録!A89","v":""},{"$f":"陸連登録!P89","v":0},{"$f":"LEFT(陸連登録!L89,4)","v":""},{"$f":"RIGHT(陸連登録!L89,4)","v":""},{"$f":"陸連登録!F89","v":0},{"$f":"陸連登録!B89","v":0},null,"",null,0,"中学","0中学",null,null,null,null,null,null,null,null,null,0,null,null,null,""]
[null,{"$f":"陸連登録!N90","v":0},null,null,{"$f":"陸連登録!M90","v":0},{"$f":"陸連登録!C90","v":0},{"$f":"陸連登録!D90","v":0},0,{"$f":"陸連登録!A90","v":""},{"$f":"陸連登録!P90","v":0},{"$f":"LEFT(陸連登録!L90,4)","v":""},{"$f":"RIGHT(陸連登録!L90,4)","v":""},{"$f":"陸連登録!F90","v":0},{"$f":"陸連登録!B90","v":0},null,"",null,0,"中学","0中学",null,null,null,null,null,null,null,null,null,0,null,null,null,""]
[null,{"$f":"陸連登録!N91","v":0},null,null,{"$f":"陸連登録!M91","v":0},{"$f":"陸連登録!C91","v":0},{"$f":"陸連登録!D91","v":0},0,{"$f":"陸連登録!A91","v":""},{"$f":"陸連登録!P91","v":0},{"$f":"LEFT(陸連登録!L91,4)","v":""},{"$f":"RIGHT(陸連登録!L91,4)","v":""},{"$f":"陸連登録!F91","v":0},{"$f":"陸連登録!B91","v":0},null,"",null,0,"中学","0中学",null,null,null,null,null,null,null,null,null,0,null,null,null,""]
[null,{"$f":"陸連登録!N92","v":0},null,null,{"$f":"陸連登録!M92","v":0},{"$f":"陸連登録!C92","v":0},{"$f":"陸連登録!D92","v":0},0,{"$f":"陸連登録!A92","v":""},{"$f":"陸連登録!P92","v":0},{"$f":"LEFT(陸連登録!L92,4)","v":""},{"$f":"RIGHT(陸連登録!L92,4)","v":""},{"$f":"陸連登録!F92","v":0},{"$f":"陸連登録!B92","v":0},null,"",null,0,"中学","0中学",null,null,null,null,null,null,null,null,null,0,null,null,null,""]
[null,{"$f":"陸連登録!N93","v":0},null,null,{"$f":"陸連登録!M93","v":0},{"$f":"陸連登録!C93","v":0},{"$f":"陸連登録!D93","v":0},0,{"$f":"陸連登録!A93","v":""},{"$f":"陸連登録!P93","v":0},{"$f":"LEFT(陸連登録!L93,4)","v":""},{"$f":"RIGHT(陸連登録!L93,4)","v":""},{"$f":"陸連登録!F93","v":0},{"$f":"陸連登録!B93","v":0},null,"",null,0,"中学","0中学",null,null,null,null,null,null,null,null,null,0,null,null,null,""]
[null,{"$f":"陸連登録!N94","v":0},null,null,{"$f":"陸連登録!M94","v":0},{"$f":"陸連登録!C94","v":0},{"$f":"陸連登録!D94","v":0},0,{"$f":"陸連登録!A94","v":""},{"$f":"陸連登録!P94","v":0},{"$f":"LEFT(陸連登録!L94,4)","v":""},{"$f":"RIGHT(陸連登録!L94,4)","v":""},{"$f":"陸連登録!F94","v":0},{"$f":"陸連登録!B94","v":0},null,"",null,0,"中学","0中学",null,null,null,null,null,null,null,null,null,0,null,null,null,""]
[null,{"$f":"陸連登録!N95","v":0},null,null,{"$f":"陸連登録!M95","v":0},{"$f":"陸連登録!C95","v":0},{"$f":"陸連登録!D95","v":0},0,{"$f":"陸連登録!A95","v":""},{"$f":"陸連登録!P95","v":0},{"$f":"LEFT(陸連登録!L95,4)","v":""},{"$f":"RIGHT(陸連登録!L95,4)","v":""},{"$f":"陸連登録!F95","v":0},{"$f":"陸連登録!B95","v":0},null,"",null,0,"中学","0中学",null,null,null,null,null,null,null,null,null,0,null,null,null,""]
[null,{"$f":"陸連登録!N96","v":0},null,null,{"$f":"陸連登録!M96","v":0},{"$f":"陸連登録!C96","v":0},{"$f":"陸連登録!D96","v":0},0,{"$f":"陸連登録!A96","v":""},{"$f":"陸連登録!P96","v":0},{"$f":"LEFT(陸連登録!L96,4)","v":""},{"$f":"RIGHT(陸連登録!L96,4)","v":""},{"$f":"陸連登録!F96","v":0},{"$f":"陸連登録!B96","v":0},null,"",null,0,"中学","0中学",null,null,null,null,null,null,null,null,null,0,null,null,null,""]
[null,{"$f":"陸連登録!N97","v":0},null,null,{"$f":"陸連登録!M97","v":0},{"$f":"陸連登録!C97","v":0},{"$f":"陸連登録!D97","v":0},0,{"$f":"陸連登録!A97","v":""},{"$f":"陸連登録!P97","v":0},{"$f":"LEFT(陸連登録!L97,4)","v":""},{"$f":"RIGHT(陸連登録!L97,4)","v":""},{"$f":"陸連登録!F97","v":0},{"$f":"陸連登録!B97","v":0},null,"",null,0,"中学","0中学",null,null,null,null,null,null,null,null,null,0,null,null,null,""]
[null,{"$f":"陸連登録!N98","v":0},null,null,{"$f":"陸連登録!M98","v":0},{"$f":"陸連登録!C98","v":0},{"$f":"陸連登録!D98","v":0},0,{"$f":"陸連登録!A98","v":""},{"$f":"陸連登録!P98","v":0},{"$f":"LEFT(陸連登録!L98,4)","v":""},{"$f":"RIGHT(陸連登録!L98,4)","v":""},{"$f":"陸連登録!F98","v":0},{"$f":"陸連登録!B98","v":0},null,"",null,0,"中学","0中学",null,null,null,null,null,null,null,null,null,0,null,null,null,""]
[null,{"$f":"陸連登録!N99","v":0},null,null,{"$f":"陸連登録!M99","v":0},{"$f":"陸連登録!C99","v":0},{"$f":"陸連登録!D99","v":0},0,{"$f":"陸連登録!A99","v":""},{"$f":"陸連登録!P99","v":0},{"$f":"LEFT(陸連登録!L99,4)","v":""},{"$f":"RIGHT(陸連登録!L99,4)","v":""},{"$f":"陸連登録!F99","v":0},{"$f":"陸連登録!B99","v":0},null,"",null,0,"中学","0中学",null,null,null,null,null,null,null,null,null,0,null,null,null,""]
[null,{"$f":"陸連登録!N100","v":0},null,null,{"$f":"陸連登録!M100","v":0},{"$f":"陸連登録!C100","v":0},{"$f":"陸連登録!D100","v":0},0,{"$f":"陸連登録!A100","v":""},{"$f":"陸連登録!P100","v":0},{"$f":"LEFT(陸連登録!L100,4)","v":""},{"$f":"RIGHT(陸連登録!L100,4)","v":""},{"$f":"陸連登録!F100","v":0},{"$f":"陸連登録!B100","v":0},null,"",null,0,"中学","0中学",null,null,null,null,null,null,null,null,null,0,null,null,null,""]
[null,{"$f":"陸連登録!N101","v":0},null,null,{"$f":"陸連登録!M101","v":0},{"$f":"陸連登録!C101","v":0},{"$f":"陸連登録!D101","v":0},0,{"$f":"陸連登録!A101","v":""},{"$f":"陸連登録!P101","v":0},{"$f":"LEFT(陸連登録!L101,4)","v":""},{"$f":"RIGHT(陸連登録!L101,4)","v":""},{"$f":"陸連登録!F101","v":0},{"$f":"陸連登録!B101","v":0},null,"",null,0,"中学","0中学",null,null,null,null,null,null,null,null,null,0,null,null,null,""]
[null,{"$f":"陸連登録!N102","v":0},null,null,{"$f":"陸連登録!M102","v":0},{"$f":"陸連登録!C102","v":0},{"$f":"陸連登録!D102","v":0},0,{"$f":"陸連登録!A102","v":""},{"$f":"陸連登録!P102","v":0},{"$f":"LEFT(陸連登録!L102,4)","v":""},{"$f":"RIGHT(陸連登録!L102,4)","v":""},{"$f":"陸連登録!F102","v":0},{"$f":"陸連登録!B102","v":0},null,"",null,0,"中学","0中学",null,null,null,null,null,null,null,null,null,0,null,null,null,""]
[null,{"$f":"陸連登録!N103","v":0},null,null,{"$f":"陸連登録!M103","v":0},{"$f":"陸連登録!C103","v":0},{"$f":"陸連登録!D103","v":0},0,{"$f":"陸連登録!A103","v":""},{"$f":"陸連登録!P103","v":0},{"$f":"LEFT(陸連登録!L103,4)","v":""},{"$f":"RIGHT(陸連登録!L103,4)","v":""},{"$f":"陸連登録!F103","v":0},{"$f":"陸連登録!B103","v":0},null,"",null,0,"中学","0中学",null,null,null,null,null,null,null,null,null,0,null,null,null,""]
[null,{"$f":"陸連登録!N104","v":0},null,null,{"$f":"陸連登録!M104","v":0},{"$f":"陸連登録!C104","v":0},{"$f":"陸連登録!D104","v":0},0,{"$f":"陸連登録!A104","v":""},{"$f":"陸連登録!P104","v":0},{"$f":"LEFT(陸連登録!L104,4)","v":""},{"$f":"RIGHT(陸連登録!L104,4)","v":""},{"$f":"陸連登録!F104","v":0},{"$f":"陸連登録!B104","v":0},null,"",null,0,"中学","0中学",null,null,null,null,null,null,null,null,null,0,null,null,null,""]
[null,{"$f":"陸連登録!N105","v":0},null,null,{"$f":"陸連登録!M105","v":0},{"$f":"陸連登録!C105","v":0},{"$f":"陸連登録!D105","v":0},0,{"$f":"陸連登録!A105","v":""},{"$f":"陸連登録!P105","v":0},{"$f":"LEFT(陸連登録!L105,4)","v":""},{"$f":"RIGHT(陸連登録!L105,4)","v":""},{"$f":"陸連登録!F105","v":0},{"$f":"陸連登録!B105","v":0},null,"",null,0,"中学","0中学",null,null,null,null,null,null,null,null,null,0,null,null,null,""]
[null,{"$f":"陸連登録!N106","v":0},null,null,{"$f":"陸連登録!M106","v":0},{"$f":"陸連登録!C106","v":0},{"$f":"陸連登録!D106","v":0},0,{"$f":"陸連登録!A106","v":""},{"$f":"陸連登録!P106","v":0},{"$f":"LEFT(陸連登録!L106,4)","v":""},{"$f":"RIGHT(陸連登録!L106,4)","v":""},{"$f":"陸連登録!F106","v":0},{"$f":"陸連登録!B106","v":0},null,"",null,0,"中学","0中学",null,null,null,null,null,null,null,null,null,0,null,null,null,""]
[null,{"$f":"陸連登録!N107","v":0},null,null,{"$f":"陸連登録!M107","v":0},{"$f":"陸連登録!C107","v":0},{"$f":"陸連登録!D107","v":0},0,{"$f":"陸連登録!A107","v":""},{"$f":"陸連登録!P107","v":0},{"$f":"LEFT(陸連登録!L107,4)","v":""},{"$f":"RIGHT(陸連登録!L107,4)","v":""},{"$f":"陸連登録!F107","v":0},{"$f":"陸連登録!B107","v":0},null,"",null,0,"中学","0中学",null,null,null,null,null,null,null,null,null,0,null,null,null,""]
[null,{"$f":"陸連登録!N108","v":0},null,null,{"$f":"陸連登録!M108","v":0},{"$f":"陸連登録!C108","v":0},{"$f":"陸連登録!D108","v":0},0,{"$f":"陸連登録!A108","v":""},{"$f":"陸連登録!P108","v":0},{"$f":"LEFT(陸連登録!L108,4)","v":""},{"$f":"RIGHT(陸連登録!L108,4)","v":""},{"$f":"陸連登録!F108","v":0},{"$f":"陸連登録!B108","v":0},null,"",null,0,"中学","0中学",null,null,null,null,null,null,null,null,null,0,null,null,null,""]
[null,{"$f":"陸連登録!N109","v":0},null,null,{"$f":"陸連登録!M109","v":0},{"$f":"陸連登録!C109","v":0},{"$f":"陸連登録!D109","v":0},0,{"$f":"陸連登録!A109","v":""},{"$f":"陸連登録!P109","v":0},{"$f":"LEFT(陸連登録!L109,4)","v":""},{"$f":"RIGHT(陸連登録!L109,4)","v":""},{"$f":"陸連登録!F109","v":0},{"$f":"陸連登録!B109","v":0},null,"",null,0,"中学","0中学",null,null,null,null,null,null,null,null,null,0,null,null,null,""]
[null,{"$f":"陸連登録!N110","v":0},null,null,{"$f":"陸連登録!M110","v":0},{"$f":"陸連登録!C110","v":0},{"$f":"陸連登録!D110","v":0},0,{"$f":"陸連登録!A110","v":""},{"$f":"陸連登録!P110","v":0},{"$f":"LEFT(陸連登録!L110,4)","v":""},{"$f":"RIGHT(陸連登録!L110,4)","v":""},{"$f":"陸連登録!F110","v":0},{"$f":"陸連登録!B110","v":0},null,"",null,0,"中学","0中学",null,null,null,null,null,null,null,null,null,0,null,null,null,""]
[null,{"$f":"陸連登録!N111","v":0},null,null,{"$f":"陸連登録!M111","v":0},{"$f":"陸連登録!C111","v":0},{"$f":"陸連登録!D111","v":0},0,{"$f":"陸連登録!A111","v":""},{"$f":"陸連登録!P111","v":0},{"$f":"LEFT(陸連登録!L111,4)","v":""},{"$f":"RIGHT(陸連登録!L111,4)","v":""},{"$f":"陸連登録!F111","v":0},{"$f":"陸連登録!B111","v":0},null,"",null,0,"中学","0中学",null,null,null,null,null,null,null,null,null,0,null,null,null,""]
[null,null,null,null,null,null,null,null,null,null,null,null,null,null,null,null,null,null,null,null,null,null,null,null,null,null,null,null,null,null,null,null,null,{"$f":"SUM(AH7:AH116)","v":0}]

{"sheet":"県駅伝オーダー用紙","index":14,"n_rows":53,"n_cols":14,"rows_kept":53,"cut":false,"hidden":false,"merged":[[47,3,47,5],[4,1,4,2],[6,1,6,2],[8,1,8,2],[43,1,43,3]]}
["三重県中学校駅伝競走大会　",null,null,null,"オーダー用紙"]
[]
[]
[]
["学校名",{"$f":"#REF!","v":{"$error":"#REF!"}}]
[]
["顧問名",{"$f":"#REF!","v":{"$error":"#REF!"}}]
[]
["連絡先",{"$f":"#REF!","v":{"$error":"#REF!"}}]
[]
[]
[]
["男子"]
[null,"No","氏名","フリガナ","学年","備考",null,null,null,null,null,null,"(",")"]
["1区",null,{"$f":"IF(M15=\"\",\"\",N15)","v":""},{"$f":"IF(B15=\"\",\"\",VLOOKUP(B15,#REF!,22,FALSE))","v":""},{"$f":"IF(B15=\"\",\"\",VLOOKUP(B15,#REF!,5,FALSE))","v":""},null,null,"Noを入力して下さい。",null,null,null,null,{"$f":"IF(B15=\"\",\"\",VLOOKUP(B15,#REF!,87,FALSE))","v":""},{"$f":"CONCATENATE(M15,$M$14,E15,$N$14)","v":"()"}]
["2区",null,{"$f":"IF(M16=\"\",\"\",N16)","v":""},{"$f":"IF(B16=\"\",\"\",VLOOKUP(B16,#REF!,22,FALSE))","v":""},{"$f":"IF(B16=\"\",\"\",VLOOKUP(B16,#REF!,5,FALSE))","v":""},null,null,"氏名、フリガナ、学年が転記されます。",null,null,null,null,{"$f":"IF(B16=\"\",\"\",VLOOKUP(B16,#REF!,87,FALSE))","v":""},{"$f":"CONCATENATE(M16,$M$14,E16,$N$14)","v":"()"}]
["3区",null,"",{"$f":"IF(B17=\"\",\"\",VLOOKUP(B17,#REF!,22,FALSE))","v":""},{"$f":"IF(B17=\"\",\"\",VLOOKUP(B17,#REF!,5,FALSE))","v":""},null,null,null,null,null,null,null,{"$f":"IF(B17=\"\",\"\",VLOOKUP(B17,#REF!,87,FALSE))","v":""},"()"]
["4区",null,"",{"$f":"IF(B18=\"\",\"\",VLOOKUP(B18,#REF!,22,FALSE))","v":""},{"$f":"IF(B18=\"\",\"\",VLOOKUP(B18,#REF!,5,FALSE))","v":""},null,null,"登録外の選手は直接入力して下さい。",null,null,null,null,{"$f":"IF(B18=\"\",\"\",VLOOKUP(B18,#REF!,87,FALSE))","v":""},"()"]
["5区",null,"",{"$f":"IF(B19=\"\",\"\",VLOOKUP(B19,#REF!,22,FALSE))","v":""},{"$f":"IF(B19=\"\",\"\",VLOOKUP(B19,#REF!,5,FALSE))","v":""},null,null,"申込み済のメンバー変更はできません。",null,null,null,null,{"$f":"IF(B19=\"\",\"\",VLOOKUP(B19,#REF!,87,FALSE))","v":""},"()"]
["6区",null,"",{"$f":"IF(B20=\"\",\"\",VLOOKUP(B20,#REF!,22,FALSE))","v":""},{"$f":"IF(B20=\"\",\"\",VLOOKUP(B20,#REF!,5,FALSE))","v":""},null,null,null,null,null,null,null,{"$f":"IF(B20=\"\",\"\",VLOOKUP(B20,#REF!,87,FALSE))","v":""},"()"]
[]
[]
[]
[]
["女子"]
[null,"No","氏名","フリガナ","学年","備考"]
["1区",null,{"$f":"IF(M27=\"\",\"\",N27)","v":""},{"$f":"IF(B27=\"\",\"\",VLOOKUP(B27,#REF!,22,FALSE))","v":""},{"$f":"IF(B27=\"\",\"\",VLOOKUP(B27,#REF!,5,FALSE))","v":""},null,null,null,null,null,null,null,{"$f":"IF(B27=\"\",\"\",VLOOKUP(B27,#REF!,87,FALSE))","v":""},{"$f":"CONCATENATE(M27,$M$14,E27,$N$14)","v":"()"}]
["2区",null,{"$f":"IF(M28=\"\",\"\",N28)","v":""},{"$f":"IF(B28=\"\",\"\",VLOOKUP(B28,#REF!,22,FALSE))","v":""},{"$f":"IF(B28=\"\",\"\",VLOOKUP(B28,#REF!,5,FALSE))","v":""},null,null,null,null,null,null,null,{"$f":"IF(B28=\"\",\"\",VLOOKUP(B28,#REF!,87,FALSE))","v":""},{"$f":"CONCATENATE(M28,$M$14,E28,$N$14)","v":"()"}]
["3区",null,"",{"$f":"IF(B29=\"\",\"\",VLOOKUP(B29,#REF!,22,FALSE))","v":""},{"$f":"IF(B29=\"\",\"\",VLOOKUP(B29,#REF!,5,FALSE))","v":""},null,null,null,null,null,null,null,{"$f":"IF(B29=\"\",\"\",VLOOKUP(B29,#REF!,87,FALSE))","v":""},"()"]
["4区",null,"",{"$f":"IF(B30=\"\",\"\",VLOOKUP(B30,#REF!,22,FALSE))","v":""},{"$f":"IF(B30=\"\",\"\",VLOOKUP(B30,#REF!,5,FALSE))","v":""},null,null,null,null,null,null,null,{"$f":"IF(B30=\"\",\"\",VLOOKUP(B30,#REF!,87,FALSE))","v":""},"()"]
["5区",null,"",{"$f":"IF(B31=\"\",\"\",VLOOKUP(B31,#REF!,22,FALSE))","v":""},{"$f":"IF(B31=\"\",\"\",VLOOKUP(B31,#REF!,5,FALSE))","v":""},null,null,null,null,null,null,null,{"$f":"IF(B31=\"\",\"\",VLOOKUP(B31,#REF!,87,FALSE))","v":""},"()"]
[null,null,null,null,null,null,null,null,null,null,null,null,{"$f":"IF(B32=\"\",\"\",VLOOKUP(B32,#REF!,87,FALSE))","v":""},"()"]
[]
[]
[]
[]
[]
[]
[]
[]
[]
["上記、本校生徒の出場を認めます。"]
[]
[null,{"$f":"TODAY()","v":"2019-12-24"}]
[]
[null,null,{"$f":"#REF!","v":{"$error":"#REF!"}},"中学校"]
[]
[null,null,"学校長",null,null,null,"印"]
[]
[]
["学校長名入力の上、捺印し監督会議にて提出のこと。"]
[]
[null,null,null,null,"チームN0"]

{"sheet":"タスキリレー","index":15,"n_rows":75,"n_cols":19,"rows_kept":75,"cut":false,"hidden":false,"merged":[[70,3,70,6],[4,1,4,2],[6,1,6,2],[8,1,8,2],[66,1,66,2]]}
["三重タスキリレー大会　",null,null,null,null,null,"申し込み用紙",null,null,null,null,null,null,null,null,null,null,"(",")"]
[]
[null,"直接入力して下さい"]
[]
["学校名",{"$f":"陸連登録!I2","v":0}]
[null,null,null,null,null,null,"プログラム冊数",null,"冊"]
["監督名"]
[null,null,null,"参加費"]
["連絡先",null,null,{"$f":"P58*4000+H6*800","v":0}]
[]
[]
["監督",{"$f":"$B$7","v":0},null,"(監督が違う場合は直接入力)",null,null,null,"監督",{"$f":"$B$7","v":0},null,"(監督が違う場合は直接入力)"]
["男子Ａ",null,null,null,null,null,null,"男子Ｂ"]
[null,"No","氏名","フリガナ","学年","性別",null,null,"No","氏名","フリガナ","学年","性別",null,null,null,null,{"$f":"B12","v":0},{"$f":"I12","v":0}]
[1,null,null,null,null,{"$f":"IF(B15=\"\",\"\",VLOOKUP(B15,#REF!,4,FALSE))","v":""},null,1,null,null,null,null,{"$f":"IF(I15=\"\",\"\",VLOOKUP(I15,#REF!,4,FALSE))","v":""},{"$f":"IF(C15=\"\",\"\",1)","v":""},{"$f":"IF(J15=\"\",\"\",1)","v":""},null,null,{"$f":"CONCATENATE(C15,$R$1,E15,$S$1)","v":"()"},{"$f":"CONCATENATE(J15,$R$1,L15,$S$1)","v":"()"}]
[2,null,null,null,null,{"$f":"IF(B16=\"\",\"\",VLOOKUP(B16,#REF!,4,FALSE))","v":""},null,2,null,null,null,null,{"$f":"IF(I16=\"\",\"\",VLOOKUP(I16,#REF!,4,FALSE))","v":""},null,null,null,null,{"$f":"CONCATENATE(C16,$R$1,E16,$S$1)","v":"()"},{"$f":"CONCATENATE(J16,$R$1,L16,$S$1)","v":"()"}]
[3,null,null,null,null,{"$f":"IF(B17=\"\",\"\",VLOOKUP(B17,#REF!,4,FALSE))","v":""},null,3,null,null,null,null,{"$f":"IF(I17=\"\",\"\",VLOOKUP(I17,#REF!,4,FALSE))","v":""},null,null,null,null,"()","()"]
[4,null,null,null,null,{"$f":"IF(B18=\"\",\"\",VLOOKUP(B18,#REF!,4,FALSE))","v":""},null,4,null,null,null,null,{"$f":"IF(I18=\"\",\"\",VLOOKUP(I18,#REF!,4,FALSE))","v":""},null,null,null,null,"()","()"]
[5,null,null,null,null,{"$f":"IF(B19=\"\",\"\",VLOOKUP(B19,#REF!,4,FALSE))","v":""},null,5,null,null,null,null,{"$f":"IF(I19=\"\",\"\",VLOOKUP(I19,#REF!,4,FALSE))","v":""},null,null,null,null,"()","()"]
[6,null,null,null,null,{"$f":"IF(B20=\"\",\"\",VLOOKUP(B20,#REF!,4,FALSE))","v":""},null,6,null,null,null,null,{"$f":"IF(I20=\"\",\"\",VLOOKUP(I20,#REF!,4,FALSE))","v":""},null,null,null,null,"()","()"]
[7,null,null,null,null,{"$f":"IF(B21=\"\",\"\",VLOOKUP(B21,#REF!,4,FALSE))","v":""},null,7,null,null,null,null,{"$f":"IF(I21=\"\",\"\",VLOOKUP(I21,#REF!,4,FALSE))","v":""},null,null,null,null,"()","()"]
[8,null,null,null,null,{"$f":"IF(B22=\"\",\"\",VLOOKUP(B22,#REF!,4,FALSE))","v":""},null,8,null,null,null,null,{"$f":"IF(I22=\"\",\"\",VLOOKUP(I22,#REF!,4,FALSE))","v":""},null,null,null,null,"()","()"]
[]
["監督",{"$f":"$B$7","v":0},null,"(監督が違う場合は直接入力)",null,null,null,"監督",{"$f":"$B$7","v":0},null,"(監督が違う場合は直接入力)"]
["男子Ｃ",null,null,null,null,null,null,"男子Ｄ"]
[null,"No","氏名","フリガナ","学年","性別",null,null,"No","氏名","フリガナ","学年","性別",null,null,null,null,{"$f":"B24","v":0},{"$f":"I24","v":0}]
[1,null,null,null,null,{"$f":"IF(B27=\"\",\"\",VLOOKUP(B27,#REF!,4,FALSE))","v":""},null,1,null,null,null,null,{"$f":"IF(I27=\"\",\"\",VLOOKUP(I27,#REF!,4,FALSE))","v":""},{"$f":"IF(C27=\"\",\"\",1)","v":""},{"$f":"IF(J27=\"\",\"\",1)","v":""},null,null,"()","()"]
[2,null,null,null,null,{"$f":"IF(B28=\"\",\"\",VLOOKUP(B28,#REF!,4,FALSE))","v":""},null,2,null,null,null,null,{"$f":"IF(I28=\"\",\"\",VLOOKUP(I28,#REF!,4,FALSE))","v":""},null,null,null,null,"()","()"]
[3,null,null,null,null,{"$f":"IF(B29=\"\",\"\",VLOOKUP(B29,#REF!,4,FALSE))","v":""},null,3,null,null,null,null,{"$f":"IF(I29=\"\",\"\",VLOOKUP(I29,#REF!,4,FALSE))","v":""},null,null,null,null,"()","()"]
[4,null,null,null,null,{"$f":"IF(B30=\"\",\"\",VLOOKUP(B30,#REF!,4,FALSE))","v":""},null,4,null,null,null,null,{"$f":"IF(I30=\"\",\"\",VLOOKUP(I30,#REF!,4,FALSE))","v":""},null,null,null,null,"()","()"]
[5,null,null,null,null,{"$f":"IF(B31=\"\",\"\",VLOOKUP(B31,#REF!,4,FALSE))","v":""},null,5,null,null,null,null,{"$f":"IF(I31=\"\",\"\",VLOOKUP(I31,#REF!,4,FALSE))","v":""},null,null,null,null,"()","()"]
[6,null,null,null,null,{"$f":"IF(B32=\"\",\"\",VLOOKUP(B32,#REF!,4,FALSE))","v":""},null,6,null,null,null,null,{"$f":"IF(I32=\"\",\"\",VLOOKUP(I32,#REF!,4,FALSE))","v":""},null,null,null,null,"()","()"]
[7,null,null,null,null,{"$f":"IF(B33=\"\",\"\",VLOOKUP(B33,#REF!,4,FALSE))","v":""},null,7,null,null,null,null,{"$f":"IF(I33=\"\",\"\",VLOOKUP(I33,#REF!,4,FALSE))","v":""},null,null,null,null,"()","()"]
[8,null,null,null,null,{"$f":"IF(B34=\"\",\"\",VLOOKUP(B34,#REF!,4,FALSE))","v":""},null,8,null,null,null,null,{"$f":"IF(I34=\"\",\"\",VLOOKUP(I34,#REF!,4,FALSE))","v":""},null,null,null,null,"()","()"]
[]
["監督",{"$f":"$B$7","v":0},null,"(監督が違う場合は直接入力)",null,null,null,"監督",{"$f":"$B$7","v":0},null,"(監督が違う場合は直接入力)"]
["女子Ａ",null,null,null,null,null,null,"女子Ｂ"]
[null,"No","氏名","フリガナ","学年","性別",null,null,"No","氏名","フリガナ","学年","性別",null,null,null,null,{"$f":"B36","v":0},{"$f":"I36","v":0}]
[1,null,null,null,null,{"$f":"IF(B39=\"\",\"\",VLOOKUP(B39,#REF!,4,FALSE))","v":""},null,1,null,null,null,null,{"$f":"IF(I39=\"\",\"\",VLOOKUP(I39,#REF!,4,FALSE))","v":""},{"$f":"IF(C39=\"\",\"\",1)","v":""},{"$f":"IF(J39=\"\",\"\",1)","v":""},null,null,"()","()"]
[2,null,null,null,null,{"$f":"IF(B40=\"\",\"\",VLOOKUP(B40,#REF!,4,FALSE))","v":""},null,2,null,null,null,null,{"$f":"IF(I40=\"\",\"\",VLOOKUP(I40,#REF!,4,FALSE))","v":""},null,null,null,null,"()","()"]
[3,null,null,null,null,{"$f":"IF(B41=\"\",\"\",VLOOKUP(B41,#REF!,4,FALSE))","v":""},null,3,null,null,null,null,{"$f":"IF(I41=\"\",\"\",VLOOKUP(I41,#REF!,4,FALSE))","v":""},null,null,null,null,"()","()"]
[4,null,null,null,null,{"$f":"IF(B42=\"\",\"\",VLOOKUP(B42,#REF!,4,FALSE))","v":""},null,4,null,null,null,null,{"$f":"IF(I42=\"\",\"\",VLOOKUP(I42,#REF!,4,FALSE))","v":""},null,null,null,null,"()","()"]
[5,null,null,null,null,{"$f":"IF(B43=\"\",\"\",VLOOKUP(B43,#REF!,4,FALSE))","v":""},null,5,null,null,null,null,{"$f":"IF(I43=\"\",\"\",VLOOKUP(I43,#REF!,4,FALSE))","v":""},null,null,null,null,"()","()"]
[6,null,null,null,null,{"$f":"IF(B44=\"\",\"\",VLOOKUP(B44,#REF!,4,FALSE))","v":""},null,6,null,null,null,null,{"$f":"IF(I44=\"\",\"\",VLOOKUP(I44,#REF!,4,FALSE))","v":""},null,null,null,null,"()","()"]
[7,null,null,null,null,{"$f":"IF(B45=\"\",\"\",VLOOKUP(B45,#REF!,4,FALSE))","v":""},null,7,null,null,null,null,{"$f":"IF(I45=\"\",\"\",VLOOKUP(I45,#REF!,4,FALSE))","v":""},null,null,null,null,"()","()"]
[8,null,null,null,null,{"$f":"IF(B46=\"\",\"\",VLOOKUP(B46,#REF!,4,FALSE))","v":""},null,8,null,null,null,null,{"$f":"IF(I46=\"\",\"\",VLOOKUP(I46,#REF!,4,FALSE))","v":""},null,null,null,null,"()","()"]
[]
["監督",{"$f":"$B$7","v":0},null,"(監督が違う場合は直接入力)",null,null,null,"監督",{"$f":"$B$7","v":0},null,"(監督が違う場合は直接入力)"]
["女子Ｃ",null,null,null,null,null,null,"女子Ｄ"]
[null,"No","氏名","フリガナ","学年","性別",null,null,"No","氏名","フリガナ","学年","性別",null,null,null,null,{"$f":"B48","v":0},{"$f":"I48","v":0}]
[1,null,null,null,null,{"$f":"IF(B51=\"\",\"\",VLOOKUP(B51,#REF!,4,FALSE))","v":""},null,1,null,null,null,null,{"$f":"IF(I51=\"\",\"\",VLOOKUP(I51,#REF!,4,FALSE))","v":""},{"$f":"IF(C51=\"\",\"\",1)","v":""},{"$f":"IF(J51=\"\",\"\",1)","v":""},null,null,"()","()"]
[2,null,null,null,null,{"$f":"IF(B52=\"\",\"\",VLOOKUP(B52,#REF!,4,FALSE))","v":""},null,2,null,null,null,null,{"$f":"IF(I52=\"\",\"\",VLOOKUP(I52,#REF!,4,FALSE))","v":""},null,null,null,null,"()","()"]
[3,null,null,null,null,{"$f":"IF(B53=\"\",\"\",VLOOKUP(B53,#REF!,4,FALSE))","v":""},null,3,null,null,null,null,{"$f":"IF(I53=\"\",\"\",VLOOKUP(I53,#REF!,4,FALSE))","v":""},null,null,null,null,"()","()"]
[4,null,null,null,null,{"$f":"IF(B54=\"\",\"\",VLOOKUP(B54,#REF!,4,FALSE))","v":""},null,4,null,null,null,null,{"$f":"IF(I54=\"\",\"\",VLOOKUP(I54,#REF!,4,FALSE))","v":""},null,null,null,null,"()","()"]
[5,null,null,null,null,{"$f":"IF(B55=\"\",\"\",VLOOKUP(B55,#REF!,4,FALSE))","v":""},null,5,null,null,null,null,{"$f":"IF(I55=\"\",\"\",VLOOKUP(I55,#REF!,4,FALSE))","v":""},null,null,null,null,"()","()"]
[6,null,null,null,null,{"$f":"IF(B56=\"\",\"\",VLOOKUP(B56,#REF!,4,FALSE))","v":""},null,6,null,null,null,null,{"$f":"IF(I56=\"\",\"\",VLOOKUP(I56,#REF!,4,FALSE))","v":""},null,null,null,null,"()","()"]
[7,null,null,null,null,{"$f":"IF(B57=\"\",\"\",VLOOKUP(B57,#REF!,4,FALSE))","v":""},null,7,null,null,null,null,{"$f":"IF(I57=\"\",\"\",VLOOKUP(I57,#REF!,4,FALSE))","v":""},null,null,null,null,"()","()"]
[8,null,null,null,null,{"$f":"IF(B58=\"\",\"\",VLOOKUP(B58,#REF!,4,FALSE))","v":""},null,8,null,null,null,null,{"$f":"IF(I58=\"\",\"\",VLOOKUP(I58,#REF!,4,FALSE))","v":""},{"$f":"SUM(N15:N57)","v":0},{"$f":"SUM(O15:O57)","v":0},{"$f":"SUM(N58:O58)","v":0},null,"()","()"]
[]
["Noを入力して下さい。氏名、フリガナ、学年が転記されます。"]
["登録外の選手は直接入力して下さい。"]
[]
[]
[]
["上記、本校生徒の出場を認めます。"]
[]
[null,{"$f":"TODAY()","v":"2019-12-24"}]
[]
[null,null,{"$f":"B5","v":0},"中学校"]
[]
[null,null,"学校長",null,null,null,null,"印"]
[]
[]
["学校長氏名捺印の上、印刷し大会当日受付へ提出て下さい。"]
[null,null,null,null,null,null,"チームN0"]

{"sheet":"タスキリレーオーダー","index":16,"n_rows":61,"n_cols":13,"rows_kept":61,"cut":false,"hidden":false,"merged":[[4,1,4,2],[6,1,6,2],[8,1,8,2]]}
["三重タスキリレー大会　",null,null,null,null,"オーダー用紙"]
[]
[]
[]
["学校名",{"$f":"タスキリレー!B5","v":0}]
[]
["監督名",{"$f":"タスキリレー!B7","v":0}]
[]
["連絡先",{"$f":"タスキリレー!B9","v":0}]
[]
[]
[]
["男子A",null,"決定No",null,null,null,null,"男子B",null,"決定No"]
[null,"No","氏名","フリガナ","学年","区間を入力して下さい",null,null,"No","氏名","フリガナ","学年","区間を入力して下さい"]
[1,{"$f":"タスキリレー!B15","v":0},{"$f":"タスキリレー!C15","v":0},{"$f":"タスキリレー!D15","v":0},{"$f":"タスキリレー!E15","v":0},null,null,1,{"$f":"タスキリレー!I15","v":0},{"$f":"タスキリレー!J15","v":0},{"$f":"タスキリレー!K15","v":0},{"$f":"タスキリレー!L15","v":0}]
[2,{"$f":"タスキリレー!B16","v":0},{"$f":"タスキリレー!C16","v":0},{"$f":"タスキリレー!D16","v":0},{"$f":"タスキリレー!E16","v":0},null,null,2,{"$f":"タスキリレー!I16","v":0},{"$f":"タスキリレー!J16","v":0},{"$f":"タスキリレー!K16","v":0},{"$f":"タスキリレー!L16","v":0}]
[3,{"$f":"タスキリレー!B17","v":0},{"$f":"タスキリレー!C17","v":0},{"$f":"タスキリレー!D17","v":0},{"$f":"タスキリレー!E17","v":0},null,null,3,{"$f":"タスキリレー!I17","v":0},{"$f":"タスキリレー!J17","v":0},{"$f":"タスキリレー!K17","v":0},{"$f":"タスキリレー!L17","v":0}]
[4,{"$f":"タスキリレー!B18","v":0},{"$f":"タスキリレー!C18","v":0},{"$f":"タスキリレー!D18","v":0},{"$f":"タスキリレー!E18","v":0},null,null,4,{"$f":"タスキリレー!I18","v":0},{"$f":"タスキリレー!J18","v":0},{"$f":"タスキリレー!K18","v":0},{"$f":"タスキリレー!L18","v":0}]
[5,{"$f":"タスキリレー!B19","v":0},{"$f":"タスキリレー!C19","v":0},{"$f":"タスキリレー!D19","v":0},{"$f":"タスキリレー!E19","v":0},null,null,5,{"$f":"タスキリレー!I19","v":0},{"$f":"タスキリレー!J19","v":0},{"$f":"タスキリレー!K19","v":0},{"$f":"タスキリレー!L19","v":0}]
[6,{"$f":"タスキリレー!B20","v":0},{"$f":"タスキリレー!C20","v":0},{"$f":"タスキリレー!D20","v":0},{"$f":"タスキリレー!E20","v":0},null,null,6,{"$f":"タスキリレー!I20","v":0},{"$f":"タスキリレー!J20","v":0},{"$f":"タスキリレー!K20","v":0},{"$f":"タスキリレー!L20","v":0}]
[7,{"$f":"タスキリレー!B21","v":0},{"$f":"タスキリレー!C21","v":0},{"$f":"タスキリレー!D21","v":0},{"$f":"タスキリレー!E21","v":0},null,null,7,{"$f":"タスキリレー!I21","v":0},{"$f":"タスキリレー!J21","v":0},{"$f":"タスキリレー!K21","v":0},{"$f":"タスキリレー!L21","v":0}]
[8,{"$f":"タスキリレー!B22","v":0},{"$f":"タスキリレー!C22","v":0},{"$f":"タスキリレー!D22","v":0},{"$f":"タスキリレー!E22","v":0},null,null,8,{"$f":"タスキリレー!I22","v":0},{"$f":"タスキリレー!J22","v":0},{"$f":"タスキリレー!K22","v":0},{"$f":"タスキリレー!L22","v":0}]
[]
["男子C",null,"決定No",null,null,null,null,"男子D",null,"決定No"]
[null,"No","氏名","フリガナ","学年","区間を入力して下さい",null,null,"No","氏名","フリガナ","学年","区間を入力して下さい"]
[1,{"$f":"タスキリレー!B27","v":0},{"$f":"タスキリレー!C27","v":0},{"$f":"タスキリレー!D27","v":0},{"$f":"タスキリレー!E27","v":0},null,null,1,{"$f":"タスキリレー!I27","v":0},{"$f":"タスキリレー!J27","v":0},{"$f":"タスキリレー!K27","v":0},{"$f":"タスキリレー!L27","v":0}]
[2,{"$f":"タスキリレー!B28","v":0},{"$f":"タスキリレー!C28","v":0},{"$f":"タスキリレー!D28","v":0},{"$f":"タスキリレー!E28","v":0},null,null,2,{"$f":"タスキリレー!I28","v":0},{"$f":"タスキリレー!J28","v":0},{"$f":"タスキリレー!K28","v":0},{"$f":"タスキリレー!L28","v":0}]
[3,{"$f":"タスキリレー!B29","v":0},{"$f":"タスキリレー!C29","v":0},{"$f":"タスキリレー!D29","v":0},{"$f":"タスキリレー!E29","v":0},null,null,3,{"$f":"タスキリレー!I29","v":0},{"$f":"タスキリレー!J29","v":0},{"$f":"タスキリレー!K29","v":0},{"$f":"タスキリレー!L29","v":0}]
[4,{"$f":"タスキリレー!B30","v":0},{"$f":"タスキリレー!C30","v":0},{"$f":"タスキリレー!D30","v":0},{"$f":"タスキリレー!E30","v":0},null,null,4,{"$f":"タスキリレー!I30","v":0},{"$f":"タスキリレー!J30","v":0},{"$f":"タスキリレー!K30","v":0},{"$f":"タスキリレー!L30","v":0}]
[5,{"$f":"タスキリレー!B31","v":0},{"$f":"タスキリレー!C31","v":0},{"$f":"タスキリレー!D31","v":0},{"$f":"タスキリレー!E31","v":0},null,null,5,{"$f":"タスキリレー!I31","v":0},{"$f":"タスキリレー!J31","v":0},{"$f":"タスキリレー!K31","v":0},{"$f":"タスキリレー!L31","v":0}]
[6,{"$f":"タスキリレー!B32","v":0},{"$f":"タスキリレー!C32","v":0},{"$f":"タスキリレー!D32","v":0},{"$f":"タスキリレー!E32","v":0},null,null,6,{"$f":"タスキリレー!I32","v":0},{"$f":"タスキリレー!J32","v":0},{"$f":"タスキリレー!K32","v":0},{"$f":"タスキリレー!L32","v":0}]
[7,{"$f":"タスキリレー!B33","v":0},{"$f":"タスキリレー!C33","v":0},{"$f":"タスキリレー!D33","v":0},{"$f":"タスキリレー!E33","v":0},null,null,7,{"$f":"タスキリレー!I33","v":0},{"$f":"タスキリレー!J33","v":0},{"$f":"タスキリレー!K33","v":0},{"$f":"タスキリレー!L33","v":0}]
[8,{"$f":"タスキリレー!B34","v":0},{"$f":"タスキリレー!C34","v":0},{"$f":"タスキリレー!D34","v":0},{"$f":"タスキリレー!E34","v":0},null,null,8,{"$f":"タスキリレー!I34","v":0},{"$f":"タスキリレー!J34","v":0},{"$f":"タスキリレー!K34","v":0},{"$f":"タスキリレー!L34","v":0}]
[]
["女子A",null,"決定No",null,null,null,null,"女子B",null,"決定No"]
[null,"No","氏名","フリガナ","学年","区間を入力して下さい",null,null,"No","氏名","フリガナ","学年","区間を入力して下さい"]
[1,{"$f":"タスキリレー!B39","v":0},{"$f":"タスキリレー!C39","v":0},{"$f":"タスキリレー!D39","v":0},{"$f":"タスキリレー!E39","v":0},null,null,1,{"$f":"タスキリレー!I39","v":0},{"$f":"タスキリレー!J39","v":0},{"$f":"タスキリレー!K39","v":0},{"$f":"タスキリレー!L39","v":0}]
[2,{"$f":"タスキリレー!B40","v":0},{"$f":"タスキリレー!C40","v":0},{"$f":"タスキリレー!D40","v":0},{"$f":"タスキリレー!E40","v":0},null,null,2,{"$f":"タスキリレー!I40","v":0},{"$f":"タスキリレー!J40","v":0},{"$f":"タスキリレー!K40","v":0},{"$f":"タスキリレー!L40","v":0}]
[3,{"$f":"タスキリレー!B41","v":0},{"$f":"タスキリレー!C41","v":0},{"$f":"タスキリレー!D41","v":0},{"$f":"タスキリレー!E41","v":0},null,null,3,{"$f":"タスキリレー!I41","v":0},{"$f":"タスキリレー!J41","v":0},{"$f":"タスキリレー!K41","v":0},{"$f":"タスキリレー!L41","v":0}]
[4,{"$f":"タスキリレー!B42","v":0},{"$f":"タスキリレー!C42","v":0},{"$f":"タスキリレー!D42","v":0},{"$f":"タスキリレー!E42","v":0},null,null,4,{"$f":"タスキリレー!I42","v":0},{"$f":"タスキリレー!J42","v":0},{"$f":"タスキリレー!K42","v":0},{"$f":"タスキリレー!L42","v":0}]
[5,{"$f":"タスキリレー!B43","v":0},{"$f":"タスキリレー!C43","v":0},{"$f":"タスキリレー!D43","v":0},{"$f":"タスキリレー!E43","v":0},null,null,5,{"$f":"タスキリレー!I43","v":0},{"$f":"タスキリレー!J43","v":0},{"$f":"タスキリレー!K43","v":0},{"$f":"タスキリレー!L43","v":0}]
[6,{"$f":"タスキリレー!B44","v":0},{"$f":"タスキリレー!C44","v":0},{"$f":"タスキリレー!D44","v":0},{"$f":"タスキリレー!E44","v":0},null,null,6,{"$f":"タスキリレー!I44","v":0},{"$f":"タスキリレー!J44","v":0},{"$f":"タスキリレー!K44","v":0},{"$f":"タスキリレー!L44","v":0}]
[7,{"$f":"タスキリレー!B45","v":0},{"$f":"タスキリレー!C45","v":0},{"$f":"タスキリレー!D45","v":0},{"$f":"タスキリレー!E45","v":0},null,null,7,{"$f":"タスキリレー!I45","v":0},{"$f":"タスキリレー!J45","v":0},{"$f":"タスキリレー!K45","v":0},{"$f":"タスキリレー!L45","v":0}]
[8,{"$f":"タスキリレー!B46","v":0},{"$f":"タスキリレー!C46","v":0},{"$f":"タスキリレー!D46","v":0},{"$f":"タスキリレー!E46","v":0},null,null,8,{"$f":"タスキリレー!I46","v":0},{"$f":"タスキリレー!J46","v":0},{"$f":"タスキリレー!K46","v":0},{"$f":"タスキリレー!L46","v":0}]
[]
["女子C",null,"決定No",null,null,null,null,"女子D",null,"決定No"]
[null,"No","氏名","フリガナ","学年","区間を入力して下さい",null,null,"No","氏名","フリガナ","学年","区間を入力して下さい"]
[1,{"$f":"タスキリレー!B51","v":0},{"$f":"タスキリレー!C51","v":0},{"$f":"タスキリレー!D51","v":0},{"$f":"タスキリレー!E51","v":0},null,null,1,{"$f":"タスキリレー!I51","v":0},{"$f":"タスキリレー!J51","v":0},{"$f":"タスキリレー!K51","v":0},{"$f":"タスキリレー!L51","v":0}]
[2,{"$f":"タスキリレー!B52","v":0},{"$f":"タスキリレー!C52","v":0},{"$f":"タスキリレー!D52","v":0},{"$f":"タスキリレー!E52","v":0},null,null,2,{"$f":"タスキリレー!I52","v":0},{"$f":"タスキリレー!J52","v":0},{"$f":"タスキリレー!K52","v":0},{"$f":"タスキリレー!L52","v":0}]
[3,{"$f":"タスキリレー!B53","v":0},{"$f":"タスキリレー!C53","v":0},{"$f":"タスキリレー!D53","v":0},{"$f":"タスキリレー!E53","v":0},null,null,3,{"$f":"タスキリレー!I53","v":0},{"$f":"タスキリレー!J53","v":0},{"$f":"タスキリレー!K53","v":0},{"$f":"タスキリレー!L53","v":0}]
[4,{"$f":"タスキリレー!B54","v":0},{"$f":"タスキリレー!C54","v":0},{"$f":"タスキリレー!D54","v":0},{"$f":"タスキリレー!E54","v":0},null,null,4,{"$f":"タスキリレー!I54","v":0},{"$f":"タスキリレー!J54","v":0},{"$f":"タスキリレー!K54","v":0},{"$f":"タスキリレー!L54","v":0}]
[5,{"$f":"タスキリレー!B55","v":0},{"$f":"タスキリレー!C55","v":0},{"$f":"タスキリレー!D55","v":0},{"$f":"タスキリレー!E55","v":0},null,null,5,{"$f":"タスキリレー!I55","v":0},{"$f":"タスキリレー!J55","v":0},{"$f":"タスキリレー!K55","v":0},{"$f":"タスキリレー!L55","v":0}]
[6,{"$f":"タスキリレー!B56","v":0},{"$f":"タスキリレー!C56","v":0},{"$f":"タスキリレー!D56","v":0},{"$f":"タスキリレー!E56","v":0},null,null,6,{"$f":"タスキリレー!I56","v":0},{"$f":"タスキリレー!J56","v":0},{"$f":"タスキリレー!K56","v":0},{"$f":"タスキリレー!L56","v":0}]
[7,{"$f":"タスキリレー!B57","v":0},{"$f":"タスキリレー!C57","v":0},{"$f":"タスキリレー!D57","v":0},{"$f":"タスキリレー!E57","v":0},null,null,7,{"$f":"タスキリレー!I57","v":0},{"$f":"タスキリレー!J57","v":0},{"$f":"タスキリレー!K57","v":0},{"$f":"タスキリレー!L57","v":0}]
[8,{"$f":"タスキリレー!B58","v":0},{"$f":"タスキリレー!C58","v":0},{"$f":"タスキリレー!D58","v":0},{"$f":"タスキリレー!E58","v":0},null,null,8,{"$f":"タスキリレー!I58","v":0},{"$f":"タスキリレー!J58","v":0},{"$f":"タスキリレー!K58","v":0},{"$f":"タスキリレー!L58","v":0}]
[]
["選手の変更はできません。走順のみ入力して下さい。"]
["補欠は空白で構いません。"]
[]
[]
[null,null,null,null,null,null,null,null,null,null,null,"チームN0"]

{"sheet":"お勢さんマラソン","index":17,"n_rows":117,"n_cols":37,"rows_kept":117,"cut":false,"hidden":false,"merged":[[5,34,5,35],[1,7,1,17]]}
[null,null,null,null,"所属名",{"$f":"陸連登録!I2","v":0}]
[null,null,null,null,"所属コード",{"$f":"陸連登録!N2","v":0},null,"中日三重お伊勢さんマラソン"]
[null,null,null,null,"顧問名",null,null,null,null,null,null,"参加人数",null,null,{"$f":"AH117","v":0}]
[null,null,null,null,"顧問連絡先",null,null,null,null,null,null,"大会参加費",null,null,{"$f":"AH117*500","v":0}]
[]
["競技者コード","所属コード",null,null,"ナンバー","名前","カナ名","掲示板名","性別","学年","生年","月日","個人所属地コード","陸連ID","種目","コード","記録","リレー","コード","記録","種目3","コード","記録3","種目4","コード","自己記録4","種目5","コード","自己記録5","オープン参加フラグ",null,null,"中学男子5ｋ",null,"種目別人数"]
[null,{"$f":"陸連登録!N2","v":0},null,null,{"$f":"陸連登録!M2","v":1000},{"$f":"陸連登録!C2","v":"岡田"},{"$f":"陸連登録!D2","v":0},{"$f":"F7","v":"岡田"},{"$f":"陸連登録!A2","v":1},{"$f":"陸連登録!P2","v":3},{"$f":"LEFT(陸連登録!L2,4)","v":""},{"$f":"RIGHT(陸連登録!L2,4)","v":""},{"$f":"陸連登録!F2","v":0},{"$f":"陸連登録!B2","v":0},null,{"$f":"IF(O7=\"\",\"\",IF(I7=1,VLOOKUP(O7,$AI$7:$AK$7,3,FALSE),IF(I7=2,VLOOKUP(O7,$AI$8:$AK$8,3,FALSE))))","v":""},null,{"$f":"$F$1","v":0},"中学",{"$f":"CONCATENATE(R7,S7)","v":"0中学"},null,null,null,null,null,null,null,null,null,0,null,null,"中学女子3ｋ",{"$f":"IF(O7=\"\",\"\",1)","v":""},"男子5k",{"$f":"COUNTIF($P$7:$P$116,4)","v":0},4]
[null,{"$f":"陸連登録!N3","v":0},null,null,{"$f":"陸連登録!M3","v":0},{"$f":"陸連登録!C3","v":0},{"$f":"陸連登録!D3","v":0},{"$f":"F8","v":0},{"$f":"陸連登録!A3","v":""},{"$f":"陸連登録!P3","v":0},{"$f":"LEFT(陸連登録!L3,4)","v":""},{"$f":"RIGHT(陸連登録!L3,4)","v":""},{"$f":"陸連登録!F3","v":0},{"$f":"陸連登録!B3","v":0},null,{"$f":"IF(O8=\"\",\"\",IF(I8=1,VLOOKUP(O8,$AI$7:$AK$7,3,FALSE),IF(I8=2,VLOOKUP(O8,$AI$8:$AK$8,3,FALSE))))","v":""},null,{"$f":"$F$1","v":0},"中学",{"$f":"CONCATENATE(R8,S8)","v":"0中学"},null,null,null,null,null,null,null,null,null,0,null,null,null,{"$f":"IF(O8=\"\",\"\",1)","v":""},"女子3k",{"$f":"COUNTIF($P$7:$P$116,8)","v":0},8]
[null,{"$f":"陸連登録!N4","v":0},null,null,{"$f":"陸連登録!M4","v":0},{"$f":"陸連登録!C4","v":0},{"$f":"陸連登録!D4","v":0},0,{"$f":"陸連登録!A4","v":""},{"$f":"陸連登録!P4","v":0},{"$f":"LEFT(陸連登録!L4,4)","v":""},{"$f":"RIGHT(陸連登録!L4,4)","v":""},{"$f":"陸連登録!F4","v":0},{"$f":"陸連登録!B4","v":0},null,"",null,0,"中学","0中学",null,null,null,null,null,null,null,null,null,0,null,null,null,"","計",{"$f":"SUM(AJ7:AJ8)","v":0}]
[null,{"$f":"陸連登録!N5","v":0},null,null,{"$f":"陸連登録!M5","v":0},{"$f":"陸連登録!C5","v":0},{"$f":"陸連登録!D5","v":0},0,{"$f":"陸連登録!A5","v":""},{"$f":"陸連登録!P5","v":0},{"$f":"LEFT(陸連登録!L5,4)","v":""},{"$f":"RIGHT(陸連登録!L5,4)","v":""},{"$f":"陸連登録!F5","v":0},{"$f":"陸連登録!B5","v":0},null,"",null,0,"中学","0中学",null,null,null,null,null,null,null,null,null,0,null,null,null,""]
[null,{"$f":"陸連登録!N6","v":0},null,null,{"$f":"陸連登録!M6","v":0},{"$f":"陸連登録!C6","v":0},{"$f":"陸連登録!D6","v":0},0,{"$f":"陸連登録!A6","v":""},{"$f":"陸連登録!P6","v":0},{"$f":"LEFT(陸連登録!L6,4)","v":""},{"$f":"RIGHT(陸連登録!L6,4)","v":""},{"$f":"陸連登録!F6","v":0},{"$f":"陸連登録!B6","v":0},null,"",null,0,"中学","0中学",null,null,null,null,null,null,null,null,null,0,null,null,null,"","男子は3000mの記録"]
[null,{"$f":"陸連登録!N7","v":0},null,null,{"$f":"陸連登録!M7","v":0},{"$f":"陸連登録!C7","v":0},{"$f":"陸連登録!D7","v":0},0,{"$f":"陸連登録!A7","v":""},{"$f":"陸連登録!P7","v":0},{"$f":"LEFT(陸連登録!L7,4)","v":""},{"$f":"RIGHT(陸連登録!L7,4)","v":""},{"$f":"陸連登録!F7","v":0},{"$f":"陸連登録!B7","v":0},null,"",null,0,"中学","0中学",null,null,null,null,null,null,null,null,null,0,null,null,null,"","女子は2000mの記録"]
[null,{"$f":"陸連登録!N8","v":0},null,null,{"$f":"陸連登録!M8","v":0},{"$f":"陸連登録!C8","v":0},{"$f":"陸連登録!D8","v":0},0,{"$f":"陸連登録!A8","v":""},{"$f":"陸連登録!P8","v":0},{"$f":"LEFT(陸連登録!L8,4)","v":""},{"$f":"RIGHT(陸連登録!L8,4)","v":""},{"$f":"陸連登録!F8","v":0},{"$f":"陸連登録!B8","v":0},null,"",null,0,"中学","0中学",null,null,null,null,null,null,null,null,null,0,null,null,null,""]
[null,{"$f":"陸連登録!N9","v":0},null,null,{"$f":"陸連登録!M9","v":0},{"$f":"陸連登録!C9","v":0},{"$f":"陸連登録!D9","v":0},0,{"$f":"陸連登録!A9","v":""},{"$f":"陸連登録!P9","v":0},{"$f":"LEFT(陸連登録!L9,4)","v":""},{"$f":"RIGHT(陸連登録!L9,4)","v":""},{"$f":"陸連登録!F9","v":0},{"$f":"陸連登録!B9","v":0},null,"",null,0,"中学","0中学",null,null,null,null,null,null,null,null,null,0,null,null,null,""]
[null,{"$f":"陸連登録!N10","v":0},null,null,{"$f":"陸連登録!M10","v":0},{"$f":"陸連登録!C10","v":0},{"$f":"陸連登録!D10","v":0},0,{"$f":"陸連登録!A10","v":""},{"$f":"陸連登録!P10","v":0},{"$f":"LEFT(陸連登録!L10,4)","v":""},{"$f":"RIGHT(陸連登録!L10,4)","v":""},{"$f":"陸連登録!F10","v":0},{"$f":"陸連登録!B10","v":0},null,"",null,0,"中学","0中学",null,null,null,null,null,null,null,null,null,0,null,null,null,""]
[null,{"$f":"陸連登録!N11","v":0},null,null,{"$f":"陸連登録!M11","v":0},{"$f":"陸連登録!C11","v":0},{"$f":"陸連登録!D11","v":0},0,{"$f":"陸連登録!A11","v":""},{"$f":"陸連登録!P11","v":0},{"$f":"LEFT(陸連登録!L11,4)","v":""},{"$f":"RIGHT(陸連登録!L11,4)","v":""},{"$f":"陸連登録!F11","v":0},{"$f":"陸連登録!B11","v":0},null,"",null,0,"中学","0中学",null,null,null,null,null,null,null,null,null,0,null,null,null,""]
[null,{"$f":"陸連登録!N12","v":0},null,null,{"$f":"陸連登録!M12","v":0},{"$f":"陸連登録!C12","v":0},{"$f":"陸連登録!D12","v":0},0,{"$f":"陸連登録!A12","v":""},{"$f":"陸連登録!P12","v":0},{"$f":"LEFT(陸連登録!L12,4)","v":""},{"$f":"RIGHT(陸連登録!L12,4)","v":""},{"$f":"陸連登録!F12","v":0},{"$f":"陸連登録!B12","v":0},null,"",null,0,"中学","0中学",null,null,null,null,null,null,null,null,null,0,null,null,null,""]
[null,{"$f":"陸連登録!N13","v":0},null,null,{"$f":"陸連登録!M13","v":0},{"$f":"陸連登録!C13","v":0},{"$f":"陸連登録!D13","v":0},0,{"$f":"陸連登録!A13","v":""},{"$f":"陸連登録!P13","v":0},{"$f":"LEFT(陸連登録!L13,4)","v":""},{"$f":"RIGHT(陸連登録!L13,4)","v":""},{"$f":"陸連登録!F13","v":0},{"$f":"陸連登録!B13","v":0},null,"",null,0,"中学","0中学",null,null,null,null,null,null,null,null,null,0,null,null,null,""]
[null,{"$f":"陸連登録!N14","v":0},null,null,{"$f":"陸連登録!M14","v":0},{"$f":"陸連登録!C14","v":0},{"$f":"陸連登録!D14","v":0},0,{"$f":"陸連登録!A14","v":""},{"$f":"陸連登録!P14","v":0},{"$f":"LEFT(陸連登録!L14,4)","v":""},{"$f":"RIGHT(陸連登録!L14,4)","v":""},{"$f":"陸連登録!F14","v":0},{"$f":"陸連登録!B14","v":0},null,"",null,0,"中学","0中学",null,null,null,null,null,null,null,null,null,0,null,null,null,""]
[null,{"$f":"陸連登録!N15","v":0},null,null,{"$f":"陸連登録!M15","v":0},{"$f":"陸連登録!C15","v":0},{"$f":"陸連登録!D15","v":0},0,{"$f":"陸連登録!A15","v":""},{"$f":"陸連登録!P15","v":0},{"$f":"LEFT(陸連登録!L15,4)","v":""},{"$f":"RIGHT(陸連登録!L15,4)","v":""},{"$f":"陸連登録!F15","v":0},{"$f":"陸連登録!B15","v":0},null,"",null,0,"中学","0中学",null,null,null,null,null,null,null,null,null,0,null,null,null,""]
[null,{"$f":"陸連登録!N16","v":0},null,null,{"$f":"陸連登録!M16","v":0},{"$f":"陸連登録!C16","v":0},{"$f":"陸連登録!D16","v":0},0,{"$f":"陸連登録!A16","v":""},{"$f":"陸連登録!P16","v":0},{"$f":"LEFT(陸連登録!L16,4)","v":""},{"$f":"RIGHT(陸連登録!L16,4)","v":""},{"$f":"陸連登録!F16","v":0},{"$f":"陸連登録!B16","v":0},null,"",null,0,"中学","0中学",null,null,null,null,null,null,null,null,null,0,null,null,null,{"$f":"IF(O21=\"\",\"\",1)","v":""}]
[null,{"$f":"陸連登録!N17","v":0},null,null,{"$f":"陸連登録!M17","v":0},{"$f":"陸連登録!C17","v":0},{"$f":"陸連登録!D17","v":0},0,{"$f":"陸連登録!A17","v":""},{"$f":"陸連登録!P17","v":0},{"$f":"LEFT(陸連登録!L17,4)","v":""},{"$f":"RIGHT(陸連登録!L17,4)","v":""},{"$f":"陸連登録!F17","v":0},{"$f":"陸連登録!B17","v":0},null,"",null,0,"中学","0中学",null,null,null,null,null,null,null,null,null,0,null,null,null,""]
[null,{"$f":"陸連登録!N18","v":0},null,null,{"$f":"陸連登録!M18","v":0},{"$f":"陸連登録!C18","v":0},{"$f":"陸連登録!D18","v":0},0,{"$f":"陸連登録!A18","v":""},{"$f":"陸連登録!P18","v":0},{"$f":"LEFT(陸連登録!L18,4)","v":""},{"$f":"RIGHT(陸連登録!L18,4)","v":""},{"$f":"陸連登録!F18","v":0},{"$f":"陸連登録!B18","v":0},null,"",null,0,"中学","0中学",null,null,null,null,null,null,null,null,null,0,null,null,null,""]
[null,{"$f":"陸連登録!N19","v":0},null,null,{"$f":"陸連登録!M19","v":0},{"$f":"陸連登録!C19","v":0},{"$f":"陸連登録!D19","v":0},0,{"$f":"陸連登録!A19","v":""},{"$f":"陸連登録!P19","v":0},{"$f":"LEFT(陸連登録!L19,4)","v":""},{"$f":"RIGHT(陸連登録!L19,4)","v":""},{"$f":"陸連登録!F19","v":0},{"$f":"陸連登録!B19","v":0},null,"",null,0,"中学","0中学",null,null,null,null,null,null,null,null,null,0,null,null,null,""]
[null,{"$f":"陸連登録!N20","v":0},null,null,{"$f":"陸連登録!M20","v":0},{"$f":"陸連登録!C20","v":0},{"$f":"陸連登録!D20","v":0},0,{"$f":"陸連登録!A20","v":""},{"$f":"陸連登録!P20","v":0},{"$f":"LEFT(陸連登録!L20,4)","v":""},{"$f":"RIGHT(陸連登録!L20,4)","v":""},{"$f":"陸連登録!F20","v":0},{"$f":"陸連登録!B20","v":0},null,"",null,0,"中学","0中学",null,null,null,null,null,null,null,null,null,0,null,null,null,""]
[null,{"$f":"陸連登録!N21","v":0},null,null,{"$f":"陸連登録!M21","v":0},{"$f":"陸連登録!C21","v":0},{"$f":"陸連登録!D21","v":0},0,{"$f":"陸連登録!A21","v":""},{"$f":"陸連登録!P21","v":0},{"$f":"LEFT(陸連登録!L21,4)","v":""},{"$f":"RIGHT(陸連登録!L21,4)","v":""},{"$f":"陸連登録!F21","v":0},{"$f":"陸連登録!B21","v":0},null,"",null,0,"中学","0中学",null,null,null,null,null,null,null,null,null,0,null,null,null,""]
[null,{"$f":"陸連登録!N22","v":0},null,null,{"$f":"陸連登録!M22","v":0},{"$f":"陸連登録!C22","v":0},{"$f":"陸連登録!D22","v":0},0,{"$f":"陸連登録!A22","v":""},{"$f":"陸連登録!P22","v":0},{"$f":"LEFT(陸連登録!L22,4)","v":""},{"$f":"RIGHT(陸連登録!L22,4)","v":""},{"$f":"陸連登録!F22","v":0},{"$f":"陸連登録!B22","v":0},null,"",null,0,"中学","0中学",null,null,null,null,null,null,null,null,null,0,null,null,null,""]
[null,{"$f":"陸連登録!N23","v":0},null,null,{"$f":"陸連登録!M23","v":0},{"$f":"陸連登録!C23","v":0},{"$f":"陸連登録!D23","v":0},0,{"$f":"陸連登録!A23","v":""},{"$f":"陸連登録!P23","v":0},{"$f":"LEFT(陸連登録!L23,4)","v":""},{"$f":"RIGHT(陸連登録!L23,4)","v":""},{"$f":"陸連登録!F23","v":0},{"$f":"陸連登録!B23","v":0},null,"",null,0,"中学","0中学",null,null,null,null,null,null,null,null,null,0,null,null,null,""]
[null,{"$f":"陸連登録!N24","v":0},null,null,{"$f":"陸連登録!M24","v":0},{"$f":"陸連登録!C24","v":0},{"$f":"陸連登録!D24","v":0},0,{"$f":"陸連登録!A24","v":""},{"$f":"陸連登録!P24","v":0},{"$f":"LEFT(陸連登録!L24,4)","v":""},{"$f":"RIGHT(陸連登録!L24,4)","v":""},{"$f":"陸連登録!F24","v":0},{"$f":"陸連登録!B24","v":0},null,"",null,0,"中学","0中学",null,null,null,null,null,null,null,null,null,0,null,null,null,""]
[null,{"$f":"陸連登録!N25","v":0},null,null,{"$f":"陸連登録!M25","v":0},{"$f":"陸連登録!C25","v":0},{"$f":"陸連登録!D25","v":0},0,{"$f":"陸連登録!A25","v":""},{"$f":"陸連登録!P25","v":0},{"$f":"LEFT(陸連登録!L25,4)","v":""},{"$f":"RIGHT(陸連登録!L25,4)","v":""},{"$f":"陸連登録!F25","v":0},{"$f":"陸連登録!B25","v":0},null,"",null,0,"中学","0中学",null,null,null,null,null,null,null,null,null,0,null,null,null,""]
[null,{"$f":"陸連登録!N26","v":0},null,null,{"$f":"陸連登録!M26","v":0},{"$f":"陸連登録!C26","v":0},{"$f":"陸連登録!D26","v":0},0,{"$f":"陸連登録!A26","v":""},{"$f":"陸連登録!P26","v":0},{"$f":"LEFT(陸連登録!L26,4)","v":""},{"$f":"RIGHT(陸連登録!L26,4)","v":""},{"$f":"陸連登録!F26","v":0},{"$f":"陸連登録!B26","v":0},null,"",null,0,"中学","0中学",null,null,null,null,null,null,null,null,null,0,null,null,null,""]
[null,{"$f":"陸連登録!N27","v":0},null,null,{"$f":"陸連登録!M27","v":0},{"$f":"陸連登録!C27","v":0},{"$f":"陸連登録!D27","v":0},0,{"$f":"陸連登録!A27","v":""},{"$f":"陸連登録!P27","v":0},{"$f":"LEFT(陸連登録!L27,4)","v":""},{"$f":"RIGHT(陸連登録!L27,4)","v":""},{"$f":"陸連登録!F27","v":0},{"$f":"陸連登録!B27","v":0},null,"",null,0,"中学","0中学",null,null,null,null,null,null,null,null,null,0,null,null,null,""]
[null,{"$f":"陸連登録!N28","v":0},null,null,{"$f":"陸連登録!M28","v":0},{"$f":"陸連登録!C28","v":0},{"$f":"陸連登録!D28","v":0},0,{"$f":"陸連登録!A28","v":""},{"$f":"陸連登録!P28","v":0},{"$f":"LEFT(陸連登録!L28,4)","v":""},{"$f":"RIGHT(陸連登録!L28,4)","v":""},{"$f":"陸連登録!F28","v":0},{"$f":"陸連登録!B28","v":0},null,"",null,0,"中学","0中学",null,null,null,null,null,null,null,null,null,0,null,null,null,""]
[null,{"$f":"陸連登録!N29","v":0},null,null,{"$f":"陸連登録!M29","v":0},{"$f":"陸連登録!C29","v":0},{"$f":"陸連登録!D29","v":0},0,{"$f":"陸連登録!A29","v":""},{"$f":"陸連登録!P29","v":0},{"$f":"LEFT(陸連登録!L29,4)","v":""},{"$f":"RIGHT(陸連登録!L29,4)","v":""},{"$f":"陸連登録!F29","v":0},{"$f":"陸連登録!B29","v":0},null,"",null,0,"中学","0中学",null,null,null,null,null,null,null,null,null,0,null,null,null,""]
[null,{"$f":"陸連登録!N30","v":0},null,null,{"$f":"陸連登録!M30","v":0},{"$f":"陸連登録!C30","v":0},{"$f":"陸連登録!D30","v":0},0,{"$f":"陸連登録!A30","v":""},{"$f":"陸連登録!P30","v":0},{"$f":"LEFT(陸連登録!L30,4)","v":""},{"$f":"RIGHT(陸連登録!L30,4)","v":""},{"$f":"陸連登録!F30","v":0},{"$f":"陸連登録!B30","v":0},null,"",null,0,"中学","0中学",null,null,null,null,null,null,null,null,null,0,null,null,null,""]
[null,{"$f":"陸連登録!N31","v":0},null,null,{"$f":"陸連登録!M31","v":0},{"$f":"陸連登録!C31","v":0},{"$f":"陸連登録!D31","v":0},0,{"$f":"陸連登録!A31","v":""},{"$f":"陸連登録!P31","v":0},{"$f":"LEFT(陸連登録!L31,4)","v":""},{"$f":"RIGHT(陸連登録!L31,4)","v":""},{"$f":"陸連登録!F31","v":0},{"$f":"陸連登録!B31","v":0},null,"",null,0,"中学","0中学",null,null,null,null,null,null,null,null,null,0,null,null,null,""]
[null,{"$f":"陸連登録!N32","v":0},null,null,{"$f":"陸連登録!M32","v":0},{"$f":"陸連登録!C32","v":0},{"$f":"陸連登録!D32","v":0},0,{"$f":"陸連登録!A32","v":""},{"$f":"陸連登録!P32","v":0},{"$f":"LEFT(陸連登録!L32,4)","v":""},{"$f":"RIGHT(陸連登録!L32,4)","v":""},{"$f":"陸連登録!F32","v":0},{"$f":"陸連登録!B32","v":0},null,"",null,0,"中学","0中学",null,null,null,null,null,null,null,null,null,0,null,null,null,""]
[null,{"$f":"陸連登録!N33","v":0},null,null,{"$f":"陸連登録!M33","v":0},{"$f":"陸連登録!C33","v":0},{"$f":"陸連登録!D33","v":0},0,{"$f":"陸連登録!A33","v":""},{"$f":"陸連登録!P33","v":0},{"$f":"LEFT(陸連登録!L33,4)","v":""},{"$f":"RIGHT(陸連登録!L33,4)","v":""},{"$f":"陸連登録!F33","v":0},{"$f":"陸連登録!B33","v":0},null,"",null,0,"中学","0中学",null,null,null,null,null,null,null,null,null,0,null,null,null,""]
[null,{"$f":"陸連登録!N34","v":0},null,null,{"$f":"陸連登録!M34","v":0},{"$f":"陸連登録!C34","v":0},{"$f":"陸連登録!D34","v":0},0,{"$f":"陸連登録!A34","v":""},{"$f":"陸連登録!P34","v":0},{"$f":"LEFT(陸連登録!L34,4)","v":""},{"$f":"RIGHT(陸連登録!L34,4)","v":""},{"$f":"陸連登録!F34","v":0},{"$f":"陸連登録!B34","v":0},null,"",null,0,"中学","0中学",null,null,null,null,null,null,null,null,null,0,null,null,null,{"$f":"IF(O39=\"\",\"\",1)","v":""}]
[null,{"$f":"陸連登録!N35","v":0},null,null,{"$f":"陸連登録!M35","v":0},{"$f":"陸連登録!C35","v":0},{"$f":"陸連登録!D35","v":0},0,{"$f":"陸連登録!A35","v":""},{"$f":"陸連登録!P35","v":0},{"$f":"LEFT(陸連登録!L35,4)","v":""},{"$f":"RIGHT(陸連登録!L35,4)","v":""},{"$f":"陸連登録!F35","v":0},{"$f":"陸連登録!B35","v":0},null,"",null,0,"中学","0中学",null,null,null,null,null,null,null,null,null,0,null,null,null,""]
[null,{"$f":"陸連登録!N36","v":0},null,null,{"$f":"陸連登録!M36","v":0},{"$f":"陸連登録!C36","v":0},{"$f":"陸連登録!D36","v":0},0,{"$f":"陸連登録!A36","v":""},{"$f":"陸連登録!P36","v":0},{"$f":"LEFT(陸連登録!L36,4)","v":""},{"$f":"RIGHT(陸連登録!L36,4)","v":""},{"$f":"陸連登録!F36","v":0},{"$f":"陸連登録!B36","v":0},null,"",null,0,"中学","0中学",null,null,null,null,null,null,null,null,null,0,null,null,null,""]
[null,{"$f":"陸連登録!N37","v":0},null,null,{"$f":"陸連登録!M37","v":0},{"$f":"陸連登録!C37","v":0},{"$f":"陸連登録!D37","v":0},0,{"$f":"陸連登録!A37","v":""},{"$f":"陸連登録!P37","v":0},{"$f":"LEFT(陸連登録!L37,4)","v":""},{"$f":"RIGHT(陸連登録!L37,4)","v":""},{"$f":"陸連登録!F37","v":0},{"$f":"陸連登録!B37","v":0},null,"",null,0,"中学","0中学",null,null,null,null,null,null,null,null,null,0,null,null,null,""]
[null,{"$f":"陸連登録!N38","v":0},null,null,{"$f":"陸連登録!M38","v":0},{"$f":"陸連登録!C38","v":0},{"$f":"陸連登録!D38","v":0},0,{"$f":"陸連登録!A38","v":""},{"$f":"陸連登録!P38","v":0},{"$f":"LEFT(陸連登録!L38,4)","v":""},{"$f":"RIGHT(陸連登録!L38,4)","v":""},{"$f":"陸連登録!F38","v":0},{"$f":"陸連登録!B38","v":0},null,"",null,0,"中学","0中学",null,null,null,null,null,null,null,null,null,0,null,null,null,""]
[null,{"$f":"陸連登録!N39","v":0},null,null,{"$f":"陸連登録!M39","v":0},{"$f":"陸連登録!C39","v":0},{"$f":"陸連登録!D39","v":0},0,{"$f":"陸連登録!A39","v":""},{"$f":"陸連登録!P39","v":0},{"$f":"LEFT(陸連登録!L39,4)","v":""},{"$f":"RIGHT(陸連登録!L39,4)","v":""},{"$f":"陸連登録!F39","v":0},{"$f":"陸連登録!B39","v":0},null,"",null,0,"中学","0中学",null,null,null,null,null,null,null,null,null,0,null,null,null,""]
[null,{"$f":"陸連登録!N40","v":0},null,null,{"$f":"陸連登録!M40","v":0},{"$f":"陸連登録!C40","v":0},{"$f":"陸連登録!D40","v":0},0,{"$f":"陸連登録!A40","v":""},{"$f":"陸連登録!P40","v":0},{"$f":"LEFT(陸連登録!L40,4)","v":""},{"$f":"RIGHT(陸連登録!L40,4)","v":""},{"$f":"陸連登録!F40","v":0},{"$f":"陸連登録!B40","v":0},null,"",null,0,"中学","0中学",null,null,null,null,null,null,null,null,null,0,null,null,null,""]
[null,{"$f":"陸連登録!N41","v":0},null,null,{"$f":"陸連登録!M41","v":0},{"$f":"陸連登録!C41","v":0},{"$f":"陸連登録!D41","v":0},0,{"$f":"陸連登録!A41","v":""},{"$f":"陸連登録!P41","v":0},{"$f":"LEFT(陸連登録!L41,4)","v":""},{"$f":"RIGHT(陸連登録!L41,4)","v":""},{"$f":"陸連登録!F41","v":0},{"$f":"陸連登録!B41","v":0},null,"",null,0,"中学","0中学",null,null,null,null,null,null,null,null,null,0,null,null,null,""]
[null,{"$f":"陸連登録!N42","v":0},null,null,{"$f":"陸連登録!M42","v":0},{"$f":"陸連登録!C42","v":0},{"$f":"陸連登録!D42","v":0},0,{"$f":"陸連登録!A42","v":""},{"$f":"陸連登録!P42","v":0},{"$f":"LEFT(陸連登録!L42,4)","v":""},{"$f":"RIGHT(陸連登録!L42,4)","v":""},{"$f":"陸連登録!F42","v":0},{"$f":"陸連登録!B42","v":0},null,"",null,0,"中学","0中学",null,null,null,null,null,null,null,null,null,0,null,null,null,""]
[null,{"$f":"陸連登録!N43","v":0},null,null,{"$f":"陸連登録!M43","v":0},{"$f":"陸連登録!C43","v":0},{"$f":"陸連登録!D43","v":0},0,{"$f":"陸連登録!A43","v":""},{"$f":"陸連登録!P43","v":0},{"$f":"LEFT(陸連登録!L43,4)","v":""},{"$f":"RIGHT(陸連登録!L43,4)","v":""},{"$f":"陸連登録!F43","v":0},{"$f":"陸連登録!B43","v":0},null,"",null,0,"中学","0中学",null,null,null,null,null,null,null,null,null,0,null,null,null,""]
[null,{"$f":"陸連登録!N44","v":0},null,null,{"$f":"陸連登録!M44","v":0},{"$f":"陸連登録!C44","v":0},{"$f":"陸連登録!D44","v":0},0,{"$f":"陸連登録!A44","v":""},{"$f":"陸連登録!P44","v":0},{"$f":"LEFT(陸連登録!L44,4)","v":""},{"$f":"RIGHT(陸連登録!L44,4)","v":""},{"$f":"陸連登録!F44","v":0},{"$f":"陸連登録!B44","v":0},null,"",null,0,"中学","0中学",null,null,null,null,null,null,null,null,null,0,null,null,null,""]
[null,{"$f":"陸連登録!N45","v":0},null,null,{"$f":"陸連登録!M45","v":0},{"$f":"陸連登録!C45","v":0},{"$f":"陸連登録!D45","v":0},0,{"$f":"陸連登録!A45","v":""},{"$f":"陸連登録!P45","v":0},{"$f":"LEFT(陸連登録!L45,4)","v":""},{"$f":"RIGHT(陸連登録!L45,4)","v":""},{"$f":"陸連登録!F45","v":0},{"$f":"陸連登録!B45","v":0},null,"",null,0,"中学","0中学",null,null,null,null,null,null,null,null,null,0,null,null,null,""]
[null,{"$f":"陸連登録!N46","v":0},null,null,{"$f":"陸連登録!M46","v":0},{"$f":"陸連登録!C46","v":0},{"$f":"陸連登録!D46","v":0},0,{"$f":"陸連登録!A46","v":""},{"$f":"陸連登録!P46","v":0},{"$f":"LEFT(陸連登録!L46,4)","v":""},{"$f":"RIGHT(陸連登録!L46,4)","v":""},{"$f":"陸連登録!F46","v":0},{"$f":"陸連登録!B46","v":0},null,"",null,0,"中学","0中学",null,null,null,null,null,null,null,null,null,0,null,null,null,""]
[null,{"$f":"陸連登録!N47","v":0},null,null,{"$f":"陸連登録!M47","v":0},{"$f":"陸連登録!C47","v":0},{"$f":"陸連登録!D47","v":0},0,{"$f":"陸連登録!A47","v":""},{"$f":"陸連登録!P47","v":0},{"$f":"LEFT(陸連登録!L47,4)","v":""},{"$f":"RIGHT(陸連登録!L47,4)","v":""},{"$f":"陸連登録!F47","v":0},{"$f":"陸連登録!B47","v":0},null,"",null,0,"中学","0中学",null,null,null,null,null,null,null,null,null,0,null,null,null,""]
[null,{"$f":"陸連登録!N48","v":0},null,null,{"$f":"陸連登録!M48","v":0},{"$f":"陸連登録!C48","v":0},{"$f":"陸連登録!D48","v":0},0,{"$f":"陸連登録!A48","v":""},{"$f":"陸連登録!P48","v":0},{"$f":"LEFT(陸連登録!L48,4)","v":""},{"$f":"RIGHT(陸連登録!L48,4)","v":""},{"$f":"陸連登録!F48","v":0},{"$f":"陸連登録!B48","v":0},null,"",null,0,"中学","0中学",null,null,null,null,null,null,null,null,null,0,null,null,null,""]
[null,{"$f":"陸連登録!N49","v":0},null,null,{"$f":"陸連登録!M49","v":0},{"$f":"陸連登録!C49","v":0},{"$f":"陸連登録!D49","v":0},0,{"$f":"陸連登録!A49","v":""},{"$f":"陸連登録!P49","v":0},{"$f":"LEFT(陸連登録!L49,4)","v":""},{"$f":"RIGHT(陸連登録!L49,4)","v":""},{"$f":"陸連登録!F49","v":0},{"$f":"陸連登録!B49","v":0},null,"",null,0,"中学","0中学",null,null,null,null,null,null,null,null,null,0,null,null,null,""]
[null,{"$f":"陸連登録!N50","v":0},null,null,{"$f":"陸連登録!M50","v":0},{"$f":"陸連登録!C50","v":0},{"$f":"陸連登録!D50","v":0},0,{"$f":"陸連登録!A50","v":""},{"$f":"陸連登録!P50","v":0},{"$f":"LEFT(陸連登録!L50,4)","v":""},{"$f":"RIGHT(陸連登録!L50,4)","v":""},{"$f":"陸連登録!F50","v":0},{"$f":"陸連登録!B50","v":0},null,"",null,0,"中学","0中学",null,null,null,null,null,null,null,null,null,0,null,null,null,""]
[null,{"$f":"陸連登録!N51","v":0},null,null,{"$f":"陸連登録!M51","v":0},{"$f":"陸連登録!C51","v":0},{"$f":"陸連登録!D51","v":0},0,{"$f":"陸連登録!A51","v":""},{"$f":"陸連登録!P51","v":0},{"$f":"LEFT(陸連登録!L51,4)","v":""},{"$f":"RIGHT(陸連登録!L51,4)","v":""},{"$f":"陸連登録!F51","v":0},{"$f":"陸連登録!B51","v":0},null,"",null,0,"中学","0中学",null,null,null,null,null,null,null,null,null,0,null,null,null,""]
[null,{"$f":"陸連登録!N52","v":0},null,null,{"$f":"陸連登録!M52","v":0},{"$f":"陸連登録!C52","v":0},{"$f":"陸連登録!D52","v":0},0,{"$f":"陸連登録!A52","v":""},{"$f":"陸連登録!P52","v":0},{"$f":"LEFT(陸連登録!L52,4)","v":""},{"$f":"RIGHT(陸連登録!L52,4)","v":""},{"$f":"陸連登録!F52","v":0},{"$f":"陸連登録!B52","v":0},null,"",null,0,"中学","0中学",null,null,null,null,null,null,null,null,null,0,null,null,null,""]
[null,{"$f":"陸連登録!N53","v":0},null,null,{"$f":"陸連登録!M53","v":0},{"$f":"陸連登録!C53","v":0},{"$f":"陸連登録!D53","v":0},0,{"$f":"陸連登録!A53","v":""},{"$f":"陸連登録!P53","v":0},{"$f":"LEFT(陸連登録!L53,4)","v":""},{"$f":"RIGHT(陸連登録!L53,4)","v":""},{"$f":"陸連登録!F53","v":0},{"$f":"陸連登録!B53","v":0},null,"",null,0,"中学","0中学",null,null,null,null,null,null,null,null,null,0,null,null,null,""]
[null,{"$f":"陸連登録!N54","v":0},null,null,{"$f":"陸連登録!M54","v":0},{"$f":"陸連登録!C54","v":0},{"$f":"陸連登録!D54","v":0},0,{"$f":"陸連登録!A54","v":""},{"$f":"陸連登録!P54","v":0},{"$f":"LEFT(陸連登録!L54,4)","v":""},{"$f":"RIGHT(陸連登録!L54,4)","v":""},{"$f":"陸連登録!F54","v":0},{"$f":"陸連登録!B54","v":0},null,"",null,0,"中学","0中学",null,null,null,null,null,null,null,null,null,0,null,null,null,""]
[null,{"$f":"陸連登録!N55","v":0},null,null,{"$f":"陸連登録!M55","v":0},{"$f":"陸連登録!C55","v":0},{"$f":"陸連登録!D55","v":0},0,{"$f":"陸連登録!A55","v":""},{"$f":"陸連登録!P55","v":0},{"$f":"LEFT(陸連登録!L55,4)","v":""},{"$f":"RIGHT(陸連登録!L55,4)","v":""},{"$f":"陸連登録!F55","v":0},{"$f":"陸連登録!B55","v":0},null,"",null,0,"中学","0中学",null,null,null,null,null,null,null,null,null,0,null,null,null,""]
[null,{"$f":"陸連登録!N56","v":0},null,null,{"$f":"陸連登録!M56","v":0},{"$f":"陸連登録!C56","v":0},{"$f":"陸連登録!D56","v":0},0,{"$f":"陸連登録!A56","v":""},{"$f":"陸連登録!P56","v":0},{"$f":"LEFT(陸連登録!L56,4)","v":""},{"$f":"RIGHT(陸連登録!L56,4)","v":""},{"$f":"陸連登録!F56","v":0},{"$f":"陸連登録!B56","v":0},null,"",null,0,"中学","0中学",null,null,null,null,null,null,null,null,null,0,null,null,null,""]
[null,{"$f":"陸連登録!N57","v":0},null,null,{"$f":"陸連登録!M57","v":0},{"$f":"陸連登録!C57","v":0},{"$f":"陸連登録!D57","v":0},0,{"$f":"陸連登録!A57","v":""},{"$f":"陸連登録!P57","v":0},{"$f":"LEFT(陸連登録!L57,4)","v":""},{"$f":"RIGHT(陸連登録!L57,4)","v":""},{"$f":"陸連登録!F57","v":0},{"$f":"陸連登録!B57","v":0},null,"",null,0,"中学","0中学",null,null,null,null,null,null,null,null,null,0,null,null,null,""]
[null,{"$f":"陸連登録!N58","v":0},null,null,{"$f":"陸連登録!M58","v":0},{"$f":"陸連登録!C58","v":0},{"$f":"陸連登録!D58","v":0},0,{"$f":"陸連登録!A58","v":""},{"$f":"陸連登録!P58","v":0},{"$f":"LEFT(陸連登録!L58,4)","v":""},{"$f":"RIGHT(陸連登録!L58,4)","v":""},{"$f":"陸連登録!F58","v":0},{"$f":"陸連登録!B58","v":0},null,"",null,0,"中学","0中学",null,null,null,null,null,null,null,null,null,0,null,null,null,""]
[null,{"$f":"陸連登録!N59","v":0},null,null,{"$f":"陸連登録!M59","v":0},{"$f":"陸連登録!C59","v":0},{"$f":"陸連登録!D59","v":0},0,{"$f":"陸連登録!A59","v":""},{"$f":"陸連登録!P59","v":0},{"$f":"LEFT(陸連登録!L59,4)","v":""},{"$f":"RIGHT(陸連登録!L59,4)","v":""},{"$f":"陸連登録!F59","v":0},{"$f":"陸連登録!B59","v":0},null,"",null,0,"中学","0中学",null,null,null,null,null,null,null,null,null,0,null,null,null,""]
[null,{"$f":"陸連登録!N60","v":0},null,null,{"$f":"陸連登録!M60","v":0},{"$f":"陸連登録!C60","v":0},{"$f":"陸連登録!D60","v":0},0,{"$f":"陸連登録!A60","v":""},{"$f":"陸連登録!P60","v":0},{"$f":"LEFT(陸連登録!L60,4)","v":""},{"$f":"RIGHT(陸連登録!L60,4)","v":""},{"$f":"陸連登録!F60","v":0},{"$f":"陸連登録!B60","v":0},null,"",null,0,"中学","0中学",null,null,null,null,null,null,null,null,null,0,null,null,null,""]
[null,{"$f":"陸連登録!N61","v":0},null,null,{"$f":"陸連登録!M61","v":0},{"$f":"陸連登録!C61","v":0},{"$f":"陸連登録!D61","v":0},0,{"$f":"陸連登録!A61","v":""},{"$f":"陸連登録!P61","v":0},{"$f":"LEFT(陸連登録!L61,4)","v":""},{"$f":"RIGHT(陸連登録!L61,4)","v":""},{"$f":"陸連登録!F61","v":0},{"$f":"陸連登録!B61","v":0},null,"",null,0,"中学","0中学",null,null,null,null,null,null,null,null,null,0,null,null,null,""]
[null,{"$f":"陸連登録!N62","v":0},null,null,{"$f":"陸連登録!M62","v":0},{"$f":"陸連登録!C62","v":0},{"$f":"陸連登録!D62","v":0},0,{"$f":"陸連登録!A62","v":""},{"$f":"陸連登録!P62","v":0},{"$f":"LEFT(陸連登録!L62,4)","v":""},{"$f":"RIGHT(陸連登録!L62,4)","v":""},{"$f":"陸連登録!F62","v":0},{"$f":"陸連登録!B62","v":0},null,"",null,0,"中学","0中学",null,null,null,null,null,null,null,null,null,0,null,null,null,""]
[null,{"$f":"陸連登録!N63","v":0},null,null,{"$f":"陸連登録!M63","v":0},{"$f":"陸連登録!C63","v":0},{"$f":"陸連登録!D63","v":0},0,{"$f":"陸連登録!A63","v":""},{"$f":"陸連登録!P63","v":0},{"$f":"LEFT(陸連登録!L63,4)","v":""},{"$f":"RIGHT(陸連登録!L63,4)","v":""},{"$f":"陸連登録!F63","v":0},{"$f":"陸連登録!B63","v":0},null,"",null,0,"中学","0中学",null,null,null,null,null,null,null,null,null,0,null,null,null,""]
[null,{"$f":"陸連登録!N64","v":0},null,null,{"$f":"陸連登録!M64","v":0},{"$f":"陸連登録!C64","v":0},{"$f":"陸連登録!D64","v":0},0,{"$f":"陸連登録!A64","v":""},{"$f":"陸連登録!P64","v":0},{"$f":"LEFT(陸連登録!L64,4)","v":""},{"$f":"RIGHT(陸連登録!L64,4)","v":""},{"$f":"陸連登録!F64","v":0},{"$f":"陸連登録!B64","v":0},null,"",null,0,"中学","0中学",null,null,null,null,null,null,null,null,null,0,null,null,null,""]
[null,{"$f":"陸連登録!N65","v":0},null,null,{"$f":"陸連登録!M65","v":0},{"$f":"陸連登録!C65","v":0},{"$f":"陸連登録!D65","v":0},0,{"$f":"陸連登録!A65","v":""},{"$f":"陸連登録!P65","v":0},{"$f":"LEFT(陸連登録!L65,4)","v":""},{"$f":"RIGHT(陸連登録!L65,4)","v":""},{"$f":"陸連登録!F65","v":0},{"$f":"陸連登録!B65","v":0},null,"",null,0,"中学","0中学",null,null,null,null,null,null,null,null,null,0,null,null,null,""]
[null,{"$f":"陸連登録!N66","v":0},null,null,{"$f":"陸連登録!M66","v":0},{"$f":"陸連登録!C66","v":0},{"$f":"陸連登録!D66","v":0},0,{"$f":"陸連登録!A66","v":""},{"$f":"陸連登録!P66","v":0},{"$f":"LEFT(陸連登録!L66,4)","v":""},{"$f":"RIGHT(陸連登録!L66,4)","v":""},{"$f":"陸連登録!F66","v":0},{"$f":"陸連登録!B66","v":0},null,"",null,0,"中学","0中学",null,null,null,null,null,null,null,null,null,0,null,null,null,{"$f":"IF(O71=\"\",\"\",1)","v":""}]
[null,{"$f":"陸連登録!N67","v":0},null,null,{"$f":"陸連登録!M67","v":0},{"$f":"陸連登録!C67","v":0},{"$f":"陸連登録!D67","v":0},{"$f":"F72","v":0},{"$f":"陸連登録!A67","v":""},{"$f":"陸連登録!P67","v":0},{"$f":"LEFT(陸連登録!L67,4)","v":""},{"$f":"RIGHT(陸連登録!L67,4)","v":""},{"$f":"陸連登録!F67","v":0},{"$f":"陸連登録!B67","v":0},null,{"$f":"IF(O72=\"\",\"\",IF(I72=1,VLOOKUP(O72,$AI$7:$AK$7,3,FALSE),IF(I72=2,VLOOKUP(O72,$AI$8:$AK$8,3,FALSE))))","v":""},null,{"$f":"$F$1","v":0},"中学",{"$f":"CONCATENATE(R72,S72)","v":"0中学"},null,null,null,null,null,null,null,null,null,0,null,null,null,""]
[null,{"$f":"陸連登録!N68","v":0},null,null,{"$f":"陸連登録!M68","v":0},{"$f":"陸連登録!C68","v":0},{"$f":"陸連登録!D68","v":0},0,{"$f":"陸連登録!A68","v":""},{"$f":"陸連登録!P68","v":0},{"$f":"LEFT(陸連登録!L68,4)","v":""},{"$f":"RIGHT(陸連登録!L68,4)","v":""},{"$f":"陸連登録!F68","v":0},{"$f":"陸連登録!B68","v":0},null,"",null,0,"中学","0中学",null,null,null,null,null,null,null,null,null,0,null,null,null,""]
[null,{"$f":"陸連登録!N69","v":0},null,null,{"$f":"陸連登録!M69","v":0},{"$f":"陸連登録!C69","v":0},{"$f":"陸連登録!D69","v":0},0,{"$f":"陸連登録!A69","v":""},{"$f":"陸連登録!P69","v":0},{"$f":"LEFT(陸連登録!L69,4)","v":""},{"$f":"RIGHT(陸連登録!L69,4)","v":""},{"$f":"陸連登録!F69","v":0},{"$f":"陸連登録!B69","v":0},null,"",null,0,"中学","0中学",null,null,null,null,null,null,null,null,null,0,null,null,null,""]
[null,{"$f":"陸連登録!N70","v":0},null,null,{"$f":"陸連登録!M70","v":0},{"$f":"陸連登録!C70","v":0},{"$f":"陸連登録!D70","v":0},0,{"$f":"陸連登録!A70","v":""},{"$f":"陸連登録!P70","v":0},{"$f":"LEFT(陸連登録!L70,4)","v":""},{"$f":"RIGHT(陸連登録!L70,4)","v":""},{"$f":"陸連登録!F70","v":0},{"$f":"陸連登録!B70","v":0},null,"",null,0,"中学","0中学",null,null,null,null,null,null,null,null,null,0,null,null,null,""]
[null,{"$f":"陸連登録!N71","v":0},null,null,{"$f":"陸連登録!M71","v":0},{"$f":"陸連登録!C71","v":0},{"$f":"陸連登録!D71","v":0},0,{"$f":"陸連登録!A71","v":""},{"$f":"陸連登録!P71","v":0},{"$f":"LEFT(陸連登録!L71,4)","v":""},{"$f":"RIGHT(陸連登録!L71,4)","v":""},{"$f":"陸連登録!F71","v":0},{"$f":"陸連登録!B71","v":0},null,"",null,0,"中学","0中学",null,null,null,null,null,null,null,null,null,0,null,null,null,""]
[null,{"$f":"陸連登録!N72","v":0},null,null,{"$f":"陸連登録!M72","v":0},{"$f":"陸連登録!C72","v":0},{"$f":"陸連登録!D72","v":0},0,{"$f":"陸連登録!A72","v":""},{"$f":"陸連登録!P72","v":0},{"$f":"LEFT(陸連登録!L72,4)","v":""},{"$f":"RIGHT(陸連登録!L72,4)","v":""},{"$f":"陸連登録!F72","v":0},{"$f":"陸連登録!B72","v":0},null,"",null,0,"中学","0中学",null,null,null,null,null,null,null,null,null,0,null,null,null,""]
[null,{"$f":"陸連登録!N73","v":0},null,null,{"$f":"陸連登録!M73","v":0},{"$f":"陸連登録!C73","v":0},{"$f":"陸連登録!D73","v":0},0,{"$f":"陸連登録!A73","v":""},{"$f":"陸連登録!P73","v":0},{"$f":"LEFT(陸連登録!L73,4)","v":""},{"$f":"RIGHT(陸連登録!L73,4)","v":""},{"$f":"陸連登録!F73","v":0},{"$f":"陸連登録!B73","v":0},null,"",null,0,"中学","0中学",null,null,null,null,null,null,null,null,null,0,null,null,null,""]
[null,{"$f":"陸連登録!N74","v":0},null,null,{"$f":"陸連登録!M74","v":0},{"$f":"陸連登録!C74","v":0},{"$f":"陸連登録!D74","v":0},0,{"$f":"陸連登録!A74","v":""},{"$f":"陸連登録!P74","v":0},{"$f":"LEFT(陸連登録!L74,4)","v":""},{"$f":"RIGHT(陸連登録!L74,4)","v":""},{"$f":"陸連登録!F74","v":0},{"$f":"陸連登録!B74","v":0},null,"",null,0,"中学","0中学",null,null,null,null,null,null,null,null,null,0,null,null,null,""]
[null,{"$f":"陸連登録!N75","v":0},null,null,{"$f":"陸連登録!M75","v":0},{"$f":"陸連登録!C75","v":0},{"$f":"陸連登録!D75","v":0},0,{"$f":"陸連登録!A75","v":""},{"$f":"陸連登録!P75","v":0},{"$f":"LEFT(陸連登録!L75,4)","v":""},{"$f":"RIGHT(陸連登録!L75,4)","v":""},{"$f":"陸連登録!F75","v":0},{"$f":"陸連登録!B75","v":0},null,"",null,0,"中学","0中学",null,null,null,null,null,null,null,null,null,0,null,null,null,""]
[null,{"$f":"陸連登録!N76","v":0},null,null,{"$f":"陸連登録!M76","v":0},{"$f":"陸連登録!C76","v":0},{"$f":"陸連登録!D76","v":0},0,{"$f":"陸連登録!A76","v":""},{"$f":"陸連登録!P76","v":0},{"$f":"LEFT(陸連登録!L76,4)","v":""},{"$f":"RIGHT(陸連登録!L76,4)","v":""},{"$f":"陸連登録!F76","v":0},{"$f":"陸連登録!B76","v":0},null,"",null,0,"中学","0中学",null,null,null,null,null,null,null,null,null,0,null,null,null,""]
[null,{"$f":"陸連登録!N77","v":0},null,null,{"$f":"陸連登録!M77","v":0},{"$f":"陸連登録!C77","v":0},{"$f":"陸連登録!D77","v":0},0,{"$f":"陸連登録!A77","v":""},{"$f":"陸連登録!P77","v":0},{"$f":"LEFT(陸連登録!L77,4)","v":""},{"$f":"RIGHT(陸連登録!L77,4)","v":""},{"$f":"陸連登録!F77","v":0},{"$f":"陸連登録!B77","v":0},null,"",null,0,"中学","0中学",null,null,null,null,null,null,null,null,null,0,null,null,null,""]
[null,{"$f":"陸連登録!N78","v":0},null,null,{"$f":"陸連登録!M78","v":0},{"$f":"陸連登録!C78","v":0},{"$f":"陸連登録!D78","v":0},0,{"$f":"陸連登録!A78","v":""},{"$f":"陸連登録!P78","v":0},{"$f":"LEFT(陸連登録!L78,4)","v":""},{"$f":"RIGHT(陸連登録!L78,4)","v":""},{"$f":"陸連登録!F78","v":0},{"$f":"陸連登録!B78","v":0},null,"",null,0,"中学","0中学",null,null,null,null,null,null,null,null,null,0,null,null,null,""]
[null,{"$f":"陸連登録!N79","v":0},null,null,{"$f":"陸連登録!M79","v":0},{"$f":"陸連登録!C79","v":0},{"$f":"陸連登録!D79","v":0},0,{"$f":"陸連登録!A79","v":""},{"$f":"陸連登録!P79","v":0},{"$f":"LEFT(陸連登録!L79,4)","v":""},{"$f":"RIGHT(陸連登録!L79,4)","v":""},{"$f":"陸連登録!F79","v":0},{"$f":"陸連登録!B79","v":0},null,"",null,0,"中学","0中学",null,null,null,null,null,null,null,null,null,0,null,null,null,""]
[null,{"$f":"陸連登録!N80","v":0},null,null,{"$f":"陸連登録!M80","v":0},{"$f":"陸連登録!C80","v":0},{"$f":"陸連登録!D80","v":0},0,{"$f":"陸連登録!A80","v":""},{"$f":"陸連登録!P80","v":0},{"$f":"LEFT(陸連登録!L80,4)","v":""},{"$f":"RIGHT(陸連登録!L80,4)","v":""},{"$f":"陸連登録!F80","v":0},{"$f":"陸連登録!B80","v":0},null,"",null,0,"中学","0中学",null,null,null,null,null,null,null,null,null,0,null,null,null,""]
[null,{"$f":"陸連登録!N81","v":0},null,null,{"$f":"陸連登録!M81","v":0},{"$f":"陸連登録!C81","v":0},{"$f":"陸連登録!D81","v":0},0,{"$f":"陸連登録!A81","v":""},{"$f":"陸連登録!P81","v":0},{"$f":"LEFT(陸連登録!L81,4)","v":""},{"$f":"RIGHT(陸連登録!L81,4)","v":""},{"$f":"陸連登録!F81","v":0},{"$f":"陸連登録!B81","v":0},null,"",null,0,"中学","0中学",null,null,null,null,null,null,null,null,null,0,null,null,null,""]
[null,{"$f":"陸連登録!N82","v":0},null,null,{"$f":"陸連登録!M82","v":0},{"$f":"陸連登録!C82","v":0},{"$f":"陸連登録!D82","v":0},0,{"$f":"陸連登録!A82","v":""},{"$f":"陸連登録!P82","v":0},{"$f":"LEFT(陸連登録!L82,4)","v":""},{"$f":"RIGHT(陸連登録!L82,4)","v":""},{"$f":"陸連登録!F82","v":0},{"$f":"陸連登録!B82","v":0},null,"",null,0,"中学","0中学",null,null,null,null,null,null,null,null,null,0,null,null,null,""]
[null,{"$f":"陸連登録!N83","v":0},null,null,{"$f":"陸連登録!M83","v":0},{"$f":"陸連登録!C83","v":0},{"$f":"陸連登録!D83","v":0},0,{"$f":"陸連登録!A83","v":""},{"$f":"陸連登録!P83","v":0},{"$f":"LEFT(陸連登録!L83,4)","v":""},{"$f":"RIGHT(陸連登録!L83,4)","v":""},{"$f":"陸連登録!F83","v":0},{"$f":"陸連登録!B83","v":0},null,"",null,0,"中学","0中学",null,null,null,null,null,null,null,null,null,0,null,null,null,""]
[null,{"$f":"陸連登録!N84","v":0},null,null,{"$f":"陸連登録!M84","v":0},{"$f":"陸連登録!C84","v":0},{"$f":"陸連登録!D84","v":0},0,{"$f":"陸連登録!A84","v":""},{"$f":"陸連登録!P84","v":0},{"$f":"LEFT(陸連登録!L84,4)","v":""},{"$f":"RIGHT(陸連登録!L84,4)","v":""},{"$f":"陸連登録!F84","v":0},{"$f":"陸連登録!B84","v":0},null,"",null,0,"中学","0中学",null,null,null,null,null,null,null,null,null,0,null,null,null,""]
[null,{"$f":"陸連登録!N85","v":0},null,null,{"$f":"陸連登録!M85","v":0},{"$f":"陸連登録!C85","v":0},{"$f":"陸連登録!D85","v":0},0,{"$f":"陸連登録!A85","v":""},{"$f":"陸連登録!P85","v":0},{"$f":"LEFT(陸連登録!L85,4)","v":""},{"$f":"RIGHT(陸連登録!L85,4)","v":""},{"$f":"陸連登録!F85","v":0},{"$f":"陸連登録!B85","v":0},null,"",null,0,"中学","0中学",null,null,null,null,null,null,null,null,null,0,null,null,null,""]
[null,{"$f":"陸連登録!N86","v":0},null,null,{"$f":"陸連登録!M86","v":0},{"$f":"陸連登録!C86","v":0},{"$f":"陸連登録!D86","v":0},0,{"$f":"陸連登録!A86","v":""},{"$f":"陸連登録!P86","v":0},{"$f":"LEFT(陸連登録!L86,4)","v":""},{"$f":"RIGHT(陸連登録!L86,4)","v":""},{"$f":"陸連登録!F86","v":0},{"$f":"陸連登録!B86","v":0},null,"",null,0,"中学","0中学",null,null,null,null,null,null,null,null,null,0,null,null,null,""]
[null,{"$f":"陸連登録!N87","v":0},null,null,{"$f":"陸連登録!M87","v":0},{"$f":"陸連登録!C87","v":0},{"$f":"陸連登録!D87","v":0},0,{"$f":"陸連登録!A87","v":""},{"$f":"陸連登録!P87","v":0},{"$f":"LEFT(陸連登録!L87,4)","v":""},{"$f":"RIGHT(陸連登録!L87,4)","v":""},{"$f":"陸連登録!F87","v":0},{"$f":"陸連登録!B87","v":0},null,"",null,0,"中学","0中学",null,null,null,null,null,null,null,null,null,0,null,null,null,""]
[null,{"$f":"陸連登録!N88","v":0},null,null,{"$f":"陸連登録!M88","v":0},{"$f":"陸連登録!C88","v":0},{"$f":"陸連登録!D88","v":0},0,{"$f":"陸連登録!A88","v":""},{"$f":"陸連登録!P88","v":0},{"$f":"LEFT(陸連登録!L88,4)","v":""},{"$f":"RIGHT(陸連登録!L88,4)","v":""},{"$f":"陸連登録!F88","v":0},{"$f":"陸連登録!B88","v":0},null,"",null,0,"中学","0中学",null,null,null,null,null,null,null,null,null,0,null,null,null,""]
[null,{"$f":"陸連登録!N89","v":0},null,null,{"$f":"陸連登録!M89","v":0},{"$f":"陸連登録!C89","v":0},{"$f":"陸連登録!D89","v":0},0,{"$f":"陸連登録!A89","v":""},{"$f":"陸連登録!P89","v":0},{"$f":"LEFT(陸連登録!L89,4)","v":""},{"$f":"RIGHT(陸連登録!L89,4)","v":""},{"$f":"陸連登録!F89","v":0},{"$f":"陸連登録!B89","v":0},null,"",null,0,"中学","0中学",null,null,null,null,null,null,null,null,null,0,null,null,null,""]
[null,{"$f":"陸連登録!N90","v":0},null,null,{"$f":"陸連登録!M90","v":0},{"$f":"陸連登録!C90","v":0},{"$f":"陸連登録!D90","v":0},0,{"$f":"陸連登録!A90","v":""},{"$f":"陸連登録!P90","v":0},{"$f":"LEFT(陸連登録!L90,4)","v":""},{"$f":"RIGHT(陸連登録!L90,4)","v":""},{"$f":"陸連登録!F90","v":0},{"$f":"陸連登録!B90","v":0},null,"",null,0,"中学","0中学",null,null,null,null,null,null,null,null,null,0,null,null,null,""]
[null,{"$f":"陸連登録!N91","v":0},null,null,{"$f":"陸連登録!M91","v":0},{"$f":"陸連登録!C91","v":0},{"$f":"陸連登録!D91","v":0},0,{"$f":"陸連登録!A91","v":""},{"$f":"陸連登録!P91","v":0},{"$f":"LEFT(陸連登録!L91,4)","v":""},{"$f":"RIGHT(陸連登録!L91,4)","v":""},{"$f":"陸連登録!F91","v":0},{"$f":"陸連登録!B91","v":0},null,"",null,0,"中学","0中学",null,null,null,null,null,null,null,null,null,0,null,null,null,""]
[null,{"$f":"陸連登録!N92","v":0},null,null,{"$f":"陸連登録!M92","v":0},{"$f":"陸連登録!C92","v":0},{"$f":"陸連登録!D92","v":0},0,{"$f":"陸連登録!A92","v":""},{"$f":"陸連登録!P92","v":0},{"$f":"LEFT(陸連登録!L92,4)","v":""},{"$f":"RIGHT(陸連登録!L92,4)","v":""},{"$f":"陸連登録!F92","v":0},{"$f":"陸連登録!B92","v":0},null,"",null,0,"中学","0中学",null,null,null,null,null,null,null,null,null,0,null,null,null,""]
[null,{"$f":"陸連登録!N93","v":0},null,null,{"$f":"陸連登録!M93","v":0},{"$f":"陸連登録!C93","v":0},{"$f":"陸連登録!D93","v":0},0,{"$f":"陸連登録!A93","v":""},{"$f":"陸連登録!P93","v":0},{"$f":"LEFT(陸連登録!L93,4)","v":""},{"$f":"RIGHT(陸連登録!L93,4)","v":""},{"$f":"陸連登録!F93","v":0},{"$f":"陸連登録!B93","v":0},null,"",null,0,"中学","0中学",null,null,null,null,null,null,null,null,null,0,null,null,null,""]
[null,{"$f":"陸連登録!N94","v":0},null,null,{"$f":"陸連登録!M94","v":0},{"$f":"陸連登録!C94","v":0},{"$f":"陸連登録!D94","v":0},0,{"$f":"陸連登録!A94","v":""},{"$f":"陸連登録!P94","v":0},{"$f":"LEFT(陸連登録!L94,4)","v":""},{"$f":"RIGHT(陸連登録!L94,4)","v":""},{"$f":"陸連登録!F94","v":0},{"$f":"陸連登録!B94","v":0},null,"",null,0,"中学","0中学",null,null,null,null,null,null,null,null,null,0,null,null,null,""]
[null,{"$f":"陸連登録!N95","v":0},null,null,{"$f":"陸連登録!M95","v":0},{"$f":"陸連登録!C95","v":0},{"$f":"陸連登録!D95","v":0},0,{"$f":"陸連登録!A95","v":""},{"$f":"陸連登録!P95","v":0},{"$f":"LEFT(陸連登録!L95,4)","v":""},{"$f":"RIGHT(陸連登録!L95,4)","v":""},{"$f":"陸連登録!F95","v":0},{"$f":"陸連登録!B95","v":0},null,"",null,0,"中学","0中学",null,null,null,null,null,null,null,null,null,0,null,null,null,""]
[null,{"$f":"陸連登録!N96","v":0},null,null,{"$f":"陸連登録!M96","v":0},{"$f":"陸連登録!C96","v":0},{"$f":"陸連登録!D96","v":0},0,{"$f":"陸連登録!A96","v":""},{"$f":"陸連登録!P96","v":0},{"$f":"LEFT(陸連登録!L96,4)","v":""},{"$f":"RIGHT(陸連登録!L96,4)","v":""},{"$f":"陸連登録!F96","v":0},{"$f":"陸連登録!B96","v":0},null,"",null,0,"中学","0中学",null,null,null,null,null,null,null,null,null,0,null,null,null,""]
[null,{"$f":"陸連登録!N97","v":0},null,null,{"$f":"陸連登録!M97","v":0},{"$f":"陸連登録!C97","v":0},{"$f":"陸連登録!D97","v":0},0,{"$f":"陸連登録!A97","v":""},{"$f":"陸連登録!P97","v":0},{"$f":"LEFT(陸連登録!L97,4)","v":""},{"$f":"RIGHT(陸連登録!L97,4)","v":""},{"$f":"陸連登録!F97","v":0},{"$f":"陸連登録!B97","v":0},null,"",null,0,"中学","0中学",null,null,null,null,null,null,null,null,null,0,null,null,null,""]
[null,{"$f":"陸連登録!N98","v":0},null,null,{"$f":"陸連登録!M98","v":0},{"$f":"陸連登録!C98","v":0},{"$f":"陸連登録!D98","v":0},0,{"$f":"陸連登録!A98","v":""},{"$f":"陸連登録!P98","v":0},{"$f":"LEFT(陸連登録!L98,4)","v":""},{"$f":"RIGHT(陸連登録!L98,4)","v":""},{"$f":"陸連登録!F98","v":0},{"$f":"陸連登録!B98","v":0},null,"",null,0,"中学","0中学",null,null,null,null,null,null,null,null,null,0,null,null,null,{"$f":"IF(O103=\"\",\"\",1)","v":""}]
[null,{"$f":"陸連登録!N99","v":0},null,null,{"$f":"陸連登録!M99","v":0},{"$f":"陸連登録!C99","v":0},{"$f":"陸連登録!D99","v":0},0,{"$f":"陸連登録!A99","v":""},{"$f":"陸連登録!P99","v":0},{"$f":"LEFT(陸連登録!L99,4)","v":""},{"$f":"RIGHT(陸連登録!L99,4)","v":""},{"$f":"陸連登録!F99","v":0},{"$f":"陸連登録!B99","v":0},null,"",null,0,"中学","0中学",null,null,null,null,null,null,null,null,null,0,null,null,null,""]
[null,{"$f":"陸連登録!N100","v":0},null,null,{"$f":"陸連登録!M100","v":0},{"$f":"陸連登録!C100","v":0},{"$f":"陸連登録!D100","v":0},0,{"$f":"陸連登録!A100","v":""},{"$f":"陸連登録!P100","v":0},{"$f":"LEFT(陸連登録!L100,4)","v":""},{"$f":"RIGHT(陸連登録!L100,4)","v":""},{"$f":"陸連登録!F100","v":0},{"$f":"陸連登録!B100","v":0},null,"",null,0,"中学","0中学",null,null,null,null,null,null,null,null,null,0,null,null,null,""]
[null,{"$f":"陸連登録!N101","v":0},null,null,{"$f":"陸連登録!M101","v":0},{"$f":"陸連登録!C101","v":0},{"$f":"陸連登録!D101","v":0},0,{"$f":"陸連登録!A101","v":""},{"$f":"陸連登録!P101","v":0},{"$f":"LEFT(陸連登録!L101,4)","v":""},{"$f":"RIGHT(陸連登録!L101,4)","v":""},{"$f":"陸連登録!F101","v":0},{"$f":"陸連登録!B101","v":0},null,"",null,0,"中学","0中学",null,null,null,null,null,null,null,null,null,0,null,null,null,""]
[null,{"$f":"陸連登録!N102","v":0},null,null,{"$f":"陸連登録!M102","v":0},{"$f":"陸連登録!C102","v":0},{"$f":"陸連登録!D102","v":0},0,{"$f":"陸連登録!A102","v":""},{"$f":"陸連登録!P102","v":0},{"$f":"LEFT(陸連登録!L102,4)","v":""},{"$f":"RIGHT(陸連登録!L102,4)","v":""},{"$f":"陸連登録!F102","v":0},{"$f":"陸連登録!B102","v":0},null,"",null,0,"中学","0中学",null,null,null,null,null,null,null,null,null,0,null,null,null,""]
[null,{"$f":"陸連登録!N103","v":0},null,null,{"$f":"陸連登録!M103","v":0},{"$f":"陸連登録!C103","v":0},{"$f":"陸連登録!D103","v":0},0,{"$f":"陸連登録!A103","v":""},{"$f":"陸連登録!P103","v":0},{"$f":"LEFT(陸連登録!L103,4)","v":""},{"$f":"RIGHT(陸連登録!L103,4)","v":""},{"$f":"陸連登録!F103","v":0},{"$f":"陸連登録!B103","v":0},null,"",null,0,"中学","0中学",null,null,null,null,null,null,null,null,null,0,null,null,null,""]
[null,{"$f":"陸連登録!N104","v":0},null,null,{"$f":"陸連登録!M104","v":0},{"$f":"陸連登録!C104","v":0},{"$f":"陸連登録!D104","v":0},0,{"$f":"陸連登録!A104","v":""},{"$f":"陸連登録!P104","v":0},{"$f":"LEFT(陸連登録!L104,4)","v":""},{"$f":"RIGHT(陸連登録!L104,4)","v":""},{"$f":"陸連登録!F104","v":0},{"$f":"陸連登録!B104","v":0},null,"",null,0,"中学","0中学",null,null,null,null,null,null,null,null,null,0,null,null,null,""]
[null,{"$f":"陸連登録!N105","v":0},null,null,{"$f":"陸連登録!M105","v":0},{"$f":"陸連登録!C105","v":0},{"$f":"陸連登録!D105","v":0},0,{"$f":"陸連登録!A105","v":""},{"$f":"陸連登録!P105","v":0},{"$f":"LEFT(陸連登録!L105,4)","v":""},{"$f":"RIGHT(陸連登録!L105,4)","v":""},{"$f":"陸連登録!F105","v":0},{"$f":"陸連登録!B105","v":0},null,"",null,0,"中学","0中学",null,null,null,null,null,null,null,null,null,0,null,null,null,""]
[null,{"$f":"陸連登録!N106","v":0},null,null,{"$f":"陸連登録!M106","v":0},{"$f":"陸連登録!C106","v":0},{"$f":"陸連登録!D106","v":0},0,{"$f":"陸連登録!A106","v":""},{"$f":"陸連登録!P106","v":0},{"$f":"LEFT(陸連登録!L106,4)","v":""},{"$f":"RIGHT(陸連登録!L106,4)","v":""},{"$f":"陸連登録!F106","v":0},{"$f":"陸連登録!B106","v":0},null,"",null,0,"中学","0中学",null,null,null,null,null,null,null,null,null,0,null,null,null,""]
[null,{"$f":"陸連登録!N107","v":0},null,null,{"$f":"陸連登録!M107","v":0},{"$f":"陸連登録!C107","v":0},{"$f":"陸連登録!D107","v":0},0,{"$f":"陸連登録!A107","v":""},{"$f":"陸連登録!P107","v":0},{"$f":"LEFT(陸連登録!L107,4)","v":""},{"$f":"RIGHT(陸連登録!L107,4)","v":""},{"$f":"陸連登録!F107","v":0},{"$f":"陸連登録!B107","v":0},null,"",null,0,"中学","0中学",null,null,null,null,null,null,null,null,null,0,null,null,null,""]
[null,{"$f":"陸連登録!N108","v":0},null,null,{"$f":"陸連登録!M108","v":0},{"$f":"陸連登録!C108","v":0},{"$f":"陸連登録!D108","v":0},0,{"$f":"陸連登録!A108","v":""},{"$f":"陸連登録!P108","v":0},{"$f":"LEFT(陸連登録!L108,4)","v":""},{"$f":"RIGHT(陸連登録!L108,4)","v":""},{"$f":"陸連登録!F108","v":0},{"$f":"陸連登録!B108","v":0},null,"",null,0,"中学","0中学",null,null,null,null,null,null,null,null,null,0,null,null,null,""]
[null,{"$f":"陸連登録!N109","v":0},null,null,{"$f":"陸連登録!M109","v":0},{"$f":"陸連登録!C109","v":0},{"$f":"陸連登録!D109","v":0},0,{"$f":"陸連登録!A109","v":""},{"$f":"陸連登録!P109","v":0},{"$f":"LEFT(陸連登録!L109,4)","v":""},{"$f":"RIGHT(陸連登録!L109,4)","v":""},{"$f":"陸連登録!F109","v":0},{"$f":"陸連登録!B109","v":0},null,"",null,0,"中学","0中学",null,null,null,null,null,null,null,null,null,0,null,null,null,""]
[null,{"$f":"陸連登録!N110","v":0},null,null,{"$f":"陸連登録!M110","v":0},{"$f":"陸連登録!C110","v":0},{"$f":"陸連登録!D110","v":0},0,{"$f":"陸連登録!A110","v":""},{"$f":"陸連登録!P110","v":0},{"$f":"LEFT(陸連登録!L110,4)","v":""},{"$f":"RIGHT(陸連登録!L110,4)","v":""},{"$f":"陸連登録!F110","v":0},{"$f":"陸連登録!B110","v":0},null,"",null,0,"中学","0中学",null,null,null,null,null,null,null,null,null,0,null,null,null,""]
[null,{"$f":"陸連登録!N111","v":0},null,null,{"$f":"陸連登録!M111","v":0},{"$f":"陸連登録!C111","v":0},{"$f":"陸連登録!D111","v":0},0,{"$f":"陸連登録!A111","v":""},{"$f":"陸連登録!P111","v":0},{"$f":"LEFT(陸連登録!L111,4)","v":""},{"$f":"RIGHT(陸連登録!L111,4)","v":""},{"$f":"陸連登録!F111","v":0},{"$f":"陸連登録!B111","v":0},null,"",null,0,"中学","0中学",null,null,null,null,null,null,null,null,null,0,null,null,null,""]
[null,null,null,null,null,null,null,null,null,null,null,null,null,null,null,null,null,null,null,null,null,null,null,null,null,null,null,null,null,null,null,null,null,{"$f":"SUM(AH7:AH116)","v":0}]

{"sheet":"振込票貼付用紙","index":18,"n_rows":46,"n_cols":11,"rows_kept":46,"cut":false,"hidden":false,"merged":[[10,10,39,10],[0,0,0,9],[45,4,45,5],[46,4,46,5],[44,4,44,5],[44,6,44,7]]}
["大会参加料　振込票貼付用紙"]
[]
["大会名"]
[]
["所属名"]
[]
["責任者",null,null,null,null,"連絡先"]
[]
[]
[]
[null,null,null,null,null,null,null,null,null,null,"メニューへ戻り上書き保存して下さい"]
[]
[]
[]
[]
[]
[]
[]
[]
[]
[]
[]
[]
[]
[]
[]
[]
[]
[]
[]
[]
[]
[]
[]
[]
[]
[]
[]
[]
[]
[]
[]
[null,"人数(種目)"]
[]
[null,"リレー"]
[null,null,null,null,"参加費合計",null,null,null,"円"]

{"sheet":"男子一覧表","index":19,"n_rows":81,"n_cols":29,"rows_kept":81,"cut":false,"hidden":false,"merged":[[1,0,1,1],[3,0,3,2],[3,3,3,8],[4,0,5,2],[4,8,5,8],[2,0,2,1],[10,10,10,12],[8,9,8,13],[6,0,7,2],[6,3,8,6],[8,0,8,2],[9,0,10,0],[9,2,10,2],[9,1,10,1],[9,3,10,4],[9,5,10,5],[13,3,13,4],[10,7,10,9],[11,3,11,4],[14,3,14,4],[2,9,2,13],[4,3,5,7],[6,7,8,7],[12,3,12,4],[9,6,10,6],[4,9,5,11],[4,12,5,12],[4,13,5,13],[9,8,9,12],[7,9,7,13],[43,9,43,13],[44,3,44,8],[36,3,36,4],[34,3,34,4],[39,12,39,13],[21,3,21,4],[37,11,37,13],[32,3,32,4],[15,3,15,4],[16,3,16,4],[17,3,17,4],[49,0,49,2],[47,3,49,6],[44,0,44,2],[29,3,29,4],[20,3,20,4],[28,3,28,4],[25,3,25,4],[18,3,18,4],[22,3,22,4],[23,3,23,4],[19,3,19,4],[24,3,24,4],[27,3,27,4],[26,3,26,4],[30,3,30,4],[42,0,42,1],[43,0,43,1],[31,3,31,4],[35,3,35,4],[33,3,33,4],[54,3,54,4],[67,3,67,4],[45,0,46,2],[57,3,57,4],[56,3,56,4],[55,3,55,4],[45,12,46,12],[51,10,51,12],[45,3,46,7],[45,9,46,11],[50,8,50,12],[47,9,47,11],[48,9,48,13],[47,7,49,7],[49,9,49,13],[51,7,51,9],[45,13,46,13],[45,8,46,8],[52,3,52,4],[53,3,53,4],[50,0,51,0],[50,1,51,1],[50,2,51,2],[47,0,48,2],[65,3,65,4],[63,3,63,4],[58,3,58,4],[50,3,51,4],[61,3,61,4],[60,3,60,4],[78,11,78,13],[80,12,80,13],[76,3,76,4],[77,3,77,4],[68,3,68,4],[69,3,69,4],[50,5,51,5],[50,6,51,6],[75,3,75,4],[70,3,70,4],[71,3,71,4],[72,3,72,4],[73,3,73,4],[74,3,74,4],[64,3,64,4],[66,3,66,4],[62,3,62,4],[59,3,59,4]]}
[null,null,null,null,null,"陸上競技大会申込者一覧表",null,null,null,null,null,null,null,"様式③",null,null,null,null,null,null,null,null,null,null,null,null,"中学生"]
["様式③",null,null,null,null,null,null,null,null,null,null,"参加料",null,"円",null,null,null,null,null,null,null,null,null,null,null,null,"1年"]
["男子",null,null,null,null,null,null,null,"大会名",null,null,null,null,null,null,null,null,null,null,null,null,null,null,null,null,null,"2年"]
["※女子は別紙に記入願います。",null,null,null,null,null,null,null,null,null,null,null,null,null,null,null,null,null,null,null,null,null,null,null,null,null,"3年"]
["所属団体名",null,null,"所属長名・印",null,null,null,null,"監督名",{"$f":"IF(#REF!=\"\",\"\",#REF!)","v":{"$error":"#REF!"}},null,null,"所属　　コード",{"$f":"#REF!","v":{"$error":"#REF!"}},null,null,null,null,null,null,null,null,null,null,null,null,"共通"]
[]
[{"$f":"IF(#REF!=\"\",\"\",#REF!)","v":{"$error":"#REF!"}},null,null,null,null,null,null,"印","監督連絡",{"$f":"IF(#REF!=\"\",\"\",#REF!)","v":{"$error":"#REF!"}},null,null,"FAX"]
[null,null,null,null,null,null,null,null,"携帯電話",{"$f":"J7","v":{"$error":"#REF!"}}]
["略称５文字以内で",null,null,null,null,null,null,null,"mailアドレス"]
[null,"NO","競技者名（漢字）","学年",null,"競技者名（カナ）","姓",null,"種目",null,null,null,null,"リレー",null,null,null,null,null,null,null,null,null,null,null,null,"100m",null,"400R　A"]
[null,null,null,null,null,null,null,"種目１",null,null,"種目２",null,null,null,null,null,null,null,null,null,null,null,null,null,null,null,"200m",null,"400R　B"]
["※","記入例","三重太郎",3,null,"ﾐｴﾀﾛｳ","男","中学","100ｍ","記録","中学","200m","記録","4×100R",null,null,null,null,null,null,null,null,null,null,null,null,"400m",null,"400R　C"]
[1,null,{"$f":"IF(B13=\"\",\"\",VLOOKUP(B13,#REF!,3,FALSE))","v":""},{"$f":"IF(B13=\"\",\"\",VLOOKUP(B13,#REF!,5,FALSE))","v":""},null,{"$f":"IF(B13=\"\",\"\",VLOOKUP(B13,#REF!,4,FALSE))","v":""},{"$f":"IF(B13=\"\",\"\",VLOOKUP(B13,#REF!,6,FALSE))","v":""},null,null,null,null,null,null,null,null,null,null,null,null,null,null,null,null,null,{"$f":"CONCATENATE(H13,I13)","v":""},{"$f":"CONCATENATE(K13,L13)","v":""},"800m",null,"400R　D"]
[2,null,{"$f":"IF(B14=\"\",\"\",VLOOKUP(B14,#REF!,3,FALSE))","v":""},{"$f":"IF(B14=\"\",\"\",VLOOKUP(B14,#REF!,5,FALSE))","v":""},null,{"$f":"IF(B14=\"\",\"\",VLOOKUP(B14,#REF!,4,FALSE))","v":""},{"$f":"IF(B14=\"\",\"\",VLOOKUP(B14,#REF!,6,FALSE))","v":""},null,null,null,null,null,null,null,null,null,null,null,null,null,null,null,null,null,"","","1500m",null,"800R　A"]
[3,null,{"$f":"IF(B15=\"\",\"\",VLOOKUP(B15,#REF!,3,FALSE))","v":""},{"$f":"IF(B15=\"\",\"\",VLOOKUP(B15,#REF!,5,FALSE))","v":""},null,{"$f":"IF(B15=\"\",\"\",VLOOKUP(B15,#REF!,4,FALSE))","v":""},{"$f":"IF(B15=\"\",\"\",VLOOKUP(B15,#REF!,6,FALSE))","v":""},null,null,null,null,null,null,null,null,null,null,null,null,null,null,null,null,null,"","","2000m",null,"800R　B"]
[4,null,{"$f":"IF(B16=\"\",\"\",VLOOKUP(B16,#REF!,3,FALSE))","v":""},{"$f":"IF(B16=\"\",\"\",VLOOKUP(B16,#REF!,5,FALSE))","v":""},null,{"$f":"IF(B16=\"\",\"\",VLOOKUP(B16,#REF!,4,FALSE))","v":""},{"$f":"IF(B16=\"\",\"\",VLOOKUP(B16,#REF!,6,FALSE))","v":""},null,null,null,null,null,null,null,null,null,null,null,null,null,null,null,null,null,"","","3000m",null,"800R　C"]
[5,null,{"$f":"IF(B17=\"\",\"\",VLOOKUP(B17,#REF!,3,FALSE))","v":""},{"$f":"IF(B17=\"\",\"\",VLOOKUP(B17,#REF!,5,FALSE))","v":""},null,{"$f":"IF(B17=\"\",\"\",VLOOKUP(B17,#REF!,4,FALSE))","v":""},{"$f":"IF(B17=\"\",\"\",VLOOKUP(B17,#REF!,6,FALSE))","v":""},null,null,null,null,null,null,null,null,null,null,null,null,null,null,null,null,null,"","","5000m",null,"800R　D"]
[6,null,{"$f":"IF(B18=\"\",\"\",VLOOKUP(B18,#REF!,3,FALSE))","v":""},{"$f":"IF(B18=\"\",\"\",VLOOKUP(B18,#REF!,5,FALSE))","v":""},null,{"$f":"IF(B18=\"\",\"\",VLOOKUP(B18,#REF!,4,FALSE))","v":""},{"$f":"IF(B18=\"\",\"\",VLOOKUP(B18,#REF!,6,FALSE))","v":""},null,null,null,null,null,null,null,null,null,null,null,null,null,null,null,null,null,"","","110mJH",null,"低学年　A"]
[7,null,{"$f":"IF(B19=\"\",\"\",VLOOKUP(B19,#REF!,3,FALSE))","v":""},{"$f":"IF(B19=\"\",\"\",VLOOKUP(B19,#REF!,5,FALSE))","v":""},null,{"$f":"IF(B19=\"\",\"\",VLOOKUP(B19,#REF!,4,FALSE))","v":""},{"$f":"IF(B19=\"\",\"\",VLOOKUP(B19,#REF!,6,FALSE))","v":""},null,null,null,null,null,null,null,null,null,null,null,null,null,null,null,null,null,"","","110mMH",null,"低学年　B"]
[8,null,{"$f":"IF(B20=\"\",\"\",VLOOKUP(B20,#REF!,3,FALSE))","v":""},{"$f":"IF(B20=\"\",\"\",VLOOKUP(B20,#REF!,5,FALSE))","v":""},null,{"$f":"IF(B20=\"\",\"\",VLOOKUP(B20,#REF!,4,FALSE))","v":""},{"$f":"IF(B20=\"\",\"\",VLOOKUP(B20,#REF!,6,FALSE))","v":""},null,null,null,null,null,null,null,null,null,null,null,null,null,null,null,null,null,"","","100mH",null,"低学年　C"]
[9,null,{"$f":"IF(B21=\"\",\"\",VLOOKUP(B21,#REF!,3,FALSE))","v":""},{"$f":"IF(B21=\"\",\"\",VLOOKUP(B21,#REF!,5,FALSE))","v":""},null,{"$f":"IF(B21=\"\",\"\",VLOOKUP(B21,#REF!,4,FALSE))","v":""},{"$f":"IF(B21=\"\",\"\",VLOOKUP(B21,#REF!,6,FALSE))","v":""},null,null,null,null,null,null,null,null,null,null,null,null,null,null,null,null,null,"","","走高跳",null,"低学年　D"]
[10,null,{"$f":"IF(B22=\"\",\"\",VLOOKUP(B22,#REF!,3,FALSE))","v":""},{"$f":"IF(B22=\"\",\"\",VLOOKUP(B22,#REF!,5,FALSE))","v":""},null,{"$f":"IF(B22=\"\",\"\",VLOOKUP(B22,#REF!,4,FALSE))","v":""},{"$f":"IF(B22=\"\",\"\",VLOOKUP(B22,#REF!,6,FALSE))","v":""},null,null,null,null,null,null,null,null,null,null,null,null,null,null,null,null,null,"","","棒高跳"]
[11,null,{"$f":"IF(B23=\"\",\"\",VLOOKUP(B23,#REF!,3,FALSE))","v":""},{"$f":"IF(B23=\"\",\"\",VLOOKUP(B23,#REF!,5,FALSE))","v":""},null,{"$f":"IF(B23=\"\",\"\",VLOOKUP(B23,#REF!,4,FALSE))","v":""},{"$f":"IF(B23=\"\",\"\",VLOOKUP(B23,#REF!,6,FALSE))","v":""},null,null,null,null,null,null,null,null,null,null,null,null,null,null,null,null,null,"","","走幅跳"]
[12,null,{"$f":"IF(B24=\"\",\"\",VLOOKUP(B24,#REF!,3,FALSE))","v":""},{"$f":"IF(B24=\"\",\"\",VLOOKUP(B24,#REF!,5,FALSE))","v":""},null,{"$f":"IF(B24=\"\",\"\",VLOOKUP(B24,#REF!,4,FALSE))","v":""},{"$f":"IF(B24=\"\",\"\",VLOOKUP(B24,#REF!,6,FALSE))","v":""},null,null,null,null,null,null,null,null,null,null,null,null,null,null,null,null,null,"","","三段跳"]
[13,null,{"$f":"IF(B25=\"\",\"\",VLOOKUP(B25,#REF!,3,FALSE))","v":""},{"$f":"IF(B25=\"\",\"\",VLOOKUP(B25,#REF!,5,FALSE))","v":""},null,{"$f":"IF(B25=\"\",\"\",VLOOKUP(B25,#REF!,4,FALSE))","v":""},{"$f":"IF(B25=\"\",\"\",VLOOKUP(B25,#REF!,6,FALSE))","v":""},null,null,null,null,null,null,null,null,null,null,null,null,null,null,null,null,null,"","","砲丸投"]
[14,null,{"$f":"IF(B26=\"\",\"\",VLOOKUP(B26,#REF!,3,FALSE))","v":""},{"$f":"IF(B26=\"\",\"\",VLOOKUP(B26,#REF!,5,FALSE))","v":""},null,{"$f":"IF(B26=\"\",\"\",VLOOKUP(B26,#REF!,4,FALSE))","v":""},{"$f":"IF(B26=\"\",\"\",VLOOKUP(B26,#REF!,6,FALSE))","v":""},null,null,null,null,null,null,null,null,null,null,null,null,null,null,null,null,null,"","","円盤投"]
[15,null,{"$f":"IF(B27=\"\",\"\",VLOOKUP(B27,#REF!,3,FALSE))","v":""},{"$f":"IF(B27=\"\",\"\",VLOOKUP(B27,#REF!,5,FALSE))","v":""},null,{"$f":"IF(B27=\"\",\"\",VLOOKUP(B27,#REF!,4,FALSE))","v":""},{"$f":"IF(B27=\"\",\"\",VLOOKUP(B27,#REF!,6,FALSE))","v":""},null,null,null,null,null,null,null,null,null,null,null,null,null,null,null,null,null,"","","ｼﾞｬﾍﾞﾘｯｸ"]
[16,null,{"$f":"IF(B28=\"\",\"\",VLOOKUP(B28,#REF!,3,FALSE))","v":""},{"$f":"IF(B28=\"\",\"\",VLOOKUP(B28,#REF!,5,FALSE))","v":""},null,{"$f":"IF(B28=\"\",\"\",VLOOKUP(B28,#REF!,4,FALSE))","v":""},{"$f":"IF(B28=\"\",\"\",VLOOKUP(B28,#REF!,6,FALSE))","v":""},null,null,null,null,null,null,null,null,null,null,null,null,null,null,null,null,null,"","","4種競技"]
[17,null,{"$f":"IF(B29=\"\",\"\",VLOOKUP(B29,#REF!,3,FALSE))","v":""},{"$f":"IF(B29=\"\",\"\",VLOOKUP(B29,#REF!,5,FALSE))","v":""},null,{"$f":"IF(B29=\"\",\"\",VLOOKUP(B29,#REF!,4,FALSE))","v":""},{"$f":"IF(B29=\"\",\"\",VLOOKUP(B29,#REF!,6,FALSE))","v":""},null,null,null,null,null,null,null,null,null,null,null,null,null,null,null,null,null,"",""]
[18,null,{"$f":"IF(B30=\"\",\"\",VLOOKUP(B30,#REF!,3,FALSE))","v":""},{"$f":"IF(B30=\"\",\"\",VLOOKUP(B30,#REF!,5,FALSE))","v":""},null,{"$f":"IF(B30=\"\",\"\",VLOOKUP(B30,#REF!,4,FALSE))","v":""},{"$f":"IF(B30=\"\",\"\",VLOOKUP(B30,#REF!,6,FALSE))","v":""},null,null,null,null,null,null,null,null,null,null,null,null,null,null,null,null,null,"",""]
[19,null,{"$f":"IF(B31=\"\",\"\",VLOOKUP(B31,#REF!,3,FALSE))","v":""},{"$f":"IF(B31=\"\",\"\",VLOOKUP(B31,#REF!,5,FALSE))","v":""},null,{"$f":"IF(B31=\"\",\"\",VLOOKUP(B31,#REF!,4,FALSE))","v":""},{"$f":"IF(B31=\"\",\"\",VLOOKUP(B31,#REF!,6,FALSE))","v":""},null,null,null,null,null,null,null,null,null,null,null,null,null,null,null,null,null,"",""]
[20,null,{"$f":"IF(B32=\"\",\"\",VLOOKUP(B32,#REF!,3,FALSE))","v":""},{"$f":"IF(B32=\"\",\"\",VLOOKUP(B32,#REF!,5,FALSE))","v":""},null,{"$f":"IF(B32=\"\",\"\",VLOOKUP(B32,#REF!,4,FALSE))","v":""},{"$f":"IF(B32=\"\",\"\",VLOOKUP(B32,#REF!,6,FALSE))","v":""},null,null,null,null,null,null,null,null,null,null,null,null,null,null,null,null,null,"",""]
[21,null,{"$f":"IF(B33=\"\",\"\",VLOOKUP(B33,#REF!,3,FALSE))","v":""},{"$f":"IF(B33=\"\",\"\",VLOOKUP(B33,#REF!,5,FALSE))","v":""},null,{"$f":"IF(B33=\"\",\"\",VLOOKUP(B33,#REF!,4,FALSE))","v":""},{"$f":"IF(B33=\"\",\"\",VLOOKUP(B33,#REF!,6,FALSE))","v":""},null,null,null,null,null,null,null,null,null,null,null,null,null,null,null,null,null,"",""]
[22,null,{"$f":"IF(B34=\"\",\"\",VLOOKUP(B34,#REF!,3,FALSE))","v":""},{"$f":"IF(B34=\"\",\"\",VLOOKUP(B34,#REF!,5,FALSE))","v":""},null,{"$f":"IF(B34=\"\",\"\",VLOOKUP(B34,#REF!,4,FALSE))","v":""},{"$f":"IF(B34=\"\",\"\",VLOOKUP(B34,#REF!,6,FALSE))","v":""},null,null,null,null,null,null,null,null,null,null,null,null,null,null,null,null,null,"",""]
[23,null,{"$f":"IF(B35=\"\",\"\",VLOOKUP(B35,#REF!,3,FALSE))","v":""},{"$f":"IF(B35=\"\",\"\",VLOOKUP(B35,#REF!,5,FALSE))","v":""},null,{"$f":"IF(B35=\"\",\"\",VLOOKUP(B35,#REF!,4,FALSE))","v":""},{"$f":"IF(B35=\"\",\"\",VLOOKUP(B35,#REF!,6,FALSE))","v":""},null,null,null,null,null,null,null,null,null,null,null,null,null,null,null,null,null,"",""]
[24,null,{"$f":"IF(B36=\"\",\"\",VLOOKUP(B36,#REF!,3,FALSE))","v":""},{"$f":"IF(B36=\"\",\"\",VLOOKUP(B36,#REF!,5,FALSE))","v":""},null,{"$f":"IF(B36=\"\",\"\",VLOOKUP(B36,#REF!,4,FALSE))","v":""},{"$f":"IF(B36=\"\",\"\",VLOOKUP(B36,#REF!,6,FALSE))","v":""},null,null,null,null,null,null,null,null,null,null,null,null,null,null,null,null,null,"",""]
[25,null,{"$f":"IF(B37=\"\",\"\",VLOOKUP(B37,#REF!,3,FALSE))","v":""},{"$f":"IF(B37=\"\",\"\",VLOOKUP(B37,#REF!,5,FALSE))","v":""},null,{"$f":"IF(B37=\"\",\"\",VLOOKUP(B37,#REF!,4,FALSE))","v":""},{"$f":"IF(B37=\"\",\"\",VLOOKUP(B37,#REF!,6,FALSE))","v":""},null,null,null,null,null,null,null,null,null,null,null,null,null,null,null,null,null,"",""]
[null,null,null,null,null,null,null,null,null,null,null,"公認記録がない場合は記入しない"]
[]
[null,null,null,null,null,null,null,null,null,null,null,null,"三重陸上競技協会"]
[null,null,null,null,null,null,null,null,null,null,null,{"$f":"(O38+P38+Q38)*1000+(O40+P40)*2000","v":0}]
[null,null,null,null,null,"陸上競技大会申込者一覧表",null,null,null,null,null,null,null,"様式③"]
["様式③",null,null,null,null,null,null,null,null,null,null,"参加料",null,"円"]
["男子",null,null,null,null,null,null,null,"大会名"]
["※女子は別紙に記入願います。"]
["所属団体名",null,null,"所属長名・印",null,null,null,null,"監督名",{"$f":"#REF!","v":{"$error":"#REF!"}},null,null,"所属　　コード",{"$f":"#REF!","v":{"$error":"#REF!"}}]
[]
[{"$f":"#REF!","v":{"$error":"#REF!"}},null,null,null,null,null,null,"印","監督連絡",{"$f":"#REF!","v":{"$error":"#REF!"}},null,null,"FAX"]
[null,null,null,null,null,null,null,null,"携帯電話",{"$f":"J48","v":{"$error":"#REF!"}}]
["略称５文字以内で",null,null,null,null,null,null,null,"mailアドレス"]
[null,"NO","競技者名（漢字）","学年",null,"競技者名（カナ）","姓",null,"種目",null,null,null,null,"リレー"]
[null,null,null,null,null,null,null,"種目１",null,null,"種目２"]
["※","記入例","三重太郎",3,null,"ﾐｴﾀﾛｳ","男","中学","100ｍ","記録","中学","200m","記録","4×100R"]
[26,null,{"$f":"IF(B54=\"\",\"\",VLOOKUP(B54,#REF!,3,FALSE))","v":""},{"$f":"IF(B54=\"\",\"\",VLOOKUP(B54,#REF!,5,FALSE))","v":""},null,{"$f":"IF(B54=\"\",\"\",VLOOKUP(B54,#REF!,4,FALSE))","v":""},{"$f":"IF(B54=\"\",\"\",VLOOKUP(B54,#REF!,6,FALSE))","v":""},null,null,null,null,null,null,null,null,null,null,null,null,null,null,null,null,null,{"$f":"CONCATENATE(H54,I54)","v":""},{"$f":"CONCATENATE(K54,L54)","v":""}]
[27,null,{"$f":"IF(B55=\"\",\"\",VLOOKUP(B55,#REF!,3,FALSE))","v":""},{"$f":"IF(B55=\"\",\"\",VLOOKUP(B55,#REF!,5,FALSE))","v":""},null,{"$f":"IF(B55=\"\",\"\",VLOOKUP(B55,#REF!,4,FALSE))","v":""},{"$f":"IF(B55=\"\",\"\",VLOOKUP(B55,#REF!,6,FALSE))","v":""},null,null,null,null,null,null,null,null,null,null,null,null,null,null,null,null,null,"",""]
[28,null,{"$f":"IF(B56=\"\",\"\",VLOOKUP(B56,#REF!,3,FALSE))","v":""},{"$f":"IF(B56=\"\",\"\",VLOOKUP(B56,#REF!,5,FALSE))","v":""},null,{"$f":"IF(B56=\"\",\"\",VLOOKUP(B56,#REF!,4,FALSE))","v":""},{"$f":"IF(B56=\"\",\"\",VLOOKUP(B56,#REF!,6,FALSE))","v":""},null,null,null,null,null,null,null,null,null,null,null,null,null,null,null,null,null,"",""]
[29,null,{"$f":"IF(B57=\"\",\"\",VLOOKUP(B57,#REF!,3,FALSE))","v":""},{"$f":"IF(B57=\"\",\"\",VLOOKUP(B57,#REF!,5,FALSE))","v":""},null,{"$f":"IF(B57=\"\",\"\",VLOOKUP(B57,#REF!,4,FALSE))","v":""},{"$f":"IF(B57=\"\",\"\",VLOOKUP(B57,#REF!,6,FALSE))","v":""},null,null,null,null,null,null,null,null,null,null,null,null,null,null,null,null,null,"",""]
[30,null,{"$f":"IF(B58=\"\",\"\",VLOOKUP(B58,#REF!,3,FALSE))","v":""},{"$f":"IF(B58=\"\",\"\",VLOOKUP(B58,#REF!,5,FALSE))","v":""},null,{"$f":"IF(B58=\"\",\"\",VLOOKUP(B58,#REF!,4,FALSE))","v":""},{"$f":"IF(B58=\"\",\"\",VLOOKUP(B58,#REF!,6,FALSE))","v":""},null,null,null,null,null,null,null,null,null,null,null,null,null,null,null,null,null,"",""]
[31,null,{"$f":"IF(B59=\"\",\"\",VLOOKUP(B59,#REF!,3,FALSE))","v":""},{"$f":"IF(B59=\"\",\"\",VLOOKUP(B59,#REF!,5,FALSE))","v":""},null,{"$f":"IF(B59=\"\",\"\",VLOOKUP(B59,#REF!,4,FALSE))","v":""},{"$f":"IF(B59=\"\",\"\",VLOOKUP(B59,#REF!,6,FALSE))","v":""},null,null,null,null,null,null,null,null,null,null,null,null,null,null,null,null,null,"",""]
[32,null,{"$f":"IF(B60=\"\",\"\",VLOOKUP(B60,#REF!,3,FALSE))","v":""},{"$f":"IF(B60=\"\",\"\",VLOOKUP(B60,#REF!,5,FALSE))","v":""},null,{"$f":"IF(B60=\"\",\"\",VLOOKUP(B60,#REF!,4,FALSE))","v":""},{"$f":"IF(B60=\"\",\"\",VLOOKUP(B60,#REF!,6,FALSE))","v":""},null,null,null,null,null,null,null,null,null,null,null,null,null,null,null,null,null,"",""]
[33,null,{"$f":"IF(B61=\"\",\"\",VLOOKUP(B61,#REF!,3,FALSE))","v":""},{"$f":"IF(B61=\"\",\"\",VLOOKUP(B61,#REF!,5,FALSE))","v":""},null,{"$f":"IF(B61=\"\",\"\",VLOOKUP(B61,#REF!,4,FALSE))","v":""},{"$f":"IF(B61=\"\",\"\",VLOOKUP(B61,#REF!,6,FALSE))","v":""},null,null,null,null,null,null,null,null,null,null,null,null,null,null,null,null,null,"",""]
[34,null,{"$f":"IF(B62=\"\",\"\",VLOOKUP(B62,#REF!,3,FALSE))","v":""},{"$f":"IF(B62=\"\",\"\",VLOOKUP(B62,#REF!,5,FALSE))","v":""},null,{"$f":"IF(B62=\"\",\"\",VLOOKUP(B62,#REF!,4,FALSE))","v":""},{"$f":"IF(B62=\"\",\"\",VLOOKUP(B62,#REF!,6,FALSE))","v":""},null,null,null,null,null,null,null,null,null,null,null,null,null,null,null,null,null,"",""]
[35,null,{"$f":"IF(B63=\"\",\"\",VLOOKUP(B63,#REF!,3,FALSE))","v":""},{"$f":"IF(B63=\"\",\"\",VLOOKUP(B63,#REF!,5,FALSE))","v":""},null,{"$f":"IF(B63=\"\",\"\",VLOOKUP(B63,#REF!,4,FALSE))","v":""},{"$f":"IF(B63=\"\",\"\",VLOOKUP(B63,#REF!,6,FALSE))","v":""},null,null,null,null,null,null,null,null,null,null,null,null,null,null,null,null,null,"",""]
[36,null,{"$f":"IF(B64=\"\",\"\",VLOOKUP(B64,#REF!,3,FALSE))","v":""},{"$f":"IF(B64=\"\",\"\",VLOOKUP(B64,#REF!,5,FALSE))","v":""},null,{"$f":"IF(B64=\"\",\"\",VLOOKUP(B64,#REF!,4,FALSE))","v":""},{"$f":"IF(B64=\"\",\"\",VLOOKUP(B64,#REF!,6,FALSE))","v":""},null,null,null,null,null,null,null,null,null,null,null,null,null,null,null,null,null,"",""]
[37,null,{"$f":"IF(B65=\"\",\"\",VLOOKUP(B65,#REF!,3,FALSE))","v":""},{"$f":"IF(B65=\"\",\"\",VLOOKUP(B65,#REF!,5,FALSE))","v":""},null,{"$f":"IF(B65=\"\",\"\",VLOOKUP(B65,#REF!,4,FALSE))","v":""},{"$f":"IF(B65=\"\",\"\",VLOOKUP(B65,#REF!,6,FALSE))","v":""},null,null,null,null,null,null,null,null,null,null,null,null,null,null,null,null,null,"",""]
[38,null,{"$f":"IF(B66=\"\",\"\",VLOOKUP(B66,#REF!,3,FALSE))","v":""},{"$f":"IF(B66=\"\",\"\",VLOOKUP(B66,#REF!,5,FALSE))","v":""},null,{"$f":"IF(B66=\"\",\"\",VLOOKUP(B66,#REF!,4,FALSE))","v":""},{"$f":"IF(B66=\"\",\"\",VLOOKUP(B66,#REF!,6,FALSE))","v":""},null,null,null,null,null,null,null,null,null,null,null,null,null,null,null,null,null,"",""]
[39,null,{"$f":"IF(B67=\"\",\"\",VLOOKUP(B67,#REF!,3,FALSE))","v":""},{"$f":"IF(B67=\"\",\"\",VLOOKUP(B67,#REF!,5,FALSE))","v":""},null,{"$f":"IF(B67=\"\",\"\",VLOOKUP(B67,#REF!,4,FALSE))","v":""},{"$f":"IF(B67=\"\",\"\",VLOOKUP(B67,#REF!,6,FALSE))","v":""},null,null,null,null,null,null,null,null,null,null,null,null,null,null,null,null,null,"",""]
[40,null,{"$f":"IF(B68=\"\",\"\",VLOOKUP(B68,#REF!,3,FALSE))","v":""},{"$f":"IF(B68=\"\",\"\",VLOOKUP(B68,#REF!,5,FALSE))","v":""},null,{"$f":"IF(B68=\"\",\"\",VLOOKUP(B68,#REF!,4,FALSE))","v":""},{"$f":"IF(B68=\"\",\"\",VLOOKUP(B68,#REF!,6,FALSE))","v":""},null,null,null,null,null,null,null,null,null,null,null,null,null,null,null,null,null,"",""]
[41,null,{"$f":"IF(B69=\"\",\"\",VLOOKUP(B69,#REF!,3,FALSE))","v":""},{"$f":"IF(B69=\"\",\"\",VLOOKUP(B69,#REF!,5,FALSE))","v":""},null,{"$f":"IF(B69=\"\",\"\",VLOOKUP(B69,#REF!,4,FALSE))","v":""},{"$f":"IF(B69=\"\",\"\",VLOOKUP(B69,#REF!,6,FALSE))","v":""},null,null,null,null,null,null,null,null,null,null,null,null,null,null,null,null,null,"",""]
[42,null,{"$f":"IF(B70=\"\",\"\",VLOOKUP(B70,#REF!,3,FALSE))","v":""},{"$f":"IF(B70=\"\",\"\",VLOOKUP(B70,#REF!,5,FALSE))","v":""},null,{"$f":"IF(B70=\"\",\"\",VLOOKUP(B70,#REF!,4,FALSE))","v":""},{"$f":"IF(B70=\"\",\"\",VLOOKUP(B70,#REF!,6,FALSE))","v":""},null,null,null,null,null,null,null,null,null,null,null,null,null,null,null,null,null,"",""]
[43,null,{"$f":"IF(B71=\"\",\"\",VLOOKUP(B71,#REF!,3,FALSE))","v":""},{"$f":"IF(B71=\"\",\"\",VLOOKUP(B71,#REF!,5,FALSE))","v":""},null,{"$f":"IF(B71=\"\",\"\",VLOOKUP(B71,#REF!,4,FALSE))","v":""},{"$f":"IF(B71=\"\",\"\",VLOOKUP(B71,#REF!,6,FALSE))","v":""},null,null,null,null,null,null,null,null,null,null,null,null,null,null,null,null,null,"",""]
[44,null,{"$f":"IF(B72=\"\",\"\",VLOOKUP(B72,#REF!,3,FALSE))","v":""},{"$f":"IF(B72=\"\",\"\",VLOOKUP(B72,#REF!,5,FALSE))","v":""},null,{"$f":"IF(B72=\"\",\"\",VLOOKUP(B72,#REF!,4,FALSE))","v":""},{"$f":"IF(B72=\"\",\"\",VLOOKUP(B72,#REF!,6,FALSE))","v":""},null,null,null,null,null,null,null,null,null,null,null,null,null,null,null,null,null,"",""]
[45,null,{"$f":"IF(B73=\"\",\"\",VLOOKUP(B73,#REF!,3,FALSE))","v":""},{"$f":"IF(B73=\"\",\"\",VLOOKUP(B73,#REF!,5,FALSE))","v":""},null,{"$f":"IF(B73=\"\",\"\",VLOOKUP(B73,#REF!,4,FALSE))","v":""},{"$f":"IF(B73=\"\",\"\",VLOOKUP(B73,#REF!,6,FALSE))","v":""},null,null,null,null,null,null,null,null,null,null,null,null,null,null,null,null,null,"",""]
[46,null,{"$f":"IF(B74=\"\",\"\",VLOOKUP(B74,#REF!,3,FALSE))","v":""},{"$f":"IF(B74=\"\",\"\",VLOOKUP(B74,#REF!,5,FALSE))","v":""},null,{"$f":"IF(B74=\"\",\"\",VLOOKUP(B74,#REF!,4,FALSE))","v":""},{"$f":"IF(B74=\"\",\"\",VLOOKUP(B74,#REF!,6,FALSE))","v":""},null,null,null,null,null,null,null,null,null,null,null,null,null,null,null,null,null,"",""]
[47,null,{"$f":"IF(B75=\"\",\"\",VLOOKUP(B75,#REF!,3,FALSE))","v":""},{"$f":"IF(B75=\"\",\"\",VLOOKUP(B75,#REF!,5,FALSE))","v":""},null,{"$f":"IF(B75=\"\",\"\",VLOOKUP(B75,#REF!,4,FALSE))","v":""},{"$f":"IF(B75=\"\",\"\",VLOOKUP(B75,#REF!,6,FALSE))","v":""},null,null,null,null,null,null,null,null,null,null,null,null,null,null,null,null,null,"",""]
[48,null,{"$f":"IF(B76=\"\",\"\",VLOOKUP(B76,#REF!,3,FALSE))","v":""},{"$f":"IF(B76=\"\",\"\",VLOOKUP(B76,#REF!,5,FALSE))","v":""},null,{"$f":"IF(B76=\"\",\"\",VLOOKUP(B76,#REF!,4,FALSE))","v":""},{"$f":"IF(B76=\"\",\"\",VLOOKUP(B76,#REF!,6,FALSE))","v":""},null,null,null,null,null,null,null,null,null,null,null,null,null,null,null,null,null,"",""]
[49,null,{"$f":"IF(B77=\"\",\"\",VLOOKUP(B77,#REF!,3,FALSE))","v":""},{"$f":"IF(B77=\"\",\"\",VLOOKUP(B77,#REF!,5,FALSE))","v":""},null,{"$f":"IF(B77=\"\",\"\",VLOOKUP(B77,#REF!,4,FALSE))","v":""},{"$f":"IF(B77=\"\",\"\",VLOOKUP(B77,#REF!,6,FALSE))","v":""},null,null,null,null,null,null,null,null,null,null,null,null,null,null,null,null,null,"",""]
[50,null,{"$f":"IF(B78=\"\",\"\",VLOOKUP(B78,#REF!,3,FALSE))","v":""},{"$f":"IF(B78=\"\",\"\",VLOOKUP(B78,#REF!,5,FALSE))","v":""},null,{"$f":"IF(B78=\"\",\"\",VLOOKUP(B78,#REF!,4,FALSE))","v":""},{"$f":"IF(B78=\"\",\"\",VLOOKUP(B78,#REF!,6,FALSE))","v":""},null,null,null,null,null,null,null,null,null,null,null,null,null,null,null,null,null,"",""]
[null,null,null,null,null,null,null,null,null,null,null,"公認記録がない場合は記入しない"]
[]
[null,null,null,null,null,null,null,null,null,null,null,null,"三重陸上競技協会"]

{"sheet":"男子個票","index":20,"n_rows":195,"n_cols":24,"rows_kept":195,"cut":false,"hidden":false,"merged":[[101,10,101,11],[102,0,102,1],[102,2,102,3],[102,5,102,6],[102,7,102,8],[102,9,102,10],[108,0,108,1],[77,8,77,9],[87,12,87,13],[93,0,93,1],[88,1,88,2],[93,12,93,13],[83,10,83,11],[90,2,90,3],[90,5,90,6],[90,7,90,8],[86,3,86,4],[85,1,85,2],[90,0,90,1],[90,9,90,10],[90,12,90,13],[92,1,92,2],[92,3,92,4],[92,8,92,9],[81,9,81,10],[78,3,78,4],[82,8,82,9],[81,7,81,8],[79,0,79,13],[81,2,81,3],[84,12,84,13],[78,10,78,11],[82,3,82,4],[78,8,78,9],[81,12,81,13],[81,5,81,6],[77,1,77,2],[77,3,77,4],[77,10,77,11],[76,5,76,6],[84,7,84,8],[83,8,83,9],[81,0,81,1],[84,0,84,1],[75,1,75,2],[75,3,75,4],[83,1,83,2],[83,3,83,4],[84,2,84,3],[78,1,78,2],[82,10,82,11],[80,7,80,13],[76,12,76,13],[76,9,76,10],[75,8,75,9],[75,10,75,11],[76,7,76,8],[84,9,84,10],[80,0,80,6],[82,1,82,2],[76,0,76,1],[76,2,76,3],[73,9,73,10],[73,5,73,6],[71,1,71,2],[71,3,71,4],[71,8,71,9],[71,10,71,11],[70,2,70,3],[70,0,70,1],[70,5,70,6],[73,7,73,8],[73,0,73,1],[73,2,73,3],[70,7,70,8],[72,3,72,4],[72,1,72,2],[72,10,72,11],[72,8,72,9],[74,10,74,11],[74,8,74,9],[74,1,74,2],[74,3,74,4],[55,9,55,10],[58,5,58,6],[54,8,54,9],[55,7,55,8],[53,8,53,9],[53,10,53,11],[52,7,52,8],[58,12,58,13],[55,12,55,13],[58,0,58,1],[58,2,58,3],[60,10,60,11],[59,8,59,9],[60,3,60,4],[59,1,59,2],[64,7,64,8],[63,8,63,9],[66,1,66,2],[61,5,61,6],[63,3,63,4],[64,0,64,1],[64,2,64,3],[63,1,63,2],[62,10,62,11],[62,3,62,4],[63,10,63,11],[64,9,64,10],[64,5,64,6],[62,1,62,2],[66,10,66,11],[66,3,66,4],[66,8,66,9],[65,1,65,2],[60,1,60,2],[61,0,61,1],[61,2,61,3],[60,8,60,9],[68,3,68,4],[68,8,68,9],[70,9,70,10],[68,1,68,2],[65,3,65,4],[65,8,65,9],[65,10,65,11],[67,0,67,1],[67,2,67,3],[67,5,67,6],[67,7,67,8],[67,9,67,10],[69,1,69,2],[34,2,34,3],[34,5,34,6],[29,1,29,2],[29,3,29,4],[50,8,50,9],[49,7,49,8],[49,5,49,6],[46,7,46,8],[44,8,44,9],[42,8,42,9],[43,5,43,6],[46,9,46,10],[46,0,46,1],[41,1,41,2],[46,5,46,6],[43,0,43,1],[37,5,37,6],[40,0,40,1],[40,5,40,6],[40,2,40,3],[39,1,39,2],[39,3,39,4],[39,8,39,9],[39,10,39,11],[9,3,9,4],[4,12,4,13],[25,0,25,1],[5,1,5,2],[7,9,7,10],[9,10,9,11],[59,10,59,11],[56,1,56,2],[56,3,56,4],[54,1,54,2],[57,3,57,4],[52,9,52,10],[54,10,54,11],[55,5,55,6],[56,8,56,9],[57,10,57,11],[58,9,58,10],[56,10,56,11],[50,10,50,11],[36,10,36,11],[33,8,33,9],[36,1,36,2],[36,3,36,4],[36,8,36,9],[2,0,2,13],[7,12,7,13],[5,8,5,9],[5,10,5,11],[7,7,7,8],[3,7,3,13],[4,7,4,8],[4,9,4,10],[8,10,8,11],[8,3,8,4],[8,8,8,9],[10,9,10,10],[16,5,16,6],[13,9,13,10],[10,2,10,3],[25,2,25,3],[25,9,25,10],[25,7,25,8],[28,12,28,13],[12,3,12,4],[14,3,14,4],[16,2,16,3],[25,5,25,6],[11,3,11,4],[17,3,17,4],[17,1,17,2],[26,3,26,4],[13,12,13,13],[15,10,15,11],[15,8,15,9],[25,12,25,13],[12,8,12,9],[22,2,22,3],[22,5,22,6],[24,8,24,9],[73,12,73,13],[64,12,64,13],[69,3,69,4],[57,8,57,9],[58,7,58,8],[62,8,62,9],[61,7,61,8],[67,12,67,13],[40,9,40,10],[40,7,40,8],[49,9,49,10],[42,10,42,11],[61,12,61,13],[68,10,68,11],[69,8,69,9],[69,10,69,11],[70,12,70,13],[41,8,41,9],[51,10,51,11],[51,3,51,4],[51,8,51,9],[61,9,61,10],[59,3,59,4],[52,12,52,13],[57,1,57,2],[29,10,29,11],[33,1,33,2],[33,3,33,4],[33,10,33,11],[30,1,30,2],[30,3,30,4],[27,1,27,2],[27,3,27,4],[27,10,27,11],[30,8,30,9],[30,10,30,11],[28,9,28,10],[55,0,55,1],[55,2,55,3],[53,3,53,4],[48,1,48,2],[47,1,47,2],[44,3,44,4],[53,1,53,2],[46,2,46,3],[45,3,45,4],[48,3,48,4],[41,10,41,11],[24,3,24,4],[19,9,19,10],[21,10,21,11],[18,3,18,4],[20,8,20,9],[22,0,22,1],[22,7,22,8],[19,7,19,8],[20,3,20,4],[23,8,23,9],[23,10,23,11],[23,3,23,4],[21,3,21,4],[21,8,21,9],[41,3,41,4],[49,12,49,13],[50,1,50,2],[49,2,49,3],[47,8,47,9],[48,8,48,9],[47,3,47,4],[16,7,16,8],[16,9,16,10],[38,1,38,2],[38,3,38,4],[26,10,26,11],[28,0,28,1],[28,5,28,6],[28,7,28,8],[27,8,27,9],[26,8,26,9],[28,2,28,3],[26,1,26,2],[29,8,29,9],[22,9,22,10],[23,1,23,2],[24,1,24,2],[24,10,24,11],[52,0,52,1],[54,3,54,4],[52,2,52,3],[52,5,52,6],[51,1,51,2],[43,12,43,13],[48,10,48,11],[46,12,46,13],[44,10,44,11],[47,10,47,11],[43,7,43,8],[49,0,49,1],[50,3,50,4],[34,12,34,13],[35,1,35,2],[35,3,35,4],[42,1,42,2],[42,3,42,4],[45,8,45,9],[44,1,44,2],[43,2,43,3],[34,0,34,1],[38,8,38,9],[38,10,38,11],[37,7,37,8],[37,0,37,1],[37,2,37,3],[35,10,35,11],[34,9,34,10],[34,7,34,8],[35,8,35,9],[37,12,37,13],[45,1,45,2],[43,9,43,10],[45,10,45,11],[37,9,37,10],[40,12,40,13],[31,12,31,13],[32,1,32,2],[32,3,32,4],[32,8,32,9],[32,10,32,11],[31,0,31,1],[31,9,31,10],[31,2,31,3],[31,5,31,6],[31,7,31,8],[15,3,15,4],[3,0,3,6],[4,0,4,1],[4,2,4,3],[4,5,4,6],[11,8,11,9],[11,10,11,11],[5,3,5,4],[6,3,6,4],[6,8,6,9],[6,10,6,11],[7,2,7,3],[7,5,7,6],[9,8,9,9],[9,1,9,2],[12,10,12,11],[13,2,13,3],[13,7,13,8],[10,0,10,1],[10,5,10,6],[10,7,10,8],[13,0,13,1],[13,5,13,6],[12,1,12,2],[22,12,22,13],[18,10,18,11],[17,8,17,9],[17,10,17,11],[18,8,18,9],[10,12,10,13],[6,1,6,2],[21,1,21,2],[7,0,7,1],[8,1,8,2],[18,1,18,2],[11,1,11,2],[20,1,20,2],[16,0,16,1],[19,0,19,1],[19,12,19,13],[19,2,19,3],[19,5,19,6],[16,12,16,13],[20,10,20,11],[14,10,14,11],[14,8,14,9],[14,1,14,2],[15,1,15,2],[89,8,89,9],[84,5,84,6],[87,7,87,8],[88,3,88,4],[88,8,88,9],[92,10,92,11],[85,3,85,4],[85,8,85,9],[89,1,89,2],[89,3,89,4],[88,10,88,11],[89,10,89,11],[86,10,86,11],[87,2,87,3],[87,5,87,6],[87,9,87,10],[86,1,86,2],[86,8,86,9],[87,0,87,1],[85,10,85,11],[98,1,98,2],[99,9,99,10],[98,10,98,11],[96,9,96,10],[98,3,98,4],[98,8,98,9],[99,12,99,13],[96,12,96,13],[91,1,91,2],[91,3,91,4],[91,8,91,9],[91,10,91,11],[94,1,94,2],[94,3,94,4],[94,8,94,9],[93,9,93,10],[93,2,93,3],[93,5,93,6],[93,7,93,8],[94,10,94,11],[102,12,102,13],[100,1,100,2],[100,3,100,4],[100,8,100,9],[100,10,100,11],[101,1,101,2],[101,3,101,4],[101,8,101,9],[95,10,95,11],[95,1,95,2],[95,3,95,4],[95,8,95,9],[96,5,96,6],[96,7,96,8],[96,0,96,1],[96,2,96,3],[97,1,97,2],[97,3,97,4],[97,8,97,9],[97,10,97,11],[99,0,99,1],[99,2,99,3],[99,5,99,6],[99,7,99,8],[105,12,105,13],[103,1,103,2],[103,3,103,4],[103,8,103,9],[103,10,103,11],[105,0,105,1],[108,12,108,13],[106,1,106,2],[106,3,106,4],[106,8,106,9],[106,10,106,11],[107,1,107,2],[107,3,107,4],[107,8,107,9],[107,10,107,11],[105,5,105,6],[105,7,105,8],[104,1,104,2],[104,3,104,4],[104,8,104,9],[105,2,105,3],[104,10,104,11],[105,9,105,10],[108,9,108,10],[108,5,108,6],[108,7,108,8],[114,0,114,1],[117,9,117,10],[116,3,116,4],[116,8,116,9],[116,10,116,11],[114,7,114,8],[108,2,108,3],[110,3,110,4],[110,8,110,9],[110,10,110,11],[109,3,109,4],[109,8,109,9],[109,10,109,11],[115,10,115,11],[117,0,117,1],[117,2,117,3],[117,5,117,6],[117,7,117,8],[116,1,116,2],[114,12,114,13],[112,1,112,2],[112,3,112,4],[112,8,112,9],[112,10,112,11],[113,1,113,2],[113,3,113,4],[113,8,113,9],[114,2,114,3],[114,5,114,6],[113,10,113,11],[114,9,114,10],[111,12,111,13],[109,1,109,2],[111,0,111,1],[111,2,111,3],[111,5,111,6],[111,7,111,8],[110,1,110,2],[111,9,111,10],[120,12,120,13],[118,1,118,2],[118,3,118,4],[118,8,118,9],[118,10,118,11],[119,1,119,2],[119,3,119,4],[119,8,119,9],[119,10,119,11],[120,0,120,1],[120,5,120,6],[120,7,120,8],[117,12,117,13],[115,1,115,2],[115,3,115,4],[115,8,115,9],[120,2,120,3],[121,3,121,4],[121,8,121,9],[123,9,123,10],[122,3,122,4],[122,8,122,9],[122,10,122,11],[125,10,125,11],[123,2,123,3],[123,5,123,6],[123,7,123,8],[122,1,122,2],[121,10,121,11],[120,9,120,10],[124,1,124,2],[124,3,124,4],[124,8,124,9],[130,10,130,11],[131,1,131,2],[131,3,131,4],[131,8,131,9],[132,5,132,6],[132,7,132,8],[131,10,131,11],[132,0,132,1],[132,2,132,3],[132,9,132,10],[123,12,123,13],[121,1,121,2],[129,9,129,10],[129,12,129,13],[127,1,127,2],[127,3,127,4],[127,8,127,9],[127,10,127,11],[129,0,129,1],[123,0,123,1],[126,0,126,1],[126,12,126,13],[124,10,124,11],[125,1,125,2],[125,3,125,4],[125,8,125,9],[128,10,128,11],[126,2,126,3],[126,5,126,6],[126,7,126,8],[126,9,126,10],[133,3,133,4],[133,8,133,9],[135,7,135,8],[129,2,129,3],[129,5,129,6],[129,7,129,8],[128,1,128,2],[128,3,128,4],[128,8,128,9],[130,1,130,2],[130,3,130,4],[130,8,130,9],[136,1,136,2],[136,3,136,4],[136,8,136,9],[136,10,136,11],[137,1,137,2],[137,3,137,4],[135,9,135,10],[134,3,134,4],[134,8,134,9],[134,10,134,11],[132,12,132,13],[139,1,139,2],[139,3,139,4],[139,8,139,9],[139,10,139,11],[140,1,140,2],[140,3,140,4],[140,8,140,9],[140,10,140,11],[138,7,138,8],[138,9,138,10],[138,0,138,1],[135,12,135,13],[133,1,133,2],[135,0,135,1],[135,2,135,3],[135,5,135,6],[134,1,134,2],[137,8,137,9],[137,10,137,11],[138,2,138,3],[138,5,138,6],[133,10,133,11],[138,12,138,13],[144,12,144,13],[144,9,144,10],[144,5,144,6],[144,7,144,8],[143,1,143,2],[143,3,143,4],[143,8,143,9],[143,10,143,11],[141,0,141,1],[141,2,141,3],[141,5,141,6],[141,7,141,8],[141,9,141,10],[141,12,141,13],[142,1,142,2],[142,3,142,4],[142,8,142,9],[142,10,142,11],[144,2,144,3],[145,3,145,4],[145,8,145,9],[145,10,145,11],[144,0,144,1],[145,1,145,2],[149,10,149,11],[150,0,150,1],[150,2,150,3],[150,5,150,6],[150,7,150,8],[147,0,147,1],[146,8,146,9],[146,10,146,11],[146,1,146,2],[146,3,146,4],[153,12,153,13],[151,1,151,2],[151,3,151,4],[151,8,151,9],[151,10,151,11],[147,12,147,13],[153,9,153,10],[152,10,152,11],[153,0,153,1],[150,12,150,13],[148,1,148,2],[148,3,148,4],[148,8,148,9],[148,10,148,11],[149,1,149,2],[149,3,149,4],[149,8,149,9],[152,3,152,4],[152,8,152,9],[155,10,155,11],[155,8,155,9],[152,1,152,2],[147,2,147,3],[147,5,147,6],[147,7,147,8],[147,9,147,10],[154,3,154,4],[154,8,154,9],[154,10,154,11],[153,2,153,3],[153,5,153,6],[153,7,153,8],[154,1,154,2],[150,9,150,10],[160,3,160,5],[159,9,159,10],[160,10,160,12],[159,5,159,6],[157,0,157,13],[159,12,159,13],[160,7,160,9],[159,0,159,1],[159,2,159,3],[159,7,159,8],[169,10,169,12],[163,10,163,12],[164,8,164,9],[164,10,164,12],[165,10,165,12],[163,8,163,9],[161,3,161,5],[155,1,155,2],[155,3,155,4],[168,0,168,1],[168,2,168,3],[161,0,167,0],[163,3,163,5],[162,3,162,5],[162,1,162,2],[163,1,163,2],[160,0,160,2],[168,5,168,6],[167,1,167,2],[166,3,166,5],[161,8,161,9],[168,9,168,10],[161,7,167,7],[165,8,165,9],[167,10,167,12],[165,1,165,2],[165,3,165,5],[168,7,168,8],[164,1,164,2],[161,10,161,12],[166,8,166,9],[166,10,166,12],[164,3,164,5],[162,10,162,12],[162,8,162,9],[168,12,168,13],[166,1,166,2],[161,1,161,2],[171,1,171,2],[174,3,174,5],[170,1,170,2],[170,3,170,5],[171,3,171,5],[170,8,170,9],[174,8,174,9],[167,3,167,5],[167,8,167,9],[171,8,171,9],[171,10,171,12],[170,10,170,12],[172,10,172,12],[172,1,172,2],[176,10,176,12],[177,9,177,10],[169,7,169,9],[178,7,178,9],[178,0,178,2],[178,3,178,5],[175,1,175,2],[173,1,173,2],[173,3,173,5],[174,1,174,2],[169,3,169,5],[169,0,169,2],[178,10,178,12],[177,12,177,13],[174,10,174,12],[177,0,177,1],[177,2,177,3],[177,5,177,6],[177,7,177,8],[176,3,176,5],[176,1,176,2],[175,10,175,12],[173,10,173,12],[176,8,176,9],[172,3,172,5],[172,8,172,9],[173,8,173,9],[175,8,175,9],[175,3,175,5],[170,0,176,0],[170,7,176,7],[186,12,186,13],[187,0,187,2],[186,9,186,10],[186,0,186,1],[186,5,186,6],[182,8,182,9],[185,8,185,9],[183,3,183,5],[185,10,185,12],[179,10,179,12],[180,10,180,12],[184,10,184,12],[181,10,181,12],[182,10,182,12],[183,10,183,12],[183,8,183,9],[187,10,187,12],[179,0,185,0],[179,1,179,2],[179,3,179,5],[179,8,179,9],[180,8,180,9],[180,1,180,2],[180,3,180,5],[184,1,184,2],[184,3,184,5],[181,1,181,2],[185,1,185,2],[186,7,186,8],[191,8,191,9],[187,3,187,5],[187,7,187,9],[185,3,185,5],[179,7,185,7],[182,3,182,5],[186,2,186,3],[182,1,182,2],[181,8,181,9],[184,8,184,9],[183,1,183,2],[189,3,189,5],[188,0,194,0],[188,1,188,2],[188,3,188,5],[188,7,194,7],[189,1,189,2],[181,3,181,5],[191,1,191,2],[191,3,191,5],[190,1,190,2],[190,3,190,5],[193,1,193,2],[194,10,194,12],[192,1,192,2],[192,3,192,5],[193,3,193,5],[190,8,190,9],[189,8,189,9],[188,10,188,12],[192,8,192,9],[192,10,192,12],[193,8,193,9],[193,10,193,12],[194,8,194,9],[191,10,191,12],[188,8,188,9],[189,10,189,12],[190,10,190,12],[194,1,194,2],[194,3,194,5]]}
[null,null,null,null,null,null,null,null,null,null,null,null,null,"様式⑤"]
[]
["男　子　個　　票　(1～25人）"]
["1種目目",null,null,null,null,null,null,"2種目目"]
["種目",null,{"$f":"男子一覧表!Y13","v":""},null,"記録",{"$f":"男子一覧表!J13","v":0},null,"種目",null,{"$f":"男子一覧表!Z13","v":""},null,"記録",{"$f":"男子一覧表!M13","v":0}]
["性","ゼッケン",null,"氏名",null,"学年","所属","性","ゼッケン",null,"氏名",null,"学年","所属"]
["男",{"$f":"男子一覧表!B13","v":0},null,{"$f":"IF(男子一覧表!B13=\"\",\"\",VLOOKUP(B7,男子一覧表!$B$13:$F$37,2,FALSE))","v":""},null,{"$f":"IF(男子一覧表!B13=\"\",\"\",VLOOKUP(B7,男子一覧表!$B$13:$F$37,3,FALSE))","v":""},{"$f":"IF(D7=\"\",\"\",男子一覧表!$A$7)","v":""},"男",{"$f":"IF(男子一覧表!L13=\"\",\"\",男子一覧表!B13)","v":""},null,{"$f":"IF(男子一覧表!L13=\"\",\"\",VLOOKUP(I7,男子一覧表!$B$13:$F$37,2,FALSE))","v":""},null,{"$f":"IF(男子一覧表!L13=\"\",\"\",VLOOKUP(I7,男子一覧表!$B$13:$F$37,3,FALSE))","v":""},{"$f":"IF(K7=\"\",\"\",男子一覧表!$A$7)","v":""}]
["種目",null,{"$f":"男子一覧表!Y14","v":""},null,"記録",{"$f":"男子一覧表!J14","v":0},null,"種目",null,{"$f":"男子一覧表!Z14","v":""},null,"記録",{"$f":"男子一覧表!M14","v":0}]
["性","ゼッケン",null,"氏名",null,"学年","所属","性","ゼッケン",null,"氏名",null,"学年","所属"]
["男",{"$f":"男子一覧表!B14","v":0},null,{"$f":"IF(男子一覧表!B14=\"\",\"\",VLOOKUP(B10,男子一覧表!$B$13:$F$37,2,FALSE))","v":""},null,{"$f":"IF(男子一覧表!B14=\"\",\"\",VLOOKUP(B10,男子一覧表!$B$13:$F$37,3,FALSE))","v":""},{"$f":"IF(D10=\"\",\"\",男子一覧表!$A$7)","v":""},"男",{"$f":"IF(男子一覧表!L14=\"\",\"\",男子一覧表!B14)","v":""},null,{"$f":"IF(男子一覧表!L14=\"\",\"\",VLOOKUP(I10,男子一覧表!$B$13:$F$37,2,FALSE))","v":""},null,{"$f":"IF(男子一覧表!L14=\"\",\"\",VLOOKUP(I10,男子一覧表!$B$13:$F$37,3,FALSE))","v":""},{"$f":"IF(K10=\"\",\"\",男子一覧表!$A$7)","v":""}]
["種目",null,{"$f":"男子一覧表!Y15","v":""},null,"記録",{"$f":"男子一覧表!J15","v":0},null,"種目",null,{"$f":"男子一覧表!Z15","v":""},null,"記録",{"$f":"男子一覧表!M15","v":0}]
["性","ゼッケン",null,"氏名",null,"学年","所属","性","ゼッケン",null,"氏名",null,"学年","所属"]
["男",{"$f":"男子一覧表!B15","v":0},null,{"$f":"IF(男子一覧表!B15=\"\",\"\",VLOOKUP(B13,男子一覧表!$B$13:$F$37,2,FALSE))","v":""},null,{"$f":"IF(男子一覧表!B15=\"\",\"\",VLOOKUP(B13,男子一覧表!$B$13:$F$37,3,FALSE))","v":""},{"$f":"IF(D13=\"\",\"\",男子一覧表!$A$7)","v":""},"男",{"$f":"IF(男子一覧表!L15=\"\",\"\",男子一覧表!B15)","v":""},null,{"$f":"IF(男子一覧表!L15=\"\",\"\",VLOOKUP(I13,男子一覧表!$B$13:$F$37,2,FALSE))","v":""},null,{"$f":"IF(男子一覧表!L15=\"\",\"\",VLOOKUP(I13,男子一覧表!$B$13:$F$37,3,FALSE))","v":""},{"$f":"IF(K13=\"\",\"\",男子一覧表!$A$7)","v":""}]
["種目",null,{"$f":"男子一覧表!Y16","v":""},null,"記録",{"$f":"男子一覧表!J16","v":0},null,"種目",null,{"$f":"男子一覧表!Z16","v":""},null,"記録",{"$f":"男子一覧表!M16","v":0}]
["性","ゼッケン",null,"氏名",null,"学年","所属","性","ゼッケン",null,"氏名",null,"学年","所属"]
["男",{"$f":"男子一覧表!B16","v":0},null,{"$f":"IF(男子一覧表!B16=\"\",\"\",VLOOKUP(B16,男子一覧表!$B$13:$F$37,2,FALSE))","v":""},null,{"$f":"IF(男子一覧表!B16=\"\",\"\",VLOOKUP(B16,男子一覧表!$B$13:$F$37,3,FALSE))","v":""},{"$f":"IF(D16=\"\",\"\",男子一覧表!$A$7)","v":""},"男",{"$f":"IF(男子一覧表!L16=\"\",\"\",男子一覧表!B16)","v":""},null,{"$f":"IF(男子一覧表!L16=\"\",\"\",VLOOKUP(I16,男子一覧表!$B$13:$F$37,2,FALSE))","v":""},null,{"$f":"IF(男子一覧表!L16=\"\",\"\",VLOOKUP(I16,男子一覧表!$B$13:$F$37,3,FALSE))","v":""},{"$f":"IF(K16=\"\",\"\",男子一覧表!$A$7)","v":""}]
["種目",null,{"$f":"男子一覧表!Y17","v":""},null,"記録",{"$f":"男子一覧表!J17","v":0},null,"種目",null,{"$f":"男子一覧表!Z17","v":""},null,"記録",{"$f":"男子一覧表!M17","v":0}]
["性","ゼッケン",null,"氏名",null,"学年","所属","性","ゼッケン",null,"氏名",null,"学年","所属"]
["男",{"$f":"男子一覧表!B17","v":0},null,{"$f":"IF(男子一覧表!B17=\"\",\"\",VLOOKUP(B19,男子一覧表!$B$13:$F$37,2,FALSE))","v":""},null,{"$f":"IF(男子一覧表!B17=\"\",\"\",VLOOKUP(B19,男子一覧表!$B$13:$F$37,3,FALSE))","v":""},{"$f":"IF(D19=\"\",\"\",男子一覧表!$A$7)","v":""},"男",{"$f":"IF(男子一覧表!L17=\"\",\"\",男子一覧表!B17)","v":""},null,{"$f":"IF(男子一覧表!L17=\"\",\"\",VLOOKUP(I19,男子一覧表!$B$13:$F$37,2,FALSE))","v":""},null,{"$f":"IF(男子一覧表!L17=\"\",\"\",VLOOKUP(I19,男子一覧表!$B$13:$F$37,3,FALSE))","v":""},{"$f":"IF(K19=\"\",\"\",男子一覧表!$A$7)","v":""}]
["種目",null,{"$f":"男子一覧表!Y18","v":""},null,"記録",{"$f":"男子一覧表!J18","v":0},null,"種目",null,{"$f":"男子一覧表!Z18","v":""},null,"記録",{"$f":"男子一覧表!M18","v":0}]
["性","ゼッケン",null,"氏名",null,"学年","所属","性","ゼッケン",null,"氏名",null,"学年","所属"]
["男",{"$f":"男子一覧表!B18","v":0},null,{"$f":"IF(男子一覧表!B18=\"\",\"\",VLOOKUP(B22,男子一覧表!$B$13:$F$37,2,FALSE))","v":""},null,{"$f":"IF(男子一覧表!B18=\"\",\"\",VLOOKUP(B22,男子一覧表!$B$13:$F$37,3,FALSE))","v":""},{"$f":"IF(D22=\"\",\"\",男子一覧表!$A$7)","v":""},"男",{"$f":"IF(男子一覧表!L18=\"\",\"\",男子一覧表!B18)","v":""},null,{"$f":"IF(男子一覧表!L18=\"\",\"\",VLOOKUP(I22,男子一覧表!$B$13:$F$37,2,FALSE))","v":""},null,{"$f":"IF(男子一覧表!L18=\"\",\"\",VLOOKUP(I22,男子一覧表!$B$13:$F$37,3,FALSE))","v":""},{"$f":"IF(K22=\"\",\"\",男子一覧表!$A$7)","v":""}]
["種目",null,{"$f":"男子一覧表!Y19","v":""},null,"記録",{"$f":"男子一覧表!J19","v":0},null,"種目",null,{"$f":"男子一覧表!Z19","v":""},null,"記録",{"$f":"男子一覧表!M19","v":0}]
["性","ゼッケン",null,"氏名",null,"学年","所属","性","ゼッケン",null,"氏名",null,"学年","所属"]
["男",{"$f":"男子一覧表!B19","v":0},null,{"$f":"IF(男子一覧表!B19=\"\",\"\",VLOOKUP(B25,男子一覧表!$B$13:$F$37,2,FALSE))","v":""},null,{"$f":"IF(男子一覧表!B19=\"\",\"\",VLOOKUP(B25,男子一覧表!$B$13:$F$37,3,FALSE))","v":""},{"$f":"IF(D25=\"\",\"\",男子一覧表!$A$7)","v":""},"男",{"$f":"IF(男子一覧表!L19=\"\",\"\",男子一覧表!B19)","v":""},null,{"$f":"IF(男子一覧表!L19=\"\",\"\",VLOOKUP(I25,男子一覧表!$B$13:$F$37,2,FALSE))","v":""},null,{"$f":"IF(男子一覧表!L19=\"\",\"\",VLOOKUP(I25,男子一覧表!$B$13:$F$37,3,FALSE))","v":""},{"$f":"IF(K25=\"\",\"\",男子一覧表!$A$7)","v":""}]
["種目",null,{"$f":"男子一覧表!Y20","v":""},null,"記録",{"$f":"男子一覧表!J20","v":0},null,"種目",null,{"$f":"男子一覧表!Z20","v":""},null,"記録",{"$f":"男子一覧表!M20","v":0}]
["性","ゼッケン",null,"氏名",null,"学年","所属","性","ゼッケン",null,"氏名",null,"学年","所属"]
["男",{"$f":"男子一覧表!B20","v":0},null,{"$f":"IF(男子一覧表!B20=\"\",\"\",VLOOKUP(B28,男子一覧表!$B$13:$F$37,2,FALSE))","v":""},null,{"$f":"IF(男子一覧表!B20=\"\",\"\",VLOOKUP(B28,男子一覧表!$B$13:$F$37,3,FALSE))","v":""},{"$f":"IF(D28=\"\",\"\",男子一覧表!$A$7)","v":""},"男",{"$f":"IF(男子一覧表!L20=\"\",\"\",男子一覧表!B20)","v":""},null,{"$f":"IF(男子一覧表!L20=\"\",\"\",VLOOKUP(I28,男子一覧表!$B$13:$F$37,2,FALSE))","v":""},null,{"$f":"IF(男子一覧表!L20=\"\",\"\",VLOOKUP(I28,男子一覧表!$B$13:$F$37,3,FALSE))","v":""},{"$f":"IF(K28=\"\",\"\",男子一覧表!$A$7)","v":""}]
["種目",null,{"$f":"男子一覧表!Y21","v":""},null,"記録",{"$f":"男子一覧表!J21","v":0},null,"種目",null,{"$f":"男子一覧表!Z21","v":""},null,"記録",{"$f":"男子一覧表!M21","v":0}]
["性","ゼッケン",null,"氏名",null,"学年","所属","性","ゼッケン",null,"氏名",null,"学年","所属"]
["男",{"$f":"男子一覧表!B21","v":0},null,{"$f":"IF(男子一覧表!B21=\"\",\"\",VLOOKUP(B31,男子一覧表!$B$13:$F$37,2,FALSE))","v":""},null,{"$f":"IF(男子一覧表!B21=\"\",\"\",VLOOKUP(B31,男子一覧表!$B$13:$F$37,3,FALSE))","v":""},{"$f":"IF(D31=\"\",\"\",男子一覧表!$A$7)","v":""},"男",{"$f":"IF(男子一覧表!L21=\"\",\"\",男子一覧表!B21)","v":""},null,{"$f":"IF(男子一覧表!L21=\"\",\"\",VLOOKUP(I31,男子一覧表!$B$13:$F$37,2,FALSE))","v":""},null,{"$f":"IF(男子一覧表!L21=\"\",\"\",VLOOKUP(I31,男子一覧表!$B$13:$F$37,3,FALSE))","v":""},{"$f":"IF(K31=\"\",\"\",男子一覧表!$A$7)","v":""}]
["種目",null,{"$f":"男子一覧表!Y22","v":""},null,"記録",{"$f":"男子一覧表!J22","v":0},null,"種目",null,{"$f":"男子一覧表!Z22","v":""},null,"記録",{"$f":"男子一覧表!M22","v":0}]
["性","ゼッケン",null,"氏名",null,"学年","所属","性","ゼッケン",null,"氏名",null,"学年","所属"]
["男",{"$f":"男子一覧表!B22","v":0},null,{"$f":"IF(男子一覧表!B22=\"\",\"\",VLOOKUP(B34,男子一覧表!$B$13:$F$37,2,FALSE))","v":""},null,{"$f":"IF(男子一覧表!B22=\"\",\"\",VLOOKUP(B34,男子一覧表!$B$13:$F$37,3,FALSE))","v":""},{"$f":"IF(D34=\"\",\"\",男子一覧表!$A$7)","v":""},"男",{"$f":"IF(男子一覧表!L22=\"\",\"\",男子一覧表!B22)","v":""},null,{"$f":"IF(男子一覧表!L22=\"\",\"\",VLOOKUP(I34,男子一覧表!$B$13:$F$37,2,FALSE))","v":""},null,{"$f":"IF(男子一覧表!L22=\"\",\"\",VLOOKUP(I34,男子一覧表!$B$13:$F$37,3,FALSE))","v":""},{"$f":"IF(K34=\"\",\"\",男子一覧表!$A$7)","v":""}]
["種目",null,{"$f":"男子一覧表!Y23","v":""},null,"記録",{"$f":"男子一覧表!J23","v":0},null,"種目",null,{"$f":"男子一覧表!Z23","v":""},null,"記録",{"$f":"男子一覧表!M23","v":0}]
["性","ゼッケン",null,"氏名",null,"学年","所属","性","ゼッケン",null,"氏名",null,"学年","所属"]
["男",{"$f":"男子一覧表!B23","v":0},null,{"$f":"IF(男子一覧表!B23=\"\",\"\",VLOOKUP(B37,男子一覧表!$B$13:$F$37,2,FALSE))","v":""},null,{"$f":"IF(男子一覧表!B23=\"\",\"\",VLOOKUP(B37,男子一覧表!$B$13:$F$37,3,FALSE))","v":""},{"$f":"IF(D37=\"\",\"\",男子一覧表!$A$7)","v":""},"男",{"$f":"IF(男子一覧表!L23=\"\",\"\",男子一覧表!B23)","v":""},null,{"$f":"IF(男子一覧表!L23=\"\",\"\",VLOOKUP(I37,男子一覧表!$B$13:$F$37,2,FALSE))","v":""},null,{"$f":"IF(男子一覧表!L23=\"\",\"\",VLOOKUP(I37,男子一覧表!$B$13:$F$37,3,FALSE))","v":""},{"$f":"IF(K37=\"\",\"\",男子一覧表!$A$7)","v":""}]
["種目",null,{"$f":"男子一覧表!Y24","v":""},null,"記録",{"$f":"男子一覧表!J24","v":0},null,"種目",null,{"$f":"男子一覧表!Z24","v":""},null,"記録",{"$f":"男子一覧表!M24","v":0}]
["性","ゼッケン",null,"氏名",null,"学年","所属","性","ゼッケン",null,"氏名",null,"学年","所属"]
["男",{"$f":"男子一覧表!B24","v":0},null,{"$f":"IF(男子一覧表!B24=\"\",\"\",VLOOKUP(B40,男子一覧表!$B$13:$F$37,2,FALSE))","v":""},null,{"$f":"IF(男子一覧表!B24=\"\",\"\",VLOOKUP(B40,男子一覧表!$B$13:$F$37,3,FALSE))","v":""},{"$f":"IF(D40=\"\",\"\",男子一覧表!$A$7)","v":""},"男",{"$f":"IF(男子一覧表!L24=\"\",\"\",男子一覧表!B24)","v":""},null,{"$f":"IF(男子一覧表!L24=\"\",\"\",VLOOKUP(I40,男子一覧表!$B$13:$F$37,2,FALSE))","v":""},null,{"$f":"IF(男子一覧表!L24=\"\",\"\",VLOOKUP(I40,男子一覧表!$B$13:$F$37,3,FALSE))","v":""},{"$f":"IF(K40=\"\",\"\",男子一覧表!$A$7)","v":""}]
["種目",null,{"$f":"男子一覧表!Y25","v":""},null,"記録",{"$f":"男子一覧表!J25","v":0},null,"種目",null,{"$f":"男子一覧表!Z25","v":""},null,"記録",{"$f":"男子一覧表!M25","v":0}]
["性","ゼッケン",null,"氏名",null,"学年","所属","性","ゼッケン",null,"氏名",null,"学年","所属"]
["男",{"$f":"男子一覧表!B25","v":0},null,{"$f":"IF(男子一覧表!B25=\"\",\"\",VLOOKUP(B43,男子一覧表!$B$13:$F$37,2,FALSE))","v":""},null,{"$f":"IF(男子一覧表!B25=\"\",\"\",VLOOKUP(B43,男子一覧表!$B$13:$F$37,3,FALSE))","v":""},{"$f":"IF(D43=\"\",\"\",男子一覧表!$A$7)","v":""},"男",{"$f":"IF(男子一覧表!L25=\"\",\"\",男子一覧表!B25)","v":""},null,{"$f":"IF(男子一覧表!L25=\"\",\"\",VLOOKUP(I43,男子一覧表!$B$13:$F$37,2,FALSE))","v":""},null,{"$f":"IF(男子一覧表!L25=\"\",\"\",VLOOKUP(I43,男子一覧表!$B$13:$F$37,3,FALSE))","v":""},{"$f":"IF(K43=\"\",\"\",男子一覧表!$A$7)","v":""}]
["種目",null,{"$f":"男子一覧表!Y26","v":""},null,"記録",{"$f":"男子一覧表!J26","v":0},null,"種目",null,{"$f":"男子一覧表!Z26","v":""},null,"記録",{"$f":"男子一覧表!M26","v":0}]
["性","ゼッケン",null,"氏名",null,"学年","所属","性","ゼッケン",null,"氏名",null,"学年","所属"]
["男",{"$f":"男子一覧表!B26","v":0},null,{"$f":"IF(男子一覧表!B26=\"\",\"\",VLOOKUP(B46,男子一覧表!$B$13:$F$37,2,FALSE))","v":""},null,{"$f":"IF(男子一覧表!B26=\"\",\"\",VLOOKUP(B46,男子一覧表!$B$13:$F$37,3,FALSE))","v":""},{"$f":"IF(D46=\"\",\"\",男子一覧表!$A$7)","v":""},"男",{"$f":"IF(男子一覧表!L26=\"\",\"\",男子一覧表!B26)","v":""},null,{"$f":"IF(男子一覧表!L26=\"\",\"\",VLOOKUP(I46,男子一覧表!$B$13:$F$37,2,FALSE))","v":""},null,{"$f":"IF(男子一覧表!L26=\"\",\"\",VLOOKUP(I46,男子一覧表!$B$13:$F$37,3,FALSE))","v":""},{"$f":"IF(K46=\"\",\"\",男子一覧表!$A$7)","v":""}]
["種目",null,{"$f":"男子一覧表!Y27","v":""},null,"記録",{"$f":"男子一覧表!J27","v":0},null,"種目",null,{"$f":"男子一覧表!Z27","v":""},null,"記録",{"$f":"男子一覧表!M27","v":0}]
["性","ゼッケン",null,"氏名",null,"学年","所属","性","ゼッケン",null,"氏名",null,"学年","所属"]
["男",{"$f":"男子一覧表!B27","v":0},null,{"$f":"IF(男子一覧表!B27=\"\",\"\",VLOOKUP(B49,男子一覧表!$B$13:$F$37,2,FALSE))","v":""},null,{"$f":"IF(男子一覧表!B27=\"\",\"\",VLOOKUP(B49,男子一覧表!$B$13:$F$37,3,FALSE))","v":""},{"$f":"IF(D49=\"\",\"\",男子一覧表!$A$7)","v":""},"男",{"$f":"IF(男子一覧表!L27=\"\",\"\",男子一覧表!B27)","v":""},null,{"$f":"IF(男子一覧表!L27=\"\",\"\",VLOOKUP(I49,男子一覧表!$B$13:$F$37,2,FALSE))","v":""},null,{"$f":"IF(男子一覧表!L27=\"\",\"\",VLOOKUP(I49,男子一覧表!$B$13:$F$37,3,FALSE))","v":""},{"$f":"IF(K49=\"\",\"\",男子一覧表!$A$7)","v":""}]
["種目",null,{"$f":"男子一覧表!Y28","v":""},null,"記録",{"$f":"男子一覧表!J28","v":0},null,"種目",null,{"$f":"男子一覧表!Z28","v":""},null,"記録",{"$f":"男子一覧表!M28","v":0}]
["性","ゼッケン",null,"氏名",null,"学年","所属","性","ゼッケン",null,"氏名",null,"学年","所属"]
["男",{"$f":"男子一覧表!B28","v":0},null,{"$f":"IF(男子一覧表!B28=\"\",\"\",VLOOKUP(B52,男子一覧表!$B$13:$F$37,2,FALSE))","v":""},null,{"$f":"IF(男子一覧表!B28=\"\",\"\",VLOOKUP(B52,男子一覧表!$B$13:$F$37,3,FALSE))","v":""},{"$f":"IF(D52=\"\",\"\",男子一覧表!$A$7)","v":""},"男",{"$f":"IF(男子一覧表!L28=\"\",\"\",男子一覧表!B28)","v":""},null,{"$f":"IF(男子一覧表!L28=\"\",\"\",VLOOKUP(I52,男子一覧表!$B$13:$F$37,2,FALSE))","v":""},null,{"$f":"IF(男子一覧表!L28=\"\",\"\",VLOOKUP(I52,男子一覧表!$B$13:$F$37,3,FALSE))","v":""},{"$f":"IF(K52=\"\",\"\",男子一覧表!$A$7)","v":""}]
["種目",null,{"$f":"男子一覧表!Y29","v":""},null,"記録",{"$f":"男子一覧表!J29","v":0},null,"種目",null,{"$f":"男子一覧表!Z29","v":""},null,"記録",{"$f":"男子一覧表!M29","v":0}]
["性","ゼッケン",null,"氏名",null,"学年","所属","性","ゼッケン",null,"氏名",null,"学年","所属"]
["男",{"$f":"男子一覧表!B29","v":0},null,{"$f":"IF(男子一覧表!B29=\"\",\"\",VLOOKUP(B55,男子一覧表!$B$13:$F$37,2,FALSE))","v":""},null,{"$f":"IF(男子一覧表!B29=\"\",\"\",VLOOKUP(B55,男子一覧表!$B$13:$F$37,3,FALSE))","v":""},{"$f":"IF(D55=\"\",\"\",男子一覧表!$A$7)","v":""},"男",{"$f":"IF(男子一覧表!L29=\"\",\"\",男子一覧表!B29)","v":""},null,{"$f":"IF(男子一覧表!L29=\"\",\"\",VLOOKUP(I55,男子一覧表!$B$13:$F$37,2,FALSE))","v":""},null,{"$f":"IF(男子一覧表!L29=\"\",\"\",VLOOKUP(I55,男子一覧表!$B$13:$F$37,3,FALSE))","v":""},{"$f":"IF(K55=\"\",\"\",男子一覧表!$A$7)","v":""}]
["種目",null,{"$f":"男子一覧表!Y30","v":""},null,"記録",{"$f":"男子一覧表!J30","v":0},null,"種目",null,{"$f":"男子一覧表!Z30","v":""},null,"記録",{"$f":"男子一覧表!M30","v":0}]
["性","ゼッケン",null,"氏名",null,"学年","所属","性","ゼッケン",null,"氏名",null,"学年","所属"]
["男",{"$f":"男子一覧表!B30","v":0},null,{"$f":"IF(男子一覧表!B30=\"\",\"\",VLOOKUP(B58,男子一覧表!$B$13:$F$37,2,FALSE))","v":""},null,{"$f":"IF(男子一覧表!B30=\"\",\"\",VLOOKUP(B58,男子一覧表!$B$13:$F$37,3,FALSE))","v":""},{"$f":"IF(D58=\"\",\"\",男子一覧表!$A$7)","v":""},"男",{"$f":"IF(男子一覧表!L30=\"\",\"\",男子一覧表!B30)","v":""},null,{"$f":"IF(男子一覧表!L30=\"\",\"\",VLOOKUP(I58,男子一覧表!$B$13:$F$37,2,FALSE))","v":""},null,{"$f":"IF(男子一覧表!L30=\"\",\"\",VLOOKUP(I58,男子一覧表!$B$13:$F$37,3,FALSE))","v":""},{"$f":"IF(K58=\"\",\"\",男子一覧表!$A$7)","v":""}]
["種目",null,{"$f":"男子一覧表!Y31","v":""},null,"記録",{"$f":"男子一覧表!J31","v":0},null,"種目",null,{"$f":"男子一覧表!Z31","v":""},null,"記録",{"$f":"男子一覧表!M31","v":0}]
["性","ゼッケン",null,"氏名",null,"学年","所属","性","ゼッケン",null,"氏名",null,"学年","所属"]
["男",{"$f":"男子一覧表!B31","v":0},null,{"$f":"IF(男子一覧表!B31=\"\",\"\",VLOOKUP(B61,男子一覧表!$B$13:$F$37,2,FALSE))","v":""},null,{"$f":"IF(男子一覧表!B31=\"\",\"\",VLOOKUP(B61,男子一覧表!$B$13:$F$37,3,FALSE))","v":""},{"$f":"IF(D61=\"\",\"\",男子一覧表!$A$7)","v":""},"男",{"$f":"IF(男子一覧表!L31=\"\",\"\",男子一覧表!B31)","v":""},null,{"$f":"IF(男子一覧表!L31=\"\",\"\",VLOOKUP(I61,男子一覧表!$B$13:$F$37,2,FALSE))","v":""},null,{"$f":"IF(男子一覧表!L31=\"\",\"\",VLOOKUP(I61,男子一覧表!$B$13:$F$37,3,FALSE))","v":""},{"$f":"IF(K61=\"\",\"\",男子一覧表!$A$7)","v":""}]
["種目",null,{"$f":"男子一覧表!Y32","v":""},null,"記録",{"$f":"男子一覧表!J32","v":0},null,"種目",null,{"$f":"男子一覧表!Z32","v":""},null,"記録",{"$f":"男子一覧表!M32","v":0}]
["性","ゼッケン",null,"氏名",null,"学年","所属","性","ゼッケン",null,"氏名",null,"学年","所属"]
["男",{"$f":"男子一覧表!B32","v":0},null,{"$f":"IF(男子一覧表!B32=\"\",\"\",VLOOKUP(B64,男子一覧表!$B$13:$F$37,2,FALSE))","v":""},null,{"$f":"IF(男子一覧表!B32=\"\",\"\",VLOOKUP(B64,男子一覧表!$B$13:$F$37,3,FALSE))","v":""},{"$f":"IF(D64=\"\",\"\",男子一覧表!$A$7)","v":""},"男",{"$f":"IF(男子一覧表!L32=\"\",\"\",男子一覧表!B32)","v":""},null,{"$f":"IF(男子一覧表!L32=\"\",\"\",VLOOKUP(I64,男子一覧表!$B$13:$F$37,2,FALSE))","v":""},null,{"$f":"IF(男子一覧表!L32=\"\",\"\",VLOOKUP(I64,男子一覧表!$B$13:$F$37,3,FALSE))","v":""},{"$f":"IF(K64=\"\",\"\",男子一覧表!$A$7)","v":""}]
["種目",null,{"$f":"男子一覧表!Y33","v":""},null,"記録",{"$f":"男子一覧表!J33","v":0},null,"種目",null,{"$f":"男子一覧表!Z33","v":""},null,"記録",{"$f":"男子一覧表!M33","v":0}]
["性","ゼッケン",null,"氏名",null,"学年","所属","性","ゼッケン",null,"氏名",null,"学年","所属"]
["男",{"$f":"男子一覧表!B33","v":0},null,{"$f":"IF(男子一覧表!B33=\"\",\"\",VLOOKUP(B67,男子一覧表!$B$13:$F$37,2,FALSE))","v":""},null,{"$f":"IF(男子一覧表!B33=\"\",\"\",VLOOKUP(B67,男子一覧表!$B$13:$F$37,3,FALSE))","v":""},{"$f":"IF(D67=\"\",\"\",男子一覧表!$A$7)","v":""},"男",{"$f":"IF(男子一覧表!L33=\"\",\"\",男子一覧表!B33)","v":""},null,{"$f":"IF(男子一覧表!L33=\"\",\"\",VLOOKUP(I67,男子一覧表!$B$13:$F$37,2,FALSE))","v":""},null,{"$f":"IF(男子一覧表!L33=\"\",\"\",VLOOKUP(I67,男子一覧表!$B$13:$F$37,3,FALSE))","v":""},{"$f":"IF(K67=\"\",\"\",男子一覧表!$A$7)","v":""}]
["種目",null,{"$f":"男子一覧表!Y34","v":""},null,"記録",{"$f":"男子一覧表!J34","v":0},null,"種目",null,{"$f":"男子一覧表!Z34","v":""},null,"記録",{"$f":"男子一覧表!M34","v":0}]
["性","ゼッケン",null,"氏名",null,"学年","所属","性","ゼッケン",null,"氏名",null,"学年","所属"]
["男",{"$f":"男子一覧表!B34","v":0},null,{"$f":"IF(男子一覧表!B34=\"\",\"\",VLOOKUP(B70,男子一覧表!$B$13:$F$37,2,FALSE))","v":""},null,{"$f":"IF(男子一覧表!B34=\"\",\"\",VLOOKUP(B70,男子一覧表!$B$13:$F$37,3,FALSE))","v":""},{"$f":"IF(D70=\"\",\"\",男子一覧表!$A$7)","v":""},"男",{"$f":"IF(男子一覧表!L34=\"\",\"\",男子一覧表!B34)","v":""},null,{"$f":"IF(男子一覧表!L34=\"\",\"\",VLOOKUP(I70,男子一覧表!$B$13:$F$37,2,FALSE))","v":""},null,{"$f":"IF(男子一覧表!L34=\"\",\"\",VLOOKUP(I70,男子一覧表!$B$13:$F$37,3,FALSE))","v":""},{"$f":"IF(K70=\"\",\"\",男子一覧表!$A$7)","v":""}]
["種目",null,{"$f":"男子一覧表!Y35","v":""},null,"記録",{"$f":"男子一覧表!J35","v":0},null,"種目",null,{"$f":"男子一覧表!Z35","v":""},null,"記録",{"$f":"男子一覧表!M35","v":0}]
["性","ゼッケン",null,"氏名",null,"学年","所属","性","ゼッケン",null,"氏名",null,"学年","所属"]
["男",{"$f":"男子一覧表!B35","v":0},null,{"$f":"IF(男子一覧表!B35=\"\",\"\",VLOOKUP(B73,男子一覧表!$B$13:$F$37,2,FALSE))","v":""},null,{"$f":"IF(男子一覧表!B35=\"\",\"\",VLOOKUP(B73,男子一覧表!$B$13:$F$37,3,FALSE))","v":""},{"$f":"IF(D73=\"\",\"\",男子一覧表!$A$7)","v":""},"男",{"$f":"IF(男子一覧表!L35=\"\",\"\",男子一覧表!B35)","v":""},null,{"$f":"IF(男子一覧表!L35=\"\",\"\",VLOOKUP(I73,男子一覧表!$B$13:$F$37,2,FALSE))","v":""},null,{"$f":"IF(男子一覧表!L35=\"\",\"\",VLOOKUP(I73,男子一覧表!$B$13:$F$37,3,FALSE))","v":""},{"$f":"IF(K73=\"\",\"\",男子一覧表!$A$7)","v":""}]
["種目",null,{"$f":"男子一覧表!Y36","v":""},null,"記録",{"$f":"男子一覧表!J36","v":0},null,"種目",null,{"$f":"男子一覧表!Z36","v":""},null,"記録",{"$f":"男子一覧表!M36","v":0}]
["性","ゼッケン",null,"氏名",null,"学年","所属","性","ゼッケン",null,"氏名",null,"学年","所属"]
["男",{"$f":"男子一覧表!B36","v":0},null,{"$f":"IF(男子一覧表!B36=\"\",\"\",VLOOKUP(B76,男子一覧表!$B$13:$F$37,2,FALSE))","v":""},null,{"$f":"IF(男子一覧表!B36=\"\",\"\",VLOOKUP(B76,男子一覧表!$B$13:$F$37,3,FALSE))","v":""},{"$f":"IF(D76=\"\",\"\",男子一覧表!$A$7)","v":""},"男",{"$f":"IF(男子一覧表!L36=\"\",\"\",男子一覧表!B36)","v":""},null,{"$f":"IF(男子一覧表!L36=\"\",\"\",VLOOKUP(I76,男子一覧表!$B$13:$F$37,2,FALSE))","v":""},null,{"$f":"IF(男子一覧表!L36=\"\",\"\",VLOOKUP(I76,男子一覧表!$B$13:$F$37,3,FALSE))","v":""},{"$f":"IF(K76=\"\",\"\",男子一覧表!$A$7)","v":""}]
["種目",null,{"$f":"男子一覧表!Y37","v":""},null,"記録",{"$f":"男子一覧表!J37","v":0},null,"種目",null,{"$f":"男子一覧表!Z37","v":""},null,"記録",{"$f":"男子一覧表!M37","v":0}]
["性","ゼッケン",null,"氏名",null,"学年","所属","性","ゼッケン",null,"氏名",null,"学年","所属"]
["男",{"$f":"男子一覧表!B37","v":0},null,{"$f":"IF(男子一覧表!B37=\"\",\"\",VLOOKUP(B79,男子一覧表!$B$13:$F$37,2,FALSE))","v":""},null,{"$f":"IF(男子一覧表!B37=\"\",\"\",VLOOKUP(B79,男子一覧表!$B$13:$F$37,3,FALSE))","v":""},{"$f":"IF(D79=\"\",\"\",男子一覧表!$A$7)","v":""},"男",{"$f":"IF(男子一覧表!L37=\"\",\"\",男子一覧表!B37)","v":""},null,{"$f":"IF(男子一覧表!L37=\"\",\"\",VLOOKUP(I79,男子一覧表!$B$13:$F$37,2,FALSE))","v":""},null,{"$f":"IF(男子一覧表!L37=\"\",\"\",VLOOKUP(I79,男子一覧表!$B$13:$F$37,3,FALSE))","v":""},{"$f":"IF(K79=\"\",\"\",男子一覧表!$A$7)","v":""}]
["男　子　個　　票　(26～50人）"]
["1種目目",null,null,null,null,null,null,"2種目目"]
["種目",null,{"$f":"男子一覧表!Y54","v":""},null,"記録",{"$f":"男子一覧表!J54","v":0},null,"種目",null,{"$f":"男子一覧表!Z54","v":""},null,"記録",{"$f":"男子一覧表!M54","v":0}]
["性","ゼッケン",null,"氏名",null,"学年","所属","性","ゼッケン",null,"氏名",null,"学年","所属"]
["男",{"$f":"男子一覧表!B54","v":0},null,{"$f":"IF(男子一覧表!B54=\"\",\"\",VLOOKUP(B84,男子一覧表!$B$13:$F$78,2,FALSE))","v":""},null,{"$f":"IF(男子一覧表!B54=\"\",\"\",VLOOKUP(B84,男子一覧表!$B$13:$F$78,3,FALSE))","v":""},{"$f":"IF(D84=\"\",\"\",男子一覧表!$A$7)","v":""},"男",{"$f":"IF(男子一覧表!L54=\"\",\"\",男子一覧表!B54)","v":""},null,{"$f":"IF(男子一覧表!L54=\"\",\"\",VLOOKUP(I84,男子一覧表!$B$13:$F$78,2,FALSE))","v":""},null,{"$f":"IF(男子一覧表!L54=\"\",\"\",VLOOKUP(I84,男子一覧表!$B$13:$F$78,3,FALSE))","v":""},{"$f":"IF(K84=\"\",\"\",男子一覧表!$A$7)","v":""}]
["種目",null,{"$f":"男子一覧表!Y55","v":""},null,"記録",{"$f":"男子一覧表!J55","v":0},null,"種目",null,{"$f":"男子一覧表!Z55","v":""},null,"記録",{"$f":"男子一覧表!M55","v":0}]
["性","ゼッケン",null,"氏名",null,"学年","所属","性","ゼッケン",null,"氏名",null,"学年","所属"]
["男",{"$f":"男子一覧表!B55","v":0},null,{"$f":"IF(男子一覧表!B55=\"\",\"\",VLOOKUP(B87,男子一覧表!$B$13:$F$78,2,FALSE))","v":""},null,{"$f":"IF(男子一覧表!B55=\"\",\"\",VLOOKUP(B87,男子一覧表!$B$13:$F$78,3,FALSE))","v":""},{"$f":"IF(D87=\"\",\"\",男子一覧表!$A$7)","v":""},"男",{"$f":"IF(男子一覧表!L55=\"\",\"\",男子一覧表!B55)","v":""},null,{"$f":"IF(男子一覧表!L55=\"\",\"\",VLOOKUP(I87,男子一覧表!$B$13:$F$78,2,FALSE))","v":""},null,{"$f":"IF(男子一覧表!L55=\"\",\"\",VLOOKUP(I87,男子一覧表!$B$13:$F$78,3,FALSE))","v":""},{"$f":"IF(K87=\"\",\"\",男子一覧表!$A$7)","v":""}]
["種目",null,{"$f":"男子一覧表!Y56","v":""},null,"記録",{"$f":"男子一覧表!J56","v":0},null,"種目",null,{"$f":"男子一覧表!Z56","v":""},null,"記録",{"$f":"男子一覧表!M56","v":0}]
["性","ゼッケン",null,"氏名",null,"学年","所属","性","ゼッケン",null,"氏名",null,"学年","所属"]
["男",{"$f":"男子一覧表!B56","v":0},null,{"$f":"IF(男子一覧表!B56=\"\",\"\",VLOOKUP(B90,男子一覧表!$B$13:$F$78,2,FALSE))","v":""},null,{"$f":"IF(男子一覧表!B56=\"\",\"\",VLOOKUP(B90,男子一覧表!$B$13:$F$78,3,FALSE))","v":""},{"$f":"IF(D90=\"\",\"\",男子一覧表!$A$7)","v":""},"男",{"$f":"IF(男子一覧表!L56=\"\",\"\",男子一覧表!B56)","v":""},null,{"$f":"IF(男子一覧表!L56=\"\",\"\",VLOOKUP(I90,男子一覧表!$B$13:$F$78,2,FALSE))","v":""},null,{"$f":"IF(男子一覧表!L56=\"\",\"\",VLOOKUP(I90,男子一覧表!$B$13:$F$78,3,FALSE))","v":""},{"$f":"IF(K90=\"\",\"\",男子一覧表!$A$7)","v":""}]
["種目",null,{"$f":"男子一覧表!Y57","v":""},null,"記録",{"$f":"男子一覧表!J57","v":0},null,"種目",null,{"$f":"男子一覧表!Z57","v":""},null,"記録",{"$f":"男子一覧表!M57","v":0}]
["性","ゼッケン",null,"氏名",null,"学年","所属","性","ゼッケン",null,"氏名",null,"学年","所属"]
["男",{"$f":"男子一覧表!B57","v":0},null,{"$f":"IF(男子一覧表!B57=\"\",\"\",VLOOKUP(B93,男子一覧表!$B$13:$F$78,2,FALSE))","v":""},null,{"$f":"IF(男子一覧表!B57=\"\",\"\",VLOOKUP(B93,男子一覧表!$B$13:$F$78,3,FALSE))","v":""},{"$f":"IF(D93=\"\",\"\",男子一覧表!$A$7)","v":""},"男",{"$f":"IF(男子一覧表!L57=\"\",\"\",男子一覧表!B57)","v":""},null,{"$f":"IF(男子一覧表!L57=\"\",\"\",VLOOKUP(I93,男子一覧表!$B$13:$F$78,2,FALSE))","v":""},null,{"$f":"IF(男子一覧表!L57=\"\",\"\",VLOOKUP(I93,男子一覧表!$B$13:$F$78,3,FALSE))","v":""},{"$f":"IF(K93=\"\",\"\",男子一覧表!$A$7)","v":""}]
["種目",null,{"$f":"男子一覧表!Y58","v":""},null,"記録",{"$f":"男子一覧表!J58","v":0},null,"種目",null,{"$f":"男子一覧表!Z58","v":""},null,"記録",{"$f":"男子一覧表!M58","v":0}]
["性","ゼッケン",null,"氏名",null,"学年","所属","性","ゼッケン",null,"氏名",null,"学年","所属"]
["男",{"$f":"男子一覧表!B58","v":0},null,{"$f":"IF(男子一覧表!B58=\"\",\"\",VLOOKUP(B96,男子一覧表!$B$13:$F$78,2,FALSE))","v":""},null,{"$f":"IF(男子一覧表!B58=\"\",\"\",VLOOKUP(B96,男子一覧表!$B$13:$F$78,3,FALSE))","v":""},{"$f":"IF(D96=\"\",\"\",男子一覧表!$A$7)","v":""},"男",{"$f":"IF(男子一覧表!L58=\"\",\"\",男子一覧表!B58)","v":""},null,{"$f":"IF(男子一覧表!L58=\"\",\"\",VLOOKUP(I96,男子一覧表!$B$13:$F$78,2,FALSE))","v":""},null,{"$f":"IF(男子一覧表!L58=\"\",\"\",VLOOKUP(I96,男子一覧表!$B$13:$F$78,3,FALSE))","v":""},{"$f":"IF(K96=\"\",\"\",男子一覧表!$A$7)","v":""}]
["種目",null,{"$f":"男子一覧表!Y59","v":""},null,"記録",{"$f":"男子一覧表!J59","v":0},null,"種目",null,{"$f":"男子一覧表!Z59","v":""},null,"記録",{"$f":"男子一覧表!M59","v":0}]
["性","ゼッケン",null,"氏名",null,"学年","所属","性","ゼッケン",null,"氏名",null,"学年","所属"]
["男",{"$f":"男子一覧表!B59","v":0},null,{"$f":"IF(男子一覧表!B59=\"\",\"\",VLOOKUP(B99,男子一覧表!$B$13:$F$78,2,FALSE))","v":""},null,{"$f":"IF(男子一覧表!B59=\"\",\"\",VLOOKUP(B99,男子一覧表!$B$13:$F$78,3,FALSE))","v":""},{"$f":"IF(D99=\"\",\"\",男子一覧表!$A$7)","v":""},"男",{"$f":"IF(男子一覧表!L59=\"\",\"\",男子一覧表!B59)","v":""},null,{"$f":"IF(男子一覧表!L59=\"\",\"\",VLOOKUP(I99,男子一覧表!$B$13:$F$78,2,FALSE))","v":""},null,{"$f":"IF(男子一覧表!L59=\"\",\"\",VLOOKUP(I99,男子一覧表!$B$13:$F$78,3,FALSE))","v":""},{"$f":"IF(K99=\"\",\"\",男子一覧表!$A$7)","v":""}]
["種目",null,{"$f":"男子一覧表!Y60","v":""},null,"記録",{"$f":"男子一覧表!J60","v":0},null,"種目",null,{"$f":"男子一覧表!Z60","v":""},null,"記録",{"$f":"男子一覧表!M60","v":0}]
["性","ゼッケン",null,"氏名",null,"学年","所属","性","ゼッケン",null,"氏名",null,"学年","所属"]
["男",{"$f":"男子一覧表!B60","v":0},null,{"$f":"IF(男子一覧表!B60=\"\",\"\",VLOOKUP(B102,男子一覧表!$B$13:$F$78,2,FALSE))","v":""},null,{"$f":"IF(男子一覧表!B60=\"\",\"\",VLOOKUP(B102,男子一覧表!$B$13:$F$78,3,FALSE))","v":""},{"$f":"IF(D102=\"\",\"\",男子一覧表!$A$7)","v":""},"男",{"$f":"IF(男子一覧表!L60=\"\",\"\",男子一覧表!B60)","v":""},null,{"$f":"IF(男子一覧表!L60=\"\",\"\",VLOOKUP(I102,男子一覧表!$B$13:$F$78,2,FALSE))","v":""},null,{"$f":"IF(男子一覧表!L60=\"\",\"\",VLOOKUP(I102,男子一覧表!$B$13:$F$78,3,FALSE))","v":""},{"$f":"IF(K102=\"\",\"\",男子一覧表!$A$7)","v":""}]
["種目",null,{"$f":"男子一覧表!Y61","v":""},null,"記録",{"$f":"男子一覧表!J61","v":0},null,"種目",null,{"$f":"男子一覧表!Z61","v":""},null,"記録",{"$f":"男子一覧表!M61","v":0}]
["性","ゼッケン",null,"氏名",null,"学年","所属","性","ゼッケン",null,"氏名",null,"学年","所属"]
["男",{"$f":"男子一覧表!B61","v":0},null,{"$f":"IF(男子一覧表!B61=\"\",\"\",VLOOKUP(B105,男子一覧表!$B$13:$F$78,2,FALSE))","v":""},null,{"$f":"IF(男子一覧表!B61=\"\",\"\",VLOOKUP(B105,男子一覧表!$B$13:$F$78,3,FALSE))","v":""},{"$f":"IF(D105=\"\",\"\",男子一覧表!$A$7)","v":""},"男",{"$f":"IF(男子一覧表!L61=\"\",\"\",男子一覧表!B61)","v":""},null,{"$f":"IF(男子一覧表!L61=\"\",\"\",VLOOKUP(I105,男子一覧表!$B$13:$F$78,2,FALSE))","v":""},null,{"$f":"IF(男子一覧表!L61=\"\",\"\",VLOOKUP(I105,男子一覧表!$B$13:$F$78,3,FALSE))","v":""},{"$f":"IF(K105=\"\",\"\",男子一覧表!$A$7)","v":""}]
["種目",null,{"$f":"男子一覧表!Y62","v":""},null,"記録",{"$f":"男子一覧表!J62","v":0},null,"種目",null,{"$f":"男子一覧表!Z62","v":""},null,"記録",{"$f":"男子一覧表!M62","v":0}]
["性","ゼッケン",null,"氏名",null,"学年","所属","性","ゼッケン",null,"氏名",null,"学年","所属"]
["男",{"$f":"男子一覧表!B62","v":0},null,{"$f":"IF(男子一覧表!B62=\"\",\"\",VLOOKUP(B108,男子一覧表!$B$13:$F$78,2,FALSE))","v":""},null,{"$f":"IF(男子一覧表!B62=\"\",\"\",VLOOKUP(B108,男子一覧表!$B$13:$F$78,3,FALSE))","v":""},{"$f":"IF(D108=\"\",\"\",男子一覧表!$A$7)","v":""},"男",{"$f":"IF(男子一覧表!L62=\"\",\"\",男子一覧表!B62)","v":""},null,{"$f":"IF(男子一覧表!L62=\"\",\"\",VLOOKUP(I108,男子一覧表!$B$13:$F$78,2,FALSE))","v":""},null,{"$f":"IF(男子一覧表!L62=\"\",\"\",VLOOKUP(I108,男子一覧表!$B$13:$F$78,3,FALSE))","v":""},{"$f":"IF(K108=\"\",\"\",男子一覧表!$A$7)","v":""}]
["種目",null,{"$f":"男子一覧表!Y63","v":""},null,"記録",{"$f":"男子一覧表!J63","v":0},null,"種目",null,{"$f":"男子一覧表!Z63","v":""},null,"記録",{"$f":"男子一覧表!M63","v":0}]
["性","ゼッケン",null,"氏名",null,"学年","所属","性","ゼッケン",null,"氏名",null,"学年","所属"]
["男",{"$f":"男子一覧表!B63","v":0},null,{"$f":"IF(男子一覧表!B63=\"\",\"\",VLOOKUP(B111,男子一覧表!$B$13:$F$78,2,FALSE))","v":""},null,{"$f":"IF(男子一覧表!B63=\"\",\"\",VLOOKUP(B111,男子一覧表!$B$13:$F$78,3,FALSE))","v":""},{"$f":"IF(D111=\"\",\"\",男子一覧表!$A$7)","v":""},"男",{"$f":"IF(男子一覧表!L63=\"\",\"\",男子一覧表!B63)","v":""},null,{"$f":"IF(男子一覧表!L63=\"\",\"\",VLOOKUP(I111,男子一覧表!$B$13:$F$78,2,FALSE))","v":""},null,{"$f":"IF(男子一覧表!L63=\"\",\"\",VLOOKUP(I111,男子一覧表!$B$13:$F$78,3,FALSE))","v":""},{"$f":"IF(K111=\"\",\"\",男子一覧表!$A$7)","v":""}]
["種目",null,{"$f":"男子一覧表!Y64","v":""},null,"記録",{"$f":"男子一覧表!J64","v":0},null,"種目",null,{"$f":"男子一覧表!Z64","v":""},null,"記録",{"$f":"男子一覧表!M64","v":0}]
["性","ゼッケン",null,"氏名",null,"学年","所属","性","ゼッケン",null,"氏名",null,"学年","所属"]
["男",{"$f":"男子一覧表!B64","v":0},null,{"$f":"IF(男子一覧表!B64=\"\",\"\",VLOOKUP(B114,男子一覧表!$B$13:$F$78,2,FALSE))","v":""},null,{"$f":"IF(男子一覧表!B64=\"\",\"\",VLOOKUP(B114,男子一覧表!$B$13:$F$78,3,FALSE))","v":""},{"$f":"IF(D114=\"\",\"\",男子一覧表!$A$7)","v":""},"男",{"$f":"IF(男子一覧表!L64=\"\",\"\",男子一覧表!B64)","v":""},null,{"$f":"IF(男子一覧表!L64=\"\",\"\",VLOOKUP(I114,男子一覧表!$B$13:$F$78,2,FALSE))","v":""},null,{"$f":"IF(男子一覧表!L64=\"\",\"\",VLOOKUP(I114,男子一覧表!$B$13:$F$78,3,FALSE))","v":""},{"$f":"IF(K114=\"\",\"\",男子一覧表!$A$7)","v":""}]
["種目",null,{"$f":"男子一覧表!Y65","v":""},null,"記録",{"$f":"男子一覧表!J65","v":0},null,"種目",null,{"$f":"男子一覧表!Z65","v":""},null,"記録",{"$f":"男子一覧表!M65","v":0}]
["性","ゼッケン",null,"氏名",null,"学年","所属","性","ゼッケン",null,"氏名",null,"学年","所属"]
["男",{"$f":"男子一覧表!B65","v":0},null,{"$f":"IF(男子一覧表!B65=\"\",\"\",VLOOKUP(B117,男子一覧表!$B$13:$F$78,2,FALSE))","v":""},null,{"$f":"IF(男子一覧表!B65=\"\",\"\",VLOOKUP(B117,男子一覧表!$B$13:$F$78,3,FALSE))","v":""},{"$f":"IF(D117=\"\",\"\",男子一覧表!$A$7)","v":""},"男",{"$f":"IF(男子一覧表!L65=\"\",\"\",男子一覧表!B65)","v":""},null,{"$f":"IF(男子一覧表!L65=\"\",\"\",VLOOKUP(I117,男子一覧表!$B$13:$F$78,2,FALSE))","v":""},null,{"$f":"IF(男子一覧表!L65=\"\",\"\",VLOOKUP(I117,男子一覧表!$B$13:$F$78,3,FALSE))","v":""},{"$f":"IF(K117=\"\",\"\",男子一覧表!$A$7)","v":""}]
["種目",null,{"$f":"男子一覧表!Y66","v":""},null,"記録",{"$f":"男子一覧表!J66","v":0},null,"種目",null,{"$f":"男子一覧表!Z66","v":""},null,"記録",{"$f":"男子一覧表!M66","v":0}]
["性","ゼッケン",null,"氏名",null,"学年","所属","性","ゼッケン",null,"氏名",null,"学年","所属"]
["男",{"$f":"男子一覧表!B66","v":0},null,{"$f":"IF(男子一覧表!B66=\"\",\"\",VLOOKUP(B120,男子一覧表!$B$13:$F$78,2,FALSE))","v":""},null,{"$f":"IF(男子一覧表!B66=\"\",\"\",VLOOKUP(B120,男子一覧表!$B$13:$F$78,3,FALSE))","v":""},{"$f":"IF(D120=\"\",\"\",男子一覧表!$A$7)","v":""},"男",{"$f":"IF(男子一覧表!L66=\"\",\"\",男子一覧表!B66)","v":""},null,{"$f":"IF(男子一覧表!L66=\"\",\"\",VLOOKUP(I120,男子一覧表!$B$13:$F$78,2,FALSE))","v":""},null,{"$f":"IF(男子一覧表!L66=\"\",\"\",VLOOKUP(I120,男子一覧表!$B$13:$F$78,3,FALSE))","v":""},{"$f":"IF(K120=\"\",\"\",男子一覧表!$A$7)","v":""}]
["種目",null,{"$f":"男子一覧表!Y67","v":""},null,"記録",{"$f":"男子一覧表!J67","v":0},null,"種目",null,{"$f":"男子一覧表!Z67","v":""},null,"記録",{"$f":"男子一覧表!M67","v":0}]
["性","ゼッケン",null,"氏名",null,"学年","所属","性","ゼッケン",null,"氏名",null,"学年","所属"]
["男",{"$f":"男子一覧表!B67","v":0},null,{"$f":"IF(男子一覧表!B67=\"\",\"\",VLOOKUP(B123,男子一覧表!$B$13:$F$78,2,FALSE))","v":""},null,{"$f":"IF(男子一覧表!B67=\"\",\"\",VLOOKUP(B123,男子一覧表!$B$13:$F$78,3,FALSE))","v":""},{"$f":"IF(D123=\"\",\"\",男子一覧表!$A$7)","v":""},"男",{"$f":"IF(男子一覧表!L67=\"\",\"\",男子一覧表!B67)","v":""},null,{"$f":"IF(男子一覧表!L67=\"\",\"\",VLOOKUP(I123,男子一覧表!$B$13:$F$78,2,FALSE))","v":""},null,{"$f":"IF(男子一覧表!L67=\"\",\"\",VLOOKUP(I123,男子一覧表!$B$13:$F$78,3,FALSE))","v":""},{"$f":"IF(K123=\"\",\"\",男子一覧表!$A$7)","v":""}]
["種目",null,{"$f":"男子一覧表!Y68","v":""},null,"記録",{"$f":"男子一覧表!J68","v":0},null,"種目",null,{"$f":"男子一覧表!Z68","v":""},null,"記録",{"$f":"男子一覧表!M68","v":0}]
["性","ゼッケン",null,"氏名",null,"学年","所属","性","ゼッケン",null,"氏名",null,"学年","所属"]
["男",{"$f":"男子一覧表!B68","v":0},null,{"$f":"IF(男子一覧表!B68=\"\",\"\",VLOOKUP(B126,男子一覧表!$B$13:$F$78,2,FALSE))","v":""},null,{"$f":"IF(男子一覧表!B68=\"\",\"\",VLOOKUP(B126,男子一覧表!$B$13:$F$78,3,FALSE))","v":""},{"$f":"IF(D126=\"\",\"\",男子一覧表!$A$7)","v":""},"男",{"$f":"IF(男子一覧表!L68=\"\",\"\",男子一覧表!B68)","v":""},null,{"$f":"IF(男子一覧表!L68=\"\",\"\",VLOOKUP(I126,男子一覧表!$B$13:$F$78,2,FALSE))","v":""},null,{"$f":"IF(男子一覧表!L68=\"\",\"\",VLOOKUP(I126,男子一覧表!$B$13:$F$78,3,FALSE))","v":""},{"$f":"IF(K126=\"\",\"\",男子一覧表!$A$7)","v":""}]
["種目",null,{"$f":"男子一覧表!Y69","v":""},null,"記録",{"$f":"男子一覧表!J69","v":0},null,"種目",null,{"$f":"男子一覧表!Z69","v":""},null,"記録",{"$f":"男子一覧表!M69","v":0}]
["性","ゼッケン",null,"氏名",null,"学年","所属","性","ゼッケン",null,"氏名",null,"学年","所属"]
["男",{"$f":"男子一覧表!B69","v":0},null,{"$f":"IF(男子一覧表!B69=\"\",\"\",VLOOKUP(B129,男子一覧表!$B$13:$F$78,2,FALSE))","v":""},null,{"$f":"IF(男子一覧表!B69=\"\",\"\",VLOOKUP(B129,男子一覧表!$B$13:$F$78,3,FALSE))","v":""},{"$f":"IF(D129=\"\",\"\",男子一覧表!$A$7)","v":""},"男",{"$f":"IF(男子一覧表!L69=\"\",\"\",男子一覧表!B69)","v":""},null,{"$f":"IF(男子一覧表!L69=\"\",\"\",VLOOKUP(I129,男子一覧表!$B$13:$F$78,2,FALSE))","v":""},null,{"$f":"IF(男子一覧表!L69=\"\",\"\",VLOOKUP(I129,男子一覧表!$B$13:$F$78,3,FALSE))","v":""},{"$f":"IF(K129=\"\",\"\",男子一覧表!$A$7)","v":""}]
["種目",null,{"$f":"男子一覧表!Y70","v":""},null,"記録",{"$f":"男子一覧表!J70","v":0},null,"種目",null,{"$f":"男子一覧表!Z70","v":""},null,"記録",{"$f":"男子一覧表!M70","v":0}]
["性","ゼッケン",null,"氏名",null,"学年","所属","性","ゼッケン",null,"氏名",null,"学年","所属"]
["男",{"$f":"男子一覧表!B70","v":0},null,{"$f":"IF(男子一覧表!B70=\"\",\"\",VLOOKUP(B132,男子一覧表!$B$13:$F$78,2,FALSE))","v":""},null,{"$f":"IF(男子一覧表!B70=\"\",\"\",VLOOKUP(B132,男子一覧表!$B$13:$F$78,3,FALSE))","v":""},{"$f":"IF(D132=\"\",\"\",男子一覧表!$A$7)","v":""},"男",{"$f":"IF(男子一覧表!L70=\"\",\"\",男子一覧表!B70)","v":""},null,{"$f":"IF(男子一覧表!L70=\"\",\"\",VLOOKUP(I132,男子一覧表!$B$13:$F$78,2,FALSE))","v":""},null,{"$f":"IF(男子一覧表!L70=\"\",\"\",VLOOKUP(I132,男子一覧表!$B$13:$F$78,3,FALSE))","v":""},{"$f":"IF(K132=\"\",\"\",男子一覧表!$A$7)","v":""}]
["種目",null,{"$f":"男子一覧表!Y71","v":""},null,"記録",{"$f":"男子一覧表!J71","v":0},null,"種目",null,{"$f":"男子一覧表!Z71","v":""},null,"記録",{"$f":"男子一覧表!M71","v":0}]
["性","ゼッケン",null,"氏名",null,"学年","所属","性","ゼッケン",null,"氏名",null,"学年","所属"]
["男",{"$f":"男子一覧表!B71","v":0},null,{"$f":"IF(男子一覧表!B71=\"\",\"\",VLOOKUP(B135,男子一覧表!$B$13:$F$78,2,FALSE))","v":""},null,{"$f":"IF(男子一覧表!B71=\"\",\"\",VLOOKUP(B135,男子一覧表!$B$13:$F$78,3,FALSE))","v":""},{"$f":"IF(D135=\"\",\"\",男子一覧表!$A$7)","v":""},"男",{"$f":"IF(男子一覧表!L71=\"\",\"\",男子一覧表!B71)","v":""},null,{"$f":"IF(男子一覧表!L71=\"\",\"\",VLOOKUP(I135,男子一覧表!$B$13:$F$78,2,FALSE))","v":""},null,{"$f":"IF(男子一覧表!L71=\"\",\"\",VLOOKUP(I135,男子一覧表!$B$13:$F$78,3,FALSE))","v":""},{"$f":"IF(K135=\"\",\"\",男子一覧表!$A$7)","v":""}]
["種目",null,{"$f":"男子一覧表!Y72","v":""},null,"記録",{"$f":"男子一覧表!J72","v":0},null,"種目",null,{"$f":"男子一覧表!Z72","v":""},null,"記録",{"$f":"男子一覧表!M72","v":0}]
["性","ゼッケン",null,"氏名",null,"学年","所属","性","ゼッケン",null,"氏名",null,"学年","所属"]
["男",{"$f":"男子一覧表!B72","v":0},null,{"$f":"IF(男子一覧表!B72=\"\",\"\",VLOOKUP(B138,男子一覧表!$B$13:$F$78,2,FALSE))","v":""},null,{"$f":"IF(男子一覧表!B72=\"\",\"\",VLOOKUP(B138,男子一覧表!$B$13:$F$78,3,FALSE))","v":""},{"$f":"IF(D138=\"\",\"\",男子一覧表!$A$7)","v":""},"男",{"$f":"IF(男子一覧表!L72=\"\",\"\",男子一覧表!B72)","v":""},null,{"$f":"IF(男子一覧表!L72=\"\",\"\",VLOOKUP(I138,男子一覧表!$B$13:$F$78,2,FALSE))","v":""},null,{"$f":"IF(男子一覧表!L72=\"\",\"\",VLOOKUP(I138,男子一覧表!$B$13:$F$78,3,FALSE))","v":""},{"$f":"IF(K138=\"\",\"\",男子一覧表!$A$7)","v":""}]
["種目",null,{"$f":"男子一覧表!Y73","v":""},null,"記録",{"$f":"男子一覧表!J73","v":0},null,"種目",null,{"$f":"男子一覧表!Z73","v":""},null,"記録",{"$f":"男子一覧表!M73","v":0}]
["性","ゼッケン",null,"氏名",null,"学年","所属","性","ゼッケン",null,"氏名",null,"学年","所属"]
["男",{"$f":"男子一覧表!B73","v":0},null,{"$f":"IF(男子一覧表!B73=\"\",\"\",VLOOKUP(B141,男子一覧表!$B$13:$F$78,2,FALSE))","v":""},null,{"$f":"IF(男子一覧表!B73=\"\",\"\",VLOOKUP(B141,男子一覧表!$B$13:$F$78,3,FALSE))","v":""},{"$f":"IF(D141=\"\",\"\",男子一覧表!$A$7)","v":""},"男",{"$f":"IF(男子一覧表!L73=\"\",\"\",男子一覧表!B73)","v":""},null,{"$f":"IF(男子一覧表!L73=\"\",\"\",VLOOKUP(I141,男子一覧表!$B$13:$F$78,2,FALSE))","v":""},null,{"$f":"IF(男子一覧表!L73=\"\",\"\",VLOOKUP(I141,男子一覧表!$B$13:$F$78,3,FALSE))","v":""},{"$f":"IF(K141=\"\",\"\",男子一覧表!$A$7)","v":""}]
["種目",null,{"$f":"男子一覧表!Y74","v":""},null,"記録",{"$f":"男子一覧表!J74","v":0},null,"種目",null,{"$f":"男子一覧表!Z74","v":""},null,"記録",{"$f":"男子一覧表!M74","v":0}]
["性","ゼッケン",null,"氏名",null,"学年","所属","性","ゼッケン",null,"氏名",null,"学年","所属"]
["男",{"$f":"男子一覧表!B74","v":0},null,{"$f":"IF(男子一覧表!B74=\"\",\"\",VLOOKUP(B144,男子一覧表!$B$13:$F$78,2,FALSE))","v":""},null,{"$f":"IF(男子一覧表!B74=\"\",\"\",VLOOKUP(B144,男子一覧表!$B$13:$F$78,3,FALSE))","v":""},{"$f":"IF(D144=\"\",\"\",男子一覧表!$A$7)","v":""},"男",{"$f":"IF(男子一覧表!L74=\"\",\"\",男子一覧表!B74)","v":""},null,{"$f":"IF(男子一覧表!L74=\"\",\"\",VLOOKUP(I144,男子一覧表!$B$13:$F$78,2,FALSE))","v":""},null,{"$f":"IF(男子一覧表!L74=\"\",\"\",VLOOKUP(I144,男子一覧表!$B$13:$F$78,3,FALSE))","v":""},{"$f":"IF(K144=\"\",\"\",男子一覧表!$A$7)","v":""}]
["種目",null,{"$f":"男子一覧表!Y75","v":""},null,"記録",{"$f":"男子一覧表!J75","v":0},null,"種目",null,{"$f":"男子一覧表!Z75","v":""},null,"記録",{"$f":"男子一覧表!M75","v":0}]
["性","ゼッケン",null,"氏名",null,"学年","所属","性","ゼッケン",null,"氏名",null,"学年","所属"]
["男",{"$f":"男子一覧表!B75","v":0},null,{"$f":"IF(男子一覧表!B75=\"\",\"\",VLOOKUP(B147,男子一覧表!$B$13:$F$78,2,FALSE))","v":""},null,{"$f":"IF(男子一覧表!B75=\"\",\"\",VLOOKUP(B147,男子一覧表!$B$13:$F$78,3,FALSE))","v":""},{"$f":"IF(D147=\"\",\"\",男子一覧表!$A$7)","v":""},"男",{"$f":"IF(男子一覧表!L75=\"\",\"\",男子一覧表!B75)","v":""},null,{"$f":"IF(男子一覧表!L75=\"\",\"\",VLOOKUP(I147,男子一覧表!$B$13:$F$78,2,FALSE))","v":""},null,{"$f":"IF(男子一覧表!L75=\"\",\"\",VLOOKUP(I147,男子一覧表!$B$13:$F$78,3,FALSE))","v":""},{"$f":"IF(K147=\"\",\"\",男子一覧表!$A$7)","v":""}]
["種目",null,{"$f":"男子一覧表!Y76","v":""},null,"記録",{"$f":"男子一覧表!J76","v":0},null,"種目",null,{"$f":"男子一覧表!Z76","v":""},null,"記録",{"$f":"男子一覧表!M76","v":0}]
["性","ゼッケン",null,"氏名",null,"学年","所属","性","ゼッケン",null,"氏名",null,"学年","所属"]
["男",{"$f":"男子一覧表!B76","v":0},null,{"$f":"IF(男子一覧表!B76=\"\",\"\",VLOOKUP(B150,男子一覧表!$B$13:$F$78,2,FALSE))","v":""},null,{"$f":"IF(男子一覧表!B76=\"\",\"\",VLOOKUP(B150,男子一覧表!$B$13:$F$78,3,FALSE))","v":""},{"$f":"IF(D150=\"\",\"\",男子一覧表!$A$7)","v":""},"男",{"$f":"IF(男子一覧表!L76=\"\",\"\",男子一覧表!B76)","v":""},null,{"$f":"IF(男子一覧表!L76=\"\",\"\",VLOOKUP(I150,男子一覧表!$B$13:$F$78,2,FALSE))","v":""},null,{"$f":"IF(男子一覧表!L76=\"\",\"\",VLOOKUP(I150,男子一覧表!$B$13:$F$78,3,FALSE))","v":""},{"$f":"IF(K150=\"\",\"\",男子一覧表!$A$7)","v":""}]
["種目",null,{"$f":"男子一覧表!Y77","v":""},null,"記録",{"$f":"男子一覧表!J77","v":0},null,"種目",null,{"$f":"男子一覧表!Z77","v":""},null,"記録",{"$f":"男子一覧表!M77","v":0}]
["性","ゼッケン",null,"氏名",null,"学年","所属","性","ゼッケン",null,"氏名",null,"学年","所属"]
["男",{"$f":"男子一覧表!B77","v":0},null,{"$f":"IF(男子一覧表!B77=\"\",\"\",VLOOKUP(B153,男子一覧表!$B$13:$F$78,2,FALSE))","v":""},null,{"$f":"IF(男子一覧表!B77=\"\",\"\",VLOOKUP(B153,男子一覧表!$B$13:$F$78,3,FALSE))","v":""},{"$f":"IF(D153=\"\",\"\",男子一覧表!$A$7)","v":""},"男",{"$f":"IF(男子一覧表!L77=\"\",\"\",男子一覧表!B77)","v":""},null,{"$f":"IF(男子一覧表!L77=\"\",\"\",VLOOKUP(I153,男子一覧表!$B$13:$F$78,2,FALSE))","v":""},null,{"$f":"IF(男子一覧表!L77=\"\",\"\",VLOOKUP(I153,男子一覧表!$B$13:$F$78,3,FALSE))","v":""},{"$f":"IF(K153=\"\",\"\",男子一覧表!$A$7)","v":""}]
["種目",null,{"$f":"男子一覧表!Y78","v":""},null,"記録",{"$f":"男子一覧表!J78","v":0},null,"種目",null,{"$f":"男子一覧表!Z78","v":""},null,"記録",{"$f":"男子一覧表!M78","v":0}]
["性","ゼッケン",null,"氏名",null,"学年","所属","性","ゼッケン",null,"氏名",null,"学年","所属"]
["男",{"$f":"男子一覧表!B78","v":0},null,{"$f":"IF(男子一覧表!B78=\"\",\"\",VLOOKUP(B156,男子一覧表!$B$13:$F$78,2,FALSE))","v":""},null,{"$f":"IF(男子一覧表!B78=\"\",\"\",VLOOKUP(B156,男子一覧表!$B$13:$F$78,3,FALSE))","v":""},{"$f":"IF(D156=\"\",\"\",男子一覧表!$A$7)","v":""},"男",{"$f":"IF(男子一覧表!L78=\"\",\"\",男子一覧表!B78)","v":""},null,{"$f":"IF(男子一覧表!L78=\"\",\"\",VLOOKUP(I156,男子一覧表!$B$13:$F$78,2,FALSE))","v":""},null,{"$f":"IF(男子一覧表!L78=\"\",\"\",VLOOKUP(I156,男子一覧表!$B$13:$F$78,3,FALSE))","v":""},{"$f":"IF(K156=\"\",\"\",男子一覧表!$A$7)","v":""}]
[]
["リレー個票"]
[]
["種目",null,null,null,"記録",null,null,"種目",null,null,null,"記録",null,null,null,null,"A",null,null,null,null,null,null,"4×100R"]
["所属",null,null,{"$f":"男子一覧表!$A$7","v":{"$error":"#REF!"}},null,null,null,"所属",null,null,{"$f":"男子一覧表!$A$7","v":{"$error":"#REF!"}},null,null,null,null,null,"B",null,null,null,null,null,null,"4×200R"]
["男","ゼッケン",null,"氏　　名",null,null,"学年","男","ゼッケン",null,"氏　　名",null,null,"学年",null,null,"C",null,null,null,null,null,null,"低学年400R"]
[null,null,null,{"$f":"IF(B163=\"\",\"\",VLOOKUP(B163,男子一覧表!$B$13:$C$78,2,FALSE))","v":""},null,null,{"$f":"IF(B163=\"\",\"\",VLOOKUP(B163,男子一覧表!$B$13:$E$78,3,FALSE))","v":""},null,null,null,{"$f":"IF(I163=\"\",\"\",VLOOKUP(I163,男子一覧表!$B$13:$C$78,2,FALSE))","v":""},null,null,{"$f":"IF(I163=\"\",\"\",VLOOKUP(I163,男子一覧表!$B$13:$E$78,3,FALSE))","v":""},null,null,"D"]
[null,null,null,{"$f":"IF(B164=\"\",\"\",VLOOKUP(B164,男子一覧表!$B$13:$C$78,2,FALSE))","v":""},null,null,{"$f":"IF(B164=\"\",\"\",VLOOKUP(B164,男子一覧表!$B$13:$E$78,3,FALSE))","v":""},null,null,null,{"$f":"IF(I164=\"\",\"\",VLOOKUP(I164,男子一覧表!$B$13:$C$78,2,FALSE))","v":""},null,null,{"$f":"IF(I164=\"\",\"\",VLOOKUP(I164,男子一覧表!$B$13:$E$78,3,FALSE))","v":""},null,null,"E"]
[null,null,null,{"$f":"IF(B165=\"\",\"\",VLOOKUP(B165,男子一覧表!$B$13:$C$78,2,FALSE))","v":""},null,null,{"$f":"IF(B165=\"\",\"\",VLOOKUP(B165,男子一覧表!$B$13:$E$78,3,FALSE))","v":""},null,null,null,{"$f":"IF(I165=\"\",\"\",VLOOKUP(I165,男子一覧表!$B$13:$C$78,2,FALSE))","v":""},null,null,{"$f":"IF(I165=\"\",\"\",VLOOKUP(I165,男子一覧表!$B$13:$E$78,3,FALSE))","v":""}]
[null,null,null,{"$f":"IF(B166=\"\",\"\",VLOOKUP(B166,男子一覧表!$B$13:$C$78,2,FALSE))","v":""},null,null,{"$f":"IF(B166=\"\",\"\",VLOOKUP(B166,男子一覧表!$B$13:$E$78,3,FALSE))","v":""},null,null,null,{"$f":"IF(I166=\"\",\"\",VLOOKUP(I166,男子一覧表!$B$13:$C$78,2,FALSE))","v":""},null,null,{"$f":"IF(I166=\"\",\"\",VLOOKUP(I166,男子一覧表!$B$13:$E$78,3,FALSE))","v":""}]
[null,null,null,{"$f":"IF(B167=\"\",\"\",VLOOKUP(B167,男子一覧表!$B$13:$C$78,2,FALSE))","v":""},null,null,{"$f":"IF(B167=\"\",\"\",VLOOKUP(B167,男子一覧表!$B$13:$E$78,3,FALSE))","v":""},null,null,null,{"$f":"IF(I167=\"\",\"\",VLOOKUP(I167,男子一覧表!$B$13:$C$78,2,FALSE))","v":""},null,null,{"$f":"IF(I167=\"\",\"\",VLOOKUP(I167,男子一覧表!$B$13:$E$78,3,FALSE))","v":""}]
[null,null,null,{"$f":"IF(B168=\"\",\"\",VLOOKUP(B168,男子一覧表!$B$13:$C$78,2,FALSE))","v":""},null,null,{"$f":"IF(B168=\"\",\"\",VLOOKUP(B168,男子一覧表!$B$13:$E$78,3,FALSE))","v":""},null,null,null,{"$f":"IF(I168=\"\",\"\",VLOOKUP(I168,男子一覧表!$B$13:$C$78,2,FALSE))","v":""},null,null,{"$f":"IF(I168=\"\",\"\",VLOOKUP(I168,男子一覧表!$B$13:$E$78,3,FALSE))","v":""}]
["種目",null,null,null,"記録",null,null,"種目",null,null,null,"記録"]
["所属",null,null,{"$f":"男子一覧表!$A$7","v":{"$error":"#REF!"}},null,null,null,"所属",null,null,{"$f":"男子一覧表!$A$7","v":{"$error":"#REF!"}}]
["男","ゼッケン",null,"氏　　名",null,null,"学年","男","ゼッケン",null,"氏　　名",null,null,"学年"]
[null,null,null,{"$f":"IF(B172=\"\",\"\",VLOOKUP(B172,男子一覧表!$B$13:$C$78,2,FALSE))","v":""},null,null,{"$f":"IF(B172=\"\",\"\",VLOOKUP(B172,男子一覧表!$B$13:$E$78,3,FALSE))","v":""},null,null,null,{"$f":"IF(I172=\"\",\"\",VLOOKUP(I172,男子一覧表!$B$13:$C$78,2,FALSE))","v":""},null,null,{"$f":"IF(I172=\"\",\"\",VLOOKUP(I172,男子一覧表!$B$13:$E$78,3,FALSE))","v":""}]
[null,null,null,{"$f":"IF(B173=\"\",\"\",VLOOKUP(B173,男子一覧表!$B$13:$C$78,2,FALSE))","v":""},null,null,{"$f":"IF(B173=\"\",\"\",VLOOKUP(B173,男子一覧表!$B$13:$E$78,3,FALSE))","v":""},null,null,null,{"$f":"IF(I173=\"\",\"\",VLOOKUP(I173,男子一覧表!$B$13:$C$78,2,FALSE))","v":""},null,null,{"$f":"IF(I173=\"\",\"\",VLOOKUP(I173,男子一覧表!$B$13:$E$78,3,FALSE))","v":""}]
[null,null,null,{"$f":"IF(B174=\"\",\"\",VLOOKUP(B174,男子一覧表!$B$13:$C$78,2,FALSE))","v":""},null,null,{"$f":"IF(B174=\"\",\"\",VLOOKUP(B174,男子一覧表!$B$13:$E$78,3,FALSE))","v":""},null,null,null,{"$f":"IF(I174=\"\",\"\",VLOOKUP(I174,男子一覧表!$B$13:$C$78,2,FALSE))","v":""},null,null,{"$f":"IF(I174=\"\",\"\",VLOOKUP(I174,男子一覧表!$B$13:$E$78,3,FALSE))","v":""}]
[null,null,null,{"$f":"IF(B175=\"\",\"\",VLOOKUP(B175,男子一覧表!$B$13:$C$78,2,FALSE))","v":""},null,null,{"$f":"IF(B175=\"\",\"\",VLOOKUP(B175,男子一覧表!$B$13:$E$78,3,FALSE))","v":""},null,null,null,{"$f":"IF(I175=\"\",\"\",VLOOKUP(I175,男子一覧表!$B$13:$C$78,2,FALSE))","v":""},null,null,{"$f":"IF(I175=\"\",\"\",VLOOKUP(I175,男子一覧表!$B$13:$E$78,3,FALSE))","v":""}]
[null,null,null,{"$f":"IF(B176=\"\",\"\",VLOOKUP(B176,男子一覧表!$B$13:$C$78,2,FALSE))","v":""},null,null,{"$f":"IF(B176=\"\",\"\",VLOOKUP(B176,男子一覧表!$B$13:$E$78,3,FALSE))","v":""},null,null,null,{"$f":"IF(I176=\"\",\"\",VLOOKUP(I176,男子一覧表!$B$13:$C$78,2,FALSE))","v":""},null,null,{"$f":"IF(I176=\"\",\"\",VLOOKUP(I176,男子一覧表!$B$13:$E$78,3,FALSE))","v":""}]
[null,null,null,{"$f":"IF(B177=\"\",\"\",VLOOKUP(B177,男子一覧表!$B$13:$C$78,2,FALSE))","v":""},null,null,{"$f":"IF(B177=\"\",\"\",VLOOKUP(B177,男子一覧表!$B$13:$E$78,3,FALSE))","v":""},null,null,null,{"$f":"IF(I177=\"\",\"\",VLOOKUP(I177,男子一覧表!$B$13:$C$78,2,FALSE))","v":""},null,null,{"$f":"IF(I177=\"\",\"\",VLOOKUP(I177,男子一覧表!$B$13:$E$78,3,FALSE))","v":""}]
["種目",null,null,null,"記録",null,null,"種目",null,null,null,"記録"]
["所属",null,null,{"$f":"男子一覧表!$A$7","v":{"$error":"#REF!"}},null,null,null,"所属",null,null,{"$f":"男子一覧表!$A$7","v":{"$error":"#REF!"}}]
["男","ゼッケン",null,"氏　　名",null,null,"学年","男","ゼッケン",null,"氏　　名",null,null,"学年"]
[null,null,null,{"$f":"IF(B181=\"\",\"\",VLOOKUP(B181,男子一覧表!$B$13:$C$78,2,FALSE))","v":""},null,null,{"$f":"IF(B181=\"\",\"\",VLOOKUP(B181,男子一覧表!$B$13:$E$78,3,FALSE))","v":""},null,null,null,{"$f":"IF(I181=\"\",\"\",VLOOKUP(I181,男子一覧表!$B$13:$C$78,2,FALSE))","v":""},null,null,{"$f":"IF(I181=\"\",\"\",VLOOKUP(I181,男子一覧表!$B$13:$E$78,3,FALSE))","v":""}]
[null,null,null,{"$f":"IF(B182=\"\",\"\",VLOOKUP(B182,男子一覧表!$B$13:$C$78,2,FALSE))","v":""},null,null,{"$f":"IF(B182=\"\",\"\",VLOOKUP(B182,男子一覧表!$B$13:$E$78,3,FALSE))","v":""},null,null,null,{"$f":"IF(I182=\"\",\"\",VLOOKUP(I182,男子一覧表!$B$13:$C$78,2,FALSE))","v":""},null,null,{"$f":"IF(I182=\"\",\"\",VLOOKUP(I182,男子一覧表!$B$13:$E$78,3,FALSE))","v":""}]
[null,null,null,{"$f":"IF(B183=\"\",\"\",VLOOKUP(B183,男子一覧表!$B$13:$C$78,2,FALSE))","v":""},null,null,{"$f":"IF(B183=\"\",\"\",VLOOKUP(B183,男子一覧表!$B$13:$E$78,3,FALSE))","v":""},null,null,null,{"$f":"IF(I183=\"\",\"\",VLOOKUP(I183,男子一覧表!$B$13:$C$78,2,FALSE))","v":""},null,null,{"$f":"IF(I183=\"\",\"\",VLOOKUP(I183,男子一覧表!$B$13:$E$78,3,FALSE))","v":""}]
[null,null,null,{"$f":"IF(B184=\"\",\"\",VLOOKUP(B184,男子一覧表!$B$13:$C$78,2,FALSE))","v":""},null,null,{"$f":"IF(B184=\"\",\"\",VLOOKUP(B184,男子一覧表!$B$13:$E$78,3,FALSE))","v":""},null,null,null,{"$f":"IF(I184=\"\",\"\",VLOOKUP(I184,男子一覧表!$B$13:$C$78,2,FALSE))","v":""},null,null,{"$f":"IF(I184=\"\",\"\",VLOOKUP(I184,男子一覧表!$B$13:$E$78,3,FALSE))","v":""}]
[null,null,null,{"$f":"IF(B185=\"\",\"\",VLOOKUP(B185,男子一覧表!$B$13:$C$78,2,FALSE))","v":""},null,null,{"$f":"IF(B185=\"\",\"\",VLOOKUP(B185,男子一覧表!$B$13:$E$78,3,FALSE))","v":""},null,null,null,{"$f":"IF(I185=\"\",\"\",VLOOKUP(I185,男子一覧表!$B$13:$C$78,2,FALSE))","v":""},null,null,{"$f":"IF(I185=\"\",\"\",VLOOKUP(I185,男子一覧表!$B$13:$E$78,3,FALSE))","v":""}]
[null,null,null,{"$f":"IF(B186=\"\",\"\",VLOOKUP(B186,男子一覧表!$B$13:$C$78,2,FALSE))","v":""},null,null,{"$f":"IF(B186=\"\",\"\",VLOOKUP(B186,男子一覧表!$B$13:$E$78,3,FALSE))","v":""},null,null,null,{"$f":"IF(I186=\"\",\"\",VLOOKUP(I186,男子一覧表!$B$13:$C$78,2,FALSE))","v":""},null,null,{"$f":"IF(I186=\"\",\"\",VLOOKUP(I186,男子一覧表!$B$13:$E$78,3,FALSE))","v":""}]
["種目",null,null,null,"記録",null,null,"種目",null,null,null,"記録",null,null,null,null,"A"]
["所属",null,null,{"$f":"男子一覧表!$A$7","v":{"$error":"#REF!"}},null,null,null,"所属",null,null,{"$f":"男子一覧表!$A$7","v":{"$error":"#REF!"}},null,null,null,null,null,"B"]
[null,"ゼッケン",null,"氏　　名",null,null,"学年",null,"ゼッケン",null,"氏　　名",null,null,"学年",null,null,"C"]
[null,null,null,{"$f":"IF(B190=\"\",\"\",VLOOKUP(B190,男子一覧表!$B$13:$C$78,2,FALSE))","v":""},null,null,{"$f":"IF(B190=\"\",\"\",VLOOKUP(B190,男子一覧表!$B$13:$E$78,3,FALSE))","v":""},null,null,null,{"$f":"IF(I190=\"\",\"\",VLOOKUP(I190,男子一覧表!$B$13:$C$78,2,FALSE))","v":""},null,null,{"$f":"IF(I190=\"\",\"\",VLOOKUP(I190,男子一覧表!$B$13:$E$78,3,FALSE))","v":""},null,null,"D"]
[null,null,null,{"$f":"IF(B191=\"\",\"\",VLOOKUP(B191,男子一覧表!$B$13:$C$78,2,FALSE))","v":""},null,null,{"$f":"IF(B191=\"\",\"\",VLOOKUP(B191,男子一覧表!$B$13:$E$78,3,FALSE))","v":""},null,null,null,{"$f":"IF(I191=\"\",\"\",VLOOKUP(I191,男子一覧表!$B$13:$C$78,2,FALSE))","v":""},null,null,{"$f":"IF(I191=\"\",\"\",VLOOKUP(I191,男子一覧表!$B$13:$E$78,3,FALSE))","v":""},null,null,"E"]
[null,null,null,{"$f":"IF(B192=\"\",\"\",VLOOKUP(B192,男子一覧表!$B$13:$C$78,2,FALSE))","v":""},null,null,{"$f":"IF(B192=\"\",\"\",VLOOKUP(B192,男子一覧表!$B$13:$E$78,3,FALSE))","v":""},null,null,null,{"$f":"IF(I192=\"\",\"\",VLOOKUP(I192,男子一覧表!$B$13:$C$78,2,FALSE))","v":""},null,null,{"$f":"IF(I192=\"\",\"\",VLOOKUP(I192,男子一覧表!$B$13:$E$78,3,FALSE))","v":""}]
[null,null,null,{"$f":"IF(B193=\"\",\"\",VLOOKUP(B193,男子一覧表!$B$13:$C$78,2,FALSE))","v":""},null,null,{"$f":"IF(B193=\"\",\"\",VLOOKUP(B193,男子一覧表!$B$13:$E$78,3,FALSE))","v":""},null,null,null,{"$f":"IF(I193=\"\",\"\",VLOOKUP(I193,男子一覧表!$B$13:$C$78,2,FALSE))","v":""},null,null,{"$f":"IF(I193=\"\",\"\",VLOOKUP(I193,男子一覧表!$B$13:$E$78,3,FALSE))","v":""}]
[null,null,null,{"$f":"IF(B194=\"\",\"\",VLOOKUP(B194,男子一覧表!$B$13:$C$78,2,FALSE))","v":""},null,null,{"$f":"IF(B194=\"\",\"\",VLOOKUP(B194,男子一覧表!$B$13:$E$78,3,FALSE))","v":""},null,null,null,{"$f":"IF(I194=\"\",\"\",VLOOKUP(I194,男子一覧表!$B$13:$C$78,2,FALSE))","v":""},null,null,{"$f":"IF(I194=\"\",\"\",VLOOKUP(I194,男子一覧表!$B$13:$E$78,3,FALSE))","v":""}]
[null,null,null,{"$f":"IF(B195=\"\",\"\",VLOOKUP(B195,男子一覧表!$B$13:$C$78,2,FALSE))","v":""},null,null,{"$f":"IF(B195=\"\",\"\",VLOOKUP(B195,男子一覧表!$B$13:$E$78,3,FALSE))","v":""},null,null,null,{"$f":"IF(I195=\"\",\"\",VLOOKUP(I195,男子一覧表!$B$13:$C$78,2,FALSE))","v":""},null,null,{"$f":"IF(I195=\"\",\"\",VLOOKUP(I195,男子一覧表!$B$13:$E$78,3,FALSE))","v":""}]

{"sheet":"女子一覧表","index":21,"n_rows":81,"n_cols":29,"rows_kept":81,"cut":false,"hidden":false,"merged":[[58,3,58,4],[54,3,54,4],[53,3,53,4],[64,3,64,4],[56,3,56,4],[57,3,57,4],[59,3,59,4],[60,3,60,4],[62,3,62,4],[37,11,37,13],[39,12,39,13],[43,9,43,13],[50,1,51,1],[45,0,46,2],[52,3,52,4],[55,3,55,4],[78,11,78,13],[80,12,80,13],[76,3,76,4],[77,3,77,4],[74,3,74,4],[75,3,75,4],[68,3,68,4],[61,3,61,4],[73,3,73,4],[70,3,70,4],[69,3,69,4],[71,3,71,4],[67,3,67,4],[63,3,63,4],[72,3,72,4],[66,3,66,4],[65,3,65,4],[50,2,51,2],[50,3,51,4],[45,3,46,7],[47,0,48,2],[47,3,49,6],[49,0,49,2],[50,0,51,0],[47,7,49,7],[51,10,51,12],[50,6,51,6],[45,12,46,12],[50,8,50,12],[51,7,51,9],[50,5,51,5],[49,9,49,13],[47,9,47,11],[45,9,46,11],[45,13,46,13],[45,8,46,8],[48,9,48,13],[34,3,34,4],[35,3,35,4],[29,3,29,4],[44,0,44,2],[44,3,44,8],[33,3,33,4],[31,3,31,4],[43,0,43,1],[32,3,32,4],[30,3,30,4],[36,3,36,4],[42,0,42,1],[24,3,24,4],[26,3,26,4],[28,3,28,4],[25,3,25,4],[27,3,27,4],[9,1,10,1],[11,3,11,4],[14,3,14,4],[20,3,20,4],[19,3,19,4],[22,3,22,4],[23,3,23,4],[15,3,15,4],[13,3,13,4],[16,3,16,4],[17,3,17,4],[21,3,21,4],[18,3,18,4],[12,3,12,4],[9,8,9,12],[8,0,8,2],[9,0,10,0],[9,3,10,4],[9,6,10,6],[10,10,10,12],[9,5,10,5],[10,7,10,9],[6,3,8,6],[9,2,10,2],[6,0,7,2],[1,0,1,1],[3,0,3,2],[3,3,3,8],[4,0,5,2],[4,8,5,8],[2,0,2,1],[2,9,2,13],[4,3,5,7],[6,7,8,7],[4,13,5,13],[8,9,8,13],[6,9,6,11],[7,9,7,13],[4,9,5,11],[4,12,5,12]]}
[null,null,null,null,null,"陸上競技大会申込者一覧表",null,null,null,null,null,null,null,"様式④",null,null,null,null,null,null,null,null,null,null,null,null,"中学生"]
["様式④",null,null,null,null,null,null,null,null,null,null,"参加料",null,"円",null,null,null,null,null,null,null,null,null,null,null,null,"1年"]
["女子",null,null,null,null,null,null,null,"大会名",null,null,null,null,null,null,null,null,null,null,null,null,null,null,null,null,null,"2年"]
["※男子は別紙に記入願います。",null,null,null,null,null,null,null,null,null,null,null,null,null,null,null,null,null,null,null,null,null,null,null,null,null,"3年"]
["所属団体名",null,null,"所属長名・印",null,null,null,null,"監督名",{"$f":"#REF!","v":{"$error":"#REF!"}},null,null,"所属　　コード",{"$f":"#REF!","v":{"$error":"#REF!"}},null,null,null,null,null,null,null,null,null,null,null,null,"共通"]
[]
[{"$f":"#REF!","v":{"$error":"#REF!"}},null,null,null,null,null,null,"印","監督連絡",{"$f":"#REF!","v":{"$error":"#REF!"}},null,null,"FAX"]
[null,null,null,null,null,null,null,null,"携帯電話",{"$f":"J7","v":{"$error":"#REF!"}}]
["略称５文字以内で",null,null,null,null,null,null,null,"mailアドレス"]
[null,"NO","競技者名（漢字）","学年",null,"競技者名（カナ）","姓",null,"種目",null,null,null,null,"リレー",null,null,null,null,null,null,null,null,null,null,null,null,"100m",null,"400R　A"]
[null,null,null,null,null,null,null,"種目１",null,null,"種目２",null,null,null,null,null,null,null,null,null,null,null,null,null,null,null,"200m",null,"400R　B"]
["※","記入例","三重一子",3,null,"ﾐｴﾀﾛｳ","女","中学","100ｍ","記録","中学","80mH","記録","4×100R",null,null,null,null,null,null,null,null,null,null,null,null,"800m",null,"400R　C"]
[1,null,{"$f":"IF(B13=\"\",\"\",VLOOKUP(B13,#REF!,3,FALSE))","v":""},{"$f":"IF(B13=\"\",\"\",VLOOKUP(B13,#REF!,5,FALSE))","v":""},null,{"$f":"IF(B13=\"\",\"\",VLOOKUP(B13,#REF!,4,FALSE))","v":""},{"$f":"IF(B13=\"\",\"\",VLOOKUP(B13,#REF!,6,FALSE))","v":""},null,null,null,null,null,null,null,null,null,null,null,"60m","A",null,null,null,null,{"$f":"CONCATENATE(H13,I13)","v":""},{"$f":"CONCATENATE(K13,L13)","v":""},"1500m",null,"400R　D"]
[2,null,{"$f":"IF(B14=\"\",\"\",VLOOKUP(B14,#REF!,3,FALSE))","v":""},{"$f":"IF(B14=\"\",\"\",VLOOKUP(B14,#REF!,5,FALSE))","v":""},null,{"$f":"IF(B14=\"\",\"\",VLOOKUP(B14,#REF!,4,FALSE))","v":""},{"$f":"IF(B14=\"\",\"\",VLOOKUP(B14,#REF!,6,FALSE))","v":""},null,null,null,null,null,null,null,null,null,null,null,"100m","B",null,null,null,null,"","","2000m",null,"低学年　A"]
[3,null,{"$f":"IF(B15=\"\",\"\",VLOOKUP(B15,#REF!,3,FALSE))","v":""},{"$f":"IF(B15=\"\",\"\",VLOOKUP(B15,#REF!,5,FALSE))","v":""},null,{"$f":"IF(B15=\"\",\"\",VLOOKUP(B15,#REF!,4,FALSE))","v":""},{"$f":"IF(B15=\"\",\"\",VLOOKUP(B15,#REF!,6,FALSE))","v":""},null,null,null,null,null,null,null,null,null,null,null,"800m","C",null,null,null,null,"","","3000m",null,"低学年　B"]
[4,null,{"$f":"IF(B16=\"\",\"\",VLOOKUP(B16,#REF!,3,FALSE))","v":""},{"$f":"IF(B16=\"\",\"\",VLOOKUP(B16,#REF!,5,FALSE))","v":""},null,{"$f":"IF(B16=\"\",\"\",VLOOKUP(B16,#REF!,4,FALSE))","v":""},{"$f":"IF(B16=\"\",\"\",VLOOKUP(B16,#REF!,6,FALSE))","v":""},null,null,null,null,null,null,null,null,null,null,null,"1000m","D",null,null,null,null,"","","100mYH",null,"低学年　C"]
[5,null,{"$f":"IF(B17=\"\",\"\",VLOOKUP(B17,#REF!,3,FALSE))","v":""},{"$f":"IF(B17=\"\",\"\",VLOOKUP(B17,#REF!,5,FALSE))","v":""},null,{"$f":"IF(B17=\"\",\"\",VLOOKUP(B17,#REF!,4,FALSE))","v":""},{"$f":"IF(B17=\"\",\"\",VLOOKUP(B17,#REF!,6,FALSE))","v":""},null,null,null,null,null,null,null,null,null,null,null,"1500m","E",null,null,null,null,"","","100mJH",null,"低学年　D"]
[6,null,{"$f":"IF(B18=\"\",\"\",VLOOKUP(B18,#REF!,3,FALSE))","v":""},{"$f":"IF(B18=\"\",\"\",VLOOKUP(B18,#REF!,5,FALSE))","v":""},null,{"$f":"IF(B18=\"\",\"\",VLOOKUP(B18,#REF!,4,FALSE))","v":""},{"$f":"IF(B18=\"\",\"\",VLOOKUP(B18,#REF!,6,FALSE))","v":""},null,null,null,null,null,null,null,null,null,null,null,"80mH","混成A",null,null,null,null,"","","100mH"]
[7,null,{"$f":"IF(B19=\"\",\"\",VLOOKUP(B19,#REF!,3,FALSE))","v":""},{"$f":"IF(B19=\"\",\"\",VLOOKUP(B19,#REF!,5,FALSE))","v":""},null,{"$f":"IF(B19=\"\",\"\",VLOOKUP(B19,#REF!,4,FALSE))","v":""},{"$f":"IF(B19=\"\",\"\",VLOOKUP(B19,#REF!,6,FALSE))","v":""},null,null,null,null,null,null,null,null,null,null,null,"走高跳","混成B",null,null,null,null,"","","走高跳"]
[8,null,{"$f":"IF(B20=\"\",\"\",VLOOKUP(B20,#REF!,3,FALSE))","v":""},{"$f":"IF(B20=\"\",\"\",VLOOKUP(B20,#REF!,5,FALSE))","v":""},null,{"$f":"IF(B20=\"\",\"\",VLOOKUP(B20,#REF!,4,FALSE))","v":""},{"$f":"IF(B20=\"\",\"\",VLOOKUP(B20,#REF!,6,FALSE))","v":""},null,null,null,null,null,null,null,null,null,null,null,"走幅跳","混成C",null,null,null,null,"","","棒高跳"]
[9,null,{"$f":"IF(B21=\"\",\"\",VLOOKUP(B21,#REF!,3,FALSE))","v":""},{"$f":"IF(B21=\"\",\"\",VLOOKUP(B21,#REF!,5,FALSE))","v":""},null,{"$f":"IF(B21=\"\",\"\",VLOOKUP(B21,#REF!,4,FALSE))","v":""},{"$f":"IF(B21=\"\",\"\",VLOOKUP(B21,#REF!,6,FALSE))","v":""},null,null,null,null,null,null,null,null,null,null,null,"ボール投","混成D",null,null,null,null,"","","走幅跳"]
[10,null,{"$f":"IF(B22=\"\",\"\",VLOOKUP(B22,#REF!,3,FALSE))","v":""},{"$f":"IF(B22=\"\",\"\",VLOOKUP(B22,#REF!,5,FALSE))","v":""},null,{"$f":"IF(B22=\"\",\"\",VLOOKUP(B22,#REF!,4,FALSE))","v":""},{"$f":"IF(B22=\"\",\"\",VLOOKUP(B22,#REF!,6,FALSE))","v":""},null,null,null,null,null,null,null,null,null,null,null,null,"混成E",null,null,null,null,"","","三段跳"]
[11,null,{"$f":"IF(B23=\"\",\"\",VLOOKUP(B23,#REF!,3,FALSE))","v":""},{"$f":"IF(B23=\"\",\"\",VLOOKUP(B23,#REF!,5,FALSE))","v":""},null,{"$f":"IF(B23=\"\",\"\",VLOOKUP(B23,#REF!,4,FALSE))","v":""},{"$f":"IF(B23=\"\",\"\",VLOOKUP(B23,#REF!,6,FALSE))","v":""},null,null,null,null,null,null,null,null,null,null,null,null,null,null,null,null,null,"","","砲丸投"]
[12,null,{"$f":"IF(B24=\"\",\"\",VLOOKUP(B24,#REF!,3,FALSE))","v":""},{"$f":"IF(B24=\"\",\"\",VLOOKUP(B24,#REF!,5,FALSE))","v":""},null,{"$f":"IF(B24=\"\",\"\",VLOOKUP(B24,#REF!,4,FALSE))","v":""},{"$f":"IF(B24=\"\",\"\",VLOOKUP(B24,#REF!,6,FALSE))","v":""},null,null,null,null,null,null,null,null,null,null,null,null,null,null,null,null,null,"","","円盤投"]
[13,null,{"$f":"IF(B25=\"\",\"\",VLOOKUP(B25,#REF!,3,FALSE))","v":""},{"$f":"IF(B25=\"\",\"\",VLOOKUP(B25,#REF!,5,FALSE))","v":""},null,{"$f":"IF(B25=\"\",\"\",VLOOKUP(B25,#REF!,4,FALSE))","v":""},{"$f":"IF(B25=\"\",\"\",VLOOKUP(B25,#REF!,6,FALSE))","v":""},null,null,null,null,null,null,null,null,null,null,null,null,null,null,null,null,null,"","","ｼﾞｬﾍﾞﾘｯｸ"]
[14,null,{"$f":"IF(B26=\"\",\"\",VLOOKUP(B26,#REF!,3,FALSE))","v":""},{"$f":"IF(B26=\"\",\"\",VLOOKUP(B26,#REF!,5,FALSE))","v":""},null,{"$f":"IF(B26=\"\",\"\",VLOOKUP(B26,#REF!,4,FALSE))","v":""},{"$f":"IF(B26=\"\",\"\",VLOOKUP(B26,#REF!,6,FALSE))","v":""},null,null,null,null,null,null,null,null,null,null,null,null,null,null,null,null,null,"","","4種競技"]
[15,null,{"$f":"IF(B27=\"\",\"\",VLOOKUP(B27,#REF!,3,FALSE))","v":""},{"$f":"IF(B27=\"\",\"\",VLOOKUP(B27,#REF!,5,FALSE))","v":""},null,{"$f":"IF(B27=\"\",\"\",VLOOKUP(B27,#REF!,4,FALSE))","v":""},{"$f":"IF(B27=\"\",\"\",VLOOKUP(B27,#REF!,6,FALSE))","v":""},null,null,null,null,null,null,null,null,null,null,null,null,null,null,null,null,null,"",""]
[16,null,{"$f":"IF(B28=\"\",\"\",VLOOKUP(B28,#REF!,3,FALSE))","v":""},{"$f":"IF(B28=\"\",\"\",VLOOKUP(B28,#REF!,5,FALSE))","v":""},null,{"$f":"IF(B28=\"\",\"\",VLOOKUP(B28,#REF!,4,FALSE))","v":""},{"$f":"IF(B28=\"\",\"\",VLOOKUP(B28,#REF!,6,FALSE))","v":""},null,null,null,null,null,null,null,null,null,null,null,null,null,null,null,null,null,"",""]
[17,null,{"$f":"IF(B29=\"\",\"\",VLOOKUP(B29,#REF!,3,FALSE))","v":""},{"$f":"IF(B29=\"\",\"\",VLOOKUP(B29,#REF!,5,FALSE))","v":""},null,{"$f":"IF(B29=\"\",\"\",VLOOKUP(B29,#REF!,4,FALSE))","v":""},{"$f":"IF(B29=\"\",\"\",VLOOKUP(B29,#REF!,6,FALSE))","v":""},null,null,null,null,null,null,null,null,null,null,null,null,null,null,null,null,null,"",""]
[18,null,{"$f":"IF(B30=\"\",\"\",VLOOKUP(B30,#REF!,3,FALSE))","v":""},{"$f":"IF(B30=\"\",\"\",VLOOKUP(B30,#REF!,5,FALSE))","v":""},null,{"$f":"IF(B30=\"\",\"\",VLOOKUP(B30,#REF!,4,FALSE))","v":""},{"$f":"IF(B30=\"\",\"\",VLOOKUP(B30,#REF!,6,FALSE))","v":""},null,null,null,null,null,null,null,null,null,null,null,null,null,null,null,null,null,"",""]
[19,null,{"$f":"IF(B31=\"\",\"\",VLOOKUP(B31,#REF!,3,FALSE))","v":""},{"$f":"IF(B31=\"\",\"\",VLOOKUP(B31,#REF!,5,FALSE))","v":""},null,{"$f":"IF(B31=\"\",\"\",VLOOKUP(B31,#REF!,4,FALSE))","v":""},{"$f":"IF(B31=\"\",\"\",VLOOKUP(B31,#REF!,6,FALSE))","v":""},null,null,null,null,null,null,null,null,null,null,null,null,null,null,null,null,null,"",""]
[20,null,{"$f":"IF(B32=\"\",\"\",VLOOKUP(B32,#REF!,3,FALSE))","v":""},{"$f":"IF(B32=\"\",\"\",VLOOKUP(B32,#REF!,5,FALSE))","v":""},null,{"$f":"IF(B32=\"\",\"\",VLOOKUP(B32,#REF!,4,FALSE))","v":""},{"$f":"IF(B32=\"\",\"\",VLOOKUP(B32,#REF!,6,FALSE))","v":""},null,null,null,null,null,null,null,null,null,null,null,null,null,null,null,null,null,"",""]
[21,null,{"$f":"IF(B33=\"\",\"\",VLOOKUP(B33,#REF!,3,FALSE))","v":""},{"$f":"IF(B33=\"\",\"\",VLOOKUP(B33,#REF!,5,FALSE))","v":""},null,{"$f":"IF(B33=\"\",\"\",VLOOKUP(B33,#REF!,4,FALSE))","v":""},{"$f":"IF(B33=\"\",\"\",VLOOKUP(B33,#REF!,6,FALSE))","v":""},null,null,null,null,null,null,null,null,null,null,null,null,null,null,null,null,null,"",""]
[22,null,{"$f":"IF(B34=\"\",\"\",VLOOKUP(B34,#REF!,3,FALSE))","v":""},{"$f":"IF(B34=\"\",\"\",VLOOKUP(B34,#REF!,5,FALSE))","v":""},null,{"$f":"IF(B34=\"\",\"\",VLOOKUP(B34,#REF!,4,FALSE))","v":""},{"$f":"IF(B34=\"\",\"\",VLOOKUP(B34,#REF!,6,FALSE))","v":""},null,null,null,null,null,null,null,null,null,null,null,null,null,null,null,null,null,"",""]
[23,null,{"$f":"IF(B35=\"\",\"\",VLOOKUP(B35,#REF!,3,FALSE))","v":""},{"$f":"IF(B35=\"\",\"\",VLOOKUP(B35,#REF!,5,FALSE))","v":""},null,{"$f":"IF(B35=\"\",\"\",VLOOKUP(B35,#REF!,4,FALSE))","v":""},{"$f":"IF(B35=\"\",\"\",VLOOKUP(B35,#REF!,6,FALSE))","v":""},null,null,null,null,null,null,null,null,null,null,null,null,null,null,null,null,null,"",""]
[24,null,{"$f":"IF(B36=\"\",\"\",VLOOKUP(B36,#REF!,3,FALSE))","v":""},{"$f":"IF(B36=\"\",\"\",VLOOKUP(B36,#REF!,5,FALSE))","v":""},null,{"$f":"IF(B36=\"\",\"\",VLOOKUP(B36,#REF!,4,FALSE))","v":""},{"$f":"IF(B36=\"\",\"\",VLOOKUP(B36,#REF!,6,FALSE))","v":""},null,null,null,null,null,null,null,null,null,null,null,null,null,null,null,null,null,"",""]
[25,null,{"$f":"IF(B37=\"\",\"\",VLOOKUP(B37,#REF!,3,FALSE))","v":""},{"$f":"IF(B37=\"\",\"\",VLOOKUP(B37,#REF!,5,FALSE))","v":""},null,{"$f":"IF(B37=\"\",\"\",VLOOKUP(B37,#REF!,4,FALSE))","v":""},{"$f":"IF(B37=\"\",\"\",VLOOKUP(B37,#REF!,6,FALSE))","v":""},null,null,null,null,null,null,null,null,null,null,null,null,null,null,null,null,null,"",""]
[null,null,null,null,null,null,null,null,null,null,null,"公認記録がない場合は記入しない"]
[]
[null,null,null,null,null,null,null,null,null,null,null,null,"三重陸上競技協会"]
[null,null,null,null,null,null,null,null,null,null,null,{"$f":"(O38+P38+Q38)*1000+(O40+P40)*2000","v":0}]
[null,null,null,null,null,"陸上競技大会申込者一覧表",null,null,null,null,null,null,null,"様式④"]
["様式④",null,null,null,null,null,null,null,null,null,null,"参加料",null,"円"]
["女子",null,null,null,null,null,null,null,"大会名"]
["※男子は別紙に記入願います。"]
["所属団体名",null,null,"所属長名・印",null,null,null,null,"監督名",{"$f":"#REF!","v":{"$error":"#REF!"}},null,null,"所属　　コード",{"$f":"#REF!","v":{"$error":"#REF!"}}]
[]
[{"$f":"#REF!","v":{"$error":"#REF!"}},null,null,null,null,null,null,"印","監督連絡",{"$f":"#REF!","v":{"$error":"#REF!"}},null,null,"FAX"]
[null,null,null,null,null,null,null,null,"携帯電話",{"$f":"J48","v":{"$error":"#REF!"}}]
["略称５文字以内で",null,null,null,null,null,null,null,"mailアドレス"]
[null,"NO","競技者名（漢字）","学年",null,"競技者名（カナ）","姓",null,"種目",null,null,null,null,"リレー"]
[null,null,null,null,null,null,null,"種目１",null,null,"種目２"]
["※","記入例","三重一子",3,null,"ﾐｴﾀﾛｳ","女","中学","100ｍ","記録","中学","80mH","記録","4×100R"]
[26,null,{"$f":"IF(B54=\"\",\"\",VLOOKUP(B54,#REF!,3,FALSE))","v":""},{"$f":"IF(B54=\"\",\"\",VLOOKUP(B54,#REF!,5,FALSE))","v":""},null,{"$f":"IF(B54=\"\",\"\",VLOOKUP(B54,#REF!,4,FALSE))","v":""},{"$f":"IF(B54=\"\",\"\",VLOOKUP(B54,#REF!,6,FALSE))","v":""},null,null,null,null,null,null,null,null,null,null,null,"60m","A",null,null,null,null,{"$f":"CONCATENATE(H54,I54)","v":""},{"$f":"CONCATENATE(K54,L54)","v":""}]
[27,null,{"$f":"IF(B55=\"\",\"\",VLOOKUP(B55,#REF!,3,FALSE))","v":""},{"$f":"IF(B55=\"\",\"\",VLOOKUP(B55,#REF!,5,FALSE))","v":""},null,{"$f":"IF(B55=\"\",\"\",VLOOKUP(B55,#REF!,4,FALSE))","v":""},{"$f":"IF(B55=\"\",\"\",VLOOKUP(B55,#REF!,6,FALSE))","v":""},null,null,null,null,null,null,null,null,null,null,null,"100m","B",null,null,null,null,"",""]
[28,null,{"$f":"IF(B56=\"\",\"\",VLOOKUP(B56,#REF!,3,FALSE))","v":""},{"$f":"IF(B56=\"\",\"\",VLOOKUP(B56,#REF!,5,FALSE))","v":""},null,{"$f":"IF(B56=\"\",\"\",VLOOKUP(B56,#REF!,4,FALSE))","v":""},{"$f":"IF(B56=\"\",\"\",VLOOKUP(B56,#REF!,6,FALSE))","v":""},null,null,null,null,null,null,null,null,null,null,null,"800m","C",null,null,null,null,"",""]
[29,null,{"$f":"IF(B57=\"\",\"\",VLOOKUP(B57,#REF!,3,FALSE))","v":""},{"$f":"IF(B57=\"\",\"\",VLOOKUP(B57,#REF!,5,FALSE))","v":""},null,{"$f":"IF(B57=\"\",\"\",VLOOKUP(B57,#REF!,4,FALSE))","v":""},{"$f":"IF(B57=\"\",\"\",VLOOKUP(B57,#REF!,6,FALSE))","v":""},null,null,null,null,null,null,null,null,null,null,null,"1000m","D",null,null,null,null,"",""]
[30,null,{"$f":"IF(B58=\"\",\"\",VLOOKUP(B58,#REF!,3,FALSE))","v":""},{"$f":"IF(B58=\"\",\"\",VLOOKUP(B58,#REF!,5,FALSE))","v":""},null,{"$f":"IF(B58=\"\",\"\",VLOOKUP(B58,#REF!,4,FALSE))","v":""},{"$f":"IF(B58=\"\",\"\",VLOOKUP(B58,#REF!,6,FALSE))","v":""},null,null,null,null,null,null,null,null,null,null,null,"80mH","E",null,null,null,null,"",""]
[31,null,{"$f":"IF(B59=\"\",\"\",VLOOKUP(B59,#REF!,3,FALSE))","v":""},{"$f":"IF(B59=\"\",\"\",VLOOKUP(B59,#REF!,5,FALSE))","v":""},null,{"$f":"IF(B59=\"\",\"\",VLOOKUP(B59,#REF!,4,FALSE))","v":""},{"$f":"IF(B59=\"\",\"\",VLOOKUP(B59,#REF!,6,FALSE))","v":""},null,null,null,null,null,null,null,null,null,null,null,"走高跳","混成A",null,null,null,null,"",""]
[32,null,{"$f":"IF(B60=\"\",\"\",VLOOKUP(B60,#REF!,3,FALSE))","v":""},{"$f":"IF(B60=\"\",\"\",VLOOKUP(B60,#REF!,5,FALSE))","v":""},null,{"$f":"IF(B60=\"\",\"\",VLOOKUP(B60,#REF!,4,FALSE))","v":""},{"$f":"IF(B60=\"\",\"\",VLOOKUP(B60,#REF!,6,FALSE))","v":""},null,null,null,null,null,null,null,null,null,null,null,"走幅跳","混成B",null,null,null,null,"",""]
[33,null,{"$f":"IF(B61=\"\",\"\",VLOOKUP(B61,#REF!,3,FALSE))","v":""},{"$f":"IF(B61=\"\",\"\",VLOOKUP(B61,#REF!,5,FALSE))","v":""},null,{"$f":"IF(B61=\"\",\"\",VLOOKUP(B61,#REF!,4,FALSE))","v":""},{"$f":"IF(B61=\"\",\"\",VLOOKUP(B61,#REF!,6,FALSE))","v":""},null,null,null,null,null,null,null,null,null,null,null,"ボール投","混成C",null,null,null,null,"",""]
[34,null,{"$f":"IF(B62=\"\",\"\",VLOOKUP(B62,#REF!,3,FALSE))","v":""},{"$f":"IF(B62=\"\",\"\",VLOOKUP(B62,#REF!,5,FALSE))","v":""},null,{"$f":"IF(B62=\"\",\"\",VLOOKUP(B62,#REF!,4,FALSE))","v":""},{"$f":"IF(B62=\"\",\"\",VLOOKUP(B62,#REF!,6,FALSE))","v":""},null,null,null,null,null,null,null,null,null,null,null,null,"混成D",null,null,null,null,"",""]
[35,null,{"$f":"IF(B63=\"\",\"\",VLOOKUP(B63,#REF!,3,FALSE))","v":""},{"$f":"IF(B63=\"\",\"\",VLOOKUP(B63,#REF!,5,FALSE))","v":""},null,{"$f":"IF(B63=\"\",\"\",VLOOKUP(B63,#REF!,4,FALSE))","v":""},{"$f":"IF(B63=\"\",\"\",VLOOKUP(B63,#REF!,6,FALSE))","v":""},null,null,null,null,null,null,null,null,null,null,null,null,"混成E",null,null,null,null,"",""]
[36,null,{"$f":"IF(B64=\"\",\"\",VLOOKUP(B64,#REF!,3,FALSE))","v":""},{"$f":"IF(B64=\"\",\"\",VLOOKUP(B64,#REF!,5,FALSE))","v":""},null,{"$f":"IF(B64=\"\",\"\",VLOOKUP(B64,#REF!,4,FALSE))","v":""},{"$f":"IF(B64=\"\",\"\",VLOOKUP(B64,#REF!,6,FALSE))","v":""},null,null,null,null,null,null,null,null,null,null,null,null,null,null,null,null,null,"",""]
[37,null,{"$f":"IF(B65=\"\",\"\",VLOOKUP(B65,#REF!,3,FALSE))","v":""},{"$f":"IF(B65=\"\",\"\",VLOOKUP(B65,#REF!,5,FALSE))","v":""},null,{"$f":"IF(B65=\"\",\"\",VLOOKUP(B65,#REF!,4,FALSE))","v":""},{"$f":"IF(B65=\"\",\"\",VLOOKUP(B65,#REF!,6,FALSE))","v":""},null,null,null,null,null,null,null,null,null,null,null,null,null,null,null,null,null,"",""]
[38,null,{"$f":"IF(B66=\"\",\"\",VLOOKUP(B66,#REF!,3,FALSE))","v":""},{"$f":"IF(B66=\"\",\"\",VLOOKUP(B66,#REF!,5,FALSE))","v":""},null,{"$f":"IF(B66=\"\",\"\",VLOOKUP(B66,#REF!,4,FALSE))","v":""},{"$f":"IF(B66=\"\",\"\",VLOOKUP(B66,#REF!,6,FALSE))","v":""},null,null,null,null,null,null,null,null,null,null,null,null,null,null,null,null,null,"",""]
[39,null,{"$f":"IF(B67=\"\",\"\",VLOOKUP(B67,#REF!,3,FALSE))","v":""},{"$f":"IF(B67=\"\",\"\",VLOOKUP(B67,#REF!,5,FALSE))","v":""},null,{"$f":"IF(B67=\"\",\"\",VLOOKUP(B67,#REF!,4,FALSE))","v":""},{"$f":"IF(B67=\"\",\"\",VLOOKUP(B67,#REF!,6,FALSE))","v":""},null,null,null,null,null,null,null,null,null,null,null,null,null,null,null,null,null,"",""]
[40,null,{"$f":"IF(B68=\"\",\"\",VLOOKUP(B68,#REF!,3,FALSE))","v":""},{"$f":"IF(B68=\"\",\"\",VLOOKUP(B68,#REF!,5,FALSE))","v":""},null,{"$f":"IF(B68=\"\",\"\",VLOOKUP(B68,#REF!,4,FALSE))","v":""},{"$f":"IF(B68=\"\",\"\",VLOOKUP(B68,#REF!,6,FALSE))","v":""},null,null,null,null,null,null,null,null,null,null,null,null,null,null,null,null,null,"",""]
[41,null,{"$f":"IF(B69=\"\",\"\",VLOOKUP(B69,#REF!,3,FALSE))","v":""},{"$f":"IF(B69=\"\",\"\",VLOOKUP(B69,#REF!,5,FALSE))","v":""},null,{"$f":"IF(B69=\"\",\"\",VLOOKUP(B69,#REF!,4,FALSE))","v":""},{"$f":"IF(B69=\"\",\"\",VLOOKUP(B69,#REF!,6,FALSE))","v":""},null,null,null,null,null,null,null,null,null,null,null,null,null,null,null,null,null,"",""]
[42,null,{"$f":"IF(B70=\"\",\"\",VLOOKUP(B70,#REF!,3,FALSE))","v":""},{"$f":"IF(B70=\"\",\"\",VLOOKUP(B70,#REF!,5,FALSE))","v":""},null,{"$f":"IF(B70=\"\",\"\",VLOOKUP(B70,#REF!,4,FALSE))","v":""},{"$f":"IF(B70=\"\",\"\",VLOOKUP(B70,#REF!,6,FALSE))","v":""},null,null,null,null,null,null,null,null,null,null,null,null,null,null,null,null,null,"",""]
[43,null,{"$f":"IF(B71=\"\",\"\",VLOOKUP(B71,#REF!,3,FALSE))","v":""},{"$f":"IF(B71=\"\",\"\",VLOOKUP(B71,#REF!,5,FALSE))","v":""},null,{"$f":"IF(B71=\"\",\"\",VLOOKUP(B71,#REF!,4,FALSE))","v":""},{"$f":"IF(B71=\"\",\"\",VLOOKUP(B71,#REF!,6,FALSE))","v":""},null,null,null,null,null,null,null,null,null,null,null,null,null,null,null,null,null,"",""]
[44,null,{"$f":"IF(B72=\"\",\"\",VLOOKUP(B72,#REF!,3,FALSE))","v":""},{"$f":"IF(B72=\"\",\"\",VLOOKUP(B72,#REF!,5,FALSE))","v":""},null,{"$f":"IF(B72=\"\",\"\",VLOOKUP(B72,#REF!,4,FALSE))","v":""},{"$f":"IF(B72=\"\",\"\",VLOOKUP(B72,#REF!,6,FALSE))","v":""},null,null,null,null,null,null,null,null,null,null,null,null,null,null,null,null,null,"",""]
[45,null,{"$f":"IF(B73=\"\",\"\",VLOOKUP(B73,#REF!,3,FALSE))","v":""},{"$f":"IF(B73=\"\",\"\",VLOOKUP(B73,#REF!,5,FALSE))","v":""},null,{"$f":"IF(B73=\"\",\"\",VLOOKUP(B73,#REF!,4,FALSE))","v":""},{"$f":"IF(B73=\"\",\"\",VLOOKUP(B73,#REF!,6,FALSE))","v":""},null,null,null,null,null,null,null,null,null,null,null,null,null,null,null,null,null,"",""]
[46,null,{"$f":"IF(B74=\"\",\"\",VLOOKUP(B74,#REF!,3,FALSE))","v":""},{"$f":"IF(B74=\"\",\"\",VLOOKUP(B74,#REF!,5,FALSE))","v":""},null,{"$f":"IF(B74=\"\",\"\",VLOOKUP(B74,#REF!,4,FALSE))","v":""},{"$f":"IF(B74=\"\",\"\",VLOOKUP(B74,#REF!,6,FALSE))","v":""},null,null,null,null,null,null,null,null,null,null,null,null,null,null,null,null,null,"",""]
[47,null,{"$f":"IF(B75=\"\",\"\",VLOOKUP(B75,#REF!,3,FALSE))","v":""},{"$f":"IF(B75=\"\",\"\",VLOOKUP(B75,#REF!,5,FALSE))","v":""},null,{"$f":"IF(B75=\"\",\"\",VLOOKUP(B75,#REF!,4,FALSE))","v":""},{"$f":"IF(B75=\"\",\"\",VLOOKUP(B75,#REF!,6,FALSE))","v":""},null,null,null,null,null,null,null,null,null,null,null,null,null,null,null,null,null,"",""]
[48,null,{"$f":"IF(B76=\"\",\"\",VLOOKUP(B76,#REF!,3,FALSE))","v":""},{"$f":"IF(B76=\"\",\"\",VLOOKUP(B76,#REF!,5,FALSE))","v":""},null,{"$f":"IF(B76=\"\",\"\",VLOOKUP(B76,#REF!,4,FALSE))","v":""},{"$f":"IF(B76=\"\",\"\",VLOOKUP(B76,#REF!,6,FALSE))","v":""},null,null,null,null,null,null,null,null,null,null,null,null,null,null,null,null,null,"",""]
[49,null,{"$f":"IF(B77=\"\",\"\",VLOOKUP(B77,#REF!,3,FALSE))","v":""},{"$f":"IF(B77=\"\",\"\",VLOOKUP(B77,#REF!,5,FALSE))","v":""},null,{"$f":"IF(B77=\"\",\"\",VLOOKUP(B77,#REF!,4,FALSE))","v":""},{"$f":"IF(B77=\"\",\"\",VLOOKUP(B77,#REF!,6,FALSE))","v":""},null,null,null,null,null,null,null,null,null,null,null,null,null,null,null,null,null,"",""]
[50,null,{"$f":"IF(B78=\"\",\"\",VLOOKUP(B78,#REF!,3,FALSE))","v":""},{"$f":"IF(B78=\"\",\"\",VLOOKUP(B78,#REF!,5,FALSE))","v":""},null,{"$f":"IF(B78=\"\",\"\",VLOOKUP(B78,#REF!,4,FALSE))","v":""},{"$f":"IF(B78=\"\",\"\",VLOOKUP(B78,#REF!,6,FALSE))","v":""},null,null,null,null,null,null,null,null,null,null,null,null,null,null,null,null,null,"",""]
[null,null,null,null,null,null,null,null,null,null,null,"公認記録がない場合は記入しない"]
[]
[null,null,null,null,null,null,null,null,null,null,null,null,"三重陸上競技協会"]

{"sheet":"女子個票","index":22,"n_rows":195,"n_cols":24,"rows_kept":195,"cut":false,"hidden":false,"merged":[[171,8,171,9],[173,8,173,9],[174,10,174,12],[175,10,175,12],[173,10,173,12],[172,10,172,12],[182,1,182,2],[183,3,183,5],[177,0,177,1],[181,8,181,9],[181,1,181,2],[177,9,177,10],[178,0,178,2],[179,0,185,0],[182,3,182,5],[177,5,177,6],[178,3,178,5],[179,1,179,2],[180,1,180,2],[179,10,179,12],[180,10,180,12],[178,10,178,12],[177,7,177,8],[177,12,177,13],[170,7,176,7],[173,3,173,5],[174,1,174,2],[174,3,174,5],[171,1,171,2],[175,1,175,2],[172,1,172,2],[173,1,173,2],[171,3,171,5],[184,1,184,2],[180,8,180,9],[179,8,179,9],[185,8,185,9],[185,10,185,12],[182,8,182,9],[181,10,181,12],[178,7,178,9],[184,3,184,5],[180,3,180,5],[179,7,185,7],[181,3,181,5],[184,8,184,9],[185,1,185,2],[185,3,185,5],[182,10,182,12],[183,8,183,9],[183,10,183,12],[184,10,184,12],[177,2,177,3],[183,1,183,2],[179,3,179,5],[168,7,168,8],[163,3,163,5],[169,7,169,9],[166,3,166,5],[168,9,168,10],[168,2,168,3],[168,5,168,6],[169,0,169,2],[169,3,169,5],[167,10,167,12],[166,8,166,9],[166,10,166,12],[163,8,163,9],[163,10,163,12],[176,1,176,2],[174,8,174,9],[176,8,176,9],[175,8,175,9],[175,3,175,5],[176,3,176,5],[176,10,176,12],[162,3,162,5],[164,3,164,5],[170,0,176,0],[169,10,169,12],[170,1,170,2],[170,3,170,5],[167,1,167,2],[167,3,167,5],[166,1,166,2],[170,8,170,9],[161,0,167,0],[162,8,162,9],[168,12,168,13],[164,10,164,12],[165,10,165,12],[162,10,162,12],[163,1,163,2],[167,8,167,9],[165,3,165,5],[170,10,170,12],[171,10,171,12],[165,8,165,9],[165,1,165,2],[172,8,172,9],[160,0,160,2],[152,1,152,2],[164,1,164,2],[161,8,161,9],[162,1,162,2],[161,1,161,2],[161,3,161,5],[152,3,152,4],[152,10,152,11],[152,8,152,9],[161,10,161,12],[157,0,157,13],[154,8,154,9],[154,10,154,11],[153,7,153,8],[153,9,153,10],[153,5,153,6],[154,3,154,4],[154,1,154,2],[159,0,159,1],[159,2,159,3],[159,5,159,6],[160,3,160,5],[161,7,167,7],[151,1,151,2],[151,3,151,4],[151,8,151,9],[151,10,151,11],[150,5,150,6],[150,0,150,1],[150,2,150,3],[150,9,150,10],[155,1,155,2],[155,3,155,4],[153,0,153,1],[153,2,153,3],[155,10,155,11],[148,1,148,2],[148,3,148,4],[148,8,148,9],[148,10,148,11],[147,0,147,1],[149,8,149,9],[145,10,145,11],[146,8,146,9],[149,1,149,2],[149,3,149,4],[147,9,147,10],[145,1,145,2],[145,3,145,4],[145,8,145,9],[149,10,149,11],[143,1,143,2],[143,3,143,4],[144,12,144,13],[144,7,144,8],[144,9,144,10],[144,2,144,3],[144,0,144,1],[144,5,144,6],[147,12,147,13],[146,1,146,2],[146,3,146,4],[147,2,147,3],[147,5,147,6],[147,7,147,8],[146,10,146,11],[140,1,140,2],[140,3,140,4],[141,5,141,6],[141,0,141,1],[141,2,141,3],[140,8,140,9],[140,10,140,11],[142,1,142,2],[142,3,142,4],[142,8,142,9],[142,10,142,11],[139,1,139,2],[139,3,139,4],[139,8,139,9],[139,10,139,11],[134,1,134,2],[133,1,133,2],[133,3,133,4],[133,8,133,9],[138,12,138,13],[137,1,137,2],[137,3,137,4],[138,2,138,3],[138,5,138,6],[135,0,135,1],[135,2,135,3],[135,5,135,6],[137,8,137,9],[137,10,137,11],[138,9,138,10],[138,0,138,1],[138,7,138,8],[136,10,136,11],[136,1,136,2],[135,12,135,13],[132,5,132,6],[132,0,132,1],[132,2,132,3],[132,7,132,8],[133,10,133,11],[136,8,136,9],[132,9,132,10],[134,3,134,4],[134,10,134,11],[134,8,134,9],[136,3,136,4],[135,7,135,8],[135,9,135,10],[131,1,131,2],[131,3,131,4],[128,8,128,9],[129,12,129,13],[128,1,128,2],[126,12,126,13],[126,7,126,8],[130,1,130,2],[130,3,130,4],[130,8,130,9],[130,10,130,11],[131,8,131,9],[131,10,131,11],[128,10,128,11],[129,9,129,10],[129,0,129,1],[126,0,126,1],[126,2,126,3],[126,5,126,6],[129,2,129,3],[129,5,129,6],[128,3,128,4],[129,7,129,8],[123,5,123,6],[123,0,123,1],[123,2,123,3],[123,7,123,8],[124,3,124,4],[124,8,124,9],[124,10,124,11],[127,8,127,9],[123,9,123,10],[125,3,125,4],[125,10,125,11],[125,8,125,9],[124,1,124,2],[127,10,127,11],[126,9,126,10],[125,1,125,2],[121,1,121,2],[121,3,121,4],[121,8,121,9],[121,10,121,11],[122,8,122,9],[122,10,122,11],[127,1,127,2],[127,3,127,4],[117,12,117,13],[117,7,117,8],[117,9,117,10],[118,10,118,11],[123,12,123,13],[122,1,122,2],[122,3,122,4],[119,8,119,9],[120,12,120,13],[119,1,119,2],[120,9,120,10],[120,0,120,1],[119,10,119,11],[117,0,117,1],[117,2,117,3],[117,5,117,6],[118,1,118,2],[118,3,118,4],[118,8,118,9],[111,5,111,6],[111,7,111,8],[115,1,115,2],[116,1,116,2],[116,3,116,4],[115,3,115,4],[115,8,115,9],[113,1,113,2],[113,3,113,4],[114,5,114,6],[114,0,114,1],[114,2,114,3],[113,8,113,9],[114,7,114,8],[108,12,108,13],[108,7,108,8],[108,9,108,10],[112,1,112,2],[112,3,112,4],[112,8,112,9],[112,10,112,11],[110,8,110,9],[111,12,111,13],[110,1,110,2],[109,10,109,11],[108,0,108,1],[108,2,108,3],[108,5,108,6],[109,1,109,2],[101,10,101,11],[107,8,107,9],[103,10,103,11],[102,7,102,8],[102,9,102,10],[103,8,103,9],[106,8,106,9],[106,10,106,11],[107,10,107,11],[101,8,101,9],[102,12,102,13],[105,12,105,13],[105,7,105,8],[105,5,105,6],[105,9,105,10],[102,2,102,3],[102,5,102,6],[104,8,104,9],[104,10,104,11],[103,1,103,2],[103,3,103,4],[105,0,105,1],[105,2,105,3],[104,1,104,2],[104,3,104,4],[102,0,102,1],[96,12,96,13],[96,7,96,8],[99,12,99,13],[100,10,100,11],[100,8,100,9],[96,9,96,10],[99,9,99,10],[97,10,97,11],[97,8,97,9],[98,10,98,11],[98,8,98,9],[99,7,99,8],[93,12,93,13],[92,1,92,2],[92,3,92,4],[92,8,92,9],[92,10,92,11],[90,12,90,13],[91,1,91,2],[91,3,91,4],[91,8,91,9],[90,2,90,3],[90,5,90,6],[93,2,93,3],[93,5,93,6],[90,0,90,1],[90,9,90,10],[93,0,93,1],[93,7,93,8],[18,3,18,4],[46,12,46,13],[42,1,42,2],[42,3,42,4],[42,8,42,9],[42,10,42,11],[44,1,44,2],[43,12,43,13],[43,7,43,8],[44,3,44,4],[43,5,43,6],[45,1,45,2],[25,0,25,1],[25,2,25,3],[34,7,34,8],[34,0,34,1],[29,8,29,9],[29,10,29,11],[25,9,25,10],[28,5,28,6],[28,7,28,8],[28,9,28,10],[26,8,26,9],[26,10,26,11],[10,7,10,8],[14,1,14,2],[14,3,14,4],[24,8,24,9],[16,9,16,10],[19,2,19,3],[19,5,19,6],[24,3,24,4],[20,1,20,2],[20,3,20,4],[21,1,21,2],[21,3,21,4],[21,8,21,9],[21,10,21,11],[15,3,15,4],[16,0,16,1],[16,2,16,3],[22,0,22,1],[18,1,18,2],[17,3,17,4],[22,2,22,3],[17,1,17,2],[23,1,23,2],[23,3,23,4],[13,7,13,8],[31,5,31,6],[31,7,31,8],[31,9,31,10],[30,8,30,9],[30,10,30,11],[28,12,28,13],[13,12,13,13],[10,5,10,6],[18,8,18,9],[17,8,17,9],[22,5,22,6],[22,7,22,8],[24,10,24,11],[23,8,23,9],[23,10,23,11],[17,10,17,11],[22,9,22,10],[18,10,18,11],[19,7,19,8],[20,8,20,9],[20,10,20,11],[11,10,11,11],[12,8,12,9],[3,0,3,6],[3,7,3,13],[40,9,40,10],[4,0,4,1],[5,1,5,2],[6,1,6,2],[10,9,10,10],[9,8,9,9],[8,8,8,9],[16,12,16,13],[19,9,19,10],[19,12,19,13],[13,2,13,3],[16,7,16,8],[16,5,16,6],[15,8,15,9],[14,10,14,11],[15,10,15,11],[14,8,14,9],[22,12,22,13],[33,8,33,9],[33,10,33,11],[25,12,25,13],[31,12,31,13],[27,8,27,9],[27,10,27,11],[25,5,25,6],[25,7,25,8],[32,8,32,9],[32,10,32,11],[34,12,34,13],[37,12,37,13],[35,1,35,2],[35,3,35,4],[35,8,35,9],[35,10,35,11],[36,3,36,4],[34,2,34,3],[36,8,36,9],[36,1,36,2],[34,9,34,10],[36,10,36,11],[34,5,34,6],[37,9,37,10],[31,2,31,3],[29,1,29,2],[29,3,29,4],[31,0,31,1],[50,3,50,4],[53,8,53,9],[59,1,59,2],[56,1,56,2],[37,2,37,3],[38,1,38,2],[38,3,38,4],[37,5,37,6],[37,7,37,8],[56,8,56,9],[55,2,55,3],[57,8,57,9],[58,2,58,3],[54,3,54,4],[59,3,59,4],[54,1,54,2],[55,5,55,6],[58,5,58,6],[58,0,58,1],[55,0,55,1],[57,3,57,4],[56,3,56,4],[39,1,39,2],[43,0,43,1],[5,3,5,4],[10,12,10,13],[13,9,13,10],[12,10,12,11],[55,12,55,13],[4,5,4,6],[7,5,7,6],[5,10,5,11],[7,2,7,3],[6,8,6,9],[6,10,6,11],[5,8,5,9],[6,3,6,4],[9,10,9,11],[7,9,7,10],[7,7,7,8],[8,3,8,4],[8,10,8,11],[9,3,9,4],[40,12,40,13],[41,1,41,2],[41,3,41,4],[41,8,41,9],[41,10,41,11],[19,0,19,1],[27,3,27,4],[28,0,28,1],[30,1,30,2],[2,0,2,13],[7,12,7,13],[11,1,11,2],[11,3,11,4],[11,8,11,9],[4,7,4,8],[4,9,4,10],[4,12,4,13],[24,1,24,2],[13,5,13,6],[7,0,7,1],[10,0,10,1],[8,1,8,2],[12,3,12,4],[9,1,9,2],[12,1,12,2],[13,0,13,1],[15,1,15,2],[10,2,10,3],[4,2,4,3],[30,3,30,4],[26,1,26,2],[26,3,26,4],[32,1,32,2],[33,3,33,4],[32,3,32,4],[28,2,28,3],[27,1,27,2],[40,0,40,1],[33,1,33,2],[40,2,40,3],[37,0,37,1],[38,10,38,11],[39,10,39,11],[39,8,39,9],[38,8,38,9],[43,9,43,10],[46,9,46,10],[45,3,45,4],[44,8,44,9],[44,10,44,11],[45,8,45,9],[45,10,45,11],[39,3,39,4],[40,7,40,8],[40,5,40,6],[43,2,43,3],[52,12,52,13],[52,2,52,3],[47,3,47,4],[48,10,48,11],[51,1,51,2],[52,9,52,10],[52,7,52,8],[52,5,52,6],[49,0,49,1],[50,1,50,2],[48,8,48,9],[49,5,49,6],[49,7,49,8],[48,1,48,2],[50,8,50,9],[49,9,49,10],[49,2,49,3],[51,8,51,9],[50,10,50,11],[52,0,52,1],[47,8,47,9],[49,12,49,13],[47,10,47,11],[47,1,47,2],[53,10,53,11],[54,8,54,9],[62,10,62,11],[65,8,65,9],[65,10,65,11],[67,9,67,10],[56,10,56,11],[53,3,53,4],[46,0,46,1],[46,2,46,3],[46,5,46,6],[46,7,46,8],[48,3,48,4],[57,1,57,2],[51,3,51,4],[51,10,51,11],[53,1,53,2],[54,10,54,11],[62,1,62,2],[62,3,62,4],[62,8,62,9],[60,1,60,2],[61,7,61,8],[58,9,58,10],[55,9,55,10],[55,7,55,8],[66,3,66,4],[66,8,66,9],[66,10,66,11],[75,1,75,2],[73,9,73,10],[72,1,72,2],[72,3,72,4],[72,8,72,9],[75,3,75,4],[75,8,75,9],[75,10,75,11],[64,2,64,3],[61,2,61,3],[57,10,57,11],[66,1,66,2],[60,3,60,4],[64,5,64,6],[70,0,70,1],[71,1,71,2],[71,3,71,4],[70,2,70,3],[70,5,70,6],[73,12,73,13],[72,10,72,11],[61,9,61,10],[59,8,59,9],[59,10,59,11],[60,10,60,11],[70,12,70,13],[76,12,76,13],[68,10,68,11],[69,10,69,11],[71,10,71,11],[70,7,70,8],[70,9,70,10],[63,8,63,9],[61,12,61,13],[67,12,67,13],[63,10,63,11],[64,9,64,10],[64,12,64,13],[69,8,69,9],[71,8,71,9],[58,12,58,13],[58,7,58,8],[60,8,60,9],[61,5,61,6],[63,1,63,2],[63,3,63,4],[61,0,61,1],[73,5,73,6],[73,7,73,8],[68,8,68,9],[67,7,67,8],[64,7,64,8],[67,5,67,6],[65,1,65,2],[65,3,65,4],[73,0,73,1],[73,2,73,3],[69,3,69,4],[68,1,68,2],[68,3,68,4],[67,2,67,3],[67,0,67,1],[64,0,64,1],[69,1,69,2],[74,1,74,2],[74,3,74,4],[85,1,85,2],[85,3,85,4],[85,8,85,9],[76,7,76,8],[76,9,76,10],[74,8,74,9],[74,10,74,11],[82,3,82,4],[82,8,82,9],[84,12,84,13],[84,7,84,8],[82,10,82,11],[76,2,76,3],[76,0,76,1],[76,5,76,6],[83,8,83,9],[81,0,81,1],[81,5,81,6],[81,7,81,8],[77,1,77,2],[77,3,77,4],[77,8,77,9],[83,3,83,4],[81,12,81,13],[87,12,87,13],[77,10,77,11],[85,10,85,11],[80,0,80,6],[79,0,79,13],[78,1,78,2],[78,3,78,4],[78,8,78,9],[80,7,80,13],[87,0,87,1],[86,10,86,11],[86,1,86,2],[81,2,81,3],[84,0,84,1],[84,2,84,3],[86,3,86,4],[86,8,86,9],[84,5,84,6],[84,9,84,10],[83,1,83,2],[78,10,78,11],[82,1,82,2],[83,10,83,11],[81,9,81,10],[87,2,87,3],[87,5,87,6],[89,1,89,2],[89,3,89,4],[87,9,87,10],[89,8,89,9],[87,7,87,8],[88,1,88,2],[88,3,88,4],[88,8,88,9],[88,10,88,11],[164,8,164,9],[109,8,109,9],[114,9,114,10],[141,9,141,10],[141,7,141,8],[143,10,143,11],[143,8,143,9],[150,7,150,8],[160,7,160,9],[159,7,159,8],[160,10,160,12],[159,9,159,10],[153,12,153,13],[155,8,155,9],[150,12,150,13],[159,12,159,13],[114,12,114,13],[120,7,120,8],[132,12,132,13],[141,12,141,13],[113,10,113,11],[94,1,94,2],[94,3,94,4],[95,3,95,4],[96,0,96,1],[96,2,96,3],[95,1,95,2],[95,10,95,11],[93,9,93,10],[89,10,89,11],[91,10,91,11],[94,8,94,9],[95,8,95,9],[94,10,94,11],[90,7,90,8],[96,5,96,6],[99,5,99,6],[98,1,98,2],[98,3,98,4],[97,1,97,2],[97,3,97,4],[100,1,100,2],[99,0,99,1],[101,1,101,2],[101,3,101,4],[99,2,99,3],[100,3,100,4],[106,1,106,2],[106,3,106,4],[107,1,107,2],[186,0,186,1],[186,2,186,3],[186,5,186,6],[172,3,172,5],[168,0,168,1],[188,8,188,9],[186,7,186,8],[186,9,186,10],[107,3,107,4],[115,10,115,11],[116,10,116,11],[116,8,116,9],[109,3,109,4],[110,10,110,11],[111,9,111,10],[111,0,111,1],[110,3,110,4],[111,2,111,3],[119,3,119,4],[120,2,120,3],[120,5,120,6],[194,10,194,12],[191,8,191,9],[191,10,191,12],[192,8,192,9],[187,0,187,2],[187,3,187,5],[190,8,190,9],[190,10,190,12],[189,8,189,9],[189,10,189,12],[186,12,186,13],[188,0,194,0],[188,1,188,2],[188,3,188,5],[190,3,190,5],[194,1,194,2],[187,10,187,12],[190,1,190,2],[188,10,188,12],[188,7,194,7],[194,8,194,9],[192,10,192,12],[193,8,193,9],[193,10,193,12],[192,1,192,2],[192,3,192,5],[191,1,191,2],[191,3,191,5],[189,3,189,5],[187,7,187,9],[194,3,194,5],[193,1,193,2],[193,3,193,5],[189,1,189,2]]}
[null,null,null,null,null,null,null,null,null,null,null,null,null,"様式⑤"]
[]
["女　子　個　　票　(1～25人）"]
["1種目目",null,null,null,null,null,null,"2種目目"]
["種目",null,{"$f":"女子一覧表!Y13","v":""},null,"記録",{"$f":"女子一覧表!J13","v":0},null,"種目",null,{"$f":"女子一覧表!Z13","v":""},null,"記録",{"$f":"女子一覧表!M13","v":0}]
["性","ゼッケン",null,"氏名",null,"学年","所属","性","ゼッケン",null,"氏名",null,"学年","所属"]
["女",{"$f":"女子一覧表!B13","v":0},null,{"$f":"IF(女子一覧表!B13=\"\",\"\",VLOOKUP(B7,女子一覧表!$B$13:$F$37,2,FALSE))","v":""},null,{"$f":"IF(女子一覧表!B13=\"\",\"\",VLOOKUP(B7,女子一覧表!$B$13:$F$37,3,FALSE))","v":""},{"$f":"IF(D7=\"\",\"\",女子一覧表!$A$7)","v":""},"女",{"$f":"IF(女子一覧表!L13=\"\",\"\",女子一覧表!B13)","v":""},null,{"$f":"IF(女子一覧表!L13=\"\",\"\",VLOOKUP(I7,女子一覧表!$B$13:$F$37,2,FALSE))","v":""},null,{"$f":"IF(女子一覧表!L13=\"\",\"\",VLOOKUP(I7,女子一覧表!$B$13:$F$37,3,FALSE))","v":""},{"$f":"IF(K7=\"\",\"\",女子一覧表!$A$7)","v":""}]
["種目",null,{"$f":"女子一覧表!Y14","v":""},null,"記録",{"$f":"女子一覧表!J14","v":0},null,"種目",null,{"$f":"女子一覧表!Z14","v":""},null,"記録",{"$f":"女子一覧表!M14","v":0}]
["性","ゼッケン",null,"氏名",null,"学年","所属","性","ゼッケン",null,"氏名",null,"学年","所属"]
["女",{"$f":"女子一覧表!B14","v":0},null,{"$f":"IF(女子一覧表!B14=\"\",\"\",VLOOKUP(B10,女子一覧表!$B$13:$F$37,2,FALSE))","v":""},null,{"$f":"IF(女子一覧表!B14=\"\",\"\",VLOOKUP(B10,女子一覧表!$B$13:$F$37,3,FALSE))","v":""},{"$f":"IF(D10=\"\",\"\",女子一覧表!$A$7)","v":""},"女",{"$f":"IF(女子一覧表!L14=\"\",\"\",女子一覧表!B14)","v":""},null,{"$f":"IF(女子一覧表!L14=\"\",\"\",VLOOKUP(I10,女子一覧表!$B$13:$F$37,2,FALSE))","v":""},null,{"$f":"IF(女子一覧表!L14=\"\",\"\",VLOOKUP(I10,女子一覧表!$B$13:$F$37,3,FALSE))","v":""},{"$f":"IF(K10=\"\",\"\",女子一覧表!$A$7)","v":""}]
["種目",null,{"$f":"女子一覧表!Y15","v":""},null,"記録",{"$f":"女子一覧表!J15","v":0},null,"種目",null,{"$f":"女子一覧表!Z15","v":""},null,"記録",{"$f":"女子一覧表!M15","v":0}]
["性","ゼッケン",null,"氏名",null,"学年","所属","性","ゼッケン",null,"氏名",null,"学年","所属"]
["女",{"$f":"女子一覧表!B15","v":0},null,{"$f":"IF(女子一覧表!B15=\"\",\"\",VLOOKUP(B13,女子一覧表!$B$13:$F$37,2,FALSE))","v":""},null,{"$f":"IF(女子一覧表!B15=\"\",\"\",VLOOKUP(B13,女子一覧表!$B$13:$F$37,3,FALSE))","v":""},{"$f":"IF(D13=\"\",\"\",女子一覧表!$A$7)","v":""},"女",{"$f":"IF(女子一覧表!L15=\"\",\"\",女子一覧表!B15)","v":""},null,{"$f":"IF(女子一覧表!L15=\"\",\"\",VLOOKUP(I13,女子一覧表!$B$13:$F$37,2,FALSE))","v":""},null,{"$f":"IF(女子一覧表!L15=\"\",\"\",VLOOKUP(I13,女子一覧表!$B$13:$F$37,3,FALSE))","v":""},{"$f":"IF(K13=\"\",\"\",女子一覧表!$A$7)","v":""}]
["種目",null,{"$f":"女子一覧表!Y16","v":""},null,"記録",{"$f":"女子一覧表!J16","v":0},null,"種目",null,{"$f":"女子一覧表!Z16","v":""},null,"記録",{"$f":"女子一覧表!M16","v":0}]
["性","ゼッケン",null,"氏名",null,"学年","所属","性","ゼッケン",null,"氏名",null,"学年","所属"]
["女",{"$f":"女子一覧表!B16","v":0},null,{"$f":"IF(女子一覧表!B16=\"\",\"\",VLOOKUP(B16,女子一覧表!$B$13:$F$37,2,FALSE))","v":""},null,{"$f":"IF(女子一覧表!B16=\"\",\"\",VLOOKUP(B16,女子一覧表!$B$13:$F$37,3,FALSE))","v":""},{"$f":"IF(D16=\"\",\"\",女子一覧表!$A$7)","v":""},"女",{"$f":"IF(女子一覧表!L16=\"\",\"\",女子一覧表!B16)","v":""},null,{"$f":"IF(女子一覧表!L16=\"\",\"\",VLOOKUP(I16,女子一覧表!$B$13:$F$37,2,FALSE))","v":""},null,{"$f":"IF(女子一覧表!L16=\"\",\"\",VLOOKUP(I16,女子一覧表!$B$13:$F$37,3,FALSE))","v":""},{"$f":"IF(K16=\"\",\"\",女子一覧表!$A$7)","v":""}]
["種目",null,{"$f":"女子一覧表!Y17","v":""},null,"記録",{"$f":"女子一覧表!J17","v":0},null,"種目",null,{"$f":"女子一覧表!Z17","v":""},null,"記録",{"$f":"女子一覧表!M17","v":0}]
["性","ゼッケン",null,"氏名",null,"学年","所属","性","ゼッケン",null,"氏名",null,"学年","所属"]
["女",{"$f":"女子一覧表!B17","v":0},null,{"$f":"IF(女子一覧表!B17=\"\",\"\",VLOOKUP(B19,女子一覧表!$B$13:$F$37,2,FALSE))","v":""},null,{"$f":"IF(女子一覧表!B17=\"\",\"\",VLOOKUP(B19,女子一覧表!$B$13:$F$37,3,FALSE))","v":""},{"$f":"IF(D19=\"\",\"\",女子一覧表!$A$7)","v":""},"女",{"$f":"IF(女子一覧表!L17=\"\",\"\",女子一覧表!B17)","v":""},null,{"$f":"IF(女子一覧表!L17=\"\",\"\",VLOOKUP(I19,女子一覧表!$B$13:$F$37,2,FALSE))","v":""},null,{"$f":"IF(女子一覧表!L17=\"\",\"\",VLOOKUP(I19,女子一覧表!$B$13:$F$37,3,FALSE))","v":""},{"$f":"IF(K19=\"\",\"\",女子一覧表!$A$7)","v":""}]
["種目",null,{"$f":"女子一覧表!Y18","v":""},null,"記録",{"$f":"女子一覧表!J18","v":0},null,"種目",null,{"$f":"女子一覧表!Z18","v":""},null,"記録",{"$f":"女子一覧表!M18","v":0}]
["性","ゼッケン",null,"氏名",null,"学年","所属","性","ゼッケン",null,"氏名",null,"学年","所属"]
["女",{"$f":"女子一覧表!B18","v":0},null,{"$f":"IF(女子一覧表!B18=\"\",\"\",VLOOKUP(B22,女子一覧表!$B$13:$F$37,2,FALSE))","v":""},null,{"$f":"IF(女子一覧表!B18=\"\",\"\",VLOOKUP(B22,女子一覧表!$B$13:$F$37,3,FALSE))","v":""},{"$f":"IF(D22=\"\",\"\",女子一覧表!$A$7)","v":""},"女",{"$f":"IF(女子一覧表!L18=\"\",\"\",女子一覧表!B18)","v":""},null,{"$f":"IF(女子一覧表!L18=\"\",\"\",VLOOKUP(I22,女子一覧表!$B$13:$F$37,2,FALSE))","v":""},null,{"$f":"IF(女子一覧表!L18=\"\",\"\",VLOOKUP(I22,女子一覧表!$B$13:$F$37,3,FALSE))","v":""},{"$f":"IF(K22=\"\",\"\",女子一覧表!$A$7)","v":""}]
["種目",null,{"$f":"女子一覧表!Y19","v":""},null,"記録",{"$f":"女子一覧表!J19","v":0},null,"種目",null,{"$f":"女子一覧表!Z19","v":""},null,"記録",{"$f":"女子一覧表!M19","v":0}]
["性","ゼッケン",null,"氏名",null,"学年","所属","性","ゼッケン",null,"氏名",null,"学年","所属"]
["女",{"$f":"女子一覧表!B19","v":0},null,{"$f":"IF(女子一覧表!B19=\"\",\"\",VLOOKUP(B25,女子一覧表!$B$13:$F$37,2,FALSE))","v":""},null,{"$f":"IF(女子一覧表!B19=\"\",\"\",VLOOKUP(B25,女子一覧表!$B$13:$F$37,3,FALSE))","v":""},{"$f":"IF(D25=\"\",\"\",女子一覧表!$A$7)","v":""},"女",{"$f":"IF(女子一覧表!L19=\"\",\"\",女子一覧表!B19)","v":""},null,{"$f":"IF(女子一覧表!L19=\"\",\"\",VLOOKUP(I25,女子一覧表!$B$13:$F$37,2,FALSE))","v":""},null,{"$f":"IF(女子一覧表!L19=\"\",\"\",VLOOKUP(I25,女子一覧表!$B$13:$F$37,3,FALSE))","v":""},{"$f":"IF(K25=\"\",\"\",女子一覧表!$A$7)","v":""}]
["種目",null,{"$f":"女子一覧表!Y20","v":""},null,"記録",{"$f":"女子一覧表!J20","v":0},null,"種目",null,{"$f":"女子一覧表!Z20","v":""},null,"記録",{"$f":"女子一覧表!M20","v":0}]
["性","ゼッケン",null,"氏名",null,"学年","所属","性","ゼッケン",null,"氏名",null,"学年","所属"]
["女",{"$f":"女子一覧表!B20","v":0},null,{"$f":"IF(女子一覧表!B20=\"\",\"\",VLOOKUP(B28,女子一覧表!$B$13:$F$37,2,FALSE))","v":""},null,{"$f":"IF(女子一覧表!B20=\"\",\"\",VLOOKUP(B28,女子一覧表!$B$13:$F$37,3,FALSE))","v":""},{"$f":"IF(D28=\"\",\"\",女子一覧表!$A$7)","v":""},"女",{"$f":"IF(女子一覧表!L20=\"\",\"\",女子一覧表!B20)","v":""},null,{"$f":"IF(女子一覧表!L20=\"\",\"\",VLOOKUP(I28,女子一覧表!$B$13:$F$37,2,FALSE))","v":""},null,{"$f":"IF(女子一覧表!L20=\"\",\"\",VLOOKUP(I28,女子一覧表!$B$13:$F$37,3,FALSE))","v":""},{"$f":"IF(K28=\"\",\"\",女子一覧表!$A$7)","v":""}]
["種目",null,{"$f":"女子一覧表!Y21","v":""},null,"記録",{"$f":"女子一覧表!J21","v":0},null,"種目",null,{"$f":"女子一覧表!Z21","v":""},null,"記録",{"$f":"女子一覧表!M21","v":0}]
["性","ゼッケン",null,"氏名",null,"学年","所属","性","ゼッケン",null,"氏名",null,"学年","所属"]
["女",{"$f":"女子一覧表!B21","v":0},null,{"$f":"IF(女子一覧表!B21=\"\",\"\",VLOOKUP(B31,女子一覧表!$B$13:$F$37,2,FALSE))","v":""},null,{"$f":"IF(女子一覧表!B21=\"\",\"\",VLOOKUP(B31,女子一覧表!$B$13:$F$37,3,FALSE))","v":""},{"$f":"IF(D31=\"\",\"\",女子一覧表!$A$7)","v":""},"女",{"$f":"IF(女子一覧表!L21=\"\",\"\",女子一覧表!B21)","v":""},null,{"$f":"IF(女子一覧表!L21=\"\",\"\",VLOOKUP(I31,女子一覧表!$B$13:$F$37,2,FALSE))","v":""},null,{"$f":"IF(女子一覧表!L21=\"\",\"\",VLOOKUP(I31,女子一覧表!$B$13:$F$37,3,FALSE))","v":""},{"$f":"IF(K31=\"\",\"\",女子一覧表!$A$7)","v":""}]
["種目",null,{"$f":"女子一覧表!Y22","v":""},null,"記録",{"$f":"女子一覧表!J22","v":0},null,"種目",null,{"$f":"女子一覧表!Z22","v":""},null,"記録",{"$f":"女子一覧表!M22","v":0}]
["性","ゼッケン",null,"氏名",null,"学年","所属","性","ゼッケン",null,"氏名",null,"学年","所属"]
["女",{"$f":"女子一覧表!B22","v":0},null,{"$f":"IF(女子一覧表!B22=\"\",\"\",VLOOKUP(B34,女子一覧表!$B$13:$F$37,2,FALSE))","v":""},null,{"$f":"IF(女子一覧表!B22=\"\",\"\",VLOOKUP(B34,女子一覧表!$B$13:$F$37,3,FALSE))","v":""},{"$f":"IF(D34=\"\",\"\",女子一覧表!$A$7)","v":""},"女",{"$f":"IF(女子一覧表!L22=\"\",\"\",女子一覧表!B22)","v":""},null,{"$f":"IF(女子一覧表!L22=\"\",\"\",VLOOKUP(I34,女子一覧表!$B$13:$F$37,2,FALSE))","v":""},null,{"$f":"IF(女子一覧表!L22=\"\",\"\",VLOOKUP(I34,女子一覧表!$B$13:$F$37,3,FALSE))","v":""},{"$f":"IF(K34=\"\",\"\",女子一覧表!$A$7)","v":""}]
["種目",null,{"$f":"女子一覧表!Y23","v":""},null,"記録",{"$f":"女子一覧表!J23","v":0},null,"種目",null,{"$f":"女子一覧表!Z23","v":""},null,"記録",{"$f":"女子一覧表!M23","v":0}]
["性","ゼッケン",null,"氏名",null,"学年","所属","性","ゼッケン",null,"氏名",null,"学年","所属"]
["女",{"$f":"女子一覧表!B23","v":0},null,{"$f":"IF(女子一覧表!B23=\"\",\"\",VLOOKUP(B37,女子一覧表!$B$13:$F$37,2,FALSE))","v":""},null,{"$f":"IF(女子一覧表!B23=\"\",\"\",VLOOKUP(B37,女子一覧表!$B$13:$F$37,3,FALSE))","v":""},{"$f":"IF(D37=\"\",\"\",女子一覧表!$A$7)","v":""},"女",{"$f":"IF(女子一覧表!L23=\"\",\"\",女子一覧表!B23)","v":""},null,{"$f":"IF(女子一覧表!L23=\"\",\"\",VLOOKUP(I37,女子一覧表!$B$13:$F$37,2,FALSE))","v":""},null,{"$f":"IF(女子一覧表!L23=\"\",\"\",VLOOKUP(I37,女子一覧表!$B$13:$F$37,3,FALSE))","v":""},{"$f":"IF(K37=\"\",\"\",女子一覧表!$A$7)","v":""}]
["種目",null,{"$f":"女子一覧表!Y24","v":""},null,"記録",{"$f":"女子一覧表!J24","v":0},null,"種目",null,{"$f":"女子一覧表!Z24","v":""},null,"記録",{"$f":"女子一覧表!M24","v":0}]
["性","ゼッケン",null,"氏名",null,"学年","所属","性","ゼッケン",null,"氏名",null,"学年","所属"]
["女",{"$f":"女子一覧表!B24","v":0},null,{"$f":"IF(女子一覧表!B24=\"\",\"\",VLOOKUP(B40,女子一覧表!$B$13:$F$37,2,FALSE))","v":""},null,{"$f":"IF(女子一覧表!B24=\"\",\"\",VLOOKUP(B40,女子一覧表!$B$13:$F$37,3,FALSE))","v":""},{"$f":"IF(D40=\"\",\"\",女子一覧表!$A$7)","v":""},"女",{"$f":"IF(女子一覧表!L24=\"\",\"\",女子一覧表!B24)","v":""},null,{"$f":"IF(女子一覧表!L24=\"\",\"\",VLOOKUP(I40,女子一覧表!$B$13:$F$37,2,FALSE))","v":""},null,{"$f":"IF(女子一覧表!L24=\"\",\"\",VLOOKUP(I40,女子一覧表!$B$13:$F$37,3,FALSE))","v":""},{"$f":"IF(K40=\"\",\"\",女子一覧表!$A$7)","v":""}]
["種目",null,{"$f":"女子一覧表!Y25","v":""},null,"記録",{"$f":"女子一覧表!J25","v":0},null,"種目",null,{"$f":"女子一覧表!Z25","v":""},null,"記録",{"$f":"女子一覧表!M25","v":0}]
["性","ゼッケン",null,"氏名",null,"学年","所属","性","ゼッケン",null,"氏名",null,"学年","所属"]
["女",{"$f":"女子一覧表!B25","v":0},null,{"$f":"IF(女子一覧表!B25=\"\",\"\",VLOOKUP(B43,女子一覧表!$B$13:$F$37,2,FALSE))","v":""},null,{"$f":"IF(女子一覧表!B25=\"\",\"\",VLOOKUP(B43,女子一覧表!$B$13:$F$37,3,FALSE))","v":""},{"$f":"IF(D43=\"\",\"\",女子一覧表!$A$7)","v":""},"女",{"$f":"IF(女子一覧表!L25=\"\",\"\",女子一覧表!B25)","v":""},null,{"$f":"IF(女子一覧表!L25=\"\",\"\",VLOOKUP(I43,女子一覧表!$B$13:$F$37,2,FALSE))","v":""},null,{"$f":"IF(女子一覧表!L25=\"\",\"\",VLOOKUP(I43,女子一覧表!$B$13:$F$37,3,FALSE))","v":""},{"$f":"IF(K43=\"\",\"\",女子一覧表!$A$7)","v":""}]
["種目",null,{"$f":"女子一覧表!Y26","v":""},null,"記録",{"$f":"女子一覧表!J26","v":0},null,"種目",null,{"$f":"女子一覧表!Z26","v":""},null,"記録",{"$f":"女子一覧表!M26","v":0}]
["性","ゼッケン",null,"氏名",null,"学年","所属","性","ゼッケン",null,"氏名",null,"学年","所属"]
["女",{"$f":"女子一覧表!B26","v":0},null,{"$f":"IF(女子一覧表!B26=\"\",\"\",VLOOKUP(B46,女子一覧表!$B$13:$F$37,2,FALSE))","v":""},null,{"$f":"IF(女子一覧表!B26=\"\",\"\",VLOOKUP(B46,女子一覧表!$B$13:$F$37,3,FALSE))","v":""},{"$f":"IF(D46=\"\",\"\",女子一覧表!$A$7)","v":""},"女",{"$f":"IF(女子一覧表!L26=\"\",\"\",女子一覧表!B26)","v":""},null,{"$f":"IF(女子一覧表!L26=\"\",\"\",VLOOKUP(I46,女子一覧表!$B$13:$F$37,2,FALSE))","v":""},null,{"$f":"IF(女子一覧表!L26=\"\",\"\",VLOOKUP(I46,女子一覧表!$B$13:$F$37,3,FALSE))","v":""},{"$f":"IF(K46=\"\",\"\",女子一覧表!$A$7)","v":""}]
["種目",null,{"$f":"女子一覧表!Y27","v":""},null,"記録",{"$f":"女子一覧表!J27","v":0},null,"種目",null,{"$f":"女子一覧表!Z27","v":""},null,"記録",{"$f":"女子一覧表!M27","v":0}]
["性","ゼッケン",null,"氏名",null,"学年","所属","性","ゼッケン",null,"氏名",null,"学年","所属"]
["女",{"$f":"女子一覧表!B27","v":0},null,{"$f":"IF(女子一覧表!B27=\"\",\"\",VLOOKUP(B49,女子一覧表!$B$13:$F$37,2,FALSE))","v":""},null,{"$f":"IF(女子一覧表!B27=\"\",\"\",VLOOKUP(B49,女子一覧表!$B$13:$F$37,3,FALSE))","v":""},{"$f":"IF(D49=\"\",\"\",女子一覧表!$A$7)","v":""},"女",{"$f":"IF(女子一覧表!L27=\"\",\"\",女子一覧表!B27)","v":""},null,{"$f":"IF(女子一覧表!L27=\"\",\"\",VLOOKUP(I49,女子一覧表!$B$13:$F$37,2,FALSE))","v":""},null,{"$f":"IF(女子一覧表!L27=\"\",\"\",VLOOKUP(I49,女子一覧表!$B$13:$F$37,3,FALSE))","v":""},{"$f":"IF(K49=\"\",\"\",女子一覧表!$A$7)","v":""}]
["種目",null,{"$f":"女子一覧表!Y28","v":""},null,"記録",{"$f":"女子一覧表!J28","v":0},null,"種目",null,{"$f":"女子一覧表!Z28","v":""},null,"記録",{"$f":"女子一覧表!M28","v":0}]
["性","ゼッケン",null,"氏名",null,"学年","所属","性","ゼッケン",null,"氏名",null,"学年","所属"]
["女",{"$f":"女子一覧表!B28","v":0},null,{"$f":"IF(女子一覧表!B28=\"\",\"\",VLOOKUP(B52,女子一覧表!$B$13:$F$37,2,FALSE))","v":""},null,{"$f":"IF(女子一覧表!B28=\"\",\"\",VLOOKUP(B52,女子一覧表!$B$13:$F$37,3,FALSE))","v":""},{"$f":"IF(D52=\"\",\"\",女子一覧表!$A$7)","v":""},"女",{"$f":"IF(女子一覧表!L28=\"\",\"\",女子一覧表!B28)","v":""},null,{"$f":"IF(女子一覧表!L28=\"\",\"\",VLOOKUP(I52,女子一覧表!$B$13:$F$37,2,FALSE))","v":""},null,{"$f":"IF(女子一覧表!L28=\"\",\"\",VLOOKUP(I52,女子一覧表!$B$13:$F$37,3,FALSE))","v":""},{"$f":"IF(K52=\"\",\"\",女子一覧表!$A$7)","v":""}]
["種目",null,{"$f":"女子一覧表!Y29","v":""},null,"記録",{"$f":"女子一覧表!J29","v":0},null,"種目",null,{"$f":"女子一覧表!Z29","v":""},null,"記録",{"$f":"女子一覧表!M29","v":0}]
["性","ゼッケン",null,"氏名",null,"学年","所属","性","ゼッケン",null,"氏名",null,"学年","所属"]
["女",{"$f":"女子一覧表!B29","v":0},null,{"$f":"IF(女子一覧表!B29=\"\",\"\",VLOOKUP(B55,女子一覧表!$B$13:$F$37,2,FALSE))","v":""},null,{"$f":"IF(女子一覧表!B29=\"\",\"\",VLOOKUP(B55,女子一覧表!$B$13:$F$37,3,FALSE))","v":""},{"$f":"IF(D55=\"\",\"\",女子一覧表!$A$7)","v":""},"女",{"$f":"IF(女子一覧表!L29=\"\",\"\",女子一覧表!B29)","v":""},null,{"$f":"IF(女子一覧表!L29=\"\",\"\",VLOOKUP(I55,女子一覧表!$B$13:$F$37,2,FALSE))","v":""},null,{"$f":"IF(女子一覧表!L29=\"\",\"\",VLOOKUP(I55,女子一覧表!$B$13:$F$37,3,FALSE))","v":""},{"$f":"IF(K55=\"\",\"\",女子一覧表!$A$7)","v":""}]
["種目",null,{"$f":"女子一覧表!Y30","v":""},null,"記録",{"$f":"女子一覧表!J30","v":0},null,"種目",null,{"$f":"女子一覧表!Z30","v":""},null,"記録",{"$f":"女子一覧表!M30","v":0}]
["性","ゼッケン",null,"氏名",null,"学年","所属","性","ゼッケン",null,"氏名",null,"学年","所属"]
["女",{"$f":"女子一覧表!B30","v":0},null,{"$f":"IF(女子一覧表!B30=\"\",\"\",VLOOKUP(B58,女子一覧表!$B$13:$F$37,2,FALSE))","v":""},null,{"$f":"IF(女子一覧表!B30=\"\",\"\",VLOOKUP(B58,女子一覧表!$B$13:$F$37,3,FALSE))","v":""},{"$f":"IF(D58=\"\",\"\",女子一覧表!$A$7)","v":""},"女",{"$f":"IF(女子一覧表!L30=\"\",\"\",女子一覧表!B30)","v":""},null,{"$f":"IF(女子一覧表!L30=\"\",\"\",VLOOKUP(I58,女子一覧表!$B$13:$F$37,2,FALSE))","v":""},null,{"$f":"IF(女子一覧表!L30=\"\",\"\",VLOOKUP(I58,女子一覧表!$B$13:$F$37,3,FALSE))","v":""},{"$f":"IF(K58=\"\",\"\",女子一覧表!$A$7)","v":""}]
["種目",null,{"$f":"女子一覧表!Y31","v":""},null,"記録",{"$f":"女子一覧表!J31","v":0},null,"種目",null,{"$f":"女子一覧表!Z31","v":""},null,"記録",{"$f":"女子一覧表!M31","v":0}]
["性","ゼッケン",null,"氏名",null,"学年","所属","性","ゼッケン",null,"氏名",null,"学年","所属"]
["女",{"$f":"女子一覧表!B31","v":0},null,{"$f":"IF(女子一覧表!B31=\"\",\"\",VLOOKUP(B61,女子一覧表!$B$13:$F$37,2,FALSE))","v":""},null,{"$f":"IF(女子一覧表!B31=\"\",\"\",VLOOKUP(B61,女子一覧表!$B$13:$F$37,3,FALSE))","v":""},{"$f":"IF(D61=\"\",\"\",女子一覧表!$A$7)","v":""},"女",{"$f":"IF(女子一覧表!L31=\"\",\"\",女子一覧表!B31)","v":""},null,{"$f":"IF(女子一覧表!L31=\"\",\"\",VLOOKUP(I61,女子一覧表!$B$13:$F$37,2,FALSE))","v":""},null,{"$f":"IF(女子一覧表!L31=\"\",\"\",VLOOKUP(I61,女子一覧表!$B$13:$F$37,3,FALSE))","v":""},{"$f":"IF(K61=\"\",\"\",女子一覧表!$A$7)","v":""}]
["種目",null,{"$f":"女子一覧表!Y32","v":""},null,"記録",{"$f":"女子一覧表!J32","v":0},null,"種目",null,{"$f":"女子一覧表!Z32","v":""},null,"記録",{"$f":"女子一覧表!M32","v":0}]
["性","ゼッケン",null,"氏名",null,"学年","所属","性","ゼッケン",null,"氏名",null,"学年","所属"]
["女",{"$f":"女子一覧表!B32","v":0},null,{"$f":"IF(女子一覧表!B32=\"\",\"\",VLOOKUP(B64,女子一覧表!$B$13:$F$37,2,FALSE))","v":""},null,{"$f":"IF(女子一覧表!B32=\"\",\"\",VLOOKUP(B64,女子一覧表!$B$13:$F$37,3,FALSE))","v":""},{"$f":"IF(D64=\"\",\"\",女子一覧表!$A$7)","v":""},"女",{"$f":"IF(女子一覧表!L32=\"\",\"\",女子一覧表!B32)","v":""},null,{"$f":"IF(女子一覧表!L32=\"\",\"\",VLOOKUP(I64,女子一覧表!$B$13:$F$37,2,FALSE))","v":""},null,{"$f":"IF(女子一覧表!L32=\"\",\"\",VLOOKUP(I64,女子一覧表!$B$13:$F$37,3,FALSE))","v":""},{"$f":"IF(K64=\"\",\"\",女子一覧表!$A$7)","v":""}]
["種目",null,{"$f":"女子一覧表!Y33","v":""},null,"記録",{"$f":"女子一覧表!J33","v":0},null,"種目",null,{"$f":"女子一覧表!Z33","v":""},null,"記録",{"$f":"女子一覧表!M33","v":0}]
["性","ゼッケン",null,"氏名",null,"学年","所属","性","ゼッケン",null,"氏名",null,"学年","所属"]
["女",{"$f":"女子一覧表!B33","v":0},null,{"$f":"IF(女子一覧表!B33=\"\",\"\",VLOOKUP(B67,女子一覧表!$B$13:$F$37,2,FALSE))","v":""},null,{"$f":"IF(女子一覧表!B33=\"\",\"\",VLOOKUP(B67,女子一覧表!$B$13:$F$37,3,FALSE))","v":""},{"$f":"IF(D67=\"\",\"\",女子一覧表!$A$7)","v":""},"女",{"$f":"IF(女子一覧表!L33=\"\",\"\",女子一覧表!B33)","v":""},null,{"$f":"IF(女子一覧表!L33=\"\",\"\",VLOOKUP(I67,女子一覧表!$B$13:$F$37,2,FALSE))","v":""},null,{"$f":"IF(女子一覧表!L33=\"\",\"\",VLOOKUP(I67,女子一覧表!$B$13:$F$37,3,FALSE))","v":""},{"$f":"IF(K67=\"\",\"\",女子一覧表!$A$7)","v":""}]
["種目",null,{"$f":"女子一覧表!Y34","v":""},null,"記録",{"$f":"女子一覧表!J34","v":0},null,"種目",null,{"$f":"女子一覧表!Z34","v":""},null,"記録",{"$f":"女子一覧表!M34","v":0}]
["性","ゼッケン",null,"氏名",null,"学年","所属","性","ゼッケン",null,"氏名",null,"学年","所属"]
["女",{"$f":"女子一覧表!B34","v":0},null,{"$f":"IF(女子一覧表!B34=\"\",\"\",VLOOKUP(B70,女子一覧表!$B$13:$F$37,2,FALSE))","v":""},null,{"$f":"IF(女子一覧表!B34=\"\",\"\",VLOOKUP(B70,女子一覧表!$B$13:$F$37,3,FALSE))","v":""},{"$f":"IF(D70=\"\",\"\",女子一覧表!$A$7)","v":""},"女",{"$f":"IF(女子一覧表!L34=\"\",\"\",女子一覧表!B34)","v":""},null,{"$f":"IF(女子一覧表!L34=\"\",\"\",VLOOKUP(I70,女子一覧表!$B$13:$F$37,2,FALSE))","v":""},null,{"$f":"IF(女子一覧表!L34=\"\",\"\",VLOOKUP(I70,女子一覧表!$B$13:$F$37,3,FALSE))","v":""},{"$f":"IF(K70=\"\",\"\",女子一覧表!$A$7)","v":""}]
["種目",null,{"$f":"女子一覧表!Y35","v":""},null,"記録",{"$f":"女子一覧表!J35","v":0},null,"種目",null,{"$f":"女子一覧表!Z35","v":""},null,"記録",{"$f":"女子一覧表!M35","v":0}]
["性","ゼッケン",null,"氏名",null,"学年","所属","性","ゼッケン",null,"氏名",null,"学年","所属"]
["女",{"$f":"女子一覧表!B35","v":0},null,{"$f":"IF(女子一覧表!B35=\"\",\"\",VLOOKUP(B73,女子一覧表!$B$13:$F$37,2,FALSE))","v":""},null,{"$f":"IF(女子一覧表!B35=\"\",\"\",VLOOKUP(B73,女子一覧表!$B$13:$F$37,3,FALSE))","v":""},{"$f":"IF(D73=\"\",\"\",女子一覧表!$A$7)","v":""},"女",{"$f":"IF(女子一覧表!L35=\"\",\"\",女子一覧表!B35)","v":""},null,{"$f":"IF(女子一覧表!L35=\"\",\"\",VLOOKUP(I73,女子一覧表!$B$13:$F$37,2,FALSE))","v":""},null,{"$f":"IF(女子一覧表!L35=\"\",\"\",VLOOKUP(I73,女子一覧表!$B$13:$F$37,3,FALSE))","v":""},{"$f":"IF(K73=\"\",\"\",女子一覧表!$A$7)","v":""}]
["種目",null,{"$f":"女子一覧表!Y36","v":""},null,"記録",{"$f":"女子一覧表!J36","v":0},null,"種目",null,{"$f":"女子一覧表!Z36","v":""},null,"記録",{"$f":"女子一覧表!M36","v":0}]
["性","ゼッケン",null,"氏名",null,"学年","所属","性","ゼッケン",null,"氏名",null,"学年","所属"]
["女",{"$f":"女子一覧表!B36","v":0},null,{"$f":"IF(女子一覧表!B36=\"\",\"\",VLOOKUP(B76,女子一覧表!$B$13:$F$37,2,FALSE))","v":""},null,{"$f":"IF(女子一覧表!B36=\"\",\"\",VLOOKUP(B76,女子一覧表!$B$13:$F$37,3,FALSE))","v":""},{"$f":"IF(D76=\"\",\"\",女子一覧表!$A$7)","v":""},"女",{"$f":"IF(女子一覧表!L36=\"\",\"\",女子一覧表!B36)","v":""},null,{"$f":"IF(女子一覧表!L36=\"\",\"\",VLOOKUP(I76,女子一覧表!$B$13:$F$37,2,FALSE))","v":""},null,{"$f":"IF(女子一覧表!L36=\"\",\"\",VLOOKUP(I76,女子一覧表!$B$13:$F$37,3,FALSE))","v":""},{"$f":"IF(K76=\"\",\"\",女子一覧表!$A$7)","v":""}]
["種目",null,{"$f":"女子一覧表!Y37","v":""},null,"記録",{"$f":"女子一覧表!J37","v":0},null,"種目",null,{"$f":"女子一覧表!Z37","v":""},null,"記録",{"$f":"女子一覧表!M37","v":0}]
["性","ゼッケン",null,"氏名",null,"学年","所属","性","ゼッケン",null,"氏名",null,"学年","所属"]
["女",{"$f":"女子一覧表!B37","v":0},null,{"$f":"IF(女子一覧表!B37=\"\",\"\",VLOOKUP(B79,女子一覧表!$B$13:$F$37,2,FALSE))","v":""},null,{"$f":"IF(女子一覧表!B37=\"\",\"\",VLOOKUP(B79,女子一覧表!$B$13:$F$37,3,FALSE))","v":""},{"$f":"IF(D79=\"\",\"\",女子一覧表!$A$7)","v":""},"女",{"$f":"IF(女子一覧表!L37=\"\",\"\",女子一覧表!B37)","v":""},null,{"$f":"IF(女子一覧表!L37=\"\",\"\",VLOOKUP(I79,女子一覧表!$B$13:$F$37,2,FALSE))","v":""},null,{"$f":"IF(女子一覧表!L37=\"\",\"\",VLOOKUP(I79,女子一覧表!$B$13:$F$37,3,FALSE))","v":""},{"$f":"IF(K79=\"\",\"\",女子一覧表!$A$7)","v":""}]
["女　子　個　　票　(26～50人）"]
["1種目目",null,null,null,null,null,null,"2種目目"]
["種目",null,{"$f":"女子一覧表!Y54","v":""},null,"記録",{"$f":"女子一覧表!J54","v":0},null,"種目",null,{"$f":"女子一覧表!Z54","v":""},null,"記録",{"$f":"女子一覧表!M54","v":0}]
["性","ゼッケン",null,"氏名",null,"学年","所属","性","ゼッケン",null,"氏名",null,"学年","所属"]
["女",{"$f":"女子一覧表!B54","v":0},null,{"$f":"IF(女子一覧表!B54=\"\",\"\",VLOOKUP(B84,女子一覧表!$B$13:$F$78,2,FALSE))","v":""},null,{"$f":"IF(女子一覧表!B54=\"\",\"\",VLOOKUP(B84,女子一覧表!$B$13:$F$78,3,FALSE))","v":""},{"$f":"IF(D84=\"\",\"\",女子一覧表!$A$7)","v":""},"女",{"$f":"IF(女子一覧表!L54=\"\",\"\",女子一覧表!B54)","v":""},null,{"$f":"IF(女子一覧表!L54=\"\",\"\",VLOOKUP(I84,女子一覧表!$B$13:$F$78,2,FALSE))","v":""},null,{"$f":"IF(女子一覧表!L54=\"\",\"\",VLOOKUP(I84,女子一覧表!$B$13:$F$78,3,FALSE))","v":""},{"$f":"IF(K84=\"\",\"\",女子一覧表!$A$7)","v":""}]
["種目",null,{"$f":"女子一覧表!Y55","v":""},null,"記録",{"$f":"女子一覧表!J55","v":0},null,"種目",null,{"$f":"女子一覧表!Z55","v":""},null,"記録",{"$f":"女子一覧表!M55","v":0}]
["性","ゼッケン",null,"氏名",null,"学年","所属","性","ゼッケン",null,"氏名",null,"学年","所属"]
["女",{"$f":"女子一覧表!B55","v":0},null,{"$f":"IF(女子一覧表!B55=\"\",\"\",VLOOKUP(B87,女子一覧表!$B$13:$F$78,2,FALSE))","v":""},null,{"$f":"IF(女子一覧表!B55=\"\",\"\",VLOOKUP(B87,女子一覧表!$B$13:$F$78,3,FALSE))","v":""},{"$f":"IF(D87=\"\",\"\",女子一覧表!$A$7)","v":""},"女",{"$f":"IF(女子一覧表!L55=\"\",\"\",女子一覧表!B55)","v":""},null,{"$f":"IF(女子一覧表!L55=\"\",\"\",VLOOKUP(I87,女子一覧表!$B$13:$F$78,2,FALSE))","v":""},null,{"$f":"IF(女子一覧表!L55=\"\",\"\",VLOOKUP(I87,女子一覧表!$B$13:$F$78,3,FALSE))","v":""},{"$f":"IF(K87=\"\",\"\",女子一覧表!$A$7)","v":""}]
["種目",null,{"$f":"女子一覧表!Y56","v":""},null,"記録",{"$f":"女子一覧表!J56","v":0},null,"種目",null,{"$f":"女子一覧表!Z56","v":""},null,"記録",{"$f":"女子一覧表!M56","v":0}]
["性","ゼッケン",null,"氏名",null,"学年","所属","性","ゼッケン",null,"氏名",null,"学年","所属"]
["女",{"$f":"女子一覧表!B56","v":0},null,{"$f":"IF(女子一覧表!B56=\"\",\"\",VLOOKUP(B90,女子一覧表!$B$13:$F$78,2,FALSE))","v":""},null,{"$f":"IF(女子一覧表!B56=\"\",\"\",VLOOKUP(B90,女子一覧表!$B$13:$F$78,3,FALSE))","v":""},{"$f":"IF(D90=\"\",\"\",女子一覧表!$A$7)","v":""},"女",{"$f":"IF(女子一覧表!L56=\"\",\"\",女子一覧表!B56)","v":""},null,{"$f":"IF(女子一覧表!L56=\"\",\"\",VLOOKUP(I90,女子一覧表!$B$13:$F$78,2,FALSE))","v":""},null,{"$f":"IF(女子一覧表!L56=\"\",\"\",VLOOKUP(I90,女子一覧表!$B$13:$F$78,3,FALSE))","v":""},{"$f":"IF(K90=\"\",\"\",女子一覧表!$A$7)","v":""}]
["種目",null,{"$f":"女子一覧表!Y57","v":""},null,"記録",{"$f":"女子一覧表!J57","v":0},null,"種目",null,{"$f":"女子一覧表!Z57","v":""},null,"記録",{"$f":"女子一覧表!M57","v":0}]
["性","ゼッケン",null,"氏名",null,"学年","所属","性","ゼッケン",null,"氏名",null,"学年","所属"]
["女",{"$f":"女子一覧表!B57","v":0},null,{"$f":"IF(女子一覧表!B57=\"\",\"\",VLOOKUP(B93,女子一覧表!$B$13:$F$78,2,FALSE))","v":""},null,{"$f":"IF(女子一覧表!B57=\"\",\"\",VLOOKUP(B93,女子一覧表!$B$13:$F$78,3,FALSE))","v":""},{"$f":"IF(D93=\"\",\"\",女子一覧表!$A$7)","v":""},"女",{"$f":"IF(女子一覧表!L57=\"\",\"\",女子一覧表!B57)","v":""},null,{"$f":"IF(女子一覧表!L57=\"\",\"\",VLOOKUP(I93,女子一覧表!$B$13:$F$78,2,FALSE))","v":""},null,{"$f":"IF(女子一覧表!L57=\"\",\"\",VLOOKUP(I93,女子一覧表!$B$13:$F$78,3,FALSE))","v":""},{"$f":"IF(K93=\"\",\"\",女子一覧表!$A$7)","v":""}]
["種目",null,{"$f":"女子一覧表!Y58","v":""},null,"記録",{"$f":"女子一覧表!J58","v":0},null,"種目",null,{"$f":"女子一覧表!Z58","v":""},null,"記録",{"$f":"女子一覧表!M58","v":0}]
["性","ゼッケン",null,"氏名",null,"学年","所属","性","ゼッケン",null,"氏名",null,"学年","所属"]
["女",{"$f":"女子一覧表!B58","v":0},null,{"$f":"IF(女子一覧表!B58=\"\",\"\",VLOOKUP(B96,女子一覧表!$B$13:$F$78,2,FALSE))","v":""},null,{"$f":"IF(女子一覧表!B58=\"\",\"\",VLOOKUP(B96,女子一覧表!$B$13:$F$78,3,FALSE))","v":""},{"$f":"IF(D96=\"\",\"\",女子一覧表!$A$7)","v":""},"女",{"$f":"IF(女子一覧表!L58=\"\",\"\",女子一覧表!B58)","v":""},null,{"$f":"IF(女子一覧表!L58=\"\",\"\",VLOOKUP(I96,女子一覧表!$B$13:$F$78,2,FALSE))","v":""},null,{"$f":"IF(女子一覧表!L58=\"\",\"\",VLOOKUP(I96,女子一覧表!$B$13:$F$78,3,FALSE))","v":""},{"$f":"IF(K96=\"\",\"\",女子一覧表!$A$7)","v":""}]
["種目",null,{"$f":"女子一覧表!Y59","v":""},null,"記録",{"$f":"女子一覧表!J59","v":0},null,"種目",null,{"$f":"女子一覧表!Z59","v":""},null,"記録",{"$f":"女子一覧表!M59","v":0}]
["性","ゼッケン",null,"氏名",null,"学年","所属","性","ゼッケン",null,"氏名",null,"学年","所属"]
["女",{"$f":"女子一覧表!B59","v":0},null,{"$f":"IF(女子一覧表!B59=\"\",\"\",VLOOKUP(B99,女子一覧表!$B$13:$F$78,2,FALSE))","v":""},null,{"$f":"IF(女子一覧表!B59=\"\",\"\",VLOOKUP(B99,女子一覧表!$B$13:$F$78,3,FALSE))","v":""},{"$f":"IF(D99=\"\",\"\",女子一覧表!$A$7)","v":""},"女",{"$f":"IF(女子一覧表!L59=\"\",\"\",女子一覧表!B59)","v":""},null,{"$f":"IF(女子一覧表!L59=\"\",\"\",VLOOKUP(I99,女子一覧表!$B$13:$F$78,2,FALSE))","v":""},null,{"$f":"IF(女子一覧表!L59=\"\",\"\",VLOOKUP(I99,女子一覧表!$B$13:$F$78,3,FALSE))","v":""},{"$f":"IF(K99=\"\",\"\",女子一覧表!$A$7)","v":""}]
["種目",null,{"$f":"女子一覧表!Y60","v":""},null,"記録",{"$f":"女子一覧表!J60","v":0},null,"種目",null,{"$f":"女子一覧表!Z60","v":""},null,"記録",{"$f":"女子一覧表!M60","v":0}]
["性","ゼッケン",null,"氏名",null,"学年","所属","性","ゼッケン",null,"氏名",null,"学年","所属"]
["女",{"$f":"女子一覧表!B60","v":0},null,{"$f":"IF(女子一覧表!B60=\"\",\"\",VLOOKUP(B102,女子一覧表!$B$13:$F$78,2,FALSE))","v":""},null,{"$f":"IF(女子一覧表!B60=\"\",\"\",VLOOKUP(B102,女子一覧表!$B$13:$F$78,3,FALSE))","v":""},{"$f":"IF(D102=\"\",\"\",女子一覧表!$A$7)","v":""},"女",{"$f":"IF(女子一覧表!L60=\"\",\"\",女子一覧表!B60)","v":""},null,{"$f":"IF(女子一覧表!L60=\"\",\"\",VLOOKUP(I102,女子一覧表!$B$13:$F$78,2,FALSE))","v":""},null,{"$f":"IF(女子一覧表!L60=\"\",\"\",VLOOKUP(I102,女子一覧表!$B$13:$F$78,3,FALSE))","v":""},{"$f":"IF(K102=\"\",\"\",女子一覧表!$A$7)","v":""}]
["種目",null,{"$f":"女子一覧表!Y61","v":""},null,"記録",{"$f":"女子一覧表!J61","v":0},null,"種目",null,{"$f":"女子一覧表!Z61","v":""},null,"記録",{"$f":"女子一覧表!M61","v":0}]
["性","ゼッケン",null,"氏名",null,"学年","所属","性","ゼッケン",null,"氏名",null,"学年","所属"]
["女",{"$f":"女子一覧表!B61","v":0},null,{"$f":"IF(女子一覧表!B61=\"\",\"\",VLOOKUP(B105,女子一覧表!$B$13:$F$78,2,FALSE))","v":""},null,{"$f":"IF(女子一覧表!B61=\"\",\"\",VLOOKUP(B105,女子一覧表!$B$13:$F$78,3,FALSE))","v":""},{"$f":"IF(D105=\"\",\"\",女子一覧表!$A$7)","v":""},"女",{"$f":"IF(女子一覧表!L61=\"\",\"\",女子一覧表!B61)","v":""},null,{"$f":"IF(女子一覧表!L61=\"\",\"\",VLOOKUP(I105,女子一覧表!$B$13:$F$78,2,FALSE))","v":""},null,{"$f":"IF(女子一覧表!L61=\"\",\"\",VLOOKUP(I105,女子一覧表!$B$13:$F$78,3,FALSE))","v":""},{"$f":"IF(K105=\"\",\"\",女子一覧表!$A$7)","v":""}]
["種目",null,{"$f":"女子一覧表!Y62","v":""},null,"記録",{"$f":"女子一覧表!J62","v":0},null,"種目",null,{"$f":"女子一覧表!Z62","v":""},null,"記録",{"$f":"女子一覧表!M62","v":0}]
["性","ゼッケン",null,"氏名",null,"学年","所属","性","ゼッケン",null,"氏名",null,"学年","所属"]
["女",{"$f":"女子一覧表!B62","v":0},null,{"$f":"IF(女子一覧表!B62=\"\",\"\",VLOOKUP(B108,女子一覧表!$B$13:$F$78,2,FALSE))","v":""},null,{"$f":"IF(女子一覧表!B62=\"\",\"\",VLOOKUP(B108,女子一覧表!$B$13:$F$78,3,FALSE))","v":""},{"$f":"IF(D108=\"\",\"\",女子一覧表!$A$7)","v":""},"女",{"$f":"IF(女子一覧表!L62=\"\",\"\",女子一覧表!B62)","v":""},null,{"$f":"IF(女子一覧表!L62=\"\",\"\",VLOOKUP(I108,女子一覧表!$B$13:$F$78,2,FALSE))","v":""},null,{"$f":"IF(女子一覧表!L62=\"\",\"\",VLOOKUP(I108,女子一覧表!$B$13:$F$78,3,FALSE))","v":""},{"$f":"IF(K108=\"\",\"\",女子一覧表!$A$7)","v":""}]
["種目",null,{"$f":"女子一覧表!Y63","v":""},null,"記録",{"$f":"女子一覧表!J63","v":0},null,"種目",null,{"$f":"女子一覧表!Z63","v":""},null,"記録",{"$f":"女子一覧表!M63","v":0}]
["性","ゼッケン",null,"氏名",null,"学年","所属","性","ゼッケン",null,"氏名",null,"学年","所属"]
["女",{"$f":"女子一覧表!B63","v":0},null,{"$f":"IF(女子一覧表!B63=\"\",\"\",VLOOKUP(B111,女子一覧表!$B$13:$F$78,2,FALSE))","v":""},null,{"$f":"IF(女子一覧表!B63=\"\",\"\",VLOOKUP(B111,女子一覧表!$B$13:$F$78,3,FALSE))","v":""},{"$f":"IF(D111=\"\",\"\",女子一覧表!$A$7)","v":""},"女",{"$f":"IF(女子一覧表!L63=\"\",\"\",女子一覧表!B63)","v":""},null,{"$f":"IF(女子一覧表!L63=\"\",\"\",VLOOKUP(I111,女子一覧表!$B$13:$F$78,2,FALSE))","v":""},null,{"$f":"IF(女子一覧表!L63=\"\",\"\",VLOOKUP(I111,女子一覧表!$B$13:$F$78,3,FALSE))","v":""},{"$f":"IF(K111=\"\",\"\",女子一覧表!$A$7)","v":""}]
["種目",null,{"$f":"女子一覧表!Y64","v":""},null,"記録",{"$f":"女子一覧表!J64","v":0},null,"種目",null,{"$f":"女子一覧表!Z64","v":""},null,"記録",{"$f":"女子一覧表!M64","v":0}]
["性","ゼッケン",null,"氏名",null,"学年","所属","性","ゼッケン",null,"氏名",null,"学年","所属"]
["女",{"$f":"女子一覧表!B64","v":0},null,{"$f":"IF(女子一覧表!B64=\"\",\"\",VLOOKUP(B114,女子一覧表!$B$13:$F$78,2,FALSE))","v":""},null,{"$f":"IF(女子一覧表!B64=\"\",\"\",VLOOKUP(B114,女子一覧表!$B$13:$F$78,3,FALSE))","v":""},{"$f":"IF(D114=\"\",\"\",女子一覧表!$A$7)","v":""},"女",{"$f":"IF(女子一覧表!L64=\"\",\"\",女子一覧表!B64)","v":""},null,{"$f":"IF(女子一覧表!L64=\"\",\"\",VLOOKUP(I114,女子一覧表!$B$13:$F$78,2,FALSE))","v":""},null,{"$f":"IF(女子一覧表!L64=\"\",\"\",VLOOKUP(I114,女子一覧表!$B$13:$F$78,3,FALSE))","v":""},{"$f":"IF(K114=\"\",\"\",女子一覧表!$A$7)","v":""}]
["種目",null,{"$f":"女子一覧表!Y65","v":""},null,"記録",{"$f":"女子一覧表!J65","v":0},null,"種目",null,{"$f":"女子一覧表!Z65","v":""},null,"記録",{"$f":"女子一覧表!M65","v":0}]
["性","ゼッケン",null,"氏名",null,"学年","所属","性","ゼッケン",null,"氏名",null,"学年","所属"]
["女",{"$f":"女子一覧表!B65","v":0},null,{"$f":"IF(女子一覧表!B65=\"\",\"\",VLOOKUP(B117,女子一覧表!$B$13:$F$78,2,FALSE))","v":""},null,{"$f":"IF(女子一覧表!B65=\"\",\"\",VLOOKUP(B117,女子一覧表!$B$13:$F$78,3,FALSE))","v":""},{"$f":"IF(D117=\"\",\"\",女子一覧表!$A$7)","v":""},"女",{"$f":"IF(女子一覧表!L65=\"\",\"\",女子一覧表!B65)","v":""},null,{"$f":"IF(女子一覧表!L65=\"\",\"\",VLOOKUP(I117,女子一覧表!$B$13:$F$78,2,FALSE))","v":""},null,{"$f":"IF(女子一覧表!L65=\"\",\"\",VLOOKUP(I117,女子一覧表!$B$13:$F$78,3,FALSE))","v":""},{"$f":"IF(K117=\"\",\"\",女子一覧表!$A$7)","v":""}]
["種目",null,{"$f":"女子一覧表!Y66","v":""},null,"記録",{"$f":"女子一覧表!J66","v":0},null,"種目",null,{"$f":"女子一覧表!Z66","v":""},null,"記録",{"$f":"女子一覧表!M66","v":0}]
["性","ゼッケン",null,"氏名",null,"学年","所属","性","ゼッケン",null,"氏名",null,"学年","所属"]
["女",{"$f":"女子一覧表!B66","v":0},null,{"$f":"IF(女子一覧表!B66=\"\",\"\",VLOOKUP(B120,女子一覧表!$B$13:$F$78,2,FALSE))","v":""},null,{"$f":"IF(女子一覧表!B66=\"\",\"\",VLOOKUP(B120,女子一覧表!$B$13:$F$78,3,FALSE))","v":""},{"$f":"IF(D120=\"\",\"\",女子一覧表!$A$7)","v":""},"女",{"$f":"IF(女子一覧表!L66=\"\",\"\",女子一覧表!B66)","v":""},null,{"$f":"IF(女子一覧表!L66=\"\",\"\",VLOOKUP(I120,女子一覧表!$B$13:$F$78,2,FALSE))","v":""},null,{"$f":"IF(女子一覧表!L66=\"\",\"\",VLOOKUP(I120,女子一覧表!$B$13:$F$78,3,FALSE))","v":""},{"$f":"IF(K120=\"\",\"\",女子一覧表!$A$7)","v":""}]
["種目",null,{"$f":"女子一覧表!Y67","v":""},null,"記録",{"$f":"女子一覧表!J67","v":0},null,"種目",null,{"$f":"女子一覧表!Z67","v":""},null,"記録",{"$f":"女子一覧表!M67","v":0}]
["性","ゼッケン",null,"氏名",null,"学年","所属","性","ゼッケン",null,"氏名",null,"学年","所属"]
["女",{"$f":"女子一覧表!B67","v":0},null,{"$f":"IF(女子一覧表!B67=\"\",\"\",VLOOKUP(B123,女子一覧表!$B$13:$F$78,2,FALSE))","v":""},null,{"$f":"IF(女子一覧表!B67=\"\",\"\",VLOOKUP(B123,女子一覧表!$B$13:$F$78,3,FALSE))","v":""},{"$f":"IF(D123=\"\",\"\",女子一覧表!$A$7)","v":""},"女",{"$f":"IF(女子一覧表!L67=\"\",\"\",女子一覧表!B67)","v":""},null,{"$f":"IF(女子一覧表!L67=\"\",\"\",VLOOKUP(I123,女子一覧表!$B$13:$F$78,2,FALSE))","v":""},null,{"$f":"IF(女子一覧表!L67=\"\",\"\",VLOOKUP(I123,女子一覧表!$B$13:$F$78,3,FALSE))","v":""},{"$f":"IF(K123=\"\",\"\",女子一覧表!$A$7)","v":""}]
["種目",null,{"$f":"女子一覧表!Y68","v":""},null,"記録",{"$f":"女子一覧表!J68","v":0},null,"種目",null,{"$f":"女子一覧表!Z68","v":""},null,"記録",{"$f":"女子一覧表!M68","v":0}]
["性","ゼッケン",null,"氏名",null,"学年","所属","性","ゼッケン",null,"氏名",null,"学年","所属"]
["女",{"$f":"女子一覧表!B68","v":0},null,{"$f":"IF(女子一覧表!B68=\"\",\"\",VLOOKUP(B126,女子一覧表!$B$13:$F$78,2,FALSE))","v":""},null,{"$f":"IF(女子一覧表!B68=\"\",\"\",VLOOKUP(B126,女子一覧表!$B$13:$F$78,3,FALSE))","v":""},{"$f":"IF(D126=\"\",\"\",女子一覧表!$A$7)","v":""},"女",{"$f":"IF(女子一覧表!L68=\"\",\"\",女子一覧表!B68)","v":""},null,{"$f":"IF(女子一覧表!L68=\"\",\"\",VLOOKUP(I126,女子一覧表!$B$13:$F$78,2,FALSE))","v":""},null,{"$f":"IF(女子一覧表!L68=\"\",\"\",VLOOKUP(I126,女子一覧表!$B$13:$F$78,3,FALSE))","v":""},{"$f":"IF(K126=\"\",\"\",女子一覧表!$A$7)","v":""}]
["種目",null,{"$f":"女子一覧表!Y69","v":""},null,"記録",{"$f":"女子一覧表!J69","v":0},null,"種目",null,{"$f":"女子一覧表!Z69","v":""},null,"記録",{"$f":"女子一覧表!M69","v":0}]
["性","ゼッケン",null,"氏名",null,"学年","所属","性","ゼッケン",null,"氏名",null,"学年","所属"]
["女",{"$f":"女子一覧表!B69","v":0},null,{"$f":"IF(女子一覧表!B69=\"\",\"\",VLOOKUP(B129,女子一覧表!$B$13:$F$78,2,FALSE))","v":""},null,{"$f":"IF(女子一覧表!B69=\"\",\"\",VLOOKUP(B129,女子一覧表!$B$13:$F$78,3,FALSE))","v":""},{"$f":"IF(D129=\"\",\"\",女子一覧表!$A$7)","v":""},"女",{"$f":"IF(女子一覧表!L69=\"\",\"\",女子一覧表!B69)","v":""},null,{"$f":"IF(女子一覧表!L69=\"\",\"\",VLOOKUP(I129,女子一覧表!$B$13:$F$78,2,FALSE))","v":""},null,{"$f":"IF(女子一覧表!L69=\"\",\"\",VLOOKUP(I129,女子一覧表!$B$13:$F$78,3,FALSE))","v":""},{"$f":"IF(K129=\"\",\"\",女子一覧表!$A$7)","v":""}]
["種目",null,{"$f":"女子一覧表!Y70","v":""},null,"記録",{"$f":"女子一覧表!J70","v":0},null,"種目",null,{"$f":"女子一覧表!Z70","v":""},null,"記録",{"$f":"女子一覧表!M70","v":0}]
["性","ゼッケン",null,"氏名",null,"学年","所属","性","ゼッケン",null,"氏名",null,"学年","所属"]
["女",{"$f":"女子一覧表!B70","v":0},null,{"$f":"IF(女子一覧表!B70=\"\",\"\",VLOOKUP(B132,女子一覧表!$B$13:$F$78,2,FALSE))","v":""},null,{"$f":"IF(女子一覧表!B70=\"\",\"\",VLOOKUP(B132,女子一覧表!$B$13:$F$78,3,FALSE))","v":""},{"$f":"IF(D132=\"\",\"\",女子一覧表!$A$7)","v":""},"女",{"$f":"IF(女子一覧表!L70=\"\",\"\",女子一覧表!B70)","v":""},null,{"$f":"IF(女子一覧表!L70=\"\",\"\",VLOOKUP(I132,女子一覧表!$B$13:$F$78,2,FALSE))","v":""},null,{"$f":"IF(女子一覧表!L70=\"\",\"\",VLOOKUP(I132,女子一覧表!$B$13:$F$78,3,FALSE))","v":""},{"$f":"IF(K132=\"\",\"\",女子一覧表!$A$7)","v":""}]
["種目",null,{"$f":"女子一覧表!Y71","v":""},null,"記録",{"$f":"女子一覧表!J71","v":0},null,"種目",null,{"$f":"女子一覧表!Z71","v":""},null,"記録",{"$f":"女子一覧表!M71","v":0}]
["性","ゼッケン",null,"氏名",null,"学年","所属","性","ゼッケン",null,"氏名",null,"学年","所属"]
["女",{"$f":"女子一覧表!B71","v":0},null,{"$f":"IF(女子一覧表!B71=\"\",\"\",VLOOKUP(B135,女子一覧表!$B$13:$F$78,2,FALSE))","v":""},null,{"$f":"IF(女子一覧表!B71=\"\",\"\",VLOOKUP(B135,女子一覧表!$B$13:$F$78,3,FALSE))","v":""},{"$f":"IF(D135=\"\",\"\",女子一覧表!$A$7)","v":""},"女",{"$f":"IF(女子一覧表!L71=\"\",\"\",女子一覧表!B71)","v":""},null,{"$f":"IF(女子一覧表!L71=\"\",\"\",VLOOKUP(I135,女子一覧表!$B$13:$F$78,2,FALSE))","v":""},null,{"$f":"IF(女子一覧表!L71=\"\",\"\",VLOOKUP(I135,女子一覧表!$B$13:$F$78,3,FALSE))","v":""},{"$f":"IF(K135=\"\",\"\",女子一覧表!$A$7)","v":""}]
["種目",null,{"$f":"女子一覧表!Y72","v":""},null,"記録",{"$f":"女子一覧表!J72","v":0},null,"種目",null,{"$f":"女子一覧表!Z72","v":""},null,"記録",{"$f":"女子一覧表!M72","v":0}]
["性","ゼッケン",null,"氏名",null,"学年","所属","性","ゼッケン",null,"氏名",null,"学年","所属"]
["女",{"$f":"女子一覧表!B72","v":0},null,{"$f":"IF(女子一覧表!B72=\"\",\"\",VLOOKUP(B138,女子一覧表!$B$13:$F$78,2,FALSE))","v":""},null,{"$f":"IF(女子一覧表!B72=\"\",\"\",VLOOKUP(B138,女子一覧表!$B$13:$F$78,3,FALSE))","v":""},{"$f":"IF(D138=\"\",\"\",女子一覧表!$A$7)","v":""},"女",{"$f":"IF(女子一覧表!L72=\"\",\"\",女子一覧表!B72)","v":""},null,{"$f":"IF(女子一覧表!L72=\"\",\"\",VLOOKUP(I138,女子一覧表!$B$13:$F$78,2,FALSE))","v":""},null,{"$f":"IF(女子一覧表!L72=\"\",\"\",VLOOKUP(I138,女子一覧表!$B$13:$F$78,3,FALSE))","v":""},{"$f":"IF(K138=\"\",\"\",女子一覧表!$A$7)","v":""}]
["種目",null,{"$f":"女子一覧表!Y73","v":""},null,"記録",{"$f":"女子一覧表!J73","v":0},null,"種目",null,{"$f":"女子一覧表!Z73","v":""},null,"記録",{"$f":"女子一覧表!M73","v":0}]
["性","ゼッケン",null,"氏名",null,"学年","所属","性","ゼッケン",null,"氏名",null,"学年","所属"]
["女",{"$f":"女子一覧表!B73","v":0},null,{"$f":"IF(女子一覧表!B73=\"\",\"\",VLOOKUP(B141,女子一覧表!$B$13:$F$78,2,FALSE))","v":""},null,{"$f":"IF(女子一覧表!B73=\"\",\"\",VLOOKUP(B141,女子一覧表!$B$13:$F$78,3,FALSE))","v":""},{"$f":"IF(D141=\"\",\"\",女子一覧表!$A$7)","v":""},"女",{"$f":"IF(女子一覧表!L73=\"\",\"\",女子一覧表!B73)","v":""},null,{"$f":"IF(女子一覧表!L73=\"\",\"\",VLOOKUP(I141,女子一覧表!$B$13:$F$78,2,FALSE))","v":""},null,{"$f":"IF(女子一覧表!L73=\"\",\"\",VLOOKUP(I141,女子一覧表!$B$13:$F$78,3,FALSE))","v":""},{"$f":"IF(K141=\"\",\"\",女子一覧表!$A$7)","v":""}]
["種目",null,{"$f":"女子一覧表!Y74","v":""},null,"記録",{"$f":"女子一覧表!J74","v":0},null,"種目",null,{"$f":"女子一覧表!Z74","v":""},null,"記録",{"$f":"女子一覧表!M74","v":0}]
["性","ゼッケン",null,"氏名",null,"学年","所属","性","ゼッケン",null,"氏名",null,"学年","所属"]
["女",{"$f":"女子一覧表!B74","v":0},null,{"$f":"IF(女子一覧表!B74=\"\",\"\",VLOOKUP(B144,女子一覧表!$B$13:$F$78,2,FALSE))","v":""},null,{"$f":"IF(女子一覧表!B74=\"\",\"\",VLOOKUP(B144,女子一覧表!$B$13:$F$78,3,FALSE))","v":""},{"$f":"IF(D144=\"\",\"\",女子一覧表!$A$7)","v":""},"女",{"$f":"IF(女子一覧表!L74=\"\",\"\",女子一覧表!B74)","v":""},null,{"$f":"IF(女子一覧表!L74=\"\",\"\",VLOOKUP(I144,女子一覧表!$B$13:$F$78,2,FALSE))","v":""},null,{"$f":"IF(女子一覧表!L74=\"\",\"\",VLOOKUP(I144,女子一覧表!$B$13:$F$78,3,FALSE))","v":""},{"$f":"IF(K144=\"\",\"\",女子一覧表!$A$7)","v":""}]
["種目",null,{"$f":"女子一覧表!Y75","v":""},null,"記録",{"$f":"女子一覧表!J75","v":0},null,"種目",null,{"$f":"女子一覧表!Z75","v":""},null,"記録",{"$f":"女子一覧表!M75","v":0}]
["性","ゼッケン",null,"氏名",null,"学年","所属","性","ゼッケン",null,"氏名",null,"学年","所属"]
["女",{"$f":"女子一覧表!B75","v":0},null,{"$f":"IF(女子一覧表!B75=\"\",\"\",VLOOKUP(B147,女子一覧表!$B$13:$F$78,2,FALSE))","v":""},null,{"$f":"IF(女子一覧表!B75=\"\",\"\",VLOOKUP(B147,女子一覧表!$B$13:$F$78,3,FALSE))","v":""},{"$f":"IF(D147=\"\",\"\",女子一覧表!$A$7)","v":""},"女",{"$f":"IF(女子一覧表!L75=\"\",\"\",女子一覧表!B75)","v":""},null,{"$f":"IF(女子一覧表!L75=\"\",\"\",VLOOKUP(I147,女子一覧表!$B$13:$F$78,2,FALSE))","v":""},null,{"$f":"IF(女子一覧表!L75=\"\",\"\",VLOOKUP(I147,女子一覧表!$B$13:$F$78,3,FALSE))","v":""},{"$f":"IF(K147=\"\",\"\",女子一覧表!$A$7)","v":""}]
["種目",null,{"$f":"女子一覧表!Y76","v":""},null,"記録",{"$f":"女子一覧表!J76","v":0},null,"種目",null,{"$f":"女子一覧表!Z76","v":""},null,"記録",{"$f":"女子一覧表!M76","v":0}]
["性","ゼッケン",null,"氏名",null,"学年","所属","性","ゼッケン",null,"氏名",null,"学年","所属"]
["女",{"$f":"女子一覧表!B76","v":0},null,{"$f":"IF(女子一覧表!B76=\"\",\"\",VLOOKUP(B150,女子一覧表!$B$13:$F$78,2,FALSE))","v":""},null,{"$f":"IF(女子一覧表!B76=\"\",\"\",VLOOKUP(B150,女子一覧表!$B$13:$F$78,3,FALSE))","v":""},{"$f":"IF(D150=\"\",\"\",女子一覧表!$A$7)","v":""},"女",{"$f":"IF(女子一覧表!L76=\"\",\"\",女子一覧表!B76)","v":""},null,{"$f":"IF(女子一覧表!L76=\"\",\"\",VLOOKUP(I150,女子一覧表!$B$13:$F$78,2,FALSE))","v":""},null,{"$f":"IF(女子一覧表!L76=\"\",\"\",VLOOKUP(I150,女子一覧表!$B$13:$F$78,3,FALSE))","v":""},{"$f":"IF(K150=\"\",\"\",女子一覧表!$A$7)","v":""}]
["種目",null,{"$f":"女子一覧表!Y77","v":""},null,"記録",{"$f":"女子一覧表!J77","v":0},null,"種目",null,{"$f":"女子一覧表!Z77","v":""},null,"記録",{"$f":"女子一覧表!M77","v":0}]
["性","ゼッケン",null,"氏名",null,"学年","所属","性","ゼッケン",null,"氏名",null,"学年","所属"]
["女",{"$f":"女子一覧表!B77","v":0},null,{"$f":"IF(女子一覧表!B77=\"\",\"\",VLOOKUP(B153,女子一覧表!$B$13:$F$78,2,FALSE))","v":""},null,{"$f":"IF(女子一覧表!B77=\"\",\"\",VLOOKUP(B153,女子一覧表!$B$13:$F$78,3,FALSE))","v":""},{"$f":"IF(D153=\"\",\"\",女子一覧表!$A$7)","v":""},"女",{"$f":"IF(女子一覧表!L77=\"\",\"\",女子一覧表!B77)","v":""},null,{"$f":"IF(女子一覧表!L77=\"\",\"\",VLOOKUP(I153,女子一覧表!$B$13:$F$78,2,FALSE))","v":""},null,{"$f":"IF(女子一覧表!L77=\"\",\"\",VLOOKUP(I153,女子一覧表!$B$13:$F$78,3,FALSE))","v":""},{"$f":"IF(K153=\"\",\"\",女子一覧表!$A$7)","v":""}]
["種目",null,{"$f":"女子一覧表!Y78","v":""},null,"記録",{"$f":"女子一覧表!J78","v":0},null,"種目",null,{"$f":"女子一覧表!Z78","v":""},null,"記録",{"$f":"女子一覧表!M78","v":0}]
["性","ゼッケン",null,"氏名",null,"学年","所属","性","ゼッケン",null,"氏名",null,"学年","所属"]
["女",{"$f":"女子一覧表!B78","v":0},null,{"$f":"IF(女子一覧表!B78=\"\",\"\",VLOOKUP(B156,女子一覧表!$B$13:$F$78,2,FALSE))","v":""},null,{"$f":"IF(女子一覧表!B78=\"\",\"\",VLOOKUP(B156,女子一覧表!$B$13:$F$78,3,FALSE))","v":""},{"$f":"IF(D156=\"\",\"\",女子一覧表!$A$7)","v":""},"女",{"$f":"IF(女子一覧表!L78=\"\",\"\",女子一覧表!B78)","v":""},null,{"$f":"IF(女子一覧表!L78=\"\",\"\",VLOOKUP(I156,女子一覧表!$B$13:$F$78,2,FALSE))","v":""},null,{"$f":"IF(女子一覧表!L78=\"\",\"\",VLOOKUP(I156,女子一覧表!$B$13:$F$78,3,FALSE))","v":""},{"$f":"IF(K156=\"\",\"\",女子一覧表!$A$7)","v":""}]
[]
["リレー個票"]
[]
["種目",null,null,null,"記録",null,null,"種目",null,null,null,"記録",null,null,null,null,"A",null,null,null,null,null,null,"4×100R"]
["所属",null,null,{"$f":"男子一覧表!$A$7","v":{"$error":"#REF!"}},null,null,"A","所属",null,null,{"$f":"男子一覧表!$A$7","v":{"$error":"#REF!"}},null,null,"B",null,null,"B",null,null,null,null,null,null,"4×200R"]
["女","ゼッケン",null,"氏　　名",null,null,"学年","女","ゼッケン",null,"氏　　名",null,null,"学年",null,null,"C",null,null,null,null,null,null,"低学年400R"]
[null,null,null,{"$f":"IF(B163=\"\",\"\",VLOOKUP(B163,女子一覧表!$B$13:$C$78,2,FALSE))","v":""},null,null,{"$f":"IF(B163=\"\",\"\",VLOOKUP(B163,女子一覧表!$B$13:$E$78,3,FALSE))","v":""},null,null,null,{"$f":"IF(I163=\"\",\"\",VLOOKUP(I163,女子一覧表!$B$13:$C$78,2,FALSE))","v":""},null,null,{"$f":"IF(I163=\"\",\"\",VLOOKUP(I163,女子一覧表!$B$13:$E$78,3,FALSE))","v":""},null,null,"D"]
[null,null,null,{"$f":"IF(B164=\"\",\"\",VLOOKUP(B164,女子一覧表!$B$13:$C$78,2,FALSE))","v":""},null,null,{"$f":"IF(B164=\"\",\"\",VLOOKUP(B164,女子一覧表!$B$13:$E$78,3,FALSE))","v":""},null,null,null,{"$f":"IF(I164=\"\",\"\",VLOOKUP(I164,女子一覧表!$B$13:$C$78,2,FALSE))","v":""},null,null,{"$f":"IF(I164=\"\",\"\",VLOOKUP(I164,女子一覧表!$B$13:$E$78,3,FALSE))","v":""},null,null,"E"]
[null,null,null,{"$f":"IF(B165=\"\",\"\",VLOOKUP(B165,女子一覧表!$B$13:$C$78,2,FALSE))","v":""},null,null,{"$f":"IF(B165=\"\",\"\",VLOOKUP(B165,女子一覧表!$B$13:$E$78,3,FALSE))","v":""},null,null,null,{"$f":"IF(I165=\"\",\"\",VLOOKUP(I165,女子一覧表!$B$13:$C$78,2,FALSE))","v":""},null,null,{"$f":"IF(I165=\"\",\"\",VLOOKUP(I165,女子一覧表!$B$13:$E$78,3,FALSE))","v":""}]
[null,null,null,{"$f":"IF(B166=\"\",\"\",VLOOKUP(B166,女子一覧表!$B$13:$C$78,2,FALSE))","v":""},null,null,{"$f":"IF(B166=\"\",\"\",VLOOKUP(B166,女子一覧表!$B$13:$E$78,3,FALSE))","v":""},null,null,null,{"$f":"IF(I166=\"\",\"\",VLOOKUP(I166,女子一覧表!$B$13:$C$78,2,FALSE))","v":""},null,null,{"$f":"IF(I166=\"\",\"\",VLOOKUP(I166,女子一覧表!$B$13:$E$78,3,FALSE))","v":""}]
[null,null,null,{"$f":"IF(B167=\"\",\"\",VLOOKUP(B167,女子一覧表!$B$13:$C$78,2,FALSE))","v":""},null,null,{"$f":"IF(B167=\"\",\"\",VLOOKUP(B167,女子一覧表!$B$13:$E$78,3,FALSE))","v":""},null,null,null,{"$f":"IF(I167=\"\",\"\",VLOOKUP(I167,女子一覧表!$B$13:$C$78,2,FALSE))","v":""},null,null,{"$f":"IF(I167=\"\",\"\",VLOOKUP(I167,女子一覧表!$B$13:$E$78,3,FALSE))","v":""}]
[null,null,null,{"$f":"IF(B168=\"\",\"\",VLOOKUP(B168,女子一覧表!$B$13:$C$78,2,FALSE))","v":""},null,null,{"$f":"IF(B168=\"\",\"\",VLOOKUP(B168,女子一覧表!$B$13:$E$78,3,FALSE))","v":""},null,null,null,{"$f":"IF(I168=\"\",\"\",VLOOKUP(I168,女子一覧表!$B$13:$C$78,2,FALSE))","v":""},null,null,{"$f":"IF(I168=\"\",\"\",VLOOKUP(I168,女子一覧表!$B$13:$E$78,3,FALSE))","v":""}]
["種目",null,null,null,"記録",null,null,"種目",null,null,null,"記録"]
["所属",null,null,{"$f":"男子一覧表!$A$7","v":{"$error":"#REF!"}},null,null,"C","所属",null,null,{"$f":"男子一覧表!$A$7","v":{"$error":"#REF!"}},null,null,"D"]
["女","ゼッケン",null,"氏　　名",null,null,"学年","女","ゼッケン",null,"氏　　名",null,null,"学年"]
[null,null,null,{"$f":"IF(B172=\"\",\"\",VLOOKUP(B172,女子一覧表!$B$13:$C$78,2,FALSE))","v":""},null,null,{"$f":"IF(B172=\"\",\"\",VLOOKUP(B172,女子一覧表!$B$13:$E$78,3,FALSE))","v":""},null,null,null,{"$f":"IF(I172=\"\",\"\",VLOOKUP(I172,女子一覧表!$B$13:$C$78,2,FALSE))","v":""},null,null,{"$f":"IF(I172=\"\",\"\",VLOOKUP(I172,女子一覧表!$B$13:$E$78,3,FALSE))","v":""}]
[null,null,null,{"$f":"IF(B173=\"\",\"\",VLOOKUP(B173,女子一覧表!$B$13:$C$78,2,FALSE))","v":""},null,null,{"$f":"IF(B173=\"\",\"\",VLOOKUP(B173,女子一覧表!$B$13:$E$78,3,FALSE))","v":""},null,null,null,{"$f":"IF(I173=\"\",\"\",VLOOKUP(I173,女子一覧表!$B$13:$C$78,2,FALSE))","v":""},null,null,{"$f":"IF(I173=\"\",\"\",VLOOKUP(I173,女子一覧表!$B$13:$E$78,3,FALSE))","v":""}]
[null,null,null,{"$f":"IF(B174=\"\",\"\",VLOOKUP(B174,女子一覧表!$B$13:$C$78,2,FALSE))","v":""},null,null,{"$f":"IF(B174=\"\",\"\",VLOOKUP(B174,女子一覧表!$B$13:$E$78,3,FALSE))","v":""},null,null,null,{"$f":"IF(I174=\"\",\"\",VLOOKUP(I174,女子一覧表!$B$13:$C$78,2,FALSE))","v":""},null,null,{"$f":"IF(I174=\"\",\"\",VLOOKUP(I174,女子一覧表!$B$13:$E$78,3,FALSE))","v":""}]
[null,null,null,{"$f":"IF(B175=\"\",\"\",VLOOKUP(B175,女子一覧表!$B$13:$C$78,2,FALSE))","v":""},null,null,{"$f":"IF(B175=\"\",\"\",VLOOKUP(B175,女子一覧表!$B$13:$E$78,3,FALSE))","v":""},null,null,null,{"$f":"IF(I175=\"\",\"\",VLOOKUP(I175,女子一覧表!$B$13:$C$78,2,FALSE))","v":""},null,null,{"$f":"IF(I175=\"\",\"\",VLOOKUP(I175,女子一覧表!$B$13:$E$78,3,FALSE))","v":""}]
[null,null,null,{"$f":"IF(B176=\"\",\"\",VLOOKUP(B176,女子一覧表!$B$13:$C$78,2,FALSE))","v":""},null,null,{"$f":"IF(B176=\"\",\"\",VLOOKUP(B176,女子一覧表!$B$13:$E$78,3,FALSE))","v":""},null,null,null,{"$f":"IF(I176=\"\",\"\",VLOOKUP(I176,女子一覧表!$B$13:$C$78,2,FALSE))","v":""},null,null,{"$f":"IF(I176=\"\",\"\",VLOOKUP(I176,女子一覧表!$B$13:$E$78,3,FALSE))","v":""}]
[null,null,null,{"$f":"IF(B177=\"\",\"\",VLOOKUP(B177,女子一覧表!$B$13:$C$78,2,FALSE))","v":""},null,null,{"$f":"IF(B177=\"\",\"\",VLOOKUP(B177,女子一覧表!$B$13:$E$78,3,FALSE))","v":""},null,null,null,{"$f":"IF(I177=\"\",\"\",VLOOKUP(I177,女子一覧表!$B$13:$C$78,2,FALSE))","v":""},null,null,{"$f":"IF(I177=\"\",\"\",VLOOKUP(I177,女子一覧表!$B$13:$E$78,3,FALSE))","v":""}]
["種目",null,null,null,"記録",null,null,"種目",null,null,null,"記録"]
["所属",null,null,{"$f":"男子一覧表!$A$7","v":{"$error":"#REF!"}},null,null,"E","所属",null,null,{"$f":"男子一覧表!$A$7","v":{"$error":"#REF!"}}]
["女","ゼッケン",null,"氏　　名",null,null,"学年","女","ゼッケン",null,"氏　　名",null,null,"学年"]
[null,null,null,{"$f":"IF(B181=\"\",\"\",VLOOKUP(B181,女子一覧表!$B$13:$C$78,2,FALSE))","v":""},null,null,{"$f":"IF(B181=\"\",\"\",VLOOKUP(B181,女子一覧表!$B$13:$E$78,3,FALSE))","v":""},null,null,null,{"$f":"IF(I181=\"\",\"\",VLOOKUP(I181,女子一覧表!$B$13:$C$78,2,FALSE))","v":""},null,null,{"$f":"IF(I181=\"\",\"\",VLOOKUP(I181,女子一覧表!$B$13:$E$78,3,FALSE))","v":""}]
[null,null,null,{"$f":"IF(B182=\"\",\"\",VLOOKUP(B182,女子一覧表!$B$13:$C$78,2,FALSE))","v":""},null,null,{"$f":"IF(B182=\"\",\"\",VLOOKUP(B182,女子一覧表!$B$13:$E$78,3,FALSE))","v":""},null,null,null,{"$f":"IF(I182=\"\",\"\",VLOOKUP(I182,女子一覧表!$B$13:$C$78,2,FALSE))","v":""},null,null,{"$f":"IF(I182=\"\",\"\",VLOOKUP(I182,女子一覧表!$B$13:$E$78,3,FALSE))","v":""}]
[null,null,null,{"$f":"IF(B183=\"\",\"\",VLOOKUP(B183,女子一覧表!$B$13:$C$78,2,FALSE))","v":""},null,null,{"$f":"IF(B183=\"\",\"\",VLOOKUP(B183,女子一覧表!$B$13:$E$78,3,FALSE))","v":""},null,null,null,{"$f":"IF(I183=\"\",\"\",VLOOKUP(I183,女子一覧表!$B$13:$C$78,2,FALSE))","v":""},null,null,{"$f":"IF(I183=\"\",\"\",VLOOKUP(I183,女子一覧表!$B$13:$E$78,3,FALSE))","v":""}]
[null,null,null,{"$f":"IF(B184=\"\",\"\",VLOOKUP(B184,女子一覧表!$B$13:$C$78,2,FALSE))","v":""},null,null,{"$f":"IF(B184=\"\",\"\",VLOOKUP(B184,女子一覧表!$B$13:$E$78,3,FALSE))","v":""},null,null,null,{"$f":"IF(I184=\"\",\"\",VLOOKUP(I184,女子一覧表!$B$13:$C$78,2,FALSE))","v":""},null,null,{"$f":"IF(I184=\"\",\"\",VLOOKUP(I184,女子一覧表!$B$13:$E$78,3,FALSE))","v":""}]
[null,null,null,{"$f":"IF(B185=\"\",\"\",VLOOKUP(B185,女子一覧表!$B$13:$C$78,2,FALSE))","v":""},null,null,{"$f":"IF(B185=\"\",\"\",VLOOKUP(B185,女子一覧表!$B$13:$E$78,3,FALSE))","v":""},null,null,null,{"$f":"IF(I185=\"\",\"\",VLOOKUP(I185,女子一覧表!$B$13:$C$78,2,FALSE))","v":""},null,null,{"$f":"IF(I185=\"\",\"\",VLOOKUP(I185,女子一覧表!$B$13:$E$78,3,FALSE))","v":""}]
[null,null,null,{"$f":"IF(B186=\"\",\"\",VLOOKUP(B186,女子一覧表!$B$13:$C$78,2,FALSE))","v":""},null,null,{"$f":"IF(B186=\"\",\"\",VLOOKUP(B186,女子一覧表!$B$13:$E$78,3,FALSE))","v":""},null,null,null,{"$f":"IF(I186=\"\",\"\",VLOOKUP(I186,女子一覧表!$B$13:$C$78,2,FALSE))","v":""},null,null,{"$f":"IF(I186=\"\",\"\",VLOOKUP(I186,女子一覧表!$B$13:$E$78,3,FALSE))","v":""}]
["種目",null,null,null,"記録",null,null,"種目",null,null,null,"記録"]
["所属",null,null,{"$f":"男子一覧表!$A$7","v":{"$error":"#REF!"}},null,null,"E","所属",null,null,{"$f":"男子一覧表!$A$7","v":{"$error":"#REF!"}}]
["女","ゼッケン",null,"氏　　名",null,null,"学年","女","ゼッケン",null,"氏　　名",null,null,"学年"]
[null,null,null,{"$f":"IF(B190=\"\",\"\",VLOOKUP(B190,女子一覧表!$B$13:$C$78,2,FALSE))","v":""},null,null,{"$f":"IF(B190=\"\",\"\",VLOOKUP(B190,女子一覧表!$B$13:$E$78,3,FALSE))","v":""},null,null,null,{"$f":"IF(I190=\"\",\"\",VLOOKUP(I190,女子一覧表!$B$13:$C$78,2,FALSE))","v":""},null,null,{"$f":"IF(I190=\"\",\"\",VLOOKUP(I190,女子一覧表!$B$13:$E$78,3,FALSE))","v":""}]
[null,null,null,{"$f":"IF(B191=\"\",\"\",VLOOKUP(B191,女子一覧表!$B$13:$C$78,2,FALSE))","v":""},null,null,{"$f":"IF(B191=\"\",\"\",VLOOKUP(B191,女子一覧表!$B$13:$E$78,3,FALSE))","v":""},null,null,null,{"$f":"IF(I191=\"\",\"\",VLOOKUP(I191,女子一覧表!$B$13:$C$78,2,FALSE))","v":""},null,null,{"$f":"IF(I191=\"\",\"\",VLOOKUP(I191,女子一覧表!$B$13:$E$78,3,FALSE))","v":""}]
[null,null,null,{"$f":"IF(B192=\"\",\"\",VLOOKUP(B192,女子一覧表!$B$13:$C$78,2,FALSE))","v":""},null,null,{"$f":"IF(B192=\"\",\"\",VLOOKUP(B192,女子一覧表!$B$13:$E$78,3,FALSE))","v":""},null,null,null,{"$f":"IF(I192=\"\",\"\",VLOOKUP(I192,女子一覧表!$B$13:$C$78,2,FALSE))","v":""},null,null,{"$f":"IF(I192=\"\",\"\",VLOOKUP(I192,女子一覧表!$B$13:$E$78,3,FALSE))","v":""}]
[null,null,null,{"$f":"IF(B193=\"\",\"\",VLOOKUP(B193,女子一覧表!$B$13:$C$78,2,FALSE))","v":""},null,null,{"$f":"IF(B193=\"\",\"\",VLOOKUP(B193,女子一覧表!$B$13:$E$78,3,FALSE))","v":""},null,null,null,{"$f":"IF(I193=\"\",\"\",VLOOKUP(I193,女子一覧表!$B$13:$C$78,2,FALSE))","v":""},null,null,{"$f":"IF(I193=\"\",\"\",VLOOKUP(I193,女子一覧表!$B$13:$E$78,3,FALSE))","v":""}]
[null,null,null,{"$f":"IF(B194=\"\",\"\",VLOOKUP(B194,女子一覧表!$B$13:$C$78,2,FALSE))","v":""},null,null,{"$f":"IF(B194=\"\",\"\",VLOOKUP(B194,女子一覧表!$B$13:$E$78,3,FALSE))","v":""},null,null,null,{"$f":"IF(I194=\"\",\"\",VLOOKUP(I194,女子一覧表!$B$13:$C$78,2,FALSE))","v":""},null,null,{"$f":"IF(I194=\"\",\"\",VLOOKUP(I194,女子一覧表!$B$13:$E$78,3,FALSE))","v":""}]
[null,null,null,{"$f":"IF(B195=\"\",\"\",VLOOKUP(B195,女子一覧表!$B$13:$C$78,2,FALSE))","v":""},null,null,{"$f":"IF(B195=\"\",\"\",VLOOKUP(B195,女子一覧表!$B$13:$E$78,3,FALSE))","v":""},null,null,null,{"$f":"IF(I195=\"\",\"\",VLOOKUP(I195,女子一覧表!$B$13:$C$78,2,FALSE))","v":""},null,null,{"$f":"IF(I195=\"\",\"\",VLOOKUP(I195,女子一覧表!$B$13:$E$78,3,FALSE))","v":""}]

{"sheet":"1","index":23,"n_rows":1,"n_cols":4,"rows_kept":1,"cut":false,"hidden":false,"merged":[]}
[1,"選　手","コード","コード"]

{"sheet":"男子種目コード","index":24,"n_rows":33,"n_cols":23,"rows_kept":33,"cut":false,"hidden":true,"merged":[]}
["国体1次高校県選",null,null,"通信",null,null,"中学混成",null,null,"リレーカーニバル",null,null,"中学選抜",null,null,"ジュニアO",null,null,"中学県大会",null,null,"スポーツF"]
[100,1,null,"1年100",1,null,"四種",1,null,"5年100",null,null,100,101,null,"高校100",1,null,100,1,null,100,3]
[200,2,null,"1年1500",2,null,100,2,null,"6年100",null,null,200,102,null,"高校3000",2,null,200,2,null,3000,6]
[400,3,null,"2年100",3,null,1500,3,null,"5･6年1000",null,null,400,103,null,"高校110JH",3,null,400,3]
[800,4,null,"2年1500",4,null,3000,4,null,"5･6年80H",null,null,800,104,null,"高校走幅跳",4,null,800,4]
[1500,5,null,100,5,null,"棒高跳",5,null,"5･6年走幅跳",null,null,1500,105,null,"高校円盤投",5,null,3000,5]
[5000,6,null,200,6,null,null,null,null,"5･6年ボール投",null,null,3000,106,null,"A-100",6,null,"110H",6]
[10000,7,null,400,7,null,null,null,null,"5･6年4×100R",null,null,"110H",107,null,"A-200",7,null,"低学年R",7]
["110H",8,null,800,8,null,null,null,null,"混成リレー",null,null,"走高跳",108,null,null,8,null,"4×200R",8]
["400H",9,null,1500,9,null,null,null,null,100,101,null,"棒高跳",109,null,null,9,null,"走高跳",9]
["3000SC",10,null,3000,10,null,null,null,null,1500,102,null,"走幅跳",110,null,"A-3000",10,null,"棒高跳",10]
[null,11,null,"110H",11,null,null,null,null,"4×100Ｒ",103,null,"砲丸投",111,null,"A-110H",11,null,"走幅跳",11]
["5000W",12,null,"低学年R",12,null,null,null,null,"走高跳",104,null,"四種",112,null,"A-走高跳",12,null,"三段跳",12]
["4×100",13,null,"4×100R",13,null,null,null,null,"走幅跳",105,null,null,null,null,"A-砲丸投",13,null,"砲丸投",13]
["4×400",14,null,"走高跳",14,null,null,null,null,"砲丸投",106,null,null,null,null,"B-100",14,null,"円盤投",14]
["走高跳",15,null,"棒高跳",15,null,null,null,null,"ｼﾞｬﾍﾞﾘｯｸ",107,null,null,null,null,"B-1500",15]
["棒高跳",16,null,"走幅跳",16,null,null,null,null,"男子A",103,null,null,null,null,"B-110H",16]
["走幅跳",17,null,"三段跳",17,null,null,null,null,"男子B",103,null,null,null,null,"B-走幅跳",17]
["三段跳",18,null,"砲丸投",18,null,null,null,null,"男子C",103,null,null,null,null,"C-100",18]
["砲丸投",19,null,"円盤投",19,null,null,null,null,null,null,null,null,null,null,"C-100H",19]
["円盤投",20,null,null,null,null,null,null,null,null,null,null,null,null,null,"C-走幅跳",20]
["やり投",21,null,null,null,null,null,null,null,null,null,null,null,null,null,"C-砲丸投",21,null,null,null,null,"ロードレース"]
["ハンマー投",22,null,null,null,null,null,null,null,null,null,null,null,null,null,"AB円盤投",22]
["少年B走幅跳",30,null,null,null,null,null,null,null,null,null,null,null,null,null,"ABCｼﾞｬﾍﾞﾘｯｸ",23]
["少年3000",24,null,null,null,null,null,null,null,null,null,null,null,null,null,"C-1500",24,null,null,null,null,"中学男子5ｋ",4]
["少年砲丸投",25,null,null,null,null,null,null,null,null,null,null,null,null,null,"B-砲丸投",25]
["少年円盤投",26]
["少年ハンマー投",27]
["少年B100",28]
["少年B砲丸投",29]
[]
["少年Aハンマー投",31]
[null,32]

{"sheet":"女子種目コード","index":25,"n_rows":28,"n_cols":23,"rows_kept":28,"cut":false,"hidden":true,"merged":[]}
["国体1次高校県選",null,null,"通信",null,null,"中学混成",null,null,"リレーカーニバル",null,null,"中学選抜",null,null,"ジュニアO",null,null,"中学県大会",null,null,"スポーツF"]
[100,40,null,"1年100",30,null,"四種",10,null,"5年100",null,null,100,113,null,"高校100",30,null,100,20,null,100,9]
[200,41,null,"1年800",31,null,100,11,null,"6年100",null,null,200,114,null,"高校3000",31,null,200,21,null,3000,12]
[400,42,null,"2年100",32,null,800,12,null,"5･6年1000",null,null,800,115,null,"高校100H",32,null,800,22]
[800,43,null,100,33,null,1500,13,null,"5･6年80H",null,null,1500,116,null,"高校走幅跳",33,null,2000,23]
[1500,44,null,200,34,null,"棒高跳",14,null,"5･6年走幅跳",null,null,"100H",117,null,"高校円盤投",34,null,"100H",24]
[3000,45,null,800,35,null,null,null,null,"5･6年ボール投",null,null,"走高跳",118,null,"A-100",35,null,"低学年R",25]
[5000,46,null,1500,36,null,null,null,null,"5･6年4×100R",null,null,"走幅跳",119,null,"A-200",36,null,"4×100R",26]
[10000,47,null,"100H",37,null,null,null,null,"混成リレー",null,null,"砲丸投",120,null,"A-3000",37,null,"走高跳",27]
["100H",48,null,"低学年R",38,null,null,null,null,100,110,null,"四種",121,null,"A-100H",38,null,"走幅跳",28]
["400H",49,null,"4×100R",39,null,null,null,null,800,111,null,null,null,null,"A-走高跳",39,null,"砲丸投",29]
[null,50,null,"走高跳",40,null,null,null,null,"4×100Ｒ",112,null,null,null,null,"B-100",40,null,"円盤投",30]
["3000W",51,null,"走幅跳",41,null,null,null,null,"走高跳",113,null,null,null,null,"B-1500",41]
["5000W",52,null,"砲丸投",42,null,null,null,null,"走幅跳",114,null,null,null,null,"B-100H",42]
["4×100",53,null,"円盤投",43,null,null,null,null,"砲丸投",115,null,null,null,null,null,43]
["4×400",54,null,"棒高跳",44,null,null,null,null,"ｼﾞｬﾍﾞﾘｯｸ",116,null,null,null,null,"B-走幅跳",44]
["走高跳",55,null,"三段跳",45,null,null,null,null,"女子A",112,null,null,null,null,"B-砲丸投",45]
["棒高跳",56,null,null,null,null,null,null,null,"女子B",112,null,null,null,null,"C-100",46]
["走幅跳",57,null,null,null,null,null,null,null,"女子C",112,null,null,null,null,null,47]
["三段跳",58,null,null,null,null,null,null,null,null,null,null,null,null,null,"C-走幅跳",48]
["砲丸投",59,null,null,null,null,null,null,null,null,null,null,null,null,null,null,49]
["円盤投",60,null,null,null,null,null,null,null,null,null,null,null,null,null,"AB円盤投",50,null,null,null,null,"ロードレース"]
["やり投",61,null,null,null,null,null,null,null,null,null,null,null,null,null,"ABCｼﾞｬﾍﾞﾘｯｸ",51]
["ハンマー投",62,null,null,null,null,null,null,null,null,null,null,null,null,null,"C-800",52,null,null,null,null,"中学女子3ｋ",8]
["7種",63,null,null,null,null,null,null,null,null,null,null,null,null,null,"A-砲丸投",53]
["少年3000",64,null,null,null,null,null,null,null,null,null,null,null,null,null,null,54]
["少年B100YH",65]
["少年B100",66]