{"text_format":"1","workbook":"xlsx","n_sheets":20,"sheets":["注意","説明","メニュー","大会申込","陸連登録","県外認知書","個人種目選手権","県選","ジュニアO","SF","DENSO_CUP","お伊勢さんマラソン","振込票貼付用紙","男子種目コード","女子種目コード","作業","所属コード","所属地コード","選手DATA","Sheet1"],"not_rendered":{"charts":0,"images":3,"macros":1,"external_links":1,"defined_names":48,"comments":1,"pivot_tables":0},"unopened":[],"bounds":{"document_bytes":16777216,"sheet_cells":100000,"rows_first":2000,"rows_last":500,"rows_between":2000,"halvings":0,"cell_chars":16384,"cell_head_chars":4096},"cells_cut":0,"cells_raw":0,"read":"whole","date_system":"1900"}

{"sheet":"注意","index":0,"n_rows":69,"n_cols":1,"rows_kept":69,"cut":false,"hidden":false,"merged":[]}
["マクロが無効になっています。"]
["最新バージョンのエクセル(2007）使用の場合は、シートの上部にセキュリティの警告が出ますので"]
["右側のオプションをクリックし、「このコンテンツを有効にする」にチェックを入れて下さい。"]
["それ以前のエクセルは下記に従って下さい。"]
["入力を行うには，マクロを有効にする必要があります。"]
["マクロを有効にしてファイルを開いてください。"]
["エクセル2002以前のバージョンでは動作しません。エクセル2002以降のパソコンで作業して下さい"]
["マクロを有効にするには，"]
["１）上部メニューを「ツール(T)→マクロ(M)→セキュリティ(S)」の順に開きます。"]
[]
[]
[]
[]
[]
[]
[]
[]
[]
[]
[]
[]
[]
[]
[]
[]
[]
[]
[]
[]
[]
[]
[]
[]
[]
[]
["２）「セキュリティレベル」を「中」に設定してください。"]
[]
[]
[]
[]
[]
[]
[]
[]
[]
[]
[]
[]
[]
[]
[]
[]
[]
[]
[]
["３）EXCELをいったん終了（ファイルを保存しない）し，再度ファイルを開きます。"]
["４）マクロを有効にするかどうか聞いてきます。ここで「マクロを有効にする」を選択します。"]
[]
[]
[]
[]
[]
[]
[]
[]
[]
[]
[]
["何らかの原因でマクロが停止した場合は，いったんファイルを保存し，再度開き直してください。"]

{"sheet":"説明","index":1,"n_rows":32,"n_cols":7,"rows_kept":32,"cut":false,"hidden":false,"merged":[[31,0,31,11]]}
["チーム用　メール大会申込概要"]
[]
["エクセル２００２以前のバージョンでは正常に動作しません。"]
[]
[null,null,"日本陸連登録サイトよりDATAをダウンロードして下さい"]
[]
["注意事項①",null,"①参加料が必要な大会では、振込証明（振込票の写し）の送付が必要となります。"]
[null,null,"　様式⑨の振込票貼付用紙に貼付の上、三重陸協事務局まで送付のこと。"]
[null,null,"　 期日までの振込みがない場合は出場を認めない。"]
[null,null,"②送信後の選手変更・種目変更は受付けないので、よく確認の上申し込むこと。"]
[null,null,"③振込人の名称は所属名で記載のこと。(個人名は間違いのもとになります。）"]
[null,null,"④極端に早い振込みも間違いのもとになりますのでご配慮のこと。"]
[null,null,"⑤学校長の認知書は入力印刷の上、捺印の上、当日受付で係員に渡すこと。"]
[]
[null,null,"三重陸協主催大会の"]
[null,null,"振込先","　　百五銀行　生桑(ｲｸﾜ)支店　普通預金　口座番号　４４０２６６　口座名　一般財団法人三重陸上競技協会"]
[]
[]
[null,null,"競技時間等は大会1週間前にホームページに掲載するので通知はしない。"]
[null,null,"大会参加費は一覧表に記載されるので確認の上、振り込むこと。"]
[]
[]
["連絡事項"]
[null,null,"全ての大会申込及び登録は下記のアドレスとなっています。"]
[]
[null,null,null,"mousikomi★mierk.jp　"]
[]
[null,null,"尚、問い合わせ等は下記のアドレスとなります。"]
[]
[null,null,null,"問い合わせ",null,null,"info★mierk.jp"]
[]
["メールアドレスの★を＠に変えて送信して下さい"]

{"sheet":"メニュー","index":2,"n_rows":8,"n_cols":7,"rows_kept":8,"cut":false,"hidden":false,"merged":[[3,2,3,6],[22,1,22,8]]}
[]
[]
[]
[null,null," "]
[]
[]
[]
[null,null,null,null,null,null,"今年の登録データを貼り付け"]

{"sheet":"大会申込","index":3,"n_rows":14,"n_cols":7,"rows_kept":14,"cut":false,"hidden":false,"merged":[[3,2,3,6],[11,6,11,7]]}
[]
[]
[]
[]
[]
[]
[]
[]
[]
[]
[]
[]
[]
[null,null,null,null,null,null,"インターネットに接続できれば申込できます"]

{"sheet":"陸連登録","index":4,"n_rows":442,"n_cols":36,"rows_kept":442,"cut":false,"hidden":false,"merged":[]}
[null,"JAAF ID","会員名","会員名カナ","性別","登録都道府県コード","登録都道府県名","団体ID","団体名","団体名カナ","団体名略称","生年月日","都道府県(学連)登録番号","団体コード","備考","学年","団体区分","地域学連名","支部名","郵便番号","住所(都道府県)","住所(市区町村以下)","住所(建物名)","審判資格","E-mail","E-mail配信希望","連絡先電話番号","出身高校都道府県","出身高校名","出身中学校都道府県","出身中学校名","勤務先名","勤務先郵便番号","勤務先住所","勤務先電話番号","学部"]
[{"$f":"IF(E2=\"\",\"\",IF(E2=\"男\",1,2))","v":""},null,null,null,null,23,"三重",null,null,null,null,null,null,{"$f":"IF(I2=\"\",\"\",VLOOKUP(I2,$B$300:$C$442,2,0))","v":""}]
[{"$f":"IF(E3=\"\",\"\",IF(E3=\"男\",1,2))","v":""},null,null,null,null,23,"三重",null,null,null,null,null,null,{"$f":"IF(I3=\"\",\"\",VLOOKUP(I3,$B$300:$C$442,2,0))","v":""}]
["",null,null,null,null,23,"三重",null,null,null,null,null,null,""]
["",null,null,null,null,23,"三重",null,null,null,null,null,null,""]
["",null,null,null,null,23,"三重",null,null,null,null,null,null,""]
["",null,null,null,null,23,"三重",null,null,null,null,null,null,""]
["",null,null,null,null,23,"三重",null,null,null,null,null,null,""]
["",null,null,null,null,23,"三重",null,null,null,null,null,null,""]
["",null,null,null,null,23,"三重",null,null,null,null,null,null,""]
["",null,null,null,null,23,"三重",null,null,null,null,null,null,""]
["",null,null,null,null,23,"三重",null,null,null,null,null,null,""]
["",null,null,null,null,23,"三重",null,null,null,null,null,null,""]
["",null,null,null,null,23,"三重",null,null,null,null,null,null,""]
["",null,null,null,null,23,"三重",null,null,null,null,null,null,""]
["",null,null,null,null,23,"三重",null,null,null,null,null,null,""]
["",null,null,null,null,23,"三重",null,null,null,null,null,null,""]
["",null,null,null,null,23,"三重",null,null,null,null,null,null,""]
["",null,null,null,null,23,"三重",null,null,null,null,null,null,""]
["",null,null,null,null,23,"三重",null,null,null,null,null,null,""]
["",null,null,null,null,23,"三重",null,null,null,null,null,null,""]
["",null,null,null,null,23,"三重",null,null,null,null,null,null,""]
["",null,null,null,null,23,"三重",null,null,null,null,null,null,""]
["",null,null,null,null,23,"三重",null,null,null,null,null,null,""]
["",null,null,null,null,23,"三重",null,null,null,null,null,null,""]
["",null,null,null,null,23,"三重",null,null,null,null,null,null,""]
["",null,null,null,null,23,"三重",null,null,null,null,null,null,""]
["",null,null,null,null,23,"三重",null,null,null,null,null,null,""]
["",null,null,null,null,23,"三重",null,null,null,null,null,null,""]
["",null,null,null,null,23,"三重",null,null,null,null,null,null,""]
["",null,null,null,null,23,"三重",null,null,null,null,null,null,""]
["",null,null,null,null,23,"三重",null,null,null,null,null,null,""]
["",null,null,null,null,23,"三重",null,null,null,null,null,null,""]
["",null,null,null,null,23,"三重",null,null,null,null,null,null,""]
["",null,null,null,null,23,"三重",null,null,null,null,null,null,""]
["",null,null,null,null,23,"三重",null,null,null,null,null,null,""]
["",null,null,null,null,23,"三重",null,null,null,null,null,null,""]
["",null,null,null,null,23,"三重",null,null,null,null,null,null,""]
["",null,null,null,null,23,"三重",null,null,null,null,null,null,""]
["",null,null,null,null,23,"三重",null,null,null,null,null,null,""]
["",null,null,null,null,23,"三重",null,null,null,null,null,null,""]
["",null,null,null,null,23,"三重",null,null,null,null,null,null,""]
["",null,null,null,null,23,"三重",null,null,null,null,null,null,""]
["",null,null,null,null,23,"三重",null,null,null,null,null,null,""]
["",null,null,null,null,23,"三重",null,null,null,null,null,null,""]
["",null,null,null,null,23,"三重",null,null,null,null,null,null,""]
["",null,null,null,null,23,"三重",null,null,null,null,null,null,""]
["",null,null,null,null,23,"三重",null,null,null,null,null,null,""]
["",null,null,null,null,23,"三重",null,null,null,null,null,null,""]
["",null,null,null,null,23,"三重",null,null,null,null,null,null,""]
["",null,null,null,null,23,"三重",null,null,null,null,null,null,""]
["",null,null,null,null,23,"三重",null,null,null,null,null,null,""]
["",null,null,null,null,23,"三重",null,null,null,null,null,null,""]
["",null,null,null,null,23,"三重",null,null,null,null,null,null,""]
["",null,null,null,null,23,"三重",null,null,null,null,null,null,""]
["",null,null,null,null,23,"三重",null,null,null,null,null,null,""]
["",null,null,null,null,23,"三重",null,null,null,null,null,null,""]
["",null,null,null,null,23,"三重",null,null,null,null,null,null,""]
["",null,null,null,null,23,"三重",null,null,null,null,null,null,""]
["",null,null,null,null,23,"三重",null,null,null,null,null,null,""]
["",null,null,null,null,23,"三重",null,null,null,null,null,null,""]
["",null,null,null,null,23,"三重",null,null,null,null,null,null,""]
["",null,null,null,null,23,"三重",null,null,null,null,null,null,""]
["",null,null,null,null,23,"三重",null,null,null,null,null,null,""]
["",null,null,null,null,23,"三重",null,null,null,null,null,null,""]
["",null,null,null,null,23,"三重",null,null,null,null,null,null,""]
[{"$f":"IF(E67=\"\",\"\",IF(E67=\"男\",1,2))","v":""},null,null,null,null,23,"三重",null,null,null,null,null,null,{"$f":"IF(I67=\"\",\"\",VLOOKUP(I67,$B$300:$C$442,2,0))","v":""}]
["",null,null,null,null,23,"三重",null,null,null,null,null,null,""]
["",null,null,null,null,23,"三重",null,null,null,null,null,null,""]
["",null,null,null,null,23,"三重",null,null,null,null,null,null,""]
["",null,null,null,null,23,"三重",null,null,null,null,null,null,""]
["",null,null,null,null,23,"三重",null,null,null,null,null,null,""]
["",null,null,null,null,23,"三重",null,null,null,null,null,null,""]
["",null,null,null,null,23,"三重",null,null,null,null,null,null,""]
["",null,null,null,null,23,"三重",null,null,null,null,null,null,""]
["",null,null,null,null,23,"三重",null,null,null,null,null,null,""]
["",null,null,null,null,23,"三重",null,null,null,null,null,null,""]
["",null,null,null,null,23,"三重",null,null,null,null,null,null,""]
["",null,null,null,null,23,"三重",null,null,null,null,null,null,""]
["",null,null,null,null,23,"三重",null,null,null,null,null,null,""]
["",null,null,null,null,23,"三重",null,null,null,null,null,null,""]
["",null,null,null,null,23,"三重",null,null,null,null,null,null,""]
["",null,null,null,null,23,"三重",null,null,null,null,null,null,""]
["",null,null,null,null,23,"三重",null,null,null,null,null,null,""]
["",null,null,null,null,23,"三重",null,null,null,null,null,null,""]
["",null,null,null,null,23,"三重",null,null,null,null,null,null,""]
["",null,null,null,null,23,"三重",null,null,null,null,null,null,""]
["",null,null,null,null,23,"三重",null,null,null,null,null,null,""]
["",null,null,null,null,23,"三重",null,null,null,null,null,null,""]
["",null,null,null,null,23,"三重",null,null,null,null,null,null,""]
["",null,null,null,null,23,"三重",null,null,null,null,null,null,""]
["",null,null,null,null,23,"三重",null,null,null,null,null,null,""]
["",null,null,null,null,23,"三重",null,null,null,null,null,null,""]
["",null,null,null,null,23,"三重",null,null,null,null,null,null,""]
["",null,null,null,null,23,"三重",null,null,null,null,null,null,""]
["",null,null,null,null,23,"三重",null,null,null,null,null,null,""]
["",null,null,null,null,23,"三重",null,null,null,null,null,null,""]
["",null,null,null,null,23,"三重",null,null,null,null,null,null,""]
["",null,null,null,null,23,"三重",null,null,null,null,null,null,""]
["",null,null,null,null,23,"三重",null,null,null,null,null,null,""]
["",null,null,null,null,23,"三重",null,null,null,null,null,null,""]
["",null,null,null,null,23,"三重",null,null,null,null,null,null,""]
["",null,null,null,null,23,"三重",null,null,null,null,null,null,""]
["",null,null,null,null,23,"三重",null,null,null,null,null,null,""]
["",null,null,null,null,23,"三重",null,null,null,null,null,null,""]
["",null,null,null,null,23,"三重",null,null,null,null,null,null,""]
["",null,null,null,null,23,"三重",null,null,null,null,null,null,""]
["",null,null,null,null,23,"三重",null,null,null,null,null,null,""]
["",null,null,null,null,23,"三重",null,null,null,null,null,null,""]
["",null,null,null,null,23,"三重",null,null,null,null,null,null,""]
["",null,null,null,null,23,"三重",null,null,null,null,null,null,""]
["",null,null,null,null,23,"三重",null,null,null,null,null,null,""]
["",null,null,null,null,23,"三重",null,null,null,null,null,null,""]
["",null,null,null,null,23,"三重",null,null,null,null,null,null,""]
["",null,null,null,null,23,"三重",null,null,null,null,null,null,""]
["",null,null,null,null,23,"三重",null,null,null,null,null,null,""]
["",null,null,null,null,23,"三重",null,null,null,null,null,null,""]
["",null,null,null,null,23,"三重",null,null,null,null,null,null,""]
["",null,null,null,null,23,"三重",null,null,null,null,null,null,""]
["",null,null,null,null,23,"三重",null,null,null,null,null,null,""]
["",null,null,null,null,23,"三重",null,null,null,null,null,null,""]
["",null,null,null,null,23,"三重",null,null,null,null,null,null,""]
["",null,null,null,null,23,"三重",null,null,null,null,null,null,""]
["",null,null,null,null,23,"三重",null,null,null,null,null,null,""]
["",null,null,null,null,23,"三重",null,null,null,null,null,null,""]
["",null,null,null,null,23,"三重",null,null,null,null,null,null,""]
["",null,null,null,null,23,"三重",null,null,null,null,null,null,""]
["",null,null,null,null,23,"三重",null,null,null,null,null,null,""]
["",null,null,null,null,23,"三重",null,null,null,null,null,null,""]
["",null,null,null,null,23,"三重",null,null,null,null,null,null,""]
[{"$f":"IF(E131=\"\",\"\",IF(E131=\"男\",1,2))","v":""},null,null,null,null,23,"三重",null,null,null,null,null,null,{"$f":"IF(I131=\"\",\"\",VLOOKUP(I131,$B$300:$C$442,2,0))","v":""}]
["",null,null,null,null,23,"三重",null,null,null,null,null,null,""]
["",null,null,null,null,23,"三重",null,null,null,null,null,null,""]
["",null,null,null,null,23,"三重",null,null,null,null,null,null,""]
["",null,null,null,null,23,"三重",null,null,null,null,null,null,""]
["",null,null,null,null,23,"三重",null,null,null,null,null,null,""]
["",null,null,null,null,23,"三重",null,null,null,null,null,null,""]
["",null,null,null,null,23,"三重",null,null,null,null,null,null,""]
["",null,null,null,null,23,"三重",null,null,null,null,null,null,""]
["",null,null,null,null,23,"三重",null,null,null,null,null,null,""]
["",null,null,null,null,23,"三重",null,null,null,null,null,null,""]
["",null,null,null,null,23,"三重",null,null,null,null,null,null,""]
["",null,null,null,null,23,"三重",null,null,null,null,null,null,""]
["",null,null,null,null,23,"三重",null,null,null,null,null,null,""]
["",null,null,null,null,23,"三重",null,null,null,null,null,null,""]
["",null,null,null,null,23,"三重",null,null,null,null,null,null,""]
["",null,null,null,null,23,"三重",null,null,null,null,null,null,""]
["",null,null,null,null,23,"三重",null,null,null,null,null,null,""]
["",null,null,null,null,23,"三重",null,null,null,null,null,null,""]
["",null,null,null,null,23,"三重",null,null,null,null,null,null,""]
["",null,null,null,null,23,"三重",null,null,null,null,null,null,""]
[null,null,null,null,null,23,"三重",null,null,null,null,null,null,""]
[]
[]
[]
[]
[]
[]
[]
[]
[]
[]
[]
[]
[]
[]
[]
[]
[]
[]
[]
[]
[]
[]
[]
[]
[]
[]
[]
[]
[]
[]
[]
[]
[]
[]
[]
[]
[]
[]
[]
[]
[]
[]
[]
[]
[]
[]
[]
[]
[]
[]
[]
[]
[]
[]
[]
[]
[]
[]
[]
[]
[]
[]
[]
[]
[]
[]
[]
[]
[]
[]
[]
[]
[]
[]
[]
[]
[]
[]
[]
[]
[]
[]
[]
[]
[]
[]
[]
[]
[]
[]
[]
[]
[]
[]
[]
[]
[]
[]
[]
[]
[]
[]
[]
[]
[]
[]
[]
[]
[]
[]
[]
[]
[]
[]
[]
[]
[]
[]
[]
[]
[]
[]
[]
[]
[]
[]
[]
[]
[]
[]
[]
[]
[]
[]
[]
[]
[]
[]
[]
[]
[]
[]
[]
[]
[]
[]
[]
[null,"eA三重",230098]
[null,"ばりっこC",230132]
[null,"味の素ＡＧＦ",230006]
[null,"ｱｽﾘｰﾄY",239128]
[null,"ASSA-TC",230081]
[null,"あづまフーズ",230141]
[null,"ULTIMATE",230088]
[null,"ＩＰＶＣ",230137]
[null,"Ise TC",230074]
[null,"ｲﾑﾗAA",239125]
[null,"MidoriClinic",230140]
[null,"ヴィアティン",230126]
[null,"ｳｲﾗﾝ",230077]
[null,"VOLK",230127]
[null,"URC",239142]
[null,"NTN",230005]
[null,"松阪走塾",239147]
[null,"鹿族",239129]
[null,"川越陸少JH",230134]
[null,"紀州ＡＣ",239139]
[null,"橋南スポーツ",230096]
[null,"KUSUPO",230105]
[null,"熊野RC",230115]
[null,"くまのＭＪ",239138]
[null,"GRATIS",230136]
[null,"K's-AC",230103]
[null,"J&E久居",239127]
[null,"志摩ＴＦＣ",230010]
[null,"ｼｬｶﾘｷ",230108]
[null,"審判",230001]
[null,"ｼﾝﾌｫﾆｱﾃｸﾉﾛｼﾞｰ",230085]
[null,"ｽﾎﾟﾙﾄﾏｯｸｽ",230119]
[null,"Smile TFL",230133]
[null,"SW四日市",239143]
[null,"team F.O.R",230130]
[null,"Team Blast",239140]
[null,"T.G.K",230109]
[null,"デンソー",230070]
[null,"デンソー大安",239132]
[null,"ｲﾙ　ﾃﾙﾉ",230009]
[null,"N.F.A.",239136]
[null,"成瀬鍼灸院",239133]
[null,"白山陸上",230131]
[null,"ﾊﾟﾅｿﾆｯｸｲｾ",230118]
[null,"PBASE",239134]
[null,"ﾌﾘｰｽﾀｲﾙ",230086]
[null,"一志BEAST",230128]
[null,"三重教員AC",230027]
[null,"三重県体育協会",230135]
[null,"三重県庁AC",230035]
[null,"三重大医陸",230048]
[null,"三重ﾏｽﾀｰｽﾞ",239998]
[null,"三重陸協",230000]
[null,"美志摩パール",239144]
[null,"三浜ＡＣ",239150]
[null,"ゆめが丘RC",230139]
[null,"YウェルネスC",230082]
[null,"四日市TFC",230011]
[null,"四郷高ＯＢ",230138]
[null,"米鈴AC",230026]
[null,"Run feet",239146]
[null,"ﾘｱﾌﾟﾛ",230120]
[null,"リトルノ",230129]
[null,"ろけっと団",230007]
[null,"ＣＲＡＮＥ",239130]
[null,"北教大岩見沢",490002]
[null,"北海道大",490001]
[null,"岩手大",490009]
[null,"筑波大",490016]
[null,"流通経済大",492029]
[null,"宇都宮大",490017]
[null,"上武大",492033]
[null,"城西大",492037]
[null,"大東文化大",492087]
[null,"東洋大",492114]
[null,"獨協大",492040]
[null,"平成国際大",492420]
[null,"早稲田大",492140]
[null,"国際武道大",492330]
[null,"順天堂大",492070]
[null,"中央学院大",492047]
[null,"青山学院大",492051]
[null,"國學院大",492064]
[null,"国士舘大",492066]
[null,"首都大東京",491085]
[null,"上智大",492071]
[null,"帝京大",492094]
[null,"東京外国語大",490023]
[null,"東京大",490021]
[null,"東京農業大",492109]
[null,"東京農工大",490025]
[null,"東京理科大",492111]
[null,"日本大",492116]
[null,"法政大",492126]
[null,"明治大",492133]
[null,"慶應義塾大",492062]
[null,"東海大",492095]
[null,"日本体育大",492123]
[null,"横浜市立大",491005]
[null,"横浜国立大",490034]
[null,"岐阜協立大",492161]
[null,"中京学院大",492389]
[null,"愛知学院大",492167]
[null,"愛知教育大",490044]
[null,"愛知工業大",492168]
[null,"愛知淑徳大",492301]
[null,"愛知大",492165]
[null,"愛知東邦大",492491]
[null,"至学館大",492174]
[null,"中京大",492173]
[null,"中部大",492175]
[null,"東海学園大",492412]
[null,"名古屋学院大",492177]
[null,"名女大",5000008]
[null,"名古屋大",490043]
[null,"日本福祉大",492183]
[null,"名城大",492184]
[null,"近畿大工業高専",498006]
[null,"皇學館大",492185]
[null,"鈴鹿工業高専",496026]
[null,"鈴鹿大",492399]
[null,"鳥羽商船高専",496027]
[null,"三重大",490046]
[null,"三重短期大",492048]
[null,"びわこｽﾎﾟｰﾂ大",492522]
[null,"京都教育大",490049]
[null,"京都光華女子大",492192]
[null,"京都産業大",492189]
[null,"京都大",490048]
[null,"同志社大",492195]
[null,"明治国際医療大",492329]
[null,"立命館大",492200]
[null,"大阪市立大",491018]
[null,"大阪成蹊大",492523]
[null,"大阪体育大",492213]
[null,"大阪大",490051]
[null,"近畿大",492221]
[null,"関西学院大",492232]
[null,"甲南大",492234]
[null,"神戸学院大",492237]
[null,"神戸大",490054]
[null,"広島経済大",492259]
[null,"九州共立大",492273]

{"sheet":"県外認知書","index":5,"n_rows":39,"n_cols":7,"rows_kept":39,"cut":false,"hidden":false,"merged":[[2,5,2,7],[21,2,21,6],[23,2,23,6],[23,0,23,1],[21,0,21,1],[25,0,25,1],[25,2,25,6],[5,0,5,1],[13,0,13,7],[17,0,17,7],[8,4,8,6],[9,4,9,6],[22,0,22,1],[22,2,22,6]]}
[]
[]
[null,null,null,null,null,{"$f":"TODAY()","v":"2019-09-07"}]
[]
[]
[null,null,"陸上競技協会　御中"]
[]
[]
[null,null,null,null,"一般財団法人三重陸上競技協会"]
[null,null,null,null,"　　　　 会 長　　田村　憲久"]
[]
[]
[]
["出　場　認　知　書"]
[]
[]
[]
["　下記の者は当協会の登録競技者ですが、貴協会の標記競技会に出場することを認知いたし"]
["ましたので、ご高配を賜りますようお願い申し上げます。"]
[]
[]
["競技会名"]
["日時",null,"令和　　　　　年　　　　　月　　　　日　　～　　　日"]
["主催陸上競技協会名"]
[]
["所属名"]
[null,"登録番号","競技者名","学年","出場種目①","出場種目②","出場種目③"]
[1,null,{"$f":"IF(B28=\"\",\"\",VLOOKUP(B28,#REF!,3,FALSE))","v":""},{"$f":"IF(B28=\"\",\"\",VLOOKUP(B28,#REF!,5,FALSE))","v":""}]
[2,null,{"$f":"IF(B29=\"\",\"\",VLOOKUP(B29,#REF!,3,FALSE))","v":""},{"$f":"IF(B29=\"\",\"\",VLOOKUP(B29,#REF!,5,FALSE))","v":""}]
[3,null,{"$f":"IF(B30=\"\",\"\",VLOOKUP(B30,#REF!,3,FALSE))","v":""},{"$f":"IF(B30=\"\",\"\",VLOOKUP(B30,#REF!,5,FALSE))","v":""}]
[4,null,{"$f":"IF(B31=\"\",\"\",VLOOKUP(B31,#REF!,3,FALSE))","v":""},{"$f":"IF(B31=\"\",\"\",VLOOKUP(B31,#REF!,5,FALSE))","v":""}]
[5,null,{"$f":"IF(B32=\"\",\"\",VLOOKUP(B32,#REF!,3,FALSE))","v":""},{"$f":"IF(B32=\"\",\"\",VLOOKUP(B32,#REF!,5,FALSE))","v":""}]
[6,null,{"$f":"IF(B33=\"\",\"\",VLOOKUP(B33,#REF!,3,FALSE))","v":""},{"$f":"IF(B33=\"\",\"\",VLOOKUP(B33,#REF!,5,FALSE))","v":""}]
[7,null,{"$f":"IF(B34=\"\",\"\",VLOOKUP(B34,#REF!,3,FALSE))","v":""},{"$f":"IF(B34=\"\",\"\",VLOOKUP(B34,#REF!,5,FALSE))","v":""}]
[8,null,{"$f":"IF(B35=\"\",\"\",VLOOKUP(B35,#REF!,3,FALSE))","v":""},{"$f":"IF(B35=\"\",\"\",VLOOKUP(B35,#REF!,5,FALSE))","v":""}]
[9,null,{"$f":"IF(B36=\"\",\"\",VLOOKUP(B36,#REF!,3,FALSE))","v":""},{"$f":"IF(B36=\"\",\"\",VLOOKUP(B36,#REF!,5,FALSE))","v":""}]
[10,null,{"$f":"IF(B37=\"\",\"\",VLOOKUP(B37,#REF!,3,FALSE))","v":""},{"$f":"IF(B37=\"\",\"\",VLOOKUP(B37,#REF!,5,FALSE))","v":""}]
["※返信用封筒を同封(切手貼付)の上、事務局まで郵送のこと。"]
[null,null,null,null,null,null,"複写してお使い下さい。"]

{"sheet":"個人種目選手権","index":6,"n_rows":118,"n_cols":61,"rows_kept":118,"cut":false,"hidden":false,"merged":[[4,8,4,9],[4,16,4,21],[5,10,5,11],[5,47,5,48],[1,8,1,9],[1,16,1,17],[1,21,1,22],[1,35,1,38],[2,8,2,9],[3,8,3,9]]}
[null,null,null,null,"所属名",{"$f":"陸連登録!I2","v":0},null,null,"個人種目選手権"]
[null,null,null,null,"所属コード",{"$f":"陸連登録!N2","v":""},"男子参加人数",null,{"$f":"COUNTIF($I$7:$I$116,1)-COUNTIF($BH$7:$BH$116,0)","v":0}]
[null,null,null,null,"顧問名",null,"女子参加人数",null,{"$f":"COUNTIF($I$7:$I$116,2)-COUNTIF($BI$7:$BI$116,0)","v":0},null,null,null,null,null,"プログラム数"]
[null,null,null,null,"顧問連絡先",null,"参加費",null,{"$f":"$AF$118*1000+Q3*300","v":0},null,null,null,null,null,{"$f":"$AF$118","v":0}]
[null,null,null,null,null,null,"種目",null,{"$f":"AW19","v":0}]
["競技者コード","所属コード","所属コード2","ナンバーA","ナンバー","競技者名","カナ名","掲示板名","性別","学年","生年月日",null,"所属地","陸連コード","1種目","コード","記録","オープンF","記録F","2種目","コード","記録","オープンF","記録F","種目3","コード","記録3","オープンF","記録F","種目4","コード","記録","オープンF","記録F","リレー","コード","記録5","オープンF","記録F",null,null,null,100,null,null,null,null,"種目別参加人数",null,null,null,null,null,null,null,null,null,null,"種目数","男子","女子"]
[null,{"$f":"陸連登録!N2","v":""},null,null,{"$f":"陸連登録!M2","v":0},{"$f":"陸連登録!C2","v":0},{"$f":"陸連登録!D2","v":0},{"$f":"F7","v":0},{"$f":"陸連登録!A2","v":""},{"$f":"陸連登録!P2","v":0},{"$f":"LEFT(陸連登録!L2,4)","v":""},{"$f":"RIGHT(陸連登録!L2,4)","v":""},{"$f":"陸連登録!F2","v":23},{"$f":"陸連登録!B2","v":0},null,{"$f":"IF($O7=\"\",\"\",IF($I7=1,VLOOKUP($O7,$AV$8:$AX$11,3,FALSE),IF($I7=2,VLOOKUP($O7,$AV$14:$AX$17,3,FALSE))))","v":""},null,0,2,null,{"$f":"IF(T7=\"\",\"\",IF($I7=1,VLOOKUP(T7,$AV$8:$AX$11,3,FALSE),IF($I7=2,VLOOKUP(T7,$AV$14:$AX$17,3,FALSE))))","v":""},{"$f":"IF(T7=\"\",\"\",HLOOKUP(T7,#REF!,2,FALSE))","v":""},0,2,null,null,{"$f":"IF(Y7=\"\",\"\",HLOOKUP(Y7,#REF!,2,FALSE))","v":""},0,2,null,null,{"$f":"IF(AD7=\"\",\"\",HLOOKUP(AD7,#REF!,2,FALSE))","v":""},0,2,null,{"$f":"IF(AI7=\"\",\"\",IF(I7=1,VLOOKUP(AI7,男子種目コード!$A$1:$B$29,2,FALSE),IF(I7=2,VLOOKUP(AI7,女子種目コード!$A$1:$B$30,2,FALSE))))","v":""},null,0,2,null,null,null,200,{"$f":"IF(O7=\"\",\"\",1)","v":""},{"$f":"IF(OR(AR7=1,T7=\"\"),0,1)","v":0},{"$f":"IF(OR(AR7=1,AS7=1,AD7=\"\"),0,1)","v":0},{"$f":"IF(T7=\"\",\"\",1)","v":""},"男子",null,null,null,null,null,null,null,null,null,null,{"$f":"COUNT(AR7,AU7)","v":0},{"$f":"IF(I7=1,BG7,\"\")","v":""},{"$f":"IF(I7=2,BG7,\"\")","v":""}]
[null,{"$f":"陸連登録!N3","v":""},null,null,{"$f":"陸連登録!M3","v":0},{"$f":"陸連登録!C3","v":0},{"$f":"陸連登録!D3","v":0},{"$f":"F8","v":0},{"$f":"陸連登録!A3","v":""},{"$f":"陸連登録!P3","v":0},{"$f":"LEFT(陸連登録!L3,4)","v":""},{"$f":"RIGHT(陸連登録!L3,4)","v":""},{"$f":"陸連登録!F3","v":23},{"$f":"陸連登録!B3","v":0},null,"",null,0,2,null,"",{"$f":"IF(T8=\"\",\"\",HLOOKUP(T8,#REF!,3,FALSE))","v":""},0,2,null,null,{"$f":"IF(Y8=\"\",\"\",HLOOKUP(Y8,#REF!,3,FALSE))","v":""},0,2,null,null,{"$f":"IF(AD8=\"\",\"\",HLOOKUP(AD8,#REF!,2,FALSE))","v":""},0,2,null,{"$f":"IF(AI8=\"\",\"\",IF(I8=1,VLOOKUP(AI8,男子種目コード!$A$1:$B$29,2,FALSE),IF(I8=2,VLOOKUP(AI8,女子種目コード!$A$1:$B$30,2,FALSE))))","v":""},null,0,2,null,null,null,400,"",0,0,"","一般高校　100m",{"$f":"COUNTIF($P$7:$P$116,AX8)+COUNTIF($U$7:$U$116,AX8)+COUNTIF($Z$7:$Z$116,AX8)+COUNTIF($AE$7:$AE$116,AX8)","v":0},4,null,null,null,null,null,null,null,null,{"$f":"COUNT(AR8,AU8)","v":0},"",""]
[null,{"$f":"陸連登録!N4","v":""},null,null,{"$f":"陸連登録!M4","v":0},{"$f":"陸連登録!C4","v":0},{"$f":"陸連登録!D4","v":0},0,{"$f":"陸連登録!A4","v":""},{"$f":"陸連登録!P4","v":0},{"$f":"LEFT(陸連登録!L4,4)","v":""},{"$f":"RIGHT(陸連登録!L4,4)","v":""},{"$f":"陸連登録!F4","v":23},{"$f":"陸連登録!B4","v":0},null,"",null,0,2,null,"",{"$f":"IF(T9=\"\",\"\",HLOOKUP(T9,#REF!,4,FALSE))","v":""},0,2,null,null,{"$f":"IF(Y9=\"\",\"\",HLOOKUP(Y9,#REF!,4,FALSE))","v":""},0,2,null,null,{"$f":"IF(AD9=\"\",\"\",HLOOKUP(AD9,#REF!,2,FALSE))","v":""},0,2,null,{"$f":"IF(AI9=\"\",\"\",IF(I9=1,VLOOKUP(AI9,男子種目コード!$A$1:$B$29,2,FALSE),IF(I9=2,VLOOKUP(AI9,女子種目コード!$A$1:$B$30,2,FALSE))))","v":""},null,0,2,null,null,null,800,"",0,0,"","一般高校　300m",{"$f":"COUNTIF($P$7:$P$116,AX9)+COUNTIF($U$7:$U$116,AX9)+COUNTIF($Z$7:$Z$116,AX9)+COUNTIF($AE$7:$AE$116,AX9)","v":0},5,null,null,null,null,null,null,null,null,0,"",""]
[null,{"$f":"陸連登録!N5","v":""},null,null,{"$f":"陸連登録!M5","v":0},{"$f":"陸連登録!C5","v":0},{"$f":"陸連登録!D5","v":0},0,{"$f":"陸連登録!A5","v":""},{"$f":"陸連登録!P5","v":0},{"$f":"LEFT(陸連登録!L5,4)","v":""},{"$f":"RIGHT(陸連登録!L5,4)","v":""},{"$f":"陸連登録!F5","v":23},{"$f":"陸連登録!B5","v":0},null,"",null,0,2,null,"",{"$f":"IF(T10=\"\",\"\",HLOOKUP(T10,#REF!,5,FALSE))","v":""},0,2,null,null,{"$f":"IF(Y10=\"\",\"\",HLOOKUP(Y10,#REF!,5,FALSE))","v":""},0,2,null,null,{"$f":"IF(AD10=\"\",\"\",HLOOKUP(AD10,#REF!,2,FALSE))","v":""},0,2,null,{"$f":"IF(AI10=\"\",\"\",IF(I10=1,VLOOKUP(AI10,男子種目コード!$A$1:$B$29,2,FALSE),IF(I10=2,VLOOKUP(AI10,女子種目コード!$A$1:$B$30,2,FALSE))))","v":""},null,0,2,null,null,null,1500,"",0,0,"","一般高校 1000m",{"$f":"COUNTIF($P$7:$P$116,AX10)+COUNTIF($U$7:$U$116,AX10)+COUNTIF($Z$7:$Z$116,AX10)+COUNTIF($AE$7:$AE$116,AX10)","v":0},6,null,null,null,null,null,null,null,null,0,"",""]
[null,{"$f":"陸連登録!N6","v":""},null,null,{"$f":"陸連登録!M6","v":0},{"$f":"陸連登録!C6","v":0},{"$f":"陸連登録!D6","v":0},0,{"$f":"陸連登録!A6","v":""},{"$f":"陸連登録!P6","v":0},{"$f":"LEFT(陸連登録!L6,4)","v":""},{"$f":"RIGHT(陸連登録!L6,4)","v":""},{"$f":"陸連登録!F6","v":23},{"$f":"陸連登録!B6","v":0},null,"",null,0,2,null,"",{"$f":"IF(T11=\"\",\"\",HLOOKUP(T11,#REF!,6,FALSE))","v":""},0,2,null,null,{"$f":"IF(Y11=\"\",\"\",HLOOKUP(Y11,#REF!,6,FALSE))","v":""},0,2,null,null,{"$f":"IF(AD11=\"\",\"\",HLOOKUP(AD11,#REF!,2,FALSE))","v":""},0,2,null,{"$f":"IF(AI11=\"\",\"\",IF(I11=1,VLOOKUP(AI11,男子種目コード!$A$1:$B$29,2,FALSE),IF(I11=2,VLOOKUP(AI11,女子種目コード!$A$1:$B$30,2,FALSE))))","v":""},null,0,2,null,null,null,5000,"",0,0,"","一般高校300mH",{"$f":"COUNTIF($P$7:$P$116,AX11)+COUNTIF($U$7:$U$116,AX11)+COUNTIF($Z$7:$Z$116,AX11)+COUNTIF($AE$7:$AE$116,AX11)","v":0},7,null,null,null,null,null,null,null,null,0,"",""]
[null,{"$f":"陸連登録!N7","v":""},null,null,{"$f":"陸連登録!M7","v":0},{"$f":"陸連登録!C7","v":0},{"$f":"陸連登録!D7","v":0},0,{"$f":"陸連登録!A7","v":""},{"$f":"陸連登録!P7","v":0},{"$f":"LEFT(陸連登録!L7,4)","v":""},{"$f":"RIGHT(陸連登録!L7,4)","v":""},{"$f":"陸連登録!F7","v":23},{"$f":"陸連登録!B7","v":0},null,"",null,0,2,null,"",{"$f":"IF(T12=\"\",\"\",HLOOKUP(T12,#REF!,7,FALSE))","v":""},0,2,null,null,{"$f":"IF(Y12=\"\",\"\",HLOOKUP(Y12,#REF!,7,FALSE))","v":""},0,2,null,null,{"$f":"IF(AD12=\"\",\"\",HLOOKUP(AD12,#REF!,2,FALSE))","v":""},0,2,null,{"$f":"IF(AI12=\"\",\"\",IF(I12=1,VLOOKUP(AI12,男子種目コード!$A$1:$B$29,2,FALSE),IF(I12=2,VLOOKUP(AI12,女子種目コード!$A$1:$B$30,2,FALSE))))","v":""},null,0,2,null,null,null,10000,"",0,0,"","計",{"$f":"SUM($AW$8:$AW$11)","v":0},null,null,null,null,null,null,null,null,null,0,"",""]
[null,{"$f":"陸連登録!N8","v":""},null,null,{"$f":"陸連登録!M8","v":0},{"$f":"陸連登録!C8","v":0},{"$f":"陸連登録!D8","v":0},0,{"$f":"陸連登録!A8","v":""},{"$f":"陸連登録!P8","v":0},{"$f":"LEFT(陸連登録!L8,4)","v":""},{"$f":"RIGHT(陸連登録!L8,4)","v":""},{"$f":"陸連登録!F8","v":23},{"$f":"陸連登録!B8","v":0},null,"",null,0,2,null,"",{"$f":"IF(T13=\"\",\"\",HLOOKUP(T13,#REF!,8,FALSE))","v":""},0,2,null,null,{"$f":"IF(Y13=\"\",\"\",HLOOKUP(Y13,#REF!,8,FALSE))","v":""},0,2,null,null,{"$f":"IF(AD13=\"\",\"\",HLOOKUP(AD13,#REF!,2,FALSE))","v":""},0,2,null,{"$f":"IF(AI13=\"\",\"\",IF(I13=1,VLOOKUP(AI13,男子種目コード!$A$1:$B$29,2,FALSE),IF(I13=2,VLOOKUP(AI13,女子種目コード!$A$1:$B$30,2,FALSE))))","v":""},null,0,2,null,null,null,"100H","",0,0,"","女子",null,null,null,null,null,null,null,null,null,null,0,"",""]
[null,{"$f":"陸連登録!N9","v":""},null,null,{"$f":"陸連登録!M9","v":0},{"$f":"陸連登録!C9","v":0},{"$f":"陸連登録!D9","v":0},0,{"$f":"陸連登録!A9","v":""},{"$f":"陸連登録!P9","v":0},{"$f":"LEFT(陸連登録!L9,4)","v":""},{"$f":"RIGHT(陸連登録!L9,4)","v":""},{"$f":"陸連登録!F9","v":23},{"$f":"陸連登録!B9","v":0},null,"",null,0,2,null,"",{"$f":"IF(T14=\"\",\"\",HLOOKUP(T14,#REF!,9,FALSE))","v":""},0,2,null,null,{"$f":"IF(Y14=\"\",\"\",HLOOKUP(Y14,#REF!,9,FALSE))","v":""},0,2,null,null,{"$f":"IF(AD14=\"\",\"\",HLOOKUP(AD14,#REF!,2,FALSE))","v":""},0,2,null,{"$f":"IF(AI14=\"\",\"\",IF(I14=1,VLOOKUP(AI14,男子種目コード!$A$1:$B$29,2,FALSE),IF(I14=2,VLOOKUP(AI14,女子種目コード!$A$1:$B$30,2,FALSE))))","v":""},null,0,2,null,null,null,"110H","",0,0,"","一般高校　100m",{"$f":"COUNTIF($P$7:$P$116,AX14)+COUNTIF($U$7:$U$116,AX14)+COUNTIF($Z$7:$Z$116,AX14)+COUNTIF($AE$7:$AE$116,AX14)","v":0},11,null,null,null,null,null,null,null,null,0,"",""]
[null,{"$f":"陸連登録!N10","v":""},null,null,{"$f":"陸連登録!M10","v":0},{"$f":"陸連登録!C10","v":0},{"$f":"陸連登録!D10","v":0},0,{"$f":"陸連登録!A10","v":""},{"$f":"陸連登録!P10","v":0},{"$f":"LEFT(陸連登録!L10,4)","v":""},{"$f":"RIGHT(陸連登録!L10,4)","v":""},{"$f":"陸連登録!F10","v":23},{"$f":"陸連登録!B10","v":0},null,"",null,0,2,null,"",{"$f":"IF(T15=\"\",\"\",HLOOKUP(T15,#REF!,10,FALSE))","v":""},0,2,null,null,{"$f":"IF(Y15=\"\",\"\",HLOOKUP(Y15,#REF!,10,FALSE))","v":""},0,2,null,null,{"$f":"IF(AD15=\"\",\"\",HLOOKUP(AD15,#REF!,2,FALSE))","v":""},0,2,null,{"$f":"IF(AI15=\"\",\"\",IF(I15=1,VLOOKUP(AI15,男子種目コード!$A$1:$B$29,2,FALSE),IF(I15=2,VLOOKUP(AI15,女子種目コード!$A$1:$B$30,2,FALSE))))","v":""},null,0,2,null,null,null,"400H","",0,0,"","一般高校　300m",{"$f":"COUNTIF($P$7:$P$116,AX15)+COUNTIF($U$7:$U$116,AX15)+COUNTIF($Z$7:$Z$116,AX15)+COUNTIF($AE$7:$AE$116,AX15)","v":0},12,null,null,null,null,null,null,null,null,0,"",""]
[null,{"$f":"陸連登録!N11","v":""},null,null,{"$f":"陸連登録!M11","v":0},{"$f":"陸連登録!C11","v":0},{"$f":"陸連登録!D11","v":0},0,{"$f":"陸連登録!A11","v":""},{"$f":"陸連登録!P11","v":0},{"$f":"LEFT(陸連登録!L11,4)","v":""},{"$f":"RIGHT(陸連登録!L11,4)","v":""},{"$f":"陸連登録!F11","v":23},{"$f":"陸連登録!B11","v":0},null,"",null,0,2,null,"",{"$f":"IF(T16=\"\",\"\",HLOOKUP(T16,#REF!,11,FALSE))","v":""},0,2,null,null,{"$f":"IF(Y16=\"\",\"\",HLOOKUP(Y16,#REF!,11,FALSE))","v":""},0,2,null,null,{"$f":"IF(AD16=\"\",\"\",HLOOKUP(AD16,#REF!,2,FALSE))","v":""},0,2,null,{"$f":"IF(AI16=\"\",\"\",IF(I16=1,VLOOKUP(AI16,男子種目コード!$A$1:$B$29,2,FALSE),IF(I16=2,VLOOKUP(AI16,女子種目コード!$A$1:$B$30,2,FALSE))))","v":""},null,0,2,null,null,null,"3000SC","",0,0,"","一般高校 1000m",{"$f":"COUNTIF($P$7:$P$116,AX16)+COUNTIF($U$7:$U$116,AX16)+COUNTIF($Z$7:$Z$116,AX16)+COUNTIF($AE$7:$AE$116,AX16)","v":0},13,null,null,null,null,null,null,null,null,0,"",""]
[null,{"$f":"陸連登録!N12","v":""},null,null,{"$f":"陸連登録!M12","v":0},{"$f":"陸連登録!C12","v":0},{"$f":"陸連登録!D12","v":0},0,{"$f":"陸連登録!A12","v":""},{"$f":"陸連登録!P12","v":0},{"$f":"LEFT(陸連登録!L12,4)","v":""},{"$f":"RIGHT(陸連登録!L12,4)","v":""},{"$f":"陸連登録!F12","v":23},{"$f":"陸連登録!B12","v":0},null,"",null,0,2,null,"",{"$f":"IF(T17=\"\",\"\",HLOOKUP(T17,#REF!,12,FALSE))","v":""},0,2,null,null,{"$f":"IF(Y17=\"\",\"\",HLOOKUP(Y17,#REF!,12,FALSE))","v":""},0,2,null,null,{"$f":"IF(AD17=\"\",\"\",HLOOKUP(AD17,#REF!,2,FALSE))","v":""},0,2,null,{"$f":"IF(AI17=\"\",\"\",IF(I17=1,VLOOKUP(AI17,男子種目コード!$A$1:$B$29,2,FALSE),IF(I17=2,VLOOKUP(AI17,女子種目コード!$A$1:$B$30,2,FALSE))))","v":""},null,0,2,null,null,null,"5000W","",0,0,"","一般高校300mH",0,14,null,null,null,null,null,null,null,null,0,"",""]
[null,{"$f":"陸連登録!N13","v":""},null,null,{"$f":"陸連登録!M13","v":0},{"$f":"陸連登録!C13","v":0},{"$f":"陸連登録!D13","v":0},0,{"$f":"陸連登録!A13","v":""},{"$f":"陸連登録!P13","v":0},{"$f":"LEFT(陸連登録!L13,4)","v":""},{"$f":"RIGHT(陸連登録!L13,4)","v":""},{"$f":"陸連登録!F13","v":23},{"$f":"陸連登録!B13","v":0},null,"",null,0,2,null,"",{"$f":"IF(T18=\"\",\"\",HLOOKUP(T18,#REF!,13,FALSE))","v":""},0,2,null,null,{"$f":"IF(Y18=\"\",\"\",HLOOKUP(Y18,#REF!,13,FALSE))","v":""},0,2,null,null,{"$f":"IF(AD18=\"\",\"\",HLOOKUP(AD18,#REF!,2,FALSE))","v":""},0,2,null,{"$f":"IF(AI18=\"\",\"\",IF(I18=1,VLOOKUP(AI18,男子種目コード!$A$1:$B$29,2,FALSE),IF(I18=2,VLOOKUP(AI18,女子種目コード!$A$1:$B$30,2,FALSE))))","v":""},null,0,2,null,null,null,"走高跳","",0,0,"","計",{"$f":"SUM($AW$14:$AW$17)","v":0},null,null,null,null,null,null,null,null,null,0,"",""]
[null,{"$f":"陸連登録!N14","v":""},null,null,{"$f":"陸連登録!M14","v":0},{"$f":"陸連登録!C14","v":0},{"$f":"陸連登録!D14","v":0},0,{"$f":"陸連登録!A14","v":""},{"$f":"陸連登録!P14","v":0},{"$f":"LEFT(陸連登録!L14,4)","v":""},{"$f":"RIGHT(陸連登録!L14,4)","v":""},{"$f":"陸連登録!F14","v":23},{"$f":"陸連登録!B14","v":0},null,"",null,0,2,null,"",{"$f":"IF(T19=\"\",\"\",HLOOKUP(T19,#REF!,14,FALSE))","v":""},0,2,null,null,{"$f":"IF(Y19=\"\",\"\",HLOOKUP(Y19,#REF!,14,FALSE))","v":""},0,2,null,null,{"$f":"IF(AD19=\"\",\"\",HLOOKUP(AD19,#REF!,2,FALSE))","v":""},0,2,null,{"$f":"IF(AI19=\"\",\"\",IF(I19=1,VLOOKUP(AI19,男子種目コード!$A$1:$B$29,2,FALSE),IF(I19=2,VLOOKUP(AI19,女子種目コード!$A$1:$B$30,2,FALSE))))","v":""},null,0,2,null,null,null,"棒高跳","",0,0,"","合計",{"$f":"AW12+AW18","v":0},null,null,null,null,null,null,null,null,null,0,"",""]
[null,{"$f":"陸連登録!N15","v":""},null,null,{"$f":"陸連登録!M15","v":0},{"$f":"陸連登録!C15","v":0},{"$f":"陸連登録!D15","v":0},0,{"$f":"陸連登録!A15","v":""},{"$f":"陸連登録!P15","v":0},{"$f":"LEFT(陸連登録!L15,4)","v":""},{"$f":"RIGHT(陸連登録!L15,4)","v":""},{"$f":"陸連登録!F15","v":23},{"$f":"陸連登録!B15","v":0},null,"",null,0,2,null,"",{"$f":"IF(T20=\"\",\"\",HLOOKUP(T20,#REF!,15,FALSE))","v":""},0,2,null,null,{"$f":"IF(Y20=\"\",\"\",HLOOKUP(Y20,#REF!,15,FALSE))","v":""},0,2,null,null,{"$f":"IF(AD20=\"\",\"\",HLOOKUP(AD20,#REF!,2,FALSE))","v":""},0,2,null,{"$f":"IF(AI20=\"\",\"\",IF(I20=1,VLOOKUP(AI20,男子種目コード!$A$1:$B$29,2,FALSE),IF(I20=2,VLOOKUP(AI20,女子種目コード!$A$1:$B$30,2,FALSE))))","v":""},null,0,2,null,null,null,"走幅跳","",0,0,"",null,null,null,null,null,null,null,null,null,null,null,0,"",""]
[null,{"$f":"陸連登録!N16","v":""},null,null,{"$f":"陸連登録!M16","v":0},{"$f":"陸連登録!C16","v":0},{"$f":"陸連登録!D16","v":0},0,{"$f":"陸連登録!A16","v":""},{"$f":"陸連登録!P16","v":0},{"$f":"LEFT(陸連登録!L16,4)","v":""},{"$f":"RIGHT(陸連登録!L16,4)","v":""},{"$f":"陸連登録!F16","v":23},{"$f":"陸連登録!B16","v":0},null,"",null,0,2,null,"",{"$f":"IF(T21=\"\",\"\",HLOOKUP(T21,#REF!,16,FALSE))","v":""},0,2,null,null,{"$f":"IF(Y21=\"\",\"\",HLOOKUP(Y21,#REF!,16,FALSE))","v":""},0,2,null,null,{"$f":"IF(AD21=\"\",\"\",HLOOKUP(AD21,#REF!,2,FALSE))","v":""},0,2,null,{"$f":"IF(AI21=\"\",\"\",IF(I21=1,VLOOKUP(AI21,男子種目コード!$A$1:$B$29,2,FALSE),IF(I21=2,VLOOKUP(AI21,女子種目コード!$A$1:$B$30,2,FALSE))))","v":""},null,0,2,null,null,null,"三段跳","",0,0,"",null,null,null,null,null,null,null,null,null,null,null,0,"",""]
[null,{"$f":"陸連登録!N17","v":""},null,null,{"$f":"陸連登録!M17","v":0},{"$f":"陸連登録!C17","v":0},{"$f":"陸連登録!D17","v":0},0,{"$f":"陸連登録!A17","v":""},{"$f":"陸連登録!P17","v":0},{"$f":"LEFT(陸連登録!L17,4)","v":""},{"$f":"RIGHT(陸連登録!L17,4)","v":""},{"$f":"陸連登録!F17","v":23},{"$f":"陸連登録!B17","v":0},null,"",null,0,2,null,"",{"$f":"IF(T22=\"\",\"\",HLOOKUP(T22,#REF!,17,FALSE))","v":""},0,2,null,null,{"$f":"IF(Y22=\"\",\"\",HLOOKUP(Y22,#REF!,17,FALSE))","v":""},0,2,null,null,{"$f":"IF(AD22=\"\",\"\",HLOOKUP(AD22,#REF!,2,FALSE))","v":""},0,2,null,{"$f":"IF(AI22=\"\",\"\",IF(I22=1,VLOOKUP(AI22,男子種目コード!$A$1:$B$29,2,FALSE),IF(I22=2,VLOOKUP(AI22,女子種目コード!$A$1:$B$30,2,FALSE))))","v":""},null,0,2,null,null,null,"砲丸投","",0,0,"",null,null,null,null,null,null,null,null,null,null,null,0,"",""]
[null,{"$f":"陸連登録!N18","v":""},null,null,{"$f":"陸連登録!M18","v":0},{"$f":"陸連登録!C18","v":0},{"$f":"陸連登録!D18","v":0},0,{"$f":"陸連登録!A18","v":""},{"$f":"陸連登録!P18","v":0},{"$f":"LEFT(陸連登録!L18,4)","v":""},{"$f":"RIGHT(陸連登録!L18,4)","v":""},{"$f":"陸連登録!F18","v":23},{"$f":"陸連登録!B18","v":0},null,"",null,0,2,null,"",{"$f":"IF(T23=\"\",\"\",HLOOKUP(T23,#REF!,18,FALSE))","v":""},0,2,null,null,{"$f":"IF(Y23=\"\",\"\",HLOOKUP(Y23,#REF!,18,FALSE))","v":""},0,2,null,null,{"$f":"IF(AD23=\"\",\"\",HLOOKUP(AD23,#REF!,2,FALSE))","v":""},0,2,null,{"$f":"IF(AI23=\"\",\"\",IF(I23=1,VLOOKUP(AI23,男子種目コード!$A$1:$B$29,2,FALSE),IF(I23=2,VLOOKUP(AI23,女子種目コード!$A$1:$B$30,2,FALSE))))","v":""},null,0,2,null,null,null,"円盤投","",0,0,"",null,null,null,null,null,null,null,null,null,null,null,0,"",""]
[null,{"$f":"陸連登録!N19","v":""},null,null,{"$f":"陸連登録!M19","v":0},{"$f":"陸連登録!C19","v":0},{"$f":"陸連登録!D19","v":0},0,{"$f":"陸連登録!A19","v":""},{"$f":"陸連登録!P19","v":0},{"$f":"LEFT(陸連登録!L19,4)","v":""},{"$f":"RIGHT(陸連登録!L19,4)","v":""},{"$f":"陸連登録!F19","v":23},{"$f":"陸連登録!B19","v":0},null,"",null,0,2,null,"",{"$f":"IF(T24=\"\",\"\",HLOOKUP(T24,#REF!,19,FALSE))","v":""},0,2,null,null,{"$f":"IF(Y24=\"\",\"\",HLOOKUP(Y24,#REF!,19,FALSE))","v":""},0,2,null,null,{"$f":"IF(AD24=\"\",\"\",HLOOKUP(AD24,#REF!,2,FALSE))","v":""},0,2,null,{"$f":"IF(AI24=\"\",\"\",IF(I24=1,VLOOKUP(AI24,男子種目コード!$A$1:$B$29,2,FALSE),IF(I24=2,VLOOKUP(AI24,女子種目コード!$A$1:$B$30,2,FALSE))))","v":""},null,0,2,null,null,null,"ハンマー投","",0,0,"",null,null,null,null,null,null,null,null,null,null,null,0,"",""]
[null,{"$f":"陸連登録!N20","v":""},null,null,{"$f":"陸連登録!M20","v":0},{"$f":"陸連登録!C20","v":0},{"$f":"陸連登録!D20","v":0},0,{"$f":"陸連登録!A20","v":""},{"$f":"陸連登録!P20","v":0},{"$f":"LEFT(陸連登録!L20,4)","v":""},{"$f":"RIGHT(陸連登録!L20,4)","v":""},{"$f":"陸連登録!F20","v":23},{"$f":"陸連登録!B20","v":0},null,"",null,0,2,null,"",{"$f":"IF(T25=\"\",\"\",HLOOKUP(T25,#REF!,20,FALSE))","v":""},0,2,null,null,{"$f":"IF(Y25=\"\",\"\",HLOOKUP(Y25,#REF!,20,FALSE))","v":""},0,2,null,null,{"$f":"IF(AD25=\"\",\"\",HLOOKUP(AD25,#REF!,2,FALSE))","v":""},0,2,null,{"$f":"IF(AI25=\"\",\"\",IF(I25=1,VLOOKUP(AI25,男子種目コード!$A$1:$B$29,2,FALSE),IF(I25=2,VLOOKUP(AI25,女子種目コード!$A$1:$B$30,2,FALSE))))","v":""},null,0,2,null,null,null,"やり投","",0,0,"",null,null,null,null,null,null,null,null,null,null,null,0,"",""]
[null,{"$f":"陸連登録!N21","v":""},null,null,{"$f":"陸連登録!M21","v":0},{"$f":"陸連登録!C21","v":0},{"$f":"陸連登録!D21","v":0},0,{"$f":"陸連登録!A21","v":""},{"$f":"陸連登録!P21","v":0},{"$f":"LEFT(陸連登録!L21,4)","v":""},{"$f":"RIGHT(陸連登録!L21,4)","v":""},{"$f":"陸連登録!F21","v":23},{"$f":"陸連登録!B21","v":0},null,"",null,0,2,null,"",{"$f":"IF(T26=\"\",\"\",HLOOKUP(T26,#REF!,21,FALSE))","v":""},0,2,null,null,{"$f":"IF(Y26=\"\",\"\",HLOOKUP(Y26,#REF!,21,FALSE))","v":""},0,2,null,null,{"$f":"IF(AD26=\"\",\"\",HLOOKUP(AD26,#REF!,2,FALSE))","v":""},0,2,null,{"$f":"IF(AI26=\"\",\"\",IF(I26=1,VLOOKUP(AI26,男子種目コード!$A$1:$B$29,2,FALSE),IF(I26=2,VLOOKUP(AI26,女子種目コード!$A$1:$B$30,2,FALSE))))","v":""},null,0,2,null,null,null,"少年B100H","",0,0,"",null,null,null,null,null,null,null,null,null,null,null,0,"",""]
[null,{"$f":"陸連登録!N22","v":""},null,null,{"$f":"陸連登録!M22","v":0},{"$f":"陸連登録!C22","v":0},{"$f":"陸連登録!D22","v":0},0,{"$f":"陸連登録!A22","v":""},{"$f":"陸連登録!P22","v":0},{"$f":"LEFT(陸連登録!L22,4)","v":""},{"$f":"RIGHT(陸連登録!L22,4)","v":""},{"$f":"陸連登録!F22","v":23},{"$f":"陸連登録!B22","v":0},null,"",null,0,2,null,"",{"$f":"IF(T27=\"\",\"\",HLOOKUP(T27,#REF!,22,FALSE))","v":""},0,2,null,null,{"$f":"IF(Y27=\"\",\"\",HLOOKUP(Y27,#REF!,22,FALSE))","v":""},0,2,null,null,{"$f":"IF(AD27=\"\",\"\",HLOOKUP(AD27,#REF!,2,FALSE))","v":""},0,2,null,{"$f":"IF(AI27=\"\",\"\",IF(I27=1,VLOOKUP(AI27,男子種目コード!$A$1:$B$29,2,FALSE),IF(I27=2,VLOOKUP(AI27,女子種目コード!$A$1:$B$30,2,FALSE))))","v":""},null,0,2,null,null,null,"少年3000","",0,0,"",null,null,null,null,null,null,null,null,null,null,null,0,"",""]
[null,{"$f":"陸連登録!N23","v":""},null,null,{"$f":"陸連登録!M23","v":0},{"$f":"陸連登録!C23","v":0},{"$f":"陸連登録!D23","v":0},0,{"$f":"陸連登録!A23","v":""},{"$f":"陸連登録!P23","v":0},{"$f":"LEFT(陸連登録!L23,4)","v":""},{"$f":"RIGHT(陸連登録!L23,4)","v":""},{"$f":"陸連登録!F23","v":23},{"$f":"陸連登録!B23","v":0},null,"",null,0,2,null,"",{"$f":"IF(T28=\"\",\"\",HLOOKUP(T28,#REF!,23,FALSE))","v":""},0,2,null,null,{"$f":"IF(Y28=\"\",\"\",HLOOKUP(Y28,#REF!,23,FALSE))","v":""},0,2,null,null,{"$f":"IF(AD28=\"\",\"\",HLOOKUP(AD28,#REF!,2,FALSE))","v":""},0,2,null,{"$f":"IF(AI28=\"\",\"\",IF(I28=1,VLOOKUP(AI28,男子種目コード!$A$1:$B$29,2,FALSE),IF(I28=2,VLOOKUP(AI28,女子種目コード!$A$1:$B$30,2,FALSE))))","v":""},null,0,2,null,null,null,"少年砲丸投","",0,0,"",null,null,null,null,null,null,null,null,null,null,null,0,"",""]
[null,{"$f":"陸連登録!N24","v":""},null,null,{"$f":"陸連登録!M24","v":0},{"$f":"陸連登録!C24","v":0},{"$f":"陸連登録!D24","v":0},0,{"$f":"陸連登録!A24","v":""},{"$f":"陸連登録!P24","v":0},{"$f":"LEFT(陸連登録!L24,4)","v":""},{"$f":"RIGHT(陸連登録!L24,4)","v":""},{"$f":"陸連登録!F24","v":23},{"$f":"陸連登録!B24","v":0},null,"",null,0,2,null,"",{"$f":"IF(T29=\"\",\"\",HLOOKUP(T29,#REF!,24,FALSE))","v":""},0,2,null,null,{"$f":"IF(Y29=\"\",\"\",HLOOKUP(Y29,#REF!,24,FALSE))","v":""},0,2,null,null,{"$f":"IF(AD29=\"\",\"\",HLOOKUP(AD29,#REF!,2,FALSE))","v":""},0,2,null,{"$f":"IF(AI29=\"\",\"\",IF(I29=1,VLOOKUP(AI29,男子種目コード!$A$1:$B$29,2,FALSE),IF(I29=2,VLOOKUP(AI29,女子種目コード!$A$1:$B$30,2,FALSE))))","v":""},null,0,2,null,null,null,"少年円盤投","",0,0,"",null,null,null,null,null,null,null,null,null,null,null,0,"",""]
[null,{"$f":"陸連登録!N25","v":""},null,null,{"$f":"陸連登録!M25","v":0},{"$f":"陸連登録!C25","v":0},{"$f":"陸連登録!D25","v":0},0,{"$f":"陸連登録!A25","v":""},{"$f":"陸連登録!P25","v":0},{"$f":"LEFT(陸連登録!L25,4)","v":""},{"$f":"RIGHT(陸連登録!L25,4)","v":""},{"$f":"陸連登録!F25","v":23},{"$f":"陸連登録!B25","v":0},null,"",null,0,2,null,"",{"$f":"IF(T30=\"\",\"\",HLOOKUP(T30,#REF!,25,FALSE))","v":""},0,2,null,null,{"$f":"IF(Y30=\"\",\"\",HLOOKUP(Y30,#REF!,25,FALSE))","v":""},0,2,null,null,{"$f":"IF(AD30=\"\",\"\",HLOOKUP(AD30,#REF!,2,FALSE))","v":""},0,2,null,{"$f":"IF(AI30=\"\",\"\",IF(I30=1,VLOOKUP(AI30,男子種目コード!$A$1:$B$29,2,FALSE),IF(I30=2,VLOOKUP(AI30,女子種目コード!$A$1:$B$30,2,FALSE))))","v":""},null,0,2,null,null,null,"少年ハンマー投","",0,0,"",null,null,null,null,null,null,null,null,null,null,null,0,"",""]
[null,{"$f":"陸連登録!N26","v":""},null,null,{"$f":"陸連登録!M26","v":0},{"$f":"陸連登録!C26","v":0},{"$f":"陸連登録!D26","v":0},0,{"$f":"陸連登録!A26","v":""},{"$f":"陸連登録!P26","v":0},{"$f":"LEFT(陸連登録!L26,4)","v":""},{"$f":"RIGHT(陸連登録!L26,4)","v":""},{"$f":"陸連登録!F26","v":23},{"$f":"陸連登録!B26","v":0},null,"",null,0,2,null,"",{"$f":"IF(T31=\"\",\"\",HLOOKUP(T31,#REF!,26,FALSE))","v":""},0,2,null,null,{"$f":"IF(Y31=\"\",\"\",HLOOKUP(Y31,#REF!,26,FALSE))","v":""},0,2,null,null,{"$f":"IF(AD31=\"\",\"\",HLOOKUP(AD31,#REF!,2,FALSE))","v":""},0,2,null,{"$f":"IF(AI31=\"\",\"\",IF(I31=1,VLOOKUP(AI31,男子種目コード!$A$1:$B$29,2,FALSE),IF(I31=2,VLOOKUP(AI31,女子種目コード!$A$1:$B$30,2,FALSE))))","v":""},null,0,2,null,null,null,"男子A","",0,0,"",null,null,null,null,null,null,null,null,null,null,null,0,"",""]
[null,{"$f":"陸連登録!N27","v":""},null,null,{"$f":"陸連登録!M27","v":0},{"$f":"陸連登録!C27","v":0},{"$f":"陸連登録!D27","v":0},0,{"$f":"陸連登録!A27","v":""},{"$f":"陸連登録!P27","v":0},{"$f":"LEFT(陸連登録!L27,4)","v":""},{"$f":"RIGHT(陸連登録!L27,4)","v":""},{"$f":"陸連登録!F27","v":23},{"$f":"陸連登録!B27","v":0},null,"",null,0,2,null,"",{"$f":"IF(T32=\"\",\"\",HLOOKUP(T32,#REF!,27,FALSE))","v":""},0,2,null,null,{"$f":"IF(Y32=\"\",\"\",HLOOKUP(Y32,#REF!,27,FALSE))","v":""},0,2,null,null,{"$f":"IF(AD32=\"\",\"\",HLOOKUP(AD32,#REF!,2,FALSE))","v":""},0,2,null,{"$f":"IF(AI32=\"\",\"\",IF(I32=1,VLOOKUP(AI32,男子種目コード!$A$1:$B$29,2,FALSE),IF(I32=2,VLOOKUP(AI32,女子種目コード!$A$1:$B$30,2,FALSE))))","v":""},null,0,2,null,null,null,"男子B","",0,0,"",null,null,null,null,null,null,null,null,null,null,null,0,"",""]
[null,{"$f":"陸連登録!N28","v":""},null,null,{"$f":"陸連登録!M28","v":0},{"$f":"陸連登録!C28","v":0},{"$f":"陸連登録!D28","v":0},0,{"$f":"陸連登録!A28","v":""},{"$f":"陸連登録!P28","v":0},{"$f":"LEFT(陸連登録!L28,4)","v":""},{"$f":"RIGHT(陸連登録!L28,4)","v":""},{"$f":"陸連登録!F28","v":23},{"$f":"陸連登録!B28","v":0},null,"",null,0,2,null,"",{"$f":"IF(T33=\"\",\"\",HLOOKUP(T33,#REF!,28,FALSE))","v":""},0,2,null,null,{"$f":"IF(Y33=\"\",\"\",HLOOKUP(Y33,#REF!,28,FALSE))","v":""},0,2,null,null,{"$f":"IF(AD33=\"\",\"\",HLOOKUP(AD33,#REF!,2,FALSE))","v":""},0,2,null,{"$f":"IF(AI33=\"\",\"\",IF(I33=1,VLOOKUP(AI33,男子種目コード!$A$1:$B$29,2,FALSE),IF(I33=2,VLOOKUP(AI33,女子種目コード!$A$1:$B$30,2,FALSE))))","v":""},null,0,2,null,null,null,"男子C","",0,0,"",null,null,null,null,null,null,null,null,null,null,null,0,"",""]
[null,{"$f":"陸連登録!N29","v":""},null,null,{"$f":"陸連登録!M29","v":0},{"$f":"陸連登録!C29","v":0},{"$f":"陸連登録!D29","v":0},0,{"$f":"陸連登録!A29","v":""},{"$f":"陸連登録!P29","v":0},{"$f":"LEFT(陸連登録!L29,4)","v":""},{"$f":"RIGHT(陸連登録!L29,4)","v":""},{"$f":"陸連登録!F29","v":23},{"$f":"陸連登録!B29","v":0},null,"",null,0,2,null,"",{"$f":"IF(T34=\"\",\"\",HLOOKUP(T34,#REF!,29,FALSE))","v":""},0,2,null,null,{"$f":"IF(Y34=\"\",\"\",HLOOKUP(Y34,#REF!,29,FALSE))","v":""},0,2,null,null,{"$f":"IF(AD34=\"\",\"\",HLOOKUP(AD34,#REF!,2,FALSE))","v":""},0,2,null,{"$f":"IF(AI34=\"\",\"\",IF(I34=1,VLOOKUP(AI34,男子種目コード!$A$1:$B$29,2,FALSE),IF(I34=2,VLOOKUP(AI34,女子種目コード!$A$1:$B$30,2,FALSE))))","v":""},null,0,2,null,null,null,"女子A","",0,0,"",null,null,null,null,null,null,null,null,null,null,null,0,"",""]
[null,{"$f":"陸連登録!N30","v":""},null,null,{"$f":"陸連登録!M30","v":0},{"$f":"陸連登録!C30","v":0},{"$f":"陸連登録!D30","v":0},0,{"$f":"陸連登録!A30","v":""},{"$f":"陸連登録!P30","v":0},{"$f":"LEFT(陸連登録!L30,4)","v":""},{"$f":"RIGHT(陸連登録!L30,4)","v":""},{"$f":"陸連登録!F30","v":23},{"$f":"陸連登録!B30","v":0},null,"",null,0,2,null,"",{"$f":"IF(T35=\"\",\"\",HLOOKUP(T35,#REF!,30,FALSE))","v":""},0,2,null,null,{"$f":"IF(Y35=\"\",\"\",HLOOKUP(Y35,#REF!,30,FALSE))","v":""},0,2,null,null,{"$f":"IF(AD35=\"\",\"\",HLOOKUP(AD35,#REF!,2,FALSE))","v":""},0,2,null,{"$f":"IF(AI35=\"\",\"\",IF(I35=1,VLOOKUP(AI35,男子種目コード!$A$1:$B$29,2,FALSE),IF(I35=2,VLOOKUP(AI35,女子種目コード!$A$1:$B$30,2,FALSE))))","v":""},null,0,2,null,null,null,"女子B","",0,0,"",null,null,null,null,null,null,null,null,null,null,null,0,"",""]
[null,{"$f":"陸連登録!N31","v":""},null,null,{"$f":"陸連登録!M31","v":0},{"$f":"陸連登録!C31","v":0},{"$f":"陸連登録!D31","v":0},0,{"$f":"陸連登録!A31","v":""},{"$f":"陸連登録!P31","v":0},{"$f":"LEFT(陸連登録!L31,4)","v":""},{"$f":"RIGHT(陸連登録!L31,4)","v":""},{"$f":"陸連登録!F31","v":23},{"$f":"陸連登録!B31","v":0},null,"",null,0,2,null,"",{"$f":"IF(T36=\"\",\"\",HLOOKUP(T36,#REF!,31,FALSE))","v":""},0,2,null,null,{"$f":"IF(Y36=\"\",\"\",HLOOKUP(Y36,#REF!,31,FALSE))","v":""},0,2,null,null,{"$f":"IF(AD36=\"\",\"\",HLOOKUP(AD36,#REF!,2,FALSE))","v":""},0,2,null,{"$f":"IF(AI36=\"\",\"\",IF(I36=1,VLOOKUP(AI36,男子種目コード!$A$1:$B$29,2,FALSE),IF(I36=2,VLOOKUP(AI36,女子種目コード!$A$1:$B$30,2,FALSE))))","v":""},null,0,2,null,null,null,"女子C","",0,0,"",null,null,null,null,null,null,null,null,null,null,null,0,"",""]
[null,{"$f":"陸連登録!N32","v":""},null,null,{"$f":"陸連登録!M32","v":0},{"$f":"陸連登録!C32","v":0},{"$f":"陸連登録!D32","v":0},0,{"$f":"陸連登録!A32","v":""},{"$f":"陸連登録!P32","v":0},{"$f":"LEFT(陸連登録!L32,4)","v":""},{"$f":"RIGHT(陸連登録!L32,4)","v":""},{"$f":"陸連登録!F32","v":23},{"$f":"陸連登録!B32","v":0},null,"",null,0,2,null,"",{"$f":"IF(T37=\"\",\"\",HLOOKUP(T37,#REF!,32,FALSE))","v":""},0,2,null,null,{"$f":"IF(Y37=\"\",\"\",HLOOKUP(Y37,#REF!,32,FALSE))","v":""},0,2,null,null,{"$f":"IF(AD37=\"\",\"\",HLOOKUP(AD37,#REF!,2,FALSE))","v":""},0,2,null,{"$f":"IF(AI37=\"\",\"\",IF(I37=1,VLOOKUP(AI37,男子種目コード!$A$1:$B$29,2,FALSE),IF(I37=2,VLOOKUP(AI37,女子種目コード!$A$1:$B$30,2,FALSE))))","v":""},null,0,2,null,null,null,null,"",0,0,"",null,null,null,null,null,null,null,null,null,null,null,0,"",""]
[null,{"$f":"陸連登録!N33","v":""},null,null,{"$f":"陸連登録!M33","v":0},{"$f":"陸連登録!C33","v":0},{"$f":"陸連登録!D33","v":0},0,{"$f":"陸連登録!A33","v":""},{"$f":"陸連登録!P33","v":0},{"$f":"LEFT(陸連登録!L33,4)","v":""},{"$f":"RIGHT(陸連登録!L33,4)","v":""},{"$f":"陸連登録!F33","v":23},{"$f":"陸連登録!B33","v":0},null,"",null,0,2,null,"",{"$f":"IF(T38=\"\",\"\",HLOOKUP(T38,#REF!,33,FALSE))","v":""},0,2,null,null,{"$f":"IF(Y38=\"\",\"\",HLOOKUP(Y38,#REF!,33,FALSE))","v":""},0,2,null,null,{"$f":"IF(AD38=\"\",\"\",HLOOKUP(AD38,#REF!,2,FALSE))","v":""},0,2,null,{"$f":"IF(AI38=\"\",\"\",IF(I38=1,VLOOKUP(AI38,男子種目コード!$A$1:$B$29,2,FALSE),IF(I38=2,VLOOKUP(AI38,女子種目コード!$A$1:$B$30,2,FALSE))))","v":""},null,0,2,null,null,null,null,"",0,0,"",null,null,null,null,null,null,null,null,null,null,null,0,"",""]
[null,{"$f":"陸連登録!N34","v":""},null,null,{"$f":"陸連登録!M34","v":0},{"$f":"陸連登録!C34","v":0},{"$f":"陸連登録!D34","v":0},0,{"$f":"陸連登録!A34","v":""},{"$f":"陸連登録!P34","v":0},{"$f":"LEFT(陸連登録!L34,4)","v":""},{"$f":"RIGHT(陸連登録!L34,4)","v":""},{"$f":"陸連登録!F34","v":23},{"$f":"陸連登録!B34","v":0},null,{"$f":"IF($O39=\"\",\"\",IF($I39=1,VLOOKUP($O39,$AV$8:$AX$11,3,FALSE),IF($I39=2,VLOOKUP($O39,$AV$14:$AX$17,3,FALSE))))","v":""},null,0,2,null,{"$f":"IF(T39=\"\",\"\",IF($I39=1,VLOOKUP(T39,$AV$8:$AX$11,3,FALSE),IF($I39=2,VLOOKUP(T39,$AV$14:$AX$17,3,FALSE))))","v":""},{"$f":"IF(T39=\"\",\"\",HLOOKUP(T39,#REF!,34,FALSE))","v":""},0,2,null,null,{"$f":"IF(Y39=\"\",\"\",HLOOKUP(Y39,#REF!,34,FALSE))","v":""},0,2,null,null,{"$f":"IF(AD39=\"\",\"\",HLOOKUP(AD39,#REF!,2,FALSE))","v":""},0,2,null,{"$f":"IF(AI39=\"\",\"\",IF(I39=1,VLOOKUP(AI39,男子種目コード!$A$1:$B$29,2,FALSE),IF(I39=2,VLOOKUP(AI39,女子種目コード!$A$1:$B$30,2,FALSE))))","v":""},null,0,2,null,null,null,null,"",0,0,"",null,null,null,null,null,null,null,null,null,null,null,0,"",""]
[null,{"$f":"陸連登録!N35","v":""},null,null,{"$f":"陸連登録!M35","v":0},{"$f":"陸連登録!C35","v":0},{"$f":"陸連登録!D35","v":0},0,{"$f":"陸連登録!A35","v":""},{"$f":"陸連登録!P35","v":0},{"$f":"LEFT(陸連登録!L35,4)","v":""},{"$f":"RIGHT(陸連登録!L35,4)","v":""},{"$f":"陸連登録!F35","v":23},{"$f":"陸連登録!B35","v":0},null,"",null,0,2,null,"",{"$f":"IF(T40=\"\",\"\",HLOOKUP(T40,#REF!,35,FALSE))","v":""},0,2,null,null,{"$f":"IF(Y40=\"\",\"\",HLOOKUP(Y40,#REF!,35,FALSE))","v":""},0,2,null,null,{"$f":"IF(AD40=\"\",\"\",HLOOKUP(AD40,#REF!,2,FALSE))","v":""},0,2,null,{"$f":"IF(AI40=\"\",\"\",IF(I40=1,VLOOKUP(AI40,男子種目コード!$A$1:$B$29,2,FALSE),IF(I40=2,VLOOKUP(AI40,女子種目コード!$A$1:$B$30,2,FALSE))))","v":""},null,0,2,null,null,null,null,"",0,0,"",null,null,null,null,null,null,null,null,null,null,null,0,"",""]
[null,{"$f":"陸連登録!N36","v":""},null,null,{"$f":"陸連登録!M36","v":0},{"$f":"陸連登録!C36","v":0},{"$f":"陸連登録!D36","v":0},0,{"$f":"陸連登録!A36","v":""},{"$f":"陸連登録!P36","v":0},{"$f":"LEFT(陸連登録!L36,4)","v":""},{"$f":"RIGHT(陸連登録!L36,4)","v":""},{"$f":"陸連登録!F36","v":23},{"$f":"陸連登録!B36","v":0},null,"",null,0,2,null,"",{"$f":"IF(T41=\"\",\"\",HLOOKUP(T41,#REF!,36,FALSE))","v":""},0,2,null,null,{"$f":"IF(Y41=\"\",\"\",HLOOKUP(Y41,#REF!,36,FALSE))","v":""},0,2,null,null,{"$f":"IF(AD41=\"\",\"\",HLOOKUP(AD41,#REF!,2,FALSE))","v":""},0,2,null,{"$f":"IF(AI41=\"\",\"\",IF(I41=1,VLOOKUP(AI41,男子種目コード!$A$1:$B$29,2,FALSE),IF(I41=2,VLOOKUP(AI41,女子種目コード!$A$1:$B$30,2,FALSE))))","v":""},null,0,2,null,null,null,null,"",0,0,"",null,null,null,null,null,null,null,null,null,null,null,0,"",""]
[null,{"$f":"陸連登録!N37","v":""},null,null,{"$f":"陸連登録!M37","v":0},{"$f":"陸連登録!C37","v":0},{"$f":"陸連登録!D37","v":0},0,{"$f":"陸連登録!A37","v":""},{"$f":"陸連登録!P37","v":0},{"$f":"LEFT(陸連登録!L37,4)","v":""},{"$f":"RIGHT(陸連登録!L37,4)","v":""},{"$f":"陸連登録!F37","v":23},{"$f":"陸連登録!B37","v":0},null,"",null,0,2,null,"",{"$f":"IF(T42=\"\",\"\",HLOOKUP(T42,#REF!,37,FALSE))","v":""},0,2,null,null,{"$f":"IF(Y42=\"\",\"\",HLOOKUP(Y42,#REF!,37,FALSE))","v":""},0,2,null,null,{"$f":"IF(AD42=\"\",\"\",HLOOKUP(AD42,#REF!,2,FALSE))","v":""},0,2,null,{"$f":"IF(AI42=\"\",\"\",IF(I42=1,VLOOKUP(AI42,男子種目コード!$A$1:$B$29,2,FALSE),IF(I42=2,VLOOKUP(AI42,女子種目コード!$A$1:$B$30,2,FALSE))))","v":""},null,0,2,null,null,null,null,"",0,0,"",null,null,null,null,null,null,null,null,null,null,null,0,"",""]
[null,{"$f":"陸連登録!N38","v":""},null,null,{"$f":"陸連登録!M38","v":0},{"$f":"陸連登録!C38","v":0},{"$f":"陸連登録!D38","v":0},0,{"$f":"陸連登録!A38","v":""},{"$f":"陸連登録!P38","v":0},{"$f":"LEFT(陸連登録!L38,4)","v":""},{"$f":"RIGHT(陸連登録!L38,4)","v":""},{"$f":"陸連登録!F38","v":23},{"$f":"陸連登録!B38","v":0},null,"",null,0,2,null,"",{"$f":"IF(T43=\"\",\"\",HLOOKUP(T43,#REF!,38,FALSE))","v":""},0,2,null,null,{"$f":"IF(Y43=\"\",\"\",HLOOKUP(Y43,#REF!,38,FALSE))","v":""},0,2,null,null,{"$f":"IF(AD43=\"\",\"\",HLOOKUP(AD43,#REF!,2,FALSE))","v":""},0,2,null,{"$f":"IF(AI43=\"\",\"\",IF(I43=1,VLOOKUP(AI43,男子種目コード!$A$1:$B$29,2,FALSE),IF(I43=2,VLOOKUP(AI43,女子種目コード!$A$1:$B$30,2,FALSE))))","v":""},null,0,2,null,null,null,null,"",0,0,"",null,null,null,null,null,null,null,null,null,null,null,0,"",""]
[null,{"$f":"陸連登録!N39","v":""},null,null,{"$f":"陸連登録!M39","v":0},{"$f":"陸連登録!C39","v":0},{"$f":"陸連登録!D39","v":0},0,{"$f":"陸連登録!A39","v":""},{"$f":"陸連登録!P39","v":0},{"$f":"LEFT(陸連登録!L39,4)","v":""},{"$f":"RIGHT(陸連登録!L39,4)","v":""},{"$f":"陸連登録!F39","v":23},{"$f":"陸連登録!B39","v":0},null,"",null,0,2,null,"",{"$f":"IF(T44=\"\",\"\",HLOOKUP(T44,#REF!,39,FALSE))","v":""},0,2,null,null,{"$f":"IF(Y44=\"\",\"\",HLOOKUP(Y44,#REF!,39,FALSE))","v":""},0,2,null,null,{"$f":"IF(AD44=\"\",\"\",HLOOKUP(AD44,#REF!,2,FALSE))","v":""},0,2,null,{"$f":"IF(AI44=\"\",\"\",IF(I44=1,VLOOKUP(AI44,男子種目コード!$A$1:$B$29,2,FALSE),IF(I44=2,VLOOKUP(AI44,女子種目コード!$A$1:$B$30,2,FALSE))))","v":""},null,0,2,null,null,null,null,"",0,0,"",null,null,null,null,null,null,null,null,null,null,null,0,"",""]
[null,{"$f":"陸連登録!N40","v":""},null,null,{"$f":"陸連登録!M40","v":0},{"$f":"陸連登録!C40","v":0},{"$f":"陸連登録!D40","v":0},0,{"$f":"陸連登録!A40","v":""},{"$f":"陸連登録!P40","v":0},{"$f":"LEFT(陸連登録!L40,4)","v":""},{"$f":"RIGHT(陸連登録!L40,4)","v":""},{"$f":"陸連登録!F40","v":23},{"$f":"陸連登録!B40","v":0},null,"",null,0,2,null,"",{"$f":"IF(T45=\"\",\"\",HLOOKUP(T45,#REF!,40,FALSE))","v":""},0,2,null,null,{"$f":"IF(Y45=\"\",\"\",HLOOKUP(Y45,#REF!,40,FALSE))","v":""},0,2,null,null,{"$f":"IF(AD45=\"\",\"\",HLOOKUP(AD45,#REF!,2,FALSE))","v":""},0,2,null,{"$f":"IF(AI45=\"\",\"\",IF(I45=1,VLOOKUP(AI45,男子種目コード!$A$1:$B$29,2,FALSE),IF(I45=2,VLOOKUP(AI45,女子種目コード!$A$1:$B$30,2,FALSE))))","v":""},null,0,2,null,null,null,null,"",0,0,"",null,null,null,null,null,null,null,null,null,null,null,0,"",""]
[null,{"$f":"陸連登録!N41","v":""},null,null,{"$f":"陸連登録!M41","v":0},{"$f":"陸連登録!C41","v":0},{"$f":"陸連登録!D41","v":0},0,{"$f":"陸連登録!A41","v":""},{"$f":"陸連登録!P41","v":0},{"$f":"LEFT(陸連登録!L41,4)","v":""},{"$f":"RIGHT(陸連登録!L41,4)","v":""},{"$f":"陸連登録!F41","v":23},{"$f":"陸連登録!B41","v":0},null,"",null,0,2,null,"",{"$f":"IF(T46=\"\",\"\",HLOOKUP(T46,#REF!,41,FALSE))","v":""},0,2,null,null,{"$f":"IF(Y46=\"\",\"\",HLOOKUP(Y46,#REF!,41,FALSE))","v":""},0,2,null,null,{"$f":"IF(AD46=\"\",\"\",HLOOKUP(AD46,#REF!,2,FALSE))","v":""},0,2,null,{"$f":"IF(AI46=\"\",\"\",IF(I46=1,VLOOKUP(AI46,男子種目コード!$A$1:$B$29,2,FALSE),IF(I46=2,VLOOKUP(AI46,女子種目コード!$A$1:$B$30,2,FALSE))))","v":""},null,0,2,null,null,null,null,"",0,0,"",null,null,null,null,null,null,null,null,null,null,null,0,"",""]
[null,{"$f":"陸連登録!N42","v":""},null,null,{"$f":"陸連登録!M42","v":0},{"$f":"陸連登録!C42","v":0},{"$f":"陸連登録!D42","v":0},0,{"$f":"陸連登録!A42","v":""},{"$f":"陸連登録!P42","v":0},{"$f":"LEFT(陸連登録!L42,4)","v":""},{"$f":"RIGHT(陸連登録!L42,4)","v":""},{"$f":"陸連登録!F42","v":23},{"$f":"陸連登録!B42","v":0},null,"",null,0,2,null,"",{"$f":"IF(T47=\"\",\"\",HLOOKUP(T47,#REF!,42,FALSE))","v":""},0,2,null,null,{"$f":"IF(Y47=\"\",\"\",HLOOKUP(Y47,#REF!,42,FALSE))","v":""},0,2,null,null,{"$f":"IF(AD47=\"\",\"\",HLOOKUP(AD47,#REF!,2,FALSE))","v":""},0,2,null,{"$f":"IF(AI47=\"\",\"\",IF(I47=1,VLOOKUP(AI47,男子種目コード!$A$1:$B$29,2,FALSE),IF(I47=2,VLOOKUP(AI47,女子種目コード!$A$1:$B$30,2,FALSE))))","v":""},null,0,2,null,null,null,null,"",0,0,"",null,null,null,null,null,null,null,null,null,null,null,0,"",""]
[null,{"$f":"陸連登録!N43","v":""},null,null,{"$f":"陸連登録!M43","v":0},{"$f":"陸連登録!C43","v":0},{"$f":"陸連登録!D43","v":0},0,{"$f":"陸連登録!A43","v":""},{"$f":"陸連登録!P43","v":0},{"$f":"LEFT(陸連登録!L43,4)","v":""},{"$f":"RIGHT(陸連登録!L43,4)","v":""},{"$f":"陸連登録!F43","v":23},{"$f":"陸連登録!B43","v":0},null,"",null,0,2,null,"",{"$f":"IF(T48=\"\",\"\",HLOOKUP(T48,#REF!,43,FALSE))","v":""},0,2,null,null,{"$f":"IF(Y48=\"\",\"\",HLOOKUP(Y48,#REF!,43,FALSE))","v":""},0,2,null,null,{"$f":"IF(AD48=\"\",\"\",HLOOKUP(AD48,#REF!,2,FALSE))","v":""},0,2,null,{"$f":"IF(AI48=\"\",\"\",IF(I48=1,VLOOKUP(AI48,男子種目コード!$A$1:$B$29,2,FALSE),IF(I48=2,VLOOKUP(AI48,女子種目コード!$A$1:$B$30,2,FALSE))))","v":""},null,0,2,null,null,null,null,"",0,0,"",null,null,null,null,null,null,null,null,null,null,null,0,"",""]
[null,{"$f":"陸連登録!N44","v":""},null,null,{"$f":"陸連登録!M44","v":0},{"$f":"陸連登録!C44","v":0},{"$f":"陸連登録!D44","v":0},0,{"$f":"陸連登録!A44","v":""},{"$f":"陸連登録!P44","v":0},{"$f":"LEFT(陸連登録!L44,4)","v":""},{"$f":"RIGHT(陸連登録!L44,4)","v":""},{"$f":"陸連登録!F44","v":23},{"$f":"陸連登録!B44","v":0},null,"",null,0,2,null,"",{"$f":"IF(T49=\"\",\"\",HLOOKUP(T49,#REF!,44,FALSE))","v":""},0,2,null,null,{"$f":"IF(Y49=\"\",\"\",HLOOKUP(Y49,#REF!,44,FALSE))","v":""},0,2,null,null,{"$f":"IF(AD49=\"\",\"\",HLOOKUP(AD49,#REF!,2,FALSE))","v":""},0,2,null,{"$f":"IF(AI49=\"\",\"\",IF(I49=1,VLOOKUP(AI49,男子種目コード!$A$1:$B$29,2,FALSE),IF(I49=2,VLOOKUP(AI49,女子種目コード!$A$1:$B$30,2,FALSE))))","v":""},null,0,2,null,null,null,null,"",0,0,"",null,null,null,null,null,null,null,null,null,null,null,0,"",""]
[null,{"$f":"陸連登録!N45","v":""},null,null,{"$f":"陸連登録!M45","v":0},{"$f":"陸連登録!C45","v":0},{"$f":"陸連登録!D45","v":0},0,{"$f":"陸連登録!A45","v":""},{"$f":"陸連登録!P45","v":0},{"$f":"LEFT(陸連登録!L45,4)","v":""},{"$f":"RIGHT(陸連登録!L45,4)","v":""},{"$f":"陸連登録!F45","v":23},{"$f":"陸連登録!B45","v":0},null,"",null,0,2,null,"",{"$f":"IF(T50=\"\",\"\",HLOOKUP(T50,#REF!,45,FALSE))","v":""},0,2,null,null,{"$f":"IF(Y50=\"\",\"\",HLOOKUP(Y50,#REF!,45,FALSE))","v":""},0,2,null,null,{"$f":"IF(AD50=\"\",\"\",HLOOKUP(AD50,#REF!,2,FALSE))","v":""},0,2,null,{"$f":"IF(AI50=\"\",\"\",IF(I50=1,VLOOKUP(AI50,男子種目コード!$A$1:$B$29,2,FALSE),IF(I50=2,VLOOKUP(AI50,女子種目コード!$A$1:$B$30,2,FALSE))))","v":""},null,0,2,null,null,null,null,"",0,0,"",null,null,null,null,null,null,null,null,null,null,null,0,"",""]
[null,{"$f":"陸連登録!N46","v":""},null,null,{"$f":"陸連登録!M46","v":0},{"$f":"陸連登録!C46","v":0},{"$f":"陸連登録!D46","v":0},0,{"$f":"陸連登録!A46","v":""},{"$f":"陸連登録!P46","v":0},{"$f":"LEFT(陸連登録!L46,4)","v":""},{"$f":"RIGHT(陸連登録!L46,4)","v":""},{"$f":"陸連登録!F46","v":23},{"$f":"陸連登録!B46","v":0},null,"",null,0,2,null,"",{"$f":"IF(T51=\"\",\"\",HLOOKUP(T51,#REF!,46,FALSE))","v":""},0,2,null,null,{"$f":"IF(Y51=\"\",\"\",HLOOKUP(Y51,#REF!,46,FALSE))","v":""},0,2,null,null,{"$f":"IF(AD51=\"\",\"\",HLOOKUP(AD51,#REF!,2,FALSE))","v":""},0,2,null,{"$f":"IF(AI51=\"\",\"\",IF(I51=1,VLOOKUP(AI51,男子種目コード!$A$1:$B$29,2,FALSE),IF(I51=2,VLOOKUP(AI51,女子種目コード!$A$1:$B$30,2,FALSE))))","v":""},null,0,2,null,null,null,null,"",0,0,"",null,null,null,null,null,null,null,null,null,null,null,0,"",""]
[null,{"$f":"陸連登録!N47","v":""},null,null,{"$f":"陸連登録!M47","v":0},{"$f":"陸連登録!C47","v":0},{"$f":"陸連登録!D47","v":0},0,{"$f":"陸連登録!A47","v":""},{"$f":"陸連登録!P47","v":0},{"$f":"LEFT(陸連登録!L47,4)","v":""},{"$f":"RIGHT(陸連登録!L47,4)","v":""},{"$f":"陸連登録!F47","v":23},{"$f":"陸連登録!B47","v":0},null,"",null,0,2,null,"",{"$f":"IF(T52=\"\",\"\",HLOOKUP(T52,#REF!,47,FALSE))","v":""},0,2,null,null,{"$f":"IF(Y52=\"\",\"\",HLOOKUP(Y52,#REF!,47,FALSE))","v":""},0,2,null,null,{"$f":"IF(AD52=\"\",\"\",HLOOKUP(AD52,#REF!,2,FALSE))","v":""},0,2,null,{"$f":"IF(AI52=\"\",\"\",IF(I52=1,VLOOKUP(AI52,男子種目コード!$A$1:$B$29,2,FALSE),IF(I52=2,VLOOKUP(AI52,女子種目コード!$A$1:$B$30,2,FALSE))))","v":""},null,0,2,null,null,null,null,"",0,0,"",null,null,null,null,null,null,null,null,null,null,null,0,"",""]
[null,{"$f":"陸連登録!N48","v":""},null,null,{"$f":"陸連登録!M48","v":0},{"$f":"陸連登録!C48","v":0},{"$f":"陸連登録!D48","v":0},0,{"$f":"陸連登録!A48","v":""},{"$f":"陸連登録!P48","v":0},{"$f":"LEFT(陸連登録!L48,4)","v":""},{"$f":"RIGHT(陸連登録!L48,4)","v":""},{"$f":"陸連登録!F48","v":23},{"$f":"陸連登録!B48","v":0},null,"",null,0,2,null,"",{"$f":"IF(T53=\"\",\"\",HLOOKUP(T53,#REF!,48,FALSE))","v":""},0,2,null,null,{"$f":"IF(Y53=\"\",\"\",HLOOKUP(Y53,#REF!,48,FALSE))","v":""},0,2,null,null,{"$f":"IF(AD53=\"\",\"\",HLOOKUP(AD53,#REF!,2,FALSE))","v":""},0,2,null,{"$f":"IF(AI53=\"\",\"\",IF(I53=1,VLOOKUP(AI53,男子種目コード!$A$1:$B$29,2,FALSE),IF(I53=2,VLOOKUP(AI53,女子種目コード!$A$1:$B$30,2,FALSE))))","v":""},null,0,2,null,null,null,null,"",0,0,"",null,null,null,null,null,null,null,null,null,null,null,0,"",""]
[null,{"$f":"陸連登録!N49","v":""},null,null,{"$f":"陸連登録!M49","v":0},{"$f":"陸連登録!C49","v":0},{"$f":"陸連登録!D49","v":0},0,{"$f":"陸連登録!A49","v":""},{"$f":"陸連登録!P49","v":0},{"$f":"LEFT(陸連登録!L49,4)","v":""},{"$f":"RIGHT(陸連登録!L49,4)","v":""},{"$f":"陸連登録!F49","v":23},{"$f":"陸連登録!B49","v":0},null,"",null,0,2,null,"",{"$f":"IF(T54=\"\",\"\",HLOOKUP(T54,#REF!,49,FALSE))","v":""},0,2,null,null,{"$f":"IF(Y54=\"\",\"\",HLOOKUP(Y54,#REF!,49,FALSE))","v":""},0,2,null,null,{"$f":"IF(AD54=\"\",\"\",HLOOKUP(AD54,#REF!,2,FALSE))","v":""},0,2,null,{"$f":"IF(AI54=\"\",\"\",IF(I54=1,VLOOKUP(AI54,男子種目コード!$A$1:$B$29,2,FALSE),IF(I54=2,VLOOKUP(AI54,女子種目コード!$A$1:$B$30,2,FALSE))))","v":""},null,0,2,null,null,null,null,"",0,0,"",null,null,null,null,null,null,null,null,null,null,null,0,"",""]
[null,{"$f":"陸連登録!N50","v":""},null,null,{"$f":"陸連登録!M50","v":0},{"$f":"陸連登録!C50","v":0},{"$f":"陸連登録!D50","v":0},0,{"$f":"陸連登録!A50","v":""},{"$f":"陸連登録!P50","v":0},{"$f":"LEFT(陸連登録!L50,4)","v":""},{"$f":"RIGHT(陸連登録!L50,4)","v":""},{"$f":"陸連登録!F50","v":23},{"$f":"陸連登録!B50","v":0},null,"",null,0,2,null,"",{"$f":"IF(T55=\"\",\"\",HLOOKUP(T55,#REF!,50,FALSE))","v":""},0,2,null,null,{"$f":"IF(Y55=\"\",\"\",HLOOKUP(Y55,#REF!,50,FALSE))","v":""},0,2,null,null,{"$f":"IF(AD55=\"\",\"\",HLOOKUP(AD55,#REF!,2,FALSE))","v":""},0,2,null,{"$f":"IF(AI55=\"\",\"\",IF(I55=1,VLOOKUP(AI55,男子種目コード!$A$1:$B$29,2,FALSE),IF(I55=2,VLOOKUP(AI55,女子種目コード!$A$1:$B$30,2,FALSE))))","v":""},null,0,2,null,null,null,null,"",0,0,"",null,null,null,null,null,null,null,null,null,null,null,0,"",""]
[null,{"$f":"陸連登録!N51","v":""},null,null,{"$f":"陸連登録!M51","v":0},{"$f":"陸連登録!C51","v":0},{"$f":"陸連登録!D51","v":0},0,{"$f":"陸連登録!A51","v":""},{"$f":"陸連登録!P51","v":0},{"$f":"LEFT(陸連登録!L51,4)","v":""},{"$f":"RIGHT(陸連登録!L51,4)","v":""},{"$f":"陸連登録!F51","v":23},{"$f":"陸連登録!B51","v":0},null,"",null,0,2,null,"",{"$f":"IF(T56=\"\",\"\",HLOOKUP(T56,#REF!,51,FALSE))","v":""},0,2,null,null,{"$f":"IF(Y56=\"\",\"\",HLOOKUP(Y56,#REF!,51,FALSE))","v":""},0,2,null,null,{"$f":"IF(AD56=\"\",\"\",HLOOKUP(AD56,#REF!,2,FALSE))","v":""},0,2,null,{"$f":"IF(AI56=\"\",\"\",IF(I56=1,VLOOKUP(AI56,男子種目コード!$A$1:$B$29,2,FALSE),IF(I56=2,VLOOKUP(AI56,女子種目コード!$A$1:$B$30,2,FALSE))))","v":""},null,0,2,null,null,null,null,"",0,0,"",null,null,null,null,null,null,null,null,null,null,null,0,"",""]
[null,{"$f":"陸連登録!N52","v":""},null,null,{"$f":"陸連登録!M52","v":0},{"$f":"陸連登録!C52","v":0},{"$f":"陸連登録!D52","v":0},0,{"$f":"陸連登録!A52","v":""},{"$f":"陸連登録!P52","v":0},{"$f":"LEFT(陸連登録!L52,4)","v":""},{"$f":"RIGHT(陸連登録!L52,4)","v":""},{"$f":"陸連登録!F52","v":23},{"$f":"陸連登録!B52","v":0},null,"",null,0,2,null,"",{"$f":"IF(T57=\"\",\"\",HLOOKUP(T57,#REF!,52,FALSE))","v":""},0,2,null,null,{"$f":"IF(Y57=\"\",\"\",HLOOKUP(Y57,#REF!,52,FALSE))","v":""},0,2,null,null,{"$f":"IF(AD57=\"\",\"\",HLOOKUP(AD57,#REF!,2,FALSE))","v":""},0,2,null,{"$f":"IF(AI57=\"\",\"\",IF(I57=1,VLOOKUP(AI57,男子種目コード!$A$1:$B$29,2,FALSE),IF(I57=2,VLOOKUP(AI57,女子種目コード!$A$1:$B$30,2,FALSE))))","v":""},null,0,2,null,null,null,null,"",0,0,"",null,null,null,null,null,null,null,null,null,null,null,0,"",""]
[null,{"$f":"陸連登録!N53","v":""},null,null,{"$f":"陸連登録!M53","v":0},{"$f":"陸連登録!C53","v":0},{"$f":"陸連登録!D53","v":0},0,{"$f":"陸連登録!A53","v":""},{"$f":"陸連登録!P53","v":0},{"$f":"LEFT(陸連登録!L53,4)","v":""},{"$f":"RIGHT(陸連登録!L53,4)","v":""},{"$f":"陸連登録!F53","v":23},{"$f":"陸連登録!B53","v":0},null,"",null,0,2,null,"",{"$f":"IF(T58=\"\",\"\",HLOOKUP(T58,#REF!,53,FALSE))","v":""},0,2,null,null,{"$f":"IF(Y58=\"\",\"\",HLOOKUP(Y58,#REF!,53,FALSE))","v":""},0,2,null,null,{"$f":"IF(AD58=\"\",\"\",HLOOKUP(AD58,#REF!,2,FALSE))","v":""},0,2,null,{"$f":"IF(AI58=\"\",\"\",IF(I58=1,VLOOKUP(AI58,男子種目コード!$A$1:$B$29,2,FALSE),IF(I58=2,VLOOKUP(AI58,女子種目コード!$A$1:$B$30,2,FALSE))))","v":""},null,0,2,null,null,null,null,"",0,0,"",null,null,null,null,null,null,null,null,null,null,null,0,"",""]
[null,{"$f":"陸連登録!N54","v":""},null,null,{"$f":"陸連登録!M54","v":0},{"$f":"陸連登録!C54","v":0},{"$f":"陸連登録!D54","v":0},0,{"$f":"陸連登録!A54","v":""},{"$f":"陸連登録!P54","v":0},{"$f":"LEFT(陸連登録!L54,4)","v":""},{"$f":"RIGHT(陸連登録!L54,4)","v":""},{"$f":"陸連登録!F54","v":23},{"$f":"陸連登録!B54","v":0},null,"",null,0,2,null,"",{"$f":"IF(T59=\"\",\"\",HLOOKUP(T59,#REF!,54,FALSE))","v":""},0,2,null,null,{"$f":"IF(Y59=\"\",\"\",HLOOKUP(Y59,#REF!,54,FALSE))","v":""},0,2,null,null,{"$f":"IF(AD59=\"\",\"\",HLOOKUP(AD59,#REF!,2,FALSE))","v":""},0,2,null,{"$f":"IF(AI59=\"\",\"\",IF(I59=1,VLOOKUP(AI59,男子種目コード!$A$1:$B$29,2,FALSE),IF(I59=2,VLOOKUP(AI59,女子種目コード!$A$1:$B$30,2,FALSE))))","v":""},null,0,2,null,null,null,null,"",0,0,"",null,null,null,null,null,null,null,null,null,null,null,0,"",""]
[null,{"$f":"陸連登録!N55","v":""},null,null,{"$f":"陸連登録!M55","v":0},{"$f":"陸連登録!C55","v":0},{"$f":"陸連登録!D55","v":0},0,{"$f":"陸連登録!A55","v":""},{"$f":"陸連登録!P55","v":0},{"$f":"LEFT(陸連登録!L55,4)","v":""},{"$f":"RIGHT(陸連登録!L55,4)","v":""},{"$f":"陸連登録!F55","v":23},{"$f":"陸連登録!B55","v":0},null,"",null,0,2,null,"",{"$f":"IF(T60=\"\",\"\",HLOOKUP(T60,#REF!,55,FALSE))","v":""},0,2,null,null,{"$f":"IF(Y60=\"\",\"\",HLOOKUP(Y60,#REF!,55,FALSE))","v":""},0,2,null,null,{"$f":"IF(AD60=\"\",\"\",HLOOKUP(AD60,#REF!,2,FALSE))","v":""},0,2,null,{"$f":"IF(AI60=\"\",\"\",IF(I60=1,VLOOKUP(AI60,男子種目コード!$A$1:$B$29,2,FALSE),IF(I60=2,VLOOKUP(AI60,女子種目コード!$A$1:$B$30,2,FALSE))))","v":""},null,0,2,null,null,null,null,"",0,0,"",null,null,null,null,null,null,null,null,null,null,null,0,"",""]
[null,{"$f":"陸連登録!N56","v":""},null,null,{"$f":"陸連登録!M56","v":0},{"$f":"陸連登録!C56","v":0},{"$f":"陸連登録!D56","v":0},0,{"$f":"陸連登録!A56","v":""},{"$f":"陸連登録!P56","v":0},{"$f":"LEFT(陸連登録!L56,4)","v":""},{"$f":"RIGHT(陸連登録!L56,4)","v":""},{"$f":"陸連登録!F56","v":23},{"$f":"陸連登録!B56","v":0},null,"",null,0,2,null,"",{"$f":"IF(T61=\"\",\"\",HLOOKUP(T61,#REF!,56,FALSE))","v":""},0,2,null,null,{"$f":"IF(Y61=\"\",\"\",HLOOKUP(Y61,#REF!,56,FALSE))","v":""},0,2,null,null,{"$f":"IF(AD61=\"\",\"\",HLOOKUP(AD61,#REF!,2,FALSE))","v":""},0,2,null,{"$f":"IF(AI61=\"\",\"\",IF(I61=1,VLOOKUP(AI61,男子種目コード!$A$1:$B$29,2,FALSE),IF(I61=2,VLOOKUP(AI61,女子種目コード!$A$1:$B$30,2,FALSE))))","v":""},null,0,2,null,null,null,null,"",0,0,"",null,null,null,null,null,null,null,null,null,null,null,0,"",""]
[null,{"$f":"陸連登録!N57","v":""},null,null,{"$f":"陸連登録!M57","v":0},{"$f":"陸連登録!C57","v":0},{"$f":"陸連登録!D57","v":0},0,{"$f":"陸連登録!A57","v":""},{"$f":"陸連登録!P57","v":0},{"$f":"LEFT(陸連登録!L57,4)","v":""},{"$f":"RIGHT(陸連登録!L57,4)","v":""},{"$f":"陸連登録!F57","v":23},{"$f":"陸連登録!B57","v":0},null,"",null,0,2,null,"",{"$f":"IF(T62=\"\",\"\",HLOOKUP(T62,#REF!,57,FALSE))","v":""},0,2,null,null,{"$f":"IF(Y62=\"\",\"\",HLOOKUP(Y62,#REF!,57,FALSE))","v":""},0,2,null,null,{"$f":"IF(AD62=\"\",\"\",HLOOKUP(AD62,#REF!,2,FALSE))","v":""},0,2,null,{"$f":"IF(AI62=\"\",\"\",IF(I62=1,VLOOKUP(AI62,男子種目コード!$A$1:$B$29,2,FALSE),IF(I62=2,VLOOKUP(AI62,女子種目コード!$A$1:$B$30,2,FALSE))))","v":""},null,0,2,null,null,null,null,"",0,0,"",null,null,null,null,null,null,null,null,null,null,null,0,"",""]
[null,{"$f":"陸連登録!N58","v":""},null,null,{"$f":"陸連登録!M58","v":0},{"$f":"陸連登録!C58","v":0},{"$f":"陸連登録!D58","v":0},0,{"$f":"陸連登録!A58","v":""},{"$f":"陸連登録!P58","v":0},{"$f":"LEFT(陸連登録!L58,4)","v":""},{"$f":"RIGHT(陸連登録!L58,4)","v":""},{"$f":"陸連登録!F58","v":23},{"$f":"陸連登録!B58","v":0},null,"",null,0,2,null,"",{"$f":"IF(T63=\"\",\"\",HLOOKUP(T63,#REF!,58,FALSE))","v":""},0,2,null,null,{"$f":"IF(Y63=\"\",\"\",HLOOKUP(Y63,#REF!,58,FALSE))","v":""},0,2,null,null,{"$f":"IF(AD63=\"\",\"\",HLOOKUP(AD63,#REF!,2,FALSE))","v":""},0,2,null,{"$f":"IF(AI63=\"\",\"\",IF(I63=1,VLOOKUP(AI63,男子種目コード!$A$1:$B$29,2,FALSE),IF(I63=2,VLOOKUP(AI63,女子種目コード!$A$1:$B$30,2,FALSE))))","v":""},null,0,2,null,null,null,null,"",0,0,"",null,null,null,null,null,null,null,null,null,null,null,0,"",""]
[null,{"$f":"陸連登録!N59","v":""},null,null,{"$f":"陸連登録!M59","v":0},{"$f":"陸連登録!C59","v":0},{"$f":"陸連登録!D59","v":0},0,{"$f":"陸連登録!A59","v":""},{"$f":"陸連登録!P59","v":0},{"$f":"LEFT(陸連登録!L59,4)","v":""},{"$f":"RIGHT(陸連登録!L59,4)","v":""},{"$f":"陸連登録!F59","v":23},{"$f":"陸連登録!B59","v":0},null,"",null,0,2,null,"",{"$f":"IF(T64=\"\",\"\",HLOOKUP(T64,#REF!,59,FALSE))","v":""},0,2,null,null,{"$f":"IF(Y64=\"\",\"\",HLOOKUP(Y64,#REF!,59,FALSE))","v":""},0,2,null,null,{"$f":"IF(AD64=\"\",\"\",HLOOKUP(AD64,#REF!,2,FALSE))","v":""},0,2,null,{"$f":"IF(AI64=\"\",\"\",IF(I64=1,VLOOKUP(AI64,男子種目コード!$A$1:$B$29,2,FALSE),IF(I64=2,VLOOKUP(AI64,女子種目コード!$A$1:$B$30,2,FALSE))))","v":""},null,0,2,null,null,null,null,"",0,0,"",null,null,null,null,null,null,null,null,null,null,null,0,"",""]
[null,{"$f":"陸連登録!N60","v":""},null,null,{"$f":"陸連登録!M60","v":0},{"$f":"陸連登録!C60","v":0},{"$f":"陸連登録!D60","v":0},0,{"$f":"陸連登録!A60","v":""},{"$f":"陸連登録!P60","v":0},{"$f":"LEFT(陸連登録!L60,4)","v":""},{"$f":"RIGHT(陸連登録!L60,4)","v":""},{"$f":"陸連登録!F60","v":23},{"$f":"陸連登録!B60","v":0},null,"",null,0,2,null,"",{"$f":"IF(T65=\"\",\"\",HLOOKUP(T65,#REF!,60,FALSE))","v":""},0,2,null,null,{"$f":"IF(Y65=\"\",\"\",HLOOKUP(Y65,#REF!,60,FALSE))","v":""},0,2,null,null,{"$f":"IF(AD65=\"\",\"\",HLOOKUP(AD65,#REF!,2,FALSE))","v":""},0,2,null,{"$f":"IF(AI65=\"\",\"\",IF(I65=1,VLOOKUP(AI65,男子種目コード!$A$1:$B$29,2,FALSE),IF(I65=2,VLOOKUP(AI65,女子種目コード!$A$1:$B$30,2,FALSE))))","v":""},null,0,2,null,null,null,null,"",0,0,"",null,null,null,null,null,null,null,null,null,null,null,0,"",""]
[null,{"$f":"陸連登録!N61","v":""},null,null,{"$f":"陸連登録!M61","v":0},{"$f":"陸連登録!C61","v":0},{"$f":"陸連登録!D61","v":0},0,{"$f":"陸連登録!A61","v":""},{"$f":"陸連登録!P61","v":0},{"$f":"LEFT(陸連登録!L61,4)","v":""},{"$f":"RIGHT(陸連登録!L61,4)","v":""},{"$f":"陸連登録!F61","v":23},{"$f":"陸連登録!B61","v":0},null,"",null,0,2,null,"",{"$f":"IF(T66=\"\",\"\",HLOOKUP(T66,#REF!,61,FALSE))","v":""},0,2,null,null,{"$f":"IF(Y66=\"\",\"\",HLOOKUP(Y66,#REF!,61,FALSE))","v":""},0,2,null,null,{"$f":"IF(AD66=\"\",\"\",HLOOKUP(AD66,#REF!,2,FALSE))","v":""},0,2,null,{"$f":"IF(AI66=\"\",\"\",IF(I66=1,VLOOKUP(AI66,男子種目コード!$A$1:$B$29,2,FALSE),IF(I66=2,VLOOKUP(AI66,女子種目コード!$A$1:$B$30,2,FALSE))))","v":""},null,0,2,null,null,null,null,"",0,0,"",null,null,null,null,null,null,null,null,null,null,null,0,"",""]
[null,{"$f":"陸連登録!N62","v":""},null,null,{"$f":"陸連登録!M62","v":0},{"$f":"陸連登録!C62","v":0},{"$f":"陸連登録!D62","v":0},0,{"$f":"陸連登録!A62","v":""},{"$f":"陸連登録!P62","v":0},{"$f":"LEFT(陸連登録!L62,4)","v":""},{"$f":"RIGHT(陸連登録!L62,4)","v":""},{"$f":"陸連登録!F62","v":23},{"$f":"陸連登録!B62","v":0},null,"",null,0,2,null,"",{"$f":"IF(T67=\"\",\"\",HLOOKUP(T67,#REF!,62,FALSE))","v":""},0,2,null,null,{"$f":"IF(Y67=\"\",\"\",HLOOKUP(Y67,#REF!,62,FALSE))","v":""},0,2,null,null,{"$f":"IF(AD67=\"\",\"\",HLOOKUP(AD67,#REF!,2,FALSE))","v":""},0,2,null,{"$f":"IF(AI67=\"\",\"\",IF(I67=1,VLOOKUP(AI67,男子種目コード!$A$1:$B$29,2,FALSE),IF(I67=2,VLOOKUP(AI67,女子種目コード!$A$1:$B$30,2,FALSE))))","v":""},null,0,2,null,null,null,null,"",0,0,"",null,null,null,null,null,null,null,null,null,null,null,0,"",""]
[null,{"$f":"陸連登録!N63","v":""},null,null,{"$f":"陸連登録!M63","v":0},{"$f":"陸連登録!C63","v":0},{"$f":"陸連登録!D63","v":0},0,{"$f":"陸連登録!A63","v":""},{"$f":"陸連登録!P63","v":0},{"$f":"LEFT(陸連登録!L63,4)","v":""},{"$f":"RIGHT(陸連登録!L63,4)","v":""},{"$f":"陸連登録!F63","v":23},{"$f":"陸連登録!B63","v":0},null,"",null,0,2,null,"",{"$f":"IF(T68=\"\",\"\",HLOOKUP(T68,#REF!,63,FALSE))","v":""},0,2,null,null,{"$f":"IF(Y68=\"\",\"\",HLOOKUP(Y68,#REF!,63,FALSE))","v":""},0,2,null,null,{"$f":"IF(AD68=\"\",\"\",HLOOKUP(AD68,#REF!,2,FALSE))","v":""},0,2,null,{"$f":"IF(AI68=\"\",\"\",IF(I68=1,VLOOKUP(AI68,男子種目コード!$A$1:$B$29,2,FALSE),IF(I68=2,VLOOKUP(AI68,女子種目コード!$A$1:$B$30,2,FALSE))))","v":""},null,0,2,null,null,null,null,"",0,0,"",null,null,null,null,null,null,null,null,null,null,null,0,"",""]
[null,{"$f":"陸連登録!N64","v":""},null,null,{"$f":"陸連登録!M64","v":0},{"$f":"陸連登録!C64","v":0},{"$f":"陸連登録!D64","v":0},0,{"$f":"陸連登録!A64","v":""},{"$f":"陸連登録!P64","v":0},{"$f":"LEFT(陸連登録!L64,4)","v":""},{"$f":"RIGHT(陸連登録!L64,4)","v":""},{"$f":"陸連登録!F64","v":23},{"$f":"陸連登録!B64","v":0},null,"",null,0,2,null,"",{"$f":"IF(T69=\"\",\"\",HLOOKUP(T69,#REF!,64,FALSE))","v":""},0,2,null,null,{"$f":"IF(Y69=\"\",\"\",HLOOKUP(Y69,#REF!,64,FALSE))","v":""},0,2,null,null,{"$f":"IF(AD69=\"\",\"\",HLOOKUP(AD69,#REF!,2,FALSE))","v":""},0,2,null,{"$f":"IF(AI69=\"\",\"\",IF(I69=1,VLOOKUP(AI69,男子種目コード!$A$1:$B$29,2,FALSE),IF(I69=2,VLOOKUP(AI69,女子種目コード!$A$1:$B$30,2,FALSE))))","v":""},null,0,2,null,null,null,null,"",0,0,"",null,null,null,null,null,null,null,null,null,null,null,0,"",""]
[null,{"$f":"陸連登録!N65","v":""},null,null,{"$f":"陸連登録!M65","v":0},{"$f":"陸連登録!C65","v":0},{"$f":"陸連登録!D65","v":0},0,{"$f":"陸連登録!A65","v":""},{"$f":"陸連登録!P65","v":0},{"$f":"LEFT(陸連登録!L65,4)","v":""},{"$f":"RIGHT(陸連登録!L65,4)","v":""},{"$f":"陸連登録!F65","v":23},{"$f":"陸連登録!B65","v":0},null,"",null,0,2,null,"",{"$f":"IF(T70=\"\",\"\",HLOOKUP(T70,#REF!,65,FALSE))","v":""},0,2,null,null,{"$f":"IF(Y70=\"\",\"\",HLOOKUP(Y70,#REF!,65,FALSE))","v":""},0,2,null,null,{"$f":"IF(AD70=\"\",\"\",HLOOKUP(AD70,#REF!,2,FALSE))","v":""},0,2,null,{"$f":"IF(AI70=\"\",\"\",IF(I70=1,VLOOKUP(AI70,男子種目コード!$A$1:$B$29,2,FALSE),IF(I70=2,VLOOKUP(AI70,女子種目コード!$A$1:$B$30,2,FALSE))))","v":""},null,0,2,null,null,null,null,"",0,0,"",null,null,null,null,null,null,null,null,null,null,null,0,"",""]
[null,{"$f":"陸連登録!N66","v":""},null,null,{"$f":"陸連登録!M66","v":0},{"$f":"陸連登録!C66","v":0},{"$f":"陸連登録!D66","v":0},0,{"$f":"陸連登録!A66","v":""},{"$f":"陸連登録!P66","v":0},{"$f":"LEFT(陸連登録!L66,4)","v":""},{"$f":"RIGHT(陸連登録!L66,4)","v":""},{"$f":"陸連登録!F66","v":23},{"$f":"陸連登録!B66","v":0},null,{"$f":"IF($O71=\"\",\"\",IF($I71=1,VLOOKUP($O71,$AV$8:$AX$11,3,FALSE),IF($I71=2,VLOOKUP($O71,$AV$14:$AX$17,3,FALSE))))","v":""},null,0,2,null,{"$f":"IF(T71=\"\",\"\",IF($I71=1,VLOOKUP(T71,$AV$8:$AX$11,3,FALSE),IF($I71=2,VLOOKUP(T71,$AV$14:$AX$17,3,FALSE))))","v":""},{"$f":"IF(T71=\"\",\"\",HLOOKUP(T71,#REF!,66,FALSE))","v":""},0,2,null,null,{"$f":"IF(Y71=\"\",\"\",HLOOKUP(Y71,#REF!,66,FALSE))","v":""},0,2,null,null,{"$f":"IF(AD71=\"\",\"\",HLOOKUP(AD71,#REF!,2,FALSE))","v":""},0,2,null,{"$f":"IF(AI71=\"\",\"\",IF(I71=1,VLOOKUP(AI71,男子種目コード!$A$1:$B$29,2,FALSE),IF(I71=2,VLOOKUP(AI71,女子種目コード!$A$1:$B$30,2,FALSE))))","v":""},null,0,2,null,null,null,null,{"$f":"IF(O71=\"\",\"\",1)","v":""},{"$f":"IF(OR(AR71=1,T71=\"\"),0,1)","v":0},{"$f":"IF(OR(AR71=1,AS71=1,AD71=\"\"),0,1)","v":0},{"$f":"IF(T71=\"\",\"\",1)","v":""},null,null,null,null,null,null,null,null,null,null,null,0,{"$f":"IF(I71=1,BG71,\"\")","v":""},{"$f":"IF(I71=2,BG71,\"\")","v":""}]
[null,{"$f":"陸連登録!N67","v":""},null,null,{"$f":"陸連登録!M67","v":0},{"$f":"陸連登録!C67","v":0},{"$f":"陸連登録!D67","v":0},{"$f":"F72","v":0},{"$f":"陸連登録!A67","v":""},{"$f":"陸連登録!P67","v":0},{"$f":"LEFT(陸連登録!L67,4)","v":""},{"$f":"RIGHT(陸連登録!L67,4)","v":""},{"$f":"陸連登録!F67","v":23},{"$f":"陸連登録!B67","v":0},null,"",null,0,2,null,"",{"$f":"IF(T72=\"\",\"\",HLOOKUP(T72,#REF!,67,FALSE))","v":""},0,2,null,null,{"$f":"IF(Y72=\"\",\"\",HLOOKUP(Y72,#REF!,67,FALSE))","v":""},0,2,null,null,{"$f":"IF(AD72=\"\",\"\",HLOOKUP(AD72,#REF!,2,FALSE))","v":""},0,2,null,{"$f":"IF(AI72=\"\",\"\",IF(I72=1,VLOOKUP(AI72,男子種目コード!$A$1:$B$29,2,FALSE),IF(I72=2,VLOOKUP(AI72,女子種目コード!$A$1:$B$30,2,FALSE))))","v":""},null,0,2,null,null,null,null,"",0,0,"",null,null,null,null,null,null,null,null,null,null,null,{"$f":"COUNT(AR72,AU72)","v":0},"",""]
[null,{"$f":"陸連登録!N68","v":""},null,null,{"$f":"陸連登録!M68","v":0},{"$f":"陸連登録!C68","v":0},{"$f":"陸連登録!D68","v":0},0,{"$f":"陸連登録!A68","v":""},{"$f":"陸連登録!P68","v":0},{"$f":"LEFT(陸連登録!L68,4)","v":""},{"$f":"RIGHT(陸連登録!L68,4)","v":""},{"$f":"陸連登録!F68","v":23},{"$f":"陸連登録!B68","v":0},null,"",null,0,2,null,"",{"$f":"IF(T73=\"\",\"\",HLOOKUP(T73,#REF!,68,FALSE))","v":""},0,2,null,null,{"$f":"IF(Y73=\"\",\"\",HLOOKUP(Y73,#REF!,68,FALSE))","v":""},0,2,null,null,{"$f":"IF(AD73=\"\",\"\",HLOOKUP(AD73,#REF!,2,FALSE))","v":""},0,2,null,{"$f":"IF(AI73=\"\",\"\",IF(I73=1,VLOOKUP(AI73,男子種目コード!$A$1:$B$29,2,FALSE),IF(I73=2,VLOOKUP(AI73,女子種目コード!$A$1:$B$30,2,FALSE))))","v":""},null,0,2,null,null,null,null,"",0,0,"",null,null,null,null,null,null,null,null,null,null,null,0,"",""]
[null,{"$f":"陸連登録!N69","v":""},null,null,{"$f":"陸連登録!M69","v":0},{"$f":"陸連登録!C69","v":0},{"$f":"陸連登録!D69","v":0},0,{"$f":"陸連登録!A69","v":""},{"$f":"陸連登録!P69","v":0},{"$f":"LEFT(陸連登録!L69,4)","v":""},{"$f":"RIGHT(陸連登録!L69,4)","v":""},{"$f":"陸連登録!F69","v":23},{"$f":"陸連登録!B69","v":0},null,"",null,0,2,null,"",{"$f":"IF(T74=\"\",\"\",HLOOKUP(T74,#REF!,69,FALSE))","v":""},0,2,null,null,{"$f":"IF(Y74=\"\",\"\",HLOOKUP(Y74,#REF!,69,FALSE))","v":""},0,2,null,null,{"$f":"IF(AD74=\"\",\"\",HLOOKUP(AD74,#REF!,2,FALSE))","v":""},0,2,null,{"$f":"IF(AI74=\"\",\"\",IF(I74=1,VLOOKUP(AI74,男子種目コード!$A$1:$B$29,2,FALSE),IF(I74=2,VLOOKUP(AI74,女子種目コード!$A$1:$B$30,2,FALSE))))","v":""},null,0,2,null,null,null,null,"",0,0,"",null,null,null,null,null,null,null,null,null,null,null,0,"",""]
[null,{"$f":"陸連登録!N70","v":""},null,null,{"$f":"陸連登録!M70","v":0},{"$f":"陸連登録!C70","v":0},{"$f":"陸連登録!D70","v":0},0,{"$f":"陸連登録!A70","v":""},{"$f":"陸連登録!P70","v":0},{"$f":"LEFT(陸連登録!L70,4)","v":""},{"$f":"RIGHT(陸連登録!L70,4)","v":""},{"$f":"陸連登録!F70","v":23},{"$f":"陸連登録!B70","v":0},null,"",null,0,2,null,"",{"$f":"IF(T75=\"\",\"\",HLOOKUP(T75,#REF!,70,FALSE))","v":""},0,2,null,null,{"$f":"IF(Y75=\"\",\"\",HLOOKUP(Y75,#REF!,70,FALSE))","v":""},0,2,null,null,{"$f":"IF(AD75=\"\",\"\",HLOOKUP(AD75,#REF!,2,FALSE))","v":""},0,2,null,{"$f":"IF(AI75=\"\",\"\",IF(I75=1,VLOOKUP(AI75,男子種目コード!$A$1:$B$29,2,FALSE),IF(I75=2,VLOOKUP(AI75,女子種目コード!$A$1:$B$30,2,FALSE))))","v":""},null,0,2,null,null,null,null,"",0,0,"",null,null,null,null,null,null,null,null,null,null,null,0,"",""]
[null,{"$f":"陸連登録!N71","v":""},null,null,{"$f":"陸連登録!M71","v":0},{"$f":"陸連登録!C71","v":0},{"$f":"陸連登録!D71","v":0},0,{"$f":"陸連登録!A71","v":""},{"$f":"陸連登録!P71","v":0},{"$f":"LEFT(陸連登録!L71,4)","v":""},{"$f":"RIGHT(陸連登録!L71,4)","v":""},{"$f":"陸連登録!F71","v":23},{"$f":"陸連登録!B71","v":0},null,"",null,0,2,null,"",{"$f":"IF(T76=\"\",\"\",HLOOKUP(T76,#REF!,71,FALSE))","v":""},0,2,null,null,{"$f":"IF(Y76=\"\",\"\",HLOOKUP(Y76,#REF!,71,FALSE))","v":""},0,2,null,null,{"$f":"IF(AD76=\"\",\"\",HLOOKUP(AD76,#REF!,2,FALSE))","v":""},0,2,null,{"$f":"IF(AI76=\"\",\"\",IF(I76=1,VLOOKUP(AI76,男子種目コード!$A$1:$B$29,2,FALSE),IF(I76=2,VLOOKUP(AI76,女子種目コード!$A$1:$B$30,2,FALSE))))","v":""},null,0,2,null,null,null,null,"",0,0,"",null,null,null,null,null,null,null,null,null,null,null,0,"",""]
[null,{"$f":"陸連登録!N72","v":""},null,null,{"$f":"陸連登録!M72","v":0},{"$f":"陸連登録!C72","v":0},{"$f":"陸連登録!D72","v":0},0,{"$f":"陸連登録!A72","v":""},{"$f":"陸連登録!P72","v":0},{"$f":"LEFT(陸連登録!L72,4)","v":""},{"$f":"RIGHT(陸連登録!L72,4)","v":""},{"$f":"陸連登録!F72","v":23},{"$f":"陸連登録!B72","v":0},null,"",null,0,2,null,"",{"$f":"IF(T77=\"\",\"\",HLOOKUP(T77,#REF!,72,FALSE))","v":""},0,2,null,null,{"$f":"IF(Y77=\"\",\"\",HLOOKUP(Y77,#REF!,72,FALSE))","v":""},0,2,null,null,{"$f":"IF(AD77=\"\",\"\",HLOOKUP(AD77,#REF!,2,FALSE))","v":""},0,2,null,{"$f":"IF(AI77=\"\",\"\",IF(I77=1,VLOOKUP(AI77,男子種目コード!$A$1:$B$29,2,FALSE),IF(I77=2,VLOOKUP(AI77,女子種目コード!$A$1:$B$30,2,FALSE))))","v":""},null,0,2,null,null,null,null,"",0,0,"",null,null,null,null,null,null,null,null,null,null,null,0,"",""]
[null,{"$f":"陸連登録!N73","v":""},null,null,{"$f":"陸連登録!M73","v":0},{"$f":"陸連登録!C73","v":0},{"$f":"陸連登録!D73","v":0},0,{"$f":"陸連登録!A73","v":""},{"$f":"陸連登録!P73","v":0},{"$f":"LEFT(陸連登録!L73,4)","v":""},{"$f":"RIGHT(陸連登録!L73,4)","v":""},{"$f":"陸連登録!F73","v":23},{"$f":"陸連登録!B73","v":0},null,"",null,0,2,null,"",{"$f":"IF(T78=\"\",\"\",HLOOKUP(T78,#REF!,73,FALSE))","v":""},0,2,null,null,{"$f":"IF(Y78=\"\",\"\",HLOOKUP(Y78,#REF!,73,FALSE))","v":""},0,2,null,null,{"$f":"IF(AD78=\"\",\"\",HLOOKUP(AD78,#REF!,2,FALSE))","v":""},0,2,null,{"$f":"IF(AI78=\"\",\"\",IF(I78=1,VLOOKUP(AI78,男子種目コード!$A$1:$B$29,2,FALSE),IF(I78=2,VLOOKUP(AI78,女子種目コード!$A$1:$B$30,2,FALSE))))","v":""},null,0,2,null,null,null,null,"",0,0,"",null,null,null,null,null,null,null,null,null,null,null,0,"",""]
[null,{"$f":"陸連登録!N74","v":""},null,null,{"$f":"陸連登録!M74","v":0},{"$f":"陸連登録!C74","v":0},{"$f":"陸連登録!D74","v":0},0,{"$f":"陸連登録!A74","v":""},{"$f":"陸連登録!P74","v":0},{"$f":"LEFT(陸連登録!L74,4)","v":""},{"$f":"RIGHT(陸連登録!L74,4)","v":""},{"$f":"陸連登録!F74","v":23},{"$f":"陸連登録!B74","v":0},null,"",null,0,2,null,"",{"$f":"IF(T79=\"\",\"\",HLOOKUP(T79,#REF!,74,FALSE))","v":""},0,2,null,null,{"$f":"IF(Y79=\"\",\"\",HLOOKUP(Y79,#REF!,74,FALSE))","v":""},0,2,null,null,{"$f":"IF(AD79=\"\",\"\",HLOOKUP(AD79,#REF!,2,FALSE))","v":""},0,2,null,{"$f":"IF(AI79=\"\",\"\",IF(I79=1,VLOOKUP(AI79,男子種目コード!$A$1:$B$29,2,FALSE),IF(I79=2,VLOOKUP(AI79,女子種目コード!$A$1:$B$30,2,FALSE))))","v":""},null,0,2,null,null,null,null,"",0,0,"",null,null,null,null,null,null,null,null,null,null,null,0,"",""]
[null,{"$f":"陸連登録!N75","v":""},null,null,{"$f":"陸連登録!M75","v":0},{"$f":"陸連登録!C75","v":0},{"$f":"陸連登録!D75","v":0},0,{"$f":"陸連登録!A75","v":""},{"$f":"陸連登録!P75","v":0},{"$f":"LEFT(陸連登録!L75,4)","v":""},{"$f":"RIGHT(陸連登録!L75,4)","v":""},{"$f":"陸連登録!F75","v":23},{"$f":"陸連登録!B75","v":0},null,"",null,0,2,null,"",{"$f":"IF(T80=\"\",\"\",HLOOKUP(T80,#REF!,75,FALSE))","v":""},0,2,null,null,{"$f":"IF(Y80=\"\",\"\",HLOOKUP(Y80,#REF!,75,FALSE))","v":""},0,2,null,null,{"$f":"IF(AD80=\"\",\"\",HLOOKUP(AD80,#REF!,2,FALSE))","v":""},0,2,null,{"$f":"IF(AI80=\"\",\"\",IF(I80=1,VLOOKUP(AI80,男子種目コード!$A$1:$B$29,2,FALSE),IF(I80=2,VLOOKUP(AI80,女子種目コード!$A$1:$B$30,2,FALSE))))","v":""},null,0,2,null,null,null,null,"",0,0,"",null,null,null,null,null,null,null,null,null,null,null,0,"",""]
[null,{"$f":"陸連登録!N76","v":""},null,null,{"$f":"陸連登録!M76","v":0},{"$f":"陸連登録!C76","v":0},{"$f":"陸連登録!D76","v":0},0,{"$f":"陸連登録!A76","v":""},{"$f":"陸連登録!P76","v":0},{"$f":"LEFT(陸連登録!L76,4)","v":""},{"$f":"RIGHT(陸連登録!L76,4)","v":""},{"$f":"陸連登録!F76","v":23},{"$f":"陸連登録!B76","v":0},null,"",null,0,2,null,"",{"$f":"IF(T81=\"\",\"\",HLOOKUP(T81,#REF!,76,FALSE))","v":""},0,2,null,null,{"$f":"IF(Y81=\"\",\"\",HLOOKUP(Y81,#REF!,76,FALSE))","v":""},0,2,null,null,{"$f":"IF(AD81=\"\",\"\",HLOOKUP(AD81,#REF!,2,FALSE))","v":""},0,2,null,{"$f":"IF(AI81=\"\",\"\",IF(I81=1,VLOOKUP(AI81,男子種目コード!$A$1:$B$29,2,FALSE),IF(I81=2,VLOOKUP(AI81,女子種目コード!$A$1:$B$30,2,FALSE))))","v":""},null,0,2,null,null,null,null,"",0,0,"",null,null,null,null,null,null,null,null,null,null,null,0,"",""]
[null,{"$f":"陸連登録!N77","v":""},null,null,{"$f":"陸連登録!M77","v":0},{"$f":"陸連登録!C77","v":0},{"$f":"陸連登録!D77","v":0},0,{"$f":"陸連登録!A77","v":""},{"$f":"陸連登録!P77","v":0},{"$f":"LEFT(陸連登録!L77,4)","v":""},{"$f":"RIGHT(陸連登録!L77,4)","v":""},{"$f":"陸連登録!F77","v":23},{"$f":"陸連登録!B77","v":0},null,"",null,0,2,null,"",{"$f":"IF(T82=\"\",\"\",HLOOKUP(T82,#REF!,77,FALSE))","v":""},0,2,null,null,{"$f":"IF(Y82=\"\",\"\",HLOOKUP(Y82,#REF!,77,FALSE))","v":""},0,2,null,null,{"$f":"IF(AD82=\"\",\"\",HLOOKUP(AD82,#REF!,2,FALSE))","v":""},0,2,null,{"$f":"IF(AI82=\"\",\"\",IF(I82=1,VLOOKUP(AI82,男子種目コード!$A$1:$B$29,2,FALSE),IF(I82=2,VLOOKUP(AI82,女子種目コード!$A$1:$B$30,2,FALSE))))","v":""},null,0,2,null,null,null,null,"",0,0,"",null,null,null,null,null,null,null,null,null,null,null,0,"",""]
[null,{"$f":"陸連登録!N78","v":""},null,null,{"$f":"陸連登録!M78","v":0},{"$f":"陸連登録!C78","v":0},{"$f":"陸連登録!D78","v":0},0,{"$f":"陸連登録!A78","v":""},{"$f":"陸連登録!P78","v":0},{"$f":"LEFT(陸連登録!L78,4)","v":""},{"$f":"RIGHT(陸連登録!L78,4)","v":""},{"$f":"陸連登録!F78","v":23},{"$f":"陸連登録!B78","v":0},null,"",null,0,2,null,"",{"$f":"IF(T83=\"\",\"\",HLOOKUP(T83,#REF!,78,FALSE))","v":""},0,2,null,null,{"$f":"IF(Y83=\"\",\"\",HLOOKUP(Y83,#REF!,78,FALSE))","v":""},0,2,null,null,{"$f":"IF(AD83=\"\",\"\",HLOOKUP(AD83,#REF!,2,FALSE))","v":""},0,2,null,{"$f":"IF(AI83=\"\",\"\",IF(I83=1,VLOOKUP(AI83,男子種目コード!$A$1:$B$29,2,FALSE),IF(I83=2,VLOOKUP(AI83,女子種目コード!$A$1:$B$30,2,FALSE))))","v":""},null,0,2,null,null,null,null,"",0,0,"",null,null,null,null,null,null,null,null,null,null,null,0,"",""]
[null,{"$f":"陸連登録!N79","v":""},null,null,{"$f":"陸連登録!M79","v":0},{"$f":"陸連登録!C79","v":0},{"$f":"陸連登録!D79","v":0},0,{"$f":"陸連登録!A79","v":""},{"$f":"陸連登録!P79","v":0},{"$f":"LEFT(陸連登録!L79,4)","v":""},{"$f":"RIGHT(陸連登録!L79,4)","v":""},{"$f":"陸連登録!F79","v":23},{"$f":"陸連登録!B79","v":0},null,"",null,0,2,null,"",{"$f":"IF(T84=\"\",\"\",HLOOKUP(T84,#REF!,79,FALSE))","v":""},0,2,null,null,{"$f":"IF(Y84=\"\",\"\",HLOOKUP(Y84,#REF!,79,FALSE))","v":""},0,2,null,null,{"$f":"IF(AD84=\"\",\"\",HLOOKUP(AD84,#REF!,2,FALSE))","v":""},0,2,null,{"$f":"IF(AI84=\"\",\"\",IF(I84=1,VLOOKUP(AI84,男子種目コード!$A$1:$B$29,2,FALSE),IF(I84=2,VLOOKUP(AI84,女子種目コード!$A$1:$B$30,2,FALSE))))","v":""},null,0,2,null,null,null,null,"",0,0,"",null,null,null,null,null,null,null,null,null,null,null,0,"",""]
[null,{"$f":"陸連登録!N80","v":""},null,null,{"$f":"陸連登録!M80","v":0},{"$f":"陸連登録!C80","v":0},{"$f":"陸連登録!D80","v":0},0,{"$f":"陸連登録!A80","v":""},{"$f":"陸連登録!P80","v":0},{"$f":"LEFT(陸連登録!L80,4)","v":""},{"$f":"RIGHT(陸連登録!L80,4)","v":""},{"$f":"陸連登録!F80","v":23},{"$f":"陸連登録!B80","v":0},null,"",null,0,2,null,"",{"$f":"IF(T85=\"\",\"\",HLOOKUP(T85,#REF!,80,FALSE))","v":""},0,2,null,null,{"$f":"IF(Y85=\"\",\"\",HLOOKUP(Y85,#REF!,80,FALSE))","v":""},0,2,null,null,{"$f":"IF(AD85=\"\",\"\",HLOOKUP(AD85,#REF!,2,FALSE))","v":""},0,2,null,{"$f":"IF(AI85=\"\",\"\",IF(I85=1,VLOOKUP(AI85,男子種目コード!$A$1:$B$29,2,FALSE),IF(I85=2,VLOOKUP(AI85,女子種目コード!$A$1:$B$30,2,FALSE))))","v":""},null,0,2,null,null,null,null,"",0,0,"",null,null,null,null,null,null,null,null,null,null,null,0,"",""]
[null,{"$f":"陸連登録!N81","v":""},null,null,{"$f":"陸連登録!M81","v":0},{"$f":"陸連登録!C81","v":0},{"$f":"陸連登録!D81","v":0},0,{"$f":"陸連登録!A81","v":""},{"$f":"陸連登録!P81","v":0},{"$f":"LEFT(陸連登録!L81,4)","v":""},{"$f":"RIGHT(陸連登録!L81,4)","v":""},{"$f":"陸連登録!F81","v":23},{"$f":"陸連登録!B81","v":0},null,"",null,0,2,null,"",{"$f":"IF(T86=\"\",\"\",HLOOKUP(T86,#REF!,81,FALSE))","v":""},0,2,null,null,{"$f":"IF(Y86=\"\",\"\",HLOOKUP(Y86,#REF!,81,FALSE))","v":""},0,2,null,null,{"$f":"IF(AD86=\"\",\"\",HLOOKUP(AD86,#REF!,2,FALSE))","v":""},0,2,null,{"$f":"IF(AI86=\"\",\"\",IF(I86=1,VLOOKUP(AI86,男子種目コード!$A$1:$B$29,2,FALSE),IF(I86=2,VLOOKUP(AI86,女子種目コード!$A$1:$B$30,2,FALSE))))","v":""},null,0,2,null,null,null,null,"",0,0,"",null,null,null,null,null,null,null,null,null,null,null,0,"",""]
[null,{"$f":"陸連登録!N82","v":""},null,null,{"$f":"陸連登録!M82","v":0},{"$f":"陸連登録!C82","v":0},{"$f":"陸連登録!D82","v":0},0,{"$f":"陸連登録!A82","v":""},{"$f":"陸連登録!P82","v":0},{"$f":"LEFT(陸連登録!L82,4)","v":""},{"$f":"RIGHT(陸連登録!L82,4)","v":""},{"$f":"陸連登録!F82","v":23},{"$f":"陸連登録!B82","v":0},null,"",null,0,2,null,"",{"$f":"IF(T87=\"\",\"\",HLOOKUP(T87,#REF!,82,FALSE))","v":""},0,2,null,null,{"$f":"IF(Y87=\"\",\"\",HLOOKUP(Y87,#REF!,82,FALSE))","v":""},0,2,null,null,{"$f":"IF(AD87=\"\",\"\",HLOOKUP(AD87,#REF!,2,FALSE))","v":""},0,2,null,{"$f":"IF(AI87=\"\",\"\",IF(I87=1,VLOOKUP(AI87,男子種目コード!$A$1:$B$29,2,FALSE),IF(I87=2,VLOOKUP(AI87,女子種目コード!$A$1:$B$30,2,FALSE))))","v":""},null,0,2,null,null,null,null,"",0,0,"",null,null,null,null,null,null,null,null,null,null,null,0,"",""]
[null,{"$f":"陸連登録!N83","v":""},null,null,{"$f":"陸連登録!M83","v":0},{"$f":"陸連登録!C83","v":0},{"$f":"陸連登録!D83","v":0},0,{"$f":"陸連登録!A83","v":""},{"$f":"陸連登録!P83","v":0},{"$f":"LEFT(陸連登録!L83,4)","v":""},{"$f":"RIGHT(陸連登録!L83,4)","v":""},{"$f":"陸連登録!F83","v":23},{"$f":"陸連登録!B83","v":0},null,"",null,0,2,null,"",{"$f":"IF(T88=\"\",\"\",HLOOKUP(T88,#REF!,83,FALSE))","v":""},0,2,null,null,{"$f":"IF(Y88=\"\",\"\",HLOOKUP(Y88,#REF!,83,FALSE))","v":""},0,2,null,null,{"$f":"IF(AD88=\"\",\"\",HLOOKUP(AD88,#REF!,2,FALSE))","v":""},0,2,null,{"$f":"IF(AI88=\"\",\"\",IF(I88=1,VLOOKUP(AI88,男子種目コード!$A$1:$B$29,2,FALSE),IF(I88=2,VLOOKUP(AI88,女子種目コード!$A$1:$B$30,2,FALSE))))","v":""},null,0,2,null,null,null,null,"",0,0,"",null,null,null,null,null,null,null,null,null,null,null,0,"",""]
[null,{"$f":"陸連登録!N84","v":""},null,null,{"$f":"陸連登録!M84","v":0},{"$f":"陸連登録!C84","v":0},{"$f":"陸連登録!D84","v":0},0,{"$f":"陸連登録!A84","v":""},{"$f":"陸連登録!P84","v":0},{"$f":"LEFT(陸連登録!L84,4)","v":""},{"$f":"RIGHT(陸連登録!L84,4)","v":""},{"$f":"陸連登録!F84","v":23},{"$f":"陸連登録!B84","v":0},null,"",null,0,2,null,"",{"$f":"IF(T89=\"\",\"\",HLOOKUP(T89,#REF!,84,FALSE))","v":""},0,2,null,null,{"$f":"IF(Y89=\"\",\"\",HLOOKUP(Y89,#REF!,84,FALSE))","v":""},0,2,null,null,{"$f":"IF(AD89=\"\",\"\",HLOOKUP(AD89,#REF!,2,FALSE))","v":""},0,2,null,{"$f":"IF(AI89=\"\",\"\",IF(I89=1,VLOOKUP(AI89,男子種目コード!$A$1:$B$29,2,FALSE),IF(I89=2,VLOOKUP(AI89,女子種目コード!$A$1:$B$30,2,FALSE))))","v":""},null,0,2,null,null,null,null,"",0,0,"",null,null,null,null,null,null,null,null,null,null,null,0,"",""]
[null,{"$f":"陸連登録!N85","v":""},null,null,{"$f":"陸連登録!M85","v":0},{"$f":"陸連登録!C85","v":0},{"$f":"陸連登録!D85","v":0},0,{"$f":"陸連登録!A85","v":""},{"$f":"陸連登録!P85","v":0},{"$f":"LEFT(陸連登録!L85,4)","v":""},{"$f":"RIGHT(陸連登録!L85,4)","v":""},{"$f":"陸連登録!F85","v":23},{"$f":"陸連登録!B85","v":0},null,"",null,0,2,null,"",{"$f":"IF(T90=\"\",\"\",HLOOKUP(T90,#REF!,85,FALSE))","v":""},0,2,null,null,{"$f":"IF(Y90=\"\",\"\",HLOOKUP(Y90,#REF!,85,FALSE))","v":""},0,2,null,null,{"$f":"IF(AD90=\"\",\"\",HLOOKUP(AD90,#REF!,2,FALSE))","v":""},0,2,null,{"$f":"IF(AI90=\"\",\"\",IF(I90=1,VLOOKUP(AI90,男子種目コード!$A$1:$B$29,2,FALSE),IF(I90=2,VLOOKUP(AI90,女子種目コード!$A$1:$B$30,2,FALSE))))","v":""},null,0,2,null,null,null,null,"",0,0,"",null,null,null,null,null,null,null,null,null,null,null,0,"",""]
[null,{"$f":"陸連登録!N86","v":""},null,null,{"$f":"陸連登録!M86","v":0},{"$f":"陸連登録!C86","v":0},{"$f":"陸連登録!D86","v":0},0,{"$f":"陸連登録!A86","v":""},{"$f":"陸連登録!P86","v":0},{"$f":"LEFT(陸連登録!L86,4)","v":""},{"$f":"RIGHT(陸連登録!L86,4)","v":""},{"$f":"陸連登録!F86","v":23},{"$f":"陸連登録!B86","v":0},null,"",null,0,2,null,"",{"$f":"IF(T91=\"\",\"\",HLOOKUP(T91,#REF!,86,FALSE))","v":""},0,2,null,null,{"$f":"IF(Y91=\"\",\"\",HLOOKUP(Y91,#REF!,86,FALSE))","v":""},0,2,null,null,{"$f":"IF(AD91=\"\",\"\",HLOOKUP(AD91,#REF!,2,FALSE))","v":""},0,2,null,{"$f":"IF(AI91=\"\",\"\",IF(I91=1,VLOOKUP(AI91,男子種目コード!$A$1:$B$29,2,FALSE),IF(I91=2,VLOOKUP(AI91,女子種目コード!$A$1:$B$30,2,FALSE))))","v":""},null,0,2,null,null,null,null,"",0,0,"",null,null,null,null,null,null,null,null,null,null,null,0,"",""]
[null,{"$f":"陸連登録!N87","v":""},null,null,{"$f":"陸連登録!M87","v":0},{"$f":"陸連登録!C87","v":0},{"$f":"陸連登録!D87","v":0},0,{"$f":"陸連登録!A87","v":""},{"$f":"陸連登録!P87","v":0},{"$f":"LEFT(陸連登録!L87,4)","v":""},{"$f":"RIGHT(陸連登録!L87,4)","v":""},{"$f":"陸連登録!F87","v":23},{"$f":"陸連登録!B87","v":0},null,"",null,0,2,null,"",{"$f":"IF(T92=\"\",\"\",HLOOKUP(T92,#REF!,87,FALSE))","v":""},0,2,null,null,{"$f":"IF(Y92=\"\",\"\",HLOOKUP(Y92,#REF!,87,FALSE))","v":""},0,2,null,null,{"$f":"IF(AD92=\"\",\"\",HLOOKUP(AD92,#REF!,2,FALSE))","v":""},0,2,null,{"$f":"IF(AI92=\"\",\"\",IF(I92=1,VLOOKUP(AI92,男子種目コード!$A$1:$B$29,2,FALSE),IF(I92=2,VLOOKUP(AI92,女子種目コード!$A$1:$B$30,2,FALSE))))","v":""},null,0,2,null,null,null,null,"",0,0,"",null,null,null,null,null,null,null,null,null,null,null,0,"",""]
[null,{"$f":"陸連登録!N88","v":""},null,null,{"$f":"陸連登録!M88","v":0},{"$f":"陸連登録!C88","v":0},{"$f":"陸連登録!D88","v":0},0,{"$f":"陸連登録!A88","v":""},{"$f":"陸連登録!P88","v":0},{"$f":"LEFT(陸連登録!L88,4)","v":""},{"$f":"RIGHT(陸連登録!L88,4)","v":""},{"$f":"陸連登録!F88","v":23},{"$f":"陸連登録!B88","v":0},null,"",null,0,2,null,"",{"$f":"IF(T93=\"\",\"\",HLOOKUP(T93,#REF!,88,FALSE))","v":""},0,2,null,null,{"$f":"IF(Y93=\"\",\"\",HLOOKUP(Y93,#REF!,88,FALSE))","v":""},0,2,null,null,{"$f":"IF(AD93=\"\",\"\",HLOOKUP(AD93,#REF!,2,FALSE))","v":""},0,2,null,{"$f":"IF(AI93=\"\",\"\",IF(I93=1,VLOOKUP(AI93,男子種目コード!$A$1:$B$29,2,FALSE),IF(I93=2,VLOOKUP(AI93,女子種目コード!$A$1:$B$30,2,FALSE))))","v":""},null,0,2,null,null,null,null,"",0,0,"",null,null,null,null,null,null,null,null,null,null,null,0,"",""]
[null,{"$f":"陸連登録!N89","v":""},null,null,{"$f":"陸連登録!M89","v":0},{"$f":"陸連登録!C89","v":0},{"$f":"陸連登録!D89","v":0},0,{"$f":"陸連登録!A89","v":""},{"$f":"陸連登録!P89","v":0},{"$f":"LEFT(陸連登録!L89,4)","v":""},{"$f":"RIGHT(陸連登録!L89,4)","v":""},{"$f":"陸連登録!F89","v":23},{"$f":"陸連登録!B89","v":0},null,"",null,0,2,null,"",{"$f":"IF(T94=\"\",\"\",HLOOKUP(T94,#REF!,89,FALSE))","v":""},0,2,null,null,{"$f":"IF(Y94=\"\",\"\",HLOOKUP(Y94,#REF!,89,FALSE))","v":""},0,2,null,null,{"$f":"IF(AD94=\"\",\"\",HLOOKUP(AD94,#REF!,2,FALSE))","v":""},0,2,null,{"$f":"IF(AI94=\"\",\"\",IF(I94=1,VLOOKUP(AI94,男子種目コード!$A$1:$B$29,2,FALSE),IF(I94=2,VLOOKUP(AI94,女子種目コード!$A$1:$B$30,2,FALSE))))","v":""},null,0,2,null,null,null,null,"",0,0,"",null,null,null,null,null,null,null,null,null,null,null,0,"",""]
[null,{"$f":"陸連登録!N90","v":""},null,null,{"$f":"陸連登録!M90","v":0},{"$f":"陸連登録!C90","v":0},{"$f":"陸連登録!D90","v":0},0,{"$f":"陸連登録!A90","v":""},{"$f":"陸連登録!P90","v":0},{"$f":"LEFT(陸連登録!L90,4)","v":""},{"$f":"RIGHT(陸連登録!L90,4)","v":""},{"$f":"陸連登録!F90","v":23},{"$f":"陸連登録!B90","v":0},null,"",null,0,2,null,"",{"$f":"IF(T95=\"\",\"\",HLOOKUP(T95,#REF!,90,FALSE))","v":""},0,2,null,null,{"$f":"IF(Y95=\"\",\"\",HLOOKUP(Y95,#REF!,90,FALSE))","v":""},0,2,null,null,{"$f":"IF(AD95=\"\",\"\",HLOOKUP(AD95,#REF!,2,FALSE))","v":""},0,2,null,{"$f":"IF(AI95=\"\",\"\",IF(I95=1,VLOOKUP(AI95,男子種目コード!$A$1:$B$29,2,FALSE),IF(I95=2,VLOOKUP(AI95,女子種目コード!$A$1:$B$30,2,FALSE))))","v":""},null,0,2,null,null,null,null,"",0,0,"",null,null,null,null,null,null,null,null,null,null,null,0,"",""]
[null,{"$f":"陸連登録!N91","v":""},null,null,{"$f":"陸連登録!M91","v":0},{"$f":"陸連登録!C91","v":0},{"$f":"陸連登録!D91","v":0},0,{"$f":"陸連登録!A91","v":""},{"$f":"陸連登録!P91","v":0},{"$f":"LEFT(陸連登録!L91,4)","v":""},{"$f":"RIGHT(陸連登録!L91,4)","v":""},{"$f":"陸連登録!F91","v":23},{"$f":"陸連登録!B91","v":0},null,"",null,0,2,null,"",{"$f":"IF(T96=\"\",\"\",HLOOKUP(T96,#REF!,91,FALSE))","v":""},0,2,null,null,{"$f":"IF(Y96=\"\",\"\",HLOOKUP(Y96,#REF!,91,FALSE))","v":""},0,2,null,null,{"$f":"IF(AD96=\"\",\"\",HLOOKUP(AD96,#REF!,2,FALSE))","v":""},0,2,null,{"$f":"IF(AI96=\"\",\"\",IF(I96=1,VLOOKUP(AI96,男子種目コード!$A$1:$B$29,2,FALSE),IF(I96=2,VLOOKUP(AI96,女子種目コード!$A$1:$B$30,2,FALSE))))","v":""},null,0,2,null,null,null,null,"",0,0,"",null,null,null,null,null,null,null,null,null,null,null,0,"",""]
[null,{"$f":"陸連登録!N92","v":""},null,null,{"$f":"陸連登録!M92","v":0},{"$f":"陸連登録!C92","v":0},{"$f":"陸連登録!D92","v":0},0,{"$f":"陸連登録!A92","v":""},{"$f":"陸連登録!P92","v":0},{"$f":"LEFT(陸連登録!L92,4)","v":""},{"$f":"RIGHT(陸連登録!L92,4)","v":""},{"$f":"陸連登録!F92","v":23},{"$f":"陸連登録!B92","v":0},null,"",null,0,2,null,"",{"$f":"IF(T97=\"\",\"\",HLOOKUP(T97,#REF!,92,FALSE))","v":""},0,2,null,null,{"$f":"IF(Y97=\"\",\"\",HLOOKUP(Y97,#REF!,92,FALSE))","v":""},0,2,null,null,{"$f":"IF(AD97=\"\",\"\",HLOOKUP(AD97,#REF!,2,FALSE))","v":""},0,2,null,{"$f":"IF(AI97=\"\",\"\",IF(I97=1,VLOOKUP(AI97,男子種目コード!$A$1:$B$29,2,FALSE),IF(I97=2,VLOOKUP(AI97,女子種目コード!$A$1:$B$30,2,FALSE))))","v":""},null,0,2,null,null,null,null,"",0,0,"",null,null,null,null,null,null,null,null,null,null,null,0,"",""]
[null,{"$f":"陸連登録!N93","v":""},null,null,{"$f":"陸連登録!M93","v":0},{"$f":"陸連登録!C93","v":0},{"$f":"陸連登録!D93","v":0},0,{"$f":"陸連登録!A93","v":""},{"$f":"陸連登録!P93","v":0},{"$f":"LEFT(陸連登録!L93,4)","v":""},{"$f":"RIGHT(陸連登録!L93,4)","v":""},{"$f":"陸連登録!F93","v":23},{"$f":"陸連登録!B93","v":0},null,"",null,0,2,null,"",{"$f":"IF(T98=\"\",\"\",HLOOKUP(T98,#REF!,93,FALSE))","v":""},0,2,null,null,{"$f":"IF(Y98=\"\",\"\",HLOOKUP(Y98,#REF!,93,FALSE))","v":""},0,2,null,null,{"$f":"IF(AD98=\"\",\"\",HLOOKUP(AD98,#REF!,2,FALSE))","v":""},0,2,null,{"$f":"IF(AI98=\"\",\"\",IF(I98=1,VLOOKUP(AI98,男子種目コード!$A$1:$B$29,2,FALSE),IF(I98=2,VLOOKUP(AI98,女子種目コード!$A$1:$B$30,2,FALSE))))","v":""},null,0,2,null,null,null,null,"",0,0,"",null,null,null,null,null,null,null,null,null,null,null,0,"",""]
[null,{"$f":"陸連登録!N94","v":""},null,null,{"$f":"陸連登録!M94","v":0},{"$f":"陸連登録!C94","v":0},{"$f":"陸連登録!D94","v":0},0,{"$f":"陸連登録!A94","v":""},{"$f":"陸連登録!P94","v":0},{"$f":"LEFT(陸連登録!L94,4)","v":""},{"$f":"RIGHT(陸連登録!L94,4)","v":""},{"$f":"陸連登録!F94","v":23},{"$f":"陸連登録!B94","v":0},null,"",null,0,2,null,"",{"$f":"IF(T99=\"\",\"\",HLOOKUP(T99,#REF!,94,FALSE))","v":""},0,2,null,null,{"$f":"IF(Y99=\"\",\"\",HLOOKUP(Y99,#REF!,94,FALSE))","v":""},0,2,null,null,{"$f":"IF(AD99=\"\",\"\",HLOOKUP(AD99,#REF!,2,FALSE))","v":""},0,2,null,{"$f":"IF(AI99=\"\",\"\",IF(I99=1,VLOOKUP(AI99,男子種目コード!$A$1:$B$29,2,FALSE),IF(I99=2,VLOOKUP(AI99,女子種目コード!$A$1:$B$30,2,FALSE))))","v":""},null,0,2,null,null,null,null,"",0,0,"",null,null,null,null,null,null,null,null,null,null,null,0,"",""]
[null,{"$f":"陸連登録!N95","v":""},null,null,{"$f":"陸連登録!M95","v":0},{"$f":"陸連登録!C95","v":0},{"$f":"陸連登録!D95","v":0},0,{"$f":"陸連登録!A95","v":""},{"$f":"陸連登録!P95","v":0},{"$f":"LEFT(陸連登録!L95,4)","v":""},{"$f":"RIGHT(陸連登録!L95,4)","v":""},{"$f":"陸連登録!F95","v":23},{"$f":"陸連登録!B95","v":0},null,"",null,0,2,null,"",{"$f":"IF(T100=\"\",\"\",HLOOKUP(T100,#REF!,95,FALSE))","v":""},0,2,null,null,{"$f":"IF(Y100=\"\",\"\",HLOOKUP(Y100,#REF!,95,FALSE))","v":""},0,2,null,null,{"$f":"IF(AD100=\"\",\"\",HLOOKUP(AD100,#REF!,2,FALSE))","v":""},0,2,null,{"$f":"IF(AI100=\"\",\"\",IF(I100=1,VLOOKUP(AI100,男子種目コード!$A$1:$B$29,2,FALSE),IF(I100=2,VLOOKUP(AI100,女子種目コード!$A$1:$B$30,2,FALSE))))","v":""},null,0,2,null,null,null,null,"",0,0,"",null,null,null,null,null,null,null,null,null,null,null,0,"",""]
[null,{"$f":"陸連登録!N96","v":""},null,null,{"$f":"陸連登録!M96","v":0},{"$f":"陸連登録!C96","v":0},{"$f":"陸連登録!D96","v":0},0,{"$f":"陸連登録!A96","v":""},{"$f":"陸連登録!P96","v":0},{"$f":"LEFT(陸連登録!L96,4)","v":""},{"$f":"RIGHT(陸連登録!L96,4)","v":""},{"$f":"陸連登録!F96","v":23},{"$f":"陸連登録!B96","v":0},null,"",null,0,2,null,"",{"$f":"IF(T101=\"\",\"\",HLOOKUP(T101,#REF!,96,FALSE))","v":""},0,2,null,null,{"$f":"IF(Y101=\"\",\"\",HLOOKUP(Y101,#REF!,96,FALSE))","v":""},0,2,null,null,{"$f":"IF(AD101=\"\",\"\",HLOOKUP(AD101,#REF!,2,FALSE))","v":""},0,2,null,{"$f":"IF(AI101=\"\",\"\",IF(I101=1,VLOOKUP(AI101,男子種目コード!$A$1:$B$29,2,FALSE),IF(I101=2,VLOOKUP(AI101,女子種目コード!$A$1:$B$30,2,FALSE))))","v":""},null,0,2,null,null,null,null,"",0,0,"",null,null,null,null,null,null,null,null,null,null,null,0,"",""]
[null,{"$f":"陸連登録!N97","v":""},null,null,{"$f":"陸連登録!M97","v":0},{"$f":"陸連登録!C97","v":0},{"$f":"陸連登録!D97","v":0},0,{"$f":"陸連登録!A97","v":""},{"$f":"陸連登録!P97","v":0},{"$f":"LEFT(陸連登録!L97,4)","v":""},{"$f":"RIGHT(陸連登録!L97,4)","v":""},{"$f":"陸連登録!F97","v":23},{"$f":"陸連登録!B97","v":0},null,"",null,0,2,null,"",{"$f":"IF(T102=\"\",\"\",HLOOKUP(T102,#REF!,97,FALSE))","v":""},0,2,null,null,{"$f":"IF(Y102=\"\",\"\",HLOOKUP(Y102,#REF!,97,FALSE))","v":""},0,2,null,null,{"$f":"IF(AD102=\"\",\"\",HLOOKUP(AD102,#REF!,2,FALSE))","v":""},0,2,null,{"$f":"IF(AI102=\"\",\"\",IF(I102=1,VLOOKUP(AI102,男子種目コード!$A$1:$B$29,2,FALSE),IF(I102=2,VLOOKUP(AI102,女子種目コード!$A$1:$B$30,2,FALSE))))","v":""},null,0,2,null,null,null,null,"",0,0,"",null,null,null,null,null,null,null,null,null,null,null,0,"",""]
[null,{"$f":"陸連登録!N98","v":""},null,null,{"$f":"陸連登録!M98","v":0},{"$f":"陸連登録!C98","v":0},{"$f":"陸連登録!D98","v":0},0,{"$f":"陸連登録!A98","v":""},{"$f":"陸連登録!P98","v":0},{"$f":"LEFT(陸連登録!L98,4)","v":""},{"$f":"RIGHT(陸連登録!L98,4)","v":""},{"$f":"陸連登録!F98","v":23},{"$f":"陸連登録!B98","v":0},null,{"$f":"IF($O103=\"\",\"\",IF($I103=1,VLOOKUP($O103,$AV$8:$AX$11,3,FALSE),IF($I103=2,VLOOKUP($O103,$AV$14:$AX$17,3,FALSE))))","v":""},null,0,2,null,{"$f":"IF(T103=\"\",\"\",IF($I103=1,VLOOKUP(T103,$AV$8:$AX$11,3,FALSE),IF($I103=2,VLOOKUP(T103,$AV$14:$AX$17,3,FALSE))))","v":""},{"$f":"IF(T103=\"\",\"\",HLOOKUP(T103,#REF!,98,FALSE))","v":""},0,2,null,null,{"$f":"IF(Y103=\"\",\"\",HLOOKUP(Y103,#REF!,98,FALSE))","v":""},0,2,null,null,{"$f":"IF(AD103=\"\",\"\",HLOOKUP(AD103,#REF!,2,FALSE))","v":""},0,2,null,{"$f":"IF(AI103=\"\",\"\",IF(I103=1,VLOOKUP(AI103,男子種目コード!$A$1:$B$29,2,FALSE),IF(I103=2,VLOOKUP(AI103,女子種目コード!$A$1:$B$30,2,FALSE))))","v":""},null,0,2,null,null,null,null,"",0,0,"",null,null,null,null,null,null,null,null,null,null,null,0,"",""]
[null,{"$f":"陸連登録!N99","v":""},null,null,{"$f":"陸連登録!M99","v":0},{"$f":"陸連登録!C99","v":0},{"$f":"陸連登録!D99","v":0},0,{"$f":"陸連登録!A99","v":""},{"$f":"陸連登録!P99","v":0},{"$f":"LEFT(陸連登録!L99,4)","v":""},{"$f":"RIGHT(陸連登録!L99,4)","v":""},{"$f":"陸連登録!F99","v":23},{"$f":"陸連登録!B99","v":0},null,"",null,0,2,null,"",{"$f":"IF(T104=\"\",\"\",HLOOKUP(T104,#REF!,99,FALSE))","v":""},0,2,null,null,{"$f":"IF(Y104=\"\",\"\",HLOOKUP(Y104,#REF!,99,FALSE))","v":""},0,2,null,null,{"$f":"IF(AD104=\"\",\"\",HLOOKUP(AD104,#REF!,2,FALSE))","v":""},0,2,null,{"$f":"IF(AI104=\"\",\"\",IF(I104=1,VLOOKUP(AI104,男子種目コード!$A$1:$B$29,2,FALSE),IF(I104=2,VLOOKUP(AI104,女子種目コード!$A$1:$B$30,2,FALSE))))","v":""},null,0,2,null,null,null,null,"",0,0,"",null,null,null,null,null,null,null,null,null,null,null,0,"",""]
[null,{"$f":"陸連登録!N100","v":""},null,null,{"$f":"陸連登録!M100","v":0},{"$f":"陸連登録!C100","v":0},{"$f":"陸連登録!D100","v":0},0,{"$f":"陸連登録!A100","v":""},{"$f":"陸連登録!P100","v":0},{"$f":"LEFT(陸連登録!L100,4)","v":""},{"$f":"RIGHT(陸連登録!L100,4)","v":""},{"$f":"陸連登録!F100","v":23},{"$f":"陸連登録!B100","v":0},null,"",null,0,2,null,"",{"$f":"IF(T105=\"\",\"\",HLOOKUP(T105,#REF!,100,FALSE))","v":""},0,2,null,null,{"$f":"IF(Y105=\"\",\"\",HLOOKUP(Y105,#REF!,100,FALSE))","v":""},0,2,null,null,{"$f":"IF(AD105=\"\",\"\",HLOOKUP(AD105,#REF!,2,FALSE))","v":""},0,2,null,{"$f":"IF(AI105=\"\",\"\",IF(I105=1,VLOOKUP(AI105,男子種目コード!$A$1:$B$29,2,FALSE),IF(I105=2,VLOOKUP(AI105,女子種目コード!$A$1:$B$30,2,FALSE))))","v":""},null,0,2,null,null,null,null,"",0,0,"",null,null,null,null,null,null,null,null,null,null,null,0,"",""]
[null,{"$f":"陸連登録!N101","v":""},null,null,{"$f":"陸連登録!M101","v":0},{"$f":"陸連登録!C101","v":0},{"$f":"陸連登録!D101","v":0},0,{"$f":"陸連登録!A101","v":""},{"$f":"陸連登録!P101","v":0},{"$f":"LEFT(陸連登録!L101,4)","v":""},{"$f":"RIGHT(陸連登録!L101,4)","v":""},{"$f":"陸連登録!F101","v":23},{"$f":"陸連登録!B101","v":0},null,"",null,0,2,null,"",{"$f":"IF(T106=\"\",\"\",HLOOKUP(T106,#REF!,101,FALSE))","v":""},0,2,null,null,{"$f":"IF(Y106=\"\",\"\",HLOOKUP(Y106,#REF!,101,FALSE))","v":""},0,2,null,null,{"$f":"IF(AD106=\"\",\"\",HLOOKUP(AD106,#REF!,2,FALSE))","v":""},0,2,null,null,null,0,2,null,null,null,null,"",0,0,"",null,null,null,null,null,null,null,null,null,null,null,0,"",""]
[null,{"$f":"陸連登録!N102","v":""},null,null,{"$f":"陸連登録!M102","v":0},{"$f":"陸連登録!C102","v":0},{"$f":"陸連登録!D102","v":0},0,{"$f":"陸連登録!A102","v":""},{"$f":"陸連登録!P102","v":0},{"$f":"LEFT(陸連登録!L102,4)","v":""},{"$f":"RIGHT(陸連登録!L102,4)","v":""},{"$f":"陸連登録!F102","v":23},{"$f":"陸連登録!B102","v":0},null,"",null,0,2,null,"",{"$f":"IF(T107=\"\",\"\",HLOOKUP(T107,#REF!,102,FALSE))","v":""},0,2,null,null,{"$f":"IF(Y107=\"\",\"\",HLOOKUP(Y107,#REF!,102,FALSE))","v":""},0,2,null,null,{"$f":"IF(AD107=\"\",\"\",HLOOKUP(AD107,#REF!,2,FALSE))","v":""},0,2,null,null,null,0,2,null,null,null,null,"",0,0,"",null,null,null,null,null,null,null,null,null,null,null,0,"",""]
[null,{"$f":"陸連登録!N103","v":""},null,null,{"$f":"陸連登録!M103","v":0},{"$f":"陸連登録!C103","v":0},{"$f":"陸連登録!D103","v":0},0,{"$f":"陸連登録!A103","v":""},{"$f":"陸連登録!P103","v":0},{"$f":"LEFT(陸連登録!L103,4)","v":""},{"$f":"RIGHT(陸連登録!L103,4)","v":""},{"$f":"陸連登録!F103","v":23},{"$f":"陸連登録!B103","v":0},null,"",null,0,2,null,"",{"$f":"IF(T108=\"\",\"\",HLOOKUP(T108,#REF!,103,FALSE))","v":""},0,2,null,null,{"$f":"IF(Y108=\"\",\"\",HLOOKUP(Y108,#REF!,103,FALSE))","v":""},0,2,null,null,{"$f":"IF(AD108=\"\",\"\",HLOOKUP(AD108,#REF!,2,FALSE))","v":""},0,2,null,null,null,0,2,null,null,null,null,"",0,0,"",null,null,null,null,null,null,null,null,null,null,null,0,"",""]
[null,{"$f":"陸連登録!N104","v":""},null,null,{"$f":"陸連登録!M104","v":0},{"$f":"陸連登録!C104","v":0},{"$f":"陸連登録!D104","v":0},0,{"$f":"陸連登録!A104","v":""},{"$f":"陸連登録!P104","v":0},{"$f":"LEFT(陸連登録!L104,4)","v":""},{"$f":"RIGHT(陸連登録!L104,4)","v":""},{"$f":"陸連登録!F104","v":23},{"$f":"陸連登録!B104","v":0},null,"",null,0,2,null,"",{"$f":"IF(T109=\"\",\"\",HLOOKUP(T109,#REF!,104,FALSE))","v":""},0,2,null,null,{"$f":"IF(Y109=\"\",\"\",HLOOKUP(Y109,#REF!,104,FALSE))","v":""},0,2,null,null,{"$f":"IF(AD109=\"\",\"\",HLOOKUP(AD109,#REF!,2,FALSE))","v":""},0,2,null,null,null,0,2,null,null,null,null,"",0,0,"",null,null,null,null,null,null,null,null,null,null,null,0,"",""]
[null,{"$f":"陸連登録!N105","v":""},null,null,{"$f":"陸連登録!M105","v":0},{"$f":"陸連登録!C105","v":0},{"$f":"陸連登録!D105","v":0},0,{"$f":"陸連登録!A105","v":""},{"$f":"陸連登録!P105","v":0},{"$f":"LEFT(陸連登録!L105,4)","v":""},{"$f":"RIGHT(陸連登録!L105,4)","v":""},{"$f":"陸連登録!F105","v":23},{"$f":"陸連登録!B105","v":0},null,"",null,0,2,null,"",{"$f":"IF(T110=\"\",\"\",HLOOKUP(T110,#REF!,105,FALSE))","v":""},0,2,null,null,{"$f":"IF(Y110=\"\",\"\",HLOOKUP(Y110,#REF!,105,FALSE))","v":""},0,2,null,null,{"$f":"IF(AD110=\"\",\"\",HLOOKUP(AD110,#REF!,2,FALSE))","v":""},0,2,null,null,null,0,2,null,null,null,null,"",0,0,"",null,null,null,null,null,null,null,null,null,null,null,0,"",""]
[null,{"$f":"陸連登録!N106","v":""},null,null,{"$f":"陸連登録!M106","v":0},{"$f":"陸連登録!C106","v":0},{"$f":"陸連登録!D106","v":0},0,{"$f":"陸連登録!A106","v":""},{"$f":"陸連登録!P106","v":0},{"$f":"LEFT(陸連登録!L106,4)","v":""},{"$f":"RIGHT(陸連登録!L106,4)","v":""},{"$f":"陸連登録!F106","v":23},{"$f":"陸連登録!B106","v":0},null,"",null,0,2,null,"",{"$f":"IF(T111=\"\",\"\",HLOOKUP(T111,#REF!,106,FALSE))","v":""},0,2,null,null,{"$f":"IF(Y111=\"\",\"\",HLOOKUP(Y111,#REF!,106,FALSE))","v":""},0,2,null,null,{"$f":"IF(AD111=\"\",\"\",HLOOKUP(AD111,#REF!,2,FALSE))","v":""},0,2,null,null,null,0,2,null,null,null,null,"",0,0,"",null,null,null,null,null,null,null,null,null,null,null,0,"",""]
[null,{"$f":"陸連登録!N107","v":""},null,null,{"$f":"陸連登録!M107","v":0},{"$f":"陸連登録!C107","v":0},{"$f":"陸連登録!D107","v":0},0,{"$f":"陸連登録!A107","v":""},{"$f":"陸連登録!P107","v":0},{"$f":"LEFT(陸連登録!L107,4)","v":""},{"$f":"RIGHT(陸連登録!L107,4)","v":""},{"$f":"陸連登録!F107","v":23},{"$f":"陸連登録!B107","v":0},null,"",null,0,2,null,"",{"$f":"IF(T112=\"\",\"\",HLOOKUP(T112,#REF!,107,FALSE))","v":""},0,2,null,null,{"$f":"IF(Y112=\"\",\"\",HLOOKUP(Y112,#REF!,107,FALSE))","v":""},0,2,null,null,{"$f":"IF(AD112=\"\",\"\",HLOOKUP(AD112,#REF!,2,FALSE))","v":""},0,2,null,null,null,0,2,null,null,null,null,"",0,0,"",null,null,null,null,null,null,null,null,null,null,null,0,"",""]
[null,{"$f":"陸連登録!N108","v":""},null,null,{"$f":"陸連登録!M108","v":0},{"$f":"陸連登録!C108","v":0},{"$f":"陸連登録!D108","v":0},0,{"$f":"陸連登録!A108","v":""},{"$f":"陸連登録!P108","v":0},{"$f":"LEFT(陸連登録!L108,4)","v":""},{"$f":"RIGHT(陸連登録!L108,4)","v":""},{"$f":"陸連登録!F108","v":23},{"$f":"陸連登録!B108","v":0},null,"",null,0,2,null,"",{"$f":"IF(T113=\"\",\"\",HLOOKUP(T113,#REF!,108,FALSE))","v":""},0,2,null,null,{"$f":"IF(Y113=\"\",\"\",HLOOKUP(Y113,#REF!,108,FALSE))","v":""},0,2,null,null,{"$f":"IF(AD113=\"\",\"\",HLOOKUP(AD113,#REF!,2,FALSE))","v":""},0,2,null,null,null,0,2,null,null,null,null,"",0,0,"",null,null,null,null,null,null,null,null,null,null,null,0,"",""]
[null,{"$f":"陸連登録!N109","v":""},null,null,{"$f":"陸連登録!M109","v":0},{"$f":"陸連登録!C109","v":0},{"$f":"陸連登録!D109","v":0},0,{"$f":"陸連登録!A109","v":""},{"$f":"陸連登録!P109","v":0},{"$f":"LEFT(陸連登録!L109,4)","v":""},{"$f":"RIGHT(陸連登録!L109,4)","v":""},{"$f":"陸連登録!F109","v":23},{"$f":"陸連登録!B109","v":0},null,"",null,0,2,null,"",{"$f":"IF(T114=\"\",\"\",HLOOKUP(T114,#REF!,109,FALSE))","v":""},0,2,null,null,{"$f":"IF(Y114=\"\",\"\",HLOOKUP(Y114,#REF!,109,FALSE))","v":""},0,2,null,null,{"$f":"IF(AD114=\"\",\"\",HLOOKUP(AD114,#REF!,2,FALSE))","v":""},0,2,null,null,null,0,2,null,null,null,null,"",0,0,"",null,null,null,null,null,null,null,null,null,null,null,0,"",""]
[null,{"$f":"陸連登録!N110","v":""},null,null,{"$f":"陸連登録!M110","v":0},{"$f":"陸連登録!C110","v":0},{"$f":"陸連登録!D110","v":0},0,{"$f":"陸連登録!A110","v":""},{"$f":"陸連登録!P110","v":0},{"$f":"LEFT(陸連登録!L110,4)","v":""},{"$f":"RIGHT(陸連登録!L110,4)","v":""},{"$f":"陸連登録!F110","v":23},{"$f":"陸連登録!B110","v":0},null,"",null,0,2,null,"",{"$f":"IF(T115=\"\",\"\",HLOOKUP(T115,#REF!,110,FALSE))","v":""},0,2,null,null,{"$f":"IF(Y115=\"\",\"\",HLOOKUP(Y115,#REF!,110,FALSE))","v":""},0,2,null,null,{"$f":"IF(AD115=\"\",\"\",HLOOKUP(AD115,#REF!,2,FALSE))","v":""},0,2,null,null,null,0,2,null,null,null,null,"",0,0,"",null,null,null,null,null,null,null,null,null,null,null,0,"",""]
[null,{"$f":"陸連登録!N111","v":""},null,null,{"$f":"陸連登録!M111","v":0},{"$f":"陸連登録!C111","v":0},{"$f":"陸連登録!D111","v":0},0,{"$f":"陸連登録!A111","v":""},{"$f":"陸連登録!P111","v":0},{"$f":"LEFT(陸連登録!L111,4)","v":""},{"$f":"RIGHT(陸連登録!L111,4)","v":""},{"$f":"陸連登録!F111","v":23},{"$f":"陸連登録!B111","v":0},null,"",null,0,2,null,"",{"$f":"IF(T116=\"\",\"\",HLOOKUP(T116,#REF!,111,FALSE))","v":""},0,2,null,null,{"$f":"IF(Y116=\"\",\"\",HLOOKUP(Y116,#REF!,111,FALSE))","v":""},0,2,null,null,{"$f":"IF(AD116=\"\",\"\",HLOOKUP(AD116,#REF!,2,FALSE))","v":""},0,2,null,{"$f":"IF(AI116=\"\",\"\",IF(I116=1,VLOOKUP(AI116,男子種目コード!$A$1:$B$29,2,FALSE),IF(I116=2,VLOOKUP(AI116,女子種目コード!$A$1:$B$30,2,FALSE))))","v":""},null,0,2,null,null,null,null,"",0,0,"",null,null,null,null,null,null,null,null,null,null,null,0,"",""]
[null,{"$f":"陸連登録!N112","v":""},null,null,{"$f":"陸連登録!M112","v":0},{"$f":"陸連登録!C112","v":0},{"$f":"陸連登録!D112","v":0},0,{"$f":"陸連登録!A112","v":""},{"$f":"陸連登録!P112","v":0},{"$f":"LEFT(陸連登録!L112,4)","v":""},{"$f":"RIGHT(陸連登録!L112,4)","v":""},null,{"$f":"#REF!","v":{"$error":"#REF!"}},"210m",false,null,null,0,2,null,null,null,null,null,null,null,null,null,null,{"$f":"IF(AD117=\"\",\"\",IF($I117=1,VLOOKUP(AD117,$AV$8:$AX$11,3,FALSE),IF($I117=2,VLOOKUP(AD117,$AV$14:$AX$17,3,FALSE))))","v":""},{"$f":"SUM(AR7:AR116)","v":0},{"$f":"SUM(AS7:AS116)","v":0},{"$f":"SUM(AT7:AT116)","v":0},{"$f":"SUM(AU7:AU116)","v":0}]
[null,{"$f":"陸連登録!N113","v":""},null,null,{"$f":"陸連登録!M113","v":0},{"$f":"陸連登録!C113","v":0},{"$f":"陸連登録!D113","v":0},0,{"$f":"陸連登録!A113","v":""},{"$f":"陸連登録!P113","v":0},{"$f":"LEFT(陸連登録!L113,4)","v":""},{"$f":"RIGHT(陸連登録!L113,4)","v":""},null,{"$f":"#REF!","v":{"$error":"#REF!"}},"211m",false,null,null,0,2,null,null,null,null,null,null,null,null,null,null,{"$f":"IF(AD118=\"\",\"\",IF($I118=1,VLOOKUP(AD118,$AV$8:$AX$11,3,FALSE),IF($I118=2,VLOOKUP(AD118,$AV$14:$AX$17,3,FALSE))))","v":""},{"$f":"SUM(AF117:AH117)","v":0},null,null,{"$f":"(AF117+AI117)","v":0}]

{"sheet":"県選","index":7,"n_rows":134,"n_cols":81,"rows_kept":134,"cut":false,"hidden":false,"merged":[[0,19,0,21],[5,57,5,58]]}
[null,null,null,null,"所属名",{"$f":"陸連登録!I2","v":0},null,null,"三重県選手権",null,null,null,null,null,null,null,null,null,null,"参加人数"]
[null,null,null,null,"所属コード",{"$f":"陸連登録!N2","v":""},null,null,"個人種目数",null,null,null,null,null,{"$f":"$BB$117","v":0},null,null,null,null,"男子",null,{"$f":"COUNTIF($I$7:$I$116,1)-COUNTIF($BD$7:$BD$116,0)","v":0}]
[null,null,null,null,"顧問名",null,null,null,"リレー",null,null,null,null,null,{"$f":"AE134","v":0},null,null,null,null,"女子",null,{"$f":"COUNTIF($I$7:$I$116,2)-COUNTIF($BE$7:$BE$116,0)","v":0}]
[null,null,null,null,"顧問連絡先",null,null,null,"大会参加費",null,null,null,null,null,{"$f":"O2*1000+O3*2000+Q5*800","v":0},null,null,null,null,"計",null,{"$f":"V2+V3","v":0}]
[null,null,null,null,"少年B100mは記録が反映されません。直接入力して下さい",null,null,null,null,null,null,null,null,null,"プログラム冊数",null,null,null,null,"冊"]
["競技者コード","所属コード","所属コード２","ナンバーA","ナンバー","名前","カナ名","掲示板名","性別","学年","生年","月日","個人所属地コード","陸連コード","1種目","コード","今年度公認記録",null,null,"2種目","コード","今年度公認記録","種目3","コード","記録3",null,null,"4×100R","コード","記録",null,null,"4×400R","コード","記録",null,null,null,null,null,100,null,null,null,null,null,null,null,null,null,100,100,"男子A","個人種目","種目","男子","女子","種目別人数",null,null,"男子4×100mR　Ａ",null,"男子4×400mR　Ａ",null,"女子4×100mR　Ａ",null,"女子4×400mR　Ａ"]
[{"$f":"AB7","v":0},{"$f":"陸連登録!N2","v":""},{"$f":"AG7","v":0},null,{"$f":"陸連登録!M2","v":0},{"$f":"陸連登録!C2","v":0},{"$f":"陸連登録!D2","v":0},{"$f":"F7","v":0},{"$f":"陸連登録!A2","v":""},{"$f":"陸連登録!P2","v":0},{"$f":"LEFT(陸連登録!L2,4)","v":""},{"$f":"RIGHT(陸連登録!L2,4)","v":""},{"$f":"陸連登録!F2","v":23},{"$f":"陸連登録!B2","v":0},null,{"$f":"IF(O7=\"\",\"\",IF($I7=1,VLOOKUP(O7,$BF$8:$BH$33,3,FALSE),IF($I7=2,VLOOKUP(O7,$BF$36:$BH$58,3,FALSE))))","v":""},null,0,2,null,{"$f":"IF(T7=\"\",\"\",IF($I7=1,VLOOKUP(T7,$BF$8:$BH$33,3,FALSE),IF($I7=2,VLOOKUP(T7,$BF$36:$BH$58,3,FALSE))))","v":""},null,null,{"$f":"IF(W7=\"\",\"\",IF(I7=1,VLOOKUP(W7,男子種目コード!$D$2:$E$30,2,FALSE),IF(I7=2,VLOOKUP(W7,女子種目コード!$D$2:$E$30,2,FALSE))))","v":""},null,null,null,null,{"$f":"IF(AB7=\"\",\"\",IF(I7=1,VLOOKUP(AB7,男子種目コード!$A$82:$B$85,2,FALSE),IF(I7=2,VLOOKUP(AB7,女子種目コード!$A$82:$B$85,2,FALSE))))","v":""},null,0,2,null,{"$f":"IF(AG7=\"\",\"\",IF(I7=1,VLOOKUP(AG7,男子種目コード!$A$78:$B$81,2,FALSE),IF(I7=2,VLOOKUP(AG7,女子種目コード!$A$78:$B$81,2,FALSE))))","v":""},null,0,2,0,null,null,200,{"$f":"IF(O7=\"\",\"\",1)","v":""},{"$f":"IF(T7=\"\",\"\",1)","v":""},null,null,{"$f":"IF(O7=\"\",\"\",1)","v":""},{"$f":"IF(OR(AT7=1,T7=\"\"),0,1)","v":0},{"$f":"IF(OR(AT7=1,AU7=1,AB7=\"\"),0,1)","v":0},{"$f":"IF(OR(AT7=1,AU7=1,AV7=1,AG7=\"\"),0,1)","v":0},{"$f":"SUM(AT7:AW7)","v":0},200,200,"男子B",{"$f":"COUNT(P7,U7)","v":0},{"$f":"COUNT(P7,U7,AC7,AH7)","v":0},{"$f":"IF(I7=1,BC7,\"\")","v":""},{"$f":"IF(I7=2,BC7,\"\")","v":""},"男子",null,null,"記録",null,"記録",null,"記録",null,"記録"]
[{"$f":"AB8","v":0},{"$f":"陸連登録!N3","v":""},{"$f":"AG8","v":0},null,{"$f":"陸連登録!M3","v":0},{"$f":"陸連登録!C3","v":0},{"$f":"陸連登録!D3","v":0},{"$f":"F8","v":0},{"$f":"陸連登録!A3","v":""},{"$f":"陸連登録!P3","v":0},{"$f":"LEFT(陸連登録!L3,4)","v":""},{"$f":"RIGHT(陸連登録!L3,4)","v":""},{"$f":"陸連登録!F3","v":23},{"$f":"陸連登録!B3","v":0},null,"",null,0,2,null,"",null,null,{"$f":"IF(W8=\"\",\"\",IF(I8=1,VLOOKUP(W8,男子種目コード!$D$2:$E$30,2,FALSE),IF(I8=2,VLOOKUP(W8,女子種目コード!$D$2:$E$30,2,FALSE))))","v":""},null,null,null,null,{"$f":"IF(AB8=\"\",\"\",IF(I8=1,VLOOKUP(AB8,男子種目コード!$A$82:$B$85,2,FALSE),IF(I8=2,VLOOKUP(AB8,女子種目コード!$A$82:$B$85,2,FALSE))))","v":""},null,0,2,null,{"$f":"IF(AG8=\"\",\"\",IF(I8=1,VLOOKUP(AG8,男子種目コード!$A$78:$B$81,2,FALSE),IF(I8=2,VLOOKUP(AG8,女子種目コード!$A$78:$B$81,2,FALSE))))","v":""},null,0,2,0,null,null,400,{"$f":"IF(O8=\"\",\"\",1)","v":""},{"$f":"IF(T8=\"\",\"\",1)","v":""},null,null,{"$f":"IF(O8=\"\",\"\",1)","v":""},0,0,0,{"$f":"SUM(AT8:AW8)","v":0},400,400,"男子C",{"$f":"COUNT(P8,U8)","v":0},{"$f":"COUNT(P8,U8,AC8,AH8)","v":0},{"$f":"IF(I8=1,BC8,\"\")","v":""},{"$f":"IF(I8=2,BC8,\"\")","v":""},"100m",{"$f":"COUNTIF($P$7:$P$116,101)+COUNTIF($U$7:$U$116,101)","v":0},101,{"$f":"IF(ISERROR(BQ8),\"\",BQ8)","v":""},{"$f":"IF(ISERROR(BR8),\"\",BR8)","v":""},{"$f":"IF(ISERROR(BS8),\"\",BS8)","v":""},{"$f":"IF(ISERROR(BT8),\"\",BT8)","v":""},{"$f":"IF(ISERROR(BU8),\"\",BU8)","v":""},{"$f":"IF(ISERROR(BV8),\"\",BV8)","v":""},{"$f":"IF(ISERROR(BW8),\"\",BW8)","v":""},{"$f":"IF(ISERROR(BX8),\"\",BX8)","v":""},{"$f":"VLookUpX(\"男子A\",$A$7:$F$116,1,5)","v":{"$error":"#N/A"}},{"$f":"VLookUpX(\"男子A\",$A$7:$F$116,1,6)","v":{"$error":"#N/A"}},{"$f":"VLookUpX(\"男子A\",$C$7:$F$116,1,3)","v":{"$error":"#N/A"}},{"$f":"VLookUpX(\"男子A\",$C$7:$F$116,1,4)","v":{"$error":"#N/A"}},{"$f":"VLookUpX(\"女子A\",$A$7:$F$116,1,5)","v":{"$error":"#N/A"}},{"$f":"VLookUpX(\"女子A\",$A$7:$F$116,1,6)","v":{"$error":"#N/A"}},{"$f":"VLookUpX(\"女子A\",$C$7:$F$116,1,3)","v":{"$error":"#N/A"}},{"$f":"VLookUpX(\"女子A\",$C$7:$F$116,1,4)","v":{"$error":"#N/A"}},{"$f":"IF(BI8=\"\",\"\",1)","v":""},{"$f":"IF(BK8=\"\",\"\",1)","v":""},{"$f":"IF(BM8=\"\",\"\",1)","v":""},{"$f":"IF(BO8=\"\",\"\",1)","v":""}]
[0,{"$f":"陸連登録!N4","v":""},0,null,{"$f":"陸連登録!M4","v":0},{"$f":"陸連登録!C4","v":0},{"$f":"陸連登録!D4","v":0},0,{"$f":"陸連登録!A4","v":""},{"$f":"陸連登録!P4","v":0},{"$f":"LEFT(陸連登録!L4,4)","v":""},{"$f":"RIGHT(陸連登録!L4,4)","v":""},{"$f":"陸連登録!F4","v":23},{"$f":"陸連登録!B4","v":0},null,"",null,0,2,null,"",null,null,{"$f":"IF(W9=\"\",\"\",IF(I9=1,VLOOKUP(W9,男子種目コード!$D$2:$E$30,2,FALSE),IF(I9=2,VLOOKUP(W9,女子種目コード!$D$2:$E$30,2,FALSE))))","v":""},null,null,null,null,{"$f":"IF(AB9=\"\",\"\",IF(I9=1,VLOOKUP(AB9,男子種目コード!$A$82:$B$85,2,FALSE),IF(I9=2,VLOOKUP(AB9,女子種目コード!$A$82:$B$85,2,FALSE))))","v":""},null,0,2,null,{"$f":"IF(AG9=\"\",\"\",IF(I9=1,VLOOKUP(AG9,男子種目コード!$A$78:$B$81,2,FALSE),IF(I9=2,VLOOKUP(AG9,女子種目コード!$A$78:$B$81,2,FALSE))))","v":""},null,0,2,0,null,null,800,{"$f":"IF(O9=\"\",\"\",1)","v":""},"",null,null,"",0,0,0,0,800,800,"男子D",0,0,"","","200m",{"$f":"COUNTIF($P$7:$P$116,102)+COUNTIF($U$7:$U$116,102)","v":0},102,"","","","","","","","",{"$f":"VLookUpX(\"男子A\",$A$7:$F$116,2,5)","v":{"$error":"#N/A"}},{"$f":"VLookUpX(\"男子A\",$A$7:$F$116,2,6)","v":{"$error":"#N/A"}},{"$f":"VLookUpX(\"男子A\",$C$7:$F$116,2,3)","v":{"$error":"#N/A"}},{"$f":"VLookUpX(\"男子A\",$C$7:$F$116,2,4)","v":{"$error":"#N/A"}},{"$f":"VLookUpX(\"女子A\",$A$7:$F$116,2,5)","v":{"$error":"#N/A"}},{"$f":"VLookUpX(\"女子A\",$A$7:$F$116,2,6)","v":{"$error":"#N/A"}},{"$f":"VLookUpX(\"女子A\",$C$7:$F$116,2,3)","v":{"$error":"#N/A"}},{"$f":"VLookUpX(\"女子A\",$C$7:$F$116,2,4)","v":{"$error":"#N/A"}}]
[0,{"$f":"陸連登録!N5","v":""},0,null,{"$f":"陸連登録!M5","v":0},{"$f":"陸連登録!C5","v":0},{"$f":"陸連登録!D5","v":0},0,{"$f":"陸連登録!A5","v":""},{"$f":"陸連登録!P5","v":0},{"$f":"LEFT(陸連登録!L5,4)","v":""},{"$f":"RIGHT(陸連登録!L5,4)","v":""},{"$f":"陸連登録!F5","v":23},{"$f":"陸連登録!B5","v":0},null,"",null,0,2,null,"",null,null,{"$f":"IF(W10=\"\",\"\",IF(I10=1,VLOOKUP(W10,男子種目コード!$D$2:$E$30,2,FALSE),IF(I10=2,VLOOKUP(W10,女子種目コード!$D$2:$E$30,2,FALSE))))","v":""},null,null,null,null,{"$f":"IF(AB10=\"\",\"\",IF(I10=1,VLOOKUP(AB10,男子種目コード!$A$82:$B$85,2,FALSE),IF(I10=2,VLOOKUP(AB10,女子種目コード!$A$82:$B$85,2,FALSE))))","v":""},null,0,2,null,{"$f":"IF(AG10=\"\",\"\",IF(I10=1,VLOOKUP(AG10,男子種目コード!$A$78:$B$81,2,FALSE),IF(I10=2,VLOOKUP(AG10,女子種目コード!$A$78:$B$81,2,FALSE))))","v":""},null,0,2,0,null,null,1500,"","",null,null,"",0,0,0,0,1500,1500,"女子A",0,0,"","","400m",{"$f":"COUNTIF($P$7:$P$116,3)+COUNTIF($U$7:$U$116,3)","v":0},3,"","","","","","","","",{"$f":"VLookUpX(\"男子A\",$A$7:$F$116,3,5)","v":{"$error":"#N/A"}},{"$f":"VLookUpX(\"男子A\",$A$7:$F$116,3,6)","v":{"$error":"#N/A"}},{"$f":"VLookUpX(\"男子A\",$C$7:$F$116,3,3)","v":{"$error":"#N/A"}},{"$f":"VLookUpX(\"男子A\",$C$7:$F$116,3,4)","v":{"$error":"#N/A"}},{"$f":"VLookUpX(\"女子A\",$A$7:$F$116,3,5)","v":{"$error":"#N/A"}},{"$f":"VLookUpX(\"女子A\",$A$7:$F$116,3,6)","v":{"$error":"#N/A"}},{"$f":"VLookUpX(\"女子A\",$C$7:$F$116,3,3)","v":{"$error":"#N/A"}},{"$f":"VLookUpX(\"女子A\",$C$7:$F$116,3,4)","v":{"$error":"#N/A"}}]
[0,{"$f":"陸連登録!N6","v":""},0,null,{"$f":"陸連登録!M6","v":0},{"$f":"陸連登録!C6","v":0},{"$f":"陸連登録!D6","v":0},0,{"$f":"陸連登録!A6","v":""},{"$f":"陸連登録!P6","v":0},{"$f":"LEFT(陸連登録!L6,4)","v":""},{"$f":"RIGHT(陸連登録!L6,4)","v":""},{"$f":"陸連登録!F6","v":23},{"$f":"陸連登録!B6","v":0},null,"",null,0,2,null,"",null,null,{"$f":"IF(W11=\"\",\"\",IF(I11=1,VLOOKUP(W11,男子種目コード!$D$2:$E$30,2,FALSE),IF(I11=2,VLOOKUP(W11,女子種目コード!$D$2:$E$30,2,FALSE))))","v":""},null,null,null,null,{"$f":"IF(AB11=\"\",\"\",IF(I11=1,VLOOKUP(AB11,男子種目コード!$A$82:$B$85,2,FALSE),IF(I11=2,VLOOKUP(AB11,女子種目コード!$A$82:$B$85,2,FALSE))))","v":""},null,0,2,null,{"$f":"IF(AG11=\"\",\"\",IF(I11=1,VLOOKUP(AG11,男子種目コード!$A$78:$B$81,2,FALSE),IF(I11=2,VLOOKUP(AG11,女子種目コード!$A$78:$B$81,2,FALSE))))","v":""},null,0,2,0,null,null,5000,"","",null,null,"",0,0,0,0,"少年3000","少年3000","女子B",0,0,"","","800m",{"$f":"COUNTIF($P$7:$P$116,4)+COUNTIF($U$7:$U$116,4)","v":0},4,"","","","","","","","",{"$f":"VLookUpX(\"男子A\",$A$7:$F$116,4,5)","v":{"$error":"#N/A"}},{"$f":"VLookUpX(\"男子A\",$A$7:$F$116,4,6)","v":{"$error":"#N/A"}},{"$f":"VLookUpX(\"男子A\",$C$7:$F$116,4,3)","v":{"$error":"#N/A"}},{"$f":"VLookUpX(\"男子A\",$C$7:$F$116,4,4)","v":{"$error":"#N/A"}},{"$f":"VLookUpX(\"女子A\",$A$7:$F$116,4,5)","v":{"$error":"#N/A"}},{"$f":"VLookUpX(\"女子A\",$A$7:$F$116,4,6)","v":{"$error":"#N/A"}},{"$f":"VLookUpX(\"女子A\",$C$7:$F$116,4,3)","v":{"$error":"#N/A"}},{"$f":"VLookUpX(\"女子A\",$C$7:$F$116,4,4)","v":{"$error":"#N/A"}}]
[0,{"$f":"陸連登録!N7","v":""},0,null,{"$f":"陸連登録!M7","v":0},{"$f":"陸連登録!C7","v":0},{"$f":"陸連登録!D7","v":0},0,{"$f":"陸連登録!A7","v":""},{"$f":"陸連登録!P7","v":0},{"$f":"LEFT(陸連登録!L7,4)","v":""},{"$f":"RIGHT(陸連登録!L7,4)","v":""},{"$f":"陸連登録!F7","v":23},{"$f":"陸連登録!B7","v":0},null,"",null,0,2,null,"",null,null,{"$f":"IF(W12=\"\",\"\",IF(I12=1,VLOOKUP(W12,男子種目コード!$D$2:$E$30,2,FALSE),IF(I12=2,VLOOKUP(W12,女子種目コード!$D$2:$E$30,2,FALSE))))","v":""},null,null,null,null,{"$f":"IF(AB12=\"\",\"\",IF(I12=1,VLOOKUP(AB12,男子種目コード!$A$82:$B$85,2,FALSE),IF(I12=2,VLOOKUP(AB12,女子種目コード!$A$82:$B$85,2,FALSE))))","v":""},null,0,2,null,{"$f":"IF(AG12=\"\",\"\",IF(I12=1,VLOOKUP(AG12,男子種目コード!$A$78:$B$81,2,FALSE),IF(I12=2,VLOOKUP(AG12,女子種目コード!$A$78:$B$81,2,FALSE))))","v":""},null,0,2,0,null,null,10000,"","",null,null,"",0,0,0,0,5000,5000,"女子C",0,0,"","","1500m",{"$f":"COUNTIF($P$7:$P$116,5)+COUNTIF($U$7:$U$116,5)","v":0},5,"","","","","","","","",{"$f":"VLookUpX(\"男子A\",$A$7:$F$116,5,5)","v":{"$error":"#N/A"}},{"$f":"VLookUpX(\"男子A\",$A$7:$F$116,5,6)","v":{"$error":"#N/A"}},{"$f":"VLookUpX(\"男子A\",$C$7:$F$116,5,3)","v":{"$error":"#N/A"}},{"$f":"VLookUpX(\"男子A\",$C$7:$F$116,5,4)","v":{"$error":"#N/A"}},{"$f":"VLookUpX(\"女子A\",$A$7:$F$116,5,5)","v":{"$error":"#N/A"}},{"$f":"VLookUpX(\"女子A\",$A$7:$F$116,5,6)","v":{"$error":"#N/A"}},{"$f":"VLookUpX(\"女子A\",$C$7:$F$116,5,3)","v":{"$error":"#N/A"}},{"$f":"VLookUpX(\"女子A\",$C$7:$F$116,5,4)","v":{"$error":"#N/A"}}]
[0,{"$f":"陸連登録!N8","v":""},0,null,{"$f":"陸連登録!M8","v":0},{"$f":"陸連登録!C8","v":0},{"$f":"陸連登録!D8","v":0},0,{"$f":"陸連登録!A8","v":""},{"$f":"陸連登録!P8","v":0},{"$f":"LEFT(陸連登録!L8,4)","v":""},{"$f":"RIGHT(陸連登録!L8,4)","v":""},{"$f":"陸連登録!F8","v":23},{"$f":"陸連登録!B8","v":0},null,"",null,0,2,null,"",null,null,{"$f":"IF(W13=\"\",\"\",IF(I13=1,VLOOKUP(W13,男子種目コード!$D$2:$E$30,2,FALSE),IF(I13=2,VLOOKUP(W13,女子種目コード!$D$2:$E$30,2,FALSE))))","v":""},null,null,null,null,{"$f":"IF(AB13=\"\",\"\",IF(I13=1,VLOOKUP(AB13,男子種目コード!$A$82:$B$85,2,FALSE),IF(I13=2,VLOOKUP(AB13,女子種目コード!$A$82:$B$85,2,FALSE))))","v":""},null,0,2,null,{"$f":"IF(AG13=\"\",\"\",IF(I13=1,VLOOKUP(AG13,男子種目コード!$A$78:$B$81,2,FALSE),IF(I13=2,VLOOKUP(AG13,女子種目コード!$A$78:$B$81,2,FALSE))))","v":""},null,0,2,0,null,null,"100H","","",null,null,"",0,0,0,0,10000,10000,"女子D",0,0,"","","5000m",{"$f":"COUNTIF($P$7:$P$116,6)+COUNTIF($U$7:$U$116,6)","v":0},6,"","","","","","","","",{"$f":"VLookUpX(\"男子A\",$A$7:$F$116,6,5)","v":{"$error":"#N/A"}},{"$f":"VLookUpX(\"男子A\",$A$7:$F$116,6,6)","v":{"$error":"#N/A"}},{"$f":"VLookUpX(\"男子A\",$C$7:$F$116,6,3)","v":{"$error":"#N/A"}},{"$f":"VLookUpX(\"男子A\",$C$7:$F$116,6,4)","v":{"$error":"#N/A"}},{"$f":"VLookUpX(\"女子A\",$A$7:$F$116,6,5)","v":{"$error":"#N/A"}},{"$f":"VLookUpX(\"女子A\",$A$7:$F$116,6,6)","v":{"$error":"#N/A"}},{"$f":"VLookUpX(\"女子A\",$C$7:$F$116,6,3)","v":{"$error":"#N/A"}},{"$f":"VLookUpX(\"女子A\",$C$7:$F$116,6,4)","v":{"$error":"#N/A"}}]
[0,{"$f":"陸連登録!N9","v":""},0,null,{"$f":"陸連登録!M9","v":0},{"$f":"陸連登録!C9","v":0},{"$f":"陸連登録!D9","v":0},0,{"$f":"陸連登録!A9","v":""},{"$f":"陸連登録!P9","v":0},{"$f":"LEFT(陸連登録!L9,4)","v":""},{"$f":"RIGHT(陸連登録!L9,4)","v":""},{"$f":"陸連登録!F9","v":23},{"$f":"陸連登録!B9","v":0},null,"",null,0,2,null,"",null,null,{"$f":"IF(W14=\"\",\"\",IF(I14=1,VLOOKUP(W14,男子種目コード!$D$2:$E$30,2,FALSE),IF(I14=2,VLOOKUP(W14,女子種目コード!$D$2:$E$30,2,FALSE))))","v":""},null,null,null,null,{"$f":"IF(AB14=\"\",\"\",IF(I14=1,VLOOKUP(AB14,男子種目コード!$A$82:$B$85,2,FALSE),IF(I14=2,VLOOKUP(AB14,女子種目コード!$A$82:$B$85,2,FALSE))))","v":""},null,0,2,null,{"$f":"IF(AG14=\"\",\"\",IF(I14=1,VLOOKUP(AG14,男子種目コード!$A$78:$B$81,2,FALSE),IF(I14=2,VLOOKUP(AG14,女子種目コード!$A$78:$B$81,2,FALSE))))","v":""},null,0,2,0,null,null,"110H","","",null,null,"",0,0,0,0,"110H","100H",null,0,0,"","","10000m",{"$f":"COUNTIF($P$7:$P$116,7)+COUNTIF($U$7:$U$116,7)","v":0},7,"男子4×100mR　Ｂ",null,"男子4×400mR　Ｂ",null,"女子4×100mR　Ｂ",null,"女子4×400mR　Ｂ"]
[0,{"$f":"陸連登録!N10","v":""},0,null,{"$f":"陸連登録!M10","v":0},{"$f":"陸連登録!C10","v":0},{"$f":"陸連登録!D10","v":0},0,{"$f":"陸連登録!A10","v":""},{"$f":"陸連登録!P10","v":0},{"$f":"LEFT(陸連登録!L10,4)","v":""},{"$f":"RIGHT(陸連登録!L10,4)","v":""},{"$f":"陸連登録!F10","v":23},{"$f":"陸連登録!B10","v":0},null,"",null,0,2,null,"",null,null,{"$f":"IF(W15=\"\",\"\",IF(I15=1,VLOOKUP(W15,男子種目コード!$D$2:$E$30,2,FALSE),IF(I15=2,VLOOKUP(W15,女子種目コード!$D$2:$E$30,2,FALSE))))","v":""},null,null,null,null,{"$f":"IF(AB15=\"\",\"\",IF(I15=1,VLOOKUP(AB15,男子種目コード!$A$82:$B$85,2,FALSE),IF(I15=2,VLOOKUP(AB15,女子種目コード!$A$82:$B$85,2,FALSE))))","v":""},null,0,2,null,{"$f":"IF(AG15=\"\",\"\",IF(I15=1,VLOOKUP(AG15,男子種目コード!$A$78:$B$81,2,FALSE),IF(I15=2,VLOOKUP(AG15,女子種目コード!$A$78:$B$81,2,FALSE))))","v":""},null,0,2,0,null,null,"400H","","",null,null,"",0,0,0,0,"400H","400H",null,0,0,"","","110mH",{"$f":"COUNTIF($P$7:$P$116,8)+COUNTIF($U$7:$U$116,8)","v":0},8,"記録",null,"記録",null,"記録",null,"記録"]
[0,{"$f":"陸連登録!N11","v":""},0,null,{"$f":"陸連登録!M11","v":0},{"$f":"陸連登録!C11","v":0},{"$f":"陸連登録!D11","v":0},0,{"$f":"陸連登録!A11","v":""},{"$f":"陸連登録!P11","v":0},{"$f":"LEFT(陸連登録!L11,4)","v":""},{"$f":"RIGHT(陸連登録!L11,4)","v":""},{"$f":"陸連登録!F11","v":23},{"$f":"陸連登録!B11","v":0},null,"",null,0,2,null,"",null,null,{"$f":"IF(W16=\"\",\"\",IF(I16=1,VLOOKUP(W16,男子種目コード!$D$2:$E$30,2,FALSE),IF(I16=2,VLOOKUP(W16,女子種目コード!$D$2:$E$30,2,FALSE))))","v":""},null,null,null,null,{"$f":"IF(AB16=\"\",\"\",IF(I16=1,VLOOKUP(AB16,男子種目コード!$A$82:$B$85,2,FALSE),IF(I16=2,VLOOKUP(AB16,女子種目コード!$A$82:$B$85,2,FALSE))))","v":""},null,0,2,null,{"$f":"IF(AG16=\"\",\"\",IF(I16=1,VLOOKUP(AG16,男子種目コード!$A$78:$B$81,2,FALSE),IF(I16=2,VLOOKUP(AG16,女子種目コード!$A$78:$B$81,2,FALSE))))","v":""},null,0,2,0,null,null,"3000SC","","",null,null,"",0,0,0,0,"3000SC","3000SC",null,0,0,"","","400mH",{"$f":"COUNTIF($P$7:$P$116,9)+COUNTIF($U$7:$U$116,9)","v":0},9,{"$f":"IF(ISERROR(BQ16),\"\",BQ16)","v":""},{"$f":"IF(ISERROR(BR16),\"\",BR16)","v":""},{"$f":"IF(ISERROR(BS16),\"\",BS16)","v":""},{"$f":"IF(ISERROR(BT16),\"\",BT16)","v":""},{"$f":"IF(ISERROR(BU16),\"\",BU16)","v":""},{"$f":"IF(ISERROR(BV16),\"\",BV16)","v":""},{"$f":"IF(ISERROR(BW16),\"\",BW16)","v":""},{"$f":"IF(ISERROR(BX16),\"\",BX16)","v":""},{"$f":"VLookUpX(\"男子B\",$A$7:$F$116,1,5)","v":{"$error":"#N/A"}},{"$f":"VLookUpX(\"男子B\",$A$7:$F$116,1,6)","v":{"$error":"#N/A"}},{"$f":"VLookUpX(\"男子B\",$C$7:$F$116,1,3)","v":{"$error":"#N/A"}},{"$f":"VLookUpX(\"男子B\",$C$7:$F$116,1,4)","v":{"$error":"#N/A"}},{"$f":"VLookUpX(\"女子B\",$A$7:$F$116,1,5)","v":{"$error":"#N/A"}},{"$f":"VLookUpX(\"女子B\",$A$7:$F$116,1,6)","v":{"$error":"#N/A"}},{"$f":"VLookUpX(\"女子B\",$C$7:$F$116,1,3)","v":{"$error":"#N/A"}},{"$f":"VLookUpX(\"女子B\",$C$7:$F$116,1,4)","v":{"$error":"#N/A"}},{"$f":"IF(BI16=\"\",\"\",1)","v":""},{"$f":"IF(BK16=\"\",\"\",1)","v":""},{"$f":"IF(BM16=\"\",\"\",1)","v":""},{"$f":"IF(BO16=\"\",\"\",1)","v":""}]
[0,{"$f":"陸連登録!N12","v":""},0,null,{"$f":"陸連登録!M12","v":0},{"$f":"陸連登録!C12","v":0},{"$f":"陸連登録!D12","v":0},0,{"$f":"陸連登録!A12","v":""},{"$f":"陸連登録!P12","v":0},{"$f":"LEFT(陸連登録!L12,4)","v":""},{"$f":"RIGHT(陸連登録!L12,4)","v":""},{"$f":"陸連登録!F12","v":23},{"$f":"陸連登録!B12","v":0},null,"",null,0,2,null,"",null,null,{"$f":"IF(W17=\"\",\"\",IF(I17=1,VLOOKUP(W17,男子種目コード!$D$2:$E$30,2,FALSE),IF(I17=2,VLOOKUP(W17,女子種目コード!$D$2:$E$30,2,FALSE))))","v":""},null,null,null,null,{"$f":"IF(AB17=\"\",\"\",IF(I17=1,VLOOKUP(AB17,男子種目コード!$A$82:$B$85,2,FALSE),IF(I17=2,VLOOKUP(AB17,女子種目コード!$A$82:$B$85,2,FALSE))))","v":""},null,0,2,null,{"$f":"IF(AG17=\"\",\"\",IF(I17=1,VLOOKUP(AG17,男子種目コード!$A$78:$B$81,2,FALSE),IF(I17=2,VLOOKUP(AG17,女子種目コード!$A$78:$B$81,2,FALSE))))","v":""},null,0,2,0,null,null,"5000W","","",null,null,"",0,0,0,0,"5000W","5000W",null,0,0,"","","3000mSC",{"$f":"COUNTIF($P$7:$P$116,10)+COUNTIF($U$7:$U$116,10)","v":0},10,"","","","","","","","",{"$f":"VLookUpX(\"男子B\",$A$7:$F$116,2,5)","v":{"$error":"#N/A"}},{"$f":"VLookUpX(\"男子B\",$A$7:$F$116,2,6)","v":{"$error":"#N/A"}},{"$f":"VLookUpX(\"男子B\",$C$7:$F$116,2,3)","v":{"$error":"#N/A"}},{"$f":"VLookUpX(\"男子B\",$C$7:$F$116,2,4)","v":{"$error":"#N/A"}},{"$f":"VLookUpX(\"女子B\",$A$7:$F$116,2,5)","v":{"$error":"#N/A"}},{"$f":"VLookUpX(\"女子B\",$A$7:$F$116,2,6)","v":{"$error":"#N/A"}},{"$f":"VLookUpX(\"女子B\",$C$7:$F$116,2,3)","v":{"$error":"#N/A"}},{"$f":"VLookUpX(\"女子B\",$C$7:$F$116,2,4)","v":{"$error":"#N/A"}}]
[0,{"$f":"陸連登録!N13","v":""},0,null,{"$f":"陸連登録!M13","v":0},{"$f":"陸連登録!C13","v":0},{"$f":"陸連登録!D13","v":0},0,{"$f":"陸連登録!A13","v":""},{"$f":"陸連登録!P13","v":0},{"$f":"LEFT(陸連登録!L13,4)","v":""},{"$f":"RIGHT(陸連登録!L13,4)","v":""},{"$f":"陸連登録!F13","v":23},{"$f":"陸連登録!B13","v":0},null,"",null,0,2,null,"",null,null,{"$f":"IF(W18=\"\",\"\",IF(I18=1,VLOOKUP(W18,男子種目コード!$D$2:$E$30,2,FALSE),IF(I18=2,VLOOKUP(W18,女子種目コード!$D$2:$E$30,2,FALSE))))","v":""},null,null,null,null,{"$f":"IF(AB18=\"\",\"\",IF(I18=1,VLOOKUP(AB18,男子種目コード!$A$82:$B$85,2,FALSE),IF(I18=2,VLOOKUP(AB18,女子種目コード!$A$82:$B$85,2,FALSE))))","v":""},null,0,2,null,{"$f":"IF(AG18=\"\",\"\",IF(I18=1,VLOOKUP(AG18,男子種目コード!$A$78:$B$81,2,FALSE),IF(I18=2,VLOOKUP(AG18,女子種目コード!$A$78:$B$81,2,FALSE))))","v":""},null,0,2,0,null,null,"走高跳","","",null,null,"",0,0,0,0,"走高跳","走高跳",null,0,0,"","","5000mW",{"$f":"COUNTIF($P$7:$P$116,12)+COUNTIF($U$7:$U$116,12)","v":0},12,"","","","","","","","",{"$f":"VLookUpX(\"男子B\",$A$7:$F$116,3,5)","v":{"$error":"#N/A"}},{"$f":"VLookUpX(\"男子B\",$A$7:$F$116,3,6)","v":{"$error":"#N/A"}},{"$f":"VLookUpX(\"男子B\",$C$7:$F$116,3,3)","v":{"$error":"#N/A"}},{"$f":"VLookUpX(\"男子B\",$C$7:$F$116,3,4)","v":{"$error":"#N/A"}},{"$f":"VLookUpX(\"女子B\",$A$7:$F$116,3,5)","v":{"$error":"#N/A"}},{"$f":"VLookUpX(\"女子B\",$A$7:$F$116,3,6)","v":{"$error":"#N/A"}},{"$f":"VLookUpX(\"女子B\",$C$7:$F$116,3,3)","v":{"$error":"#N/A"}},{"$f":"VLookUpX(\"女子B\",$C$7:$F$116,3,4)","v":{"$error":"#N/A"}}]
[0,{"$f":"陸連登録!N14","v":""},0,null,{"$f":"陸連登録!M14","v":0},{"$f":"陸連登録!C14","v":0},{"$f":"陸連登録!D14","v":0},0,{"$f":"陸連登録!A14","v":""},{"$f":"陸連登録!P14","v":0},{"$f":"LEFT(陸連登録!L14,4)","v":""},{"$f":"RIGHT(陸連登録!L14,4)","v":""},{"$f":"陸連登録!F14","v":23},{"$f":"陸連登録!B14","v":0},null,"",null,0,2,null,"",null,null,{"$f":"IF(W19=\"\",\"\",IF(I19=1,VLOOKUP(W19,男子種目コード!$D$2:$E$30,2,FALSE),IF(I19=2,VLOOKUP(W19,女子種目コード!$D$2:$E$30,2,FALSE))))","v":""},null,null,null,null,{"$f":"IF(AB19=\"\",\"\",IF(I19=1,VLOOKUP(AB19,男子種目コード!$A$82:$B$85,2,FALSE),IF(I19=2,VLOOKUP(AB19,女子種目コード!$A$82:$B$85,2,FALSE))))","v":""},null,0,2,null,{"$f":"IF(AG19=\"\",\"\",IF(I19=1,VLOOKUP(AG19,男子種目コード!$A$78:$B$81,2,FALSE),IF(I19=2,VLOOKUP(AG19,女子種目コード!$A$78:$B$81,2,FALSE))))","v":""},null,0,2,0,null,null,"棒高跳","","",null,null,"",0,0,0,0,"棒高跳","棒高跳",null,0,0,"","","走高跳",{"$f":"COUNTIF($P$7:$P$116,15)+COUNTIF($U$7:$U$116,15)","v":0},15,"","","","","","","","",{"$f":"VLookUpX(\"男子B\",$A$7:$F$116,4,5)","v":{"$error":"#N/A"}},{"$f":"VLookUpX(\"男子B\",$A$7:$F$116,4,6)","v":{"$error":"#N/A"}},{"$f":"VLookUpX(\"男子B\",$C$7:$F$116,4,3)","v":{"$error":"#N/A"}},{"$f":"VLookUpX(\"男子B\",$C$7:$F$116,4,4)","v":{"$error":"#N/A"}},{"$f":"VLookUpX(\"女子B\",$A$7:$F$116,4,5)","v":{"$error":"#N/A"}},{"$f":"VLookUpX(\"女子B\",$A$7:$F$116,4,6)","v":{"$error":"#N/A"}},{"$f":"VLookUpX(\"女子B\",$C$7:$F$116,4,3)","v":{"$error":"#N/A"}},{"$f":"VLookUpX(\"女子B\",$C$7:$F$116,4,4)","v":{"$error":"#N/A"}}]
[0,{"$f":"陸連登録!N15","v":""},0,null,{"$f":"陸連登録!M15","v":0},{"$f":"陸連登録!C15","v":0},{"$f":"陸連登録!D15","v":0},0,{"$f":"陸連登録!A15","v":""},{"$f":"陸連登録!P15","v":0},{"$f":"LEFT(陸連登録!L15,4)","v":""},{"$f":"RIGHT(陸連登録!L15,4)","v":""},{"$f":"陸連登録!F15","v":23},{"$f":"陸連登録!B15","v":0},null,"",null,0,2,null,"",null,null,{"$f":"IF(W20=\"\",\"\",IF(I20=1,VLOOKUP(W20,男子種目コード!$D$2:$E$30,2,FALSE),IF(I20=2,VLOOKUP(W20,女子種目コード!$D$2:$E$30,2,FALSE))))","v":""},null,null,null,null,{"$f":"IF(AB20=\"\",\"\",IF(I20=1,VLOOKUP(AB20,男子種目コード!$A$82:$B$85,2,FALSE),IF(I20=2,VLOOKUP(AB20,女子種目コード!$A$82:$B$85,2,FALSE))))","v":""},null,0,2,null,{"$f":"IF(AG20=\"\",\"\",IF(I20=1,VLOOKUP(AG20,男子種目コード!$A$78:$B$81,2,FALSE),IF(I20=2,VLOOKUP(AG20,女子種目コード!$A$78:$B$81,2,FALSE))))","v":""},null,0,2,0,null,null,"走幅跳","","",null,null,"",0,0,0,0,"走幅跳","走幅跳",null,0,0,"","","棒高跳",{"$f":"COUNTIF($P$7:$P$116,16)+COUNTIF($U$7:$U$116,16)","v":0},16,"","","","","","","","",{"$f":"VLookUpX(\"男子B\",$A$7:$F$116,5,5)","v":{"$error":"#N/A"}},{"$f":"VLookUpX(\"男子B\",$A$7:$F$116,5,6)","v":{"$error":"#N/A"}},{"$f":"VLookUpX(\"男子B\",$C$7:$F$116,5,3)","v":{"$error":"#N/A"}},{"$f":"VLookUpX(\"男子B\",$C$7:$F$116,5,4)","v":{"$error":"#N/A"}},{"$f":"VLookUpX(\"女子B\",$A$7:$F$116,5,5)","v":{"$error":"#N/A"}},{"$f":"VLookUpX(\"女子B\",$A$7:$F$116,5,6)","v":{"$error":"#N/A"}},{"$f":"VLookUpX(\"女子B\",$C$7:$F$116,5,3)","v":{"$error":"#N/A"}},{"$f":"VLookUpX(\"女子B\",$C$7:$F$116,5,4)","v":{"$error":"#N/A"}}]
[0,{"$f":"陸連登録!N16","v":""},0,null,{"$f":"陸連登録!M16","v":0},{"$f":"陸連登録!C16","v":0},{"$f":"陸連登録!D16","v":0},0,{"$f":"陸連登録!A16","v":""},{"$f":"陸連登録!P16","v":0},{"$f":"LEFT(陸連登録!L16,4)","v":""},{"$f":"RIGHT(陸連登録!L16,4)","v":""},{"$f":"陸連登録!F16","v":23},{"$f":"陸連登録!B16","v":0},null,"",null,0,2,null,"",null,null,{"$f":"IF(W21=\"\",\"\",IF(I21=1,VLOOKUP(W21,男子種目コード!$D$2:$E$30,2,FALSE),IF(I21=2,VLOOKUP(W21,女子種目コード!$D$2:$E$30,2,FALSE))))","v":""},null,null,null,null,{"$f":"IF(AB21=\"\",\"\",IF(I21=1,VLOOKUP(AB21,男子種目コード!$A$82:$B$85,2,FALSE),IF(I21=2,VLOOKUP(AB21,女子種目コード!$A$82:$B$85,2,FALSE))))","v":""},null,0,2,null,{"$f":"IF(AG21=\"\",\"\",IF(I21=1,VLOOKUP(AG21,男子種目コード!$A$78:$B$81,2,FALSE),IF(I21=2,VLOOKUP(AG21,女子種目コード!$A$78:$B$81,2,FALSE))))","v":""},null,0,2,0,null,null,"三段跳","","",null,null,"",0,0,0,0,"三段跳","三段跳",null,0,0,"","","走幅跳",{"$f":"COUNTIF($P$7:$P$116,17)+COUNTIF($U$7:$U$116,17)","v":0},17,"","","","","","","","",{"$f":"VLookUpX(\"男子B\",$A$7:$F$116,6,5)","v":{"$error":"#N/A"}},{"$f":"VLookUpX(\"男子B\",$A$7:$F$116,6,6)","v":{"$error":"#N/A"}},{"$f":"VLookUpX(\"男子B\",$C$7:$F$116,6,3)","v":{"$error":"#N/A"}},{"$f":"VLookUpX(\"男子B\",$C$7:$F$116,6,4)","v":{"$error":"#N/A"}},{"$f":"VLookUpX(\"女子B\",$A$7:$F$116,6,5)","v":{"$error":"#N/A"}},{"$f":"VLookUpX(\"女子B\",$A$7:$F$116,6,6)","v":{"$error":"#N/A"}},{"$f":"VLookUpX(\"女子B\",$C$7:$F$116,6,3)","v":{"$error":"#N/A"}},{"$f":"VLookUpX(\"女子B\",$C$7:$F$116,6,4)","v":{"$error":"#N/A"}}]
[0,{"$f":"陸連登録!N17","v":""},0,null,{"$f":"陸連登録!M17","v":0},{"$f":"陸連登録!C17","v":0},{"$f":"陸連登録!D17","v":0},0,{"$f":"陸連登録!A17","v":""},{"$f":"陸連登録!P17","v":0},{"$f":"LEFT(陸連登録!L17,4)","v":""},{"$f":"RIGHT(陸連登録!L17,4)","v":""},{"$f":"陸連登録!F17","v":23},{"$f":"陸連登録!B17","v":0},null,"",null,0,2,null,"",null,null,{"$f":"IF(W22=\"\",\"\",IF(I22=1,VLOOKUP(W22,男子種目コード!$D$2:$E$30,2,FALSE),IF(I22=2,VLOOKUP(W22,女子種目コード!$D$2:$E$30,2,FALSE))))","v":""},null,null,null,null,{"$f":"IF(AB22=\"\",\"\",IF(I22=1,VLOOKUP(AB22,男子種目コード!$A$82:$B$85,2,FALSE),IF(I22=2,VLOOKUP(AB22,女子種目コード!$A$82:$B$85,2,FALSE))))","v":""},null,0,2,null,{"$f":"IF(AG22=\"\",\"\",IF(I22=1,VLOOKUP(AG22,男子種目コード!$A$78:$B$81,2,FALSE),IF(I22=2,VLOOKUP(AG22,女子種目コード!$A$78:$B$81,2,FALSE))))","v":""},null,0,2,0,null,null,"砲丸投","","",null,null,"",0,0,0,0,"砲丸投","砲丸投",null,0,0,"","","三段跳",{"$f":"COUNTIF($P$7:$P$116,18)+COUNTIF($U$7:$U$116,18)","v":0},18,"男子4×100mR　Ｃ",null,"男子4×400mR　Ｃ",null,"女子4×100mR　Ｃ",null,"女子4×400mR　Ｃ"]
[0,{"$f":"陸連登録!N18","v":""},0,null,{"$f":"陸連登録!M18","v":0},{"$f":"陸連登録!C18","v":0},{"$f":"陸連登録!D18","v":0},0,{"$f":"陸連登録!A18","v":""},{"$f":"陸連登録!P18","v":0},{"$f":"LEFT(陸連登録!L18,4)","v":""},{"$f":"RIGHT(陸連登録!L18,4)","v":""},{"$f":"陸連登録!F18","v":23},{"$f":"陸連登録!B18","v":0},null,"",null,0,2,null,"",null,null,{"$f":"IF(W23=\"\",\"\",IF(I23=1,VLOOKUP(W23,男子種目コード!$D$2:$E$30,2,FALSE),IF(I23=2,VLOOKUP(W23,女子種目コード!$D$2:$E$30,2,FALSE))))","v":""},null,null,null,null,{"$f":"IF(AB23=\"\",\"\",IF(I23=1,VLOOKUP(AB23,男子種目コード!$A$82:$B$85,2,FALSE),IF(I23=2,VLOOKUP(AB23,女子種目コード!$A$82:$B$85,2,FALSE))))","v":""},null,0,2,null,{"$f":"IF(AG23=\"\",\"\",IF(I23=1,VLOOKUP(AG23,男子種目コード!$A$78:$B$81,2,FALSE),IF(I23=2,VLOOKUP(AG23,女子種目コード!$A$78:$B$81,2,FALSE))))","v":""},null,0,2,0,null,null,"円盤投","","",null,null,"",0,0,0,0,"少年砲丸投","円盤投",null,0,0,"","","砲丸投",{"$f":"COUNTIF($P$7:$P$116,19)+COUNTIF($U$7:$U$116,19)","v":0},19,"記録",null,"記録",null,"記録",null,"記録"]
[0,{"$f":"陸連登録!N19","v":""},0,null,{"$f":"陸連登録!M19","v":0},{"$f":"陸連登録!C19","v":0},{"$f":"陸連登録!D19","v":0},0,{"$f":"陸連登録!A19","v":""},{"$f":"陸連登録!P19","v":0},{"$f":"LEFT(陸連登録!L19,4)","v":""},{"$f":"RIGHT(陸連登録!L19,4)","v":""},{"$f":"陸連登録!F19","v":23},{"$f":"陸連登録!B19","v":0},null,"",null,0,2,null,"",null,null,{"$f":"IF(W24=\"\",\"\",IF(I24=1,VLOOKUP(W24,男子種目コード!$D$2:$E$30,2,FALSE),IF(I24=2,VLOOKUP(W24,女子種目コード!$D$2:$E$30,2,FALSE))))","v":""},null,null,null,null,{"$f":"IF(AB24=\"\",\"\",IF(I24=1,VLOOKUP(AB24,男子種目コード!$A$82:$B$85,2,FALSE),IF(I24=2,VLOOKUP(AB24,女子種目コード!$A$82:$B$85,2,FALSE))))","v":""},null,0,2,null,{"$f":"IF(AG24=\"\",\"\",IF(I24=1,VLOOKUP(AG24,男子種目コード!$A$78:$B$81,2,FALSE),IF(I24=2,VLOOKUP(AG24,女子種目コード!$A$78:$B$81,2,FALSE))))","v":""},null,0,2,0,null,null,"ハンマー投","","",null,null,"",0,0,0,0,"円盤投","ハンマー投",null,0,0,"","","円盤投",{"$f":"COUNTIF($P$7:$P$116,20)+COUNTIF($U$7:$U$116,20)","v":0},20,{"$f":"IF(ISERROR(BQ24),\"\",BQ24)","v":""},{"$f":"IF(ISERROR(BR24),\"\",BR24)","v":""},{"$f":"IF(ISERROR(BS24),\"\",BS24)","v":""},{"$f":"IF(ISERROR(BT24),\"\",BT24)","v":""},{"$f":"IF(ISERROR(BU24),\"\",BU24)","v":""},{"$f":"IF(ISERROR(BV24),\"\",BV24)","v":""},{"$f":"IF(ISERROR(BW24),\"\",BW24)","v":""},{"$f":"IF(ISERROR(BX24),\"\",BX24)","v":""},{"$f":"VLookUpX(\"男子C\",$A$7:$F$116,1,5)","v":{"$error":"#N/A"}},{"$f":"VLookUpX(\"男子C\",$A$7:$F$116,1,6)","v":{"$error":"#N/A"}},{"$f":"VLookUpX(\"男子C\",$C$7:$F$116,1,3)","v":{"$error":"#N/A"}},{"$f":"VLookUpX(\"男子C\",$C$7:$F$116,1,4)","v":{"$error":"#N/A"}},{"$f":"VLookUpX(\"女子C\",$A$7:$F$116,1,5)","v":{"$error":"#N/A"}},{"$f":"VLookUpX(\"女子C\",$A$7:$F$116,1,6)","v":{"$error":"#N/A"}},{"$f":"VLookUpX(\"女子C\",$C$7:$F$116,1,3)","v":{"$error":"#N/A"}},{"$f":"VLookUpX(\"女子C\",$C$7:$F$116,1,4)","v":{"$error":"#N/A"}},{"$f":"IF(BI24=\"\",\"\",1)","v":""},{"$f":"IF(BK24=\"\",\"\",1)","v":""},{"$f":"IF(BM24=\"\",\"\",1)","v":""},{"$f":"IF(BO24=\"\",\"\",1)","v":""}]
[0,{"$f":"陸連登録!N20","v":""},0,null,{"$f":"陸連登録!M20","v":0},{"$f":"陸連登録!C20","v":0},{"$f":"陸連登録!D20","v":0},0,{"$f":"陸連登録!A20","v":""},{"$f":"陸連登録!P20","v":0},{"$f":"LEFT(陸連登録!L20,4)","v":""},{"$f":"RIGHT(陸連登録!L20,4)","v":""},{"$f":"陸連登録!F20","v":23},{"$f":"陸連登録!B20","v":0},null,"",null,0,2,null,"",null,null,{"$f":"IF(W25=\"\",\"\",IF(I25=1,VLOOKUP(W25,男子種目コード!$D$2:$E$30,2,FALSE),IF(I25=2,VLOOKUP(W25,女子種目コード!$D$2:$E$30,2,FALSE))))","v":""},null,null,null,null,{"$f":"IF(AB25=\"\",\"\",IF(I25=1,VLOOKUP(AB25,男子種目コード!$A$82:$B$85,2,FALSE),IF(I25=2,VLOOKUP(AB25,女子種目コード!$A$82:$B$85,2,FALSE))))","v":""},null,0,2,null,{"$f":"IF(AG25=\"\",\"\",IF(I25=1,VLOOKUP(AG25,男子種目コード!$A$78:$B$81,2,FALSE),IF(I25=2,VLOOKUP(AG25,女子種目コード!$A$78:$B$81,2,FALSE))))","v":""},null,0,2,0,null,null,"やり投","","",null,null,"",0,0,0,0,"少年円盤投","やり投",null,0,0,"","","ハンマー投",{"$f":"COUNTIF($P$7:$P$116,21)+COUNTIF($U$7:$U$116,21)","v":0},21,"","","","","","","","",{"$f":"VLookUpX(\"男子C\",$A$7:$F$116,2,5)","v":{"$error":"#N/A"}},{"$f":"VLookUpX(\"男子C\",$A$7:$F$116,2,6)","v":{"$error":"#N/A"}},{"$f":"VLookUpX(\"男子C\",$C$7:$F$116,2,3)","v":{"$error":"#N/A"}},{"$f":"VLookUpX(\"男子C\",$C$7:$F$116,2,4)","v":{"$error":"#N/A"}},{"$f":"VLookUpX(\"女子C\",$A$7:$F$116,2,5)","v":{"$error":"#N/A"}},{"$f":"VLookUpX(\"女子C\",$A$7:$F$116,2,6)","v":{"$error":"#N/A"}},{"$f":"VLookUpX(\"女子C\",$C$7:$F$116,2,3)","v":{"$error":"#N/A"}},{"$f":"VLookUpX(\"女子C\",$C$7:$F$116,2,4)","v":{"$error":"#N/A"}}]
[0,{"$f":"陸連登録!N21","v":""},0,null,{"$f":"陸連登録!M21","v":0},{"$f":"陸連登録!C21","v":0},{"$f":"陸連登録!D21","v":0},0,{"$f":"陸連登録!A21","v":""},{"$f":"陸連登録!P21","v":0},{"$f":"LEFT(陸連登録!L21,4)","v":""},{"$f":"RIGHT(陸連登録!L21,4)","v":""},{"$f":"陸連登録!F21","v":23},{"$f":"陸連登録!B21","v":0},null,"",null,0,2,null,"",null,null,{"$f":"IF(W26=\"\",\"\",IF(I26=1,VLOOKUP(W26,男子種目コード!$D$2:$E$30,2,FALSE),IF(I26=2,VLOOKUP(W26,女子種目コード!$D$2:$E$30,2,FALSE))))","v":""},null,null,null,null,{"$f":"IF(AB26=\"\",\"\",IF(I26=1,VLOOKUP(AB26,男子種目コード!$A$82:$B$85,2,FALSE),IF(I26=2,VLOOKUP(AB26,女子種目コード!$A$82:$B$85,2,FALSE))))","v":""},null,0,2,null,{"$f":"IF(AG26=\"\",\"\",IF(I26=1,VLOOKUP(AG26,男子種目コード!$A$78:$B$81,2,FALSE),IF(I26=2,VLOOKUP(AG26,女子種目コード!$A$78:$B$81,2,FALSE))))","v":""},null,0,2,0,null,null,"少年3000","","",null,null,"",0,0,0,0,"ハンマー投",null,null,0,0,"","","やり投",{"$f":"COUNTIF($P$7:$P$116,22)+COUNTIF($U$7:$U$116,22)","v":0},22,"","","","","","","","",{"$f":"VLookUpX(\"男子C\",$A$7:$F$116,3,5)","v":{"$error":"#N/A"}},{"$f":"VLookUpX(\"男子C\",$A$7:$F$116,3,6)","v":{"$error":"#N/A"}},{"$f":"VLookUpX(\"男子C\",$C$7:$F$116,3,3)","v":{"$error":"#N/A"}},{"$f":"VLookUpX(\"男子C\",$C$7:$F$116,3,4)","v":{"$error":"#N/A"}},{"$f":"VLookUpX(\"女子C\",$A$7:$F$116,3,5)","v":{"$error":"#N/A"}},{"$f":"VLookUpX(\"女子C\",$A$7:$F$116,3,6)","v":{"$error":"#N/A"}},{"$f":"VLookUpX(\"女子C\",$C$7:$F$116,3,3)","v":{"$error":"#N/A"}},{"$f":"VLookUpX(\"女子C\",$C$7:$F$116,3,4)","v":{"$error":"#N/A"}}]
[0,{"$f":"陸連登録!N22","v":""},0,null,{"$f":"陸連登録!M22","v":0},{"$f":"陸連登録!C22","v":0},{"$f":"陸連登録!D22","v":0},0,{"$f":"陸連登録!A22","v":""},{"$f":"陸連登録!P22","v":0},{"$f":"LEFT(陸連登録!L22,4)","v":""},{"$f":"RIGHT(陸連登録!L22,4)","v":""},{"$f":"陸連登録!F22","v":23},{"$f":"陸連登録!B22","v":0},null,"",null,0,2,null,"",null,null,{"$f":"IF(W27=\"\",\"\",IF(I27=1,VLOOKUP(W27,男子種目コード!$D$2:$E$30,2,FALSE),IF(I27=2,VLOOKUP(W27,女子種目コード!$D$2:$E$30,2,FALSE))))","v":""},null,null,null,null,{"$f":"IF(AB27=\"\",\"\",IF(I27=1,VLOOKUP(AB27,男子種目コード!$A$82:$B$85,2,FALSE),IF(I27=2,VLOOKUP(AB27,女子種目コード!$A$82:$B$85,2,FALSE))))","v":""},null,0,2,null,{"$f":"IF(AG27=\"\",\"\",IF(I27=1,VLOOKUP(AG27,男子種目コード!$A$78:$B$81,2,FALSE),IF(I27=2,VLOOKUP(AG27,女子種目コード!$A$78:$B$81,2,FALSE))))","v":""},null,0,2,0,null,null,"少年B100H","","",null,null,"",0,0,0,0,"少年ハンマー投",null,null,0,0,"","","少年3000m",{"$f":"COUNTIF($P$7:$P$116,24)+COUNTIF($U$7:$U$116,24)","v":0},24,"","","","","","","","",{"$f":"VLookUpX(\"男子C\",$A$7:$F$116,4,5)","v":{"$error":"#N/A"}},{"$f":"VLookUpX(\"男子C\",$A$7:$F$116,4,6)","v":{"$error":"#N/A"}},{"$f":"VLookUpX(\"男子C\",$C$7:$F$116,4,3)","v":{"$error":"#N/A"}},{"$f":"VLookUpX(\"男子C\",$C$7:$F$116,4,4)","v":{"$error":"#N/A"}},{"$f":"VLookUpX(\"女子C\",$A$7:$F$116,4,5)","v":{"$error":"#N/A"}},{"$f":"VLookUpX(\"女子C\",$A$7:$F$116,4,6)","v":{"$error":"#N/A"}},{"$f":"VLookUpX(\"女子C\",$C$7:$F$116,4,3)","v":{"$error":"#N/A"}},{"$f":"VLookUpX(\"女子C\",$C$7:$F$116,4,4)","v":{"$error":"#N/A"}}]
[0,{"$f":"陸連登録!N23","v":""},0,null,{"$f":"陸連登録!M23","v":0},{"$f":"陸連登録!C23","v":0},{"$f":"陸連登録!D23","v":0},0,{"$f":"陸連登録!A23","v":""},{"$f":"陸連登録!P23","v":0},{"$f":"LEFT(陸連登録!L23,4)","v":""},{"$f":"RIGHT(陸連登録!L23,4)","v":""},{"$f":"陸連登録!F23","v":23},{"$f":"陸連登録!B23","v":0},null,"",null,0,2,null,"",null,null,{"$f":"IF(W28=\"\",\"\",IF(I28=1,VLOOKUP(W28,男子種目コード!$D$2:$E$30,2,FALSE),IF(I28=2,VLOOKUP(W28,女子種目コード!$D$2:$E$30,2,FALSE))))","v":""},null,null,null,null,{"$f":"IF(AB28=\"\",\"\",IF(I28=1,VLOOKUP(AB28,男子種目コード!$A$82:$B$85,2,FALSE),IF(I28=2,VLOOKUP(AB28,女子種目コード!$A$82:$B$85,2,FALSE))))","v":""},null,0,2,null,{"$f":"IF(AG28=\"\",\"\",IF(I28=1,VLOOKUP(AG28,男子種目コード!$A$78:$B$81,2,FALSE),IF(I28=2,VLOOKUP(AG28,女子種目コード!$A$78:$B$81,2,FALSE))))","v":""},null,0,2,0,null,null,"少年B110JH","","",null,null,"",0,0,0,0,"やり投",null,null,0,0,"","","少年砲丸投",{"$f":"COUNTIF($P$7:$P$116,25)+COUNTIF($U$7:$U$116,25)","v":0},25,"","","","","","","","",{"$f":"VLookUpX(\"男子C\",$A$7:$F$116,5,5)","v":{"$error":"#N/A"}},{"$f":"VLookUpX(\"男子C\",$A$7:$F$116,5,6)","v":{"$error":"#N/A"}},{"$f":"VLookUpX(\"男子C\",$C$7:$F$116,5,3)","v":{"$error":"#N/A"}},{"$f":"VLookUpX(\"男子C\",$C$7:$F$116,5,4)","v":{"$error":"#N/A"}},{"$f":"VLookUpX(\"女子C\",$A$7:$F$116,5,5)","v":{"$error":"#N/A"}},{"$f":"VLookUpX(\"女子C\",$A$7:$F$116,5,6)","v":{"$error":"#N/A"}},{"$f":"VLookUpX(\"女子C\",$C$7:$F$116,5,3)","v":{"$error":"#N/A"}},{"$f":"VLookUpX(\"女子C\",$C$7:$F$116,5,4)","v":{"$error":"#N/A"}}]
[0,{"$f":"陸連登録!N24","v":""},0,null,{"$f":"陸連登録!M24","v":0},{"$f":"陸連登録!C24","v":0},{"$f":"陸連登録!D24","v":0},0,{"$f":"陸連登録!A24","v":""},{"$f":"陸連登録!P24","v":0},{"$f":"LEFT(陸連登録!L24,4)","v":""},{"$f":"RIGHT(陸連登録!L24,4)","v":""},{"$f":"陸連登録!F24","v":23},{"$f":"陸連登録!B24","v":0},null,"",null,0,2,null,"",null,null,{"$f":"IF(W29=\"\",\"\",IF(I29=1,VLOOKUP(W29,男子種目コード!$D$2:$E$30,2,FALSE),IF(I29=2,VLOOKUP(W29,女子種目コード!$D$2:$E$30,2,FALSE))))","v":""},null,null,null,null,{"$f":"IF(AB29=\"\",\"\",IF(I29=1,VLOOKUP(AB29,男子種目コード!$A$82:$B$85,2,FALSE),IF(I29=2,VLOOKUP(AB29,女子種目コード!$A$82:$B$85,2,FALSE))))","v":""},null,0,2,null,{"$f":"IF(AG29=\"\",\"\",IF(I29=1,VLOOKUP(AG29,男子種目コード!$A$78:$B$81,2,FALSE),IF(I29=2,VLOOKUP(AG29,女子種目コード!$A$78:$B$81,2,FALSE))))","v":""},null,0,2,0,null,null,"少年砲丸投","","",null,null,"",0,0,0,0,null,null,null,0,0,"","","少年円盤投",{"$f":"COUNTIF($P$7:$P$116,26)+COUNTIF($U$7:$U$116,26)","v":0},26,"","","","","","","","",{"$f":"VLookUpX(\"男子C\",$A$7:$F$116,6,5)","v":{"$error":"#N/A"}},{"$f":"VLookUpX(\"男子C\",$A$7:$F$116,6,6)","v":{"$error":"#N/A"}},{"$f":"VLookUpX(\"男子C\",$C$7:$F$116,6,3)","v":{"$error":"#N/A"}},{"$f":"VLookUpX(\"男子C\",$C$7:$F$116,6,4)","v":{"$error":"#N/A"}},{"$f":"VLookUpX(\"女子C\",$A$7:$F$116,6,5)","v":{"$error":"#N/A"}},{"$f":"VLookUpX(\"女子C\",$A$7:$F$116,6,6)","v":{"$error":"#N/A"}},{"$f":"VLookUpX(\"女子C\",$C$7:$F$116,6,3)","v":{"$error":"#N/A"}},{"$f":"VLookUpX(\"女子C\",$C$7:$F$116,6,4)","v":{"$error":"#N/A"}}]
[0,{"$f":"陸連登録!N25","v":""},0,null,{"$f":"陸連登録!M25","v":0},{"$f":"陸連登録!C25","v":0},{"$f":"陸連登録!D25","v":0},0,{"$f":"陸連登録!A25","v":""},{"$f":"陸連登録!P25","v":0},{"$f":"LEFT(陸連登録!L25,4)","v":""},{"$f":"RIGHT(陸連登録!L25,4)","v":""},{"$f":"陸連登録!F25","v":23},{"$f":"陸連登録!B25","v":0},null,"",null,0,2,null,"",null,null,{"$f":"IF(W30=\"\",\"\",IF(I30=1,VLOOKUP(W30,男子種目コード!$D$2:$E$30,2,FALSE),IF(I30=2,VLOOKUP(W30,女子種目コード!$D$2:$E$30,2,FALSE))))","v":""},null,null,null,null,{"$f":"IF(AB30=\"\",\"\",IF(I30=1,VLOOKUP(AB30,男子種目コード!$A$82:$B$85,2,FALSE),IF(I30=2,VLOOKUP(AB30,女子種目コード!$A$82:$B$85,2,FALSE))))","v":""},null,0,2,null,{"$f":"IF(AG30=\"\",\"\",IF(I30=1,VLOOKUP(AG30,男子種目コード!$A$78:$B$81,2,FALSE),IF(I30=2,VLOOKUP(AG30,女子種目コード!$A$78:$B$81,2,FALSE))))","v":""},null,0,2,0,null,null,"少年円盤投","","",null,null,"",0,0,0,0,100,100,null,0,0,"","","少年ハンマー投",{"$f":"COUNTIF($P$7:$P$116,27)+COUNTIF($U$7:$U$116,27)","v":0},27,"男子4×100mR　Ｄ",null,"男子4×400mR　Ｄ",null,"女子4×100mR　Ｄ",null,"女子4×400mR　Ｄ"]
[0,{"$f":"陸連登録!N26","v":""},0,null,{"$f":"陸連登録!M26","v":0},{"$f":"陸連登録!C26","v":0},{"$f":"陸連登録!D26","v":0},0,{"$f":"陸連登録!A26","v":""},{"$f":"陸連登録!P26","v":0},{"$f":"LEFT(陸連登録!L26,4)","v":""},{"$f":"RIGHT(陸連登録!L26,4)","v":""},{"$f":"陸連登録!F26","v":23},{"$f":"陸連登録!B26","v":0},null,"",null,0,2,null,"",null,null,{"$f":"IF(W31=\"\",\"\",IF(I31=1,VLOOKUP(W31,男子種目コード!$D$2:$E$30,2,FALSE),IF(I31=2,VLOOKUP(W31,女子種目コード!$D$2:$E$30,2,FALSE))))","v":""},null,null,null,null,{"$f":"IF(AB31=\"\",\"\",IF(I31=1,VLOOKUP(AB31,男子種目コード!$A$82:$B$85,2,FALSE),IF(I31=2,VLOOKUP(AB31,女子種目コード!$A$82:$B$85,2,FALSE))))","v":""},null,0,2,null,{"$f":"IF(AG31=\"\",\"\",IF(I31=1,VLOOKUP(AG31,男子種目コード!$A$78:$B$81,2,FALSE),IF(I31=2,VLOOKUP(AG31,女子種目コード!$A$78:$B$81,2,FALSE))))","v":""},null,0,2,0,null,null,"少年ハンマー投","","",null,null,"",0,0,0,0,200,200,null,0,0,"","","少年B100m",{"$f":"COUNTIF($P$7:$P$116,28)+COUNTIF($U$7:$U$116,28)","v":0},28,"記録",null,"記録",null,"記録",null,"記録"]
[0,{"$f":"陸連登録!N27","v":""},0,null,{"$f":"陸連登録!M27","v":0},{"$f":"陸連登録!C27","v":0},{"$f":"陸連登録!D27","v":0},0,{"$f":"陸連登録!A27","v":""},{"$f":"陸連登録!P27","v":0},{"$f":"LEFT(陸連登録!L27,4)","v":""},{"$f":"RIGHT(陸連登録!L27,4)","v":""},{"$f":"陸連登録!F27","v":23},{"$f":"陸連登録!B27","v":0},null,"",null,0,2,null,"",null,null,{"$f":"IF(W32=\"\",\"\",IF(I32=1,VLOOKUP(W32,男子種目コード!$D$2:$E$30,2,FALSE),IF(I32=2,VLOOKUP(W32,女子種目コード!$D$2:$E$30,2,FALSE))))","v":""},null,null,null,null,{"$f":"IF(AB32=\"\",\"\",IF(I32=1,VLOOKUP(AB32,男子種目コード!$A$82:$B$85,2,FALSE),IF(I32=2,VLOOKUP(AB32,女子種目コード!$A$82:$B$85,2,FALSE))))","v":""},null,0,2,null,{"$f":"IF(AG32=\"\",\"\",IF(I32=1,VLOOKUP(AG32,男子種目コード!$A$78:$B$81,2,FALSE),IF(I32=2,VLOOKUP(AG32,女子種目コード!$A$78:$B$81,2,FALSE))))","v":""},null,0,2,0,null,null,"男子A","","",null,null,"",0,0,0,0,400,400,null,0,0,"","","少年B砲丸投",{"$f":"COUNTIF($P$7:$P$116,29)+COUNTIF($U$7:$U$116,29)","v":0},29,{"$f":"IF(ISERROR(BQ32),\"\",BQ32)","v":""},{"$f":"IF(ISERROR(BR32),\"\",BR32)","v":""},{"$f":"IF(ISERROR(BS32),\"\",BS32)","v":""},{"$f":"IF(ISERROR(BT32),\"\",BT32)","v":""},{"$f":"IF(ISERROR(BU32),\"\",BU32)","v":""},{"$f":"IF(ISERROR(BV32),\"\",BV32)","v":""},{"$f":"IF(ISERROR(BW32),\"\",BW32)","v":""},{"$f":"IF(ISERROR(BX32),\"\",BX32)","v":""},{"$f":"VLookUpX(\"男子D\",$A$7:$F$116,1,5)","v":{"$error":"#N/A"}},{"$f":"VLookUpX(\"男子D\",$A$7:$F$116,1,6)","v":{"$error":"#N/A"}},{"$f":"VLookUpX(\"男子D\",$C$7:$F$116,1,3)","v":{"$error":"#N/A"}},{"$f":"VLookUpX(\"男子D\",$C$7:$F$116,1,4)","v":{"$error":"#N/A"}},{"$f":"VLookUpX(\"女子D\",$A$7:$F$116,1,5)","v":{"$error":"#N/A"}},{"$f":"VLookUpX(\"女子D\",$A$7:$F$116,1,6)","v":{"$error":"#N/A"}},{"$f":"VLookUpX(\"女子D\",$C$7:$F$116,1,3)","v":{"$error":"#N/A"}},{"$f":"VLookUpX(\"女子D\",$C$7:$F$116,1,4)","v":{"$error":"#N/A"}},{"$f":"IF(BI32=\"\",\"\",1)","v":""},{"$f":"IF(BK32=\"\",\"\",1)","v":""},{"$f":"IF(BM32=\"\",\"\",1)","v":""},{"$f":"IF(BO32=\"\",\"\",1)","v":""}]
[0,{"$f":"陸連登録!N28","v":""},0,null,{"$f":"陸連登録!M28","v":0},{"$f":"陸連登録!C28","v":0},{"$f":"陸連登録!D28","v":0},0,{"$f":"陸連登録!A28","v":""},{"$f":"陸連登録!P28","v":0},{"$f":"LEFT(陸連登録!L28,4)","v":""},{"$f":"RIGHT(陸連登録!L28,4)","v":""},{"$f":"陸連登録!F28","v":23},{"$f":"陸連登録!B28","v":0},null,"",null,0,2,null,"",null,null,{"$f":"IF(W33=\"\",\"\",IF(I33=1,VLOOKUP(W33,男子種目コード!$D$2:$E$30,2,FALSE),IF(I33=2,VLOOKUP(W33,女子種目コード!$D$2:$E$30,2,FALSE))))","v":""},null,null,null,null,{"$f":"IF(AB33=\"\",\"\",IF(I33=1,VLOOKUP(AB33,男子種目コード!$A$82:$B$85,2,FALSE),IF(I33=2,VLOOKUP(AB33,女子種目コード!$A$82:$B$85,2,FALSE))))","v":""},null,0,2,null,{"$f":"IF(AG33=\"\",\"\",IF(I33=1,VLOOKUP(AG33,男子種目コード!$A$78:$B$81,2,FALSE),IF(I33=2,VLOOKUP(AG33,女子種目コード!$A$78:$B$81,2,FALSE))))","v":""},null,0,2,0,null,null,"男子B","","",null,null,"",0,0,0,0,800,800,null,0,0,"","","少年B走幅跳",{"$f":"COUNTIF($P$7:$P$116,30)+COUNTIF($U$7:$U$116,30)","v":0},30,"","","","","","","","",{"$f":"VLookUpX(\"男子D\",$A$7:$F$116,2,5)","v":{"$error":"#N/A"}},{"$f":"VLookUpX(\"男子D\",$A$7:$F$116,2,6)","v":{"$error":"#N/A"}},{"$f":"VLookUpX(\"男子D\",$C$7:$F$116,2,3)","v":{"$error":"#N/A"}},{"$f":"VLookUpX(\"男子D\",$C$7:$F$116,2,4)","v":{"$error":"#N/A"}},{"$f":"VLookUpX(\"女子D\",$A$7:$F$116,2,5)","v":{"$error":"#N/A"}},{"$f":"VLookUpX(\"女子D\",$A$7:$F$116,2,6)","v":{"$error":"#N/A"}},{"$f":"VLookUpX(\"女子D\",$C$7:$F$116,2,3)","v":{"$error":"#N/A"}},{"$f":"VLookUpX(\"女子D\",$C$7:$F$116,2,4)","v":{"$error":"#N/A"}}]
[0,{"$f":"陸連登録!N29","v":""},0,null,{"$f":"陸連登録!M29","v":0},{"$f":"陸連登録!C29","v":0},{"$f":"陸連登録!D29","v":0},0,{"$f":"陸連登録!A29","v":""},{"$f":"陸連登録!P29","v":0},{"$f":"LEFT(陸連登録!L29,4)","v":""},{"$f":"RIGHT(陸連登録!L29,4)","v":""},{"$f":"陸連登録!F29","v":23},{"$f":"陸連登録!B29","v":0},null,"",null,0,2,null,"",null,null,{"$f":"IF(W34=\"\",\"\",IF(I34=1,VLOOKUP(W34,男子種目コード!$D$2:$E$30,2,FALSE),IF(I34=2,VLOOKUP(W34,女子種目コード!$D$2:$E$30,2,FALSE))))","v":""},null,null,null,null,{"$f":"IF(AB34=\"\",\"\",IF(I34=1,VLOOKUP(AB34,男子種目コード!$A$82:$B$85,2,FALSE),IF(I34=2,VLOOKUP(AB34,女子種目コード!$A$82:$B$85,2,FALSE))))","v":""},null,0,2,null,{"$f":"IF(AG34=\"\",\"\",IF(I34=1,VLOOKUP(AG34,男子種目コード!$A$78:$B$81,2,FALSE),IF(I34=2,VLOOKUP(AG34,女子種目コード!$A$78:$B$81,2,FALSE))))","v":""},null,0,2,0,null,null,"男子C","","",null,null,"",0,0,0,0,1500,1500,null,0,0,"","","少年B110mJh",null,31,"","","","","","","","",{"$f":"VLookUpX(\"男子D\",$A$7:$F$116,3,5)","v":{"$error":"#N/A"}},{"$f":"VLookUpX(\"男子D\",$A$7:$F$116,3,6)","v":{"$error":"#N/A"}},{"$f":"VLookUpX(\"男子D\",$C$7:$F$116,3,3)","v":{"$error":"#N/A"}},{"$f":"VLookUpX(\"男子D\",$C$7:$F$116,3,4)","v":{"$error":"#N/A"}},{"$f":"VLookUpX(\"女子D\",$A$7:$F$116,3,5)","v":{"$error":"#N/A"}},{"$f":"VLookUpX(\"女子D\",$A$7:$F$116,3,6)","v":{"$error":"#N/A"}},{"$f":"VLookUpX(\"女子D\",$C$7:$F$116,3,3)","v":{"$error":"#N/A"}},{"$f":"VLookUpX(\"女子D\",$C$7:$F$116,3,4)","v":{"$error":"#N/A"}}]
[0,{"$f":"陸連登録!N30","v":""},0,null,{"$f":"陸連登録!M30","v":0},{"$f":"陸連登録!C30","v":0},{"$f":"陸連登録!D30","v":0},0,{"$f":"陸連登録!A30","v":""},{"$f":"陸連登録!P30","v":0},{"$f":"LEFT(陸連登録!L30,4)","v":""},{"$f":"RIGHT(陸連登録!L30,4)","v":""},{"$f":"陸連登録!F30","v":23},{"$f":"陸連登録!B30","v":0},null,"",null,0,2,null,"",null,null,{"$f":"IF(W35=\"\",\"\",IF(I35=1,VLOOKUP(W35,男子種目コード!$D$2:$E$30,2,FALSE),IF(I35=2,VLOOKUP(W35,女子種目コード!$D$2:$E$30,2,FALSE))))","v":""},null,null,null,null,{"$f":"IF(AB35=\"\",\"\",IF(I35=1,VLOOKUP(AB35,男子種目コード!$A$82:$B$85,2,FALSE),IF(I35=2,VLOOKUP(AB35,女子種目コード!$A$82:$B$85,2,FALSE))))","v":""},null,0,2,null,{"$f":"IF(AG35=\"\",\"\",IF(I35=1,VLOOKUP(AG35,男子種目コード!$A$78:$B$81,2,FALSE),IF(I35=2,VLOOKUP(AG35,女子種目コード!$A$78:$B$81,2,FALSE))))","v":""},null,0,2,0,null,null,"女子A","","",null,null,"",0,0,0,0,"少年3000","少年3000",null,0,0,"","","計",{"$f":"SUM(BG8:BG32)","v":0},null,"","","","","","","","",{"$f":"VLookUpX(\"男子D\",$A$7:$F$116,4,5)","v":{"$error":"#N/A"}},{"$f":"VLookUpX(\"男子D\",$A$7:$F$116,4,6)","v":{"$error":"#N/A"}},{"$f":"VLookUpX(\"男子D\",$C$7:$F$116,4,3)","v":{"$error":"#N/A"}},{"$f":"VLookUpX(\"男子D\",$C$7:$F$116,4,4)","v":{"$error":"#N/A"}},{"$f":"VLookUpX(\"女子D\",$A$7:$F$116,4,5)","v":{"$error":"#N/A"}},{"$f":"VLookUpX(\"女子D\",$A$7:$F$116,4,6)","v":{"$error":"#N/A"}},{"$f":"VLookUpX(\"女子D\",$C$7:$F$116,4,3)","v":{"$error":"#N/A"}},{"$f":"VLookUpX(\"女子D\",$C$7:$F$116,4,4)","v":{"$error":"#N/A"}}]
[0,{"$f":"陸連登録!N31","v":""},0,null,{"$f":"陸連登録!M31","v":0},{"$f":"陸連登録!C31","v":0},{"$f":"陸連登録!D31","v":0},0,{"$f":"陸連登録!A31","v":""},{"$f":"陸連登録!P31","v":0},{"$f":"LEFT(陸連登録!L31,4)","v":""},{"$f":"RIGHT(陸連登録!L31,4)","v":""},{"$f":"陸連登録!F31","v":23},{"$f":"陸連登録!B31","v":0},null,"",null,0,2,null,"",null,null,{"$f":"IF(W36=\"\",\"\",IF(I36=1,VLOOKUP(W36,男子種目コード!$D$2:$E$30,2,FALSE),IF(I36=2,VLOOKUP(W36,女子種目コード!$D$2:$E$30,2,FALSE))))","v":""},null,null,null,null,{"$f":"IF(AB36=\"\",\"\",IF(I36=1,VLOOKUP(AB36,男子種目コード!$A$82:$B$85,2,FALSE),IF(I36=2,VLOOKUP(AB36,女子種目コード!$A$82:$B$85,2,FALSE))))","v":""},null,0,2,null,{"$f":"IF(AG36=\"\",\"\",IF(I36=1,VLOOKUP(AG36,男子種目コード!$A$78:$B$81,2,FALSE),IF(I36=2,VLOOKUP(AG36,女子種目コード!$A$78:$B$81,2,FALSE))))","v":""},null,0,2,0,null,null,"女子B","","",null,null,"",0,0,0,0,5000,5000,null,0,0,"","","女子",null,null,"","","","","","","","",{"$f":"VLookUpX(\"男子D\",$A$7:$F$116,5,5)","v":{"$error":"#N/A"}},{"$f":"VLookUpX(\"男子D\",$A$7:$F$116,5,6)","v":{"$error":"#N/A"}},{"$f":"VLookUpX(\"男子D\",$C$7:$F$116,5,3)","v":{"$error":"#N/A"}},{"$f":"VLookUpX(\"男子D\",$C$7:$F$116,5,4)","v":{"$error":"#N/A"}},{"$f":"VLookUpX(\"女子D\",$A$7:$F$116,5,5)","v":{"$error":"#N/A"}},{"$f":"VLookUpX(\"女子D\",$A$7:$F$116,5,6)","v":{"$error":"#N/A"}},{"$f":"VLookUpX(\"女子D\",$C$7:$F$116,5,3)","v":{"$error":"#N/A"}},{"$f":"VLookUpX(\"女子D\",$C$7:$F$116,5,4)","v":{"$error":"#N/A"}}]
[0,{"$f":"陸連登録!N32","v":""},0,null,{"$f":"陸連登録!M32","v":0},{"$f":"陸連登録!C32","v":0},{"$f":"陸連登録!D32","v":0},0,{"$f":"陸連登録!A32","v":""},{"$f":"陸連登録!P32","v":0},{"$f":"LEFT(陸連登録!L32,4)","v":""},{"$f":"RIGHT(陸連登録!L32,4)","v":""},{"$f":"陸連登録!F32","v":23},{"$f":"陸連登録!B32","v":0},null,"",null,0,2,null,"",null,null,{"$f":"IF(W37=\"\",\"\",IF(I37=1,VLOOKUP(W37,男子種目コード!$D$2:$E$30,2,FALSE),IF(I37=2,VLOOKUP(W37,女子種目コード!$D$2:$E$30,2,FALSE))))","v":""},null,null,null,null,{"$f":"IF(AB37=\"\",\"\",IF(I37=1,VLOOKUP(AB37,男子種目コード!$A$82:$B$85,2,FALSE),IF(I37=2,VLOOKUP(AB37,女子種目コード!$A$82:$B$85,2,FALSE))))","v":""},null,0,2,null,{"$f":"IF(AG37=\"\",\"\",IF(I37=1,VLOOKUP(AG37,男子種目コード!$A$78:$B$81,2,FALSE),IF(I37=2,VLOOKUP(AG37,女子種目コード!$A$78:$B$81,2,FALSE))))","v":""},null,0,2,0,null,null,"女子C","","",null,null,"",0,0,0,0,10000,10000,null,0,0,"","","100m",{"$f":"COUNTIF($P$7:$P$116,103)+COUNTIF($U$7:$U$116,103)","v":0},103,"","","","","","","","",{"$f":"VLookUpX(\"男子D\",$A$7:$F$116,6,5)","v":{"$error":"#N/A"}},{"$f":"VLookUpX(\"男子D\",$A$7:$F$116,6,6)","v":{"$error":"#N/A"}},{"$f":"VLookUpX(\"男子D\",$C$7:$F$116,6,3)","v":{"$error":"#N/A"}},{"$f":"VLookUpX(\"男子D\",$C$7:$F$116,6,4)","v":{"$error":"#N/A"}},{"$f":"VLookUpX(\"女子D\",$A$7:$F$116,6,5)","v":{"$error":"#N/A"}},{"$f":"VLookUpX(\"女子D\",$A$7:$F$116,6,6)","v":{"$error":"#N/A"}},{"$f":"VLookUpX(\"女子D\",$C$7:$F$116,6,3)","v":{"$error":"#N/A"}},{"$f":"VLookUpX(\"女子D\",$C$7:$F$116,6,4)","v":{"$error":"#N/A"}}]
[0,{"$f":"陸連登録!N33","v":""},0,null,{"$f":"陸連登録!M33","v":0},{"$f":"陸連登録!C33","v":0},{"$f":"陸連登録!D33","v":0},0,{"$f":"陸連登録!A33","v":""},{"$f":"陸連登録!P33","v":0},{"$f":"LEFT(陸連登録!L33,4)","v":""},{"$f":"RIGHT(陸連登録!L33,4)","v":""},{"$f":"陸連登録!F33","v":23},{"$f":"陸連登録!B33","v":0},null,"",null,0,2,null,"",null,null,{"$f":"IF(W38=\"\",\"\",IF(I38=1,VLOOKUP(W38,男子種目コード!$D$2:$E$30,2,FALSE),IF(I38=2,VLOOKUP(W38,女子種目コード!$D$2:$E$30,2,FALSE))))","v":""},null,null,null,null,{"$f":"IF(AB38=\"\",\"\",IF(I38=1,VLOOKUP(AB38,男子種目コード!$A$82:$B$85,2,FALSE),IF(I38=2,VLOOKUP(AB38,女子種目コード!$A$82:$B$85,2,FALSE))))","v":""},null,0,2,null,{"$f":"IF(AG38=\"\",\"\",IF(I38=1,VLOOKUP(AG38,男子種目コード!$A$78:$B$81,2,FALSE),IF(I38=2,VLOOKUP(AG38,女子種目コード!$A$78:$B$81,2,FALSE))))","v":""},null,0,2,0,null,null,null,"","",null,null,"",0,0,0,0,"110H","100H",null,0,0,"","","200m",{"$f":"COUNTIF($P$7:$P$116,104)+COUNTIF($U$7:$U$116,104)","v":0},104,null,null,null,null,null,null,null,null,null,null,null,null,null,null,null,null,{"$f":"SUM(BY8:BY37)","v":0},{"$f":"SUM(BZ8:BZ37)","v":0},{"$f":"SUM(CA8:CA37)","v":0},{"$f":"SUM(CB8:CB37)","v":0},{"$f":"SUM(BY38:CB38)","v":0}]
[0,{"$f":"陸連登録!N34","v":""},0,null,{"$f":"陸連登録!M34","v":0},{"$f":"陸連登録!C34","v":0},{"$f":"陸連登録!D34","v":0},0,{"$f":"陸連登録!A34","v":""},{"$f":"陸連登録!P34","v":0},{"$f":"LEFT(陸連登録!L34,4)","v":""},{"$f":"RIGHT(陸連登録!L34,4)","v":""},{"$f":"陸連登録!F34","v":23},{"$f":"陸連登録!B34","v":0},null,{"$f":"IF(O39=\"\",\"\",IF($I39=1,VLOOKUP(O39,$BF$8:$BH$33,3,FALSE),IF($I39=2,VLOOKUP(O39,$BF$36:$BH$58,3,FALSE))))","v":""},null,0,2,null,{"$f":"IF(T39=\"\",\"\",IF($I39=1,VLOOKUP(T39,$BF$8:$BH$33,3,FALSE),IF($I39=2,VLOOKUP(T39,$BF$36:$BH$58,3,FALSE))))","v":""},null,null,{"$f":"IF(W39=\"\",\"\",IF(I39=1,VLOOKUP(W39,男子種目コード!$D$2:$E$30,2,FALSE),IF(I39=2,VLOOKUP(W39,女子種目コード!$D$2:$E$30,2,FALSE))))","v":""},null,null,null,null,{"$f":"IF(AB39=\"\",\"\",IF(I39=1,VLOOKUP(AB39,男子種目コード!$A$82:$B$85,2,FALSE),IF(I39=2,VLOOKUP(AB39,女子種目コード!$A$82:$B$85,2,FALSE))))","v":""},null,0,2,null,{"$f":"IF(AG39=\"\",\"\",IF(I39=1,VLOOKUP(AG39,男子種目コード!$A$78:$B$81,2,FALSE),IF(I39=2,VLOOKUP(AG39,女子種目コード!$A$78:$B$81,2,FALSE))))","v":""},null,0,2,0,null,null,null,{"$f":"IF(O39=\"\",\"\",1)","v":""},"",null,null,"",{"$f":"IF(OR(AT39=1,T39=\"\"),0,1)","v":0},{"$f":"IF(OR(AT39=1,AU39=1,AB39=\"\"),0,1)","v":0},{"$f":"IF(OR(AT39=1,AU39=1,AV39=1,AG39=\"\"),0,1)","v":0},0,"少年B110JH","少年B100YH",null,0,0,"","","400m",{"$f":"COUNTIF($P$7:$P$116,42)+COUNTIF($U$7:$U$116,42)","v":0},42]
[0,{"$f":"陸連登録!N35","v":""},0,null,{"$f":"陸連登録!M35","v":0},{"$f":"陸連登録!C35","v":0},{"$f":"陸連登録!D35","v":0},0,{"$f":"陸連登録!A35","v":""},{"$f":"陸連登録!P35","v":0},{"$f":"LEFT(陸連登録!L35,4)","v":""},{"$f":"RIGHT(陸連登録!L35,4)","v":""},{"$f":"陸連登録!F35","v":23},{"$f":"陸連登録!B35","v":0},null,"",null,0,2,null,"",null,null,{"$f":"IF(W40=\"\",\"\",IF(I40=1,VLOOKUP(W40,男子種目コード!$D$2:$E$30,2,FALSE),IF(I40=2,VLOOKUP(W40,女子種目コード!$D$2:$E$30,2,FALSE))))","v":""},null,null,null,null,{"$f":"IF(AB40=\"\",\"\",IF(I40=1,VLOOKUP(AB40,男子種目コード!$A$82:$B$85,2,FALSE),IF(I40=2,VLOOKUP(AB40,女子種目コード!$A$82:$B$85,2,FALSE))))","v":""},null,0,2,null,{"$f":"IF(AG40=\"\",\"\",IF(I40=1,VLOOKUP(AG40,男子種目コード!$A$78:$B$81,2,FALSE),IF(I40=2,VLOOKUP(AG40,女子種目コード!$A$78:$B$81,2,FALSE))))","v":""},null,0,2,0,null,null,null,"","",null,null,"",0,0,0,0,"400H","400H",null,0,0,"","","800m",{"$f":"COUNTIF($P$7:$P$116,43)+COUNTIF($U$7:$U$116,43)","v":0},43]
[0,{"$f":"陸連登録!N36","v":""},0,null,{"$f":"陸連登録!M36","v":0},{"$f":"陸連登録!C36","v":0},{"$f":"陸連登録!D36","v":0},0,{"$f":"陸連登録!A36","v":""},{"$f":"陸連登録!P36","v":0},{"$f":"LEFT(陸連登録!L36,4)","v":""},{"$f":"RIGHT(陸連登録!L36,4)","v":""},{"$f":"陸連登録!F36","v":23},{"$f":"陸連登録!B36","v":0},null,"",null,0,2,null,"",null,null,{"$f":"IF(W41=\"\",\"\",IF(I41=1,VLOOKUP(W41,男子種目コード!$D$2:$E$30,2,FALSE),IF(I41=2,VLOOKUP(W41,女子種目コード!$D$2:$E$30,2,FALSE))))","v":""},null,null,null,null,{"$f":"IF(AB41=\"\",\"\",IF(I41=1,VLOOKUP(AB41,男子種目コード!$A$82:$B$85,2,FALSE),IF(I41=2,VLOOKUP(AB41,女子種目コード!$A$82:$B$85,2,FALSE))))","v":""},null,0,2,null,{"$f":"IF(AG41=\"\",\"\",IF(I41=1,VLOOKUP(AG41,男子種目コード!$A$78:$B$81,2,FALSE),IF(I41=2,VLOOKUP(AG41,女子種目コード!$A$78:$B$81,2,FALSE))))","v":""},null,0,2,0,null,null,null,"","",null,null,"",0,0,0,0,"3000SC","3000SC",null,0,0,"","","1500m",{"$f":"COUNTIF($P$7:$P$116,44)+COUNTIF($U$7:$U$116,44)","v":0},44]
[0,{"$f":"陸連登録!N37","v":""},0,null,{"$f":"陸連登録!M37","v":0},{"$f":"陸連登録!C37","v":0},{"$f":"陸連登録!D37","v":0},0,{"$f":"陸連登録!A37","v":""},{"$f":"陸連登録!P37","v":0},{"$f":"LEFT(陸連登録!L37,4)","v":""},{"$f":"RIGHT(陸連登録!L37,4)","v":""},{"$f":"陸連登録!F37","v":23},{"$f":"陸連登録!B37","v":0},null,"",null,0,2,null,"",null,null,{"$f":"IF(W42=\"\",\"\",IF(I42=1,VLOOKUP(W42,男子種目コード!$D$2:$E$30,2,FALSE),IF(I42=2,VLOOKUP(W42,女子種目コード!$D$2:$E$30,2,FALSE))))","v":""},null,null,null,null,{"$f":"IF(AB42=\"\",\"\",IF(I42=1,VLOOKUP(AB42,男子種目コード!$A$82:$B$85,2,FALSE),IF(I42=2,VLOOKUP(AB42,女子種目コード!$A$82:$B$85,2,FALSE))))","v":""},null,0,2,null,{"$f":"IF(AG42=\"\",\"\",IF(I42=1,VLOOKUP(AG42,男子種目コード!$A$78:$B$81,2,FALSE),IF(I42=2,VLOOKUP(AG42,女子種目コード!$A$78:$B$81,2,FALSE))))","v":""},null,0,2,0,null,null,null,"","",null,null,"",0,0,0,0,"5000W","5000W",null,0,0,"","","5000m",{"$f":"COUNTIF($P$7:$P$116,46)+COUNTIF($U$7:$U$116,46)","v":0},46]
[0,{"$f":"陸連登録!N38","v":""},0,null,{"$f":"陸連登録!M38","v":0},{"$f":"陸連登録!C38","v":0},{"$f":"陸連登録!D38","v":0},0,{"$f":"陸連登録!A38","v":""},{"$f":"陸連登録!P38","v":0},{"$f":"LEFT(陸連登録!L38,4)","v":""},{"$f":"RIGHT(陸連登録!L38,4)","v":""},{"$f":"陸連登録!F38","v":23},{"$f":"陸連登録!B38","v":0},null,"",null,0,2,null,"",null,null,{"$f":"IF(W43=\"\",\"\",IF(I43=1,VLOOKUP(W43,男子種目コード!$D$2:$E$30,2,FALSE),IF(I43=2,VLOOKUP(W43,女子種目コード!$D$2:$E$30,2,FALSE))))","v":""},null,null,null,null,{"$f":"IF(AB43=\"\",\"\",IF(I43=1,VLOOKUP(AB43,男子種目コード!$A$82:$B$85,2,FALSE),IF(I43=2,VLOOKUP(AB43,女子種目コード!$A$82:$B$85,2,FALSE))))","v":""},null,0,2,null,{"$f":"IF(AG43=\"\",\"\",IF(I43=1,VLOOKUP(AG43,男子種目コード!$A$78:$B$81,2,FALSE),IF(I43=2,VLOOKUP(AG43,女子種目コード!$A$78:$B$81,2,FALSE))))","v":""},null,0,2,0,null,null,null,"","",null,null,"",0,0,0,0,"走高跳","走高跳",null,0,0,"","","10000m",{"$f":"COUNTIF($P$7:$P$116,47)+COUNTIF($U$7:$U$116,47)","v":0},47]
[0,{"$f":"陸連登録!N39","v":""},0,null,{"$f":"陸連登録!M39","v":0},{"$f":"陸連登録!C39","v":0},{"$f":"陸連登録!D39","v":0},0,{"$f":"陸連登録!A39","v":""},{"$f":"陸連登録!P39","v":0},{"$f":"LEFT(陸連登録!L39,4)","v":""},{"$f":"RIGHT(陸連登録!L39,4)","v":""},{"$f":"陸連登録!F39","v":23},{"$f":"陸連登録!B39","v":0},null,"",null,0,2,null,"",null,null,{"$f":"IF(W44=\"\",\"\",IF(I44=1,VLOOKUP(W44,男子種目コード!$D$2:$E$30,2,FALSE),IF(I44=2,VLOOKUP(W44,女子種目コード!$D$2:$E$30,2,FALSE))))","v":""},null,null,null,null,{"$f":"IF(AB44=\"\",\"\",IF(I44=1,VLOOKUP(AB44,男子種目コード!$A$82:$B$85,2,FALSE),IF(I44=2,VLOOKUP(AB44,女子種目コード!$A$82:$B$85,2,FALSE))))","v":""},null,0,2,null,{"$f":"IF(AG44=\"\",\"\",IF(I44=1,VLOOKUP(AG44,男子種目コード!$A$78:$B$81,2,FALSE),IF(I44=2,VLOOKUP(AG44,女子種目コード!$A$78:$B$81,2,FALSE))))","v":""},null,0,2,0,null,null,null,"","",null,null,"",0,0,0,0,"棒高跳","棒高跳",null,0,0,"","","100mH",{"$f":"COUNTIF($P$7:$P$116,48)+COUNTIF($U$7:$U$116,48)","v":0},48]
[0,{"$f":"陸連登録!N40","v":""},0,null,{"$f":"陸連登録!M40","v":0},{"$f":"陸連登録!C40","v":0},{"$f":"陸連登録!D40","v":0},0,{"$f":"陸連登録!A40","v":""},{"$f":"陸連登録!P40","v":0},{"$f":"LEFT(陸連登録!L40,4)","v":""},{"$f":"RIGHT(陸連登録!L40,4)","v":""},{"$f":"陸連登録!F40","v":23},{"$f":"陸連登録!B40","v":0},null,"",null,0,2,null,"",null,null,{"$f":"IF(W45=\"\",\"\",IF(I45=1,VLOOKUP(W45,男子種目コード!$D$2:$E$30,2,FALSE),IF(I45=2,VLOOKUP(W45,女子種目コード!$D$2:$E$30,2,FALSE))))","v":""},null,null,null,null,{"$f":"IF(AB45=\"\",\"\",IF(I45=1,VLOOKUP(AB45,男子種目コード!$A$82:$B$85,2,FALSE),IF(I45=2,VLOOKUP(AB45,女子種目コード!$A$82:$B$85,2,FALSE))))","v":""},null,0,2,null,{"$f":"IF(AG45=\"\",\"\",IF(I45=1,VLOOKUP(AG45,男子種目コード!$A$78:$B$81,2,FALSE),IF(I45=2,VLOOKUP(AG45,女子種目コード!$A$78:$B$81,2,FALSE))))","v":""},null,0,2,0,null,null,null,"","",null,null,"",0,0,0,0,"走幅跳","走幅跳",null,0,0,"","","400mH",{"$f":"COUNTIF($P$7:$P$116,49)+COUNTIF($U$7:$U$116,49)","v":0},49]
[0,{"$f":"陸連登録!N41","v":""},0,null,{"$f":"陸連登録!M41","v":0},{"$f":"陸連登録!C41","v":0},{"$f":"陸連登録!D41","v":0},0,{"$f":"陸連登録!A41","v":""},{"$f":"陸連登録!P41","v":0},{"$f":"LEFT(陸連登録!L41,4)","v":""},{"$f":"RIGHT(陸連登録!L41,4)","v":""},{"$f":"陸連登録!F41","v":23},{"$f":"陸連登録!B41","v":0},null,"",null,0,2,null,"",null,null,{"$f":"IF(W46=\"\",\"\",IF(I46=1,VLOOKUP(W46,男子種目コード!$D$2:$E$30,2,FALSE),IF(I46=2,VLOOKUP(W46,女子種目コード!$D$2:$E$30,2,FALSE))))","v":""},null,null,null,null,{"$f":"IF(AB46=\"\",\"\",IF(I46=1,VLOOKUP(AB46,男子種目コード!$A$82:$B$85,2,FALSE),IF(I46=2,VLOOKUP(AB46,女子種目コード!$A$82:$B$85,2,FALSE))))","v":""},null,0,2,null,{"$f":"IF(AG46=\"\",\"\",IF(I46=1,VLOOKUP(AG46,男子種目コード!$A$78:$B$81,2,FALSE),IF(I46=2,VLOOKUP(AG46,女子種目コード!$A$78:$B$81,2,FALSE))))","v":""},null,0,2,0,null,null,null,"","",null,null,"",0,0,0,0,"三段跳","三段跳",null,0,0,"","","3000mSC",{"$f":"COUNTIF($P$7:$P$116,50)+COUNTIF($U$7:$U$116,50)","v":0},50]
[0,{"$f":"陸連登録!N42","v":""},0,null,{"$f":"陸連登録!M42","v":0},{"$f":"陸連登録!C42","v":0},{"$f":"陸連登録!D42","v":0},0,{"$f":"陸連登録!A42","v":""},{"$f":"陸連登録!P42","v":0},{"$f":"LEFT(陸連登録!L42,4)","v":""},{"$f":"RIGHT(陸連登録!L42,4)","v":""},{"$f":"陸連登録!F42","v":23},{"$f":"陸連登録!B42","v":0},null,"",null,0,2,null,"",null,null,{"$f":"IF(W47=\"\",\"\",IF(I47=1,VLOOKUP(W47,男子種目コード!$D$2:$E$30,2,FALSE),IF(I47=2,VLOOKUP(W47,女子種目コード!$D$2:$E$30,2,FALSE))))","v":""},null,null,null,null,{"$f":"IF(AB47=\"\",\"\",IF(I47=1,VLOOKUP(AB47,男子種目コード!$A$82:$B$85,2,FALSE),IF(I47=2,VLOOKUP(AB47,女子種目コード!$A$82:$B$85,2,FALSE))))","v":""},null,0,2,null,{"$f":"IF(AG47=\"\",\"\",IF(I47=1,VLOOKUP(AG47,男子種目コード!$A$78:$B$81,2,FALSE),IF(I47=2,VLOOKUP(AG47,女子種目コード!$A$78:$B$81,2,FALSE))))","v":""},null,0,2,0,null,null,null,"","",null,null,"",0,0,0,0,"砲丸投","砲丸投",null,0,0,"","","5000mW",{"$f":"COUNTIF($P$7:$P$116,52)+COUNTIF($U$7:$U$116,52)","v":0},52]
[0,{"$f":"陸連登録!N43","v":""},0,null,{"$f":"陸連登録!M43","v":0},{"$f":"陸連登録!C43","v":0},{"$f":"陸連登録!D43","v":0},0,{"$f":"陸連登録!A43","v":""},{"$f":"陸連登録!P43","v":0},{"$f":"LEFT(陸連登録!L43,4)","v":""},{"$f":"RIGHT(陸連登録!L43,4)","v":""},{"$f":"陸連登録!F43","v":23},{"$f":"陸連登録!B43","v":0},null,"",null,0,2,null,"",null,null,{"$f":"IF(W48=\"\",\"\",IF(I48=1,VLOOKUP(W48,男子種目コード!$D$2:$E$30,2,FALSE),IF(I48=2,VLOOKUP(W48,女子種目コード!$D$2:$E$30,2,FALSE))))","v":""},null,null,null,null,{"$f":"IF(AB48=\"\",\"\",IF(I48=1,VLOOKUP(AB48,男子種目コード!$A$82:$B$85,2,FALSE),IF(I48=2,VLOOKUP(AB48,女子種目コード!$A$82:$B$85,2,FALSE))))","v":""},null,0,2,null,{"$f":"IF(AG48=\"\",\"\",IF(I48=1,VLOOKUP(AG48,男子種目コード!$A$78:$B$81,2,FALSE),IF(I48=2,VLOOKUP(AG48,女子種目コード!$A$78:$B$81,2,FALSE))))","v":""},null,0,2,0,null,null,null,"","",null,null,"",0,0,0,0,"少年砲丸投","円盤投",null,0,0,"","","走高跳",{"$f":"COUNTIF($P$7:$P$116,55)+COUNTIF($U$7:$U$116,55)","v":0},55]
[0,{"$f":"陸連登録!N44","v":""},0,null,{"$f":"陸連登録!M44","v":0},{"$f":"陸連登録!C44","v":0},{"$f":"陸連登録!D44","v":0},0,{"$f":"陸連登録!A44","v":""},{"$f":"陸連登録!P44","v":0},{"$f":"LEFT(陸連登録!L44,4)","v":""},{"$f":"RIGHT(陸連登録!L44,4)","v":""},{"$f":"陸連登録!F44","v":23},{"$f":"陸連登録!B44","v":0},null,"",null,0,2,null,"",null,null,{"$f":"IF(W49=\"\",\"\",IF(I49=1,VLOOKUP(W49,男子種目コード!$D$2:$E$30,2,FALSE),IF(I49=2,VLOOKUP(W49,女子種目コード!$D$2:$E$30,2,FALSE))))","v":""},null,null,null,null,{"$f":"IF(AB49=\"\",\"\",IF(I49=1,VLOOKUP(AB49,男子種目コード!$A$82:$B$85,2,FALSE),IF(I49=2,VLOOKUP(AB49,女子種目コード!$A$82:$B$85,2,FALSE))))","v":""},null,0,2,null,{"$f":"IF(AG49=\"\",\"\",IF(I49=1,VLOOKUP(AG49,男子種目コード!$A$78:$B$81,2,FALSE),IF(I49=2,VLOOKUP(AG49,女子種目コード!$A$78:$B$81,2,FALSE))))","v":""},null,0,2,0,null,null,null,"","",null,null,"",0,0,0,0,"少年B砲丸投","ハンマー投",null,0,0,"","","棒高跳",{"$f":"COUNTIF($P$7:$P$116,56)+COUNTIF($U$7:$U$116,56)","v":0},56]
[0,{"$f":"陸連登録!N45","v":""},0,null,{"$f":"陸連登録!M45","v":0},{"$f":"陸連登録!C45","v":0},{"$f":"陸連登録!D45","v":0},0,{"$f":"陸連登録!A45","v":""},{"$f":"陸連登録!P45","v":0},{"$f":"LEFT(陸連登録!L45,4)","v":""},{"$f":"RIGHT(陸連登録!L45,4)","v":""},{"$f":"陸連登録!F45","v":23},{"$f":"陸連登録!B45","v":0},null,"",null,0,2,null,"",null,null,{"$f":"IF(W50=\"\",\"\",IF(I50=1,VLOOKUP(W50,男子種目コード!$D$2:$E$30,2,FALSE),IF(I50=2,VLOOKUP(W50,女子種目コード!$D$2:$E$30,2,FALSE))))","v":""},null,null,null,null,{"$f":"IF(AB50=\"\",\"\",IF(I50=1,VLOOKUP(AB50,男子種目コード!$A$82:$B$85,2,FALSE),IF(I50=2,VLOOKUP(AB50,女子種目コード!$A$82:$B$85,2,FALSE))))","v":""},null,0,2,null,{"$f":"IF(AG50=\"\",\"\",IF(I50=1,VLOOKUP(AG50,男子種目コード!$A$78:$B$81,2,FALSE),IF(I50=2,VLOOKUP(AG50,女子種目コード!$A$78:$B$81,2,FALSE))))","v":""},null,0,2,0,null,null,null,"","",null,null,"",0,0,0,0,"円盤投","やり投",null,0,0,"","","走幅跳",{"$f":"COUNTIF($P$7:$P$116,57)+COUNTIF($U$7:$U$116,57)","v":0},57]
[0,{"$f":"陸連登録!N46","v":""},0,null,{"$f":"陸連登録!M46","v":0},{"$f":"陸連登録!C46","v":0},{"$f":"陸連登録!D46","v":0},0,{"$f":"陸連登録!A46","v":""},{"$f":"陸連登録!P46","v":0},{"$f":"LEFT(陸連登録!L46,4)","v":""},{"$f":"RIGHT(陸連登録!L46,4)","v":""},{"$f":"陸連登録!F46","v":23},{"$f":"陸連登録!B46","v":0},null,"",null,0,2,null,"",null,null,{"$f":"IF(W51=\"\",\"\",IF(I51=1,VLOOKUP(W51,男子種目コード!$D$2:$E$30,2,FALSE),IF(I51=2,VLOOKUP(W51,女子種目コード!$D$2:$E$30,2,FALSE))))","v":""},null,null,null,null,{"$f":"IF(AB51=\"\",\"\",IF(I51=1,VLOOKUP(AB51,男子種目コード!$A$82:$B$85,2,FALSE),IF(I51=2,VLOOKUP(AB51,女子種目コード!$A$82:$B$85,2,FALSE))))","v":""},null,0,2,null,{"$f":"IF(AG51=\"\",\"\",IF(I51=1,VLOOKUP(AG51,男子種目コード!$A$78:$B$81,2,FALSE),IF(I51=2,VLOOKUP(AG51,女子種目コード!$A$78:$B$81,2,FALSE))))","v":""},null,0,2,0,null,null,null,"","",null,null,"",0,0,0,0,"少年円盤投",null,null,0,0,"","","三段跳",{"$f":"COUNTIF($P$7:$P$116,58)+COUNTIF($U$7:$U$116,58)","v":0},58]
[0,{"$f":"陸連登録!N47","v":""},0,null,{"$f":"陸連登録!M47","v":0},{"$f":"陸連登録!C47","v":0},{"$f":"陸連登録!D47","v":0},0,{"$f":"陸連登録!A47","v":""},{"$f":"陸連登録!P47","v":0},{"$f":"LEFT(陸連登録!L47,4)","v":""},{"$f":"RIGHT(陸連登録!L47,4)","v":""},{"$f":"陸連登録!F47","v":23},{"$f":"陸連登録!B47","v":0},null,"",null,0,2,null,"",null,null,{"$f":"IF(W52=\"\",\"\",IF(I52=1,VLOOKUP(W52,男子種目コード!$D$2:$E$30,2,FALSE),IF(I52=2,VLOOKUP(W52,女子種目コード!$D$2:$E$30,2,FALSE))))","v":""},null,null,null,null,{"$f":"IF(AB52=\"\",\"\",IF(I52=1,VLOOKUP(AB52,男子種目コード!$A$82:$B$85,2,FALSE),IF(I52=2,VLOOKUP(AB52,女子種目コード!$A$82:$B$85,2,FALSE))))","v":""},null,0,2,null,{"$f":"IF(AG52=\"\",\"\",IF(I52=1,VLOOKUP(AG52,男子種目コード!$A$78:$B$81,2,FALSE),IF(I52=2,VLOOKUP(AG52,女子種目コード!$A$78:$B$81,2,FALSE))))","v":""},null,0,2,0,null,null,null,"","",null,null,"",0,0,0,0,"ハンマー投",null,null,0,0,"","","砲丸投",{"$f":"COUNTIF($P$7:$P$116,59)+COUNTIF($U$7:$U$116,59)","v":0},59]
[0,{"$f":"陸連登録!N48","v":""},0,null,{"$f":"陸連登録!M48","v":0},{"$f":"陸連登録!C48","v":0},{"$f":"陸連登録!D48","v":0},0,{"$f":"陸連登録!A48","v":""},{"$f":"陸連登録!P48","v":0},{"$f":"LEFT(陸連登録!L48,4)","v":""},{"$f":"RIGHT(陸連登録!L48,4)","v":""},{"$f":"陸連登録!F48","v":23},{"$f":"陸連登録!B48","v":0},null,"",null,0,2,null,"",null,null,{"$f":"IF(W53=\"\",\"\",IF(I53=1,VLOOKUP(W53,男子種目コード!$D$2:$E$30,2,FALSE),IF(I53=2,VLOOKUP(W53,女子種目コード!$D$2:$E$30,2,FALSE))))","v":""},null,null,null,null,{"$f":"IF(AB53=\"\",\"\",IF(I53=1,VLOOKUP(AB53,男子種目コード!$A$82:$B$85,2,FALSE),IF(I53=2,VLOOKUP(AB53,女子種目コード!$A$82:$B$85,2,FALSE))))","v":""},null,0,2,null,{"$f":"IF(AG53=\"\",\"\",IF(I53=1,VLOOKUP(AG53,男子種目コード!$A$78:$B$81,2,FALSE),IF(I53=2,VLOOKUP(AG53,女子種目コード!$A$78:$B$81,2,FALSE))))","v":""},null,0,2,0,null,null,null,"","",null,null,"",0,0,0,0,"少年ハンマー投",null,null,0,0,"","","円盤投",{"$f":"COUNTIF($P$7:$P$116,60)+COUNTIF($U$7:$U$116,60)","v":0},60]
[0,{"$f":"陸連登録!N49","v":""},0,null,{"$f":"陸連登録!M49","v":0},{"$f":"陸連登録!C49","v":0},{"$f":"陸連登録!D49","v":0},0,{"$f":"陸連登録!A49","v":""},{"$f":"陸連登録!P49","v":0},{"$f":"LEFT(陸連登録!L49,4)","v":""},{"$f":"RIGHT(陸連登録!L49,4)","v":""},{"$f":"陸連登録!F49","v":23},{"$f":"陸連登録!B49","v":0},null,"",null,0,2,null,"",null,null,{"$f":"IF(W54=\"\",\"\",IF(I54=1,VLOOKUP(W54,男子種目コード!$D$2:$E$30,2,FALSE),IF(I54=2,VLOOKUP(W54,女子種目コード!$D$2:$E$30,2,FALSE))))","v":""},null,null,null,null,{"$f":"IF(AB54=\"\",\"\",IF(I54=1,VLOOKUP(AB54,男子種目コード!$A$82:$B$85,2,FALSE),IF(I54=2,VLOOKUP(AB54,女子種目コード!$A$82:$B$85,2,FALSE))))","v":""},null,0,2,null,{"$f":"IF(AG54=\"\",\"\",IF(I54=1,VLOOKUP(AG54,男子種目コード!$A$78:$B$81,2,FALSE),IF(I54=2,VLOOKUP(AG54,女子種目コード!$A$78:$B$81,2,FALSE))))","v":""},null,0,2,0,null,null,null,"","",null,null,"",0,0,0,0,"やり投",null,null,0,0,"","","ハンマー投",{"$f":"COUNTIF($P$7:$P$116,61)+COUNTIF($U$7:$U$116,61)","v":0},61]
[0,{"$f":"陸連登録!N50","v":""},0,null,{"$f":"陸連登録!M50","v":0},{"$f":"陸連登録!C50","v":0},{"$f":"陸連登録!D50","v":0},0,{"$f":"陸連登録!A50","v":""},{"$f":"陸連登録!P50","v":0},{"$f":"LEFT(陸連登録!L50,4)","v":""},{"$f":"RIGHT(陸連登録!L50,4)","v":""},{"$f":"陸連登録!F50","v":23},{"$f":"陸連登録!B50","v":0},null,"",null,0,2,null,"",null,null,{"$f":"IF(W55=\"\",\"\",IF(I55=1,VLOOKUP(W55,男子種目コード!$D$2:$E$30,2,FALSE),IF(I55=2,VLOOKUP(W55,女子種目コード!$D$2:$E$30,2,FALSE))))","v":""},null,null,null,null,{"$f":"IF(AB55=\"\",\"\",IF(I55=1,VLOOKUP(AB55,男子種目コード!$A$82:$B$85,2,FALSE),IF(I55=2,VLOOKUP(AB55,女子種目コード!$A$82:$B$85,2,FALSE))))","v":""},null,0,2,null,{"$f":"IF(AG55=\"\",\"\",IF(I55=1,VLOOKUP(AG55,男子種目コード!$A$78:$B$81,2,FALSE),IF(I55=2,VLOOKUP(AG55,女子種目コード!$A$78:$B$81,2,FALSE))))","v":""},null,0,2,0,null,null,null,"","",null,null,"",0,0,0,0,null,null,null,0,0,"","","やり投",{"$f":"COUNTIF($P$7:$P$116,62)+COUNTIF($U$7:$U$116,62)","v":0},62]
[0,{"$f":"陸連登録!N51","v":""},0,null,{"$f":"陸連登録!M51","v":0},{"$f":"陸連登録!C51","v":0},{"$f":"陸連登録!D51","v":0},0,{"$f":"陸連登録!A51","v":""},{"$f":"陸連登録!P51","v":0},{"$f":"LEFT(陸連登録!L51,4)","v":""},{"$f":"RIGHT(陸連登録!L51,4)","v":""},{"$f":"陸連登録!F51","v":23},{"$f":"陸連登録!B51","v":0},null,"",null,0,2,null,"",null,null,{"$f":"IF(W56=\"\",\"\",IF(I56=1,VLOOKUP(W56,男子種目コード!$D$2:$E$30,2,FALSE),IF(I56=2,VLOOKUP(W56,女子種目コード!$D$2:$E$30,2,FALSE))))","v":""},null,null,null,null,{"$f":"IF(AB56=\"\",\"\",IF(I56=1,VLOOKUP(AB56,男子種目コード!$A$82:$B$85,2,FALSE),IF(I56=2,VLOOKUP(AB56,女子種目コード!$A$82:$B$85,2,FALSE))))","v":""},null,0,2,null,{"$f":"IF(AG56=\"\",\"\",IF(I56=1,VLOOKUP(AG56,男子種目コード!$A$78:$B$81,2,FALSE),IF(I56=2,VLOOKUP(AG56,女子種目コード!$A$78:$B$81,2,FALSE))))","v":""},null,0,2,0,null,null,null,"","",null,null,"",0,0,0,0,null,null,null,0,0,"","","少年3000m",{"$f":"COUNTIF($P$7:$P$116,64)+COUNTIF($U$7:$U$116,64)","v":0},64]
[0,{"$f":"陸連登録!N52","v":""},0,null,{"$f":"陸連登録!M52","v":0},{"$f":"陸連登録!C52","v":0},{"$f":"陸連登録!D52","v":0},0,{"$f":"陸連登録!A52","v":""},{"$f":"陸連登録!P52","v":0},{"$f":"LEFT(陸連登録!L52,4)","v":""},{"$f":"RIGHT(陸連登録!L52,4)","v":""},{"$f":"陸連登録!F52","v":23},{"$f":"陸連登録!B52","v":0},null,"",null,0,2,null,"",null,null,{"$f":"IF(W57=\"\",\"\",IF(I57=1,VLOOKUP(W57,男子種目コード!$D$2:$E$30,2,FALSE),IF(I57=2,VLOOKUP(W57,女子種目コード!$D$2:$E$30,2,FALSE))))","v":""},null,null,null,null,{"$f":"IF(AB57=\"\",\"\",IF(I57=1,VLOOKUP(AB57,男子種目コード!$A$82:$B$85,2,FALSE),IF(I57=2,VLOOKUP(AB57,女子種目コード!$A$82:$B$85,2,FALSE))))","v":""},null,0,2,null,{"$f":"IF(AG57=\"\",\"\",IF(I57=1,VLOOKUP(AG57,男子種目コード!$A$78:$B$81,2,FALSE),IF(I57=2,VLOOKUP(AG57,女子種目コード!$A$78:$B$81,2,FALSE))))","v":""},null,0,2,0,null,null,null,"","",null,null,"",0,0,0,0,null,null,null,0,0,"","","少年B100m",{"$f":"COUNTIF($P$7:$P$116,66)+COUNTIF($U$7:$U$116,66)","v":0},66]
[0,{"$f":"陸連登録!N53","v":""},0,null,{"$f":"陸連登録!M53","v":0},{"$f":"陸連登録!C53","v":0},{"$f":"陸連登録!D53","v":0},0,{"$f":"陸連登録!A53","v":""},{"$f":"陸連登録!P53","v":0},{"$f":"LEFT(陸連登録!L53,4)","v":""},{"$f":"RIGHT(陸連登録!L53,4)","v":""},{"$f":"陸連登録!F53","v":23},{"$f":"陸連登録!B53","v":0},null,"",null,0,2,null,"",null,null,{"$f":"IF(W58=\"\",\"\",IF(I58=1,VLOOKUP(W58,男子種目コード!$D$2:$E$30,2,FALSE),IF(I58=2,VLOOKUP(W58,女子種目コード!$D$2:$E$30,2,FALSE))))","v":""},null,null,null,null,{"$f":"IF(AB58=\"\",\"\",IF(I58=1,VLOOKUP(AB58,男子種目コード!$A$82:$B$85,2,FALSE),IF(I58=2,VLOOKUP(AB58,女子種目コード!$A$82:$B$85,2,FALSE))))","v":""},null,0,2,null,{"$f":"IF(AG58=\"\",\"\",IF(I58=1,VLOOKUP(AG58,男子種目コード!$A$78:$B$81,2,FALSE),IF(I58=2,VLOOKUP(AG58,女子種目コード!$A$78:$B$81,2,FALSE))))","v":""},null,0,2,0,null,null,null,"","",null,null,"",0,0,0,0,null,null,null,0,0,"","","少年B100mYH"]
[0,{"$f":"陸連登録!N54","v":""},0,null,{"$f":"陸連登録!M54","v":0},{"$f":"陸連登録!C54","v":0},{"$f":"陸連登録!D54","v":0},0,{"$f":"陸連登録!A54","v":""},{"$f":"陸連登録!P54","v":0},{"$f":"LEFT(陸連登録!L54,4)","v":""},{"$f":"RIGHT(陸連登録!L54,4)","v":""},{"$f":"陸連登録!F54","v":23},{"$f":"陸連登録!B54","v":0},null,"",null,0,2,null,"",null,null,{"$f":"IF(W59=\"\",\"\",IF(I59=1,VLOOKUP(W59,男子種目コード!$D$2:$E$30,2,FALSE),IF(I59=2,VLOOKUP(W59,女子種目コード!$D$2:$E$30,2,FALSE))))","v":""},null,null,null,null,{"$f":"IF(AB59=\"\",\"\",IF(I59=1,VLOOKUP(AB59,男子種目コード!$A$82:$B$85,2,FALSE),IF(I59=2,VLOOKUP(AB59,女子種目コード!$A$82:$B$85,2,FALSE))))","v":""},null,0,2,null,{"$f":"IF(AG59=\"\",\"\",IF(I59=1,VLOOKUP(AG59,男子種目コード!$A$78:$B$81,2,FALSE),IF(I59=2,VLOOKUP(AG59,女子種目コード!$A$78:$B$81,2,FALSE))))","v":""},null,0,2,0,null,null,null,"","",null,null,"",0,0,0,0,null,null,null,0,0,"","","計",{"$f":"SUM(BG37:BG58)","v":0}]
[0,{"$f":"陸連登録!N55","v":""},0,null,{"$f":"陸連登録!M55","v":0},{"$f":"陸連登録!C55","v":0},{"$f":"陸連登録!D55","v":0},0,{"$f":"陸連登録!A55","v":""},{"$f":"陸連登録!P55","v":0},{"$f":"LEFT(陸連登録!L55,4)","v":""},{"$f":"RIGHT(陸連登録!L55,4)","v":""},{"$f":"陸連登録!F55","v":23},{"$f":"陸連登録!B55","v":0},null,"",null,0,2,null,"",null,null,{"$f":"IF(W60=\"\",\"\",IF(I60=1,VLOOKUP(W60,男子種目コード!$D$2:$E$30,2,FALSE),IF(I60=2,VLOOKUP(W60,女子種目コード!$D$2:$E$30,2,FALSE))))","v":""},null,null,null,null,{"$f":"IF(AB60=\"\",\"\",IF(I60=1,VLOOKUP(AB60,男子種目コード!$A$82:$B$85,2,FALSE),IF(I60=2,VLOOKUP(AB60,女子種目コード!$A$82:$B$85,2,FALSE))))","v":""},null,0,2,null,{"$f":"IF(AG60=\"\",\"\",IF(I60=1,VLOOKUP(AG60,男子種目コード!$A$78:$B$81,2,FALSE),IF(I60=2,VLOOKUP(AG60,女子種目コード!$A$78:$B$81,2,FALSE))))","v":""},null,0,2,0,null,null,null,"","",null,null,"",0,0,0,0,null,null,null,0,0,"",""]
[0,{"$f":"陸連登録!N56","v":""},0,null,{"$f":"陸連登録!M56","v":0},{"$f":"陸連登録!C56","v":0},{"$f":"陸連登録!D56","v":0},0,{"$f":"陸連登録!A56","v":""},{"$f":"陸連登録!P56","v":0},{"$f":"LEFT(陸連登録!L56,4)","v":""},{"$f":"RIGHT(陸連登録!L56,4)","v":""},{"$f":"陸連登録!F56","v":23},{"$f":"陸連登録!B56","v":0},null,"",null,0,2,null,"",null,null,{"$f":"IF(W61=\"\",\"\",IF(I61=1,VLOOKUP(W61,男子種目コード!$D$2:$E$30,2,FALSE),IF(I61=2,VLOOKUP(W61,女子種目コード!$D$2:$E$30,2,FALSE))))","v":""},null,null,null,null,{"$f":"IF(AB61=\"\",\"\",IF(I61=1,VLOOKUP(AB61,男子種目コード!$A$82:$B$85,2,FALSE),IF(I61=2,VLOOKUP(AB61,女子種目コード!$A$82:$B$85,2,FALSE))))","v":""},null,0,2,null,{"$f":"IF(AG61=\"\",\"\",IF(I61=1,VLOOKUP(AG61,男子種目コード!$A$78:$B$81,2,FALSE),IF(I61=2,VLOOKUP(AG61,女子種目コード!$A$78:$B$81,2,FALSE))))","v":""},null,0,2,0,null,null,null,"","",null,null,"",0,0,0,0,null,null,null,0,0,"",""]
[0,{"$f":"陸連登録!N57","v":""},0,null,{"$f":"陸連登録!M57","v":0},{"$f":"陸連登録!C57","v":0},{"$f":"陸連登録!D57","v":0},0,{"$f":"陸連登録!A57","v":""},{"$f":"陸連登録!P57","v":0},{"$f":"LEFT(陸連登録!L57,4)","v":""},{"$f":"RIGHT(陸連登録!L57,4)","v":""},{"$f":"陸連登録!F57","v":23},{"$f":"陸連登録!B57","v":0},null,"",null,0,2,null,"",null,null,{"$f":"IF(W62=\"\",\"\",IF(I62=1,VLOOKUP(W62,男子種目コード!$D$2:$E$30,2,FALSE),IF(I62=2,VLOOKUP(W62,女子種目コード!$D$2:$E$30,2,FALSE))))","v":""},null,null,null,null,{"$f":"IF(AB62=\"\",\"\",IF(I62=1,VLOOKUP(AB62,男子種目コード!$A$82:$B$85,2,FALSE),IF(I62=2,VLOOKUP(AB62,女子種目コード!$A$82:$B$85,2,FALSE))))","v":""},null,0,2,null,{"$f":"IF(AG62=\"\",\"\",IF(I62=1,VLOOKUP(AG62,男子種目コード!$A$78:$B$81,2,FALSE),IF(I62=2,VLOOKUP(AG62,女子種目コード!$A$78:$B$81,2,FALSE))))","v":""},null,0,2,0,null,null,null,"","",null,null,"",0,0,0,0,null,null,null,0,0,"",""]
[0,{"$f":"陸連登録!N58","v":""},0,null,{"$f":"陸連登録!M58","v":0},{"$f":"陸連登録!C58","v":0},{"$f":"陸連登録!D58","v":0},0,{"$f":"陸連登録!A58","v":""},{"$f":"陸連登録!P58","v":0},{"$f":"LEFT(陸連登録!L58,4)","v":""},{"$f":"RIGHT(陸連登録!L58,4)","v":""},{"$f":"陸連登録!F58","v":23},{"$f":"陸連登録!B58","v":0},null,"",null,0,2,null,"",null,null,{"$f":"IF(W63=\"\",\"\",IF(I63=1,VLOOKUP(W63,男子種目コード!$D$2:$E$30,2,FALSE),IF(I63=2,VLOOKUP(W63,女子種目コード!$D$2:$E$30,2,FALSE))))","v":""},null,null,null,null,{"$f":"IF(AB63=\"\",\"\",IF(I63=1,VLOOKUP(AB63,男子種目コード!$A$82:$B$85,2,FALSE),IF(I63=2,VLOOKUP(AB63,女子種目コード!$A$82:$B$85,2,FALSE))))","v":""},null,0,2,null,{"$f":"IF(AG63=\"\",\"\",IF(I63=1,VLOOKUP(AG63,男子種目コード!$A$78:$B$81,2,FALSE),IF(I63=2,VLOOKUP(AG63,女子種目コード!$A$78:$B$81,2,FALSE))))","v":""},null,0,2,0,null,null,null,"","",null,null,"",0,0,0,0,null,null,null,0,0,"",""]
[0,{"$f":"陸連登録!N59","v":""},0,null,{"$f":"陸連登録!M59","v":0},{"$f":"陸連登録!C59","v":0},{"$f":"陸連登録!D59","v":0},0,{"$f":"陸連登録!A59","v":""},{"$f":"陸連登録!P59","v":0},{"$f":"LEFT(陸連登録!L59,4)","v":""},{"$f":"RIGHT(陸連登録!L59,4)","v":""},{"$f":"陸連登録!F59","v":23},{"$f":"陸連登録!B59","v":0},null,"",null,0,2,null,"",null,null,{"$f":"IF(W64=\"\",\"\",IF(I64=1,VLOOKUP(W64,男子種目コード!$D$2:$E$30,2,FALSE),IF(I64=2,VLOOKUP(W64,女子種目コード!$D$2:$E$30,2,FALSE))))","v":""},null,null,null,null,{"$f":"IF(AB64=\"\",\"\",IF(I64=1,VLOOKUP(AB64,男子種目コード!$A$82:$B$85,2,FALSE),IF(I64=2,VLOOKUP(AB64,女子種目コード!$A$82:$B$85,2,FALSE))))","v":""},null,0,2,null,{"$f":"IF(AG64=\"\",\"\",IF(I64=1,VLOOKUP(AG64,男子種目コード!$A$78:$B$81,2,FALSE),IF(I64=2,VLOOKUP(AG64,女子種目コード!$A$78:$B$81,2,FALSE))))","v":""},null,0,2,0,null,null,null,"","",null,null,"",0,0,0,0,null,null,null,0,0,"",""]
[0,{"$f":"陸連登録!N60","v":""},0,null,{"$f":"陸連登録!M60","v":0},{"$f":"陸連登録!C60","v":0},{"$f":"陸連登録!D60","v":0},0,{"$f":"陸連登録!A60","v":""},{"$f":"陸連登録!P60","v":0},{"$f":"LEFT(陸連登録!L60,4)","v":""},{"$f":"RIGHT(陸連登録!L60,4)","v":""},{"$f":"陸連登録!F60","v":23},{"$f":"陸連登録!B60","v":0},null,"",null,0,2,null,"",null,null,{"$f":"IF(W65=\"\",\"\",IF(I65=1,VLOOKUP(W65,男子種目コード!$D$2:$E$30,2,FALSE),IF(I65=2,VLOOKUP(W65,女子種目コード!$D$2:$E$30,2,FALSE))))","v":""},null,null,null,null,{"$f":"IF(AB65=\"\",\"\",IF(I65=1,VLOOKUP(AB65,男子種目コード!$A$82:$B$85,2,FALSE),IF(I65=2,VLOOKUP(AB65,女子種目コード!$A$82:$B$85,2,FALSE))))","v":""},null,0,2,null,{"$f":"IF(AG65=\"\",\"\",IF(I65=1,VLOOKUP(AG65,男子種目コード!$A$78:$B$81,2,FALSE),IF(I65=2,VLOOKUP(AG65,女子種目コード!$A$78:$B$81,2,FALSE))))","v":""},null,0,2,0,null,null,null,"","",null,null,"",0,0,0,0,null,null,null,0,0,"",""]
[0,{"$f":"陸連登録!N61","v":""},0,null,{"$f":"陸連登録!M61","v":0},{"$f":"陸連登録!C61","v":0},{"$f":"陸連登録!D61","v":0},0,{"$f":"陸連登録!A61","v":""},{"$f":"陸連登録!P61","v":0},{"$f":"LEFT(陸連登録!L61,4)","v":""},{"$f":"RIGHT(陸連登録!L61,4)","v":""},{"$f":"陸連登録!F61","v":23},{"$f":"陸連登録!B61","v":0},null,"",null,0,2,null,"",null,null,{"$f":"IF(W66=\"\",\"\",IF(I66=1,VLOOKUP(W66,男子種目コード!$D$2:$E$30,2,FALSE),IF(I66=2,VLOOKUP(W66,女子種目コード!$D$2:$E$30,2,FALSE))))","v":""},null,null,null,null,{"$f":"IF(AB66=\"\",\"\",IF(I66=1,VLOOKUP(AB66,男子種目コード!$A$82:$B$85,2,FALSE),IF(I66=2,VLOOKUP(AB66,女子種目コード!$A$82:$B$85,2,FALSE))))","v":""},null,0,2,null,{"$f":"IF(AG66=\"\",\"\",IF(I66=1,VLOOKUP(AG66,男子種目コード!$A$78:$B$81,2,FALSE),IF(I66=2,VLOOKUP(AG66,女子種目コード!$A$78:$B$81,2,FALSE))))","v":""},null,0,2,0,null,null,null,"","",null,null,"",0,0,0,0,null,null,null,0,0,"",""]
[0,{"$f":"陸連登録!N62","v":""},0,null,{"$f":"陸連登録!M62","v":0},{"$f":"陸連登録!C62","v":0},{"$f":"陸連登録!D62","v":0},0,{"$f":"陸連登録!A62","v":""},{"$f":"陸連登録!P62","v":0},{"$f":"LEFT(陸連登録!L62,4)","v":""},{"$f":"RIGHT(陸連登録!L62,4)","v":""},{"$f":"陸連登録!F62","v":23},{"$f":"陸連登録!B62","v":0},null,"",null,0,2,null,"",null,null,{"$f":"IF(W67=\"\",\"\",IF(I67=1,VLOOKUP(W67,男子種目コード!$D$2:$E$30,2,FALSE),IF(I67=2,VLOOKUP(W67,女子種目コード!$D$2:$E$30,2,FALSE))))","v":""},null,null,null,null,{"$f":"IF(AB67=\"\",\"\",IF(I67=1,VLOOKUP(AB67,男子種目コード!$A$82:$B$85,2,FALSE),IF(I67=2,VLOOKUP(AB67,女子種目コード!$A$82:$B$85,2,FALSE))))","v":""},null,0,2,null,{"$f":"IF(AG67=\"\",\"\",IF(I67=1,VLOOKUP(AG67,男子種目コード!$A$78:$B$81,2,FALSE),IF(I67=2,VLOOKUP(AG67,女子種目コード!$A$78:$B$81,2,FALSE))))","v":""},null,0,2,0,null,null,null,"","",null,null,"",0,0,0,0,null,null,null,0,0,"",""]
[0,{"$f":"陸連登録!N63","v":""},0,null,{"$f":"陸連登録!M63","v":0},{"$f":"陸連登録!C63","v":0},{"$f":"陸連登録!D63","v":0},0,{"$f":"陸連登録!A63","v":""},{"$f":"陸連登録!P63","v":0},{"$f":"LEFT(陸連登録!L63,4)","v":""},{"$f":"RIGHT(陸連登録!L63,4)","v":""},{"$f":"陸連登録!F63","v":23},{"$f":"陸連登録!B63","v":0},null,"",null,0,2,null,"",null,null,{"$f":"IF(W68=\"\",\"\",IF(I68=1,VLOOKUP(W68,男子種目コード!$D$2:$E$30,2,FALSE),IF(I68=2,VLOOKUP(W68,女子種目コード!$D$2:$E$30,2,FALSE))))","v":""},null,null,null,null,{"$f":"IF(AB68=\"\",\"\",IF(I68=1,VLOOKUP(AB68,男子種目コード!$A$82:$B$85,2,FALSE),IF(I68=2,VLOOKUP(AB68,女子種目コード!$A$82:$B$85,2,FALSE))))","v":""},null,0,2,null,{"$f":"IF(AG68=\"\",\"\",IF(I68=1,VLOOKUP(AG68,男子種目コード!$A$78:$B$81,2,FALSE),IF(I68=2,VLOOKUP(AG68,女子種目コード!$A$78:$B$81,2,FALSE))))","v":""},null,0,2,0,null,null,null,"","",null,null,"",0,0,0,0,null,null,null,0,0,"",""]
[0,{"$f":"陸連登録!N64","v":""},0,null,{"$f":"陸連登録!M64","v":0},{"$f":"陸連登録!C64","v":0},{"$f":"陸連登録!D64","v":0},0,{"$f":"陸連登録!A64","v":""},{"$f":"陸連登録!P64","v":0},{"$f":"LEFT(陸連登録!L64,4)","v":""},{"$f":"RIGHT(陸連登録!L64,4)","v":""},{"$f":"陸連登録!F64","v":23},{"$f":"陸連登録!B64","v":0},null,"",null,0,2,null,"",null,null,{"$f":"IF(W69=\"\",\"\",IF(I69=1,VLOOKUP(W69,男子種目コード!$D$2:$E$30,2,FALSE),IF(I69=2,VLOOKUP(W69,女子種目コード!$D$2:$E$30,2,FALSE))))","v":""},null,null,null,null,{"$f":"IF(AB69=\"\",\"\",IF(I69=1,VLOOKUP(AB69,男子種目コード!$A$82:$B$85,2,FALSE),IF(I69=2,VLOOKUP(AB69,女子種目コード!$A$82:$B$85,2,FALSE))))","v":""},null,0,2,null,{"$f":"IF(AG69=\"\",\"\",IF(I69=1,VLOOKUP(AG69,男子種目コード!$A$78:$B$81,2,FALSE),IF(I69=2,VLOOKUP(AG69,女子種目コード!$A$78:$B$81,2,FALSE))))","v":""},null,0,2,0,null,null,null,"","",null,null,"",0,0,0,0,null,null,null,0,0,"",""]
[0,{"$f":"陸連登録!N65","v":""},0,null,{"$f":"陸連登録!M65","v":0},{"$f":"陸連登録!C65","v":0},{"$f":"陸連登録!D65","v":0},0,{"$f":"陸連登録!A65","v":""},{"$f":"陸連登録!P65","v":0},{"$f":"LEFT(陸連登録!L65,4)","v":""},{"$f":"RIGHT(陸連登録!L65,4)","v":""},{"$f":"陸連登録!F65","v":23},{"$f":"陸連登録!B65","v":0},null,"",null,0,2,null,"",null,null,{"$f":"IF(W70=\"\",\"\",IF(I70=1,VLOOKUP(W70,男子種目コード!$D$2:$E$30,2,FALSE),IF(I70=2,VLOOKUP(W70,女子種目コード!$D$2:$E$30,2,FALSE))))","v":""},null,null,null,null,{"$f":"IF(AB70=\"\",\"\",IF(I70=1,VLOOKUP(AB70,男子種目コード!$A$82:$B$85,2,FALSE),IF(I70=2,VLOOKUP(AB70,女子種目コード!$A$82:$B$85,2,FALSE))))","v":""},null,0,2,null,{"$f":"IF(AG70=\"\",\"\",IF(I70=1,VLOOKUP(AG70,男子種目コード!$A$78:$B$81,2,FALSE),IF(I70=2,VLOOKUP(AG70,女子種目コード!$A$78:$B$81,2,FALSE))))","v":""},null,0,2,0,null,null,null,"","",null,null,"",0,0,0,0,null,null,null,0,0,"",""]
[0,{"$f":"陸連登録!N66","v":""},0,null,{"$f":"陸連登録!M66","v":0},{"$f":"陸連登録!C66","v":0},{"$f":"陸連登録!D66","v":0},0,{"$f":"陸連登録!A66","v":""},{"$f":"陸連登録!P66","v":0},{"$f":"LEFT(陸連登録!L66,4)","v":""},{"$f":"RIGHT(陸連登録!L66,4)","v":""},{"$f":"陸連登録!F66","v":23},{"$f":"陸連登録!B66","v":0},null,{"$f":"IF(O71=\"\",\"\",IF($I71=1,VLOOKUP(O71,$BF$8:$BH$33,3,FALSE),IF($I71=2,VLOOKUP(O71,$BF$36:$BH$58,3,FALSE))))","v":""},null,0,2,null,{"$f":"IF(T71=\"\",\"\",IF($I71=1,VLOOKUP(T71,$BF$8:$BH$33,3,FALSE),IF($I71=2,VLOOKUP(T71,$BF$36:$BH$58,3,FALSE))))","v":""},null,null,{"$f":"IF(W71=\"\",\"\",IF(I71=1,VLOOKUP(W71,男子種目コード!$D$2:$E$30,2,FALSE),IF(I71=2,VLOOKUP(W71,女子種目コード!$D$2:$E$30,2,FALSE))))","v":""},null,null,null,null,{"$f":"IF(AB71=\"\",\"\",IF(I71=1,VLOOKUP(AB71,男子種目コード!$A$82:$B$85,2,FALSE),IF(I71=2,VLOOKUP(AB71,女子種目コード!$A$82:$B$85,2,FALSE))))","v":""},null,0,2,null,{"$f":"IF(AG71=\"\",\"\",IF(I71=1,VLOOKUP(AG71,男子種目コード!$A$78:$B$81,2,FALSE),IF(I71=2,VLOOKUP(AG71,女子種目コード!$A$78:$B$81,2,FALSE))))","v":""},null,0,2,0,null,null,null,"","",null,null,"",{"$f":"IF(OR(AT71=1,T71=\"\"),0,1)","v":0},{"$f":"IF(OR(AT71=1,AU71=1,AB71=\"\"),0,1)","v":0},{"$f":"IF(OR(AT71=1,AU71=1,AV71=1,AG71=\"\"),0,1)","v":0},0,null,null,null,0,0,"",""]
[{"$f":"AB72","v":0},{"$f":"陸連登録!N67","v":""},{"$f":"AG72","v":0},null,{"$f":"陸連登録!M67","v":0},{"$f":"陸連登録!C67","v":0},{"$f":"陸連登録!D67","v":0},{"$f":"F72","v":0},{"$f":"陸連登録!A67","v":""},{"$f":"陸連登録!P67","v":0},{"$f":"LEFT(陸連登録!L67,4)","v":""},{"$f":"RIGHT(陸連登録!L67,4)","v":""},{"$f":"陸連登録!F67","v":23},{"$f":"陸連登録!B67","v":0},null,"",null,0,2,null,"",null,null,{"$f":"IF(W72=\"\",\"\",IF(I72=1,VLOOKUP(W72,男子種目コード!$D$2:$E$30,2,FALSE),IF(I72=2,VLOOKUP(W72,女子種目コード!$D$2:$E$30,2,FALSE))))","v":""},null,null,null,null,{"$f":"IF(AB72=\"\",\"\",IF(I72=1,VLOOKUP(AB72,男子種目コード!$A$82:$B$85,2,FALSE),IF(I72=2,VLOOKUP(AB72,女子種目コード!$A$82:$B$85,2,FALSE))))","v":""},null,0,2,null,{"$f":"IF(AG72=\"\",\"\",IF(I72=1,VLOOKUP(AG72,男子種目コード!$A$78:$B$81,2,FALSE),IF(I72=2,VLOOKUP(AG72,女子種目コード!$A$78:$B$81,2,FALSE))))","v":""},null,0,2,0,null,null,null,{"$f":"IF(O72=\"\",\"\",1)","v":""},{"$f":"IF(T72=\"\",\"\",1)","v":""},null,null,{"$f":"IF(O72=\"\",\"\",1)","v":""},0,0,0,{"$f":"SUM(AT72:AW72)","v":0},null,null,null,{"$f":"COUNT(P72,U72)","v":0},{"$f":"COUNT(P72,U72,AC72,AH72)","v":0},{"$f":"IF(I72=1,BC72,\"\")","v":""},{"$f":"IF(I72=2,BC72,\"\")","v":""}]
[0,{"$f":"陸連登録!N68","v":""},0,null,{"$f":"陸連登録!M68","v":0},{"$f":"陸連登録!C68","v":0},{"$f":"陸連登録!D68","v":0},0,{"$f":"陸連登録!A68","v":""},{"$f":"陸連登録!P68","v":0},{"$f":"LEFT(陸連登録!L68,4)","v":""},{"$f":"RIGHT(陸連登録!L68,4)","v":""},{"$f":"陸連登録!F68","v":23},{"$f":"陸連登録!B68","v":0},null,"",null,0,2,null,"",null,null,{"$f":"IF(W73=\"\",\"\",IF(I73=1,VLOOKUP(W73,男子種目コード!$D$2:$E$30,2,FALSE),IF(I73=2,VLOOKUP(W73,女子種目コード!$D$2:$E$30,2,FALSE))))","v":""},null,null,null,null,{"$f":"IF(AB73=\"\",\"\",IF(I73=1,VLOOKUP(AB73,男子種目コード!$A$82:$B$85,2,FALSE),IF(I73=2,VLOOKUP(AB73,女子種目コード!$A$82:$B$85,2,FALSE))))","v":""},null,0,2,null,{"$f":"IF(AG73=\"\",\"\",IF(I73=1,VLOOKUP(AG73,男子種目コード!$A$78:$B$81,2,FALSE),IF(I73=2,VLOOKUP(AG73,女子種目コード!$A$78:$B$81,2,FALSE))))","v":""},null,0,2,0,null,null,null,"","",null,null,"",0,0,0,0,null,null,null,0,0,"",""]
[0,{"$f":"陸連登録!N69","v":""},0,null,{"$f":"陸連登録!M69","v":0},{"$f":"陸連登録!C69","v":0},{"$f":"陸連登録!D69","v":0},0,{"$f":"陸連登録!A69","v":""},{"$f":"陸連登録!P69","v":0},{"$f":"LEFT(陸連登録!L69,4)","v":""},{"$f":"RIGHT(陸連登録!L69,4)","v":""},{"$f":"陸連登録!F69","v":23},{"$f":"陸連登録!B69","v":0},null,"",null,0,2,null,"",null,null,{"$f":"IF(W74=\"\",\"\",IF(I74=1,VLOOKUP(W74,男子種目コード!$D$2:$E$30,2,FALSE),IF(I74=2,VLOOKUP(W74,女子種目コード!$D$2:$E$30,2,FALSE))))","v":""},null,null,null,null,{"$f":"IF(AB74=\"\",\"\",IF(I74=1,VLOOKUP(AB74,男子種目コード!$A$82:$B$85,2,FALSE),IF(I74=2,VLOOKUP(AB74,女子種目コード!$A$82:$B$85,2,FALSE))))","v":""},null,0,2,null,{"$f":"IF(AG74=\"\",\"\",IF(I74=1,VLOOKUP(AG74,男子種目コード!$A$78:$B$81,2,FALSE),IF(I74=2,VLOOKUP(AG74,女子種目コード!$A$78:$B$81,2,FALSE))))","v":""},null,0,2,0,null,null,null,"","",null,null,"",0,0,0,0,null,null,null,0,0,"",""]
[0,{"$f":"陸連登録!N70","v":""},0,null,{"$f":"陸連登録!M70","v":0},{"$f":"陸連登録!C70","v":0},{"$f":"陸連登録!D70","v":0},0,{"$f":"陸連登録!A70","v":""},{"$f":"陸連登録!P70","v":0},{"$f":"LEFT(陸連登録!L70,4)","v":""},{"$f":"RIGHT(陸連登録!L70,4)","v":""},{"$f":"陸連登録!F70","v":23},{"$f":"陸連登録!B70","v":0},null,"",null,0,2,null,"",null,null,{"$f":"IF(W75=\"\",\"\",IF(I75=1,VLOOKUP(W75,男子種目コード!$D$2:$E$30,2,FALSE),IF(I75=2,VLOOKUP(W75,女子種目コード!$D$2:$E$30,2,FALSE))))","v":""},null,null,null,null,{"$f":"IF(AB75=\"\",\"\",IF(I75=1,VLOOKUP(AB75,男子種目コード!$A$82:$B$85,2,FALSE),IF(I75=2,VLOOKUP(AB75,女子種目コード!$A$82:$B$85,2,FALSE))))","v":""},null,0,2,null,{"$f":"IF(AG75=\"\",\"\",IF(I75=1,VLOOKUP(AG75,男子種目コード!$A$78:$B$81,2,FALSE),IF(I75=2,VLOOKUP(AG75,女子種目コード!$A$78:$B$81,2,FALSE))))","v":""},null,0,2,0,null,null,null,"","",null,null,"",0,0,0,0,null,null,null,0,0,"",""]
[0,{"$f":"陸連登録!N71","v":""},0,null,{"$f":"陸連登録!M71","v":0},{"$f":"陸連登録!C71","v":0},{"$f":"陸連登録!D71","v":0},0,{"$f":"陸連登録!A71","v":""},{"$f":"陸連登録!P71","v":0},{"$f":"LEFT(陸連登録!L71,4)","v":""},{"$f":"RIGHT(陸連登録!L71,4)","v":""},{"$f":"陸連登録!F71","v":23},{"$f":"陸連登録!B71","v":0},null,"",null,0,2,null,"",null,null,{"$f":"IF(W76=\"\",\"\",IF(I76=1,VLOOKUP(W76,男子種目コード!$D$2:$E$30,2,FALSE),IF(I76=2,VLOOKUP(W76,女子種目コード!$D$2:$E$30,2,FALSE))))","v":""},null,null,null,null,{"$f":"IF(AB76=\"\",\"\",IF(I76=1,VLOOKUP(AB76,男子種目コード!$A$82:$B$85,2,FALSE),IF(I76=2,VLOOKUP(AB76,女子種目コード!$A$82:$B$85,2,FALSE))))","v":""},null,0,2,null,{"$f":"IF(AG76=\"\",\"\",IF(I76=1,VLOOKUP(AG76,男子種目コード!$A$78:$B$81,2,FALSE),IF(I76=2,VLOOKUP(AG76,女子種目コード!$A$78:$B$81,2,FALSE))))","v":""},null,0,2,0,null,null,null,"","",null,null,"",0,0,0,0,null,null,null,0,0,"",""]
[0,{"$f":"陸連登録!N72","v":""},0,null,{"$f":"陸連登録!M72","v":0},{"$f":"陸連登録!C72","v":0},{"$f":"陸連登録!D72","v":0},0,{"$f":"陸連登録!A72","v":""},{"$f":"陸連登録!P72","v":0},{"$f":"LEFT(陸連登録!L72,4)","v":""},{"$f":"RIGHT(陸連登録!L72,4)","v":""},{"$f":"陸連登録!F72","v":23},{"$f":"陸連登録!B72","v":0},null,"",null,0,2,null,"",null,null,{"$f":"IF(W77=\"\",\"\",IF(I77=1,VLOOKUP(W77,男子種目コード!$D$2:$E$30,2,FALSE),IF(I77=2,VLOOKUP(W77,女子種目コード!$D$2:$E$30,2,FALSE))))","v":""},null,null,null,null,{"$f":"IF(AB77=\"\",\"\",IF(I77=1,VLOOKUP(AB77,男子種目コード!$A$82:$B$85,2,FALSE),IF(I77=2,VLOOKUP(AB77,女子種目コード!$A$82:$B$85,2,FALSE))))","v":""},null,0,2,null,{"$f":"IF(AG77=\"\",\"\",IF(I77=1,VLOOKUP(AG77,男子種目コード!$A$78:$B$81,2,FALSE),IF(I77=2,VLOOKUP(AG77,女子種目コード!$A$78:$B$81,2,FALSE))))","v":""},null,0,2,0,null,null,null,"","",null,null,"",0,0,0,0,null,null,null,0,0,"",""]
[0,{"$f":"陸連登録!N73","v":""},0,null,{"$f":"陸連登録!M73","v":0},{"$f":"陸連登録!C73","v":0},{"$f":"陸連登録!D73","v":0},0,{"$f":"陸連登録!A73","v":""},{"$f":"陸連登録!P73","v":0},{"$f":"LEFT(陸連登録!L73,4)","v":""},{"$f":"RIGHT(陸連登録!L73,4)","v":""},{"$f":"陸連登録!F73","v":23},{"$f":"陸連登録!B73","v":0},null,"",null,0,2,null,"",null,null,{"$f":"IF(W78=\"\",\"\",IF(I78=1,VLOOKUP(W78,男子種目コード!$D$2:$E$30,2,FALSE),IF(I78=2,VLOOKUP(W78,女子種目コード!$D$2:$E$30,2,FALSE))))","v":""},null,null,null,null,{"$f":"IF(AB78=\"\",\"\",IF(I78=1,VLOOKUP(AB78,男子種目コード!$A$82:$B$85,2,FALSE),IF(I78=2,VLOOKUP(AB78,女子種目コード!$A$82:$B$85,2,FALSE))))","v":""},null,0,2,null,{"$f":"IF(AG78=\"\",\"\",IF(I78=1,VLOOKUP(AG78,男子種目コード!$A$78:$B$81,2,FALSE),IF(I78=2,VLOOKUP(AG78,女子種目コード!$A$78:$B$81,2,FALSE))))","v":""},null,0,2,0,null,null,null,"","",null,null,"",0,0,0,0,null,null,null,0,0,"",""]
[0,{"$f":"陸連登録!N74","v":""},0,null,{"$f":"陸連登録!M74","v":0},{"$f":"陸連登録!C74","v":0},{"$f":"陸連登録!D74","v":0},0,{"$f":"陸連登録!A74","v":""},{"$f":"陸連登録!P74","v":0},{"$f":"LEFT(陸連登録!L74,4)","v":""},{"$f":"RIGHT(陸連登録!L74,4)","v":""},{"$f":"陸連登録!F74","v":23},{"$f":"陸連登録!B74","v":0},null,"",null,0,2,null,"",null,null,{"$f":"IF(W79=\"\",\"\",IF(I79=1,VLOOKUP(W79,男子種目コード!$D$2:$E$30,2,FALSE),IF(I79=2,VLOOKUP(W79,女子種目コード!$D$2:$E$30,2,FALSE))))","v":""},null,null,null,null,{"$f":"IF(AB79=\"\",\"\",IF(I79=1,VLOOKUP(AB79,男子種目コード!$A$82:$B$85,2,FALSE),IF(I79=2,VLOOKUP(AB79,女子種目コード!$A$82:$B$85,2,FALSE))))","v":""},null,0,2,null,{"$f":"IF(AG79=\"\",\"\",IF(I79=1,VLOOKUP(AG79,男子種目コード!$A$78:$B$81,2,FALSE),IF(I79=2,VLOOKUP(AG79,女子種目コード!$A$78:$B$81,2,FALSE))))","v":""},null,0,2,0,null,null,null,"","",null,null,"",0,0,0,0,null,null,null,0,0,"",""]
[0,{"$f":"陸連登録!N75","v":""},0,null,{"$f":"陸連登録!M75","v":0},{"$f":"陸連登録!C75","v":0},{"$f":"陸連登録!D75","v":0},0,{"$f":"陸連登録!A75","v":""},{"$f":"陸連登録!P75","v":0},{"$f":"LEFT(陸連登録!L75,4)","v":""},{"$f":"RIGHT(陸連登録!L75,4)","v":""},{"$f":"陸連登録!F75","v":23},{"$f":"陸連登録!B75","v":0},null,"",null,0,2,null,"",null,null,{"$f":"IF(W80=\"\",\"\",IF(I80=1,VLOOKUP(W80,男子種目コード!$D$2:$E$30,2,FALSE),IF(I80=2,VLOOKUP(W80,女子種目コード!$D$2:$E$30,2,FALSE))))","v":""},null,null,null,null,{"$f":"IF(AB80=\"\",\"\",IF(I80=1,VLOOKUP(AB80,男子種目コード!$A$82:$B$85,2,FALSE),IF(I80=2,VLOOKUP(AB80,女子種目コード!$A$82:$B$85,2,FALSE))))","v":""},null,0,2,null,{"$f":"IF(AG80=\"\",\"\",IF(I80=1,VLOOKUP(AG80,男子種目コード!$A$78:$B$81,2,FALSE),IF(I80=2,VLOOKUP(AG80,女子種目コード!$A$78:$B$81,2,FALSE))))","v":""},null,0,2,0,null,null,null,"","",null,null,"",0,0,0,0,null,null,null,0,0,"",""]
[0,{"$f":"陸連登録!N76","v":""},0,null,{"$f":"陸連登録!M76","v":0},{"$f":"陸連登録!C76","v":0},{"$f":"陸連登録!D76","v":0},0,{"$f":"陸連登録!A76","v":""},{"$f":"陸連登録!P76","v":0},{"$f":"LEFT(陸連登録!L76,4)","v":""},{"$f":"RIGHT(陸連登録!L76,4)","v":""},{"$f":"陸連登録!F76","v":23},{"$f":"陸連登録!B76","v":0},null,"",null,0,2,null,"",null,null,{"$f":"IF(W81=\"\",\"\",IF(I81=1,VLOOKUP(W81,男子種目コード!$D$2:$E$30,2,FALSE),IF(I81=2,VLOOKUP(W81,女子種目コード!$D$2:$E$30,2,FALSE))))","v":""},null,null,null,null,{"$f":"IF(AB81=\"\",\"\",IF(I81=1,VLOOKUP(AB81,男子種目コード!$A$82:$B$85,2,FALSE),IF(I81=2,VLOOKUP(AB81,女子種目コード!$A$82:$B$85,2,FALSE))))","v":""},null,0,2,null,{"$f":"IF(AG81=\"\",\"\",IF(I81=1,VLOOKUP(AG81,男子種目コード!$A$78:$B$81,2,FALSE),IF(I81=2,VLOOKUP(AG81,女子種目コード!$A$78:$B$81,2,FALSE))))","v":""},null,0,2,0,null,null,null,"","",null,null,"",0,0,0,0,null,null,null,0,0,"",""]
[0,{"$f":"陸連登録!N77","v":""},0,null,{"$f":"陸連登録!M77","v":0},{"$f":"陸連登録!C77","v":0},{"$f":"陸連登録!D77","v":0},0,{"$f":"陸連登録!A77","v":""},{"$f":"陸連登録!P77","v":0},{"$f":"LEFT(陸連登録!L77,4)","v":""},{"$f":"RIGHT(陸連登録!L77,4)","v":""},{"$f":"陸連登録!F77","v":23},{"$f":"陸連登録!B77","v":0},null,"",null,0,2,null,"",null,null,{"$f":"IF(W82=\"\",\"\",IF(I82=1,VLOOKUP(W82,男子種目コード!$D$2:$E$30,2,FALSE),IF(I82=2,VLOOKUP(W82,女子種目コード!$D$2:$E$30,2,FALSE))))","v":""},null,null,null,null,{"$f":"IF(AB82=\"\",\"\",IF(I82=1,VLOOKUP(AB82,男子種目コード!$A$82:$B$85,2,FALSE),IF(I82=2,VLOOKUP(AB82,女子種目コード!$A$82:$B$85,2,FALSE))))","v":""},null,0,2,null,{"$f":"IF(AG82=\"\",\"\",IF(I82=1,VLOOKUP(AG82,男子種目コード!$A$78:$B$81,2,FALSE),IF(I82=2,VLOOKUP(AG82,女子種目コード!$A$78:$B$81,2,FALSE))))","v":""},null,0,2,0,null,null,null,"","",null,null,"",0,0,0,0,null,null,null,0,0,"",""]
[0,{"$f":"陸連登録!N78","v":""},0,null,{"$f":"陸連登録!M78","v":0},{"$f":"陸連登録!C78","v":0},{"$f":"陸連登録!D78","v":0},0,{"$f":"陸連登録!A78","v":""},{"$f":"陸連登録!P78","v":0},{"$f":"LEFT(陸連登録!L78,4)","v":""},{"$f":"RIGHT(陸連登録!L78,4)","v":""},{"$f":"陸連登録!F78","v":23},{"$f":"陸連登録!B78","v":0},null,"",null,0,2,null,"",null,null,{"$f":"IF(W83=\"\",\"\",IF(I83=1,VLOOKUP(W83,男子種目コード!$D$2:$E$30,2,FALSE),IF(I83=2,VLOOKUP(W83,女子種目コード!$D$2:$E$30,2,FALSE))))","v":""},null,null,null,null,{"$f":"IF(AB83=\"\",\"\",IF(I83=1,VLOOKUP(AB83,男子種目コード!$A$82:$B$85,2,FALSE),IF(I83=2,VLOOKUP(AB83,女子種目コード!$A$82:$B$85,2,FALSE))))","v":""},null,0,2,null,{"$f":"IF(AG83=\"\",\"\",IF(I83=1,VLOOKUP(AG83,男子種目コード!$A$78:$B$81,2,FALSE),IF(I83=2,VLOOKUP(AG83,女子種目コード!$A$78:$B$81,2,FALSE))))","v":""},null,0,2,0,null,null,null,"","",null,null,"",0,0,0,0,null,null,null,0,0,"",""]
[0,{"$f":"陸連登録!N79","v":""},0,null,{"$f":"陸連登録!M79","v":0},{"$f":"陸連登録!C79","v":0},{"$f":"陸連登録!D79","v":0},0,{"$f":"陸連登録!A79","v":""},{"$f":"陸連登録!P79","v":0},{"$f":"LEFT(陸連登録!L79,4)","v":""},{"$f":"RIGHT(陸連登録!L79,4)","v":""},{"$f":"陸連登録!F79","v":23},{"$f":"陸連登録!B79","v":0},null,"",null,0,2,null,"",null,null,{"$f":"IF(W84=\"\",\"\",IF(I84=1,VLOOKUP(W84,男子種目コード!$D$2:$E$30,2,FALSE),IF(I84=2,VLOOKUP(W84,女子種目コード!$D$2:$E$30,2,FALSE))))","v":""},null,null,null,null,{"$f":"IF(AB84=\"\",\"\",IF(I84=1,VLOOKUP(AB84,男子種目コード!$A$82:$B$85,2,FALSE),IF(I84=2,VLOOKUP(AB84,女子種目コード!$A$82:$B$85,2,FALSE))))","v":""},null,0,2,null,{"$f":"IF(AG84=\"\",\"\",IF(I84=1,VLOOKUP(AG84,男子種目コード!$A$78:$B$81,2,FALSE),IF(I84=2,VLOOKUP(AG84,女子種目コード!$A$78:$B$81,2,FALSE))))","v":""},null,0,2,0,null,null,null,"","",null,null,"",0,0,0,0,null,null,null,0,0,"",""]
[0,{"$f":"陸連登録!N80","v":""},0,null,{"$f":"陸連登録!M80","v":0},{"$f":"陸連登録!C80","v":0},{"$f":"陸連登録!D80","v":0},0,{"$f":"陸連登録!A80","v":""},{"$f":"陸連登録!P80","v":0},{"$f":"LEFT(陸連登録!L80,4)","v":""},{"$f":"RIGHT(陸連登録!L80,4)","v":""},{"$f":"陸連登録!F80","v":23},{"$f":"陸連登録!B80","v":0},null,"",null,0,2,null,"",null,null,{"$f":"IF(W85=\"\",\"\",IF(I85=1,VLOOKUP(W85,男子種目コード!$D$2:$E$30,2,FALSE),IF(I85=2,VLOOKUP(W85,女子種目コード!$D$2:$E$30,2,FALSE))))","v":""},null,null,null,null,{"$f":"IF(AB85=\"\",\"\",IF(I85=1,VLOOKUP(AB85,男子種目コード!$A$82:$B$85,2,FALSE),IF(I85=2,VLOOKUP(AB85,女子種目コード!$A$82:$B$85,2,FALSE))))","v":""},null,0,2,null,{"$f":"IF(AG85=\"\",\"\",IF(I85=1,VLOOKUP(AG85,男子種目コード!$A$78:$B$81,2,FALSE),IF(I85=2,VLOOKUP(AG85,女子種目コード!$A$78:$B$81,2,FALSE))))","v":""},null,0,2,0,null,null,null,"","",null,null,"",0,0,0,0,null,null,null,0,0,"",""]
[0,{"$f":"陸連登録!N81","v":""},0,null,{"$f":"陸連登録!M81","v":0},{"$f":"陸連登録!C81","v":0},{"$f":"陸連登録!D81","v":0},0,{"$f":"陸連登録!A81","v":""},{"$f":"陸連登録!P81","v":0},{"$f":"LEFT(陸連登録!L81,4)","v":""},{"$f":"RIGHT(陸連登録!L81,4)","v":""},{"$f":"陸連登録!F81","v":23},{"$f":"陸連登録!B81","v":0},null,"",null,0,2,null,"",null,null,{"$f":"IF(W86=\"\",\"\",IF(I86=1,VLOOKUP(W86,男子種目コード!$D$2:$E$30,2,FALSE),IF(I86=2,VLOOKUP(W86,女子種目コード!$D$2:$E$30,2,FALSE))))","v":""},null,null,null,null,{"$f":"IF(AB86=\"\",\"\",IF(I86=1,VLOOKUP(AB86,男子種目コード!$A$82:$B$85,2,FALSE),IF(I86=2,VLOOKUP(AB86,女子種目コード!$A$82:$B$85,2,FALSE))))","v":""},null,0,2,null,{"$f":"IF(AG86=\"\",\"\",IF(I86=1,VLOOKUP(AG86,男子種目コード!$A$78:$B$81,2,FALSE),IF(I86=2,VLOOKUP(AG86,女子種目コード!$A$78:$B$81,2,FALSE))))","v":""},null,0,2,0,null,null,null,"","",null,null,"",0,0,0,0,null,null,null,0,0,"",""]
[0,{"$f":"陸連登録!N82","v":""},0,null,{"$f":"陸連登録!M82","v":0},{"$f":"陸連登録!C82","v":0},{"$f":"陸連登録!D82","v":0},0,{"$f":"陸連登録!A82","v":""},{"$f":"陸連登録!P82","v":0},{"$f":"LEFT(陸連登録!L82,4)","v":""},{"$f":"RIGHT(陸連登録!L82,4)","v":""},{"$f":"陸連登録!F82","v":23},{"$f":"陸連登録!B82","v":0},null,"",null,0,2,null,"",null,null,{"$f":"IF(W87=\"\",\"\",IF(I87=1,VLOOKUP(W87,男子種目コード!$D$2:$E$30,2,FALSE),IF(I87=2,VLOOKUP(W87,女子種目コード!$D$2:$E$30,2,FALSE))))","v":""},null,null,null,null,{"$f":"IF(AB87=\"\",\"\",IF(I87=1,VLOOKUP(AB87,男子種目コード!$A$82:$B$85,2,FALSE),IF(I87=2,VLOOKUP(AB87,女子種目コード!$A$82:$B$85,2,FALSE))))","v":""},null,0,2,null,{"$f":"IF(AG87=\"\",\"\",IF(I87=1,VLOOKUP(AG87,男子種目コード!$A$78:$B$81,2,FALSE),IF(I87=2,VLOOKUP(AG87,女子種目コード!$A$78:$B$81,2,FALSE))))","v":""},null,0,2,0,null,null,null,"","",null,null,"",0,0,0,0,null,null,null,0,0,"",""]
[0,{"$f":"陸連登録!N83","v":""},0,null,{"$f":"陸連登録!M83","v":0},{"$f":"陸連登録!C83","v":0},{"$f":"陸連登録!D83","v":0},0,{"$f":"陸連登録!A83","v":""},{"$f":"陸連登録!P83","v":0},{"$f":"LEFT(陸連登録!L83,4)","v":""},{"$f":"RIGHT(陸連登録!L83,4)","v":""},{"$f":"陸連登録!F83","v":23},{"$f":"陸連登録!B83","v":0},null,"",null,0,2,null,"",null,null,{"$f":"IF(W88=\"\",\"\",IF(I88=1,VLOOKUP(W88,男子種目コード!$D$2:$E$30,2,FALSE),IF(I88=2,VLOOKUP(W88,女子種目コード!$D$2:$E$30,2,FALSE))))","v":""},null,null,null,null,{"$f":"IF(AB88=\"\",\"\",IF(I88=1,VLOOKUP(AB88,男子種目コード!$A$82:$B$85,2,FALSE),IF(I88=2,VLOOKUP(AB88,女子種目コード!$A$82:$B$85,2,FALSE))))","v":""},null,0,2,null,{"$f":"IF(AG88=\"\",\"\",IF(I88=1,VLOOKUP(AG88,男子種目コード!$A$78:$B$81,2,FALSE),IF(I88=2,VLOOKUP(AG88,女子種目コード!$A$78:$B$81,2,FALSE))))","v":""},null,0,2,0,null,null,null,"","",null,null,"",0,0,0,0,null,null,null,0,0,"",""]
[0,{"$f":"陸連登録!N84","v":""},0,null,{"$f":"陸連登録!M84","v":0},{"$f":"陸連登録!C84","v":0},{"$f":"陸連登録!D84","v":0},0,{"$f":"陸連登録!A84","v":""},{"$f":"陸連登録!P84","v":0},{"$f":"LEFT(陸連登録!L84,4)","v":""},{"$f":"RIGHT(陸連登録!L84,4)","v":""},{"$f":"陸連登録!F84","v":23},{"$f":"陸連登録!B84","v":0},null,"",null,0,2,null,"",null,null,{"$f":"IF(W89=\"\",\"\",IF(I89=1,VLOOKUP(W89,男子種目コード!$D$2:$E$30,2,FALSE),IF(I89=2,VLOOKUP(W89,女子種目コード!$D$2:$E$30,2,FALSE))))","v":""},null,null,null,null,{"$f":"IF(AB89=\"\",\"\",IF(I89=1,VLOOKUP(AB89,男子種目コード!$A$82:$B$85,2,FALSE),IF(I89=2,VLOOKUP(AB89,女子種目コード!$A$82:$B$85,2,FALSE))))","v":""},null,0,2,null,{"$f":"IF(AG89=\"\",\"\",IF(I89=1,VLOOKUP(AG89,男子種目コード!$A$78:$B$81,2,FALSE),IF(I89=2,VLOOKUP(AG89,女子種目コード!$A$78:$B$81,2,FALSE))))","v":""},null,0,2,0,null,null,null,"","",null,null,"",0,0,0,0,null,null,null,0,0,"",""]
[0,{"$f":"陸連登録!N85","v":""},0,null,{"$f":"陸連登録!M85","v":0},{"$f":"陸連登録!C85","v":0},{"$f":"陸連登録!D85","v":0},0,{"$f":"陸連登録!A85","v":""},{"$f":"陸連登録!P85","v":0},{"$f":"LEFT(陸連登録!L85,4)","v":""},{"$f":"RIGHT(陸連登録!L85,4)","v":""},{"$f":"陸連登録!F85","v":23},{"$f":"陸連登録!B85","v":0},null,"",null,0,2,null,"",null,null,{"$f":"IF(W90=\"\",\"\",IF(I90=1,VLOOKUP(W90,男子種目コード!$D$2:$E$30,2,FALSE),IF(I90=2,VLOOKUP(W90,女子種目コード!$D$2:$E$30,2,FALSE))))","v":""},null,null,null,null,{"$f":"IF(AB90=\"\",\"\",IF(I90=1,VLOOKUP(AB90,男子種目コード!$A$82:$B$85,2,FALSE),IF(I90=2,VLOOKUP(AB90,女子種目コード!$A$82:$B$85,2,FALSE))))","v":""},null,0,2,null,{"$f":"IF(AG90=\"\",\"\",IF(I90=1,VLOOKUP(AG90,男子種目コード!$A$78:$B$81,2,FALSE),IF(I90=2,VLOOKUP(AG90,女子種目コード!$A$78:$B$81,2,FALSE))))","v":""},null,0,2,0,null,null,null,"","",null,null,"",0,0,0,0,null,null,null,0,0,"",""]
[0,{"$f":"陸連登録!N86","v":""},0,null,{"$f":"陸連登録!M86","v":0},{"$f":"陸連登録!C86","v":0},{"$f":"陸連登録!D86","v":0},0,{"$f":"陸連登録!A86","v":""},{"$f":"陸連登録!P86","v":0},{"$f":"LEFT(陸連登録!L86,4)","v":""},{"$f":"RIGHT(陸連登録!L86,4)","v":""},{"$f":"陸連登録!F86","v":23},{"$f":"陸連登録!B86","v":0},null,"",null,0,2,null,"",null,null,{"$f":"IF(W91=\"\",\"\",IF(I91=1,VLOOKUP(W91,男子種目コード!$D$2:$E$30,2,FALSE),IF(I91=2,VLOOKUP(W91,女子種目コード!$D$2:$E$30,2,FALSE))))","v":""},null,null,null,null,{"$f":"IF(AB91=\"\",\"\",IF(I91=1,VLOOKUP(AB91,男子種目コード!$A$82:$B$85,2,FALSE),IF(I91=2,VLOOKUP(AB91,女子種目コード!$A$82:$B$85,2,FALSE))))","v":""},null,0,2,null,{"$f":"IF(AG91=\"\",\"\",IF(I91=1,VLOOKUP(AG91,男子種目コード!$A$78:$B$81,2,FALSE),IF(I91=2,VLOOKUP(AG91,女子種目コード!$A$78:$B$81,2,FALSE))))","v":""},null,0,2,0,null,null,null,"","",null,null,"",0,0,0,0,null,null,null,0,0,"",""]
[0,{"$f":"陸連登録!N87","v":""},0,null,{"$f":"陸連登録!M87","v":0},{"$f":"陸連登録!C87","v":0},{"$f":"陸連登録!D87","v":0},0,{"$f":"陸連登録!A87","v":""},{"$f":"陸連登録!P87","v":0},{"$f":"LEFT(陸連登録!L87,4)","v":""},{"$f":"RIGHT(陸連登録!L87,4)","v":""},{"$f":"陸連登録!F87","v":23},{"$f":"陸連登録!B87","v":0},null,"",null,0,2,null,"",null,null,{"$f":"IF(W92=\"\",\"\",IF(I92=1,VLOOKUP(W92,男子種目コード!$D$2:$E$30,2,FALSE),IF(I92=2,VLOOKUP(W92,女子種目コード!$D$2:$E$30,2,FALSE))))","v":""},null,null,null,null,{"$f":"IF(AB92=\"\",\"\",IF(I92=1,VLOOKUP(AB92,男子種目コード!$A$82:$B$85,2,FALSE),IF(I92=2,VLOOKUP(AB92,女子種目コード!$A$82:$B$85,2,FALSE))))","v":""},null,0,2,null,{"$f":"IF(AG92=\"\",\"\",IF(I92=1,VLOOKUP(AG92,男子種目コード!$A$78:$B$81,2,FALSE),IF(I92=2,VLOOKUP(AG92,女子種目コード!$A$78:$B$81,2,FALSE))))","v":""},null,0,2,0,null,null,null,"","",null,null,"",0,0,0,0,null,null,null,0,0,"",""]
[0,{"$f":"陸連登録!N88","v":""},0,null,{"$f":"陸連登録!M88","v":0},{"$f":"陸連登録!C88","v":0},{"$f":"陸連登録!D88","v":0},0,{"$f":"陸連登録!A88","v":""},{"$f":"陸連登録!P88","v":0},{"$f":"LEFT(陸連登録!L88,4)","v":""},{"$f":"RIGHT(陸連登録!L88,4)","v":""},{"$f":"陸連登録!F88","v":23},{"$f":"陸連登録!B88","v":0},null,"",null,0,2,null,"",null,null,{"$f":"IF(W93=\"\",\"\",IF(I93=1,VLOOKUP(W93,男子種目コード!$D$2:$E$30,2,FALSE),IF(I93=2,VLOOKUP(W93,女子種目コード!$D$2:$E$30,2,FALSE))))","v":""},null,null,null,null,{"$f":"IF(AB93=\"\",\"\",IF(I93=1,VLOOKUP(AB93,男子種目コード!$A$82:$B$85,2,FALSE),IF(I93=2,VLOOKUP(AB93,女子種目コード!$A$82:$B$85,2,FALSE))))","v":""},null,0,2,null,{"$f":"IF(AG93=\"\",\"\",IF(I93=1,VLOOKUP(AG93,男子種目コード!$A$78:$B$81,2,FALSE),IF(I93=2,VLOOKUP(AG93,女子種目コード!$A$78:$B$81,2,FALSE))))","v":""},null,0,2,0,null,null,null,"","",null,null,"",0,0,0,0,null,null,null,0,0,"",""]
[0,{"$f":"陸連登録!N89","v":""},0,null,{"$f":"陸連登録!M89","v":0},{"$f":"陸連登録!C89","v":0},{"$f":"陸連登録!D89","v":0},0,{"$f":"陸連登録!A89","v":""},{"$f":"陸連登録!P89","v":0},{"$f":"LEFT(陸連登録!L89,4)","v":""},{"$f":"RIGHT(陸連登録!L89,4)","v":""},{"$f":"陸連登録!F89","v":23},{"$f":"陸連登録!B89","v":0},null,"",null,0,2,null,"",null,null,{"$f":"IF(W94=\"\",\"\",IF(I94=1,VLOOKUP(W94,男子種目コード!$D$2:$E$30,2,FALSE),IF(I94=2,VLOOKUP(W94,女子種目コード!$D$2:$E$30,2,FALSE))))","v":""},null,null,null,null,{"$f":"IF(AB94=\"\",\"\",IF(I94=1,VLOOKUP(AB94,男子種目コード!$A$82:$B$85,2,FALSE),IF(I94=2,VLOOKUP(AB94,女子種目コード!$A$82:$B$85,2,FALSE))))","v":""},null,0,2,null,{"$f":"IF(AG94=\"\",\"\",IF(I94=1,VLOOKUP(AG94,男子種目コード!$A$78:$B$81,2,FALSE),IF(I94=2,VLOOKUP(AG94,女子種目コード!$A$78:$B$81,2,FALSE))))","v":""},null,0,2,0,null,null,null,"","",null,null,"",0,0,0,0,null,null,null,0,0,"",""]
[0,{"$f":"陸連登録!N90","v":""},0,null,{"$f":"陸連登録!M90","v":0},{"$f":"陸連登録!C90","v":0},{"$f":"陸連登録!D90","v":0},0,{"$f":"陸連登録!A90","v":""},{"$f":"陸連登録!P90","v":0},{"$f":"LEFT(陸連登録!L90,4)","v":""},{"$f":"RIGHT(陸連登録!L90,4)","v":""},{"$f":"陸連登録!F90","v":23},{"$f":"陸連登録!B90","v":0},null,"",null,0,2,null,"",null,null,{"$f":"IF(W95=\"\",\"\",IF(I95=1,VLOOKUP(W95,男子種目コード!$D$2:$E$30,2,FALSE),IF(I95=2,VLOOKUP(W95,女子種目コード!$D$2:$E$30,2,FALSE))))","v":""},null,null,null,null,{"$f":"IF(AB95=\"\",\"\",IF(I95=1,VLOOKUP(AB95,男子種目コード!$A$82:$B$85,2,FALSE),IF(I95=2,VLOOKUP(AB95,女子種目コード!$A$82:$B$85,2,FALSE))))","v":""},null,0,2,null,{"$f":"IF(AG95=\"\",\"\",IF(I95=1,VLOOKUP(AG95,男子種目コード!$A$78:$B$81,2,FALSE),IF(I95=2,VLOOKUP(AG95,女子種目コード!$A$78:$B$81,2,FALSE))))","v":""},null,0,2,0,null,null,null,"","",null,null,"",0,0,0,0,null,null,null,0,0,"",""]
[0,{"$f":"陸連登録!N91","v":""},0,null,{"$f":"陸連登録!M91","v":0},{"$f":"陸連登録!C91","v":0},{"$f":"陸連登録!D91","v":0},0,{"$f":"陸連登録!A91","v":""},{"$f":"陸連登録!P91","v":0},{"$f":"LEFT(陸連登録!L91,4)","v":""},{"$f":"RIGHT(陸連登録!L91,4)","v":""},{"$f":"陸連登録!F91","v":23},{"$f":"陸連登録!B91","v":0},null,"",null,0,2,null,"",null,null,{"$f":"IF(W96=\"\",\"\",IF(I96=1,VLOOKUP(W96,男子種目コード!$D$2:$E$30,2,FALSE),IF(I96=2,VLOOKUP(W96,女子種目コード!$D$2:$E$30,2,FALSE))))","v":""},null,null,null,null,{"$f":"IF(AB96=\"\",\"\",IF(I96=1,VLOOKUP(AB96,男子種目コード!$A$82:$B$85,2,FALSE),IF(I96=2,VLOOKUP(AB96,女子種目コード!$A$82:$B$85,2,FALSE))))","v":""},null,0,2,null,{"$f":"IF(AG96=\"\",\"\",IF(I96=1,VLOOKUP(AG96,男子種目コード!$A$78:$B$81,2,FALSE),IF(I96=2,VLOOKUP(AG96,女子種目コード!$A$78:$B$81,2,FALSE))))","v":""},null,0,2,0,null,null,null,"","",null,null,"",0,0,0,0,null,null,null,0,0,"",""]
[0,{"$f":"陸連登録!N92","v":""},0,null,{"$f":"陸連登録!M92","v":0},{"$f":"陸連登録!C92","v":0},{"$f":"陸連登録!D92","v":0},0,{"$f":"陸連登録!A92","v":""},{"$f":"陸連登録!P92","v":0},{"$f":"LEFT(陸連登録!L92,4)","v":""},{"$f":"RIGHT(陸連登録!L92,4)","v":""},{"$f":"陸連登録!F92","v":23},{"$f":"陸連登録!B92","v":0},null,"",null,0,2,null,"",null,null,{"$f":"IF(W97=\"\",\"\",IF(I97=1,VLOOKUP(W97,男子種目コード!$D$2:$E$30,2,FALSE),IF(I97=2,VLOOKUP(W97,女子種目コード!$D$2:$E$30,2,FALSE))))","v":""},null,null,null,null,{"$f":"IF(AB97=\"\",\"\",IF(I97=1,VLOOKUP(AB97,男子種目コード!$A$82:$B$85,2,FALSE),IF(I97=2,VLOOKUP(AB97,女子種目コード!$A$82:$B$85,2,FALSE))))","v":""},null,0,2,null,{"$f":"IF(AG97=\"\",\"\",IF(I97=1,VLOOKUP(AG97,男子種目コード!$A$78:$B$81,2,FALSE),IF(I97=2,VLOOKUP(AG97,女子種目コード!$A$78:$B$81,2,FALSE))))","v":""},null,0,2,0,null,null,null,"","",null,null,"",0,0,0,0,null,null,null,0,0,"",""]
[0,{"$f":"陸連登録!N93","v":""},0,null,{"$f":"陸連登録!M93","v":0},{"$f":"陸連登録!C93","v":0},{"$f":"陸連登録!D93","v":0},0,{"$f":"陸連登録!A93","v":""},{"$f":"陸連登録!P93","v":0},{"$f":"LEFT(陸連登録!L93,4)","v":""},{"$f":"RIGHT(陸連登録!L93,4)","v":""},{"$f":"陸連登録!F93","v":23},{"$f":"陸連登録!B93","v":0},null,"",null,0,2,null,"",null,null,{"$f":"IF(W98=\"\",\"\",IF(I98=1,VLOOKUP(W98,男子種目コード!$D$2:$E$30,2,FALSE),IF(I98=2,VLOOKUP(W98,女子種目コード!$D$2:$E$30,2,FALSE))))","v":""},null,null,null,null,{"$f":"IF(AB98=\"\",\"\",IF(I98=1,VLOOKUP(AB98,男子種目コード!$A$82:$B$85,2,FALSE),IF(I98=2,VLOOKUP(AB98,女子種目コード!$A$82:$B$85,2,FALSE))))","v":""},null,0,2,null,{"$f":"IF(AG98=\"\",\"\",IF(I98=1,VLOOKUP(AG98,男子種目コード!$A$78:$B$81,2,FALSE),IF(I98=2,VLOOKUP(AG98,女子種目コード!$A$78:$B$81,2,FALSE))))","v":""},null,0,2,0,null,null,null,"","",null,null,"",0,0,0,0,null,null,null,0,0,"",""]
[0,{"$f":"陸連登録!N94","v":""},0,null,{"$f":"陸連登録!M94","v":0},{"$f":"陸連登録!C94","v":0},{"$f":"陸連登録!D94","v":0},0,{"$f":"陸連登録!A94","v":""},{"$f":"陸連登録!P94","v":0},{"$f":"LEFT(陸連登録!L94,4)","v":""},{"$f":"RIGHT(陸連登録!L94,4)","v":""},{"$f":"陸連登録!F94","v":23},{"$f":"陸連登録!B94","v":0},null,"",null,0,2,null,"",null,null,{"$f":"IF(W99=\"\",\"\",IF(I99=1,VLOOKUP(W99,男子種目コード!$D$2:$E$30,2,FALSE),IF(I99=2,VLOOKUP(W99,女子種目コード!$D$2:$E$30,2,FALSE))))","v":""},null,null,null,null,{"$f":"IF(AB99=\"\",\"\",IF(I99=1,VLOOKUP(AB99,男子種目コード!$A$82:$B$85,2,FALSE),IF(I99=2,VLOOKUP(AB99,女子種目コード!$A$82:$B$85,2,FALSE))))","v":""},null,0,2,null,{"$f":"IF(AG99=\"\",\"\",IF(I99=1,VLOOKUP(AG99,男子種目コード!$A$78:$B$81,2,FALSE),IF(I99=2,VLOOKUP(AG99,女子種目コード!$A$78:$B$81,2,FALSE))))","v":""},null,0,2,0,null,null,null,"","",null,null,"",0,0,0,0,null,null,null,0,0,"",""]
[0,{"$f":"陸連登録!N95","v":""},0,null,{"$f":"陸連登録!M95","v":0},{"$f":"陸連登録!C95","v":0},{"$f":"陸連登録!D95","v":0},0,{"$f":"陸連登録!A95","v":""},{"$f":"陸連登録!P95","v":0},{"$f":"LEFT(陸連登録!L95,4)","v":""},{"$f":"RIGHT(陸連登録!L95,4)","v":""},{"$f":"陸連登録!F95","v":23},{"$f":"陸連登録!B95","v":0},null,"",null,0,2,null,"",null,null,{"$f":"IF(W100=\"\",\"\",IF(I100=1,VLOOKUP(W100,男子種目コード!$D$2:$E$30,2,FALSE),IF(I100=2,VLOOKUP(W100,女子種目コード!$D$2:$E$30,2,FALSE))))","v":""},null,null,null,null,{"$f":"IF(AB100=\"\",\"\",IF(I100=1,VLOOKUP(AB100,男子種目コード!$A$82:$B$85,2,FALSE),IF(I100=2,VLOOKUP(AB100,女子種目コード!$A$82:$B$85,2,FALSE))))","v":""},null,0,2,null,{"$f":"IF(AG100=\"\",\"\",IF(I100=1,VLOOKUP(AG100,男子種目コード!$A$78:$B$81,2,FALSE),IF(I100=2,VLOOKUP(AG100,女子種目コード!$A$78:$B$81,2,FALSE))))","v":""},null,0,2,0,null,null,null,"","",null,null,"",0,0,0,0,null,null,null,0,0,"",""]
[0,{"$f":"陸連登録!N96","v":""},0,null,{"$f":"陸連登録!M96","v":0},{"$f":"陸連登録!C96","v":0},{"$f":"陸連登録!D96","v":0},0,{"$f":"陸連登録!A96","v":""},{"$f":"陸連登録!P96","v":0},{"$f":"LEFT(陸連登録!L96,4)","v":""},{"$f":"RIGHT(陸連登録!L96,4)","v":""},{"$f":"陸連登録!F96","v":23},{"$f":"陸連登録!B96","v":0},null,"",null,0,2,null,"",null,null,{"$f":"IF(W101=\"\",\"\",IF(I101=1,VLOOKUP(W101,男子種目コード!$D$2:$E$30,2,FALSE),IF(I101=2,VLOOKUP(W101,女子種目コード!$D$2:$E$30,2,FALSE))))","v":""},null,null,null,null,{"$f":"IF(AB101=\"\",\"\",IF(I101=1,VLOOKUP(AB101,男子種目コード!$A$82:$B$85,2,FALSE),IF(I101=2,VLOOKUP(AB101,女子種目コード!$A$82:$B$85,2,FALSE))))","v":""},null,0,2,null,{"$f":"IF(AG101=\"\",\"\",IF(I101=1,VLOOKUP(AG101,男子種目コード!$A$78:$B$81,2,FALSE),IF(I101=2,VLOOKUP(AG101,女子種目コード!$A$78:$B$81,2,FALSE))))","v":""},null,0,2,0,null,null,null,"","",null,null,"",0,0,0,0,null,null,null,0,0,"",""]
[0,{"$f":"陸連登録!N97","v":""},0,null,{"$f":"陸連登録!M97","v":0},{"$f":"陸連登録!C97","v":0},{"$f":"陸連登録!D97","v":0},0,{"$f":"陸連登録!A97","v":""},{"$f":"陸連登録!P97","v":0},{"$f":"LEFT(陸連登録!L97,4)","v":""},{"$f":"RIGHT(陸連登録!L97,4)","v":""},{"$f":"陸連登録!F97","v":23},{"$f":"陸連登録!B97","v":0},null,"",null,0,2,null,"",null,null,{"$f":"IF(W102=\"\",\"\",IF(I102=1,VLOOKUP(W102,男子種目コード!$D$2:$E$30,2,FALSE),IF(I102=2,VLOOKUP(W102,女子種目コード!$D$2:$E$30,2,FALSE))))","v":""},null,null,null,null,{"$f":"IF(AB102=\"\",\"\",IF(I102=1,VLOOKUP(AB102,男子種目コード!$A$82:$B$85,2,FALSE),IF(I102=2,VLOOKUP(AB102,女子種目コード!$A$82:$B$85,2,FALSE))))","v":""},null,0,2,null,{"$f":"IF(AG102=\"\",\"\",IF(I102=1,VLOOKUP(AG102,男子種目コード!$A$78:$B$81,2,FALSE),IF(I102=2,VLOOKUP(AG102,女子種目コード!$A$78:$B$81,2,FALSE))))","v":""},null,0,2,0,null,null,null,"","",null,null,"",0,0,0,0,null,null,null,0,0,"",""]
[0,{"$f":"陸連登録!N98","v":""},0,null,{"$f":"陸連登録!M98","v":0},{"$f":"陸連登録!C98","v":0},{"$f":"陸連登録!D98","v":0},0,{"$f":"陸連登録!A98","v":""},{"$f":"陸連登録!P98","v":0},{"$f":"LEFT(陸連登録!L98,4)","v":""},{"$f":"RIGHT(陸連登録!L98,4)","v":""},{"$f":"陸連登録!F98","v":23},{"$f":"陸連登録!B98","v":0},null,{"$f":"IF(O103=\"\",\"\",IF($I103=1,VLOOKUP(O103,$BF$8:$BH$33,3,FALSE),IF($I103=2,VLOOKUP(O103,$BF$36:$BH$58,3,FALSE))))","v":""},null,0,2,null,{"$f":"IF(T103=\"\",\"\",IF($I103=1,VLOOKUP(T103,$BF$8:$BH$33,3,FALSE),IF($I103=2,VLOOKUP(T103,$BF$36:$BH$58,3,FALSE))))","v":""},null,null,{"$f":"IF(W103=\"\",\"\",IF(I103=1,VLOOKUP(W103,男子種目コード!$D$2:$E$30,2,FALSE),IF(I103=2,VLOOKUP(W103,女子種目コード!$D$2:$E$30,2,FALSE))))","v":""},null,null,null,null,{"$f":"IF(AB103=\"\",\"\",IF(I103=1,VLOOKUP(AB103,男子種目コード!$A$82:$B$85,2,FALSE),IF(I103=2,VLOOKUP(AB103,女子種目コード!$A$82:$B$85,2,FALSE))))","v":""},null,0,2,null,{"$f":"IF(AG103=\"\",\"\",IF(I103=1,VLOOKUP(AG103,男子種目コード!$A$78:$B$81,2,FALSE),IF(I103=2,VLOOKUP(AG103,女子種目コード!$A$78:$B$81,2,FALSE))))","v":""},null,0,2,0,null,null,null,"","",null,null,"",{"$f":"IF(OR(AT103=1,T103=\"\"),0,1)","v":0},{"$f":"IF(OR(AT103=1,AU103=1,AB103=\"\"),0,1)","v":0},{"$f":"IF(OR(AT103=1,AU103=1,AV103=1,AG103=\"\"),0,1)","v":0},0,null,null,null,0,0,"",""]
[0,{"$f":"陸連登録!N99","v":""},0,null,{"$f":"陸連登録!M99","v":0},{"$f":"陸連登録!C99","v":0},{"$f":"陸連登録!D99","v":0},0,{"$f":"陸連登録!A99","v":""},{"$f":"陸連登録!P99","v":0},{"$f":"LEFT(陸連登録!L99,4)","v":""},{"$f":"RIGHT(陸連登録!L99,4)","v":""},{"$f":"陸連登録!F99","v":23},{"$f":"陸連登録!B99","v":0},null,"",null,0,2,null,"",null,null,{"$f":"IF(W104=\"\",\"\",IF(I104=1,VLOOKUP(W104,男子種目コード!$D$2:$E$30,2,FALSE),IF(I104=2,VLOOKUP(W104,女子種目コード!$D$2:$E$30,2,FALSE))))","v":""},null,null,null,null,{"$f":"IF(AB104=\"\",\"\",IF(I104=1,VLOOKUP(AB104,男子種目コード!$A$82:$B$85,2,FALSE),IF(I104=2,VLOOKUP(AB104,女子種目コード!$A$82:$B$85,2,FALSE))))","v":""},null,0,2,null,{"$f":"IF(AG104=\"\",\"\",IF(I104=1,VLOOKUP(AG104,男子種目コード!$A$78:$B$81,2,FALSE),IF(I104=2,VLOOKUP(AG104,女子種目コード!$A$78:$B$81,2,FALSE))))","v":""},null,0,2,0,null,null,null,"","",null,null,"",0,0,0,0,null,null,null,0,0,"",""]
[0,{"$f":"陸連登録!N100","v":""},0,null,{"$f":"陸連登録!M100","v":0},{"$f":"陸連登録!C100","v":0},{"$f":"陸連登録!D100","v":0},0,{"$f":"陸連登録!A100","v":""},{"$f":"陸連登録!P100","v":0},{"$f":"LEFT(陸連登録!L100,4)","v":""},{"$f":"RIGHT(陸連登録!L100,4)","v":""},{"$f":"陸連登録!F100","v":23},{"$f":"陸連登録!B100","v":0},null,"",null,0,2,null,"",null,null,{"$f":"IF(W105=\"\",\"\",IF(I105=1,VLOOKUP(W105,男子種目コード!$D$2:$E$30,2,FALSE),IF(I105=2,VLOOKUP(W105,女子種目コード!$D$2:$E$30,2,FALSE))))","v":""},null,null,null,null,{"$f":"IF(AB105=\"\",\"\",IF(I105=1,VLOOKUP(AB105,男子種目コード!$A$82:$B$85,2,FALSE),IF(I105=2,VLOOKUP(AB105,女子種目コード!$A$82:$B$85,2,FALSE))))","v":""},null,0,2,null,{"$f":"IF(AG105=\"\",\"\",IF(I105=1,VLOOKUP(AG105,男子種目コード!$A$78:$B$81,2,FALSE),IF(I105=2,VLOOKUP(AG105,女子種目コード!$A$78:$B$81,2,FALSE))))","v":""},null,0,2,0,null,null,null,"","",null,null,"",0,0,0,0,null,null,null,0,0,"",""]
[0,{"$f":"陸連登録!N101","v":""},0,null,{"$f":"陸連登録!M101","v":0},{"$f":"陸連登録!C101","v":0},{"$f":"陸連登録!D101","v":0},0,{"$f":"陸連登録!A101","v":""},{"$f":"陸連登録!P101","v":0},{"$f":"LEFT(陸連登録!L101,4)","v":""},{"$f":"RIGHT(陸連登録!L101,4)","v":""},{"$f":"陸連登録!F101","v":23},{"$f":"陸連登録!B101","v":0},null,"",null,0,2,null,"",null,null,{"$f":"IF(W106=\"\",\"\",IF(I106=1,VLOOKUP(W106,男子種目コード!$D$2:$E$30,2,FALSE),IF(I106=2,VLOOKUP(W106,女子種目コード!$D$2:$E$30,2,FALSE))))","v":""},null,null,null,null,{"$f":"IF(AB106=\"\",\"\",IF(I106=1,VLOOKUP(AB106,男子種目コード!$A$82:$B$85,2,FALSE),IF(I106=2,VLOOKUP(AB106,女子種目コード!$A$82:$B$85,2,FALSE))))","v":""},null,0,2,null,{"$f":"IF(AG106=\"\",\"\",IF(I106=1,VLOOKUP(AG106,男子種目コード!$A$78:$B$81,2,FALSE),IF(I106=2,VLOOKUP(AG106,女子種目コード!$A$78:$B$81,2,FALSE))))","v":""},null,0,2,0,null,null,null,"","",null,null,"",0,0,0,0,null,null,null,0,0,"",""]
[0,{"$f":"陸連登録!N102","v":""},0,null,{"$f":"陸連登録!M102","v":0},{"$f":"陸連登録!C102","v":0},{"$f":"陸連登録!D102","v":0},0,{"$f":"陸連登録!A102","v":""},{"$f":"陸連登録!P102","v":0},{"$f":"LEFT(陸連登録!L102,4)","v":""},{"$f":"RIGHT(陸連登録!L102,4)","v":""},{"$f":"陸連登録!F102","v":23},{"$f":"陸連登録!B102","v":0},null,"",null,0,2,null,"",null,null,{"$f":"IF(W107=\"\",\"\",IF(I107=1,VLOOKUP(W107,男子種目コード!$D$2:$E$30,2,FALSE),IF(I107=2,VLOOKUP(W107,女子種目コード!$D$2:$E$30,2,FALSE))))","v":""},null,null,null,null,{"$f":"IF(AB107=\"\",\"\",IF(I107=1,VLOOKUP(AB107,男子種目コード!$A$82:$B$85,2,FALSE),IF(I107=2,VLOOKUP(AB107,女子種目コード!$A$82:$B$85,2,FALSE))))","v":""},null,0,2,null,{"$f":"IF(AG107=\"\",\"\",IF(I107=1,VLOOKUP(AG107,男子種目コード!$A$78:$B$81,2,FALSE),IF(I107=2,VLOOKUP(AG107,女子種目コード!$A$78:$B$81,2,FALSE))))","v":""},null,0,2,0,null,null,null,"","",null,null,"",0,0,0,0,null,null,null,0,0,"",""]
[0,{"$f":"陸連登録!N103","v":""},0,null,{"$f":"陸連登録!M103","v":0},{"$f":"陸連登録!C103","v":0},{"$f":"陸連登録!D103","v":0},0,{"$f":"陸連登録!A103","v":""},{"$f":"陸連登録!P103","v":0},{"$f":"LEFT(陸連登録!L103,4)","v":""},{"$f":"RIGHT(陸連登録!L103,4)","v":""},{"$f":"陸連登録!F103","v":23},{"$f":"陸連登録!B103","v":0},null,"",null,0,2,null,"",null,null,{"$f":"IF(W108=\"\",\"\",IF(I108=1,VLOOKUP(W108,男子種目コード!$D$2:$E$30,2,FALSE),IF(I108=2,VLOOKUP(W108,女子種目コード!$D$2:$E$30,2,FALSE))))","v":""},null,null,null,null,{"$f":"IF(AB108=\"\",\"\",IF(I108=1,VLOOKUP(AB108,男子種目コード!$A$82:$B$85,2,FALSE),IF(I108=2,VLOOKUP(AB108,女子種目コード!$A$82:$B$85,2,FALSE))))","v":""},null,0,2,null,{"$f":"IF(AG108=\"\",\"\",IF(I108=1,VLOOKUP(AG108,男子種目コード!$A$78:$B$81,2,FALSE),IF(I108=2,VLOOKUP(AG108,女子種目コード!$A$78:$B$81,2,FALSE))))","v":""},null,0,2,0,null,null,null,"","",null,null,"",0,0,0,0,null,null,null,0,0,"",""]
[0,{"$f":"陸連登録!N104","v":""},0,null,{"$f":"陸連登録!M104","v":0},{"$f":"陸連登録!C104","v":0},{"$f":"陸連登録!D104","v":0},0,{"$f":"陸連登録!A104","v":""},{"$f":"陸連登録!P104","v":0},{"$f":"LEFT(陸連登録!L104,4)","v":""},{"$f":"RIGHT(陸連登録!L104,4)","v":""},{"$f":"陸連登録!F104","v":23},{"$f":"陸連登録!B104","v":0},null,"",null,0,2,null,"",null,null,{"$f":"IF(W109=\"\",\"\",IF(I109=1,VLOOKUP(W109,男子種目コード!$D$2:$E$30,2,FALSE),IF(I109=2,VLOOKUP(W109,女子種目コード!$D$2:$E$30,2,FALSE))))","v":""},null,null,null,null,{"$f":"IF(AB109=\"\",\"\",IF(I109=1,VLOOKUP(AB109,男子種目コード!$A$82:$B$85,2,FALSE),IF(I109=2,VLOOKUP(AB109,女子種目コード!$A$82:$B$85,2,FALSE))))","v":""},null,0,2,null,{"$f":"IF(AG109=\"\",\"\",IF(I109=1,VLOOKUP(AG109,男子種目コード!$A$78:$B$81,2,FALSE),IF(I109=2,VLOOKUP(AG109,女子種目コード!$A$78:$B$81,2,FALSE))))","v":""},null,0,2,0,null,null,null,"","",null,null,"",0,0,0,0,null,null,null,0,0,"",""]
[0,{"$f":"陸連登録!N105","v":""},0,null,{"$f":"陸連登録!M105","v":0},{"$f":"陸連登録!C105","v":0},{"$f":"陸連登録!D105","v":0},0,{"$f":"陸連登録!A105","v":""},{"$f":"陸連登録!P105","v":0},{"$f":"LEFT(陸連登録!L105,4)","v":""},{"$f":"RIGHT(陸連登録!L105,4)","v":""},{"$f":"陸連登録!F105","v":23},{"$f":"陸連登録!B105","v":0},null,"",null,0,2,null,"",null,null,{"$f":"IF(W110=\"\",\"\",IF(I110=1,VLOOKUP(W110,男子種目コード!$D$2:$E$30,2,FALSE),IF(I110=2,VLOOKUP(W110,女子種目コード!$D$2:$E$30,2,FALSE))))","v":""},null,null,null,null,{"$f":"IF(AB110=\"\",\"\",IF(I110=1,VLOOKUP(AB110,男子種目コード!$A$82:$B$85,2,FALSE),IF(I110=2,VLOOKUP(AB110,女子種目コード!$A$82:$B$85,2,FALSE))))","v":""},null,0,2,null,{"$f":"IF(AG110=\"\",\"\",IF(I110=1,VLOOKUP(AG110,男子種目コード!$A$78:$B$81,2,FALSE),IF(I110=2,VLOOKUP(AG110,女子種目コード!$A$78:$B$81,2,FALSE))))","v":""},null,0,2,0,null,null,null,"","",null,null,"",0,0,0,0,null,null,null,0,0,"",""]
[0,{"$f":"陸連登録!N106","v":""},0,null,{"$f":"陸連登録!M106","v":0},{"$f":"陸連登録!C106","v":0},{"$f":"陸連登録!D106","v":0},0,{"$f":"陸連登録!A106","v":""},{"$f":"陸連登録!P106","v":0},{"$f":"LEFT(陸連登録!L106,4)","v":""},{"$f":"RIGHT(陸連登録!L106,4)","v":""},{"$f":"陸連登録!F106","v":23},{"$f":"陸連登録!B106","v":0},null,"",null,0,2,null,"",null,null,{"$f":"IF(W111=\"\",\"\",IF(I111=1,VLOOKUP(W111,男子種目コード!$D$2:$E$30,2,FALSE),IF(I111=2,VLOOKUP(W111,女子種目コード!$D$2:$E$30,2,FALSE))))","v":""},null,null,null,null,{"$f":"IF(AB111=\"\",\"\",IF(I111=1,VLOOKUP(AB111,男子種目コード!$A$82:$B$85,2,FALSE),IF(I111=2,VLOOKUP(AB111,女子種目コード!$A$82:$B$85,2,FALSE))))","v":""},null,0,2,null,{"$f":"IF(AG111=\"\",\"\",IF(I111=1,VLOOKUP(AG111,男子種目コード!$A$78:$B$81,2,FALSE),IF(I111=2,VLOOKUP(AG111,女子種目コード!$A$78:$B$81,2,FALSE))))","v":""},null,0,2,0,null,null,null,"","",null,null,"",0,0,0,0,null,null,null,0,0,"",""]
[0,{"$f":"陸連登録!N107","v":""},0,null,{"$f":"陸連登録!M107","v":0},{"$f":"陸連登録!C107","v":0},{"$f":"陸連登録!D107","v":0},0,{"$f":"陸連登録!A107","v":""},{"$f":"陸連登録!P107","v":0},{"$f":"LEFT(陸連登録!L107,4)","v":""},{"$f":"RIGHT(陸連登録!L107,4)","v":""},{"$f":"陸連登録!F107","v":23},{"$f":"陸連登録!B107","v":0},null,"",null,0,2,null,"",null,null,{"$f":"IF(W112=\"\",\"\",IF(I112=1,VLOOKUP(W112,男子種目コード!$D$2:$E$30,2,FALSE),IF(I112=2,VLOOKUP(W112,女子種目コード!$D$2:$E$30,2,FALSE))))","v":""},null,null,null,null,{"$f":"IF(AB112=\"\",\"\",IF(I112=1,VLOOKUP(AB112,男子種目コード!$A$82:$B$85,2,FALSE),IF(I112=2,VLOOKUP(AB112,女子種目コード!$A$82:$B$85,2,FALSE))))","v":""},null,0,2,null,{"$f":"IF(AG112=\"\",\"\",IF(I112=1,VLOOKUP(AG112,男子種目コード!$A$78:$B$81,2,FALSE),IF(I112=2,VLOOKUP(AG112,女子種目コード!$A$78:$B$81,2,FALSE))))","v":""},null,0,2,0,null,null,null,"","",null,null,"",0,0,0,0,null,null,null,0,0,"",""]
[0,{"$f":"陸連登録!N108","v":""},0,null,{"$f":"陸連登録!M108","v":0},{"$f":"陸連登録!C108","v":0},{"$f":"陸連登録!D108","v":0},0,{"$f":"陸連登録!A108","v":""},{"$f":"陸連登録!P108","v":0},{"$f":"LEFT(陸連登録!L108,4)","v":""},{"$f":"RIGHT(陸連登録!L108,4)","v":""},{"$f":"陸連登録!F108","v":23},{"$f":"陸連登録!B108","v":0},null,"",null,0,2,null,"",null,null,{"$f":"IF(W113=\"\",\"\",IF(I113=1,VLOOKUP(W113,男子種目コード!$D$2:$E$30,2,FALSE),IF(I113=2,VLOOKUP(W113,女子種目コード!$D$2:$E$30,2,FALSE))))","v":""},null,null,null,null,{"$f":"IF(AB113=\"\",\"\",IF(I113=1,VLOOKUP(AB113,男子種目コード!$A$82:$B$85,2,FALSE),IF(I113=2,VLOOKUP(AB113,女子種目コード!$A$82:$B$85,2,FALSE))))","v":""},null,0,2,null,{"$f":"IF(AG113=\"\",\"\",IF(I113=1,VLOOKUP(AG113,男子種目コード!$A$78:$B$81,2,FALSE),IF(I113=2,VLOOKUP(AG113,女子種目コード!$A$78:$B$81,2,FALSE))))","v":""},null,0,2,0,null,null,null,"","",null,null,"",0,0,0,0,null,null,null,0,0,"",""]
[0,{"$f":"陸連登録!N109","v":""},0,null,{"$f":"陸連登録!M109","v":0},{"$f":"陸連登録!C109","v":0},{"$f":"陸連登録!D109","v":0},0,{"$f":"陸連登録!A109","v":""},{"$f":"陸連登録!P109","v":0},{"$f":"LEFT(陸連登録!L109,4)","v":""},{"$f":"RIGHT(陸連登録!L109,4)","v":""},{"$f":"陸連登録!F109","v":23},{"$f":"陸連登録!B109","v":0},null,"",null,0,2,null,"",null,null,{"$f":"IF(W114=\"\",\"\",IF(I114=1,VLOOKUP(W114,男子種目コード!$D$2:$E$30,2,FALSE),IF(I114=2,VLOOKUP(W114,女子種目コード!$D$2:$E$30,2,FALSE))))","v":""},null,null,null,null,{"$f":"IF(AB114=\"\",\"\",IF(I114=1,VLOOKUP(AB114,男子種目コード!$A$82:$B$85,2,FALSE),IF(I114=2,VLOOKUP(AB114,女子種目コード!$A$82:$B$85,2,FALSE))))","v":""},null,0,2,null,{"$f":"IF(AG114=\"\",\"\",IF(I114=1,VLOOKUP(AG114,男子種目コード!$A$78:$B$81,2,FALSE),IF(I114=2,VLOOKUP(AG114,女子種目コード!$A$78:$B$81,2,FALSE))))","v":""},null,0,2,0,null,null,null,"","",null,null,"",0,0,0,0,null,null,null,0,0,"",""]
[0,{"$f":"陸連登録!N110","v":""},0,null,{"$f":"陸連登録!M110","v":0},{"$f":"陸連登録!C110","v":0},{"$f":"陸連登録!D110","v":0},0,{"$f":"陸連登録!A110","v":""},{"$f":"陸連登録!P110","v":0},{"$f":"LEFT(陸連登録!L110,4)","v":""},{"$f":"RIGHT(陸連登録!L110,4)","v":""},{"$f":"陸連登録!F110","v":23},{"$f":"陸連登録!B110","v":0},null,"",null,0,2,null,"",null,null,{"$f":"IF(W115=\"\",\"\",IF(I115=1,VLOOKUP(W115,男子種目コード!$D$2:$E$30,2,FALSE),IF(I115=2,VLOOKUP(W115,女子種目コード!$D$2:$E$30,2,FALSE))))","v":""},null,null,null,null,{"$f":"IF(AB115=\"\",\"\",IF(I115=1,VLOOKUP(AB115,男子種目コード!$A$82:$B$85,2,FALSE),IF(I115=2,VLOOKUP(AB115,女子種目コード!$A$82:$B$85,2,FALSE))))","v":""},null,0,2,null,{"$f":"IF(AG115=\"\",\"\",IF(I115=1,VLOOKUP(AG115,男子種目コード!$A$78:$B$81,2,FALSE),IF(I115=2,VLOOKUP(AG115,女子種目コード!$A$78:$B$81,2,FALSE))))","v":""},null,0,2,0,null,null,null,"","",null,null,"",0,0,0,0,null,null,null,0,0,"",""]
[0,{"$f":"陸連登録!N111","v":""},0,null,{"$f":"陸連登録!M111","v":0},{"$f":"陸連登録!C111","v":0},{"$f":"陸連登録!D111","v":0},0,{"$f":"陸連登録!A111","v":""},{"$f":"陸連登録!P111","v":0},{"$f":"LEFT(陸連登録!L111,4)","v":""},{"$f":"RIGHT(陸連登録!L111,4)","v":""},{"$f":"陸連登録!F111","v":23},{"$f":"陸連登録!B111","v":0},null,"",null,0,2,null,"",null,null,{"$f":"IF(W116=\"\",\"\",IF(I116=1,VLOOKUP(W116,男子種目コード!$D$2:$E$30,2,FALSE),IF(I116=2,VLOOKUP(W116,女子種目コード!$D$2:$E$30,2,FALSE))))","v":""},null,null,null,null,{"$f":"IF(AB116=\"\",\"\",IF(I116=1,VLOOKUP(AB116,男子種目コード!$A$82:$B$85,2,FALSE),IF(I116=2,VLOOKUP(AB116,女子種目コード!$A$82:$B$85,2,FALSE))))","v":""},null,0,2,null,{"$f":"IF(AG116=\"\",\"\",IF(I116=1,VLOOKUP(AG116,男子種目コード!$A$78:$B$81,2,FALSE),IF(I116=2,VLOOKUP(AG116,女子種目コード!$A$78:$B$81,2,FALSE))))","v":""},null,0,2,1,null,null,null,"","",null,null,"",0,0,0,{"$f":"SUM(AT116:AW116)","v":0},null,null,null,0,0,"",""]
[null,null,null,null,null,null,null,null,null,null,null,null,null,null,null,null,null,null,null,null,null,null,null,null,null,null,null,null,null,null,null,null,null,null,null,null,null,null,null,null,null,null,null,null,null,null,null,null,null,null,null,null,null,{"$f":"SUM(BB7:BB116)","v":0},{"$f":"SUM(BC7:BC116)","v":0},{"$f":"SUM(BD7:BD116)","v":0},{"$f":"SUM(BE7:BE116)","v":0}]
[]
[]
[]
[]
[]
[]
[]
[]
[null,null,null,null,null,null,null,null,null,null,null,null,null,null,null,null,null,null,null,null,null,null,null,null,null,null,null,"男子A",{"$f":"COUNTIF($AB$7:$AB$116,AB126)","v":0},{"$f":"COUNTIF($AG$7:$AG$116,AB126)","v":0}]
[null,null,null,null,null,null,null,null,null,null,null,null,null,null,null,null,null,null,null,null,null,null,null,null,null,null,null,"男子B",{"$f":"COUNTIF($AB$7:$AB$116,AB127)","v":0},{"$f":"COUNTIF($AG$7:$AG$116,AB127)","v":0}]
[null,null,null,null,null,null,null,null,null,null,null,null,null,null,null,null,null,null,null,null,null,null,null,null,null,null,null,"男子C",0,0]
[null,null,null,null,null,null,null,null,null,null,null,null,null,null,null,null,null,null,null,null,null,null,null,null,null,null,null,"男子D",0,0]
[null,null,null,null,null,null,null,null,null,null,null,null,null,null,null,null,null,null,null,null,null,null,null,null,null,null,null,"女子A",0,0]
[null,null,null,null,null,null,null,null,null,null,null,null,null,null,null,null,null,null,null,null,null,null,null,null,null,null,null,"女子B",0,0]
[null,null,null,null,null,null,null,null,null,null,null,null,null,null,null,null,null,null,null,null,null,null,null,null,null,null,null,"女子C",0,0]
[null,null,null,null,null,null,null,null,null,null,null,null,null,null,null,null,null,null,null,null,null,null,null,null,null,null,null,"女子D",0,0]
[null,null,null,null,null,null,null,null,null,null,null,null,null,null,null,null,null,null,null,null,null,null,null,null,null,null,null,null,{"$f":"COUNTIF(AC126:AC133,0)","v":8},{"$f":"COUNTIF(AD126:AD133,0)","v":8},{"$f":"16-AC134-AD134","v":0},0,0]

{"sheet":"ジュニアO","index":8,"n_rows":118,"n_cols":61,"rows_kept":118,"cut":false,"hidden":false,"merged":[[3,8,3,9],[1,8,1,9],[1,16,1,17],[1,21,1,22],[1,35,1,38],[2,8,2,9],[33,47,33,48],[4,6,4,21],[5,10,5,11],[5,47,5,48],[25,47,25,48],[26,47,26,48]]}
[null,null,null,null,"所属名",{"$f":"陸連登録!I2","v":0},null,null,"ジュニアオリンピック"]
[null,null,null,null,"所属コード",{"$f":"陸連登録!N2","v":""},"男子参加人数",null,{"$f":"COUNTIF($I$7:$I$116,1)-COUNTIF($BH$7:$BH$116,0)","v":0}]
[null,null,null,null,"顧問名",null,"女子参加人数",null,{"$f":"COUNTIF($I$7:$I$116,2)-COUNTIF($BI$7:$BI$116,0)","v":0},null,null,null,null,null,"プログラム数"]
[null,null,null,null,"顧問連絡先",null,"参加費",null,{"$f":"$AF$118*1000+Q3*800","v":0},null,null,null,null,null,{"$f":"$AF$118","v":0}]
[null,null,null,null,null,null,"平成16年(2004)1/1～平成16年(2004)4/1生まれの生徒しかエントリーできません"]
["競技者コード","所属コード","所属コード2","ナンバーA","ナンバー","競技者名","カナ名","掲示板名","性別","学年","生年月日",null,"所属地","陸連コード","1種目","コード","記録","オープンF","記録F","2種目","コード","記録","オープンF","記録F","種目3","コード","記録3","オープンF","記録F","種目4","コード","記録","オープンF","記録F","リレー","コード","記録5","オープンF","記録F",null,null,null,100,null,null,null,null,"種目別参加人数",null,null,null,null,null,null,null,null,null,null,"種目数","男子","女子"]
[null,{"$f":"陸連登録!N2","v":""},null,null,{"$f":"陸連登録!M2","v":0},{"$f":"陸連登録!C2","v":0},{"$f":"陸連登録!D2","v":0},{"$f":"F7","v":0},{"$f":"陸連登録!A2","v":""},{"$f":"陸連登録!P2","v":0},{"$f":"LEFT(陸連登録!L2,4)","v":""},{"$f":"RIGHT(陸連登録!L2,4)","v":""},{"$f":"陸連登録!F2","v":23},{"$f":"陸連登録!B2","v":0},null,{"$f":"IF($O7=\"\",\"\",IF($I7=1,VLOOKUP($O7,$AV$8:$AX$13,3,FALSE),IF($I7=2,VLOOKUP($O7,$AV$16:$AX$19,3,FALSE))))","v":""},null,0,2,null,{"$f":"IF(T7=\"\",\"\",IF($I7=1,VLOOKUP(T7,$AV$8:$AX$13,3,FALSE),IF($I7=2,VLOOKUP(T7,$AV$16:$AX$19,3,FALSE))))","v":""},{"$f":"IF(T7=\"\",\"\",HLOOKUP(T7,#REF!,2,FALSE))","v":""},0,2,null,null,{"$f":"IF(Y7=\"\",\"\",HLOOKUP(Y7,#REF!,2,FALSE))","v":""},0,2,null,null,{"$f":"IF(AD7=\"\",\"\",HLOOKUP(AD7,#REF!,2,FALSE))","v":""},0,2,null,{"$f":"IF(AI7=\"\",\"\",IF(I7=1,VLOOKUP(AI7,男子種目コード!$A$1:$B$29,2,FALSE),IF(I7=2,VLOOKUP(AI7,女子種目コード!$A$1:$B$30,2,FALSE))))","v":""},null,0,2,null,null,null,200,{"$f":"IF(O7=\"\",\"\",1)","v":""},{"$f":"IF(OR(AR7=1,T7=\"\"),0,1)","v":0},{"$f":"IF(OR(AR7=1,AS7=1,AD7=\"\"),0,1)","v":0},{"$f":"IF(T7=\"\",\"\",1)","v":""},"男子",null,null,null,null,null,null,null,null,null,null,{"$f":"COUNT(AR7,AU7)","v":0},{"$f":"IF(I7=1,BG7,\"\")","v":""},{"$f":"IF(I7=2,BG7,\"\")","v":""}]
[null,{"$f":"陸連登録!N3","v":""},null,null,{"$f":"陸連登録!M3","v":0},{"$f":"陸連登録!C3","v":0},{"$f":"陸連登録!D3","v":0},0,{"$f":"陸連登録!A3","v":""},{"$f":"陸連登録!P3","v":0},{"$f":"LEFT(陸連登録!L3,4)","v":""},{"$f":"RIGHT(陸連登録!L3,4)","v":""},{"$f":"陸連登録!F3","v":23},{"$f":"陸連登録!B3","v":0},null,"",null,0,2,null,"",{"$f":"IF(T8=\"\",\"\",HLOOKUP(T8,#REF!,3,FALSE))","v":""},0,2,null,null,{"$f":"IF(Y8=\"\",\"\",HLOOKUP(Y8,#REF!,3,FALSE))","v":""},0,2,null,null,{"$f":"IF(AD8=\"\",\"\",HLOOKUP(AD8,#REF!,2,FALSE))","v":""},0,2,null,{"$f":"IF(AI8=\"\",\"\",IF(I8=1,VLOOKUP(AI8,男子種目コード!$A$1:$B$29,2,FALSE),IF(I8=2,VLOOKUP(AI8,女子種目コード!$A$1:$B$30,2,FALSE))))","v":""},null,0,2,null,null,null,400,"",0,0,"","A-100",{"$f":"COUNTIF($P$7:$P$116,AX8)+COUNTIF($U$7:$U$116,AX8)+COUNTIF($Z$7:$Z$116,AX8)+COUNTIF($AE$7:$AE$116,AX8)","v":0},6,null,null,null,null,null,null,null,null,{"$f":"COUNT(AR8,AU8)","v":0},"",""]
[null,{"$f":"陸連登録!N4","v":""},null,null,{"$f":"陸連登録!M4","v":0},{"$f":"陸連登録!C4","v":0},{"$f":"陸連登録!D4","v":0},0,{"$f":"陸連登録!A4","v":""},{"$f":"陸連登録!P4","v":0},{"$f":"LEFT(陸連登録!L4,4)","v":""},{"$f":"RIGHT(陸連登録!L4,4)","v":""},{"$f":"陸連登録!F4","v":23},{"$f":"陸連登録!B4","v":0},null,"",null,0,2,null,"",{"$f":"IF(T9=\"\",\"\",HLOOKUP(T9,#REF!,4,FALSE))","v":""},0,2,null,null,{"$f":"IF(Y9=\"\",\"\",HLOOKUP(Y9,#REF!,4,FALSE))","v":""},0,2,null,null,{"$f":"IF(AD9=\"\",\"\",HLOOKUP(AD9,#REF!,2,FALSE))","v":""},0,2,null,{"$f":"IF(AI9=\"\",\"\",IF(I9=1,VLOOKUP(AI9,男子種目コード!$A$1:$B$29,2,FALSE),IF(I9=2,VLOOKUP(AI9,女子種目コード!$A$1:$B$30,2,FALSE))))","v":""},null,0,2,null,null,null,800,"",0,0,"","A-200",{"$f":"COUNTIF($P$7:$P$116,AX9)+COUNTIF($U$7:$U$116,AX9)+COUNTIF($Z$7:$Z$116,AX9)+COUNTIF($AE$7:$AE$116,AX9)","v":0},7,null,null,null,null,null,null,null,null,0,"",""]
[null,{"$f":"陸連登録!N5","v":""},null,null,{"$f":"陸連登録!M5","v":0},{"$f":"陸連登録!C5","v":0},{"$f":"陸連登録!D5","v":0},0,{"$f":"陸連登録!A5","v":""},{"$f":"陸連登録!P5","v":0},{"$f":"LEFT(陸連登録!L5,4)","v":""},{"$f":"RIGHT(陸連登録!L5,4)","v":""},{"$f":"陸連登録!F5","v":23},{"$f":"陸連登録!B5","v":0},null,"",null,0,2,null,"",{"$f":"IF(T10=\"\",\"\",HLOOKUP(T10,#REF!,5,FALSE))","v":""},0,2,null,null,{"$f":"IF(Y10=\"\",\"\",HLOOKUP(Y10,#REF!,5,FALSE))","v":""},0,2,null,null,{"$f":"IF(AD10=\"\",\"\",HLOOKUP(AD10,#REF!,2,FALSE))","v":""},0,2,null,{"$f":"IF(AI10=\"\",\"\",IF(I10=1,VLOOKUP(AI10,男子種目コード!$A$1:$B$29,2,FALSE),IF(I10=2,VLOOKUP(AI10,女子種目コード!$A$1:$B$30,2,FALSE))))","v":""},null,0,2,null,null,null,1500,"",0,0,"","A-3000",null,10,null,null,null,null,null,null,null,null,0,"",""]
[null,{"$f":"陸連登録!N6","v":""},null,null,{"$f":"陸連登録!M6","v":0},{"$f":"陸連登録!C6","v":0},{"$f":"陸連登録!D6","v":0},0,{"$f":"陸連登録!A6","v":""},{"$f":"陸連登録!P6","v":0},{"$f":"LEFT(陸連登録!L6,4)","v":""},{"$f":"RIGHT(陸連登録!L6,4)","v":""},{"$f":"陸連登録!F6","v":23},{"$f":"陸連登録!B6","v":0},null,"",null,0,2,null,"",{"$f":"IF(T11=\"\",\"\",HLOOKUP(T11,#REF!,6,FALSE))","v":""},0,2,null,null,{"$f":"IF(Y11=\"\",\"\",HLOOKUP(Y11,#REF!,6,FALSE))","v":""},0,2,null,null,{"$f":"IF(AD11=\"\",\"\",HLOOKUP(AD11,#REF!,2,FALSE))","v":""},0,2,null,{"$f":"IF(AI11=\"\",\"\",IF(I11=1,VLOOKUP(AI11,男子種目コード!$A$1:$B$29,2,FALSE),IF(I11=2,VLOOKUP(AI11,女子種目コード!$A$1:$B$30,2,FALSE))))","v":""},null,0,2,null,null,null,5000,"",0,0,"","A-110JH",null,11,null,null,null,null,null,null,null,null,0,"",""]
[null,{"$f":"陸連登録!N7","v":""},null,null,{"$f":"陸連登録!M7","v":0},{"$f":"陸連登録!C7","v":0},{"$f":"陸連登録!D7","v":0},0,{"$f":"陸連登録!A7","v":""},{"$f":"陸連登録!P7","v":0},{"$f":"LEFT(陸連登録!L7,4)","v":""},{"$f":"RIGHT(陸連登録!L7,4)","v":""},{"$f":"陸連登録!F7","v":23},{"$f":"陸連登録!B7","v":0},null,"",null,0,2,null,"",{"$f":"IF(T12=\"\",\"\",HLOOKUP(T12,#REF!,7,FALSE))","v":""},0,2,null,null,{"$f":"IF(Y12=\"\",\"\",HLOOKUP(Y12,#REF!,7,FALSE))","v":""},0,2,null,null,{"$f":"IF(AD12=\"\",\"\",HLOOKUP(AD12,#REF!,2,FALSE))","v":""},0,2,null,{"$f":"IF(AI12=\"\",\"\",IF(I12=1,VLOOKUP(AI12,男子種目コード!$A$1:$B$29,2,FALSE),IF(I12=2,VLOOKUP(AI12,女子種目コード!$A$1:$B$30,2,FALSE))))","v":""},null,0,2,null,null,null,10000,"",0,0,"","A－走高跳",null,12,null,null,null,null,null,null,null,null,0,"",""]
[null,{"$f":"陸連登録!N8","v":""},null,null,{"$f":"陸連登録!M8","v":0},{"$f":"陸連登録!C8","v":0},{"$f":"陸連登録!D8","v":0},0,{"$f":"陸連登録!A8","v":""},{"$f":"陸連登録!P8","v":0},{"$f":"LEFT(陸連登録!L8,4)","v":""},{"$f":"RIGHT(陸連登録!L8,4)","v":""},{"$f":"陸連登録!F8","v":23},{"$f":"陸連登録!B8","v":0},null,"",null,0,2,null,"",{"$f":"IF(T13=\"\",\"\",HLOOKUP(T13,#REF!,8,FALSE))","v":""},0,2,null,null,{"$f":"IF(Y13=\"\",\"\",HLOOKUP(Y13,#REF!,8,FALSE))","v":""},0,2,null,null,{"$f":"IF(AD13=\"\",\"\",HLOOKUP(AD13,#REF!,2,FALSE))","v":""},0,2,null,{"$f":"IF(AI13=\"\",\"\",IF(I13=1,VLOOKUP(AI13,男子種目コード!$A$1:$B$29,2,FALSE),IF(I13=2,VLOOKUP(AI13,女子種目コード!$A$1:$B$30,2,FALSE))))","v":""},null,0,2,null,null,null,"100H","",0,0,"","A－砲丸投",{"$f":"COUNTIF($P$7:$P$116,AX13)+COUNTIF($U$7:$U$116,AX13)+COUNTIF($Z$7:$Z$116,AX13)+COUNTIF($AE$7:$AE$116,AX13)","v":0},13,null,null,null,null,null,null,null,null,0,"",""]
[null,{"$f":"陸連登録!N9","v":""},null,null,{"$f":"陸連登録!M9","v":0},{"$f":"陸連登録!C9","v":0},{"$f":"陸連登録!D9","v":0},0,{"$f":"陸連登録!A9","v":""},{"$f":"陸連登録!P9","v":0},{"$f":"LEFT(陸連登録!L9,4)","v":""},{"$f":"RIGHT(陸連登録!L9,4)","v":""},{"$f":"陸連登録!F9","v":23},{"$f":"陸連登録!B9","v":0},null,"",null,0,2,null,"",{"$f":"IF(T14=\"\",\"\",HLOOKUP(T14,#REF!,9,FALSE))","v":""},0,2,null,null,{"$f":"IF(Y14=\"\",\"\",HLOOKUP(Y14,#REF!,9,FALSE))","v":""},0,2,null,null,{"$f":"IF(AD14=\"\",\"\",HLOOKUP(AD14,#REF!,2,FALSE))","v":""},0,2,null,{"$f":"IF(AI14=\"\",\"\",IF(I14=1,VLOOKUP(AI14,男子種目コード!$A$1:$B$29,2,FALSE),IF(I14=2,VLOOKUP(AI14,女子種目コード!$A$1:$B$30,2,FALSE))))","v":""},null,0,2,null,null,null,"110H","",0,0,"","計",{"$f":"SUM($AW$8:$AW$13)","v":0},null,null,null,null,null,null,null,null,null,0,"",""]
[null,{"$f":"陸連登録!N10","v":""},null,null,{"$f":"陸連登録!M10","v":0},{"$f":"陸連登録!C10","v":0},{"$f":"陸連登録!D10","v":0},0,{"$f":"陸連登録!A10","v":""},{"$f":"陸連登録!P10","v":0},{"$f":"LEFT(陸連登録!L10,4)","v":""},{"$f":"RIGHT(陸連登録!L10,4)","v":""},{"$f":"陸連登録!F10","v":23},{"$f":"陸連登録!B10","v":0},null,"",null,0,2,null,"",{"$f":"IF(T15=\"\",\"\",HLOOKUP(T15,#REF!,10,FALSE))","v":""},0,2,null,null,{"$f":"IF(Y15=\"\",\"\",HLOOKUP(Y15,#REF!,10,FALSE))","v":""},0,2,null,null,{"$f":"IF(AD15=\"\",\"\",HLOOKUP(AD15,#REF!,2,FALSE))","v":""},0,2,null,{"$f":"IF(AI15=\"\",\"\",IF(I15=1,VLOOKUP(AI15,男子種目コード!$A$1:$B$29,2,FALSE),IF(I15=2,VLOOKUP(AI15,女子種目コード!$A$1:$B$30,2,FALSE))))","v":""},null,0,2,null,null,null,"400H","",0,0,"","女子",null,null,null,null,null,null,null,null,null,null,0,"",""]
[null,{"$f":"陸連登録!N11","v":""},null,null,{"$f":"陸連登録!M11","v":0},{"$f":"陸連登録!C11","v":0},{"$f":"陸連登録!D11","v":0},0,{"$f":"陸連登録!A11","v":""},{"$f":"陸連登録!P11","v":0},{"$f":"LEFT(陸連登録!L11,4)","v":""},{"$f":"RIGHT(陸連登録!L11,4)","v":""},{"$f":"陸連登録!F11","v":23},{"$f":"陸連登録!B11","v":0},null,"",null,0,2,null,"",{"$f":"IF(T16=\"\",\"\",HLOOKUP(T16,#REF!,11,FALSE))","v":""},0,2,null,null,{"$f":"IF(Y16=\"\",\"\",HLOOKUP(Y16,#REF!,11,FALSE))","v":""},0,2,null,null,{"$f":"IF(AD16=\"\",\"\",HLOOKUP(AD16,#REF!,2,FALSE))","v":""},0,2,null,{"$f":"IF(AI16=\"\",\"\",IF(I16=1,VLOOKUP(AI16,男子種目コード!$A$1:$B$29,2,FALSE),IF(I16=2,VLOOKUP(AI16,女子種目コード!$A$1:$B$30,2,FALSE))))","v":""},null,0,2,null,null,null,"3000SC","",0,0,"","A-100",{"$f":"COUNTIF($P$7:$P$116,AX16)+COUNTIF($U$7:$U$116,AX16)+COUNTIF($Z$7:$Z$116,AX16)+COUNTIF($AE$7:$AE$116,AX16)","v":0},35,null,null,null,null,null,null,null,null,0,"",""]
[null,{"$f":"陸連登録!N12","v":""},null,null,{"$f":"陸連登録!M12","v":0},{"$f":"陸連登録!C12","v":0},{"$f":"陸連登録!D12","v":0},0,{"$f":"陸連登録!A12","v":""},{"$f":"陸連登録!P12","v":0},{"$f":"LEFT(陸連登録!L12,4)","v":""},{"$f":"RIGHT(陸連登録!L12,4)","v":""},{"$f":"陸連登録!F12","v":23},{"$f":"陸連登録!B12","v":0},null,"",null,0,2,null,"",{"$f":"IF(T17=\"\",\"\",HLOOKUP(T17,#REF!,12,FALSE))","v":""},0,2,null,null,{"$f":"IF(Y17=\"\",\"\",HLOOKUP(Y17,#REF!,12,FALSE))","v":""},0,2,null,null,{"$f":"IF(AD17=\"\",\"\",HLOOKUP(AD17,#REF!,2,FALSE))","v":""},0,2,null,{"$f":"IF(AI17=\"\",\"\",IF(I17=1,VLOOKUP(AI17,男子種目コード!$A$1:$B$29,2,FALSE),IF(I17=2,VLOOKUP(AI17,女子種目コード!$A$1:$B$30,2,FALSE))))","v":""},null,0,2,null,null,null,"5000W","",0,0,"","A-200",{"$f":"COUNTIF($P$7:$P$116,AX17)+COUNTIF($U$7:$U$116,AX17)+COUNTIF($Z$7:$Z$116,AX17)+COUNTIF($AE$7:$AE$116,AX17)","v":0},36,null,null,null,null,null,null,null,null,0,"",""]
[null,{"$f":"陸連登録!N13","v":""},null,null,{"$f":"陸連登録!M13","v":0},{"$f":"陸連登録!C13","v":0},{"$f":"陸連登録!D13","v":0},0,{"$f":"陸連登録!A13","v":""},{"$f":"陸連登録!P13","v":0},{"$f":"LEFT(陸連登録!L13,4)","v":""},{"$f":"RIGHT(陸連登録!L13,4)","v":""},{"$f":"陸連登録!F13","v":23},{"$f":"陸連登録!B13","v":0},null,"",null,0,2,null,"",{"$f":"IF(T18=\"\",\"\",HLOOKUP(T18,#REF!,13,FALSE))","v":""},0,2,null,null,{"$f":"IF(Y18=\"\",\"\",HLOOKUP(Y18,#REF!,13,FALSE))","v":""},0,2,null,null,{"$f":"IF(AD18=\"\",\"\",HLOOKUP(AD18,#REF!,2,FALSE))","v":""},0,2,null,{"$f":"IF(AI18=\"\",\"\",IF(I18=1,VLOOKUP(AI18,男子種目コード!$A$1:$B$29,2,FALSE),IF(I18=2,VLOOKUP(AI18,女子種目コード!$A$1:$B$30,2,FALSE))))","v":""},null,0,2,null,null,null,"走高跳","",0,0,"","A-3000",null,37,null,null,null,null,null,null,null,null,0,"",""]
[null,{"$f":"陸連登録!N14","v":""},null,null,{"$f":"陸連登録!M14","v":0},{"$f":"陸連登録!C14","v":0},{"$f":"陸連登録!D14","v":0},0,{"$f":"陸連登録!A14","v":""},{"$f":"陸連登録!P14","v":0},{"$f":"LEFT(陸連登録!L14,4)","v":""},{"$f":"RIGHT(陸連登録!L14,4)","v":""},{"$f":"陸連登録!F14","v":23},{"$f":"陸連登録!B14","v":0},null,"",null,0,2,null,"",{"$f":"IF(T19=\"\",\"\",HLOOKUP(T19,#REF!,14,FALSE))","v":""},0,2,null,null,{"$f":"IF(Y19=\"\",\"\",HLOOKUP(Y19,#REF!,14,FALSE))","v":""},0,2,null,null,{"$f":"IF(AD19=\"\",\"\",HLOOKUP(AD19,#REF!,2,FALSE))","v":""},0,2,null,{"$f":"IF(AI19=\"\",\"\",IF(I19=1,VLOOKUP(AI19,男子種目コード!$A$1:$B$29,2,FALSE),IF(I19=2,VLOOKUP(AI19,女子種目コード!$A$1:$B$30,2,FALSE))))","v":""},null,0,2,null,null,null,"棒高跳","",0,0,"","A-100YH",null,38,null,null,null,null,null,null,null,null,0,"",""]
[null,{"$f":"陸連登録!N15","v":""},null,null,{"$f":"陸連登録!M15","v":0},{"$f":"陸連登録!C15","v":0},{"$f":"陸連登録!D15","v":0},0,{"$f":"陸連登録!A15","v":""},{"$f":"陸連登録!P15","v":0},{"$f":"LEFT(陸連登録!L15,4)","v":""},{"$f":"RIGHT(陸連登録!L15,4)","v":""},{"$f":"陸連登録!F15","v":23},{"$f":"陸連登録!B15","v":0},null,"",null,0,2,null,"",{"$f":"IF(T20=\"\",\"\",HLOOKUP(T20,#REF!,15,FALSE))","v":""},0,2,null,null,{"$f":"IF(Y20=\"\",\"\",HLOOKUP(Y20,#REF!,15,FALSE))","v":""},0,2,null,null,{"$f":"IF(AD20=\"\",\"\",HLOOKUP(AD20,#REF!,2,FALSE))","v":""},0,2,null,{"$f":"IF(AI20=\"\",\"\",IF(I20=1,VLOOKUP(AI20,男子種目コード!$A$1:$B$29,2,FALSE),IF(I20=2,VLOOKUP(AI20,女子種目コード!$A$1:$B$30,2,FALSE))))","v":""},null,0,2,null,null,null,"走幅跳","",0,0,"","A－走高跳",null,39,null,null,null,null,null,null,null,null,0,"",""]
[null,{"$f":"陸連登録!N16","v":""},null,null,{"$f":"陸連登録!M16","v":0},{"$f":"陸連登録!C16","v":0},{"$f":"陸連登録!D16","v":0},0,{"$f":"陸連登録!A16","v":""},{"$f":"陸連登録!P16","v":0},{"$f":"LEFT(陸連登録!L16,4)","v":""},{"$f":"RIGHT(陸連登録!L16,4)","v":""},{"$f":"陸連登録!F16","v":23},{"$f":"陸連登録!B16","v":0},null,"",null,0,2,null,"",{"$f":"IF(T21=\"\",\"\",HLOOKUP(T21,#REF!,16,FALSE))","v":""},0,2,null,null,{"$f":"IF(Y21=\"\",\"\",HLOOKUP(Y21,#REF!,16,FALSE))","v":""},0,2,null,null,{"$f":"IF(AD21=\"\",\"\",HLOOKUP(AD21,#REF!,2,FALSE))","v":""},0,2,null,{"$f":"IF(AI21=\"\",\"\",IF(I21=1,VLOOKUP(AI21,男子種目コード!$A$1:$B$29,2,FALSE),IF(I21=2,VLOOKUP(AI21,女子種目コード!$A$1:$B$30,2,FALSE))))","v":""},null,0,2,null,null,null,"三段跳","",0,0,"","A－砲丸投",{"$f":"COUNTIF($P$7:$P$116,AX21)+COUNTIF($U$7:$U$116,AX21)+COUNTIF($Z$7:$Z$116,AX21)+COUNTIF($AE$7:$AE$116,AX21)","v":0},53,null,null,null,null,null,null,null,null,0,"",""]
[null,{"$f":"陸連登録!N17","v":""},null,null,{"$f":"陸連登録!M17","v":0},{"$f":"陸連登録!C17","v":0},{"$f":"陸連登録!D17","v":0},0,{"$f":"陸連登録!A17","v":""},{"$f":"陸連登録!P17","v":0},{"$f":"LEFT(陸連登録!L17,4)","v":""},{"$f":"RIGHT(陸連登録!L17,4)","v":""},{"$f":"陸連登録!F17","v":23},{"$f":"陸連登録!B17","v":0},null,"",null,0,2,null,"",{"$f":"IF(T22=\"\",\"\",HLOOKUP(T22,#REF!,17,FALSE))","v":""},0,2,null,null,{"$f":"IF(Y22=\"\",\"\",HLOOKUP(Y22,#REF!,17,FALSE))","v":""},0,2,null,null,{"$f":"IF(AD22=\"\",\"\",HLOOKUP(AD22,#REF!,2,FALSE))","v":""},0,2,null,{"$f":"IF(AI22=\"\",\"\",IF(I22=1,VLOOKUP(AI22,男子種目コード!$A$1:$B$29,2,FALSE),IF(I22=2,VLOOKUP(AI22,女子種目コード!$A$1:$B$30,2,FALSE))))","v":""},null,0,2,null,null,null,"砲丸投","",0,0,"","計",{"$f":"SUM(AW16:AW21)","v":0},null,null,null,null,null,null,null,null,null,0,"",""]
[null,{"$f":"陸連登録!N18","v":""},null,null,{"$f":"陸連登録!M18","v":0},{"$f":"陸連登録!C18","v":0},{"$f":"陸連登録!D18","v":0},0,{"$f":"陸連登録!A18","v":""},{"$f":"陸連登録!P18","v":0},{"$f":"LEFT(陸連登録!L18,4)","v":""},{"$f":"RIGHT(陸連登録!L18,4)","v":""},{"$f":"陸連登録!F18","v":23},{"$f":"陸連登録!B18","v":0},null,"",null,0,2,null,"",{"$f":"IF(T23=\"\",\"\",HLOOKUP(T23,#REF!,18,FALSE))","v":""},0,2,null,null,{"$f":"IF(Y23=\"\",\"\",HLOOKUP(Y23,#REF!,18,FALSE))","v":""},0,2,null,null,{"$f":"IF(AD23=\"\",\"\",HLOOKUP(AD23,#REF!,2,FALSE))","v":""},0,2,null,{"$f":"IF(AI23=\"\",\"\",IF(I23=1,VLOOKUP(AI23,男子種目コード!$A$1:$B$29,2,FALSE),IF(I23=2,VLOOKUP(AI23,女子種目コード!$A$1:$B$30,2,FALSE))))","v":""},null,0,2,null,null,null,"円盤投","",0,0,"","合計",{"$f":"AW14+AW22","v":0},null,null,null,null,null,null,null,null,null,0,"",""]
[null,{"$f":"陸連登録!N19","v":""},null,null,{"$f":"陸連登録!M19","v":0},{"$f":"陸連登録!C19","v":0},{"$f":"陸連登録!D19","v":0},0,{"$f":"陸連登録!A19","v":""},{"$f":"陸連登録!P19","v":0},{"$f":"LEFT(陸連登録!L19,4)","v":""},{"$f":"RIGHT(陸連登録!L19,4)","v":""},{"$f":"陸連登録!F19","v":23},{"$f":"陸連登録!B19","v":0},null,"",null,0,2,null,"",{"$f":"IF(T24=\"\",\"\",HLOOKUP(T24,#REF!,19,FALSE))","v":""},0,2,null,null,{"$f":"IF(Y24=\"\",\"\",HLOOKUP(Y24,#REF!,19,FALSE))","v":""},0,2,null,null,{"$f":"IF(AD24=\"\",\"\",HLOOKUP(AD24,#REF!,2,FALSE))","v":""},0,2,null,{"$f":"IF(AI24=\"\",\"\",IF(I24=1,VLOOKUP(AI24,男子種目コード!$A$1:$B$29,2,FALSE),IF(I24=2,VLOOKUP(AI24,女子種目コード!$A$1:$B$30,2,FALSE))))","v":""},null,0,2,null,null,null,"ハンマー投","",0,0,"",null,null,null,null,null,null,null,null,null,null,null,0,"",""]
[null,{"$f":"陸連登録!N20","v":""},null,null,{"$f":"陸連登録!M20","v":0},{"$f":"陸連登録!C20","v":0},{"$f":"陸連登録!D20","v":0},0,{"$f":"陸連登録!A20","v":""},{"$f":"陸連登録!P20","v":0},{"$f":"LEFT(陸連登録!L20,4)","v":""},{"$f":"RIGHT(陸連登録!L20,4)","v":""},{"$f":"陸連登録!F20","v":23},{"$f":"陸連登録!B20","v":0},null,"",null,0,2,null,"",{"$f":"IF(T25=\"\",\"\",HLOOKUP(T25,#REF!,20,FALSE))","v":""},0,2,null,null,{"$f":"IF(Y25=\"\",\"\",HLOOKUP(Y25,#REF!,20,FALSE))","v":""},0,2,null,null,{"$f":"IF(AD25=\"\",\"\",HLOOKUP(AD25,#REF!,2,FALSE))","v":""},0,2,null,{"$f":"IF(AI25=\"\",\"\",IF(I25=1,VLOOKUP(AI25,男子種目コード!$A$1:$B$29,2,FALSE),IF(I25=2,VLOOKUP(AI25,女子種目コード!$A$1:$B$30,2,FALSE))))","v":""},null,0,2,null,null,null,"やり投","",0,0,"",null,null,null,null,null,null,null,null,null,null,null,0,"",""]
[null,{"$f":"陸連登録!N21","v":""},null,null,{"$f":"陸連登録!M21","v":0},{"$f":"陸連登録!C21","v":0},{"$f":"陸連登録!D21","v":0},0,{"$f":"陸連登録!A21","v":""},{"$f":"陸連登録!P21","v":0},{"$f":"LEFT(陸連登録!L21,4)","v":""},{"$f":"RIGHT(陸連登録!L21,4)","v":""},{"$f":"陸連登録!F21","v":23},{"$f":"陸連登録!B21","v":0},null,"",null,0,2,null,"",{"$f":"IF(T26=\"\",\"\",HLOOKUP(T26,#REF!,21,FALSE))","v":""},0,2,null,null,{"$f":"IF(Y26=\"\",\"\",HLOOKUP(Y26,#REF!,21,FALSE))","v":""},0,2,null,null,{"$f":"IF(AD26=\"\",\"\",HLOOKUP(AD26,#REF!,2,FALSE))","v":""},0,2,null,{"$f":"IF(AI26=\"\",\"\",IF(I26=1,VLOOKUP(AI26,男子種目コード!$A$1:$B$29,2,FALSE),IF(I26=2,VLOOKUP(AI26,女子種目コード!$A$1:$B$30,2,FALSE))))","v":""},null,0,2,null,null,null,"少年B100H","",0,0,"","参加標準記録",null,null,null,null,null,null,null,null,null,null,0,"",""]
[null,{"$f":"陸連登録!N22","v":""},null,null,{"$f":"陸連登録!M22","v":0},{"$f":"陸連登録!C22","v":0},{"$f":"陸連登録!D22","v":0},0,{"$f":"陸連登録!A22","v":""},{"$f":"陸連登録!P22","v":0},{"$f":"LEFT(陸連登録!L22,4)","v":""},{"$f":"RIGHT(陸連登録!L22,4)","v":""},{"$f":"陸連登録!F22","v":23},{"$f":"陸連登録!B22","v":0},null,"",null,0,2,null,"",{"$f":"IF(T27=\"\",\"\",HLOOKUP(T27,#REF!,22,FALSE))","v":""},0,2,null,null,{"$f":"IF(Y27=\"\",\"\",HLOOKUP(Y27,#REF!,22,FALSE))","v":""},0,2,null,null,{"$f":"IF(AD27=\"\",\"\",HLOOKUP(AD27,#REF!,2,FALSE))","v":""},0,2,null,{"$f":"IF(AI27=\"\",\"\",IF(I27=1,VLOOKUP(AI27,男子種目コード!$A$1:$B$29,2,FALSE),IF(I27=2,VLOOKUP(AI27,女子種目コード!$A$1:$B$30,2,FALSE))))","v":""},null,0,2,null,null,null,"少年3000","",0,0,"","男子",null,null,null,null,null,null,null,null,null,null,0,"",""]
[null,{"$f":"陸連登録!N23","v":""},null,null,{"$f":"陸連登録!M23","v":0},{"$f":"陸連登録!C23","v":0},{"$f":"陸連登録!D23","v":0},0,{"$f":"陸連登録!A23","v":""},{"$f":"陸連登録!P23","v":0},{"$f":"LEFT(陸連登録!L23,4)","v":""},{"$f":"RIGHT(陸連登録!L23,4)","v":""},{"$f":"陸連登録!F23","v":23},{"$f":"陸連登録!B23","v":0},null,"",null,0,2,null,"",{"$f":"IF(T28=\"\",\"\",HLOOKUP(T28,#REF!,23,FALSE))","v":""},0,2,null,null,{"$f":"IF(Y28=\"\",\"\",HLOOKUP(Y28,#REF!,23,FALSE))","v":""},0,2,null,null,{"$f":"IF(AD28=\"\",\"\",HLOOKUP(AD28,#REF!,2,FALSE))","v":""},0,2,null,{"$f":"IF(AI28=\"\",\"\",IF(I28=1,VLOOKUP(AI28,男子種目コード!$A$1:$B$29,2,FALSE),IF(I28=2,VLOOKUP(AI28,女子種目コード!$A$1:$B$30,2,FALSE))))","v":""},null,0,2,null,null,null,"少年砲丸投","",0,0,"","A-100","11.90",null,null,null,null,null,null,null,null,null,0,"",""]
[null,{"$f":"陸連登録!N24","v":""},null,null,{"$f":"陸連登録!M24","v":0},{"$f":"陸連登録!C24","v":0},{"$f":"陸連登録!D24","v":0},0,{"$f":"陸連登録!A24","v":""},{"$f":"陸連登録!P24","v":0},{"$f":"LEFT(陸連登録!L24,4)","v":""},{"$f":"RIGHT(陸連登録!L24,4)","v":""},{"$f":"陸連登録!F24","v":23},{"$f":"陸連登録!B24","v":0},null,"",null,0,2,null,"",{"$f":"IF(T29=\"\",\"\",HLOOKUP(T29,#REF!,24,FALSE))","v":""},0,2,null,null,{"$f":"IF(Y29=\"\",\"\",HLOOKUP(Y29,#REF!,24,FALSE))","v":""},0,2,null,null,{"$f":"IF(AD29=\"\",\"\",HLOOKUP(AD29,#REF!,2,FALSE))","v":""},0,2,null,{"$f":"IF(AI29=\"\",\"\",IF(I29=1,VLOOKUP(AI29,男子種目コード!$A$1:$B$29,2,FALSE),IF(I29=2,VLOOKUP(AI29,女子種目コード!$A$1:$B$30,2,FALSE))))","v":""},null,0,2,null,null,null,"少年円盤投","",0,0,"","A-200","24.30",null,null,null,null,null,null,null,null,null,0,"",""]
[null,{"$f":"陸連登録!N25","v":""},null,null,{"$f":"陸連登録!M25","v":0},{"$f":"陸連登録!C25","v":0},{"$f":"陸連登録!D25","v":0},0,{"$f":"陸連登録!A25","v":""},{"$f":"陸連登録!P25","v":0},{"$f":"LEFT(陸連登録!L25,4)","v":""},{"$f":"RIGHT(陸連登録!L25,4)","v":""},{"$f":"陸連登録!F25","v":23},{"$f":"陸連登録!B25","v":0},null,"",null,0,2,null,"",{"$f":"IF(T30=\"\",\"\",HLOOKUP(T30,#REF!,25,FALSE))","v":""},0,2,null,null,{"$f":"IF(Y30=\"\",\"\",HLOOKUP(Y30,#REF!,25,FALSE))","v":""},0,2,null,null,{"$f":"IF(AD30=\"\",\"\",HLOOKUP(AD30,#REF!,2,FALSE))","v":""},0,2,null,{"$f":"IF(AI30=\"\",\"\",IF(I30=1,VLOOKUP(AI30,男子種目コード!$A$1:$B$29,2,FALSE),IF(I30=2,VLOOKUP(AI30,女子種目コード!$A$1:$B$30,2,FALSE))))","v":""},null,0,2,null,null,null,"少年ハンマー投","",0,0,"","A-3000","9.45.00",null,null,null,null,null,null,null,null,null,0,"",""]
[null,{"$f":"陸連登録!N26","v":""},null,null,{"$f":"陸連登録!M26","v":0},{"$f":"陸連登録!C26","v":0},{"$f":"陸連登録!D26","v":0},0,{"$f":"陸連登録!A26","v":""},{"$f":"陸連登録!P26","v":0},{"$f":"LEFT(陸連登録!L26,4)","v":""},{"$f":"RIGHT(陸連登録!L26,4)","v":""},{"$f":"陸連登録!F26","v":23},{"$f":"陸連登録!B26","v":0},null,"",null,0,2,null,"",{"$f":"IF(T31=\"\",\"\",HLOOKUP(T31,#REF!,26,FALSE))","v":""},0,2,null,null,{"$f":"IF(Y31=\"\",\"\",HLOOKUP(Y31,#REF!,26,FALSE))","v":""},0,2,null,null,{"$f":"IF(AD31=\"\",\"\",HLOOKUP(AD31,#REF!,2,FALSE))","v":""},0,2,null,{"$f":"IF(AI31=\"\",\"\",IF(I31=1,VLOOKUP(AI31,男子種目コード!$A$1:$B$29,2,FALSE),IF(I31=2,VLOOKUP(AI31,女子種目コード!$A$1:$B$30,2,FALSE))))","v":""},null,0,2,null,null,null,"男子A","",0,0,"","A-110JH","18.50",null,null,null,null,null,null,null,null,null,0,"",""]
[null,{"$f":"陸連登録!N27","v":""},null,null,{"$f":"陸連登録!M27","v":0},{"$f":"陸連登録!C27","v":0},{"$f":"陸連登録!D27","v":0},0,{"$f":"陸連登録!A27","v":""},{"$f":"陸連登録!P27","v":0},{"$f":"LEFT(陸連登録!L27,4)","v":""},{"$f":"RIGHT(陸連登録!L27,4)","v":""},{"$f":"陸連登録!F27","v":23},{"$f":"陸連登録!B27","v":0},null,"",null,0,2,null,"",{"$f":"IF(T32=\"\",\"\",HLOOKUP(T32,#REF!,27,FALSE))","v":""},0,2,null,null,{"$f":"IF(Y32=\"\",\"\",HLOOKUP(Y32,#REF!,27,FALSE))","v":""},0,2,null,null,{"$f":"IF(AD32=\"\",\"\",HLOOKUP(AD32,#REF!,2,FALSE))","v":""},0,2,null,{"$f":"IF(AI32=\"\",\"\",IF(I32=1,VLOOKUP(AI32,男子種目コード!$A$1:$B$29,2,FALSE),IF(I32=2,VLOOKUP(AI32,女子種目コード!$A$1:$B$30,2,FALSE))))","v":""},null,0,2,null,null,null,"男子B","",0,0,"","A－走高跳","1m60",null,null,null,null,null,null,null,null,null,0,"",""]
[null,{"$f":"陸連登録!N28","v":""},null,null,{"$f":"陸連登録!M28","v":0},{"$f":"陸連登録!C28","v":0},{"$f":"陸連登録!D28","v":0},0,{"$f":"陸連登録!A28","v":""},{"$f":"陸連登録!P28","v":0},{"$f":"LEFT(陸連登録!L28,4)","v":""},{"$f":"RIGHT(陸連登録!L28,4)","v":""},{"$f":"陸連登録!F28","v":23},{"$f":"陸連登録!B28","v":0},null,"",null,0,2,null,"",{"$f":"IF(T33=\"\",\"\",HLOOKUP(T33,#REF!,28,FALSE))","v":""},0,2,null,null,{"$f":"IF(Y33=\"\",\"\",HLOOKUP(Y33,#REF!,28,FALSE))","v":""},0,2,null,null,{"$f":"IF(AD33=\"\",\"\",HLOOKUP(AD33,#REF!,2,FALSE))","v":""},0,2,null,{"$f":"IF(AI33=\"\",\"\",IF(I33=1,VLOOKUP(AI33,男子種目コード!$A$1:$B$29,2,FALSE),IF(I33=2,VLOOKUP(AI33,女子種目コード!$A$1:$B$30,2,FALSE))))","v":""},null,0,2,null,null,null,"男子C","",0,0,"","A－砲丸投","9m00(5k)",null,null,null,null,null,null,null,null,null,0,"",""]
[null,{"$f":"陸連登録!N29","v":""},null,null,{"$f":"陸連登録!M29","v":0},{"$f":"陸連登録!C29","v":0},{"$f":"陸連登録!D29","v":0},0,{"$f":"陸連登録!A29","v":""},{"$f":"陸連登録!P29","v":0},{"$f":"LEFT(陸連登録!L29,4)","v":""},{"$f":"RIGHT(陸連登録!L29,4)","v":""},{"$f":"陸連登録!F29","v":23},{"$f":"陸連登録!B29","v":0},null,"",null,0,2,null,"",{"$f":"IF(T34=\"\",\"\",HLOOKUP(T34,#REF!,29,FALSE))","v":""},0,2,null,null,{"$f":"IF(Y34=\"\",\"\",HLOOKUP(Y34,#REF!,29,FALSE))","v":""},0,2,null,null,{"$f":"IF(AD34=\"\",\"\",HLOOKUP(AD34,#REF!,2,FALSE))","v":""},0,2,null,{"$f":"IF(AI34=\"\",\"\",IF(I34=1,VLOOKUP(AI34,男子種目コード!$A$1:$B$29,2,FALSE),IF(I34=2,VLOOKUP(AI34,女子種目コード!$A$1:$B$30,2,FALSE))))","v":""},null,0,2,null,null,null,"女子A","",0,0,"","女子",null,null,null,null,null,null,null,null,null,null,0,"",""]
[null,{"$f":"陸連登録!N30","v":""},null,null,{"$f":"陸連登録!M30","v":0},{"$f":"陸連登録!C30","v":0},{"$f":"陸連登録!D30","v":0},0,{"$f":"陸連登録!A30","v":""},{"$f":"陸連登録!P30","v":0},{"$f":"LEFT(陸連登録!L30,4)","v":""},{"$f":"RIGHT(陸連登録!L30,4)","v":""},{"$f":"陸連登録!F30","v":23},{"$f":"陸連登録!B30","v":0},null,"",null,0,2,null,"",{"$f":"IF(T35=\"\",\"\",HLOOKUP(T35,#REF!,30,FALSE))","v":""},0,2,null,null,{"$f":"IF(Y35=\"\",\"\",HLOOKUP(Y35,#REF!,30,FALSE))","v":""},0,2,null,null,{"$f":"IF(AD35=\"\",\"\",HLOOKUP(AD35,#REF!,2,FALSE))","v":""},0,2,null,{"$f":"IF(AI35=\"\",\"\",IF(I35=1,VLOOKUP(AI35,男子種目コード!$A$1:$B$29,2,FALSE),IF(I35=2,VLOOKUP(AI35,女子種目コード!$A$1:$B$30,2,FALSE))))","v":""},null,0,2,null,null,null,"女子B","",0,0,"","A-100","13.60",null,null,null,null,null,null,null,null,null,0,"",""]
[null,{"$f":"陸連登録!N31","v":""},null,null,{"$f":"陸連登録!M31","v":0},{"$f":"陸連登録!C31","v":0},{"$f":"陸連登録!D31","v":0},0,{"$f":"陸連登録!A31","v":""},{"$f":"陸連登録!P31","v":0},{"$f":"LEFT(陸連登録!L31,4)","v":""},{"$f":"RIGHT(陸連登録!L31,4)","v":""},{"$f":"陸連登録!F31","v":23},{"$f":"陸連登録!B31","v":0},null,"",null,0,2,null,"",{"$f":"IF(T36=\"\",\"\",HLOOKUP(T36,#REF!,31,FALSE))","v":""},0,2,null,null,{"$f":"IF(Y36=\"\",\"\",HLOOKUP(Y36,#REF!,31,FALSE))","v":""},0,2,null,null,{"$f":"IF(AD36=\"\",\"\",HLOOKUP(AD36,#REF!,2,FALSE))","v":""},0,2,null,{"$f":"IF(AI36=\"\",\"\",IF(I36=1,VLOOKUP(AI36,男子種目コード!$A$1:$B$29,2,FALSE),IF(I36=2,VLOOKUP(AI36,女子種目コード!$A$1:$B$30,2,FALSE))))","v":""},null,0,2,null,null,null,"女子C","",0,0,"","A-200","28.50",null,null,null,null,null,null,null,null,null,0,"",""]
[null,{"$f":"陸連登録!N32","v":""},null,null,{"$f":"陸連登録!M32","v":0},{"$f":"陸連登録!C32","v":0},{"$f":"陸連登録!D32","v":0},0,{"$f":"陸連登録!A32","v":""},{"$f":"陸連登録!P32","v":0},{"$f":"LEFT(陸連登録!L32,4)","v":""},{"$f":"RIGHT(陸連登録!L32,4)","v":""},{"$f":"陸連登録!F32","v":23},{"$f":"陸連登録!B32","v":0},null,"",null,0,2,null,"",{"$f":"IF(T37=\"\",\"\",HLOOKUP(T37,#REF!,32,FALSE))","v":""},0,2,null,null,{"$f":"IF(Y37=\"\",\"\",HLOOKUP(Y37,#REF!,32,FALSE))","v":""},0,2,null,null,{"$f":"IF(AD37=\"\",\"\",HLOOKUP(AD37,#REF!,2,FALSE))","v":""},0,2,null,{"$f":"IF(AI37=\"\",\"\",IF(I37=1,VLOOKUP(AI37,男子種目コード!$A$1:$B$29,2,FALSE),IF(I37=2,VLOOKUP(AI37,女子種目コード!$A$1:$B$30,2,FALSE))))","v":""},null,0,2,null,null,null,null,"",0,0,"","A-3000","11.20.00",null,null,null,null,null,null,null,null,null,0,"",""]
[null,{"$f":"陸連登録!N33","v":""},null,null,{"$f":"陸連登録!M33","v":0},{"$f":"陸連登録!C33","v":0},{"$f":"陸連登録!D33","v":0},0,{"$f":"陸連登録!A33","v":""},{"$f":"陸連登録!P33","v":0},{"$f":"LEFT(陸連登録!L33,4)","v":""},{"$f":"RIGHT(陸連登録!L33,4)","v":""},{"$f":"陸連登録!F33","v":23},{"$f":"陸連登録!B33","v":0},null,"",null,0,2,null,"",{"$f":"IF(T38=\"\",\"\",HLOOKUP(T38,#REF!,33,FALSE))","v":""},0,2,null,null,{"$f":"IF(Y38=\"\",\"\",HLOOKUP(Y38,#REF!,33,FALSE))","v":""},0,2,null,null,{"$f":"IF(AD38=\"\",\"\",HLOOKUP(AD38,#REF!,2,FALSE))","v":""},0,2,null,{"$f":"IF(AI38=\"\",\"\",IF(I38=1,VLOOKUP(AI38,男子種目コード!$A$1:$B$29,2,FALSE),IF(I38=2,VLOOKUP(AI38,女子種目コード!$A$1:$B$30,2,FALSE))))","v":""},null,0,2,null,null,null,null,"",0,0,"","A-100YH","17.60",null,null,null,null,null,null,null,null,null,0,"",""]
[null,{"$f":"陸連登録!N34","v":""},null,null,{"$f":"陸連登録!M34","v":0},{"$f":"陸連登録!C34","v":0},{"$f":"陸連登録!D34","v":0},0,{"$f":"陸連登録!A34","v":""},{"$f":"陸連登録!P34","v":0},{"$f":"LEFT(陸連登録!L34,4)","v":""},{"$f":"RIGHT(陸連登録!L34,4)","v":""},{"$f":"陸連登録!F34","v":23},{"$f":"陸連登録!B34","v":0},null,{"$f":"IF($O39=\"\",\"\",IF($I39=1,VLOOKUP($O39,$AV$8:$AX$13,3,FALSE),IF($I39=2,VLOOKUP($O39,$AV$16:$AX$19,3,FALSE))))","v":""},null,0,2,null,{"$f":"IF(T39=\"\",\"\",IF($I39=1,VLOOKUP(T39,$AV$8:$AX$13,3,FALSE),IF($I39=2,VLOOKUP(T39,$AV$16:$AX$19,3,FALSE))))","v":""},{"$f":"IF(T39=\"\",\"\",HLOOKUP(T39,#REF!,34,FALSE))","v":""},0,2,null,null,{"$f":"IF(Y39=\"\",\"\",HLOOKUP(Y39,#REF!,34,FALSE))","v":""},0,2,null,null,{"$f":"IF(AD39=\"\",\"\",HLOOKUP(AD39,#REF!,2,FALSE))","v":""},0,2,null,{"$f":"IF(AI39=\"\",\"\",IF(I39=1,VLOOKUP(AI39,男子種目コード!$A$1:$B$29,2,FALSE),IF(I39=2,VLOOKUP(AI39,女子種目コード!$A$1:$B$30,2,FALSE))))","v":""},null,0,2,null,null,null,null,"",0,0,"","A－走高跳","1m35",null,null,null,null,null,null,null,null,null,0,"",""]
[null,{"$f":"陸連登録!N35","v":""},null,null,{"$f":"陸連登録!M35","v":0},{"$f":"陸連登録!C35","v":0},{"$f":"陸連登録!D35","v":0},0,{"$f":"陸連登録!A35","v":""},{"$f":"陸連登録!P35","v":0},{"$f":"LEFT(陸連登録!L35,4)","v":""},{"$f":"RIGHT(陸連登録!L35,4)","v":""},{"$f":"陸連登録!F35","v":23},{"$f":"陸連登録!B35","v":0},null,"",null,0,2,null,"",{"$f":"IF(T40=\"\",\"\",HLOOKUP(T40,#REF!,35,FALSE))","v":""},0,2,null,null,{"$f":"IF(Y40=\"\",\"\",HLOOKUP(Y40,#REF!,35,FALSE))","v":""},0,2,null,null,{"$f":"IF(AD40=\"\",\"\",HLOOKUP(AD40,#REF!,2,FALSE))","v":""},0,2,null,{"$f":"IF(AI40=\"\",\"\",IF(I40=1,VLOOKUP(AI40,男子種目コード!$A$1:$B$29,2,FALSE),IF(I40=2,VLOOKUP(AI40,女子種目コード!$A$1:$B$30,2,FALSE))))","v":""},null,0,2,null,null,null,null,"",0,0,"","A－砲丸投","7m00(4k)",null,null,null,null,null,null,null,null,null,0,"",""]
[null,{"$f":"陸連登録!N36","v":""},null,null,{"$f":"陸連登録!M36","v":0},{"$f":"陸連登録!C36","v":0},{"$f":"陸連登録!D36","v":0},0,{"$f":"陸連登録!A36","v":""},{"$f":"陸連登録!P36","v":0},{"$f":"LEFT(陸連登録!L36,4)","v":""},{"$f":"RIGHT(陸連登録!L36,4)","v":""},{"$f":"陸連登録!F36","v":23},{"$f":"陸連登録!B36","v":0},null,"",null,0,2,null,"",{"$f":"IF(T41=\"\",\"\",HLOOKUP(T41,#REF!,36,FALSE))","v":""},0,2,null,null,{"$f":"IF(Y41=\"\",\"\",HLOOKUP(Y41,#REF!,36,FALSE))","v":""},0,2,null,null,{"$f":"IF(AD41=\"\",\"\",HLOOKUP(AD41,#REF!,2,FALSE))","v":""},0,2,null,{"$f":"IF(AI41=\"\",\"\",IF(I41=1,VLOOKUP(AI41,男子種目コード!$A$1:$B$29,2,FALSE),IF(I41=2,VLOOKUP(AI41,女子種目コード!$A$1:$B$30,2,FALSE))))","v":""},null,0,2,null,null,null,null,"",0,0,"",null,null,null,null,null,null,null,null,null,null,null,0,"",""]
[null,{"$f":"陸連登録!N37","v":""},null,null,{"$f":"陸連登録!M37","v":0},{"$f":"陸連登録!C37","v":0},{"$f":"陸連登録!D37","v":0},0,{"$f":"陸連登録!A37","v":""},{"$f":"陸連登録!P37","v":0},{"$f":"LEFT(陸連登録!L37,4)","v":""},{"$f":"RIGHT(陸連登録!L37,4)","v":""},{"$f":"陸連登録!F37","v":23},{"$f":"陸連登録!B37","v":0},null,"",null,0,2,null,"",{"$f":"IF(T42=\"\",\"\",HLOOKUP(T42,#REF!,37,FALSE))","v":""},0,2,null,null,{"$f":"IF(Y42=\"\",\"\",HLOOKUP(Y42,#REF!,37,FALSE))","v":""},0,2,null,null,{"$f":"IF(AD42=\"\",\"\",HLOOKUP(AD42,#REF!,2,FALSE))","v":""},0,2,null,{"$f":"IF(AI42=\"\",\"\",IF(I42=1,VLOOKUP(AI42,男子種目コード!$A$1:$B$29,2,FALSE),IF(I42=2,VLOOKUP(AI42,女子種目コード!$A$1:$B$30,2,FALSE))))","v":""},null,0,2,null,null,null,null,"",0,0,"",null,null,null,null,null,null,null,null,null,null,null,0,"",""]
[null,{"$f":"陸連登録!N38","v":""},null,null,{"$f":"陸連登録!M38","v":0},{"$f":"陸連登録!C38","v":0},{"$f":"陸連登録!D38","v":0},0,{"$f":"陸連登録!A38","v":""},{"$f":"陸連登録!P38","v":0},{"$f":"LEFT(陸連登録!L38,4)","v":""},{"$f":"RIGHT(陸連登録!L38,4)","v":""},{"$f":"陸連登録!F38","v":23},{"$f":"陸連登録!B38","v":0},null,"",null,0,2,null,"",{"$f":"IF(T43=\"\",\"\",HLOOKUP(T43,#REF!,38,FALSE))","v":""},0,2,null,null,{"$f":"IF(Y43=\"\",\"\",HLOOKUP(Y43,#REF!,38,FALSE))","v":""},0,2,null,null,{"$f":"IF(AD43=\"\",\"\",HLOOKUP(AD43,#REF!,2,FALSE))","v":""},0,2,null,{"$f":"IF(AI43=\"\",\"\",IF(I43=1,VLOOKUP(AI43,男子種目コード!$A$1:$B$29,2,FALSE),IF(I43=2,VLOOKUP(AI43,女子種目コード!$A$1:$B$30,2,FALSE))))","v":""},null,0,2,null,null,null,null,"",0,0,"",null,null,null,null,null,null,null,null,null,null,null,0,"",""]
[null,{"$f":"陸連登録!N39","v":""},null,null,{"$f":"陸連登録!M39","v":0},{"$f":"陸連登録!C39","v":0},{"$f":"陸連登録!D39","v":0},0,{"$f":"陸連登録!A39","v":""},{"$f":"陸連登録!P39","v":0},{"$f":"LEFT(陸連登録!L39,4)","v":""},{"$f":"RIGHT(陸連登録!L39,4)","v":""},{"$f":"陸連登録!F39","v":23},{"$f":"陸連登録!B39","v":0},null,"",null,0,2,null,"",{"$f":"IF(T44=\"\",\"\",HLOOKUP(T44,#REF!,39,FALSE))","v":""},0,2,null,null,{"$f":"IF(Y44=\"\",\"\",HLOOKUP(Y44,#REF!,39,FALSE))","v":""},0,2,null,null,{"$f":"IF(AD44=\"\",\"\",HLOOKUP(AD44,#REF!,2,FALSE))","v":""},0,2,null,{"$f":"IF(AI44=\"\",\"\",IF(I44=1,VLOOKUP(AI44,男子種目コード!$A$1:$B$29,2,FALSE),IF(I44=2,VLOOKUP(AI44,女子種目コード!$A$1:$B$30,2,FALSE))))","v":""},null,0,2,null,null,null,null,"",0,0,"",null,null,null,null,null,null,null,null,null,null,null,0,"",""]
[null,{"$f":"陸連登録!N40","v":""},null,null,{"$f":"陸連登録!M40","v":0},{"$f":"陸連登録!C40","v":0},{"$f":"陸連登録!D40","v":0},0,{"$f":"陸連登録!A40","v":""},{"$f":"陸連登録!P40","v":0},{"$f":"LEFT(陸連登録!L40,4)","v":""},{"$f":"RIGHT(陸連登録!L40,4)","v":""},{"$f":"陸連登録!F40","v":23},{"$f":"陸連登録!B40","v":0},null,"",null,0,2,null,"",{"$f":"IF(T45=\"\",\"\",HLOOKUP(T45,#REF!,40,FALSE))","v":""},0,2,null,null,{"$f":"IF(Y45=\"\",\"\",HLOOKUP(Y45,#REF!,40,FALSE))","v":""},0,2,null,null,{"$f":"IF(AD45=\"\",\"\",HLOOKUP(AD45,#REF!,2,FALSE))","v":""},0,2,null,{"$f":"IF(AI45=\"\",\"\",IF(I45=1,VLOOKUP(AI45,男子種目コード!$A$1:$B$29,2,FALSE),IF(I45=2,VLOOKUP(AI45,女子種目コード!$A$1:$B$30,2,FALSE))))","v":""},null,0,2,null,null,null,null,"",0,0,"",null,null,null,null,null,null,null,null,null,null,null,0,"",""]
[null,{"$f":"陸連登録!N41","v":""},null,null,{"$f":"陸連登録!M41","v":0},{"$f":"陸連登録!C41","v":0},{"$f":"陸連登録!D41","v":0},0,{"$f":"陸連登録!A41","v":""},{"$f":"陸連登録!P41","v":0},{"$f":"LEFT(陸連登録!L41,4)","v":""},{"$f":"RIGHT(陸連登録!L41,4)","v":""},{"$f":"陸連登録!F41","v":23},{"$f":"陸連登録!B41","v":0},null,"",null,0,2,null,"",{"$f":"IF(T46=\"\",\"\",HLOOKUP(T46,#REF!,41,FALSE))","v":""},0,2,null,null,{"$f":"IF(Y46=\"\",\"\",HLOOKUP(Y46,#REF!,41,FALSE))","v":""},0,2,null,null,{"$f":"IF(AD46=\"\",\"\",HLOOKUP(AD46,#REF!,2,FALSE))","v":""},0,2,null,{"$f":"IF(AI46=\"\",\"\",IF(I46=1,VLOOKUP(AI46,男子種目コード!$A$1:$B$29,2,FALSE),IF(I46=2,VLOOKUP(AI46,女子種目コード!$A$1:$B$30,2,FALSE))))","v":""},null,0,2,null,null,null,null,"",0,0,"",null,null,null,null,null,null,null,null,null,null,null,0,"",""]
[null,{"$f":"陸連登録!N42","v":""},null,null,{"$f":"陸連登録!M42","v":0},{"$f":"陸連登録!C42","v":0},{"$f":"陸連登録!D42","v":0},0,{"$f":"陸連登録!A42","v":""},{"$f":"陸連登録!P42","v":0},{"$f":"LEFT(陸連登録!L42,4)","v":""},{"$f":"RIGHT(陸連登録!L42,4)","v":""},{"$f":"陸連登録!F42","v":23},{"$f":"陸連登録!B42","v":0},null,"",null,0,2,null,"",{"$f":"IF(T47=\"\",\"\",HLOOKUP(T47,#REF!,42,FALSE))","v":""},0,2,null,null,{"$f":"IF(Y47=\"\",\"\",HLOOKUP(Y47,#REF!,42,FALSE))","v":""},0,2,null,null,{"$f":"IF(AD47=\"\",\"\",HLOOKUP(AD47,#REF!,2,FALSE))","v":""},0,2,null,{"$f":"IF(AI47=\"\",\"\",IF(I47=1,VLOOKUP(AI47,男子種目コード!$A$1:$B$29,2,FALSE),IF(I47=2,VLOOKUP(AI47,女子種目コード!$A$1:$B$30,2,FALSE))))","v":""},null,0,2,null,null,null,null,"",0,0,"",null,null,null,null,null,null,null,null,null,null,null,0,"",""]
[null,{"$f":"陸連登録!N43","v":""},null,null,{"$f":"陸連登録!M43","v":0},{"$f":"陸連登録!C43","v":0},{"$f":"陸連登録!D43","v":0},0,{"$f":"陸連登録!A43","v":""},{"$f":"陸連登録!P43","v":0},{"$f":"LEFT(陸連登録!L43,4)","v":""},{"$f":"RIGHT(陸連登録!L43,4)","v":""},{"$f":"陸連登録!F43","v":23},{"$f":"陸連登録!B43","v":0},null,"",null,0,2,null,"",{"$f":"IF(T48=\"\",\"\",HLOOKUP(T48,#REF!,43,FALSE))","v":""},0,2,null,null,{"$f":"IF(Y48=\"\",\"\",HLOOKUP(Y48,#REF!,43,FALSE))","v":""},0,2,null,null,{"$f":"IF(AD48=\"\",\"\",HLOOKUP(AD48,#REF!,2,FALSE))","v":""},0,2,null,{"$f":"IF(AI48=\"\",\"\",IF(I48=1,VLOOKUP(AI48,男子種目コード!$A$1:$B$29,2,FALSE),IF(I48=2,VLOOKUP(AI48,女子種目コード!$A$1:$B$30,2,FALSE))))","v":""},null,0,2,null,null,null,null,"",0,0,"",null,null,null,null,null,null,null,null,null,null,null,0,"",""]
[null,{"$f":"陸連登録!N44","v":""},null,null,{"$f":"陸連登録!M44","v":0},{"$f":"陸連登録!C44","v":0},{"$f":"陸連登録!D44","v":0},0,{"$f":"陸連登録!A44","v":""},{"$f":"陸連登録!P44","v":0},{"$f":"LEFT(陸連登録!L44,4)","v":""},{"$f":"RIGHT(陸連登録!L44,4)","v":""},{"$f":"陸連登録!F44","v":23},{"$f":"陸連登録!B44","v":0},null,"",null,0,2,null,"",{"$f":"IF(T49=\"\",\"\",HLOOKUP(T49,#REF!,44,FALSE))","v":""},0,2,null,null,{"$f":"IF(Y49=\"\",\"\",HLOOKUP(Y49,#REF!,44,FALSE))","v":""},0,2,null,null,{"$f":"IF(AD49=\"\",\"\",HLOOKUP(AD49,#REF!,2,FALSE))","v":""},0,2,null,{"$f":"IF(AI49=\"\",\"\",IF(I49=1,VLOOKUP(AI49,男子種目コード!$A$1:$B$29,2,FALSE),IF(I49=2,VLOOKUP(AI49,女子種目コード!$A$1:$B$30,2,FALSE))))","v":""},null,0,2,null,null,null,null,"",0,0,"",null,null,null,null,null,null,null,null,null,null,null,0,"",""]
[null,{"$f":"陸連登録!N45","v":""},null,null,{"$f":"陸連登録!M45","v":0},{"$f":"陸連登録!C45","v":0},{"$f":"陸連登録!D45","v":0},0,{"$f":"陸連登録!A45","v":""},{"$f":"陸連登録!P45","v":0},{"$f":"LEFT(陸連登録!L45,4)","v":""},{"$f":"RIGHT(陸連登録!L45,4)","v":""},{"$f":"陸連登録!F45","v":23},{"$f":"陸連登録!B45","v":0},null,"",null,0,2,null,"",{"$f":"IF(T50=\"\",\"\",HLOOKUP(T50,#REF!,45,FALSE))","v":""},0,2,null,null,{"$f":"IF(Y50=\"\",\"\",HLOOKUP(Y50,#REF!,45,FALSE))","v":""},0,2,null,null,{"$f":"IF(AD50=\"\",\"\",HLOOKUP(AD50,#REF!,2,FALSE))","v":""},0,2,null,{"$f":"IF(AI50=\"\",\"\",IF(I50=1,VLOOKUP(AI50,男子種目コード!$A$1:$B$29,2,FALSE),IF(I50=2,VLOOKUP(AI50,女子種目コード!$A$1:$B$30,2,FALSE))))","v":""},null,0,2,null,null,null,null,"",0,0,"",null,null,null,null,null,null,null,null,null,null,null,0,"",""]
[null,{"$f":"陸連登録!N46","v":""},null,null,{"$f":"陸連登録!M46","v":0},{"$f":"陸連登録!C46","v":0},{"$f":"陸連登録!D46","v":0},0,{"$f":"陸連登録!A46","v":""},{"$f":"陸連登録!P46","v":0},{"$f":"LEFT(陸連登録!L46,4)","v":""},{"$f":"RIGHT(陸連登録!L46,4)","v":""},{"$f":"陸連登録!F46","v":23},{"$f":"陸連登録!B46","v":0},null,"",null,0,2,null,"",{"$f":"IF(T51=\"\",\"\",HLOOKUP(T51,#REF!,46,FALSE))","v":""},0,2,null,null,{"$f":"IF(Y51=\"\",\"\",HLOOKUP(Y51,#REF!,46,FALSE))","v":""},0,2,null,null,{"$f":"IF(AD51=\"\",\"\",HLOOKUP(AD51,#REF!,2,FALSE))","v":""},0,2,null,{"$f":"IF(AI51=\"\",\"\",IF(I51=1,VLOOKUP(AI51,男子種目コード!$A$1:$B$29,2,FALSE),IF(I51=2,VLOOKUP(AI51,女子種目コード!$A$1:$B$30,2,FALSE))))","v":""},null,0,2,null,null,null,null,"",0,0,"",null,null,null,null,null,null,null,null,null,null,null,0,"",""]
[null,{"$f":"陸連登録!N47","v":""},null,null,{"$f":"陸連登録!M47","v":0},{"$f":"陸連登録!C47","v":0},{"$f":"陸連登録!D47","v":0},0,{"$f":"陸連登録!A47","v":""},{"$f":"陸連登録!P47","v":0},{"$f":"LEFT(陸連登録!L47,4)","v":""},{"$f":"RIGHT(陸連登録!L47,4)","v":""},{"$f":"陸連登録!F47","v":23},{"$f":"陸連登録!B47","v":0},null,"",null,0,2,null,"",{"$f":"IF(T52=\"\",\"\",HLOOKUP(T52,#REF!,47,FALSE))","v":""},0,2,null,null,{"$f":"IF(Y52=\"\",\"\",HLOOKUP(Y52,#REF!,47,FALSE))","v":""},0,2,null,null,{"$f":"IF(AD52=\"\",\"\",HLOOKUP(AD52,#REF!,2,FALSE))","v":""},0,2,null,{"$f":"IF(AI52=\"\",\"\",IF(I52=1,VLOOKUP(AI52,男子種目コード!$A$1:$B$29,2,FALSE),IF(I52=2,VLOOKUP(AI52,女子種目コード!$A$1:$B$30,2,FALSE))))","v":""},null,0,2,null,null,null,null,"",0,0,"",null,null,null,null,null,null,null,null,null,null,null,0,"",""]
[null,{"$f":"陸連登録!N48","v":""},null,null,{"$f":"陸連登録!M48","v":0},{"$f":"陸連登録!C48","v":0},{"$f":"陸連登録!D48","v":0},0,{"$f":"陸連登録!A48","v":""},{"$f":"陸連登録!P48","v":0},{"$f":"LEFT(陸連登録!L48,4)","v":""},{"$f":"RIGHT(陸連登録!L48,4)","v":""},{"$f":"陸連登録!F48","v":23},{"$f":"陸連登録!B48","v":0},null,"",null,0,2,null,"",{"$f":"IF(T53=\"\",\"\",HLOOKUP(T53,#REF!,48,FALSE))","v":""},0,2,null,null,{"$f":"IF(Y53=\"\",\"\",HLOOKUP(Y53,#REF!,48,FALSE))","v":""},0,2,null,null,{"$f":"IF(AD53=\"\",\"\",HLOOKUP(AD53,#REF!,2,FALSE))","v":""},0,2,null,{"$f":"IF(AI53=\"\",\"\",IF(I53=1,VLOOKUP(AI53,男子種目コード!$A$1:$B$29,2,FALSE),IF(I53=2,VLOOKUP(AI53,女子種目コード!$A$1:$B$30,2,FALSE))))","v":""},null,0,2,null,null,null,null,"",0,0,"",null,null,null,null,null,null,null,null,null,null,null,0,"",""]
[null,{"$f":"陸連登録!N49","v":""},null,null,{"$f":"陸連登録!M49","v":0},{"$f":"陸連登録!C49","v":0},{"$f":"陸連登録!D49","v":0},0,{"$f":"陸連登録!A49","v":""},{"$f":"陸連登録!P49","v":0},{"$f":"LEFT(陸連登録!L49,4)","v":""},{"$f":"RIGHT(陸連登録!L49,4)","v":""},{"$f":"陸連登録!F49","v":23},{"$f":"陸連登録!B49","v":0},null,"",null,0,2,null,"",{"$f":"IF(T54=\"\",\"\",HLOOKUP(T54,#REF!,49,FALSE))","v":""},0,2,null,null,{"$f":"IF(Y54=\"\",\"\",HLOOKUP(Y54,#REF!,49,FALSE))","v":""},0,2,null,null,{"$f":"IF(AD54=\"\",\"\",HLOOKUP(AD54,#REF!,2,FALSE))","v":""},0,2,null,{"$f":"IF(AI54=\"\",\"\",IF(I54=1,VLOOKUP(AI54,男子種目コード!$A$1:$B$29,2,FALSE),IF(I54=2,VLOOKUP(AI54,女子種目コード!$A$1:$B$30,2,FALSE))))","v":""},null,0,2,null,null,null,null,"",0,0,"",null,null,null,null,null,null,null,null,null,null,null,0,"",""]
[null,{"$f":"陸連登録!N50","v":""},null,null,{"$f":"陸連登録!M50","v":0},{"$f":"陸連登録!C50","v":0},{"$f":"陸連登録!D50","v":0},0,{"$f":"陸連登録!A50","v":""},{"$f":"陸連登録!P50","v":0},{"$f":"LEFT(陸連登録!L50,4)","v":""},{"$f":"RIGHT(陸連登録!L50,4)","v":""},{"$f":"陸連登録!F50","v":23},{"$f":"陸連登録!B50","v":0},null,"",null,0,2,null,"",{"$f":"IF(T55=\"\",\"\",HLOOKUP(T55,#REF!,50,FALSE))","v":""},0,2,null,null,{"$f":"IF(Y55=\"\",\"\",HLOOKUP(Y55,#REF!,50,FALSE))","v":""},0,2,null,null,{"$f":"IF(AD55=\"\",\"\",HLOOKUP(AD55,#REF!,2,FALSE))","v":""},0,2,null,{"$f":"IF(AI55=\"\",\"\",IF(I55=1,VLOOKUP(AI55,男子種目コード!$A$1:$B$29,2,FALSE),IF(I55=2,VLOOKUP(AI55,女子種目コード!$A$1:$B$30,2,FALSE))))","v":""},null,0,2,null,null,null,null,"",0,0,"",null,null,null,null,null,null,null,null,null,null,null,0,"",""]
[null,{"$f":"陸連登録!N51","v":""},null,null,{"$f":"陸連登録!M51","v":0},{"$f":"陸連登録!C51","v":0},{"$f":"陸連登録!D51","v":0},0,{"$f":"陸連登録!A51","v":""},{"$f":"陸連登録!P51","v":0},{"$f":"LEFT(陸連登録!L51,4)","v":""},{"$f":"RIGHT(陸連登録!L51,4)","v":""},{"$f":"陸連登録!F51","v":23},{"$f":"陸連登録!B51","v":0},null,"",null,0,2,null,"",{"$f":"IF(T56=\"\",\"\",HLOOKUP(T56,#REF!,51,FALSE))","v":""},0,2,null,null,{"$f":"IF(Y56=\"\",\"\",HLOOKUP(Y56,#REF!,51,FALSE))","v":""},0,2,null,null,{"$f":"IF(AD56=\"\",\"\",HLOOKUP(AD56,#REF!,2,FALSE))","v":""},0,2,null,{"$f":"IF(AI56=\"\",\"\",IF(I56=1,VLOOKUP(AI56,男子種目コード!$A$1:$B$29,2,FALSE),IF(I56=2,VLOOKUP(AI56,女子種目コード!$A$1:$B$30,2,FALSE))))","v":""},null,0,2,null,null,null,null,"",0,0,"",null,null,null,null,null,null,null,null,null,null,null,0,"",""]
[null,{"$f":"陸連登録!N52","v":""},null,null,{"$f":"陸連登録!M52","v":0},{"$f":"陸連登録!C52","v":0},{"$f":"陸連登録!D52","v":0},0,{"$f":"陸連登録!A52","v":""},{"$f":"陸連登録!P52","v":0},{"$f":"LEFT(陸連登録!L52,4)","v":""},{"$f":"RIGHT(陸連登録!L52,4)","v":""},{"$f":"陸連登録!F52","v":23},{"$f":"陸連登録!B52","v":0},null,"",null,0,2,null,"",{"$f":"IF(T57=\"\",\"\",HLOOKUP(T57,#REF!,52,FALSE))","v":""},0,2,null,null,{"$f":"IF(Y57=\"\",\"\",HLOOKUP(Y57,#REF!,52,FALSE))","v":""},0,2,null,null,{"$f":"IF(AD57=\"\",\"\",HLOOKUP(AD57,#REF!,2,FALSE))","v":""},0,2,null,{"$f":"IF(AI57=\"\",\"\",IF(I57=1,VLOOKUP(AI57,男子種目コード!$A$1:$B$29,2,FALSE),IF(I57=2,VLOOKUP(AI57,女子種目コード!$A$1:$B$30,2,FALSE))))","v":""},null,0,2,null,null,null,null,"",0,0,"",null,null,null,null,null,null,null,null,null,null,null,0,"",""]
[null,{"$f":"陸連登録!N53","v":""},null,null,{"$f":"陸連登録!M53","v":0},{"$f":"陸連登録!C53","v":0},{"$f":"陸連登録!D53","v":0},0,{"$f":"陸連登録!A53","v":""},{"$f":"陸連登録!P53","v":0},{"$f":"LEFT(陸連登録!L53,4)","v":""},{"$f":"RIGHT(陸連登録!L53,4)","v":""},{"$f":"陸連登録!F53","v":23},{"$f":"陸連登録!B53","v":0},null,"",null,0,2,null,"",{"$f":"IF(T58=\"\",\"\",HLOOKUP(T58,#REF!,53,FALSE))","v":""},0,2,null,null,{"$f":"IF(Y58=\"\",\"\",HLOOKUP(Y58,#REF!,53,FALSE))","v":""},0,2,null,null,{"$f":"IF(AD58=\"\",\"\",HLOOKUP(AD58,#REF!,2,FALSE))","v":""},0,2,null,{"$f":"IF(AI58=\"\",\"\",IF(I58=1,VLOOKUP(AI58,男子種目コード!$A$1:$B$29,2,FALSE),IF(I58=2,VLOOKUP(AI58,女子種目コード!$A$1:$B$30,2,FALSE))))","v":""},null,0,2,null,null,null,null,"",0,0,"",null,null,null,null,null,null,null,null,null,null,null,0,"",""]
[null,{"$f":"陸連登録!N54","v":""},null,null,{"$f":"陸連登録!M54","v":0},{"$f":"陸連登録!C54","v":0},{"$f":"陸連登録!D54","v":0},0,{"$f":"陸連登録!A54","v":""},{"$f":"陸連登録!P54","v":0},{"$f":"LEFT(陸連登録!L54,4)","v":""},{"$f":"RIGHT(陸連登録!L54,4)","v":""},{"$f":"陸連登録!F54","v":23},{"$f":"陸連登録!B54","v":0},null,"",null,0,2,null,"",{"$f":"IF(T59=\"\",\"\",HLOOKUP(T59,#REF!,54,FALSE))","v":""},0,2,null,null,{"$f":"IF(Y59=\"\",\"\",HLOOKUP(Y59,#REF!,54,FALSE))","v":""},0,2,null,null,{"$f":"IF(AD59=\"\",\"\",HLOOKUP(AD59,#REF!,2,FALSE))","v":""},0,2,null,{"$f":"IF(AI59=\"\",\"\",IF(I59=1,VLOOKUP(AI59,男子種目コード!$A$1:$B$29,2,FALSE),IF(I59=2,VLOOKUP(AI59,女子種目コード!$A$1:$B$30,2,FALSE))))","v":""},null,0,2,null,null,null,null,"",0,0,"",null,null,null,null,null,null,null,null,null,null,null,0,"",""]
[null,{"$f":"陸連登録!N55","v":""},null,null,{"$f":"陸連登録!M55","v":0},{"$f":"陸連登録!C55","v":0},{"$f":"陸連登録!D55","v":0},0,{"$f":"陸連登録!A55","v":""},{"$f":"陸連登録!P55","v":0},{"$f":"LEFT(陸連登録!L55,4)","v":""},{"$f":"RIGHT(陸連登録!L55,4)","v":""},{"$f":"陸連登録!F55","v":23},{"$f":"陸連登録!B55","v":0},null,"",null,0,2,null,"",{"$f":"IF(T60=\"\",\"\",HLOOKUP(T60,#REF!,55,FALSE))","v":""},0,2,null,null,{"$f":"IF(Y60=\"\",\"\",HLOOKUP(Y60,#REF!,55,FALSE))","v":""},0,2,null,null,{"$f":"IF(AD60=\"\",\"\",HLOOKUP(AD60,#REF!,2,FALSE))","v":""},0,2,null,{"$f":"IF(AI60=\"\",\"\",IF(I60=1,VLOOKUP(AI60,男子種目コード!$A$1:$B$29,2,FALSE),IF(I60=2,VLOOKUP(AI60,女子種目コード!$A$1:$B$30,2,FALSE))))","v":""},null,0,2,null,null,null,null,"",0,0,"",null,null,null,null,null,null,null,null,null,null,null,0,"",""]
[null,{"$f":"陸連登録!N56","v":""},null,null,{"$f":"陸連登録!M56","v":0},{"$f":"陸連登録!C56","v":0},{"$f":"陸連登録!D56","v":0},0,{"$f":"陸連登録!A56","v":""},{"$f":"陸連登録!P56","v":0},{"$f":"LEFT(陸連登録!L56,4)","v":""},{"$f":"RIGHT(陸連登録!L56,4)","v":""},{"$f":"陸連登録!F56","v":23},{"$f":"陸連登録!B56","v":0},null,"",null,0,2,null,"",{"$f":"IF(T61=\"\",\"\",HLOOKUP(T61,#REF!,56,FALSE))","v":""},0,2,null,null,{"$f":"IF(Y61=\"\",\"\",HLOOKUP(Y61,#REF!,56,FALSE))","v":""},0,2,null,null,{"$f":"IF(AD61=\"\",\"\",HLOOKUP(AD61,#REF!,2,FALSE))","v":""},0,2,null,{"$f":"IF(AI61=\"\",\"\",IF(I61=1,VLOOKUP(AI61,男子種目コード!$A$1:$B$29,2,FALSE),IF(I61=2,VLOOKUP(AI61,女子種目コード!$A$1:$B$30,2,FALSE))))","v":""},null,0,2,null,null,null,null,"",0,0,"",null,null,null,null,null,null,null,null,null,null,null,0,"",""]
[null,{"$f":"陸連登録!N57","v":""},null,null,{"$f":"陸連登録!M57","v":0},{"$f":"陸連登録!C57","v":0},{"$f":"陸連登録!D57","v":0},0,{"$f":"陸連登録!A57","v":""},{"$f":"陸連登録!P57","v":0},{"$f":"LEFT(陸連登録!L57,4)","v":""},{"$f":"RIGHT(陸連登録!L57,4)","v":""},{"$f":"陸連登録!F57","v":23},{"$f":"陸連登録!B57","v":0},null,"",null,0,2,null,"",{"$f":"IF(T62=\"\",\"\",HLOOKUP(T62,#REF!,57,FALSE))","v":""},0,2,null,null,{"$f":"IF(Y62=\"\",\"\",HLOOKUP(Y62,#REF!,57,FALSE))","v":""},0,2,null,null,{"$f":"IF(AD62=\"\",\"\",HLOOKUP(AD62,#REF!,2,FALSE))","v":""},0,2,null,{"$f":"IF(AI62=\"\",\"\",IF(I62=1,VLOOKUP(AI62,男子種目コード!$A$1:$B$29,2,FALSE),IF(I62=2,VLOOKUP(AI62,女子種目コード!$A$1:$B$30,2,FALSE))))","v":""},null,0,2,null,null,null,null,"",0,0,"",null,null,null,null,null,null,null,null,null,null,null,0,"",""]
[null,{"$f":"陸連登録!N58","v":""},null,null,{"$f":"陸連登録!M58","v":0},{"$f":"陸連登録!C58","v":0},{"$f":"陸連登録!D58","v":0},0,{"$f":"陸連登録!A58","v":""},{"$f":"陸連登録!P58","v":0},{"$f":"LEFT(陸連登録!L58,4)","v":""},{"$f":"RIGHT(陸連登録!L58,4)","v":""},{"$f":"陸連登録!F58","v":23},{"$f":"陸連登録!B58","v":0},null,"",null,0,2,null,"",{"$f":"IF(T63=\"\",\"\",HLOOKUP(T63,#REF!,58,FALSE))","v":""},0,2,null,null,{"$f":"IF(Y63=\"\",\"\",HLOOKUP(Y63,#REF!,58,FALSE))","v":""},0,2,null,null,{"$f":"IF(AD63=\"\",\"\",HLOOKUP(AD63,#REF!,2,FALSE))","v":""},0,2,null,{"$f":"IF(AI63=\"\",\"\",IF(I63=1,VLOOKUP(AI63,男子種目コード!$A$1:$B$29,2,FALSE),IF(I63=2,VLOOKUP(AI63,女子種目コード!$A$1:$B$30,2,FALSE))))","v":""},null,0,2,null,null,null,null,"",0,0,"",null,null,null,null,null,null,null,null,null,null,null,0,"",""]
[null,{"$f":"陸連登録!N59","v":""},null,null,{"$f":"陸連登録!M59","v":0},{"$f":"陸連登録!C59","v":0},{"$f":"陸連登録!D59","v":0},0,{"$f":"陸連登録!A59","v":""},{"$f":"陸連登録!P59","v":0},{"$f":"LEFT(陸連登録!L59,4)","v":""},{"$f":"RIGHT(陸連登録!L59,4)","v":""},{"$f":"陸連登録!F59","v":23},{"$f":"陸連登録!B59","v":0},null,"",null,0,2,null,"",{"$f":"IF(T64=\"\",\"\",HLOOKUP(T64,#REF!,59,FALSE))","v":""},0,2,null,null,{"$f":"IF(Y64=\"\",\"\",HLOOKUP(Y64,#REF!,59,FALSE))","v":""},0,2,null,null,{"$f":"IF(AD64=\"\",\"\",HLOOKUP(AD64,#REF!,2,FALSE))","v":""},0,2,null,{"$f":"IF(AI64=\"\",\"\",IF(I64=1,VLOOKUP(AI64,男子種目コード!$A$1:$B$29,2,FALSE),IF(I64=2,VLOOKUP(AI64,女子種目コード!$A$1:$B$30,2,FALSE))))","v":""},null,0,2,null,null,null,null,"",0,0,"",null,null,null,null,null,null,null,null,null,null,null,0,"",""]
[null,{"$f":"陸連登録!N60","v":""},null,null,{"$f":"陸連登録!M60","v":0},{"$f":"陸連登録!C60","v":0},{"$f":"陸連登録!D60","v":0},0,{"$f":"陸連登録!A60","v":""},{"$f":"陸連登録!P60","v":0},{"$f":"LEFT(陸連登録!L60,4)","v":""},{"$f":"RIGHT(陸連登録!L60,4)","v":""},{"$f":"陸連登録!F60","v":23},{"$f":"陸連登録!B60","v":0},null,"",null,0,2,null,"",{"$f":"IF(T65=\"\",\"\",HLOOKUP(T65,#REF!,60,FALSE))","v":""},0,2,null,null,{"$f":"IF(Y65=\"\",\"\",HLOOKUP(Y65,#REF!,60,FALSE))","v":""},0,2,null,null,{"$f":"IF(AD65=\"\",\"\",HLOOKUP(AD65,#REF!,2,FALSE))","v":""},0,2,null,{"$f":"IF(AI65=\"\",\"\",IF(I65=1,VLOOKUP(AI65,男子種目コード!$A$1:$B$29,2,FALSE),IF(I65=2,VLOOKUP(AI65,女子種目コード!$A$1:$B$30,2,FALSE))))","v":""},null,0,2,null,null,null,null,"",0,0,"",null,null,null,null,null,null,null,null,null,null,null,0,"",""]
[null,{"$f":"陸連登録!N61","v":""},null,null,{"$f":"陸連登録!M61","v":0},{"$f":"陸連登録!C61","v":0},{"$f":"陸連登録!D61","v":0},0,{"$f":"陸連登録!A61","v":""},{"$f":"陸連登録!P61","v":0},{"$f":"LEFT(陸連登録!L61,4)","v":""},{"$f":"RIGHT(陸連登録!L61,4)","v":""},{"$f":"陸連登録!F61","v":23},{"$f":"陸連登録!B61","v":0},null,"",null,0,2,null,"",{"$f":"IF(T66=\"\",\"\",HLOOKUP(T66,#REF!,61,FALSE))","v":""},0,2,null,null,{"$f":"IF(Y66=\"\",\"\",HLOOKUP(Y66,#REF!,61,FALSE))","v":""},0,2,null,null,{"$f":"IF(AD66=\"\",\"\",HLOOKUP(AD66,#REF!,2,FALSE))","v":""},0,2,null,{"$f":"IF(AI66=\"\",\"\",IF(I66=1,VLOOKUP(AI66,男子種目コード!$A$1:$B$29,2,FALSE),IF(I66=2,VLOOKUP(AI66,女子種目コード!$A$1:$B$30,2,FALSE))))","v":""},null,0,2,null,null,null,null,"",0,0,"",null,null,null,null,null,null,null,null,null,null,null,0,"",""]
[null,{"$f":"陸連登録!N62","v":""},null,null,{"$f":"陸連登録!M62","v":0},{"$f":"陸連登録!C62","v":0},{"$f":"陸連登録!D62","v":0},0,{"$f":"陸連登録!A62","v":""},{"$f":"陸連登録!P62","v":0},{"$f":"LEFT(陸連登録!L62,4)","v":""},{"$f":"RIGHT(陸連登録!L62,4)","v":""},{"$f":"陸連登録!F62","v":23},{"$f":"陸連登録!B62","v":0},null,"",null,0,2,null,"",{"$f":"IF(T67=\"\",\"\",HLOOKUP(T67,#REF!,62,FALSE))","v":""},0,2,null,null,{"$f":"IF(Y67=\"\",\"\",HLOOKUP(Y67,#REF!,62,FALSE))","v":""},0,2,null,null,{"$f":"IF(AD67=\"\",\"\",HLOOKUP(AD67,#REF!,2,FALSE))","v":""},0,2,null,{"$f":"IF(AI67=\"\",\"\",IF(I67=1,VLOOKUP(AI67,男子種目コード!$A$1:$B$29,2,FALSE),IF(I67=2,VLOOKUP(AI67,女子種目コード!$A$1:$B$30,2,FALSE))))","v":""},null,0,2,null,null,null,null,"",0,0,"",null,null,null,null,null,null,null,null,null,null,null,0,"",""]
[null,{"$f":"陸連登録!N63","v":""},null,null,{"$f":"陸連登録!M63","v":0},{"$f":"陸連登録!C63","v":0},{"$f":"陸連登録!D63","v":0},0,{"$f":"陸連登録!A63","v":""},{"$f":"陸連登録!P63","v":0},{"$f":"LEFT(陸連登録!L63,4)","v":""},{"$f":"RIGHT(陸連登録!L63,4)","v":""},{"$f":"陸連登録!F63","v":23},{"$f":"陸連登録!B63","v":0},null,"",null,0,2,null,"",{"$f":"IF(T68=\"\",\"\",HLOOKUP(T68,#REF!,63,FALSE))","v":""},0,2,null,null,{"$f":"IF(Y68=\"\",\"\",HLOOKUP(Y68,#REF!,63,FALSE))","v":""},0,2,null,null,{"$f":"IF(AD68=\"\",\"\",HLOOKUP(AD68,#REF!,2,FALSE))","v":""},0,2,null,{"$f":"IF(AI68=\"\",\"\",IF(I68=1,VLOOKUP(AI68,男子種目コード!$A$1:$B$29,2,FALSE),IF(I68=2,VLOOKUP(AI68,女子種目コード!$A$1:$B$30,2,FALSE))))","v":""},null,0,2,null,null,null,null,"",0,0,"",null,null,null,null,null,null,null,null,null,null,null,0,"",""]
[null,{"$f":"陸連登録!N64","v":""},null,null,{"$f":"陸連登録!M64","v":0},{"$f":"陸連登録!C64","v":0},{"$f":"陸連登録!D64","v":0},0,{"$f":"陸連登録!A64","v":""},{"$f":"陸連登録!P64","v":0},{"$f":"LEFT(陸連登録!L64,4)","v":""},{"$f":"RIGHT(陸連登録!L64,4)","v":""},{"$f":"陸連登録!F64","v":23},{"$f":"陸連登録!B64","v":0},null,"",null,0,2,null,"",{"$f":"IF(T69=\"\",\"\",HLOOKUP(T69,#REF!,64,FALSE))","v":""},0,2,null,null,{"$f":"IF(Y69=\"\",\"\",HLOOKUP(Y69,#REF!,64,FALSE))","v":""},0,2,null,null,{"$f":"IF(AD69=\"\",\"\",HLOOKUP(AD69,#REF!,2,FALSE))","v":""},0,2,null,{"$f":"IF(AI69=\"\",\"\",IF(I69=1,VLOOKUP(AI69,男子種目コード!$A$1:$B$29,2,FALSE),IF(I69=2,VLOOKUP(AI69,女子種目コード!$A$1:$B$30,2,FALSE))))","v":""},null,0,2,null,null,null,null,"",0,0,"",null,null,null,null,null,null,null,null,null,null,null,0,"",""]
[null,{"$f":"陸連登録!N65","v":""},null,null,{"$f":"陸連登録!M65","v":0},{"$f":"陸連登録!C65","v":0},{"$f":"陸連登録!D65","v":0},0,{"$f":"陸連登録!A65","v":""},{"$f":"陸連登録!P65","v":0},{"$f":"LEFT(陸連登録!L65,4)","v":""},{"$f":"RIGHT(陸連登録!L65,4)","v":""},{"$f":"陸連登録!F65","v":23},{"$f":"陸連登録!B65","v":0},null,"",null,0,2,null,"",{"$f":"IF(T70=\"\",\"\",HLOOKUP(T70,#REF!,65,FALSE))","v":""},0,2,null,null,{"$f":"IF(Y70=\"\",\"\",HLOOKUP(Y70,#REF!,65,FALSE))","v":""},0,2,null,null,{"$f":"IF(AD70=\"\",\"\",HLOOKUP(AD70,#REF!,2,FALSE))","v":""},0,2,null,{"$f":"IF(AI70=\"\",\"\",IF(I70=1,VLOOKUP(AI70,男子種目コード!$A$1:$B$29,2,FALSE),IF(I70=2,VLOOKUP(AI70,女子種目コード!$A$1:$B$30,2,FALSE))))","v":""},null,0,2,null,null,null,null,"",0,0,"",null,null,null,null,null,null,null,null,null,null,null,0,"",""]
[null,{"$f":"陸連登録!N66","v":""},null,null,{"$f":"陸連登録!M66","v":0},{"$f":"陸連登録!C66","v":0},{"$f":"陸連登録!D66","v":0},{"$f":"F71","v":0},{"$f":"陸連登録!A66","v":""},{"$f":"陸連登録!P66","v":0},{"$f":"LEFT(陸連登録!L66,4)","v":""},{"$f":"RIGHT(陸連登録!L66,4)","v":""},{"$f":"陸連登録!F66","v":23},{"$f":"陸連登録!B66","v":0},null,{"$f":"IF($O71=\"\",\"\",IF($I71=1,VLOOKUP($O71,$AV$8:$AX$13,3,FALSE),IF($I71=2,VLOOKUP($O71,$AV$16:$AX$19,3,FALSE))))","v":""},null,0,2,null,{"$f":"IF(T71=\"\",\"\",IF($I71=1,VLOOKUP(T71,$AV$8:$AX$13,3,FALSE),IF($I71=2,VLOOKUP(T71,$AV$16:$AX$19,3,FALSE))))","v":""},{"$f":"IF(T71=\"\",\"\",HLOOKUP(T71,#REF!,66,FALSE))","v":""},0,2,null,null,{"$f":"IF(Y71=\"\",\"\",HLOOKUP(Y71,#REF!,66,FALSE))","v":""},0,2,null,null,{"$f":"IF(AD71=\"\",\"\",HLOOKUP(AD71,#REF!,2,FALSE))","v":""},0,2,null,{"$f":"IF(AI71=\"\",\"\",IF(I71=1,VLOOKUP(AI71,男子種目コード!$A$1:$B$29,2,FALSE),IF(I71=2,VLOOKUP(AI71,女子種目コード!$A$1:$B$30,2,FALSE))))","v":""},null,0,2,null,null,null,null,{"$f":"IF(O71=\"\",\"\",1)","v":""},{"$f":"IF(OR(AR71=1,T71=\"\"),0,1)","v":0},{"$f":"IF(OR(AR71=1,AS71=1,AD71=\"\"),0,1)","v":0},{"$f":"IF(T71=\"\",\"\",1)","v":""},null,null,null,null,null,null,null,null,null,null,null,0,{"$f":"IF(I71=1,BG71,\"\")","v":""},{"$f":"IF(I71=2,BG71,\"\")","v":""}]
[null,{"$f":"陸連登録!N67","v":""},null,null,{"$f":"陸連登録!M67","v":0},{"$f":"陸連登録!C67","v":0},{"$f":"陸連登録!D67","v":0},0,{"$f":"陸連登録!A67","v":""},{"$f":"陸連登録!P67","v":0},{"$f":"LEFT(陸連登録!L67,4)","v":""},{"$f":"RIGHT(陸連登録!L67,4)","v":""},{"$f":"陸連登録!F67","v":23},{"$f":"陸連登録!B67","v":0},null,"",null,0,2,null,"",{"$f":"IF(T72=\"\",\"\",HLOOKUP(T72,#REF!,67,FALSE))","v":""},0,2,null,null,{"$f":"IF(Y72=\"\",\"\",HLOOKUP(Y72,#REF!,67,FALSE))","v":""},0,2,null,null,{"$f":"IF(AD72=\"\",\"\",HLOOKUP(AD72,#REF!,2,FALSE))","v":""},0,2,null,{"$f":"IF(AI72=\"\",\"\",IF(I72=1,VLOOKUP(AI72,男子種目コード!$A$1:$B$29,2,FALSE),IF(I72=2,VLOOKUP(AI72,女子種目コード!$A$1:$B$30,2,FALSE))))","v":""},null,0,2,null,null,null,null,"",0,0,"",null,null,null,null,null,null,null,null,null,null,null,{"$f":"COUNT(AR72,AU72)","v":0},"",""]
[null,{"$f":"陸連登録!N68","v":""},null,null,{"$f":"陸連登録!M68","v":0},{"$f":"陸連登録!C68","v":0},{"$f":"陸連登録!D68","v":0},0,{"$f":"陸連登録!A68","v":""},{"$f":"陸連登録!P68","v":0},{"$f":"LEFT(陸連登録!L68,4)","v":""},{"$f":"RIGHT(陸連登録!L68,4)","v":""},{"$f":"陸連登録!F68","v":23},{"$f":"陸連登録!B68","v":0},null,"",null,0,2,null,"",{"$f":"IF(T73=\"\",\"\",HLOOKUP(T73,#REF!,68,FALSE))","v":""},0,2,null,null,{"$f":"IF(Y73=\"\",\"\",HLOOKUP(Y73,#REF!,68,FALSE))","v":""},0,2,null,null,{"$f":"IF(AD73=\"\",\"\",HLOOKUP(AD73,#REF!,2,FALSE))","v":""},0,2,null,{"$f":"IF(AI73=\"\",\"\",IF(I73=1,VLOOKUP(AI73,男子種目コード!$A$1:$B$29,2,FALSE),IF(I73=2,VLOOKUP(AI73,女子種目コード!$A$1:$B$30,2,FALSE))))","v":""},null,0,2,null,null,null,null,"",0,0,"",null,null,null,null,null,null,null,null,null,null,null,0,"",""]
[null,{"$f":"陸連登録!N69","v":""},null,null,{"$f":"陸連登録!M69","v":0},{"$f":"陸連登録!C69","v":0},{"$f":"陸連登録!D69","v":0},0,{"$f":"陸連登録!A69","v":""},{"$f":"陸連登録!P69","v":0},{"$f":"LEFT(陸連登録!L69,4)","v":""},{"$f":"RIGHT(陸連登録!L69,4)","v":""},{"$f":"陸連登録!F69","v":23},{"$f":"陸連登録!B69","v":0},null,"",null,0,2,null,"",{"$f":"IF(T74=\"\",\"\",HLOOKUP(T74,#REF!,69,FALSE))","v":""},0,2,null,null,{"$f":"IF(Y74=\"\",\"\",HLOOKUP(Y74,#REF!,69,FALSE))","v":""},0,2,null,null,{"$f":"IF(AD74=\"\",\"\",HLOOKUP(AD74,#REF!,2,FALSE))","v":""},0,2,null,{"$f":"IF(AI74=\"\",\"\",IF(I74=1,VLOOKUP(AI74,男子種目コード!$A$1:$B$29,2,FALSE),IF(I74=2,VLOOKUP(AI74,女子種目コード!$A$1:$B$30,2,FALSE))))","v":""},null,0,2,null,null,null,null,"",0,0,"",null,null,null,null,null,null,null,null,null,null,null,0,"",""]
[null,{"$f":"陸連登録!N70","v":""},null,null,{"$f":"陸連登録!M70","v":0},{"$f":"陸連登録!C70","v":0},{"$f":"陸連登録!D70","v":0},0,{"$f":"陸連登録!A70","v":""},{"$f":"陸連登録!P70","v":0},{"$f":"LEFT(陸連登録!L70,4)","v":""},{"$f":"RIGHT(陸連登録!L70,4)","v":""},{"$f":"陸連登録!F70","v":23},{"$f":"陸連登録!B70","v":0},null,"",null,0,2,null,"",{"$f":"IF(T75=\"\",\"\",HLOOKUP(T75,#REF!,70,FALSE))","v":""},0,2,null,null,{"$f":"IF(Y75=\"\",\"\",HLOOKUP(Y75,#REF!,70,FALSE))","v":""},0,2,null,null,{"$f":"IF(AD75=\"\",\"\",HLOOKUP(AD75,#REF!,2,FALSE))","v":""},0,2,null,{"$f":"IF(AI75=\"\",\"\",IF(I75=1,VLOOKUP(AI75,男子種目コード!$A$1:$B$29,2,FALSE),IF(I75=2,VLOOKUP(AI75,女子種目コード!$A$1:$B$30,2,FALSE))))","v":""},null,0,2,null,null,null,null,"",0,0,"",null,null,null,null,null,null,null,null,null,null,null,0,"",""]
[null,{"$f":"陸連登録!N71","v":""},null,null,{"$f":"陸連登録!M71","v":0},{"$f":"陸連登録!C71","v":0},{"$f":"陸連登録!D71","v":0},0,{"$f":"陸連登録!A71","v":""},{"$f":"陸連登録!P71","v":0},{"$f":"LEFT(陸連登録!L71,4)","v":""},{"$f":"RIGHT(陸連登録!L71,4)","v":""},{"$f":"陸連登録!F71","v":23},{"$f":"陸連登録!B71","v":0},null,"",null,0,2,null,"",{"$f":"IF(T76=\"\",\"\",HLOOKUP(T76,#REF!,71,FALSE))","v":""},0,2,null,null,{"$f":"IF(Y76=\"\",\"\",HLOOKUP(Y76,#REF!,71,FALSE))","v":""},0,2,null,null,{"$f":"IF(AD76=\"\",\"\",HLOOKUP(AD76,#REF!,2,FALSE))","v":""},0,2,null,{"$f":"IF(AI76=\"\",\"\",IF(I76=1,VLOOKUP(AI76,男子種目コード!$A$1:$B$29,2,FALSE),IF(I76=2,VLOOKUP(AI76,女子種目コード!$A$1:$B$30,2,FALSE))))","v":""},null,0,2,null,null,null,null,"",0,0,"",null,null,null,null,null,null,null,null,null,null,null,0,"",""]
[null,{"$f":"陸連登録!N72","v":""},null,null,{"$f":"陸連登録!M72","v":0},{"$f":"陸連登録!C72","v":0},{"$f":"陸連登録!D72","v":0},0,{"$f":"陸連登録!A72","v":""},{"$f":"陸連登録!P72","v":0},{"$f":"LEFT(陸連登録!L72,4)","v":""},{"$f":"RIGHT(陸連登録!L72,4)","v":""},{"$f":"陸連登録!F72","v":23},{"$f":"陸連登録!B72","v":0},null,"",null,0,2,null,"",{"$f":"IF(T77=\"\",\"\",HLOOKUP(T77,#REF!,72,FALSE))","v":""},0,2,null,null,{"$f":"IF(Y77=\"\",\"\",HLOOKUP(Y77,#REF!,72,FALSE))","v":""},0,2,null,null,{"$f":"IF(AD77=\"\",\"\",HLOOKUP(AD77,#REF!,2,FALSE))","v":""},0,2,null,{"$f":"IF(AI77=\"\",\"\",IF(I77=1,VLOOKUP(AI77,男子種目コード!$A$1:$B$29,2,FALSE),IF(I77=2,VLOOKUP(AI77,女子種目コード!$A$1:$B$30,2,FALSE))))","v":""},null,0,2,null,null,null,null,"",0,0,"",null,null,null,null,null,null,null,null,null,null,null,0,"",""]
[null,{"$f":"陸連登録!N73","v":""},null,null,{"$f":"陸連登録!M73","v":0},{"$f":"陸連登録!C73","v":0},{"$f":"陸連登録!D73","v":0},0,{"$f":"陸連登録!A73","v":""},{"$f":"陸連登録!P73","v":0},{"$f":"LEFT(陸連登録!L73,4)","v":""},{"$f":"RIGHT(陸連登録!L73,4)","v":""},{"$f":"陸連登録!F73","v":23},{"$f":"陸連登録!B73","v":0},null,"",null,0,2,null,"",{"$f":"IF(T78=\"\",\"\",HLOOKUP(T78,#REF!,73,FALSE))","v":""},0,2,null,null,{"$f":"IF(Y78=\"\",\"\",HLOOKUP(Y78,#REF!,73,FALSE))","v":""},0,2,null,null,{"$f":"IF(AD78=\"\",\"\",HLOOKUP(AD78,#REF!,2,FALSE))","v":""},0,2,null,{"$f":"IF(AI78=\"\",\"\",IF(I78=1,VLOOKUP(AI78,男子種目コード!$A$1:$B$29,2,FALSE),IF(I78=2,VLOOKUP(AI78,女子種目コード!$A$1:$B$30,2,FALSE))))","v":""},null,0,2,null,null,null,null,"",0,0,"",null,null,null,null,null,null,null,null,null,null,null,0,"",""]
[null,{"$f":"陸連登録!N74","v":""},null,null,{"$f":"陸連登録!M74","v":0},{"$f":"陸連登録!C74","v":0},{"$f":"陸連登録!D74","v":0},0,{"$f":"陸連登録!A74","v":""},{"$f":"陸連登録!P74","v":0},{"$f":"LEFT(陸連登録!L74,4)","v":""},{"$f":"RIGHT(陸連登録!L74,4)","v":""},{"$f":"陸連登録!F74","v":23},{"$f":"陸連登録!B74","v":0},null,"",null,0,2,null,"",{"$f":"IF(T79=\"\",\"\",HLOOKUP(T79,#REF!,74,FALSE))","v":""},0,2,null,null,{"$f":"IF(Y79=\"\",\"\",HLOOKUP(Y79,#REF!,74,FALSE))","v":""},0,2,null,null,{"$f":"IF(AD79=\"\",\"\",HLOOKUP(AD79,#REF!,2,FALSE))","v":""},0,2,null,{"$f":"IF(AI79=\"\",\"\",IF(I79=1,VLOOKUP(AI79,男子種目コード!$A$1:$B$29,2,FALSE),IF(I79=2,VLOOKUP(AI79,女子種目コード!$A$1:$B$30,2,FALSE))))","v":""},null,0,2,null,null,null,null,"",0,0,"",null,null,null,null,null,null,null,null,null,null,null,0,"",""]
[null,{"$f":"陸連登録!N75","v":""},null,null,{"$f":"陸連登録!M75","v":0},{"$f":"陸連登録!C75","v":0},{"$f":"陸連登録!D75","v":0},0,{"$f":"陸連登録!A75","v":""},{"$f":"陸連登録!P75","v":0},{"$f":"LEFT(陸連登録!L75,4)","v":""},{"$f":"RIGHT(陸連登録!L75,4)","v":""},{"$f":"陸連登録!F75","v":23},{"$f":"陸連登録!B75","v":0},null,"",null,0,2,null,"",{"$f":"IF(T80=\"\",\"\",HLOOKUP(T80,#REF!,75,FALSE))","v":""},0,2,null,null,{"$f":"IF(Y80=\"\",\"\",HLOOKUP(Y80,#REF!,75,FALSE))","v":""},0,2,null,null,{"$f":"IF(AD80=\"\",\"\",HLOOKUP(AD80,#REF!,2,FALSE))","v":""},0,2,null,{"$f":"IF(AI80=\"\",\"\",IF(I80=1,VLOOKUP(AI80,男子種目コード!$A$1:$B$29,2,FALSE),IF(I80=2,VLOOKUP(AI80,女子種目コード!$A$1:$B$30,2,FALSE))))","v":""},null,0,2,null,null,null,null,"",0,0,"",null,null,null,null,null,null,null,null,null,null,null,0,"",""]
[null,{"$f":"陸連登録!N76","v":""},null,null,{"$f":"陸連登録!M76","v":0},{"$f":"陸連登録!C76","v":0},{"$f":"陸連登録!D76","v":0},0,{"$f":"陸連登録!A76","v":""},{"$f":"陸連登録!P76","v":0},{"$f":"LEFT(陸連登録!L76,4)","v":""},{"$f":"RIGHT(陸連登録!L76,4)","v":""},{"$f":"陸連登録!F76","v":23},{"$f":"陸連登録!B76","v":0},null,"",null,0,2,null,"",{"$f":"IF(T81=\"\",\"\",HLOOKUP(T81,#REF!,76,FALSE))","v":""},0,2,null,null,{"$f":"IF(Y81=\"\",\"\",HLOOKUP(Y81,#REF!,76,FALSE))","v":""},0,2,null,null,{"$f":"IF(AD81=\"\",\"\",HLOOKUP(AD81,#REF!,2,FALSE))","v":""},0,2,null,{"$f":"IF(AI81=\"\",\"\",IF(I81=1,VLOOKUP(AI81,男子種目コード!$A$1:$B$29,2,FALSE),IF(I81=2,VLOOKUP(AI81,女子種目コード!$A$1:$B$30,2,FALSE))))","v":""},null,0,2,null,null,null,null,"",0,0,"",null,null,null,null,null,null,null,null,null,null,null,0,"",""]
[null,{"$f":"陸連登録!N77","v":""},null,null,{"$f":"陸連登録!M77","v":0},{"$f":"陸連登録!C77","v":0},{"$f":"陸連登録!D77","v":0},0,{"$f":"陸連登録!A77","v":""},{"$f":"陸連登録!P77","v":0},{"$f":"LEFT(陸連登録!L77,4)","v":""},{"$f":"RIGHT(陸連登録!L77,4)","v":""},{"$f":"陸連登録!F77","v":23},{"$f":"陸連登録!B77","v":0},null,"",null,0,2,null,"",{"$f":"IF(T82=\"\",\"\",HLOOKUP(T82,#REF!,77,FALSE))","v":""},0,2,null,null,{"$f":"IF(Y82=\"\",\"\",HLOOKUP(Y82,#REF!,77,FALSE))","v":""},0,2,null,null,{"$f":"IF(AD82=\"\",\"\",HLOOKUP(AD82,#REF!,2,FALSE))","v":""},0,2,null,{"$f":"IF(AI82=\"\",\"\",IF(I82=1,VLOOKUP(AI82,男子種目コード!$A$1:$B$29,2,FALSE),IF(I82=2,VLOOKUP(AI82,女子種目コード!$A$1:$B$30,2,FALSE))))","v":""},null,0,2,null,null,null,null,"",0,0,"",null,null,null,null,null,null,null,null,null,null,null,0,"",""]
[null,{"$f":"陸連登録!N78","v":""},null,null,{"$f":"陸連登録!M78","v":0},{"$f":"陸連登録!C78","v":0},{"$f":"陸連登録!D78","v":0},0,{"$f":"陸連登録!A78","v":""},{"$f":"陸連登録!P78","v":0},{"$f":"LEFT(陸連登録!L78,4)","v":""},{"$f":"RIGHT(陸連登録!L78,4)","v":""},{"$f":"陸連登録!F78","v":23},{"$f":"陸連登録!B78","v":0},null,"",null,0,2,null,"",{"$f":"IF(T83=\"\",\"\",HLOOKUP(T83,#REF!,78,FALSE))","v":""},0,2,null,null,{"$f":"IF(Y83=\"\",\"\",HLOOKUP(Y83,#REF!,78,FALSE))","v":""},0,2,null,null,{"$f":"IF(AD83=\"\",\"\",HLOOKUP(AD83,#REF!,2,FALSE))","v":""},0,2,null,{"$f":"IF(AI83=\"\",\"\",IF(I83=1,VLOOKUP(AI83,男子種目コード!$A$1:$B$29,2,FALSE),IF(I83=2,VLOOKUP(AI83,女子種目コード!$A$1:$B$30,2,FALSE))))","v":""},null,0,2,null,null,null,null,"",0,0,"",null,null,null,null,null,null,null,null,null,null,null,0,"",""]
[null,{"$f":"陸連登録!N79","v":""},null,null,{"$f":"陸連登録!M79","v":0},{"$f":"陸連登録!C79","v":0},{"$f":"陸連登録!D79","v":0},0,{"$f":"陸連登録!A79","v":""},{"$f":"陸連登録!P79","v":0},{"$f":"LEFT(陸連登録!L79,4)","v":""},{"$f":"RIGHT(陸連登録!L79,4)","v":""},{"$f":"陸連登録!F79","v":23},{"$f":"陸連登録!B79","v":0},null,"",null,0,2,null,"",{"$f":"IF(T84=\"\",\"\",HLOOKUP(T84,#REF!,79,FALSE))","v":""},0,2,null,null,{"$f":"IF(Y84=\"\",\"\",HLOOKUP(Y84,#REF!,79,FALSE))","v":""},0,2,null,null,{"$f":"IF(AD84=\"\",\"\",HLOOKUP(AD84,#REF!,2,FALSE))","v":""},0,2,null,{"$f":"IF(AI84=\"\",\"\",IF(I84=1,VLOOKUP(AI84,男子種目コード!$A$1:$B$29,2,FALSE),IF(I84=2,VLOOKUP(AI84,女子種目コード!$A$1:$B$30,2,FALSE))))","v":""},null,0,2,null,null,null,null,"",0,0,"",null,null,null,null,null,null,null,null,null,null,null,0,"",""]
[null,{"$f":"陸連登録!N80","v":""},null,null,{"$f":"陸連登録!M80","v":0},{"$f":"陸連登録!C80","v":0},{"$f":"陸連登録!D80","v":0},0,{"$f":"陸連登録!A80","v":""},{"$f":"陸連登録!P80","v":0},{"$f":"LEFT(陸連登録!L80,4)","v":""},{"$f":"RIGHT(陸連登録!L80,4)","v":""},{"$f":"陸連登録!F80","v":23},{"$f":"陸連登録!B80","v":0},null,"",null,0,2,null,"",{"$f":"IF(T85=\"\",\"\",HLOOKUP(T85,#REF!,80,FALSE))","v":""},0,2,null,null,{"$f":"IF(Y85=\"\",\"\",HLOOKUP(Y85,#REF!,80,FALSE))","v":""},0,2,null,null,{"$f":"IF(AD85=\"\",\"\",HLOOKUP(AD85,#REF!,2,FALSE))","v":""},0,2,null,{"$f":"IF(AI85=\"\",\"\",IF(I85=1,VLOOKUP(AI85,男子種目コード!$A$1:$B$29,2,FALSE),IF(I85=2,VLOOKUP(AI85,女子種目コード!$A$1:$B$30,2,FALSE))))","v":""},null,0,2,null,null,null,null,"",0,0,"",null,null,null,null,null,null,null,null,null,null,null,0,"",""]
[null,{"$f":"陸連登録!N81","v":""},null,null,{"$f":"陸連登録!M81","v":0},{"$f":"陸連登録!C81","v":0},{"$f":"陸連登録!D81","v":0},0,{"$f":"陸連登録!A81","v":""},{"$f":"陸連登録!P81","v":0},{"$f":"LEFT(陸連登録!L81,4)","v":""},{"$f":"RIGHT(陸連登録!L81,4)","v":""},{"$f":"陸連登録!F81","v":23},{"$f":"陸連登録!B81","v":0},null,"",null,0,2,null,"",{"$f":"IF(T86=\"\",\"\",HLOOKUP(T86,#REF!,81,FALSE))","v":""},0,2,null,null,{"$f":"IF(Y86=\"\",\"\",HLOOKUP(Y86,#REF!,81,FALSE))","v":""},0,2,null,null,{"$f":"IF(AD86=\"\",\"\",HLOOKUP(AD86,#REF!,2,FALSE))","v":""},0,2,null,{"$f":"IF(AI86=\"\",\"\",IF(I86=1,VLOOKUP(AI86,男子種目コード!$A$1:$B$29,2,FALSE),IF(I86=2,VLOOKUP(AI86,女子種目コード!$A$1:$B$30,2,FALSE))))","v":""},null,0,2,null,null,null,null,"",0,0,"",null,null,null,null,null,null,null,null,null,null,null,0,"",""]
[null,{"$f":"陸連登録!N82","v":""},null,null,{"$f":"陸連登録!M82","v":0},{"$f":"陸連登録!C82","v":0},{"$f":"陸連登録!D82","v":0},0,{"$f":"陸連登録!A82","v":""},{"$f":"陸連登録!P82","v":0},{"$f":"LEFT(陸連登録!L82,4)","v":""},{"$f":"RIGHT(陸連登録!L82,4)","v":""},{"$f":"陸連登録!F82","v":23},{"$f":"陸連登録!B82","v":0},null,"",null,0,2,null,"",{"$f":"IF(T87=\"\",\"\",HLOOKUP(T87,#REF!,82,FALSE))","v":""},0,2,null,null,{"$f":"IF(Y87=\"\",\"\",HLOOKUP(Y87,#REF!,82,FALSE))","v":""},0,2,null,null,{"$f":"IF(AD87=\"\",\"\",HLOOKUP(AD87,#REF!,2,FALSE))","v":""},0,2,null,{"$f":"IF(AI87=\"\",\"\",IF(I87=1,VLOOKUP(AI87,男子種目コード!$A$1:$B$29,2,FALSE),IF(I87=2,VLOOKUP(AI87,女子種目コード!$A$1:$B$30,2,FALSE))))","v":""},null,0,2,null,null,null,null,"",0,0,"",null,null,null,null,null,null,null,null,null,null,null,0,"",""]
[null,{"$f":"陸連登録!N83","v":""},null,null,{"$f":"陸連登録!M83","v":0},{"$f":"陸連登録!C83","v":0},{"$f":"陸連登録!D83","v":0},0,{"$f":"陸連登録!A83","v":""},{"$f":"陸連登録!P83","v":0},{"$f":"LEFT(陸連登録!L83,4)","v":""},{"$f":"RIGHT(陸連登録!L83,4)","v":""},{"$f":"陸連登録!F83","v":23},{"$f":"陸連登録!B83","v":0},null,"",null,0,2,null,"",{"$f":"IF(T88=\"\",\"\",HLOOKUP(T88,#REF!,83,FALSE))","v":""},0,2,null,null,{"$f":"IF(Y88=\"\",\"\",HLOOKUP(Y88,#REF!,83,FALSE))","v":""},0,2,null,null,{"$f":"IF(AD88=\"\",\"\",HLOOKUP(AD88,#REF!,2,FALSE))","v":""},0,2,null,{"$f":"IF(AI88=\"\",\"\",IF(I88=1,VLOOKUP(AI88,男子種目コード!$A$1:$B$29,2,FALSE),IF(I88=2,VLOOKUP(AI88,女子種目コード!$A$1:$B$30,2,FALSE))))","v":""},null,0,2,null,null,null,null,"",0,0,"",null,null,null,null,null,null,null,null,null,null,null,0,"",""]
[null,{"$f":"陸連登録!N84","v":""},null,null,{"$f":"陸連登録!M84","v":0},{"$f":"陸連登録!C84","v":0},{"$f":"陸連登録!D84","v":0},0,{"$f":"陸連登録!A84","v":""},{"$f":"陸連登録!P84","v":0},{"$f":"LEFT(陸連登録!L84,4)","v":""},{"$f":"RIGHT(陸連登録!L84,4)","v":""},{"$f":"陸連登録!F84","v":23},{"$f":"陸連登録!B84","v":0},null,"",null,0,2,null,"",{"$f":"IF(T89=\"\",\"\",HLOOKUP(T89,#REF!,84,FALSE))","v":""},0,2,null,null,{"$f":"IF(Y89=\"\",\"\",HLOOKUP(Y89,#REF!,84,FALSE))","v":""},0,2,null,null,{"$f":"IF(AD89=\"\",\"\",HLOOKUP(AD89,#REF!,2,FALSE))","v":""},0,2,null,{"$f":"IF(AI89=\"\",\"\",IF(I89=1,VLOOKUP(AI89,男子種目コード!$A$1:$B$29,2,FALSE),IF(I89=2,VLOOKUP(AI89,女子種目コード!$A$1:$B$30,2,FALSE))))","v":""},null,0,2,null,null,null,null,"",0,0,"",null,null,null,null,null,null,null,null,null,null,null,0,"",""]
[null,{"$f":"陸連登録!N85","v":""},null,null,{"$f":"陸連登録!M85","v":0},{"$f":"陸連登録!C85","v":0},{"$f":"陸連登録!D85","v":0},0,{"$f":"陸連登録!A85","v":""},{"$f":"陸連登録!P85","v":0},{"$f":"LEFT(陸連登録!L85,4)","v":""},{"$f":"RIGHT(陸連登録!L85,4)","v":""},{"$f":"陸連登録!F85","v":23},{"$f":"陸連登録!B85","v":0},null,"",null,0,2,null,"",{"$f":"IF(T90=\"\",\"\",HLOOKUP(T90,#REF!,85,FALSE))","v":""},0,2,null,null,{"$f":"IF(Y90=\"\",\"\",HLOOKUP(Y90,#REF!,85,FALSE))","v":""},0,2,null,null,{"$f":"IF(AD90=\"\",\"\",HLOOKUP(AD90,#REF!,2,FALSE))","v":""},0,2,null,{"$f":"IF(AI90=\"\",\"\",IF(I90=1,VLOOKUP(AI90,男子種目コード!$A$1:$B$29,2,FALSE),IF(I90=2,VLOOKUP(AI90,女子種目コード!$A$1:$B$30,2,FALSE))))","v":""},null,0,2,null,null,null,null,"",0,0,"",null,null,null,null,null,null,null,null,null,null,null,0,"",""]
[null,{"$f":"陸連登録!N86","v":""},null,null,{"$f":"陸連登録!M86","v":0},{"$f":"陸連登録!C86","v":0},{"$f":"陸連登録!D86","v":0},0,{"$f":"陸連登録!A86","v":""},{"$f":"陸連登録!P86","v":0},{"$f":"LEFT(陸連登録!L86,4)","v":""},{"$f":"RIGHT(陸連登録!L86,4)","v":""},{"$f":"陸連登録!F86","v":23},{"$f":"陸連登録!B86","v":0},null,"",null,0,2,null,"",{"$f":"IF(T91=\"\",\"\",HLOOKUP(T91,#REF!,86,FALSE))","v":""},0,2,null,null,{"$f":"IF(Y91=\"\",\"\",HLOOKUP(Y91,#REF!,86,FALSE))","v":""},0,2,null,null,{"$f":"IF(AD91=\"\",\"\",HLOOKUP(AD91,#REF!,2,FALSE))","v":""},0,2,null,{"$f":"IF(AI91=\"\",\"\",IF(I91=1,VLOOKUP(AI91,男子種目コード!$A$1:$B$29,2,FALSE),IF(I91=2,VLOOKUP(AI91,女子種目コード!$A$1:$B$30,2,FALSE))))","v":""},null,0,2,null,null,null,null,"",0,0,"",null,null,null,null,null,null,null,null,null,null,null,0,"",""]
[null,{"$f":"陸連登録!N87","v":""},null,null,{"$f":"陸連登録!M87","v":0},{"$f":"陸連登録!C87","v":0},{"$f":"陸連登録!D87","v":0},0,{"$f":"陸連登録!A87","v":""},{"$f":"陸連登録!P87","v":0},{"$f":"LEFT(陸連登録!L87,4)","v":""},{"$f":"RIGHT(陸連登録!L87,4)","v":""},{"$f":"陸連登録!F87","v":23},{"$f":"陸連登録!B87","v":0},null,"",null,0,2,null,"",{"$f":"IF(T92=\"\",\"\",HLOOKUP(T92,#REF!,87,FALSE))","v":""},0,2,null,null,{"$f":"IF(Y92=\"\",\"\",HLOOKUP(Y92,#REF!,87,FALSE))","v":""},0,2,null,null,{"$f":"IF(AD92=\"\",\"\",HLOOKUP(AD92,#REF!,2,FALSE))","v":""},0,2,null,{"$f":"IF(AI92=\"\",\"\",IF(I92=1,VLOOKUP(AI92,男子種目コード!$A$1:$B$29,2,FALSE),IF(I92=2,VLOOKUP(AI92,女子種目コード!$A$1:$B$30,2,FALSE))))","v":""},null,0,2,null,null,null,null,"",0,0,"",null,null,null,null,null,null,null,null,null,null,null,0,"",""]
[null,{"$f":"陸連登録!N88","v":""},null,null,{"$f":"陸連登録!M88","v":0},{"$f":"陸連登録!C88","v":0},{"$f":"陸連登録!D88","v":0},0,{"$f":"陸連登録!A88","v":""},{"$f":"陸連登録!P88","v":0},{"$f":"LEFT(陸連登録!L88,4)","v":""},{"$f":"RIGHT(陸連登録!L88,4)","v":""},{"$f":"陸連登録!F88","v":23},{"$f":"陸連登録!B88","v":0},null,"",null,0,2,null,"",{"$f":"IF(T93=\"\",\"\",HLOOKUP(T93,#REF!,88,FALSE))","v":""},0,2,null,null,{"$f":"IF(Y93=\"\",\"\",HLOOKUP(Y93,#REF!,88,FALSE))","v":""},0,2,null,null,{"$f":"IF(AD93=\"\",\"\",HLOOKUP(AD93,#REF!,2,FALSE))","v":""},0,2,null,{"$f":"IF(AI93=\"\",\"\",IF(I93=1,VLOOKUP(AI93,男子種目コード!$A$1:$B$29,2,FALSE),IF(I93=2,VLOOKUP(AI93,女子種目コード!$A$1:$B$30,2,FALSE))))","v":""},null,0,2,null,null,null,null,"",0,0,"",null,null,null,null,null,null,null,null,null,null,null,0,"",""]
[null,{"$f":"陸連登録!N89","v":""},null,null,{"$f":"陸連登録!M89","v":0},{"$f":"陸連登録!C89","v":0},{"$f":"陸連登録!D89","v":0},0,{"$f":"陸連登録!A89","v":""},{"$f":"陸連登録!P89","v":0},{"$f":"LEFT(陸連登録!L89,4)","v":""},{"$f":"RIGHT(陸連登録!L89,4)","v":""},{"$f":"陸連登録!F89","v":23},{"$f":"陸連登録!B89","v":0},null,"",null,0,2,null,"",{"$f":"IF(T94=\"\",\"\",HLOOKUP(T94,#REF!,89,FALSE))","v":""},0,2,null,null,{"$f":"IF(Y94=\"\",\"\",HLOOKUP(Y94,#REF!,89,FALSE))","v":""},0,2,null,null,{"$f":"IF(AD94=\"\",\"\",HLOOKUP(AD94,#REF!,2,FALSE))","v":""},0,2,null,{"$f":"IF(AI94=\"\",\"\",IF(I94=1,VLOOKUP(AI94,男子種目コード!$A$1:$B$29,2,FALSE),IF(I94=2,VLOOKUP(AI94,女子種目コード!$A$1:$B$30,2,FALSE))))","v":""},null,0,2,null,null,null,null,"",0,0,"",null,null,null,null,null,null,null,null,null,null,null,0,"",""]
[null,{"$f":"陸連登録!N90","v":""},null,null,{"$f":"陸連登録!M90","v":0},{"$f":"陸連登録!C90","v":0},{"$f":"陸連登録!D90","v":0},0,{"$f":"陸連登録!A90","v":""},{"$f":"陸連登録!P90","v":0},{"$f":"LEFT(陸連登録!L90,4)","v":""},{"$f":"RIGHT(陸連登録!L90,4)","v":""},{"$f":"陸連登録!F90","v":23},{"$f":"陸連登録!B90","v":0},null,"",null,0,2,null,"",{"$f":"IF(T95=\"\",\"\",HLOOKUP(T95,#REF!,90,FALSE))","v":""},0,2,null,null,{"$f":"IF(Y95=\"\",\"\",HLOOKUP(Y95,#REF!,90,FALSE))","v":""},0,2,null,null,{"$f":"IF(AD95=\"\",\"\",HLOOKUP(AD95,#REF!,2,FALSE))","v":""},0,2,null,{"$f":"IF(AI95=\"\",\"\",IF(I95=1,VLOOKUP(AI95,男子種目コード!$A$1:$B$29,2,FALSE),IF(I95=2,VLOOKUP(AI95,女子種目コード!$A$1:$B$30,2,FALSE))))","v":""},null,0,2,null,null,null,null,"",0,0,"",null,null,null,null,null,null,null,null,null,null,null,0,"",""]
[null,{"$f":"陸連登録!N91","v":""},null,null,{"$f":"陸連登録!M91","v":0},{"$f":"陸連登録!C91","v":0},{"$f":"陸連登録!D91","v":0},0,{"$f":"陸連登録!A91","v":""},{"$f":"陸連登録!P91","v":0},{"$f":"LEFT(陸連登録!L91,4)","v":""},{"$f":"RIGHT(陸連登録!L91,4)","v":""},{"$f":"陸連登録!F91","v":23},{"$f":"陸連登録!B91","v":0},null,"",null,0,2,null,"",{"$f":"IF(T96=\"\",\"\",HLOOKUP(T96,#REF!,91,FALSE))","v":""},0,2,null,null,{"$f":"IF(Y96=\"\",\"\",HLOOKUP(Y96,#REF!,91,FALSE))","v":""},0,2,null,null,{"$f":"IF(AD96=\"\",\"\",HLOOKUP(AD96,#REF!,2,FALSE))","v":""},0,2,null,{"$f":"IF(AI96=\"\",\"\",IF(I96=1,VLOOKUP(AI96,男子種目コード!$A$1:$B$29,2,FALSE),IF(I96=2,VLOOKUP(AI96,女子種目コード!$A$1:$B$30,2,FALSE))))","v":""},null,0,2,null,null,null,null,"",0,0,"",null,null,null,null,null,null,null,null,null,null,null,0,"",""]
[null,{"$f":"陸連登録!N92","v":""},null,null,{"$f":"陸連登録!M92","v":0},{"$f":"陸連登録!C92","v":0},{"$f":"陸連登録!D92","v":0},0,{"$f":"陸連登録!A92","v":""},{"$f":"陸連登録!P92","v":0},{"$f":"LEFT(陸連登録!L92,4)","v":""},{"$f":"RIGHT(陸連登録!L92,4)","v":""},{"$f":"陸連登録!F92","v":23},{"$f":"陸連登録!B92","v":0},null,"",null,0,2,null,"",{"$f":"IF(T97=\"\",\"\",HLOOKUP(T97,#REF!,92,FALSE))","v":""},0,2,null,null,{"$f":"IF(Y97=\"\",\"\",HLOOKUP(Y97,#REF!,92,FALSE))","v":""},0,2,null,null,{"$f":"IF(AD97=\"\",\"\",HLOOKUP(AD97,#REF!,2,FALSE))","v":""},0,2,null,{"$f":"IF(AI97=\"\",\"\",IF(I97=1,VLOOKUP(AI97,男子種目コード!$A$1:$B$29,2,FALSE),IF(I97=2,VLOOKUP(AI97,女子種目コード!$A$1:$B$30,2,FALSE))))","v":""},null,0,2,null,null,null,null,"",0,0,"",null,null,null,null,null,null,null,null,null,null,null,0,"",""]
[null,{"$f":"陸連登録!N93","v":""},null,null,{"$f":"陸連登録!M93","v":0},{"$f":"陸連登録!C93","v":0},{"$f":"陸連登録!D93","v":0},0,{"$f":"陸連登録!A93","v":""},{"$f":"陸連登録!P93","v":0},{"$f":"LEFT(陸連登録!L93,4)","v":""},{"$f":"RIGHT(陸連登録!L93,4)","v":""},{"$f":"陸連登録!F93","v":23},{"$f":"陸連登録!B93","v":0},null,"",null,0,2,null,"",{"$f":"IF(T98=\"\",\"\",HLOOKUP(T98,#REF!,93,FALSE))","v":""},0,2,null,null,{"$f":"IF(Y98=\"\",\"\",HLOOKUP(Y98,#REF!,93,FALSE))","v":""},0,2,null,null,{"$f":"IF(AD98=\"\",\"\",HLOOKUP(AD98,#REF!,2,FALSE))","v":""},0,2,null,{"$f":"IF(AI98=\"\",\"\",IF(I98=1,VLOOKUP(AI98,男子種目コード!$A$1:$B$29,2,FALSE),IF(I98=2,VLOOKUP(AI98,女子種目コード!$A$1:$B$30,2,FALSE))))","v":""},null,0,2,null,null,null,null,"",0,0,"",null,null,null,null,null,null,null,null,null,null,null,0,"",""]
[null,{"$f":"陸連登録!N94","v":""},null,null,{"$f":"陸連登録!M94","v":0},{"$f":"陸連登録!C94","v":0},{"$f":"陸連登録!D94","v":0},0,{"$f":"陸連登録!A94","v":""},{"$f":"陸連登録!P94","v":0},{"$f":"LEFT(陸連登録!L94,4)","v":""},{"$f":"RIGHT(陸連登録!L94,4)","v":""},{"$f":"陸連登録!F94","v":23},{"$f":"陸連登録!B94","v":0},null,"",null,0,2,null,"",{"$f":"IF(T99=\"\",\"\",HLOOKUP(T99,#REF!,94,FALSE))","v":""},0,2,null,null,{"$f":"IF(Y99=\"\",\"\",HLOOKUP(Y99,#REF!,94,FALSE))","v":""},0,2,null,null,{"$f":"IF(AD99=\"\",\"\",HLOOKUP(AD99,#REF!,2,FALSE))","v":""},0,2,null,{"$f":"IF(AI99=\"\",\"\",IF(I99=1,VLOOKUP(AI99,男子種目コード!$A$1:$B$29,2,FALSE),IF(I99=2,VLOOKUP(AI99,女子種目コード!$A$1:$B$30,2,FALSE))))","v":""},null,0,2,null,null,null,null,"",0,0,"",null,null,null,null,null,null,null,null,null,null,null,0,"",""]
[null,{"$f":"陸連登録!N95","v":""},null,null,{"$f":"陸連登録!M95","v":0},{"$f":"陸連登録!C95","v":0},{"$f":"陸連登録!D95","v":0},0,{"$f":"陸連登録!A95","v":""},{"$f":"陸連登録!P95","v":0},{"$f":"LEFT(陸連登録!L95,4)","v":""},{"$f":"RIGHT(陸連登録!L95,4)","v":""},{"$f":"陸連登録!F95","v":23},{"$f":"陸連登録!B95","v":0},null,"",null,0,2,null,"",{"$f":"IF(T100=\"\",\"\",HLOOKUP(T100,#REF!,95,FALSE))","v":""},0,2,null,null,{"$f":"IF(Y100=\"\",\"\",HLOOKUP(Y100,#REF!,95,FALSE))","v":""},0,2,null,null,{"$f":"IF(AD100=\"\",\"\",HLOOKUP(AD100,#REF!,2,FALSE))","v":""},0,2,null,{"$f":"IF(AI100=\"\",\"\",IF(I100=1,VLOOKUP(AI100,男子種目コード!$A$1:$B$29,2,FALSE),IF(I100=2,VLOOKUP(AI100,女子種目コード!$A$1:$B$30,2,FALSE))))","v":""},null,0,2,null,null,null,null,"",0,0,"",null,null,null,null,null,null,null,null,null,null,null,0,"",""]
[null,{"$f":"陸連登録!N96","v":""},null,null,{"$f":"陸連登録!M96","v":0},{"$f":"陸連登録!C96","v":0},{"$f":"陸連登録!D96","v":0},0,{"$f":"陸連登録!A96","v":""},{"$f":"陸連登録!P96","v":0},{"$f":"LEFT(陸連登録!L96,4)","v":""},{"$f":"RIGHT(陸連登録!L96,4)","v":""},{"$f":"陸連登録!F96","v":23},{"$f":"陸連登録!B96","v":0},null,"",null,0,2,null,"",{"$f":"IF(T101=\"\",\"\",HLOOKUP(T101,#REF!,96,FALSE))","v":""},0,2,null,null,{"$f":"IF(Y101=\"\",\"\",HLOOKUP(Y101,#REF!,96,FALSE))","v":""},0,2,null,null,{"$f":"IF(AD101=\"\",\"\",HLOOKUP(AD101,#REF!,2,FALSE))","v":""},0,2,null,{"$f":"IF(AI101=\"\",\"\",IF(I101=1,VLOOKUP(AI101,男子種目コード!$A$1:$B$29,2,FALSE),IF(I101=2,VLOOKUP(AI101,女子種目コード!$A$1:$B$30,2,FALSE))))","v":""},null,0,2,null,null,null,null,"",0,0,"",null,null,null,null,null,null,null,null,null,null,null,0,"",""]
[null,{"$f":"陸連登録!N97","v":""},null,null,{"$f":"陸連登録!M97","v":0},{"$f":"陸連登録!C97","v":0},{"$f":"陸連登録!D97","v":0},0,{"$f":"陸連登録!A97","v":""},{"$f":"陸連登録!P97","v":0},{"$f":"LEFT(陸連登録!L97,4)","v":""},{"$f":"RIGHT(陸連登録!L97,4)","v":""},{"$f":"陸連登録!F97","v":23},{"$f":"陸連登録!B97","v":0},null,"",null,0,2,null,"",{"$f":"IF(T102=\"\",\"\",HLOOKUP(T102,#REF!,97,FALSE))","v":""},0,2,null,null,{"$f":"IF(Y102=\"\",\"\",HLOOKUP(Y102,#REF!,97,FALSE))","v":""},0,2,null,null,{"$f":"IF(AD102=\"\",\"\",HLOOKUP(AD102,#REF!,2,FALSE))","v":""},0,2,null,{"$f":"IF(AI102=\"\",\"\",IF(I102=1,VLOOKUP(AI102,男子種目コード!$A$1:$B$29,2,FALSE),IF(I102=2,VLOOKUP(AI102,女子種目コード!$A$1:$B$30,2,FALSE))))","v":""},null,0,2,null,null,null,null,"",0,0,"",null,null,null,null,null,null,null,null,null,null,null,0,"",""]
[null,{"$f":"陸連登録!N98","v":""},null,null,{"$f":"陸連登録!M98","v":0},{"$f":"陸連登録!C98","v":0},{"$f":"陸連登録!D98","v":0},0,{"$f":"陸連登録!A98","v":""},{"$f":"陸連登録!P98","v":0},{"$f":"LEFT(陸連登録!L98,4)","v":""},{"$f":"RIGHT(陸連登録!L98,4)","v":""},{"$f":"陸連登録!F98","v":23},{"$f":"陸連登録!B98","v":0},null,{"$f":"IF($O103=\"\",\"\",IF($I103=1,VLOOKUP($O103,$AV$8:$AX$13,3,FALSE),IF($I103=2,VLOOKUP($O103,$AV$16:$AX$19,3,FALSE))))","v":""},null,0,2,null,{"$f":"IF(T103=\"\",\"\",IF($I103=1,VLOOKUP(T103,$AV$8:$AX$13,3,FALSE),IF($I103=2,VLOOKUP(T103,$AV$16:$AX$19,3,FALSE))))","v":""},{"$f":"IF(T103=\"\",\"\",HLOOKUP(T103,#REF!,98,FALSE))","v":""},0,2,null,null,{"$f":"IF(Y103=\"\",\"\",HLOOKUP(Y103,#REF!,98,FALSE))","v":""},0,2,null,null,{"$f":"IF(AD103=\"\",\"\",HLOOKUP(AD103,#REF!,2,FALSE))","v":""},0,2,null,{"$f":"IF(AI103=\"\",\"\",IF(I103=1,VLOOKUP(AI103,男子種目コード!$A$1:$B$29,2,FALSE),IF(I103=2,VLOOKUP(AI103,女子種目コード!$A$1:$B$30,2,FALSE))))","v":""},null,0,2,null,null,null,null,"",0,0,"",null,null,null,null,null,null,null,null,null,null,null,0,"",""]
[null,{"$f":"陸連登録!N99","v":""},null,null,{"$f":"陸連登録!M99","v":0},{"$f":"陸連登録!C99","v":0},{"$f":"陸連登録!D99","v":0},0,{"$f":"陸連登録!A99","v":""},{"$f":"陸連登録!P99","v":0},{"$f":"LEFT(陸連登録!L99,4)","v":""},{"$f":"RIGHT(陸連登録!L99,4)","v":""},{"$f":"陸連登録!F99","v":23},{"$f":"陸連登録!B99","v":0},null,"",null,0,2,null,"",{"$f":"IF(T104=\"\",\"\",HLOOKUP(T104,#REF!,99,FALSE))","v":""},0,2,null,null,{"$f":"IF(Y104=\"\",\"\",HLOOKUP(Y104,#REF!,99,FALSE))","v":""},0,2,null,null,{"$f":"IF(AD104=\"\",\"\",HLOOKUP(AD104,#REF!,2,FALSE))","v":""},0,2,null,{"$f":"IF(AI104=\"\",\"\",IF(I104=1,VLOOKUP(AI104,男子種目コード!$A$1:$B$29,2,FALSE),IF(I104=2,VLOOKUP(AI104,女子種目コード!$A$1:$B$30,2,FALSE))))","v":""},null,0,2,null,null,null,null,"",0,0,"",null,null,null,null,null,null,null,null,null,null,null,0,"",""]
[null,{"$f":"陸連登録!N100","v":""},null,null,{"$f":"陸連登録!M100","v":0},{"$f":"陸連登録!C100","v":0},{"$f":"陸連登録!D100","v":0},0,{"$f":"陸連登録!A100","v":""},{"$f":"陸連登録!P100","v":0},{"$f":"LEFT(陸連登録!L100,4)","v":""},{"$f":"RIGHT(陸連登録!L100,4)","v":""},{"$f":"陸連登録!F100","v":23},{"$f":"陸連登録!B100","v":0},null,"",null,0,2,null,"",{"$f":"IF(T105=\"\",\"\",HLOOKUP(T105,#REF!,100,FALSE))","v":""},0,2,null,null,{"$f":"IF(Y105=\"\",\"\",HLOOKUP(Y105,#REF!,100,FALSE))","v":""},0,2,null,null,{"$f":"IF(AD105=\"\",\"\",HLOOKUP(AD105,#REF!,2,FALSE))","v":""},0,2,null,{"$f":"IF(AI105=\"\",\"\",IF(I105=1,VLOOKUP(AI105,男子種目コード!$A$1:$B$29,2,FALSE),IF(I105=2,VLOOKUP(AI105,女子種目コード!$A$1:$B$30,2,FALSE))))","v":""},null,0,2,null,null,null,null,"",0,0,"",null,null,null,null,null,null,null,null,null,null,null,0,"",""]
[null,{"$f":"陸連登録!N101","v":""},null,null,{"$f":"陸連登録!M101","v":0},{"$f":"陸連登録!C101","v":0},{"$f":"陸連登録!D101","v":0},0,{"$f":"陸連登録!A101","v":""},{"$f":"陸連登録!P101","v":0},{"$f":"LEFT(陸連登録!L101,4)","v":""},{"$f":"RIGHT(陸連登録!L101,4)","v":""},{"$f":"陸連登録!F101","v":23},{"$f":"陸連登録!B101","v":0},null,"",null,0,2,null,"",{"$f":"IF(T106=\"\",\"\",HLOOKUP(T106,#REF!,101,FALSE))","v":""},0,2,null,null,{"$f":"IF(Y106=\"\",\"\",HLOOKUP(Y106,#REF!,101,FALSE))","v":""},0,2,null,null,{"$f":"IF(AD106=\"\",\"\",HLOOKUP(AD106,#REF!,2,FALSE))","v":""},0,2,null,null,null,0,2,null,null,null,null,"",0,0,"",null,null,null,null,null,null,null,null,null,null,null,0,"",""]
[null,{"$f":"陸連登録!N102","v":""},null,null,{"$f":"陸連登録!M102","v":0},{"$f":"陸連登録!C102","v":0},{"$f":"陸連登録!D102","v":0},0,{"$f":"陸連登録!A102","v":""},{"$f":"陸連登録!P102","v":0},{"$f":"LEFT(陸連登録!L102,4)","v":""},{"$f":"RIGHT(陸連登録!L102,4)","v":""},{"$f":"陸連登録!F102","v":23},{"$f":"陸連登録!B102","v":0},null,"",null,0,2,null,"",{"$f":"IF(T107=\"\",\"\",HLOOKUP(T107,#REF!,102,FALSE))","v":""},0,2,null,null,{"$f":"IF(Y107=\"\",\"\",HLOOKUP(Y107,#REF!,102,FALSE))","v":""},0,2,null,null,{"$f":"IF(AD107=\"\",\"\",HLOOKUP(AD107,#REF!,2,FALSE))","v":""},0,2,null,null,null,0,2,null,null,null,null,"",0,0,"",null,null,null,null,null,null,null,null,null,null,null,0,"",""]
[null,{"$f":"陸連登録!N103","v":""},null,null,{"$f":"陸連登録!M103","v":0},{"$f":"陸連登録!C103","v":0},{"$f":"陸連登録!D103","v":0},0,{"$f":"陸連登録!A103","v":""},{"$f":"陸連登録!P103","v":0},{"$f":"LEFT(陸連登録!L103,4)","v":""},{"$f":"RIGHT(陸連登録!L103,4)","v":""},{"$f":"陸連登録!F103","v":23},{"$f":"陸連登録!B103","v":0},null,"",null,0,2,null,"",{"$f":"IF(T108=\"\",\"\",HLOOKUP(T108,#REF!,103,FALSE))","v":""},0,2,null,null,{"$f":"IF(Y108=\"\",\"\",HLOOKUP(Y108,#REF!,103,FALSE))","v":""},0,2,null,null,{"$f":"IF(AD108=\"\",\"\",HLOOKUP(AD108,#REF!,2,FALSE))","v":""},0,2,null,null,null,0,2,null,null,null,null,"",0,0,"",null,null,null,null,null,null,null,null,null,null,null,0,"",""]
[null,{"$f":"陸連登録!N104","v":""},null,null,{"$f":"陸連登録!M104","v":0},{"$f":"陸連登録!C104","v":0},{"$f":"陸連登録!D104","v":0},0,{"$f":"陸連登録!A104","v":""},{"$f":"陸連登録!P104","v":0},{"$f":"LEFT(陸連登録!L104,4)","v":""},{"$f":"RIGHT(陸連登録!L104,4)","v":""},{"$f":"陸連登録!F104","v":23},{"$f":"陸連登録!B104","v":0},null,"",null,0,2,null,"",{"$f":"IF(T109=\"\",\"\",HLOOKUP(T109,#REF!,104,FALSE))","v":""},0,2,null,null,{"$f":"IF(Y109=\"\",\"\",HLOOKUP(Y109,#REF!,104,FALSE))","v":""},0,2,null,null,{"$f":"IF(AD109=\"\",\"\",HLOOKUP(AD109,#REF!,2,FALSE))","v":""},0,2,null,null,null,0,2,null,null,null,null,"",0,0,"",null,null,null,null,null,null,null,null,null,null,null,0,"",""]
[null,{"$f":"陸連登録!N105","v":""},null,null,{"$f":"陸連登録!M105","v":0},{"$f":"陸連登録!C105","v":0},{"$f":"陸連登録!D105","v":0},0,{"$f":"陸連登録!A105","v":""},{"$f":"陸連登録!P105","v":0},{"$f":"LEFT(陸連登録!L105,4)","v":""},{"$f":"RIGHT(陸連登録!L105,4)","v":""},{"$f":"陸連登録!F105","v":23},{"$f":"陸連登録!B105","v":0},null,"",null,0,2,null,"",{"$f":"IF(T110=\"\",\"\",HLOOKUP(T110,#REF!,105,FALSE))","v":""},0,2,null,null,{"$f":"IF(Y110=\"\",\"\",HLOOKUP(Y110,#REF!,105,FALSE))","v":""},0,2,null,null,{"$f":"IF(AD110=\"\",\"\",HLOOKUP(AD110,#REF!,2,FALSE))","v":""},0,2,null,null,null,0,2,null,null,null,null,"",0,0,"",null,null,null,null,null,null,null,null,null,null,null,0,"",""]
[null,{"$f":"陸連登録!N106","v":""},null,null,{"$f":"陸連登録!M106","v":0},{"$f":"陸連登録!C106","v":0},{"$f":"陸連登録!D106","v":0},0,{"$f":"陸連登録!A106","v":""},{"$f":"陸連登録!P106","v":0},{"$f":"LEFT(陸連登録!L106,4)","v":""},{"$f":"RIGHT(陸連登録!L106,4)","v":""},{"$f":"陸連登録!F106","v":23},{"$f":"陸連登録!B106","v":0},null,"",null,0,2,null,"",{"$f":"IF(T111=\"\",\"\",HLOOKUP(T111,#REF!,106,FALSE))","v":""},0,2,null,null,{"$f":"IF(Y111=\"\",\"\",HLOOKUP(Y111,#REF!,106,FALSE))","v":""},0,2,null,null,{"$f":"IF(AD111=\"\",\"\",HLOOKUP(AD111,#REF!,2,FALSE))","v":""},0,2,null,null,null,0,2,null,null,null,null,"",0,0,"",null,null,null,null,null,null,null,null,null,null,null,0,"",""]
[null,{"$f":"陸連登録!N107","v":""},null,null,{"$f":"陸連登録!M107","v":0},{"$f":"陸連登録!C107","v":0},{"$f":"陸連登録!D107","v":0},0,{"$f":"陸連登録!A107","v":""},{"$f":"陸連登録!P107","v":0},{"$f":"LEFT(陸連登録!L107,4)","v":""},{"$f":"RIGHT(陸連登録!L107,4)","v":""},{"$f":"陸連登録!F107","v":23},{"$f":"陸連登録!B107","v":0},null,"",null,0,2,null,"",{"$f":"IF(T112=\"\",\"\",HLOOKUP(T112,#REF!,107,FALSE))","v":""},0,2,null,null,{"$f":"IF(Y112=\"\",\"\",HLOOKUP(Y112,#REF!,107,FALSE))","v":""},0,2,null,null,{"$f":"IF(AD112=\"\",\"\",HLOOKUP(AD112,#REF!,2,FALSE))","v":""},0,2,null,null,null,0,2,null,null,null,null,"",0,0,"",null,null,null,null,null,null,null,null,null,null,null,0,"",""]
[null,{"$f":"陸連登録!N108","v":""},null,null,{"$f":"陸連登録!M108","v":0},{"$f":"陸連登録!C108","v":0},{"$f":"陸連登録!D108","v":0},0,{"$f":"陸連登録!A108","v":""},{"$f":"陸連登録!P108","v":0},{"$f":"LEFT(陸連登録!L108,4)","v":""},{"$f":"RIGHT(陸連登録!L108,4)","v":""},{"$f":"陸連登録!F108","v":23},{"$f":"陸連登録!B108","v":0},null,"",null,0,2,null,"",{"$f":"IF(T113=\"\",\"\",HLOOKUP(T113,#REF!,108,FALSE))","v":""},0,2,null,null,{"$f":"IF(Y113=\"\",\"\",HLOOKUP(Y113,#REF!,108,FALSE))","v":""},0,2,null,null,{"$f":"IF(AD113=\"\",\"\",HLOOKUP(AD113,#REF!,2,FALSE))","v":""},0,2,null,null,null,0,2,null,null,null,null,"",0,0,"",null,null,null,null,null,null,null,null,null,null,null,0,"",""]
[null,{"$f":"陸連登録!N109","v":""},null,null,{"$f":"陸連登録!M109","v":0},{"$f":"陸連登録!C109","v":0},{"$f":"陸連登録!D109","v":0},0,{"$f":"陸連登録!A109","v":""},{"$f":"陸連登録!P109","v":0},{"$f":"LEFT(陸連登録!L109,4)","v":""},{"$f":"RIGHT(陸連登録!L109,4)","v":""},{"$f":"陸連登録!F109","v":23},{"$f":"陸連登録!B109","v":0},null,"",null,0,2,null,"",{"$f":"IF(T114=\"\",\"\",HLOOKUP(T114,#REF!,109,FALSE))","v":""},0,2,null,null,{"$f":"IF(Y114=\"\",\"\",HLOOKUP(Y114,#REF!,109,FALSE))","v":""},0,2,null,null,{"$f":"IF(AD114=\"\",\"\",HLOOKUP(AD114,#REF!,2,FALSE))","v":""},0,2,null,null,null,0,2,null,null,null,null,"",0,0,"",null,null,null,null,null,null,null,null,null,null,null,0,"",""]
[null,{"$f":"陸連登録!N110","v":""},null,null,{"$f":"陸連登録!M110","v":0},{"$f":"陸連登録!C110","v":0},{"$f":"陸連登録!D110","v":0},0,{"$f":"陸連登録!A110","v":""},{"$f":"陸連登録!P110","v":0},{"$f":"LEFT(陸連登録!L110,4)","v":""},{"$f":"RIGHT(陸連登録!L110,4)","v":""},{"$f":"陸連登録!F110","v":23},{"$f":"陸連登録!B110","v":0},null,"",null,0,2,null,"",{"$f":"IF(T115=\"\",\"\",HLOOKUP(T115,#REF!,110,FALSE))","v":""},0,2,null,null,{"$f":"IF(Y115=\"\",\"\",HLOOKUP(Y115,#REF!,110,FALSE))","v":""},0,2,null,null,{"$f":"IF(AD115=\"\",\"\",HLOOKUP(AD115,#REF!,2,FALSE))","v":""},0,2,null,null,null,0,2,null,null,null,null,"",0,0,"",null,null,null,null,null,null,null,null,null,null,null,0,"",""]
[null,{"$f":"陸連登録!N111","v":""},null,null,{"$f":"陸連登録!M111","v":0},{"$f":"陸連登録!C111","v":0},{"$f":"陸連登録!D111","v":0},0,{"$f":"陸連登録!A111","v":""},{"$f":"陸連登録!P111","v":0},{"$f":"LEFT(陸連登録!L111,4)","v":""},{"$f":"RIGHT(陸連登録!L111,4)","v":""},{"$f":"陸連登録!F111","v":23},{"$f":"陸連登録!B111","v":0},null,"",null,0,2,null,"",{"$f":"IF(T116=\"\",\"\",HLOOKUP(T116,#REF!,111,FALSE))","v":""},0,2,null,null,{"$f":"IF(Y116=\"\",\"\",HLOOKUP(Y116,#REF!,111,FALSE))","v":""},0,2,null,null,{"$f":"IF(AD116=\"\",\"\",HLOOKUP(AD116,#REF!,2,FALSE))","v":""},0,2,null,{"$f":"IF(AI116=\"\",\"\",IF(I116=1,VLOOKUP(AI116,男子種目コード!$A$1:$B$29,2,FALSE),IF(I116=2,VLOOKUP(AI116,女子種目コード!$A$1:$B$30,2,FALSE))))","v":""},null,0,2,null,null,null,null,"",0,0,"",null,null,null,null,null,null,null,null,null,null,null,0,"",""]
[null,{"$f":"陸連登録!N112","v":""},null,null,{"$f":"陸連登録!M112","v":0},{"$f":"陸連登録!C112","v":0},{"$f":"陸連登録!D112","v":0},0,{"$f":"陸連登録!A112","v":""},{"$f":"陸連登録!P112","v":0},{"$f":"LEFT(陸連登録!L112,4)","v":""},{"$f":"RIGHT(陸連登録!L112,4)","v":""},null,{"$f":"#REF!","v":{"$error":"#REF!"}},"210m",false,null,null,0,2,null,null,null,null,null,null,null,null,null,null,{"$f":"IF(AD117=\"\",\"\",IF($I117=1,VLOOKUP(AD117,$AV$8:$AX$13,3,FALSE),IF($I117=2,VLOOKUP(AD117,$AV$16:$AX$19,3,FALSE))))","v":""},{"$f":"SUM(AR7:AR116)","v":0},{"$f":"SUM(AS7:AS116)","v":0},{"$f":"SUM(AT7:AT116)","v":0},{"$f":"SUM(AU7:AU116)","v":0}]
[null,{"$f":"陸連登録!N113","v":""},null,null,{"$f":"陸連登録!M113","v":0},{"$f":"陸連登録!C113","v":0},{"$f":"陸連登録!D113","v":0},0,{"$f":"陸連登録!A113","v":""},{"$f":"陸連登録!P113","v":0},{"$f":"LEFT(陸連登録!L113,4)","v":""},{"$f":"RIGHT(陸連登録!L113,4)","v":""},null,{"$f":"#REF!","v":{"$error":"#REF!"}},"211m",false,null,null,0,2,null,null,null,null,null,null,null,null,null,null,{"$f":"IF(AD118=\"\",\"\",IF($I118=1,VLOOKUP(AD118,$AV$8:$AX$13,3,FALSE),IF($I118=2,VLOOKUP(AD118,$AV$16:$AX$19,3,FALSE))))","v":""},{"$f":"SUM(AF117:AH117)","v":0},null,null,{"$f":"(AF117+AI117)","v":0}]

{"sheet":"SF","index":9,"n_rows":126,"n_cols":66,"rows_kept":126,"cut":false,"hidden":false,"merged":[[15,48,15,49],[16,48,16,49],[17,47,22,47],[25,48,25,49],[8,47,13,47],[14,48,14,49],[23,48,23,49],[24,48,24,49],[0,14,0,45],[7,48,7,49],[1,20,1,21],[5,44,5,45],[5,48,5,49],[6,48,6,49],[37,47,42,47],[35,48,35,49],[36,48,36,49],[34,48,34,49],[26,47,31,47]]}
[null,null,null,null,"所属名",{"$f":"陸連登録!I2","v":0},null,null,null,null,null,null,null,null,"みえスポーツフェスティバル"]
[null,null,null,null,"所属コード",{"$f":"陸連登録!N2","v":""}]
[null,null,null,null,"顧問名",null,"男子参加人数",null,{"$f":"COUNTIF($I$7:$I$116,1)-COUNTIF($BK$7:$BK$116,0)","v":0},null,null,null,null,"リレー",{"$f":"AT24","v":0}]
[null,null,null,null,"顧問連絡先",null,"女子参加人数",null,{"$f":"COUNTIF($I$7:$I$116,2)-COUNTIF($BL$7:$BL$116,0)","v":0},"計",null,null,null,null,{"$f":"I3+I4","v":0},null,"参加費",null,null,null,null,null,null,null,null,null,null,null,null,{"$f":"BN119*1000+AT24*2000+I5*800","v":0}]
[null,null,null,null,null,null,"プログラム冊数",null,null,"冊"]
["競技者コード","所属コード","所属コード2","ナンバーA","ナンバー","名前","カナ名","掲示板名","性別","学年","生年","月日","個人所属地コード","陸連コード","1種目","コード","記録",null,null,"2種目","コード","記録",null,null,"3種目","コード","記録",null,null,"4×100","コード","記録4",null,null,"4×400Ｒ","コード","記録5",null,null,null,null,null,null,null,"出場数",null,null,"種目","4×100mR",null,null,null,null,null,null,null,null,null,null,null,null,"種目数","男子","女子"]
[{"$f":"IF(I7=1,IF(AD7=\"男子\",1),IF(AD7=\"女子\",2))","v":false},{"$f":"陸連登録!N2","v":""},{"$f":"IF(AI7=$AW$24,1)","v":false},null,{"$f":"陸連登録!M2","v":0},{"$f":"陸連登録!C2","v":0},{"$f":"陸連登録!D2","v":0},{"$f":"F7","v":0},{"$f":"陸連登録!A2","v":""},{"$f":"陸連登録!P2","v":0},{"$f":"LEFT(陸連登録!L2,4)","v":""},{"$f":"RIGHT(陸連登録!L2,4)","v":""},{"$f":"陸連登録!F2","v":23},{"$f":"陸連登録!B2","v":0},null,{"$f":"IF(O7=\"\",\"\",IF(I7=1,VLOOKUP(O7,$AS$7:$AU$10,3,FALSE),IF(I7=2,VLOOKUP(O7,$AS$13:$AU$16,3,FALSE))))","v":""},null,0,2,null,{"$f":"IF(T7=\"\",\"\",IF(I7=1,VLOOKUP(T7,$AS$7:$AU$10,3,FALSE),IF(N7=2,VLOOKUP(I7,$AS$13:$AU$16,3,FALSE))))","v":""},null,0,2,null,{"$f":"IF(Y7=\"\",\"\",IF(I7=1,VLOOKUP(Y7,男子種目コード!$A$1:$B$33,2,FALSE),IF(I7=2,VLOOKUP(Y7,女子種目コード!$A$36:$B$66,2,FALSE))))","v":""},{"$f":"IF(Y7=\"\",\"\",HLOOKUP(Y7,#REF!,2,FALSE))","v":""},0,2,null,{"$f":"IF(AD7=\"\",\"\",IF(AD7=\"男子\",10,26))","v":""},null,null,2,null,{"$f":"IF(AI7=$AW$24,27,\"\")","v":""},null,0,2,null,null,null,null,null,"100m",{"$f":"COUNTIF($P$7:$P$116,1)+COUNTIF($U$7:$U$116,1)+COUNTIF($Z$7:$Z$116,1)","v":0},1,"記録",null,null,null,null,null,{"$f":"IF(O7=\"\",\"\",1)","v":""},{"$f":"IF(OR(BB7=1,T7=\"\"),0,1)","v":0},{"$f":"IF(OR(BB7=1,BC7=1,Y7=\"\"),0,1)","v":0},{"$f":"IF(OR(BB7=1,BC7=1,BD7=1,AD7=\"\"),0,1)","v":0},{"$f":"IF(OR(BB7=1,BC7=1,BD7=1,BE7=1,AI7=\"\"),0,1)","v":0},null,null,null,{"$f":"COUNT(P7,U7,Z7,AE7,AJ7)","v":0},{"$f":"IF(I7=1,BJ7,\"\")","v":""},{"$f":"IF(I7=2,BJ7,\"\")","v":""},{"$f":"IF(O7=\"\",\"\",1)","v":""},{"$f":"IF(OR(BM7=1,T7=\"\"),0,1)","v":0}]
[{"$f":"IF(I8=1,IF(AD8=\"男子\",1),IF(AD8=\"女子\",2))","v":false},{"$f":"陸連登録!N3","v":""},{"$f":"IF(AI8=$AW$24,1)","v":false},null,{"$f":"陸連登録!M3","v":0},{"$f":"陸連登録!C3","v":0},{"$f":"陸連登録!D3","v":0},{"$f":"F8","v":0},{"$f":"陸連登録!A3","v":""},{"$f":"陸連登録!P3","v":0},{"$f":"LEFT(陸連登録!L3,4)","v":""},{"$f":"RIGHT(陸連登録!L3,4)","v":""},{"$f":"陸連登録!F3","v":23},{"$f":"陸連登録!B3","v":0},null,"",null,0,2,null,"",null,0,2,null,{"$f":"IF(Y8=\"\",\"\",IF(I8=1,VLOOKUP(Y8,男子種目コード!$A$1:$B$33,2,FALSE),IF(I8=2,VLOOKUP(Y8,女子種目コード!$A$36:$B$66,2,FALSE))))","v":""},{"$f":"IF(Y8=\"\",\"\",HLOOKUP(Y8,#REF!,3,FALSE))","v":""},0,2,null,{"$f":"IF(AD8=\"\",\"\",IF(AD8=\"男子\",10,26))","v":""},null,0,2,null,{"$f":"IF(AI8=$AW$24,27,\"\")","v":""},null,0,2,null,null,null,null,null,"300m",{"$f":"COUNTIF($P$7:$P$116,3)+COUNTIF($U$7:$U$116,3)+COUNTIF($Z$7:$Z$116,3)","v":0},3,"ｵｰﾀﾞｰ",{"$f":"COUNTIF($AE$7:$AE$116,6)","v":0},null,null,null,null,"",0,0,0,0,null,null,null,{"$f":"COUNT(P8,U8,Z8,AE8,AJ8)","v":0},"","",{"$f":"IF(O8=\"\",\"\",1)","v":""},{"$f":"IF(OR(BM8=1,T8=\"\"),0,1)","v":0}]
[false,{"$f":"陸連登録!N4","v":""},false,null,{"$f":"陸連登録!M4","v":0},{"$f":"陸連登録!C4","v":0},{"$f":"陸連登録!D4","v":0},0,{"$f":"陸連登録!A4","v":""},{"$f":"陸連登録!P4","v":0},{"$f":"LEFT(陸連登録!L4,4)","v":""},{"$f":"RIGHT(陸連登録!L4,4)","v":""},{"$f":"陸連登録!F4","v":23},{"$f":"陸連登録!B4","v":0},null,"",null,0,2,null,"",null,0,2,null,{"$f":"IF(Y9=\"\",\"\",IF(I9=1,VLOOKUP(Y9,男子種目コード!$A$1:$B$33,2,FALSE),IF(I9=2,VLOOKUP(Y9,女子種目コード!$A$36:$B$66,2,FALSE))))","v":""},{"$f":"IF(Y9=\"\",\"\",HLOOKUP(Y9,#REF!,4,FALSE))","v":""},0,2,null,{"$f":"IF(AD9=\"\",\"\",IF(AD9=\"男子\",10,26))","v":""},null,0,2,null,"",null,0,2,null,null,null,null,null,"5000m",{"$f":"COUNTIF($P$7:$P$116,6)+COUNTIF($U$7:$U$116,6)+COUNTIF($Z$7:$Z$116,6)","v":0},6,"選　手",{"$f":"IF(ISERROR(AY9),\"\",AY9)","v":""},{"$f":"IF(ISERROR(AZ9),\"\",AZ9)","v":""},{"$f":"VLookUpX(1,$A$7:$F$116,1,5)","v":{"$error":"#N/A"}},{"$f":"VLookUpX(1,$A$7:$F$116,1,6)","v":{"$error":"#N/A"}},{"$f":"IF(AW9=\"\",\"\",1)","v":""},"",0,0,0,0,null,null,null,0,"","","",0]
[false,{"$f":"陸連登録!N5","v":""},false,null,{"$f":"陸連登録!M5","v":0},{"$f":"陸連登録!C5","v":0},{"$f":"陸連登録!D5","v":0},0,{"$f":"陸連登録!A5","v":""},{"$f":"陸連登録!P5","v":0},{"$f":"LEFT(陸連登録!L5,4)","v":""},{"$f":"RIGHT(陸連登録!L5,4)","v":""},{"$f":"陸連登録!F5","v":23},{"$f":"陸連登録!B5","v":0},null,"",null,0,2,null,"",null,0,2,null,{"$f":"IF(Y10=\"\",\"\",IF(I10=1,VLOOKUP(Y10,男子種目コード!$A$1:$B$33,2,FALSE),IF(I10=2,VLOOKUP(Y10,女子種目コード!$A$36:$B$66,2,FALSE))))","v":""},{"$f":"IF(Y10=\"\",\"\",HLOOKUP(Y10,#REF!,5,FALSE))","v":""},0,2,null,"",null,0,2,null,"",null,0,2,null,null,null,null,null,"300mH",{"$f":"COUNTIF($P$7:$P$116,8)+COUNTIF($U$7:$U$116,8)+COUNTIF($Z$7:$Z$116,8)","v":0},8,null,{"$f":"IF(ISERROR(AY10),\"\",AY10)","v":""},"",{"$f":"VLookUpX(1,$A$7:$F$116,2,5)","v":{"$error":"#N/A"}},{"$f":"VLookUpX(1,$A$7:$F$116,2,6)","v":{"$error":"#N/A"}},null,"",0,0,0,0,null,null,null,0,"","","",0]
[false,{"$f":"陸連登録!N6","v":""},false,null,{"$f":"陸連登録!M6","v":0},{"$f":"陸連登録!C6","v":0},{"$f":"陸連登録!D6","v":0},0,{"$f":"陸連登録!A6","v":""},{"$f":"陸連登録!P6","v":0},{"$f":"LEFT(陸連登録!L6,4)","v":""},{"$f":"RIGHT(陸連登録!L6,4)","v":""},{"$f":"陸連登録!F6","v":23},{"$f":"陸連登録!B6","v":0},null,"",null,0,2,null,"",null,0,2,null,{"$f":"IF(Y11=\"\",\"\",IF(I11=1,VLOOKUP(Y11,男子種目コード!$A$1:$B$33,2,FALSE),IF(I11=2,VLOOKUP(Y11,女子種目コード!$A$36:$B$66,2,FALSE))))","v":""},{"$f":"IF(Y11=\"\",\"\",HLOOKUP(Y11,#REF!,6,FALSE))","v":""},0,2,null,"",null,0,2,null,"",null,0,2,null,null,null,null,null,"男子計",{"$f":"SUM(AT7:AT10)","v":0},null,null,"","",{"$f":"VLookUpX(1,$A$7:$F$116,3,5)","v":{"$error":"#N/A"}},{"$f":"VLookUpX(1,$A$7:$F$116,3,6)","v":{"$error":"#N/A"}},null,"",0,0,0,0,null,null,null,0,"","","",0]
[false,{"$f":"陸連登録!N7","v":""},false,null,{"$f":"陸連登録!M7","v":0},{"$f":"陸連登録!C7","v":0},{"$f":"陸連登録!D7","v":0},0,{"$f":"陸連登録!A7","v":""},{"$f":"陸連登録!P7","v":0},{"$f":"LEFT(陸連登録!L7,4)","v":""},{"$f":"RIGHT(陸連登録!L7,4)","v":""},{"$f":"陸連登録!F7","v":23},{"$f":"陸連登録!B7","v":0},null,"",null,0,2,null,"",null,0,2,null,{"$f":"IF(Y12=\"\",\"\",IF(I12=1,VLOOKUP(Y12,男子種目コード!$A$1:$B$33,2,FALSE),IF(I12=2,VLOOKUP(Y12,女子種目コード!$A$36:$B$66,2,FALSE))))","v":""},{"$f":"IF(Y12=\"\",\"\",HLOOKUP(Y12,#REF!,7,FALSE))","v":""},0,2,null,"",null,0,2,null,"",null,0,2,null,null,null,null,null,null,null,null,null,"","",{"$f":"VLookUpX(1,$A$7:$F$116,4,5)","v":{"$error":"#N/A"}},{"$f":"VLookUpX(1,$A$7:$F$116,4,6)","v":{"$error":"#N/A"}},null,"",0,0,0,0,null,null,null,0,"","","",0]
[false,{"$f":"陸連登録!N8","v":""},false,null,{"$f":"陸連登録!M8","v":0},{"$f":"陸連登録!C8","v":0},{"$f":"陸連登録!D8","v":0},0,{"$f":"陸連登録!A8","v":""},{"$f":"陸連登録!P8","v":0},{"$f":"LEFT(陸連登録!L8,4)","v":""},{"$f":"RIGHT(陸連登録!L8,4)","v":""},{"$f":"陸連登録!F8","v":23},{"$f":"陸連登録!B8","v":0},null,"",null,0,2,null,"",null,0,2,null,{"$f":"IF(Y13=\"\",\"\",IF(I13=1,VLOOKUP(Y13,男子種目コード!$A$1:$B$33,2,FALSE),IF(I13=2,VLOOKUP(Y13,女子種目コード!$A$36:$B$66,2,FALSE))))","v":""},{"$f":"IF(Y13=\"\",\"\",HLOOKUP(Y13,#REF!,8,FALSE))","v":""},0,2,null,"",null,0,2,null,"",null,0,2,null,null,null,null,null,"100m",{"$f":"COUNTIF($P$7:$P$116,21)+COUNTIF($U$7:$U$116,21)+COUNTIF($Z$7:$Z$116,21)","v":0},21,null,"","",{"$f":"VLookUpX(1,$A$7:$F$116,5,5)","v":{"$error":"#N/A"}},{"$f":"VLookUpX(1,$A$7:$F$116,5,6)","v":{"$error":"#N/A"}},null,"",0,0,0,0,null,null,null,0,"","","",0]
[false,{"$f":"陸連登録!N9","v":""},false,null,{"$f":"陸連登録!M9","v":0},{"$f":"陸連登録!C9","v":0},{"$f":"陸連登録!D9","v":0},0,{"$f":"陸連登録!A9","v":""},{"$f":"陸連登録!P9","v":0},{"$f":"LEFT(陸連登録!L9,4)","v":""},{"$f":"RIGHT(陸連登録!L9,4)","v":""},{"$f":"陸連登録!F9","v":23},{"$f":"陸連登録!B9","v":0},null,"",null,0,2,null,"",null,0,2,null,{"$f":"IF(Y14=\"\",\"\",IF(I14=1,VLOOKUP(Y14,男子種目コード!$A$1:$B$33,2,FALSE),IF(I14=2,VLOOKUP(Y14,女子種目コード!$A$36:$B$66,2,FALSE))))","v":""},{"$f":"IF(Y14=\"\",\"\",HLOOKUP(Y14,#REF!,9,FALSE))","v":""},0,2,null,"",null,0,2,null,"",null,0,2,null,null,null,null,null,"300m",{"$f":"COUNTIF($P$7:$P$116,22)+COUNTIF($U$7:$U$116,22)+COUNTIF($Z$7:$Z$116,22)","v":0},22,null,"","",{"$f":"VLookUpX(1,$A$7:$F$116,6,5)","v":{"$error":"#N/A"}},{"$f":"VLookUpX(1,$A$7:$F$116,6,6)","v":{"$error":"#N/A"}},null,"",0,0,0,0,null,null,null,0,"","","",0]
[false,{"$f":"陸連登録!N10","v":""},false,null,{"$f":"陸連登録!M10","v":0},{"$f":"陸連登録!C10","v":0},{"$f":"陸連登録!D10","v":0},0,{"$f":"陸連登録!A10","v":""},{"$f":"陸連登録!P10","v":0},{"$f":"LEFT(陸連登録!L10,4)","v":""},{"$f":"RIGHT(陸連登録!L10,4)","v":""},{"$f":"陸連登録!F10","v":23},{"$f":"陸連登録!B10","v":0},null,"",null,0,2,null,"",null,0,2,null,{"$f":"IF(Y15=\"\",\"\",IF(I15=1,VLOOKUP(Y15,男子種目コード!$A$1:$B$33,2,FALSE),IF(I15=2,VLOOKUP(Y15,女子種目コード!$A$36:$B$66,2,FALSE))))","v":""},{"$f":"IF(Y15=\"\",\"\",HLOOKUP(Y15,#REF!,10,FALSE))","v":""},0,2,null,"",null,0,2,null,"",null,0,2,null,null,null,null,null,"3000m",{"$f":"COUNTIF($P$7:$P$116,23)+COUNTIF($U$7:$U$116,23)+COUNTIF($Z$7:$Z$116,23)","v":0},23,"種目","4×100mR",null,null,null,null,"",0,0,0,0,null,null,null,0,"","","",0]
[false,{"$f":"陸連登録!N11","v":""},false,null,{"$f":"陸連登録!M11","v":0},{"$f":"陸連登録!C11","v":0},{"$f":"陸連登録!D11","v":0},0,{"$f":"陸連登録!A11","v":""},{"$f":"陸連登録!P11","v":0},{"$f":"LEFT(陸連登録!L11,4)","v":""},{"$f":"RIGHT(陸連登録!L11,4)","v":""},{"$f":"陸連登録!F11","v":23},{"$f":"陸連登録!B11","v":0},null,"",null,0,2,null,"",null,0,2,null,{"$f":"IF(Y16=\"\",\"\",IF(I16=1,VLOOKUP(Y16,男子種目コード!$A$1:$B$33,2,FALSE),IF(I16=2,VLOOKUP(Y16,女子種目コード!$A$36:$B$66,2,FALSE))))","v":""},{"$f":"IF(Y16=\"\",\"\",HLOOKUP(Y16,#REF!,11,FALSE))","v":""},0,2,null,"",null,0,2,null,"",null,0,2,null,null,null,null,null,"300mH",{"$f":"COUNTIF($P$7:$P$116,25)+COUNTIF($U$7:$U$116,25)+COUNTIF($Z$7:$Z$116,25)","v":0},25,"記録",null,null,null,null,null,"",0,0,0,0,null,null,null,0,"","","",0]
[false,{"$f":"陸連登録!N12","v":""},false,null,{"$f":"陸連登録!M12","v":0},{"$f":"陸連登録!C12","v":0},{"$f":"陸連登録!D12","v":0},0,{"$f":"陸連登録!A12","v":""},{"$f":"陸連登録!P12","v":0},{"$f":"LEFT(陸連登録!L12,4)","v":""},{"$f":"RIGHT(陸連登録!L12,4)","v":""},{"$f":"陸連登録!F12","v":23},{"$f":"陸連登録!B12","v":0},null,"",null,0,2,null,"",null,0,2,null,{"$f":"IF(Y17=\"\",\"\",IF(I17=1,VLOOKUP(Y17,男子種目コード!$A$1:$B$33,2,FALSE),IF(I17=2,VLOOKUP(Y17,女子種目コード!$A$36:$B$66,2,FALSE))))","v":""},{"$f":"IF(Y17=\"\",\"\",HLOOKUP(Y17,#REF!,12,FALSE))","v":""},0,2,null,"",null,0,2,null,"",null,0,2,null,null,null,null,null,"女子計",{"$f":"SUM(AT13:AT16)","v":0},null,"ｵｰﾀﾞｰ",{"$f":"COUNTIF($AE$7:$AE$116,14)","v":0},null,null,null,null,"",0,0,0,0,null,null,null,0,"","","",0]
[false,{"$f":"陸連登録!N13","v":""},false,null,{"$f":"陸連登録!M13","v":0},{"$f":"陸連登録!C13","v":0},{"$f":"陸連登録!D13","v":0},0,{"$f":"陸連登録!A13","v":""},{"$f":"陸連登録!P13","v":0},{"$f":"LEFT(陸連登録!L13,4)","v":""},{"$f":"RIGHT(陸連登録!L13,4)","v":""},{"$f":"陸連登録!F13","v":23},{"$f":"陸連登録!B13","v":0},null,"",null,0,2,null,"",null,0,2,null,{"$f":"IF(Y18=\"\",\"\",IF(I18=1,VLOOKUP(Y18,男子種目コード!$A$1:$B$33,2,FALSE),IF(I18=2,VLOOKUP(Y18,女子種目コード!$A$36:$B$66,2,FALSE))))","v":""},{"$f":"IF(Y18=\"\",\"\",HLOOKUP(Y18,#REF!,13,FALSE))","v":""},0,2,null,"",null,0,2,null,"",null,0,2,null,null,null,null,null,"総計",{"$f":"AT11+AT17","v":0},null,"選　手",{"$f":"IF(ISERROR(AY18),\"\",AY18)","v":""},{"$f":"IF(ISERROR(AZ18),\"\",AZ18)","v":""},{"$f":"VLookUpX(2,$A$7:$F$116,1,5)","v":{"$error":"#N/A"}},{"$f":"VLookUpX(2,$A$7:$F$116,1,6)","v":{"$error":"#N/A"}},{"$f":"IF(AW18=\"\",\"\",1)","v":""},"",0,0,0,0,null,null,null,0,"","","",0]
[false,{"$f":"陸連登録!N14","v":""},false,null,{"$f":"陸連登録!M14","v":0},{"$f":"陸連登録!C14","v":0},{"$f":"陸連登録!D14","v":0},0,{"$f":"陸連登録!A14","v":""},{"$f":"陸連登録!P14","v":0},{"$f":"LEFT(陸連登録!L14,4)","v":""},{"$f":"RIGHT(陸連登録!L14,4)","v":""},{"$f":"陸連登録!F14","v":23},{"$f":"陸連登録!B14","v":0},null,"",null,0,2,null,"",null,0,2,null,{"$f":"IF(Y19=\"\",\"\",IF(I19=1,VLOOKUP(Y19,男子種目コード!$A$1:$B$33,2,FALSE),IF(I19=2,VLOOKUP(Y19,女子種目コード!$A$36:$B$66,2,FALSE))))","v":""},{"$f":"IF(Y19=\"\",\"\",HLOOKUP(Y19,#REF!,14,FALSE))","v":""},0,2,null,"",null,0,2,null,"",null,0,2,null,null,null,null,null,null,null,null,null,"","",{"$f":"VLookUpX(2,$A$7:$F$116,2,5)","v":{"$error":"#N/A"}},{"$f":"VLookUpX(2,$A$7:$F$116,2,6)","v":{"$error":"#N/A"}},null,"",0,0,0,0,null,null,null,0,"","","",0]
[false,{"$f":"陸連登録!N15","v":""},false,null,{"$f":"陸連登録!M15","v":0},{"$f":"陸連登録!C15","v":0},{"$f":"陸連登録!D15","v":0},0,{"$f":"陸連登録!A15","v":""},{"$f":"陸連登録!P15","v":0},{"$f":"LEFT(陸連登録!L15,4)","v":""},{"$f":"RIGHT(陸連登録!L15,4)","v":""},{"$f":"陸連登録!F15","v":23},{"$f":"陸連登録!B15","v":0},null,"",null,0,2,null,"",null,0,2,null,{"$f":"IF(Y20=\"\",\"\",IF(I20=1,VLOOKUP(Y20,男子種目コード!$A$1:$B$33,2,FALSE),IF(I20=2,VLOOKUP(Y20,女子種目コード!$A$36:$B$66,2,FALSE))))","v":""},{"$f":"IF(Y20=\"\",\"\",HLOOKUP(Y20,#REF!,15,FALSE))","v":""},0,2,null,"",null,0,2,null,"",null,0,2,null,null,null,null,null,null,null,null,null,"","",{"$f":"VLookUpX(2,$A$7:$F$116,3,5)","v":{"$error":"#N/A"}},{"$f":"VLookUpX(2,$A$7:$F$116,3,6)","v":{"$error":"#N/A"}},null,"",0,0,0,0,null,null,null,0,"","","",0]
[false,{"$f":"陸連登録!N16","v":""},false,null,{"$f":"陸連登録!M16","v":0},{"$f":"陸連登録!C16","v":0},{"$f":"陸連登録!D16","v":0},0,{"$f":"陸連登録!A16","v":""},{"$f":"陸連登録!P16","v":0},{"$f":"LEFT(陸連登録!L16,4)","v":""},{"$f":"RIGHT(陸連登録!L16,4)","v":""},{"$f":"陸連登録!F16","v":23},{"$f":"陸連登録!B16","v":0},null,"",null,0,2,null,"",null,0,2,null,{"$f":"IF(Y21=\"\",\"\",IF(I21=1,VLOOKUP(Y21,男子種目コード!$A$1:$B$33,2,FALSE),IF(I21=2,VLOOKUP(Y21,女子種目コード!$A$36:$B$66,2,FALSE))))","v":""},{"$f":"IF(Y21=\"\",\"\",HLOOKUP(Y21,#REF!,16,FALSE))","v":""},0,2,null,"",null,0,2,null,"",null,0,2,null,null,null,null,null,"男子",{"$f":"COUNTIF($AD$7:$AD$116,AS21)","v":0},6,null,"","",{"$f":"VLookUpX(2,$A$7:$F$116,4,5)","v":{"$error":"#N/A"}},{"$f":"VLookUpX(2,$A$7:$F$116,4,6)","v":{"$error":"#N/A"}},null,"",0,0,0,0,null,null,null,0,"","","",0]
[false,{"$f":"陸連登録!N17","v":""},false,null,{"$f":"陸連登録!M17","v":0},{"$f":"陸連登録!C17","v":0},{"$f":"陸連登録!D17","v":0},0,{"$f":"陸連登録!A17","v":""},{"$f":"陸連登録!P17","v":0},{"$f":"LEFT(陸連登録!L17,4)","v":""},{"$f":"RIGHT(陸連登録!L17,4)","v":""},{"$f":"陸連登録!F17","v":23},{"$f":"陸連登録!B17","v":0},null,"",null,0,2,null,"",null,0,2,null,{"$f":"IF(Y22=\"\",\"\",IF(I22=1,VLOOKUP(Y22,男子種目コード!$A$1:$B$33,2,FALSE),IF(I22=2,VLOOKUP(Y22,女子種目コード!$A$36:$B$66,2,FALSE))))","v":""},{"$f":"IF(Y22=\"\",\"\",HLOOKUP(Y22,#REF!,17,FALSE))","v":""},0,2,null,"",null,0,2,null,"",null,0,2,null,null,null,null,null,"女子",{"$f":"COUNTIF($AD$7:$AD$116,AS22)","v":0},14,null,"","",{"$f":"VLookUpX(2,$A$7:$F$116,5,5)","v":{"$error":"#N/A"}},{"$f":"VLookUpX(2,$A$7:$F$116,5,6)","v":{"$error":"#N/A"}},null,"",0,0,0,0,null,null,null,0,"","","",0]
[false,{"$f":"陸連登録!N18","v":""},false,null,{"$f":"陸連登録!M18","v":0},{"$f":"陸連登録!C18","v":0},{"$f":"陸連登録!D18","v":0},0,{"$f":"陸連登録!A18","v":""},{"$f":"陸連登録!P18","v":0},{"$f":"LEFT(陸連登録!L18,4)","v":""},{"$f":"RIGHT(陸連登録!L18,4)","v":""},{"$f":"陸連登録!F18","v":23},{"$f":"陸連登録!B18","v":0},null,"",null,0,2,null,"",null,0,2,null,{"$f":"IF(Y23=\"\",\"\",IF(I23=1,VLOOKUP(Y23,男子種目コード!$A$1:$B$33,2,FALSE),IF(I23=2,VLOOKUP(Y23,女子種目コード!$A$36:$B$66,2,FALSE))))","v":""},{"$f":"IF(Y23=\"\",\"\",HLOOKUP(Y23,#REF!,18,FALSE))","v":""},0,2,null,"",null,0,2,null,"",null,0,2,null,null,null,null,null,null,{"$f":"COUNTIF(AT21:AT22,0)","v":2},null,null,"","",{"$f":"VLookUpX(2,$A$7:$F$116,6,5)","v":{"$error":"#N/A"}},{"$f":"VLookUpX(2,$A$7:$F$116,6,6)","v":{"$error":"#N/A"}},null,"",0,0,0,0,null,null,null,0,"","","",0]
[false,{"$f":"陸連登録!N19","v":""},false,null,{"$f":"陸連登録!M19","v":0},{"$f":"陸連登録!C19","v":0},{"$f":"陸連登録!D19","v":0},0,{"$f":"陸連登録!A19","v":""},{"$f":"陸連登録!P19","v":0},{"$f":"LEFT(陸連登録!L19,4)","v":""},{"$f":"RIGHT(陸連登録!L19,4)","v":""},{"$f":"陸連登録!F19","v":23},{"$f":"陸連登録!B19","v":0},null,"",null,0,2,null,"",null,0,2,null,{"$f":"IF(Y24=\"\",\"\",IF(I24=1,VLOOKUP(Y24,男子種目コード!$A$1:$B$33,2,FALSE),IF(I24=2,VLOOKUP(Y24,女子種目コード!$A$36:$B$66,2,FALSE))))","v":""},{"$f":"IF(Y24=\"\",\"\",HLOOKUP(Y24,#REF!,19,FALSE))","v":""},0,2,null,"",null,0,2,null,"",null,0,2,null,null,null,null,null,null,{"$f":"2-AT23","v":0},null,"種目","混合4×400mR",null,null,null,null,"",0,0,0,0,null,null,null,0,"","","",0]
[false,{"$f":"陸連登録!N20","v":""},false,null,{"$f":"陸連登録!M20","v":0},{"$f":"陸連登録!C20","v":0},{"$f":"陸連登録!D20","v":0},0,{"$f":"陸連登録!A20","v":""},{"$f":"陸連登録!P20","v":0},{"$f":"LEFT(陸連登録!L20,4)","v":""},{"$f":"RIGHT(陸連登録!L20,4)","v":""},{"$f":"陸連登録!F20","v":23},{"$f":"陸連登録!B20","v":0},null,"",null,0,2,null,"",null,0,2,null,{"$f":"IF(Y25=\"\",\"\",IF(I25=1,VLOOKUP(Y25,男子種目コード!$A$1:$B$33,2,FALSE),IF(I25=2,VLOOKUP(Y25,女子種目コード!$A$36:$B$66,2,FALSE))))","v":""},{"$f":"IF(Y25=\"\",\"\",HLOOKUP(Y25,#REF!,20,FALSE))","v":""},0,2,null,"",null,0,2,null,"",null,0,2,null,null,null,null,null,null,null,null,"記録",null,null,null,null,null,"",0,0,0,0,null,null,null,0,"","","",0]
[false,{"$f":"陸連登録!N21","v":""},false,null,{"$f":"陸連登録!M21","v":0},{"$f":"陸連登録!C21","v":0},{"$f":"陸連登録!D21","v":0},0,{"$f":"陸連登録!A21","v":""},{"$f":"陸連登録!P21","v":0},{"$f":"LEFT(陸連登録!L21,4)","v":""},{"$f":"RIGHT(陸連登録!L21,4)","v":""},{"$f":"陸連登録!F21","v":23},{"$f":"陸連登録!B21","v":0},null,"",null,0,2,null,"",null,0,2,null,{"$f":"IF(Y26=\"\",\"\",IF(I26=1,VLOOKUP(Y26,男子種目コード!$A$1:$B$33,2,FALSE),IF(I26=2,VLOOKUP(Y26,女子種目コード!$A$36:$B$66,2,FALSE))))","v":""},{"$f":"IF(Y26=\"\",\"\",HLOOKUP(Y26,#REF!,21,FALSE))","v":""},0,2,null,"",null,0,2,null,"",null,0,2,null,null,null,null,null,null,null,null,"ｵｰﾀﾞｰ",{"$f":"COUNTIF($AE$7:$AE$116,14)","v":0},null,null,null,null,"",0,0,0,0,null,null,null,0,"","","",0]
[false,{"$f":"陸連登録!N22","v":""},false,null,{"$f":"陸連登録!M22","v":0},{"$f":"陸連登録!C22","v":0},{"$f":"陸連登録!D22","v":0},0,{"$f":"陸連登録!A22","v":""},{"$f":"陸連登録!P22","v":0},{"$f":"LEFT(陸連登録!L22,4)","v":""},{"$f":"RIGHT(陸連登録!L22,4)","v":""},{"$f":"陸連登録!F22","v":23},{"$f":"陸連登録!B22","v":0},null,"",null,0,2,null,"",null,0,2,null,{"$f":"IF(Y27=\"\",\"\",IF(I27=1,VLOOKUP(Y27,男子種目コード!$A$1:$B$33,2,FALSE),IF(I27=2,VLOOKUP(Y27,女子種目コード!$A$36:$B$66,2,FALSE))))","v":""},{"$f":"IF(Y27=\"\",\"\",HLOOKUP(Y27,#REF!,22,FALSE))","v":""},0,2,null,"",null,0,2,null,"",null,0,2,null,null,null,null,null,null,null,null,"選　手",{"$f":"IF(ISERROR(AY27),\"\",AY27)","v":""},{"$f":"IF(ISERROR(AZ27),\"\",AZ27)","v":""},{"$f":"VLookUpX(1,$C$7:$F$116,1,3)","v":{"$error":"#N/A"}},{"$f":"VLookUpX(1,$C$7:$F$116,1,4)","v":{"$error":"#N/A"}},{"$f":"IF(AW27=\"\",\"\",1)","v":""},"",0,0,0,0,null,null,null,0,"","","",0]
[false,{"$f":"陸連登録!N23","v":""},false,null,{"$f":"陸連登録!M23","v":0},{"$f":"陸連登録!C23","v":0},{"$f":"陸連登録!D23","v":0},0,{"$f":"陸連登録!A23","v":""},{"$f":"陸連登録!P23","v":0},{"$f":"LEFT(陸連登録!L23,4)","v":""},{"$f":"RIGHT(陸連登録!L23,4)","v":""},{"$f":"陸連登録!F23","v":23},{"$f":"陸連登録!B23","v":0},null,"",null,0,2,null,"",null,0,2,null,{"$f":"IF(Y28=\"\",\"\",IF(I28=1,VLOOKUP(Y28,男子種目コード!$A$1:$B$33,2,FALSE),IF(I28=2,VLOOKUP(Y28,女子種目コード!$A$36:$B$66,2,FALSE))))","v":""},{"$f":"IF(Y28=\"\",\"\",HLOOKUP(Y28,#REF!,23,FALSE))","v":""},0,2,null,"",null,0,2,null,"",null,0,2,null,null,null,null,null,null,null,null,null,"","",{"$f":"VLookUpX(1,$C$7:$F$116,2,3)","v":{"$error":"#N/A"}},{"$f":"VLookUpX(1,$C$7:$F$116,2,4)","v":{"$error":"#N/A"}},null,"",0,0,0,0,null,null,null,0,"","","",0]
[false,{"$f":"陸連登録!N24","v":""},false,null,{"$f":"陸連登録!M24","v":0},{"$f":"陸連登録!C24","v":0},{"$f":"陸連登録!D24","v":0},0,{"$f":"陸連登録!A24","v":""},{"$f":"陸連登録!P24","v":0},{"$f":"LEFT(陸連登録!L24,4)","v":""},{"$f":"RIGHT(陸連登録!L24,4)","v":""},{"$f":"陸連登録!F24","v":23},{"$f":"陸連登録!B24","v":0},null,"",null,0,2,null,"",null,0,2,null,{"$f":"IF(Y29=\"\",\"\",IF(I29=1,VLOOKUP(Y29,男子種目コード!$A$1:$B$33,2,FALSE),IF(I29=2,VLOOKUP(Y29,女子種目コード!$A$36:$B$66,2,FALSE))))","v":""},{"$f":"IF(Y29=\"\",\"\",HLOOKUP(Y29,#REF!,24,FALSE))","v":""},0,2,null,"",null,0,2,null,"",null,0,2,null,null,null,null,null,null,null,null,null,"","",{"$f":"VLookUpX(1,$C$7:$F$116,3,3)","v":{"$error":"#N/A"}},{"$f":"VLookUpX(1,$C$7:$F$116,3,4)","v":{"$error":"#N/A"}},null,"",0,0,0,0,null,null,null,0,"","","",0]
[false,{"$f":"陸連登録!N25","v":""},false,null,{"$f":"陸連登録!M25","v":0},{"$f":"陸連登録!C25","v":0},{"$f":"陸連登録!D25","v":0},0,{"$f":"陸連登録!A25","v":""},{"$f":"陸連登録!P25","v":0},{"$f":"LEFT(陸連登録!L25,4)","v":""},{"$f":"RIGHT(陸連登録!L25,4)","v":""},{"$f":"陸連登録!F25","v":23},{"$f":"陸連登録!B25","v":0},null,"",null,0,2,null,"",null,0,2,null,{"$f":"IF(Y30=\"\",\"\",IF(I30=1,VLOOKUP(Y30,男子種目コード!$A$1:$B$33,2,FALSE),IF(I30=2,VLOOKUP(Y30,女子種目コード!$A$36:$B$66,2,FALSE))))","v":""},{"$f":"IF(Y30=\"\",\"\",HLOOKUP(Y30,#REF!,25,FALSE))","v":""},0,2,null,"",null,0,2,null,"",null,0,2,null,null,null,null,null,null,null,null,null,"",{"$f":"IF(ISERROR(AZ30),\"\",AZ30)","v":""},{"$f":"VLookUpX(1,$C$7:$F$116,4,3)","v":{"$error":"#N/A"}},{"$f":"VLookUpX(1,$C$7:$F$116,4,4)","v":{"$error":"#N/A"}},null,"",0,0,0,0,null,null,null,0,"","","",0]
[false,{"$f":"陸連登録!N26","v":""},false,null,{"$f":"陸連登録!M26","v":0},{"$f":"陸連登録!C26","v":0},{"$f":"陸連登録!D26","v":0},0,{"$f":"陸連登録!A26","v":""},{"$f":"陸連登録!P26","v":0},{"$f":"LEFT(陸連登録!L26,4)","v":""},{"$f":"RIGHT(陸連登録!L26,4)","v":""},{"$f":"陸連登録!F26","v":23},{"$f":"陸連登録!B26","v":0},null,"",null,0,2,null,"",null,0,2,null,{"$f":"IF(Y31=\"\",\"\",IF(I31=1,VLOOKUP(Y31,男子種目コード!$A$1:$B$33,2,FALSE),IF(I31=2,VLOOKUP(Y31,女子種目コード!$A$36:$B$66,2,FALSE))))","v":""},{"$f":"IF(Y31=\"\",\"\",HLOOKUP(Y31,#REF!,26,FALSE))","v":""},0,2,null,"",null,0,2,null,"",null,0,2,null,null,null,null,null,null,null,null,null,"","",{"$f":"VLookUpX(1,$C$7:$F$116,5,3)","v":{"$error":"#N/A"}},{"$f":"VLookUpX(1,$C$7:$F$116,5,4)","v":{"$error":"#N/A"}},null,"",0,0,0,0,null,null,null,0,"","","",0]
[false,{"$f":"陸連登録!N27","v":""},false,null,{"$f":"陸連登録!M27","v":0},{"$f":"陸連登録!C27","v":0},{"$f":"陸連登録!D27","v":0},0,{"$f":"陸連登録!A27","v":""},{"$f":"陸連登録!P27","v":0},{"$f":"LEFT(陸連登録!L27,4)","v":""},{"$f":"RIGHT(陸連登録!L27,4)","v":""},{"$f":"陸連登録!F27","v":23},{"$f":"陸連登録!B27","v":0},null,"",null,0,2,null,"",null,0,2,null,{"$f":"IF(Y32=\"\",\"\",IF(I32=1,VLOOKUP(Y32,男子種目コード!$A$1:$B$33,2,FALSE),IF(I32=2,VLOOKUP(Y32,女子種目コード!$A$36:$B$66,2,FALSE))))","v":""},{"$f":"IF(Y32=\"\",\"\",HLOOKUP(Y32,#REF!,27,FALSE))","v":""},0,2,null,"",null,0,2,null,"",null,0,2,null,null,null,null,null,null,null,null,null,"","",{"$f":"VLookUpX(1,$C$7:$F$116,6,3)","v":{"$error":"#N/A"}},{"$f":"VLookUpX(1,$C$7:$F$116,6,4)","v":{"$error":"#N/A"}},null,"",0,0,0,0,null,null,null,0,"","","",0]
[false,{"$f":"陸連登録!N28","v":""},false,null,{"$f":"陸連登録!M28","v":0},{"$f":"陸連登録!C28","v":0},{"$f":"陸連登録!D28","v":0},0,{"$f":"陸連登録!A28","v":""},{"$f":"陸連登録!P28","v":0},{"$f":"LEFT(陸連登録!L28,4)","v":""},{"$f":"RIGHT(陸連登録!L28,4)","v":""},{"$f":"陸連登録!F28","v":23},{"$f":"陸連登録!B28","v":0},null,"",null,0,2,null,"",null,0,2,null,{"$f":"IF(Y33=\"\",\"\",IF(I33=1,VLOOKUP(Y33,男子種目コード!$A$1:$B$33,2,FALSE),IF(I33=2,VLOOKUP(Y33,女子種目コード!$A$36:$B$66,2,FALSE))))","v":""},{"$f":"IF(Y33=\"\",\"\",HLOOKUP(Y33,#REF!,28,FALSE))","v":""},0,2,null,"",null,0,2,null,"",null,0,2,null,null,null,null,null,null,null,null,null,null,null,null,null,null,"",0,0,0,0,null,null,null,0,"","","",0]
[false,{"$f":"陸連登録!N29","v":""},false,null,{"$f":"陸連登録!M29","v":0},{"$f":"陸連登録!C29","v":0},{"$f":"陸連登録!D29","v":0},0,{"$f":"陸連登録!A29","v":""},{"$f":"陸連登録!P29","v":0},{"$f":"LEFT(陸連登録!L29,4)","v":""},{"$f":"RIGHT(陸連登録!L29,4)","v":""},{"$f":"陸連登録!F29","v":23},{"$f":"陸連登録!B29","v":0},null,"",null,0,2,null,"",null,0,2,null,{"$f":"IF(Y34=\"\",\"\",IF(I34=1,VLOOKUP(Y34,男子種目コード!$A$1:$B$33,2,FALSE),IF(I34=2,VLOOKUP(Y34,女子種目コード!$A$36:$B$66,2,FALSE))))","v":""},{"$f":"IF(Y34=\"\",\"\",HLOOKUP(Y34,#REF!,29,FALSE))","v":""},0,2,null,"",null,0,2,null,"",null,0,2,null,null,null,null,null,null,null,null,null,null,null,null,null,null,"",0,0,0,0,null,null,null,0,"","","",0]
[false,{"$f":"陸連登録!N30","v":""},false,null,{"$f":"陸連登録!M30","v":0},{"$f":"陸連登録!C30","v":0},{"$f":"陸連登録!D30","v":0},0,{"$f":"陸連登録!A30","v":""},{"$f":"陸連登録!P30","v":0},{"$f":"LEFT(陸連登録!L30,4)","v":""},{"$f":"RIGHT(陸連登録!L30,4)","v":""},{"$f":"陸連登録!F30","v":23},{"$f":"陸連登録!B30","v":0},null,"",null,0,2,null,"",null,0,2,null,{"$f":"IF(Y35=\"\",\"\",IF(I35=1,VLOOKUP(Y35,男子種目コード!$A$1:$B$33,2,FALSE),IF(I35=2,VLOOKUP(Y35,女子種目コード!$A$36:$B$66,2,FALSE))))","v":""},{"$f":"IF(Y35=\"\",\"\",HLOOKUP(Y35,#REF!,30,FALSE))","v":""},0,2,null,"",null,0,2,null,"",null,0,2,null,null,null,null,null,null,null,null,null,null,null,null,null,null,"",0,0,0,0,null,null,null,0,"","","",0]
[false,{"$f":"陸連登録!N31","v":""},false,null,{"$f":"陸連登録!M31","v":0},{"$f":"陸連登録!C31","v":0},{"$f":"陸連登録!D31","v":0},0,{"$f":"陸連登録!A31","v":""},{"$f":"陸連登録!P31","v":0},{"$f":"LEFT(陸連登録!L31,4)","v":""},{"$f":"RIGHT(陸連登録!L31,4)","v":""},{"$f":"陸連登録!F31","v":23},{"$f":"陸連登録!B31","v":0},null,"",null,0,2,null,"",null,0,2,null,{"$f":"IF(Y36=\"\",\"\",IF(I36=1,VLOOKUP(Y36,男子種目コード!$A$1:$B$33,2,FALSE),IF(I36=2,VLOOKUP(Y36,女子種目コード!$A$36:$B$66,2,FALSE))))","v":""},{"$f":"IF(Y36=\"\",\"\",HLOOKUP(Y36,#REF!,31,FALSE))","v":""},0,2,null,"",null,0,2,null,"",null,0,2,null,null,null,null,null,null,null,null,null,null,null,null,null,null,"",0,0,0,0,null,null,null,0,"","","",0]
[false,{"$f":"陸連登録!N32","v":""},false,null,{"$f":"陸連登録!M32","v":0},{"$f":"陸連登録!C32","v":0},{"$f":"陸連登録!D32","v":0},0,{"$f":"陸連登録!A32","v":""},{"$f":"陸連登録!P32","v":0},{"$f":"LEFT(陸連登録!L32,4)","v":""},{"$f":"RIGHT(陸連登録!L32,4)","v":""},{"$f":"陸連登録!F32","v":23},{"$f":"陸連登録!B32","v":0},null,"",null,0,2,null,"",null,0,2,null,{"$f":"IF(Y37=\"\",\"\",IF(I37=1,VLOOKUP(Y37,男子種目コード!$A$1:$B$33,2,FALSE),IF(I37=2,VLOOKUP(Y37,女子種目コード!$A$36:$B$66,2,FALSE))))","v":""},{"$f":"IF(Y37=\"\",\"\",HLOOKUP(Y37,#REF!,32,FALSE))","v":""},0,2,null,"",null,0,2,null,"",null,0,2,null,null,null,null,null,null,null,null,null,null,null,null,null,null,"",0,0,0,0,null,null,null,0,"","","",0]
[false,{"$f":"陸連登録!N33","v":""},false,null,{"$f":"陸連登録!M33","v":0},{"$f":"陸連登録!C33","v":0},{"$f":"陸連登録!D33","v":0},0,{"$f":"陸連登録!A33","v":""},{"$f":"陸連登録!P33","v":0},{"$f":"LEFT(陸連登録!L33,4)","v":""},{"$f":"RIGHT(陸連登録!L33,4)","v":""},{"$f":"陸連登録!F33","v":23},{"$f":"陸連登録!B33","v":0},null,"",null,0,2,null,"",null,0,2,null,{"$f":"IF(Y38=\"\",\"\",IF(I38=1,VLOOKUP(Y38,男子種目コード!$A$1:$B$33,2,FALSE),IF(I38=2,VLOOKUP(Y38,女子種目コード!$A$36:$B$66,2,FALSE))))","v":""},{"$f":"IF(Y38=\"\",\"\",HLOOKUP(Y38,#REF!,33,FALSE))","v":""},0,2,null,"",null,0,2,null,"",null,0,2,null,null,null,null,null,null,null,null,null,null,null,null,null,null,"",0,0,0,0,null,null,null,0,"","","",0]
[false,{"$f":"陸連登録!N34","v":""},false,null,{"$f":"陸連登録!M34","v":0},{"$f":"陸連登録!C34","v":0},{"$f":"陸連登録!D34","v":0},0,{"$f":"陸連登録!A34","v":""},{"$f":"陸連登録!P34","v":0},{"$f":"LEFT(陸連登録!L34,4)","v":""},{"$f":"RIGHT(陸連登録!L34,4)","v":""},{"$f":"陸連登録!F34","v":23},{"$f":"陸連登録!B34","v":0},null,{"$f":"IF(O39=\"\",\"\",IF(I39=1,VLOOKUP(O39,$AS$7:$AU$10,3,FALSE),IF(I39=2,VLOOKUP(O39,$AS$13:$AU$16,3,FALSE))))","v":""},null,0,2,null,{"$f":"IF(T39=\"\",\"\",IF(I39=1,VLOOKUP(T39,$AS$7:$AU$10,3,FALSE),IF(N39=2,VLOOKUP(I39,$AS$13:$AU$16,3,FALSE))))","v":""},null,0,2,null,{"$f":"IF(Y39=\"\",\"\",IF(I39=1,VLOOKUP(Y39,男子種目コード!$A$1:$B$33,2,FALSE),IF(I39=2,VLOOKUP(Y39,女子種目コード!$A$36:$B$66,2,FALSE))))","v":""},{"$f":"IF(Y39=\"\",\"\",HLOOKUP(Y39,#REF!,34,FALSE))","v":""},0,2,null,"",null,0,2,null,"",null,0,2,null,null,null,null,null,null,null,null,null,null,null,null,null,null,"",0,0,0,0,null,null,null,0,{"$f":"IF(I39=1,BJ39,\"\")","v":""},{"$f":"IF(I39=2,BJ39,\"\")","v":""},"",0]
[false,{"$f":"陸連登録!N35","v":""},false,null,{"$f":"陸連登録!M35","v":0},{"$f":"陸連登録!C35","v":0},{"$f":"陸連登録!D35","v":0},0,{"$f":"陸連登録!A35","v":""},{"$f":"陸連登録!P35","v":0},{"$f":"LEFT(陸連登録!L35,4)","v":""},{"$f":"RIGHT(陸連登録!L35,4)","v":""},{"$f":"陸連登録!F35","v":23},{"$f":"陸連登録!B35","v":0},null,"",null,0,2,null,"",null,0,2,null,{"$f":"IF(Y40=\"\",\"\",IF(I40=1,VLOOKUP(Y40,男子種目コード!$A$1:$B$33,2,FALSE),IF(I40=2,VLOOKUP(Y40,女子種目コード!$A$36:$B$66,2,FALSE))))","v":""},{"$f":"IF(Y40=\"\",\"\",HLOOKUP(Y40,#REF!,35,FALSE))","v":""},0,2,null,"",null,0,2,null,"",null,0,2,null,null,null,null,null,null,null,null,null,null,null,null,null,null,"",0,0,0,0,null,null,null,0,"","","",0]
[false,{"$f":"陸連登録!N36","v":""},false,null,{"$f":"陸連登録!M36","v":0},{"$f":"陸連登録!C36","v":0},{"$f":"陸連登録!D36","v":0},0,{"$f":"陸連登録!A36","v":""},{"$f":"陸連登録!P36","v":0},{"$f":"LEFT(陸連登録!L36,4)","v":""},{"$f":"RIGHT(陸連登録!L36,4)","v":""},{"$f":"陸連登録!F36","v":23},{"$f":"陸連登録!B36","v":0},null,"",null,0,2,null,"",null,0,2,null,{"$f":"IF(Y41=\"\",\"\",IF(I41=1,VLOOKUP(Y41,男子種目コード!$A$1:$B$33,2,FALSE),IF(I41=2,VLOOKUP(Y41,女子種目コード!$A$36:$B$66,2,FALSE))))","v":""},{"$f":"IF(Y41=\"\",\"\",HLOOKUP(Y41,#REF!,36,FALSE))","v":""},0,2,null,"",null,0,2,null,"",null,0,2,null,null,null,null,null,null,null,null,null,null,null,null,null,null,"",0,0,0,0,null,null,null,0,"","","",0]
[false,{"$f":"陸連登録!N37","v":""},false,null,{"$f":"陸連登録!M37","v":0},{"$f":"陸連登録!C37","v":0},{"$f":"陸連登録!D37","v":0},0,{"$f":"陸連登録!A37","v":""},{"$f":"陸連登録!P37","v":0},{"$f":"LEFT(陸連登録!L37,4)","v":""},{"$f":"RIGHT(陸連登録!L37,4)","v":""},{"$f":"陸連登録!F37","v":23},{"$f":"陸連登録!B37","v":0},null,"",null,0,2,null,"",null,0,2,null,{"$f":"IF(Y42=\"\",\"\",IF(I42=1,VLOOKUP(Y42,男子種目コード!$A$1:$B$33,2,FALSE),IF(I42=2,VLOOKUP(Y42,女子種目コード!$A$36:$B$66,2,FALSE))))","v":""},{"$f":"IF(Y42=\"\",\"\",HLOOKUP(Y42,#REF!,37,FALSE))","v":""},0,2,null,"",null,0,2,null,"",null,0,2,null,null,null,null,null,null,null,null,null,null,null,null,null,null,"",0,0,0,0,null,null,null,0,"","","",0]
[false,{"$f":"陸連登録!N38","v":""},false,null,{"$f":"陸連登録!M38","v":0},{"$f":"陸連登録!C38","v":0},{"$f":"陸連登録!D38","v":0},0,{"$f":"陸連登録!A38","v":""},{"$f":"陸連登録!P38","v":0},{"$f":"LEFT(陸連登録!L38,4)","v":""},{"$f":"RIGHT(陸連登録!L38,4)","v":""},{"$f":"陸連登録!F38","v":23},{"$f":"陸連登録!B38","v":0},null,"",null,0,2,null,"",null,0,2,null,{"$f":"IF(Y43=\"\",\"\",IF(I43=1,VLOOKUP(Y43,男子種目コード!$A$1:$B$33,2,FALSE),IF(I43=2,VLOOKUP(Y43,女子種目コード!$A$36:$B$66,2,FALSE))))","v":""},{"$f":"IF(Y43=\"\",\"\",HLOOKUP(Y43,#REF!,38,FALSE))","v":""},0,2,null,"",null,0,2,null,"",null,0,2,null,null,null,null,null,null,null,null,null,null,null,null,null,null,"",0,0,0,0,null,null,null,0,"","","",0]
[false,{"$f":"陸連登録!N39","v":""},false,null,{"$f":"陸連登録!M39","v":0},{"$f":"陸連登録!C39","v":0},{"$f":"陸連登録!D39","v":0},0,{"$f":"陸連登録!A39","v":""},{"$f":"陸連登録!P39","v":0},{"$f":"LEFT(陸連登録!L39,4)","v":""},{"$f":"RIGHT(陸連登録!L39,4)","v":""},{"$f":"陸連登録!F39","v":23},{"$f":"陸連登録!B39","v":0},null,"",null,0,2,null,"",null,0,2,null,{"$f":"IF(Y44=\"\",\"\",IF(I44=1,VLOOKUP(Y44,男子種目コード!$A$1:$B$33,2,FALSE),IF(I44=2,VLOOKUP(Y44,女子種目コード!$A$36:$B$66,2,FALSE))))","v":""},{"$f":"IF(Y44=\"\",\"\",HLOOKUP(Y44,#REF!,39,FALSE))","v":""},0,2,null,"",null,0,2,null,"",null,0,2,null,null,null,null,null,null,null,null,null,null,null,null,null,null,null,{"$f":"IF(O44=\"\",\"\",1)","v":""},{"$f":"IF(OR(BC44=1,T44=\"\"),0,1)","v":0},{"$f":"IF(OR(BC44=1,BD44=1,Y44=\"\"),0,1)","v":0},{"$f":"IF(OR(BC44=1,BD44=1,BE44=1,AD44=\"\"),0,1)","v":0},{"$f":"IF(OR(BC44=1,BD44=1,BE44=1,BF44=1,AI44=\"\"),0,1)","v":0},null,null,0,"","","",0]
[false,{"$f":"陸連登録!N40","v":""},false,null,{"$f":"陸連登録!M40","v":0},{"$f":"陸連登録!C40","v":0},{"$f":"陸連登録!D40","v":0},0,{"$f":"陸連登録!A40","v":""},{"$f":"陸連登録!P40","v":0},{"$f":"LEFT(陸連登録!L40,4)","v":""},{"$f":"RIGHT(陸連登録!L40,4)","v":""},{"$f":"陸連登録!F40","v":23},{"$f":"陸連登録!B40","v":0},null,"",null,0,2,null,"",null,0,2,null,{"$f":"IF(Y45=\"\",\"\",IF(I45=1,VLOOKUP(Y45,男子種目コード!$A$1:$B$33,2,FALSE),IF(I45=2,VLOOKUP(Y45,女子種目コード!$A$36:$B$66,2,FALSE))))","v":""},{"$f":"IF(Y45=\"\",\"\",HLOOKUP(Y45,#REF!,40,FALSE))","v":""},0,2,null,"",null,0,2,null,"",null,0,2,null,null,null,null,null,null,null,null,null,null,null,null,null,null,null,"",0,0,0,0,null,null,0,"","","",0]
[false,{"$f":"陸連登録!N41","v":""},false,null,{"$f":"陸連登録!M41","v":0},{"$f":"陸連登録!C41","v":0},{"$f":"陸連登録!D41","v":0},0,{"$f":"陸連登録!A41","v":""},{"$f":"陸連登録!P41","v":0},{"$f":"LEFT(陸連登録!L41,4)","v":""},{"$f":"RIGHT(陸連登録!L41,4)","v":""},{"$f":"陸連登録!F41","v":23},{"$f":"陸連登録!B41","v":0},null,"",null,0,2,null,"",null,0,2,null,{"$f":"IF(Y46=\"\",\"\",IF(I46=1,VLOOKUP(Y46,男子種目コード!$A$1:$B$33,2,FALSE),IF(I46=2,VLOOKUP(Y46,女子種目コード!$A$36:$B$66,2,FALSE))))","v":""},{"$f":"IF(Y46=\"\",\"\",HLOOKUP(Y46,#REF!,41,FALSE))","v":""},0,2,null,"",null,0,2,null,"",null,0,2,null,null,null,null,null,null,null,null,null,null,null,null,null,null,null,"",0,0,0,0,null,null,0,"","","",0]
[false,{"$f":"陸連登録!N42","v":""},false,null,{"$f":"陸連登録!M42","v":0},{"$f":"陸連登録!C42","v":0},{"$f":"陸連登録!D42","v":0},0,{"$f":"陸連登録!A42","v":""},{"$f":"陸連登録!P42","v":0},{"$f":"LEFT(陸連登録!L42,4)","v":""},{"$f":"RIGHT(陸連登録!L42,4)","v":""},{"$f":"陸連登録!F42","v":23},{"$f":"陸連登録!B42","v":0},null,"",null,0,2,null,"",null,0,2,null,{"$f":"IF(Y47=\"\",\"\",IF(I47=1,VLOOKUP(Y47,男子種目コード!$A$1:$B$33,2,FALSE),IF(I47=2,VLOOKUP(Y47,女子種目コード!$A$36:$B$66,2,FALSE))))","v":""},{"$f":"IF(Y47=\"\",\"\",HLOOKUP(Y47,#REF!,42,FALSE))","v":""},0,2,null,"",null,0,2,null,"",null,0,2,null,null,null,null,null,null,null,null,null,null,null,null,null,null,null,"",0,0,0,0,null,null,0,"","","",0]
[false,{"$f":"陸連登録!N43","v":""},false,null,{"$f":"陸連登録!M43","v":0},{"$f":"陸連登録!C43","v":0},{"$f":"陸連登録!D43","v":0},0,{"$f":"陸連登録!A43","v":""},{"$f":"陸連登録!P43","v":0},{"$f":"LEFT(陸連登録!L43,4)","v":""},{"$f":"RIGHT(陸連登録!L43,4)","v":""},{"$f":"陸連登録!F43","v":23},{"$f":"陸連登録!B43","v":0},null,"",null,0,2,null,"",null,0,2,null,{"$f":"IF(Y48=\"\",\"\",IF(I48=1,VLOOKUP(Y48,男子種目コード!$A$1:$B$33,2,FALSE),IF(I48=2,VLOOKUP(Y48,女子種目コード!$A$36:$B$66,2,FALSE))))","v":""},{"$f":"IF(Y48=\"\",\"\",HLOOKUP(Y48,#REF!,43,FALSE))","v":""},0,2,null,"",null,0,2,null,"",null,0,2,null,null,null,null,null,null,null,null,null,null,null,null,null,null,null,"",0,0,0,0,null,null,0,"","","",0]
[false,{"$f":"陸連登録!N44","v":""},false,null,{"$f":"陸連登録!M44","v":0},{"$f":"陸連登録!C44","v":0},{"$f":"陸連登録!D44","v":0},0,{"$f":"陸連登録!A44","v":""},{"$f":"陸連登録!P44","v":0},{"$f":"LEFT(陸連登録!L44,4)","v":""},{"$f":"RIGHT(陸連登録!L44,4)","v":""},{"$f":"陸連登録!F44","v":23},{"$f":"陸連登録!B44","v":0},null,"",null,0,2,null,"",null,0,2,null,{"$f":"IF(Y49=\"\",\"\",IF(I49=1,VLOOKUP(Y49,男子種目コード!$A$1:$B$33,2,FALSE),IF(I49=2,VLOOKUP(Y49,女子種目コード!$A$36:$B$66,2,FALSE))))","v":""},{"$f":"IF(Y49=\"\",\"\",HLOOKUP(Y49,#REF!,44,FALSE))","v":""},0,2,null,"",null,0,2,null,"",null,0,2,null,null,null,null,null,null,null,null,null,null,null,null,null,null,null,"",0,0,0,0,null,null,0,"","","",0]
[false,{"$f":"陸連登録!N45","v":""},false,null,{"$f":"陸連登録!M45","v":0},{"$f":"陸連登録!C45","v":0},{"$f":"陸連登録!D45","v":0},0,{"$f":"陸連登録!A45","v":""},{"$f":"陸連登録!P45","v":0},{"$f":"LEFT(陸連登録!L45,4)","v":""},{"$f":"RIGHT(陸連登録!L45,4)","v":""},{"$f":"陸連登録!F45","v":23},{"$f":"陸連登録!B45","v":0},null,"",null,0,2,null,"",null,0,2,null,{"$f":"IF(Y50=\"\",\"\",IF(I50=1,VLOOKUP(Y50,男子種目コード!$A$1:$B$33,2,FALSE),IF(I50=2,VLOOKUP(Y50,女子種目コード!$A$36:$B$66,2,FALSE))))","v":""},{"$f":"IF(Y50=\"\",\"\",HLOOKUP(Y50,#REF!,45,FALSE))","v":""},0,2,null,"",null,0,2,null,"",null,0,2,null,null,null,null,null,null,null,null,null,null,null,null,null,null,null,"",0,0,0,0,null,null,0,"","","",0]
[false,{"$f":"陸連登録!N46","v":""},false,null,{"$f":"陸連登録!M46","v":0},{"$f":"陸連登録!C46","v":0},{"$f":"陸連登録!D46","v":0},0,{"$f":"陸連登録!A46","v":""},{"$f":"陸連登録!P46","v":0},{"$f":"LEFT(陸連登録!L46,4)","v":""},{"$f":"RIGHT(陸連登録!L46,4)","v":""},{"$f":"陸連登録!F46","v":23},{"$f":"陸連登録!B46","v":0},null,"",null,0,2,null,"",null,0,2,null,{"$f":"IF(Y51=\"\",\"\",IF(I51=1,VLOOKUP(Y51,男子種目コード!$A$1:$B$33,2,FALSE),IF(I51=2,VLOOKUP(Y51,女子種目コード!$A$36:$B$66,2,FALSE))))","v":""},{"$f":"IF(Y51=\"\",\"\",HLOOKUP(Y51,#REF!,46,FALSE))","v":""},0,2,null,"",null,0,2,null,"",null,0,2,null,null,null,null,null,null,null,null,null,null,null,null,null,null,null,"",0,0,0,0,null,null,0,"","","",0]
[false,{"$f":"陸連登録!N47","v":""},false,null,{"$f":"陸連登録!M47","v":0},{"$f":"陸連登録!C47","v":0},{"$f":"陸連登録!D47","v":0},0,{"$f":"陸連登録!A47","v":""},{"$f":"陸連登録!P47","v":0},{"$f":"LEFT(陸連登録!L47,4)","v":""},{"$f":"RIGHT(陸連登録!L47,4)","v":""},{"$f":"陸連登録!F47","v":23},{"$f":"陸連登録!B47","v":0},null,"",null,0,2,null,"",null,0,2,null,{"$f":"IF(Y52=\"\",\"\",IF(I52=1,VLOOKUP(Y52,男子種目コード!$A$1:$B$33,2,FALSE),IF(I52=2,VLOOKUP(Y52,女子種目コード!$A$36:$B$66,2,FALSE))))","v":""},{"$f":"IF(Y52=\"\",\"\",HLOOKUP(Y52,#REF!,47,FALSE))","v":""},0,2,null,"",null,0,2,null,"",null,0,2,null,null,null,null,null,null,null,null,null,null,null,null,null,null,null,"",0,0,0,0,null,null,0,"","","",0]
[false,{"$f":"陸連登録!N48","v":""},false,null,{"$f":"陸連登録!M48","v":0},{"$f":"陸連登録!C48","v":0},{"$f":"陸連登録!D48","v":0},0,{"$f":"陸連登録!A48","v":""},{"$f":"陸連登録!P48","v":0},{"$f":"LEFT(陸連登録!L48,4)","v":""},{"$f":"RIGHT(陸連登録!L48,4)","v":""},{"$f":"陸連登録!F48","v":23},{"$f":"陸連登録!B48","v":0},null,"",null,0,2,null,"",null,0,2,null,{"$f":"IF(Y53=\"\",\"\",IF(I53=1,VLOOKUP(Y53,男子種目コード!$A$1:$B$33,2,FALSE),IF(I53=2,VLOOKUP(Y53,女子種目コード!$A$36:$B$66,2,FALSE))))","v":""},{"$f":"IF(Y53=\"\",\"\",HLOOKUP(Y53,#REF!,48,FALSE))","v":""},0,2,null,"",null,0,2,null,"",null,0,2,null,null,null,null,null,null,null,null,null,null,null,null,null,null,null,"",0,0,0,0,null,null,0,"","","",0]
[false,{"$f":"陸連登録!N49","v":""},false,null,{"$f":"陸連登録!M49","v":0},{"$f":"陸連登録!C49","v":0},{"$f":"陸連登録!D49","v":0},0,{"$f":"陸連登録!A49","v":""},{"$f":"陸連登録!P49","v":0},{"$f":"LEFT(陸連登録!L49,4)","v":""},{"$f":"RIGHT(陸連登録!L49,4)","v":""},{"$f":"陸連登録!F49","v":23},{"$f":"陸連登録!B49","v":0},null,"",null,0,2,null,"",null,0,2,null,{"$f":"IF(Y54=\"\",\"\",IF(I54=1,VLOOKUP(Y54,男子種目コード!$A$1:$B$33,2,FALSE),IF(I54=2,VLOOKUP(Y54,女子種目コード!$A$36:$B$66,2,FALSE))))","v":""},{"$f":"IF(Y54=\"\",\"\",HLOOKUP(Y54,#REF!,49,FALSE))","v":""},0,2,null,"",null,0,2,null,"",null,0,2,null,null,null,null,null,null,null,null,null,null,null,null,null,null,null,"",0,0,0,0,null,null,0,"","","",0]
[false,{"$f":"陸連登録!N50","v":""},false,null,{"$f":"陸連登録!M50","v":0},{"$f":"陸連登録!C50","v":0},{"$f":"陸連登録!D50","v":0},0,{"$f":"陸連登録!A50","v":""},{"$f":"陸連登録!P50","v":0},{"$f":"LEFT(陸連登録!L50,4)","v":""},{"$f":"RIGHT(陸連登録!L50,4)","v":""},{"$f":"陸連登録!F50","v":23},{"$f":"陸連登録!B50","v":0},null,"",null,0,2,null,"",null,0,2,null,{"$f":"IF(Y55=\"\",\"\",IF(I55=1,VLOOKUP(Y55,男子種目コード!$A$1:$B$33,2,FALSE),IF(I55=2,VLOOKUP(Y55,女子種目コード!$A$36:$B$66,2,FALSE))))","v":""},{"$f":"IF(Y55=\"\",\"\",HLOOKUP(Y55,#REF!,50,FALSE))","v":""},0,2,null,"",null,0,2,null,"",null,0,2,null,null,null,null,null,null,null,null,null,null,null,null,null,null,null,"",0,0,0,0,null,null,0,"","","",0]
[false,{"$f":"陸連登録!N51","v":""},false,null,{"$f":"陸連登録!M51","v":0},{"$f":"陸連登録!C51","v":0},{"$f":"陸連登録!D51","v":0},0,{"$f":"陸連登録!A51","v":""},{"$f":"陸連登録!P51","v":0},{"$f":"LEFT(陸連登録!L51,4)","v":""},{"$f":"RIGHT(陸連登録!L51,4)","v":""},{"$f":"陸連登録!F51","v":23},{"$f":"陸連登録!B51","v":0},null,"",null,0,2,null,"",null,0,2,null,{"$f":"IF(Y56=\"\",\"\",IF(I56=1,VLOOKUP(Y56,男子種目コード!$A$1:$B$33,2,FALSE),IF(I56=2,VLOOKUP(Y56,女子種目コード!$A$36:$B$66,2,FALSE))))","v":""},{"$f":"IF(Y56=\"\",\"\",HLOOKUP(Y56,#REF!,51,FALSE))","v":""},0,2,null,"",null,0,2,null,"",null,0,2,null,null,null,null,null,null,null,null,null,null,null,null,null,null,null,"",0,0,0,0,null,null,0,"","","",0]
[false,{"$f":"陸連登録!N52","v":""},false,null,{"$f":"陸連登録!M52","v":0},{"$f":"陸連登録!C52","v":0},{"$f":"陸連登録!D52","v":0},0,{"$f":"陸連登録!A52","v":""},{"$f":"陸連登録!P52","v":0},{"$f":"LEFT(陸連登録!L52,4)","v":""},{"$f":"RIGHT(陸連登録!L52,4)","v":""},{"$f":"陸連登録!F52","v":23},{"$f":"陸連登録!B52","v":0},null,"",null,0,2,null,"",null,0,2,null,{"$f":"IF(Y57=\"\",\"\",IF(I57=1,VLOOKUP(Y57,男子種目コード!$A$1:$B$33,2,FALSE),IF(I57=2,VLOOKUP(Y57,女子種目コード!$A$36:$B$66,2,FALSE))))","v":""},{"$f":"IF(Y57=\"\",\"\",HLOOKUP(Y57,#REF!,52,FALSE))","v":""},0,2,null,"",null,0,2,null,"",null,0,2,null,null,null,null,null,null,null,null,null,null,null,null,null,null,null,"",0,0,0,0,null,null,0,"","","",0]
[false,{"$f":"陸連登録!N53","v":""},false,null,{"$f":"陸連登録!M53","v":0},{"$f":"陸連登録!C53","v":0},{"$f":"陸連登録!D53","v":0},0,{"$f":"陸連登録!A53","v":""},{"$f":"陸連登録!P53","v":0},{"$f":"LEFT(陸連登録!L53,4)","v":""},{"$f":"RIGHT(陸連登録!L53,4)","v":""},{"$f":"陸連登録!F53","v":23},{"$f":"陸連登録!B53","v":0},null,"",null,0,2,null,"",null,0,2,null,{"$f":"IF(Y58=\"\",\"\",IF(I58=1,VLOOKUP(Y58,男子種目コード!$A$1:$B$33,2,FALSE),IF(I58=2,VLOOKUP(Y58,女子種目コード!$A$36:$B$66,2,FALSE))))","v":""},{"$f":"IF(Y58=\"\",\"\",HLOOKUP(Y58,#REF!,53,FALSE))","v":""},0,2,null,"",null,0,2,null,"",null,0,2,null,null,null,null,null,null,null,null,null,null,null,null,null,null,null,"",0,0,0,0,null,null,0,"","","",0]
[false,{"$f":"陸連登録!N54","v":""},false,null,{"$f":"陸連登録!M54","v":0},{"$f":"陸連登録!C54","v":0},{"$f":"陸連登録!D54","v":0},0,{"$f":"陸連登録!A54","v":""},{"$f":"陸連登録!P54","v":0},{"$f":"LEFT(陸連登録!L54,4)","v":""},{"$f":"RIGHT(陸連登録!L54,4)","v":""},{"$f":"陸連登録!F54","v":23},{"$f":"陸連登録!B54","v":0},null,"",null,0,2,null,"",null,0,2,null,{"$f":"IF(Y59=\"\",\"\",IF(I59=1,VLOOKUP(Y59,男子種目コード!$A$1:$B$33,2,FALSE),IF(I59=2,VLOOKUP(Y59,女子種目コード!$A$36:$B$66,2,FALSE))))","v":""},{"$f":"IF(Y59=\"\",\"\",HLOOKUP(Y59,#REF!,54,FALSE))","v":""},0,2,null,"",null,0,2,null,"",null,0,2,null,null,null,null,null,null,null,null,null,null,null,null,null,null,null,"",0,0,0,0,null,null,0,"","","",0]
[false,{"$f":"陸連登録!N55","v":""},false,null,{"$f":"陸連登録!M55","v":0},{"$f":"陸連登録!C55","v":0},{"$f":"陸連登録!D55","v":0},0,{"$f":"陸連登録!A55","v":""},{"$f":"陸連登録!P55","v":0},{"$f":"LEFT(陸連登録!L55,4)","v":""},{"$f":"RIGHT(陸連登録!L55,4)","v":""},{"$f":"陸連登録!F55","v":23},{"$f":"陸連登録!B55","v":0},null,"",null,0,2,null,"",null,0,2,null,{"$f":"IF(Y60=\"\",\"\",IF(I60=1,VLOOKUP(Y60,男子種目コード!$A$1:$B$33,2,FALSE),IF(I60=2,VLOOKUP(Y60,女子種目コード!$A$36:$B$66,2,FALSE))))","v":""},{"$f":"IF(Y60=\"\",\"\",HLOOKUP(Y60,#REF!,55,FALSE))","v":""},0,2,null,"",null,0,2,null,"",null,0,2,null,null,null,null,null,null,null,null,null,null,null,null,null,null,null,"",0,0,0,0,null,null,0,"","","",0]
[false,{"$f":"陸連登録!N56","v":""},false,null,{"$f":"陸連登録!M56","v":0},{"$f":"陸連登録!C56","v":0},{"$f":"陸連登録!D56","v":0},0,{"$f":"陸連登録!A56","v":""},{"$f":"陸連登録!P56","v":0},{"$f":"LEFT(陸連登録!L56,4)","v":""},{"$f":"RIGHT(陸連登録!L56,4)","v":""},{"$f":"陸連登録!F56","v":23},{"$f":"陸連登録!B56","v":0},null,"",null,0,2,null,"",null,0,2,null,{"$f":"IF(Y61=\"\",\"\",IF(I61=1,VLOOKUP(Y61,男子種目コード!$A$1:$B$33,2,FALSE),IF(I61=2,VLOOKUP(Y61,女子種目コード!$A$36:$B$66,2,FALSE))))","v":""},{"$f":"IF(Y61=\"\",\"\",HLOOKUP(Y61,#REF!,56,FALSE))","v":""},0,2,null,"",null,0,2,null,"",null,0,2,null,null,null,null,null,null,null,null,null,null,null,null,null,null,null,"",0,0,0,0,null,null,0,"","","",0]
[false,{"$f":"陸連登録!N57","v":""},false,null,{"$f":"陸連登録!M57","v":0},{"$f":"陸連登録!C57","v":0},{"$f":"陸連登録!D57","v":0},0,{"$f":"陸連登録!A57","v":""},{"$f":"陸連登録!P57","v":0},{"$f":"LEFT(陸連登録!L57,4)","v":""},{"$f":"RIGHT(陸連登録!L57,4)","v":""},{"$f":"陸連登録!F57","v":23},{"$f":"陸連登録!B57","v":0},null,"",null,0,2,null,"",null,0,2,null,{"$f":"IF(Y62=\"\",\"\",IF(I62=1,VLOOKUP(Y62,男子種目コード!$A$1:$B$33,2,FALSE),IF(I62=2,VLOOKUP(Y62,女子種目コード!$A$36:$B$66,2,FALSE))))","v":""},{"$f":"IF(Y62=\"\",\"\",HLOOKUP(Y62,#REF!,57,FALSE))","v":""},0,2,null,"",null,0,2,null,"",null,0,2,null,null,null,null,null,null,null,null,null,null,null,null,null,null,null,"",0,0,0,0,null,null,0,"","","",0]
[false,{"$f":"陸連登録!N58","v":""},false,null,{"$f":"陸連登録!M58","v":0},{"$f":"陸連登録!C58","v":0},{"$f":"陸連登録!D58","v":0},0,{"$f":"陸連登録!A58","v":""},{"$f":"陸連登録!P58","v":0},{"$f":"LEFT(陸連登録!L58,4)","v":""},{"$f":"RIGHT(陸連登録!L58,4)","v":""},{"$f":"陸連登録!F58","v":23},{"$f":"陸連登録!B58","v":0},null,"",null,0,2,null,"",null,0,2,null,{"$f":"IF(Y63=\"\",\"\",IF(I63=1,VLOOKUP(Y63,男子種目コード!$A$1:$B$33,2,FALSE),IF(I63=2,VLOOKUP(Y63,女子種目コード!$A$36:$B$66,2,FALSE))))","v":""},{"$f":"IF(Y63=\"\",\"\",HLOOKUP(Y63,#REF!,58,FALSE))","v":""},0,2,null,"",null,0,2,null,"",null,0,2,null,null,null,null,null,null,null,null,null,null,null,null,null,null,null,"",0,0,0,0,null,null,0,"","","",0]
[false,{"$f":"陸連登録!N59","v":""},false,null,{"$f":"陸連登録!M59","v":0},{"$f":"陸連登録!C59","v":0},{"$f":"陸連登録!D59","v":0},0,{"$f":"陸連登録!A59","v":""},{"$f":"陸連登録!P59","v":0},{"$f":"LEFT(陸連登録!L59,4)","v":""},{"$f":"RIGHT(陸連登録!L59,4)","v":""},{"$f":"陸連登録!F59","v":23},{"$f":"陸連登録!B59","v":0},null,"",null,0,2,null,"",null,0,2,null,{"$f":"IF(Y64=\"\",\"\",IF(I64=1,VLOOKUP(Y64,男子種目コード!$A$1:$B$33,2,FALSE),IF(I64=2,VLOOKUP(Y64,女子種目コード!$A$36:$B$66,2,FALSE))))","v":""},{"$f":"IF(Y64=\"\",\"\",HLOOKUP(Y64,#REF!,59,FALSE))","v":""},0,2,null,"",null,0,2,null,"",null,0,2,null,null,null,null,null,null,null,null,null,null,null,null,null,null,null,"",0,0,0,0,null,null,0,"","","",0]
[false,{"$f":"陸連登録!N60","v":""},false,null,{"$f":"陸連登録!M60","v":0},{"$f":"陸連登録!C60","v":0},{"$f":"陸連登録!D60","v":0},0,{"$f":"陸連登録!A60","v":""},{"$f":"陸連登録!P60","v":0},{"$f":"LEFT(陸連登録!L60,4)","v":""},{"$f":"RIGHT(陸連登録!L60,4)","v":""},{"$f":"陸連登録!F60","v":23},{"$f":"陸連登録!B60","v":0},null,"",null,0,2,null,"",null,0,2,null,{"$f":"IF(Y65=\"\",\"\",IF(I65=1,VLOOKUP(Y65,男子種目コード!$A$1:$B$33,2,FALSE),IF(I65=2,VLOOKUP(Y65,女子種目コード!$A$36:$B$66,2,FALSE))))","v":""},{"$f":"IF(Y65=\"\",\"\",HLOOKUP(Y65,#REF!,60,FALSE))","v":""},0,2,null,"",null,0,2,null,"",null,0,2,null,null,null,null,null,null,null,null,null,null,null,null,null,null,null,"",0,0,0,0,null,null,0,"","","",0]
[false,{"$f":"陸連登録!N61","v":""},false,null,{"$f":"陸連登録!M61","v":0},{"$f":"陸連登録!C61","v":0},{"$f":"陸連登録!D61","v":0},0,{"$f":"陸連登録!A61","v":""},{"$f":"陸連登録!P61","v":0},{"$f":"LEFT(陸連登録!L61,4)","v":""},{"$f":"RIGHT(陸連登録!L61,4)","v":""},{"$f":"陸連登録!F61","v":23},{"$f":"陸連登録!B61","v":0},null,"",null,0,2,null,"",null,0,2,null,{"$f":"IF(Y66=\"\",\"\",IF(I66=1,VLOOKUP(Y66,男子種目コード!$A$1:$B$33,2,FALSE),IF(I66=2,VLOOKUP(Y66,女子種目コード!$A$36:$B$66,2,FALSE))))","v":""},{"$f":"IF(Y66=\"\",\"\",HLOOKUP(Y66,#REF!,61,FALSE))","v":""},0,2,null,"",null,0,2,null,"",null,0,2,null,null,null,null,null,null,null,null,null,null,null,null,null,null,null,"",0,0,0,0,null,null,0,"","","",0]
[false,{"$f":"陸連登録!N62","v":""},false,null,{"$f":"陸連登録!M62","v":0},{"$f":"陸連登録!C62","v":0},{"$f":"陸連登録!D62","v":0},0,{"$f":"陸連登録!A62","v":""},{"$f":"陸連登録!P62","v":0},{"$f":"LEFT(陸連登録!L62,4)","v":""},{"$f":"RIGHT(陸連登録!L62,4)","v":""},{"$f":"陸連登録!F62","v":23},{"$f":"陸連登録!B62","v":0},null,"",null,0,2,null,"",null,0,2,null,{"$f":"IF(Y67=\"\",\"\",IF(I67=1,VLOOKUP(Y67,男子種目コード!$A$1:$B$33,2,FALSE),IF(I67=2,VLOOKUP(Y67,女子種目コード!$A$36:$B$66,2,FALSE))))","v":""},{"$f":"IF(Y67=\"\",\"\",HLOOKUP(Y67,#REF!,62,FALSE))","v":""},0,2,null,"",null,0,2,null,"",null,0,2,null,null,null,null,null,null,null,null,null,null,null,null,null,null,null,"",0,0,0,0,null,null,0,"","","",0]
[false,{"$f":"陸連登録!N63","v":""},false,null,{"$f":"陸連登録!M63","v":0},{"$f":"陸連登録!C63","v":0},{"$f":"陸連登録!D63","v":0},0,{"$f":"陸連登録!A63","v":""},{"$f":"陸連登録!P63","v":0},{"$f":"LEFT(陸連登録!L63,4)","v":""},{"$f":"RIGHT(陸連登録!L63,4)","v":""},{"$f":"陸連登録!F63","v":23},{"$f":"陸連登録!B63","v":0},null,"",null,0,2,null,"",null,0,2,null,{"$f":"IF(Y68=\"\",\"\",IF(I68=1,VLOOKUP(Y68,男子種目コード!$A$1:$B$33,2,FALSE),IF(I68=2,VLOOKUP(Y68,女子種目コード!$A$36:$B$66,2,FALSE))))","v":""},{"$f":"IF(Y68=\"\",\"\",HLOOKUP(Y68,#REF!,63,FALSE))","v":""},0,2,null,"",null,0,2,null,"",null,0,2,null,null,null,null,null,null,null,null,null,null,null,null,null,null,null,"",0,0,0,0,null,null,0,"","","",0]
[false,{"$f":"陸連登録!N64","v":""},false,null,{"$f":"陸連登録!M64","v":0},{"$f":"陸連登録!C64","v":0},{"$f":"陸連登録!D64","v":0},0,{"$f":"陸連登録!A64","v":""},{"$f":"陸連登録!P64","v":0},{"$f":"LEFT(陸連登録!L64,4)","v":""},{"$f":"RIGHT(陸連登録!L64,4)","v":""},{"$f":"陸連登録!F64","v":23},{"$f":"陸連登録!B64","v":0},null,"",null,0,2,null,"",null,0,2,null,{"$f":"IF(Y69=\"\",\"\",IF(I69=1,VLOOKUP(Y69,男子種目コード!$A$1:$B$33,2,FALSE),IF(I69=2,VLOOKUP(Y69,女子種目コード!$A$36:$B$66,2,FALSE))))","v":""},{"$f":"IF(Y69=\"\",\"\",HLOOKUP(Y69,#REF!,64,FALSE))","v":""},0,2,null,"",null,0,2,null,"",null,0,2,null,null,null,null,null,null,null,null,null,null,null,null,null,null,null,"",0,0,0,0,null,null,0,"","","",0]
[false,{"$f":"陸連登録!N65","v":""},false,null,{"$f":"陸連登録!M65","v":0},{"$f":"陸連登録!C65","v":0},{"$f":"陸連登録!D65","v":0},0,{"$f":"陸連登録!A65","v":""},{"$f":"陸連登録!P65","v":0},{"$f":"LEFT(陸連登録!L65,4)","v":""},{"$f":"RIGHT(陸連登録!L65,4)","v":""},{"$f":"陸連登録!F65","v":23},{"$f":"陸連登録!B65","v":0},null,"",null,0,2,null,"",null,0,2,null,{"$f":"IF(Y70=\"\",\"\",IF(I70=1,VLOOKUP(Y70,男子種目コード!$A$1:$B$33,2,FALSE),IF(I70=2,VLOOKUP(Y70,女子種目コード!$A$36:$B$66,2,FALSE))))","v":""},{"$f":"IF(Y70=\"\",\"\",HLOOKUP(Y70,#REF!,65,FALSE))","v":""},0,2,null,"",null,0,2,null,"",null,0,2,null,null,null,null,null,null,null,null,null,null,null,null,null,null,null,"",0,0,0,0,null,null,0,"","","",0]
[false,{"$f":"陸連登録!N66","v":""},false,null,{"$f":"陸連登録!M66","v":0},{"$f":"陸連登録!C66","v":0},{"$f":"陸連登録!D66","v":0},0,{"$f":"陸連登録!A66","v":""},{"$f":"陸連登録!P66","v":0},{"$f":"LEFT(陸連登録!L66,4)","v":""},{"$f":"RIGHT(陸連登録!L66,4)","v":""},{"$f":"陸連登録!F66","v":23},{"$f":"陸連登録!B66","v":0},null,{"$f":"IF(O71=\"\",\"\",IF(I71=1,VLOOKUP(O71,$AS$7:$AU$10,3,FALSE),IF(I71=2,VLOOKUP(O71,$AS$13:$AU$16,3,FALSE))))","v":""},null,0,2,null,{"$f":"IF(T71=\"\",\"\",IF(I71=1,VLOOKUP(T71,$AS$7:$AU$10,3,FALSE),IF(N71=2,VLOOKUP(I71,$AS$13:$AU$16,3,FALSE))))","v":""},null,0,2,null,{"$f":"IF(Y71=\"\",\"\",IF(I71=1,VLOOKUP(Y71,男子種目コード!$A$1:$B$33,2,FALSE),IF(I71=2,VLOOKUP(Y71,女子種目コード!$A$36:$B$66,2,FALSE))))","v":""},{"$f":"IF(Y71=\"\",\"\",HLOOKUP(Y71,#REF!,66,FALSE))","v":""},0,2,null,"",null,0,2,null,"",null,0,2,null,null,null,null,null,null,null,null,null,null,null,null,null,null,null,"",0,0,0,0,null,null,0,{"$f":"IF(I71=1,BJ71,\"\")","v":""},{"$f":"IF(I71=2,BJ71,\"\")","v":""},"",0]
[{"$f":"IF(I72=1,IF(AD72=\"男子\",1),IF(AD72=\"女子\",2))","v":false},{"$f":"陸連登録!N67","v":""},{"$f":"IF(AI72=$AW$24,1)","v":false},null,{"$f":"陸連登録!M67","v":0},{"$f":"陸連登録!C67","v":0},{"$f":"陸連登録!D67","v":0},{"$f":"F72","v":0},{"$f":"陸連登録!A67","v":""},{"$f":"陸連登録!P67","v":0},{"$f":"LEFT(陸連登録!L67,4)","v":""},{"$f":"RIGHT(陸連登録!L67,4)","v":""},{"$f":"陸連登録!F67","v":23},{"$f":"陸連登録!B67","v":0},null,"",null,0,2,null,"",null,0,2,null,{"$f":"IF(Y72=\"\",\"\",IF(I72=1,VLOOKUP(Y72,男子種目コード!$A$1:$B$33,2,FALSE),IF(I72=2,VLOOKUP(Y72,女子種目コード!$A$36:$B$66,2,FALSE))))","v":""},{"$f":"IF(Y72=\"\",\"\",HLOOKUP(Y72,#REF!,67,FALSE))","v":""},0,2,null,"",null,0,2,null,{"$f":"IF(AI72=$AW$24,27,\"\")","v":""},null,0,2,null,null,null,null,null,null,null,null,null,null,null,null,null,null,null,"",0,0,0,0,null,null,{"$f":"COUNT(P72,U72,Z72,AE72,AJ72)","v":0},"","",{"$f":"IF(O72=\"\",\"\",1)","v":""},{"$f":"IF(OR(BM72=1,T72=\"\"),0,1)","v":0}]
[false,{"$f":"陸連登録!N68","v":""},false,null,{"$f":"陸連登録!M68","v":0},{"$f":"陸連登録!C68","v":0},{"$f":"陸連登録!D68","v":0},0,{"$f":"陸連登録!A68","v":""},{"$f":"陸連登録!P68","v":0},{"$f":"LEFT(陸連登録!L68,4)","v":""},{"$f":"RIGHT(陸連登録!L68,4)","v":""},{"$f":"陸連登録!F68","v":23},{"$f":"陸連登録!B68","v":0},null,"",null,0,2,null,"",null,0,2,null,{"$f":"IF(Y73=\"\",\"\",IF(I73=1,VLOOKUP(Y73,男子種目コード!$A$1:$B$33,2,FALSE),IF(I73=2,VLOOKUP(Y73,女子種目コード!$A$36:$B$66,2,FALSE))))","v":""},{"$f":"IF(Y73=\"\",\"\",HLOOKUP(Y73,#REF!,68,FALSE))","v":""},0,2,null,{"$f":"IF(AD73=\"\",\"\",IF(AD73=\"男子\",10,26))","v":""},null,0,2,null,"",null,0,2,null,null,null,null,null,null,null,null,null,null,null,null,null,null,null,"",0,0,0,0,null,null,0,"","","",0]
[false,{"$f":"陸連登録!N69","v":""},false,null,{"$f":"陸連登録!M69","v":0},{"$f":"陸連登録!C69","v":0},{"$f":"陸連登録!D69","v":0},0,{"$f":"陸連登録!A69","v":""},{"$f":"陸連登録!P69","v":0},{"$f":"LEFT(陸連登録!L69,4)","v":""},{"$f":"RIGHT(陸連登録!L69,4)","v":""},{"$f":"陸連登録!F69","v":23},{"$f":"陸連登録!B69","v":0},null,"",null,0,2,null,"",null,0,2,null,{"$f":"IF(Y74=\"\",\"\",IF(I74=1,VLOOKUP(Y74,男子種目コード!$A$1:$B$33,2,FALSE),IF(I74=2,VLOOKUP(Y74,女子種目コード!$A$36:$B$66,2,FALSE))))","v":""},{"$f":"IF(Y74=\"\",\"\",HLOOKUP(Y74,#REF!,69,FALSE))","v":""},0,2,null,"",null,0,2,null,"",null,0,2,null,null,null,null,null,null,null,null,null,null,null,null,null,null,null,"",0,0,0,0,null,null,0,"","","",0]
[false,{"$f":"陸連登録!N70","v":""},false,null,{"$f":"陸連登録!M70","v":0},{"$f":"陸連登録!C70","v":0},{"$f":"陸連登録!D70","v":0},0,{"$f":"陸連登録!A70","v":""},{"$f":"陸連登録!P70","v":0},{"$f":"LEFT(陸連登録!L70,4)","v":""},{"$f":"RIGHT(陸連登録!L70,4)","v":""},{"$f":"陸連登録!F70","v":23},{"$f":"陸連登録!B70","v":0},null,"",null,0,2,null,"",null,0,2,null,{"$f":"IF(Y75=\"\",\"\",IF(I75=1,VLOOKUP(Y75,男子種目コード!$A$1:$B$33,2,FALSE),IF(I75=2,VLOOKUP(Y75,女子種目コード!$A$36:$B$66,2,FALSE))))","v":""},{"$f":"IF(Y75=\"\",\"\",HLOOKUP(Y75,#REF!,70,FALSE))","v":""},0,2,null,"",null,0,2,null,"",null,0,2,null,null,null,null,null,null,null,null,null,null,null,null,null,null,null,"",0,0,0,0,null,null,0,"","","",0]
[false,{"$f":"陸連登録!N71","v":""},false,null,{"$f":"陸連登録!M71","v":0},{"$f":"陸連登録!C71","v":0},{"$f":"陸連登録!D71","v":0},0,{"$f":"陸連登録!A71","v":""},{"$f":"陸連登録!P71","v":0},{"$f":"LEFT(陸連登録!L71,4)","v":""},{"$f":"RIGHT(陸連登録!L71,4)","v":""},{"$f":"陸連登録!F71","v":23},{"$f":"陸連登録!B71","v":0},null,"",null,0,2,null,"",null,0,2,null,{"$f":"IF(Y76=\"\",\"\",IF(I76=1,VLOOKUP(Y76,男子種目コード!$A$1:$B$33,2,FALSE),IF(I76=2,VLOOKUP(Y76,女子種目コード!$A$36:$B$66,2,FALSE))))","v":""},{"$f":"IF(Y76=\"\",\"\",HLOOKUP(Y76,#REF!,71,FALSE))","v":""},0,2,null,"",null,0,2,null,"",null,0,2,null,null,null,null,null,null,null,null,null,null,null,null,null,null,null,"",0,0,0,0,null,null,0,"","","",0]
[false,{"$f":"陸連登録!N72","v":""},false,null,{"$f":"陸連登録!M72","v":0},{"$f":"陸連登録!C72","v":0},{"$f":"陸連登録!D72","v":0},0,{"$f":"陸連登録!A72","v":""},{"$f":"陸連登録!P72","v":0},{"$f":"LEFT(陸連登録!L72,4)","v":""},{"$f":"RIGHT(陸連登録!L72,4)","v":""},{"$f":"陸連登録!F72","v":23},{"$f":"陸連登録!B72","v":0},null,"",null,0,2,null,"",null,0,2,null,{"$f":"IF(Y77=\"\",\"\",IF(I77=1,VLOOKUP(Y77,男子種目コード!$A$1:$B$33,2,FALSE),IF(I77=2,VLOOKUP(Y77,女子種目コード!$A$36:$B$66,2,FALSE))))","v":""},{"$f":"IF(Y77=\"\",\"\",HLOOKUP(Y77,#REF!,72,FALSE))","v":""},0,2,null,"",null,0,2,null,"",null,0,2,null,null,null,null,null,null,null,null,null,null,null,null,null,null,null,"",0,0,0,0,null,null,0,"","","",0]
[false,{"$f":"陸連登録!N73","v":""},false,null,{"$f":"陸連登録!M73","v":0},{"$f":"陸連登録!C73","v":0},{"$f":"陸連登録!D73","v":0},0,{"$f":"陸連登録!A73","v":""},{"$f":"陸連登録!P73","v":0},{"$f":"LEFT(陸連登録!L73,4)","v":""},{"$f":"RIGHT(陸連登録!L73,4)","v":""},{"$f":"陸連登録!F73","v":23},{"$f":"陸連登録!B73","v":0},null,"",null,0,2,null,"",null,0,2,null,{"$f":"IF(Y78=\"\",\"\",IF(I78=1,VLOOKUP(Y78,男子種目コード!$A$1:$B$33,2,FALSE),IF(I78=2,VLOOKUP(Y78,女子種目コード!$A$36:$B$66,2,FALSE))))","v":""},{"$f":"IF(Y78=\"\",\"\",HLOOKUP(Y78,#REF!,73,FALSE))","v":""},0,2,null,"",null,0,2,null,"",null,0,2,null,null,null,null,null,null,null,null,null,null,null,null,null,null,null,"",0,0,0,0,null,null,0,"","","",0]
[false,{"$f":"陸連登録!N74","v":""},false,null,{"$f":"陸連登録!M74","v":0},{"$f":"陸連登録!C74","v":0},{"$f":"陸連登録!D74","v":0},0,{"$f":"陸連登録!A74","v":""},{"$f":"陸連登録!P74","v":0},{"$f":"LEFT(陸連登録!L74,4)","v":""},{"$f":"RIGHT(陸連登録!L74,4)","v":""},{"$f":"陸連登録!F74","v":23},{"$f":"陸連登録!B74","v":0},null,"",null,0,2,null,"",null,0,2,null,{"$f":"IF(Y79=\"\",\"\",IF(I79=1,VLOOKUP(Y79,男子種目コード!$A$1:$B$33,2,FALSE),IF(I79=2,VLOOKUP(Y79,女子種目コード!$A$36:$B$66,2,FALSE))))","v":""},{"$f":"IF(Y79=\"\",\"\",HLOOKUP(Y79,#REF!,74,FALSE))","v":""},0,2,null,"",null,0,2,null,"",null,0,2,null,null,null,null,null,null,null,null,null,null,null,null,null,null,null,"",0,0,0,0,null,null,0,"","","",0]
[false,{"$f":"陸連登録!N75","v":""},false,null,{"$f":"陸連登録!M75","v":0},{"$f":"陸連登録!C75","v":0},{"$f":"陸連登録!D75","v":0},0,{"$f":"陸連登録!A75","v":""},{"$f":"陸連登録!P75","v":0},{"$f":"LEFT(陸連登録!L75,4)","v":""},{"$f":"RIGHT(陸連登録!L75,4)","v":""},{"$f":"陸連登録!F75","v":23},{"$f":"陸連登録!B75","v":0},null,"",null,0,2,null,"",null,0,2,null,{"$f":"IF(Y80=\"\",\"\",IF(I80=1,VLOOKUP(Y80,男子種目コード!$A$1:$B$33,2,FALSE),IF(I80=2,VLOOKUP(Y80,女子種目コード!$A$36:$B$66,2,FALSE))))","v":""},{"$f":"IF(Y80=\"\",\"\",HLOOKUP(Y80,#REF!,75,FALSE))","v":""},0,2,null,"",null,0,2,null,"",null,0,2,null,null,null,null,null,null,null,null,null,null,null,null,null,null,null,"",0,0,0,0,null,null,0,"","","",0]
[false,{"$f":"陸連登録!N76","v":""},false,null,{"$f":"陸連登録!M76","v":0},{"$f":"陸連登録!C76","v":0},{"$f":"陸連登録!D76","v":0},0,{"$f":"陸連登録!A76","v":""},{"$f":"陸連登録!P76","v":0},{"$f":"LEFT(陸連登録!L76,4)","v":""},{"$f":"RIGHT(陸連登録!L76,4)","v":""},{"$f":"陸連登録!F76","v":23},{"$f":"陸連登録!B76","v":0},null,"",null,0,2,null,"",null,0,2,null,{"$f":"IF(Y81=\"\",\"\",IF(I81=1,VLOOKUP(Y81,男子種目コード!$A$1:$B$33,2,FALSE),IF(I81=2,VLOOKUP(Y81,女子種目コード!$A$36:$B$66,2,FALSE))))","v":""},{"$f":"IF(Y81=\"\",\"\",HLOOKUP(Y81,#REF!,76,FALSE))","v":""},0,2,null,"",null,0,2,null,"",null,0,2,null,null,null,null,null,null,null,null,null,null,null,null,null,null,null,"",0,0,0,0,null,null,0,"","","",0]
[false,{"$f":"陸連登録!N77","v":""},false,null,{"$f":"陸連登録!M77","v":0},{"$f":"陸連登録!C77","v":0},{"$f":"陸連登録!D77","v":0},0,{"$f":"陸連登録!A77","v":""},{"$f":"陸連登録!P77","v":0},{"$f":"LEFT(陸連登録!L77,4)","v":""},{"$f":"RIGHT(陸連登録!L77,4)","v":""},{"$f":"陸連登録!F77","v":23},{"$f":"陸連登録!B77","v":0},null,"",null,0,2,null,"",null,0,2,null,{"$f":"IF(Y82=\"\",\"\",IF(I82=1,VLOOKUP(Y82,男子種目コード!$A$1:$B$33,2,FALSE),IF(I82=2,VLOOKUP(Y82,女子種目コード!$A$36:$B$66,2,FALSE))))","v":""},{"$f":"IF(Y82=\"\",\"\",HLOOKUP(Y82,#REF!,77,FALSE))","v":""},0,2,null,"",null,0,2,null,"",null,0,2,null,null,null,null,null,null,null,null,null,null,null,null,null,null,null,"",0,0,0,0,null,null,0,"","","",0]
[false,{"$f":"陸連登録!N78","v":""},false,null,{"$f":"陸連登録!M78","v":0},{"$f":"陸連登録!C78","v":0},{"$f":"陸連登録!D78","v":0},0,{"$f":"陸連登録!A78","v":""},{"$f":"陸連登録!P78","v":0},{"$f":"LEFT(陸連登録!L78,4)","v":""},{"$f":"RIGHT(陸連登録!L78,4)","v":""},{"$f":"陸連登録!F78","v":23},{"$f":"陸連登録!B78","v":0},null,"",null,0,2,null,"",null,0,2,null,{"$f":"IF(Y83=\"\",\"\",IF(I83=1,VLOOKUP(Y83,男子種目コード!$A$1:$B$33,2,FALSE),IF(I83=2,VLOOKUP(Y83,女子種目コード!$A$36:$B$66,2,FALSE))))","v":""},{"$f":"IF(Y83=\"\",\"\",HLOOKUP(Y83,#REF!,78,FALSE))","v":""},0,2,null,"",null,0,2,null,"",null,0,2,null,null,null,null,null,null,null,null,null,null,null,null,null,null,null,"",0,0,0,0,null,null,0,"","","",0]
[false,{"$f":"陸連登録!N79","v":""},false,null,{"$f":"陸連登録!M79","v":0},{"$f":"陸連登録!C79","v":0},{"$f":"陸連登録!D79","v":0},0,{"$f":"陸連登録!A79","v":""},{"$f":"陸連登録!P79","v":0},{"$f":"LEFT(陸連登録!L79,4)","v":""},{"$f":"RIGHT(陸連登録!L79,4)","v":""},{"$f":"陸連登録!F79","v":23},{"$f":"陸連登録!B79","v":0},null,"",null,0,2,null,"",null,0,2,null,{"$f":"IF(Y84=\"\",\"\",IF(I84=1,VLOOKUP(Y84,男子種目コード!$A$1:$B$33,2,FALSE),IF(I84=2,VLOOKUP(Y84,女子種目コード!$A$36:$B$66,2,FALSE))))","v":""},{"$f":"IF(Y84=\"\",\"\",HLOOKUP(Y84,#REF!,79,FALSE))","v":""},0,2,null,"",null,0,2,null,"",null,0,2,null,null,null,null,null,null,null,null,null,null,null,null,null,null,null,"",0,0,0,0,null,null,0,"","","",0]
[false,{"$f":"陸連登録!N80","v":""},false,null,{"$f":"陸連登録!M80","v":0},{"$f":"陸連登録!C80","v":0},{"$f":"陸連登録!D80","v":0},0,{"$f":"陸連登録!A80","v":""},{"$f":"陸連登録!P80","v":0},{"$f":"LEFT(陸連登録!L80,4)","v":""},{"$f":"RIGHT(陸連登録!L80,4)","v":""},{"$f":"陸連登録!F80","v":23},{"$f":"陸連登録!B80","v":0},null,"",null,0,2,null,"",null,0,2,null,{"$f":"IF(Y85=\"\",\"\",IF(I85=1,VLOOKUP(Y85,男子種目コード!$A$1:$B$33,2,FALSE),IF(I85=2,VLOOKUP(Y85,女子種目コード!$A$36:$B$66,2,FALSE))))","v":""},{"$f":"IF(Y85=\"\",\"\",HLOOKUP(Y85,#REF!,80,FALSE))","v":""},0,2,null,"",null,0,2,null,"",null,0,2,null,null,null,null,null,null,null,null,null,null,null,null,null,null,null,"",0,0,0,0,null,null,0,"","","",0]
[false,{"$f":"陸連登録!N81","v":""},false,null,{"$f":"陸連登録!M81","v":0},{"$f":"陸連登録!C81","v":0},{"$f":"陸連登録!D81","v":0},0,{"$f":"陸連登録!A81","v":""},{"$f":"陸連登録!P81","v":0},{"$f":"LEFT(陸連登録!L81,4)","v":""},{"$f":"RIGHT(陸連登録!L81,4)","v":""},{"$f":"陸連登録!F81","v":23},{"$f":"陸連登録!B81","v":0},null,"",null,0,2,null,"",null,0,2,null,{"$f":"IF(Y86=\"\",\"\",IF(I86=1,VLOOKUP(Y86,男子種目コード!$A$1:$B$33,2,FALSE),IF(I86=2,VLOOKUP(Y86,女子種目コード!$A$36:$B$66,2,FALSE))))","v":""},{"$f":"IF(Y86=\"\",\"\",HLOOKUP(Y86,#REF!,81,FALSE))","v":""},0,2,null,"",null,0,2,null,"",null,0,2,null,null,null,null,null,null,null,null,null,null,null,null,null,null,null,"",0,0,0,0,null,null,0,"","","",0]
[false,{"$f":"陸連登録!N82","v":""},false,null,{"$f":"陸連登録!M82","v":0},{"$f":"陸連登録!C82","v":0},{"$f":"陸連登録!D82","v":0},0,{"$f":"陸連登録!A82","v":""},{"$f":"陸連登録!P82","v":0},{"$f":"LEFT(陸連登録!L82,4)","v":""},{"$f":"RIGHT(陸連登録!L82,4)","v":""},{"$f":"陸連登録!F82","v":23},{"$f":"陸連登録!B82","v":0},null,"",null,0,2,null,"",null,0,2,null,{"$f":"IF(Y87=\"\",\"\",IF(I87=1,VLOOKUP(Y87,男子種目コード!$A$1:$B$33,2,FALSE),IF(I87=2,VLOOKUP(Y87,女子種目コード!$A$36:$B$66,2,FALSE))))","v":""},{"$f":"IF(Y87=\"\",\"\",HLOOKUP(Y87,#REF!,82,FALSE))","v":""},0,2,null,"",null,0,2,null,"",null,0,2,null,null,null,null,null,null,null,null,null,null,null,null,null,null,null,"",0,0,0,0,null,null,0,"","","",0]
[false,{"$f":"陸連登録!N83","v":""},false,null,{"$f":"陸連登録!M83","v":0},{"$f":"陸連登録!C83","v":0},{"$f":"陸連登録!D83","v":0},0,{"$f":"陸連登録!A83","v":""},{"$f":"陸連登録!P83","v":0},{"$f":"LEFT(陸連登録!L83,4)","v":""},{"$f":"RIGHT(陸連登録!L83,4)","v":""},{"$f":"陸連登録!F83","v":23},{"$f":"陸連登録!B83","v":0},null,"",null,0,2,null,"",null,0,2,null,{"$f":"IF(Y88=\"\",\"\",IF(I88=1,VLOOKUP(Y88,男子種目コード!$A$1:$B$33,2,FALSE),IF(I88=2,VLOOKUP(Y88,女子種目コード!$A$36:$B$66,2,FALSE))))","v":""},{"$f":"IF(Y88=\"\",\"\",HLOOKUP(Y88,#REF!,83,FALSE))","v":""},0,2,null,"",null,0,2,null,"",null,0,2,null,null,null,null,null,null,null,null,null,null,null,null,null,null,null,"",0,0,0,0,null,null,0,"","","",0]
[false,{"$f":"陸連登録!N84","v":""},false,null,{"$f":"陸連登録!M84","v":0},{"$f":"陸連登録!C84","v":0},{"$f":"陸連登録!D84","v":0},0,{"$f":"陸連登録!A84","v":""},{"$f":"陸連登録!P84","v":0},{"$f":"LEFT(陸連登録!L84,4)","v":""},{"$f":"RIGHT(陸連登録!L84,4)","v":""},{"$f":"陸連登録!F84","v":23},{"$f":"陸連登録!B84","v":0},null,"",null,0,2,null,"",null,0,2,null,{"$f":"IF(Y89=\"\",\"\",IF(I89=1,VLOOKUP(Y89,男子種目コード!$A$1:$B$33,2,FALSE),IF(I89=2,VLOOKUP(Y89,女子種目コード!$A$36:$B$66,2,FALSE))))","v":""},{"$f":"IF(Y89=\"\",\"\",HLOOKUP(Y89,#REF!,84,FALSE))","v":""},0,2,null,"",null,0,2,null,"",null,0,2,null,null,null,null,null,null,null,null,null,null,null,null,null,null,null,"",0,0,0,0,null,null,0,"","","",0]
[false,{"$f":"陸連登録!N85","v":""},false,null,{"$f":"陸連登録!M85","v":0},{"$f":"陸連登録!C85","v":0},{"$f":"陸連登録!D85","v":0},0,{"$f":"陸連登録!A85","v":""},{"$f":"陸連登録!P85","v":0},{"$f":"LEFT(陸連登録!L85,4)","v":""},{"$f":"RIGHT(陸連登録!L85,4)","v":""},{"$f":"陸連登録!F85","v":23},{"$f":"陸連登録!B85","v":0},null,"",null,0,2,null,"",null,0,2,null,{"$f":"IF(Y90=\"\",\"\",IF(I90=1,VLOOKUP(Y90,男子種目コード!$A$1:$B$33,2,FALSE),IF(I90=2,VLOOKUP(Y90,女子種目コード!$A$36:$B$66,2,FALSE))))","v":""},{"$f":"IF(Y90=\"\",\"\",HLOOKUP(Y90,#REF!,85,FALSE))","v":""},0,2,null,"",null,0,2,null,"",null,0,2,null,null,null,null,null,null,null,null,null,null,null,null,null,null,null,"",0,0,0,0,null,null,0,"","","",0]
[false,{"$f":"陸連登録!N86","v":""},false,null,{"$f":"陸連登録!M86","v":0},{"$f":"陸連登録!C86","v":0},{"$f":"陸連登録!D86","v":0},0,{"$f":"陸連登録!A86","v":""},{"$f":"陸連登録!P86","v":0},{"$f":"LEFT(陸連登録!L86,4)","v":""},{"$f":"RIGHT(陸連登録!L86,4)","v":""},{"$f":"陸連登録!F86","v":23},{"$f":"陸連登録!B86","v":0},null,"",null,0,2,null,"",null,0,2,null,{"$f":"IF(Y91=\"\",\"\",IF(I91=1,VLOOKUP(Y91,男子種目コード!$A$1:$B$33,2,FALSE),IF(I91=2,VLOOKUP(Y91,女子種目コード!$A$36:$B$66,2,FALSE))))","v":""},{"$f":"IF(Y91=\"\",\"\",HLOOKUP(Y91,#REF!,86,FALSE))","v":""},0,2,null,"",null,0,2,null,"",null,0,2,null,null,null,null,null,null,null,null,null,null,null,null,null,null,null,"",0,0,0,0,null,null,0,"","","",0]
[false,{"$f":"陸連登録!N87","v":""},false,null,{"$f":"陸連登録!M87","v":0},{"$f":"陸連登録!C87","v":0},{"$f":"陸連登録!D87","v":0},0,{"$f":"陸連登録!A87","v":""},{"$f":"陸連登録!P87","v":0},{"$f":"LEFT(陸連登録!L87,4)","v":""},{"$f":"RIGHT(陸連登録!L87,4)","v":""},{"$f":"陸連登録!F87","v":23},{"$f":"陸連登録!B87","v":0},null,"",null,0,2,null,"",null,0,2,null,{"$f":"IF(Y92=\"\",\"\",IF(I92=1,VLOOKUP(Y92,男子種目コード!$A$1:$B$33,2,FALSE),IF(I92=2,VLOOKUP(Y92,女子種目コード!$A$36:$B$66,2,FALSE))))","v":""},{"$f":"IF(Y92=\"\",\"\",HLOOKUP(Y92,#REF!,87,FALSE))","v":""},0,2,null,"",null,0,2,null,"",null,0,2,null,null,null,null,null,null,null,null,null,null,null,null,null,null,null,"",0,0,0,0,null,null,0,"","","",0]
[false,{"$f":"陸連登録!N88","v":""},false,null,{"$f":"陸連登録!M88","v":0},{"$f":"陸連登録!C88","v":0},{"$f":"陸連登録!D88","v":0},0,{"$f":"陸連登録!A88","v":""},{"$f":"陸連登録!P88","v":0},{"$f":"LEFT(陸連登録!L88,4)","v":""},{"$f":"RIGHT(陸連登録!L88,4)","v":""},{"$f":"陸連登録!F88","v":23},{"$f":"陸連登録!B88","v":0},null,"",null,0,2,null,"",null,0,2,null,{"$f":"IF(Y93=\"\",\"\",IF(I93=1,VLOOKUP(Y93,男子種目コード!$A$1:$B$33,2,FALSE),IF(I93=2,VLOOKUP(Y93,女子種目コード!$A$36:$B$66,2,FALSE))))","v":""},{"$f":"IF(Y93=\"\",\"\",HLOOKUP(Y93,#REF!,88,FALSE))","v":""},0,2,null,"",null,0,2,null,"",null,0,2,null,null,null,null,null,null,null,null,null,null,null,null,null,null,null,"",0,0,0,0,null,null,0,"","","",0]
[false,{"$f":"陸連登録!N89","v":""},false,null,{"$f":"陸連登録!M89","v":0},{"$f":"陸連登録!C89","v":0},{"$f":"陸連登録!D89","v":0},0,{"$f":"陸連登録!A89","v":""},{"$f":"陸連登録!P89","v":0},{"$f":"LEFT(陸連登録!L89,4)","v":""},{"$f":"RIGHT(陸連登録!L89,4)","v":""},{"$f":"陸連登録!F89","v":23},{"$f":"陸連登録!B89","v":0},null,"",null,0,2,null,"",null,0,2,null,{"$f":"IF(Y94=\"\",\"\",IF(I94=1,VLOOKUP(Y94,男子種目コード!$A$1:$B$33,2,FALSE),IF(I94=2,VLOOKUP(Y94,女子種目コード!$A$36:$B$66,2,FALSE))))","v":""},{"$f":"IF(Y94=\"\",\"\",HLOOKUP(Y94,#REF!,89,FALSE))","v":""},0,2,null,"",null,0,2,null,"",null,0,2,null,null,null,null,null,null,null,null,null,null,null,null,null,null,null,"",0,0,0,0,null,null,0,"","","",0]
[false,{"$f":"陸連登録!N90","v":""},false,null,{"$f":"陸連登録!M90","v":0},{"$f":"陸連登録!C90","v":0},{"$f":"陸連登録!D90","v":0},0,{"$f":"陸連登録!A90","v":""},{"$f":"陸連登録!P90","v":0},{"$f":"LEFT(陸連登録!L90,4)","v":""},{"$f":"RIGHT(陸連登録!L90,4)","v":""},{"$f":"陸連登録!F90","v":23},{"$f":"陸連登録!B90","v":0},null,"",null,0,2,null,"",null,0,2,null,{"$f":"IF(Y95=\"\",\"\",IF(I95=1,VLOOKUP(Y95,男子種目コード!$A$1:$B$33,2,FALSE),IF(I95=2,VLOOKUP(Y95,女子種目コード!$A$36:$B$66,2,FALSE))))","v":""},{"$f":"IF(Y95=\"\",\"\",HLOOKUP(Y95,#REF!,90,FALSE))","v":""},0,2,null,"",null,0,2,null,"",null,0,2,null,null,null,null,null,null,null,null,null,null,null,null,null,null,null,"",0,0,0,0,null,null,0,"","","",0]
[false,{"$f":"陸連登録!N91","v":""},false,null,{"$f":"陸連登録!M91","v":0},{"$f":"陸連登録!C91","v":0},{"$f":"陸連登録!D91","v":0},0,{"$f":"陸連登録!A91","v":""},{"$f":"陸連登録!P91","v":0},{"$f":"LEFT(陸連登録!L91,4)","v":""},{"$f":"RIGHT(陸連登録!L91,4)","v":""},{"$f":"陸連登録!F91","v":23},{"$f":"陸連登録!B91","v":0},null,"",null,0,2,null,"",null,0,2,null,{"$f":"IF(Y96=\"\",\"\",IF(I96=1,VLOOKUP(Y96,男子種目コード!$A$1:$B$33,2,FALSE),IF(I96=2,VLOOKUP(Y96,女子種目コード!$A$36:$B$66,2,FALSE))))","v":""},{"$f":"IF(Y96=\"\",\"\",HLOOKUP(Y96,#REF!,91,FALSE))","v":""},0,2,null,"",null,0,2,null,"",null,0,2,null,null,null,null,null,null,null,null,null,null,null,null,null,null,null,"",0,0,0,0,null,null,0,"","","",0]
[false,{"$f":"陸連登録!N92","v":""},false,null,{"$f":"陸連登録!M92","v":0},{"$f":"陸連登録!C92","v":0},{"$f":"陸連登録!D92","v":0},0,{"$f":"陸連登録!A92","v":""},{"$f":"陸連登録!P92","v":0},{"$f":"LEFT(陸連登録!L92,4)","v":""},{"$f":"RIGHT(陸連登録!L92,4)","v":""},{"$f":"陸連登録!F92","v":23},{"$f":"陸連登録!B92","v":0},null,"",null,0,2,null,"",null,0,2,null,{"$f":"IF(Y97=\"\",\"\",IF(I97=1,VLOOKUP(Y97,男子種目コード!$A$1:$B$33,2,FALSE),IF(I97=2,VLOOKUP(Y97,女子種目コード!$A$36:$B$66,2,FALSE))))","v":""},{"$f":"IF(Y97=\"\",\"\",HLOOKUP(Y97,#REF!,92,FALSE))","v":""},0,2,null,"",null,0,2,null,"",null,0,2,null,null,null,null,null,null,null,null,null,null,null,null,null,null,null,"",0,0,0,0,null,null,0,"","","",0]
[false,{"$f":"陸連登録!N93","v":""},false,null,{"$f":"陸連登録!M93","v":0},{"$f":"陸連登録!C93","v":0},{"$f":"陸連登録!D93","v":0},0,{"$f":"陸連登録!A93","v":""},{"$f":"陸連登録!P93","v":0},{"$f":"LEFT(陸連登録!L93,4)","v":""},{"$f":"RIGHT(陸連登録!L93,4)","v":""},{"$f":"陸連登録!F93","v":23},{"$f":"陸連登録!B93","v":0},null,"",null,0,2,null,"",null,0,2,null,{"$f":"IF(Y98=\"\",\"\",IF(I98=1,VLOOKUP(Y98,男子種目コード!$A$1:$B$33,2,FALSE),IF(I98=2,VLOOKUP(Y98,女子種目コード!$A$36:$B$66,2,FALSE))))","v":""},{"$f":"IF(Y98=\"\",\"\",HLOOKUP(Y98,#REF!,93,FALSE))","v":""},0,2,null,"",null,0,2,null,"",null,0,2,null,null,null,null,null,null,null,null,null,null,null,null,null,null,null,"",0,0,0,0,null,null,0,"","","",0]
[false,{"$f":"陸連登録!N94","v":""},false,null,{"$f":"陸連登録!M94","v":0},{"$f":"陸連登録!C94","v":0},{"$f":"陸連登録!D94","v":0},0,{"$f":"陸連登録!A94","v":""},{"$f":"陸連登録!P94","v":0},{"$f":"LEFT(陸連登録!L94,4)","v":""},{"$f":"RIGHT(陸連登録!L94,4)","v":""},{"$f":"陸連登録!F94","v":23},{"$f":"陸連登録!B94","v":0},null,"",null,0,2,null,"",null,0,2,null,{"$f":"IF(Y99=\"\",\"\",IF(I99=1,VLOOKUP(Y99,男子種目コード!$A$1:$B$33,2,FALSE),IF(I99=2,VLOOKUP(Y99,女子種目コード!$A$36:$B$66,2,FALSE))))","v":""},{"$f":"IF(Y99=\"\",\"\",HLOOKUP(Y99,#REF!,94,FALSE))","v":""},0,2,null,"",null,0,2,null,"",null,0,2,null,null,null,null,null,null,null,null,null,null,null,null,null,null,null,"",0,0,0,0,null,null,0,"","","",0]
[false,{"$f":"陸連登録!N95","v":""},false,null,{"$f":"陸連登録!M95","v":0},{"$f":"陸連登録!C95","v":0},{"$f":"陸連登録!D95","v":0},0,{"$f":"陸連登録!A95","v":""},{"$f":"陸連登録!P95","v":0},{"$f":"LEFT(陸連登録!L95,4)","v":""},{"$f":"RIGHT(陸連登録!L95,4)","v":""},{"$f":"陸連登録!F95","v":23},{"$f":"陸連登録!B95","v":0},null,"",null,0,2,null,"",null,0,2,null,{"$f":"IF(Y100=\"\",\"\",IF(I100=1,VLOOKUP(Y100,男子種目コード!$A$1:$B$33,2,FALSE),IF(I100=2,VLOOKUP(Y100,女子種目コード!$A$36:$B$66,2,FALSE))))","v":""},{"$f":"IF(Y100=\"\",\"\",HLOOKUP(Y100,#REF!,95,FALSE))","v":""},0,2,null,"",null,0,2,null,"",null,0,2,null,null,null,null,null,null,null,null,null,null,null,null,null,null,null,"",0,0,0,0,null,null,0,"","","",0]
[false,{"$f":"陸連登録!N96","v":""},false,null,{"$f":"陸連登録!M96","v":0},{"$f":"陸連登録!C96","v":0},{"$f":"陸連登録!D96","v":0},0,{"$f":"陸連登録!A96","v":""},{"$f":"陸連登録!P96","v":0},{"$f":"LEFT(陸連登録!L96,4)","v":""},{"$f":"RIGHT(陸連登録!L96,4)","v":""},{"$f":"陸連登録!F96","v":23},{"$f":"陸連登録!B96","v":0},null,"",null,0,2,null,"",null,0,2,null,{"$f":"IF(Y101=\"\",\"\",IF(I101=1,VLOOKUP(Y101,男子種目コード!$A$1:$B$33,2,FALSE),IF(I101=2,VLOOKUP(Y101,女子種目コード!$A$36:$B$66,2,FALSE))))","v":""},{"$f":"IF(Y101=\"\",\"\",HLOOKUP(Y101,#REF!,96,FALSE))","v":""},0,2,null,"",null,0,2,null,"",null,0,2,null,null,null,null,null,null,null,null,null,null,null,null,null,null,null,"",0,0,0,0,null,null,0,"","","",0]
[false,{"$f":"陸連登録!N97","v":""},false,null,{"$f":"陸連登録!M97","v":0},{"$f":"陸連登録!C97","v":0},{"$f":"陸連登録!D97","v":0},0,{"$f":"陸連登録!A97","v":""},{"$f":"陸連登録!P97","v":0},{"$f":"LEFT(陸連登録!L97,4)","v":""},{"$f":"RIGHT(陸連登録!L97,4)","v":""},{"$f":"陸連登録!F97","v":23},{"$f":"陸連登録!B97","v":0},null,"",null,0,2,null,"",null,0,2,null,{"$f":"IF(Y102=\"\",\"\",IF(I102=1,VLOOKUP(Y102,男子種目コード!$A$1:$B$33,2,FALSE),IF(I102=2,VLOOKUP(Y102,女子種目コード!$A$36:$B$66,2,FALSE))))","v":""},{"$f":"IF(Y102=\"\",\"\",HLOOKUP(Y102,#REF!,97,FALSE))","v":""},0,2,null,"",null,0,2,null,"",null,0,2,null,null,null,null,null,null,null,null,null,null,null,null,null,null,null,"",0,0,0,0,null,null,0,"","","",0]
[false,{"$f":"陸連登録!N98","v":""},false,null,{"$f":"陸連登録!M98","v":0},{"$f":"陸連登録!C98","v":0},{"$f":"陸連登録!D98","v":0},0,{"$f":"陸連登録!A98","v":""},{"$f":"陸連登録!P98","v":0},{"$f":"LEFT(陸連登録!L98,4)","v":""},{"$f":"RIGHT(陸連登録!L98,4)","v":""},{"$f":"陸連登録!F98","v":23},{"$f":"陸連登録!B98","v":0},null,{"$f":"IF(O103=\"\",\"\",IF(I103=1,VLOOKUP(O103,$AS$7:$AU$10,3,FALSE),IF(I103=2,VLOOKUP(O103,$AS$13:$AU$16,3,FALSE))))","v":""},null,0,2,null,{"$f":"IF(T103=\"\",\"\",IF(I103=1,VLOOKUP(T103,$AS$7:$AU$10,3,FALSE),IF(N103=2,VLOOKUP(I103,$AS$13:$AU$16,3,FALSE))))","v":""},null,0,2,null,{"$f":"IF(Y103=\"\",\"\",IF(I103=1,VLOOKUP(Y103,男子種目コード!$A$1:$B$33,2,FALSE),IF(I103=2,VLOOKUP(Y103,女子種目コード!$A$36:$B$66,2,FALSE))))","v":""},{"$f":"IF(Y103=\"\",\"\",HLOOKUP(Y103,#REF!,98,FALSE))","v":""},0,2,null,"",null,0,2,null,"",null,0,2,null,null,null,null,null,null,null,null,null,null,null,null,null,null,null,"",0,0,0,0,null,null,0,{"$f":"IF(I103=1,BJ103,\"\")","v":""},{"$f":"IF(I103=2,BJ103,\"\")","v":""},"",0]
[false,{"$f":"陸連登録!N99","v":""},false,null,{"$f":"陸連登録!M99","v":0},{"$f":"陸連登録!C99","v":0},{"$f":"陸連登録!D99","v":0},0,{"$f":"陸連登録!A99","v":""},{"$f":"陸連登録!P99","v":0},{"$f":"LEFT(陸連登録!L99,4)","v":""},{"$f":"RIGHT(陸連登録!L99,4)","v":""},{"$f":"陸連登録!F99","v":23},{"$f":"陸連登録!B99","v":0},null,"",null,0,2,null,"",null,0,2,null,{"$f":"IF(Y104=\"\",\"\",IF(I104=1,VLOOKUP(Y104,男子種目コード!$A$1:$B$33,2,FALSE),IF(I104=2,VLOOKUP(Y104,女子種目コード!$A$36:$B$66,2,FALSE))))","v":""},{"$f":"IF(Y104=\"\",\"\",HLOOKUP(Y104,#REF!,99,FALSE))","v":""},0,2,null,"",null,0,2,null,"",null,0,2,null,null,null,null,null,null,null,null,null,null,null,null,null,null,null,"",0,0,0,0,null,null,0,"","","",0]
[false,{"$f":"陸連登録!N100","v":""},false,null,{"$f":"陸連登録!M100","v":0},{"$f":"陸連登録!C100","v":0},{"$f":"陸連登録!D100","v":0},0,{"$f":"陸連登録!A100","v":""},{"$f":"陸連登録!P100","v":0},{"$f":"LEFT(陸連登録!L100,4)","v":""},{"$f":"RIGHT(陸連登録!L100,4)","v":""},{"$f":"陸連登録!F100","v":23},{"$f":"陸連登録!B100","v":0},null,"",null,0,2,null,"",null,0,2,null,{"$f":"IF(Y105=\"\",\"\",IF(I105=1,VLOOKUP(Y105,男子種目コード!$A$1:$B$33,2,FALSE),IF(I105=2,VLOOKUP(Y105,女子種目コード!$A$36:$B$66,2,FALSE))))","v":""},{"$f":"IF(Y105=\"\",\"\",HLOOKUP(Y105,#REF!,100,FALSE))","v":""},0,2,null,"",null,0,2,null,"",null,0,2,null,null,null,null,null,null,null,null,null,null,null,null,null,null,null,"",0,0,0,0,null,null,0,"","","",0]
[false,{"$f":"陸連登録!N101","v":""},false,null,{"$f":"陸連登録!M101","v":0},{"$f":"陸連登録!C101","v":0},{"$f":"陸連登録!D101","v":0},0,{"$f":"陸連登録!A101","v":""},{"$f":"陸連登録!P101","v":0},{"$f":"LEFT(陸連登録!L101,4)","v":""},{"$f":"RIGHT(陸連登録!L101,4)","v":""},{"$f":"陸連登録!F101","v":23},{"$f":"陸連登録!B101","v":0},null,"",null,0,2,null,"",null,0,2,null,{"$f":"IF(Y106=\"\",\"\",IF(I106=1,VLOOKUP(Y106,男子種目コード!$A$1:$B$33,2,FALSE),IF(I106=2,VLOOKUP(Y106,女子種目コード!$A$36:$B$66,2,FALSE))))","v":""},{"$f":"IF(Y106=\"\",\"\",HLOOKUP(Y106,#REF!,101,FALSE))","v":""},0,2,null,"",null,0,2,null,"",null,0,2,null,null,null,null,null,null,null,null,null,null,null,null,null,null,null,"",0,0,0,0,null,null,0,"","","",0]
[false,{"$f":"陸連登録!N102","v":""},false,null,{"$f":"陸連登録!M102","v":0},{"$f":"陸連登録!C102","v":0},{"$f":"陸連登録!D102","v":0},0,{"$f":"陸連登録!A102","v":""},{"$f":"陸連登録!P102","v":0},{"$f":"LEFT(陸連登録!L102,4)","v":""},{"$f":"RIGHT(陸連登録!L102,4)","v":""},{"$f":"陸連登録!F102","v":23},{"$f":"陸連登録!B102","v":0},null,"",null,0,2,null,"",null,0,2,null,{"$f":"IF(Y107=\"\",\"\",IF(I107=1,VLOOKUP(Y107,男子種目コード!$A$1:$B$33,2,FALSE),IF(I107=2,VLOOKUP(Y107,女子種目コード!$A$36:$B$66,2,FALSE))))","v":""},{"$f":"IF(Y107=\"\",\"\",HLOOKUP(Y107,#REF!,102,FALSE))","v":""},0,2,null,"",null,0,2,null,"",null,0,2,null,null,null,null,null,null,null,null,null,null,null,null,null,null,null,"",0,0,0,0,null,null,0,"","","",0]
[false,{"$f":"陸連登録!N103","v":""},false,null,{"$f":"陸連登録!M103","v":0},{"$f":"陸連登録!C103","v":0},{"$f":"陸連登録!D103","v":0},0,{"$f":"陸連登録!A103","v":""},{"$f":"陸連登録!P103","v":0},{"$f":"LEFT(陸連登録!L103,4)","v":""},{"$f":"RIGHT(陸連登録!L103,4)","v":""},{"$f":"陸連登録!F103","v":23},{"$f":"陸連登録!B103","v":0},null,"",null,0,2,null,"",null,0,2,null,{"$f":"IF(Y108=\"\",\"\",IF(I108=1,VLOOKUP(Y108,男子種目コード!$A$1:$B$33,2,FALSE),IF(I108=2,VLOOKUP(Y108,女子種目コード!$A$36:$B$66,2,FALSE))))","v":""},{"$f":"IF(Y108=\"\",\"\",HLOOKUP(Y108,#REF!,103,FALSE))","v":""},0,2,null,"",null,0,2,null,"",null,0,2,null,null,null,null,null,null,null,null,null,null,null,null,null,null,null,{"$f":"IF(O108=\"\",\"\",1)","v":""},{"$f":"IF(OR(BC108=1,T108=\"\"),0,1)","v":0},{"$f":"IF(OR(BC108=1,BD108=1,Y108=\"\"),0,1)","v":0},{"$f":"IF(OR(BC108=1,BD108=1,BE108=1,AD108=\"\"),0,1)","v":0},{"$f":"IF(OR(BC108=1,BD108=1,BE108=1,BF108=1,AI108=\"\"),0,1)","v":0},null,null,0,"","","",0]
[false,{"$f":"陸連登録!N104","v":""},false,null,{"$f":"陸連登録!M104","v":0},{"$f":"陸連登録!C104","v":0},{"$f":"陸連登録!D104","v":0},0,{"$f":"陸連登録!A104","v":""},{"$f":"陸連登録!P104","v":0},{"$f":"LEFT(陸連登録!L104,4)","v":""},{"$f":"RIGHT(陸連登録!L104,4)","v":""},{"$f":"陸連登録!F104","v":23},{"$f":"陸連登録!B104","v":0},null,"",null,0,2,null,"",null,0,2,null,{"$f":"IF(Y109=\"\",\"\",IF(I109=1,VLOOKUP(Y109,男子種目コード!$A$1:$B$33,2,FALSE),IF(I109=2,VLOOKUP(Y109,女子種目コード!$A$36:$B$66,2,FALSE))))","v":""},{"$f":"IF(Y109=\"\",\"\",HLOOKUP(Y109,#REF!,104,FALSE))","v":""},0,2,null,"",null,0,2,null,"",null,0,2,null,null,null,null,null,null,null,null,null,null,null,null,null,null,null,"",0,0,0,0,null,null,0,"","","",0]
[false,{"$f":"陸連登録!N105","v":""},false,null,{"$f":"陸連登録!M105","v":0},{"$f":"陸連登録!C105","v":0},{"$f":"陸連登録!D105","v":0},0,{"$f":"陸連登録!A105","v":""},{"$f":"陸連登録!P105","v":0},{"$f":"LEFT(陸連登録!L105,4)","v":""},{"$f":"RIGHT(陸連登録!L105,4)","v":""},{"$f":"陸連登録!F105","v":23},{"$f":"陸連登録!B105","v":0},null,"",null,0,2,null,"",null,0,2,null,{"$f":"IF(Y110=\"\",\"\",IF(I110=1,VLOOKUP(Y110,男子種目コード!$A$1:$B$33,2,FALSE),IF(I110=2,VLOOKUP(Y110,女子種目コード!$A$36:$B$66,2,FALSE))))","v":""},{"$f":"IF(Y110=\"\",\"\",HLOOKUP(Y110,#REF!,105,FALSE))","v":""},0,2,null,"",null,0,2,null,"",null,0,2,null,null,null,null,null,null,null,null,null,null,null,null,null,null,null,"",0,0,0,0,null,null,0,"","","",0]
[false,{"$f":"陸連登録!N106","v":""},false,null,{"$f":"陸連登録!M106","v":0},{"$f":"陸連登録!C106","v":0},{"$f":"陸連登録!D106","v":0},0,{"$f":"陸連登録!A106","v":""},{"$f":"陸連登録!P106","v":0},{"$f":"LEFT(陸連登録!L106,4)","v":""},{"$f":"RIGHT(陸連登録!L106,4)","v":""},{"$f":"陸連登録!F106","v":23},{"$f":"陸連登録!B106","v":0},null,"",null,0,2,null,"",null,0,2,null,{"$f":"IF(Y111=\"\",\"\",IF(I111=1,VLOOKUP(Y111,男子種目コード!$A$1:$B$33,2,FALSE),IF(I111=2,VLOOKUP(Y111,女子種目コード!$A$36:$B$66,2,FALSE))))","v":""},{"$f":"IF(Y111=\"\",\"\",HLOOKUP(Y111,#REF!,106,FALSE))","v":""},0,2,null,"",null,0,2,null,"",null,0,2,null,null,null,null,null,null,null,null,null,null,null,null,null,null,null,"",0,0,0,0,null,null,0,"","","",0]
[false,{"$f":"陸連登録!N107","v":""},false,null,{"$f":"陸連登録!M107","v":0},{"$f":"陸連登録!C107","v":0},{"$f":"陸連登録!D107","v":0},0,{"$f":"陸連登録!A107","v":""},{"$f":"陸連登録!P107","v":0},{"$f":"LEFT(陸連登録!L107,4)","v":""},{"$f":"RIGHT(陸連登録!L107,4)","v":""},{"$f":"陸連登録!F107","v":23},{"$f":"陸連登録!B107","v":0},null,"",null,0,2,null,"",null,0,2,null,{"$f":"IF(Y112=\"\",\"\",IF(I112=1,VLOOKUP(Y112,男子種目コード!$A$1:$B$33,2,FALSE),IF(I112=2,VLOOKUP(Y112,女子種目コード!$A$36:$B$66,2,FALSE))))","v":""},{"$f":"IF(Y112=\"\",\"\",HLOOKUP(Y112,#REF!,107,FALSE))","v":""},0,2,null,"",null,0,2,null,"",null,0,2,null,null,null,null,null,null,null,null,null,null,null,null,null,null,null,"",0,0,0,0,null,null,0,"","","",0]
[false,{"$f":"陸連登録!N108","v":""},false,null,{"$f":"陸連登録!M108","v":0},{"$f":"陸連登録!C108","v":0},{"$f":"陸連登録!D108","v":0},0,{"$f":"陸連登録!A108","v":""},{"$f":"陸連登録!P108","v":0},{"$f":"LEFT(陸連登録!L108,4)","v":""},{"$f":"RIGHT(陸連登録!L108,4)","v":""},{"$f":"陸連登録!F108","v":23},{"$f":"陸連登録!B108","v":0},null,"",null,0,2,null,"",null,0,2,null,{"$f":"IF(Y113=\"\",\"\",IF(I113=1,VLOOKUP(Y113,男子種目コード!$A$1:$B$33,2,FALSE),IF(I113=2,VLOOKUP(Y113,女子種目コード!$A$36:$B$66,2,FALSE))))","v":""},{"$f":"IF(Y113=\"\",\"\",HLOOKUP(Y113,#REF!,108,FALSE))","v":""},0,2,null,"",null,0,2,null,"",null,0,2,null,null,null,null,null,null,null,null,null,null,null,null,null,null,null,"",0,0,0,0,null,null,0,"","","",0]
[false,{"$f":"陸連登録!N109","v":""},false,null,{"$f":"陸連登録!M109","v":0},{"$f":"陸連登録!C109","v":0},{"$f":"陸連登録!D109","v":0},0,{"$f":"陸連登録!A109","v":""},{"$f":"陸連登録!P109","v":0},{"$f":"LEFT(陸連登録!L109,4)","v":""},{"$f":"RIGHT(陸連登録!L109,4)","v":""},{"$f":"陸連登録!F109","v":23},{"$f":"陸連登録!B109","v":0},null,"",null,0,2,null,"",null,0,2,null,{"$f":"IF(Y114=\"\",\"\",IF(I114=1,VLOOKUP(Y114,男子種目コード!$A$1:$B$33,2,FALSE),IF(I114=2,VLOOKUP(Y114,女子種目コード!$A$36:$B$66,2,FALSE))))","v":""},{"$f":"IF(Y114=\"\",\"\",HLOOKUP(Y114,#REF!,109,FALSE))","v":""},0,2,null,"",null,0,2,null,"",null,0,2,null,null,null,null,null,null,null,null,null,null,null,null,null,null,null,"",0,0,0,0,null,null,0,"","","",0]
[false,{"$f":"陸連登録!N110","v":""},false,null,{"$f":"陸連登録!M110","v":0},{"$f":"陸連登録!C110","v":0},{"$f":"陸連登録!D110","v":0},0,{"$f":"陸連登録!A110","v":""},{"$f":"陸連登録!P110","v":0},{"$f":"LEFT(陸連登録!L110,4)","v":""},{"$f":"RIGHT(陸連登録!L110,4)","v":""},{"$f":"陸連登録!F110","v":23},{"$f":"陸連登録!B110","v":0},null,"",null,0,2,null,"",null,0,2,null,{"$f":"IF(Y115=\"\",\"\",IF(I115=1,VLOOKUP(Y115,男子種目コード!$A$1:$B$33,2,FALSE),IF(I115=2,VLOOKUP(Y115,女子種目コード!$A$36:$B$66,2,FALSE))))","v":""},{"$f":"IF(Y115=\"\",\"\",HLOOKUP(Y115,#REF!,110,FALSE))","v":""},0,2,null,"",null,0,2,null,"",null,0,2,null,null,null,null,null,null,null,null,null,null,null,null,null,null,null,"",0,0,0,0,null,null,0,"","","",0]
[false,{"$f":"陸連登録!N111","v":""},false,null,{"$f":"陸連登録!M111","v":0},{"$f":"陸連登録!C111","v":0},{"$f":"陸連登録!D111","v":0},0,{"$f":"陸連登録!A111","v":""},{"$f":"陸連登録!P111","v":0},{"$f":"LEFT(陸連登録!L111,4)","v":""},{"$f":"RIGHT(陸連登録!L111,4)","v":""},{"$f":"陸連登録!F111","v":23},{"$f":"陸連登録!B111","v":0},null,"",null,0,2,null,"",null,0,2,null,{"$f":"IF(Y116=\"\",\"\",IF(I116=1,VLOOKUP(Y116,男子種目コード!$A$1:$B$33,2,FALSE),IF(I116=2,VLOOKUP(Y116,女子種目コード!$A$36:$B$66,2,FALSE))))","v":""},{"$f":"IF(Y116=\"\",\"\",HLOOKUP(Y116,#REF!,111,FALSE))","v":""},0,2,null,"",0,0,2,null,"",null,0,2,null,null,null,null,null,null,null,null,null,null,null,{"$f":"IF(O116=\"\",\"\",1)","v":""},null,null,null,null,null,null,null,null,null,{"$f":"IF(I116=2,#REF!,\"\")","v":""},0,"","","",0]
[null,null,null,null,null,null,null,null,null,null,null,null,null,null,null,null,null,null,null,null,null,null,null,null,null,null,null,null,null,null,null,null,null,null,null,null,null,null,null,null,null,{"$f":"SUM(AY7:AY116)","v":{"$error":"#N/A"}},{"$f":"SUM(AZ7:AZ116)","v":{"$error":"#N/A"}},{"$f":"SUM(BA7:BA116)","v":0},null,null,null,null,null,null,null,null,null,null,{"$f":"IF(H117=2,BA117,\"\")","v":""},null,null,{"$f":"B117","v":0},null,null,null,null,null,null,{"$f":"SUM(BM7:BM115)","v":0},{"$f":"SUM(BN7:BN115)","v":0}]
[null,null,null,null,null,null,null,null,null,null,null,null,null,null,null,null,null,null,null,null,null,null,null,null,null,null,null,null,null,null,null,null,null,null,null,null,null,null,null,null,null,null,null,null,null,null,null,null,null,null,null,null,null,null,null,null,null,null,null,null,null,null,null,null,"",0]
[null,null,null,null,null,null,null,null,null,null,null,null,null,null,null,null,null,null,null,null,null,null,null,null,null,null,null,null,null,null,null,null,null,null,null,null,null,null,null,null,null,null,null,null,null,null,null,null,null,null,null,null,null,null,null,null,null,null,null,null,null,null,null,null,"",{"$f":"BM117+BN117","v":0}]
[null,null,null,null,null,null,null,null,null,null,null,null,null,null,null,null,null,null,null,null,null,null,null,null,null,null,null,null,null,null,null,null,null,null,null,null,null,null,null,null,null,null,null,null,null,null,null,null,null,null,null,null,null,null,null,null,null,null,null,null,null,null,null,null,"",0]
[null,null,null,null,null,null,null,null,null,null,null,null,null,null,null,null,null,null,null,null,null,null,null,null,null,null,null,null,null,null,null,null,null,null,null,null,null,null,null,null,null,null,null,null,null,null,null,null,null,null,null,null,null,null,null,null,null,null,null,null,null,null,null,null,"",0]
[null,null,null,null,null,null,null,null,null,null,null,null,null,null,null,null,null,null,null,null,null,null,null,null,null,null,null,null,null,null,null,null,null,null,null,null,null,null,null,null,null,null,null,null,null,null,null,null,null,null,null,null,null,null,null,null,null,null,null,null,null,null,null,null,"",0]
[null,null,null,null,null,null,null,null,null,null,null,null,null,null,null,null,null,null,null,null,null,null,null,null,null,null,null,null,null,null,null,null,null,null,null,null,null,null,null,null,null,null,null,null,null,null,null,null,null,null,null,null,null,null,null,null,null,null,null,null,null,null,null,null,"",0]
[null,null,null,null,null,null,null,null,null,null,null,null,null,null,null,null,null,null,null,null,null,null,null,null,null,null,null,null,null,null,null,null,null,null,null,null,null,null,null,null,null,null,null,null,null,null,null,null,null,null,null,null,null,null,null,null,null,null,null,null,null,null,null,null,"",0]
[null,null,null,null,null,null,null,null,null,null,null,null,null,null,null,null,null,null,null,null,null,null,null,null,null,null,null,null,null,null,null,null,null,null,null,null,null,null,null,null,null,null,null,null,null,null,null,null,null,null,null,null,null,null,null,null,null,null,null,null,null,null,null,null,"",0]
[null,null,null,null,null,null,null,null,null,null,null,null,null,null,null,null,null,null,null,null,null,null,null,null,null,null,null,null,null,null,null,null,null,null,null,null,null,null,null,null,null,null,null,null,null,null,null,null,null,null,null,null,null,null,null,null,null,null,null,null,null,null,null,null,{"$f":"IF(O126=\"\",\"\",1)","v":""}]

{"sheet":"DENSO_CUP","index":10,"n_rows":117,"n_cols":39,"rows_kept":117,"cut":false,"hidden":false,"merged":[[1,7,1,8],[1,12,1,13],[1,14,1,15],[5,36,5,37]]}
[null,null,null,null,"所属名",{"$f":"陸連登録!I2","v":0},null,null,"デンソーカップ"]
[null,null,null,null,"所属コード",{"$f":"陸連登録!N2","v":""}]
[null,null,null,null,"顧問名"]
[null,null,null,null,"顧問連絡先",null,null,null,"大会参加費",null,null,null,null,null,{"$f":"AL11*500","v":0}]
[]
["競技者コード","所属コード",null,null,"ナンバー","名前","カナ名","掲示板名","性別","学年","生年","生年月日(年)","個人所属地コード","陸連コード","種目","コード","記録",null,null,"種目2",null,null,null,null,null,null,null,null,null,null,null,null,null,null,null,null,"種目別人数"]
[null,{"$f":"#REF!","v":{"$error":"#REF!"}},null,null,{"$f":"陸連登録!M2","v":0},{"$f":"陸連登録!C2","v":0},{"$f":"陸連登録!D2","v":0},{"$f":"F7","v":0},{"$f":"陸連登録!A2","v":""},{"$f":"陸連登録!P2","v":0},{"$f":"LEFT(陸連登録!L2,4)","v":""},{"$f":"RIGHT(陸連登録!L2,4)","v":""},{"$f":"陸連登録!F2","v":23},{"$f":"陸連登録!B2","v":0},null,{"$f":"IF(O7=\"\",\"\",IF(I7=1,VLOOKUP(O7,男子種目コード!$J$30:$K$31,2,FALSE),IF(I7=2,VLOOKUP(O7,女子種目コード!$J$30:$K$31,2,FALSE))))","v":""},null,{"$f":"$F$1","v":0},"高校",{"$f":"CONCATENATE(R7,S7)","v":"0高校"},null,null,null,null,null,null,null,null,null,null,null,null,null,null,"高校10ｋ",{"$f":"IF(O7=\"\",\"\",1)","v":""},3000,{"$f":"COUNTIF($P$7:$P$116,4)","v":0},4]
[null,{"$f":"#REF!","v":{"$error":"#REF!"}},null,null,{"$f":"陸連登録!M3","v":0},{"$f":"陸連登録!C3","v":0},{"$f":"陸連登録!D3","v":0},0,{"$f":"陸連登録!A3","v":""},{"$f":"陸連登録!P3","v":0},{"$f":"LEFT(陸連登録!L3,4)","v":""},{"$f":"RIGHT(陸連登録!L3,4)","v":""},{"$f":"陸連登録!F3","v":23},{"$f":"陸連登録!B3","v":0},null,{"$f":"IF(O8=\"\",\"\",IF(I8=1,VLOOKUP(O8,男子種目コード!$J$30:$K$31,2,FALSE),IF(I8=2,VLOOKUP(O8,女子種目コード!$J$30:$K$31,2,FALSE))))","v":""},null,{"$f":"$F$1","v":0},"高校",{"$f":"CONCATENATE(R8,S8)","v":"0高校"},null,null,null,null,null,null,null,null,null,null,null,null,null,null,"女子5ｋ","",5000,{"$f":"COUNTIF($P$7:$P$116,5)","v":0},5]
[null,{"$f":"#REF!","v":{"$error":"#REF!"}},null,null,{"$f":"陸連登録!M4","v":0},{"$f":"陸連登録!C4","v":0},{"$f":"陸連登録!D4","v":0},0,{"$f":"陸連登録!A4","v":""},{"$f":"陸連登録!P4","v":0},{"$f":"LEFT(陸連登録!L4,4)","v":""},{"$f":"RIGHT(陸連登録!L4,4)","v":""},{"$f":"陸連登録!F4","v":23},{"$f":"陸連登録!B4","v":0},null,{"$f":"IF(O9=\"\",\"\",IF(I9=1,VLOOKUP(O9,男子種目コード!$J$30:$K$31,2,FALSE),IF(I9=2,VLOOKUP(O9,女子種目コード!$J$30:$K$31,2,FALSE))))","v":""},null,0,"高校","0高校",null,null,null,null,null,null,null,null,null,null,null,null,null,null,null,"",3000,{"$f":"COUNTIF($P$7:$P$116,8)","v":0},8]
[null,{"$f":"#REF!","v":{"$error":"#REF!"}},null,null,{"$f":"陸連登録!M5","v":0},{"$f":"陸連登録!C5","v":0},{"$f":"陸連登録!D5","v":0},0,{"$f":"陸連登録!A5","v":""},{"$f":"陸連登録!P5","v":0},{"$f":"LEFT(陸連登録!L5,4)","v":""},{"$f":"RIGHT(陸連登録!L5,4)","v":""},{"$f":"陸連登録!F5","v":23},{"$f":"陸連登録!B5","v":0},null,{"$f":"IF(O10=\"\",\"\",IF(I10=1,VLOOKUP(O10,男子種目コード!$J$30:$K$31,2,FALSE),IF(I10=2,VLOOKUP(O10,女子種目コード!$J$30:$K$31,2,FALSE))))","v":""},null,0,"高校","0高校",null,null,null,null,null,null,null,null,null,null,null,null,null,null,null,"",5000,{"$f":"COUNTIF($P$7:$P$116,9)","v":0},9]
[null,{"$f":"#REF!","v":{"$error":"#REF!"}},null,null,{"$f":"陸連登録!M6","v":0},{"$f":"陸連登録!C6","v":0},{"$f":"陸連登録!D6","v":0},0,{"$f":"陸連登録!A6","v":""},{"$f":"陸連登録!P6","v":0},{"$f":"LEFT(陸連登録!L6,4)","v":""},{"$f":"RIGHT(陸連登録!L6,4)","v":""},{"$f":"陸連登録!F6","v":23},{"$f":"陸連登録!B6","v":0},null,{"$f":"IF(O11=\"\",\"\",IF(I11=1,VLOOKUP(O11,男子種目コード!$J$30:$K$31,2,FALSE),IF(I11=2,VLOOKUP(O11,女子種目コード!$J$30:$K$31,2,FALSE))))","v":""},null,0,"高校","0高校",null,null,null,null,null,null,null,null,null,null,null,null,null,null,null,"","合計",{"$f":"SUM(AL7:AL10)","v":0}]
[null,{"$f":"#REF!","v":{"$error":"#REF!"}},null,null,{"$f":"陸連登録!M7","v":0},{"$f":"陸連登録!C7","v":0},{"$f":"陸連登録!D7","v":0},0,{"$f":"陸連登録!A7","v":""},{"$f":"陸連登録!P7","v":0},{"$f":"LEFT(陸連登録!L7,4)","v":""},{"$f":"RIGHT(陸連登録!L7,4)","v":""},{"$f":"陸連登録!F7","v":23},{"$f":"陸連登録!B7","v":0},null,{"$f":"IF(O12=\"\",\"\",IF(I12=1,VLOOKUP(O12,男子種目コード!$J$30:$K$31,2,FALSE),IF(I12=2,VLOOKUP(O12,女子種目コード!$J$30:$K$31,2,FALSE))))","v":""},null,0,"高校","0高校",null,null,null,null,null,null,null,null,null,null,null,null,null,null,null,""]
[null,{"$f":"#REF!","v":{"$error":"#REF!"}},null,null,{"$f":"陸連登録!M8","v":0},{"$f":"陸連登録!C8","v":0},{"$f":"陸連登録!D8","v":0},0,{"$f":"陸連登録!A8","v":""},{"$f":"陸連登録!P8","v":0},{"$f":"LEFT(陸連登録!L8,4)","v":""},{"$f":"RIGHT(陸連登録!L8,4)","v":""},{"$f":"陸連登録!F8","v":23},{"$f":"陸連登録!B8","v":0},null,{"$f":"IF(O13=\"\",\"\",IF(I13=1,VLOOKUP(O13,男子種目コード!$J$30:$K$31,2,FALSE),IF(I13=2,VLOOKUP(O13,女子種目コード!$J$30:$K$31,2,FALSE))))","v":""},null,0,"高校","0高校",null,null,null,null,null,null,null,null,null,null,null,null,null,null,null,""]
[null,{"$f":"#REF!","v":{"$error":"#REF!"}},null,null,{"$f":"陸連登録!M9","v":0},{"$f":"陸連登録!C9","v":0},{"$f":"陸連登録!D9","v":0},0,{"$f":"陸連登録!A9","v":""},{"$f":"陸連登録!P9","v":0},{"$f":"LEFT(陸連登録!L9,4)","v":""},{"$f":"RIGHT(陸連登録!L9,4)","v":""},{"$f":"陸連登録!F9","v":23},{"$f":"陸連登録!B9","v":0},null,{"$f":"IF(O14=\"\",\"\",IF(I14=1,VLOOKUP(O14,男子種目コード!$J$30:$K$31,2,FALSE),IF(I14=2,VLOOKUP(O14,女子種目コード!$J$30:$K$31,2,FALSE))))","v":""},null,0,"高校","0高校",null,null,null,null,null,null,null,null,null,null,null,null,null,null,null,""]
[null,{"$f":"#REF!","v":{"$error":"#REF!"}},null,null,{"$f":"陸連登録!M10","v":0},{"$f":"陸連登録!C10","v":0},{"$f":"陸連登録!D10","v":0},0,{"$f":"陸連登録!A10","v":""},{"$f":"陸連登録!P10","v":0},{"$f":"LEFT(陸連登録!L10,4)","v":""},{"$f":"RIGHT(陸連登録!L10,4)","v":""},{"$f":"陸連登録!F10","v":23},{"$f":"陸連登録!B10","v":0},null,{"$f":"IF(O15=\"\",\"\",IF(I15=1,VLOOKUP(O15,男子種目コード!$J$30:$K$31,2,FALSE),IF(I15=2,VLOOKUP(O15,女子種目コード!$J$30:$K$31,2,FALSE))))","v":""},null,0,"高校","0高校",null,null,null,null,null,null,null,null,null,null,null,null,null,null,null,""]
[null,{"$f":"#REF!","v":{"$error":"#REF!"}},null,null,{"$f":"陸連登録!M11","v":0},{"$f":"陸連登録!C11","v":0},{"$f":"陸連登録!D11","v":0},0,{"$f":"陸連登録!A11","v":""},{"$f":"陸連登録!P11","v":0},{"$f":"LEFT(陸連登録!L11,4)","v":""},{"$f":"RIGHT(陸連登録!L11,4)","v":""},{"$f":"陸連登録!F11","v":23},{"$f":"陸連登録!B11","v":0},null,{"$f":"IF(O16=\"\",\"\",IF(I16=1,VLOOKUP(O16,男子種目コード!$J$30:$K$31,2,FALSE),IF(I16=2,VLOOKUP(O16,女子種目コード!$J$30:$K$31,2,FALSE))))","v":""},null,0,"高校","0高校",null,null,null,null,null,null,null,null,null,null,null,null,null,null,null,""]
[null,{"$f":"#REF!","v":{"$error":"#REF!"}},null,null,{"$f":"陸連登録!M12","v":0},{"$f":"陸連登録!C12","v":0},{"$f":"陸連登録!D12","v":0},0,{"$f":"陸連登録!A12","v":""},{"$f":"陸連登録!P12","v":0},{"$f":"LEFT(陸連登録!L12,4)","v":""},{"$f":"RIGHT(陸連登録!L12,4)","v":""},{"$f":"陸連登録!F12","v":23},{"$f":"陸連登録!B12","v":0},null,{"$f":"IF(O17=\"\",\"\",IF(I17=1,VLOOKUP(O17,男子種目コード!$J$30:$K$31,2,FALSE),IF(I17=2,VLOOKUP(O17,女子種目コード!$J$30:$K$31,2,FALSE))))","v":""},null,0,"高校","0高校",null,null,null,null,null,null,null,null,null,null,null,null,null,null,null,""]
[null,{"$f":"#REF!","v":{"$error":"#REF!"}},null,null,{"$f":"陸連登録!M13","v":0},{"$f":"陸連登録!C13","v":0},{"$f":"陸連登録!D13","v":0},0,{"$f":"陸連登録!A13","v":""},{"$f":"陸連登録!P13","v":0},{"$f":"LEFT(陸連登録!L13,4)","v":""},{"$f":"RIGHT(陸連登録!L13,4)","v":""},{"$f":"陸連登録!F13","v":23},{"$f":"陸連登録!B13","v":0},null,{"$f":"IF(O18=\"\",\"\",IF(I18=1,VLOOKUP(O18,男子種目コード!$J$30:$K$31,2,FALSE),IF(I18=2,VLOOKUP(O18,女子種目コード!$J$30:$K$31,2,FALSE))))","v":""},null,0,"高校","0高校",null,null,null,null,null,null,null,null,null,null,null,null,null,null,null,""]
[null,{"$f":"#REF!","v":{"$error":"#REF!"}},null,null,{"$f":"陸連登録!M14","v":0},{"$f":"陸連登録!C14","v":0},{"$f":"陸連登録!D14","v":0},0,{"$f":"陸連登録!A14","v":""},{"$f":"陸連登録!P14","v":0},{"$f":"LEFT(陸連登録!L14,4)","v":""},{"$f":"RIGHT(陸連登録!L14,4)","v":""},{"$f":"陸連登録!F14","v":23},{"$f":"陸連登録!B14","v":0},null,{"$f":"IF(O19=\"\",\"\",IF(I19=1,VLOOKUP(O19,男子種目コード!$J$30:$K$31,2,FALSE),IF(I19=2,VLOOKUP(O19,女子種目コード!$J$30:$K$31,2,FALSE))))","v":""},null,0,"高校","0高校",null,null,null,null,null,null,null,null,null,null,null,null,null,null,null,""]
[null,{"$f":"#REF!","v":{"$error":"#REF!"}},null,null,{"$f":"陸連登録!M15","v":0},{"$f":"陸連登録!C15","v":0},{"$f":"陸連登録!D15","v":0},0,{"$f":"陸連登録!A15","v":""},{"$f":"陸連登録!P15","v":0},{"$f":"LEFT(陸連登録!L15,4)","v":""},{"$f":"RIGHT(陸連登録!L15,4)","v":""},{"$f":"陸連登録!F15","v":23},{"$f":"陸連登録!B15","v":0},null,{"$f":"IF(O20=\"\",\"\",IF(I20=1,VLOOKUP(O20,男子種目コード!$J$30:$K$31,2,FALSE),IF(I20=2,VLOOKUP(O20,女子種目コード!$J$30:$K$31,2,FALSE))))","v":""},null,0,"高校","0高校",null,null,null,null,null,null,null,null,null,null,null,null,null,null,null,""]
[null,{"$f":"#REF!","v":{"$error":"#REF!"}},null,null,{"$f":"陸連登録!M16","v":0},{"$f":"陸連登録!C16","v":0},{"$f":"陸連登録!D16","v":0},0,{"$f":"陸連登録!A16","v":""},{"$f":"陸連登録!P16","v":0},{"$f":"LEFT(陸連登録!L16,4)","v":""},{"$f":"RIGHT(陸連登録!L16,4)","v":""},{"$f":"陸連登録!F16","v":23},{"$f":"陸連登録!B16","v":0},null,{"$f":"IF(O21=\"\",\"\",IF(I21=1,VLOOKUP(O21,男子種目コード!$J$30:$K$31,2,FALSE),IF(I21=2,VLOOKUP(O21,女子種目コード!$J$30:$K$31,2,FALSE))))","v":""},null,0,"高校","0高校",null,null,null,null,null,null,null,null,null,null,null,null,null,null,null,""]
[null,{"$f":"#REF!","v":{"$error":"#REF!"}},null,null,{"$f":"陸連登録!M17","v":0},{"$f":"陸連登録!C17","v":0},{"$f":"陸連登録!D17","v":0},0,{"$f":"陸連登録!A17","v":""},{"$f":"陸連登録!P17","v":0},{"$f":"LEFT(陸連登録!L17,4)","v":""},{"$f":"RIGHT(陸連登録!L17,4)","v":""},{"$f":"陸連登録!F17","v":23},{"$f":"陸連登録!B17","v":0},null,{"$f":"IF(O22=\"\",\"\",IF(I22=1,VLOOKUP(O22,男子種目コード!$J$30:$K$31,2,FALSE),IF(I22=2,VLOOKUP(O22,女子種目コード!$J$30:$K$31,2,FALSE))))","v":""},null,0,"高校","0高校",null,null,null,null,null,null,null,null,null,null,null,null,null,null,null,""]
[null,{"$f":"#REF!","v":{"$error":"#REF!"}},null,null,{"$f":"陸連登録!M18","v":0},{"$f":"陸連登録!C18","v":0},{"$f":"陸連登録!D18","v":0},0,{"$f":"陸連登録!A18","v":""},{"$f":"陸連登録!P18","v":0},{"$f":"LEFT(陸連登録!L18,4)","v":""},{"$f":"RIGHT(陸連登録!L18,4)","v":""},{"$f":"陸連登録!F18","v":23},{"$f":"陸連登録!B18","v":0},null,{"$f":"IF(O23=\"\",\"\",IF(I23=1,VLOOKUP(O23,男子種目コード!$J$30:$K$31,2,FALSE),IF(I23=2,VLOOKUP(O23,女子種目コード!$J$30:$K$31,2,FALSE))))","v":""},null,0,"高校","0高校",null,null,null,null,null,null,null,null,null,null,null,null,null,null,null,""]
[null,{"$f":"#REF!","v":{"$error":"#REF!"}},null,null,{"$f":"陸連登録!M19","v":0},{"$f":"陸連登録!C19","v":0},{"$f":"陸連登録!D19","v":0},0,{"$f":"陸連登録!A19","v":""},{"$f":"陸連登録!P19","v":0},{"$f":"LEFT(陸連登録!L19,4)","v":""},{"$f":"RIGHT(陸連登録!L19,4)","v":""},{"$f":"陸連登録!F19","v":23},{"$f":"陸連登録!B19","v":0},null,{"$f":"IF(O24=\"\",\"\",IF(I24=1,VLOOKUP(O24,男子種目コード!$J$30:$K$31,2,FALSE),IF(I24=2,VLOOKUP(O24,女子種目コード!$J$30:$K$31,2,FALSE))))","v":""},null,0,"高校","0高校",null,null,null,null,null,null,null,null,null,null,null,null,null,null,null,""]
[null,{"$f":"#REF!","v":{"$error":"#REF!"}},null,null,{"$f":"陸連登録!M20","v":0},{"$f":"陸連登録!C20","v":0},{"$f":"陸連登録!D20","v":0},0,{"$f":"陸連登録!A20","v":""},{"$f":"陸連登録!P20","v":0},{"$f":"LEFT(陸連登録!L20,4)","v":""},{"$f":"RIGHT(陸連登録!L20,4)","v":""},{"$f":"陸連登録!F20","v":23},{"$f":"陸連登録!B20","v":0},null,{"$f":"IF(O25=\"\",\"\",IF(I25=1,VLOOKUP(O25,男子種目コード!$J$30:$K$31,2,FALSE),IF(I25=2,VLOOKUP(O25,女子種目コード!$J$30:$K$31,2,FALSE))))","v":""},null,0,"高校","0高校",null,null,null,null,null,null,null,null,null,null,null,null,null,null,null,""]
[null,{"$f":"#REF!","v":{"$error":"#REF!"}},null,null,{"$f":"陸連登録!M21","v":0},{"$f":"陸連登録!C21","v":0},{"$f":"陸連登録!D21","v":0},0,{"$f":"陸連登録!A21","v":""},{"$f":"陸連登録!P21","v":0},{"$f":"LEFT(陸連登録!L21,4)","v":""},{"$f":"RIGHT(陸連登録!L21,4)","v":""},{"$f":"陸連登録!F21","v":23},{"$f":"陸連登録!B21","v":0},null,{"$f":"IF(O26=\"\",\"\",IF(I26=1,VLOOKUP(O26,男子種目コード!$J$30:$K$31,2,FALSE),IF(I26=2,VLOOKUP(O26,女子種目コード!$J$30:$K$31,2,FALSE))))","v":""},null,0,"高校","0高校",null,null,null,null,null,null,null,null,null,null,null,null,null,null,null,""]
[null,{"$f":"#REF!","v":{"$error":"#REF!"}},null,null,{"$f":"陸連登録!M22","v":0},{"$f":"陸連登録!C22","v":0},{"$f":"陸連登録!D22","v":0},0,{"$f":"陸連登録!A22","v":""},{"$f":"陸連登録!P22","v":0},{"$f":"LEFT(陸連登録!L22,4)","v":""},{"$f":"RIGHT(陸連登録!L22,4)","v":""},{"$f":"陸連登録!F22","v":23},{"$f":"陸連登録!B22","v":0},null,{"$f":"IF(O27=\"\",\"\",IF(I27=1,VLOOKUP(O27,男子種目コード!$J$30:$K$31,2,FALSE),IF(I27=2,VLOOKUP(O27,女子種目コード!$J$30:$K$31,2,FALSE))))","v":""},null,0,"高校","0高校",null,null,null,null,null,null,null,null,null,null,null,null,null,null,null,""]
[null,{"$f":"#REF!","v":{"$error":"#REF!"}},null,null,{"$f":"陸連登録!M23","v":0},{"$f":"陸連登録!C23","v":0},{"$f":"陸連登録!D23","v":0},0,{"$f":"陸連登録!A23","v":""},{"$f":"陸連登録!P23","v":0},{"$f":"LEFT(陸連登録!L23,4)","v":""},{"$f":"RIGHT(陸連登録!L23,4)","v":""},{"$f":"陸連登録!F23","v":23},{"$f":"陸連登録!B23","v":0},null,{"$f":"IF(O28=\"\",\"\",IF(I28=1,VLOOKUP(O28,男子種目コード!$J$30:$K$31,2,FALSE),IF(I28=2,VLOOKUP(O28,女子種目コード!$J$30:$K$31,2,FALSE))))","v":""},null,0,"高校","0高校",null,null,null,null,null,null,null,null,null,null,null,null,null,null,null,""]
[null,{"$f":"#REF!","v":{"$error":"#REF!"}},null,null,{"$f":"陸連登録!M24","v":0},{"$f":"陸連登録!C24","v":0},{"$f":"陸連登録!D24","v":0},0,{"$f":"陸連登録!A24","v":""},{"$f":"陸連登録!P24","v":0},{"$f":"LEFT(陸連登録!L24,4)","v":""},{"$f":"RIGHT(陸連登録!L24,4)","v":""},{"$f":"陸連登録!F24","v":23},{"$f":"陸連登録!B24","v":0},null,{"$f":"IF(O29=\"\",\"\",IF(I29=1,VLOOKUP(O29,男子種目コード!$J$30:$K$31,2,FALSE),IF(I29=2,VLOOKUP(O29,女子種目コード!$J$30:$K$31,2,FALSE))))","v":""},null,0,"高校","0高校",null,null,null,null,null,null,null,null,null,null,null,null,null,null,null,""]
[null,{"$f":"#REF!","v":{"$error":"#REF!"}},null,null,{"$f":"陸連登録!M25","v":0},{"$f":"陸連登録!C25","v":0},{"$f":"陸連登録!D25","v":0},0,{"$f":"陸連登録!A25","v":""},{"$f":"陸連登録!P25","v":0},{"$f":"LEFT(陸連登録!L25,4)","v":""},{"$f":"RIGHT(陸連登録!L25,4)","v":""},{"$f":"陸連登録!F25","v":23},{"$f":"陸連登録!B25","v":0},null,{"$f":"IF(O30=\"\",\"\",IF(I30=1,VLOOKUP(O30,男子種目コード!$J$30:$K$31,2,FALSE),IF(I30=2,VLOOKUP(O30,女子種目コード!$J$30:$K$31,2,FALSE))))","v":""},null,0,"高校","0高校",null,null,null,null,null,null,null,null,null,null,null,null,null,null,null,""]
[null,{"$f":"#REF!","v":{"$error":"#REF!"}},null,null,{"$f":"陸連登録!M26","v":0},{"$f":"陸連登録!C26","v":0},{"$f":"陸連登録!D26","v":0},0,{"$f":"陸連登録!A26","v":""},{"$f":"陸連登録!P26","v":0},{"$f":"LEFT(陸連登録!L26,4)","v":""},{"$f":"RIGHT(陸連登録!L26,4)","v":""},{"$f":"陸連登録!F26","v":23},{"$f":"陸連登録!B26","v":0},null,{"$f":"IF(O31=\"\",\"\",IF(I31=1,VLOOKUP(O31,男子種目コード!$J$30:$K$31,2,FALSE),IF(I31=2,VLOOKUP(O31,女子種目コード!$J$30:$K$31,2,FALSE))))","v":""},null,0,"高校","0高校",null,null,null,null,null,null,null,null,null,null,null,null,null,null,null,""]
[null,{"$f":"#REF!","v":{"$error":"#REF!"}},null,null,{"$f":"陸連登録!M27","v":0},{"$f":"陸連登録!C27","v":0},{"$f":"陸連登録!D27","v":0},0,{"$f":"陸連登録!A27","v":""},{"$f":"陸連登録!P27","v":0},{"$f":"LEFT(陸連登録!L27,4)","v":""},{"$f":"RIGHT(陸連登録!L27,4)","v":""},{"$f":"陸連登録!F27","v":23},{"$f":"陸連登録!B27","v":0},null,{"$f":"IF(O32=\"\",\"\",IF(I32=1,VLOOKUP(O32,男子種目コード!$J$30:$K$31,2,FALSE),IF(I32=2,VLOOKUP(O32,女子種目コード!$J$30:$K$31,2,FALSE))))","v":""},null,0,"高校","0高校",null,null,null,null,null,null,null,null,null,null,null,null,null,null,null,""]
[null,{"$f":"#REF!","v":{"$error":"#REF!"}},null,null,{"$f":"陸連登録!M28","v":0},{"$f":"陸連登録!C28","v":0},{"$f":"陸連登録!D28","v":0},0,{"$f":"陸連登録!A28","v":""},{"$f":"陸連登録!P28","v":0},{"$f":"LEFT(陸連登録!L28,4)","v":""},{"$f":"RIGHT(陸連登録!L28,4)","v":""},{"$f":"陸連登録!F28","v":23},{"$f":"陸連登録!B28","v":0},null,{"$f":"IF(O33=\"\",\"\",IF(I33=1,VLOOKUP(O33,男子種目コード!$J$30:$K$31,2,FALSE),IF(I33=2,VLOOKUP(O33,女子種目コード!$J$30:$K$31,2,FALSE))))","v":""},null,0,"高校","0高校",null,null,null,null,null,null,null,null,null,null,null,null,null,null,null,""]
[null,{"$f":"#REF!","v":{"$error":"#REF!"}},null,null,{"$f":"陸連登録!M29","v":0},{"$f":"陸連登録!C29","v":0},{"$f":"陸連登録!D29","v":0},0,{"$f":"陸連登録!A29","v":""},{"$f":"陸連登録!P29","v":0},{"$f":"LEFT(陸連登録!L29,4)","v":""},{"$f":"RIGHT(陸連登録!L29,4)","v":""},{"$f":"陸連登録!F29","v":23},{"$f":"陸連登録!B29","v":0},null,{"$f":"IF(O34=\"\",\"\",IF(I34=1,VLOOKUP(O34,男子種目コード!$J$30:$K$31,2,FALSE),IF(I34=2,VLOOKUP(O34,女子種目コード!$J$30:$K$31,2,FALSE))))","v":""},null,0,"高校","0高校",null,null,null,null,null,null,null,null,null,null,null,null,null,null,null,""]
[null,{"$f":"#REF!","v":{"$error":"#REF!"}},null,null,{"$f":"陸連登録!M30","v":0},{"$f":"陸連登録!C30","v":0},{"$f":"陸連登録!D30","v":0},0,{"$f":"陸連登録!A30","v":""},{"$f":"陸連登録!P30","v":0},{"$f":"LEFT(陸連登録!L30,4)","v":""},{"$f":"RIGHT(陸連登録!L30,4)","v":""},{"$f":"陸連登録!F30","v":23},{"$f":"陸連登録!B30","v":0},null,{"$f":"IF(O35=\"\",\"\",IF(I35=1,VLOOKUP(O35,男子種目コード!$J$30:$K$31,2,FALSE),IF(I35=2,VLOOKUP(O35,女子種目コード!$J$30:$K$31,2,FALSE))))","v":""},null,0,"高校","0高校",null,null,null,null,null,null,null,null,null,null,null,null,null,null,null,""]
[null,{"$f":"#REF!","v":{"$error":"#REF!"}},null,null,{"$f":"陸連登録!M31","v":0},{"$f":"陸連登録!C31","v":0},{"$f":"陸連登録!D31","v":0},0,{"$f":"陸連登録!A31","v":""},{"$f":"陸連登録!P31","v":0},{"$f":"LEFT(陸連登録!L31,4)","v":""},{"$f":"RIGHT(陸連登録!L31,4)","v":""},{"$f":"陸連登録!F31","v":23},{"$f":"陸連登録!B31","v":0},null,{"$f":"IF(O36=\"\",\"\",IF(I36=1,VLOOKUP(O36,男子種目コード!$J$30:$K$31,2,FALSE),IF(I36=2,VLOOKUP(O36,女子種目コード!$J$30:$K$31,2,FALSE))))","v":""},null,0,"高校","0高校",null,null,null,null,null,null,null,null,null,null,null,null,null,null,null,""]
[null,{"$f":"#REF!","v":{"$error":"#REF!"}},null,null,{"$f":"陸連登録!M32","v":0},{"$f":"陸連登録!C32","v":0},{"$f":"陸連登録!D32","v":0},0,{"$f":"陸連登録!A32","v":""},{"$f":"陸連登録!P32","v":0},{"$f":"LEFT(陸連登録!L32,4)","v":""},{"$f":"RIGHT(陸連登録!L32,4)","v":""},{"$f":"陸連登録!F32","v":23},{"$f":"陸連登録!B32","v":0},null,{"$f":"IF(O37=\"\",\"\",IF(I37=1,VLOOKUP(O37,男子種目コード!$J$30:$K$31,2,FALSE),IF(I37=2,VLOOKUP(O37,女子種目コード!$J$30:$K$31,2,FALSE))))","v":""},null,0,"高校","0高校",null,null,null,null,null,null,null,null,null,null,null,null,null,null,null,""]
[null,{"$f":"#REF!","v":{"$error":"#REF!"}},null,null,{"$f":"陸連登録!M33","v":0},{"$f":"陸連登録!C33","v":0},{"$f":"陸連登録!D33","v":0},0,{"$f":"陸連登録!A33","v":""},{"$f":"陸連登録!P33","v":0},{"$f":"LEFT(陸連登録!L33,4)","v":""},{"$f":"RIGHT(陸連登録!L33,4)","v":""},{"$f":"陸連登録!F33","v":23},{"$f":"陸連登録!B33","v":0},null,{"$f":"IF(O38=\"\",\"\",IF(I38=1,VLOOKUP(O38,男子種目コード!$J$30:$K$31,2,FALSE),IF(I38=2,VLOOKUP(O38,女子種目コード!$J$30:$K$31,2,FALSE))))","v":""},null,0,"高校","0高校",null,null,null,null,null,null,null,null,null,null,null,null,null,null,null,""]
[null,{"$f":"#REF!","v":{"$error":"#REF!"}},null,null,{"$f":"陸連登録!M34","v":0},{"$f":"陸連登録!C34","v":0},{"$f":"陸連登録!D34","v":0},0,{"$f":"陸連登録!A34","v":""},{"$f":"陸連登録!P34","v":0},{"$f":"LEFT(陸連登録!L34,4)","v":""},{"$f":"RIGHT(陸連登録!L34,4)","v":""},{"$f":"陸連登録!F34","v":23},{"$f":"陸連登録!B34","v":0},null,{"$f":"IF(O39=\"\",\"\",IF(I39=1,VLOOKUP(O39,男子種目コード!$J$30:$K$31,2,FALSE),IF(I39=2,VLOOKUP(O39,女子種目コード!$J$30:$K$31,2,FALSE))))","v":""},null,0,"高校","0高校",null,null,null,null,null,null,null,null,null,null,null,null,null,null,null,""]
[null,{"$f":"#REF!","v":{"$error":"#REF!"}},null,null,{"$f":"陸連登録!M35","v":0},{"$f":"陸連登録!C35","v":0},{"$f":"陸連登録!D35","v":0},0,{"$f":"陸連登録!A35","v":""},{"$f":"陸連登録!P35","v":0},{"$f":"LEFT(陸連登録!L35,4)","v":""},{"$f":"RIGHT(陸連登録!L35,4)","v":""},{"$f":"陸連登録!F35","v":23},{"$f":"陸連登録!B35","v":0},null,{"$f":"IF(O40=\"\",\"\",IF(I40=1,VLOOKUP(O40,男子種目コード!$J$30:$K$31,2,FALSE),IF(I40=2,VLOOKUP(O40,女子種目コード!$J$30:$K$31,2,FALSE))))","v":""},null,0,"高校","0高校",null,null,null,null,null,null,null,null,null,null,null,null,null,null,null,""]
[null,{"$f":"#REF!","v":{"$error":"#REF!"}},null,null,{"$f":"陸連登録!M36","v":0},{"$f":"陸連登録!C36","v":0},{"$f":"陸連登録!D36","v":0},0,{"$f":"陸連登録!A36","v":""},{"$f":"陸連登録!P36","v":0},{"$f":"LEFT(陸連登録!L36,4)","v":""},{"$f":"RIGHT(陸連登録!L36,4)","v":""},{"$f":"陸連登録!F36","v":23},{"$f":"陸連登録!B36","v":0},null,{"$f":"IF(O41=\"\",\"\",IF(I41=1,VLOOKUP(O41,男子種目コード!$J$30:$K$31,2,FALSE),IF(I41=2,VLOOKUP(O41,女子種目コード!$J$30:$K$31,2,FALSE))))","v":""},null,0,"高校","0高校",null,null,null,null,null,null,null,null,null,null,null,null,null,null,null,""]
[null,{"$f":"#REF!","v":{"$error":"#REF!"}},null,null,{"$f":"陸連登録!M37","v":0},{"$f":"陸連登録!C37","v":0},{"$f":"陸連登録!D37","v":0},0,{"$f":"陸連登録!A37","v":""},{"$f":"陸連登録!P37","v":0},{"$f":"LEFT(陸連登録!L37,4)","v":""},{"$f":"RIGHT(陸連登録!L37,4)","v":""},{"$f":"陸連登録!F37","v":23},{"$f":"陸連登録!B37","v":0},null,{"$f":"IF(O42=\"\",\"\",IF(I42=1,VLOOKUP(O42,男子種目コード!$J$30:$K$31,2,FALSE),IF(I42=2,VLOOKUP(O42,女子種目コード!$J$30:$K$31,2,FALSE))))","v":""},null,0,"高校","0高校",null,null,null,null,null,null,null,null,null,null,null,null,null,null,null,""]
[null,{"$f":"#REF!","v":{"$error":"#REF!"}},null,null,{"$f":"陸連登録!M38","v":0},{"$f":"陸連登録!C38","v":0},{"$f":"陸連登録!D38","v":0},0,{"$f":"陸連登録!A38","v":""},{"$f":"陸連登録!P38","v":0},{"$f":"LEFT(陸連登録!L38,4)","v":""},{"$f":"RIGHT(陸連登録!L38,4)","v":""},{"$f":"陸連登録!F38","v":23},{"$f":"陸連登録!B38","v":0},null,{"$f":"IF(O43=\"\",\"\",IF(I43=1,VLOOKUP(O43,男子種目コード!$J$30:$K$31,2,FALSE),IF(I43=2,VLOOKUP(O43,女子種目コード!$J$30:$K$31,2,FALSE))))","v":""},null,0,"高校","0高校",null,null,null,null,null,null,null,null,null,null,null,null,null,null,null,""]
[null,{"$f":"#REF!","v":{"$error":"#REF!"}},null,null,{"$f":"陸連登録!M39","v":0},{"$f":"陸連登録!C39","v":0},{"$f":"陸連登録!D39","v":0},0,{"$f":"陸連登録!A39","v":""},{"$f":"陸連登録!P39","v":0},{"$f":"LEFT(陸連登録!L39,4)","v":""},{"$f":"RIGHT(陸連登録!L39,4)","v":""},{"$f":"陸連登録!F39","v":23},{"$f":"陸連登録!B39","v":0},null,{"$f":"IF(O44=\"\",\"\",IF(I44=1,VLOOKUP(O44,男子種目コード!$J$30:$K$31,2,FALSE),IF(I44=2,VLOOKUP(O44,女子種目コード!$J$30:$K$31,2,FALSE))))","v":""},null,0,"高校","0高校",null,null,null,null,null,null,null,null,null,null,null,null,null,null,null,""]
[null,{"$f":"#REF!","v":{"$error":"#REF!"}},null,null,{"$f":"陸連登録!M40","v":0},{"$f":"陸連登録!C40","v":0},{"$f":"陸連登録!D40","v":0},0,{"$f":"陸連登録!A40","v":""},{"$f":"陸連登録!P40","v":0},{"$f":"LEFT(陸連登録!L40,4)","v":""},{"$f":"RIGHT(陸連登録!L40,4)","v":""},{"$f":"陸連登録!F40","v":23},{"$f":"陸連登録!B40","v":0},null,{"$f":"IF(O45=\"\",\"\",IF(I45=1,VLOOKUP(O45,男子種目コード!$J$30:$K$31,2,FALSE),IF(I45=2,VLOOKUP(O45,女子種目コード!$J$30:$K$31,2,FALSE))))","v":""},null,0,"高校","0高校",null,null,null,null,null,null,null,null,null,null,null,null,null,null,null,""]
[null,{"$f":"#REF!","v":{"$error":"#REF!"}},null,null,{"$f":"陸連登録!M41","v":0},{"$f":"陸連登録!C41","v":0},{"$f":"陸連登録!D41","v":0},0,{"$f":"陸連登録!A41","v":""},{"$f":"陸連登録!P41","v":0},{"$f":"LEFT(陸連登録!L41,4)","v":""},{"$f":"RIGHT(陸連登録!L41,4)","v":""},{"$f":"陸連登録!F41","v":23},{"$f":"陸連登録!B41","v":0},null,{"$f":"IF(O46=\"\",\"\",IF(I46=1,VLOOKUP(O46,男子種目コード!$J$30:$K$31,2,FALSE),IF(I46=2,VLOOKUP(O46,女子種目コード!$J$30:$K$31,2,FALSE))))","v":""},null,0,"高校","0高校",null,null,null,null,null,null,null,null,null,null,null,null,null,null,null,""]
[null,{"$f":"#REF!","v":{"$error":"#REF!"}},null,null,{"$f":"陸連登録!M42","v":0},{"$f":"陸連登録!C42","v":0},{"$f":"陸連登録!D42","v":0},0,{"$f":"陸連登録!A42","v":""},{"$f":"陸連登録!P42","v":0},{"$f":"LEFT(陸連登録!L42,4)","v":""},{"$f":"RIGHT(陸連登録!L42,4)","v":""},{"$f":"陸連登録!F42","v":23},{"$f":"陸連登録!B42","v":0},null,{"$f":"IF(O47=\"\",\"\",IF(I47=1,VLOOKUP(O47,男子種目コード!$J$30:$K$31,2,FALSE),IF(I47=2,VLOOKUP(O47,女子種目コード!$J$30:$K$31,2,FALSE))))","v":""},null,0,"高校","0高校",null,null,null,null,null,null,null,null,null,null,null,null,null,null,null,""]
[null,{"$f":"#REF!","v":{"$error":"#REF!"}},null,null,{"$f":"陸連登録!M43","v":0},{"$f":"陸連登録!C43","v":0},{"$f":"陸連登録!D43","v":0},0,{"$f":"陸連登録!A43","v":""},{"$f":"陸連登録!P43","v":0},{"$f":"LEFT(陸連登録!L43,4)","v":""},{"$f":"RIGHT(陸連登録!L43,4)","v":""},{"$f":"陸連登録!F43","v":23},{"$f":"陸連登録!B43","v":0},null,{"$f":"IF(O48=\"\",\"\",IF(I48=1,VLOOKUP(O48,男子種目コード!$J$30:$K$31,2,FALSE),IF(I48=2,VLOOKUP(O48,女子種目コード!$J$30:$K$31,2,FALSE))))","v":""},null,0,"高校","0高校",null,null,null,null,null,null,null,null,null,null,null,null,null,null,null,""]
[null,{"$f":"#REF!","v":{"$error":"#REF!"}},null,null,{"$f":"陸連登録!M44","v":0},{"$f":"陸連登録!C44","v":0},{"$f":"陸連登録!D44","v":0},0,{"$f":"陸連登録!A44","v":""},{"$f":"陸連登録!P44","v":0},{"$f":"LEFT(陸連登録!L44,4)","v":""},{"$f":"RIGHT(陸連登録!L44,4)","v":""},{"$f":"陸連登録!F44","v":23},{"$f":"陸連登録!B44","v":0},null,{"$f":"IF(O49=\"\",\"\",IF(I49=1,VLOOKUP(O49,男子種目コード!$J$30:$K$31,2,FALSE),IF(I49=2,VLOOKUP(O49,女子種目コード!$J$30:$K$31,2,FALSE))))","v":""},null,0,"高校","0高校",null,null,null,null,null,null,null,null,null,null,null,null,null,null,null,""]
[null,{"$f":"#REF!","v":{"$error":"#REF!"}},null,null,{"$f":"陸連登録!M45","v":0},{"$f":"陸連登録!C45","v":0},{"$f":"陸連登録!D45","v":0},0,{"$f":"陸連登録!A45","v":""},{"$f":"陸連登録!P45","v":0},{"$f":"LEFT(陸連登録!L45,4)","v":""},{"$f":"RIGHT(陸連登録!L45,4)","v":""},{"$f":"陸連登録!F45","v":23},{"$f":"陸連登録!B45","v":0},null,{"$f":"IF(O50=\"\",\"\",IF(I50=1,VLOOKUP(O50,男子種目コード!$J$30:$K$31,2,FALSE),IF(I50=2,VLOOKUP(O50,女子種目コード!$J$30:$K$31,2,FALSE))))","v":""},null,0,"高校","0高校",null,null,null,null,null,null,null,null,null,null,null,null,null,null,null,""]
[null,{"$f":"#REF!","v":{"$error":"#REF!"}},null,null,{"$f":"陸連登録!M46","v":0},{"$f":"陸連登録!C46","v":0},{"$f":"陸連登録!D46","v":0},0,{"$f":"陸連登録!A46","v":""},{"$f":"陸連登録!P46","v":0},{"$f":"LEFT(陸連登録!L46,4)","v":""},{"$f":"RIGHT(陸連登録!L46,4)","v":""},{"$f":"陸連登録!F46","v":23},{"$f":"陸連登録!B46","v":0},null,{"$f":"IF(O51=\"\",\"\",IF(I51=1,VLOOKUP(O51,男子種目コード!$J$30:$K$31,2,FALSE),IF(I51=2,VLOOKUP(O51,女子種目コード!$J$30:$K$31,2,FALSE))))","v":""},null,0,"高校","0高校",null,null,null,null,null,null,null,null,null,null,null,null,null,null,null,""]
[null,{"$f":"#REF!","v":{"$error":"#REF!"}},null,null,{"$f":"陸連登録!M47","v":0},{"$f":"陸連登録!C47","v":0},{"$f":"陸連登録!D47","v":0},0,{"$f":"陸連登録!A47","v":""},{"$f":"陸連登録!P47","v":0},{"$f":"LEFT(陸連登録!L47,4)","v":""},{"$f":"RIGHT(陸連登録!L47,4)","v":""},{"$f":"陸連登録!F47","v":23},{"$f":"陸連登録!B47","v":0},null,{"$f":"IF(O52=\"\",\"\",IF(I52=1,VLOOKUP(O52,男子種目コード!$J$30:$K$31,2,FALSE),IF(I52=2,VLOOKUP(O52,女子種目コード!$J$30:$K$31,2,FALSE))))","v":""},null,0,"高校","0高校",null,null,null,null,null,null,null,null,null,null,null,null,null,null,null,""]
[null,{"$f":"#REF!","v":{"$error":"#REF!"}},null,null,{"$f":"陸連登録!M48","v":0},{"$f":"陸連登録!C48","v":0},{"$f":"陸連登録!D48","v":0},0,{"$f":"陸連登録!A48","v":""},{"$f":"陸連登録!P48","v":0},{"$f":"LEFT(陸連登録!L48,4)","v":""},{"$f":"RIGHT(陸連登録!L48,4)","v":""},{"$f":"陸連登録!F48","v":23},{"$f":"陸連登録!B48","v":0},null,{"$f":"IF(O53=\"\",\"\",IF(I53=1,VLOOKUP(O53,男子種目コード!$J$30:$K$31,2,FALSE),IF(I53=2,VLOOKUP(O53,女子種目コード!$J$30:$K$31,2,FALSE))))","v":""},null,0,"高校","0高校",null,null,null,null,null,null,null,null,null,null,null,null,null,null,null,""]
[null,{"$f":"#REF!","v":{"$error":"#REF!"}},null,null,{"$f":"陸連登録!M49","v":0},{"$f":"陸連登録!C49","v":0},{"$f":"陸連登録!D49","v":0},0,{"$f":"陸連登録!A49","v":""},{"$f":"陸連登録!P49","v":0},{"$f":"LEFT(陸連登録!L49,4)","v":""},{"$f":"RIGHT(陸連登録!L49,4)","v":""},{"$f":"陸連登録!F49","v":23},{"$f":"陸連登録!B49","v":0},null,{"$f":"IF(O54=\"\",\"\",IF(I54=1,VLOOKUP(O54,男子種目コード!$J$30:$K$31,2,FALSE),IF(I54=2,VLOOKUP(O54,女子種目コード!$J$30:$K$31,2,FALSE))))","v":""},null,0,"高校","0高校",null,null,null,null,null,null,null,null,null,null,null,null,null,null,null,""]
[null,{"$f":"#REF!","v":{"$error":"#REF!"}},null,null,{"$f":"陸連登録!M50","v":0},{"$f":"陸連登録!C50","v":0},{"$f":"陸連登録!D50","v":0},0,{"$f":"陸連登録!A50","v":""},{"$f":"陸連登録!P50","v":0},{"$f":"LEFT(陸連登録!L50,4)","v":""},{"$f":"RIGHT(陸連登録!L50,4)","v":""},{"$f":"陸連登録!F50","v":23},{"$f":"陸連登録!B50","v":0},null,{"$f":"IF(O55=\"\",\"\",IF(I55=1,VLOOKUP(O55,男子種目コード!$J$30:$K$31,2,FALSE),IF(I55=2,VLOOKUP(O55,女子種目コード!$J$30:$K$31,2,FALSE))))","v":""},null,0,"高校","0高校",null,null,null,null,null,null,null,null,null,null,null,null,null,null,null,""]
[null,{"$f":"#REF!","v":{"$error":"#REF!"}},null,null,{"$f":"陸連登録!M51","v":0},{"$f":"陸連登録!C51","v":0},{"$f":"陸連登録!D51","v":0},0,{"$f":"陸連登録!A51","v":""},{"$f":"陸連登録!P51","v":0},{"$f":"LEFT(陸連登録!L51,4)","v":""},{"$f":"RIGHT(陸連登録!L51,4)","v":""},{"$f":"陸連登録!F51","v":23},{"$f":"陸連登録!B51","v":0},null,{"$f":"IF(O56=\"\",\"\",IF(I56=1,VLOOKUP(O56,男子種目コード!$J$30:$K$31,2,FALSE),IF(I56=2,VLOOKUP(O56,女子種目コード!$J$30:$K$31,2,FALSE))))","v":""},null,0,"高校","0高校",null,null,null,null,null,null,null,null,null,null,null,null,null,null,null,""]
[null,{"$f":"#REF!","v":{"$error":"#REF!"}},null,null,{"$f":"陸連登録!M52","v":0},{"$f":"陸連登録!C52","v":0},{"$f":"陸連登録!D52","v":0},0,{"$f":"陸連登録!A52","v":""},{"$f":"陸連登録!P52","v":0},{"$f":"LEFT(陸連登録!L52,4)","v":""},{"$f":"RIGHT(陸連登録!L52,4)","v":""},{"$f":"陸連登録!F52","v":23},{"$f":"陸連登録!B52","v":0},null,{"$f":"IF(O57=\"\",\"\",IF(I57=1,VLOOKUP(O57,男子種目コード!$J$30:$K$31,2,FALSE),IF(I57=2,VLOOKUP(O57,女子種目コード!$J$30:$K$31,2,FALSE))))","v":""},null,0,"高校","0高校",null,null,null,null,null,null,null,null,null,null,null,null,null,null,null,""]
[null,{"$f":"#REF!","v":{"$error":"#REF!"}},null,null,{"$f":"陸連登録!M53","v":0},{"$f":"陸連登録!C53","v":0},{"$f":"陸連登録!D53","v":0},0,{"$f":"陸連登録!A53","v":""},{"$f":"陸連登録!P53","v":0},{"$f":"LEFT(陸連登録!L53,4)","v":""},{"$f":"RIGHT(陸連登録!L53,4)","v":""},{"$f":"陸連登録!F53","v":23},{"$f":"陸連登録!B53","v":0},null,{"$f":"IF(O58=\"\",\"\",IF(I58=1,VLOOKUP(O58,男子種目コード!$J$30:$K$31,2,FALSE),IF(I58=2,VLOOKUP(O58,女子種目コード!$J$30:$K$31,2,FALSE))))","v":""},null,0,"高校","0高校",null,null,null,null,null,null,null,null,null,null,null,null,null,null,null,""]
[null,{"$f":"#REF!","v":{"$error":"#REF!"}},null,null,{"$f":"陸連登録!M54","v":0},{"$f":"陸連登録!C54","v":0},{"$f":"陸連登録!D54","v":0},0,{"$f":"陸連登録!A54","v":""},{"$f":"陸連登録!P54","v":0},{"$f":"LEFT(陸連登録!L54,4)","v":""},{"$f":"RIGHT(陸連登録!L54,4)","v":""},{"$f":"陸連登録!F54","v":23},{"$f":"陸連登録!B54","v":0},null,{"$f":"IF(O59=\"\",\"\",IF(I59=1,VLOOKUP(O59,男子種目コード!$J$30:$K$31,2,FALSE),IF(I59=2,VLOOKUP(O59,女子種目コード!$J$30:$K$31,2,FALSE))))","v":""},null,0,"高校","0高校",null,null,null,null,null,null,null,null,null,null,null,null,null,null,null,""]
[null,{"$f":"#REF!","v":{"$error":"#REF!"}},null,null,{"$f":"陸連登録!M55","v":0},{"$f":"陸連登録!C55","v":0},{"$f":"陸連登録!D55","v":0},0,{"$f":"陸連登録!A55","v":""},{"$f":"陸連登録!P55","v":0},{"$f":"LEFT(陸連登録!L55,4)","v":""},{"$f":"RIGHT(陸連登録!L55,4)","v":""},{"$f":"陸連登録!F55","v":23},{"$f":"陸連登録!B55","v":0},null,{"$f":"IF(O60=\"\",\"\",IF(I60=1,VLOOKUP(O60,男子種目コード!$J$30:$K$31,2,FALSE),IF(I60=2,VLOOKUP(O60,女子種目コード!$J$30:$K$31,2,FALSE))))","v":""},null,0,"高校","0高校",null,null,null,null,null,null,null,null,null,null,null,null,null,null,null,""]
[null,{"$f":"#REF!","v":{"$error":"#REF!"}},null,null,{"$f":"陸連登録!M56","v":0},{"$f":"陸連登録!C56","v":0},{"$f":"陸連登録!D56","v":0},0,{"$f":"陸連登録!A56","v":""},{"$f":"陸連登録!P56","v":0},{"$f":"LEFT(陸連登録!L56,4)","v":""},{"$f":"RIGHT(陸連登録!L56,4)","v":""},{"$f":"陸連登録!F56","v":23},{"$f":"陸連登録!B56","v":0},null,{"$f":"IF(O61=\"\",\"\",IF(I61=1,VLOOKUP(O61,男子種目コード!$J$30:$K$31,2,FALSE),IF(I61=2,VLOOKUP(O61,女子種目コード!$J$30:$K$31,2,FALSE))))","v":""},null,0,"高校","0高校",null,null,null,null,null,null,null,null,null,null,null,null,null,null,null,""]
[null,{"$f":"#REF!","v":{"$error":"#REF!"}},null,null,{"$f":"陸連登録!M57","v":0},{"$f":"陸連登録!C57","v":0},{"$f":"陸連登録!D57","v":0},0,{"$f":"陸連登録!A57","v":""},{"$f":"陸連登録!P57","v":0},{"$f":"LEFT(陸連登録!L57,4)","v":""},{"$f":"RIGHT(陸連登録!L57,4)","v":""},{"$f":"陸連登録!F57","v":23},{"$f":"陸連登録!B57","v":0},null,{"$f":"IF(O62=\"\",\"\",IF(I62=1,VLOOKUP(O62,男子種目コード!$J$30:$K$31,2,FALSE),IF(I62=2,VLOOKUP(O62,女子種目コード!$J$30:$K$31,2,FALSE))))","v":""},null,0,"高校","0高校",null,null,null,null,null,null,null,null,null,null,null,null,null,null,null,""]
[null,{"$f":"#REF!","v":{"$error":"#REF!"}},null,null,{"$f":"陸連登録!M58","v":0},{"$f":"陸連登録!C58","v":0},{"$f":"陸連登録!D58","v":0},0,{"$f":"陸連登録!A58","v":""},{"$f":"陸連登録!P58","v":0},{"$f":"LEFT(陸連登録!L58,4)","v":""},{"$f":"RIGHT(陸連登録!L58,4)","v":""},{"$f":"陸連登録!F58","v":23},{"$f":"陸連登録!B58","v":0},null,{"$f":"IF(O63=\"\",\"\",IF(I63=1,VLOOKUP(O63,男子種目コード!$J$30:$K$31,2,FALSE),IF(I63=2,VLOOKUP(O63,女子種目コード!$J$30:$K$31,2,FALSE))))","v":""},null,0,"高校","0高校",null,null,null,null,null,null,null,null,null,null,null,null,null,null,null,""]
[null,{"$f":"#REF!","v":{"$error":"#REF!"}},null,null,{"$f":"陸連登録!M59","v":0},{"$f":"陸連登録!C59","v":0},{"$f":"陸連登録!D59","v":0},0,{"$f":"陸連登録!A59","v":""},{"$f":"陸連登録!P59","v":0},{"$f":"LEFT(陸連登録!L59,4)","v":""},{"$f":"RIGHT(陸連登録!L59,4)","v":""},{"$f":"陸連登録!F59","v":23},{"$f":"陸連登録!B59","v":0},null,{"$f":"IF(O64=\"\",\"\",IF(I64=1,VLOOKUP(O64,男子種目コード!$J$30:$K$31,2,FALSE),IF(I64=2,VLOOKUP(O64,女子種目コード!$J$30:$K$31,2,FALSE))))","v":""},null,0,"高校","0高校",null,null,null,null,null,null,null,null,null,null,null,null,null,null,null,""]
[null,{"$f":"#REF!","v":{"$error":"#REF!"}},null,null,{"$f":"陸連登録!M60","v":0},{"$f":"陸連登録!C60","v":0},{"$f":"陸連登録!D60","v":0},0,{"$f":"陸連登録!A60","v":""},{"$f":"陸連登録!P60","v":0},{"$f":"LEFT(陸連登録!L60,4)","v":""},{"$f":"RIGHT(陸連登録!L60,4)","v":""},{"$f":"陸連登録!F60","v":23},{"$f":"陸連登録!B60","v":0},null,{"$f":"IF(O65=\"\",\"\",IF(I65=1,VLOOKUP(O65,男子種目コード!$J$30:$K$31,2,FALSE),IF(I65=2,VLOOKUP(O65,女子種目コード!$J$30:$K$31,2,FALSE))))","v":""},null,0,"高校","0高校",null,null,null,null,null,null,null,null,null,null,null,null,null,null,null,""]
[null,{"$f":"#REF!","v":{"$error":"#REF!"}},null,null,{"$f":"陸連登録!M61","v":0},{"$f":"陸連登録!C61","v":0},{"$f":"陸連登録!D61","v":0},0,{"$f":"陸連登録!A61","v":""},{"$f":"陸連登録!P61","v":0},{"$f":"LEFT(陸連登録!L61,4)","v":""},{"$f":"RIGHT(陸連登録!L61,4)","v":""},{"$f":"陸連登録!F61","v":23},{"$f":"陸連登録!B61","v":0},null,{"$f":"IF(O66=\"\",\"\",IF(I66=1,VLOOKUP(O66,男子種目コード!$J$30:$K$31,2,FALSE),IF(I66=2,VLOOKUP(O66,女子種目コード!$J$30:$K$31,2,FALSE))))","v":""},null,0,"高校","0高校",null,null,null,null,null,null,null,null,null,null,null,null,null,null,null,""]
[null,{"$f":"#REF!","v":{"$error":"#REF!"}},null,null,{"$f":"陸連登録!M62","v":0},{"$f":"陸連登録!C62","v":0},{"$f":"陸連登録!D62","v":0},0,{"$f":"陸連登録!A62","v":""},{"$f":"陸連登録!P62","v":0},{"$f":"LEFT(陸連登録!L62,4)","v":""},{"$f":"RIGHT(陸連登録!L62,4)","v":""},{"$f":"陸連登録!F62","v":23},{"$f":"陸連登録!B62","v":0},null,{"$f":"IF(O67=\"\",\"\",IF(I67=1,VLOOKUP(O67,男子種目コード!$J$30:$K$31,2,FALSE),IF(I67=2,VLOOKUP(O67,女子種目コード!$J$30:$K$31,2,FALSE))))","v":""},null,0,"高校","0高校",null,null,null,null,null,null,null,null,null,null,null,null,null,null,null,""]
[null,{"$f":"#REF!","v":{"$error":"#REF!"}},null,null,{"$f":"陸連登録!M63","v":0},{"$f":"陸連登録!C63","v":0},{"$f":"陸連登録!D63","v":0},0,{"$f":"陸連登録!A63","v":""},{"$f":"陸連登録!P63","v":0},{"$f":"LEFT(陸連登録!L63,4)","v":""},{"$f":"RIGHT(陸連登録!L63,4)","v":""},{"$f":"陸連登録!F63","v":23},{"$f":"陸連登録!B63","v":0},null,{"$f":"IF(O68=\"\",\"\",IF(I68=1,VLOOKUP(O68,男子種目コード!$J$30:$K$31,2,FALSE),IF(I68=2,VLOOKUP(O68,女子種目コード!$J$30:$K$31,2,FALSE))))","v":""},null,0,"高校","0高校",null,null,null,null,null,null,null,null,null,null,null,null,null,null,null,""]
[null,{"$f":"#REF!","v":{"$error":"#REF!"}},null,null,{"$f":"陸連登録!M64","v":0},{"$f":"陸連登録!C64","v":0},{"$f":"陸連登録!D64","v":0},0,{"$f":"陸連登録!A64","v":""},{"$f":"陸連登録!P64","v":0},{"$f":"LEFT(陸連登録!L64,4)","v":""},{"$f":"RIGHT(陸連登録!L64,4)","v":""},{"$f":"陸連登録!F64","v":23},{"$f":"陸連登録!B64","v":0},null,{"$f":"IF(O69=\"\",\"\",IF(I69=1,VLOOKUP(O69,男子種目コード!$J$30:$K$31,2,FALSE),IF(I69=2,VLOOKUP(O69,女子種目コード!$J$30:$K$31,2,FALSE))))","v":""},null,0,"高校","0高校",null,null,null,null,null,null,null,null,null,null,null,null,null,null,null,""]
[null,{"$f":"#REF!","v":{"$error":"#REF!"}},null,null,{"$f":"陸連登録!M65","v":0},{"$f":"陸連登録!C65","v":0},{"$f":"陸連登録!D65","v":0},0,{"$f":"陸連登録!A65","v":""},{"$f":"陸連登録!P65","v":0},{"$f":"LEFT(陸連登録!L65,4)","v":""},{"$f":"RIGHT(陸連登録!L65,4)","v":""},{"$f":"陸連登録!F65","v":23},{"$f":"陸連登録!B65","v":0},null,{"$f":"IF(O70=\"\",\"\",IF(I70=1,VLOOKUP(O70,男子種目コード!$J$30:$K$31,2,FALSE),IF(I70=2,VLOOKUP(O70,女子種目コード!$J$30:$K$31,2,FALSE))))","v":""},null,0,"高校","0高校",null,null,null,null,null,null,null,null,null,null,null,null,null,null,null,""]
[null,{"$f":"#REF!","v":{"$error":"#REF!"}},null,null,{"$f":"陸連登録!M66","v":0},{"$f":"陸連登録!C66","v":0},{"$f":"陸連登録!D66","v":0},{"$f":"F71","v":0},{"$f":"陸連登録!A66","v":""},{"$f":"陸連登録!P66","v":0},{"$f":"LEFT(陸連登録!L66,4)","v":""},{"$f":"RIGHT(陸連登録!L66,4)","v":""},{"$f":"陸連登録!F66","v":23},{"$f":"陸連登録!B66","v":0},null,{"$f":"IF(O71=\"\",\"\",IF(I71=1,VLOOKUP(O71,男子種目コード!$J$30:$K$31,2,FALSE),IF(I71=2,VLOOKUP(O71,女子種目コード!$J$30:$K$31,2,FALSE))))","v":""},null,0,"高校","0高校",null,null,null,null,null,null,null,null,null,null,null,null,null,null,null,{"$f":"IF(O71=\"\",\"\",1)","v":""}]
[null,{"$f":"#REF!","v":{"$error":"#REF!"}},null,null,{"$f":"陸連登録!M67","v":0},{"$f":"陸連登録!C67","v":0},{"$f":"陸連登録!D67","v":0},0,{"$f":"陸連登録!A67","v":""},{"$f":"陸連登録!P67","v":0},{"$f":"LEFT(陸連登録!L67,4)","v":""},{"$f":"RIGHT(陸連登録!L67,4)","v":""},{"$f":"陸連登録!F67","v":23},{"$f":"陸連登録!B67","v":0},null,{"$f":"IF(O72=\"\",\"\",IF(I72=1,VLOOKUP(O72,男子種目コード!$J$30:$K$31,2,FALSE),IF(I72=2,VLOOKUP(O72,女子種目コード!$J$30:$K$31,2,FALSE))))","v":""},null,{"$f":"$F$1","v":0},"高校",{"$f":"CONCATENATE(R72,S72)","v":"0高校"},null,null,null,null,null,null,null,null,null,null,null,null,null,null,null,""]
[null,{"$f":"#REF!","v":{"$error":"#REF!"}},null,null,{"$f":"陸連登録!M68","v":0},{"$f":"陸連登録!C68","v":0},{"$f":"陸連登録!D68","v":0},0,{"$f":"陸連登録!A68","v":""},{"$f":"陸連登録!P68","v":0},{"$f":"LEFT(陸連登録!L68,4)","v":""},{"$f":"RIGHT(陸連登録!L68,4)","v":""},{"$f":"陸連登録!F68","v":23},{"$f":"陸連登録!B68","v":0},null,{"$f":"IF(O73=\"\",\"\",IF(I73=1,VLOOKUP(O73,男子種目コード!$J$30:$K$31,2,FALSE),IF(I73=2,VLOOKUP(O73,女子種目コード!$J$30:$K$31,2,FALSE))))","v":""},null,0,"高校","0高校",null,null,null,null,null,null,null,null,null,null,null,null,null,null,null,""]
[null,{"$f":"#REF!","v":{"$error":"#REF!"}},null,null,{"$f":"陸連登録!M69","v":0},{"$f":"陸連登録!C69","v":0},{"$f":"陸連登録!D69","v":0},0,{"$f":"陸連登録!A69","v":""},{"$f":"陸連登録!P69","v":0},{"$f":"LEFT(陸連登録!L69,4)","v":""},{"$f":"RIGHT(陸連登録!L69,4)","v":""},{"$f":"陸連登録!F69","v":23},{"$f":"陸連登録!B69","v":0},null,{"$f":"IF(O74=\"\",\"\",IF(I74=1,VLOOKUP(O74,男子種目コード!$J$30:$K$31,2,FALSE),IF(I74=2,VLOOKUP(O74,女子種目コード!$J$30:$K$31,2,FALSE))))","v":""},null,0,"高校","0高校",null,null,null,null,null,null,null,null,null,null,null,null,null,null,null,""]
[null,{"$f":"#REF!","v":{"$error":"#REF!"}},null,null,{"$f":"陸連登録!M70","v":0},{"$f":"陸連登録!C70","v":0},{"$f":"陸連登録!D70","v":0},0,{"$f":"陸連登録!A70","v":""},{"$f":"陸連登録!P70","v":0},{"$f":"LEFT(陸連登録!L70,4)","v":""},{"$f":"RIGHT(陸連登録!L70,4)","v":""},{"$f":"陸連登録!F70","v":23},{"$f":"陸連登録!B70","v":0},null,{"$f":"IF(O75=\"\",\"\",IF(I75=1,VLOOKUP(O75,男子種目コード!$J$30:$K$31,2,FALSE),IF(I75=2,VLOOKUP(O75,女子種目コード!$J$30:$K$31,2,FALSE))))","v":""},null,0,"高校","0高校",null,null,null,null,null,null,null,null,null,null,null,null,null,null,null,""]
[null,{"$f":"#REF!","v":{"$error":"#REF!"}},null,null,{"$f":"陸連登録!M71","v":0},{"$f":"陸連登録!C71","v":0},{"$f":"陸連登録!D71","v":0},0,{"$f":"陸連登録!A71","v":""},{"$f":"陸連登録!P71","v":0},{"$f":"LEFT(陸連登録!L71,4)","v":""},{"$f":"RIGHT(陸連登録!L71,4)","v":""},{"$f":"陸連登録!F71","v":23},{"$f":"陸連登録!B71","v":0},null,{"$f":"IF(O76=\"\",\"\",IF(I76=1,VLOOKUP(O76,男子種目コード!$J$30:$K$31,2,FALSE),IF(I76=2,VLOOKUP(O76,女子種目コード!$J$30:$K$31,2,FALSE))))","v":""},null,0,"高校","0高校",null,null,null,null,null,null,null,null,null,null,null,null,null,null,null,""]
[null,{"$f":"#REF!","v":{"$error":"#REF!"}},null,null,{"$f":"陸連登録!M72","v":0},{"$f":"陸連登録!C72","v":0},{"$f":"陸連登録!D72","v":0},0,{"$f":"陸連登録!A72","v":""},{"$f":"陸連登録!P72","v":0},{"$f":"LEFT(陸連登録!L72,4)","v":""},{"$f":"RIGHT(陸連登録!L72,4)","v":""},{"$f":"陸連登録!F72","v":23},{"$f":"陸連登録!B72","v":0},null,{"$f":"IF(O77=\"\",\"\",IF(I77=1,VLOOKUP(O77,男子種目コード!$J$30:$K$31,2,FALSE),IF(I77=2,VLOOKUP(O77,女子種目コード!$J$30:$K$31,2,FALSE))))","v":""},null,0,"高校","0高校",null,null,null,null,null,null,null,null,null,null,null,null,null,null,null,""]
[null,{"$f":"#REF!","v":{"$error":"#REF!"}},null,null,{"$f":"陸連登録!M73","v":0},{"$f":"陸連登録!C73","v":0},{"$f":"陸連登録!D73","v":0},0,{"$f":"陸連登録!A73","v":""},{"$f":"陸連登録!P73","v":0},{"$f":"LEFT(陸連登録!L73,4)","v":""},{"$f":"RIGHT(陸連登録!L73,4)","v":""},{"$f":"陸連登録!F73","v":23},{"$f":"陸連登録!B73","v":0},null,{"$f":"IF(O78=\"\",\"\",IF(I78=1,VLOOKUP(O78,男子種目コード!$J$30:$K$31,2,FALSE),IF(I78=2,VLOOKUP(O78,女子種目コード!$J$30:$K$31,2,FALSE))))","v":""},null,0,"高校","0高校",null,null,null,null,null,null,null,null,null,null,null,null,null,null,null,""]
[null,{"$f":"#REF!","v":{"$error":"#REF!"}},null,null,{"$f":"陸連登録!M74","v":0},{"$f":"陸連登録!C74","v":0},{"$f":"陸連登録!D74","v":0},0,{"$f":"陸連登録!A74","v":""},{"$f":"陸連登録!P74","v":0},{"$f":"LEFT(陸連登録!L74,4)","v":""},{"$f":"RIGHT(陸連登録!L74,4)","v":""},{"$f":"陸連登録!F74","v":23},{"$f":"陸連登録!B74","v":0},null,{"$f":"IF(O79=\"\",\"\",IF(I79=1,VLOOKUP(O79,男子種目コード!$J$30:$K$31,2,FALSE),IF(I79=2,VLOOKUP(O79,女子種目コード!$J$30:$K$31,2,FALSE))))","v":""},null,0,"高校","0高校",null,null,null,null,null,null,null,null,null,null,null,null,null,null,null,""]
[null,{"$f":"#REF!","v":{"$error":"#REF!"}},null,null,{"$f":"陸連登録!M75","v":0},{"$f":"陸連登録!C75","v":0},{"$f":"陸連登録!D75","v":0},0,{"$f":"陸連登録!A75","v":""},{"$f":"陸連登録!P75","v":0},{"$f":"LEFT(陸連登録!L75,4)","v":""},{"$f":"RIGHT(陸連登録!L75,4)","v":""},{"$f":"陸連登録!F75","v":23},{"$f":"陸連登録!B75","v":0},null,{"$f":"IF(O80=\"\",\"\",IF(I80=1,VLOOKUP(O80,男子種目コード!$J$30:$K$31,2,FALSE),IF(I80=2,VLOOKUP(O80,女子種目コード!$J$30:$K$31,2,FALSE))))","v":""},null,0,"高校","0高校",null,null,null,null,null,null,null,null,null,null,null,null,null,null,null,""]
[null,{"$f":"#REF!","v":{"$error":"#REF!"}},null,null,{"$f":"陸連登録!M76","v":0},{"$f":"陸連登録!C76","v":0},{"$f":"陸連登録!D76","v":0},0,{"$f":"陸連登録!A76","v":""},{"$f":"陸連登録!P76","v":0},{"$f":"LEFT(陸連登録!L76,4)","v":""},{"$f":"RIGHT(陸連登録!L76,4)","v":""},{"$f":"陸連登録!F76","v":23},{"$f":"陸連登録!B76","v":0},null,{"$f":"IF(O81=\"\",\"\",IF(I81=1,VLOOKUP(O81,男子種目コード!$J$30:$K$31,2,FALSE),IF(I81=2,VLOOKUP(O81,女子種目コード!$J$30:$K$31,2,FALSE))))","v":""},null,0,"高校","0高校",null,null,null,null,null,null,null,null,null,null,null,null,null,null,null,""]
[null,{"$f":"#REF!","v":{"$error":"#REF!"}},null,null,{"$f":"陸連登録!M77","v":0},{"$f":"陸連登録!C77","v":0},{"$f":"陸連登録!D77","v":0},0,{"$f":"陸連登録!A77","v":""},{"$f":"陸連登録!P77","v":0},{"$f":"LEFT(陸連登録!L77,4)","v":""},{"$f":"RIGHT(陸連登録!L77,4)","v":""},{"$f":"陸連登録!F77","v":23},{"$f":"陸連登録!B77","v":0},null,{"$f":"IF(O82=\"\",\"\",IF(I82=1,VLOOKUP(O82,男子種目コード!$J$30:$K$31,2,FALSE),IF(I82=2,VLOOKUP(O82,女子種目コード!$J$30:$K$31,2,FALSE))))","v":""},null,0,"高校","0高校",null,null,null,null,null,null,null,null,null,null,null,null,null,null,null,""]
[null,{"$f":"#REF!","v":{"$error":"#REF!"}},null,null,{"$f":"陸連登録!M78","v":0},{"$f":"陸連登録!C78","v":0},{"$f":"陸連登録!D78","v":0},0,{"$f":"陸連登録!A78","v":""},{"$f":"陸連登録!P78","v":0},{"$f":"LEFT(陸連登録!L78,4)","v":""},{"$f":"RIGHT(陸連登録!L78,4)","v":""},{"$f":"陸連登録!F78","v":23},{"$f":"陸連登録!B78","v":0},null,{"$f":"IF(O83=\"\",\"\",IF(I83=1,VLOOKUP(O83,男子種目コード!$J$30:$K$31,2,FALSE),IF(I83=2,VLOOKUP(O83,女子種目コード!$J$30:$K$31,2,FALSE))))","v":""},null,0,"高校","0高校",null,null,null,null,null,null,null,null,null,null,null,null,null,null,null,""]
[null,{"$f":"#REF!","v":{"$error":"#REF!"}},null,null,{"$f":"陸連登録!M79","v":0},{"$f":"陸連登録!C79","v":0},{"$f":"陸連登録!D79","v":0},0,{"$f":"陸連登録!A79","v":""},{"$f":"陸連登録!P79","v":0},{"$f":"LEFT(陸連登録!L79,4)","v":""},{"$f":"RIGHT(陸連登録!L79,4)","v":""},{"$f":"陸連登録!F79","v":23},{"$f":"陸連登録!B79","v":0},null,{"$f":"IF(O84=\"\",\"\",IF(I84=1,VLOOKUP(O84,男子種目コード!$J$30:$K$31,2,FALSE),IF(I84=2,VLOOKUP(O84,女子種目コード!$J$30:$K$31,2,FALSE))))","v":""},null,0,"高校","0高校",null,null,null,null,null,null,null,null,null,null,null,null,null,null,null,""]
[null,{"$f":"#REF!","v":{"$error":"#REF!"}},null,null,{"$f":"陸連登録!M80","v":0},{"$f":"陸連登録!C80","v":0},{"$f":"陸連登録!D80","v":0},0,{"$f":"陸連登録!A80","v":""},{"$f":"陸連登録!P80","v":0},{"$f":"LEFT(陸連登録!L80,4)","v":""},{"$f":"RIGHT(陸連登録!L80,4)","v":""},{"$f":"陸連登録!F80","v":23},{"$f":"陸連登録!B80","v":0},null,{"$f":"IF(O85=\"\",\"\",IF(I85=1,VLOOKUP(O85,男子種目コード!$J$30:$K$31,2,FALSE),IF(I85=2,VLOOKUP(O85,女子種目コード!$J$30:$K$31,2,FALSE))))","v":""},null,0,"高校","0高校",null,null,null,null,null,null,null,null,null,null,null,null,null,null,null,""]
[null,{"$f":"#REF!","v":{"$error":"#REF!"}},null,null,{"$f":"陸連登録!M81","v":0},{"$f":"陸連登録!C81","v":0},{"$f":"陸連登録!D81","v":0},0,{"$f":"陸連登録!A81","v":""},{"$f":"陸連登録!P81","v":0},{"$f":"LEFT(陸連登録!L81,4)","v":""},{"$f":"RIGHT(陸連登録!L81,4)","v":""},{"$f":"陸連登録!F81","v":23},{"$f":"陸連登録!B81","v":0},null,{"$f":"IF(O86=\"\",\"\",IF(I86=1,VLOOKUP(O86,男子種目コード!$J$30:$K$31,2,FALSE),IF(I86=2,VLOOKUP(O86,女子種目コード!$J$30:$K$31,2,FALSE))))","v":""},null,0,"高校","0高校",null,null,null,null,null,null,null,null,null,null,null,null,null,null,null,""]
[null,{"$f":"#REF!","v":{"$error":"#REF!"}},null,null,{"$f":"陸連登録!M82","v":0},{"$f":"陸連登録!C82","v":0},{"$f":"陸連登録!D82","v":0},0,{"$f":"陸連登録!A82","v":""},{"$f":"陸連登録!P82","v":0},{"$f":"LEFT(陸連登録!L82,4)","v":""},{"$f":"RIGHT(陸連登録!L82,4)","v":""},{"$f":"陸連登録!F82","v":23},{"$f":"陸連登録!B82","v":0},null,{"$f":"IF(O87=\"\",\"\",IF(I87=1,VLOOKUP(O87,男子種目コード!$J$30:$K$31,2,FALSE),IF(I87=2,VLOOKUP(O87,女子種目コード!$J$30:$K$31,2,FALSE))))","v":""},null,0,"高校","0高校",null,null,null,null,null,null,null,null,null,null,null,null,null,null,null,""]
[null,{"$f":"#REF!","v":{"$error":"#REF!"}},null,null,{"$f":"陸連登録!M83","v":0},{"$f":"陸連登録!C83","v":0},{"$f":"陸連登録!D83","v":0},0,{"$f":"陸連登録!A83","v":""},{"$f":"陸連登録!P83","v":0},{"$f":"LEFT(陸連登録!L83,4)","v":""},{"$f":"RIGHT(陸連登録!L83,4)","v":""},{"$f":"陸連登録!F83","v":23},{"$f":"陸連登録!B83","v":0},null,{"$f":"IF(O88=\"\",\"\",IF(I88=1,VLOOKUP(O88,男子種目コード!$J$30:$K$31,2,FALSE),IF(I88=2,VLOOKUP(O88,女子種目コード!$J$30:$K$31,2,FALSE))))","v":""},null,0,"高校","0高校",null,null,null,null,null,null,null,null,null,null,null,null,null,null,null,""]
[null,{"$f":"#REF!","v":{"$error":"#REF!"}},null,null,{"$f":"陸連登録!M84","v":0},{"$f":"陸連登録!C84","v":0},{"$f":"陸連登録!D84","v":0},0,{"$f":"陸連登録!A84","v":""},{"$f":"陸連登録!P84","v":0},{"$f":"LEFT(陸連登録!L84,4)","v":""},{"$f":"RIGHT(陸連登録!L84,4)","v":""},{"$f":"陸連登録!F84","v":23},{"$f":"陸連登録!B84","v":0},null,{"$f":"IF(O89=\"\",\"\",IF(I89=1,VLOOKUP(O89,男子種目コード!$J$30:$K$31,2,FALSE),IF(I89=2,VLOOKUP(O89,女子種目コード!$J$30:$K$31,2,FALSE))))","v":""},null,0,"高校","0高校",null,null,null,null,null,null,null,null,null,null,null,null,null,null,null,""]
[null,{"$f":"#REF!","v":{"$error":"#REF!"}},null,null,{"$f":"陸連登録!M85","v":0},{"$f":"陸連登録!C85","v":0},{"$f":"陸連登録!D85","v":0},0,{"$f":"陸連登録!A85","v":""},{"$f":"陸連登録!P85","v":0},{"$f":"LEFT(陸連登録!L85,4)","v":""},{"$f":"RIGHT(陸連登録!L85,4)","v":""},{"$f":"陸連登録!F85","v":23},{"$f":"陸連登録!B85","v":0},null,{"$f":"IF(O90=\"\",\"\",IF(I90=1,VLOOKUP(O90,男子種目コード!$J$30:$K$31,2,FALSE),IF(I90=2,VLOOKUP(O90,女子種目コード!$J$30:$K$31,2,FALSE))))","v":""},null,0,"高校","0高校",null,null,null,null,null,null,null,null,null,null,null,null,null,null,null,""]
[null,{"$f":"#REF!","v":{"$error":"#REF!"}},null,null,{"$f":"陸連登録!M86","v":0},{"$f":"陸連登録!C86","v":0},{"$f":"陸連登録!D86","v":0},0,{"$f":"陸連登録!A86","v":""},{"$f":"陸連登録!P86","v":0},{"$f":"LEFT(陸連登録!L86,4)","v":""},{"$f":"RIGHT(陸連登録!L86,4)","v":""},{"$f":"陸連登録!F86","v":23},{"$f":"陸連登録!B86","v":0},null,{"$f":"IF(O91=\"\",\"\",IF(I91=1,VLOOKUP(O91,男子種目コード!$J$30:$K$31,2,FALSE),IF(I91=2,VLOOKUP(O91,女子種目コード!$J$30:$K$31,2,FALSE))))","v":""},null,0,"高校","0高校",null,null,null,null,null,null,null,null,null,null,null,null,null,null,null,""]
[null,{"$f":"#REF!","v":{"$error":"#REF!"}},null,null,{"$f":"陸連登録!M87","v":0},{"$f":"陸連登録!C87","v":0},{"$f":"陸連登録!D87","v":0},0,{"$f":"陸連登録!A87","v":""},{"$f":"陸連登録!P87","v":0},{"$f":"LEFT(陸連登録!L87,4)","v":""},{"$f":"RIGHT(陸連登録!L87,4)","v":""},{"$f":"陸連登録!F87","v":23},{"$f":"陸連登録!B87","v":0},null,{"$f":"IF(O92=\"\",\"\",IF(I92=1,VLOOKUP(O92,男子種目コード!$J$30:$K$31,2,FALSE),IF(I92=2,VLOOKUP(O92,女子種目コード!$J$30:$K$31,2,FALSE))))","v":""},null,0,"高校","0高校",null,null,null,null,null,null,null,null,null,null,null,null,null,null,null,""]
[null,{"$f":"#REF!","v":{"$error":"#REF!"}},null,null,{"$f":"陸連登録!M88","v":0},{"$f":"陸連登録!C88","v":0},{"$f":"陸連登録!D88","v":0},0,{"$f":"陸連登録!A88","v":""},{"$f":"陸連登録!P88","v":0},{"$f":"LEFT(陸連登録!L88,4)","v":""},{"$f":"RIGHT(陸連登録!L88,4)","v":""},{"$f":"陸連登録!F88","v":23},{"$f":"陸連登録!B88","v":0},null,{"$f":"IF(O93=\"\",\"\",IF(I93=1,VLOOKUP(O93,男子種目コード!$J$30:$K$31,2,FALSE),IF(I93=2,VLOOKUP(O93,女子種目コード!$J$30:$K$31,2,FALSE))))","v":""},null,0,"高校","0高校",null,null,null,null,null,null,null,null,null,null,null,null,null,null,null,""]
[null,{"$f":"#REF!","v":{"$error":"#REF!"}},null,null,{"$f":"陸連登録!M89","v":0},{"$f":"陸連登録!C89","v":0},{"$f":"陸連登録!D89","v":0},0,{"$f":"陸連登録!A89","v":""},{"$f":"陸連登録!P89","v":0},{"$f":"LEFT(陸連登録!L89,4)","v":""},{"$f":"RIGHT(陸連登録!L89,4)","v":""},{"$f":"陸連登録!F89","v":23},{"$f":"陸連登録!B89","v":0},null,{"$f":"IF(O94=\"\",\"\",IF(I94=1,VLOOKUP(O94,男子種目コード!$J$30:$K$31,2,FALSE),IF(I94=2,VLOOKUP(O94,女子種目コード!$J$30:$K$31,2,FALSE))))","v":""},null,0,"高校","0高校",null,null,null,null,null,null,null,null,null,null,null,null,null,null,null,""]
[null,{"$f":"#REF!","v":{"$error":"#REF!"}},null,null,{"$f":"陸連登録!M90","v":0},{"$f":"陸連登録!C90","v":0},{"$f":"陸連登録!D90","v":0},0,{"$f":"陸連登録!A90","v":""},{"$f":"陸連登録!P90","v":0},{"$f":"LEFT(陸連登録!L90,4)","v":""},{"$f":"RIGHT(陸連登録!L90,4)","v":""},{"$f":"陸連登録!F90","v":23},{"$f":"陸連登録!B90","v":0},null,{"$f":"IF(O95=\"\",\"\",IF(I95=1,VLOOKUP(O95,男子種目コード!$J$30:$K$31,2,FALSE),IF(I95=2,VLOOKUP(O95,女子種目コード!$J$30:$K$31,2,FALSE))))","v":""},null,0,"高校","0高校",null,null,null,null,null,null,null,null,null,null,null,null,null,null,null,""]
[null,{"$f":"#REF!","v":{"$error":"#REF!"}},null,null,{"$f":"陸連登録!M91","v":0},{"$f":"陸連登録!C91","v":0},{"$f":"陸連登録!D91","v":0},0,{"$f":"陸連登録!A91","v":""},{"$f":"陸連登録!P91","v":0},{"$f":"LEFT(陸連登録!L91,4)","v":""},{"$f":"RIGHT(陸連登録!L91,4)","v":""},{"$f":"陸連登録!F91","v":23},{"$f":"陸連登録!B91","v":0},null,{"$f":"IF(O96=\"\",\"\",IF(I96=1,VLOOKUP(O96,男子種目コード!$J$30:$K$31,2,FALSE),IF(I96=2,VLOOKUP(O96,女子種目コード!$J$30:$K$31,2,FALSE))))","v":""},null,0,"高校","0高校",null,null,null,null,null,null,null,null,null,null,null,null,null,null,null,""]
[null,{"$f":"#REF!","v":{"$error":"#REF!"}},null,null,{"$f":"陸連登録!M92","v":0},{"$f":"陸連登録!C92","v":0},{"$f":"陸連登録!D92","v":0},0,{"$f":"陸連登録!A92","v":""},{"$f":"陸連登録!P92","v":0},{"$f":"LEFT(陸連登録!L92,4)","v":""},{"$f":"RIGHT(陸連登録!L92,4)","v":""},{"$f":"陸連登録!F92","v":23},{"$f":"陸連登録!B92","v":0},null,{"$f":"IF(O97=\"\",\"\",IF(I97=1,VLOOKUP(O97,男子種目コード!$J$30:$K$31,2,FALSE),IF(I97=2,VLOOKUP(O97,女子種目コード!$J$30:$K$31,2,FALSE))))","v":""},null,0,"高校","0高校",null,null,null,null,null,null,null,null,null,null,null,null,null,null,null,""]
[null,{"$f":"#REF!","v":{"$error":"#REF!"}},null,null,{"$f":"陸連登録!M93","v":0},{"$f":"陸連登録!C93","v":0},{"$f":"陸連登録!D93","v":0},0,{"$f":"陸連登録!A93","v":""},{"$f":"陸連登録!P93","v":0},{"$f":"LEFT(陸連登録!L93,4)","v":""},{"$f":"RIGHT(陸連登録!L93,4)","v":""},{"$f":"陸連登録!F93","v":23},{"$f":"陸連登録!B93","v":0},null,{"$f":"IF(O98=\"\",\"\",IF(I98=1,VLOOKUP(O98,男子種目コード!$J$30:$K$31,2,FALSE),IF(I98=2,VLOOKUP(O98,女子種目コード!$J$30:$K$31,2,FALSE))))","v":""},null,0,"高校","0高校",null,null,null,null,null,null,null,null,null,null,null,null,null,null,null,""]
[null,{"$f":"#REF!","v":{"$error":"#REF!"}},null,null,{"$f":"陸連登録!M94","v":0},{"$f":"陸連登録!C94","v":0},{"$f":"陸連登録!D94","v":0},0,{"$f":"陸連登録!A94","v":""},{"$f":"陸連登録!P94","v":0},{"$f":"LEFT(陸連登録!L94,4)","v":""},{"$f":"RIGHT(陸連登録!L94,4)","v":""},{"$f":"陸連登録!F94","v":23},{"$f":"陸連登録!B94","v":0},null,{"$f":"IF(O99=\"\",\"\",IF(I99=1,VLOOKUP(O99,男子種目コード!$J$30:$K$31,2,FALSE),IF(I99=2,VLOOKUP(O99,女子種目コード!$J$30:$K$31,2,FALSE))))","v":""},null,0,"高校","0高校",null,null,null,null,null,null,null,null,null,null,null,null,null,null,null,""]
[null,{"$f":"#REF!","v":{"$error":"#REF!"}},null,null,{"$f":"陸連登録!M95","v":0},{"$f":"陸連登録!C95","v":0},{"$f":"陸連登録!D95","v":0},0,{"$f":"陸連登録!A95","v":""},{"$f":"陸連登録!P95","v":0},{"$f":"LEFT(陸連登録!L95,4)","v":""},{"$f":"RIGHT(陸連登録!L95,4)","v":""},{"$f":"陸連登録!F95","v":23},{"$f":"陸連登録!B95","v":0},null,{"$f":"IF(O100=\"\",\"\",IF(I100=1,VLOOKUP(O100,男子種目コード!$J$30:$K$31,2,FALSE),IF(I100=2,VLOOKUP(O100,女子種目コード!$J$30:$K$31,2,FALSE))))","v":""},null,0,"高校","0高校",null,null,null,null,null,null,null,null,null,null,null,null,null,null,null,""]
[null,{"$f":"#REF!","v":{"$error":"#REF!"}},null,null,{"$f":"陸連登録!M96","v":0},{"$f":"陸連登録!C96","v":0},{"$f":"陸連登録!D96","v":0},0,{"$f":"陸連登録!A96","v":""},{"$f":"陸連登録!P96","v":0},{"$f":"LEFT(陸連登録!L96,4)","v":""},{"$f":"RIGHT(陸連登録!L96,4)","v":""},{"$f":"陸連登録!F96","v":23},{"$f":"陸連登録!B96","v":0},null,{"$f":"IF(O101=\"\",\"\",IF(I101=1,VLOOKUP(O101,男子種目コード!$J$30:$K$31,2,FALSE),IF(I101=2,VLOOKUP(O101,女子種目コード!$J$30:$K$31,2,FALSE))))","v":""},null,0,"高校","0高校",null,null,null,null,null,null,null,null,null,null,null,null,null,null,null,""]
[null,{"$f":"#REF!","v":{"$error":"#REF!"}},null,null,{"$f":"陸連登録!M97","v":0},{"$f":"陸連登録!C97","v":0},{"$f":"陸連登録!D97","v":0},0,{"$f":"陸連登録!A97","v":""},{"$f":"陸連登録!P97","v":0},{"$f":"LEFT(陸連登録!L97,4)","v":""},{"$f":"RIGHT(陸連登録!L97,4)","v":""},{"$f":"陸連登録!F97","v":23},{"$f":"陸連登録!B97","v":0},null,{"$f":"IF(O102=\"\",\"\",IF(I102=1,VLOOKUP(O102,男子種目コード!$J$30:$K$31,2,FALSE),IF(I102=2,VLOOKUP(O102,女子種目コード!$J$30:$K$31,2,FALSE))))","v":""},null,0,"高校","0高校",null,null,null,null,null,null,null,null,null,null,null,null,null,null,null,""]
[null,{"$f":"#REF!","v":{"$error":"#REF!"}},null,null,{"$f":"陸連登録!M98","v":0},{"$f":"陸連登録!C98","v":0},{"$f":"陸連登録!D98","v":0},0,{"$f":"陸連登録!A98","v":""},{"$f":"陸連登録!P98","v":0},{"$f":"LEFT(陸連登録!L98,4)","v":""},{"$f":"RIGHT(陸連登録!L98,4)","v":""},{"$f":"陸連登録!F98","v":23},{"$f":"陸連登録!B98","v":0},null,{"$f":"IF(O103=\"\",\"\",IF(I103=1,VLOOKUP(O103,男子種目コード!$J$30:$K$31,2,FALSE),IF(I103=2,VLOOKUP(O103,女子種目コード!$J$30:$K$31,2,FALSE))))","v":""},null,0,"高校","0高校",null,null,null,null,null,null,null,null,null,null,null,null,null,null,null,""]
[null,{"$f":"#REF!","v":{"$error":"#REF!"}},null,null,{"$f":"陸連登録!M99","v":0},{"$f":"陸連登録!C99","v":0},{"$f":"陸連登録!D99","v":0},0,{"$f":"陸連登録!A99","v":""},{"$f":"陸連登録!P99","v":0},{"$f":"LEFT(陸連登録!L99,4)","v":""},{"$f":"RIGHT(陸連登録!L99,4)","v":""},{"$f":"陸連登録!F99","v":23},{"$f":"陸連登録!B99","v":0},null,{"$f":"IF(O104=\"\",\"\",IF(I104=1,VLOOKUP(O104,男子種目コード!$J$30:$K$31,2,FALSE),IF(I104=2,VLOOKUP(O104,女子種目コード!$J$30:$K$31,2,FALSE))))","v":""},null,0,"高校","0高校",null,null,null,null,null,null,null,null,null,null,null,null,null,null,null,""]
[null,{"$f":"#REF!","v":{"$error":"#REF!"}},null,null,{"$f":"陸連登録!M100","v":0},{"$f":"陸連登録!C100","v":0},{"$f":"陸連登録!D100","v":0},0,{"$f":"陸連登録!A100","v":""},{"$f":"陸連登録!P100","v":0},{"$f":"LEFT(陸連登録!L100,4)","v":""},{"$f":"RIGHT(陸連登録!L100,4)","v":""},{"$f":"陸連登録!F100","v":23},{"$f":"陸連登録!B100","v":0},null,{"$f":"IF(O105=\"\",\"\",IF(I105=1,VLOOKUP(O105,男子種目コード!$J$30:$K$31,2,FALSE),IF(I105=2,VLOOKUP(O105,女子種目コード!$J$30:$K$31,2,FALSE))))","v":""},null,0,"高校","0高校",null,null,null,null,null,null,null,null,null,null,null,null,null,null,null,""]
[null,{"$f":"#REF!","v":{"$error":"#REF!"}},null,null,{"$f":"陸連登録!M101","v":0},{"$f":"陸連登録!C101","v":0},{"$f":"陸連登録!D101","v":0},0,{"$f":"陸連登録!A101","v":""},{"$f":"陸連登録!P101","v":0},{"$f":"LEFT(陸連登録!L101,4)","v":""},{"$f":"RIGHT(陸連登録!L101,4)","v":""},{"$f":"陸連登録!F101","v":23},{"$f":"陸連登録!B101","v":0},null,{"$f":"IF(O106=\"\",\"\",IF(I106=1,VLOOKUP(O106,男子種目コード!$J$30:$K$31,2,FALSE),IF(I106=2,VLOOKUP(O106,女子種目コード!$J$30:$K$31,2,FALSE))))","v":""},null,0,"高校","0高校",null,null,null,null,null,null,null,null,null,null,null,null,null,null,null,""]
[null,{"$f":"#REF!","v":{"$error":"#REF!"}},null,null,{"$f":"陸連登録!M102","v":0},{"$f":"陸連登録!C102","v":0},{"$f":"陸連登録!D102","v":0},0,{"$f":"陸連登録!A102","v":""},{"$f":"陸連登録!P102","v":0},{"$f":"LEFT(陸連登録!L102,4)","v":""},{"$f":"RIGHT(陸連登録!L102,4)","v":""},{"$f":"陸連登録!F102","v":23},{"$f":"陸連登録!B102","v":0},null,{"$f":"IF(O107=\"\",\"\",IF(I107=1,VLOOKUP(O107,男子種目コード!$J$30:$K$31,2,FALSE),IF(I107=2,VLOOKUP(O107,女子種目コード!$J$30:$K$31,2,FALSE))))","v":""},null,0,"高校","0高校",null,null,null,null,null,null,null,null,null,null,null,null,null,null,null,""]
[null,{"$f":"#REF!","v":{"$error":"#REF!"}},null,null,{"$f":"陸連登録!M103","v":0},{"$f":"陸連登録!C103","v":0},{"$f":"陸連登録!D103","v":0},0,{"$f":"陸連登録!A103","v":""},{"$f":"陸連登録!P103","v":0},{"$f":"LEFT(陸連登録!L103,4)","v":""},{"$f":"RIGHT(陸連登録!L103,4)","v":""},{"$f":"陸連登録!F103","v":23},{"$f":"陸連登録!B103","v":0},null,{"$f":"IF(O108=\"\",\"\",IF(I108=1,VLOOKUP(O108,男子種目コード!$J$30:$K$31,2,FALSE),IF(I108=2,VLOOKUP(O108,女子種目コード!$J$30:$K$31,2,FALSE))))","v":""},null,0,"高校","0高校",null,null,null,null,null,null,null,null,null,null,null,null,null,null,null,""]
[null,{"$f":"#REF!","v":{"$error":"#REF!"}},null,null,{"$f":"陸連登録!M104","v":0},{"$f":"陸連登録!C104","v":0},{"$f":"陸連登録!D104","v":0},0,{"$f":"陸連登録!A104","v":""},{"$f":"陸連登録!P104","v":0},{"$f":"LEFT(陸連登録!L104,4)","v":""},{"$f":"RIGHT(陸連登録!L104,4)","v":""},{"$f":"陸連登録!F104","v":23},{"$f":"陸連登録!B104","v":0},null,{"$f":"IF(O109=\"\",\"\",IF(I109=1,VLOOKUP(O109,男子種目コード!$J$30:$K$31,2,FALSE),IF(I109=2,VLOOKUP(O109,女子種目コード!$J$30:$K$31,2,FALSE))))","v":""},null,0,"高校","0高校",null,null,null,null,null,null,null,null,null,null,null,null,null,null,null,""]
[null,{"$f":"#REF!","v":{"$error":"#REF!"}},null,null,{"$f":"陸連登録!M105","v":0},{"$f":"陸連登録!C105","v":0},{"$f":"陸連登録!D105","v":0},0,{"$f":"陸連登録!A105","v":""},{"$f":"陸連登録!P105","v":0},{"$f":"LEFT(陸連登録!L105,4)","v":""},{"$f":"RIGHT(陸連登録!L105,4)","v":""},{"$f":"陸連登録!F105","v":23},{"$f":"陸連登録!B105","v":0},null,{"$f":"IF(O110=\"\",\"\",IF(I110=1,VLOOKUP(O110,男子種目コード!$J$30:$K$31,2,FALSE),IF(I110=2,VLOOKUP(O110,女子種目コード!$J$30:$K$31,2,FALSE))))","v":""},null,0,"高校","0高校",null,null,null,null,null,null,null,null,null,null,null,null,null,null,null,""]
[null,{"$f":"#REF!","v":{"$error":"#REF!"}},null,null,{"$f":"陸連登録!M106","v":0},{"$f":"陸連登録!C106","v":0},{"$f":"陸連登録!D106","v":0},0,{"$f":"陸連登録!A106","v":""},{"$f":"陸連登録!P106","v":0},{"$f":"LEFT(陸連登録!L106,4)","v":""},{"$f":"RIGHT(陸連登録!L106,4)","v":""},{"$f":"陸連登録!F106","v":23},{"$f":"陸連登録!B106","v":0},null,{"$f":"IF(O111=\"\",\"\",IF(I111=1,VLOOKUP(O111,男子種目コード!$J$30:$K$31,2,FALSE),IF(I111=2,VLOOKUP(O111,女子種目コード!$J$30:$K$31,2,FALSE))))","v":""},null,0,"高校","0高校",null,null,null,null,null,null,null,null,null,null,null,null,null,null,null,""]
[null,{"$f":"#REF!","v":{"$error":"#REF!"}},null,null,{"$f":"陸連登録!M107","v":0},{"$f":"陸連登録!C107","v":0},{"$f":"陸連登録!D107","v":0},0,{"$f":"陸連登録!A107","v":""},{"$f":"陸連登録!P107","v":0},{"$f":"LEFT(陸連登録!L107,4)","v":""},{"$f":"RIGHT(陸連登録!L107,4)","v":""},{"$f":"陸連登録!F107","v":23},{"$f":"陸連登録!B107","v":0},null,{"$f":"IF(O112=\"\",\"\",IF(I112=1,VLOOKUP(O112,男子種目コード!$J$30:$K$31,2,FALSE),IF(I112=2,VLOOKUP(O112,女子種目コード!$J$30:$K$31,2,FALSE))))","v":""},null,0,"高校","0高校",null,null,null,null,null,null,null,null,null,null,null,null,null,null,null,""]
[null,{"$f":"#REF!","v":{"$error":"#REF!"}},null,null,{"$f":"陸連登録!M108","v":0},{"$f":"陸連登録!C108","v":0},{"$f":"陸連登録!D108","v":0},0,{"$f":"陸連登録!A108","v":""},{"$f":"陸連登録!P108","v":0},{"$f":"LEFT(陸連登録!L108,4)","v":""},{"$f":"RIGHT(陸連登録!L108,4)","v":""},{"$f":"陸連登録!F108","v":23},{"$f":"陸連登録!B108","v":0},null,{"$f":"IF(O113=\"\",\"\",IF(I113=1,VLOOKUP(O113,男子種目コード!$J$30:$K$31,2,FALSE),IF(I113=2,VLOOKUP(O113,女子種目コード!$J$30:$K$31,2,FALSE))))","v":""},null,0,"高校","0高校",null,null,null,null,null,null,null,null,null,null,null,null,null,null,null,""]
[null,{"$f":"#REF!","v":{"$error":"#REF!"}},null,null,{"$f":"陸連登録!M109","v":0},{"$f":"陸連登録!C109","v":0},{"$f":"陸連登録!D109","v":0},0,{"$f":"陸連登録!A109","v":""},{"$f":"陸連登録!P109","v":0},{"$f":"LEFT(陸連登録!L109,4)","v":""},{"$f":"RIGHT(陸連登録!L109,4)","v":""},{"$f":"陸連登録!F109","v":23},{"$f":"陸連登録!B109","v":0},null,{"$f":"IF(O114=\"\",\"\",IF(I114=1,VLOOKUP(O114,男子種目コード!$J$30:$K$31,2,FALSE),IF(I114=2,VLOOKUP(O114,女子種目コード!$J$30:$K$31,2,FALSE))))","v":""},null,0,"高校","0高校",null,null,null,null,null,null,null,null,null,null,null,null,null,null,null,""]
[null,{"$f":"#REF!","v":{"$error":"#REF!"}},null,null,{"$f":"陸連登録!M110","v":0},{"$f":"陸連登録!C110","v":0},{"$f":"陸連登録!D110","v":0},0,{"$f":"陸連登録!A110","v":""},{"$f":"陸連登録!P110","v":0},{"$f":"LEFT(陸連登録!L110,4)","v":""},{"$f":"RIGHT(陸連登録!L110,4)","v":""},{"$f":"陸連登録!F110","v":23},{"$f":"陸連登録!B110","v":0},null,{"$f":"IF(O115=\"\",\"\",IF(I115=1,VLOOKUP(O115,男子種目コード!$J$30:$K$31,2,FALSE),IF(I115=2,VLOOKUP(O115,女子種目コード!$J$30:$K$31,2,FALSE))))","v":""},null,0,"高校","0高校",null,null,null,null,null,null,null,null,null,null,null,null,null,null,null,""]
[null,{"$f":"#REF!","v":{"$error":"#REF!"}},null,null,{"$f":"陸連登録!M111","v":0},{"$f":"陸連登録!C111","v":0},{"$f":"陸連登録!D111","v":0},0,{"$f":"陸連登録!A111","v":""},{"$f":"陸連登録!P111","v":0},{"$f":"LEFT(陸連登録!L111,4)","v":""},{"$f":"RIGHT(陸連登録!L111,4)","v":""},{"$f":"陸連登録!F111","v":23},{"$f":"陸連登録!B111","v":0},null,{"$f":"IF(O116=\"\",\"\",IF(I116=1,VLOOKUP(O116,男子種目コード!$J$30:$K$31,2,FALSE),IF(I116=2,VLOOKUP(O116,女子種目コード!$J$30:$K$31,2,FALSE))))","v":""},null,0,"高校","0高校",null,null,null,null,null,null,null,null,null,null,null,null,null,null,null,""]
[null,null,null,null,null,null,null,null,null,null,null,null,null,null,null,null,null,null,null,null,null,null,null,null,null,null,null,null,null,null,null,null,null,{"$f":"SUM(AJ7:AJ116)","v":0}]

{"sheet":"お伊勢さんマラソン","index":11,"n_rows":117,"n_cols":38,"rows_kept":117,"cut":false,"hidden":false,"merged":[[1,12,1,13],[5,36,5,37],[1,7,1,8],[1,14,1,15]]}
[null,null,null,null,"所属名",{"$f":"陸連登録!I2","v":0},null,null,"中日三重お伊勢さんマラソン"]
[null,null,null,null,"所属コード",{"$f":"陸連登録!N2","v":""}]
[null,null,null,null,"顧問名"]
[null,null,null,null,"顧問連絡先",null,null,null,"大会参加費",null,null,null,null,null,{"$f":"AL9*1000","v":0}]
[]
["競技者コード","所属コード",null,null,"ナンバー","名前","カナ名","掲示板名","性別","学年","生年","生年月日(年)","個人所属地コード","陸連コード","種目","コード","記録",null,null,"種目2",null,null,null,null,null,null,null,null,null,null,null,null,null,null,null,null,"種目別人数"]
[null,{"$f":"#REF!","v":{"$error":"#REF!"}},null,null,{"$f":"陸連登録!M2","v":0},{"$f":"陸連登録!C2","v":0},{"$f":"陸連登録!D2","v":0},{"$f":"F7","v":0},{"$f":"陸連登録!A2","v":""},{"$f":"陸連登録!P2","v":0},{"$f":"LEFT(陸連登録!L2,4)","v":""},{"$f":"RIGHT(陸連登録!L2,4)","v":""},{"$f":"陸連登録!F2","v":23},{"$f":"陸連登録!B2","v":0},null,{"$f":"IF(O7=\"\",\"\",IF(I7=1,VLOOKUP(O7,男子種目コード!$V$22:$W$26,2,FALSE),IF(I7=2,VLOOKUP(O7,女子種目コード!$V$22:$W$26,2,FALSE))))","v":""},null,{"$f":"$F$1","v":0},"高校",{"$f":"CONCATENATE(R7,S7)","v":"0高校"},null,null,null,null,null,null,null,null,null,null,null,null,null,null,"高校10ｋ",{"$f":"IF(O7=\"\",\"\",1)","v":""},"男子10k",{"$f":"COUNTIF($P$7:$P$116,3)","v":0}]
[null,{"$f":"#REF!","v":{"$error":"#REF!"}},null,null,{"$f":"陸連登録!M3","v":0},{"$f":"陸連登録!C3","v":0},{"$f":"陸連登録!D3","v":0},{"$f":"F8","v":0},{"$f":"陸連登録!A3","v":""},{"$f":"陸連登録!P3","v":0},{"$f":"LEFT(陸連登録!L3,4)","v":""},{"$f":"RIGHT(陸連登録!L3,4)","v":""},{"$f":"陸連登録!F3","v":23},{"$f":"陸連登録!B3","v":0},null,{"$f":"IF(O8=\"\",\"\",IF(I8=1,VLOOKUP(O8,男子種目コード!$V$22:$W$26,2,FALSE),IF(I8=2,VLOOKUP(O8,女子種目コード!$V$22:$W$26,2,FALSE))))","v":""},null,{"$f":"$F$1","v":0},"高校",{"$f":"CONCATENATE(R8,S8)","v":"0高校"},null,null,null,null,null,null,null,null,null,null,null,null,null,null,"女子5ｋ","","女子5k",{"$f":"COUNTIF($P$7:$P$116,7)","v":0}]
[null,{"$f":"#REF!","v":{"$error":"#REF!"}},null,null,{"$f":"陸連登録!M4","v":0},{"$f":"陸連登録!C4","v":0},{"$f":"陸連登録!D4","v":0},0,{"$f":"陸連登録!A4","v":""},{"$f":"陸連登録!P4","v":0},{"$f":"LEFT(陸連登録!L4,4)","v":""},{"$f":"RIGHT(陸連登録!L4,4)","v":""},{"$f":"陸連登録!F4","v":23},{"$f":"陸連登録!B4","v":0},null,{"$f":"IF(O9=\"\",\"\",IF(I9=1,VLOOKUP(O9,男子種目コード!$V$22:$W$26,2,FALSE),IF(I9=2,VLOOKUP(O9,女子種目コード!$V$22:$W$26,2,FALSE))))","v":""},null,0,"高校","0高校",null,null,null,null,null,null,null,null,null,null,null,null,null,null,null,"","合計",{"$f":"SUM(AL7:AL8)","v":0}]
[null,{"$f":"#REF!","v":{"$error":"#REF!"}},null,null,{"$f":"陸連登録!M5","v":0},{"$f":"陸連登録!C5","v":0},{"$f":"陸連登録!D5","v":0},0,{"$f":"陸連登録!A5","v":""},{"$f":"陸連登録!P5","v":0},{"$f":"LEFT(陸連登録!L5,4)","v":""},{"$f":"RIGHT(陸連登録!L5,4)","v":""},{"$f":"陸連登録!F5","v":23},{"$f":"陸連登録!B5","v":0},null,{"$f":"IF(O10=\"\",\"\",IF(I10=1,VLOOKUP(O10,男子種目コード!$V$22:$W$26,2,FALSE),IF(I10=2,VLOOKUP(O10,女子種目コード!$V$22:$W$26,2,FALSE))))","v":""},null,0,"高校","0高校",null,null,null,null,null,null,null,null,null,null,null,null,null,null,null,""]
[null,{"$f":"#REF!","v":{"$error":"#REF!"}},null,null,{"$f":"陸連登録!M6","v":0},{"$f":"陸連登録!C6","v":0},{"$f":"陸連登録!D6","v":0},0,{"$f":"陸連登録!A6","v":""},{"$f":"陸連登録!P6","v":0},{"$f":"LEFT(陸連登録!L6,4)","v":""},{"$f":"RIGHT(陸連登録!L6,4)","v":""},{"$f":"陸連登録!F6","v":23},{"$f":"陸連登録!B6","v":0},null,{"$f":"IF(O11=\"\",\"\",IF(I11=1,VLOOKUP(O11,男子種目コード!$V$22:$W$26,2,FALSE),IF(I11=2,VLOOKUP(O11,女子種目コード!$V$22:$W$26,2,FALSE))))","v":""},null,0,"高校","0高校",null,null,null,null,null,null,null,null,null,null,null,null,null,null,null,"","男子は5000mの記録"]
[null,{"$f":"#REF!","v":{"$error":"#REF!"}},null,null,{"$f":"陸連登録!M7","v":0},{"$f":"陸連登録!C7","v":0},{"$f":"陸連登録!D7","v":0},0,{"$f":"陸連登録!A7","v":""},{"$f":"陸連登録!P7","v":0},{"$f":"LEFT(陸連登録!L7,4)","v":""},{"$f":"RIGHT(陸連登録!L7,4)","v":""},{"$f":"陸連登録!F7","v":23},{"$f":"陸連登録!B7","v":0},null,{"$f":"IF(O12=\"\",\"\",IF(I12=1,VLOOKUP(O12,男子種目コード!$V$22:$W$26,2,FALSE),IF(I12=2,VLOOKUP(O12,女子種目コード!$V$22:$W$26,2,FALSE))))","v":""},null,0,"高校","0高校",null,null,null,null,null,null,null,null,null,null,null,null,null,null,null,"","女子は3000mの記録"]
[null,{"$f":"#REF!","v":{"$error":"#REF!"}},null,null,{"$f":"陸連登録!M8","v":0},{"$f":"陸連登録!C8","v":0},{"$f":"陸連登録!D8","v":0},0,{"$f":"陸連登録!A8","v":""},{"$f":"陸連登録!P8","v":0},{"$f":"LEFT(陸連登録!L8,4)","v":""},{"$f":"RIGHT(陸連登録!L8,4)","v":""},{"$f":"陸連登録!F8","v":23},{"$f":"陸連登録!B8","v":0},null,{"$f":"IF(O13=\"\",\"\",IF(I13=1,VLOOKUP(O13,男子種目コード!$V$22:$W$26,2,FALSE),IF(I13=2,VLOOKUP(O13,女子種目コード!$V$22:$W$26,2,FALSE))))","v":""},null,0,"高校","0高校",null,null,null,null,null,null,null,null,null,null,null,null,null,null,null,""]
[null,{"$f":"#REF!","v":{"$error":"#REF!"}},null,null,{"$f":"陸連登録!M9","v":0},{"$f":"陸連登録!C9","v":0},{"$f":"陸連登録!D9","v":0},0,{"$f":"陸連登録!A9","v":""},{"$f":"陸連登録!P9","v":0},{"$f":"LEFT(陸連登録!L9,4)","v":""},{"$f":"RIGHT(陸連登録!L9,4)","v":""},{"$f":"陸連登録!F9","v":23},{"$f":"陸連登録!B9","v":0},null,{"$f":"IF(O14=\"\",\"\",IF(I14=1,VLOOKUP(O14,男子種目コード!$V$22:$W$26,2,FALSE),IF(I14=2,VLOOKUP(O14,女子種目コード!$V$22:$W$26,2,FALSE))))","v":""},null,0,"高校","0高校",null,null,null,null,null,null,null,null,null,null,null,null,null,null,null,""]
[null,{"$f":"#REF!","v":{"$error":"#REF!"}},null,null,{"$f":"陸連登録!M10","v":0},{"$f":"陸連登録!C10","v":0},{"$f":"陸連登録!D10","v":0},0,{"$f":"陸連登録!A10","v":""},{"$f":"陸連登録!P10","v":0},{"$f":"LEFT(陸連登録!L10,4)","v":""},{"$f":"RIGHT(陸連登録!L10,4)","v":""},{"$f":"陸連登録!F10","v":23},{"$f":"陸連登録!B10","v":0},null,{"$f":"IF(O15=\"\",\"\",IF(I15=1,VLOOKUP(O15,男子種目コード!$V$22:$W$26,2,FALSE),IF(I15=2,VLOOKUP(O15,女子種目コード!$V$22:$W$26,2,FALSE))))","v":""},null,0,"高校","0高校",null,null,null,null,null,null,null,null,null,null,null,null,null,null,null,""]
[null,{"$f":"#REF!","v":{"$error":"#REF!"}},null,null,{"$f":"陸連登録!M11","v":0},{"$f":"陸連登録!C11","v":0},{"$f":"陸連登録!D11","v":0},0,{"$f":"陸連登録!A11","v":""},{"$f":"陸連登録!P11","v":0},{"$f":"LEFT(陸連登録!L11,4)","v":""},{"$f":"RIGHT(陸連登録!L11,4)","v":""},{"$f":"陸連登録!F11","v":23},{"$f":"陸連登録!B11","v":0},null,{"$f":"IF(O16=\"\",\"\",IF(I16=1,VLOOKUP(O16,男子種目コード!$V$22:$W$26,2,FALSE),IF(I16=2,VLOOKUP(O16,女子種目コード!$V$22:$W$26,2,FALSE))))","v":""},null,0,"高校","0高校",null,null,null,null,null,null,null,null,null,null,null,null,null,null,null,""]
[null,{"$f":"#REF!","v":{"$error":"#REF!"}},null,null,{"$f":"陸連登録!M12","v":0},{"$f":"陸連登録!C12","v":0},{"$f":"陸連登録!D12","v":0},0,{"$f":"陸連登録!A12","v":""},{"$f":"陸連登録!P12","v":0},{"$f":"LEFT(陸連登録!L12,4)","v":""},{"$f":"RIGHT(陸連登録!L12,4)","v":""},{"$f":"陸連登録!F12","v":23},{"$f":"陸連登録!B12","v":0},null,{"$f":"IF(O17=\"\",\"\",IF(I17=1,VLOOKUP(O17,男子種目コード!$V$22:$W$26,2,FALSE),IF(I17=2,VLOOKUP(O17,女子種目コード!$V$22:$W$26,2,FALSE))))","v":""},null,0,"高校","0高校",null,null,null,null,null,null,null,null,null,null,null,null,null,null,null,""]
[null,{"$f":"#REF!","v":{"$error":"#REF!"}},null,null,{"$f":"陸連登録!M13","v":0},{"$f":"陸連登録!C13","v":0},{"$f":"陸連登録!D13","v":0},0,{"$f":"陸連登録!A13","v":""},{"$f":"陸連登録!P13","v":0},{"$f":"LEFT(陸連登録!L13,4)","v":""},{"$f":"RIGHT(陸連登録!L13,4)","v":""},{"$f":"陸連登録!F13","v":23},{"$f":"陸連登録!B13","v":0},null,{"$f":"IF(O18=\"\",\"\",IF(I18=1,VLOOKUP(O18,男子種目コード!$V$22:$W$26,2,FALSE),IF(I18=2,VLOOKUP(O18,女子種目コード!$V$22:$W$26,2,FALSE))))","v":""},null,0,"高校","0高校",null,null,null,null,null,null,null,null,null,null,null,null,null,null,null,""]
[null,{"$f":"#REF!","v":{"$error":"#REF!"}},null,null,{"$f":"陸連登録!M14","v":0},{"$f":"陸連登録!C14","v":0},{"$f":"陸連登録!D14","v":0},0,{"$f":"陸連登録!A14","v":""},{"$f":"陸連登録!P14","v":0},{"$f":"LEFT(陸連登録!L14,4)","v":""},{"$f":"RIGHT(陸連登録!L14,4)","v":""},{"$f":"陸連登録!F14","v":23},{"$f":"陸連登録!B14","v":0},null,{"$f":"IF(O19=\"\",\"\",IF(I19=1,VLOOKUP(O19,男子種目コード!$V$22:$W$26,2,FALSE),IF(I19=2,VLOOKUP(O19,女子種目コード!$V$22:$W$26,2,FALSE))))","v":""},null,0,"高校","0高校",null,null,null,null,null,null,null,null,null,null,null,null,null,null,null,""]
[null,{"$f":"#REF!","v":{"$error":"#REF!"}},null,null,{"$f":"陸連登録!M15","v":0},{"$f":"陸連登録!C15","v":0},{"$f":"陸連登録!D15","v":0},0,{"$f":"陸連登録!A15","v":""},{"$f":"陸連登録!P15","v":0},{"$f":"LEFT(陸連登録!L15,4)","v":""},{"$f":"RIGHT(陸連登録!L15,4)","v":""},{"$f":"陸連登録!F15","v":23},{"$f":"陸連登録!B15","v":0},null,{"$f":"IF(O20=\"\",\"\",IF(I20=1,VLOOKUP(O20,男子種目コード!$V$22:$W$26,2,FALSE),IF(I20=2,VLOOKUP(O20,女子種目コード!$V$22:$W$26,2,FALSE))))","v":""},null,0,"高校","0高校",null,null,null,null,null,null,null,null,null,null,null,null,null,null,null,""]
[null,{"$f":"#REF!","v":{"$error":"#REF!"}},null,null,{"$f":"陸連登録!M16","v":0},{"$f":"陸連登録!C16","v":0},{"$f":"陸連登録!D16","v":0},0,{"$f":"陸連登録!A16","v":""},{"$f":"陸連登録!P16","v":0},{"$f":"LEFT(陸連登録!L16,4)","v":""},{"$f":"RIGHT(陸連登録!L16,4)","v":""},{"$f":"陸連登録!F16","v":23},{"$f":"陸連登録!B16","v":0},null,{"$f":"IF(O21=\"\",\"\",IF(I21=1,VLOOKUP(O21,男子種目コード!$V$22:$W$26,2,FALSE),IF(I21=2,VLOOKUP(O21,女子種目コード!$V$22:$W$26,2,FALSE))))","v":""},null,0,"高校","0高校",null,null,null,null,null,null,null,null,null,null,null,null,null,null,null,""]
[null,{"$f":"#REF!","v":{"$error":"#REF!"}},null,null,{"$f":"陸連登録!M17","v":0},{"$f":"陸連登録!C17","v":0},{"$f":"陸連登録!D17","v":0},0,{"$f":"陸連登録!A17","v":""},{"$f":"陸連登録!P17","v":0},{"$f":"LEFT(陸連登録!L17,4)","v":""},{"$f":"RIGHT(陸連登録!L17,4)","v":""},{"$f":"陸連登録!F17","v":23},{"$f":"陸連登録!B17","v":0},null,{"$f":"IF(O22=\"\",\"\",IF(I22=1,VLOOKUP(O22,男子種目コード!$V$22:$W$26,2,FALSE),IF(I22=2,VLOOKUP(O22,女子種目コード!$V$22:$W$26,2,FALSE))))","v":""},null,0,"高校","0高校",null,null,null,null,null,null,null,null,null,null,null,null,null,null,null,""]
[null,{"$f":"#REF!","v":{"$error":"#REF!"}},null,null,{"$f":"陸連登録!M18","v":0},{"$f":"陸連登録!C18","v":0},{"$f":"陸連登録!D18","v":0},0,{"$f":"陸連登録!A18","v":""},{"$f":"陸連登録!P18","v":0},{"$f":"LEFT(陸連登録!L18,4)","v":""},{"$f":"RIGHT(陸連登録!L18,4)","v":""},{"$f":"陸連登録!F18","v":23},{"$f":"陸連登録!B18","v":0},null,{"$f":"IF(O23=\"\",\"\",IF(I23=1,VLOOKUP(O23,男子種目コード!$V$22:$W$26,2,FALSE),IF(I23=2,VLOOKUP(O23,女子種目コード!$V$22:$W$26,2,FALSE))))","v":""},null,0,"高校","0高校",null,null,null,null,null,null,null,null,null,null,null,null,null,null,null,""]
[null,{"$f":"#REF!","v":{"$error":"#REF!"}},null,null,{"$f":"陸連登録!M19","v":0},{"$f":"陸連登録!C19","v":0},{"$f":"陸連登録!D19","v":0},0,{"$f":"陸連登録!A19","v":""},{"$f":"陸連登録!P19","v":0},{"$f":"LEFT(陸連登録!L19,4)","v":""},{"$f":"RIGHT(陸連登録!L19,4)","v":""},{"$f":"陸連登録!F19","v":23},{"$f":"陸連登録!B19","v":0},null,{"$f":"IF(O24=\"\",\"\",IF(I24=1,VLOOKUP(O24,男子種目コード!$V$22:$W$26,2,FALSE),IF(I24=2,VLOOKUP(O24,女子種目コード!$V$22:$W$26,2,FALSE))))","v":""},null,0,"高校","0高校",null,null,null,null,null,null,null,null,null,null,null,null,null,null,null,""]
[null,{"$f":"#REF!","v":{"$error":"#REF!"}},null,null,{"$f":"陸連登録!M20","v":0},{"$f":"陸連登録!C20","v":0},{"$f":"陸連登録!D20","v":0},0,{"$f":"陸連登録!A20","v":""},{"$f":"陸連登録!P20","v":0},{"$f":"LEFT(陸連登録!L20,4)","v":""},{"$f":"RIGHT(陸連登録!L20,4)","v":""},{"$f":"陸連登録!F20","v":23},{"$f":"陸連登録!B20","v":0},null,{"$f":"IF(O25=\"\",\"\",IF(I25=1,VLOOKUP(O25,男子種目コード!$V$22:$W$26,2,FALSE),IF(I25=2,VLOOKUP(O25,女子種目コード!$V$22:$W$26,2,FALSE))))","v":""},null,0,"高校","0高校",null,null,null,null,null,null,null,null,null,null,null,null,null,null,null,""]
[null,{"$f":"#REF!","v":{"$error":"#REF!"}},null,null,{"$f":"陸連登録!M21","v":0},{"$f":"陸連登録!C21","v":0},{"$f":"陸連登録!D21","v":0},0,{"$f":"陸連登録!A21","v":""},{"$f":"陸連登録!P21","v":0},{"$f":"LEFT(陸連登録!L21,4)","v":""},{"$f":"RIGHT(陸連登録!L21,4)","v":""},{"$f":"陸連登録!F21","v":23},{"$f":"陸連登録!B21","v":0},null,{"$f":"IF(O26=\"\",\"\",IF(I26=1,VLOOKUP(O26,男子種目コード!$V$22:$W$26,2,FALSE),IF(I26=2,VLOOKUP(O26,女子種目コード!$V$22:$W$26,2,FALSE))))","v":""},null,0,"高校","0高校",null,null,null,null,null,null,null,null,null,null,null,null,null,null,null,""]
[null,{"$f":"#REF!","v":{"$error":"#REF!"}},null,null,{"$f":"陸連登録!M22","v":0},{"$f":"陸連登録!C22","v":0},{"$f":"陸連登録!D22","v":0},0,{"$f":"陸連登録!A22","v":""},{"$f":"陸連登録!P22","v":0},{"$f":"LEFT(陸連登録!L22,4)","v":""},{"$f":"RIGHT(陸連登録!L22,4)","v":""},{"$f":"陸連登録!F22","v":23},{"$f":"陸連登録!B22","v":0},null,{"$f":"IF(O27=\"\",\"\",IF(I27=1,VLOOKUP(O27,男子種目コード!$V$22:$W$26,2,FALSE),IF(I27=2,VLOOKUP(O27,女子種目コード!$V$22:$W$26,2,FALSE))))","v":""},null,0,"高校","0高校",null,null,null,null,null,null,null,null,null,null,null,null,null,null,null,""]
[null,{"$f":"#REF!","v":{"$error":"#REF!"}},null,null,{"$f":"陸連登録!M23","v":0},{"$f":"陸連登録!C23","v":0},{"$f":"陸連登録!D23","v":0},0,{"$f":"陸連登録!A23","v":""},{"$f":"陸連登録!P23","v":0},{"$f":"LEFT(陸連登録!L23,4)","v":""},{"$f":"RIGHT(陸連登録!L23,4)","v":""},{"$f":"陸連登録!F23","v":23},{"$f":"陸連登録!B23","v":0},null,{"$f":"IF(O28=\"\",\"\",IF(I28=1,VLOOKUP(O28,男子種目コード!$V$22:$W$26,2,FALSE),IF(I28=2,VLOOKUP(O28,女子種目コード!$V$22:$W$26,2,FALSE))))","v":""},null,0,"高校","0高校",null,null,null,null,null,null,null,null,null,null,null,null,null,null,null,""]
[null,{"$f":"#REF!","v":{"$error":"#REF!"}},null,null,{"$f":"陸連登録!M24","v":0},{"$f":"陸連登録!C24","v":0},{"$f":"陸連登録!D24","v":0},0,{"$f":"陸連登録!A24","v":""},{"$f":"陸連登録!P24","v":0},{"$f":"LEFT(陸連登録!L24,4)","v":""},{"$f":"RIGHT(陸連登録!L24,4)","v":""},{"$f":"陸連登録!F24","v":23},{"$f":"陸連登録!B24","v":0},null,{"$f":"IF(O29=\"\",\"\",IF(I29=1,VLOOKUP(O29,男子種目コード!$V$22:$W$26,2,FALSE),IF(I29=2,VLOOKUP(O29,女子種目コード!$V$22:$W$26,2,FALSE))))","v":""},null,0,"高校","0高校",null,null,null,null,null,null,null,null,null,null,null,null,null,null,null,""]
[null,{"$f":"#REF!","v":{"$error":"#REF!"}},null,null,{"$f":"陸連登録!M25","v":0},{"$f":"陸連登録!C25","v":0},{"$f":"陸連登録!D25","v":0},0,{"$f":"陸連登録!A25","v":""},{"$f":"陸連登録!P25","v":0},{"$f":"LEFT(陸連登録!L25,4)","v":""},{"$f":"RIGHT(陸連登録!L25,4)","v":""},{"$f":"陸連登録!F25","v":23},{"$f":"陸連登録!B25","v":0},null,{"$f":"IF(O30=\"\",\"\",IF(I30=1,VLOOKUP(O30,男子種目コード!$V$22:$W$26,2,FALSE),IF(I30=2,VLOOKUP(O30,女子種目コード!$V$22:$W$26,2,FALSE))))","v":""},null,0,"高校","0高校",null,null,null,null,null,null,null,null,null,null,null,null,null,null,null,""]
[null,{"$f":"#REF!","v":{"$error":"#REF!"}},null,null,{"$f":"陸連登録!M26","v":0},{"$f":"陸連登録!C26","v":0},{"$f":"陸連登録!D26","v":0},0,{"$f":"陸連登録!A26","v":""},{"$f":"陸連登録!P26","v":0},{"$f":"LEFT(陸連登録!L26,4)","v":""},{"$f":"RIGHT(陸連登録!L26,4)","v":""},{"$f":"陸連登録!F26","v":23},{"$f":"陸連登録!B26","v":0},null,{"$f":"IF(O31=\"\",\"\",IF(I31=1,VLOOKUP(O31,男子種目コード!$V$22:$W$26,2,FALSE),IF(I31=2,VLOOKUP(O31,女子種目コード!$V$22:$W$26,2,FALSE))))","v":""},null,0,"高校","0高校",null,null,null,null,null,null,null,null,null,null,null,null,null,null,null,""]
[null,{"$f":"#REF!","v":{"$error":"#REF!"}},null,null,{"$f":"陸連登録!M27","v":0},{"$f":"陸連登録!C27","v":0},{"$f":"陸連登録!D27","v":0},0,{"$f":"陸連登録!A27","v":""},{"$f":"陸連登録!P27","v":0},{"$f":"LEFT(陸連登録!L27,4)","v":""},{"$f":"RIGHT(陸連登録!L27,4)","v":""},{"$f":"陸連登録!F27","v":23},{"$f":"陸連登録!B27","v":0},null,{"$f":"IF(O32=\"\",\"\",IF(I32=1,VLOOKUP(O32,男子種目コード!$V$22:$W$26,2,FALSE),IF(I32=2,VLOOKUP(O32,女子種目コード!$V$22:$W$26,2,FALSE))))","v":""},null,0,"高校","0高校",null,null,null,null,null,null,null,null,null,null,null,null,null,null,null,""]
[null,{"$f":"#REF!","v":{"$error":"#REF!"}},null,null,{"$f":"陸連登録!M28","v":0},{"$f":"陸連登録!C28","v":0},{"$f":"陸連登録!D28","v":0},0,{"$f":"陸連登録!A28","v":""},{"$f":"陸連登録!P28","v":0},{"$f":"LEFT(陸連登録!L28,4)","v":""},{"$f":"RIGHT(陸連登録!L28,4)","v":""},{"$f":"陸連登録!F28","v":23},{"$f":"陸連登録!B28","v":0},null,{"$f":"IF(O33=\"\",\"\",IF(I33=1,VLOOKUP(O33,男子種目コード!$V$22:$W$26,2,FALSE),IF(I33=2,VLOOKUP(O33,女子種目コード!$V$22:$W$26,2,FALSE))))","v":""},null,0,"高校","0高校",null,null,null,null,null,null,null,null,null,null,null,null,null,null,null,""]
[null,{"$f":"#REF!","v":{"$error":"#REF!"}},null,null,{"$f":"陸連登録!M29","v":0},{"$f":"陸連登録!C29","v":0},{"$f":"陸連登録!D29","v":0},0,{"$f":"陸連登録!A29","v":""},{"$f":"陸連登録!P29","v":0},{"$f":"LEFT(陸連登録!L29,4)","v":""},{"$f":"RIGHT(陸連登録!L29,4)","v":""},{"$f":"陸連登録!F29","v":23},{"$f":"陸連登録!B29","v":0},null,{"$f":"IF(O34=\"\",\"\",IF(I34=1,VLOOKUP(O34,男子種目コード!$V$22:$W$26,2,FALSE),IF(I34=2,VLOOKUP(O34,女子種目コード!$V$22:$W$26,2,FALSE))))","v":""},null,0,"高校","0高校",null,null,null,null,null,null,null,null,null,null,null,null,null,null,null,""]
[null,{"$f":"#REF!","v":{"$error":"#REF!"}},null,null,{"$f":"陸連登録!M30","v":0},{"$f":"陸連登録!C30","v":0},{"$f":"陸連登録!D30","v":0},0,{"$f":"陸連登録!A30","v":""},{"$f":"陸連登録!P30","v":0},{"$f":"LEFT(陸連登録!L30,4)","v":""},{"$f":"RIGHT(陸連登録!L30,4)","v":""},{"$f":"陸連登録!F30","v":23},{"$f":"陸連登録!B30","v":0},null,{"$f":"IF(O35=\"\",\"\",IF(I35=1,VLOOKUP(O35,男子種目コード!$V$22:$W$26,2,FALSE),IF(I35=2,VLOOKUP(O35,女子種目コード!$V$22:$W$26,2,FALSE))))","v":""},null,0,"高校","0高校",null,null,null,null,null,null,null,null,null,null,null,null,null,null,null,""]
[null,{"$f":"#REF!","v":{"$error":"#REF!"}},null,null,{"$f":"陸連登録!M31","v":0},{"$f":"陸連登録!C31","v":0},{"$f":"陸連登録!D31","v":0},0,{"$f":"陸連登録!A31","v":""},{"$f":"陸連登録!P31","v":0},{"$f":"LEFT(陸連登録!L31,4)","v":""},{"$f":"RIGHT(陸連登録!L31,4)","v":""},{"$f":"陸連登録!F31","v":23},{"$f":"陸連登録!B31","v":0},null,{"$f":"IF(O36=\"\",\"\",IF(I36=1,VLOOKUP(O36,男子種目コード!$V$22:$W$26,2,FALSE),IF(I36=2,VLOOKUP(O36,女子種目コード!$V$22:$W$26,2,FALSE))))","v":""},null,0,"高校","0高校",null,null,null,null,null,null,null,null,null,null,null,null,null,null,null,""]
[null,{"$f":"#REF!","v":{"$error":"#REF!"}},null,null,{"$f":"陸連登録!M32","v":0},{"$f":"陸連登録!C32","v":0},{"$f":"陸連登録!D32","v":0},0,{"$f":"陸連登録!A32","v":""},{"$f":"陸連登録!P32","v":0},{"$f":"LEFT(陸連登録!L32,4)","v":""},{"$f":"RIGHT(陸連登録!L32,4)","v":""},{"$f":"陸連登録!F32","v":23},{"$f":"陸連登録!B32","v":0},null,{"$f":"IF(O37=\"\",\"\",IF(I37=1,VLOOKUP(O37,男子種目コード!$V$22:$W$26,2,FALSE),IF(I37=2,VLOOKUP(O37,女子種目コード!$V$22:$W$26,2,FALSE))))","v":""},null,0,"高校","0高校",null,null,null,null,null,null,null,null,null,null,null,null,null,null,null,""]
[null,{"$f":"#REF!","v":{"$error":"#REF!"}},null,null,{"$f":"陸連登録!M33","v":0},{"$f":"陸連登録!C33","v":0},{"$f":"陸連登録!D33","v":0},0,{"$f":"陸連登録!A33","v":""},{"$f":"陸連登録!P33","v":0},{"$f":"LEFT(陸連登録!L33,4)","v":""},{"$f":"RIGHT(陸連登録!L33,4)","v":""},{"$f":"陸連登録!F33","v":23},{"$f":"陸連登録!B33","v":0},null,{"$f":"IF(O38=\"\",\"\",IF(I38=1,VLOOKUP(O38,男子種目コード!$V$22:$W$26,2,FALSE),IF(I38=2,VLOOKUP(O38,女子種目コード!$V$22:$W$26,2,FALSE))))","v":""},null,0,"高校","0高校",null,null,null,null,null,null,null,null,null,null,null,null,null,null,null,""]
[null,{"$f":"#REF!","v":{"$error":"#REF!"}},null,null,{"$f":"陸連登録!M34","v":0},{"$f":"陸連登録!C34","v":0},{"$f":"陸連登録!D34","v":0},0,{"$f":"陸連登録!A34","v":""},{"$f":"陸連登録!P34","v":0},{"$f":"LEFT(陸連登録!L34,4)","v":""},{"$f":"RIGHT(陸連登録!L34,4)","v":""},{"$f":"陸連登録!F34","v":23},{"$f":"陸連登録!B34","v":0},null,{"$f":"IF(O39=\"\",\"\",IF(I39=1,VLOOKUP(O39,男子種目コード!$V$22:$W$26,2,FALSE),IF(I39=2,VLOOKUP(O39,女子種目コード!$V$22:$W$26,2,FALSE))))","v":""},null,0,"高校","0高校",null,null,null,null,null,null,null,null,null,null,null,null,null,null,null,{"$f":"IF(O39=\"\",\"\",1)","v":""}]
[null,{"$f":"#REF!","v":{"$error":"#REF!"}},null,null,{"$f":"陸連登録!M35","v":0},{"$f":"陸連登録!C35","v":0},{"$f":"陸連登録!D35","v":0},0,{"$f":"陸連登録!A35","v":""},{"$f":"陸連登録!P35","v":0},{"$f":"LEFT(陸連登録!L35,4)","v":""},{"$f":"RIGHT(陸連登録!L35,4)","v":""},{"$f":"陸連登録!F35","v":23},{"$f":"陸連登録!B35","v":0},null,{"$f":"IF(O40=\"\",\"\",IF(I40=1,VLOOKUP(O40,男子種目コード!$V$22:$W$26,2,FALSE),IF(I40=2,VLOOKUP(O40,女子種目コード!$V$22:$W$26,2,FALSE))))","v":""},null,0,"高校","0高校",null,null,null,null,null,null,null,null,null,null,null,null,null,null,null,""]
[null,{"$f":"#REF!","v":{"$error":"#REF!"}},null,null,{"$f":"陸連登録!M36","v":0},{"$f":"陸連登録!C36","v":0},{"$f":"陸連登録!D36","v":0},0,{"$f":"陸連登録!A36","v":""},{"$f":"陸連登録!P36","v":0},{"$f":"LEFT(陸連登録!L36,4)","v":""},{"$f":"RIGHT(陸連登録!L36,4)","v":""},{"$f":"陸連登録!F36","v":23},{"$f":"陸連登録!B36","v":0},null,{"$f":"IF(O41=\"\",\"\",IF(I41=1,VLOOKUP(O41,男子種目コード!$V$22:$W$26,2,FALSE),IF(I41=2,VLOOKUP(O41,女子種目コード!$V$22:$W$26,2,FALSE))))","v":""},null,0,"高校","0高校",null,null,null,null,null,null,null,null,null,null,null,null,null,null,null,""]
[null,{"$f":"#REF!","v":{"$error":"#REF!"}},null,null,{"$f":"陸連登録!M37","v":0},{"$f":"陸連登録!C37","v":0},{"$f":"陸連登録!D37","v":0},0,{"$f":"陸連登録!A37","v":""},{"$f":"陸連登録!P37","v":0},{"$f":"LEFT(陸連登録!L37,4)","v":""},{"$f":"RIGHT(陸連登録!L37,4)","v":""},{"$f":"陸連登録!F37","v":23},{"$f":"陸連登録!B37","v":0},null,{"$f":"IF(O42=\"\",\"\",IF(I42=1,VLOOKUP(O42,男子種目コード!$V$22:$W$26,2,FALSE),IF(I42=2,VLOOKUP(O42,女子種目コード!$V$22:$W$26,2,FALSE))))","v":""},null,0,"高校","0高校",null,null,null,null,null,null,null,null,null,null,null,null,null,null,null,""]
[null,{"$f":"#REF!","v":{"$error":"#REF!"}},null,null,{"$f":"陸連登録!M38","v":0},{"$f":"陸連登録!C38","v":0},{"$f":"陸連登録!D38","v":0},0,{"$f":"陸連登録!A38","v":""},{"$f":"陸連登録!P38","v":0},{"$f":"LEFT(陸連登録!L38,4)","v":""},{"$f":"RIGHT(陸連登録!L38,4)","v":""},{"$f":"陸連登録!F38","v":23},{"$f":"陸連登録!B38","v":0},null,{"$f":"IF(O43=\"\",\"\",IF(I43=1,VLOOKUP(O43,男子種目コード!$V$22:$W$26,2,FALSE),IF(I43=2,VLOOKUP(O43,女子種目コード!$V$22:$W$26,2,FALSE))))","v":""},null,0,"高校","0高校",null,null,null,null,null,null,null,null,null,null,null,null,null,null,null,""]
[null,{"$f":"#REF!","v":{"$error":"#REF!"}},null,null,{"$f":"陸連登録!M39","v":0},{"$f":"陸連登録!C39","v":0},{"$f":"陸連登録!D39","v":0},0,{"$f":"陸連登録!A39","v":""},{"$f":"陸連登録!P39","v":0},{"$f":"LEFT(陸連登録!L39,4)","v":""},{"$f":"RIGHT(陸連登録!L39,4)","v":""},{"$f":"陸連登録!F39","v":23},{"$f":"陸連登録!B39","v":0},null,{"$f":"IF(O44=\"\",\"\",IF(I44=1,VLOOKUP(O44,男子種目コード!$V$22:$W$26,2,FALSE),IF(I44=2,VLOOKUP(O44,女子種目コード!$V$22:$W$26,2,FALSE))))","v":""},null,0,"高校","0高校",null,null,null,null,null,null,null,null,null,null,null,null,null,null,null,""]
[null,{"$f":"#REF!","v":{"$error":"#REF!"}},null,null,{"$f":"陸連登録!M40","v":0},{"$f":"陸連登録!C40","v":0},{"$f":"陸連登録!D40","v":0},0,{"$f":"陸連登録!A40","v":""},{"$f":"陸連登録!P40","v":0},{"$f":"LEFT(陸連登録!L40,4)","v":""},{"$f":"RIGHT(陸連登録!L40,4)","v":""},{"$f":"陸連登録!F40","v":23},{"$f":"陸連登録!B40","v":0},null,{"$f":"IF(O45=\"\",\"\",IF(I45=1,VLOOKUP(O45,男子種目コード!$V$22:$W$26,2,FALSE),IF(I45=2,VLOOKUP(O45,女子種目コード!$V$22:$W$26,2,FALSE))))","v":""},null,0,"高校","0高校",null,null,null,null,null,null,null,null,null,null,null,null,null,null,null,""]
[null,{"$f":"#REF!","v":{"$error":"#REF!"}},null,null,{"$f":"陸連登録!M41","v":0},{"$f":"陸連登録!C41","v":0},{"$f":"陸連登録!D41","v":0},0,{"$f":"陸連登録!A41","v":""},{"$f":"陸連登録!P41","v":0},{"$f":"LEFT(陸連登録!L41,4)","v":""},{"$f":"RIGHT(陸連登録!L41,4)","v":""},{"$f":"陸連登録!F41","v":23},{"$f":"陸連登録!B41","v":0},null,{"$f":"IF(O46=\"\",\"\",IF(I46=1,VLOOKUP(O46,男子種目コード!$V$22:$W$26,2,FALSE),IF(I46=2,VLOOKUP(O46,女子種目コード!$V$22:$W$26,2,FALSE))))","v":""},null,0,"高校","0高校",null,null,null,null,null,null,null,null,null,null,null,null,null,null,null,""]
[null,{"$f":"#REF!","v":{"$error":"#REF!"}},null,null,{"$f":"陸連登録!M42","v":0},{"$f":"陸連登録!C42","v":0},{"$f":"陸連登録!D42","v":0},0,{"$f":"陸連登録!A42","v":""},{"$f":"陸連登録!P42","v":0},{"$f":"LEFT(陸連登録!L42,4)","v":""},{"$f":"RIGHT(陸連登録!L42,4)","v":""},{"$f":"陸連登録!F42","v":23},{"$f":"陸連登録!B42","v":0},null,{"$f":"IF(O47=\"\",\"\",IF(I47=1,VLOOKUP(O47,男子種目コード!$V$22:$W$26,2,FALSE),IF(I47=2,VLOOKUP(O47,女子種目コード!$V$22:$W$26,2,FALSE))))","v":""},null,0,"高校","0高校",null,null,null,null,null,null,null,null,null,null,null,null,null,null,null,""]
[null,{"$f":"#REF!","v":{"$error":"#REF!"}},null,null,{"$f":"陸連登録!M43","v":0},{"$f":"陸連登録!C43","v":0},{"$f":"陸連登録!D43","v":0},0,{"$f":"陸連登録!A43","v":""},{"$f":"陸連登録!P43","v":0},{"$f":"LEFT(陸連登録!L43,4)","v":""},{"$f":"RIGHT(陸連登録!L43,4)","v":""},{"$f":"陸連登録!F43","v":23},{"$f":"陸連登録!B43","v":0},null,{"$f":"IF(O48=\"\",\"\",IF(I48=1,VLOOKUP(O48,男子種目コード!$V$22:$W$26,2,FALSE),IF(I48=2,VLOOKUP(O48,女子種目コード!$V$22:$W$26,2,FALSE))))","v":""},null,0,"高校","0高校",null,null,null,null,null,null,null,null,null,null,null,null,null,null,null,""]
[null,{"$f":"#REF!","v":{"$error":"#REF!"}},null,null,{"$f":"陸連登録!M44","v":0},{"$f":"陸連登録!C44","v":0},{"$f":"陸連登録!D44","v":0},0,{"$f":"陸連登録!A44","v":""},{"$f":"陸連登録!P44","v":0},{"$f":"LEFT(陸連登録!L44,4)","v":""},{"$f":"RIGHT(陸連登録!L44,4)","v":""},{"$f":"陸連登録!F44","v":23},{"$f":"陸連登録!B44","v":0},null,{"$f":"IF(O49=\"\",\"\",IF(I49=1,VLOOKUP(O49,男子種目コード!$V$22:$W$26,2,FALSE),IF(I49=2,VLOOKUP(O49,女子種目コード!$V$22:$W$26,2,FALSE))))","v":""},null,0,"高校","0高校",null,null,null,null,null,null,null,null,null,null,null,null,null,null,null,""]
[null,{"$f":"#REF!","v":{"$error":"#REF!"}},null,null,{"$f":"陸連登録!M45","v":0},{"$f":"陸連登録!C45","v":0},{"$f":"陸連登録!D45","v":0},0,{"$f":"陸連登録!A45","v":""},{"$f":"陸連登録!P45","v":0},{"$f":"LEFT(陸連登録!L45,4)","v":""},{"$f":"RIGHT(陸連登録!L45,4)","v":""},{"$f":"陸連登録!F45","v":23},{"$f":"陸連登録!B45","v":0},null,{"$f":"IF(O50=\"\",\"\",IF(I50=1,VLOOKUP(O50,男子種目コード!$V$22:$W$26,2,FALSE),IF(I50=2,VLOOKUP(O50,女子種目コード!$V$22:$W$26,2,FALSE))))","v":""},null,0,"高校","0高校",null,null,null,null,null,null,null,null,null,null,null,null,null,null,null,""]
[null,{"$f":"#REF!","v":{"$error":"#REF!"}},null,null,{"$f":"陸連登録!M46","v":0},{"$f":"陸連登録!C46","v":0},{"$f":"陸連登録!D46","v":0},0,{"$f":"陸連登録!A46","v":""},{"$f":"陸連登録!P46","v":0},{"$f":"LEFT(陸連登録!L46,4)","v":""},{"$f":"RIGHT(陸連登録!L46,4)","v":""},{"$f":"陸連登録!F46","v":23},{"$f":"陸連登録!B46","v":0},null,{"$f":"IF(O51=\"\",\"\",IF(I51=1,VLOOKUP(O51,男子種目コード!$V$22:$W$26,2,FALSE),IF(I51=2,VLOOKUP(O51,女子種目コード!$V$22:$W$26,2,FALSE))))","v":""},null,0,"高校","0高校",null,null,null,null,null,null,null,null,null,null,null,null,null,null,null,""]
[null,{"$f":"#REF!","v":{"$error":"#REF!"}},null,null,{"$f":"陸連登録!M47","v":0},{"$f":"陸連登録!C47","v":0},{"$f":"陸連登録!D47","v":0},0,{"$f":"陸連登録!A47","v":""},{"$f":"陸連登録!P47","v":0},{"$f":"LEFT(陸連登録!L47,4)","v":""},{"$f":"RIGHT(陸連登録!L47,4)","v":""},{"$f":"陸連登録!F47","v":23},{"$f":"陸連登録!B47","v":0},null,{"$f":"IF(O52=\"\",\"\",IF(I52=1,VLOOKUP(O52,男子種目コード!$V$22:$W$26,2,FALSE),IF(I52=2,VLOOKUP(O52,女子種目コード!$V$22:$W$26,2,FALSE))))","v":""},null,0,"高校","0高校",null,null,null,null,null,null,null,null,null,null,null,null,null,null,null,""]
[null,{"$f":"#REF!","v":{"$error":"#REF!"}},null,null,{"$f":"陸連登録!M48","v":0},{"$f":"陸連登録!C48","v":0},{"$f":"陸連登録!D48","v":0},0,{"$f":"陸連登録!A48","v":""},{"$f":"陸連登録!P48","v":0},{"$f":"LEFT(陸連登録!L48,4)","v":""},{"$f":"RIGHT(陸連登録!L48,4)","v":""},{"$f":"陸連登録!F48","v":23},{"$f":"陸連登録!B48","v":0},null,{"$f":"IF(O53=\"\",\"\",IF(I53=1,VLOOKUP(O53,男子種目コード!$V$22:$W$26,2,FALSE),IF(I53=2,VLOOKUP(O53,女子種目コード!$V$22:$W$26,2,FALSE))))","v":""},null,0,"高校","0高校",null,null,null,null,null,null,null,null,null,null,null,null,null,null,null,""]
[null,{"$f":"#REF!","v":{"$error":"#REF!"}},null,null,{"$f":"陸連登録!M49","v":0},{"$f":"陸連登録!C49","v":0},{"$f":"陸連登録!D49","v":0},0,{"$f":"陸連登録!A49","v":""},{"$f":"陸連登録!P49","v":0},{"$f":"LEFT(陸連登録!L49,4)","v":""},{"$f":"RIGHT(陸連登録!L49,4)","v":""},{"$f":"陸連登録!F49","v":23},{"$f":"陸連登録!B49","v":0},null,{"$f":"IF(O54=\"\",\"\",IF(I54=1,VLOOKUP(O54,男子種目コード!$V$22:$W$26,2,FALSE),IF(I54=2,VLOOKUP(O54,女子種目コード!$V$22:$W$26,2,FALSE))))","v":""},null,0,"高校","0高校",null,null,null,null,null,null,null,null,null,null,null,null,null,null,null,""]
[null,{"$f":"#REF!","v":{"$error":"#REF!"}},null,null,{"$f":"陸連登録!M50","v":0},{"$f":"陸連登録!C50","v":0},{"$f":"陸連登録!D50","v":0},0,{"$f":"陸連登録!A50","v":""},{"$f":"陸連登録!P50","v":0},{"$f":"LEFT(陸連登録!L50,4)","v":""},{"$f":"RIGHT(陸連登録!L50,4)","v":""},{"$f":"陸連登録!F50","v":23},{"$f":"陸連登録!B50","v":0},null,{"$f":"IF(O55=\"\",\"\",IF(I55=1,VLOOKUP(O55,男子種目コード!$V$22:$W$26,2,FALSE),IF(I55=2,VLOOKUP(O55,女子種目コード!$V$22:$W$26,2,FALSE))))","v":""},null,0,"高校","0高校",null,null,null,null,null,null,null,null,null,null,null,null,null,null,null,""]
[null,{"$f":"#REF!","v":{"$error":"#REF!"}},null,null,{"$f":"陸連登録!M51","v":0},{"$f":"陸連登録!C51","v":0},{"$f":"陸連登録!D51","v":0},0,{"$f":"陸連登録!A51","v":""},{"$f":"陸連登録!P51","v":0},{"$f":"LEFT(陸連登録!L51,4)","v":""},{"$f":"RIGHT(陸連登録!L51,4)","v":""},{"$f":"陸連登録!F51","v":23},{"$f":"陸連登録!B51","v":0},null,{"$f":"IF(O56=\"\",\"\",IF(I56=1,VLOOKUP(O56,男子種目コード!$V$22:$W$26,2,FALSE),IF(I56=2,VLOOKUP(O56,女子種目コード!$V$22:$W$26,2,FALSE))))","v":""},null,0,"高校","0高校",null,null,null,null,null,null,null,null,null,null,null,null,null,null,null,""]
[null,{"$f":"#REF!","v":{"$error":"#REF!"}},null,null,{"$f":"陸連登録!M52","v":0},{"$f":"陸連登録!C52","v":0},{"$f":"陸連登録!D52","v":0},0,{"$f":"陸連登録!A52","v":""},{"$f":"陸連登録!P52","v":0},{"$f":"LEFT(陸連登録!L52,4)","v":""},{"$f":"RIGHT(陸連登録!L52,4)","v":""},{"$f":"陸連登録!F52","v":23},{"$f":"陸連登録!B52","v":0},null,{"$f":"IF(O57=\"\",\"\",IF(I57=1,VLOOKUP(O57,男子種目コード!$V$22:$W$26,2,FALSE),IF(I57=2,VLOOKUP(O57,女子種目コード!$V$22:$W$26,2,FALSE))))","v":""},null,0,"高校","0高校",null,null,null,null,null,null,null,null,null,null,null,null,null,null,null,""]
[null,{"$f":"#REF!","v":{"$error":"#REF!"}},null,null,{"$f":"陸連登録!M53","v":0},{"$f":"陸連登録!C53","v":0},{"$f":"陸連登録!D53","v":0},0,{"$f":"陸連登録!A53","v":""},{"$f":"陸連登録!P53","v":0},{"$f":"LEFT(陸連登録!L53,4)","v":""},{"$f":"RIGHT(陸連登録!L53,4)","v":""},{"$f":"陸連登録!F53","v":23},{"$f":"陸連登録!B53","v":0},null,{"$f":"IF(O58=\"\",\"\",IF(I58=1,VLOOKUP(O58,男子種目コード!$V$22:$W$26,2,FALSE),IF(I58=2,VLOOKUP(O58,女子種目コード!$V$22:$W$26,2,FALSE))))","v":""},null,0,"高校","0高校",null,null,null,null,null,null,null,null,null,null,null,null,null,null,null,""]
[null,{"$f":"#REF!","v":{"$error":"#REF!"}},null,null,{"$f":"陸連登録!M54","v":0},{"$f":"陸連登録!C54","v":0},{"$f":"陸連登録!D54","v":0},0,{"$f":"陸連登録!A54","v":""},{"$f":"陸連登録!P54","v":0},{"$f":"LEFT(陸連登録!L54,4)","v":""},{"$f":"RIGHT(陸連登録!L54,4)","v":""},{"$f":"陸連登録!F54","v":23},{"$f":"陸連登録!B54","v":0},null,{"$f":"IF(O59=\"\",\"\",IF(I59=1,VLOOKUP(O59,男子種目コード!$V$22:$W$26,2,FALSE),IF(I59=2,VLOOKUP(O59,女子種目コード!$V$22:$W$26,2,FALSE))))","v":""},null,0,"高校","0高校",null,null,null,null,null,null,null,null,null,null,null,null,null,null,null,""]
[null,{"$f":"#REF!","v":{"$error":"#REF!"}},null,null,{"$f":"陸連登録!M55","v":0},{"$f":"陸連登録!C55","v":0},{"$f":"陸連登録!D55","v":0},0,{"$f":"陸連登録!A55","v":""},{"$f":"陸連登録!P55","v":0},{"$f":"LEFT(陸連登録!L55,4)","v":""},{"$f":"RIGHT(陸連登録!L55,4)","v":""},{"$f":"陸連登録!F55","v":23},{"$f":"陸連登録!B55","v":0},null,{"$f":"IF(O60=\"\",\"\",IF(I60=1,VLOOKUP(O60,男子種目コード!$V$22:$W$26,2,FALSE),IF(I60=2,VLOOKUP(O60,女子種目コード!$V$22:$W$26,2,FALSE))))","v":""},null,0,"高校","0高校",null,null,null,null,null,null,null,null,null,null,null,null,null,null,null,""]
[null,{"$f":"#REF!","v":{"$error":"#REF!"}},null,null,{"$f":"陸連登録!M56","v":0},{"$f":"陸連登録!C56","v":0},{"$f":"陸連登録!D56","v":0},0,{"$f":"陸連登録!A56","v":""},{"$f":"陸連登録!P56","v":0},{"$f":"LEFT(陸連登録!L56,4)","v":""},{"$f":"RIGHT(陸連登録!L56,4)","v":""},{"$f":"陸連登録!F56","v":23},{"$f":"陸連登録!B56","v":0},null,{"$f":"IF(O61=\"\",\"\",IF(I61=1,VLOOKUP(O61,男子種目コード!$V$22:$W$26,2,FALSE),IF(I61=2,VLOOKUP(O61,女子種目コード!$V$22:$W$26,2,FALSE))))","v":""},null,0,"高校","0高校",null,null,null,null,null,null,null,null,null,null,null,null,null,null,null,""]
[null,{"$f":"#REF!","v":{"$error":"#REF!"}},null,null,{"$f":"陸連登録!M57","v":0},{"$f":"陸連登録!C57","v":0},{"$f":"陸連登録!D57","v":0},0,{"$f":"陸連登録!A57","v":""},{"$f":"陸連登録!P57","v":0},{"$f":"LEFT(陸連登録!L57,4)","v":""},{"$f":"RIGHT(陸連登録!L57,4)","v":""},{"$f":"陸連登録!F57","v":23},{"$f":"陸連登録!B57","v":0},null,{"$f":"IF(O62=\"\",\"\",IF(I62=1,VLOOKUP(O62,男子種目コード!$V$22:$W$26,2,FALSE),IF(I62=2,VLOOKUP(O62,女子種目コード!$V$22:$W$26,2,FALSE))))","v":""},null,0,"高校","0高校",null,null,null,null,null,null,null,null,null,null,null,null,null,null,null,""]
[null,{"$f":"#REF!","v":{"$error":"#REF!"}},null,null,{"$f":"陸連登録!M58","v":0},{"$f":"陸連登録!C58","v":0},{"$f":"陸連登録!D58","v":0},0,{"$f":"陸連登録!A58","v":""},{"$f":"陸連登録!P58","v":0},{"$f":"LEFT(陸連登録!L58,4)","v":""},{"$f":"RIGHT(陸連登録!L58,4)","v":""},{"$f":"陸連登録!F58","v":23},{"$f":"陸連登録!B58","v":0},null,{"$f":"IF(O63=\"\",\"\",IF(I63=1,VLOOKUP(O63,男子種目コード!$V$22:$W$26,2,FALSE),IF(I63=2,VLOOKUP(O63,女子種目コード!$V$22:$W$26,2,FALSE))))","v":""},null,0,"高校","0高校",null,null,null,null,null,null,null,null,null,null,null,null,null,null,null,""]
[null,{"$f":"#REF!","v":{"$error":"#REF!"}},null,null,{"$f":"陸連登録!M59","v":0},{"$f":"陸連登録!C59","v":0},{"$f":"陸連登録!D59","v":0},0,{"$f":"陸連登録!A59","v":""},{"$f":"陸連登録!P59","v":0},{"$f":"LEFT(陸連登録!L59,4)","v":""},{"$f":"RIGHT(陸連登録!L59,4)","v":""},{"$f":"陸連登録!F59","v":23},{"$f":"陸連登録!B59","v":0},null,{"$f":"IF(O64=\"\",\"\",IF(I64=1,VLOOKUP(O64,男子種目コード!$V$22:$W$26,2,FALSE),IF(I64=2,VLOOKUP(O64,女子種目コード!$V$22:$W$26,2,FALSE))))","v":""},null,0,"高校","0高校",null,null,null,null,null,null,null,null,null,null,null,null,null,null,null,""]
[null,{"$f":"#REF!","v":{"$error":"#REF!"}},null,null,{"$f":"陸連登録!M60","v":0},{"$f":"陸連登録!C60","v":0},{"$f":"陸連登録!D60","v":0},0,{"$f":"陸連登録!A60","v":""},{"$f":"陸連登録!P60","v":0},{"$f":"LEFT(陸連登録!L60,4)","v":""},{"$f":"RIGHT(陸連登録!L60,4)","v":""},{"$f":"陸連登録!F60","v":23},{"$f":"陸連登録!B60","v":0},null,{"$f":"IF(O65=\"\",\"\",IF(I65=1,VLOOKUP(O65,男子種目コード!$V$22:$W$26,2,FALSE),IF(I65=2,VLOOKUP(O65,女子種目コード!$V$22:$W$26,2,FALSE))))","v":""},null,0,"高校","0高校",null,null,null,null,null,null,null,null,null,null,null,null,null,null,null,""]
[null,{"$f":"#REF!","v":{"$error":"#REF!"}},null,null,{"$f":"陸連登録!M61","v":0},{"$f":"陸連登録!C61","v":0},{"$f":"陸連登録!D61","v":0},0,{"$f":"陸連登録!A61","v":""},{"$f":"陸連登録!P61","v":0},{"$f":"LEFT(陸連登録!L61,4)","v":""},{"$f":"RIGHT(陸連登録!L61,4)","v":""},{"$f":"陸連登録!F61","v":23},{"$f":"陸連登録!B61","v":0},null,{"$f":"IF(O66=\"\",\"\",IF(I66=1,VLOOKUP(O66,男子種目コード!$V$22:$W$26,2,FALSE),IF(I66=2,VLOOKUP(O66,女子種目コード!$V$22:$W$26,2,FALSE))))","v":""},null,0,"高校","0高校",null,null,null,null,null,null,null,null,null,null,null,null,null,null,null,""]
[null,{"$f":"#REF!","v":{"$error":"#REF!"}},null,null,{"$f":"陸連登録!M62","v":0},{"$f":"陸連登録!C62","v":0},{"$f":"陸連登録!D62","v":0},0,{"$f":"陸連登録!A62","v":""},{"$f":"陸連登録!P62","v":0},{"$f":"LEFT(陸連登録!L62,4)","v":""},{"$f":"RIGHT(陸連登録!L62,4)","v":""},{"$f":"陸連登録!F62","v":23},{"$f":"陸連登録!B62","v":0},null,{"$f":"IF(O67=\"\",\"\",IF(I67=1,VLOOKUP(O67,男子種目コード!$V$22:$W$26,2,FALSE),IF(I67=2,VLOOKUP(O67,女子種目コード!$V$22:$W$26,2,FALSE))))","v":""},null,0,"高校","0高校",null,null,null,null,null,null,null,null,null,null,null,null,null,null,null,""]
[null,{"$f":"#REF!","v":{"$error":"#REF!"}},null,null,{"$f":"陸連登録!M63","v":0},{"$f":"陸連登録!C63","v":0},{"$f":"陸連登録!D63","v":0},0,{"$f":"陸連登録!A63","v":""},{"$f":"陸連登録!P63","v":0},{"$f":"LEFT(陸連登録!L63,4)","v":""},{"$f":"RIGHT(陸連登録!L63,4)","v":""},{"$f":"陸連登録!F63","v":23},{"$f":"陸連登録!B63","v":0},null,{"$f":"IF(O68=\"\",\"\",IF(I68=1,VLOOKUP(O68,男子種目コード!$V$22:$W$26,2,FALSE),IF(I68=2,VLOOKUP(O68,女子種目コード!$V$22:$W$26,2,FALSE))))","v":""},null,0,"高校","0高校",null,null,null,null,null,null,null,null,null,null,null,null,null,null,null,""]
[null,{"$f":"#REF!","v":{"$error":"#REF!"}},null,null,{"$f":"陸連登録!M64","v":0},{"$f":"陸連登録!C64","v":0},{"$f":"陸連登録!D64","v":0},0,{"$f":"陸連登録!A64","v":""},{"$f":"陸連登録!P64","v":0},{"$f":"LEFT(陸連登録!L64,4)","v":""},{"$f":"RIGHT(陸連登録!L64,4)","v":""},{"$f":"陸連登録!F64","v":23},{"$f":"陸連登録!B64","v":0},null,{"$f":"IF(O69=\"\",\"\",IF(I69=1,VLOOKUP(O69,男子種目コード!$V$22:$W$26,2,FALSE),IF(I69=2,VLOOKUP(O69,女子種目コード!$V$22:$W$26,2,FALSE))))","v":""},null,0,"高校","0高校",null,null,null,null,null,null,null,null,null,null,null,null,null,null,null,""]
[null,{"$f":"#REF!","v":{"$error":"#REF!"}},null,null,{"$f":"陸連登録!M65","v":0},{"$f":"陸連登録!C65","v":0},{"$f":"陸連登録!D65","v":0},0,{"$f":"陸連登録!A65","v":""},{"$f":"陸連登録!P65","v":0},{"$f":"LEFT(陸連登録!L65,4)","v":""},{"$f":"RIGHT(陸連登録!L65,4)","v":""},{"$f":"陸連登録!F65","v":23},{"$f":"陸連登録!B65","v":0},null,{"$f":"IF(O70=\"\",\"\",IF(I70=1,VLOOKUP(O70,男子種目コード!$V$22:$W$26,2,FALSE),IF(I70=2,VLOOKUP(O70,女子種目コード!$V$22:$W$26,2,FALSE))))","v":""},null,0,"高校","0高校",null,null,null,null,null,null,null,null,null,null,null,null,null,null,null,""]
[null,{"$f":"#REF!","v":{"$error":"#REF!"}},null,null,{"$f":"陸連登録!M66","v":0},{"$f":"陸連登録!C66","v":0},{"$f":"陸連登録!D66","v":0},0,{"$f":"陸連登録!A66","v":""},{"$f":"陸連登録!P66","v":0},{"$f":"LEFT(陸連登録!L66,4)","v":""},{"$f":"RIGHT(陸連登録!L66,4)","v":""},{"$f":"陸連登録!F66","v":23},{"$f":"陸連登録!B66","v":0},null,{"$f":"IF(O71=\"\",\"\",IF(I71=1,VLOOKUP(O71,男子種目コード!$V$22:$W$26,2,FALSE),IF(I71=2,VLOOKUP(O71,女子種目コード!$V$22:$W$26,2,FALSE))))","v":""},null,0,"高校","0高校",null,null,null,null,null,null,null,null,null,null,null,null,null,null,null,{"$f":"IF(O71=\"\",\"\",1)","v":""}]
[null,{"$f":"#REF!","v":{"$error":"#REF!"}},null,null,{"$f":"陸連登録!M67","v":0},{"$f":"陸連登録!C67","v":0},{"$f":"陸連登録!D67","v":0},{"$f":"F72","v":0},{"$f":"陸連登録!A67","v":""},{"$f":"陸連登録!P67","v":0},{"$f":"LEFT(陸連登録!L67,4)","v":""},{"$f":"RIGHT(陸連登録!L67,4)","v":""},{"$f":"陸連登録!F67","v":23},{"$f":"陸連登録!B67","v":0},null,{"$f":"IF(O72=\"\",\"\",IF(I72=1,VLOOKUP(O72,男子種目コード!$V$22:$W$26,2,FALSE),IF(I72=2,VLOOKUP(O72,女子種目コード!$V$22:$W$26,2,FALSE))))","v":""},null,{"$f":"$F$1","v":0},"高校",{"$f":"CONCATENATE(R72,S72)","v":"0高校"},null,null,null,null,null,null,null,null,null,null,null,null,null,null,null,""]
[null,{"$f":"#REF!","v":{"$error":"#REF!"}},null,null,{"$f":"陸連登録!M68","v":0},{"$f":"陸連登録!C68","v":0},{"$f":"陸連登録!D68","v":0},0,{"$f":"陸連登録!A68","v":""},{"$f":"陸連登録!P68","v":0},{"$f":"LEFT(陸連登録!L68,4)","v":""},{"$f":"RIGHT(陸連登録!L68,4)","v":""},{"$f":"陸連登録!F68","v":23},{"$f":"陸連登録!B68","v":0},null,{"$f":"IF(O73=\"\",\"\",IF(I73=1,VLOOKUP(O73,男子種目コード!$V$22:$W$26,2,FALSE),IF(I73=2,VLOOKUP(O73,女子種目コード!$V$22:$W$26,2,FALSE))))","v":""},null,0,"高校","0高校",null,null,null,null,null,null,null,null,null,null,null,null,null,null,null,""]
[null,{"$f":"#REF!","v":{"$error":"#REF!"}},null,null,{"$f":"陸連登録!M69","v":0},{"$f":"陸連登録!C69","v":0},{"$f":"陸連登録!D69","v":0},0,{"$f":"陸連登録!A69","v":""},{"$f":"陸連登録!P69","v":0},{"$f":"LEFT(陸連登録!L69,4)","v":""},{"$f":"RIGHT(陸連登録!L69,4)","v":""},{"$f":"陸連登録!F69","v":23},{"$f":"陸連登録!B69","v":0},null,{"$f":"IF(O74=\"\",\"\",IF(I74=1,VLOOKUP(O74,男子種目コード!$V$22:$W$26,2,FALSE),IF(I74=2,VLOOKUP(O74,女子種目コード!$V$22:$W$26,2,FALSE))))","v":""},null,0,"高校","0高校",null,null,null,null,null,null,null,null,null,null,null,null,null,null,null,""]
[null,{"$f":"#REF!","v":{"$error":"#REF!"}},null,null,{"$f":"陸連登録!M70","v":0},{"$f":"陸連登録!C70","v":0},{"$f":"陸連登録!D70","v":0},0,{"$f":"陸連登録!A70","v":""},{"$f":"陸連登録!P70","v":0},{"$f":"LEFT(陸連登録!L70,4)","v":""},{"$f":"RIGHT(陸連登録!L70,4)","v":""},{"$f":"陸連登録!F70","v":23},{"$f":"陸連登録!B70","v":0},null,{"$f":"IF(O75=\"\",\"\",IF(I75=1,VLOOKUP(O75,男子種目コード!$V$22:$W$26,2,FALSE),IF(I75=2,VLOOKUP(O75,女子種目コード!$V$22:$W$26,2,FALSE))))","v":""},null,0,"高校","0高校",null,null,null,null,null,null,null,null,null,null,null,null,null,null,null,""]
[null,{"$f":"#REF!","v":{"$error":"#REF!"}},null,null,{"$f":"陸連登録!M71","v":0},{"$f":"陸連登録!C71","v":0},{"$f":"陸連登録!D71","v":0},0,{"$f":"陸連登録!A71","v":""},{"$f":"陸連登録!P71","v":0},{"$f":"LEFT(陸連登録!L71,4)","v":""},{"$f":"RIGHT(陸連登録!L71,4)","v":""},{"$f":"陸連登録!F71","v":23},{"$f":"陸連登録!B71","v":0},null,{"$f":"IF(O76=\"\",\"\",IF(I76=1,VLOOKUP(O76,男子種目コード!$V$22:$W$26,2,FALSE),IF(I76=2,VLOOKUP(O76,女子種目コード!$V$22:$W$26,2,FALSE))))","v":""},null,0,"高校","0高校",null,null,null,null,null,null,null,null,null,null,null,null,null,null,null,""]
[null,{"$f":"#REF!","v":{"$error":"#REF!"}},null,null,{"$f":"陸連登録!M72","v":0},{"$f":"陸連登録!C72","v":0},{"$f":"陸連登録!D72","v":0},0,{"$f":"陸連登録!A72","v":""},{"$f":"陸連登録!P72","v":0},{"$f":"LEFT(陸連登録!L72,4)","v":""},{"$f":"RIGHT(陸連登録!L72,4)","v":""},{"$f":"陸連登録!F72","v":23},{"$f":"陸連登録!B72","v":0},null,{"$f":"IF(O77=\"\",\"\",IF(I77=1,VLOOKUP(O77,男子種目コード!$V$22:$W$26,2,FALSE),IF(I77=2,VLOOKUP(O77,女子種目コード!$V$22:$W$26,2,FALSE))))","v":""},null,0,"高校","0高校",null,null,null,null,null,null,null,null,null,null,null,null,null,null,null,""]
[null,{"$f":"#REF!","v":{"$error":"#REF!"}},null,null,{"$f":"陸連登録!M73","v":0},{"$f":"陸連登録!C73","v":0},{"$f":"陸連登録!D73","v":0},0,{"$f":"陸連登録!A73","v":""},{"$f":"陸連登録!P73","v":0},{"$f":"LEFT(陸連登録!L73,4)","v":""},{"$f":"RIGHT(陸連登録!L73,4)","v":""},{"$f":"陸連登録!F73","v":23},{"$f":"陸連登録!B73","v":0},null,{"$f":"IF(O78=\"\",\"\",IF(I78=1,VLOOKUP(O78,男子種目コード!$V$22:$W$26,2,FALSE),IF(I78=2,VLOOKUP(O78,女子種目コード!$V$22:$W$26,2,FALSE))))","v":""},null,0,"高校","0高校",null,null,null,null,null,null,null,null,null,null,null,null,null,null,null,""]
[null,{"$f":"#REF!","v":{"$error":"#REF!"}},null,null,{"$f":"陸連登録!M74","v":0},{"$f":"陸連登録!C74","v":0},{"$f":"陸連登録!D74","v":0},0,{"$f":"陸連登録!A74","v":""},{"$f":"陸連登録!P74","v":0},{"$f":"LEFT(陸連登録!L74,4)","v":""},{"$f":"RIGHT(陸連登録!L74,4)","v":""},{"$f":"陸連登録!F74","v":23},{"$f":"陸連登録!B74","v":0},null,{"$f":"IF(O79=\"\",\"\",IF(I79=1,VLOOKUP(O79,男子種目コード!$V$22:$W$26,2,FALSE),IF(I79=2,VLOOKUP(O79,女子種目コード!$V$22:$W$26,2,FALSE))))","v":""},null,0,"高校","0高校",null,null,null,null,null,null,null,null,null,null,null,null,null,null,null,""]
[null,{"$f":"#REF!","v":{"$error":"#REF!"}},null,null,{"$f":"陸連登録!M75","v":0},{"$f":"陸連登録!C75","v":0},{"$f":"陸連登録!D75","v":0},0,{"$f":"陸連登録!A75","v":""},{"$f":"陸連登録!P75","v":0},{"$f":"LEFT(陸連登録!L75,4)","v":""},{"$f":"RIGHT(陸連登録!L75,4)","v":""},{"$f":"陸連登録!F75","v":23},{"$f":"陸連登録!B75","v":0},null,{"$f":"IF(O80=\"\",\"\",IF(I80=1,VLOOKUP(O80,男子種目コード!$V$22:$W$26,2,FALSE),IF(I80=2,VLOOKUP(O80,女子種目コード!$V$22:$W$26,2,FALSE))))","v":""},null,0,"高校","0高校",null,null,null,null,null,null,null,null,null,null,null,null,null,null,null,""]
[null,{"$f":"#REF!","v":{"$error":"#REF!"}},null,null,{"$f":"陸連登録!M76","v":0},{"$f":"陸連登録!C76","v":0},{"$f":"陸連登録!D76","v":0},0,{"$f":"陸連登録!A76","v":""},{"$f":"陸連登録!P76","v":0},{"$f":"LEFT(陸連登録!L76,4)","v":""},{"$f":"RIGHT(陸連登録!L76,4)","v":""},{"$f":"陸連登録!F76","v":23},{"$f":"陸連登録!B76","v":0},null,{"$f":"IF(O81=\"\",\"\",IF(I81=1,VLOOKUP(O81,男子種目コード!$V$22:$W$26,2,FALSE),IF(I81=2,VLOOKUP(O81,女子種目コード!$V$22:$W$26,2,FALSE))))","v":""},null,0,"高校","0高校",null,null,null,null,null,null,null,null,null,null,null,null,null,null,null,""]
[null,{"$f":"#REF!","v":{"$error":"#REF!"}},null,null,{"$f":"陸連登録!M77","v":0},{"$f":"陸連登録!C77","v":0},{"$f":"陸連登録!D77","v":0},0,{"$f":"陸連登録!A77","v":""},{"$f":"陸連登録!P77","v":0},{"$f":"LEFT(陸連登録!L77,4)","v":""},{"$f":"RIGHT(陸連登録!L77,4)","v":""},{"$f":"陸連登録!F77","v":23},{"$f":"陸連登録!B77","v":0},null,{"$f":"IF(O82=\"\",\"\",IF(I82=1,VLOOKUP(O82,男子種目コード!$V$22:$W$26,2,FALSE),IF(I82=2,VLOOKUP(O82,女子種目コード!$V$22:$W$26,2,FALSE))))","v":""},null,0,"高校","0高校",null,null,null,null,null,null,null,null,null,null,null,null,null,null,null,""]
[null,{"$f":"#REF!","v":{"$error":"#REF!"}},null,null,{"$f":"陸連登録!M78","v":0},{"$f":"陸連登録!C78","v":0},{"$f":"陸連登録!D78","v":0},0,{"$f":"陸連登録!A78","v":""},{"$f":"陸連登録!P78","v":0},{"$f":"LEFT(陸連登録!L78,4)","v":""},{"$f":"RIGHT(陸連登録!L78,4)","v":""},{"$f":"陸連登録!F78","v":23},{"$f":"陸連登録!B78","v":0},null,{"$f":"IF(O83=\"\",\"\",IF(I83=1,VLOOKUP(O83,男子種目コード!$V$22:$W$26,2,FALSE),IF(I83=2,VLOOKUP(O83,女子種目コード!$V$22:$W$26,2,FALSE))))","v":""},null,0,"高校","0高校",null,null,null,null,null,null,null,null,null,null,null,null,null,null,null,""]
[null,{"$f":"#REF!","v":{"$error":"#REF!"}},null,null,{"$f":"陸連登録!M79","v":0},{"$f":"陸連登録!C79","v":0},{"$f":"陸連登録!D79","v":0},0,{"$f":"陸連登録!A79","v":""},{"$f":"陸連登録!P79","v":0},{"$f":"LEFT(陸連登録!L79,4)","v":""},{"$f":"RIGHT(陸連登録!L79,4)","v":""},{"$f":"陸連登録!F79","v":23},{"$f":"陸連登録!B79","v":0},null,{"$f":"IF(O84=\"\",\"\",IF(I84=1,VLOOKUP(O84,男子種目コード!$V$22:$W$26,2,FALSE),IF(I84=2,VLOOKUP(O84,女子種目コード!$V$22:$W$26,2,FALSE))))","v":""},null,0,"高校","0高校",null,null,null,null,null,null,null,null,null,null,null,null,null,null,null,""]
[null,{"$f":"#REF!","v":{"$error":"#REF!"}},null,null,{"$f":"陸連登録!M80","v":0},{"$f":"陸連登録!C80","v":0},{"$f":"陸連登録!D80","v":0},0,{"$f":"陸連登録!A80","v":""},{"$f":"陸連登録!P80","v":0},{"$f":"LEFT(陸連登録!L80,4)","v":""},{"$f":"RIGHT(陸連登録!L80,4)","v":""},{"$f":"陸連登録!F80","v":23},{"$f":"陸連登録!B80","v":0},null,{"$f":"IF(O85=\"\",\"\",IF(I85=1,VLOOKUP(O85,男子種目コード!$V$22:$W$26,2,FALSE),IF(I85=2,VLOOKUP(O85,女子種目コード!$V$22:$W$26,2,FALSE))))","v":""},null,0,"高校","0高校",null,null,null,null,null,null,null,null,null,null,null,null,null,null,null,""]
[null,{"$f":"#REF!","v":{"$error":"#REF!"}},null,null,{"$f":"陸連登録!M81","v":0},{"$f":"陸連登録!C81","v":0},{"$f":"陸連登録!D81","v":0},0,{"$f":"陸連登録!A81","v":""},{"$f":"陸連登録!P81","v":0},{"$f":"LEFT(陸連登録!L81,4)","v":""},{"$f":"RIGHT(陸連登録!L81,4)","v":""},{"$f":"陸連登録!F81","v":23},{"$f":"陸連登録!B81","v":0},null,{"$f":"IF(O86=\"\",\"\",IF(I86=1,VLOOKUP(O86,男子種目コード!$V$22:$W$26,2,FALSE),IF(I86=2,VLOOKUP(O86,女子種目コード!$V$22:$W$26,2,FALSE))))","v":""},null,0,"高校","0高校",null,null,null,null,null,null,null,null,null,null,null,null,null,null,null,""]
[null,{"$f":"#REF!","v":{"$error":"#REF!"}},null,null,{"$f":"陸連登録!M82","v":0},{"$f":"陸連登録!C82","v":0},{"$f":"陸連登録!D82","v":0},0,{"$f":"陸連登録!A82","v":""},{"$f":"陸連登録!P82","v":0},{"$f":"LEFT(陸連登録!L82,4)","v":""},{"$f":"RIGHT(陸連登録!L82,4)","v":""},{"$f":"陸連登録!F82","v":23},{"$f":"陸連登録!B82","v":0},null,{"$f":"IF(O87=\"\",\"\",IF(I87=1,VLOOKUP(O87,男子種目コード!$V$22:$W$26,2,FALSE),IF(I87=2,VLOOKUP(O87,女子種目コード!$V$22:$W$26,2,FALSE))))","v":""},null,0,"高校","0高校",null,null,null,null,null,null,null,null,null,null,null,null,null,null,null,""]
[null,{"$f":"#REF!","v":{"$error":"#REF!"}},null,null,{"$f":"陸連登録!M83","v":0},{"$f":"陸連登録!C83","v":0},{"$f":"陸連登録!D83","v":0},0,{"$f":"陸連登録!A83","v":""},{"$f":"陸連登録!P83","v":0},{"$f":"LEFT(陸連登録!L83,4)","v":""},{"$f":"RIGHT(陸連登録!L83,4)","v":""},{"$f":"陸連登録!F83","v":23},{"$f":"陸連登録!B83","v":0},null,{"$f":"IF(O88=\"\",\"\",IF(I88=1,VLOOKUP(O88,男子種目コード!$V$22:$W$26,2,FALSE),IF(I88=2,VLOOKUP(O88,女子種目コード!$V$22:$W$26,2,FALSE))))","v":""},null,0,"高校","0高校",null,null,null,null,null,null,null,null,null,null,null,null,null,null,null,""]
[null,{"$f":"#REF!","v":{"$error":"#REF!"}},null,null,{"$f":"陸連登録!M84","v":0},{"$f":"陸連登録!C84","v":0},{"$f":"陸連登録!D84","v":0},0,{"$f":"陸連登録!A84","v":""},{"$f":"陸連登録!P84","v":0},{"$f":"LEFT(陸連登録!L84,4)","v":""},{"$f":"RIGHT(陸連登録!L84,4)","v":""},{"$f":"陸連登録!F84","v":23},{"$f":"陸連登録!B84","v":0},null,{"$f":"IF(O89=\"\",\"\",IF(I89=1,VLOOKUP(O89,男子種目コード!$V$22:$W$26,2,FALSE),IF(I89=2,VLOOKUP(O89,女子種目コード!$V$22:$W$26,2,FALSE))))","v":""},null,0,"高校","0高校",null,null,null,null,null,null,null,null,null,null,null,null,null,null,null,""]
[null,{"$f":"#REF!","v":{"$error":"#REF!"}},null,null,{"$f":"陸連登録!M85","v":0},{"$f":"陸連登録!C85","v":0},{"$f":"陸連登録!D85","v":0},0,{"$f":"陸連登録!A85","v":""},{"$f":"陸連登録!P85","v":0},{"$f":"LEFT(陸連登録!L85,4)","v":""},{"$f":"RIGHT(陸連登録!L85,4)","v":""},{"$f":"陸連登録!F85","v":23},{"$f":"陸連登録!B85","v":0},null,{"$f":"IF(O90=\"\",\"\",IF(I90=1,VLOOKUP(O90,男子種目コード!$V$22:$W$26,2,FALSE),IF(I90=2,VLOOKUP(O90,女子種目コード!$V$22:$W$26,2,FALSE))))","v":""},null,0,"高校","0高校",null,null,null,null,null,null,null,null,null,null,null,null,null,null,null,""]
[null,{"$f":"#REF!","v":{"$error":"#REF!"}},null,null,{"$f":"陸連登録!M86","v":0},{"$f":"陸連登録!C86","v":0},{"$f":"陸連登録!D86","v":0},0,{"$f":"陸連登録!A86","v":""},{"$f":"陸連登録!P86","v":0},{"$f":"LEFT(陸連登録!L86,4)","v":""},{"$f":"RIGHT(陸連登録!L86,4)","v":""},{"$f":"陸連登録!F86","v":23},{"$f":"陸連登録!B86","v":0},null,{"$f":"IF(O91=\"\",\"\",IF(I91=1,VLOOKUP(O91,男子種目コード!$V$22:$W$26,2,FALSE),IF(I91=2,VLOOKUP(O91,女子種目コード!$V$22:$W$26,2,FALSE))))","v":""},null,0,"高校","0高校",null,null,null,null,null,null,null,null,null,null,null,null,null,null,null,""]
[null,{"$f":"#REF!","v":{"$error":"#REF!"}},null,null,{"$f":"陸連登録!M87","v":0},{"$f":"陸連登録!C87","v":0},{"$f":"陸連登録!D87","v":0},0,{"$f":"陸連登録!A87","v":""},{"$f":"陸連登録!P87","v":0},{"$f":"LEFT(陸連登録!L87,4)","v":""},{"$f":"RIGHT(陸連登録!L87,4)","v":""},{"$f":"陸連登録!F87","v":23},{"$f":"陸連登録!B87","v":0},null,{"$f":"IF(O92=\"\",\"\",IF(I92=1,VLOOKUP(O92,男子種目コード!$V$22:$W$26,2,FALSE),IF(I92=2,VLOOKUP(O92,女子種目コード!$V$22:$W$26,2,FALSE))))","v":""},null,0,"高校","0高校",null,null,null,null,null,null,null,null,null,null,null,null,null,null,null,""]
[null,{"$f":"#REF!","v":{"$error":"#REF!"}},null,null,{"$f":"陸連登録!M88","v":0},{"$f":"陸連登録!C88","v":0},{"$f":"陸連登録!D88","v":0},0,{"$f":"陸連登録!A88","v":""},{"$f":"陸連登録!P88","v":0},{"$f":"LEFT(陸連登録!L88,4)","v":""},{"$f":"RIGHT(陸連登録!L88,4)","v":""},{"$f":"陸連登録!F88","v":23},{"$f":"陸連登録!B88","v":0},null,{"$f":"IF(O93=\"\",\"\",IF(I93=1,VLOOKUP(O93,男子種目コード!$V$22:$W$26,2,FALSE),IF(I93=2,VLOOKUP(O93,女子種目コード!$V$22:$W$26,2,FALSE))))","v":""},null,0,"高校","0高校",null,null,null,null,null,null,null,null,null,null,null,null,null,null,null,""]
[null,{"$f":"#REF!","v":{"$error":"#REF!"}},null,null,{"$f":"陸連登録!M89","v":0},{"$f":"陸連登録!C89","v":0},{"$f":"陸連登録!D89","v":0},0,{"$f":"陸連登録!A89","v":""},{"$f":"陸連登録!P89","v":0},{"$f":"LEFT(陸連登録!L89,4)","v":""},{"$f":"RIGHT(陸連登録!L89,4)","v":""},{"$f":"陸連登録!F89","v":23},{"$f":"陸連登録!B89","v":0},null,{"$f":"IF(O94=\"\",\"\",IF(I94=1,VLOOKUP(O94,男子種目コード!$V$22:$W$26,2,FALSE),IF(I94=2,VLOOKUP(O94,女子種目コード!$V$22:$W$26,2,FALSE))))","v":""},null,0,"高校","0高校",null,null,null,null,null,null,null,null,null,null,null,null,null,null,null,""]
[null,{"$f":"#REF!","v":{"$error":"#REF!"}},null,null,{"$f":"陸連登録!M90","v":0},{"$f":"陸連登録!C90","v":0},{"$f":"陸連登録!D90","v":0},0,{"$f":"陸連登録!A90","v":""},{"$f":"陸連登録!P90","v":0},{"$f":"LEFT(陸連登録!L90,4)","v":""},{"$f":"RIGHT(陸連登録!L90,4)","v":""},{"$f":"陸連登録!F90","v":23},{"$f":"陸連登録!B90","v":0},null,{"$f":"IF(O95=\"\",\"\",IF(I95=1,VLOOKUP(O95,男子種目コード!$V$22:$W$26,2,FALSE),IF(I95=2,VLOOKUP(O95,女子種目コード!$V$22:$W$26,2,FALSE))))","v":""},null,0,"高校","0高校",null,null,null,null,null,null,null,null,null,null,null,null,null,null,null,""]
[null,{"$f":"#REF!","v":{"$error":"#REF!"}},null,null,{"$f":"陸連登録!M91","v":0},{"$f":"陸連登録!C91","v":0},{"$f":"陸連登録!D91","v":0},0,{"$f":"陸連登録!A91","v":""},{"$f":"陸連登録!P91","v":0},{"$f":"LEFT(陸連登録!L91,4)","v":""},{"$f":"RIGHT(陸連登録!L91,4)","v":""},{"$f":"陸連登録!F91","v":23},{"$f":"陸連登録!B91","v":0},null,{"$f":"IF(O96=\"\",\"\",IF(I96=1,VLOOKUP(O96,男子種目コード!$V$22:$W$26,2,FALSE),IF(I96=2,VLOOKUP(O96,女子種目コード!$V$22:$W$26,2,FALSE))))","v":""},null,0,"高校","0高校",null,null,null,null,null,null,null,null,null,null,null,null,null,null,null,""]
[null,{"$f":"#REF!","v":{"$error":"#REF!"}},null,null,{"$f":"陸連登録!M92","v":0},{"$f":"陸連登録!C92","v":0},{"$f":"陸連登録!D92","v":0},0,{"$f":"陸連登録!A92","v":""},{"$f":"陸連登録!P92","v":0},{"$f":"LEFT(陸連登録!L92,4)","v":""},{"$f":"RIGHT(陸連登録!L92,4)","v":""},{"$f":"陸連登録!F92","v":23},{"$f":"陸連登録!B92","v":0},null,{"$f":"IF(O97=\"\",\"\",IF(I97=1,VLOOKUP(O97,男子種目コード!$V$22:$W$26,2,FALSE),IF(I97=2,VLOOKUP(O97,女子種目コード!$V$22:$W$26,2,FALSE))))","v":""},null,0,"高校","0高校",null,null,null,null,null,null,null,null,null,null,null,null,null,null,null,""]
[null,{"$f":"#REF!","v":{"$error":"#REF!"}},null,null,{"$f":"陸連登録!M93","v":0},{"$f":"陸連登録!C93","v":0},{"$f":"陸連登録!D93","v":0},0,{"$f":"陸連登録!A93","v":""},{"$f":"陸連登録!P93","v":0},{"$f":"LEFT(陸連登録!L93,4)","v":""},{"$f":"RIGHT(陸連登録!L93,4)","v":""},{"$f":"陸連登録!F93","v":23},{"$f":"陸連登録!B93","v":0},null,{"$f":"IF(O98=\"\",\"\",IF(I98=1,VLOOKUP(O98,男子種目コード!$V$22:$W$26,2,FALSE),IF(I98=2,VLOOKUP(O98,女子種目コード!$V$22:$W$26,2,FALSE))))","v":""},null,0,"高校","0高校",null,null,null,null,null,null,null,null,null,null,null,null,null,null,null,""]
[null,{"$f":"#REF!","v":{"$error":"#REF!"}},null,null,{"$f":"陸連登録!M94","v":0},{"$f":"陸連登録!C94","v":0},{"$f":"陸連登録!D94","v":0},0,{"$f":"陸連登録!A94","v":""},{"$f":"陸連登録!P94","v":0},{"$f":"LEFT(陸連登録!L94,4)","v":""},{"$f":"RIGHT(陸連登録!L94,4)","v":""},{"$f":"陸連登録!F94","v":23},{"$f":"陸連登録!B94","v":0},null,{"$f":"IF(O99=\"\",\"\",IF(I99=1,VLOOKUP(O99,男子種目コード!$V$22:$W$26,2,FALSE),IF(I99=2,VLOOKUP(O99,女子種目コード!$V$22:$W$26,2,FALSE))))","v":""},null,0,"高校","0高校",null,null,null,null,null,null,null,null,null,null,null,null,null,null,null,""]
[null,{"$f":"#REF!","v":{"$error":"#REF!"}},null,null,{"$f":"陸連登録!M95","v":0},{"$f":"陸連登録!C95","v":0},{"$f":"陸連登録!D95","v":0},0,{"$f":"陸連登録!A95","v":""},{"$f":"陸連登録!P95","v":0},{"$f":"LEFT(陸連登録!L95,4)","v":""},{"$f":"RIGHT(陸連登録!L95,4)","v":""},{"$f":"陸連登録!F95","v":23},{"$f":"陸連登録!B95","v":0},null,{"$f":"IF(O100=\"\",\"\",IF(I100=1,VLOOKUP(O100,男子種目コード!$V$22:$W$26,2,FALSE),IF(I100=2,VLOOKUP(O100,女子種目コード!$V$22:$W$26,2,FALSE))))","v":""},null,0,"高校","0高校",null,null,null,null,null,null,null,null,null,null,null,null,null,null,null,""]
[null,{"$f":"#REF!","v":{"$error":"#REF!"}},null,null,{"$f":"陸連登録!M96","v":0},{"$f":"陸連登録!C96","v":0},{"$f":"陸連登録!D96","v":0},0,{"$f":"陸連登録!A96","v":""},{"$f":"陸連登録!P96","v":0},{"$f":"LEFT(陸連登録!L96,4)","v":""},{"$f":"RIGHT(陸連登録!L96,4)","v":""},{"$f":"陸連登録!F96","v":23},{"$f":"陸連登録!B96","v":0},null,{"$f":"IF(O101=\"\",\"\",IF(I101=1,VLOOKUP(O101,男子種目コード!$V$22:$W$26,2,FALSE),IF(I101=2,VLOOKUP(O101,女子種目コード!$V$22:$W$26,2,FALSE))))","v":""},null,0,"高校","0高校",null,null,null,null,null,null,null,null,null,null,null,null,null,null,null,""]
[null,{"$f":"#REF!","v":{"$error":"#REF!"}},null,null,{"$f":"陸連登録!M97","v":0},{"$f":"陸連登録!C97","v":0},{"$f":"陸連登録!D97","v":0},0,{"$f":"陸連登録!A97","v":""},{"$f":"陸連登録!P97","v":0},{"$f":"LEFT(陸連登録!L97,4)","v":""},{"$f":"RIGHT(陸連登録!L97,4)","v":""},{"$f":"陸連登録!F97","v":23},{"$f":"陸連登録!B97","v":0},null,{"$f":"IF(O102=\"\",\"\",IF(I102=1,VLOOKUP(O102,男子種目コード!$V$22:$W$26,2,FALSE),IF(I102=2,VLOOKUP(O102,女子種目コード!$V$22:$W$26,2,FALSE))))","v":""},null,0,"高校","0高校",null,null,null,null,null,null,null,null,null,null,null,null,null,null,null,""]
[null,{"$f":"#REF!","v":{"$error":"#REF!"}},null,null,{"$f":"陸連登録!M98","v":0},{"$f":"陸連登録!C98","v":0},{"$f":"陸連登録!D98","v":0},0,{"$f":"陸連登録!A98","v":""},{"$f":"陸連登録!P98","v":0},{"$f":"LEFT(陸連登録!L98,4)","v":""},{"$f":"RIGHT(陸連登録!L98,4)","v":""},{"$f":"陸連登録!F98","v":23},{"$f":"陸連登録!B98","v":0},null,{"$f":"IF(O103=\"\",\"\",IF(I103=1,VLOOKUP(O103,男子種目コード!$V$22:$W$26,2,FALSE),IF(I103=2,VLOOKUP(O103,女子種目コード!$V$22:$W$26,2,FALSE))))","v":""},null,0,"高校","0高校",null,null,null,null,null,null,null,null,null,null,null,null,null,null,null,{"$f":"IF(O103=\"\",\"\",1)","v":""}]
[null,{"$f":"#REF!","v":{"$error":"#REF!"}},null,null,{"$f":"陸連登録!M99","v":0},{"$f":"陸連登録!C99","v":0},{"$f":"陸連登録!D99","v":0},0,{"$f":"陸連登録!A99","v":""},{"$f":"陸連登録!P99","v":0},{"$f":"LEFT(陸連登録!L99,4)","v":""},{"$f":"RIGHT(陸連登録!L99,4)","v":""},{"$f":"陸連登録!F99","v":23},{"$f":"陸連登録!B99","v":0},null,{"$f":"IF(O104=\"\",\"\",IF(I104=1,VLOOKUP(O104,男子種目コード!$V$22:$W$26,2,FALSE),IF(I104=2,VLOOKUP(O104,女子種目コード!$V$22:$W$26,2,FALSE))))","v":""},null,0,"高校","0高校",null,null,null,null,null,null,null,null,null,null,null,null,null,null,null,""]
[null,{"$f":"#REF!","v":{"$error":"#REF!"}},null,null,{"$f":"陸連登録!M100","v":0},{"$f":"陸連登録!C100","v":0},{"$f":"陸連登録!D100","v":0},0,{"$f":"陸連登録!A100","v":""},{"$f":"陸連登録!P100","v":0},{"$f":"LEFT(陸連登録!L100,4)","v":""},{"$f":"RIGHT(陸連登録!L100,4)","v":""},{"$f":"陸連登録!F100","v":23},{"$f":"陸連登録!B100","v":0},null,{"$f":"IF(O105=\"\",\"\",IF(I105=1,VLOOKUP(O105,男子種目コード!$V$22:$W$26,2,FALSE),IF(I105=2,VLOOKUP(O105,女子種目コード!$V$22:$W$26,2,FALSE))))","v":""},null,0,"高校","0高校",null,null,null,null,null,null,null,null,null,null,null,null,null,null,null,""]
[null,{"$f":"#REF!","v":{"$error":"#REF!"}},null,null,{"$f":"陸連登録!M101","v":0},{"$f":"陸連登録!C101","v":0},{"$f":"陸連登録!D101","v":0},0,{"$f":"陸連登録!A101","v":""},{"$f":"陸連登録!P101","v":0},{"$f":"LEFT(陸連登録!L101,4)","v":""},{"$f":"RIGHT(陸連登録!L101,4)","v":""},{"$f":"陸連登録!F101","v":23},{"$f":"陸連登録!B101","v":0},null,{"$f":"IF(O106=\"\",\"\",IF(I106=1,VLOOKUP(O106,男子種目コード!$V$22:$W$26,2,FALSE),IF(I106=2,VLOOKUP(O106,女子種目コード!$V$22:$W$26,2,FALSE))))","v":""},null,0,"高校","0高校",null,null,null,null,null,null,null,null,null,null,null,null,null,null,null,""]
[null,{"$f":"#REF!","v":{"$error":"#REF!"}},null,null,{"$f":"陸連登録!M102","v":0},{"$f":"陸連登録!C102","v":0},{"$f":"陸連登録!D102","v":0},0,{"$f":"陸連登録!A102","v":""},{"$f":"陸連登録!P102","v":0},{"$f":"LEFT(陸連登録!L102,4)","v":""},{"$f":"RIGHT(陸連登録!L102,4)","v":""},{"$f":"陸連登録!F102","v":23},{"$f":"陸連登録!B102","v":0},null,{"$f":"IF(O107=\"\",\"\",IF(I107=1,VLOOKUP(O107,男子種目コード!$V$22:$W$26,2,FALSE),IF(I107=2,VLOOKUP(O107,女子種目コード!$V$22:$W$26,2,FALSE))))","v":""},null,0,"高校","0高校",null,null,null,null,null,null,null,null,null,null,null,null,null,null,null,""]
[null,{"$f":"#REF!","v":{"$error":"#REF!"}},null,null,{"$f":"陸連登録!M103","v":0},{"$f":"陸連登録!C103","v":0},{"$f":"陸連登録!D103","v":0},0,{"$f":"陸連登録!A103","v":""},{"$f":"陸連登録!P103","v":0},{"$f":"LEFT(陸連登録!L103,4)","v":""},{"$f":"RIGHT(陸連登録!L103,4)","v":""},{"$f":"陸連登録!F103","v":23},{"$f":"陸連登録!B103","v":0},null,{"$f":"IF(O108=\"\",\"\",IF(I108=1,VLOOKUP(O108,男子種目コード!$V$22:$W$26,2,FALSE),IF(I108=2,VLOOKUP(O108,女子種目コード!$V$22:$W$26,2,FALSE))))","v":""},null,0,"高校","0高校",null,null,null,null,null,null,null,null,null,null,null,null,null,null,null,""]
[null,{"$f":"#REF!","v":{"$error":"#REF!"}},null,null,{"$f":"陸連登録!M104","v":0},{"$f":"陸連登録!C104","v":0},{"$f":"陸連登録!D104","v":0},0,{"$f":"陸連登録!A104","v":""},{"$f":"陸連登録!P104","v":0},{"$f":"LEFT(陸連登録!L104,4)","v":""},{"$f":"RIGHT(陸連登録!L104,4)","v":""},{"$f":"陸連登録!F104","v":23},{"$f":"陸連登録!B104","v":0},null,{"$f":"IF(O109=\"\",\"\",IF(I109=1,VLOOKUP(O109,男子種目コード!$V$22:$W$26,2,FALSE),IF(I109=2,VLOOKUP(O109,女子種目コード!$V$22:$W$26,2,FALSE))))","v":""},null,0,"高校","0高校",null,null,null,null,null,null,null,null,null,null,null,null,null,null,null,""]
[null,{"$f":"#REF!","v":{"$error":"#REF!"}},null,null,{"$f":"陸連登録!M105","v":0},{"$f":"陸連登録!C105","v":0},{"$f":"陸連登録!D105","v":0},0,{"$f":"陸連登録!A105","v":""},{"$f":"陸連登録!P105","v":0},{"$f":"LEFT(陸連登録!L105,4)","v":""},{"$f":"RIGHT(陸連登録!L105,4)","v":""},{"$f":"陸連登録!F105","v":23},{"$f":"陸連登録!B105","v":0},null,{"$f":"IF(O110=\"\",\"\",IF(I110=1,VLOOKUP(O110,男子種目コード!$V$22:$W$26,2,FALSE),IF(I110=2,VLOOKUP(O110,女子種目コード!$V$22:$W$26,2,FALSE))))","v":""},null,0,"高校","0高校",null,null,null,null,null,null,null,null,null,null,null,null,null,null,null,""]
[null,{"$f":"#REF!","v":{"$error":"#REF!"}},null,null,{"$f":"陸連登録!M106","v":0},{"$f":"陸連登録!C106","v":0},{"$f":"陸連登録!D106","v":0},0,{"$f":"陸連登録!A106","v":""},{"$f":"陸連登録!P106","v":0},{"$f":"LEFT(陸連登録!L106,4)","v":""},{"$f":"RIGHT(陸連登録!L106,4)","v":""},{"$f":"陸連登録!F106","v":23},{"$f":"陸連登録!B106","v":0},null,{"$f":"IF(O111=\"\",\"\",IF(I111=1,VLOOKUP(O111,男子種目コード!$V$22:$W$26,2,FALSE),IF(I111=2,VLOOKUP(O111,女子種目コード!$V$22:$W$26,2,FALSE))))","v":""},null,0,"高校","0高校",null,null,null,null,null,null,null,null,null,null,null,null,null,null,null,""]
[null,{"$f":"#REF!","v":{"$error":"#REF!"}},null,null,{"$f":"陸連登録!M107","v":0},{"$f":"陸連登録!C107","v":0},{"$f":"陸連登録!D107","v":0},0,{"$f":"陸連登録!A107","v":""},{"$f":"陸連登録!P107","v":0},{"$f":"LEFT(陸連登録!L107,4)","v":""},{"$f":"RIGHT(陸連登録!L107,4)","v":""},{"$f":"陸連登録!F107","v":23},{"$f":"陸連登録!B107","v":0},null,{"$f":"IF(O112=\"\",\"\",IF(I112=1,VLOOKUP(O112,男子種目コード!$V$22:$W$26,2,FALSE),IF(I112=2,VLOOKUP(O112,女子種目コード!$V$22:$W$26,2,FALSE))))","v":""},null,0,"高校","0高校",null,null,null,null,null,null,null,null,null,null,null,null,null,null,null,""]
[null,{"$f":"#REF!","v":{"$error":"#REF!"}},null,null,{"$f":"陸連登録!M108","v":0},{"$f":"陸連登録!C108","v":0},{"$f":"陸連登録!D108","v":0},0,{"$f":"陸連登録!A108","v":""},{"$f":"陸連登録!P108","v":0},{"$f":"LEFT(陸連登録!L108,4)","v":""},{"$f":"RIGHT(陸連登録!L108,4)","v":""},{"$f":"陸連登録!F108","v":23},{"$f":"陸連登録!B108","v":0},null,{"$f":"IF(O113=\"\",\"\",IF(I113=1,VLOOKUP(O113,男子種目コード!$V$22:$W$26,2,FALSE),IF(I113=2,VLOOKUP(O113,女子種目コード!$V$22:$W$26,2,FALSE))))","v":""},null,0,"高校","0高校",null,null,null,null,null,null,null,null,null,null,null,null,null,null,null,""]
[null,{"$f":"#REF!","v":{"$error":"#REF!"}},null,null,{"$f":"陸連登録!M109","v":0},{"$f":"陸連登録!C109","v":0},{"$f":"陸連登録!D109","v":0},0,{"$f":"陸連登録!A109","v":""},{"$f":"陸連登録!P109","v":0},{"$f":"LEFT(陸連登録!L109,4)","v":""},{"$f":"RIGHT(陸連登録!L109,4)","v":""},{"$f":"陸連登録!F109","v":23},{"$f":"陸連登録!B109","v":0},null,{"$f":"IF(O114=\"\",\"\",IF(I114=1,VLOOKUP(O114,男子種目コード!$V$22:$W$26,2,FALSE),IF(I114=2,VLOOKUP(O114,女子種目コード!$V$22:$W$26,2,FALSE))))","v":""},null,0,"高校","0高校",null,null,null,null,null,null,null,null,null,null,null,null,null,null,null,""]
[null,{"$f":"#REF!","v":{"$error":"#REF!"}},null,null,{"$f":"陸連登録!M110","v":0},{"$f":"陸連登録!C110","v":0},{"$f":"陸連登録!D110","v":0},0,{"$f":"陸連登録!A110","v":""},{"$f":"陸連登録!P110","v":0},{"$f":"LEFT(陸連登録!L110,4)","v":""},{"$f":"RIGHT(陸連登録!L110,4)","v":""},{"$f":"陸連登録!F110","v":23},{"$f":"陸連登録!B110","v":0},null,{"$f":"IF(O115=\"\",\"\",IF(I115=1,VLOOKUP(O115,男子種目コード!$V$22:$W$26,2,FALSE),IF(I115=2,VLOOKUP(O115,女子種目コード!$V$22:$W$26,2,FALSE))))","v":""},null,0,"高校","0高校",null,null,null,null,null,null,null,null,null,null,null,null,null,null,null,""]
[null,{"$f":"#REF!","v":{"$error":"#REF!"}},null,null,{"$f":"陸連登録!M111","v":0},{"$f":"陸連登録!C111","v":0},{"$f":"陸連登録!D111","v":0},0,{"$f":"陸連登録!A111","v":""},{"$f":"陸連登録!P111","v":0},{"$f":"LEFT(陸連登録!L111,4)","v":""},{"$f":"RIGHT(陸連登録!L111,4)","v":""},{"$f":"陸連登録!F111","v":23},{"$f":"陸連登録!B111","v":0},null,{"$f":"IF(O116=\"\",\"\",IF(I116=1,VLOOKUP(O116,男子種目コード!$V$22:$W$26,2,FALSE),IF(I116=2,VLOOKUP(O116,女子種目コード!$V$22:$W$26,2,FALSE))))","v":""},null,0,"高校","0高校",null,null,null,null,null,null,null,null,null,null,null,null,null,null,null,""]
[null,null,null,null,null,null,null,null,null,null,null,null,null,null,null,null,null,null,null,null,null,null,null,null,null,null,null,null,null,null,null,null,null,{"$f":"SUM(AJ7:AJ116)","v":0}]

{"sheet":"振込票貼付用紙","index":12,"n_rows":46,"n_cols":11,"rows_kept":46,"cut":false,"hidden":false,"merged":[[7,10,27,10],[0,0,0,9],[45,4,45,5],[46,4,46,5],[44,4,44,5],[44,6,44,7]]}
["大会参加料　振込票貼付用紙"]
[]
["大会名"]
[]
["所属名"]
[]
["責任者",null,null,null,null,"連絡先"]
[null,null,null,null,null,null,null,null,null,null,"メニューへ戻り、上書き保存して下さい"]
[]
[]
[]
[]
[]
[]
[]
[]
[]
[]
[]
[]
[]
[]
[]
[]
[]
[]
[]
[]
[]
[]
[]
[]
[]
[]
[]
[]
[]
[]
[]
[null,null,null,null,null,"プログラム",null,null,"冊"]
[]
[]
[null,"参加人数",null,0,null,"個人種目"]
[]
[null,"リレー"]
[null,null,null,null,"参加費合計",null,null,null,"円"]

{"sheet":"男子種目コード","index":13,"n_rows":85,"n_cols":26,"rows_kept":85,"cut":false,"hidden":true,"merged":[]}
["国体1次高校県選",null,null,"通信",null,null,"中学混成",null,null,"リレーカーニバル",null,null,"中学選抜",null,null,"ジュニアO",null,null,"中学県大会",null,null,"小学生県・選手権・クラブ",null,null,"SF"]
[100,1,null,"1年100",1,null,"四種",1,null,"5年100",1,null,100,1,null,100,1,null,100,1,null,"3年60",1,null,100,2]
[200,2,null,"1年1500",2,null,100,2,null,"6年100",2,null,200,2,null,3000,2,null,200,2,null,"4年60",2,null,3000,3]
[400,3,null,"2年100",3,null,1500,3,null,"5･6年1000",3,null,400,3,null,"110JH",3,null,400,3,null,"5年100",3,null,5000,4]
[800,4,null,"2年1500",4,null,3000,4,null,"5･6年80H",4,null,800,4,null,"走幅跳",4,null,800,4,null,"6年100",4,null,"110JH",5]
[1500,5,null,"共通100",5,null,"棒高跳",5,null,"5･6年走幅跳",5,null,1500,5,null,"砲丸投",5,null,3000,5,null,"5･6年1000",5,null,"4×100",6]
[5000,6,null,"共通200",6,null,null,null,null,"5･6年ボール投",6,null,3000,6,null,"A-100",6,null,"110H",6,null,"5年1000",6,null,1500,7]
[10000,7,null,"共通400",7,null,null,null,null,"5･6年4×100R",7,null,"110H",7,null,"A-200",7,null,"低学年R",7,null,"6年1000",7]
["110H",8,null,"共通800",8,null,null,null,null,"混成リレー",8,null,"走高跳",8,null,"A-400",8,null,"4×200R",8,null,"5･6年80H",8]
["400H",9,null,"共通1500",9,null,null,null,null,100,9,null,"棒高跳",9,null,"A-800",9,null,"走高跳",9,null,"5･6年4×100R",9]
["3000SC",10,null,"共通3000",10,null,null,null,null,3000,10,null,"走幅跳",10,null,"A-3000",10,null,"棒高跳",10,null,"混成4×100R",10]
[null,11,null,"共通110H",11,null,null,null,null,"4×１00R",11,null,"砲丸投",11,null,"A-110H",11,null,"走幅跳",11,null,"5･6年走高跳",11]
["5000W",12,null,"低学年R",12,null,null,null,null,"走高跳",12,null,"四種",12,null,"A-走高跳",12,null,"三段跳",12,null,"5･6年走幅跳",12]
["4×100",13,null,"4×100R",13,null,null,null,null,"走幅跳",13,null,null,null,null,"A-砲丸投",13,null,"砲丸投",13,null,"5･6年ボール投",13]
["4×400",14,null,"共通走高跳",14,null,null,null,null,"砲丸投",14,null,null,null,null,"B-100",14,null,"円盤投",14]
["走高跳",15,null,"共通棒高跳",15,null,null,null,null,"ｼﾞｬﾍﾞﾘｯｸ",15,null,null,null,null,"B-1500",15,null,null,null,null,"小学生混成"]
["棒高跳",16,null,"共走幅跳",16,null,null,null,null,null,null,null,null,null,null,"B-110H",16,null,null,null,null,"三種",1]
["走幅跳",17,null,"共通三段跳",17,null,null,null,null,null,null,null,null,null,null,"B-走幅跳",17]
["三段跳",18,null,"共通砲丸投",18,null,null,null,null,null,null,null,null,null,null,"C-100",18]
["砲丸投",19,null,"共通円盤投",19,null,null,null,null,null,null,null,null,null,null,"C-100H",19]
["円盤投",20,null,null,null,null,null,null,null,null,null,null,null,null,null,"C-走幅跳",20]
["ハンマー投",21,null,null,null,null,null,null,null,null,null,null,null,null,null,"C-砲丸投",21,null,null,null,null,"ロードレース"]
["やり投",22,null,null,null,null,null,null,null,null,null,null,null,null,null,"AB円盤投",22,null,null,null,null,"高校10ｋ",3]
["8種",23,null,null,null,null,null,null,null,null,null,null,null,null,null,"AB共通ｼﾞｬﾍﾞﾘｯｸ",23]
["少年3000",24,null,null,null,null,null,null,null,null,null,null,null,null,null,null,24,null,null,null,null,"中5ｋ",3]
["少年砲丸投",25,null,null,null,null,null,null,null,null,null,null,null,null,null,null,25]
["少年円盤投",26]
["少年ハンマー投",27]
["少年B100",28]
["少年B砲丸投",29,null,"ナイター記録会",null,null,null,null,null,3000,4]
["少年B円盤投",30,null,null,null,null,null,null,null,5000,5]
["少年Aハンマー投",31,null,"高一般男子5000-1部",2]
["記録会5000",32,null,"高一般男子5000-2部",3]
[null,null,null,"高一般男子5000-3部",4]
["三重長距離記録会",null,null,"高一般男子5000-4部",5]
["高男子3000",1,null,"高一般男子5000-5部",6]
["高一般男子5000-1部",2]
["高一般男子5000-2部",3]
["高一般男子5000-3部",4]
["高一般男子5000-4部",5]
["高一般男子5000-5部",6]
[]
["総体・新人",null,null,"定時制"]
[100,1,null,100,1]
[200,2,null,200,2]
[400,3,null,400,3]
[800,4,null,800,4]
[1500,5,null,1500,5]
[5000,6,null,5000,6]
[10000,7,null,"4×100",7]
["110H",8,null,"4×400",8]
["400H",9,null,"走高跳",9]
["3000SC",10,null,"走幅跳",10]
[null,11,null,"三段跳",11]
["5000W",12,null,"砲丸投",12]
["4×100",13,null,"円盤投",13]
["4×400",14]
["走高跳",15]
["棒高跳",16]
["走幅跳",17]
["三段跳",18]
["砲丸投",19]
["円盤投",20]
["ハンマー投",21]
["やり投",22]
["8種",23]
[null,24]
[null,25]
[null,26]
[null,27]
[null,28]
[null,29]
[null,30]
[null,31]
[null,32]
[]
["国体1次リレー"]
["男子A",14]
["男子B",14]
["男子C",14]
["男子D",14]
["男子A",13]
["男子B",13]
["男子C",13]
["男子D",14]

{"sheet":"女子種目コード","index":14,"n_rows":85,"n_cols":26,"rows_kept":85,"cut":false,"hidden":true,"merged":[]}
["国体1次高校県選",null,null,"通信",null,null,"中学混成",null,null,"リレーカーニバル",null,null,"中学選抜",null,null,"ジュニアO",null,null,"中学県大会",null,null,"小学生県･選手権･クラブ",null,null,"SF"]
[100,40,null,"1年100",30,null,"四種",10,null,"5年100",20,null,100,20,null,100,30,null,100,20,null,"3年60",15,null,100,11]
[200,41,null,"1年800",31,null,100,11,null,"6年100",21,null,200,21,null,3000,31,null,200,21,null,"4年60",16,null,3000,12]
[400,42,null,"2年100",32,null,800,12,null,"5･6年1000",22,null,800,22,null,"100H",32,null,800,22,null,"5年100",17,null,"100YH",13]
[800,43,null,"共通100",33,null,1500,13,null,"5･6年80H",23,null,1500,23,null,"走幅跳",33,null,2000,23,null,"6年100",18,null,"4×100",14]
[1500,44,null,"共通200",34,null,null,null,null,"5･6年走幅跳",24,null,"100H",24,null,"円盤投",34,null,"100H",24,null,"5.6年1000",19,null,1500,15]
[3000,45,null,"共通800",35,null,null,null,null,"5･6年ボール投",25,null,"走高跳",25,null,"A-100",35,null,"低学年R",25,null,"5年1000",20]
[5000,46,null,"共通1500",36,null,null,null,null,"5･6年4×100R",26,null,"走幅跳",26,null,"A-200",36,null,"4×100R",26,null,"6年1000",21]
[10000,47,null,"共通100H",37,null,null,null,null,"混成リレー",8,null,"砲丸投",27,null,"A-3000",37,null,"走高跳",27,null,"5･6年80H",22]
["100H",48,null,"低学年R",38,null,null,null,null,100,28,null,"四種",28,null,"A-100H",38,null,"走幅跳",28,null,"5･6年4×100R",23]
["400H",49,null,"4×100",39,null,null,null,null,1500,29,null,null,null,null,"A-走高跳",39,null,"砲丸投",29,null,"混成4×100R",10]
[null,50,null,"共通走高跳",40,null,null,null,null,"4×100R",30,null,null,null,null,"B-100",40,null,"円盤投",30,null,"5･6年走高跳",25]
["3000W",51,null,"共通走幅跳",41,null,null,null,null,"走高跳",31,null,null,null,null,"B-1500",41,null,null,null,null,"5･6年走幅跳",26]
["5000W",52,null,"共通砲丸投",42,null,null,null,null,"走幅跳",32,null,null,null,null,"B-100H",42,null,null,null,null,"5･6年ボール投",27]
["4×100",53,null,"共通円盤投",43,null,null,null,null,"砲丸投",33,null,null,null,null,"B-走高跳",43]
["4×400",54,null,null,null,null,null,null,null,"ｼﾞｬﾍﾞﾘｯｸ",34,null,null,null,null,"B-走幅跳",44,null,null,null,null,"小学生混成"]
["走高跳",55,null,null,null,null,null,null,null,null,null,null,null,null,null,"B-砲丸投",45,null,null,null,null,"三種",2]
["棒高跳",56,null,null,null,null,null,null,null,null,null,null,null,null,null,"C-100",46]
["走幅跳",57,null,null,null,null,null,null,null,null,null,null,null,null,null,"C-100H",47]
["三段跳",58,null,null,null,null,null,null,null,null,null,null,null,null,null,"C-走幅跳",48]
["砲丸投",59,null,null,null,null,null,null,null,null,null,null,null,null,null,"C-砲丸投",49]
["円盤投",60,null,null,null,null,null,null,null,null,null,null,null,null,null,"AB円盤投",50,null,null,null,null,"ロードレース"]
["ハンマー投",61,null,null,null,null,null,null,null,null,null,null,null,null,null,"ABｼﾞｬﾍﾞﾘｯｸ",51,null,null,null,null,"女子5ｋ",7]
["やり投",62,null,null,null,null,null,null,null,null,null,null,null,null,null,null,52]
["7種",63,null,null,null,null,null,null,null,null,null,null,null,null,null,null,53]
["少年3000",64,null,null,null,null,null,null,null,null,null,null,null,null,null,null,54]
["少年B100YH",65]
["少年B100",66]
[]
[null,null,null,null,null,null,null,null,null,3000,8]
[null,null,null,"ナイター記録会",null,null,null,null,null,5000,9]
["三重長距離記録会"]
["高校一般女子3000",10,null,"高校一般女子3000",10]
[]
["春季・高校総体",null,null,"高校新人",null,null,"定時制"]
[100,40,null,100,40,null,100,20]
[200,41,null,200,41,null,200,21]
[400,42,null,400,42,null,800,22]
[800,43,null,800,43,null,"100H",23]
[1500,44,null,1500,44,null,"4×100",24]
[3000,45,null,3000,45,null,"走高跳",25]
[5000,46,null,null,46,null,"走幅跳",26]
[10000,47,null,null,47,null,"砲丸投",27]
["100H",48,null,"100H",48,null,"円盤投",28]
["400H",49,null,"400H",49]
[null,50,null,null,50]
["3000W",51,null,"5000W",51]
["5000W",52,null,null,52]
["4×100",53,null,"4×100",53]
["4×400",54,null,"4×400",54]
["走高跳",55,null,"走高跳",55]
["棒高跳",56,null,"棒高跳",56]
["走幅跳",57,null,"走幅跳",57]
["三段跳",58,null,"三段跳",58]
["砲丸投",59,null,"砲丸投",59]
["円盤投",60,null,"円盤投",60]
["ハンマー投",61,null,"ハンマー投",61]
["やり投",62,null,"やり投",62]
["7種",63,null,"記録会3000",63]
[null,64,null,null,64]
[null,65,null,null,65]
[]
[]
[]
[]
[]
[]
[]
[]
[]
[]
[]
[]
[]
[]
[]
["国体1次リレー"]
["女子A",54]
["女子B",54]
["女子C",54]
["女子D",54]
["女子A",53]
["女子B",53]
["女子C",53]
["女子D",53]

{"sheet":"作業","index":15,"n_rows":1,"n_cols":4,"rows_kept":1,"cut":false,"hidden":true,"merged":[]}
[1,"選　手","コード","コード"]

{"sheet":"所属コード","index":16,"n_rows":70,"n_cols":7,"rows_kept":70,"cut":false,"hidden":true,"merged":[]}
["所属名","所属NO","所属名カナ","所属名略称","所属地NO"]
["暁",233901,null,"暁",23,null,"三重"]
["明野",233137,null,"明野",23,null,"三重"]
["朝明",233156,null,"朝明",23,null,"三重"]
["飯南",233129,null,"飯南",23,null,"三重"]
["伊賀白鳳",233954,null,"伊賀白鳳",23,null,"三重"]
["石薬師",233157,null,"石薬師",23,null,"三重"]
["伊勢",233133,null,"伊勢",23,null,"三重"]
["伊勢学園",233509,null,"伊勢学園",23,null,"三重"]
["伊勢工",233134,null,"伊勢工",23,null,"三重"]
["いなべ総合",233104,null,"いなべ総合",23,null,"三重"]
["稲生",233160,null,"稲生",23,null,"三重"]
["上野",233144,null,"上野",23,null,"三重"]
["宇治山田",233132,null,"宇治山田",23,null,"三重"]
["宇治山田商",233135,null,"宇治山田商",23,null,"三重"]
["相可",233130,null,"相可",23,null,"三重"]
["尾鷲",233151,null,"尾鷲",23,null,"三重"]
["海星",233502,null,"海星",23,null,"三重"]
["亀山",233117,null,"亀山",23,null,"三重"]
["川越",233162,null,"川越",23,null,"三重"]
["神戸",233114,null,"神戸",23,null,"三重"]
["紀南",233155,null,"紀南",23,null,"三重"]
["木本",233154,null,"木本",23,null,"三重"]
["近大高専",233991,null,"近大高専",23,null,"三重"]
["桑名",233101,null,"桑名",23,null,"三重"]
["桑名北",233158,null,"桑名北",23,null,"三重"]
["桑名工",233103,null,"桑名工",23,null,"三重"]
["桑名西",233102,null,"桑名西",23,null,"三重"]
["皇學館",233510,null,"皇學館",23,null,"三重"]
["菰野",233113,null,"菰野",23,null,"三重"]
["桜丘",233513,null,"桜丘",23,null,"三重"]
["志摩",233142,null,"志摩",23,null,"三重"]
["白子",233116,null,"白子",23,null,"三重"]
["鈴鹿",233902,null,"鈴鹿",23,null,"三重"]
["鈴鹿高専",233992,null,"鈴鹿高専",23,null,"三重"]
["セントヨゼフ",233506,null,"セントヨゼフ",23,null,"三重"]
["高田",233903,null,"高田",23,null,"三重"]
["津",233118,null,"津",23,null,"三重"]
["津工",233121,null,"津工",23,null,"三重"]
["津商",233122,null,"津商",23,null,"三重"]
["津田学園",233515,null,"津田学園",23,null,"三重"]
["津西",233119,null,"津西",23,null,"三重"]
["津東",233120,null,"津東",23,null,"三重"]
["鳥羽",233141,null,"鳥羽",23,null,"三重"]
["鳥羽商船",233993,null,"鳥羽商船",23,null,"三重"]
["名張桔梗丘",233150,null,"名張桔梗丘",23,null,"三重"]
["名張青峰",233163,null,"名張青峰",23,null,"三重"]
["白山",233125,null,"白山",23,null,"三重"]
["久居",233161,null,"久居",23,null,"三重"]
["久居農林",233124,null,"久居農林",23,null,"三重"]
["松阪",233126,null,"松阪",23,null,"三重"]
["松阪工",233127,null,"松阪工",23,null,"三重"]
["松阪商",233128,null,"松阪商",23,null,"三重"]
["三重",233904,null,"三重",23,null,"三重"]
["南伊勢",233952,null,"南伊勢",23,null,"三重"]
["四日市",233105,null,"四日市",23,null,"三重"]
["四日市工",233109,null,"四日市工",23,null,"三重"]
["四日市商",233111,null,"四日市商",23,null,"三重"]
["四中工",233110,null,"四中工",23,null,"三重"]
["四日市西",233107,null,"四日市西",23,null,"三重"]
["四日市農芸",233108,null,"四日市農芸",23,null,"三重"]
["四日市南",233106,null,"四日市南",23,null,"三重"]
["四日市四郷",233159,null,"四日市四郷",23,null,"三重"]
["まなび",233136,null,"まなび",23,null,"三重"]
["大橋学園",233517,null,"大橋学園",23,null,"三重"]
["徳風",233519,null,"徳風",23,null,"三重"]
["北星",233112,null,"北星",23,null,"三重"]
["松阪(通)",233518,null,"松阪(通)",23,null,"三重"]
["みえ夢学園",233123,null,"みえ夢学園",23,null,"三重"]
["四工(定)",234151,null,"四工(定)",23,null,"三重"]

{"sheet":"所属地コード","index":17,"n_rows":84,"n_cols":3,"rows_kept":84,"cut":false,"hidden":true,"merged":[]}
["地区","地区コード"]
["北海道",1,"ﾎｯｶｲﾄﾞｳ"]
["青森",2,"ｱｵﾓﾘ"]
["岩手",3,"ｲﾜﾃ"]
["宮城",4,"ﾐﾔｷﾞ"]
["秋田",5,"ｱｷﾀ"]
["山形",6,"ﾔﾏｶﾞﾀ"]
["福島",7,"ﾌｸｼﾏ"]
["茨城",8,"ｲﾊﾞﾗｷﾞ"]
["栃木",9,"ﾄﾁｷﾞ"]
["群馬",10,"ｸﾞﾝﾏ"]
["埼玉",11,"ｻｲﾀﾏ"]
["千葉",12,"ﾁﾊﾞ"]
["東京",13,"ﾄｳｷｮｳ"]
["神奈川",14,"ｶﾅｶﾞﾜ"]
["山梨",15,"ﾔﾏﾅｼ"]
["新潟",16,"ﾆｲｶﾞﾀ"]
["長野",17,"ﾅｶﾞﾉ"]
["富山",18,"ﾄﾔﾏ"]
["石川",19,"ｲｼｶﾜ"]
["福井",20,"ﾌｸｲ"]
["静岡",21,"ｼｽﾞｵｶ"]
["愛知",22,"ｱｲﾁ"]
["三重",23,"ﾐｴ"]
["岐阜",24,"ｷﾞﾌ"]
["滋賀",25,"ｼｶﾞ"]
["京都",26,"ｷｮｳﾄ"]
["大阪",27,"ｵｵｻｶ"]
["兵庫",28,"ﾋｮｳｺﾞ"]
["奈良",29,"ﾅﾗ"]
["和歌山",30,"ﾜｶﾔﾏ"]
["鳥取",31,"ﾄｯﾄﾘ"]
["島根",32,"ｼﾏﾈ"]
["岡山",33,"ｵｶﾔﾏ"]
["広島",34,"ﾋﾛｼﾏ"]
["山口",35,"ﾔﾏｸﾞﾁ"]
["徳島",36,"ﾄｸｼﾏ"]
["香川",37,"ｶｶﾞﾜ"]
["愛媛",38,"ｴﾋﾒ"]
["高知",39,"ｺｳﾁ"]
["福岡",40,"ﾌｸｵｶ"]
["佐賀",41,"ｻｶﾞ"]
["長崎",42,"ﾅｶﾞｻｷ"]
["熊本",43,"ｸﾏﾓﾄ"]
["大分",44,"ｵｵｲﾀ"]
["宮崎",45,"ﾐﾔｻﾞｷ"]
["鹿児島",46,"ｶｺﾞｼﾏ"]
["沖縄",47,"ｵｷﾅﾜ"]
["学連",48,"ガクレン"]
["桑名市",100]
["いなべ市",101]
["桑名郡",102]
["員弁郡",103]
["四日市",104]
["三重郡",105]
["鈴鹿市",106]
["亀山市",107]
["鈴鹿郡",108]
["津市",109]
[]
[]
[]
["松阪市",113]
[]
["多気郡",115]
["伊勢市",116]
["度会郡",117]
["鳥羽市",118]
["志摩市",119]
["伊賀市",120]
["名張市",121]
["伊賀郡",122]
["阿山郡",123]
["名賀郡",124]
["尾鷲市",125]
["北牟婁",126]
["熊野市",127]
["南牟婁",128]
[null,129]
[null,130]
[null,131]
[null,132]
[null,133]
[null,134]

{"sheet":"選手DATA","index":18,"n_rows":157,"n_cols":35,"rows_kept":157,"cut":false,"hidden":true,"merged":[]}
["都道府県(学連)登録番号","JAAF ID","会員名","会員名カナ","性別","学年","登録都道府県コード","登録都道府県名","団体ID","団体名","団体名カナ","団体名略称","生年月日","旧団体コード","備考","団体区分","地域学連名","支部名","郵便番号","住所(都道府県)","住所(市区町村以下)","住所(建物名)","審判資格","E-mail","E-mail配信希望","連絡先電話番号","出身高校都道府県","出身高校名","出身中学校都道府県","出身中学校名","勤務先名","勤務先郵便番号","勤務先住所","勤務先電話番号","学部"]
[{"$f":"陸連登録!M2","v":0},{"$f":"陸連登録!B2","v":0},{"$f":"陸連登録!C2","v":0},{"$f":"陸連登録!D2","v":0},{"$f":"陸連登録!E2","v":0},{"$f":"陸連登録!P2","v":0},{"$f":"陸連登録!F2","v":23},{"$f":"陸連登録!G2","v":"三重"},{"$f":"陸連登録!H2","v":0},{"$f":"陸連登録!I2","v":0},{"$f":"陸連登録!J2","v":0},{"$f":"陸連登録!K2","v":0},{"$f":"陸連登録!L2","v":0},{"$f":"陸連登録!N2","v":""}]
[{"$f":"陸連登録!M3","v":0},{"$f":"陸連登録!B3","v":0},{"$f":"陸連登録!C3","v":0},{"$f":"陸連登録!D3","v":0},{"$f":"陸連登録!E3","v":0},{"$f":"陸連登録!P3","v":0},{"$f":"陸連登録!F3","v":23},{"$f":"陸連登録!G3","v":"三重"},{"$f":"陸連登録!H3","v":0},{"$f":"陸連登録!I3","v":0},{"$f":"陸連登録!J3","v":0},{"$f":"陸連登録!K3","v":0},{"$f":"陸連登録!L3","v":0},{"$f":"陸連登録!N3","v":""}]
[{"$f":"陸連登録!M4","v":0},{"$f":"陸連登録!B4","v":0},{"$f":"陸連登録!C4","v":0},{"$f":"陸連登録!D4","v":0},{"$f":"陸連登録!E4","v":0},{"$f":"陸連登録!P4","v":0},{"$f":"陸連登録!F4","v":23},{"$f":"陸連登録!G4","v":"三重"},{"$f":"陸連登録!H4","v":0},{"$f":"陸連登録!I4","v":0},{"$f":"陸連登録!J4","v":0},{"$f":"陸連登録!K4","v":0},{"$f":"陸連登録!L4","v":0},{"$f":"陸連登録!N4","v":""}]
[{"$f":"陸連登録!M5","v":0},{"$f":"陸連登録!B5","v":0},{"$f":"陸連登録!C5","v":0},{"$f":"陸連登録!D5","v":0},{"$f":"陸連登録!E5","v":0},{"$f":"陸連登録!P5","v":0},{"$f":"陸連登録!F5","v":23},{"$f":"陸連登録!G5","v":"三重"},{"$f":"陸連登録!H5","v":0},{"$f":"陸連登録!I5","v":0},{"$f":"陸連登録!J5","v":0},{"$f":"陸連登録!K5","v":0},{"$f":"陸連登録!L5","v":0},{"$f":"陸連登録!N5","v":""}]
[{"$f":"陸連登録!M6","v":0},{"$f":"陸連登録!B6","v":0},{"$f":"陸連登録!C6","v":0},{"$f":"陸連登録!D6","v":0},{"$f":"陸連登録!E6","v":0},{"$f":"陸連登録!P6","v":0},{"$f":"陸連登録!F6","v":23},{"$f":"陸連登録!G6","v":"三重"},{"$f":"陸連登録!H6","v":0},{"$f":"陸連登録!I6","v":0},{"$f":"陸連登録!J6","v":0},{"$f":"陸連登録!K6","v":0},{"$f":"陸連登録!L6","v":0},{"$f":"陸連登録!N6","v":""}]
[{"$f":"陸連登録!M7","v":0},{"$f":"陸連登録!B7","v":0},{"$f":"陸連登録!C7","v":0},{"$f":"陸連登録!D7","v":0},{"$f":"陸連登録!E7","v":0},{"$f":"陸連登録!P7","v":0},{"$f":"陸連登録!F7","v":23},{"$f":"陸連登録!G7","v":"三重"},{"$f":"陸連登録!H7","v":0},{"$f":"陸連登録!I7","v":0},{"$f":"陸連登録!J7","v":0},{"$f":"陸連登録!K7","v":0},{"$f":"陸連登録!L7","v":0},{"$f":"陸連登録!N7","v":""}]
[{"$f":"陸連登録!M8","v":0},{"$f":"陸連登録!B8","v":0},{"$f":"陸連登録!C8","v":0},{"$f":"陸連登録!D8","v":0},{"$f":"陸連登録!E8","v":0},{"$f":"陸連登録!P8","v":0},{"$f":"陸連登録!F8","v":23},{"$f":"陸連登録!G8","v":"三重"},{"$f":"陸連登録!H8","v":0},{"$f":"陸連登録!I8","v":0},{"$f":"陸連登録!J8","v":0},{"$f":"陸連登録!K8","v":0},{"$f":"陸連登録!L8","v":0},{"$f":"陸連登録!N8","v":""}]
[{"$f":"陸連登録!M9","v":0},{"$f":"陸連登録!B9","v":0},{"$f":"陸連登録!C9","v":0},{"$f":"陸連登録!D9","v":0},{"$f":"陸連登録!E9","v":0},{"$f":"陸連登録!P9","v":0},{"$f":"陸連登録!F9","v":23},{"$f":"陸連登録!G9","v":"三重"},{"$f":"陸連登録!H9","v":0},{"$f":"陸連登録!I9","v":0},{"$f":"陸連登録!J9","v":0},{"$f":"陸連登録!K9","v":0},{"$f":"陸連登録!L9","v":0},{"$f":"陸連登録!N9","v":""}]
[{"$f":"陸連登録!M10","v":0},{"$f":"陸連登録!B10","v":0},{"$f":"陸連登録!C10","v":0},{"$f":"陸連登録!D10","v":0},{"$f":"陸連登録!E10","v":0},{"$f":"陸連登録!P10","v":0},{"$f":"陸連登録!F10","v":23},{"$f":"陸連登録!G10","v":"三重"},{"$f":"陸連登録!H10","v":0},{"$f":"陸連登録!I10","v":0},{"$f":"陸連登録!J10","v":0},{"$f":"陸連登録!K10","v":0},{"$f":"陸連登録!L10","v":0},{"$f":"陸連登録!N10","v":""}]
[{"$f":"陸連登録!M11","v":0},{"$f":"陸連登録!B11","v":0},{"$f":"陸連登録!C11","v":0},{"$f":"陸連登録!D11","v":0},{"$f":"陸連登録!E11","v":0},{"$f":"陸連登録!P11","v":0},{"$f":"陸連登録!F11","v":23},{"$f":"陸連登録!G11","v":"三重"},{"$f":"陸連登録!H11","v":0},{"$f":"陸連登録!I11","v":0},{"$f":"陸連登録!J11","v":0},{"$f":"陸連登録!K11","v":0},{"$f":"陸連登録!L11","v":0},{"$f":"陸連登録!N11","v":""}]
[{"$f":"陸連登録!M12","v":0},{"$f":"陸連登録!B12","v":0},{"$f":"陸連登録!C12","v":0},{"$f":"陸連登録!D12","v":0},{"$f":"陸連登録!E12","v":0},{"$f":"陸連登録!P12","v":0},{"$f":"陸連登録!F12","v":23},{"$f":"陸連登録!G12","v":"三重"},{"$f":"陸連登録!H12","v":0},{"$f":"陸連登録!I12","v":0},{"$f":"陸連登録!J12","v":0},{"$f":"陸連登録!K12","v":0},{"$f":"陸連登録!L12","v":0},{"$f":"陸連登録!N12","v":""}]
[{"$f":"陸連登録!M13","v":0},{"$f":"陸連登録!B13","v":0},{"$f":"陸連登録!C13","v":0},{"$f":"陸連登録!D13","v":0},{"$f":"陸連登録!E13","v":0},{"$f":"陸連登録!P13","v":0},{"$f":"陸連登録!F13","v":23},{"$f":"陸連登録!G13","v":"三重"},{"$f":"陸連登録!H13","v":0},{"$f":"陸連登録!I13","v":0},{"$f":"陸連登録!J13","v":0},{"$f":"陸連登録!K13","v":0},{"$f":"陸連登録!L13","v":0},{"$f":"陸連登録!N13","v":""}]
[{"$f":"陸連登録!M14","v":0},{"$f":"陸連登録!B14","v":0},{"$f":"陸連登録!C14","v":0},{"$f":"陸連登録!D14","v":0},{"$f":"陸連登録!E14","v":0},{"$f":"陸連登録!P14","v":0},{"$f":"陸連登録!F14","v":23},{"$f":"陸連登録!G14","v":"三重"},{"$f":"陸連登録!H14","v":0},{"$f":"陸連登録!I14","v":0},{"$f":"陸連登録!J14","v":0},{"$f":"陸連登録!K14","v":0},{"$f":"陸連登録!L14","v":0},{"$f":"陸連登録!N14","v":""}]
[{"$f":"陸連登録!M15","v":0},{"$f":"陸連登録!B15","v":0},{"$f":"陸連登録!C15","v":0},{"$f":"陸連登録!D15","v":0},{"$f":"陸連登録!E15","v":0},{"$f":"陸連登録!P15","v":0},{"$f":"陸連登録!F15","v":23},{"$f":"陸連登録!G15","v":"三重"},{"$f":"陸連登録!H15","v":0},{"$f":"陸連登録!I15","v":0},{"$f":"陸連登録!J15","v":0},{"$f":"陸連登録!K15","v":0},{"$f":"陸連登録!L15","v":0},{"$f":"陸連登録!N15","v":""}]
[{"$f":"陸連登録!M16","v":0},{"$f":"陸連登録!B16","v":0},{"$f":"陸連登録!C16","v":0},{"$f":"陸連登録!D16","v":0},{"$f":"陸連登録!E16","v":0},{"$f":"陸連登録!P16","v":0},{"$f":"陸連登録!F16","v":23},{"$f":"陸連登録!G16","v":"三重"},{"$f":"陸連登録!H16","v":0},{"$f":"陸連登録!I16","v":0},{"$f":"陸連登録!J16","v":0},{"$f":"陸連登録!K16","v":0},{"$f":"陸連登録!L16","v":0},{"$f":"陸連登録!N16","v":""}]
[{"$f":"陸連登録!M17","v":0},{"$f":"陸連登録!B17","v":0},{"$f":"陸連登録!C17","v":0},{"$f":"陸連登録!D17","v":0},{"$f":"陸連登録!E17","v":0},{"$f":"陸連登録!P17","v":0},{"$f":"陸連登録!F17","v":23},{"$f":"陸連登録!G17","v":"三重"},{"$f":"陸連登録!H17","v":0},{"$f":"陸連登録!I17","v":0},{"$f":"陸連登録!J17","v":0},{"$f":"陸連登録!K17","v":0},{"$f":"陸連登録!L17","v":0},{"$f":"陸連登録!N17","v":""}]
[{"$f":"陸連登録!M18","v":0},{"$f":"陸連登録!B18","v":0},{"$f":"陸連登録!C18","v":0},{"$f":"陸連登録!D18","v":0},{"$f":"陸連登録!E18","v":0},{"$f":"陸連登録!P18","v":0},{"$f":"陸連登録!F18","v":23},{"$f":"陸連登録!G18","v":"三重"},{"$f":"陸連登録!H18","v":0},{"$f":"陸連登録!I18","v":0},{"$f":"陸連登録!J18","v":0},{"$f":"陸連登録!K18","v":0},{"$f":"陸連登録!L18","v":0},{"$f":"陸連登録!N18","v":""}]
[{"$f":"陸連登録!M19","v":0},{"$f":"陸連登録!B19","v":0},{"$f":"陸連登録!C19","v":0},{"$f":"陸連登録!D19","v":0},{"$f":"陸連登録!E19","v":0},{"$f":"陸連登録!P19","v":0},{"$f":"陸連登録!F19","v":23},{"$f":"陸連登録!G19","v":"三重"},{"$f":"陸連登録!H19","v":0},{"$f":"陸連登録!I19","v":0},{"$f":"陸連登録!J19","v":0},{"$f":"陸連登録!K19","v":0},{"$f":"陸連登録!L19","v":0},{"$f":"陸連登録!N19","v":""}]
[{"$f":"陸連登録!M20","v":0},{"$f":"陸連登録!B20","v":0},{"$f":"陸連登録!C20","v":0},{"$f":"陸連登録!D20","v":0},{"$f":"陸連登録!E20","v":0},{"$f":"陸連登録!P20","v":0},{"$f":"陸連登録!F20","v":23},{"$f":"陸連登録!G20","v":"三重"},{"$f":"陸連登録!H20","v":0},{"$f":"陸連登録!I20","v":0},{"$f":"陸連登録!J20","v":0},{"$f":"陸連登録!K20","v":0},{"$f":"陸連登録!L20","v":0},{"$f":"陸連登録!N20","v":""}]
[{"$f":"陸連登録!M21","v":0},{"$f":"陸連登録!B21","v":0},{"$f":"陸連登録!C21","v":0},{"$f":"陸連登録!D21","v":0},{"$f":"陸連登録!E21","v":0},{"$f":"陸連登録!P21","v":0},{"$f":"陸連登録!F21","v":23},{"$f":"陸連登録!G21","v":"三重"},{"$f":"陸連登録!H21","v":0},{"$f":"陸連登録!I21","v":0},{"$f":"陸連登録!J21","v":0},{"$f":"陸連登録!K21","v":0},{"$f":"陸連登録!L21","v":0},{"$f":"陸連登録!N21","v":""}]
[{"$f":"陸連登録!M22","v":0},{"$f":"陸連登録!B22","v":0},{"$f":"陸連登録!C22","v":0},{"$f":"陸連登録!D22","v":0},{"$f":"陸連登録!E22","v":0},{"$f":"陸連登録!P22","v":0},{"$f":"陸連登録!F22","v":23},{"$f":"陸連登録!G22","v":"三重"},{"$f":"陸連登録!H22","v":0},{"$f":"陸連登録!I22","v":0},{"$f":"陸連登録!J22","v":0},{"$f":"陸連登録!K22","v":0},{"$f":"陸連登録!L22","v":0},{"$f":"陸連登録!N22","v":""}]
[{"$f":"陸連登録!M23","v":0},{"$f":"陸連登録!B23","v":0},{"$f":"陸連登録!C23","v":0},{"$f":"陸連登録!D23","v":0},{"$f":"陸連登録!E23","v":0},{"$f":"陸連登録!P23","v":0},{"$f":"陸連登録!F23","v":23},{"$f":"陸連登録!G23","v":"三重"},{"$f":"陸連登録!H23","v":0},{"$f":"陸連登録!I23","v":0},{"$f":"陸連登録!J23","v":0},{"$f":"陸連登録!K23","v":0},{"$f":"陸連登録!L23","v":0},{"$f":"陸連登録!N23","v":""}]
[{"$f":"陸連登録!M24","v":0},{"$f":"陸連登録!B24","v":0},{"$f":"陸連登録!C24","v":0},{"$f":"陸連登録!D24","v":0},{"$f":"陸連登録!E24","v":0},{"$f":"陸連登録!P24","v":0},{"$f":"陸連登録!F24","v":23},{"$f":"陸連登録!G24","v":"三重"},{"$f":"陸連登録!H24","v":0},{"$f":"陸連登録!I24","v":0},{"$f":"陸連登録!J24","v":0},{"$f":"陸連登録!K24","v":0},{"$f":"陸連登録!L24","v":0},{"$f":"陸連登録!N24","v":""}]
[{"$f":"陸連登録!M25","v":0},{"$f":"陸連登録!B25","v":0},{"$f":"陸連登録!C25","v":0},{"$f":"陸連登録!D25","v":0},{"$f":"陸連登録!E25","v":0},{"$f":"陸連登録!P25","v":0},{"$f":"陸連登録!F25","v":23},{"$f":"陸連登録!G25","v":"三重"},{"$f":"陸連登録!H25","v":0},{"$f":"陸連登録!I25","v":0},{"$f":"陸連登録!J25","v":0},{"$f":"陸連登録!K25","v":0},{"$f":"陸連登録!L25","v":0},{"$f":"陸連登録!N25","v":""}]
[{"$f":"陸連登録!M26","v":0},{"$f":"陸連登録!B26","v":0},{"$f":"陸連登録!C26","v":0},{"$f":"陸連登録!D26","v":0},{"$f":"陸連登録!E26","v":0},{"$f":"陸連登録!P26","v":0},{"$f":"陸連登録!F26","v":23},{"$f":"陸連登録!G26","v":"三重"},{"$f":"陸連登録!H26","v":0},{"$f":"陸連登録!I26","v":0},{"$f":"陸連登録!J26","v":0},{"$f":"陸連登録!K26","v":0},{"$f":"陸連登録!L26","v":0},{"$f":"陸連登録!N26","v":""}]
[{"$f":"陸連登録!M27","v":0},{"$f":"陸連登録!B27","v":0},{"$f":"陸連登録!C27","v":0},{"$f":"陸連登録!D27","v":0},{"$f":"陸連登録!E27","v":0},{"$f":"陸連登録!P27","v":0},{"$f":"陸連登録!F27","v":23},{"$f":"陸連登録!G27","v":"三重"},{"$f":"陸連登録!H27","v":0},{"$f":"陸連登録!I27","v":0},{"$f":"陸連登録!J27","v":0},{"$f":"陸連登録!K27","v":0},{"$f":"陸連登録!L27","v":0},{"$f":"陸連登録!N27","v":""}]
[{"$f":"陸連登録!M28","v":0},{"$f":"陸連登録!B28","v":0},{"$f":"陸連登録!C28","v":0},{"$f":"陸連登録!D28","v":0},{"$f":"陸連登録!E28","v":0},{"$f":"陸連登録!P28","v":0},{"$f":"陸連登録!F28","v":23},{"$f":"陸連登録!G28","v":"三重"},{"$f":"陸連登録!H28","v":0},{"$f":"陸連登録!I28","v":0},{"$f":"陸連登録!J28","v":0},{"$f":"陸連登録!K28","v":0},{"$f":"陸連登録!L28","v":0},{"$f":"陸連登録!N28","v":""}]
[{"$f":"陸連登録!M29","v":0},{"$f":"陸連登録!B29","v":0},{"$f":"陸連登録!C29","v":0},{"$f":"陸連登録!D29","v":0},{"$f":"陸連登録!E29","v":0},{"$f":"陸連登録!P29","v":0},{"$f":"陸連登録!F29","v":23},{"$f":"陸連登録!G29","v":"三重"},{"$f":"陸連登録!H29","v":0},{"$f":"陸連登録!I29","v":0},{"$f":"陸連登録!J29","v":0},{"$f":"陸連登録!K29","v":0},{"$f":"陸連登録!L29","v":0},{"$f":"陸連登録!N29","v":""}]
[{"$f":"陸連登録!M30","v":0},{"$f":"陸連登録!B30","v":0},{"$f":"陸連登録!C30","v":0},{"$f":"陸連登録!D30","v":0},{"$f":"陸連登録!E30","v":0},{"$f":"陸連登録!P30","v":0},{"$f":"陸連登録!F30","v":23},{"$f":"陸連登録!G30","v":"三重"},{"$f":"陸連登録!H30","v":0},{"$f":"陸連登録!I30","v":0},{"$f":"陸連登録!J30","v":0},{"$f":"陸連登録!K30","v":0},{"$f":"陸連登録!L30","v":0},{"$f":"陸連登録!N30","v":""}]
[{"$f":"陸連登録!M31","v":0},{"$f":"陸連登録!B31","v":0},{"$f":"陸連登録!C31","v":0},{"$f":"陸連登録!D31","v":0},{"$f":"陸連登録!E31","v":0},{"$f":"陸連登録!P31","v":0},{"$f":"陸連登録!F31","v":23},{"$f":"陸連登録!G31","v":"三重"},{"$f":"陸連登録!H31","v":0},{"$f":"陸連登録!I31","v":0},{"$f":"陸連登録!J31","v":0},{"$f":"陸連登録!K31","v":0},{"$f":"陸連登録!L31","v":0},{"$f":"陸連登録!N31","v":""}]
[{"$f":"陸連登録!M32","v":0},{"$f":"陸連登録!B32","v":0},{"$f":"陸連登録!C32","v":0},{"$f":"陸連登録!D32","v":0},{"$f":"陸連登録!E32","v":0},{"$f":"陸連登録!P32","v":0},{"$f":"陸連登録!F32","v":23},{"$f":"陸連登録!G32","v":"三重"},{"$f":"陸連登録!H32","v":0},{"$f":"陸連登録!I32","v":0},{"$f":"陸連登録!J32","v":0},{"$f":"陸連登録!K32","v":0},{"$f":"陸連登録!L32","v":0},{"$f":"陸連登録!N32","v":""}]
[{"$f":"陸連登録!M33","v":0},{"$f":"陸連登録!B33","v":0},{"$f":"陸連登録!C33","v":0},{"$f":"陸連登録!D33","v":0},{"$f":"陸連登録!E33","v":0},{"$f":"陸連登録!P33","v":0},{"$f":"陸連登録!F33","v":23},{"$f":"陸連登録!G33","v":"三重"},{"$f":"陸連登録!H33","v":0},{"$f":"陸連登録!I33","v":0},{"$f":"陸連登録!J33","v":0},{"$f":"陸連登録!K33","v":0},{"$f":"陸連登録!L33","v":0},{"$f":"陸連登録!N33","v":""}]
[{"$f":"陸連登録!M34","v":0},{"$f":"陸連登録!B34","v":0},{"$f":"陸連登録!C34","v":0},{"$f":"陸連登録!D34","v":0},{"$f":"陸連登録!E34","v":0},{"$f":"陸連登録!P34","v":0},{"$f":"陸連登録!F34","v":23},{"$f":"陸連登録!G34","v":"三重"},{"$f":"陸連登録!H34","v":0},{"$f":"陸連登録!I34","v":0},{"$f":"陸連登録!J34","v":0},{"$f":"陸連登録!K34","v":0},{"$f":"陸連登録!L34","v":0},{"$f":"陸連登録!N34","v":""}]
[{"$f":"陸連登録!M35","v":0},{"$f":"陸連登録!B35","v":0},{"$f":"陸連登録!C35","v":0},{"$f":"陸連登録!D35","v":0},{"$f":"陸連登録!E35","v":0},{"$f":"陸連登録!P35","v":0},{"$f":"陸連登録!F35","v":23},{"$f":"陸連登録!G35","v":"三重"},{"$f":"陸連登録!H35","v":0},{"$f":"陸連登録!I35","v":0},{"$f":"陸連登録!J35","v":0},{"$f":"陸連登録!K35","v":0},{"$f":"陸連登録!L35","v":0},{"$f":"陸連登録!N35","v":""}]
[{"$f":"陸連登録!M36","v":0},{"$f":"陸連登録!B36","v":0},{"$f":"陸連登録!C36","v":0},{"$f":"陸連登録!D36","v":0},{"$f":"陸連登録!E36","v":0},{"$f":"陸連登録!P36","v":0},{"$f":"陸連登録!F36","v":23},{"$f":"陸連登録!G36","v":"三重"},{"$f":"陸連登録!H36","v":0},{"$f":"陸連登録!I36","v":0},{"$f":"陸連登録!J36","v":0},{"$f":"陸連登録!K36","v":0},{"$f":"陸連登録!L36","v":0},{"$f":"陸連登録!N36","v":""}]
[{"$f":"陸連登録!M37","v":0},{"$f":"陸連登録!B37","v":0},{"$f":"陸連登録!C37","v":0},{"$f":"陸連登録!D37","v":0},{"$f":"陸連登録!E37","v":0},{"$f":"陸連登録!P37","v":0},{"$f":"陸連登録!F37","v":23},{"$f":"陸連登録!G37","v":"三重"},{"$f":"陸連登録!H37","v":0},{"$f":"陸連登録!I37","v":0},{"$f":"陸連登録!J37","v":0},{"$f":"陸連登録!K37","v":0},{"$f":"陸連登録!L37","v":0},{"$f":"陸連登録!N37","v":""}]
[{"$f":"陸連登録!M38","v":0},{"$f":"陸連登録!B38","v":0},{"$f":"陸連登録!C38","v":0},{"$f":"陸連登録!D38","v":0},{"$f":"陸連登録!E38","v":0},{"$f":"陸連登録!P38","v":0},{"$f":"陸連登録!F38","v":23},{"$f":"陸連登録!G38","v":"三重"},{"$f":"陸連登録!H38","v":0},{"$f":"陸連登録!I38","v":0},{"$f":"陸連登録!J38","v":0},{"$f":"陸連登録!K38","v":0},{"$f":"陸連登録!L38","v":0},{"$f":"陸連登録!N38","v":""}]
[{"$f":"陸連登録!M39","v":0},{"$f":"陸連登録!B39","v":0},{"$f":"陸連登録!C39","v":0},{"$f":"陸連登録!D39","v":0},{"$f":"陸連登録!E39","v":0},{"$f":"陸連登録!P39","v":0},{"$f":"陸連登録!F39","v":23},{"$f":"陸連登録!G39","v":"三重"},{"$f":"陸連登録!H39","v":0},{"$f":"陸連登録!I39","v":0},{"$f":"陸連登録!J39","v":0},{"$f":"陸連登録!K39","v":0},{"$f":"陸連登録!L39","v":0},{"$f":"陸連登録!N39","v":""}]
[{"$f":"陸連登録!M40","v":0},{"$f":"陸連登録!B40","v":0},{"$f":"陸連登録!C40","v":0},{"$f":"陸連登録!D40","v":0},{"$f":"陸連登録!E40","v":0},{"$f":"陸連登録!P40","v":0},{"$f":"陸連登録!F40","v":23},{"$f":"陸連登録!G40","v":"三重"},{"$f":"陸連登録!H40","v":0},{"$f":"陸連登録!I40","v":0},{"$f":"陸連登録!J40","v":0},{"$f":"陸連登録!K40","v":0},{"$f":"陸連登録!L40","v":0},{"$f":"陸連登録!N40","v":""}]
[{"$f":"陸連登録!M41","v":0},{"$f":"陸連登録!B41","v":0},{"$f":"陸連登録!C41","v":0},{"$f":"陸連登録!D41","v":0},{"$f":"陸連登録!E41","v":0},{"$f":"陸連登録!P41","v":0},{"$f":"陸連登録!F41","v":23},{"$f":"陸連登録!G41","v":"三重"},{"$f":"陸連登録!H41","v":0},{"$f":"陸連登録!I41","v":0},{"$f":"陸連登録!J41","v":0},{"$f":"陸連登録!K41","v":0},{"$f":"陸連登録!L41","v":0},{"$f":"陸連登録!N41","v":""}]
[{"$f":"陸連登録!M42","v":0},{"$f":"陸連登録!B42","v":0},{"$f":"陸連登録!C42","v":0},{"$f":"陸連登録!D42","v":0},{"$f":"陸連登録!E42","v":0},{"$f":"陸連登録!P42","v":0},{"$f":"陸連登録!F42","v":23},{"$f":"陸連登録!G42","v":"三重"},{"$f":"陸連登録!H42","v":0},{"$f":"陸連登録!I42","v":0},{"$f":"陸連登録!J42","v":0},{"$f":"陸連登録!K42","v":0},{"$f":"陸連登録!L42","v":0},{"$f":"陸連登録!N42","v":""}]
[{"$f":"陸連登録!M43","v":0},{"$f":"陸連登録!B43","v":0},{"$f":"陸連登録!C43","v":0},{"$f":"陸連登録!D43","v":0},{"$f":"陸連登録!E43","v":0},{"$f":"陸連登録!P43","v":0},{"$f":"陸連登録!F43","v":23},{"$f":"陸連登録!G43","v":"三重"},{"$f":"陸連登録!H43","v":0},{"$f":"陸連登録!I43","v":0},{"$f":"陸連登録!J43","v":0},{"$f":"陸連登録!K43","v":0},{"$f":"陸連登録!L43","v":0},{"$f":"陸連登録!N43","v":""}]
[{"$f":"陸連登録!M44","v":0},{"$f":"陸連登録!B44","v":0},{"$f":"陸連登録!C44","v":0},{"$f":"陸連登録!D44","v":0},{"$f":"陸連登録!E44","v":0},{"$f":"陸連登録!P44","v":0},{"$f":"陸連登録!F44","v":23},{"$f":"陸連登録!G44","v":"三重"},{"$f":"陸連登録!H44","v":0},{"$f":"陸連登録!I44","v":0},{"$f":"陸連登録!J44","v":0},{"$f":"陸連登録!K44","v":0},{"$f":"陸連登録!L44","v":0},{"$f":"陸連登録!N44","v":""}]
[{"$f":"陸連登録!M45","v":0},{"$f":"陸連登録!B45","v":0},{"$f":"陸連登録!C45","v":0},{"$f":"陸連登録!D45","v":0},{"$f":"陸連登録!E45","v":0},{"$f":"陸連登録!P45","v":0},{"$f":"陸連登録!F45","v":23},{"$f":"陸連登録!G45","v":"三重"},{"$f":"陸連登録!H45","v":0},{"$f":"陸連登録!I45","v":0},{"$f":"陸連登録!J45","v":0},{"$f":"陸連登録!K45","v":0},{"$f":"陸連登録!L45","v":0},{"$f":"陸連登録!N45","v":""}]
[{"$f":"陸連登録!M46","v":0},{"$f":"陸連登録!B46","v":0},{"$f":"陸連登録!C46","v":0},{"$f":"陸連登録!D46","v":0},{"$f":"陸連登録!E46","v":0},{"$f":"陸連登録!P46","v":0},{"$f":"陸連登録!F46","v":23},{"$f":"陸連登録!G46","v":"三重"},{"$f":"陸連登録!H46","v":0},{"$f":"陸連登録!I46","v":0},{"$f":"陸連登録!J46","v":0},{"$f":"陸連登録!K46","v":0},{"$f":"陸連登録!L46","v":0},{"$f":"陸連登録!N46","v":""}]
[{"$f":"陸連登録!M47","v":0},{"$f":"陸連登録!B47","v":0},{"$f":"陸連登録!C47","v":0},{"$f":"陸連登録!D47","v":0},{"$f":"陸連登録!E47","v":0},{"$f":"陸連登録!P47","v":0},{"$f":"陸連登録!F47","v":23},{"$f":"陸連登録!G47","v":"三重"},{"$f":"陸連登録!H47","v":0},{"$f":"陸連登録!I47","v":0},{"$f":"陸連登録!J47","v":0},{"$f":"陸連登録!K47","v":0},{"$f":"陸連登録!L47","v":0},{"$f":"陸連登録!N47","v":""}]
[{"$f":"陸連登録!M48","v":0},{"$f":"陸連登録!B48","v":0},{"$f":"陸連登録!C48","v":0},{"$f":"陸連登録!D48","v":0},{"$f":"陸連登録!E48","v":0},{"$f":"陸連登録!P48","v":0},{"$f":"陸連登録!F48","v":23},{"$f":"陸連登録!G48","v":"三重"},{"$f":"陸連登録!H48","v":0},{"$f":"陸連登録!I48","v":0},{"$f":"陸連登録!J48","v":0},{"$f":"陸連登録!K48","v":0},{"$f":"陸連登録!L48","v":0},{"$f":"陸連登録!N48","v":""}]
[{"$f":"陸連登録!M49","v":0},{"$f":"陸連登録!B49","v":0},{"$f":"陸連登録!C49","v":0},{"$f":"陸連登録!D49","v":0},{"$f":"陸連登録!E49","v":0},{"$f":"陸連登録!P49","v":0},{"$f":"陸連登録!F49","v":23},{"$f":"陸連登録!G49","v":"三重"},{"$f":"陸連登録!H49","v":0},{"$f":"陸連登録!I49","v":0},{"$f":"陸連登録!J49","v":0},{"$f":"陸連登録!K49","v":0},{"$f":"陸連登録!L49","v":0},{"$f":"陸連登録!N49","v":""}]
[{"$f":"陸連登録!M50","v":0},{"$f":"陸連登録!B50","v":0},{"$f":"陸連登録!C50","v":0},{"$f":"陸連登録!D50","v":0},{"$f":"陸連登録!E50","v":0},{"$f":"陸連登録!P50","v":0},{"$f":"陸連登録!F50","v":23},{"$f":"陸連登録!G50","v":"三重"},{"$f":"陸連登録!H50","v":0},{"$f":"陸連登録!I50","v":0},{"$f":"陸連登録!J50","v":0},{"$f":"陸連登録!K50","v":0},{"$f":"陸連登録!L50","v":0},{"$f":"陸連登録!N50","v":""}]
[{"$f":"陸連登録!M51","v":0},{"$f":"陸連登録!B51","v":0},{"$f":"陸連登録!C51","v":0},{"$f":"陸連登録!D51","v":0},{"$f":"陸連登録!E51","v":0},{"$f":"陸連登録!P51","v":0},{"$f":"陸連登録!F51","v":23},{"$f":"陸連登録!G51","v":"三重"},{"$f":"陸連登録!H51","v":0},{"$f":"陸連登録!I51","v":0},{"$f":"陸連登録!J51","v":0},{"$f":"陸連登録!K51","v":0},{"$f":"陸連登録!L51","v":0},{"$f":"陸連登録!N51","v":""}]
[{"$f":"陸連登録!M52","v":0},{"$f":"陸連登録!B52","v":0},{"$f":"陸連登録!C52","v":0},{"$f":"陸連登録!D52","v":0},{"$f":"陸連登録!E52","v":0},{"$f":"陸連登録!P52","v":0},{"$f":"陸連登録!F52","v":23},{"$f":"陸連登録!G52","v":"三重"},{"$f":"陸連登録!H52","v":0},{"$f":"陸連登録!I52","v":0},{"$f":"陸連登録!J52","v":0},{"$f":"陸連登録!K52","v":0},{"$f":"陸連登録!L52","v":0},{"$f":"陸連登録!N52","v":""}]
[{"$f":"陸連登録!M53","v":0},{"$f":"陸連登録!B53","v":0},{"$f":"陸連登録!C53","v":0},{"$f":"陸連登録!D53","v":0},{"$f":"陸連登録!E53","v":0},{"$f":"陸連登録!P53","v":0},{"$f":"陸連登録!F53","v":23},{"$f":"陸連登録!G53","v":"三重"},{"$f":"陸連登録!H53","v":0},{"$f":"陸連登録!I53","v":0},{"$f":"陸連登録!J53","v":0},{"$f":"陸連登録!K53","v":0},{"$f":"陸連登録!L53","v":0},{"$f":"陸連登録!N53","v":""}]
[{"$f":"陸連登録!M54","v":0},{"$f":"陸連登録!B54","v":0},{"$f":"陸連登録!C54","v":0},{"$f":"陸連登録!D54","v":0},{"$f":"陸連登録!E54","v":0},{"$f":"陸連登録!P54","v":0},{"$f":"陸連登録!F54","v":23},{"$f":"陸連登録!G54","v":"三重"},{"$f":"陸連登録!H54","v":0},{"$f":"陸連登録!I54","v":0},{"$f":"陸連登録!J54","v":0},{"$f":"陸連登録!K54","v":0},{"$f":"陸連登録!L54","v":0},{"$f":"陸連登録!N54","v":""}]
[{"$f":"陸連登録!M55","v":0},{"$f":"陸連登録!B55","v":0},{"$f":"陸連登録!C55","v":0},{"$f":"陸連登録!D55","v":0},{"$f":"陸連登録!E55","v":0},{"$f":"陸連登録!P55","v":0},{"$f":"陸連登録!F55","v":23},{"$f":"陸連登録!G55","v":"三重"},{"$f":"陸連登録!H55","v":0},{"$f":"陸連登録!I55","v":0},{"$f":"陸連登録!J55","v":0},{"$f":"陸連登録!K55","v":0},{"$f":"陸連登録!L55","v":0},{"$f":"陸連登録!N55","v":""}]
[{"$f":"陸連登録!M56","v":0},{"$f":"陸連登録!B56","v":0},{"$f":"陸連登録!C56","v":0},{"$f":"陸連登録!D56","v":0},{"$f":"陸連登録!E56","v":0},{"$f":"陸連登録!P56","v":0},{"$f":"陸連登録!F56","v":23},{"$f":"陸連登録!G56","v":"三重"},{"$f":"陸連登録!H56","v":0},{"$f":"陸連登録!I56","v":0},{"$f":"陸連登録!J56","v":0},{"$f":"陸連登録!K56","v":0},{"$f":"陸連登録!L56","v":0},{"$f":"陸連登録!N56","v":""}]
[{"$f":"陸連登録!M57","v":0},{"$f":"陸連登録!B57","v":0},{"$f":"陸連登録!C57","v":0},{"$f":"陸連登録!D57","v":0},{"$f":"陸連登録!E57","v":0},{"$f":"陸連登録!P57","v":0},{"$f":"陸連登録!F57","v":23},{"$f":"陸連登録!G57","v":"三重"},{"$f":"陸連登録!H57","v":0},{"$f":"陸連登録!I57","v":0},{"$f":"陸連登録!J57","v":0},{"$f":"陸連登録!K57","v":0},{"$f":"陸連登録!L57","v":0},{"$f":"陸連登録!N57","v":""}]
[{"$f":"陸連登録!M58","v":0},{"$f":"陸連登録!B58","v":0},{"$f":"陸連登録!C58","v":0},{"$f":"陸連登録!D58","v":0},{"$f":"陸連登録!E58","v":0},{"$f":"陸連登録!P58","v":0},{"$f":"陸連登録!F58","v":23},{"$f":"陸連登録!G58","v":"三重"},{"$f":"陸連登録!H58","v":0},{"$f":"陸連登録!I58","v":0},{"$f":"陸連登録!J58","v":0},{"$f":"陸連登録!K58","v":0},{"$f":"陸連登録!L58","v":0},{"$f":"陸連登録!N58","v":""}]
[{"$f":"陸連登録!M59","v":0},{"$f":"陸連登録!B59","v":0},{"$f":"陸連登録!C59","v":0},{"$f":"陸連登録!D59","v":0},{"$f":"陸連登録!E59","v":0},{"$f":"陸連登録!P59","v":0},{"$f":"陸連登録!F59","v":23},{"$f":"陸連登録!G59","v":"三重"},{"$f":"陸連登録!H59","v":0},{"$f":"陸連登録!I59","v":0},{"$f":"陸連登録!J59","v":0},{"$f":"陸連登録!K59","v":0},{"$f":"陸連登録!L59","v":0},{"$f":"陸連登録!N59","v":""}]
[{"$f":"陸連登録!M60","v":0},{"$f":"陸連登録!B60","v":0},{"$f":"陸連登録!C60","v":0},{"$f":"陸連登録!D60","v":0},{"$f":"陸連登録!E60","v":0},{"$f":"陸連登録!P60","v":0},{"$f":"陸連登録!F60","v":23},{"$f":"陸連登録!G60","v":"三重"},{"$f":"陸連登録!H60","v":0},{"$f":"陸連登録!I60","v":0},{"$f":"陸連登録!J60","v":0},{"$f":"陸連登録!K60","v":0},{"$f":"陸連登録!L60","v":0},{"$f":"陸連登録!N60","v":""}]
[{"$f":"陸連登録!M61","v":0},{"$f":"陸連登録!B61","v":0},{"$f":"陸連登録!C61","v":0},{"$f":"陸連登録!D61","v":0},{"$f":"陸連登録!E61","v":0},{"$f":"陸連登録!P61","v":0},{"$f":"陸連登録!F61","v":23},{"$f":"陸連登録!G61","v":"三重"},{"$f":"陸連登録!H61","v":0},{"$f":"陸連登録!I61","v":0},{"$f":"陸連登録!J61","v":0},{"$f":"陸連登録!K61","v":0},{"$f":"陸連登録!L61","v":0},{"$f":"陸連登録!N61","v":""}]
[{"$f":"陸連登録!M62","v":0},{"$f":"陸連登録!B62","v":0},{"$f":"陸連登録!C62","v":0},{"$f":"陸連登録!D62","v":0},{"$f":"陸連登録!E62","v":0},{"$f":"陸連登録!P62","v":0},{"$f":"陸連登録!F62","v":23},{"$f":"陸連登録!G62","v":"三重"},{"$f":"陸連登録!H62","v":0},{"$f":"陸連登録!I62","v":0},{"$f":"陸連登録!J62","v":0},{"$f":"陸連登録!K62","v":0},{"$f":"陸連登録!L62","v":0},{"$f":"陸連登録!N62","v":""}]
[{"$f":"陸連登録!M63","v":0},{"$f":"陸連登録!B63","v":0},{"$f":"陸連登録!C63","v":0},{"$f":"陸連登録!D63","v":0},{"$f":"陸連登録!E63","v":0},{"$f":"陸連登録!P63","v":0},{"$f":"陸連登録!F63","v":23},{"$f":"陸連登録!G63","v":"三重"},{"$f":"陸連登録!H63","v":0},{"$f":"陸連登録!I63","v":0},{"$f":"陸連登録!J63","v":0},{"$f":"陸連登録!K63","v":0},{"$f":"陸連登録!L63","v":0},{"$f":"陸連登録!N63","v":""}]
[{"$f":"陸連登録!M64","v":0},{"$f":"陸連登録!B64","v":0},{"$f":"陸連登録!C64","v":0},{"$f":"陸連登録!D64","v":0},{"$f":"陸連登録!E64","v":0},{"$f":"陸連登録!P64","v":0},{"$f":"陸連登録!F64","v":23},{"$f":"陸連登録!G64","v":"三重"},{"$f":"陸連登録!H64","v":0},{"$f":"陸連登録!I64","v":0},{"$f":"陸連登録!J64","v":0},{"$f":"陸連登録!K64","v":0},{"$f":"陸連登録!L64","v":0},{"$f":"陸連登録!N64","v":""}]
[{"$f":"陸連登録!M65","v":0},{"$f":"陸連登録!B65","v":0},{"$f":"陸連登録!C65","v":0},{"$f":"陸連登録!D65","v":0},{"$f":"陸連登録!E65","v":0},{"$f":"陸連登録!P65","v":0},{"$f":"陸連登録!F65","v":23},{"$f":"陸連登録!G65","v":"三重"},{"$f":"陸連登録!H65","v":0},{"$f":"陸連登録!I65","v":0},{"$f":"陸連登録!J65","v":0},{"$f":"陸連登録!K65","v":0},{"$f":"陸連登録!L65","v":0},{"$f":"陸連登録!N65","v":""}]
[{"$f":"陸連登録!M66","v":0},{"$f":"陸連登録!B66","v":0},{"$f":"陸連登録!C66","v":0},{"$f":"陸連登録!D66","v":0},{"$f":"陸連登録!E66","v":0},{"$f":"陸連登録!P66","v":0},{"$f":"陸連登録!F66","v":23},{"$f":"陸連登録!G66","v":"三重"},{"$f":"陸連登録!H66","v":0},{"$f":"陸連登録!I66","v":0},{"$f":"陸連登録!J66","v":0},{"$f":"陸連登録!K66","v":0},{"$f":"陸連登録!L66","v":0},{"$f":"陸連登録!N66","v":""}]
[{"$f":"陸連登録!M67","v":0},{"$f":"陸連登録!B67","v":0},{"$f":"陸連登録!C67","v":0},{"$f":"陸連登録!D67","v":0},{"$f":"陸連登録!E67","v":0},{"$f":"陸連登録!P67","v":0},{"$f":"陸連登録!F67","v":23},{"$f":"陸連登録!G67","v":"三重"},{"$f":"陸連登録!H67","v":0},{"$f":"陸連登録!I67","v":0},{"$f":"陸連登録!J67","v":0},{"$f":"陸連登録!K67","v":0},{"$f":"陸連登録!L67","v":0},{"$f":"陸連登録!N67","v":""}]
[{"$f":"陸連登録!M68","v":0},{"$f":"陸連登録!B68","v":0},{"$f":"陸連登録!C68","v":0},{"$f":"陸連登録!D68","v":0},{"$f":"陸連登録!E68","v":0},{"$f":"陸連登録!P68","v":0},{"$f":"陸連登録!F68","v":23},{"$f":"陸連登録!G68","v":"三重"},{"$f":"陸連登録!H68","v":0},{"$f":"陸連登録!I68","v":0},{"$f":"陸連登録!J68","v":0},{"$f":"陸連登録!K68","v":0},{"$f":"陸連登録!L68","v":0},{"$f":"陸連登録!N68","v":""}]
[{"$f":"陸連登録!M69","v":0},{"$f":"陸連登録!B69","v":0},{"$f":"陸連登録!C69","v":0},{"$f":"陸連登録!D69","v":0},{"$f":"陸連登録!E69","v":0},{"$f":"陸連登録!P69","v":0},{"$f":"陸連登録!F69","v":23},{"$f":"陸連登録!G69","v":"三重"},{"$f":"陸連登録!H69","v":0},{"$f":"陸連登録!I69","v":0},{"$f":"陸連登録!J69","v":0},{"$f":"陸連登録!K69","v":0},{"$f":"陸連登録!L69","v":0},{"$f":"陸連登録!N69","v":""}]
[{"$f":"陸連登録!M70","v":0},{"$f":"陸連登録!B70","v":0},{"$f":"陸連登録!C70","v":0},{"$f":"陸連登録!D70","v":0},{"$f":"陸連登録!E70","v":0},{"$f":"陸連登録!P70","v":0},{"$f":"陸連登録!F70","v":23},{"$f":"陸連登録!G70","v":"三重"},{"$f":"陸連登録!H70","v":0},{"$f":"陸連登録!I70","v":0},{"$f":"陸連登録!J70","v":0},{"$f":"陸連登録!K70","v":0},{"$f":"陸連登録!L70","v":0},{"$f":"陸連登録!N70","v":""}]
[{"$f":"陸連登録!M71","v":0},{"$f":"陸連登録!B71","v":0},{"$f":"陸連登録!C71","v":0},{"$f":"陸連登録!D71","v":0},{"$f":"陸連登録!E71","v":0},{"$f":"陸連登録!P71","v":0},{"$f":"陸連登録!F71","v":23},{"$f":"陸連登録!G71","v":"三重"},{"$f":"陸連登録!H71","v":0},{"$f":"陸連登録!I71","v":0},{"$f":"陸連登録!J71","v":0},{"$f":"陸連登録!K71","v":0},{"$f":"陸連登録!L71","v":0},{"$f":"陸連登録!N71","v":""}]
[{"$f":"陸連登録!M72","v":0},{"$f":"陸連登録!B72","v":0},{"$f":"陸連登録!C72","v":0},{"$f":"陸連登録!D72","v":0},{"$f":"陸連登録!E72","v":0},{"$f":"陸連登録!P72","v":0},{"$f":"陸連登録!F72","v":23},{"$f":"陸連登録!G72","v":"三重"},{"$f":"陸連登録!H72","v":0},{"$f":"陸連登録!I72","v":0},{"$f":"陸連登録!J72","v":0},{"$f":"陸連登録!K72","v":0},{"$f":"陸連登録!L72","v":0},{"$f":"陸連登録!N72","v":""}]
[{"$f":"陸連登録!M73","v":0},{"$f":"陸連登録!B73","v":0},{"$f":"陸連登録!C73","v":0},{"$f":"陸連登録!D73","v":0},{"$f":"陸連登録!E73","v":0},{"$f":"陸連登録!P73","v":0},{"$f":"陸連登録!F73","v":23},{"$f":"陸連登録!G73","v":"三重"},{"$f":"陸連登録!H73","v":0},{"$f":"陸連登録!I73","v":0},{"$f":"陸連登録!J73","v":0},{"$f":"陸連登録!K73","v":0},{"$f":"陸連登録!L73","v":0},{"$f":"陸連登録!N73","v":""}]
[{"$f":"陸連登録!M74","v":0},{"$f":"陸連登録!B74","v":0},{"$f":"陸連登録!C74","v":0},{"$f":"陸連登録!D74","v":0},{"$f":"陸連登録!E74","v":0},{"$f":"陸連登録!P74","v":0},{"$f":"陸連登録!F74","v":23},{"$f":"陸連登録!G74","v":"三重"},{"$f":"陸連登録!H74","v":0},{"$f":"陸連登録!I74","v":0},{"$f":"陸連登録!J74","v":0},{"$f":"陸連登録!K74","v":0},{"$f":"陸連登録!L74","v":0},{"$f":"陸連登録!N74","v":""}]
[{"$f":"陸連登録!M75","v":0},{"$f":"陸連登録!B75","v":0},{"$f":"陸連登録!C75","v":0},{"$f":"陸連登録!D75","v":0},{"$f":"陸連登録!E75","v":0},{"$f":"陸連登録!P75","v":0},{"$f":"陸連登録!F75","v":23},{"$f":"陸連登録!G75","v":"三重"},{"$f":"陸連登録!H75","v":0},{"$f":"陸連登録!I75","v":0},{"$f":"陸連登録!J75","v":0},{"$f":"陸連登録!K75","v":0},{"$f":"陸連登録!L75","v":0},{"$f":"陸連登録!N75","v":""}]
[{"$f":"陸連登録!M76","v":0},{"$f":"陸連登録!B76","v":0},{"$f":"陸連登録!C76","v":0},{"$f":"陸連登録!D76","v":0},{"$f":"陸連登録!E76","v":0},{"$f":"陸連登録!P76","v":0},{"$f":"陸連登録!F76","v":23},{"$f":"陸連登録!G76","v":"三重"},{"$f":"陸連登録!H76","v":0},{"$f":"陸連登録!I76","v":0},{"$f":"陸連登録!J76","v":0},{"$f":"陸連登録!K76","v":0},{"$f":"陸連登録!L76","v":0},{"$f":"陸連登録!N76","v":""}]
[{"$f":"陸連登録!M77","v":0},{"$f":"陸連登録!B77","v":0},{"$f":"陸連登録!C77","v":0},{"$f":"陸連登録!D77","v":0},{"$f":"陸連登録!E77","v":0},{"$f":"陸連登録!P77","v":0},{"$f":"陸連登録!F77","v":23},{"$f":"陸連登録!G77","v":"三重"},{"$f":"陸連登録!H77","v":0},{"$f":"陸連登録!I77","v":0},{"$f":"陸連登録!J77","v":0},{"$f":"陸連登録!K77","v":0},{"$f":"陸連登録!L77","v":0},{"$f":"陸連登録!N77","v":""}]
[{"$f":"陸連登録!M78","v":0},{"$f":"陸連登録!B78","v":0},{"$f":"陸連登録!C78","v":0},{"$f":"陸連登録!D78","v":0},{"$f":"陸連登録!E78","v":0},{"$f":"陸連登録!P78","v":0},{"$f":"陸連登録!F78","v":23},{"$f":"陸連登録!G78","v":"三重"},{"$f":"陸連登録!H78","v":0},{"$f":"陸連登録!I78","v":0},{"$f":"陸連登録!J78","v":0},{"$f":"陸連登録!K78","v":0},{"$f":"陸連登録!L78","v":0},{"$f":"陸連登録!N78","v":""}]
[{"$f":"陸連登録!M79","v":0},{"$f":"陸連登録!B79","v":0},{"$f":"陸連登録!C79","v":0},{"$f":"陸連登録!D79","v":0},{"$f":"陸連登録!E79","v":0},{"$f":"陸連登録!P79","v":0},{"$f":"陸連登録!F79","v":23},{"$f":"陸連登録!G79","v":"三重"},{"$f":"陸連登録!H79","v":0},{"$f":"陸連登録!I79","v":0},{"$f":"陸連登録!J79","v":0},{"$f":"陸連登録!K79","v":0},{"$f":"陸連登録!L79","v":0},{"$f":"陸連登録!N79","v":""}]
[{"$f":"陸連登録!M80","v":0},{"$f":"陸連登録!B80","v":0},{"$f":"陸連登録!C80","v":0},{"$f":"陸連登録!D80","v":0},{"$f":"陸連登録!E80","v":0},{"$f":"陸連登録!P80","v":0},{"$f":"陸連登録!F80","v":23},{"$f":"陸連登録!G80","v":"三重"},{"$f":"陸連登録!H80","v":0},{"$f":"陸連登録!I80","v":0},{"$f":"陸連登録!J80","v":0},{"$f":"陸連登録!K80","v":0},{"$f":"陸連登録!L80","v":0},{"$f":"陸連登録!N80","v":""}]
[{"$f":"陸連登録!M81","v":0},{"$f":"陸連登録!B81","v":0},{"$f":"陸連登録!C81","v":0},{"$f":"陸連登録!D81","v":0},{"$f":"陸連登録!E81","v":0},{"$f":"陸連登録!P81","v":0},{"$f":"陸連登録!F81","v":23},{"$f":"陸連登録!G81","v":"三重"},{"$f":"陸連登録!H81","v":0},{"$f":"陸連登録!I81","v":0},{"$f":"陸連登録!J81","v":0},{"$f":"陸連登録!K81","v":0},{"$f":"陸連登録!L81","v":0},{"$f":"陸連登録!N81","v":""}]
[{"$f":"陸連登録!M82","v":0},{"$f":"陸連登録!B82","v":0},{"$f":"陸連登録!C82","v":0},{"$f":"陸連登録!D82","v":0},{"$f":"陸連登録!E82","v":0},{"$f":"陸連登録!P82","v":0},{"$f":"陸連登録!F82","v":23},{"$f":"陸連登録!G82","v":"三重"},{"$f":"陸連登録!H82","v":0},{"$f":"陸連登録!I82","v":0},{"$f":"陸連登録!J82","v":0},{"$f":"陸連登録!K82","v":0},{"$f":"陸連登録!L82","v":0},{"$f":"陸連登録!N82","v":""}]
[{"$f":"陸連登録!M83","v":0},{"$f":"陸連登録!B83","v":0},{"$f":"陸連登録!C83","v":0},{"$f":"陸連登録!D83","v":0},{"$f":"陸連登録!E83","v":0},{"$f":"陸連登録!P83","v":0},{"$f":"陸連登録!F83","v":23},{"$f":"陸連登録!G83","v":"三重"},{"$f":"陸連登録!H83","v":0},{"$f":"陸連登録!I83","v":0},{"$f":"陸連登録!J83","v":0},{"$f":"陸連登録!K83","v":0},{"$f":"陸連登録!L83","v":0},{"$f":"陸連登録!N83","v":""}]
[{"$f":"陸連登録!M84","v":0},{"$f":"陸連登録!B84","v":0},{"$f":"陸連登録!C84","v":0},{"$f":"陸連登録!D84","v":0},{"$f":"陸連登録!E84","v":0},{"$f":"陸連登録!P84","v":0},{"$f":"陸連登録!F84","v":23},{"$f":"陸連登録!G84","v":"三重"},{"$f":"陸連登録!H84","v":0},{"$f":"陸連登録!I84","v":0},{"$f":"陸連登録!J84","v":0},{"$f":"陸連登録!K84","v":0},{"$f":"陸連登録!L84","v":0},{"$f":"陸連登録!N84","v":""}]
[{"$f":"陸連登録!M85","v":0},{"$f":"陸連登録!B85","v":0},{"$f":"陸連登録!C85","v":0},{"$f":"陸連登録!D85","v":0},{"$f":"陸連登録!E85","v":0},{"$f":"陸連登録!P85","v":0},{"$f":"陸連登録!F85","v":23},{"$f":"陸連登録!G85","v":"三重"},{"$f":"陸連登録!H85","v":0},{"$f":"陸連登録!I85","v":0},{"$f":"陸連登録!J85","v":0},{"$f":"陸連登録!K85","v":0},{"$f":"陸連登録!L85","v":0},{"$f":"陸連登録!N85","v":""}]
[{"$f":"陸連登録!M86","v":0},{"$f":"陸連登録!B86","v":0},{"$f":"陸連登録!C86","v":0},{"$f":"陸連登録!D86","v":0},{"$f":"陸連登録!E86","v":0},{"$f":"陸連登録!P86","v":0},{"$f":"陸連登録!F86","v":23},{"$f":"陸連登録!G86","v":"三重"},{"$f":"陸連登録!H86","v":0},{"$f":"陸連登録!I86","v":0},{"$f":"陸連登録!J86","v":0},{"$f":"陸連登録!K86","v":0},{"$f":"陸連登録!L86","v":0},{"$f":"陸連登録!N86","v":""}]
[{"$f":"陸連登録!M87","v":0},{"$f":"陸連登録!B87","v":0},{"$f":"陸連登録!C87","v":0},{"$f":"陸連登録!D87","v":0},{"$f":"陸連登録!E87","v":0},{"$f":"陸連登録!P87","v":0},{"$f":"陸連登録!F87","v":23},{"$f":"陸連登録!G87","v":"三重"},{"$f":"陸連登録!H87","v":0},{"$f":"陸連登録!I87","v":0},{"$f":"陸連登録!J87","v":0},{"$f":"陸連登録!K87","v":0},{"$f":"陸連登録!L87","v":0},{"$f":"陸連登録!N87","v":""}]
[{"$f":"陸連登録!M88","v":0},{"$f":"陸連登録!B88","v":0},{"$f":"陸連登録!C88","v":0},{"$f":"陸連登録!D88","v":0},{"$f":"陸連登録!E88","v":0},{"$f":"陸連登録!P88","v":0},{"$f":"陸連登録!F88","v":23},{"$f":"陸連登録!G88","v":"三重"},{"$f":"陸連登録!H88","v":0},{"$f":"陸連登録!I88","v":0},{"$f":"陸連登録!J88","v":0},{"$f":"陸連登録!K88","v":0},{"$f":"陸連登録!L88","v":0},{"$f":"陸連登録!N88","v":""}]
[{"$f":"陸連登録!M89","v":0},{"$f":"陸連登録!B89","v":0},{"$f":"陸連登録!C89","v":0},{"$f":"陸連登録!D89","v":0},{"$f":"陸連登録!E89","v":0},{"$f":"陸連登録!P89","v":0},{"$f":"陸連登録!F89","v":23},{"$f":"陸連登録!G89","v":"三重"},{"$f":"陸連登録!H89","v":0},{"$f":"陸連登録!I89","v":0},{"$f":"陸連登録!J89","v":0},{"$f":"陸連登録!K89","v":0},{"$f":"陸連登録!L89","v":0},{"$f":"陸連登録!N89","v":""}]
[{"$f":"陸連登録!M90","v":0},{"$f":"陸連登録!B90","v":0},{"$f":"陸連登録!C90","v":0},{"$f":"陸連登録!D90","v":0},{"$f":"陸連登録!E90","v":0},{"$f":"陸連登録!P90","v":0},{"$f":"陸連登録!F90","v":23},{"$f":"陸連登録!G90","v":"三重"},{"$f":"陸連登録!H90","v":0},{"$f":"陸連登録!I90","v":0},{"$f":"陸連登録!J90","v":0},{"$f":"陸連登録!K90","v":0},{"$f":"陸連登録!L90","v":0},{"$f":"陸連登録!N90","v":""}]
[{"$f":"陸連登録!M91","v":0},{"$f":"陸連登録!B91","v":0},{"$f":"陸連登録!C91","v":0},{"$f":"陸連登録!D91","v":0},{"$f":"陸連登録!E91","v":0},{"$f":"陸連登録!P91","v":0},{"$f":"陸連登録!F91","v":23},{"$f":"陸連登録!G91","v":"三重"},{"$f":"陸連登録!H91","v":0},{"$f":"陸連登録!I91","v":0},{"$f":"陸連登録!J91","v":0},{"$f":"陸連登録!K91","v":0},{"$f":"陸連登録!L91","v":0},{"$f":"陸連登録!N91","v":""}]
[{"$f":"陸連登録!M92","v":0},{"$f":"陸連登録!B92","v":0},{"$f":"陸連登録!C92","v":0},{"$f":"陸連登録!D92","v":0},{"$f":"陸連登録!E92","v":0},{"$f":"陸連登録!P92","v":0},{"$f":"陸連登録!F92","v":23},{"$f":"陸連登録!G92","v":"三重"},{"$f":"陸連登録!H92","v":0},{"$f":"陸連登録!I92","v":0},{"$f":"陸連登録!J92","v":0},{"$f":"陸連登録!K92","v":0},{"$f":"陸連登録!L92","v":0},{"$f":"陸連登録!N92","v":""}]
[{"$f":"陸連登録!M93","v":0},{"$f":"陸連登録!B93","v":0},{"$f":"陸連登録!C93","v":0},{"$f":"陸連登録!D93","v":0},{"$f":"陸連登録!E93","v":0},{"$f":"陸連登録!P93","v":0},{"$f":"陸連登録!F93","v":23},{"$f":"陸連登録!G93","v":"三重"},{"$f":"陸連登録!H93","v":0},{"$f":"陸連登録!I93","v":0},{"$f":"陸連登録!J93","v":0},{"$f":"陸連登録!K93","v":0},{"$f":"陸連登録!L93","v":0},{"$f":"陸連登録!N93","v":""}]
[{"$f":"陸連登録!M94","v":0},{"$f":"陸連登録!B94","v":0},{"$f":"陸連登録!C94","v":0},{"$f":"陸連登録!D94","v":0},{"$f":"陸連登録!E94","v":0},{"$f":"陸連登録!P94","v":0},{"$f":"陸連登録!F94","v":23},{"$f":"陸連登録!G94","v":"三重"},{"$f":"陸連登録!H94","v":0},{"$f":"陸連登録!I94","v":0},{"$f":"陸連登録!J94","v":0},{"$f":"陸連登録!K94","v":0},{"$f":"陸連登録!L94","v":0},{"$f":"陸連登録!N94","v":""}]
[{"$f":"陸連登録!M95","v":0},{"$f":"陸連登録!B95","v":0},{"$f":"陸連登録!C95","v":0},{"$f":"陸連登録!D95","v":0},{"$f":"陸連登録!E95","v":0},{"$f":"陸連登録!P95","v":0},{"$f":"陸連登録!F95","v":23},{"$f":"陸連登録!G95","v":"三重"},{"$f":"陸連登録!H95","v":0},{"$f":"陸連登録!I95","v":0},{"$f":"陸連登録!J95","v":0},{"$f":"陸連登録!K95","v":0},{"$f":"陸連登録!L95","v":0},{"$f":"陸連登録!N95","v":""}]
[{"$f":"陸連登録!M96","v":0},{"$f":"陸連登録!B96","v":0},{"$f":"陸連登録!C96","v":0},{"$f":"陸連登録!D96","v":0},{"$f":"陸連登録!E96","v":0},{"$f":"陸連登録!P96","v":0},{"$f":"陸連登録!F96","v":23},{"$f":"陸連登録!G96","v":"三重"},{"$f":"陸連登録!H96","v":0},{"$f":"陸連登録!I96","v":0},{"$f":"陸連登録!J96","v":0},{"$f":"陸連登録!K96","v":0},{"$f":"陸連登録!L96","v":0},{"$f":"陸連登録!N96","v":""}]
[{"$f":"陸連登録!M97","v":0},{"$f":"陸連登録!B97","v":0},{"$f":"陸連登録!C97","v":0},{"$f":"陸連登録!D97","v":0},{"$f":"陸連登録!E97","v":0},{"$f":"陸連登録!P97","v":0},{"$f":"陸連登録!F97","v":23},{"$f":"陸連登録!G97","v":"三重"},{"$f":"陸連登録!H97","v":0},{"$f":"陸連登録!I97","v":0},{"$f":"陸連登録!J97","v":0},{"$f":"陸連登録!K97","v":0},{"$f":"陸連登録!L97","v":0},{"$f":"陸連登録!N97","v":""}]
[{"$f":"陸連登録!M98","v":0},{"$f":"陸連登録!B98","v":0},{"$f":"陸連登録!C98","v":0},{"$f":"陸連登録!D98","v":0},{"$f":"陸連登録!E98","v":0},{"$f":"陸連登録!P98","v":0},{"$f":"陸連登録!F98","v":23},{"$f":"陸連登録!G98","v":"三重"},{"$f":"陸連登録!H98","v":0},{"$f":"陸連登録!I98","v":0},{"$f":"陸連登録!J98","v":0},{"$f":"陸連登録!K98","v":0},{"$f":"陸連登録!L98","v":0},{"$f":"陸連登録!N98","v":""}]
[{"$f":"陸連登録!M99","v":0},{"$f":"陸連登録!B99","v":0},{"$f":"陸連登録!C99","v":0},{"$f":"陸連登録!D99","v":0},{"$f":"陸連登録!E99","v":0},{"$f":"陸連登録!P99","v":0},{"$f":"陸連登録!F99","v":23},{"$f":"陸連登録!G99","v":"三重"},{"$f":"陸連登録!H99","v":0},{"$f":"陸連登録!I99","v":0},{"$f":"陸連登録!J99","v":0},{"$f":"陸連登録!K99","v":0},{"$f":"陸連登録!L99","v":0},{"$f":"陸連登録!N99","v":""}]
[{"$f":"陸連登録!M100","v":0},{"$f":"陸連登録!B100","v":0},{"$f":"陸連登録!C100","v":0},{"$f":"陸連登録!D100","v":0},{"$f":"陸連登録!E100","v":0},{"$f":"陸連登録!P100","v":0},{"$f":"陸連登録!F100","v":23},{"$f":"陸連登録!G100","v":"三重"},{"$f":"陸連登録!H100","v":0},{"$f":"陸連登録!I100","v":0},{"$f":"陸連登録!J100","v":0},{"$f":"陸連登録!K100","v":0},{"$f":"陸連登録!L100","v":0},{"$f":"陸連登録!N100","v":""}]
[{"$f":"陸連登録!M101","v":0},{"$f":"陸連登録!B101","v":0},{"$f":"陸連登録!C101","v":0},{"$f":"陸連登録!D101","v":0},{"$f":"陸連登録!E101","v":0},{"$f":"陸連登録!P101","v":0},{"$f":"陸連登録!F101","v":23},{"$f":"陸連登録!G101","v":"三重"},{"$f":"陸連登録!H101","v":0},{"$f":"陸連登録!I101","v":0},{"$f":"陸連登録!J101","v":0},{"$f":"陸連登録!K101","v":0},{"$f":"陸連登録!L101","v":0},{"$f":"陸連登録!N101","v":""}]
[{"$f":"陸連登録!M102","v":0},{"$f":"陸連登録!B102","v":0},{"$f":"陸連登録!C102","v":0},{"$f":"陸連登録!D102","v":0},{"$f":"陸連登録!E102","v":0},{"$f":"陸連登録!P102","v":0},{"$f":"陸連登録!F102","v":23},{"$f":"陸連登録!G102","v":"三重"},{"$f":"陸連登録!H102","v":0},{"$f":"陸連登録!I102","v":0},{"$f":"陸連登録!J102","v":0},{"$f":"陸連登録!K102","v":0},{"$f":"陸連登録!L102","v":0},{"$f":"陸連登録!N102","v":""}]
[{"$f":"陸連登録!M103","v":0},{"$f":"陸連登録!B103","v":0},{"$f":"陸連登録!C103","v":0},{"$f":"陸連登録!D103","v":0},{"$f":"陸連登録!E103","v":0},{"$f":"陸連登録!P103","v":0},{"$f":"陸連登録!F103","v":23},{"$f":"陸連登録!G103","v":"三重"},{"$f":"陸連登録!H103","v":0},{"$f":"陸連登録!I103","v":0},{"$f":"陸連登録!J103","v":0},{"$f":"陸連登録!K103","v":0},{"$f":"陸連登録!L103","v":0},{"$f":"陸連登録!N103","v":""}]
[{"$f":"陸連登録!M104","v":0},{"$f":"陸連登録!B104","v":0},{"$f":"陸連登録!C104","v":0},{"$f":"陸連登録!D104","v":0},{"$f":"陸連登録!E104","v":0},{"$f":"陸連登録!P104","v":0},{"$f":"陸連登録!F104","v":23},{"$f":"陸連登録!G104","v":"三重"},{"$f":"陸連登録!H104","v":0},{"$f":"陸連登録!I104","v":0},{"$f":"陸連登録!J104","v":0},{"$f":"陸連登録!K104","v":0},{"$f":"陸連登録!L104","v":0},{"$f":"陸連登録!N104","v":""}]
[{"$f":"陸連登録!M105","v":0},{"$f":"陸連登録!B105","v":0},{"$f":"陸連登録!C105","v":0},{"$f":"陸連登録!D105","v":0},{"$f":"陸連登録!E105","v":0},{"$f":"陸連登録!P105","v":0},{"$f":"陸連登録!F105","v":23},{"$f":"陸連登録!G105","v":"三重"},{"$f":"陸連登録!H105","v":0},{"$f":"陸連登録!I105","v":0},{"$f":"陸連登録!J105","v":0},{"$f":"陸連登録!K105","v":0},{"$f":"陸連登録!L105","v":0},{"$f":"陸連登録!N105","v":""}]
[{"$f":"陸連登録!M106","v":0},{"$f":"陸連登録!B106","v":0},{"$f":"陸連登録!C106","v":0},{"$f":"陸連登録!D106","v":0},{"$f":"陸連登録!E106","v":0},{"$f":"陸連登録!P106","v":0},{"$f":"陸連登録!F106","v":23},{"$f":"陸連登録!G106","v":"三重"},{"$f":"陸連登録!H106","v":0},{"$f":"陸連登録!I106","v":0},{"$f":"陸連登録!J106","v":0},{"$f":"陸連登録!K106","v":0},{"$f":"陸連登録!L106","v":0},{"$f":"陸連登録!N106","v":""}]
[{"$f":"陸連登録!M107","v":0},{"$f":"陸連登録!B107","v":0},{"$f":"陸連登録!C107","v":0},{"$f":"陸連登録!D107","v":0},{"$f":"陸連登録!E107","v":0},{"$f":"陸連登録!P107","v":0},{"$f":"陸連登録!F107","v":23},{"$f":"陸連登録!G107","v":"三重"},{"$f":"陸連登録!H107","v":0},{"$f":"陸連登録!I107","v":0},{"$f":"陸連登録!J107","v":0},{"$f":"陸連登録!K107","v":0},{"$f":"陸連登録!L107","v":0},{"$f":"陸連登録!N107","v":""}]
[{"$f":"陸連登録!M108","v":0},{"$f":"陸連登録!B108","v":0},{"$f":"陸連登録!C108","v":0},{"$f":"陸連登録!D108","v":0},{"$f":"陸連登録!E108","v":0},{"$f":"陸連登録!P108","v":0},{"$f":"陸連登録!F108","v":23},{"$f":"陸連登録!G108","v":"三重"},{"$f":"陸連登録!H108","v":0},{"$f":"陸連登録!I108","v":0},{"$f":"陸連登録!J108","v":0},{"$f":"陸連登録!K108","v":0},{"$f":"陸連登録!L108","v":0},{"$f":"陸連登録!N108","v":""}]
[{"$f":"陸連登録!M109","v":0},{"$f":"陸連登録!B109","v":0},{"$f":"陸連登録!C109","v":0},{"$f":"陸連登録!D109","v":0},{"$f":"陸連登録!E109","v":0},{"$f":"陸連登録!P109","v":0},{"$f":"陸連登録!F109","v":23},{"$f":"陸連登録!G109","v":"三重"},{"$f":"陸連登録!H109","v":0},{"$f":"陸連登録!I109","v":0},{"$f":"陸連登録!J109","v":0},{"$f":"陸連登録!K109","v":0},{"$f":"陸連登録!L109","v":0},{"$f":"陸連登録!N109","v":""}]
[{"$f":"陸連登録!M110","v":0},{"$f":"陸連登録!B110","v":0},{"$f":"陸連登録!C110","v":0},{"$f":"陸連登録!D110","v":0},{"$f":"陸連登録!E110","v":0},{"$f":"陸連登録!P110","v":0},{"$f":"陸連登録!F110","v":23},{"$f":"陸連登録!G110","v":"三重"},{"$f":"陸連登録!H110","v":0},{"$f":"陸連登録!I110","v":0},{"$f":"陸連登録!J110","v":0},{"$f":"陸連登録!K110","v":0},{"$f":"陸連登録!L110","v":0},{"$f":"陸連登録!N110","v":""}]
[{"$f":"陸連登録!M111","v":0},{"$f":"陸連登録!B111","v":0},{"$f":"陸連登録!C111","v":0},{"$f":"陸連登録!D111","v":0},{"$f":"陸連登録!E111","v":0},{"$f":"陸連登録!P111","v":0},{"$f":"陸連登録!F111","v":23},{"$f":"陸連登録!G111","v":"三重"},{"$f":"陸連登録!H111","v":0},{"$f":"陸連登録!I111","v":0},{"$f":"陸連登録!J111","v":0},{"$f":"陸連登録!K111","v":0},{"$f":"陸連登録!L111","v":0},{"$f":"陸連登録!N111","v":""}]
[{"$f":"陸連登録!M112","v":0},{"$f":"陸連登録!B112","v":0},{"$f":"陸連登録!C112","v":0},{"$f":"陸連登録!D112","v":0},{"$f":"陸連登録!E112","v":0},{"$f":"陸連登録!P112","v":0},{"$f":"陸連登録!F112","v":23},{"$f":"陸連登録!G112","v":"三重"},{"$f":"陸連登録!H112","v":0},{"$f":"陸連登録!I112","v":0},{"$f":"陸連登録!J112","v":0},{"$f":"陸連登録!K112","v":0},{"$f":"陸連登録!L112","v":0},{"$f":"陸連登録!N112","v":""}]
[{"$f":"陸連登録!M113","v":0},{"$f":"陸連登録!B113","v":0},{"$f":"陸連登録!C113","v":0},{"$f":"陸連登録!D113","v":0},{"$f":"陸連登録!E113","v":0},{"$f":"陸連登録!P113","v":0},{"$f":"陸連登録!F113","v":23},{"$f":"陸連登録!G113","v":"三重"},{"$f":"陸連登録!H113","v":0},{"$f":"陸連登録!I113","v":0},{"$f":"陸連登録!J113","v":0},{"$f":"陸連登録!K113","v":0},{"$f":"陸連登録!L113","v":0},{"$f":"陸連登録!N113","v":""}]
[{"$f":"陸連登録!M114","v":0},{"$f":"陸連登録!B114","v":0},{"$f":"陸連登録!C114","v":0},{"$f":"陸連登録!D114","v":0},{"$f":"陸連登録!E114","v":0},{"$f":"陸連登録!P114","v":0},{"$f":"陸連登録!F114","v":23},{"$f":"陸連登録!G114","v":"三重"},{"$f":"陸連登録!H114","v":0},{"$f":"陸連登録!I114","v":0},{"$f":"陸連登録!J114","v":0},{"$f":"陸連登録!K114","v":0},{"$f":"陸連登録!L114","v":0},{"$f":"陸連登録!N114","v":""}]
[{"$f":"陸連登録!M115","v":0},{"$f":"陸連登録!B115","v":0},{"$f":"陸連登録!C115","v":0},{"$f":"陸連登録!D115","v":0},{"$f":"陸連登録!E115","v":0},{"$f":"陸連登録!P115","v":0},{"$f":"陸連登録!F115","v":23},{"$f":"陸連登録!G115","v":"三重"},{"$f":"陸連登録!H115","v":0},{"$f":"陸連登録!I115","v":0},{"$f":"陸連登録!J115","v":0},{"$f":"陸連登録!K115","v":0},{"$f":"陸連登録!L115","v":0},{"$f":"陸連登録!N115","v":""}]
[{"$f":"陸連登録!M116","v":0},{"$f":"陸連登録!B116","v":0},{"$f":"陸連登録!C116","v":0},{"$f":"陸連登録!D116","v":0},{"$f":"陸連登録!E116","v":0},{"$f":"陸連登録!P116","v":0},{"$f":"陸連登録!F116","v":23},{"$f":"陸連登録!G116","v":"三重"},{"$f":"陸連登録!H116","v":0},{"$f":"陸連登録!I116","v":0},{"$f":"陸連登録!J116","v":0},{"$f":"陸連登録!K116","v":0},{"$f":"陸連登録!L116","v":0},{"$f":"陸連登録!N116","v":""}]
[{"$f":"陸連登録!M117","v":0},{"$f":"陸連登録!B117","v":0},{"$f":"陸連登録!C117","v":0},{"$f":"陸連登録!D117","v":0},{"$f":"陸連登録!E117","v":0},{"$f":"陸連登録!P117","v":0},{"$f":"陸連登録!F117","v":23},{"$f":"陸連登録!G117","v":"三重"},{"$f":"陸連登録!H117","v":0},{"$f":"陸連登録!I117","v":0},{"$f":"陸連登録!J117","v":0},{"$f":"陸連登録!K117","v":0},{"$f":"陸連登録!L117","v":0},{"$f":"陸連登録!N117","v":""}]
[{"$f":"陸連登録!M118","v":0},{"$f":"陸連登録!B118","v":0},{"$f":"陸連登録!C118","v":0},{"$f":"陸連登録!D118","v":0},{"$f":"陸連登録!E118","v":0},{"$f":"陸連登録!P118","v":0},{"$f":"陸連登録!F118","v":23},{"$f":"陸連登録!G118","v":"三重"},{"$f":"陸連登録!H118","v":0},{"$f":"陸連登録!I118","v":0},{"$f":"陸連登録!J118","v":0},{"$f":"陸連登録!K118","v":0},{"$f":"陸連登録!L118","v":0},{"$f":"陸連登録!N118","v":""}]
[{"$f":"陸連登録!M119","v":0},{"$f":"陸連登録!B119","v":0},{"$f":"陸連登録!C119","v":0},{"$f":"陸連登録!D119","v":0},{"$f":"陸連登録!E119","v":0},{"$f":"陸連登録!P119","v":0},{"$f":"陸連登録!F119","v":23},{"$f":"陸連登録!G119","v":"三重"},{"$f":"陸連登録!H119","v":0},{"$f":"陸連登録!I119","v":0},{"$f":"陸連登録!J119","v":0},{"$f":"陸連登録!K119","v":0},{"$f":"陸連登録!L119","v":0},{"$f":"陸連登録!N119","v":""}]
[{"$f":"陸連登録!M120","v":0},{"$f":"陸連登録!B120","v":0},{"$f":"陸連登録!C120","v":0},{"$f":"陸連登録!D120","v":0},{"$f":"陸連登録!E120","v":0},{"$f":"陸連登録!P120","v":0},{"$f":"陸連登録!F120","v":23},{"$f":"陸連登録!G120","v":"三重"},{"$f":"陸連登録!H120","v":0},{"$f":"陸連登録!I120","v":0},{"$f":"陸連登録!J120","v":0},{"$f":"陸連登録!K120","v":0},{"$f":"陸連登録!L120","v":0},{"$f":"陸連登録!N120","v":""}]
[{"$f":"陸連登録!M121","v":0},{"$f":"陸連登録!B121","v":0},{"$f":"陸連登録!C121","v":0},{"$f":"陸連登録!D121","v":0},{"$f":"陸連登録!E121","v":0},{"$f":"陸連登録!P121","v":0},{"$f":"陸連登録!F121","v":23},{"$f":"陸連登録!G121","v":"三重"},{"$f":"陸連登録!H121","v":0},{"$f":"陸連登録!I121","v":0},{"$f":"陸連登録!J121","v":0},{"$f":"陸連登録!K121","v":0},{"$f":"陸連登録!L121","v":0},{"$f":"陸連登録!N121","v":""}]
[{"$f":"陸連登録!M122","v":0},{"$f":"陸連登録!B122","v":0},{"$f":"陸連登録!C122","v":0},{"$f":"陸連登録!D122","v":0},{"$f":"陸連登録!E122","v":0},{"$f":"陸連登録!P122","v":0},{"$f":"陸連登録!F122","v":23},{"$f":"陸連登録!G122","v":"三重"},{"$f":"陸連登録!H122","v":0},{"$f":"陸連登録!I122","v":0},{"$f":"陸連登録!J122","v":0},{"$f":"陸連登録!K122","v":0},{"$f":"陸連登録!L122","v":0},{"$f":"陸連登録!N122","v":""}]
[{"$f":"陸連登録!M123","v":0},{"$f":"陸連登録!B123","v":0},{"$f":"陸連登録!C123","v":0},{"$f":"陸連登録!D123","v":0},{"$f":"陸連登録!E123","v":0},{"$f":"陸連登録!P123","v":0},{"$f":"陸連登録!F123","v":23},{"$f":"陸連登録!G123","v":"三重"},{"$f":"陸連登録!H123","v":0},{"$f":"陸連登録!I123","v":0},{"$f":"陸連登録!J123","v":0},{"$f":"陸連登録!K123","v":0},{"$f":"陸連登録!L123","v":0},{"$f":"陸連登録!N123","v":""}]
[{"$f":"陸連登録!M124","v":0},{"$f":"陸連登録!B124","v":0},{"$f":"陸連登録!C124","v":0},{"$f":"陸連登録!D124","v":0},{"$f":"陸連登録!E124","v":0},{"$f":"陸連登録!P124","v":0},{"$f":"陸連登録!F124","v":23},{"$f":"陸連登録!G124","v":"三重"},{"$f":"陸連登録!H124","v":0},{"$f":"陸連登録!I124","v":0},{"$f":"陸連登録!J124","v":0},{"$f":"陸連登録!K124","v":0},{"$f":"陸連登録!L124","v":0},{"$f":"陸連登録!N124","v":""}]
[{"$f":"陸連登録!M125","v":0},{"$f":"陸連登録!B125","v":0},{"$f":"陸連登録!C125","v":0},{"$f":"陸連登録!D125","v":0},{"$f":"陸連登録!E125","v":0},{"$f":"陸連登録!P125","v":0},{"$f":"陸連登録!F125","v":23},{"$f":"陸連登録!G125","v":"三重"},{"$f":"陸連登録!H125","v":0},{"$f":"陸連登録!I125","v":0},{"$f":"陸連登録!J125","v":0},{"$f":"陸連登録!K125","v":0},{"$f":"陸連登録!L125","v":0},{"$f":"陸連登録!N125","v":""}]
[{"$f":"陸連登録!M126","v":0},{"$f":"陸連登録!B126","v":0},{"$f":"陸連登録!C126","v":0},{"$f":"陸連登録!D126","v":0},{"$f":"陸連登録!E126","v":0},{"$f":"陸連登録!P126","v":0},{"$f":"陸連登録!F126","v":23},{"$f":"陸連登録!G126","v":"三重"},{"$f":"陸連登録!H126","v":0},{"$f":"陸連登録!I126","v":0},{"$f":"陸連登録!J126","v":0},{"$f":"陸連登録!K126","v":0},{"$f":"陸連登録!L126","v":0},{"$f":"陸連登録!N126","v":""}]
[{"$f":"陸連登録!M127","v":0},{"$f":"陸連登録!B127","v":0},{"$f":"陸連登録!C127","v":0},{"$f":"陸連登録!D127","v":0},{"$f":"陸連登録!E127","v":0},{"$f":"陸連登録!P127","v":0},{"$f":"陸連登録!F127","v":23},{"$f":"陸連登録!G127","v":"三重"},{"$f":"陸連登録!H127","v":0},{"$f":"陸連登録!I127","v":0},{"$f":"陸連登録!J127","v":0},{"$f":"陸連登録!K127","v":0},{"$f":"陸連登録!L127","v":0},{"$f":"陸連登録!N127","v":""}]
[{"$f":"陸連登録!M128","v":0},{"$f":"陸連登録!B128","v":0},{"$f":"陸連登録!C128","v":0},{"$f":"陸連登録!D128","v":0},{"$f":"陸連登録!E128","v":0},{"$f":"陸連登録!P128","v":0},{"$f":"陸連登録!F128","v":23},{"$f":"陸連登録!G128","v":"三重"},{"$f":"陸連登録!H128","v":0},{"$f":"陸連登録!I128","v":0},{"$f":"陸連登録!J128","v":0},{"$f":"陸連登録!K128","v":0},{"$f":"陸連登録!L128","v":0},{"$f":"陸連登録!N128","v":""}]
[{"$f":"陸連登録!M129","v":0},{"$f":"陸連登録!B129","v":0},{"$f":"陸連登録!C129","v":0},{"$f":"陸連登録!D129","v":0},{"$f":"陸連登録!E129","v":0},{"$f":"陸連登録!P129","v":0},{"$f":"陸連登録!F129","v":23},{"$f":"陸連登録!G129","v":"三重"},{"$f":"陸連登録!H129","v":0},{"$f":"陸連登録!I129","v":0},{"$f":"陸連登録!J129","v":0},{"$f":"陸連登録!K129","v":0},{"$f":"陸連登録!L129","v":0},{"$f":"陸連登録!N129","v":""}]
[{"$f":"陸連登録!M130","v":0},{"$f":"陸連登録!B130","v":0},{"$f":"陸連登録!C130","v":0},{"$f":"陸連登録!D130","v":0},{"$f":"陸連登録!E130","v":0},{"$f":"陸連登録!P130","v":0},{"$f":"陸連登録!F130","v":23},{"$f":"陸連登録!G130","v":"三重"},{"$f":"陸連登録!H130","v":0},{"$f":"陸連登録!I130","v":0},{"$f":"陸連登録!J130","v":0},{"$f":"陸連登録!K130","v":0},{"$f":"陸連登録!L130","v":0},{"$f":"陸連登録!N130","v":""}]
[{"$f":"陸連登録!M131","v":0},{"$f":"陸連登録!B131","v":0},{"$f":"陸連登録!C131","v":0},{"$f":"陸連登録!D131","v":0},{"$f":"陸連登録!E131","v":0},{"$f":"陸連登録!P131","v":0},{"$f":"陸連登録!F131","v":23},{"$f":"陸連登録!G131","v":"三重"},{"$f":"陸連登録!H131","v":0},{"$f":"陸連登録!I131","v":0},{"$f":"陸連登録!J131","v":0},{"$f":"陸連登録!K131","v":0},{"$f":"陸連登録!L131","v":0},{"$f":"陸連登録!N131","v":""}]
[{"$f":"陸連登録!M132","v":0},{"$f":"陸連登録!B132","v":0},{"$f":"陸連登録!C132","v":0},{"$f":"陸連登録!D132","v":0},{"$f":"陸連登録!E132","v":0},{"$f":"陸連登録!P132","v":0},{"$f":"陸連登録!F132","v":23},{"$f":"陸連登録!G132","v":"三重"},{"$f":"陸連登録!H132","v":0},{"$f":"陸連登録!I132","v":0},{"$f":"陸連登録!J132","v":0},{"$f":"陸連登録!K132","v":0},{"$f":"陸連登録!L132","v":0},{"$f":"陸連登録!N132","v":""}]
[{"$f":"陸連登録!M133","v":0},{"$f":"陸連登録!B133","v":0},{"$f":"陸連登録!C133","v":0},{"$f":"陸連登録!D133","v":0},{"$f":"陸連登録!E133","v":0},{"$f":"陸連登録!P133","v":0},{"$f":"陸連登録!F133","v":23},{"$f":"陸連登録!G133","v":"三重"},{"$f":"陸連登録!H133","v":0},{"$f":"陸連登録!I133","v":0},{"$f":"陸連登録!J133","v":0},{"$f":"陸連登録!K133","v":0},{"$f":"陸連登録!L133","v":0},{"$f":"陸連登録!N133","v":""}]
[{"$f":"陸連登録!M134","v":0},{"$f":"陸連登録!B134","v":0},{"$f":"陸連登録!C134","v":0},{"$f":"陸連登録!D134","v":0},{"$f":"陸連登録!E134","v":0},{"$f":"陸連登録!P134","v":0},{"$f":"陸連登録!F134","v":23},{"$f":"陸連登録!G134","v":"三重"},{"$f":"陸連登録!H134","v":0},{"$f":"陸連登録!I134","v":0},{"$f":"陸連登録!J134","v":0},{"$f":"陸連登録!K134","v":0},{"$f":"陸連登録!L134","v":0},{"$f":"陸連登録!N134","v":""}]
[{"$f":"陸連登録!M135","v":0},{"$f":"陸連登録!B135","v":0},{"$f":"陸連登録!C135","v":0},{"$f":"陸連登録!D135","v":0},{"$f":"陸連登録!E135","v":0},{"$f":"陸連登録!P135","v":0},{"$f":"陸連登録!F135","v":23},{"$f":"陸連登録!G135","v":"三重"},{"$f":"陸連登録!H135","v":0},{"$f":"陸連登録!I135","v":0},{"$f":"陸連登録!J135","v":0},{"$f":"陸連登録!K135","v":0},{"$f":"陸連登録!L135","v":0},{"$f":"陸連登録!N135","v":""}]
[{"$f":"陸連登録!M136","v":0},{"$f":"陸連登録!B136","v":0},{"$f":"陸連登録!C136","v":0},{"$f":"陸連登録!D136","v":0},{"$f":"陸連登録!E136","v":0},{"$f":"陸連登録!P136","v":0},{"$f":"陸連登録!F136","v":23},{"$f":"陸連登録!G136","v":"三重"},{"$f":"陸連登録!H136","v":0},{"$f":"陸連登録!I136","v":0},{"$f":"陸連登録!J136","v":0},{"$f":"陸連登録!K136","v":0},{"$f":"陸連登録!L136","v":0},{"$f":"陸連登録!N136","v":""}]
[{"$f":"陸連登録!M137","v":0},{"$f":"陸連登録!B137","v":0},{"$f":"陸連登録!C137","v":0},{"$f":"陸連登録!D137","v":0},{"$f":"陸連登録!E137","v":0},{"$f":"陸連登録!P137","v":0},{"$f":"陸連登録!F137","v":23},{"$f":"陸連登録!G137","v":"三重"},{"$f":"陸連登録!H137","v":0},{"$f":"陸連登録!I137","v":0},{"$f":"陸連登録!J137","v":0},{"$f":"陸連登録!K137","v":0},{"$f":"陸連登録!L137","v":0},{"$f":"陸連登録!N137","v":""}]
[{"$f":"陸連登録!M138","v":0},{"$f":"陸連登録!B138","v":0},{"$f":"陸連登録!C138","v":0},{"$f":"陸連登録!D138","v":0},{"$f":"陸連登録!E138","v":0},{"$f":"陸連登録!P138","v":0},{"$f":"陸連登録!F138","v":23},{"$f":"陸連登録!G138","v":"三重"},{"$f":"陸連登録!H138","v":0},{"$f":"陸連登録!I138","v":0},{"$f":"陸連登録!J138","v":0},{"$f":"陸連登録!K138","v":0},{"$f":"陸連登録!L138","v":0},{"$f":"陸連登録!N138","v":""}]
[{"$f":"陸連登録!M139","v":0},{"$f":"陸連登録!B139","v":0},{"$f":"陸連登録!C139","v":0},{"$f":"陸連登録!D139","v":0},{"$f":"陸連登録!E139","v":0},{"$f":"陸連登録!P139","v":0},{"$f":"陸連登録!F139","v":23},{"$f":"陸連登録!G139","v":"三重"},{"$f":"陸連登録!H139","v":0},{"$f":"陸連登録!I139","v":0},{"$f":"陸連登録!J139","v":0},{"$f":"陸連登録!K139","v":0},{"$f":"陸連登録!L139","v":0},{"$f":"陸連登録!N139","v":""}]
[{"$f":"陸連登録!M140","v":0},{"$f":"陸連登録!B140","v":0},{"$f":"陸連登録!C140","v":0},{"$f":"陸連登録!D140","v":0},{"$f":"陸連登録!E140","v":0},{"$f":"陸連登録!P140","v":0},{"$f":"陸連登録!F140","v":23},{"$f":"陸連登録!G140","v":"三重"},{"$f":"陸連登録!H140","v":0},{"$f":"陸連登録!I140","v":0},{"$f":"陸連登録!J140","v":0},{"$f":"陸連登録!K140","v":0},{"$f":"陸連登録!L140","v":0},{"$f":"陸連登録!N140","v":""}]
[{"$f":"陸連登録!M141","v":0},{"$f":"陸連登録!B141","v":0},{"$f":"陸連登録!C141","v":0},{"$f":"陸連登録!D141","v":0},{"$f":"陸連登録!E141","v":0},{"$f":"陸連登録!P141","v":0},{"$f":"陸連登録!F141","v":23},{"$f":"陸連登録!G141","v":"三重"},{"$f":"陸連登録!H141","v":0},{"$f":"陸連登録!I141","v":0},{"$f":"陸連登録!J141","v":0},{"$f":"陸連登録!K141","v":0},{"$f":"陸連登録!L141","v":0},{"$f":"陸連登録!N141","v":""}]
[{"$f":"陸連登録!M142","v":0},{"$f":"陸連登録!B142","v":0},{"$f":"陸連登録!C142","v":0},{"$f":"陸連登録!D142","v":0},{"$f":"陸連登録!E142","v":0},{"$f":"陸連登録!P142","v":0},{"$f":"陸連登録!F142","v":23},{"$f":"陸連登録!G142","v":"三重"},{"$f":"陸連登録!H142","v":0},{"$f":"陸連登録!I142","v":0},{"$f":"陸連登録!J142","v":0},{"$f":"陸連登録!K142","v":0},{"$f":"陸連登録!L142","v":0},{"$f":"陸連登録!N142","v":""}]
[{"$f":"陸連登録!M143","v":0},{"$f":"陸連登録!B143","v":0},{"$f":"陸連登録!C143","v":0},{"$f":"陸連登録!D143","v":0},{"$f":"陸連登録!E143","v":0},{"$f":"陸連登録!P143","v":0},{"$f":"陸連登録!F143","v":23},{"$f":"陸連登録!G143","v":"三重"},{"$f":"陸連登録!H143","v":0},{"$f":"陸連登録!I143","v":0},{"$f":"陸連登録!J143","v":0},{"$f":"陸連登録!K143","v":0},{"$f":"陸連登録!L143","v":0},{"$f":"陸連登録!N143","v":""}]
[{"$f":"陸連登録!M144","v":0},{"$f":"陸連登録!B144","v":0},{"$f":"陸連登録!C144","v":0},{"$f":"陸連登録!D144","v":0},{"$f":"陸連登録!E144","v":0},{"$f":"陸連登録!P144","v":0},{"$f":"陸連登録!F144","v":23},{"$f":"陸連登録!G144","v":"三重"},{"$f":"陸連登録!H144","v":0},{"$f":"陸連登録!I144","v":0},{"$f":"陸連登録!J144","v":0},{"$f":"陸連登録!K144","v":0},{"$f":"陸連登録!L144","v":0},{"$f":"陸連登録!N144","v":""}]
[{"$f":"陸連登録!M145","v":0},{"$f":"陸連登録!B145","v":0},{"$f":"陸連登録!C145","v":0},{"$f":"陸連登録!D145","v":0},{"$f":"陸連登録!E145","v":0},{"$f":"陸連登録!P145","v":0},{"$f":"陸連登録!F145","v":23},{"$f":"陸連登録!G145","v":"三重"},{"$f":"陸連登録!H145","v":0},{"$f":"陸連登録!I145","v":0},{"$f":"陸連登録!J145","v":0},{"$f":"陸連登録!K145","v":0},{"$f":"陸連登録!L145","v":0},{"$f":"陸連登録!N145","v":""}]
[{"$f":"陸連登録!M146","v":0},{"$f":"陸連登録!B146","v":0},{"$f":"陸連登録!C146","v":0},{"$f":"陸連登録!D146","v":0},{"$f":"陸連登録!E146","v":0},{"$f":"陸連登録!P146","v":0},{"$f":"陸連登録!F146","v":23},{"$f":"陸連登録!G146","v":"三重"},{"$f":"陸連登録!H146","v":0},{"$f":"陸連登録!I146","v":0},{"$f":"陸連登録!J146","v":0},{"$f":"陸連登録!K146","v":0},{"$f":"陸連登録!L146","v":0},{"$f":"陸連登録!N146","v":""}]
[{"$f":"陸連登録!M147","v":0},{"$f":"陸連登録!B147","v":0},{"$f":"陸連登録!C147","v":0},{"$f":"陸連登録!D147","v":0},{"$f":"陸連登録!E147","v":0},{"$f":"陸連登録!P147","v":0},{"$f":"陸連登録!F147","v":23},{"$f":"陸連登録!G147","v":"三重"},{"$f":"陸連登録!H147","v":0},{"$f":"陸連登録!I147","v":0},{"$f":"陸連登録!J147","v":0},{"$f":"陸連登録!K147","v":0},{"$f":"陸連登録!L147","v":0},{"$f":"陸連登録!N147","v":""}]
[{"$f":"陸連登録!M148","v":0},{"$f":"陸連登録!B148","v":0},{"$f":"陸連登録!C148","v":0},{"$f":"陸連登録!D148","v":0},{"$f":"陸連登録!E148","v":0},{"$f":"陸連登録!P148","v":0},{"$f":"陸連登録!F148","v":23},{"$f":"陸連登録!G148","v":"三重"},{"$f":"陸連登録!H148","v":0},{"$f":"陸連登録!I148","v":0},{"$f":"陸連登録!J148","v":0},{"$f":"陸連登録!K148","v":0},{"$f":"陸連登録!L148","v":0},{"$f":"陸連登録!N148","v":""}]
[{"$f":"陸連登録!M149","v":0},{"$f":"陸連登録!B149","v":0},{"$f":"陸連登録!C149","v":0},{"$f":"陸連登録!D149","v":0},{"$f":"陸連登録!E149","v":0},{"$f":"陸連登録!P149","v":0},{"$f":"陸連登録!F149","v":23},{"$f":"陸連登録!G149","v":"三重"},{"$f":"陸連登録!H149","v":0},{"$f":"陸連登録!I149","v":0},{"$f":"陸連登録!J149","v":0},{"$f":"陸連登録!K149","v":0},{"$f":"陸連登録!L149","v":0},{"$f":"陸連登録!N149","v":""}]
[{"$f":"陸連登録!M150","v":0},{"$f":"陸連登録!B150","v":0},{"$f":"陸連登録!C150","v":0},{"$f":"陸連登録!D150","v":0},{"$f":"陸連登録!E150","v":0},{"$f":"陸連登録!P150","v":0},{"$f":"陸連登録!F150","v":23},{"$f":"陸連登録!G150","v":"三重"},{"$f":"陸連登録!H150","v":0},{"$f":"陸連登録!I150","v":0},{"$f":"陸連登録!J150","v":0},{"$f":"陸連登録!K150","v":0},{"$f":"陸連登録!L150","v":0},{"$f":"陸連登録!N150","v":""}]
[{"$f":"陸連登録!M151","v":0},{"$f":"陸連登録!B151","v":0},{"$f":"陸連登録!C151","v":0},{"$f":"陸連登録!D151","v":0},{"$f":"陸連登録!E151","v":0},{"$f":"陸連登録!P151","v":0},{"$f":"陸連登録!F151","v":23},{"$f":"陸連登録!G151","v":"三重"},{"$f":"陸連登録!H151","v":0},{"$f":"陸連登録!I151","v":0},{"$f":"陸連登録!J151","v":0},{"$f":"陸連登録!K151","v":0},{"$f":"陸連登録!L151","v":0},{"$f":"陸連登録!N151","v":""}]
[{"$f":"陸連登録!M152","v":0},{"$f":"陸連登録!B152","v":0},{"$f":"陸連登録!C152","v":0},{"$f":"陸連登録!D152","v":0},{"$f":"陸連登録!E152","v":0},{"$f":"陸連登録!P152","v":0},{"$f":"陸連登録!F152","v":23},{"$f":"陸連登録!G152","v":"三重"},{"$f":"陸連登録!H152","v":0},{"$f":"陸連登録!I152","v":0},{"$f":"陸連登録!J152","v":0},{"$f":"陸連登録!K152","v":0},{"$f":"陸連登録!L152","v":0},{"$f":"陸連登録!N152","v":""}]
[{"$f":"陸連登録!M153","v":0},{"$f":"陸連登録!B153","v":0},{"$f":"陸連登録!C153","v":0},{"$f":"陸連登録!D153","v":0},{"$f":"陸連登録!E153","v":0},{"$f":"陸連登録!P153","v":0},{"$f":"陸連登録!F153","v":0},{"$f":"陸連登録!G153","v":0},{"$f":"陸連登録!H153","v":0},{"$f":"陸連登録!I153","v":0},{"$f":"陸連登録!J153","v":0},{"$f":"陸連登録!K153","v":0},{"$f":"陸連登録!L153","v":0},{"$f":"陸連登録!N153","v":0}]
[{"$f":"陸連登録!M154","v":0},{"$f":"陸連登録!B154","v":0},{"$f":"陸連登録!C154","v":0},{"$f":"陸連登録!D154","v":0},{"$f":"陸連登録!E154","v":0},{"$f":"陸連登録!P154","v":0},{"$f":"陸連登録!F154","v":0},{"$f":"陸連登録!G154","v":0},{"$f":"陸連登録!H154","v":0},{"$f":"陸連登録!I154","v":0},{"$f":"陸連登録!J154","v":0},{"$f":"陸連登録!K154","v":0},{"$f":"陸連登録!L154","v":0},{"$f":"陸連登録!N154","v":0}]
[{"$f":"陸連登録!M155","v":0},{"$f":"陸連登録!B155","v":0},{"$f":"陸連登録!C155","v":0},{"$f":"陸連登録!D155","v":0},{"$f":"陸連登録!E155","v":0},{"$f":"陸連登録!P155","v":0},{"$f":"陸連登録!F155","v":0},{"$f":"陸連登録!G155","v":0},{"$f":"陸連登録!H155","v":0},{"$f":"陸連登録!I155","v":0},{"$f":"陸連登録!J155","v":0},{"$f":"陸連登録!K155","v":0},{"$f":"陸連登録!L155","v":0},{"$f":"陸連登録!N155","v":0}]
[{"$f":"陸連登録!M156","v":0},{"$f":"陸連登録!B156","v":0},{"$f":"陸連登録!C156","v":0},{"$f":"陸連登録!D156","v":0},{"$f":"陸連登録!E156","v":0},{"$f":"陸連登録!P156","v":0},{"$f":"陸連登録!F156","v":0},{"$f":"陸連登録!G156","v":0},{"$f":"陸連登録!H156","v":0},{"$f":"陸連登録!I156","v":0},{"$f":"陸連登録!J156","v":0},{"$f":"陸連登録!K156","v":0},{"$f":"陸連登録!L156","v":0},{"$f":"陸連登録!N156","v":0}]
[{"$f":"陸連登録!M157","v":0},{"$f":"陸連登録!B157","v":0},{"$f":"陸連登録!C157","v":0},{"$f":"陸連登録!D157","v":0},{"$f":"陸連登録!E157","v":0},{"$f":"陸連登録!P157","v":0},{"$f":"陸連登録!F157","v":0},{"$f":"陸連登録!G157","v":0},{"$f":"陸連登録!H157","v":0},{"$f":"陸連登録!I157","v":0},{"$f":"陸連登録!J157","v":0},{"$f":"陸連登録!K157","v":0},{"$f":"陸連登録!L157","v":0},{"$f":"陸連登録!N157","v":0}]

{"sheet":"Sheet1","index":19,"n_rows":144,"n_cols":2,"rows_kept":144,"cut":false,"hidden":false,"merged":[]}
["団体名略称","団体コード"]
["eA三重",230098]
["ばりっこC",230132]
["味の素ＡＧＦ",230006]
["ｱｽﾘｰﾄY",239128]
["ASSA-TC",230081]
["あづまフーズ",230141]
["ULTIMATE",230088]
["ＩＰＶＣ",230137]
["Ise TC",230074]
["ｲﾑﾗAA",239125]
["MidoriClinic",230140]
["ヴィアティン",230126]
["ｳｲﾗﾝ",230077]
["VOLK",230127]
["URC",239142]
["NTN",230005]
["松阪走塾",239147]
["鹿族",239129]
["川越陸少JH",230134]
["紀州ＡＣ",239139]
["橋南スポーツ",230096]
["KUSUPO",230105]
["熊野RC",230115]
["くまのＭＪ",239138]
["GRATIS",230136]
["K's-AC",230103]
["J&E久居",239127]
["志摩ＴＦＣ",230010]
["ｼｬｶﾘｷ",230108]
["審判",230001]
["ｼﾝﾌｫﾆｱﾃｸﾉﾛｼﾞｰ",230085]
["ｽﾎﾟﾙﾄﾏｯｸｽ",230119]
["Smile TFL",230133]
["SW四日市",239143]
["team F.O.R",230130]
["Team Blast",239140]
["T.G.K",230109]
["デンソー",230070]
["デンソー大安",239132]
["ｲﾙ　ﾃﾙﾉ",230009]
["N.F.A.",239136]
["成瀬鍼灸院",239133]
["白山陸上",230131]
["ﾊﾟﾅｿﾆｯｸｲｾ",230118]
["PBASE",239134]
["ﾌﾘｰｽﾀｲﾙ",230086]
["一志BEAST",230128]
["三重教員AC",230027]
["三重県体育協会",230135]
["三重県庁AC",230035]
["三重大医陸",230048]
["三重ﾏｽﾀｰｽﾞ",239998]
["三重陸協",230000]
["美志摩パール",239144]
["三浜ＡＣ",239150]
["ゆめが丘RC",230139]
["YウェルネスC",230082]
["四日市TFC",230011]
["四郷高ＯＢ",230138]
["米鈴AC",230026]
["Run feet",239146]
["ﾘｱﾌﾟﾛ",230120]
["リトルノ",230129]
["ろけっと団",230007]
["ＣＲＡＮＥ",239130]
["北教大岩見沢",490002]
["北海道大",490001]
["岩手大",490009]
["筑波大",490016]
["流通経済大",492029]
["宇都宮大",490017]
["上武大",492033]
["城西大",492037]
["大東文化大",492087]
["東洋大",492114]
["獨協大",492040]
["平成国際大",492420]
["早稲田大",492140]
["国際武道大",492330]
["順天堂大",492070]
["中央学院大",492047]
["青山学院大",492051]
["國學院大",492064]
["国士舘大",492066]
["首都大東京",491085]
["上智大",492071]
["帝京大",492094]
["東京外国語大",490023]
["東京大",490021]
["東京農業大",492109]
["東京農工大",490025]
["東京理科大",492111]
["日本大",492116]
["法政大",492126]
["明治大",492133]
["慶應義塾大",492062]
["東海大",492095]
["日本体育大",492123]
["横浜市立大",491005]
["横浜国立大",490034]
["岐阜協立大",492161]
["中京学院大",492389]
["愛知学院大",492167]
["愛知教育大",490044]
["愛知工業大",492168]
["愛知淑徳大",492301]
["愛知大",492165]
["愛知東邦大",492491]
["至学館大",492174]
["中京大",492173]
["中部大",492175]
["東海学園大",492412]
["名古屋学院大",492177]
["名女大",5000008]
["名古屋大",490043]
["日本福祉大",492183]
["名城大",492184]
["近畿大工業高専",498006]
["皇學館大",492185]
["鈴鹿工業高専",496026]
["鈴鹿大",492399]
["鳥羽商船高専",496027]
["三重大",490046]
["三重短期大",492048]
["びわこｽﾎﾟｰﾂ大",492522]
["京都教育大",490049]
["京都光華女子大",492192]
["京都産業大",492189]
["京都大",490048]
["同志社大",492195]
["明治国際医療大",492329]
["立命館大",492200]
["大阪市立大",491018]
["大阪成蹊大",492523]
["大阪体育大",492213]
["大阪大",490051]
["近畿大",492221]
["関西学院大",492232]
["甲南大",492234]
["神戸学院大",492237]
["神戸大",490054]
["広島経済大",492259]
["九州共立大",492273]